{"text_format":"1","workbook":"xlsx","n_sheets":8,"sheets":["Template","Error Log","Support","Worktags","Tenant","AccountSCRC_Concat","Import Accounting Journal","Journal Entry Line Replacement"],"not_rendered":{"charts":0,"images":0,"macros":1,"external_links":0,"defined_names":70,"comments":2,"pivot_tables":0},"unopened":[],"bounds":{"document_bytes":16777216,"sheet_cells":100000,"rows_first":2000,"rows_last":500,"rows_between":2000,"halvings":0,"cell_chars":16384,"cell_head_chars":4096},"cells_cut":0,"cells_raw":0,"read":"whole","date_system":"1900"}

{"sheet":"Template","index":0,"n_rows":57,"n_cols":33,"rows_kept":57,"cut":false,"hidden":false,"merged":[]}
["Journal Entry",null,null,null,null,null,null,null,null,null,null,null,null,null,null,null,null,null,null,null,null,null,null,null,null,null,null,null,null,null,false,true]
["Prepared by:",null,null,null,null,null,null,null,null,"Tenant",null,null,null,null,null,null,null,null,null,null,null,null,null,null,null,null,null,null,null,null,null,false]
[null,null,null,null,null,null,null,null,null,"Production",null,null,null,null,null,null,null,null,null,null,null,null,null,null,null,null,null,null,null,null,null,true]
[null,null,null,null,null,null,null,null,null,null,null,null,null,null,null,null,null,null,null,null,null,null,null,null,null,null,null,null,null,null,null,100]
[]
["Journal Entry Header Information",null,null,null,null,null,null,null,null,null,null,"Journal Entry Lines"]
["JE #","Journal Date","JE Source","Company","Ledger","Book","Currency","External Ref ID","Header Memo","Total JE Amount",null,"JE #","Driver Worktag-Description","Account-Spend/Revenue Category-Description","Driver Worktag","Account","Spend/Revenue Category","Line Memo","Debit","Credit","Class-Description","Assignee-Description","Exp Learning & Research","Fund-Description","Class","Assignee","Exp Learning & Research","Company","Fund","Intracampus","Reference",1,"Y"]
[null,null,null,null,null,null,null,null,null,{"$f":"IF(A8<>\"\",ROUND(SUMIFS(DebitCol,JEcol,A8),2)-ROUND(SUMIFS(CreditCol,JEcol,A8),2),\"\")","v":""}]
[null,null,null,null,null,null,null,null,null,{"$f":"IF(A9<>\"\",ROUND(SUMIFS(DebitCol,JEcol,A9),2)-ROUND(SUMIFS(CreditCol,JEcol,A9),2),\"\")","v":""}]
[null,null,null,null,null,null,null,null,null,{"$f":"IF(A10<>\"\",ROUND(SUMIFS(DebitCol,JEcol,A10),2)-ROUND(SUMIFS(CreditCol,JEcol,A10),2),\"\")","v":""}]
[null,null,null,null,null,null,null,null,null,{"$f":"IF(A11<>\"\",ROUND(SUMIFS(DebitCol,JEcol,A11),2)-ROUND(SUMIFS(CreditCol,JEcol,A11),2),\"\")","v":""}]
[null,null,null,null,null,null,null,null,null,{"$f":"IF(A12<>\"\",ROUND(SUMIFS(DebitCol,JEcol,A12),2)-ROUND(SUMIFS(CreditCol,JEcol,A12),2),\"\")","v":""}]
[null,null,null,null,null,null,null,null,null,{"$f":"IF(A13<>\"\",ROUND(SUMIFS(DebitCol,JEcol,A13),2)-ROUND(SUMIFS(CreditCol,JEcol,A13),2),\"\")","v":""}]
[null,null,null,null,null,null,null,null,null,{"$f":"IF(A14<>\"\",ROUND(SUMIFS(DebitCol,JEcol,A14),2)-ROUND(SUMIFS(CreditCol,JEcol,A14),2),\"\")","v":""}]
[null,null,null,null,null,null,null,null,null,{"$f":"IF(A15<>\"\",ROUND(SUMIFS(DebitCol,JEcol,A15),2)-ROUND(SUMIFS(CreditCol,JEcol,A15),2),\"\")","v":""}]
[null,null,null,null,null,null,null,null,null,{"$f":"IF(A16<>\"\",ROUND(SUMIFS(DebitCol,JEcol,A16),2)-ROUND(SUMIFS(CreditCol,JEcol,A16),2),\"\")","v":""}]
[null,null,null,null,null,null,null,null,null,{"$f":"IF(A17<>\"\",ROUND(SUMIFS(DebitCol,JEcol,A17),2)-ROUND(SUMIFS(CreditCol,JEcol,A17),2),\"\")","v":""}]
[null,null,null,null,null,null,null,null,null,{"$f":"IF(A18<>\"\",ROUND(SUMIFS(DebitCol,JEcol,A18),2)-ROUND(SUMIFS(CreditCol,JEcol,A18),2),\"\")","v":""}]
[null,null,null,null,null,null,null,null,null,{"$f":"IF(A19<>\"\",ROUND(SUMIFS(DebitCol,JEcol,A19),2)-ROUND(SUMIFS(CreditCol,JEcol,A19),2),\"\")","v":""}]
[null,null,null,null,null,null,null,null,null,{"$f":"IF(A20<>\"\",ROUND(SUMIFS(DebitCol,JEcol,A20),2)-ROUND(SUMIFS(CreditCol,JEcol,A20),2),\"\")","v":""}]
[null,null,null,null,null,null,null,null,null,{"$f":"IF(A21<>\"\",ROUND(SUMIFS(DebitCol,JEcol,A21),2)-ROUND(SUMIFS(CreditCol,JEcol,A21),2),\"\")","v":""}]
[null,null,null,null,null,null,null,null,null,{"$f":"IF(A22<>\"\",ROUND(SUMIFS(DebitCol,JEcol,A22),2)-ROUND(SUMIFS(CreditCol,JEcol,A22),2),\"\")","v":""}]
[null,null,null,null,null,null,null,null,null,{"$f":"IF(A23<>\"\",ROUND(SUMIFS(DebitCol,JEcol,A23),2)-ROUND(SUMIFS(CreditCol,JEcol,A23),2),\"\")","v":""}]
[null,null,null,null,null,null,null,null,null,{"$f":"IF(A24<>\"\",ROUND(SUMIFS(DebitCol,JEcol,A24),2)-ROUND(SUMIFS(CreditCol,JEcol,A24),2),\"\")","v":""}]
[null,null,null,null,null,null,null,null,null,{"$f":"IF(A25<>\"\",ROUND(SUMIFS(DebitCol,JEcol,A25),2)-ROUND(SUMIFS(CreditCol,JEcol,A25),2),\"\")","v":""}]
[null,null,null,null,null,null,null,null,null,{"$f":"IF(A26<>\"\",ROUND(SUMIFS(DebitCol,JEcol,A26),2)-ROUND(SUMIFS(CreditCol,JEcol,A26),2),\"\")","v":""}]
[null,null,null,null,null,null,null,null,null,{"$f":"IF(A27<>\"\",ROUND(SUMIFS(DebitCol,JEcol,A27),2)-ROUND(SUMIFS(CreditCol,JEcol,A27),2),\"\")","v":""}]
[null,null,null,null,null,null,null,null,null,{"$f":"IF(A28<>\"\",ROUND(SUMIFS(DebitCol,JEcol,A28),2)-ROUND(SUMIFS(CreditCol,JEcol,A28),2),\"\")","v":""}]
[null,null,null,null,null,null,null,null,null,{"$f":"IF(A29<>\"\",ROUND(SUMIFS(DebitCol,JEcol,A29),2)-ROUND(SUMIFS(CreditCol,JEcol,A29),2),\"\")","v":""}]
[null,null,null,null,null,null,null,null,null,{"$f":"IF(A30<>\"\",ROUND(SUMIFS(DebitCol,JEcol,A30),2)-ROUND(SUMIFS(CreditCol,JEcol,A30),2),\"\")","v":""}]
[null,null,null,null,null,null,null,null,null,{"$f":"IF(A31<>\"\",ROUND(SUMIFS(DebitCol,JEcol,A31),2)-ROUND(SUMIFS(CreditCol,JEcol,A31),2),\"\")","v":""}]
[null,null,null,null,null,null,null,null,null,{"$f":"IF(A32<>\"\",ROUND(SUMIFS(DebitCol,JEcol,A32),2)-ROUND(SUMIFS(CreditCol,JEcol,A32),2),\"\")","v":""}]
[null,null,null,null,null,null,null,null,null,{"$f":"IF(A33<>\"\",ROUND(SUMIFS(DebitCol,JEcol,A33),2)-ROUND(SUMIFS(CreditCol,JEcol,A33),2),\"\")","v":""}]
[null,null,null,null,null,null,null,null,null,{"$f":"IF(A34<>\"\",ROUND(SUMIFS(DebitCol,JEcol,A34),2)-ROUND(SUMIFS(CreditCol,JEcol,A34),2),\"\")","v":""}]
[null,null,null,null,null,null,null,null,null,{"$f":"IF(A35<>\"\",ROUND(SUMIFS(DebitCol,JEcol,A35),2)-ROUND(SUMIFS(CreditCol,JEcol,A35),2),\"\")","v":""}]
[null,null,null,null,null,null,null,null,null,{"$f":"IF(A36<>\"\",ROUND(SUMIFS(DebitCol,JEcol,A36),2)-ROUND(SUMIFS(CreditCol,JEcol,A36),2),\"\")","v":""}]
[null,null,null,null,null,null,null,null,null,{"$f":"IF(A37<>\"\",ROUND(SUMIFS(DebitCol,JEcol,A37),2)-ROUND(SUMIFS(CreditCol,JEcol,A37),2),\"\")","v":""}]
[null,null,null,null,null,null,null,null,null,{"$f":"IF(A38<>\"\",ROUND(SUMIFS(DebitCol,JEcol,A38),2)-ROUND(SUMIFS(CreditCol,JEcol,A38),2),\"\")","v":""}]
[null,null,null,null,null,null,null,null,null,{"$f":"IF(A39<>\"\",ROUND(SUMIFS(DebitCol,JEcol,A39),2)-ROUND(SUMIFS(CreditCol,JEcol,A39),2),\"\")","v":""}]
[null,null,null,null,null,null,null,null,null,{"$f":"IF(A40<>\"\",ROUND(SUMIFS(DebitCol,JEcol,A40),2)-ROUND(SUMIFS(CreditCol,JEcol,A40),2),\"\")","v":""}]
[null,null,null,null,null,null,null,null,null,{"$f":"IF(A41<>\"\",ROUND(SUMIFS(DebitCol,JEcol,A41),2)-ROUND(SUMIFS(CreditCol,JEcol,A41),2),\"\")","v":""}]
[null,null,null,null,null,null,null,null,null,{"$f":"IF(A42<>\"\",ROUND(SUMIFS(DebitCol,JEcol,A42),2)-ROUND(SUMIFS(CreditCol,JEcol,A42),2),\"\")","v":""}]
[null,null,null,null,null,null,null,null,null,{"$f":"IF(A43<>\"\",ROUND(SUMIFS(DebitCol,JEcol,A43),2)-ROUND(SUMIFS(CreditCol,JEcol,A43),2),\"\")","v":""}]
[null,null,null,null,null,null,null,null,null,{"$f":"IF(A44<>\"\",ROUND(SUMIFS(DebitCol,JEcol,A44),2)-ROUND(SUMIFS(CreditCol,JEcol,A44),2),\"\")","v":""}]
[null,null,null,null,null,null,null,null,null,{"$f":"IF(A45<>\"\",ROUND(SUMIFS(DebitCol,JEcol,A45),2)-ROUND(SUMIFS(CreditCol,JEcol,A45),2),\"\")","v":""}]
[null,null,null,null,null,null,null,null,null,{"$f":"IF(A46<>\"\",ROUND(SUMIFS(DebitCol,JEcol,A46),2)-ROUND(SUMIFS(CreditCol,JEcol,A46),2),\"\")","v":""}]
[null,null,null,null,null,null,null,null,null,{"$f":"IF(A47<>\"\",ROUND(SUMIFS(DebitCol,JEcol,A47),2)-ROUND(SUMIFS(CreditCol,JEcol,A47),2),\"\")","v":""}]
[null,null,null,null,null,null,null,null,null,{"$f":"IF(A48<>\"\",ROUND(SUMIFS(DebitCol,JEcol,A48),2)-ROUND(SUMIFS(CreditCol,JEcol,A48),2),\"\")","v":""}]
[null,null,null,null,null,null,null,null,null,{"$f":"IF(A49<>\"\",ROUND(SUMIFS(DebitCol,JEcol,A49),2)-ROUND(SUMIFS(CreditCol,JEcol,A49),2),\"\")","v":""}]
[null,null,null,null,null,null,null,null,null,{"$f":"IF(A50<>\"\",ROUND(SUMIFS(DebitCol,JEcol,A50),2)-ROUND(SUMIFS(CreditCol,JEcol,A50),2),\"\")","v":""}]
[null,null,null,null,null,null,null,null,null,{"$f":"IF(A51<>\"\",ROUND(SUMIFS(DebitCol,JEcol,A51),2)-ROUND(SUMIFS(CreditCol,JEcol,A51),2),\"\")","v":""}]
[null,null,null,null,null,null,null,null,null,{"$f":"IF(A52<>\"\",ROUND(SUMIFS(DebitCol,JEcol,A52),2)-ROUND(SUMIFS(CreditCol,JEcol,A52),2),\"\")","v":""}]
[null,null,null,null,null,null,null,null,null,{"$f":"IF(A53<>\"\",ROUND(SUMIFS(DebitCol,JEcol,A53),2)-ROUND(SUMIFS(CreditCol,JEcol,A53),2),\"\")","v":""}]
[null,null,null,null,null,null,null,null,null,{"$f":"IF(A54<>\"\",ROUND(SUMIFS(DebitCol,JEcol,A54),2)-ROUND(SUMIFS(CreditCol,JEcol,A54),2),\"\")","v":""}]
[null,null,null,null,null,null,null,null,null,{"$f":"IF(A55<>\"\",ROUND(SUMIFS(DebitCol,JEcol,A55),2)-ROUND(SUMIFS(CreditCol,JEcol,A55),2),\"\")","v":""}]
[null,null,null,null,null,null,null,null,null,{"$f":"IF(A56<>\"\",ROUND(SUMIFS(DebitCol,JEcol,A56),2)-ROUND(SUMIFS(CreditCol,JEcol,A56),2),\"\")","v":""}]
[null,null,null,null,null,null,null,null,null,{"$f":"IF(A57<>\"\",ROUND(SUMIFS(DebitCol,JEcol,A57),2)-ROUND(SUMIFS(CreditCol,JEcol,A57),2),\"\")","v":""}]

{"sheet":"Error Log","index":1,"n_rows":21,"n_cols":4,"rows_kept":21,"cut":false,"hidden":false,"merged":[[0,0,0,3]]}
["DO NOT delete this sheet                                           -  Error Log  -                                                 DO NOT delete this sheet"]
["Journal Header","Journal Line","Excel Row #","Error Message"]
[1,null,8,"Journal error: Missing journal date"]
[1,null,8,"Journal error: External Reference ID must be populated"]
[1,null,8,"Journal error: Missing Header Memo. Memo on the journal header is required."]
[2,null,9,"Journal error: Missing journal date"]
[2,null,9,"Journal error: External Reference ID must be populated"]
[2,null,9,"Journal error: Missing Header Memo. Memo on the journal header is required."]
[2,null,9,"Journal error: Journal entry does not have journal lines"]
[1,1,8,"Journal line error: Driver Worktag value not valid"]
[1,1,8,"Journal line error: Account value not valid"]
[1,1,8,"Journal line error: Journal line must have a line memo"]
[1,2,9,"Journal line error: Driver Worktag value not valid"]
[1,2,9,"Journal line error: Account value not valid"]
[1,2,9,"Journal line error: Journal line must have a line memo"]
[1,3,10,"Journal line error: Driver Worktag value not valid"]
[1,3,10,"Journal line error: Account value not valid"]
[1,3,10,"Journal line error: Journal line must have a line memo"]
[1,4,11,"Journal line error: Driver Worktag value not valid"]
[1,4,11,"Journal line error: Account value not valid"]
[1,4,11,"Journal line error: Journal line must have a line memo"]

{"sheet":"Support","index":2,"n_rows":0,"n_cols":0,"rows_kept":0,"cut":false,"hidden":false,"merged":[]}

{"sheet":"Worktags","index":3,"n_rows":23433,"n_cols":68,"rows_kept":2250,"cut":true,"hidden":true,"merged":[[1,37,1,40],[1,1,1,4],[1,14,1,19],[1,27,1,30],[1,32,1,35],[1,6,1,12],[1,21,1,25],[1,54,1,57],[1,59,1,62],[1,66,1,67],[1,42,1,47],[1,49,1,52]],"bounds":{"rows_first":1000,"rows_last":250,"rows_between":1000,"halvings":1}}
[]
[null,"Company",null,null,null,null,"Driver",null,null,null,null,null,null,null,"Category",null,null,null,null,null,null,"Class",null,null,null,null,null,"Assignee",null,null,null,null,"Student Experience",null,null,null,null,"Account",null,null,null,null,"Account Validation",null,null,null,null,null,null,"Account",null,null,null,null,"Fund",null,null,null,null,"Plan Name",null,null,null,null,"Amendment Type",null,"Plan Structure"]
[null,null,null,null,null,null,"DRIVER_ID",null,"DRIVER","DRIVER_TYPE","DRIVER_REQUIREMENT","STATUS","UPDATED_AT",null,"CATEGORY_ID","CATEGORY_NAME","CATEGORY","CATEGORY_TYPE","STATUS","CAT_REQUIREMENT",null,"CLASS_ID","CLASS_NAME","CLASS","STATUS","UPDATED_AT",null,"ASSIGNEE_ID","ASSIGNEE_NAME","ASSIGNEE","STATUS",null,"STUDENT_EXPERIENCE_ID","STUDENT_EXPERIENCE_NAME","STU_EXP","STATUS",null,"ACCOUNT_ID","ACCOUNT_NAME","ACCOUNT","TYPE",null,"CATEGORY_ID","VALID_COMBO","ACCOUNT_ID","ACCOUNT_NAME","PRIMARY","AUTHORIZED_JOURNAL_SOURCES"," ","ACCOUNT_ID","ACCOUNT_NAME","ACCOUNT","CATEGORY",null,"Fund","Description","Hierarchy","Name",null,"Plan ID","Plan Name","STRUCTURE","COMPANY",null,null,null,"STRUCTURE","STRUCTURE_ID"]
[null,"ALU","Brigham Young University Alumni, LLC","ALU-Brigham Young University Alumni, LLC","Active",null,"AC00001","[ADM] Jerusalem Center Support","AC00001-[ADM] Jerusalem Center Support","Activity","FD01","Active","2025-03-17T16:11:50.579797+00:00",null,"BK1001","Wells Fargo Concentration 2494","BK1001-Wells Fargo Concentration 2494","Bank Account","Active",null,null,"00001","Invalid","00001-Invalid",null,null,null,"AS000045543","Sharon Offley (000045543) Culinary Support Center","AS000045543-Sharon Offley (000045543) Culinary Support Center","Active",null,"SE000","Not applicable","SE000-Not applicable","Active",null,"0100","Budget Carryover/Unallocated","0100-Budget Carryover/Unallocated","Expense",null,"","1001||1001","1001","Cash ILS","Primary","All",null,100,"Budget Carryover/Unallocated","0100-Budget Carryover/Unallocated","Expense",null,"FD01","Appropriated","Unrestricted","FD01-Appropriated",null,"ALU Capital FY23","ALU Capital FY23","Consolidated_Budget_Structure_Capital","ALU",null,"Allocations Amendment",null,"Consolidated Budget Capital","Consolidated_Budget_Structure_Capital"]
[null,"BYU","Brigham Young University","BYU-Brigham Young University","Active",null,"AC00002","[ADM] Presidential Inauguration","AC00002-[ADM] Presidential Inauguration","Activity","FD01","Active","2025-03-17T16:11:50.579797+00:00",null,"BK1002","Wells Fargo Depository 0001","BK1002-Wells Fargo Depository 0001","Bank Account","Active",null,null,"00002","Test Gen Accounting","00002-Test Gen Accounting",null,null,null,"AS000419700","LaVay Talk (000419700) Multicultural","AS000419700-LaVay Talk (000419700) Multicultural","Active",null,"SE001","Experiential Learning","SE001-Experiential Learning","Active",null,"1000","Cash USD","1000-Cash USD","Asset",null,"","1002||1002","1002","Cash GBP","Primary","All",null,1000,"Cash USD","1000-Cash USD","Asset",null,"FD02","Self Supporting","Unrestricted","FD02-Self Supporting",null,"ALU Capital FY24","ALU Capital FY24","Consolidated_Budget_Structure_Capital","ALU",null,"Current Year Amendment",null,"Consolidated Budget Operating","Consolidated_Budget_Structure_Operating"]
[null,"CAN","EFY-Canada Foundation","CAN-EFY-Canada Foundation","Active",null,"AC00003","[ADM] President's Home","AC00003-[ADM] President's Home","Activity","FD01","Active","2025-03-17T16:11:50.579797+00:00",null,"BK1003","Wells Fargo Disbursement 0217","BK1003-Wells Fargo Disbursement 0217","Bank Account","Active",null,null,"00051","Winter","00051-Winter",null,null,null,"AS000449989","Jenn Price (000449989) Indefinite Leaves","AS000449989-Jenn Price (000449989) Indefinite Leaves","Active",null,"SE002","Research - Basic","SE002-Research - Basic","Active",null,"1001","Cash ILS","1001-Cash ILS","Asset",null,"","1004||1004","1004","CASH CAD","Primary","All",null,1001,"Cash ILS","1001-Cash ILS","Asset",null,"FD03","Designated","Unrestricted","FD03-Designated",null,"ALU Operating FY23","ALU Operating FY23","Consolidated_Budget_Structure_Operating","ALU",null,"Original Amendment (Budget Office use only)"]
[null,"CEE","CE Events, LLC","CEE-CE Events, LLC","Active",null,"AC00004","[ADM] President's Remembrances","AC00004-[ADM] President's Remembrances","Activity","FD01","Active","2025-03-17T16:11:50.579797+00:00",null,"BK1004","Wells Fargo Payroll 0118","BK1004-Wells Fargo Payroll 0118","Bank Account","Active",null,null,"00053","Spring","00053-Spring",null,null,null,"AS000712079","Gary Rex (000712079) Advancement VP","AS000712079-Gary Rex (000712079) Advancement VP","Active",null,"SE003","Research - Applied","SE003-Research - Applied","Active",null,"1002","Cash GBP","1002-Cash GBP","Asset",null,"","1040||1040","1040","Petty Cash","Primary","All",null,1002,"Cash GBP","1002-Cash GBP","Asset",null,"FD04","Faculty Consolidation","Unrestricted","FD04-Faculty Consolidation",null,"ALU Operating FY24","ALU Operating FY24","Consolidated_Budget_Structure_Operating","ALU",null,"Permanent Amendment"]
[null,"FSY","FSY, LLC","FSY-FSY, LLC","Active",null,"AC00005","[ADM] Legal Fees","AC00005-[ADM] Legal Fees","Activity","FD01","Active","2025-03-17T16:11:50.579797+00:00",null,"BK1005","Wells Fargo Agency 3757","BK1005-Wells Fargo Agency 3757","Bank Account","Active",null,null,"00054","Summer","00054-Summer",null,null,null,"AS000858151","Michael Miles (000858151) College of Engineering - Manufacturing Engineering","AS000858151-Michael Miles (000858151) College of Engineering - Manufacturing Engineering","Active",null,"SE004","Research - Development","SE004-Research - Development","Active",null,"1003","Cash EUR","1003-Cash EUR","Asset",null,"","1050||1050","1050","Change Funds","Primary","All",null,1003,"Cash EUR","1003-Cash EUR","Asset",null,"FD05","Sponsored Awards","Sponsor Fund","FD05-Sponsored Awards",null,"BYU Capital FY23","BYU Capital FY23","Consolidated_Budget_Structure_Capital","BYU",null,"Project Amendment"]
[null,"HED","HEDL, LLC","HED-HEDL, LLC","Active",null,"AC00006","[ADM] Risk-Loss Control Training","AC00006-[ADM] Risk-Loss Control Training","Activity","FD03","Active","2025-03-17T16:11:50.579797+00:00",null,"BK1006","Wells Fargo Fed Funds 2462","BK1006-Wells Fargo Fed Funds 2462","Bank Account","Active",null,null,"00055","Fall","00055-Fall",null,null,null,"AS000925729","Todd Blickenstaff (000925729) Athletics - Corporate Sponsorships","AS000925729-Todd Blickenstaff (000925729) Athletics - Corporate Sponsorships","Active",null,"SE005","Both Research Basic & Experiential Learning","SE005-Both Research Basic & Experiential Learning","Active",null,"1004","Cash CAD","1004-Cash CAD","Asset",null,"","1090||1090","1090","Clearing-Cash","Primary","All",null,1004,"Cash CAD","1004-Cash CAD","Asset",null,"FD06","Plant Fund","Unrestricted","FD06-Plant Fund",null,"BYU Capital FY24","BYU Capital FY24","Consolidated_Budget_Structure_Capital","BYU",null,"Sponsored Award Amendment"]
[null,"IHS","HSDL, LLC","IHS-HSDL, LLC","Active",null,"AC00007","[ADM] Insurance and Claims Reserve","AC00007-[ADM] Insurance and Claims Reserve","Activity","FD03","Active","2025-03-17T16:11:50.579797+00:00",null,"BK1020","JPMorgan Per Diem 5898","BK1020-JPMorgan Per Diem 5898","Bank Account","Active",null,null,"00060","Invoiced","00060-Invoiced",null,null,null,"AS001479845","Ian Bacon (001479845) College of Engineering - Mechanical Engineering","AS001479845-Ian Bacon (001479845) College of Engineering - Mechanical Engineering","Active",null,"SE006","Both Research Applied & Experiential Learning","SE006-Both Research Applied & Experiential Learning","Active",null,"1040","Petty Cash","1040-Petty Cash","Asset",null,"","1120||1120","1120","Investment Pool","Primary","JE_Gift|JE_Override",null,1040,"Petty Cash","1040-Petty Cash","Asset",null,"FD07","Agency","Unrestricted","FD07-Agency",null,"BYU Operating FY23","BYU Operating FY23","Consolidated_Budget_Structure_Operating","BYU"]
[null,"INT","BYU International, LLC","INT-BYU International, LLC","Active",null,"AC00008","[ADM] Alumni Questionnaire","AC00008-[ADM] Alumni Questionnaire","Activity","FD03","Active","2025-03-17T16:11:50.579797+00:00",null,"BK1021","JPMorgan SUA Account","BK1021-JPMorgan SUA Account","Bank Account","Active",null,null,"00061","Cash Received","00061-Cash Received",null,null,null,"AS001501244","Katelyn Williams (001501244) Athletics - Marketing and Fan Experience","AS001501244-Katelyn Williams (001501244) Athletics - Marketing and Fan Experience","Active",null,"SE007","Both Research Development & Experiential Learning","SE007-Both Research Development & Experiential Learning","Active",null,"1050","Change Funds","1050-Change Funds","Asset",null,"","1121||1121","1121","Investments - Book Value","Primary","JE_Gift|JE_Override",null,1050,"Change Funds","1050-Change Funds","Asset",null,"FD20","Gift Unrestricted","Unrestricted","FD20-Gift Unrestricted",null,"BYU Operating FY24","BYU Operating FY24","Consolidated_Budget_Structure_Operating","BYU"]
[null,"JER","The Jerusalem Center for Near Eastern Studies","JER-The Jerusalem Center for Near Eastern Studies","Active",null,"AC00009","[ADM] University Accreditation","AC00009-[ADM] University Accreditation","Activity","FD01","Active","2025-03-17T16:11:50.579797+00:00",null,"BK1030","CUBS BYU 3920","BK1030-CUBS BYU 3920","Bank Account","Active",null,null,"00062","Unbilled","00062-Unbilled",null,null,null,"AS001687233","Chris Johnson (001687233) OIT Core - Tech Operations & Support","AS001687233-Chris Johnson (001687233) OIT Core - Tech Operations & Support","Active",null,null,null,null,null,null,"1055","Gift Cards","1055-Gift Cards","Asset",null,"","1122||1122","1122","Investments - Fair Market Value","Primary","JE_Gift|JE_Override",null,1055,"Gift Cards","1055-Gift Cards","Asset",null,"FD21","Gift Temporarily Restricted","Temporarily Restricted","FD21-Gift Temporarily Restricted",null,"CAN Capital FY23","CAN Capital FY23","Consolidated_Budget_Structure_Capital","CAN"]
[null,"LDN","Brigham Young University, Ltd.","LDN-Brigham Young University, Ltd.","Active",null,"AC00010","[ADM] Academic Support Unit Reviews","AC00010-[ADM] Academic Support Unit Reviews","Activity","FD01","Active","2025-03-17T16:11:50.579797+00:00",null,"BK1032","Ensign Peak BYU","BK1032-Ensign Peak BYU","Bank Account","Active",null,null,"00098","Fixed Price Closeout F&A","00098-Fixed Price Closeout F&A",null,null,null,"AS001823663","Sherie Rogde (001823663) International Center for Law and Religion Studies (ICLRS)","AS001823663-Sherie Rogde (001823663) International Center for Law and Religion Studies (ICLRS)","Active",null,null,null,null,null,null,"1090","Clearing-Cash","1090-Clearing-Cash","Asset",null,"","1150||1150","1150","Other Equity Securities","Primary","JE_Gift|JE_Override",null,1090,"Clearing-Cash","1090-Clearing-Cash","Asset",null,"FD22","Endowment Payout","Temporarily Restricted","FD22-Endowment Payout",null,"CAN Capital FY24","CAN Capital FY24","Consolidated_Budget_Structure_Capital","CAN"]
[null,null,null,null,null,null,"AC00011","[ADM] Unit Reviews- Academic","AC00011-[ADM] Unit Reviews- Academic","Activity","FD01","Active","2025-03-17T16:11:50.579797+00:00",null,"BK1040","Jerusalem Payroll ILS 0039","BK1040-Jerusalem Payroll ILS 0039","Bank Account","Active",null,null,"00099","Project Overrun","00099-Project Overrun",null,null,null,"AS001862197","Shea Owens (001862197) Fine Arts & Communications - School of Music","AS001862197-Shea Owens (001862197) Fine Arts & Communications - School of Music","Active",null,null,null,null,null,null,"1120","Investment Pool","1120-Investment Pool","Asset",null,"","1160||1160","1160","Other Fixed Income Securities","Primary","JE_Gift|JE_Override",null,1120,"Investment Pool","1120-Investment Pool","Asset",null,"FD23","Endowment Spending","Unrestricted","FD23-Endowment Spending",null,"CAN Operating FY23","CAN Operating FY23","Consolidated_Budget_Structure_Operating","CAN"]
[null,null,null,null,null,null,"AC00012","[ADM] Honorarium","AC00012-[ADM] Honorarium","Activity","FD03","Active","2025-03-17T16:11:50.579797+00:00",null,"BK1041","Jerusalem Operations USD 7144","BK1041-Jerusalem Operations USD 7144","Bank Account","Active",null,null,"00100","Land","00100-Land",null,null,null,"AS002029145","Jackelyn Knight (002029145) Athletics - Football Sport Performance","AS002029145-Jackelyn Knight (002029145) Athletics - Football Sport Performance","Active",null,null,null,null,null,null,"1121","Investments - Book Value","1121-Investments - Book Value","Asset",null,"","1170||1170","1170","Other Investments","Primary","JE_Gift|JE_Override",null,1121,"Investments - Book Value","1121-Investments - Book Value","Asset",null,"FD24","Endowment Temporarily Restricted","Temporarily Restricted","FD24-Endowment Temporarily Restricted",null,"CAN Operating FY24","CAN Operating FY24","Consolidated_Budget_Structure_Operating","CAN"]
[null,null,null,null,null,null,"AC00013","[STLF] Stdnt Success & Inclusion","AC00013-[STLF] Stdnt Success & Inclusion","Activity","FD01","Active","2025-03-17T16:11:50.579797+00:00",null,"BK1042","Jerusalem Operations ILS 3566","BK1042-Jerusalem Operations ILS 3566","Bank Account","Active",null,null,"00101","Water Rights","00101-Water Rights",null,null,null,"AS002033817","Stacey Christensen (002033817) Humanities - Asian & Near Eastern Languages","AS002033817-Stacey Christensen (002033817) Humanities - Asian & Near Eastern Languages","Active",null,null,null,null,null,null,"1122","Investments - Fair Market Value","1122-Investments - Fair Market Value","Asset",null,"","1200||1200","1200","Department Receivable","Primary","All",null,1122,"Investments - Fair Market Value","1122-Investments - Fair Market Value","Asset",null,"FD25","True Endowment","Permanently Restricted","FD25-True Endowment",null,"CEE Capital FY23","CEE Capital FY23","Consolidated_Budget_Structure_Capital","CEE"]
[null,null,null,null,null,null,"AC00014","[JC] Jerusalem Administration","AC00014-[JC] Jerusalem Administration","Activity","FD01","Active","2025-03-17T16:11:50.579797+00:00",null,"BK1050","BNP Paris Study Abroad 0376","BK1050-BNP Paris Study Abroad 0376","Bank Account","Active",null,null,"00110","University Building","00110-University Building",null,null,null,"AS002313328","Ben Ward (002313328) PF AVP Office","AS002313328-Ben Ward (002313328) PF AVP Office","Active",null,null,null,null,null,null,"1150","Other Equity Securities","1150-Other Equity Securities","Asset",null,"","1210||1210","1210","Off Campus Receivable","Primary","All",null,1150,"Other Equity Securities","1150-Other Equity Securities","Asset",null,"FD26","Quasi Endowment","Unrestricted","FD26-Quasi Endowment",null,"CEE Capital FY24","CEE Capital FY24","Consolidated_Budget_Structure_Capital","CEE"]
[null,null,null,null,null,null,"AC00015","[JC] Jerusalem Library","AC00015-[JC] Jerusalem Library","Activity","FD01","Active","2025-03-17T16:11:50.579797+00:00",null,"BK1051","Unicredit Bank of Austria Study Abroad 1501","BK1051-Unicredit Bank of Austria Study Abroad 1501","Bank Account","Active",null,null,"00111","University Residences","00111-University Residences",null,null,null,"AS002544665","Brent Anderson (002544665) Athletics - Women's Soccer","AS002544665-Brent Anderson (002544665) Athletics - Women's Soccer","Active",null,null,null,null,null,null,"1160","Other Fixed Income Securities","1160-Other Fixed Income Securities","Asset",null,"","1220||1220","1220","Student Receivable","Primary","All",null,1160,"Other Fixed Income Securities","1160-Other Fixed Income Securities","Asset",null,"FD27","Permanently Restricted - Other","Permanently Restricted","FD27-Permanently Restricted - Other",null,"CEE Operating FY23","CEE Operating FY23","Consolidated_Budget_Structure_Operating","CEE"]
[null,null,null,null,null,null,"AC00016","[JC] Jerusalem Academic","AC00016-[JC] Jerusalem Academic","Activity","FD01","Active","2025-03-17T16:11:50.579797+00:00",null,"BK1052","La Caixa Bank Madrid-Study Abroad 3299","BK1052-La Caixa Bank Madrid-Study Abroad 3299","Bank Account","Active",null,null,"00120","Building Improvements","00120-Building Improvements",null,null,null,"AS002736935","Stacie Conrad (002736935) Dining Services","AS002736935-Stacie Conrad (002736935) Dining Services","Active",null,null,null,null,null,null,"1170","Other Investments","1170-Other Investments","Asset",null,"","1230||1230","1230","Church Receivable","Primary","All",null,1170,"Other Investments","1170-Other Investments","Asset",null,"FD28","Restricted Gifts Spending","Unrestricted","FD28-Restricted Gifts Spending",null,"CEE Operating FY24","CEE Operating FY24","Consolidated_Budget_Structure_Operating","CEE"]
[null,null,null,null,null,null,"AC00017","[JC] Jerusalem Utilities","AC00017-[JC] Jerusalem Utilities","Activity","FD01","Active","2025-03-17T16:11:50.579797+00:00",null,"BK1060","HSBC London Centre Checking 3184","BK1060-HSBC London Centre Checking 3184","Bank Account","Active",null,null,"00121","Building Exterior Imprvmnts","00121-Building Exterior Imprvmnts",null,null,null,"AS003040913","Jake Styer (003040913) BYU Police Operations - Patrol","AS003040913-Jake Styer (003040913) BYU Police Operations - Patrol","Active",null,null,null,null,null,null,"1200","Department Receivable","1200-Department Receivable","Asset",null,"","1235||1235","1235","Sponsored Programs Receivable","Primary","JE_Research|JE_Override",null,1200,"Department Receivable","1200-Department Receivable","Asset",null,"FD29","Quasi Endowment Spending","Unrestricted","FD29-Quasi Endowment Spending",null,"FSY Capital FY23","FSY Capital FY23","Consolidated_Budget_Structure_Capital","FSY"]
[null,null,null,null,null,null,"AC00018","[JC] Jerusalem Mechanical","AC00018-[JC] Jerusalem Mechanical","Activity","FD01","Active","2025-03-17T16:11:50.579797+00:00",null,"BK1061","HSBC London Centre Savings 1810","BK1061-HSBC London Centre Savings 1810","Bank Account","Active",null,null,"00122","General Campus Imprvmnts","00122-General Campus Imprvmnts",null,null,null,"AS003283501","Kyle Stapley (003283501) Fine Arts & Communications - Theatre & Media Arts","AS003283501-Kyle Stapley (003283501) Fine Arts & Communications - Theatre & Media Arts","Active",null,null,null,null,null,null,"1210","Off Campus Receivable","1210-Off Campus Receivable","Asset",null,"","1236||1236","1236","Unbilled Sponsored Programs Receivable","Primary","JE_Research|JE_Override",null,1210,"Off Campus Receivable","1210-Off Campus Receivable","Asset",null,null,null,null,null,null,"FSY Capital FY24","FSY Capital FY24","Consolidated_Budget_Structure_Capital","FSY"]
[null,null,null,null,null,null,"AC00019","[JC] Jerusalem Custodial","AC00019-[JC] Jerusalem Custodial","Activity","FD01","Active","2025-03-17T16:11:50.579797+00:00",null,"BK1062","HSBC London Centre AD 7943","BK1062-HSBC London Centre AD 7943","Bank Account","Active",null,null,"00123","Building Campus Improvements","00123-Building Campus Improvements",null,null,null,"AS003300518","Trevor Thiriot (003300518) OIT Leadership - Enterprise Data Management and Finance","AS003300518-Trevor Thiriot (003300518) OIT Leadership - Enterprise Data Management and Finance","Active",null,null,null,null,null,null,"1220","Student Receivable","1220-Student Receivable","Asset",null,"","1240||1240","1240","Advances Receivable","Primary","All",null,1220,"Student Receivable","1220-Student Receivable","Asset",null,null,null,null,null,null,"FSY Operating FY23","FSY Operating FY23","Consolidated_Budget_Structure_Operating","FSY"]
[null,null,null,null,null,null,"AC00020","[JC] Jerusalem Grounds","AC00020-[JC] Jerusalem Grounds","Activity","FD01","Active","2025-03-17T16:11:50.579797+00:00",null,"RC1210","Off Campus Receivable","RC1210-Off Campus Receivable","Revenue Category","Active",null,null,"00124","Technical Electronic Systems","00124-Technical Electronic Systems",null,null,null,"AS003333348","Mark Christensen (003333348) PF Central Heating Plant","AS003333348-Mark Christensen (003333348) PF Central Heating Plant","Active",null,null,null,null,null,null,"1230","Church Receivable","1230-Church Receivable","Asset",null,"","1241||1241","1241","Employee Receivable","Primary","All",null,1230,"Church Receivable","1230-Church Receivable","Asset",null,null,null,null,null,null,"FSY Operating FY24","FSY Operating FY24","Consolidated_Budget_Structure_Operating","FSY"]
[null,null,null,null,null,null,"AC00021","[JC] Jerusalem Security","AC00021-[JC] Jerusalem Security","Activity","FD01","Active","2025-03-17T16:11:50.579797+00:00",null,"RC1230","Church Receivable","RC1230-Church Receivable","Revenue Category","Active",null,null,"00130","Furnishings","00130-Furnishings",null,null,null,"AS003482207","Connor Stokes (003482207) CE EFY","AS003482207-Connor Stokes (003482207) CE EFY","Active",null,null,null,null,null,null,"1235","Sponsored Programs Receivable","1235-Sponsored Programs Receivable","Asset",null,"","1260||1260","1260","Notes Receivable","Primary","All",null,1235,"Sponsored Programs Receivable","1235-Sponsored Programs Receivable","Asset",null,null,null,null,null,null,"HED Capital FY23","HED Capital FY23","Consolidated_Budget_Structure_Capital","HED"]
[null,null,null,null,null,null,"AC00022","[JC] Jerusalem Mor Co Admin","AC00022-[JC] Jerusalem Mor Co Admin","Activity","FD01","Active","2025-03-17T16:11:50.579797+00:00",null,"RC1290","Clearing-Receivable","RC1290-Clearing-Receivable","Revenue Category","Active",null,null,"00131","Fixtures","00131-Fixtures",null,null,null,"AS003697782","Rob Eaton (003697782) Religious Education - Church History & Doctrine","AS003697782-Rob Eaton (003697782) Religious Education - Church History & Doctrine","Active",null,null,null,null,null,null,"1236","Unbilled Sponsored Programs Receivable","1236-Unbilled Sponsored Programs Receivable","Asset",null,"","1270||1270","1270","Student Loan Receivable-Short Term","Primary","All",null,1236,"Unbilled Sponsored Programs Receivable","1236-Unbilled Sponsored Programs Receivable","Asset",null,null,null,null,null,null,"HED Capital FY24","HED Capital FY24","Consolidated_Budget_Structure_Capital","HED"]
[null,null,null,null,null,null,"AC00023","[JC] Housing","AC00023-[JC] Housing","Activity","FD02","Active","2025-03-17T16:11:50.579797+00:00",null,"RC1298","Special Recovery","RC1298-Special Recovery","Revenue Category","Active",null,null,"00140","Software","00140-Software",null,null,null,"AS003861576","Paul Adams (003861576) Fine Arts & Communications - Design","AS003861576-Paul Adams (003861576) Fine Arts & Communications - Design","Active",null,null,null,null,null,null,"1240","Advances Receivable","1240-Advances Receivable","Asset",null,"","1275||1275","1275","Student Loan Receivable-Long Term","Primary","All",null,1240,"Advances Receivable","1240-Advances Receivable","Asset",null,null,null,null,null,null,"HED Operating FY23","HED Operating FY23","Consolidated_Budget_Structure_Operating","HED"]
[null,null,null,null,null,null,"AC00024","[JC] Food Services","AC00024-[JC] Food Services","Activity","FD02","Active","2025-03-17T16:11:50.579797+00:00",null,"RC2300","Deposits Receivable","RC2300-Deposits Receivable","Revenue Category","Active",null,null,"00160","Lee Library Books","00160-Lee Library Books",null,null,null,"AS003962074","Brian Tanner (003962074) BYU Broadcasting - BYU Radio","AS003962074-Brian Tanner (003962074) BYU Broadcasting - BYU Radio","Active",null,null,null,null,null,null,"1241","Employee Receivable","1241-Employee Receivable","Asset",null,"","1280||1280","1280","Pledges Receivable","Primary","All",null,1241,"Employee Receivable","1241-Employee Receivable","Asset",null,null,null,null,null,null,"HED Operating FY24","HED Operating FY24","Consolidated_Budget_Structure_Operating","HED"]
[null,null,null,null,null,null,"AC00025","[JC] Motorpool","AC00025-[JC] Motorpool","Activity","FD02","Active","2025-03-17T16:11:50.579797+00:00",null,"RC4001","Church Appropriation","RC4001-Church Appropriation","Revenue Category","Active",null,null,"00161","Law Library Books","00161-Law Library Books",null,null,null,"AS004054734","Trisha Peay (004054734) PF Building Operations","AS004054734-Trisha Peay (004054734) PF Building Operations","Active",null,null,null,null,null,null,"1260","Notes Receivable","1260-Notes Receivable","Asset",null,"","1285||1285","1285","Deferred Gifts","Primary","All",null,1260,"Notes Receivable","1260-Notes Receivable","Asset",null,null,null,null,null,null,"IHS Capital FY23","IHS Capital FY23","Consolidated_Budget_Structure_Capital","IHS"]
[null,null,null,null,null,null,"AC00026","[JC] Book & Supply","AC00026-[JC] Book & Supply","Activity","FD02","Active","2025-03-17T16:11:50.579797+00:00",null,"RC4002","University Allocation","RC4002-University Allocation","Revenue Category","Active",null,null,"00201","Computer Lab Equipment","00201-Computer Lab Equipment",null,null,null,"AS004239108","Darren Chipman (004239108) Indefinite Leaves","AS004239108-Darren Chipman (004239108) Indefinite Leaves","Active",null,null,null,null,null,null,"1270","Student Loan Receivable-Short Term","1270-Student Loan Receivable-Short Term","Asset",null,"","1289||1289","1289","Pledges/Def Gifts Rec Reserve","Primary","All",null,1270,"Student Loan Receivable-Short Term","1270-Student Loan Receivable-Short Term","Asset",null,null,null,null,null,null,"IHS Capital FY24","IHS Capital FY24","Consolidated_Budget_Structure_Capital","IHS"]
[null,null,null,null,null,null,"AC00027","[JC] Laundry","AC00027-[JC] Laundry","Activity","FD02","Active","2025-03-17T16:11:50.579797+00:00",null,"RC4101","Tuition","RC4101-Tuition","Revenue Category","Active",null,null,"00202","Research Equipment","00202-Research Equipment",null,null,null,"AS004391937","John Alius (004391937) PF Building Operations","AS004391937-John Alius (004391937) PF Building Operations","Active",null,null,null,null,null,null,"1275","Student Loan Receivable-Long Term","1275-Student Loan Receivable-Long Term","Asset",null,"","1290||1290","1290","Clearing-Receivable","Primary","All",null,1275,"Student Loan Receivable-Long Term","1275-Student Loan Receivable-Long Term","Asset",null,null,null,null,null,null,"IHS Operating FY23","IHS Operating FY23","Consolidated_Budget_Structure_Operating","IHS"]
[null,null,null,null,null,null,"AC00028","[JC] Field Trip","AC00028-[JC] Field Trip","Activity","FD02","Active","2025-03-17T16:11:50.579797+00:00",null,"RC4102","Student Fee Distribution","RC4102-Student Fee Distribution","Revenue Category","Active",null,null,"00218","CIP Transfer to Asset","00218-CIP Transfer to Asset",null,null,null,"AS004531494","Bart Robbins (004531494) University Accessibility Center","AS004531494-Bart Robbins (004531494) University Accessibility Center","Active",null,null,null,null,null,null,"1280","Pledges Receivable","1280-Pledges Receivable","Asset",null,"","1291||1291","1291","Clearing-Receivable Bank Cards","Primary","All",null,1280,"Pledges Receivable","1280-Pledges Receivable","Asset",null,null,null,null,null,null,"IHS Operating FY24","IHS Operating FY24","Consolidated_Budget_Structure_Operating","IHS"]
[null,null,null,null,null,null,"AC00029","[JC] Provo Administration","AC00029-[JC] Provo Administration","Activity","FD01","Active","2025-03-17T16:11:50.579797+00:00",null,"RC4103","Non-Credit Income","RC4103-Non-Credit Income","Revenue Category","Active",null,null,"00219","CIP Disposal","00219-CIP Disposal",null,null,null,"AS004583304","JoNell Stoddard (004583304) Special Events","AS004583304-JoNell Stoddard (004583304) Special Events","Active",null,null,null,null,null,null,"1285","Deferred Gifts","1285-Deferred Gifts","Asset",null,"","1299||1299","1299","Account/Note Rec Reserve","Primary","All",null,1285,"Deferred Gifts","1285-Deferred Gifts","Asset",null,null,null,null,null,null,"INT Capital FY23","INT Capital FY23","Consolidated_Budget_Structure_Capital","INT"]
[null,null,null,null,null,null,"AC00030","[JC] Provo Library","AC00030-[JC] Provo Library","Activity","FD01","Active","2025-03-17T16:11:50.579797+00:00",null,"RC4104","Student Fees","RC4104-Student Fees","Revenue Category","Active",null,null,"00230","Church-21Y's","00230-Church-21Y's",null,null,null,"AS004792646","Lamar Howarth (004792646) PF AVP Office","AS004792646-Lamar Howarth (004792646) PF AVP Office","Active",null,null,null,null,null,null,"1289","Pledges/Def Gifts Rec Reserve","1289-Pledges/Def Gifts Rec Reserve","Asset",null,"","1350||1350","1350","Inventory-Work in Process","Primary","All",null,1289,"Pledges/Def Gifts Rec Reserve","1289-Pledges/Def Gifts Rec Reserve","Asset",null,null,null,null,null,null,"INT Capital FY24","INT Capital FY24","Consolidated_Budget_Structure_Capital","INT"]
[null,null,null,null,null,null,"AC00031","[JC] Provo Academic","AC00031-[JC] Provo Academic","Activity","FD01","Active","2025-03-17T16:11:50.579797+00:00",null,"RC4110","Grad Service Fee","RC4110-Grad Service Fee","Revenue Category","Active",null,null,"00231","Church-CNA Projects","00231-Church-CNA Projects",null,null,null,"AS004801072","Scott Kavanaugh (004801072) Special Events","AS004801072-Scott Kavanaugh (004801072) Special Events","Active",null,null,null,null,null,null,"1290","Clearing-Receivable","1290-Clearing-Receivable","Asset",null,"","1390||1390","1390","Clearing-Inventory","Primary","All",null,1290,"Clearing-Receivable","1290-Clearing-Receivable","Asset",null,null,null,null,null,null,"INT Operating FY23","INT Operating FY23","Consolidated_Budget_Structure_Operating","INT"]
[null,null,null,null,null,null,"AC00032","[JC] Provo Office","AC00032-[JC] Provo Office","Activity","FD01","Active","2025-03-17T16:11:50.579797+00:00",null,"RC4111","Admission Fees","RC4111-Admission Fees","Revenue Category","Active",null,null,"00232","Church-MTC Projects","00232-Church-MTC Projects",null,null,null,"AS004801171","Daniel Jones (004801171) Athletics - Women's Volleyball","AS004801171-Daniel Jones (004801171) Athletics - Women's Volleyball","Active",null,null,null,null,null,null,"1291","Clearing-Receivable Bank Cards","1291-Clearing-Receivable Bank Cards","Asset",null,"","1399||1399","1399","Inventory Reserve","Primary","All",null,1291,"Clearing-Receivable Bank Cards","1291-Clearing-Receivable Bank Cards","Asset",null,null,null,null,null,null,"INT Operating FY24","INT Operating FY24","Consolidated_Budget_Structure_Operating","INT"]
[null,null,null,null,null,null,"AC00033","[JC] Jerusalem Center-Provo","AC00033-[JC] Jerusalem Center-Provo","Activity","FD02","Active","2025-03-17T16:11:50.579797+00:00",null,"RC4112","Graduation Fees","RC4112-Graduation Fees","Revenue Category","Active",null,null,"00234","Church-Jerusalem Center Proj's","00234-Church-Jerusalem Center Proj's",null,null,null,"AS004845810","KrisTina Carlston (004845810) Student Life VP","AS004845810-KrisTina Carlston (004845810) Student Life VP","Active",null,null,null,null,null,null,"1299","Account/Note Rec Reserve","1299-Account/Note Rec Reserve","Asset",null,"","1400||1400","1400","Prepaid Expenses","Primary","All",null,1299,"Account/Note Rec Reserve","1299-Account/Note Rec Reserve","Asset",null,null,null,null,null,null,"JER Capital FY23","JER Capital FY23","Consolidated_Budget_Structure_Capital","JER"]
[null,null,null,null,null,null,"AC00034","[AVP] Deans Salaries","AC00034-[AVP] Deans Salaries","Activity","FD01","Active","2025-03-17T16:11:50.579797+00:00",null,"RC4113","Transcript Fees","RC4113-Transcript Fees","Revenue Category","Active",null,null,"00235","Church-Retainages","00235-Church-Retainages",null,null,null,"AS004874370","Sharon Offley (000045543) Culinary Support Center","AS004874370-Sharon Offley (000045543) Culinary Support Center","Active",null,null,null,null,null,null,"1300","Inventory - Workday","1300-Inventory - Workday","Asset",null,"","1410||1410","1410","Deposits","Primary","All",null,1300,"Inventory - Workday","1300-Inventory - Workday","Asset",null,null,null,null,null,null,"JER Capital FY24","JER Capital FY24","Consolidated_Budget_Structure_Capital","JER"]
[null,null,null,null,null,null,"AC00035","[AVP] University Programs","AC00035-[AVP] University Programs","Activity","FD01","Active","2025-03-17T16:11:50.579797+00:00",null,"RC4114","Special Exam Fees","RC4114-Special Exam Fees","Revenue Category","Active",null,null,"00241","Church ITI Projects","00241-Church ITI Projects",null,null,null,"AS004923619","Stephen Yanchar (004923619) MSE - Instructional Psychology & Technology","AS004923619-Stephen Yanchar (004923619) MSE - Instructional Psychology & Technology","Active",null,null,null,null,null,null,"1310","Inventory - Campus Subsystems","1310-Inventory - Campus Subsystems","Asset",null,"","1429||1429","1429","Other Assets Reserve","Primary","All",null,1310,"Inventory - Campus Subsystems","1310-Inventory - Campus Subsystems","Asset",null,null,null,null,null,null,"JER Operating FY23","JER Operating FY23","Consolidated_Budget_Structure_Operating","JER"]
[null,null,null,null,null,null,"AC00036","[AVP] Faculty Advisory Council","AC00036-[AVP] Faculty Advisory Council","Activity","FD01","Active","2025-03-17T16:11:50.579797+00:00",null,"RC4115","ACT Test Fees","RC4115-ACT Test Fees","Revenue Category","Active",null,null,"00243","Info Sys Development Projects","00243-Info Sys Development Projects",null,null,null,"AS004930048","Heidi Chewning (004930048) AVP - Associate AVP, Research and Graduate Studies","AS004930048-Heidi Chewning (004930048) AVP - Associate AVP, Research and Graduate Studies","Active",null,null,null,null,null,null,"1350","Inventory-Work in Process","1350-Inventory-Work in Process","Asset",null,"","1430||1430","1430","Right of Use Asset","Primary","All",null,1350,"Inventory-Work in Process","1350-Inventory-Work in Process","Asset",null,null,null,null,null,null,"JER Operating FY24","JER Operating FY24","Consolidated_Budget_Structure_Operating","JER"]
[null,null,null,null,null,null,"AC00037","[AVP] Summer Inservice Trn","AC00037-[AVP] Summer Inservice Trn","Activity","FD01","Active","2025-03-17T16:11:50.579797+00:00",null,"RC4116","Library Fines","RC4116-Library Fines","Revenue Category","Active",null,null,"00244","IT SOFTWARE PROJECTS","00244-IT SOFTWARE PROJECTS",null,null,null,"AS005075133","Aaron Rose (005075133) Kennedy International Center","AS005075133-Aaron Rose (005075133) Kennedy International Center","Active",null,null,null,null,null,null,"1390","Clearing-Inventory","1390-Clearing-Inventory","Asset",null,"","1435||1435","1435","Deferred Tax Asset","Primary","All",null,1390,"Clearing-Inventory","1390-Clearing-Inventory","Asset",null,null,null,null,null,null,"LDN Capital FY23","LDN Capital FY23","Consolidated_Budget_Structure_Capital","LDN"]
[null,null,null,null,null,null,"AC00038","[AVP] Expansion","AC00038-[AVP] Expansion","Activity","FD01","Active","2025-03-17T16:11:50.579797+00:00",null,"RC4117","Locker Rentals","RC4117-Locker Rentals","Revenue Category","Active",null,null,"00246","BYUB Content Development","00246-BYUB Content Development",null,null,null,"AS005098540","Jared Morris (005098540) MSE - Counseling Psychology & Special Ed","AS005098540-Jared Morris (005098540) MSE - Counseling Psychology & Special Ed","Active",null,null,null,null,null,null,"1399","Inventory Reserve","1399-Inventory Reserve","Asset",null,"","1440||1440","1440","Valuation Allowance - DTA","Primary","All",null,1399,"Inventory Reserve","1399-Inventory Reserve","Asset",null,null,null,null,null,null,"LDN Capital FY24","LDN Capital FY24","Consolidated_Budget_Structure_Capital","LDN"]
[null,null,null,null,null,null,"AC00039","[AVP] Sp-Su Experience","AC00039-[AVP] Sp-Su Experience","Activity","FD01","Active","2025-03-17T16:11:50.579797+00:00",null,"RC4199","Tuition and Fees (reclass)","RC4199-Tuition and Fees (reclass)","Revenue Category","Active",null,null,"00250","Capital Gifts in Kind","00250-Capital Gifts in Kind",null,null,null,"AS005149055","Allison Lee (005149055) FHSS - Anthropology","AS005149055-Allison Lee (005149055) FHSS - Anthropology","Active",null,null,null,null,null,null,"1400","Prepaid Expenses","1400-Prepaid Expenses","Asset",null,"","1450||1450","1450","Retire Postretire Benefit Asset","Primary","All",null,1400,"Prepaid Expenses","1400-Prepaid Expenses","Asset",null,null,null,null,null,null,"LDN Operating FY23","LDN Operating FY23","Consolidated_Budget_Structure_Operating","LDN"]
[null,null,null,null,null,null,"AC00040","[AVP] AVP Bottleneck","AC00040-[AVP] AVP Bottleneck","Activity","FD01","Active","2025-03-17T16:11:50.579797+00:00",null,"RC4201","Gift Revenue-Cash","RC4201-Gift Revenue-Cash","Revenue Category","Active",null,null,"00251","Non-Capital Gifts in Kind","00251-Non-Capital Gifts in Kind",null,null,null,"AS005212352","Erin Wilson (005212352) Fine Arts & Communications - School of Music","AS005212352-Erin Wilson (005212352) Fine Arts & Communications - School of Music","Active",null,null,null,null,null,null,"1410","Deposits","1410-Deposits","Asset",null,"","1490||1490","1490","Clearing-Prepaid and Other","Primary","All",null,1410,"Deposits","1410-Deposits","Asset",null,null,null,null,null,null,"LDN Operating FY24","LDN Operating FY24","Consolidated_Budget_Structure_Operating","LDN"]
[null,null,null,null,null,null,"AC00041","[AVP] Teaching and Learning","AC00041-[AVP] Teaching and Learning","Activity","FD01","Active","2025-03-17T16:11:50.579797+00:00",null,"RC4202","Gift Revenue-Securities","RC4202-Gift Revenue-Securities","Revenue Category","Active",null,null,"00252","Gifts-Art/Artifacts","00252-Gifts-Art/Artifacts",null,null,null,"AS005680969","Rachael Cardon (005680969) CE Customer Support","AS005680969-Rachael Cardon (005680969) CE Customer Support","Active",null,null,null,null,null,null,"1420","Other Assets","1420-Other Assets","Asset",null,"","1500||1500","1500","Securities Held/Liquidation","Primary","JE_Gift|JE_Override",null,1420,"Other Assets","1420-Other Assets","Asset"]
[null,null,null,null,null,null,"AC00042","[AVP] Rank & Status Replenishment","AC00042-[AVP] Rank & Status Replenishment","Activity","FD01","Active","2025-03-17T16:11:50.579797+00:00",null,"RC4203","Gift Revenue - Tangible Property","RC4203-Gift Revenue - Tangible Property","Revenue Category","Active",null,null,"00259","Other Gifts in Kind","00259-Other Gifts in Kind",null,null,null,"AS005769310","Greg Danklef (005769310) AVP Human Resources Office","AS005769310-Greg Danklef (005769310) AVP Human Resources Office","Active",null,null,null,null,null,null,"1429","Other Assets Reserve","1429-Other Assets Reserve","Asset",null,"","1510||1510","1510","Real Estate Held/Liquidation","Primary","JE_Gift|JE_Override",null,1429,"Other Assets Reserve","1429-Other Assets Reserve","Asset"]
[null,null,null,null,null,null,"AC00043","[AVP] AVP Personnel","AC00043-[AVP] AVP Personnel","Activity","FD01","Active","2025-03-17T16:11:50.579797+00:00",null,"RC4204","Sponsored Program Revenue","RC4204-Sponsored Program Revenue","Revenue Category","Active",null,null,"00293","Super Computer Eng/Tech","00293-Super Computer Eng/Tech",null,null,null,"AS005924088","Sarah Whitaker (005924088) CE IS Course Dev - Victor's Students","AS005924088-Sarah Whitaker (005924088) CE IS Course Dev - Victor's Students","Active",null,null,null,null,null,null,"1430","Right of Use Asset","1430-Right of Use Asset","Asset",null,"","1520||1520","1520","Other Assets Held/Liquidation","Primary","JE_Gift|JE_Override",null,1430,"Right of Use Asset","1430-Right of Use Asset","Asset"]
[null,null,null,null,null,null,"AC00044","[AVP] Matching Funds","AC00044-[AVP] Matching Funds","Activity","FD01","Active","2025-03-17T16:11:50.579797+00:00",null,"RC4299","Gift Revenue (reclass)","RC4299-Gift Revenue (reclass)","Revenue Category","Active",null,null,"00297","Washington Center","00297-Washington Center",null,null,null,"AS005946921","Kenny Baldwin (005946921) Copyright Licensing Office","AS005946921-Kenny Baldwin (005946921) Copyright Licensing Office","Active",null,null,null,null,null,null,"1435","Deferred Tax Asset","1435-Deferred Tax Asset","Asset",null,"","1590||1590","1590","Clearing-Assets Held/Liquidation","Primary","JE_Gift|JE_Override",null,1435,"Deferred Tax Asset","1435-Deferred Tax Asset","Asset"]
[null,null,null,null,null,null,"AC00045","[AVP] AVP - Graduation","AC00045-[AVP] AVP - Graduation","Activity","FD01","Active","2025-03-17T16:11:50.579797+00:00",null,"RC4301","Investment Dividend Income","RC4301-Investment Dividend Income","Revenue Category","Active",null,null,"00300","New Facilities Construction","00300-New Facilities Construction",null,null,null,"AS006045488","Bryce Isaacson (006045488) Fine Arts & Communications - School of Communications","AS006045488-Bryce Isaacson (006045488) Fine Arts & Communications - School of Communications","Active",null,null,null,null,null,null,"1440","Valuation Allowance - DTA","1440-Valuation Allowance - DTA","Asset",null,"","1599||1599","1599","Assets Held/Liquidation Reserve","Primary","JE_Gift|JE_Override",null,1440,"Valuation Allowance - DTA","1440-Valuation Allowance - DTA","Asset"]
[null,null,null,null,null,null,"AC00046","[AVP] College of Health & Human Perf","AC00046-[AVP] College of Health & Human Perf","Activity","FD01","Active","2025-03-17T16:11:50.579797+00:00",null,"RC4302","Investment Interest Income","RC4302-Investment Interest Income","Revenue Category","Active",null,null,"00310","Shop Time/Materials","00310-Shop Time/Materials",null,null,null,"AS006079197","Suzy Nichols (006079197) Fine Arts & Communications - School of Music","AS006079197-Suzy Nichols (006079197) Fine Arts & Communications - School of Music","Active",null,null,null,null,null,null,"1450","Retire Postretire Benefit Asset","1450-Retire Postretire Benefit Asset","Asset",null,"","1650||1650","1650","Construction in Progress","Primary","JE_PPE|JE_Override",null,1450,"Retire Postretire Benefit Asset","1450-Retire Postretire Benefit Asset","Asset"]
[null,null,null,null,null,null,"AC00047","[AVP] Smith Institute","AC00047-[AVP] Smith Institute","Activity","FD01","Active","2025-03-17T16:11:50.579797+00:00",null,"RC4311","Investment Gains/Losses","RC4311-Investment Gains/Losses","Revenue Category","Active",null,null,"00320","Architectural Fees","00320-Architectural Fees",null,null,null,"AS006093507","Heather Sturman (006093507) Humanities - Linguistics","AS006093507-Heather Sturman (006093507) Humanities - Linguistics","Active",null,null,null,null,null,null,"1490","Clearing-Prepaid and Other","1490-Clearing-Prepaid and Other","Asset",null,"","1651||1651","1651","Construction in Progress (Non-Workday Projects)","Primary","All",null,1490,"Clearing-Prepaid and Other","1490-Clearing-Prepaid and Other","Asset"]
[null,null,null,null,null,null,"AC00048","[AVP] Faculty Women's Association","AC00048-[AVP] Faculty Women's Association","Activity","FD02","Active","2025-03-17T16:11:50.579797+00:00",null,"RC4312","Investment Income Assets Held for Liquidation","RC4312-Investment Income Assets Held for Liquidation","Revenue Category","Active",null,null,"00330","Capital Equipment","00330-Capital Equipment",null,null,null,"AS006206342","Bart Olsen (006206342) MSB - Public Service & Ethics","AS006206342-Bart Olsen (006206342) MSB - Public Service & Ethics","Active",null,null,null,null,null,null,"1500","Securities Held/Liquidation","1500-Securities Held/Liquidation","Asset",null,"","2000||2000","2000","Accounts Payable","Primary","JE_Override",null,1500,"Securities Held/Liquidation","1500-Securities Held/Liquidation","Asset"]
[null,null,null,null,null,null,"AC00049","[AVP] CID-ERG","AC00049-[AVP] CID-ERG","Activity","FD02","Active","2025-03-17T16:11:50.579797+00:00",null,"RC4313","Unrealized Investment Gains/Losses","RC4313-Unrealized Investment Gains/Losses","Revenue Category","Active",null,null,"00350","Repairs and Maintenance","00350-Repairs and Maintenance",null,null,null,"AS006465846","Beth Verbanatz (006465846) CMS - Mathematics Education","AS006465846-Beth Verbanatz (006465846) CMS - Mathematics Education","Active",null,null,null,null,null,null,"1510","Real Estate Held/Liquidation","1510-Real Estate Held/Liquidation","Asset",null,"","2025||2025","2025","Payroll Net Pay Clearing","Primary","JE_Payroll|JE_Override",null,1510,"Real Estate Held/Liquidation","1510-Real Estate Held/Liquidation","Asset"]
[null,null,null,null,null,null,"AC00050","[AVP] College Initatives/Univ Object","AC00050-[AVP] College Initatives/Univ Object","Activity","FD03","Active","2025-03-17T16:11:50.579797+00:00",null,"RC4401","Sale of Services","RC4401-Sale of Services","Revenue Category","Active",null,null,"00360","Media Services","00360-Media Services",null,null,null,"AS006852006","Kerry Muhlestein (006852006) Religious Education - Ancient Scripture","AS006852006-Kerry Muhlestein (006852006) Religious Education - Ancient Scripture","Active",null,null,null,null,null,null,"1520","Other Assets Held/Liquidation","1520-Other Assets Held/Liquidation","Asset",null,"","2090||2090","2090","Clearing-Accounts Payable","Primary","All",null,1520,"Other Assets Held/Liquidation","1520-Other Assets Held/Liquidation","Asset"]
[null,null,null,null,null,null,"AC00051","[AVP] AVP Internships/SALT","AC00051-[AVP] AVP Internships/SALT","Activity","FD03","Active","2025-03-17T16:11:50.579797+00:00",null,"RC4402","Sale of Services-Campus Appropriation","RC4402-Sale of Services-Campus Appropriation","Revenue Category","Active",null,null,"00390","Administrative Costs","00390-Administrative Costs",null,null,null,"AS007183379","Kelly Summers (007183379) FHSS - History","AS007183379-Kelly Summers (007183379) FHSS - History","Active",null,null,null,null,null,null,"1590","Clearing-Assets Held/Liquidation","1590-Clearing-Assets Held/Liquidation","Asset",null,"","2200||2200","2200","Accrued Liabilities","Primary","All",null,1590,"Clearing-Assets Held/Liquidation","1590-Clearing-Assets Held/Liquidation","Asset"]
[null,null,null,null,null,null,"AC00052","[AVP] Semester Away","AC00052-[AVP] Semester Away","Activity","FD03","Active","2025-03-17T16:11:50.579797+00:00",null,"RC4403","Sale of Services-Campus Other","RC4403-Sale of Services-Campus Other","Revenue Category","Active",null,null,"00391","Retainage Interest","00391-Retainage Interest",null,null,null,"AS007243247","Deren Hansen (007243247) OIT Portfolio - Campus & Student Life","AS007243247-Deren Hansen (007243247) OIT Portfolio - Campus & Student Life","Active",null,null,null,null,null,null,"1599","Assets Held/Liquidation Reserve","1599-Assets Held/Liquidation Reserve","Asset",null,"","2210||2210","2210","Accrued Payroll-Biweekly","Primary","All",null,1599,"Assets Held/Liquidation Reserve","1599-Assets Held/Liquidation Reserve","Asset"]
[null,null,null,null,null,null,"AC00053","[AVP] Meg/Orca Grants Fund","AC00053-[AVP] Meg/Orca Grants Fund","Activity","FD03","Active","2025-03-17T16:11:50.579797+00:00",null,"RC4404","Sale of Services-Taxable","RC4404-Sale of Services-Taxable","Revenue Category","Active",null,null,"00473","Payout Income to Principal","00473-Payout Income to Principal",null,null,null,"AS007399155","Scott Weber (007399155) AVP - Dean, Life Sciences","AS007399155-Scott Weber (007399155) AVP - Dean, Life Sciences","Active",null,null,null,null,null,null,"1600","Land","1600-Land","Asset",null,"","2215||2215","2215","Accrued Payroll-Faculty","Primary","All",null,1600,"Land","1600-Land","Asset"]
[null,null,null,null,null,null,"AC00054","[AVP] University Support Funds (USF)","AC00054-[AVP] University Support Funds (USF)","Activity","FD03","Active","2025-03-17T16:11:50.579797+00:00",null,"RC4405","Sale of Services-Refunds","RC4405-Sale of Services-Refunds","Revenue Category","Active",null,null,"00501","Sales Tax-Misc","00501-Sales Tax-Misc",null,null,null,"AS007456124","Riley Nelson (007456124) Life Sciences - Biology","AS007456124-Riley Nelson (007456124) Life Sciences - Biology","Active",null,null,null,null,null,null,"1605","Buildings","1605-Buildings","Asset",null,"","2220||2220","2220","Accrued Payroll Benefits","Primary","All",null,1605,"Buildings","1605-Buildings","Asset"]
[null,null,null,null,null,null,"AC00055","[AVP] Mentoring Grants Donations","AC00055-[AVP] Mentoring Grants Donations","Activity","FD03","Active","2025-03-17T16:11:50.579797+00:00",null,"RC4406","Sponsorship Revenue","RC4406-Sponsorship Revenue","Revenue Category","Active",null,null,"00541","Accumulated Earnings","00541-Accumulated Earnings",null,null,null,"AS007521659","David Pendlebury (007521659) Wilkinson Center","AS007521659-David Pendlebury (007521659) Wilkinson Center","Active",null,null,null,null,null,null,"1610","Building Improvements","1610-Building Improvements","Asset",null,"","2230||2230","2230","Accrued Vacation","Primary","All",null,1610,"Building Improvements","1610-Building Improvements","Asset"]
[null,null,null,null,null,null,"AC00057","[AVP] General Endowment AVP","AC00057-[AVP] General Endowment AVP","Activity","FD03","Active","2025-03-17T16:11:50.579797+00:00",null,"RC4407","Publishing Revenue","RC4407-Publishing Revenue","Revenue Category","Active",null,null,"00543","Accum Transfers","00543-Accum Transfers",null,null,null,"AS007590304","Angela Baxter (007590304) Academic Advisement Center","AS007590304-Angela Baxter (007590304) Academic Advisement Center","Active",null,null,null,null,null,null,"1615","Other Improvements","1615-Other Improvements","Asset",null,"","2491||2491","2491","Inter-Company Receivable/Payable","Primary","JE_Override",null,1615,"Other Improvements","1615-Other Improvements","Asset"]
[null,null,null,null,null,null,"AC00058","[AVP] College Initatives/Univ Object","AC00058-[AVP] College Initatives/Univ Object","Activity","FD03","Active","2025-03-17T16:11:50.579797+00:00",null,"RC4408","Digital Download Revenue","RC4408-Digital Download Revenue","Revenue Category","Active",null,null,"00700","Student Fee Distribution","00700-Student Fee Distribution",null,null,null,"AS007630468","Margaret McCabe (007630468) FHSS - Sociology","AS007630468-Margaret McCabe (007630468) FHSS - Sociology","Active",null,null,null,null,null,null,"1620","Furnishings and Fixtures","1620-Furnishings and Fixtures","Asset",null,"","2492||2492","2492","Inter-Worktag Receivable/Payable","Primary","JE_Override",null,1620,"Furnishings and Fixtures","1620-Furnishings and Fixtures","Asset"]
[null,null,null,null,null,null,"AC00059","[AVP] Mentored Learning","AC00059-[AVP] Mentored Learning","Activity","FD03","Active","2025-03-17T16:11:50.579797+00:00",null,"RC4409","Digital Streaming Revenue","RC4409-Digital Streaming Revenue","Revenue Category","Active",null,null,"00701","Evening School","00701-Evening School",null,null,null,"AS007713057","Chao Pang (007713057) CMS - Chemistry and Biochemistry","AS007713057-Chao Pang (007713057) CMS - Chemistry and Biochemistry","Active",null,null,null,null,null,null,"1625","Capital Equipment","1625-Capital Equipment","Asset",null,"","2550||2550","2550","Lease Liability","Primary","All",null,1625,"Capital Equipment","1625-Capital Equipment","Asset"]
[null,null,null,null,null,null,"AC00060","[AVP] Experiential Learning","AC00060-[AVP] Experiential Learning","Activity","FD03","Active","2025-03-17T16:11:50.579797+00:00",null,"RC4499","Sale of Services (reclass)","RC4499-Sale of Services (reclass)","Revenue Category","Active",null,null,"00702","Salt Lake Center","00702-Salt Lake Center",null,null,null,"AS007713662","Amy Bernards (007713662) CE SLC - Administration","AS007713662-Amy Bernards (007713662) CE SLC - Administration","Active",null,null,null,null,null,null,"1630","Vehicles","1630-Vehicles","Asset",null,"","2600||2600","2600","Deferred Revenue","Primary","All",null,1630,"Vehicles","1630-Vehicles","Asset"]
[null,null,null,null,null,null,"AC00061","[AVP] Insp Learn Spec Proj","AC00061-[AVP] Insp Learn Spec Proj","Activity","FD03","Active","2025-03-17T16:11:50.579797+00:00",null,"RC4501","Sale of Goods","RC4501-Sale of Goods","Revenue Category","Active",null,null,"00706","International Studies Program","00706-International Studies Program",null,null,null,"AS008098758","Mark Longhurst (008098758) OIT Portfolio - CES Network Center (CNC)","AS008098758-Mark Longhurst (008098758) OIT Portfolio - CES Network Center (CNC)","Active",null,null,null,null,null,null,"1632","Library Content","1632-Library Content","Asset",null,"","2700||2700","2700","Retire Postretire Benefit Obligation","Primary","All",null,1632,"Library Content","1632-Library Content","Asset"]
[null,null,null,null,null,null,"AC00062","[AVP] External Review","AC00062-[AVP] External Review","Activity","FD03","Active","2025-03-17T16:11:50.579797+00:00",null,"RC4502","Sale of Goods-Taxable","RC4502-Sale of Goods-Taxable","Revenue Category","Active",null,null,"00710","Wooley Allocations","00710-Wooley Allocations",null,null,null,"AS008585696","Nate Walton (008585696) OIT Portfolio - Teaching, Learning, & Research / Dev Tools","AS008585696-Nate Walton (008585696) OIT Portfolio - Teaching, Learning, & Research / Dev Tools","Active",null,null,null,null,null,null,"1635","Misc Capital Assets","1635-Misc Capital Assets","Asset",null,"","2710||2710","2710","Deferred Tax Liability","Primary","All",null,1635,"Misc Capital Assets","1635-Misc Capital Assets","Asset"]
[null,null,null,null,null,null,"AC00063","[AVP] Award Stipends","AC00063-[AVP] Award Stipends","Activity","FD03","Active","2025-03-17T16:11:50.579797+00:00",null,"RC4503","Sale of Goods-Discount/Returns","RC4503-Sale of Goods-Discount/Returns","Revenue Category","Active",null,null,"00713","Jerusalem Center","00713-Jerusalem Center",null,null,null,"AS008743277","Abigail Nelson (008743277) HS General Medicine - Nursing","AS008743277-Abigail Nelson (008743277) HS General Medicine - Nursing","Active",null,null,null,null,null,null,"1637","Software","1637-Software","Asset",null,"","3400||3400","3400","Net Assets (prior year)","Primary","JE_Override",null,1637,"Software","1637-Software","Asset"]
[null,null,null,null,null,null,"AC00064","[AVP] In-Service Training","AC00064-[AVP] In-Service Training","Activity","FD03","Active","2025-03-17T16:11:50.579797+00:00",null,"RC4504","Sales - Online and Out of State","RC4504-Sales - Online and Out of State","Revenue Category","Active",null,null,"00750","Administrative Vacation Accrua","00750-Administrative Vacation Accrua",null,null,null,"AS008978398","Patricia Ware (008978398) Admissions Office","AS008978398-Patricia Ware (008978398) Admissions Office","Active",null,null,null,null,null,null,"1638","Media","1638-Media","Asset",null,"","3500||3500","3500","Net Assets","Primary","JE_Override",null,1638,"Media","1638-Media","Asset"]
[null,null,null,null,null,null,"AC00065","[AVP] Maxwell Institute","AC00065-[AVP] Maxwell Institute","Activity","FD01","Active","2025-03-17T16:11:50.579797+00:00",null,"RC4505","Ticket Sales","RC4505-Ticket Sales","Revenue Category","Active",null,null,"00754","Staff Vacation Accrual","00754-Staff Vacation Accrual",null,null,null,"AS008989282","Zhiping Zhang (008989282) CMS - Chemistry and Biochemistry","AS008989282-Zhiping Zhang (008989282) CMS - Chemistry and Biochemistry","Active",null,null,null,null,null,null,"1650","Construction in Progress","1650-Construction in Progress","Asset",null,"","3600||3600","3600","Net Assets-Reserve","Primary","All",null,1650,"Construction in Progress","1650-Construction in Progress","Asset"]
[null,null,null,null,null,null,"AC00066","[AVP] Maxwell Institute","AC00066-[AVP] Maxwell Institute","Activity","FD02","Active","2025-03-17T16:11:50.579797+00:00",null,"RC4506","Ticket Sales-Taxable","RC4506-Ticket Sales-Taxable","Revenue Category","Active",null,null,"0075E","Executive Vacation Accrual","0075E-Executive Vacation Accrual",null,null,null,"AS009052786","James Woods (009052786) Athletics - Football","AS009052786-James Woods (009052786) Athletics - Football","Active",null,null,null,null,null,null,"1651","Construction In Progress (Non-Workday Projects)","1651-Construction In Progress (Non-Workday Projects)","Asset",null,"","3609||3609","3609","Net Assets (Reserve Offset)","Primary","All",null,1651,"Construction In Progress (Non-Workday Projects)","1651-Construction In Progress (Non-Workday Projects)","Asset"]
[null,null,null,null,null,null,"AC00067","[AVP] Vatican Manuscripts","AC00067-[AVP] Vatican Manuscripts","Activity","FD03","Active","2025-03-17T16:11:50.579797+00:00",null,"RC4507","Ticket Sales-Refunds","RC4507-Ticket Sales-Refunds","Revenue Category","Active",null,null,"00812","Heritage Housing Phase I Note","00812-Heritage Housing Phase I Note",null,null,null,"AS009074247","Previn Menon (009074247) Mechanical Engineering","AS009074247-Previn Menon (009074247) Mechanical Engineering","Active",null,null,null,null,null,null,"1700","Accumulated Depreciation","1700-Accumulated Depreciation","Asset",null,"","3670||3670","3670","Retirement Beneifts Adjustment","Primary","JE_Override",null,1700,"Accumulated Depreciation","1700-Accumulated Depreciation","Asset"]
[null,null,null,null,null,null,"AC00069","[AVP] Maxwell Experiential Learning","AC00069-[AVP] Maxwell Experiential Learning","Activity","FD03","Active","2025-03-17T16:11:50.579797+00:00",null,"RC4599","Sale of Goods (reclass)","RC4599-Sale of Goods (reclass)","Revenue Category","Active",null,null,"00813","Heritage Housing Phase II Note","00813-Heritage Housing Phase II Note",null,null,null,"AS009167987","John Hilton (009167987) Religious Education - Ancient Scripture","AS009167987-John Hilton (009167987) Religious Education - Ancient Scripture","Active",null,null,null,null,null,null,"2000","Accounts Payable","2000-Accounts Payable","Liability",null,"","3680||3680","3680","Cumulative Translation Adjustment","Primary","JE_Override",null,2000,"Accounts Payable","2000-Accounts Payable","Liability"]
[null,null,null,null,null,null,"AC00070","[AVP] Ancient Studies","AC00070-[AVP] Ancient Studies","Activity","FD01","Active","2025-03-17T16:11:50.579797+00:00",null,"RC4701","Non-Investment-Dividend Income","RC4701-Non-Investment-Dividend Income","Revenue Category","Active",null,null,"00814","Heritage Housing Phas III Note","00814-Heritage Housing Phas III Note",null,null,null,"AS009194176","Sydney Rodriguez (009194176) Student Wellness","AS009194176-Sydney Rodriguez (009194176) Student Wellness","Active",null,null,null,null,null,null,"2010","Procurement Card Payable","2010-Procurement Card Payable","Liability",null,"","3690||3690","3690","Net Assets (Proj Conv P&L)","Primary","JE_Override",null,2010,"Procurement Card Payable","2010-Procurement Card Payable","Liability"]
[null,null,null,null,null,null,"AC00071","[AVP] BYU STUDIES","AC00071-[AVP] BYU STUDIES","Activity","FD02","Active","2025-03-17T16:11:50.579797+00:00",null,"RC4702","Non-Investment-Interest Income","RC4702-Non-Investment-Interest Income","Revenue Category","Active",null,null,"00815","Heritage Housing Phas IV Note","00815-Heritage Housing Phas IV Note",null,null,null,"AS009495064","Monte Marshall (009495064) AVP - Dean, Computational, Math,& Physical (CMS)","AS009495064-Monte Marshall (009495064) AVP - Dean, Computational, Math,& Physical (CMS)","Active",null,null,null,null,null,null,"2020","Other and Retainages Payable","2020-Other and Retainages Payable","Liability",null,"","4780||4780","4780","Inter-Company Contribution Revenue","Primary","All",null,2020,"Other and Retainages Payable","2020-Other and Retainages Payable","Liability"]
[null,null,null,null,null,null,"AC00072","[AVP] College Support Funds (CSF)","AC00072-[AVP] College Support Funds (CSF)","Activity","FD01","Active","2025-03-17T16:11:50.579797+00:00",null,"RC4703","Non-Investment-Gains/Losses","RC4703-Non-Investment-Gains/Losses","Revenue Category","Active",null,null,"00816","Heritage Housing Phas V Note","00816-Heritage Housing Phas V Note",null,null,null,"AS009633151","Marden Clark (009633151) Benefits, Human Resources Operations","AS009633151-Marden Clark (009633151) Benefits, Human Resources Operations","Active",null,null,null,null,null,null,"2025","Payroll Net Pay Clearing","2025-Payroll Net Pay Clearing","Liability",null,"","9250||9250","9250","Funds Transfer","Primary","All",null,2025,"Payroll Net Pay Clearing","2025-Payroll Net Pay Clearing","Liability"]
[null,null,null,null,null,null,"AC00073","[AVP] WRI Grants","AC00073-[AVP] WRI Grants","Activity","FD01","Active","2025-03-17T16:11:50.579797+00:00",null,"RC4704","Rental Income","RC4704-Rental Income","Revenue Category","Active",null,null,"00902","Amanda Rees","00902-Amanda Rees",null,null,null,"AS009674234","Richard Williams (009674234) FHSS - Psychology","AS009674234-Richard Williams (009674234) FHSS - Psychology","Active",null,null,null,null,null,null,"2030","Other Payroll Deducts Payable","2030-Other Payroll Deducts Payable","Liability",null,"","9780||9780","9780","Inter-Company Donation Expense","Primary","All",null,2030,"Other Payroll Deducts Payable","2030-Other Payroll Deducts Payable","Liability"]
[null,null,null,null,null,null,"AC00074","[AVP] AAVP Research Fixed-Prc Rsdls","AC00074-[AVP] AAVP Research Fixed-Prc Rsdls","Activity","FD03","Active","2025-03-17T16:11:50.579797+00:00",null,"RC4705","Agency Deposits","RC4705-Agency Deposits","Revenue Category","Active",null,null,"00909","Jenny Wheeler","00909-Jenny Wheeler",null,null,null,"AS009694795","Caroline Thorne (009694795) MSB - Information Systems","AS009694795-Caroline Thorne (009694795) MSB - Information Systems","Active",null,null,null,null,null,null,"2090","Clearing-Accounts Payable","2090-Clearing-Accounts Payable","Liability",null,"","9981||9981","9981","Next Year Estimated Payout","Primary","JE_Gift|JE_Override",null,2090,"Clearing-Accounts Payable","2090-Clearing-Accounts Payable","Liability"]
[null,null,null,null,null,null,"AC00075","[AVP] Waived Indirect Cost","AC00075-[AVP] Waived Indirect Cost","Activity","FD01","Active","2025-03-17T16:11:50.579797+00:00",null,"RC4706","Club Association Dues and Fees","RC4706-Club Association Dues and Fees","Revenue Category","Active",null,null,"00910","Janalee Davis","00910-Janalee Davis",null,null,null,"AS009829922","Scott Hart (009829922) Alumni Aspen Grove","AS009829922-Scott Hart (009829922) Alumni Aspen Grove","Active",null,null,null,null,null,null,"2100","FICA Payable","2100-FICA Payable","Liability",null,"","9990||9990","9990","SFAS 158 Annual Pension Adj","Primary","All",null,2100,"FICA Payable","2100-FICA Payable","Liability"]
[null,null,null,null,null,null,"AC00076","[AVP] Microscopy Lab","AC00076-[AVP] Microscopy Lab","Activity","FD02","Active","2025-03-17T16:11:50.579797+00:00",null,"RC4707","Royalty Income","RC4707-Royalty Income","Revenue Category","Active",null,null,"00914","Ben Fales","00914-Ben Fales",null,null,null,"AS009898189","Tanya Harmon (009898189) Business Career Center","AS009898189-Tanya Harmon (009898189) Business Career Center","Active",null,null,null,null,null,null,"2105","Federal Withholding Payable","2105-Federal Withholding Payable","Liability",null,"BK1001","BK1001||1000","1000","Cash USD","Primary","JE_Override",null,2105,"Federal Withholding Payable","2105-Federal Withholding Payable","Liability"]
[null,null,null,null,null,null,"AC00077","[AVP] Graduate Studies","AC00077-[AVP] Graduate Studies","Activity","FD01","Active","2025-03-17T16:11:50.579797+00:00",null,"RC4708","Distributed Royalty Income","RC4708-Distributed Royalty Income","Revenue Category","Active",null,null,"00916","Annalaura Solomon","00916-Annalaura Solomon",null,null,null,"AS009973870","Hannah Hurd (009973870) Fine Arts & Communications - Dance","AS009973870-Hannah Hurd (009973870) Fine Arts & Communications - Dance","Active",null,null,null,null,null,null,"2110","State Payroll Taxes Payable","2110-State Payroll Taxes Payable","Liability",null,"BK1002","BK1002||1000","1000","Cash USD","Primary","JE_Override",null,2110,"State Payroll Taxes Payable","2110-State Payroll Taxes Payable","Liability"]
[null,null,null,null,null,null,"AC00078","[AVP] Graduate Studies Dean","AC00078-[AVP] Graduate Studies Dean","Activity","FD01","Active","2025-03-17T16:11:50.579797+00:00",null,"RC4709","Over/Short","RC4709-Over/Short","Revenue Category","Active",null,null,"00918","Karren Williamson","00918-Karren Williamson",null,null,null,"AS010112196","Jenny Tooke (010112196) AVP Human Resources Office","AS010112196-Jenny Tooke (010112196) AVP Human Resources Office","Active",null,null,null,null,null,null,"2130","Sales Tax Payable - Utah","2130-Sales Tax Payable - Utah","Liability",null,"BK1003","BK1003||1000","1000","Cash USD","Primary","JE_Override",null,2130,"Sales Tax Payable - Utah","2130-Sales Tax Payable - Utah","Liability"]
[null,null,null,null,null,null,"AC00079","[AVP] Graduate Student Society","AC00079-[AVP] Graduate Student Society","Activity","FD01","Active","2025-03-17T16:11:50.579797+00:00",null,"RC4710","Other Income","RC4710-Other Income","Revenue Category","Active",null,null,"00921","Heather Adams (Jeanine Bell)","00921-Heather Adams (Jeanine Bell)",null,null,null,"AS010177334","Laura Lee Gillespie (010177334) MSE - Counseling Psychology & Special Ed","AS010177334-Laura Lee Gillespie (010177334) MSE - Counseling Psychology & Special Ed","Active",null,null,null,null,null,null,"2132","Sales Tax Payable - Other States","2132-Sales Tax Payable - Other States","Liability",null,"BK1004","BK1004||1000","1000","Cash USD","Primary","JE_Override",null,2132,"Sales Tax Payable - Other States","2132-Sales Tax Payable - Other States","Liability"]
[null,null,null,null,null,null,"AC00080","[AVP] Annual Fund Scholarships","AC00080-[AVP] Annual Fund Scholarships","Activity","FD01","Active","2025-03-17T16:11:50.579797+00:00",null,"RC4711","Restricted Transfers (UFSonly)","RC4711-Restricted Transfers (UFSonly)","Revenue Category","Active",null,null,"00923","David Nelson","00923-David Nelson",null,null,null,"AS010491584","Noelani Porter (010491584) Student Life VP","AS010491584-Noelani Porter (010491584) Student Life VP","Active",null,null,null,null,null,null,"2140","Property Tax Payable","2140-Property Tax Payable","Liability",null,"BK1005","BK1005||1000","1000","Cash USD","Primary","JE_Override",null,2140,"Property Tax Payable","2140-Property Tax Payable","Liability"]
[null,null,null,null,null,null,"AC00081","[AVP] Graduate Financial Aids","AC00081-[AVP] Graduate Financial Aids","Activity","FD01","Active","2025-03-17T16:11:50.579797+00:00",null,"RC4712","Interest Alloc-Claim on Cash","RC4712-Interest Alloc-Claim on Cash","Revenue Category","Active",null,null,"00924","Allen Arnoldsen","00924-Allen Arnoldsen",null,null,null,"AS010616464","Rick Patterson (010616464) Business Career Center","AS010616464-Rick Patterson (010616464) Business Career Center","Active",null,null,null,null,null,null,"2150","UBIT Payable","2150-UBIT Payable","Liability",null,"BK1006","BK1006||1000","1000","Cash USD","Primary","JE_Override",null,2150,"UBIT Payable","2150-UBIT Payable","Liability"]
[null,null,null,null,null,null,"AC00082","[AVP] Dean's Research","AC00082-[AVP] Dean's Research","Activity","FD01","Active","2025-03-17T16:11:50.579797+00:00",null,"RC4713","Gain/Loss Sale of Asset","RC4713-Gain/Loss Sale of Asset","Revenue Category","Active",null,null,"00926","Ellen Hernandez","00926-Ellen Hernandez",null,null,null,"AS010634205","Megan Nielson (010634205) CMS - Chemistry and Biochemistry","AS010634205-Megan Nielson (010634205) CMS - Chemistry and Biochemistry","Active",null,null,null,null,null,null,"2160","Other Taxes Payable","2160-Other Taxes Payable","Liability",null,"BK1008","BK1008||1000","1000","Cash USD","Primary","JE_Override",null,2160,"Other Taxes Payable","2160-Other Taxes Payable","Liability"]
[null,null,null,null,null,null,"AC00083","[AVP] Annual Fund Scholarships","AC00083-[AVP] Annual Fund Scholarships","Activity","FD03","Active","2025-03-17T16:11:50.579797+00:00",null,"RC4714","Legal Fees Reimbursement","RC4714-Legal Fees Reimbursement","Revenue Category","Active",null,null,"00927","Katrina Bricker","00927-Katrina Bricker",null,null,null,"AS010648601","Bret Rowley (010648601) PF Electrical Shop","AS010648601-Bret Rowley (010648601) PF Electrical Shop","Active",null,null,null,null,null,null,"2200","Accrued Liabilities","2200-Accrued Liabilities","Liability",null,"BK1020","BK1020||1000","1000","Cash USD","Primary","JE_Override",null,2200,"Accrued Liabilities","2200-Accrued Liabilities","Liability"]
[null,null,null,null,null,null,"AC00084","[AVP] Graduate Tuition Scholarship","AC00084-[AVP] Graduate Tuition Scholarship","Activity","FD03","Active","2025-03-17T16:11:50.579797+00:00",null,"RC4715","Realized Currency Gain/Loss","RC4715-Realized Currency Gain/Loss","Revenue Category","Active",null,null,"00931","Greg Burton","00931-Greg Burton",null,null,null,"AS010703821","Alison Bawden (010703821) Deans Office BYU Marriott","AS010703821-Alison Bawden (010703821) Deans Office BYU Marriott","Active",null,null,null,null,null,null,"2210","Accrued Payroll-Biweekly","2210-Accrued Payroll-Biweekly","Liability",null,"BK1030","BK1030||1000","1000","Cash USD","Primary","JE_Override",null,2210,"Accrued Payroll-Biweekly","2210-Accrued Payroll-Biweekly","Liability"]
[null,null,null,null,null,null,"AC00085","[AVP] Graduate Studies Applications","AC00085-[AVP] Graduate Studies Applications","Activity","FD03","Active","2025-03-17T16:11:50.579797+00:00",null,"RC4716","Unrealized Currency Gain/Loss","RC4716-Unrealized Currency Gain/Loss","Revenue Category","Active",null,null,"00932","Joseph Hall","00932-Joseph Hall",null,null,null,"AS011324388","Lisa Argyle (011324388) FHSS - Political Science","AS011324388-Lisa Argyle (011324388) FHSS - Political Science","Active",null,null,null,null,null,null,"2215","Accrued Payroll-Faculty","2215-Accrued Payroll-Faculty","Liability",null,"BK1040","BK1040||1001","1001","Cash ILS","Primary","JE_Override",null,2215,"Accrued Payroll-Faculty","2215-Accrued Payroll-Faculty","Liability"]
[null,null,null,null,null,null,"AC00086","[AVP] Sunshine Fund - Grad Studies","AC00086-[AVP] Sunshine Fund - Grad Studies","Activity","FD07","Active","2025-03-17T16:11:50.579797+00:00",null,"RC4717","Credit Card Merchant Fee","RC4717-Credit Card Merchant Fee","Revenue Category","Active",null,null,"00933","Matthew Allen","00933-Matthew Allen",null,null,null,"AS011395899","Adam Cuppett (011395899) College of Engineering - Civil & Construction Engineering","AS011395899-Adam Cuppett (011395899) College of Engineering - Civil & Construction Engineering","Active",null,null,null,null,null,null,"2220","Accrued Payroll Benefits","2220-Accrued Payroll Benefits","Liability",null,"BK1041","BK1041||1000","1000","Cash USD","Primary","JE_Override",null,2220,"Accrued Payroll Benefits","2220-Accrued Payroll Benefits","Liability"]
[null,null,null,null,null,null,"AC00087","[AVP] Copyright Services","AC00087-[AVP] Copyright Services","Activity","FD02","Active","2025-03-17T16:11:50.579797+00:00",null,"RC4799","Other Income (reclass)","RC4799-Other Income (reclass)","Revenue Category","Active",null,null,"00935","Russell Hansen","00935-Russell Hansen",null,null,null,"AS011619868","Heather Erwin (011619868) Retail Services - Product Acquisition","AS011619868-Heather Erwin (011619868) Retail Services - Product Acquisition","Active",null,null,null,null,null,null,"2230","Accrued Vacation","2230-Accrued Vacation","Liability",null,"BK1042","BK1042||1001","1001","Cash ILS","Primary","JE_Override",null,2230,"Accrued Vacation","2230-Accrued Vacation","Liability"]
[null,null,null,null,null,null,"AC00088","[AVP] Copyright Services Sal Support","AC00088-[AVP] Copyright Services Sal Support","Activity","FD03","Active","2025-03-17T16:11:50.579797+00:00",null,"RC4800","Intra-Division Sales","RC4800-Intra-Division Sales","Revenue Category","Active",null,null,"00937","Michelle Hirsche","00937-Michelle Hirsche",null,null,null,"AS011820551","Deborah Hall (011820551) First-Year Experience (FYE) - Peer Mentoring","AS011820551-Deborah Hall (011820551) First-Year Experience (FYE) - Peer Mentoring","Active",null,null,null,null,null,null,"2300","Deposits Payable","2300-Deposits Payable","Liability",null,"BK1053","BK1053||1003","1003","Cash EUR","Primary","JE_Override",null,2300,"Deposits Payable","2300-Deposits Payable","Liability"]
[null,null,null,null,null,null,"AC00089","[AVP] Creative Works","AC00089-[AVP] Creative Works","Activity","FD03","Active","2025-03-17T16:11:50.579797+00:00",null,"RC4850","Intra-Division Purchases","RC4850-Intra-Division Purchases","Revenue Category","Active",null,null,"00940","Matt Imbler","00940-Matt Imbler",null,null,null,"AS011887947","Timothy Davis (011887947) Research & Learning - Humanities","AS011887947-Timothy Davis (011887947) Research & Learning - Humanities","Active",null,null,null,null,null,null,"2400","Annuities Payable","2400-Annuities Payable","Liability",null,"BK1054","BK1054||1003","1003","Cash EUR","Primary","JE_Override",null,2400,"Annuities Payable","2400-Annuities Payable","Liability"]
[null,null,null,null,null,null,"AC00090","[AVP] CW Catalog","AC00090-[AVP] CW Catalog","Activity","FD03","Active","2025-03-17T16:11:50.579797+00:00",null,"RC4890","Release Restrictions (UFSonly)","RC4890-Release Restrictions (UFSonly)","Revenue Category","Active",null,null,"00942","Jeff Wilks","00942-Jeff Wilks",null,null,null,"AS012082452","Camey Andersen (012082452) MSB - Management","AS012082452-Camey Andersen (012082452) MSB - Management","Active",null,null,null,null,null,null,"2491","Inter-Company Receivable/Payable","2491-Inter-Company Receivable/Payable","Liability",null,"BK1055","BK1055||1003","1003","Cash EUR","Primary","JE_Override",null,2491,"Inter-Company Receivable/Payable","2491-Inter-Company Receivable/Payable","Liability"]
[null,null,null,null,null,null,"AC00091","[AVP] BYU Store Catalog Sales","AC00091-[AVP] BYU Store Catalog Sales","Activity","FD03","Active","2025-03-17T16:11:50.579797+00:00",null,"RC4891","Endowment Payout Distribution","RC4891-Endowment Payout Distribution","Revenue Category","Active",null,null,"00943","Michael Searcy","00943-Michael Searcy",null,null,null,"AS012664224","Ben Harry (012664224) Research & Learning - Special Collections","AS012664224-Ben Harry (012664224) Research & Learning - Special Collections","Active",null,null,null,null,null,null,"2492","Inter-Worktag Receivable/Payable","2492-Inter-Worktag Receivable/Payable","Liability",null,"RC1210","RC1210||1210","1210","Off Campus Receivable","Primary","All",null,2492,"Inter-Worktag Receivable/Payable","2492-Inter-Worktag Receivable/Payable","Liability"]
[null,null,null,null,null,null,"AC00092","[AVP] CW Clearance","AC00092-[AVP] CW Clearance","Activity","FD03","Active","2025-03-17T16:11:50.579797+00:00",null,"RC4892","Endowment Payout Spendable Available","RC4892-Endowment Payout Spendable Available","Revenue Category","Active",null,null,"00945","Melanie von Bose","00945-Melanie von Bose",null,null,null,"AS012703001","Kenneth Bean (012703001) College of Engineering - Mechanical Engineering","AS012703001-Kenneth Bean (012703001) College of Engineering - Mechanical Engineering","Active",null,null,null,null,null,null,"2500","Notes Payable","2500-Notes Payable","Liability",null,"RC1230","RC1230||1230","1230","Church Receivable",null,"All",null,2500,"Notes Payable","2500-Notes Payable","Liability"]
[null,null,null,null,null,null,"AC00093","[AVP] Tech Transfer Operations","AC00093-[AVP] Tech Transfer Operations","Activity","FD03","Active","2025-03-17T16:11:50.579797+00:00",null,"RC4893","Reinvestment","RC4893-Reinvestment","Revenue Category","Active",null,null,"00950","Holly Madsen","00950-Holly Madsen",null,null,null,"AS012823792","Jason Stucki (012823792) CMS - Geological Sciences","AS012823792-Jason Stucki (012823792) CMS - Geological Sciences","Active",null,null,null,null,null,null,"2510","Notes Payable - Church","2510-Notes Payable - Church","Liability",null,"RC1290","RC1290||1290","1290","Clearing-Receivable","Primary","All",null,2510,"Notes Payable - Church","2510-Notes Payable - Church","Liability"]
[null,null,null,null,null,null,"AC00094","[AVP] Royalties-Administration","AC00094-[AVP] Royalties-Administration","Activity","FD03","Active","2025-03-17T16:11:50.579797+00:00",null,"RC4897","Investment Transfer In/Out (FS only)","RC4897-Investment Transfer In/Out (FS only)","Revenue Category","Active",null,null,"00959","Paul Stavast","00959-Paul Stavast",null,null,null,"AS013125210","Kevin Bauer (013125210) BYU Broadcasting - Digital Media","AS013125210-Kevin Bauer (013125210) BYU Broadcasting - Digital Media","Active",null,null,null,null,null,null,"2550","Lease Liability","2550-Lease Liability","Liability",null,"RC1298","RC1298||1299","1299","Account/Note Rec Reserve","Primary","All",null,2550,"Lease Liability","2550-Lease Liability","Liability"]
[null,null,null,null,null,null,"AC00095","[AVP] Technology Transfer","AC00095-[AVP] Technology Transfer","Activity","FD03","Active","2025-03-17T16:11:50.579797+00:00",null,"RC6403","Sponsored Program Income","RC6403-Sponsored Program Income","Revenue Category","Active",null,null,"00961","Cindy Brightenburg","00961-Cindy Brightenburg",null,null,null,"AS013153304","Brad Taylor (013153304) Academic Vice President","AS013153304-Brad Taylor (013153304) Academic Vice President","Active",null,null,null,null,null,null,"2600","Deferred Revenue","2600-Deferred Revenue","Liability",null,"RC2300","RC2300||2300","2300","Deposits Payable","Primary","All",null,2600,"Deferred Revenue","2600-Deferred Revenue","Liability"]
[null,null,null,null,null,null,"AC00096","[AVP] Centralized Animal Care","AC00096-[AVP] Centralized Animal Care","Activity","FD02","Active","2025-03-17T16:11:50.579797+00:00",null,"SC0101","Forward Balance (Budget Only)","SC0101-Forward Balance (Budget Only)","Spend Category","Active",null,null,"00966","Curtis Isaak","00966-Curtis Isaak",null,null,null,"AS013277357","Wendy Williamson (013277357) PF Building Operations","AS013277357-Wendy Williamson (013277357) PF Building Operations","Active",null,null,null,null,null,null,"2700","Retire Postretire Benefit Obligation","2700-Retire Postretire Benefit Obligation","Liability",null,"RC4001","RC4001||2600","2600","Deferred Revenue",null,"All",null,2700,"Retire Postretire Benefit Obligation","2700-Retire Postretire Benefit Obligation","Liability"]
[null,null,null,null,null,null,"AC00097","[ADM] Faculty Moving","AC00097-[ADM] Faculty Moving","Activity","FD01","Active","2025-03-17T16:11:50.579797+00:00",null,"SC0102","Annual Flexible Budget (Budget Only)","SC0102-Annual Flexible Budget (Budget Only)","Spend Category","Active",null,null,"00969","Arlene Cleverley","00969-Arlene Cleverley",null,null,null,"AS013404757","Bryan Howell (013404757) Fine Arts & Communications - Design","AS013404757-Bryan Howell (013404757) Fine Arts & Communications - Design","Active",null,null,null,null,null,null,"2710","Deferred Tax Liability","2710-Deferred Tax Liability","Liability",null,"RC4001","RC4001||4000","4000","Appropriations","Primary","All",null,2710,"Deferred Tax Liability","2710-Deferred Tax Liability","Liability"]
[null,null,null,null,null,null,"AC00098","[ADM] Faculty Recruitment","AC00098-[ADM] Faculty Recruitment","Activity","FD01","Active","2025-03-17T16:11:50.579797+00:00",null,"SC0103","Budget Unallocated (Budget Only)","SC0103-Budget Unallocated (Budget Only)","Spend Category","Active",null,null,"00974","Tammy Miner","00974-Tammy Miner",null,null,null,"AS013464292","Tony Grover (013464292) AVP - Dean, Clark Law School","AS013464292-Tony Grover (013464292) AVP - Dean, Clark Law School","Active",null,null,null,null,null,null,"3400","Net Assets (prior year)","3400-Net Assets (prior year)","Equity",null,"RC4002","RC4002||2600","2600","Deferred Revenue",null,"All",null,3400,"Net Assets (prior year)","3400-Net Assets (prior year)","Equity"]
[null,null,null,null,null,null,"AC00099","[AVP] Forums","AC00099-[AVP] Forums","Activity","FD01","Active","2025-03-17T16:11:50.579797+00:00",null,"SC0104","Research Carryover (Budget Only)","SC0104-Research Carryover (Budget Only)","Spend Category","Active",null,null,"00975","Cheri Koford","00975-Cheri Koford",null,null,null,"AS013542053","Isaac Smith (013542053) MSB - Management","AS013542053-Isaac Smith (013542053) MSB - Management","Active",null,null,null,null,null,null,"3500","Net Assets","3500-Net Assets","Equity",null,"RC4002","RC4002||4000","4000","Appropriations","Primary","All",null,3500,"Net Assets","3500-Net Assets","Equity"]
[null,null,null,null,null,null,"AC00100","[AVP] Advisor Prof Dev Committee","AC00100-[AVP] Advisor Prof Dev Committee","Activity","FD01","Active","2025-03-17T16:11:50.579797+00:00",null,"SC0610","Materials and Supplies (Budget Only)","SC0610-Materials and Supplies (Budget Only)","Spend Category","Active",null,null,"00979","Erin Rowan","00979-Erin Rowan",null,null,null,"AS013584809","Deena Hastings (013584809) Retail Services - Product Acquisition","AS013584809-Deena Hastings (013584809) Retail Services - Product Acquisition","Active",null,null,null,null,null,null,"3600","Net Assets-Reserve","3600-Net Assets-Reserve","Equity",null,"RC4101","RC4101||2600","2600","Deferred Revenue",null,"All",null,3600,"Net Assets-Reserve","3600-Net Assets-Reserve","Equity"]
[null,null,null,null,null,null,"AC00101","[AVP] Center for Teaching & Learning","AC00101-[AVP] Center for Teaching & Learning","Activity","FD02","Active","2025-03-17T16:11:50.579797+00:00",null,"SC0630","Student Aid (Budget Only)","SC0630-Student Aid (Budget Only)","Spend Category","Active",null,null,"00986","Rob Holcombe","00986-Rob Holcombe",null,null,null,"AS013664321","Taylor Morris (013664321) Performing Arts Management - Artist Management","AS013664321-Taylor Morris (013664321) Performing Arts Management - Artist Management","Active",null,null,null,null,null,null,"3609","Net Assets (Reserve Offset)","3609-Net Assets (Reserve Offset)","Equity",null,"RC4101","RC4101||4100","4100","Tuition and Fees","Primary","All",null,3609,"Net Assets (Reserve Offset)","3609-Net Assets (Reserve Offset)","Equity"]
[null,null,null,null,null,null,"AC00102","[AVP] Testing Services","AC00102-[AVP] Testing Services","Activity","FD01","Active","2025-03-27T02:04:07.663585+00:00",null,"SC0640","General and Administrative (Budget Only)","SC0640-General and Administrative (Budget Only)","Spend Category","Active",null,null,"00987","Jennefer Johnson","00987-Jennefer Johnson",null,null,null,"AS013758513","Megan Goodman (013758513) Purchasing and Travel - Continuing Education Operations","AS013758513-Megan Goodman (013758513) Purchasing and Travel - Continuing Education Operations","Active",null,null,null,null,null,null,"3670","Retirement Benefits Adjustment","3670-Retirement Benefits Adjustment","Equity",null,"RC4102","RC4102||2600","2600","Deferred Revenue",null,"All",null,3670,"Retirement Benefits Adjustment","3670-Retirement Benefits Adjustment","Equity"]
[null,null,null,null,null,null,"AC00103","[AVP] Exp Learning and Intern","AC00103-[AVP] Exp Learning and Intern","Activity","FD01","Active","2025-03-17T16:11:50.579797+00:00",null,"SC0670","Physical Facilities (Budget Only)","SC0670-Physical Facilities (Budget Only)","Spend Category","Active",null,null,"00989","Ben McKinnon","00989-Ben McKinnon",null,null,null,"AS013951239","Roger Dean (013951239) Retail Services - General Administration","AS013951239-Roger Dean (013951239) Retail Services - General Administration","Active",null,null,null,null,null,null,"3680","Cumulative Translation Adjustment","3680-Cumulative Translation Adjustment","Equity",null,"RC4102","RC4102||4100","4100","Tuition and Fees","Primary","All",null,3680,"Cumulative Translation Adjustment","3680-Cumulative Translation Adjustment","Equity"]
[null,null,null,null,null,null,"AC00104","[AVP] STEM Fair","AC00104-[AVP] STEM Fair","Activity","FD02","Active","2025-03-17T16:11:50.579797+00:00",null,"SC0691","Equipment (Budget Only)","SC0691-Equipment (Budget Only)","Spend Category","Active",null,null,"00990","Jessica Roberts","00990-Jessica Roberts",null,null,null,"AS013974932","Tevita Hola (013974932) Honor Code Office","AS013974932-Tevita Hola (013974932) Honor Code Office","Active",null,null,null,null,null,null,"3690","Net Assets (Proj Conv P&L)","3690-Net Assets (Proj Conv P&L)","Equity",null,"RC4103","RC4103||2600","2600","Deferred Revenue",null,"All",null,3690,"Net Assets (Proj Conv P&L)","3690-Net Assets (Proj Conv P&L)","Equity"]
[null,null,null,null,null,null,"AC00105","[AVP] Career Fair","AC00105-[AVP] Career Fair","Activity","FD02","Active","2025-03-17T16:11:50.579797+00:00",null,"SC0692","Converted Equipment (Budget Only)","SC0692-Converted Equipment (Budget Only)","Spend Category","Active",null,null,"00992","Becky Lueck/SL Center","00992-Becky Lueck/SL Center",null,null,null,"AS013983916","Ray Bernier (013983916) Asst Adm VP Physical Facil","AS013983916-Ray Bernier (013983916) Asst Adm VP Physical Facil","Active",null,null,null,null,null,null,"4000","Appropriations","4000-Appropriations","Income",null,"RC4103","RC4103||4100","4100","Tuition and Fees","Primary","All",null,4000,"Appropriations","4000-Appropriations","Income"]
[null,null,null,null,null,null,"AC00106","[AVP] Career  Programs","AC00106-[AVP] Career  Programs","Activity","FD03","Active","2025-03-17T16:11:50.579797+00:00",null,"SC0693","Equipment Maintenance (Budget Only)","SC0693-Equipment Maintenance (Budget Only)","Spend Category","Active",null,null,"00ESA","Economic Student Association","00ESA-Economic Student Association",null,null,null,"AS014079663","Keri Elmer (014079663) Life Sciences - Microbiology & Molecular Biology","AS014079663-Keri Elmer (014079663) Life Sciences - Microbiology & Molecular Biology","Active",null,null,null,null,null,null,"4100","Tuition and Fees","4100-Tuition and Fees","Income",null,"RC4104","RC4104||2600","2600","Deferred Revenue",null,"All",null,4100,"Tuition and Fees","4100-Tuition and Fees","Income"]
[null,null,null,null,null,null,"AC00107","[AVP] Alcuin Awards","AC00107-[AVP] Alcuin Awards","Activity","FD01","Active","2025-03-17T16:11:50.579797+00:00",null,"SC0694","Software (Budget Only)","SC0694-Software (Budget Only)","Spend Category","Active",null,null,"00GAS","Gas Cylinders","00GAS-Gas Cylinders",null,null,null,"AS014451246","Tim Smith (014451246) Athletics - Sports Camps","AS014451246-Tim Smith (014451246) Athletics - Sports Camps","Active",null,null,null,null,null,null,"4198","Tuition and Fees (Contra)","4198-Tuition and Fees (Contra)","Income",null,"RC4104","RC4104||4100","4100","Tuition and Fees","Primary","All",null,4198,"Tuition and Fees (Contra)","4198-Tuition and Fees (Contra)","Income"]
[null,null,null,null,null,null,"AC00108","[AVP] Natl Scholar Fellow & Progs","AC00108-[AVP] Natl Scholar Fellow & Progs","Activity","FD01","Active","2025-03-17T16:11:50.579797+00:00",null,"SC0695","Converted Software (Budget Only)","SC0695-Converted Software (Budget Only)","Spend Category","Active",null,null,"00I20","I-20 International Students","00I20-I-20 International Students",null,null,null,"AS014567267","Darcy Christensen (014567267) Retail Services - Product Acquisition","AS014567267-Darcy Christensen (014567267) Retail Services - Product Acquisition","Active",null,null,null,null,null,null,"4200","Gifts and Grants","4200-Gifts and Grants","Income",null,"RC4110","RC4110||2600","2600","Deferred Revenue",null,"All",null,4200,"Gifts and Grants","4200-Gifts and Grants","Income"]
[null,null,null,null,null,null,"AC00109","[AVP] UE Communications","AC00109-[AVP] UE Communications","Activity","FD01","Active","2025-03-17T16:11:50.579797+00:00",null,"SC0696","Library Content (Budget Only)","SC0696-Library Content (Budget Only)","Spend Category","Active",null,null,"01001","Vending Room","01001-Vending Room",null,null,null,"AS014746000","David Morgan (014746000) Fine Arts & Communications - Design","AS014746000-David Morgan (014746000) Fine Arts & Communications - Design","Active",null,null,null,null,null,null,"4300","Investment Income","4300-Investment Income","Income",null,"RC4110","RC4110||4100","4100","Tuition and Fees","Primary","All",null,4300,"Investment Income","4300-Investment Income","Income"]
[null,null,null,null,null,null,"AC00110","[AVP] PES Phi Eta Sigma","AC00110-[AVP] PES Phi Eta Sigma","Activity","FD02","Active","2025-03-17T16:11:50.579797+00:00",null,"SC0697","Converted Library Content (Budget Only)","SC0697-Converted Library Content (Budget Only)","Spend Category","Active",null,null,"01003","Vending Machines","01003-Vending Machines",null,null,null,"AS014888494","Amy Roper (014888494) Humanities - English","AS014888494-Amy Roper (014888494) Humanities - English","Active",null,null,null,null,null,null,"4310","Investment Gains and Losses","4310-Investment Gains and Losses","Income",null,"RC4111","RC4111||2600","2600","Deferred Revenue",null,"All",null,4310,"Investment Gains and Losses","4310-Investment Gains and Losses","Income"]
[null,null,null,null,null,null,"AC00111","[AVP] Phi Kappa Phi","AC00111-[AVP] Phi Kappa Phi","Activity","FD02","Active","2025-03-17T16:11:50.579797+00:00",null,"SC1055","Gift Cards","SC1055-Gift Cards","Spend Category","Active",null,null,"01004","Shannon Sanders","01004-Shannon Sanders",null,null,null,"AS014924130","Katie Gneiting (014924130) Computer Science","AS014924130-Katie Gneiting (014924130) Computer Science","Active",null,null,null,null,null,null,"4400","Sale of Services","4400-Sale of Services","Income",null,"RC4111","RC4111||4100","4100","Tuition and Fees","Primary","All",null,4400,"Sale of Services","4400-Sale of Services","Income"]
[null,null,null,null,null,null,"AC00112","[AVP] Golden Key Intl Honor Society","AC00112-[AVP] Golden Key Intl Honor Society","Activity","FD02","Active","2025-03-17T16:11:50.579797+00:00",null,"SC1218","Utah Sales Tax","SC1218-Utah Sales Tax","Spend Category","Active",null,null,"01005","Roma Hardy","01005-Roma Hardy",null,null,null,"AS014932898","Patty Jones (014932898) School of Music - Financial Support","AS014932898-Patty Jones (014932898) School of Music - Financial Support","Active",null,null,null,null,null,null,"4500","Sale of Goods","4500-Sale of Goods","Income",null,"RC4112","RC4112||2600","2600","Deferred Revenue",null,"All",null,4500,"Sale of Goods","4500-Sale of Goods","Income"]
[null,null,null,null,null,null,"AC00113","[AVP] Student/Faculty Mentoring","AC00113-[AVP] Student/Faculty Mentoring","Activity","FD03","Active","2025-03-17T16:11:50.579797+00:00",null,"SC1290","MFC Refunds","SC1290-MFC Refunds","Spend Category","Active",null,null,"01016","Daniel Niu","01016-Daniel Niu",null,null,null,"AS014999341","Darren Hawkins (014999341) FHSS - Political Science","AS014999341-Darren Hawkins (014999341) FHSS - Political Science","Active",null,null,null,null,null,null,"4700","Other Income","4700-Other Income","Income",null,"RC4112","RC4112||4100","4100","Tuition and Fees","Primary","All",null,4700,"Other Income","4700-Other Income","Income"]
[null,null,null,null,null,null,"AC00114","[AVP] First Year Experience","AC00114-[AVP] First Year Experience","Activity","FD01","Active","2025-04-09T02:03:42.464861+00:00",null,"SC1300","Inventory - Workday","SC1300-Inventory - Workday","Spend Category","Active",null,null,"01032","Jolene Johnson","01032-Jolene Johnson",null,null,null,"AS015095144","Jason Alleger (015095144) MSB - Marketing & Global Supply Chain","AS015095144-Jason Alleger (015095144) MSB - Marketing & Global Supply Chain","Active",null,null,null,null,null,null,"4780","Inter-Company Contribution Revenue","4780-Inter-Company Contribution Revenue","Income",null,"RC4113","RC4113||2600","2600","Deferred Revenue",null,"All",null,4780,"Inter-Company Contribution Revenue","4780-Inter-Company Contribution Revenue","Income"]
[null,null,null,null,null,null,"AC00115","[AVP] Freshman Year NSO","AC00115-[AVP] Freshman Year NSO","Activity","FD02","Active","2025-03-17T16:11:50.579797+00:00",null,"SC1310","Inventory - Campus Subsystems","SC1310-Inventory - Campus Subsystems","Spend Category","Active",null,null,"01055","Carrie Scoresby","01055-Carrie Scoresby",null,null,null,"AS015137540","Robyn Schwartz (015137540) Humanities - English","AS015137540-Robyn Schwartz (015137540) Humanities - English","Active",null,null,null,null,null,null,"4800","Intra-Division Sales","4800-Intra-Division Sales","Income",null,"RC4113","RC4113||4100","4100","Tuition and Fees","Primary","All",null,4800,"Intra-Division Sales","4800-Intra-Division Sales","Income"]
[null,null,null,null,null,null,"AC00116","[AVP] New Student Orientation - All","AC00116-[AVP] New Student Orientation - All","Activity","FD03","Active","2025-03-17T16:11:50.579797+00:00",null,"SC1390","Inventory - Clearing (Conversion Only)","SC1390-Inventory - Clearing (Conversion Only)","Spend Category","Active",null,null,"01058","Nick Hawkins","01058-Nick Hawkins",null,null,null,"AS015304960","Lorelie Sander (015304960) CE Large Programs","AS015304960-Lorelie Sander (015304960) CE Large Programs","Active",null,null,null,null,null,null,"4850","Intra-Division Purchases","4850-Intra-Division Purchases","Income",null,"RC4114","RC4114||2600","2600","Deferred Revenue",null,"All",null,4850,"Intra-Division Purchases","4850-Intra-Division Purchases","Income"]
[null,null,null,null,null,null,"AC00118","[AVP] General Education","AC00118-[AVP] General Education","Activity","FD01","Active","2025-03-17T16:11:50.579797+00:00",null,"SC1400","Prepaid Expenses","SC1400-Prepaid Expenses","Spend Category","Active",null,null,"01059","Mark Ormsby","01059-Mark Ormsby",null,null,null,"AS015995395","Tim Barlow (015995395) Concessions","AS015995395-Tim Barlow (015995395) Concessions","Active",null,null,null,null,null,null,"4890","Release of Restrictions","4890-Release of Restrictions","Income",null,"RC4114","RC4114||4100","4100","Tuition and Fees","Primary","All",null,4890,"Release of Restrictions","4890-Release of Restrictions","Income"]
[null,null,null,null,null,null,"AC00119","[AVP] Honors","AC00119-[AVP] Honors","Activity","FD01","Active","2025-03-17T16:11:50.579797+00:00",null,"SC1420","Other Assets","SC1420-Other Assets","Spend Category","Active",null,null,"01061","Mandi Johnson","01061-Mandi Johnson",null,null,null,"AS015996884","Jacob Gibb (015996884) Athletics - Creative Strategy - Graphic Design","AS015996884-Jacob Gibb (015996884) Athletics - Creative Strategy - Graphic Design","Active",null,null,null,null,null,null,"4900","Cost of Sales","4900-Cost of Sales","Expense",null,"RC4115","RC4115||2600","2600","Deferred Revenue",null,"All",null,4900,"Cost of Sales","4900-Cost of Sales","Expense"]
[null,null,null,null,null,null,"AC00120","[AVP] Honors Advisement","AC00120-[AVP] Honors Advisement","Activity","FD01","Active","2025-03-17T16:11:50.579797+00:00",null,"SC1490","Clearing-Prepaid and Other (Conversion Only)","SC1490-Clearing-Prepaid and Other (Conversion Only)","Spend Category","Active",null,null,"01076","Nieves Knapp","01076-Nieves Knapp",null,null,null,"AS016014282","Mary Chapman (016014282) Research & Learning - Humanities","AS016014282-Mary Chapman (016014282) Research & Learning - Humanities","Active",null,null,null,null,null,null,"5000","Salaries and Wages","5000-Salaries and Wages","Expense",null,"RC4115","RC4115||4100","4100","Tuition and Fees","Primary","All",null,5000,"Salaries and Wages","5000-Salaries and Wages","Expense"]
[null,null,null,null,null,null,"AC00121","[LIB] Library Departments","AC00121-[LIB] Library Departments","Activity","FD01","Active","2025-03-17T16:11:50.579797+00:00",null,"SC1600","Land","SC1600-Land","Spend Category","Active",null,null,"01089","Rick Miller","01089-Rick Miller",null,null,null,"AS016196969","Todd Weiler (016196969) Law School","AS016196969-Todd Weiler (016196969) Law School","Active",null,null,null,null,null,null,"5800","Project Labor Cost","5800-Project Labor Cost","Expense",null,"RC4116","RC4116||4100","4100","Tuition and Fees","Primary","All",null,5800,"Project Labor Cost","5800-Project Labor Cost","Expense"]
[null,null,null,null,null,null,"AC00122","[LIB] Business Office","AC00122-[LIB] Business Office","Activity","FD01","Active","2025-03-17T16:11:50.579797+00:00",null,"SC1605","Buildings","SC1605-Buildings","Spend Category","Active",null,null,"01102","Renata Forste","01102-Renata Forste",null,null,null,"AS016499569","Cecilia Peek (016499569) Kennedy International Center","AS016499569-Cecilia Peek (016499569) Kennedy International Center","Active",null,null,null,null,null,null,"5801","Project Labor Cost Recovery","5801-Project Labor Cost Recovery","Expense",null,"RC4117","RC4117||2600","2600","Deferred Revenue",null,"All",null,5801,"Project Labor Cost Recovery","5801-Project Labor Cost Recovery","Expense"]
[null,null,null,null,null,null,"AC00123","[LIB] LAO Secretaries/Events","AC00123-[LIB] LAO Secretaries/Events","Activity","FD01","Active","2025-03-17T16:11:50.579797+00:00",null,"SC1615","Other Improvements","SC1615-Other Improvements","Spend Category","Active",null,null,"01116","Judy Stoudt","01116-Judy Stoudt",null,null,null,"AS016528162","Craig Cozzens (016528162) PF Grounds - Site & Landscape Construction","AS016528162-Craig Cozzens (016528162) PF Grounds - Site & Landscape Construction","Active",null,null,null,null,null,null,"5900","Benefits","5900-Benefits","Expense",null,"RC4117","RC4117||4100","4100","Tuition and Fees","Primary","All",null,5900,"Benefits","5900-Benefits","Expense"]
[null,null,null,null,null,null,"AC00124","[LIB] Student Library Association","AC00124-[LIB] Student Library Association","Activity","FD02","Active","2025-03-17T16:11:50.579797+00:00",null,"SC1635","Misc Capital Assets","SC1635-Misc Capital Assets","Spend Category","Active",null,null,"01122","David A. Wood","01122-David A. Wood",null,null,null,"AS016720648","Lemikki Westlund (016720648) OIT Core - Finance","AS016720648-Lemikki Westlund (016720648) OIT Core - Finance","Active",null,null,null,null,null,null,"6100","Materials and Supplies","6100-Materials and Supplies","Expense",null,"RC4199","RC4199||2600","2600","Deferred Revenue",null,"All",null,6100,"Materials and Supplies","6100-Materials and Supplies","Expense"]
[null,null,null,null,null,null,"AC00125","[LIB] NDLTD","AC00125-[LIB] NDLTD","Activity","FD02","Active","2025-03-17T16:11:50.579797+00:00",null,"SC2010","Procurement Card Payable","SC2010-Procurement Card Payable","Spend Category","Active",null,null,"01124","Michael Larson","01124-Michael Larson",null,null,null,"AS017005018","Ryan Moffat (017005018) Life Sciences - Public Health","AS017005018-Ryan Moffat (017005018) Life Sciences - Public Health","Active",null,null,null,null,null,null,"6300","Student Aid","6300-Student Aid","Expense",null,"RC4199","RC4199||4100","4100","Tuition and Fees","Primary","All",null,6300,"Student Aid","6300-Student Aid","Expense"]
[null,null,null,null,null,null,"AC00126","[LIB] Library Royalties","AC00126-[LIB] Library Royalties","Activity","FD03","Active","2025-03-17T16:11:50.579797+00:00",null,"SC2011","Virtual Card Payable","SC2011-Virtual Card Payable","Spend Category","Active",null,null,"01128","Jennifer Johnson","01128-Jennifer Johnson",null,null,null,"AS017093289","Patti Freeman (017093289) MSB - Experience Design & Management","AS017093289-Patti Freeman (017093289) MSB - Experience Design & Management","Active",null,null,null,null,null,null,"6400","General and Administrative","6400-General and Administrative","Expense",null,"RC4201","RC4201||4200","4200","Gifts and Grants","Primary","JE_Gift|JE_Override",null,6400,"General and Administrative","6400-General and Administrative","Expense"]
[null,null,null,null,null,null,"AC00128","[LIB] Library Experiental Learning","AC00128-[LIB] Library Experiental Learning","Activity","FD03","Active","2025-03-17T16:11:50.579797+00:00",null,"SC2020","Other and Retainages Payable","SC2020-Other and Retainages Payable","Spend Category","Active",null,null,"01139","Ty Hopkins","01139-Ty Hopkins",null,null,null,"AS017161511","Luke Penrod (017161511) Concessions","AS017161511-Luke Penrod (017161511) Concessions","Active",null,null,null,null,null,null,"6498","General and Administrative (Contra)","6498-General and Administrative (Contra)","Expense",null,"RC4202","RC4202||4200","4200","Gifts and Grants","Primary","JE_Gift|JE_Override",null,6498,"General and Administrative (Contra)","6498-General and Administrative (Contra)","Expense"]
[null,null,null,null,null,null,"AC00129","[LIB] Exhibits","AC00129-[LIB] Exhibits","Activity","FD01","Active","2025-03-17T16:11:50.579797+00:00",null,"SC2021","Escheatment Expense","SC2021-Escheatment Expense","Spend Category","Active",null,null,"01150","Julianne Holt-Lunstad","01150-Julianne Holt-Lunstad",null,null,null,"AS017418640","Jamie Hansen (017418640) Research & Learning - Social Sciences","AS017418640-Jamie Hansen (017418640) Research & Learning - Social Sciences","Active",null,null,null,null,null,null,"6600","Interest Expense","6600-Interest Expense","Expense",null,"RC4203","RC4203||4200","4200","Gifts and Grants","Primary","JE_Gift|JE_Override",null,6600,"Interest Expense","6600-Interest Expense","Expense"]
[null,null,null,null,null,null,"AC00130","[LIB] Cataloging Spec. Collections","AC00130-[LIB] Cataloging Spec. Collections","Activity","FD01","Active","2025-03-17T16:11:50.579797+00:00",null,"SC2030","Other Payroll Deducts Payable","SC2030-Other Payroll Deducts Payable","Spend Category","Active",null,null,"01168","David Nelson/Malaysia","01168-David Nelson/Malaysia",null,null,null,"AS017608938","Jenelle Cox (017608938) Humanities - Linguistics","AS017608938-Jenelle Cox (017608938) Humanities - Linguistics","Active",null,null,null,null,null,null,"6700","Physical Facilities","6700-Physical Facilities","Expense",null,"RC4204","RC4204||4200","4200","Gifts and Grants","Primary","All",null,6700,"Physical Facilities","6700-Physical Facilities","Expense"]
[null,null,null,null,null,null,"AC00131","[LIB] Archival Processing Section","AC00131-[LIB] Archival Processing Section","Activity","FD01","Active","2025-03-17T16:11:50.579797+00:00",null,"SC2031","Garnishments","SC2031-Garnishments","Spend Category","Active",null,null,"01172","Jared Warren","01172-Jared Warren",null,null,null,"AS017661858","Brandon Mitchell (017661858) HS General Medicine","AS017661858-Brandon Mitchell (017661858) HS General Medicine","Active",null,null,null,null,null,null,"6900","Equipment, Software, Library","6900-Equipment, Software, Library","Expense",null,"RC4299","RC4299||4200","4200","Gifts and Grants","Primary","All",null,6900,"Equipment, Software, Library","6900-Equipment, Software, Library","Expense"]
[null,null,null,null,null,null,"AC00133","[LIB] Tech.Supplies & Access Devices","AC00133-[LIB] Tech.Supplies & Access Devices","Activity","FD01","Active","2025-03-17T16:11:50.579797+00:00",null,"SC2032","Employee Passthrough Donations","SC2032-Employee Passthrough Donations","Spend Category","Active",null,null,"01176","Monte Swain","01176-Monte Swain",null,null,null,"AS017846329","Elisabeth Eisenhut (017846329) Fine Arts & Communications - Dance","AS017846329-Elisabeth Eisenhut (017846329) Fine Arts & Communications - Dance","Active",null,null,null,null,null,null,"7000","Travel","7000-Travel","Expense",null,"RC4301","RC4301||4300","4300","Investment Income","Primary","All",null,7000,"Travel","7000-Travel","Expense"]
[null,null,null,null,null,null,"AC00134","[LIB] Library Printing","AC00134-[LIB] Library Printing","Activity","FD02","Active","2025-03-17T16:11:50.579797+00:00",null,"SC2033","FICA Offset/Recollect","SC2033-FICA Offset/Recollect","Spend Category","Active",null,null,"01189","Benjamin Gibbs","01189-Benjamin Gibbs",null,null,null,"AS017918284","Zack Beddoes (017918284) MSE  - Teacher Education","AS017918284-Zack Beddoes (017918284) MSE  - Teacher Education","Active",null,null,null,null,null,null,"8000","Depreciation","8000-Depreciation","Expense",null,"RC4302","RC4302||4300","4300","Investment Income","Primary","All",null,8000,"Depreciation","8000-Depreciation","Expense"]
[null,null,null,null,null,null,"AC00135","[LIB] Journal of Western Archives","AC00135-[LIB] Journal of Western Archives","Activity","FD02","Active","2025-03-17T16:11:50.579797+00:00",null,"SC2090","Clearing-Accounts Payable","SC2090-Clearing-Accounts Payable","Spend Category","Active",null,null,"01194","Andrew Ludlow","01194-Andrew Ludlow",null,null,null,"AS017971256","Carina Coria (017971256) Humanities - Spanish & Portuguese","AS017971256-Carina Coria (017971256) Humanities - Spanish & Portuguese","Active",null,null,null,null,null,null,"9199","AM Offset Default","9199-AM Offset Default","Expense",null,"RC4311","RC4311||4310","4310","Investment Gains and Losses","Primary","All",null,9199,"AM Offset Default","9199-AM Offset Default","Expense"]
[null,null,null,null,null,null,"AC00136","[LIB] Music Book Sales","AC00136-[LIB] Music Book Sales","Activity","FD02","Active","2025-03-17T16:11:50.579797+00:00",null,"SC2100","FICA Payable","SC2100-FICA Payable","Spend Category","Active",null,null,"01195","Cami Cornia","01195-Cami Cornia",null,null,null,"AS018009477","Anthony Schaefer (018009477) CMS - Chemistry and Biochemistry","AS018009477-Anthony Schaefer (018009477) CMS - Chemistry and Biochemistry","Active",null,null,null,null,null,null,"9250","Funds Transfer","9250-Funds Transfer","Expense",null,"RC4312","RC4312||4310","4310","Investment Gains and Losses","Primary","All",null,9250,"Funds Transfer","9250-Funds Transfer","Expense"]
[null,null,null,null,null,null,"AC00137","[LIB] Special Collections Income","AC00137-[LIB] Special Collections Income","Activity","FD02","Active","2025-03-17T16:11:50.579797+00:00",null,"SC2105","Federal Withholding Payable","SC2105-Federal Withholding Payable","Spend Category","Active",null,null,"01197","Leslie Miles","01197-Leslie Miles",null,null,null,"AS018010965","Val Anderson (018010965) Life Sciences - Plant & Wildlife Sciences","AS018010965-Val Anderson (018010965) Life Sciences - Plant & Wildlife Sciences","Active",null,null,null,null,null,null,"9780","Inter-Company Donation Expense","9780-Inter-Company Donation Expense","Expense",null,"RC4313","RC4313||4310","4310","Investment Gains and Losses","Primary","All",null,9780,"Inter-Company Donation Expense","9780-Inter-Company Donation Expense","Expense"]
[null,null,null,null,null,null,"AC00138","[LIB] FMA - CD Series","AC00138-[LIB] FMA - CD Series","Activity","FD02","Active","2025-03-17T16:11:50.579797+00:00",null,"SC2110","State Payroll Taxes Payable","SC2110-State Payroll Taxes Payable","Spend Category","Active",null,null,"01198","Kathryn Tucker[Kris Moretnsen]","01198-Kathryn Tucker[Kris Moretnsen]",null,null,null,"AS018019821","Taylor Nadauld (018019821) AVP - Dean, Marriott School of Business (MSB)","AS018019821-Taylor Nadauld (018019821) AVP - Dean, Marriott School of Business (MSB)","Active",null,null,null,null,null,null,"9981","Next Year Estimated Payout","9981-Next Year Estimated Payout","Expense",null,"RC4401","RC4401||2600","2600","Deferred Revenue",null,"All",null,9981,"Next Year Estimated Payout","9981-Next Year Estimated Payout","Expense"]
[null,null,null,null,null,null,"AC00139","[LIB] FMA - Publisher Royalty Paymnt","AC00139-[LIB] FMA - Publisher Royalty Paymnt","Activity","FD02","Active","2025-03-17T16:11:50.579797+00:00",null,"SC2130","Sales Tax Payable - Utah","SC2130-Sales Tax Payable - Utah","Spend Category","Active",null,null,"01200","Justin Harper","01200-Justin Harper",null,null,null,"AS018119026","Pamela Rock (018119026) FHSS - School of Family Life","AS018119026-Pamela Rock (018119026) FHSS - School of Family Life","Active",null,null,null,null,null,null,"9990","SFAS 158 Annual Pension Adj","9990-SFAS 158 Annual Pension Adj","Expense",null,"RC4401","RC4401||4400","4400","Sale of Services","Primary","All",null,9990,"SFAS 158 Annual Pension Adj","9990-SFAS 158 Annual Pension Adj","Expense"]
[null,null,null,null,null,null,"AC00143","[LIB] Family History","AC00143-[LIB] Family History","Activity","FD02","Active","2025-03-17T16:11:50.579797+00:00",null,"SC2132","Sales Tax Payable - Other States","SC2132-Sales Tax Payable - Other States","Spend Category","Active",null,null,"01205","Jacob Hickman","01205-Jacob Hickman",null,null,null,"AS018224850","Kathryn Knudsen (018224850) Fine Arts & Communications - Art","AS018224850-Kathryn Knudsen (018224850) Fine Arts & Communications - Art","Active",null,null,null,null,null,null,"9995","Allocation Clearing","9995-Allocation Clearing","Liability",null,"RC4402","RC4402||4400","4400","Sale of Services","Primary","All",null,9995,"Allocation Clearing","9995-Allocation Clearing","Liability"]
[null,null,null,null,null,null,"AC00144","[LIB] Children's Book Rev","AC00144-[LIB] Children's Book Rev","Activity","FD02","Active","2025-03-17T16:11:50.579797+00:00",null,"SC2140","Property Tax Payable","SC2140-Property Tax Payable","Spend Category","Active",null,null,"01230","Doug Prawitt","01230-Doug Prawitt",null,null,null,"AS018283196","Jane Brady (018283196) Humanities - English","AS018283196-Jane Brady (018283196) Humanities - English","Active",null,null,null,null,null,null,"9996","Cash Conversion (Fin Serv Only)","9996-Cash Conversion (Fin Serv Only)","Expense",null,"RC4403","RC4403||4400","4400","Sale of Services","Primary","All",null,9996,"Cash Conversion (Fin Serv Only)","9996-Cash Conversion (Fin Serv Only)","Expense"]
[null,null,null,null,null,null,"AC00146","[LIB] Information Literacy Award","AC00146-[LIB] Information Literacy Award","Activity","FD03","Active","2025-03-17T16:11:50.579797+00:00",null,"SC2150","UBIT Payable","SC2150-UBIT Payable","Spend Category","Active",null,null,"01233","Scott R Braithwaite","01233-Scott R Braithwaite",null,null,null,"AS018372900","Haley Dunkley (018372900) OIT Core -  CES Privacy & Records Mgmt","AS018372900-Haley Dunkley (018372900) OIT Core -  CES Privacy & Records Mgmt","Active",null,null,null,null,null,null,"9997E","Conversion Grant Expense","9997E-Conversion Grant Expense","Expense",null,"RC4404","RC4404||2600","2600","Deferred Revenue",null,"All",null,"9997E","Conversion Grant Expense","9997E-Conversion Grant Expense","Expense"]
[null,null,null,null,null,null,"AC00149","[LIB] Software Training","AC00149-[LIB] Software Training","Activity","FD01","Active","2025-03-17T16:11:50.579797+00:00",null,"SC2160","Other Taxes Payable","SC2160-Other Taxes Payable","Spend Category","Active",null,null,"01238","William Tayler","01238-William Tayler",null,null,null,"AS018408225","Tegwyn Ellingson (018408225) PF Grounds & Landscape Management","AS018408225-Tegwyn Ellingson (018408225) PF Grounds & Landscape Management","Active",null,null,null,null,null,null,"9997R","Conversion Grant Revenue","9997R-Conversion Grant Revenue","Income",null,"RC4404","RC4404||4400","4400","Sale of Services","Primary","All",null,"9997R","Conversion Grant Revenue","9997R-Conversion Grant Revenue","Income"]
[null,null,null,null,null,null,"AC00150","[LIB] Maker Space","AC00150-[LIB] Maker Space","Activity","FD01","Active","2025-03-17T16:11:50.579797+00:00",null,"SC2200","Accrued Liabilities (Conversion Only)","SC2200-Accrued Liabilities (Conversion Only)","Spend Category","Active",null,null,"01246","Petty Cash Broadcasting Expens","01246-Petty Cash Broadcasting Expens",null,null,null,"AS018542884","Melissa Larson (018542884) MSB - School of Accountancy","AS018542884-Melissa Larson (018542884) MSB - School of Accountancy","Active",null,null,null,null,null,null,"9998","Inventory Conversion","9998-Inventory Conversion","Asset",null,"RC4405","RC4405||2600","2600","Deferred Revenue",null,"All",null,9998,"Inventory Conversion","9998-Inventory Conversion","Asset"]
[null,null,null,null,null,null,"AC00151","[LIB] Media Production & Equip. Room","AC00151-[LIB] Media Production & Equip. Room","Activity","FD01","Active","2025-03-17T16:11:50.579797+00:00",null,"SC2300","Deposits Payable","SC2300-Deposits Payable","Spend Category","Active",null,null,"01255","Craig Hart","01255-Craig Hart",null,null,null,"AS018545473","John Adams (018545473) Museum of Art - Financial Support","AS018545473-John Adams (018545473) Museum of Art - Financial Support","Active",null,null,null,null,null,null,"9999","Conversion Grant Receviable","9999-Conversion Grant Receviable","Asset",null,"RC4405","RC4405||4400","4400","Sale of Services","Primary","All",null,9999,"Conversion Grant Receviable","9999-Conversion Grant Receviable","Asset"]
[null,null,null,null,null,null,"AC00152","[LIB] Media Production & Equip. Room","AC00152-[LIB] Media Production & Equip. Room","Activity","FD02","Active","2025-03-17T16:11:50.579797+00:00",null,"SC2400","Annuities Payable","SC2400-Annuities Payable","Spend Category","Active",null,null,"01256","Rebecca Lundwall","01256-Rebecca Lundwall",null,null,null,"AS018613633","Veeren Chengalaram (018613633) Catering Services","AS018613633-Veeren Chengalaram (018613633) Catering Services","Active",null,null,null,null,null,null,null,null,null,null,null,"RC4406","RC4406||2600","2600","Deferred Revenue",null,"All"]
[null,null,null,null,null,null,"AC00154","[LIB] Library Remodeling","AC00154-[LIB] Library Remodeling","Activity","FD01","Active","2025-03-17T16:11:50.579797+00:00",null,"SC2500","Notes Payable","SC2500-Notes Payable","Spend Category","Active",null,null,"01262","Lora Cook","01262-Lora Cook",null,null,null,"AS018757946","Cindy Brewer (018757946) Humanities - German & Russian","AS018757946-Cindy Brewer (018757946) Humanities - German & Russian","Active",null,null,null,null,null,null,null,null,null,null,null,"RC4406","RC4406||4400","4400","Sale of Services","Primary","All"]
[null,null,null,null,null,null,"AC00156","[LIB] Conservation","AC00156-[LIB] Conservation","Activity","FD01","Active","2025-03-20T02:04:12.994064+00:00",null,"SC2510","Notes Payable - Church","SC2510-Notes Payable - Church","Spend Category","Active",null,null,"01264","Richard West","01264-Richard West",null,null,null,"AS018762637","Ransford Sorensen (018762637) PF Moving, Receiving, & Office Furniture","AS018762637-Ransford Sorensen (018762637) PF Moving, Receiving, & Office Furniture","Active",null,null,null,null,null,null,null,null,null,null,null,"RC4407","RC4407||2600","2600","Deferred Revenue",null,"All"]
[null,null,null,null,null,null,"AC00157","[LIB] Collections Mgmt-General","AC00157-[LIB] Collections Mgmt-General","Activity","FD01","Active","2025-03-17T16:11:50.579797+00:00",null,"SC4100","Tuition and Fees Refunds","SC4100-Tuition and Fees Refunds","Spend Category","Active",null,null,"01284","Anton Bowden","01284-Anton Bowden",null,null,null,"AS018943446","Pedro Fernandez (018943446) Culinary Support Center","AS018943446-Pedro Fernandez (018943446) Culinary Support Center","Active",null,null,null,null,null,null,null,null,null,null,null,"RC4407","RC4407||4400","4400","Sale of Services","Primary","All"]
[null,null,null,null,null,null,"AC00158","[LIB] Collections Mgmt-Special","AC00158-[LIB] Collections Mgmt-Special","Activity","FD01","Active","2025-03-17T16:11:50.579797+00:00",null,"SC4901","Cost of Goods Sold","SC4901-Cost of Goods Sold","Spend Category","Active",null,null,"01298","Ben Jenkins","01298-Ben Jenkins",null,null,null,"AS018999930","Kelly Taylor (018999930) OIT Portfolio - Business, Finance, & HR","AS018999930-Kelly Taylor (018999930) OIT Portfolio - Business, Finance, & HR","Active",null,null,null,null,null,null,null,null,null,null,null,"RC4408","RC4408||2600","2600","Deferred Revenue",null,"All"]
[null,null,null,null,null,null,"AC00159","[LIB] Collections Mgmt-Auxiliary","AC00159-[LIB] Collections Mgmt-Auxiliary","Activity","FD01","Active","2025-03-17T16:11:50.579797+00:00",null,"SC4902","Inventory Adjustment","SC4902-Inventory Adjustment","Spend Category","Active",null,null,"01301","Teresa Harper","01301-Teresa Harper",null,null,null,"AS019040568","Greg Zippi (019040568) MSB - Marketing & Global Supply Chain","AS019040568-Greg Zippi (019040568) MSB - Marketing & Global Supply Chain","Active",null,null,null,null,null,null,null,null,null,null,null,"RC4408","RC4408||4400","4400","Sale of Services","Primary","All"]
[null,null,null,null,null,null,"AC00160","[LIB] Interlibrary Loan","AC00160-[LIB] Interlibrary Loan","Activity","FD02","Active","2025-03-17T16:11:50.579797+00:00",null,"SC4903","Freight-In","SC4903-Freight-In","Spend Category","Active",null,null,"01302","Terisa P Gabrielsen","01302-Terisa P Gabrielsen",null,null,null,"AS019164465","Blake Peterson (019164465) CMS - Mathematics Education","AS019164465-Blake Peterson (019164465) CMS - Mathematics Education","Active",null,null,null,null,null,null,null,null,null,null,null,"RC4409","RC4409||2600","2600","Deferred Revenue",null,"All"]
[null,null,null,null,null,null,"AC00162","[LIB] Library Collections","AC00162-[LIB] Library Collections","Activity","FD01","Active","2025-03-17T16:11:50.579797+00:00",null,"SC4904","Purchase Discounts Earned","SC4904-Purchase Discounts Earned","Spend Category","Active",null,null,"01306","Kelly Bready","01306-Kelly Bready",null,null,null,"AS019286404","Becca Hay (019286404) Humanities - English","AS019286404-Becca Hay (019286404) Humanities - English","Active",null,null,null,null,null,null,null,null,null,null,null,"RC4409","RC4409||4400","4400","Sale of Services","Primary","All"]
[null,null,null,null,null,null,"AC00163","[LIB] Monographs","AC00163-[LIB] Monographs","Activity","FD01","Active","2025-03-17T16:11:50.579797+00:00",null,"SC5000","Staff Exempt Salaries","SC5000-Staff Exempt Salaries","Spend Category","Active",null,null,"01307","Marc Killpack","01307-Marc Killpack",null,null,null,"AS019343441","Heidi Engh (019343441) Academic Advisement Center","AS019343441-Heidi Engh (019343441) Academic Advisement Center","Active",null,null,null,null,null,null,null,null,null,null,null,"RC4499","RC4499||2600","2600","Deferred Revenue",null,"All"]
[null,null,null,null,null,null,"AC00164","[LIB] Access Fees","AC00164-[LIB] Access Fees","Activity","FD01","Active","2025-03-17T16:11:50.579797+00:00",null,"SC5009","Staff Exempt Salaries (reclass)","SC5009-Staff Exempt Salaries (reclass)","Spend Category","Active",null,null,"01327","Lance Erickson","01327-Lance Erickson",null,null,null,"AS019488149","Anna Khorenko (019488149) Wilkinson Center","AS019488149-Anna Khorenko (019488149) Wilkinson Center","Active",null,null,null,null,null,null,null,null,null,null,null,"RC4499","RC4499||4400","4400","Sale of Services","Primary","All"]
[null,null,null,null,null,null,"AC00165","[LIB] E-Books","AC00165-[LIB] E-Books","Activity","FD01","Active","2025-03-17T16:11:50.579797+00:00",null,"SC5030","Staff Exempt Salaries (Overload)","SC5030-Staff Exempt Salaries (Overload)","Spend Category","Active",null,null,"01330","Amy Gabbitas","01330-Amy Gabbitas",null,null,null,"AS019681629","Ben Beck (019681629) MSB - Marketing & Global Supply Chain","AS019681629-Ben Beck (019681629) MSB - Marketing & Global Supply Chain","Active",null,null,null,null,null,null,null,null,null,null,null,"RC4501","RC4501||2600","2600","Deferred Revenue",null,"All"]
[null,null,null,null,null,null,"AC00166","[LIB] Spec Coll.-Approval","AC00166-[LIB] Spec Coll.-Approval","Activity","FD01","Active","2025-03-17T16:11:50.579797+00:00",null,"SC5100","Faculty Salaries","SC5100-Faculty Salaries","Spend Category","Active",null,null,"01341","Chien-Ti Lee","01341-Chien-Ti Lee",null,null,null,"AS019738012","Timothy Gubler (019738012) MSB - Management","AS019738012-Timothy Gubler (019738012) MSB - Management","Active",null,null,null,null,null,null,null,null,null,null,null,"RC4501","RC4501||4500","4500","Sale of Goods","Primary","All"]
[null,null,null,null,null,null,"AC00167","[LIB] Spec. Coll.-Standing Order","AC00167-[LIB] Spec. Coll.-Standing Order","Activity","FD01","Active","2025-03-17T16:11:50.579797+00:00",null,"SC5109","Faculty Salaries (reclass)","SC5109-Faculty Salaries (reclass)","Spend Category","Active",null,null,"01344","Daniel Kay","01344-Daniel Kay",null,null,null,"AS019844751","Steve Driggs (019844751) Fine Arts & Communications - School of Communications","AS019844751-Steve Driggs (019844751) Fine Arts & Communications - School of Communications","Active",null,null,null,null,null,null,null,null,null,null,null,"RC4502","RC4502||2600","2600","Deferred Revenue",null,"All"]
[null,null,null,null,null,null,"AC00168","[LIB] Databases One-Time","AC00168-[LIB] Databases One-Time","Activity","FD01","Active","2025-03-17T16:11:50.579797+00:00",null,"SC5120","Faculty Spring Summer Salaries","SC5120-Faculty Spring Summer Salaries","Spend Category","Active",null,null,"01346","Scott Sanders","01346-Scott Sanders",null,null,null,"AS019877473","Jonathan Pike (019877473) Wheatley Institute - Student Programs","AS019877473-Jonathan Pike (019877473) Wheatley Institute - Student Programs","Active",null,null,null,null,null,null,null,null,null,null,null,"RC4502","RC4502||4500","4500","Sale of Goods","Primary","All"]
[null,null,null,null,null,null,"AC00169","[LIB] Databases","AC00169-[LIB] Databases","Activity","FD01","Active","2025-03-17T16:11:50.579797+00:00",null,"SC5130","Faculty Salaries (Supplemental/Overload)","SC5130-Faculty Salaries (Supplemental/Overload)","Spend Category","Active",null,null,"01354","Aaron Miller","01354-Aaron Miller",null,null,null,"AS019877600","Brandt Redd (019877600) College of Engineering - Electrical & Computer Engineering","AS019877600-Brandt Redd (019877600) College of Engineering - Electrical & Computer Engineering","Active",null,null,null,null,null,null,null,null,null,null,null,"RC4503","RC4503||2600","2600","Deferred Revenue",null,"All"]
[null,null,null,null,null,null,"AC00170","[LIB] Commercial Binding/Travel","AC00170-[LIB] Commercial Binding/Travel","Activity","FD01","Active","2025-03-17T16:11:50.579797+00:00",null,"SC5190","Post Doc Research Associate","SC5190-Post Doc Research Associate","Spend Category","Active",null,null,"01356","Alexis Davis","01356-Alexis Davis",null,null,null,"AS019967479","Laura Hinton (019967479) Registrar's Office","AS019967479-Laura Hinton (019967479) Registrar's Office","Active",null,null,null,null,null,null,null,null,null,null,null,"RC4503","RC4503||4500","4500","Sale of Goods","Primary","All"]
[null,null,null,null,null,null,"AC00171","[LIB] Approval","AC00171-[LIB] Approval","Activity","FD01","Active","2025-03-17T16:11:50.579797+00:00",null,"SC5300","Faculty Adjunct Salaries","SC5300-Faculty Adjunct Salaries","Spend Category","Active",null,null,"01357","Shiegrid Hernandez","01357-Shiegrid Hernandez",null,null,null,"AS019990215","Rachel Friel (019990215) Athletics - Men's and Women's Swimming","AS019990215-Rachel Friel (019990215) Athletics - Men's and Women's Swimming","Active",null,null,null,null,null,null,null,null,null,null,null,"RC4504","RC4504||2600","2600","Deferred Revenue",null,"All"]
[null,null,null,null,null,null,"AC00172","[LIB] Serials-Print","AC00172-[LIB] Serials-Print","Activity","FD01","Active","2025-03-17T16:11:50.579797+00:00",null,"SC5309","Faculty Adjunct Salaries (reclass)","SC5309-Faculty Adjunct Salaries (reclass)","Spend Category","Active",null,null,"01359","Karla Ward","01359-Karla Ward",null,null,null,"AS020236009","Rick Johnson (020236009) Office of Research Computing","AS020236009-Rick Johnson (020236009) Office of Research Computing","Active",null,null,null,null,null,null,null,null,null,null,null,"RC4504","RC4504||4500","4500","Sale of Goods","Primary","All"]
[null,null,null,null,null,null,"AC00173","[LIB] Serials-Electronic","AC00173-[LIB] Serials-Electronic","Activity","FD01","Active","2025-03-17T16:11:50.579797+00:00",null,"SC5320","Faculty Adjunct Salaries - Part Benefits","SC5320-Faculty Adjunct Salaries - Part Benefits","Spend Category","Active",null,null,"01364","Christensen, McKay Scienc Fair","01364-Christensen, McKay Scienc Fair",null,null,null,"AS020370344","Melissa Puente (020370344) BYU Broadcasting - Producers Group","AS020370344-Melissa Puente (020370344) BYU Broadcasting - Producers Group","Active",null,null,null,null,null,null,null,null,null,null,null,"RC4505","RC4505||2600","2600","Deferred Revenue",null,"All"]
[null,null,null,null,null,null,"AC00174","[LIB] Memberships","AC00174-[LIB] Memberships","Activity","FD01","Active","2025-03-17T16:11:50.579797+00:00",null,"SC5400","Staff Non-Exempt Wages","SC5400-Staff Non-Exempt Wages","Spend Category","Active",null,null,"01366","Craig Hart/Toronto, FHSS","01366-Craig Hart/Toronto, FHSS",null,null,null,"AS020525807","Bonnie Anderson (020525807) AVP - Dean, Marriott School of Business (MSB)","AS020525807-Bonnie Anderson (020525807) AVP - Dean, Marriott School of Business (MSB)","Active",null,null,null,null,null,null,null,null,null,null,null,"RC4505","RC4505||4500","4500","Sale of Goods","Primary","All"]
[null,null,null,null,null,null,"AC00175","[LIB] Standing Order - Open","AC00175-[LIB] Standing Order - Open","Activity","FD01","Active","2025-03-17T16:11:50.579797+00:00",null,"SC5409","Staff Non-Exempt Wages (reclass)","SC5409-Staff Non-Exempt Wages (reclass)","Spend Category","Active",null,null,"01367","Sherina Saasa","01367-Sherina Saasa",null,null,null,"AS020644133","Mike Montague (020644133) PF Building Operations","AS020644133-Mike Montague (020644133) PF Building Operations","Active",null,null,null,null,null,null,null,null,null,null,null,"RC4506","RC4506||2600","2600","Deferred Revenue",null,"All"]
[null,null,null,null,null,null,"AC00176","[LIB] Coll. Dev.-Strategic","AC00176-[LIB] Coll. Dev.-Strategic","Activity","FD01","Active","2025-03-17T16:11:50.579797+00:00",null,"SC5430","Staff Non-Exempt Wages (Overtime/Premium)","SC5430-Staff Non-Exempt Wages (Overtime/Premium)","Spend Category","Active",null,null,"01368","Michael J Larson, FHSS-Psychol","01368-Michael J Larson, FHSS-Psychol",null,null,null,"AS020830771","Christopher Blythe (020830771) Humanities - English","AS020830771-Christopher Blythe (020830771) Humanities - English","Active",null,null,null,null,null,null,null,null,null,null,null,"RC4506","RC4506||4500","4500","Sale of Goods","Primary","All"]
[null,null,null,null,null,null,"AC00177","[LIB] CCLA One-Time","AC00177-[LIB] CCLA One-Time","Activity","FD01","Active","2025-03-17T16:11:50.579797+00:00",null,"SC5500","Student Contract Salaries","SC5500-Student Contract Salaries","Spend Category","Active",null,null,"01369","Rich Christianson","01369-Rich Christianson",null,null,null,"AS021068280","Alana Tilley (021068280) BYU Broadcasting - Unit Production Manager Group","AS021068280-Alana Tilley (021068280) BYU Broadcasting - Unit Production Manager Group","Active",null,null,null,null,null,null,null,null,null,null,null,"RC4507","RC4507||2600","2600","Deferred Revenue",null,"All"]
[null,null,null,null,null,null,"AC00178","[LIB] CES Shared Resources","AC00178-[LIB] CES Shared Resources","Activity","FD01","Active","2025-03-17T16:11:50.579797+00:00",null,"SC5502","Student Contract Salaries-FICA","SC5502-Student Contract Salaries-FICA","Spend Category","Active",null,null,"01370","Melissa Kagi","01370-Melissa Kagi",null,null,null,"AS021468034","Erika Price (021468034) BYU Broadcasting - BYU Radio","AS021468034-Erika Price (021468034) BYU Broadcasting - BYU Radio","Active",null,null,null,null,null,null,null,null,null,null,null,"RC4507","RC4507||4500","4500","Sale of Goods","Primary","All"]
[null,null,null,null,null,null,"AC00179","[LIB] Journal Packages","AC00179-[LIB] Journal Packages","Activity","FD01","Active","2025-03-17T16:11:50.579797+00:00",null,"SC5509","Student Contract Salaries (reclass)","SC5509-Student Contract Salaries (reclass)","Spend Category","Active",null,null,"01371","Sherinah Saasa","01371-Sherinah Saasa",null,null,null,"AS021523180","Bruce Patrick (021523180) Brand & Creative","AS021523180-Bruce Patrick (021523180) Brand & Creative","Active",null,null,null,null,null,null,null,null,null,null,null,"RC4599","RC4599||2600","2600","Deferred Revenue",null,"All"]
[null,null,null,null,null,null,"AC00180","[LIB] Open Access","AC00180-[LIB] Open Access","Activity","FD01","Active","2025-03-17T16:11:50.579797+00:00",null,"SC5600","Student Hourly Wages","SC5600-Student Hourly Wages","Spend Category","Active",null,null,"01D20","Campus Network Modernization","01D20-Campus Network Modernization",null,null,null,"AS021557994","Preston Manwaring (021557994) College of Engineering - Electrical & Computer Engineering","AS021557994-Preston Manwaring (021557994) College of Engineering - Electrical & Computer Engineering","Active",null,null,null,null,null,null,null,null,null,null,null,"RC4599","RC4599||4500","4500","Sale of Goods","Primary","All"]
[null,null,null,null,null,null,"AC00181","[LIB] Book Replacement","AC00181-[LIB] Book Replacement","Activity","FD02","Active","2025-03-17T16:11:50.579797+00:00",null,"SC5602","Student Hourly Wages-FICA","SC5602-Student Hourly Wages-FICA","Spend Category","Active",null,null,"01D21","Campus Network Modernization","01D21-Campus Network Modernization",null,null,null,"AS021718504","John Newman (021718504) Executive Chef","AS021718504-John Newman (021718504) Executive Chef","Active",null,null,null,null,null,null,null,null,null,null,null,"RC4701","RC4701||4700","4700","Other Income","Primary","All"]
[null,null,null,null,null,null,"AC00183","[REL] Prof Develop  Leave","AC00183-[REL] Prof Develop  Leave","Activity","FD01","Active","2025-03-17T16:11:50.579797+00:00",null,"SC5609","Student Hourly Wages (Reclass)","SC5609-Student Hourly Wages (Reclass)","Spend Category","Active",null,null,"02D20","Hybrid Classrooms","02D20-Hybrid Classrooms",null,null,null,"AS021766623","Nate Pototschnik (021766623) Athletics - Football Sport Performance","AS021766623-Nate Pototschnik (021766623) Athletics - Football Sport Performance","Active",null,null,null,null,null,null,null,null,null,null,null,"RC4702","RC4702||4700","4700","Other Income","Primary","All"]
[null,null,null,null,null,null,"AC00184","[REL] Univ Research Support","AC00184-[REL] Univ Research Support","Activity","FD01","Active","2025-03-17T16:11:50.579797+00:00",null,"SC5700","Part-time Wages - No Benefits","SC5700-Part-time Wages - No Benefits","Spend Category","Active",null,null,"02D21","CES Network Modernization","02D21-CES Network Modernization",null,null,null,"AS021769172","Andrew Roberts (021769172) Humanities Advisement & Careers","AS021769172-Andrew Roberts (021769172) Humanities Advisement & Careers","Active",null,null,null,null,null,null,null,null,null,null,null,"RC4703","RC4703||4700","4700","Other Income","Primary","All"]
[null,null,null,null,null,null,"AC00185","[REL] R L Evans Chair","AC00185-[REL] R L Evans Chair","Activity","FD01","Active","2025-03-17T16:11:50.579797+00:00",null,"SC5709","Part-time Wages (reclass)","SC5709-Part-time Wages (reclass)","Spend Category","Active",null,null,"03D20","Network Security Framework","03D20-Network Security Framework",null,null,null,"AS022295621","Jared Parrotti (022295621) PF Central Heating Plant","AS022295621-Jared Parrotti (022295621) PF Central Heating Plant","Active",null,null,null,null,null,null,null,null,null,null,null,"RC4704","RC4704||2600","2600","Deferred Revenue",null,"All"]
[null,null,null,null,null,null,"AC00186","[REL] Religious Ed Graduate Support","AC00186-[REL] Religious Ed Graduate Support","Activity","FD01","Active","2025-03-17T16:11:50.579797+00:00",null,"SC5730","Part-time Wages - Part Benefits","SC5730-Part-time Wages - Part Benefits","Spend Category","Active",null,null,"05CON","ITS Contingency","05CON-ITS Contingency",null,null,null,"AS022317019","Terryl Givens (022317019) Neal A. Maxwell Institute","AS022317019-Terryl Givens (022317019) Neal A. Maxwell Institute","Active",null,null,null,null,null,null,null,null,null,null,null,"RC4704","RC4704||4700","4700","Other Income","Primary","All"]
[null,null,null,null,null,null,"AC00187","[REL] Faculty Resource Center","AC00187-[REL] Faculty Resource Center","Activity","FD01","Active","2025-03-17T16:11:50.579797+00:00",null,"SC5800","Taxable Payroll Additions","SC5800-Taxable Payroll Additions","Spend Category","Active",null,null,"05D16","Classroom Technology Moderniza","05D16-Classroom Technology Moderniza",null,null,null,"AS022417354","Sherilyn Farnes (022417354) Religious Education - Church History & Doctrine","AS022417354-Sherilyn Farnes (022417354) Religious Education - Church History & Doctrine","Active",null,null,null,null,null,null,null,null,null,null,null,"RC4705","RC4705||4700","4700","Other Income","Primary","All"]
[null,null,null,null,null,null,"AC00188","[REL] Associate Dean - Teaching","AC00188-[REL] Associate Dean - Teaching","Activity","FD01","Active","2025-03-17T16:11:50.579797+00:00",null,"SC5860","Moving Reimbursement","SC5860-Moving Reimbursement","Spend Category","Active",null,null,"05D19","Class Technology Modernization","05D19-Class Technology Modernization",null,null,null,"AS022826946","Kierica McPherson (022826946) Fine Arts & Communications - Dance","AS022826946-Kierica McPherson (022826946) Fine Arts & Communications - Dance","Active",null,null,null,null,null,null,null,null,null,null,null,"RC4706","RC4706||4700","4700","Other Income","Primary","All"]
[null,null,null,null,null,null,"AC00189","[REL] Associate Dean - Scholarship/Research","AC00189-[REL] Associate Dean - Scholarship/Research","Activity","FD01","Active","2025-03-17T16:11:50.579797+00:00",null,"SC5890","Project Labor Cost","SC5890-Project Labor Cost","Spend Category","Active",null,null,"05D20","Classroom Technology Moderniza","05D20-Classroom Technology Moderniza",null,null,null,"AS022937338","Albert Tay (022937338) College of Engineering - Electrical & Computer Engineering","AS022937338-Albert Tay (022937338) College of Engineering - Electrical & Computer Engineering","Active",null,null,null,null,null,null,null,null,null,null,null,"RC4707","RC4707||4700","4700","Other Income","Primary","All"]
[null,null,null,null,null,null,"AC00190","[REL] Technology Support","AC00190-[REL] Technology Support","Activity","FD01","Active","2025-03-17T16:11:50.579797+00:00",null,"SC5891","Project Labor Cost Recovery","SC5891-Project Labor Cost Recovery","Spend Category","Active",null,null,"05D21","Classroom Technology Moderniz","05D21-Classroom Technology Moderniz",null,null,null,"AS022988593","Osiris Buelvas Morelos (022988593) PF Building Operations","AS022988593-Osiris Buelvas Morelos (022988593) PF Building Operations","Active",null,null,null,null,null,null,null,null,null,null,null,"RC4708","RC4708||4700","4700","Other Income","Primary","All"]
[null,null,null,null,null,null,"AC00191","[REL] Appropriated NonStudent Suppor","AC00191-[REL] Appropriated NonStudent Suppor","Activity","FD01","Active","2025-03-17T16:11:50.579797+00:00",null,"SC5892","Project Labor Cost Non-Capital","SC5892-Project Labor Cost Non-Capital","Spend Category","Active",null,null,"06D18","Production/Theatrical Tech","06D18-Production/Theatrical Tech",null,null,null,"AS023224089","Scott Lee (023224089) Dining Administration","AS023224089-Scott Lee (023224089) Dining Administration","Active",null,null,null,null,null,null,null,null,null,null,null,"RC4709","RC4709||4700","4700","Other Income","Primary","All"]
[null,null,null,null,null,null,"AC00192","[REL] Interfaith Engagement (RO)","AC00192-[REL] Interfaith Engagement (RO)","Activity","FD01","Active","2025-03-17T16:11:50.579797+00:00",null,"SC5893","Project Labor Cost Non-Capital Recovery","SC5893-Project Labor Cost Non-Capital Recovery","Spend Category","Active",null,null,"06D20","Production/Theatrical Tech","06D20-Production/Theatrical Tech",null,null,null,"AS023225392","Preston Back (023225392) Indefinite Leaves","AS023225392-Preston Back (023225392) Indefinite Leaves","Active",null,null,null,null,null,null,null,null,null,null,null,"RC4710","RC4710||4700","4700","Other Income","Primary","All"]
[null,null,null,null,null,null,"AC00193","[REL] RSC Endowment Appropriation","AC00193-[REL] RSC Endowment Appropriation","Activity","FD01","Active","2025-03-17T16:11:50.579797+00:00",null,"SC5899","Taxable Payroll Additions (reclass)","SC5899-Taxable Payroll Additions (reclass)","Spend Category","Active",null,null,"06D21","Production/Theatrical Tech","06D21-Production/Theatrical Tech",null,null,null,"AS023429296","Kristene Gillum (023429296) Retail Services - General Administration","AS023429296-Kristene Gillum (023429296) Retail Services - General Administration","Active",null,null,null,null,null,null,null,null,null,null,null,"RC4711","RC4711||4700","4700","Other Income","Primary","JE_Gift|JE_Override"]
[null,null,null,null,null,null,"AC00194","[REL] Gospel Sch Media Appropriation","AC00194-[REL] Gospel Sch Media Appropriation","Activity","FD01","Active","2025-03-17T16:11:50.579797+00:00",null,"SC5900","Staff Exempt Benefits","SC5900-Staff Exempt Benefits","Spend Category","Active",null,null,"079T3","JRCB WIRELESS  464-517 19322","079T3-JRCB WIRELESS  464-517 19322",null,null,null,"AS023653877","Brian Blumer (023653877) AVP - Dean, College of Engineering","AS023653877-Brian Blumer (023653877) AVP - Dean, College of Engineering","Active",null,null,null,null,null,null,null,null,null,null,null,"RC4712","RC4712||4700","4700","Other Income","Primary","JE_Override"]
[null,null,null,null,null,null,"AC00195","[REL] Inspiring Learning Appropriati","AC00195-[REL] Inspiring Learning Appropriati","Activity","FD01","Active","2025-03-17T16:11:50.579797+00:00",null,"SC5910","Faculty Benefits","SC5910-Faculty Benefits","Spend Category","Active",null,null,"07D20","AV Cable Plant Infrastucture","07D20-AV Cable Plant Infrastucture",null,null,null,"AS023754042","Korianne Johnson (023754042) Fine Arts & Communications - School of Music","AS023754042-Korianne Johnson (023754042) Fine Arts & Communications - School of Music","Active",null,null,null,null,null,null,null,null,null,null,null,"RC4713","RC4713||4700","4700","Other Income","Primary","JE_PPE|JE_Override"]
[null,null,null,null,null,null,"AC00196","[REL] RELED Grad Programs","AC00196-[REL] RELED Grad Programs","Activity","FD01","Active","2025-03-17T16:11:50.579797+00:00",null,"SC5930","Faculty Adjunct Benefits","SC5930-Faculty Adjunct Benefits","Spend Category","Active",null,null,"08D20","Life Safety Comm Systems","08D20-Life Safety Comm Systems",null,null,null,"AS023771842","Jennifer Benson (023771842) College of Nursing","AS023771842-Jennifer Benson (023771842) College of Nursing","Active",null,null,null,null,null,null,null,null,null,null,null,"RC4714","RC4714||4700","4700","Other Income","Primary","All"]
[null,null,null,null,null,null,"AC00197","[REL] Ugrad Mentoring Block Grants","AC00197-[REL] Ugrad Mentoring Block Grants","Activity","FD01","Active","2025-03-17T16:11:50.579797+00:00",null,"SC5940","Staff Non-Exempt Benefits","SC5940-Staff Non-Exempt Benefits","Spend Category","Active",null,null,"08D21","Life Safety Comm Systems","08D21-Life Safety Comm Systems",null,null,null,"AS023915470","Hiroko Tsuiki (023915470) Humanities - Asian & Near Eastern Languages","AS023915470-Hiroko Tsuiki (023915470) Humanities - Asian & Near Eastern Languages","Active",null,null,null,null,null,null,null,null,null,null,null,"RC4715","RC4715||4700","4700","Other Income","Primary","JE_Override"]
[null,null,null,null,null,null,"AC00198","[REL] Interfaith Club","AC00198-[REL] Interfaith Club","Activity","FD02","Active","2025-03-17T16:11:50.579797+00:00",null,"SC5950","Student Benefits","SC5950-Student Benefits","Spend Category","Active",null,null,"09015","Zions Bank Escrow Haz","09015-Zions Bank Escrow Haz",null,null,null,"AS024217202","Jose Salmeron (024217202) PMPC Administration","AS024217202-Jose Salmeron (024217202) PMPC Administration","Active",null,null,null,null,null,null,null,null,null,null,null,"RC4716","RC4716||4700","4700","Other Income","Primary","JE_Override"]
[null,null,null,null,null,null,"AC00199","[REL] Conference Travel Grants","AC00199-[REL] Conference Travel Grants","Activity","FD03","Active","2025-03-17T16:11:50.579797+00:00",null,"SC5970","Part-time Benefits","SC5970-Part-time Benefits","Spend Category","Active",null,null,"09020","Receipts-Transact Extracts","09020-Receipts-Transact Extracts",null,null,null,"AS024233410","Jake Peterson (024233410) BYU Broadcasting - Unit Production Manager Group","AS024233410-Jake Peterson (024233410) BYU Broadcasting - Unit Production Manager Group","Active",null,null,null,null,null,null,null,null,null,null,null,"RC4717","RC4717||4700","4700","Other Income","Primary","All"]
[null,null,null,null,null,null,"AC00200","[REL] RSC Grant Reserve","AC00200-[REL] RSC Grant Reserve","Activity","FD03","Active","2025-03-17T16:11:50.579797+00:00",null,"SC5990","Other Local/State Payroll Tax","SC5990-Other Local/State Payroll Tax","Spend Category","Active",null,null,"09021","Receipts-Pay My Tuition","09021-Receipts-Pay My Tuition",null,null,null,"AS024253975","Kathryn Blair (024253975) AVP - Dean, Clark Law School","AS024253975-Kathryn Blair (024253975) AVP - Dean, Clark Law School","Active",null,null,null,null,null,null,null,null,null,null,null,"RC4799","RC4799||4700","4700","Other Income","Primary","All"]
[null,null,null,null,null,null,"AC00201","[REL] Faculty-Student Mentoring","AC00201-[REL] Faculty-Student Mentoring","Activity","FD03","Active","2025-03-17T16:11:50.579797+00:00",null,"SC5995","University Benefits-Payments","SC5995-University Benefits-Payments","Spend Category","Active",null,null,"09022","CIBC","09022-CIBC",null,null,null,"AS024362791","James Gaskin (024362791) MSB - Information Systems","AS024362791-James Gaskin (024362791) MSB - Information Systems","Active",null,null,null,null,null,null,null,null,null,null,null,"RC4800","RC4800||4800","4800","Intra-Division Sales","Primary","All"]
[null,null,null,null,null,null,"AC00202","[REL] RELED Research Royalties","AC00202-[REL] RELED Research Royalties","Activity","FD03","Active","2025-03-17T16:11:50.579797+00:00",null,"SC5998","FICA Clearing (Payroll System Only)","SC5998-FICA Clearing (Payroll System Only)","Spend Category","Active",null,null,"09025","Receipts-On Campus POS","09025-Receipts-On Campus POS",null,null,null,"AS024539682","Chitral Chatterjee (024539682) CMS - Chemistry and Biochemistry","AS024539682-Chitral Chatterjee (024539682) CMS - Chemistry and Biochemistry","Active",null,null,null,null,null,null,null,null,null,null,null,"RC4850","RC4850||4850","4850","Intra-Division Purchases","Primary","All"]
[null,null,null,null,null,null,"AC00203","[REL] Religious Outreach","AC00203-[REL] Religious Outreach","Activity","FD03","Active","2025-03-17T16:11:50.579797+00:00",null,"SC5999","Benefits (reclass)","SC5999-Benefits (reclass)","Spend Category","Active",null,null,"09026","Receipts- Std Aux Svcs- Check","09026-Receipts- Std Aux Svcs- Check",null,null,null,"AS024690920","Amy Easton-Flake (024690920) Religious Education - Ancient Scripture","AS024690920-Amy Easton-Flake (024690920) Religious Education - Ancient Scripture","Active",null,null,null,null,null,null,null,null,null,null,null,"RC4890","RC4890||4890","4890","Release of Restrictions","Primary","JE_Gift|JE_Override"]
[null,null,null,null,null,null,"AC00204","[REL] Experiential Learning","AC00204-[REL] Experiential Learning","Activity","FD03","Active","2025-03-17T16:11:50.579797+00:00",null,"SC6101","Animal Supplies","SC6101-Animal Supplies","Spend Category","Active",null,null,"09030","Receipts-BYU Bookstore","09030-Receipts-BYU Bookstore",null,null,null,"AS025101628","Corbin Emerick (025101628) Research Accounting","AS025101628-Corbin Emerick (025101628) Research Accounting","Active",null,null,null,null,null,null,null,null,null,null,null,"RC4891","RC4891||4890","4890","Release of Restrictions","Primary","JE_Gift|JE_Override"]
[null,null,null,null,null,null,"AC00205","[REL] REL ED Sunshine Fund","AC00205-[REL] REL ED Sunshine Fund","Activity","FD07","Active","2025-03-17T16:11:50.579797+00:00",null,"SC6102","Animals","SC6102-Animals","Spend Category","Active",null,null,"09035","Receipts-Marriott Center","09035-Receipts-Marriott Center",null,null,null,"AS025162505","David Wiseman (025162505) Humanities - Spanish & Portuguese","AS025162505-David Wiseman (025162505) Humanities - Spanish & Portuguese","Active",null,null,null,null,null,null,null,null,null,null,null,"RC4892","RC4892||4890","4890","Release of Restrictions","Primary","JE_Gift|JE_Override"]
[null,null,null,null,null,null,"AC00206","[REL] Egyptian Dig","AC00206-[REL] Egyptian Dig","Activity","FD01","Active","2025-03-17T16:11:50.579797+00:00",null,"SC6103","Art","SC6103-Art","Spend Category","Active",null,null,"09040","Receipts-Print Services","09040-Receipts-Print Services",null,null,null,"AS025183689","Sophie Stanley (025183689) Fine Arts & Communications - School of Music","AS025183689-Sophie Stanley (025183689) Fine Arts & Communications - School of Music","Active",null,null,null,null,null,null,null,null,null,null,null,"RC4893","RC4893||4890","4890","Release of Restrictions","Primary","JE_Gift|JE_Override"]
[null,null,null,null,null,null,"AC00208","[AVP] RSC NonReligion Faculty Awards","AC00208-[AVP] RSC NonReligion Faculty Awards","Activity","FD01","Active","2025-03-17T16:11:50.579797+00:00",null,"SC6104","Art Supplies","SC6104-Art Supplies","Spend Category","Active",null,null,"09045","Receipts-BYU Broadcasting","09045-Receipts-BYU Broadcasting",null,null,null,"AS025187751","Jeanice Woodbrey (025187751) Fine Arts & Communications - School of Music","AS025187751-Jeanice Woodbrey (025187751) Fine Arts & Communications - School of Music","Active",null,null,null,null,null,null,null,null,null,null,null,"RC6402","RC6402||6400","6400","General and Administrative","Primary","All"]
[null,null,null,null,null,null,"AC00209","[AVP] The Religious Educator","AC00209-[AVP] The Religious Educator","Activity","FD02","Active","2025-03-17T16:11:50.579797+00:00",null,"SC6105","Athletic Supplies","SC6105-Athletic Supplies","Spend Category","Active",null,null,"09050","Receipts-Continuing Ed","09050-Receipts-Continuing Ed",null,null,null,"AS025389540","Jared Wilkey (025389540) Culinary Support Center","AS025389540-Jared Wilkey (025389540) Culinary Support Center","Active",null,null,null,null,null,null,null,null,null,null,null,"RC6403","RC6403||6400","6400","General and Administrative","Primary","All"]
[null,null,null,null,null,null,"AC00210","[AVP] RSC Publications","AC00210-[AVP] RSC Publications","Activity","FD02","Active","2025-03-17T16:11:50.579797+00:00",null,"SC6106","Audio Visual Supplies","SC6106-Audio Visual Supplies","Spend Category","Active",null,null,"09055","Receipts-Aspen Grove","09055-Receipts-Aspen Grove",null,null,null,"AS025510924","Jeff Hill (025510924) College of Engineering - Mechanical Engineering","AS025510924-Jeff Hill (025510924) College of Engineering - Mechanical Engineering","Active",null,null,null,null,null,null,null,null,null,null,null,"SC0101","SC0101||0100","0100","Budget Carryover/Unallocated","Budget_Only","JE_Override"]
[null,null,null,null,null,null,"AC00212","[REL] Rel Educ Student Computer Lab","AC00212-[REL] Rel Educ Student Computer Lab","Activity","FD01","Active","2025-03-17T16:11:50.579797+00:00",null,"SC6107","Clothing","SC6107-Clothing","Spend Category","Active",null,null,"09060","Receipts-Student Health Ctr","09060-Receipts-Student Health Ctr",null,null,null,"AS025583430","Douglas Walker (025583430) Dining Finance","AS025583430-Douglas Walker (025583430) Dining Finance","Active",null,null,null,null,null,null,null,null,null,null,null,"SC0102","SC0102||0100","0100","Budget Carryover/Unallocated","Budget_Only","JE_Override"]
[null,null,null,null,null,null,"AC00213","[REL] CHTS Admin","AC00213-[REL] CHTS Admin","Activity","FD01","Active","2025-03-17T16:11:50.579797+00:00",null,"SC6108","Data Network Supplies","SC6108-Data Network Supplies","Spend Category","Active",null,null,"09065","Receipts-BYU Sales (Treasury)","09065-Receipts-BYU Sales (Treasury)",null,null,null,"AS025690788","Danae Hamilton-Whitcomb (025690788) Research Accounting","AS025690788-Danae Hamilton-Whitcomb (025690788) Research Accounting","Active",null,null,null,null,null,null,null,null,null,null,null,"SC0103","SC0103||0100","0100","Budget Carryover/Unallocated","Budget_Only","JE_Override"]
[null,null,null,null,null,null,"AC00214","[REL] Stance for the Family","AC00214-[REL] Stance for the Family","Activity","FD02","Active","2025-03-17T16:11:50.579797+00:00",null,"SC6109","Floral Supplies","SC6109-Floral Supplies","Spend Category","Active",null,null,"09070","Receipts-Dining Services","09070-Receipts-Dining Services",null,null,null,"AS025767806","Peter Gardner (025767806) Brand & Creative","AS025767806-Peter Gardner (025767806) Brand & Creative","Active",null,null,null,null,null,null,null,null,null,null,null,"SC0104","SC0104||0100","0100","Budget Carryover/Unallocated","Budget_Only","JE_Override"]
[null,null,null,null,null,null,"AC00215","[REL] Foundations of Faith","AC00215-[REL] Foundations of Faith","Activity","FD03","Active","2025-03-17T16:11:50.579797+00:00",null,"SC6110","Food and Beverages","SC6110-Food and Beverages","Spend Category","Active",null,null,"09075","Receipts-Campus Life","09075-Receipts-Campus Life",null,null,null,"AS025827379","Brian Olson (025827379) Fine Arts & Communications - Theatre & Media Arts","AS025827379-Brian Olson (025827379) Fine Arts & Communications - Theatre & Media Arts","Active",null,null,null,null,null,null,null,null,null,null,null,"SC0610","SC0610||6100","6100","Materials and Supplies","Budget_Only","JE_Override"]
[null,null,null,null,null,null,"AC00217","[FHSS] Research Support","AC00217-[FHSS] Research Support","Activity","FD01","Active","2025-03-17T16:11:50.579797+00:00",null,"SC6111","Food Service Disposables","SC6111-Food Service Disposables","Spend Category","Active",null,null,"09080","Receipts-Alumni","09080-Receipts-Alumni",null,null,null,"AS026056907","Tracy Nuttall (026056907) Law School","AS026056907-Tracy Nuttall (026056907) Law School","Active",null,null,null,null,null,null,null,null,null,null,null,"SC0630","SC0630||6300","6300","Student Aid","Budget_Only","JE_Override"]
[null,null,null,null,null,null,"AC00218","[FHSS] FHSS Advisement Center","AC00218-[FHSS] FHSS Advisement Center","Activity","FD01","Active","2025-03-17T16:11:50.579797+00:00",null,"SC6112","Food Service Supplies","SC6112-Food Service Supplies","Spend Category","Active",null,null,"09085","Receipts-PERSS","09085-Receipts-PERSS",null,null,null,"AS026277052","Eric Blum (026277052) MSB - Public Service & Ethics","AS026277052-Eric Blum (026277052) MSB - Public Service & Ethics","Active",null,null,null,null,null,null,null,null,null,null,null,"SC0640","SC0640||6400","6400","General and Administrative","Budget_Only","JE_Override"]
[null,null,null,null,null,null,"AC00219","[FHSS] FHSS Computing Services","AC00219-[FHSS] FHSS Computing Services","Activity","FD01","Active","2025-03-17T16:11:50.579797+00:00",null,"SC6113","Fuel","SC6113-Fuel","Spend Category","Active",null,null,"09090","Receipts-Cougar Club","09090-Receipts-Cougar Club",null,null,null,"AS026423163","Andrea Richards (026423163) Dining Finance","AS026423163-Andrea Richards (026423163) Dining Finance","Active",null,null,null,null,null,null,null,null,null,null,null,"SC0670","SC0670||6700","6700","Physical Facilities","Budget_Only","JE_Override"]
[null,null,null,null,null,null,"AC00220","[FHSS] FHSS Writing Lab","AC00220-[FHSS] FHSS Writing Lab","Activity","FD01","Active","2025-03-17T16:11:50.579797+00:00",null,"SC6114","Hazardous Chemicals","SC6114-Hazardous Chemicals","Spend Category","Active",null,null,"09095","Receipts-BYU Music Group","09095-Receipts-BYU Music Group",null,null,null,"AS026563312","Sarah Warcup","AS026563312-Sarah Warcup","Active",null,null,null,null,null,null,null,null,null,null,null,"SC0691","SC0691||6900","6900","Equipment, Software, Library","Budget_Only","JE_Override"]
[null,null,null,null,null,null,"AC00221","[FHSS] MRI Facility Operations","AC00221-[FHSS] MRI Facility Operations","Activity","FD01","Active","2025-03-17T16:11:50.579797+00:00",null,"SC6115","Janitorial Supplies","SC6115-Janitorial Supplies","Spend Category","Active",null,null,"09100","Receipts-Outdoors Unlimited","09100-Receipts-Outdoors Unlimited",null,null,null,"AS026681880","Kevin Worthen (026681880) AVP - Dean, Clark Law School","AS026681880-Kevin Worthen (026681880) AVP - Dean, Clark Law School","Active",null,null,null,null,null,null,null,null,null,null,null,"SC0692","SC0692||6900","6900","Equipment, Software, Library","Budget_Only","JE_Override"]
[null,null,null,null,null,null,"AC00222","[FHSS] FHSS Belonging and Diversity","AC00222-[FHSS] FHSS Belonging and Diversity","Activity","FD01","Active","2025-03-17T16:11:50.579797+00:00",null,"SC6116","Laundry Supplies","SC6116-Laundry Supplies","Spend Category","Active",null,null,"09115","Receipts-Marriott School","09115-Receipts-Marriott School",null,null,null,"AS026743714","Jessica Harrison (026743714) MSE - Communication Disorders","AS026743714-Jessica Harrison (026743714) MSE - Communication Disorders","Active",null,null,null,null,null,null,null,null,null,null,null,"SC0693","SC0693||6900","6900","Equipment, Software, Library","Budget_Only","JE_Override"]
[null,null,null,null,null,null,"AC00223","[FHSS] MRI Facility Operations","AC00223-[FHSS] MRI Facility Operations","Activity","FD02","Active","2025-03-17T16:11:50.579797+00:00",null,"SC6117","Medical Supplies","SC6117-Medical Supplies","Spend Category","Active",null,null,"09120","Receipts - BYU Law School","09120-Receipts - BYU Law School",null,null,null,"AS026852607","Clint Payne (026852607) CE Classroom Programs","AS026852607-Clint Payne (026852607) CE Classroom Programs","Active",null,null,null,null,null,null,null,null,null,null,null,"SC0694","SC0694||6900","6900","Equipment, Software, Library","Budget_Only","JE_Override"]
[null,null,null,null,null,null,"AC00224","[FHSS] Prof Dev-Fh & Ss","AC00224-[FHSS] Prof Dev-Fh & Ss","Activity","FD03","Active","2025-03-17T16:11:50.579797+00:00",null,"SC6118","Musical Instrument Supplies","SC6118-Musical Instrument Supplies","Spend Category","Active",null,null,"09125","Web Credit Card Payments","09125-Web Credit Card Payments",null,null,null,"AS026889994","Moni Tiatia (026889994) Fine Arts & Communications - Dance","AS026889994-Moni Tiatia (026889994) Fine Arts & Communications - Dance","Active",null,null,null,null,null,null,null,null,null,null,null,"SC0695","SC0695||6900","6900","Equipment, Software, Library","Budget_Only","JE_Override"]
[null,null,null,null,null,null,"AC00225","[FHSS] Diversity, Collaboration & Inc","AC00225-[FHSS] Diversity, Collaboration & Inc","Activity","FD03","Active","2025-03-17T16:11:50.579797+00:00",null,"SC6119","Office Supplies","SC6119-Office Supplies","Spend Category","Active",null,null,"09527","Investment Adj","09527-Investment Adj",null,null,null,"AS026968306","Kara Stephenson (026968306) Special Events","AS026968306-Kara Stephenson (026968306) Special Events","Active",null,null,null,null,null,null,null,null,null,null,null,"SC0696","SC0696||6900","6900","Equipment, Software, Library","Budget_Only","JE_Override"]
[null,null,null,null,null,null,"AC00227","[FHSS] FHSS ELF","AC00227-[FHSS] FHSS ELF","Activity","FD03","Active","2025-03-17T16:11:50.579797+00:00",null,"SC6120","Other Expense","SC6120-Other Expense","Spend Category","Active",null,null,"09610","Agency Checks","09610-Agency Checks",null,null,null,"AS027018184","Cougar Hall (027018184) Life Sciences - Public Health","AS027018184-Cougar Hall (027018184) Life Sciences - Public Health","Active",null,null,null,null,null,null,null,null,null,null,null,"SC0697","SC0697||6900","6900","Equipment, Software, Library","Budget_Only","JE_Override"]
[null,null,null,null,null,null,"AC00228","[FHSS] Washington Sem Housn","AC00228-[FHSS] Washington Sem Housn","Activity","FD02","Active","2025-03-17T16:11:52.138121+00:00",null,"SC6121","Packaging","SC6121-Packaging","Spend Category","Active",null,null,"09699","Receipt Adjustments","09699-Receipt Adjustments",null,null,null,"AS027047970","Sarah Dethloff (027047970) Management Department","AS027047970-Sarah Dethloff (027047970) Management Department","Active",null,null,null,null,null,null,null,null,null,null,null,"SC1055","SC1055||1055","1055","Gift Cards","Primary","All"]
[null,null,null,null,null,null,"AC00229","[FHSS] Washington Seminar ELF","AC00229-[FHSS] Washington Seminar ELF","Activity","FD03","Active","2025-03-17T16:11:52.138121+00:00",null,"SC6122","Paper","SC6122-Paper","Spend Category","Active",null,null,"09799","Disbursement Adjustments","09799-Disbursement Adjustments",null,null,null,"AS027094351","Joyce Guidi (027094351) Humanities - French & Italian Languages","AS027094351-Joyce Guidi (027094351) Humanities - French & Italian Languages","Active",null,null,null,null,null,null,null,null,null,null,null,"SC1218","SC1218||1200","1200","Department Receivable","Primary","All"]
[null,null,null,null,null,null,"AC00230","[FHSS] American Hertg Book Royalty","AC00230-[FHSS] American Hertg Book Royalty","Activity","FD03","Active","2025-03-17T16:11:52.138121+00:00",null,"SC6123","Photography Supplies","SC6123-Photography Supplies","Spend Category","Active",null,null,"09900","Disbursements-A/P","09900-Disbursements-A/P",null,null,null,"AS027184603","Tim Law (027184603) BYU Broadcasting - Digital Media","AS027184603-Tim Law (027184603) BYU Broadcasting - Digital Media","Active",null,null,null,null,null,null,null,null,null,null,null,"SC1218","SC1218||1210","1210","Off Campus Receivable",null,"All"]
[null,null,null,null,null,null,"AC00231","[FHSS] Redd Public History","AC00231-[FHSS] Redd Public History","Activity","FD03","Active","2025-03-17T16:11:52.138121+00:00",null,"SC6124","Printed Media","SC6124-Printed Media","Spend Category","Active",null,null,"10000","Executive Director UCS","10000-Executive Director UCS",null,null,null,"AS027211109","Chris Grant (027211109) CMS - Mathematics","AS027211109-Chris Grant (027211109) CMS - Mathematics","Active",null,null,null,null,null,null,null,null,null,null,null,"SC1290","SC1290||1290","1290","Clearing-Receivable","Primary","All"]
[null,null,null,null,null,null,"AC00232","[FHSS] Charles Redd Center ELF","AC00232-[FHSS] Charles Redd Center ELF","Activity","FD03","Active","2025-03-17T16:11:52.138121+00:00",null,"SC6125","Printing Supplies","SC6125-Printing Supplies","Spend Category","Active",null,null,"10001","Special Projects","10001-Special Projects",null,null,null,"AS027489315","Chris Cloward (027489315) PF Building Operations","AS027489315-Chris Cloward (027489315) PF Building Operations","Active",null,null,null,null,null,null,null,null,null,null,null,"SC1300","SC1300||1300","1300","Inventory - Workday","Primary","All"]
[null,null,null,null,null,null,"AC00233","[FHSS] Civic Engagement Activities","AC00233-[FHSS] Civic Engagement Activities","Activity","FD03","Active","2025-03-17T16:11:52.138121+00:00",null,"SC6126","Scientific and Engineering Supplies","SC6126-Scientific and Engineering Supplies","Spend Category","Active",null,null,"10025","Faculty Profile System - BYU-H","10025-Faculty Profile System - BYU-H",null,null,null,"AS027512956","Michael Dorff (027512956) CMS - Mathematics","AS027512956-Michael Dorff (027512956) CMS - Mathematics","Active",null,null,null,null,null,null,null,null,null,null,null,"SC1310","SC1310||1310","1310","Inventory - Campus Subsystems","Primary","All"]
[null,null,null,null,null,null,"AC00234","[FHSS] Comprehensive Clinic","AC00234-[FHSS] Comprehensive Clinic","Activity","FD02","Active","2025-03-17T16:11:52.138121+00:00",null,"SC6127","Special Collections","SC6127-Special Collections","Spend Category","Active",null,null,"10165","Emergency Systems","10165-Emergency Systems",null,null,null,"AS028045615","Mike Gibson (028045615) Enrollment Services Executive Director's Office","AS028045615-Mike Gibson (028045615) Enrollment Services Executive Director's Office","Active",null,null,null,null,null,null,null,null,null,null,null,"SC1390","SC1390||1390","1390","Clearing-Inventory","Primary","All"]
[null,null,null,null,null,null,"AC00235","[FHSS] Fld Sch Archaeology","AC00235-[FHSS] Fld Sch Archaeology","Activity","FD01","Active","2025-03-17T16:11:52.138121+00:00",null,"SC6128","Special Collections Sales Proceeds","SC6128-Special Collections Sales Proceeds","Spend Category","Active",null,null,"10332","OIT Key Deposits","10332-OIT Key Deposits",null,null,null,"AS028158881","Jonathan Love (028158881) Law School","AS028158881-Jonathan Love (028158881) Law School","Active",null,null,null,null,null,null,null,null,null,null,null,"SC1400","SC1400||1400","1400","Prepaid Expenses","Primary","All"]
[null,null,null,null,null,null,"AC00236","[FHSS] Anthropology Grad Studnt Funds","AC00236-[FHSS] Anthropology Grad Studnt Funds","Activity","FD01","Active","2025-03-17T16:11:52.138121+00:00",null,"SC6129","Supplies (not otherwise specified)","SC6129-Supplies (not otherwise specified)","Spend Category","Active",null,null,"10365","Non Restr-Contract","10365-Non Restr-Contract",null,null,null,"AS028181473","Douglas Watson (028181473) Student Life VP","AS028181473-Douglas Watson (028181473) Student Life VP","Active",null,null,null,null,null,null,null,null,null,null,null,"SC1420","SC1420||1420","1420","Other Assets","Primary","All"]
[null,null,null,null,null,null,"AC00237","[FHSS] Anthropology Club","AC00237-[FHSS] Anthropology Club","Activity","FD02","Active","2025-03-17T16:11:52.138121+00:00",null,"SC6130","Teaching Supplies","SC6130-Teaching Supplies","Spend Category","Active",null,null,"1042S","IRS Form 1042S Tax","1042S-IRS Form 1042S Tax",null,null,null,"AS028209109","Hannah Steinagel (028209109) HS General Medicine - Nursing","AS028209109-Hannah Steinagel (028209109) HS General Medicine - Nursing","Active",null,null,null,null,null,null,null,null,null,null,null,"SC1490","SC1490||1490","1490","Clearing-Prepaid and Other","Primary","All"]
[null,null,null,null,null,null,"AC00238","[FHSS] Publications in Archaeology","AC00238-[FHSS] Publications in Archaeology","Activity","FD03","Active","2025-03-17T16:11:52.138121+00:00",null,"SC6131","Telecom Supplies","SC6131-Telecom Supplies","Spend Category","Active",null,null,"10501","Student Workshops","10501-Student Workshops",null,null,null,"AS028317569","Liege Pradera (028317569) Humanities - Spanish & Portuguese","AS028317569-Liege Pradera (028317569) Humanities - Spanish & Portuguese","Active",null,null,null,null,null,null,null,null,null,null,null,"SC1600","SC1600||1600","1600","Land","Primary","JE_PPE|JE_Override"]
[null,null,null,null,null,null,"AC00239","[FHSS] Zachary Chase GMA","AC00239-[FHSS] Zachary Chase GMA","Activity","FD03","Active","2025-03-17T16:11:52.138121+00:00",null,"SC6132","Vehicle Supplies","SC6132-Vehicle Supplies","Spend Category","Active",null,null,"10545","Computer Associates","10545-Computer Associates",null,null,null,"AS028472569","Angela Bradford (028472569) FHSS - School of Family Life","AS028472569-Angela Bradford (028472569) FHSS - School of Family Life","Active",null,null,null,null,null,null,null,null,null,null,null,"SC1605","SC1605||1605","1605","Buildings","Primary","JE_PPE|JE_Override"]
[null,null,null,null,null,null,"AC00240","[FHSS] Michael Searcy GMA","AC00240-[FHSS] Michael Searcy GMA","Activity","FD03","Active","2025-03-17T16:11:52.138121+00:00",null,"SC6133","Lab Gases and Cryogenics","SC6133-Lab Gases and Cryogenics","Spend Category","Active",null,null,"10580","Autodesk","10580-Autodesk",null,null,null,"AS028735751","Chris Verhaaren (028735751) CMS - Physics and Astronomy","AS028735751-Chris Verhaaren (028735751) CMS - Physics and Astronomy","Active",null,null,null,null,null,null,null,null,null,null,null,"SC1605","SC1605||1700","1700","Accumulated Depreciation",null,"JE_PPE|JE_Override"]
[null,null,null,null,null,null,"AC00241","[FHSS] Anthropology Field Schools","AC00241-[FHSS] Anthropology Field Schools","Activity","FD03","Active","2025-03-17T16:11:52.138121+00:00",null,"SC6199","Materials and Supplies (reclass)","SC6199-Materials and Supplies (reclass)","Spend Category","Active",null,null,"10583","Software - Microsoft (Campus)","10583-Software - Microsoft (Campus)",null,null,null,"AS028827741","Spencer James (028827741) FHSS - School of Family Life","AS028827741-Spencer James (028827741) FHSS - School of Family Life","Active",null,null,null,null,null,null,null,null,null,null,null,"SC1605","SC1605||8000","8000","Depreciation",null,"JE_PPE|JE_Override"]
[null,null,null,null,null,null,"AC00243","[FHSS] Anthropology ELF","AC00243-[FHSS] Anthropology ELF","Activity","FD03","Active","2025-03-17T16:11:52.138121+00:00",null,"SC6301","Scholarships","SC6301-Scholarships","Spend Category","Active",null,null,"10597","Environments","10597-Environments",null,null,null,"AS028889696","Jorge Morales (028889696) Research and Reporting","AS028889696-Jorge Morales (028889696) Research and Reporting","Active",null,null,null,null,null,null,null,null,null,null,null,"SC1615","SC1615||1615","1615","Other Improvements",null,"JE_PPE|JE_Override"]
[null,null,null,null,null,null,"AC00244","[FHSS] Museum People-Fees","AC00244-[FHSS] Museum People-Fees","Activity","FD03","Active","2025-03-17T16:11:52.138121+00:00",null,"SC6302","Graduate Fellowship","SC6302-Graduate Fellowship","Spend Category","Active",null,null,"10626","Business Support","10626-Business Support",null,null,null,"AS028945590","Marianne Ohran (028945590) Fine Arts & Communications - Theatre & Media Arts","AS028945590-Marianne Ohran (028945590) Fine Arts & Communications - Theatre & Media Arts","Active",null,null,null,null,null,null,null,null,null,null,null,"SC1635","SC1635||1635","1635","Misc Capital Assets","Primary","JE_PPE|JE_Override"]
[null,null,null,null,null,null,"AC00245","[FHSS] MPC Joint Projects","AC00245-[FHSS] MPC Joint Projects","Activity","FD03","Active","2025-03-17T16:11:52.138121+00:00",null,"SC6303","Grant","SC6303-Grant","Spend Category","Active",null,null,"10703","BYU Departments","10703-BYU Departments",null,null,null,"AS029024551","Janelle Macintosh (029024551) AVP - Dean, College of Nursing","AS029024551-Janelle Macintosh (029024551) AVP - Dean, College of Nursing","Active",null,null,null,null,null,null,null,null,null,null,null,"SC1635","SC1635||1700","1700","Accumulated Depreciation",null,"JE_PPE|JE_Override"]
[null,null,null,null,null,null,"AC00246","[FHSS] New World Arch Found Pubs","AC00246-[FHSS] New World Arch Found Pubs","Activity","FD03","Active","2025-03-17T16:11:52.138121+00:00",null,"SC6304","Leadership Award","SC6304-Leadership Award","Spend Category","Active",null,null,"10707","Subscriptions/Periodicals","10707-Subscriptions/Periodicals",null,null,null,"AS029076241","Tesia Tsai (029076241) Humanities - English","AS029076241-Tesia Tsai (029076241) Humanities - English","Active",null,null,null,null,null,null,null,null,null,null,null,"SC1635","SC1635||8000","8000","Depreciation",null,"JE_PPE|JE_Override"]
[null,null,null,null,null,null,"AC00247","[FHSS] HR- New World Arch Found","AC00247-[FHSS] HR- New World Arch Found","Activity","FD01","Active","2025-03-17T16:11:52.138121+00:00",null,"SC6305","Tuition Assistance NonBYU Student","SC6305-Tuition Assistance NonBYU Student","Spend Category","Active",null,null,"10708","Dues and Memberships","10708-Dues and Memberships",null,null,null,"AS029154702","Sofia Pesci (029154702) Athletics - Corporate Sponsorships","AS029154702-Sofia Pesci (029154702) Athletics - Corporate Sponsorships","Active",null,null,null,null,null,null,null,null,null,null,null,"SC2010","SC2010||2010","2010","Procurement Card Payable","Primary","All"]
[null,null,null,null,null,null,"AC00248","[FHSS] Economics Club","AC00248-[FHSS] Economics Club","Activity","FD02","Active","2025-03-17T16:11:52.138121+00:00",null,"SC6306","Employee Benefit Tuition Assistance","SC6306-Employee Benefit Tuition Assistance","Spend Category","Active",null,null,"10711","Graduate Studies","10711-Graduate Studies",null,null,null,"AS029227462","Jan Christensen (029227462) FHSS - School of Family Life","AS029227462-Jan Christensen (029227462) FHSS - School of Family Life","Active",null,null,null,null,null,null,null,null,null,null,null,"SC2011","SC2011||2010","2010","Procurement Card Payable","Primary","All"]
[null,null,null,null,null,null,"AC00249","[FHSS] Record Linking Lab","AC00249-[FHSS] Record Linking Lab","Activity","FD02","Active","2025-03-17T16:11:52.138121+00:00",null,"SC6307","Other Student Aid","SC6307-Other Student Aid","Spend Category","Active",null,null,"10726","Investigation-Infrastructure","10726-Investigation-Infrastructure",null,null,null,"AS029391794","Don Powell (029391794) AVP - Dean, Fine Arts and Communications","AS029391794-Don Powell (029391794) AVP - Dean, Fine Arts and Communications","Active",null,null,null,null,null,null,null,null,null,null,null,"SC2020","SC2020||2020","2020","Other and Retainages Payable","Primary","All"]
[null,null,null,null,null,null,"AC00250","[FHSS] P-Ship-Economics-Jrk","AC00250-[FHSS] P-Ship-Economics-Jrk","Activity","FD03","Active","2025-03-17T16:11:52.138121+00:00",null,"SC6308","Research Fellowships","SC6308-Research Fellowships","Spend Category","Active",null,null,"10745","Post Office","10745-Post Office",null,null,null,"AS029788789","Brian Spilker (029788789) MSB - School of Accountancy","AS029788789-Brian Spilker (029788789) MSB - School of Accountancy","Active",null,null,null,null,null,null,null,null,null,null,null,"SC2021","SC2021||2020","2020","Other and Retainages Payable","Primary","All"]
[null,null,null,null,null,null,"AC00252","[FHSS] Economics ELF","AC00252-[FHSS] Economics ELF","Activity","FD03","Active","2025-03-17T16:11:52.138121+00:00",null,"SC6399","Student Aid (reclass)","SC6399-Student Aid (reclass)","Spend Category","Active",null,null,"10759","Computer Rental","10759-Computer Rental",null,null,null,"AS029808262","Rachel Christensen (029808262) Fine Arts & Communications - School of Music","AS029808262-Rachel Christensen (029808262) Fine Arts & Communications - School of Music","Active",null,null,null,null,null,null,null,null,null,null,null,"SC2030","SC2030||2030","2030","Other Payroll Deducts Payable","Primary","All"]
[null,null,null,null,null,null,"AC00253","[FHSS] Geography Student Association","AC00253-[FHSS] Geography Student Association","Activity","FD02","Active","2025-03-17T16:11:52.138121+00:00",null,"SC6401","Advertising","SC6401-Advertising","Spend Category","Active",null,null,"10775","Specialized AV Systems","10775-Specialized AV Systems",null,null,null,"AS029853108","Jessica Mullen (029853108) Athletics - Academic Advisement","AS029853108-Jessica Mullen (029853108) Athletics - Academic Advisement","Active",null,null,null,null,null,null,null,null,null,null,null,"SC2031","SC2031||2030","2030","Other Payroll Deducts Payable","Primary","All"]
[null,null,null,null,null,null,"AC00254","[FHSS] SUPA","AC00254-[FHSS] SUPA","Activity","FD02","Active","2025-03-17T16:11:52.138121+00:00",null,"SC6402","Allocated Indirect Costs","SC6402-Allocated Indirect Costs","Spend Category","Active",null,null,"10777","Open Access Computer Lab","10777-Open Access Computer Lab",null,null,null,"AS029871649","Jennefer Dayton (029871649) HS Administration","AS029871649-Jennefer Dayton (029871649) HS Administration","Active",null,null,null,null,null,null,null,null,null,null,null,"SC2032","SC2032||2030","2030","Other Payroll Deducts Payable","Primary","All"]
[null,null,null,null,null,null,"AC00255","[FHSS] Praemon Student Association","AC00255-[FHSS] Praemon Student Association","Activity","FD02","Active","2025-03-17T16:11:52.138121+00:00",null,"SC6403","Animal Services","SC6403-Animal Services","Spend Category","Active",null,null,"10800","Consulting Services","10800-Consulting Services",null,null,null,"AS030130011","Lori Denning (030130011) Religious Education - Ancient Scripture","AS030130011-Lori Denning (030130011) Religious Education - Ancient Scripture","Active",null,null,null,null,null,null,null,null,null,null,null,"SC2033","SC2033||2030","2030","Other Payroll Deducts Payable","Primary","All"]
[null,null,null,null,null,null,"AC00256","[FHSS] Cartographic Lab","AC00256-[FHSS] Cartographic Lab","Activity","FD03","Active","2025-03-17T16:11:52.138121+00:00",null,"SC6404","Architectural or Engineering Services","SC6404-Architectural or Engineering Services","Spend Category","Active",null,null,"10850","Advisement Tools","10850-Advisement Tools",null,null,null,"AS030164319","Evan Brandley (030164319) Restaurants","AS030164319-Evan Brandley (030164319) Restaurants","Active",null,null,null,null,null,null,null,null,null,null,null,"SC2090","SC2090||2090","2090","Clearing-Accounts Payable","Primary","All"]
[null,null,null,null,null,null,"AC00258","[FHSS] Geography ELF","AC00258-[FHSS] Geography ELF","Activity","FD03","Active","2025-03-17T16:11:52.138121+00:00",null,"SC6405","Art and Design Services","SC6405-Art and Design Services","Spend Category","Active",null,null,"10877","Recruiting Tools","10877-Recruiting Tools",null,null,null,"AS030306005","Jean-Francois Van Huele (030306005) CMS - Physics and Astronomy","AS030306005-Jean-Francois Van Huele (030306005) CMS - Physics and Astronomy","Active",null,null,null,null,null,null,null,null,null,null,null,"SC2100","SC2100||2100","2100","FICA Payable","Primary","All"]
[null,null,null,null,null,null,"AC00259","[FHSS] Phi Alpha Theta","AC00259-[FHSS] Phi Alpha Theta","Activity","FD02","Active","2025-03-17T16:11:52.138121+00:00",null,"SC6406","Athletic Events","SC6406-Athletic Events","Spend Category","Active",null,null,"10878","Registration Tools","10878-Registration Tools",null,null,null,"AS030308835","Brigitte Madrian (030308835) Academic Vice President","AS030308835-Brigitte Madrian (030308835) Academic Vice President","Active",null,null,null,null,null,null,null,null,null,null,null,"SC2105","SC2105||2105","2105","Federal Withholding Payable","Primary","All"]
[null,null,null,null,null,null,"AC00260","[FHSS] Native American Rights","AC00260-[FHSS] Native American Rights","Activity","FD03","Active","2025-03-17T16:11:52.138121+00:00",null,"SC6407","Audio Visual Media Duplication","SC6407-Audio Visual Media Duplication","Spend Category","Active",null,null,"10881","Scheduling Systems","10881-Scheduling Systems",null,null,null,"AS030556343","Jacqueline Deaton (030556343) Humanities - Spanish & Portuguese","AS030556343-Jacqueline Deaton (030556343) Humanities - Spanish & Portuguese","Active",null,null,null,null,null,null,null,null,null,null,null,"SC2110","SC2110||2110","2110","State Payroll Taxes Payable","Primary","All"]
[null,null,null,null,null,null,"AC00262","[FHSS] HIstory ELF","AC00262-[FHSS] HIstory ELF","Activity","FD03","Active","2025-03-17T16:11:52.138121+00:00",null,"SC6408","Bank, Trust, Collection Fees","SC6408-Bank, Trust, Collection Fees","Spend Category","Active",null,null,"10942","Custom Training","10942-Custom Training",null,null,null,"AS030875626","Paul Gillespie (030875626) CE Advisement","AS030875626-Paul Gillespie (030875626) CE Advisement","Active",null,null,null,null,null,null,null,null,null,null,null,"SC2130","SC2130||2130","2130","Sales Tax Payable - Utah","Primary","All"]
[null,null,null,null,null,null,"AC00263","[FHSS] Fam History-Genealogy Projects","AC00263-[FHSS] Fam History-Genealogy Projects","Activity","FD02","Active","2025-03-27T02:04:07.663585+00:00",null,"SC6409","Bad Debt Expense","SC6409-Bad Debt Expense","Spend Category","Active",null,null,"10959","Media Engineering","10959-Media Engineering",null,null,null,"AS030949929","Brandon Smith (030949929) OIT Core - Tech Operations","AS030949929-Brandon Smith (030949929) OIT Core - Tech Operations","Active",null,null,null,null,null,null,null,null,null,null,null,"SC2132","SC2132||2132","2132","Sales Tax Payable-Other States","Primary","All"]
[null,null,null,null,null,null,"AC00264","[FHSS] Pi Sigma Alpha","AC00264-[FHSS] Pi Sigma Alpha","Activity","FD02","Active","2025-03-17T16:11:52.138121+00:00",null,"SC6410","Broadcast Services","SC6410-Broadcast Services","Spend Category","Active",null,null,"10971","Research & Development","10971-Research & Development",null,null,null,"AS030975637","Jennifer Chamberlain (030975637) CE Online Learning","AS030975637-Jennifer Chamberlain (030975637) CE Online Learning","Active",null,null,null,null,null,null,null,null,null,null,null,"SC2140","SC2140||2140","2140","Property Tax Payable","Primary","All"]
[null,null,null,null,null,null,"AC00265","[FHSS] Tocqueville Group","AC00265-[FHSS] Tocqueville Group","Activity","FD02","Active","2025-03-17T16:11:52.138121+00:00",null,"SC6411","Cash Prizes and Contest Payments","SC6411-Cash Prizes and Contest Payments","Spend Category","Active",null,null,"10997","Print Services","10997-Print Services",null,null,null,"AS031137958","Sharlan Montgomery Dunn (031137958) College of Engineering - Civil & Construction Engineering","AS031137958-Sharlan Montgomery Dunn (031137958) College of Engineering - Civil & Construction Engineering","Active",null,null,null,null,null,null,null,null,null,null,null,"SC2150","SC2150||2150","2150","UBIT Payable","Primary","All"]
[null,null,null,null,null,null,"AC00266","[FHSS] College Repub Club","AC00266-[FHSS] College Repub Club","Activity","FD02","Active","2025-03-17T16:11:52.138121+00:00",null,"SC6412","Cell Phones and Plans","SC6412-Cell Phones and Plans","Spend Category","Active",null,null,"11100","Alabama-Birmingham","11100-Alabama-Birmingham",null,null,null,"AS031321791","Becca Pike (031321791) Admissions Office","AS031321791-Becca Pike (031321791) Admissions Office","Active",null,null,null,null,null,null,null,null,null,null,null,"SC2160","SC2160||2160","2160","Other Taxes Payable","Primary","All"]
[null,null,null,null,null,null,"AC00267","[FHSS] College Democrats of BYU","AC00267-[FHSS] College Democrats of BYU","Activity","FD02","Active","2025-03-17T16:11:52.138121+00:00",null,"SC6413","Competition Officiating","SC6413-Competition Officiating","Spend Category","Active",null,null,"11103","Colorado-Colorado Springs","11103-Colorado-Colorado Springs",null,null,null,"AS031368018","Jen Watson (031368018) Fine Arts & Communications - Art","AS031368018-Jen Watson (031368018) Fine Arts & Communications - Art","Active",null,null,null,null,null,null,null,null,null,null,null,"SC2200","SC2200||2200","2200","Accrued Liabilities","Primary","All"]
[null,null,null,null,null,null,"AC00268","[FHSS] Prof-Pol-Sci-Magleby","AC00268-[FHSS] Prof-Pol-Sci-Magleby","Activity","FD03","Active","2025-03-17T16:11:52.138121+00:00",null,"SC6414","Computer Services","SC6414-Computer Services","Spend Category","Active",null,null,"11105","Florida-Tallahassee","11105-Florida-Tallahassee",null,null,null,"AS031530403","Kyle Grossarth (031530403) Athletics - Track & Field","AS031530403-Kyle Grossarth (031530403) Athletics - Track & Field","Active",null,null,null,null,null,null,null,null,null,null,null,"SC2300","SC2300||2300","2300","Deposits Payable","Primary","All"]
[null,null,null,null,null,null,"AC00269","[FHSS] Tocqueville Project","AC00269-[FHSS] Tocqueville Project","Activity","FD03","Active","2025-03-17T16:11:52.138121+00:00",null,"SC6415","Conference and Events Hosting","SC6415-Conference and Events Hosting","Spend Category","Active",null,null,"11110","Nevada-Reno","11110-Nevada-Reno",null,null,null,"AS031559035","Machelle Johnson (031559035) HS Administration","AS031559035-Machelle Johnson (031559035) HS Administration","Active",null,null,null,null,null,null,null,null,null,null,null,"SC2400","SC2400||2400","2400","Annuities Payable","Primary","All"]
[null,null,null,null,null,null,"AC00270","[FHSS] Global Politics Lab - GPL","AC00270-[FHSS] Global Politics Lab - GPL","Activity","FD03","Active","2025-03-17T16:11:52.138121+00:00",null,"SC6416","Conference Registration","SC6416-Conference Registration","Spend Category","Active",null,null,"11111","New York-New York","11111-New York-New York",null,null,null,"AS031820797","Catherine Hendricks (031820797) Asst Adm VP Human Resources","AS031820797-Catherine Hendricks (031820797) Asst Adm VP Human Resources","Active",null,null,null,null,null,null,null,null,null,null,null,"SC2500","SC2500||2500","2500","Notes Payable","Primary","All"]
[null,null,null,null,null,null,"AC00272","[FHSS] Political Science ELF","AC00272-[FHSS] Political Science ELF","Activity","FD03","Active","2025-03-17T16:11:52.138121+00:00",null,"SC6417","Consulting - Financial and Research","SC6417-Consulting - Financial and Research","Spend Category","Active",null,null,"11112","Ohio-Columbus","11112-Ohio-Columbus",null,null,null,"AS032014107","Alyssa Dixon (032014107) CITES","AS032014107-Alyssa Dixon (032014107) CITES","Active",null,null,null,null,null,null,null,null,null,null,null,"SC2510","SC2510||2510","2510","Notes Payable-Church","Primary","All"]
[null,null,null,null,null,null,"AC00273","[FHSS] Poli Sci Sunshine Fund","AC00273-[FHSS] Poli Sci Sunshine Fund","Activity","FD07","Active","2025-03-17T16:11:52.138121+00:00",null,"SC6418","Credit Card Merchant Fees","SC6418-Credit Card Merchant Fees","Spend Category","Active",null,null,"11113","Oregon-Eugene","11113-Oregon-Eugene",null,null,null,"AS032078028","Richard Vanfleet (032078028) CMS - Physics and Astronomy","AS032078028-Richard Vanfleet (032078028) CMS - Physics and Astronomy","Active",null,null,null,null,null,null,null,null,null,null,null,"SC4100","SC4100||1090","1090","Clearing-Cash","Primary","All"]
[null,null,null,null,null,null,"AC00274","[FHSS] CSED Project","AC00274-[FHSS] CSED Project","Activity","FD03","Active","2025-03-17T16:11:52.138121+00:00",null,"SC6419","Data Connectivity Services","SC6419-Data Connectivity Services","Spend Category","Active",null,null,"11116","Tennessee-Chattanooga","11116-Tennessee-Chattanooga",null,null,null,"AS032236373","Jane Fonua (032236373) Enrollment Services Office","AS032236373-Jane Fonua (032236373) Enrollment Services Office","Active",null,null,null,null,null,null,null,null,null,null,null,"SC4100","SC4100||1200","1200","Department Receivable",null,"All"]
[null,null,null,null,null,null,"AC00275","[FHSS] American Family Survey","AC00275-[FHSS] American Family Survey","Activity","FD03","Active","2025-03-17T16:11:52.138121+00:00",null,"SC6420","Educational Facilities - Rent/Lease <=1yr","SC6420-Educational Facilities - Rent/Lease <=1yr","Spend Category","Active",null,null,"11117","Tennessee-Knoxville","11117-Tennessee-Knoxville",null,null,null,"AS032236657","Dennis Tolley (032236657) CMS - Statistics","AS032236657-Dennis Tolley (032236657) CMS - Statistics","Active",null,null,null,null,null,null,null,null,null,null,null,"SC4100","SC4100||2600","2600","Deferred Revenue",null,"All"]
[null,null,null,null,null,null,"AC00276","[FHSS] Psychology","AC00276-[FHSS] Psychology","Activity","FD01","Active","2025-03-17T16:11:52.138121+00:00",null,"SC6421","Employee Development Services","SC6421-Employee Development Services","Spend Category","Active",null,null,"11118","Tennessee-Nashville","11118-Tennessee-Nashville",null,null,null,"AS032391768","Mark Choate (032391768) FHSS - History","AS032391768-Mark Choate (032391768) FHSS - History","Active",null,null,null,null,null,null,null,null,null,null,null,"SC4100","SC4100||4100","4100","Tuition and Fees","Primary","All"]
[null,null,null,null,null,null,"AC00277","[FHSS] Burlingame, Gary Ph D Students","AC00277-[FHSS] Burlingame, Gary Ph D Students","Activity","FD01","Active","2025-03-17T16:11:52.138121+00:00",null,"SC6422","Food Services and Caterers","SC6422-Food Services and Caterers","Spend Category","Active",null,null,"11119","Texas-Austin","11119-Texas-Austin",null,null,null,"AS032404620","Jeff Peters (032404620) Dean's Office - College of Engineering","AS032404620-Jeff Peters (032404620) Dean's Office - College of Engineering","Active",null,null,null,null,null,null,null,null,null,null,null,"SC4901","SC4901||4900","4900","Cost of Sales","Primary","All"]
[null,null,null,null,null,null,"AC00278","[FHSS] Clinical Psychology","AC00278-[FHSS] Clinical Psychology","Activity","FD02","Active","2025-03-17T16:11:52.138121+00:00",null,"SC6423","Foreign Exchange Payment Gain/Loss","SC6423-Foreign Exchange Payment Gain/Loss","Spend Category","Active",null,null,"11120","Texas-San Antonio","11120-Texas-San Antonio",null,null,null,"AS032435928","Anna Bates (032435928) Museum of Art - Exhibit Design","AS032435928-Anna Bates (032435928) Museum of Art - Exhibit Design","Active",null,null,null,null,null,null,null,null,null,null,null,"SC4902","SC4902||4900","4900","Cost of Sales","Primary","All"]
[null,null,null,null,null,null,"AC00279","[FHSS] Clinical Neuropsych Externship","AC00279-[FHSS] Clinical Neuropsych Externship","Activity","FD02","Active","2025-03-17T16:11:52.138121+00:00",null,"SC6424","Franchise Fees","SC6424-Franchise Fees","Spend Category","Active",null,null,"11121","Utah-Iron","11121-Utah-Iron",null,null,null,"AS032480110","Robert Johnson (032480110) Life Sciences - Biology","AS032480110-Robert Johnson (032480110) Life Sciences - Biology","Active",null,null,null,null,null,null,null,null,null,null,null,"SC4903","SC4903||4900","4900","Cost of Sales","Primary","All"]
[null,null,null,null,null,null,"AC00280","[FHSS] Psi Chi","AC00280-[FHSS] Psi Chi","Activity","FD02","Active","2025-03-17T16:11:52.138121+00:00",null,"SC6425","Government Fees","SC6425-Government Fees","Spend Category","Active",null,null,"11122","Texas-Lubbock","11122-Texas-Lubbock",null,null,null,"AS032528222","Dustin Jones (032528222) CE Online Learning","AS032528222-Dustin Jones (032528222) CE Online Learning","Active",null,null,null,null,null,null,null,null,null,null,null,"SC4904","SC4904||4900","4900","Cost of Sales","Primary","All"]
[null,null,null,null,null,null,"AC00281","[FHSS] EEG/ERP Training & Research","AC00281-[FHSS] EEG/ERP Training & Research","Activity","FD03","Active","2025-03-17T16:11:52.138121+00:00",null,"SC6426","Grants Subawards","SC6426-Grants Subawards","Spend Category","Active",null,null,"11126","Washington-Tacoma","11126-Washington-Tacoma",null,null,null,"AS032671402","Robert Ramos (032671402) Advance VP - Director, Athletics","AS032671402-Robert Ramos (032671402) Advance VP - Director, Athletics","Active",null,null,null,null,null,null,null,null,null,null,null,"SC5000","SC5000||5000","5000","Salaries and Wages","Primary","JE_Payroll|JE_Override"]
[null,null,null,null,null,null,"AC00282","[FHSS] Steven Luke Psychology","AC00282-[FHSS] Steven Luke Psychology","Activity","FD03","Active","2025-03-17T16:11:52.138121+00:00",null,"SC6427","Hosted Entertainment","SC6427-Hosted Entertainment","Spend Category","Active",null,null,"11127","Washington-Tri-Cities","11127-Washington-Tri-Cities",null,null,null,"AS032715097","Valori Tanner (032715097) Retail Services - BYU Store","AS032715097-Valori Tanner (032715097) Retail Services - BYU Store","Active",null,null,null,null,null,null,null,null,null,null,null,"SC5009","SC5009||5000","5000","Salaries and Wages","Primary","All"]
[null,null,null,null,null,null,"AC00283","[FHSS] Melissa Jones GMA","AC00283-[FHSS] Melissa Jones GMA","Activity","FD03","Active","2025-03-17T16:11:52.138121+00:00",null,"SC6428","Hosted Meals","SC6428-Hosted Meals","Spend Category","Active",null,null,"11128","Washington-Spokane","11128-Washington-Spokane",null,null,null,"AS032720112","Brooke Anderson (032720112) Advisement Computing, Math and Science","AS032720112-Brooke Anderson (032720112) Advisement Computing, Math and Science","Active",null,null,null,null,null,null,null,null,null,null,null,"SC5030","SC5030||5000","5000","Salaries and Wages","Primary","JE_Payroll|JE_Override"]
[null,null,null,null,null,null,"AC00284","[FHSS] Dee Higley GMA","AC00284-[FHSS] Dee Higley GMA","Activity","FD03","Active","2025-03-17T16:11:52.138121+00:00",null,"SC6429","Insurance","SC6429-Insurance","Spend Category","Active",null,null,"11129","Washington-Vancouver","11129-Washington-Vancouver",null,null,null,"AS032878961","David P Stringfellow (032878961) PF Building Projects, Maintenance & Transportation Services","AS032878961-David P Stringfellow (032878961) PF Building Projects, Maintenance & Transportation Services","Active",null,null,null,null,null,null,null,null,null,null,null,"SC5100","SC5100||5000","5000","Salaries and Wages","Primary","JE_Payroll|JE_Override"]
[null,null,null,null,null,null,"AC00285","[FHSS] B Brown Translation Medicine","AC00285-[FHSS] B Brown Translation Medicine","Activity","FD03","Active","2025-03-17T16:11:52.138121+00:00",null,"SC6430","Janitorial Services","SC6430-Janitorial Services","Spend Category","Active",null,null,"11130","WI Milwaukee","11130-WI Milwaukee",null,null,null,"AS032973061","Joseph McMurray (032973061) FHSS - Economics","AS032973061-Joseph McMurray (032973061) FHSS - Economics","Active",null,null,null,null,null,null,null,null,null,null,null,"SC5109","SC5109||5000","5000","Salaries and Wages","Primary","All"]
[null,null,null,null,null,null,"AC00287","[FHSS] Psychology ELF","AC00287-[FHSS] Psychology ELF","Activity","FD03","Active","2025-03-17T16:11:52.138121+00:00",null,"SC6431","Laundry Services","SC6431-Laundry Services","Spend Category","Active",null,null,"11131","WI Madison","11131-WI Madison",null,null,null,"AS032979023","Julee Braithwaite (032979023) Fine Arts & Communications - Dean's Office","AS032979023-Julee Braithwaite (032979023) Fine Arts & Communications - Dean's Office","Active",null,null,null,null,null,null,null,null,null,null,null,"SC5120","SC5120||5000","5000","Salaries and Wages","Primary","JE_Payroll|JE_Override"]
[null,null,null,null,null,null,"AC00288","[FHSS] MFHD Graduate Funds","AC00288-[FHSS] MFHD Graduate Funds","Activity","FD01","Active","2025-03-17T16:11:52.138121+00:00",null,"SC6432","Legal Services","SC6432-Legal Services","Spend Category","Active",null,null,"11145","Singapore-Singapore","11145-Singapore-Singapore",null,null,null,"AS033040609","Ben Bagley (033040609) BYU Broadcasting - Sports","AS033040609-Ben Bagley (033040609) BYU Broadcasting - Sports","Active",null,null,null,null,null,null,null,null,null,null,null,"SC5130","SC5130||5000","5000","Salaries and Wages","Primary","JE_Payroll|JE_Override"]
[null,null,null,null,null,null,"AC00289","[FHSS] MFT Graduate Funds","AC00289-[FHSS] MFT Graduate Funds","Activity","FD01","Active","2025-03-17T16:11:52.138121+00:00",null,"SC6433","Medical Services","SC6433-Medical Services","Spend Category","Active",null,null,"11149","New Mexico-Farmington","11149-New Mexico-Farmington",null,null,null,"AS033275920","Robyn Damon (033275920) Student Connection and Leadership Center","AS033275920-Robyn Damon (033275920) Student Connection and Leadership Center","Active",null,null,null,null,null,null,null,null,null,null,null,"SC5190","SC5190||5000","5000","Salaries and Wages","Primary","JE_Payroll|JE_Override"]
[null,null,null,null,null,null,"AC00290","[FHSS] Relate Institute","AC00290-[FHSS] Relate Institute","Activity","FD02","Active","2025-03-17T16:11:52.138121+00:00",null,"SC6434","Membership Dues","SC6434-Membership Dues","Spend Category","Active",null,null,"11150","Leadership Conference","11150-Leadership Conference",null,null,null,"AS033285124","Kory Staheli (033285124) Law School - Law Library","AS033285124-Kory Staheli (033285124) Law School - Law Library","Active",null,null,null,null,null,null,null,null,null,null,null,"SC5300","SC5300||5000","5000","Salaries and Wages","Primary","JE_Payroll|JE_Override"]
[null,null,null,null,null,null,"AC00291","[FHSS] Sewing Lab 185","AC00291-[FHSS] Sewing Lab 185","Activity","FD02","Active","2025-03-17T16:11:52.138121+00:00",null,"SC6435","Misc Independent Contractors","SC6435-Misc Independent Contractors","Spend Category","Active",null,null,"11151","Alaska, Anchorage","11151-Alaska, Anchorage",null,null,null,"AS033334487","Julia Qiao (033334487) Alumni Aspen Grove","AS033334487-Julia Qiao (033334487) Alumni Aspen Grove","Active",null,null,null,null,null,null,null,null,null,null,null,"SC5309","SC5309||5000","5000","Salaries and Wages","Primary","All"]
[null,null,null,null,null,null,"AC00292","[FHSS] Family Life Education Support","AC00292-[FHSS] Family Life Education Support","Activity","FD02","Active","2025-03-17T16:11:52.138121+00:00",null,"SC6436","Non-BYU Tuition Payment","SC6436-Non-BYU Tuition Payment","Spend Category","Active",null,null,"11153","Ohio, Cleveland","11153-Ohio, Cleveland",null,null,null,"AS033363707","Jon Rodriguez (033363707) Lee Library - Information Technology","AS033363707-Jon Rodriguez (033363707) Lee Library - Information Technology","Active",null,null,null,null,null,null,null,null,null,null,null,"SC5320","SC5320||5000","5000","Salaries and Wages","Primary","JE_Payroll|JE_Override"]
[null,null,null,null,null,null,"AC00293","[FHSS] Schl of Fam Life Student Assoc","AC00293-[FHSS] Schl of Fam Life Student Assoc","Activity","FD02","Active","2025-03-17T16:11:52.138121+00:00",null,"SC6437","Out of State Worker Contracts","SC6437-Out of State Worker Contracts","Spend Category","Active",null,null,"11206","Honored Alumni","11206-Honored Alumni",null,null,null,"AS033388524","Christopher Flood (033388524) Humanities - French & Italian Languages","AS033388524-Christopher Flood (033388524) Humanities - French & Italian Languages","Active",null,null,null,null,null,null,null,null,null,null,null,"SC5400","SC5400||5000","5000","Salaries and Wages","Primary","JE_Payroll|JE_Override"]
[null,null,null,null,null,null,"AC00294","[FHSS] Food Preparation Lab","AC00294-[FHSS] Food Preparation Lab","Activity","FD02","Active","2025-03-17T16:11:52.138121+00:00",null,"SC6438","Performers/Presenters","SC6438-Performers/Presenters","Spend Category","Active",null,null,"11300","ATH Office Administration","11300-ATH Office Administration",null,null,null,"AS033469928","Dan Graham (033469928) Athletics - Olympic Sport Medicine","AS033469928-Dan Graham (033469928) Athletics - Olympic Sport Medicine","Active",null,null,null,null,null,null,null,null,null,null,null,"SC5409","SC5409||5000","5000","Salaries and Wages","Primary","All"]
[null,null,null,null,null,null,"AC00295","[FHSS] U3 Research","AC00295-[FHSS] U3 Research","Activity","FD03","Active","2025-03-17T16:11:52.138121+00:00",null,"SC6439","Pest Control Services","SC6439-Pest Control Services","Spend Category","Active",null,null,"11303","ATH E Club","11303-ATH E Club",null,null,null,"AS033487669","Karen Abbott (033487669) Indefinite Leaves","AS033487669-Karen Abbott (033487669) Indefinite Leaves","Active",null,null,null,null,null,null,null,null,null,null,null,"SC5430","SC5430||5000","5000","Salaries and Wages","Primary","JE_Payroll|JE_Override"]
[null,null,null,null,null,null,"AC00296","[FHSS] Sexual Mindfulness","AC00296-[FHSS] Sexual Mindfulness","Activity","FD03","Active","2025-03-17T16:11:52.138121+00:00",null,"SC6440","Portable Structures-Rent/Lease <=1yr","SC6440-Portable Structures-Rent/Lease <=1yr","Spend Category","Active",null,null,"11307","ATH Cougar Room","11307-ATH Cougar Room",null,null,null,"AS033938754","Patrick Weaver (033938754) Cougareat","AS033938754-Patrick Weaver (033938754) Cougareat","Active",null,null,null,null,null,null,null,null,null,null,null,"SC5500","SC5500||5000","5000","Salaries and Wages","Primary","JE_Payroll|JE_Override"]
[null,null,null,null,null,null,"AC00297","[FHSS] Family Finance Research - F2R3","AC00297-[FHSS] Family Finance Research - F2R3","Activity","FD03","Active","2025-03-17T16:11:52.138121+00:00",null,"SC6441","Postage, Shipping and Freight","SC6441-Postage, Shipping and Freight","Spend Category","Active",null,null,"11310","Golf Events","11310-Golf Events",null,null,null,"AS034049120","Rob Martinsen (034049120) Humanities - Spanish & Portuguese","AS034049120-Rob Martinsen (034049120) Humanities - Spanish & Portuguese","Active",null,null,null,null,null,null,null,null,null,null,null,"SC5502","SC5502||5000","5000","Salaries and Wages","Primary","JE_Payroll|JE_Override"]
[null,null,null,null,null,null,"AC00298","[FHSS] Jackling Home Economics Fund","AC00298-[FHSS] Jackling Home Economics Fund","Activity","FD03","Active","2025-03-17T16:11:52.138121+00:00",null,"SC6442","Printing Services","SC6442-Printing Services","Spend Category","Active",null,null,"11311","ATH Hall of Fame","11311-ATH Hall of Fame",null,null,null,"AS034199857","David Brownell (034199857) Lee Library - Information Technology","AS034199857-David Brownell (034199857) Lee Library - Information Technology","Active",null,null,null,null,null,null,null,null,null,null,null,"SC5509","SC5509||5000","5000","Salaries and Wages","Primary","All"]
[null,null,null,null,null,null,"AC00299","[FHSS] Health Sexuality Research","AC00299-[FHSS] Health Sexuality Research","Activity","FD03","Active","2025-03-17T16:11:52.138121+00:00",null,"SC6443","Production Services","SC6443-Production Services","Spend Category","Active",null,null,"11312","ATH Legacy","11312-ATH Legacy",null,null,null,"AS034332558","Cheree Caldwell (034332558) MSE  - Teacher Education","AS034332558-Cheree Caldwell (034332558) MSE  - Teacher Education","Active",null,null,null,null,null,null,null,null,null,null,null,"SC5600","SC5600||5000","5000","Salaries and Wages","Primary","JE_Payroll|JE_Override"]
[null,null,null,null,null,null,"AC00300","[FHSS] MFT Process Project","AC00300-[FHSS] MFT Process Project","Activity","FD03","Active","2025-03-17T16:11:52.138121+00:00",null,"SC6444","Promotional and Branded Items","SC6444-Promotional and Branded Items","Spend Category","Active",null,null,"11313","ATH CC Trip","11313-ATH CC Trip",null,null,null,"AS034432760","Ronnie Foo (034432760) Cannon Center","AS034432760-Ronnie Foo (034432760) Cannon Center","Active",null,null,null,null,null,null,null,null,null,null,null,"SC5602","SC5602||5000","5000","Salaries and Wages","Primary","JE_Payroll|JE_Override"]
[null,null,null,null,null,null,"AC00301","[FHSS] PACIFIC Project","AC00301-[FHSS] PACIFIC Project","Activity","FD03","Active","2025-03-17T16:11:52.138121+00:00",null,"SC6445","Public Safety Services","SC6445-Public Safety Services","Spend Category","Active",null,null,"11318","ATH Cougar Strong","11318-ATH Cougar Strong",null,null,null,"AS034526225","Laura Dahl (034526225) CMS - Computer Science","AS034526225-Laura Dahl (034526225) CMS - Computer Science","Active",null,null,null,null,null,null,null,null,null,null,null,"SC5609","SC5609||5000","5000","Salaries and Wages","Primary","All"]
[null,null,null,null,null,null,"AC00302","[FHSS] Media Project","AC00302-[FHSS] Media Project","Activity","FD03","Active","2025-03-17T16:11:52.138121+00:00",null,"SC6446","Publication Services","SC6446-Publication Services","Spend Category","Active",null,null,"11319","ATH GoCougs.com","11319-ATH GoCougs.com",null,null,null,"AS034669016","Akash Sebastian (034669016) Athletics - Men's Basketball","AS034669016-Akash Sebastian (034669016) Athletics - Men's Basketball","Active",null,null,null,null,null,null,null,null,null,null,null,"SC5700","SC5700||5000","5000","Salaries and Wages","Primary","JE_Payroll|JE_Override"]
[null,null,null,null,null,null,"AC00303","[FHSS] Williams Prof-ship C H Hart","AC00303-[FHSS] Williams Prof-ship C H Hart","Activity","FD03","Active","2025-03-17T16:11:52.138121+00:00",null,"SC6447","Real Estate - Rent/Lease <=1yr","SC6447-Real Estate - Rent/Lease <=1yr","Spend Category","Active",null,null,"11323","ATH Cougar Room","11323-ATH Cougar Room",null,null,null,"AS035026299","Jeff Bednar (035026299) MSB - Management","AS035026299-Jeff Bednar (035026299) MSB - Management","Active",null,null,null,null,null,null,null,null,null,null,null,"SC5709","SC5709||5000","5000","Salaries and Wages","Primary","All"]
[null,null,null,null,null,null,"AC00304","[FHSS] READY Project","AC00304-[FHSS] READY Project","Activity","FD03","Active","2025-03-17T16:11:52.138121+00:00",null,"SC6448","Real Estate - Rent/Lease >1yr","SC6448-Real Estate - Rent/Lease >1yr","Spend Category","Active",null,null,"11324","ATH ATH CC Same Day Trips","11324-ATH ATH CC Same Day Trips",null,null,null,"AS035310543","Niwako Yamawaki (035310543) AVP - Dean, Family Home Social Science (FHSS)","AS035310543-Niwako Yamawaki (035310543) AVP - Dean, Family Home Social Science (FHSS)","Active",null,null,null,null,null,null,null,null,null,null,null,"SC5730","SC5730||5000","5000","Salaries and Wages","Primary","JE_Payroll|JE_Override"]
[null,null,null,null,null,null,"AC00305","[FHSS] American Families of Faith","AC00305-[FHSS] American Families of Faith","Activity","FD03","Active","2025-03-17T16:11:52.138121+00:00",null,"SC6449","Rent/Lease < = 1 year","SC6449-Rent/Lease < = 1 year","Spend Category","Active",null,null,"11325","ATH Y Fan","11325-ATH Y Fan",null,null,null,"AS035345304","Craig Shaw (035345304) College of Engineering - Civil & Construction Engineering","AS035345304-Craig Shaw (035345304) College of Engineering - Civil & Construction Engineering","Active",null,null,null,null,null,null,null,null,null,null,null,"SC5800","SC5800||5000","5000","Salaries and Wages","Primary","JE_Payroll|JE_Override"]
[null,null,null,null,null,null,"AC00306","[FHSS] CREATE Project","AC00306-[FHSS] CREATE Project","Activity","FD03","Active","2025-03-25T02:03:53.792937+00:00",null,"SC6450","Rent/Lease >1 Year","SC6450-Rent/Lease >1 Year","Spend Category","Active",null,null,"11326","ATH Regular Cougar","11326-ATH Regular Cougar",null,null,null,"AS035448980","Christina Johnson (035448980) Dean's Office Humanities","AS035448980-Christina Johnson (035448980) Dean's Office Humanities","Active",null,null,null,null,null,null,null,null,null,null,null,"SC5860","SC5860||5000","5000","Salaries and Wages","Primary","JE_Payroll|JE_Override"]
[null,null,null,null,null,null,"AC00307","[FHSS] CHAMPS Project","AC00307-[FHSS] CHAMPS Project","Activity","FD03","Active","2025-03-17T16:11:52.138121+00:00",null,"SC6451","Research Subjects","SC6451-Research Subjects","Spend Category","Active",null,null,"11327","ATH Bronze Cougar","11327-ATH Bronze Cougar",null,null,null,"AS035589209","Julie Kaio (035589209) PMPC Administration","AS035589209-Julie Kaio (035589209) PMPC Administration","Active",null,null,null,null,null,null,null,null,null,null,null,"SC5890","SC5890||5800","5800","Project Labor Cost","Primary","JE_Payroll|JE_Override"]
[null,null,null,null,null,null,"AC00308","[FHSS] Suicide Bereavement","AC00308-[FHSS] Suicide Bereavement","Activity","FD03","Active","2025-03-17T16:11:52.138121+00:00",null,"SC6452","Royalties and Licensing Fees","SC6452-Royalties and Licensing Fees","Spend Category","Active",null,null,"11328","ATH Platinum Cougar","11328-ATH Platinum Cougar",null,null,null,"AS035603264","Selma Alexandre (035603264) Lee Library - Metadata & IT Division","AS035603264-Selma Alexandre (035603264) Lee Library - Metadata & IT Division","Active",null,null,null,null,null,null,null,null,null,null,null,"SC5891","SC5891||5801","5801","Project Labor Cost Recovery","Primary","JE_Payroll|JE_Override"]
[null,null,null,null,null,null,"AC00309","[FHSS] ADEPT Project","AC00309-[FHSS] ADEPT Project","Activity","FD03","Active","2025-03-17T16:11:52.138121+00:00",null,"SC6453","Scientific Services","SC6453-Scientific Services","Spend Category","Active",null,null,"11329","ATH Silver Cougar","11329-ATH Silver Cougar",null,null,null,"AS035657201","JanaLee Longhurst (035657201) Jerusalem Center","AS035657201-JanaLee Longhurst (035657201) Jerusalem Center","Active",null,null,null,null,null,null,null,null,null,null,null,"SC5892","SC5892||5800","5800","Project Labor Cost","Primary","JE_Payroll|JE_Override"]
[null,null,null,null,null,null,"AC00310","[FHSS] Global Families Research","AC00310-[FHSS] Global Families Research","Activity","FD03","Active","2025-03-17T16:11:52.138121+00:00",null,"SC6454","Screening Services","SC6454-Screening Services","Spend Category","Active",null,null,"11330","ATH Golden Cougar","11330-ATH Golden Cougar",null,null,null,"AS035783483","James Oldroyd (035783483) MSB - Management","AS035783483-James Oldroyd (035783483) MSB - Management","Active",null,null,null,null,null,null,null,null,null,null,null,"SC5893","SC5893||5801","5801","Project Labor Cost Recovery","Primary","JE_Payroll|JE_Override"]
[null,null,null,null,null,null,"AC00312","[FHSS] SFL Writing Program","AC00312-[FHSS] SFL Writing Program","Activity","FD03","Active","2025-03-17T16:11:52.138121+00:00",null,"SC6455","Services (not otherwise specified)","SC6455-Services (not otherwise specified)","Spend Category","Active",null,null,"11331","ATH ATH CC Football Trip","11331-ATH ATH CC Football Trip",null,null,null,"AS035835926","Tyson Hutchins (035835926) Athletics - External Relations","AS035835926-Tyson Hutchins (035835926) Athletics - External Relations","Active",null,null,null,null,null,null,null,null,null,null,null,"SC5899","SC5899||5000","5000","Salaries and Wages","Primary","All"]
[null,null,null,null,null,null,"AC00313","[FHSS] RESTARTS","AC00313-[FHSS] RESTARTS","Activity","FD03","Active","2025-03-17T16:11:52.138121+00:00",null,"SC6456","Shared Partner Services","SC6456-Shared Partner Services","Spend Category","Active",null,null,"11332","ATH Legacy 2","11332-ATH Legacy 2",null,null,null,"AS035905773","Todd Cope (035905773) HS General Medicine - Nursing","AS035905773-Todd Cope (035905773) HS General Medicine - Nursing","Active",null,null,null,null,null,null,null,null,null,null,null,"SC5900","SC5900||5900","5900","Benefits","Primary","JE_Payroll|JE_Override"]
[null,null,null,null,null,null,"AC00314","[FHSS] Child Marriage in Ghana","AC00314-[FHSS] Child Marriage in Ghana","Activity","FD03","Active","2025-03-17T16:11:52.138121+00:00",null,"SC6457","Student Teacher Supervision","SC6457-Student Teacher Supervision","Spend Category","Active",null,null,"11333","ATH Legacy 3","11333-ATH Legacy 3",null,null,null,"AS036096603","Kasey Walker (036096603) CE FSY West","AS036096603-Kasey Walker (036096603) CE FSY West","Active",null,null,null,null,null,null,null,null,null,null,null,"SC5910","SC5910||5900","5900","Benefits","Primary","JE_Payroll|JE_Override"]
[null,null,null,null,null,null,"AC00315","[FHSS] Festivals Project","AC00315-[FHSS] Festivals Project","Activity","FD03","Active","2025-03-17T16:11:52.138121+00:00",null,"SC6458","Subscriptions","SC6458-Subscriptions","Spend Category","Active",null,null,"11334","ATH Legacy 4","11334-ATH Legacy 4",null,null,null,"AS036185835","David Lund (036185835) CE Student Success Center","AS036185835-David Lund (036185835) CE Student Success Center","Active",null,null,null,null,null,null,null,null,null,null,null,"SC5930","SC5930||5900","5900","Benefits","Primary","JE_Payroll|JE_Override"]
[null,null,null,null,null,null,"AC00316","[FHSS] Project M.E.D.I.A. PIA","AC00316-[FHSS] Project M.E.D.I.A. PIA","Activity","FD03","Active","2025-03-17T16:11:52.138121+00:00",null,"SC6459","Taxes","SC6459-Taxes","Spend Category","Active",null,null,"11335","ATH Legacy 5","11335-ATH Legacy 5",null,null,null,"AS036343192","Stephen Banks (036343192) PF Grounds - Landscaping Specialty","AS036343192-Stephen Banks (036343192) PF Grounds - Landscaping Specialty","Active",null,null,null,null,null,null,null,null,null,null,null,"SC5940","SC5940||5900","5900","Benefits","Primary","JE_Payroll|JE_Override"]
[null,null,null,null,null,null,"AC00318","[FHSS] SFL ELF","AC00318-[FHSS] SFL ELF","Activity","FD03","Active","2025-03-17T16:11:52.138121+00:00",null,"SC6460","Testing Services","SC6460-Testing Services","Spend Category","Active",null,null,"11336","ATH Legacy 6","11336-ATH Legacy 6",null,null,null,"AS036388489","Maddie Blonquist (036388489) Museum of Art","AS036388489-Maddie Blonquist (036388489) Museum of Art","Active",null,null,null,null,null,null,null,null,null,null,null,"SC5950","SC5950||5900","5900","Benefits","Primary","JE_Payroll|JE_Override"]
[null,null,null,null,null,null,"AC00319","[FHSS] Home Economics Sunshine Fund","AC00319-[FHSS] Home Economics Sunshine Fund","Activity","FD07","Active","2025-03-17T16:11:52.138121+00:00",null,"SC6461","TV, Media Subscription Services","SC6461-TV, Media Subscription Services","Spend Category","Active",null,null,"11338","Fund Raising","11338-Fund Raising",null,null,null,"AS036395666","Amy Tanner (036395666) CMS - Mathematics Education","AS036395666-Amy Tanner (036395666) CMS - Mathematics Education","Active",null,null,null,null,null,null,null,null,null,null,null,"SC5970","SC5970||5900","5900","Benefits","Primary","JE_Payroll|JE_Override"]
[null,null,null,null,null,null,"AC00320","[FHSS] Flourishing Families II","AC00320-[FHSS] Flourishing Families II","Activity","FD03","Active","2025-03-17T16:11:52.138121+00:00",null,"SC6462","University Donations","SC6462-University Donations","Spend Category","Active",null,null,"11339","ATH AD Circle","11339-ATH AD Circle",null,null,null,"AS036515720","John Burton (036515720) MSB - Experience Design & Management","AS036515720-John Burton (036515720) MSB - Experience Design & Management","Active",null,null,null,null,null,null,null,null,null,null,null,"SC5990","SC5990||5900","5900","Benefits","Primary","JE_Payroll|JE_Override"]
[null,null,null,null,null,null,"AC00321","[FHSS] Fam Clinic Fam Consl","AC00321-[FHSS] Fam Clinic Fam Consl","Activity","FD02","Active","2025-03-17T16:11:52.138121+00:00",null,"SC6463","Waste Disposal Services","SC6463-Waste Disposal Services","Spend Category","Active",null,null,"11342","Lifetime Silver","11342-Lifetime Silver",null,null,null,"AS036534225","Mark Tanner (036534225) Humanities - Linguistics","AS036534225-Mark Tanner (036534225) Humanities - Linguistics","Active",null,null,null,null,null,null,null,null,null,null,null,"SC5995","SC5995||5900","5900","Benefits","Primary","JE_Payroll|JE_Override"]
[null,null,null,null,null,null,"AC00322","[FHSS] C&FSL Business Operations","AC00322-[FHSS] C&FSL Business Operations","Activity","FD02","Active","2025-04-05T02:04:05.378113+00:00",null,"SC6464","Facilities and Administration Expense","SC6464-Facilities and Administration Expense","Spend Category","Active",null,null,"11352","Events","11352-Events",null,null,null,"AS036625497","James Swensen (036625497) Humanities - Comparative Arts & Letters","AS036625497-James Swensen (036625497) Humanities - Comparative Arts & Letters","Active",null,null,null,null,null,null,null,null,null,null,null,"SC5998","SC5998||5900","5900","Benefits","Primary","JE_Payroll|JE_Override"]
[null,null,null,null,null,null,"AC00323","[FHSS] Social Work","AC00323-[FHSS] Social Work","Activity","FD01","Active","2025-03-17T16:11:52.138121+00:00",null,"SC6465","Facilities and Administration Recovery","SC6465-Facilities and Administration Recovery","Spend Category","Active",null,null,"11353","Football","11353-Football",null,null,null,"AS036662118","Fenima Price (036662118) College of Engineering - Mechanical Engineering","AS036662118-Fenima Price (036662118) College of Engineering - Mechanical Engineering","Active",null,null,null,null,null,null,null,null,null,null,null,"SC5999","SC5999||5900","5900","Benefits","Primary","All"]
[null,null,null,null,null,null,"AC00324","[FHSS] Master of Social Work St Assoc","AC00324-[FHSS] Master of Social Work St Assoc","Activity","FD02","Active","2025-03-17T16:11:52.138121+00:00",null,"SC6466","Income Taxes","SC6466-Income Taxes","Spend Category","Active",null,null,"11354","Basketball Men's","11354-Basketball Men's",null,null,null,"AS036712284","Morgan Davis (036712284) Neal A. Maxwell Institute","AS036712284-Morgan Davis (036712284) Neal A. Maxwell Institute","Active",null,null,null,null,null,null,null,null,null,null,null,"SC6101","SC6101||1400","1400","Prepaid Expenses",null,"All"]
[null,null,null,null,null,null,"AC00326","[FHSS] Social Work ELF","AC00326-[FHSS] Social Work ELF","Activity","FD03","Active","2025-03-17T16:11:52.138121+00:00",null,"SC6467","Donation to Affiliate","SC6467-Donation to Affiliate","Spend Category","Active",null,null,"11355","Band Day","11355-Band Day",null,null,null,"AS036967697","Todd Fluckiger (036967697) Chemistry and Biochemistry","AS036967697-Todd Fluckiger (036967697) Chemistry and Biochemistry","Active",null,null,null,null,null,null,null,null,null,null,null,"SC6101","SC6101||6100","6100","Materials and Supplies","Primary","All"]
[null,null,null,null,null,null,"AC00327","[FHSS] Sociology Graduate Prog.","AC00327-[FHSS] Sociology Graduate Prog.","Activity","FD01","Active","2025-03-17T16:11:52.138121+00:00",null,"SC6499","General and Administrative (reclass)","SC6499-General and Administrative (reclass)","Spend Category","Active",null,null,"11358","Basketball Women's","11358-Basketball Women's",null,null,null,"AS037313380","Ernest Perry (037313380) Civil and Construction Enginee","AS037313380-Ernest Perry (037313380) Civil and Construction Enginee","Active",null,null,null,null,null,null,null,null,null,null,null,"SC6102","SC6102||1400","1400","Prepaid Expenses",null,"All"]
[null,null,null,null,null,null,"AC00328","[FHSS] Life & Family Legacies Study","AC00328-[FHSS] Life & Family Legacies Study","Activity","FD01","Active","2025-03-17T16:11:52.138121+00:00",null,"SC6610","Interest Expense","SC6610-Interest Expense","Spend Category","Active",null,null,"11359","Gymnastics","11359-Gymnastics",null,null,null,"AS037487026","Steve Blanthorn (037487026) HS Administration","AS037487026-Steve Blanthorn (037487026) HS Administration","Active",null,null,null,null,null,null,null,null,null,null,null,"SC6102","SC6102||6100","6100","Materials and Supplies","Primary","All"]
[null,null,null,null,null,null,"AC00329","[FHSS] Sociology Student Association","AC00329-[FHSS] Sociology Student Association","Activity","FD02","Active","2025-03-17T16:11:52.138121+00:00",null,"SC6701","Building Access Supplies","SC6701-Building Access Supplies","Spend Category","Active",null,null,"11360","Christmas Around the World","11360-Christmas Around the World",null,null,null,"AS037491809","Chelsea Cole (037491809) MSE  - Teacher Education","AS037491809-Chelsea Cole (037491809) MSE  - Teacher Education","Active",null,null,null,null,null,null,null,null,null,null,null,"SC6103","SC6103||1400","1400","Prepaid Expenses",null,"All"]
[null,null,null,null,null,null,"AC00330","[FHSS] Rural Socialogy Journal","AC00330-[FHSS] Rural Socialogy Journal","Activity","FD02","Active","2025-03-17T16:11:52.138121+00:00",null,"SC6702","Building Construction and Improvements","SC6702-Building Construction and Improvements","Spend Category","Active",null,null,"11361","Ballroom Dance - Sport","11361-Ballroom Dance - Sport",null,null,null,"AS037502553","Josh Price (037502553) CMS - Chemistry and Biochemistry","AS037502553-Josh Price (037502553) CMS - Chemistry and Biochemistry","Active",null,null,null,null,null,null,null,null,null,null,null,"SC6103","SC6103||6100","6100","Materials and Supplies","Primary","All"]
[null,null,null,null,null,null,"AC00331","[FHSS] Life & Family Legacies Study","AC00331-[FHSS] Life & Family Legacies Study","Activity","FD03","Active","2025-03-17T16:11:52.138121+00:00",null,"SC6703","Building Furnishings","SC6703-Building Furnishings","Spend Category","Active",null,null,"11362","Ballroom Dance - Concert","11362-Ballroom Dance - Concert",null,null,null,"AS037546469","John Patten (037546469) AVP - Dean, McKay School of Education (MSE)","AS037546469-John Patten (037546469) AVP - Dean, McKay School of Education (MSE)","Active",null,null,null,null,null,null,null,null,null,null,null,"SC6104","SC6104||1400","1400","Prepaid Expenses",null,"All"]
[null,null,null,null,null,null,"AC00332","[FHSS] Graduate Studies (TR)","AC00332-[FHSS] Graduate Studies (TR)","Activity","FD03","Active","2025-03-17T16:11:52.138121+00:00",null,"SC6704","Building Materials - Finishing","SC6704-Building Materials - Finishing","Spend Category","Active",null,null,"11363","Korean Club Bobsim","11363-Korean Club Bobsim",null,null,null,"AS037553377","Adam Brewer (037553377) FHSS - History","AS037553377-Adam Brewer (037553377) FHSS - History","Active",null,null,null,null,null,null,null,null,null,null,null,"SC6104","SC6104||6100","6100","Materials and Supplies","Primary","All"]
[null,null,null,null,null,null,"AC00333","[FHSS] Fatherhood Research Project","AC00333-[FHSS] Fatherhood Research Project","Activity","FD03","Active","2025-03-17T16:11:52.138121+00:00",null,"SC6705","Building Materials - Raw","SC6705-Building Materials - Raw","Spend Category","Active",null,null,"11364","Stadium of Fire","11364-Stadium of Fire",null,null,null,"AS037652184","Rachel McGovern (037652184) FHSS - School of Family Life","AS037652184-Rachel McGovern (037652184) FHSS - School of Family Life","Active",null,null,null,null,null,null,null,null,null,null,null,"SC6105","SC6105||1400","1400","Prepaid Expenses",null,"All"]
[null,null,null,null,null,null,"AC00335","[FHSS] Sociology ELF","AC00335-[FHSS] Sociology ELF","Activity","FD03","Active","2025-03-17T16:11:52.138121+00:00",null,"SC6706","Electrical Devices","SC6706-Electrical Devices","Spend Category","Active",null,null,"11365","Museum Exhibit","11365-Museum Exhibit",null,null,null,"AS037842686","Nina Whitehead (037842686) Marketing, Communications, & Technology","AS037842686-Nina Whitehead (037842686) Marketing, Communications, & Technology","Active",null,null,null,null,null,null,null,null,null,null,null,"SC6105","SC6105||6100","6100","Materials and Supplies","Primary","All"]
[null,null,null,null,null,null,"AC00336","[LFSC] Life Sciences Communications","AC00336-[LFSC] Life Sciences Communications","Activity","FD01","Active","2025-03-17T16:11:52.138121+00:00",null,"SC6707","Electrical Supplies","SC6707-Electrical Supplies","Spend Category","Active",null,null,"11368","Other Events","11368-Other Events",null,null,null,"AS037893603","Eric Eliason (037893603) Humanities - English","AS037893603-Eric Eliason (037893603) Humanities - English","Active",null,null,null,null,null,null,null,null,null,null,null,"SC6106","SC6106||1400","1400","Prepaid Expenses",null,"All"]
[null,null,null,null,null,null,"AC00337","[LFSC] Research & Prof Dev","AC00337-[LFSC] Research & Prof Dev","Activity","FD01","Active","2025-03-17T16:11:52.138121+00:00",null,"SC6708","Fans/Furnaces","SC6708-Fans/Furnaces","Spend Category","Active",null,null,"11374","Novelties","11374-Novelties",null,null,null,"AS037908516","Jared Barrott (037908516) Life Sciences - Cell Biology & Physiology","AS037908516-Jared Barrott (037908516) Life Sciences - Cell Biology & Physiology","Active",null,null,null,null,null,null,null,null,null,null,null,"SC6106","SC6106||1650","1650","Construction in Progress",null,"JE_PPE|JE_Override"]
[null,null,null,null,null,null,"AC00338","[LFSC] Unallocated Research","AC00338-[LFSC] Unallocated Research","Activity","FD01","Active","2025-03-17T16:11:52.138121+00:00",null,"SC6709","Flooring Materials","SC6709-Flooring Materials","Spend Category","Active",null,null,"11376","Concessions","11376-Concessions",null,null,null,"AS038007991","Tom Halladay (038007991) PF Dining and MTC Maintenance","AS038007991-Tom Halladay (038007991) PF Dining and MTC Maintenance","Active",null,null,null,null,null,null,null,null,null,null,null,"SC6106","SC6106||1651","1651","Construction in Progress (Non-Workday Projects)",null,"All"]
[null,null,null,null,null,null,"AC00339","[LFSC] LFSC Fac Research Publications","AC00339-[LFSC] LFSC Fac Research Publications","Activity","FD01","Active","2025-03-17T16:11:52.138121+00:00",null,"SC6710","Furnishing Accessories","SC6710-Furnishing Accessories","Spend Category","Active",null,null,"11377","Facility Rm Rent","11377-Facility Rm Rent",null,null,null,"AS038129523","Emily Leslie (038129523) FHSS - Economics","AS038129523-Emily Leslie (038129523) FHSS - Economics","Active",null,null,null,null,null,null,null,null,null,null,null,"SC6106","SC6106||4900","4900","Cost of Sales",null,"All"]
[null,null,null,null,null,null,"AC00340","[LFSC] Life Sciences Replacement","AC00340-[LFSC] Life Sciences Replacement","Activity","FD01","Active","2025-03-17T16:11:52.138121+00:00",null,"SC6711","Grounds and Landscaping Supplies","SC6711-Grounds and Landscaping Supplies","Spend Category","Active",null,null,"11378","P/P MC Projects","11378-P/P MC Projects",null,null,null,"AS038220462","Karen Seely (038220462) Brand & Creative","AS038220462-Karen Seely (038220462) Brand & Creative","Active",null,null,null,null,null,null,null,null,null,null,null,"SC6106","SC6106||6100","6100","Materials and Supplies","Primary","All"]
[null,null,null,null,null,null,"AC00341","[LFSC] Research Development","AC00341-[LFSC] Research Development","Activity","FD01","Active","2025-03-17T16:11:52.138121+00:00",null,"SC6712","Grounds Services","SC6712-Grounds Services","Spend Category","Active",null,null,"11379","P/P Stadium Projects","11379-P/P Stadium Projects",null,null,null,"AS038337912","Jim Armstrong (038337912) Dean's Office - Life Sciences","AS038337912-Jim Armstrong (038337912) Dean's Office - Life Sciences","Active",null,null,null,null,null,null,null,null,null,null,null,"SC6107","SC6107||1400","1400","Prepaid Expenses",null,"All"]
[null,null,null,null,null,null,"AC00342","[LFSC] LFSC-Internship Travel Grants","AC00342-[LFSC] LFSC-Internship Travel Grants","Activity","FD01","Active","2025-03-17T16:11:52.138121+00:00",null,"SC6713","Industrial Fixtures","SC6713-Industrial Fixtures","Spend Category","Active",null,null,"11380","P/P MC Events","11380-P/P MC Events",null,null,null,"AS038391352","Darren Aiello (038391352) MSB - Finance","AS038391352-Darren Aiello (038391352) MSB - Finance","Active",null,null,null,null,null,null,null,null,null,null,null,"SC6107","SC6107||1650","1650","Construction in Progress",null,"JE_PPE|JE_Override"]
[null,null,null,null,null,null,"AC00343","[LFSC] Life Sciences Special Projects","AC00343-[LFSC] Life Sciences Special Projects","Activity","FD01","Active","2025-03-17T16:11:52.138121+00:00",null,"SC6714","Lighting Fixtures and Lamps","SC6714-Lighting Fixtures and Lamps","Spend Category","Active",null,null,"11381","P/P Stadium Events","11381-P/P Stadium Events",null,null,null,"AS038401493","Katharina Paxman (038401493) Humanities - Philosophy","AS038401493-Katharina Paxman (038401493) Humanities - Philosophy","Active",null,null,null,null,null,null,null,null,null,null,null,"SC6107","SC6107||4900","4900","Cost of Sales",null,"All"]
[null,null,null,null,null,null,"AC00344","[LFSC] Ugrad Mentored Learning Suppt","AC00344-[LFSC] Ugrad Mentored Learning Suppt","Activity","FD01","Active","2025-03-17T16:11:52.138121+00:00",null,"SC6715","Plumbing Fixtures","SC6715-Plumbing Fixtures","Spend Category","Active",null,null,"11382","Media Services Events","11382-Media Services Events",null,null,null,"AS038520514","Lisa Mortensen (038520514) Risk Management & Safety - Risk Management & Insurance","AS038520514-Lisa Mortensen (038520514) Risk Management & Safety - Risk Management & Insurance","Active",null,null,null,null,null,null,null,null,null,null,null,"SC6107","SC6107||6100","6100","Materials and Supplies","Primary","All"]
[null,null,null,null,null,null,"AC00345","[LFSC] Operational Fndrsg Replac-LSDO","AC00345-[LFSC] Operational Fndrsg Replac-LSDO","Activity","FD01","Active","2025-03-17T16:11:52.138121+00:00",null,"SC6716","Retainage","SC6716-Retainage","Spend Category","Active",null,null,"11386","Safety Office Events","11386-Safety Office Events",null,null,null,"AS038547214","Hwasun Lee (038547214) Humanities - Asian & Near Eastern Languages","AS038547214-Hwasun Lee (038547214) Humanities - Asian & Near Eastern Languages","Active",null,null,null,null,null,null,null,null,null,null,null,"SC6108","SC6108||1400","1400","Prepaid Expenses",null,"All"]
[null,null,null,null,null,null,"AC00346","[LFSC] LFSC Belonging","AC00346-[LFSC] LFSC Belonging","Activity","FD01","Active","2025-03-17T16:11:52.138121+00:00",null,"SC6717","Retainage Interest","SC6717-Retainage Interest","Spend Category","Active",null,null,"11387","Security Events","11387-Security Events",null,null,null,"AS038691148","Kevan Kovacs (038691148) PF Building Operations","AS038691148-Kevan Kovacs (038691148) PF Building Operations","Active",null,null,null,null,null,null,null,null,null,null,null,"SC6108","SC6108||1650","1650","Construction in Progress",null,"JE_PPE|JE_Override"]
[null,null,null,null,null,null,"AC00347","[LFSC] Beef Field Day","AC00347-[LFSC] Beef Field Day","Activity","FD02","Active","2025-03-17T16:11:52.138121+00:00",null,"SC6718","Signage, Electronic","SC6718-Signage, Electronic","Spend Category","Active",null,null,"11388","Print Fee","11388-Print Fee",null,null,null,"AS038692554","Hunter Henrichsen (038692554) Management Department","AS038692554-Hunter Henrichsen (038692554) Management Department","Active",null,null,null,null,null,null,null,null,null,null,null,"SC6108","SC6108||1651","1651","Construction in Progress (Non-Workday Projects)",null,"All"]
[null,null,null,null,null,null,"AC00348","[LFSC] Life Sciences Royalties","AC00348-[LFSC] Life Sciences Royalties","Activity","FD03","Active","2025-03-17T16:11:52.138121+00:00",null,"SC6719","Signage, Non-electronic","SC6719-Signage, Non-electronic","Spend Category","Active",null,null,"11390","Ticket Office Service Fee","11390-Ticket Office Service Fee",null,null,null,"AS038790598","Joseph Roberson (038790598) CE BYU Online High School","AS038790598-Joseph Roberson (038790598) CE BYU Online High School","Active",null,null,null,null,null,null,null,null,null,null,null,"SC6108","SC6108||4900","4900","Cost of Sales",null,"All"]
[null,null,null,null,null,null,"AC00349","[LFSC] Equol Technology Royalties","AC00349-[LFSC] Equol Technology Royalties","Activity","FD03","Active","2025-03-17T16:11:52.138121+00:00",null,"SC6720","Specialized Trade Services - Physical Facilities","SC6720-Specialized Trade Services - Physical Facilities","Spend Category","Active",null,null,"11391","Gift Cards","11391-Gift Cards",null,null,null,"AS038874886","Doug Thomas (038874886) Fine Arts & Communications - Design","AS038874886-Doug Thomas (038874886) Fine Arts & Communications - Design","Active",null,null,null,null,null,null,null,null,null,null,null,"SC6108","SC6108||6100","6100","Materials and Supplies","Primary","All"]
[null,null,null,null,null,null,"AC00350","[LFSC] Turkey Vaccine Study","AC00350-[LFSC] Turkey Vaccine Study","Activity","FD03","Active","2025-03-17T16:11:52.138121+00:00",null,"SC6721","Stage and Studio Lighting (Asset Track)","SC6721-Stage and Studio Lighting (Asset Track)","Spend Category","Active",null,null,"11392","FB Cougar Club Tent","11392-FB Cougar Club Tent",null,null,null,"AS039054501","Terri Summers (039054501) Teacher Education","AS039054501-Terri Summers (039054501) Teacher Education","Active",null,null,null,null,null,null,null,null,null,null,null,"SC6109","SC6109||1400","1400","Prepaid Expenses",null,"All"]
[null,null,null,null,null,null,"AC00351","[LFSC] Undergrd Experintl Learng-LSDO","AC00351-[LFSC] Undergrd Experintl Learng-LSDO","Activity","FD03","Active","2025-03-17T16:11:52.138121+00:00",null,"SC6722","Utilities, Electricity","SC6722-Utilities, Electricity","Spend Category","Active",null,null,"11393","FB Varsity Tent","11393-FB Varsity Tent",null,null,null,"AS039175395","Bill Oldroyd (039175395) Enrollment Services Office","AS039175395-Bill Oldroyd (039175395) Enrollment Services Office","Active",null,null,null,null,null,null,null,null,null,null,null,"SC6109","SC6109||6100","6100","Materials and Supplies","Primary","All"]
[null,null,null,null,null,null,"AC00352","[LFSC] CURA Indirect Student Aid-LSDO","AC00352-[LFSC] CURA Indirect Student Aid-LSDO","Activity","FD03","Active","2025-03-17T16:11:52.138121+00:00",null,"SC6723","Utilities, Garbage Hauling","SC6723-Utilities, Garbage Hauling","Spend Category","Active",null,null,"11394","ATH FB Backyard Tent","11394-ATH FB Backyard Tent",null,null,null,"AS039392058","Allan Guymon (039392058) College of Engineering - Chemical Engineering","AS039392058-Allan Guymon (039392058) College of Engineering - Chemical Engineering","Active",null,null,null,null,null,null,null,null,null,null,null,"SC6110","SC6110||1400","1400","Prepaid Expenses",null,"All"]
[null,null,null,null,null,null,"AC00353","[LFSC] CURA Direct Student Aid-LSDO","AC00353-[LFSC] CURA Direct Student Aid-LSDO","Activity","FD03","Active","2025-03-17T16:11:52.138121+00:00",null,"SC6724","Utilities, Heat/Cool Unit","SC6724-Utilities, Heat/Cool Unit","Spend Category","Active",null,null,"11415","Living Legends","11415-Living Legends",null,null,null,"AS039447169","John Gardner (039447169) MSB - Marketing & Global Supply Chain","AS039447169-John Gardner (039447169) MSB - Marketing & Global Supply Chain","Active",null,null,null,null,null,null,null,null,null,null,null,"SC6110","SC6110||1650","1650","Construction in Progress",null,"JE_PPE|JE_Override"]
[null,null,null,null,null,null,"AC00354","[LFSC] Sunshine Fund-LFSC Dean's Off","AC00354-[LFSC] Sunshine Fund-LFSC Dean's Off","Activity","FD07","Active","2025-03-17T16:11:52.138121+00:00",null,"SC6725","Utilities, Natural Gas","SC6725-Utilities, Natural Gas","Spend Category","Active",null,null,"11416","Men's Chorus","11416-Men's Chorus",null,null,null,"AS039489742","Reese Purser (039489742) Fine Arts & Communications - Theatre & Media Arts","AS039489742-Reese Purser (039489742) Fine Arts & Communications - Theatre & Media Arts","Active",null,null,null,null,null,null,null,null,null,null,null,"SC6110","SC6110||4900","4900","Cost of Sales",null,"All"]
[null,null,null,null,null,null,"AC00355","[LFSC] LS Stockroom Inventory","AC00355-[LFSC] LS Stockroom Inventory","Activity","FD02","Active","2025-03-17T16:11:52.138121+00:00",null,"SC6726","Utilities, Other","SC6726-Utilities, Other","Spend Category","Active",null,null,"11419","Theater Ballet","11419-Theater Ballet",null,null,null,"AS039534394","Kenneth Plummer (039534394) Center for Teaching & Learning - Academic Technology","AS039534394-Kenneth Plummer (039534394) Center for Teaching & Learning - Academic Technology","Active",null,null,null,null,null,null,null,null,null,null,null,"SC6110","SC6110||6100","6100","Materials and Supplies","Primary","All"]
[null,null,null,null,null,null,"AC00356","[LFSC] Life Scs Student Council Club","AC00356-[LFSC] Life Scs Student Council Club","Activity","FD02","Active","2025-03-17T16:11:52.138121+00:00",null,"SC6727","Utilities, Sewer","SC6727-Utilities, Sewer","Spend Category","Active",null,null,"11422","Young Ambassadors","11422-Young Ambassadors",null,null,null,"AS039578575","Lynn Williams (039578575) Humanities - Spanish & Portuguese","AS039578575-Lynn Williams (039578575) Humanities - Spanish & Portuguese","Active",null,null,null,null,null,null,null,null,null,null,null,"SC6111","SC6111||1400","1400","Prepaid Expenses",null,"All"]
[null,null,null,null,null,null,"AC00357","[LFSC] Scientists in Business Club","AC00357-[LFSC] Scientists in Business Club","Activity","FD02","Active","2025-03-17T16:11:52.138121+00:00",null,"SC6728","Utilities, Water","SC6728-Utilities, Water","Spend Category","Active",null,null,"11423","Young Company","11423-Young Company",null,null,null,"AS039615711","Mariana Call (039615711) PF Building Operations","AS039615711-Mariana Call (039615711) PF Building Operations","Active",null,null,null,null,null,null,null,null,null,null,null,"SC6111","SC6111||1650","1650","Construction in Progress",null,"JE_PPE|JE_Override"]
[null,null,null,null,null,null,"AC00358","[LFSC] LFSC IT Computer Servers","AC00358-[LFSC] LFSC IT Computer Servers","Activity","FD01","Active","2025-03-17T16:11:52.138121+00:00",null,"SC6729","Warehouse Fixtures","SC6729-Warehouse Fixtures","Spend Category","Active",null,null,"11424","Alexa Anderson","11424-Alexa Anderson",null,null,null,"AS039620863","Stanford Owen (039620863) Law School","AS039620863-Stanford Owen (039620863) Law School","Active",null,null,null,null,null,null,null,null,null,null,null,"SC6111","SC6111||4900","4900","Cost of Sales",null,"All"]
[null,null,null,null,null,null,"AC00359","[LFSC] LFSC-Fulton-Chair-LSIT","AC00359-[LFSC] LFSC-Fulton-Chair-LSIT","Activity","FD03","Active","2025-03-17T16:11:52.138121+00:00",null,"SC6730","Window Treatments","SC6730-Window Treatments","Spend Category","Active",null,null,"11425","Amanda Cox","11425-Amanda Cox",null,null,null,"AS039628310","Amy Richins (039628310) FHSS - Dean's Office","AS039628310-Amy Richins (039628310) FHSS - Dean's Office","Active",null,null,null,null,null,null,null,null,null,null,null,"SC6111","SC6111||6100","6100","Materials and Supplies","Primary","All"]
[null,null,null,null,null,null,"AC00360","[LFSC] Undergrd Experintl Learng-LSIT","AC00360-[LFSC] Undergrd Experintl Learng-LSIT","Activity","FD03","Active","2025-03-17T16:11:52.138121+00:00",null,"SC6731","Stage and Studio Lighting (Only Workday Inventory Module)","SC6731-Stage and Studio Lighting (Only Workday Inventory Module)","Spend Category","Active",null,null,"11426","Nicol Legakis","11426-Nicol Legakis",null,null,null,"AS039692183","Adam Stevens (039692183) Technology Transfer Office","AS039692183-Adam Stevens (039692183) Technology Transfer Office","Active",null,null,null,null,null,null,null,null,null,null,null,"SC6112","SC6112||1400","1400","Prepaid Expenses",null,"All"]
[null,null,null,null,null,null,"AC00361","[LFSC] Grad Studies-NEURO","AC00361-[LFSC] Grad Studies-NEURO","Activity","FD01","Active","2025-03-17T16:11:52.138121+00:00",null,"SC6799","Physical Facilities (reclass)","SC6799-Physical Facilities (reclass)","Spend Category","Active",null,null,"11428","Mike Cunningham","11428-Mike Cunningham",null,null,null,"AS039811149","Heather Chewning (039811149) MSB - Public Service & Ethics","AS039811149-Heather Chewning (039811149) MSB - Public Service & Ethics","Active",null,null,null,null,null,null,null,null,null,null,null,"SC6112","SC6112||6100","6100","Materials and Supplies","Primary","All"]
[null,null,null,null,null,null,"AC00362","[LFSC] Neuroscience Club","AC00362-[LFSC] Neuroscience Club","Activity","FD02","Active","2025-03-17T16:11:52.138121+00:00",null,"SC6901","Art Equipment","SC6901-Art Equipment","Spend Category","Active",null,null,"11429","Alissa Lines","11429-Alissa Lines",null,null,null,"AS039836146","Savanna Bagley (039836146) Dining Designs","AS039836146-Savanna Bagley (039836146) Dining Designs","Active",null,null,null,null,null,null,null,null,null,null,null,"SC6113","SC6113||1400","1400","Prepaid Expenses",null,"All"]
[null,null,null,null,null,null,"AC00363","[LFSC] Neuroscience Center","AC00363-[LFSC] Neuroscience Center","Activity","FD03","Active","2025-03-17T16:11:52.138121+00:00",null,"SC6902","Athletic Equipment","SC6902-Athletic Equipment","Spend Category","Active",null,null,"11431","Scott Miller","11431-Scott Miller",null,null,null,"AS039884947","Rachel Platt (039884947) College of Nursing","AS039884947-Rachel Platt (039884947) College of Nursing","Active",null,null,null,null,null,null,null,null,null,null,null,"SC6113","SC6113||6100","6100","Materials and Supplies","Primary","All"]
[null,null,null,null,null,null,"AC00364","[LFSC] LFSC-Fulton-Chair-NEURO","AC00364-[LFSC] LFSC-Fulton-Chair-NEURO","Activity","FD03","Active","2025-03-17T16:11:52.138121+00:00",null,"SC6903","Audio Visual Equipment (Asset Track)","SC6903-Audio Visual Equipment (Asset Track)","Spend Category","Active",null,null,"11435","Jason Brown","11435-Jason Brown",null,null,null,"AS039965057","Lisa Sun (039965057) AVP - Dean, Clark Law School","AS039965057-Lisa Sun (039965057) AVP - Dean, Clark Law School","Active",null,null,null,null,null,null,null,null,null,null,null,"SC6114","SC6114||1400","1400","Prepaid Expenses",null,"All"]
[null,null,null,null,null,null,"AC00365","[LFSC] LFSC Farm / Skaggs Fund-NEURO","AC00365-[LFSC] LFSC Farm / Skaggs Fund-NEURO","Activity","FD03","Active","2025-03-17T16:11:52.138121+00:00",null,"SC6904","Communication Devices (Asset Track)","SC6904-Communication Devices (Asset Track)","Spend Category","Active",null,null,"11436","Seth McCullach","11436-Seth McCullach",null,null,null,"AS039965505","Anna Metcalf (039965505) Athletics - External Relations","AS039965505-Anna Metcalf (039965505) Athletics - External Relations","Active",null,null,null,null,null,null,null,null,null,null,null,"SC6114","SC6114||1650","1650","Construction in Progress",null,"JE_PPE|JE_Override"]
[null,null,null,null,null,null,"AC00366","[LFSC] Undergrd Experintl Learng-NEUR","AC00366-[LFSC] Undergrd Experintl Learng-NEUR","Activity","FD03","Active","2025-03-17T16:11:52.138121+00:00",null,"SC6905","Computer Hardware (Asset Track)","SC6905-Computer Hardware (Asset Track)","Spend Category","Active",null,null,"11437","Stephanie Andrewsen","11437-Stephanie Andrewsen",null,null,null,"AS040159463","Justin Dyer (040159463) Religious Education - Church History & Doctrine","AS040159463-Justin Dyer (040159463) Religious Education - Church History & Doctrine","Active",null,null,null,null,null,null,null,null,null,null,null,"SC6114","SC6114||4900","4900","Cost of Sales",null,"All"]
[null,null,null,null,null,null,"AC00367","[LFSC] CURA Indirect Student Aid-NEUR","AC00367-[LFSC] CURA Indirect Student Aid-NEUR","Activity","FD03","Active","2025-03-17T16:11:52.138121+00:00",null,"SC6906","Data Network Equipment (Asset Track)","SC6906-Data Network Equipment (Asset Track)","Spend Category","Active",null,null,"11439","Curtis Isaak","11439-Curtis Isaak",null,null,null,"AS040411844","James Hansen (040411844) MSB - School of Accountancy","AS040411844-James Hansen (040411844) MSB - School of Accountancy","Active",null,null,null,null,null,null,null,null,null,null,null,"SC6114","SC6114||6100","6100","Materials and Supplies","Primary","All"]
[null,null,null,null,null,null,"AC00368","[LFSC] CURA Direct Student Aid-NEUR","AC00368-[LFSC] CURA Direct Student Aid-NEUR","Activity","FD03","Active","2025-03-17T16:11:52.138121+00:00",null,"SC6907","Equipment (not otherwise specified) (Asset Track)","SC6907-Equipment (not otherwise specified) (Asset Track)","Spend Category","Active",null,null,"11440","Andy Bay","11440-Andy Bay",null,null,null,"AS040582603","Julie Averett (040582603) School of Accountancy","AS040582603-Julie Averett (040582603) School of Accountancy","Active",null,null,null,null,null,null,null,null,null,null,null,"SC6115","SC6115||1400","1400","Prepaid Expenses",null,"All"]
[null,null,null,null,null,null,"AC00369","[LFSC] MLBM Student Educators","AC00369-[LFSC] MLBM Student Educators","Activity","FD01","Active","2025-03-17T16:11:52.138121+00:00",null,"SC6908","Equipment Maintenance (not otherwise specified)","SC6908-Equipment Maintenance (not otherwise specified)","Spend Category","Active",null,null,"11441","Kathy Taylor","11441-Kathy Taylor",null,null,null,"AS040582729","Michael Ralls (040582729) OIT Portfolio - CES Network Center (CNC)","AS040582729-Michael Ralls (040582729) OIT Portfolio - CES Network Center (CNC)","Active",null,null,null,null,null,null,null,null,null,null,null,"SC6115","SC6115||6100","6100","Materials and Supplies","Primary","All"]
[null,null,null,null,null,null,"AC00370","[LFSC] Western N. American Naturalist","AC00370-[LFSC] Western N. American Naturalist","Activity","FD01","Active","2025-03-17T16:11:52.138121+00:00",null,"SC6909","Firearms","SC6909-Firearms","Spend Category","Active",null,null,"11442","Matt Sherry","11442-Matt Sherry",null,null,null,"AS040921974","Kellie Barnhurst (040921974) HS Administration","AS040921974-Kellie Barnhurst (040921974) HS Administration","Active",null,null,null,null,null,null,null,null,null,null,null,"SC6116","SC6116||1400","1400","Prepaid Expenses",null,"All"]
[null,null,null,null,null,null,"AC00371","[LFSC] Operational Fndrsg Replac-MLBM","AC00371-[LFSC] Operational Fndrsg Replac-MLBM","Activity","FD01","Active","2025-03-17T16:11:52.138121+00:00",null,"SC6910","Food Service Equipment","SC6910-Food Service Equipment","Spend Category","Active",null,null,"11445","NY Syracuse","11445-NY Syracuse",null,null,null,"AS040944422","Jay Anderson (040944422) Dean's Office - College of Engineering","AS040944422-Jay Anderson (040944422) Dean's Office - College of Engineering","Active",null,null,null,null,null,null,null,null,null,null,null,"SC6116","SC6116||6100","6100","Materials and Supplies","Primary","All"]
[null,null,null,null,null,null,"AC00372","[LFSC] MLBM Educational Programs","AC00372-[LFSC] MLBM Educational Programs","Activity","FD02","Active","2025-03-17T16:11:52.138121+00:00",null,"SC6911","Grants Capital Equipment","SC6911-Grants Capital Equipment","Spend Category","Active",null,null,"11446","Arkansas-Northwest","11446-Arkansas-Northwest",null,null,null,"AS041240744","Michael Standing (041240744) Microscopy","AS041240744-Michael Standing (041240744) Microscopy","Active",null,null,null,null,null,null,null,null,null,null,null,"SC6117","SC6117||1400","1400","Prepaid Expenses",null,"All"]
[null,null,null,null,null,null,"AC00373","[LFSC] Bean Museum Online Sales","AC00373-[LFSC] Bean Museum Online Sales","Activity","FD02","Active","2025-03-17T16:11:52.138121+00:00",null,"SC6912","Grants Non-Capital Equipment","SC6912-Grants Non-Capital Equipment","Spend Category","Active",null,null,"11447","Tour Lodging","11447-Tour Lodging",null,null,null,"AS041282040","Javier Romo (041282040) Humanities - Spanish & Portuguese","AS041282040-Javier Romo (041282040) Humanities - Spanish & Portuguese","Active",null,null,null,null,null,null,null,null,null,null,null,"SC6117","SC6117||6100","6100","Materials and Supplies","Primary","All"]
[null,null,null,null,null,null,"AC00374","[LFSC] Whiting, M-Young Scholar","AC00374-[LFSC] Whiting, M-Young Scholar","Activity","FD03","Active","2025-03-17T16:11:52.138121+00:00",null,"SC6913","Grounds Equipment","SC6913-Grounds Equipment","Spend Category","Active",null,null,"11453","Arizona-Phoenix","11453-Arizona-Phoenix",null,null,null,"AS041564784","Jianting Shi (041564784) College of Engineering - Civil & Construction Engineering","AS041564784-Jianting Shi (041564784) College of Engineering - Civil & Construction Engineering","Active",null,null,null,null,null,null,null,null,null,null,null,"SC6118","SC6118||1400","1400","Prepaid Expenses",null,"All"]
[null,null,null,null,null,null,"AC00375","[LFSC] Bean Museum Projects","AC00375-[LFSC] Bean Museum Projects","Activity","FD03","Active","2025-03-17T16:11:52.138121+00:00",null,"SC6914","Industrial Equipment","SC6914-Industrial Equipment","Spend Category","Active",null,null,"11454","Arizona-Tucson","11454-Arizona-Tucson",null,null,null,"AS041692304","Jonathan Black (041692304) OIT Resource - Platform Engineering","AS041692304-Jonathan Black (041692304) OIT Resource - Platform Engineering","Active",null,null,null,null,null,null,null,null,null,null,null,"SC6118","SC6118||6100","6100","Materials and Supplies","Primary","All"]
[null,null,null,null,null,null,"AC00376","[LFSC] Western N. American Naturalist","AC00376-[LFSC] Western N. American Naturalist","Activity","FD03","Active","2025-03-17T16:11:52.138121+00:00",null,"SC6915","Janitorial Equipment","SC6915-Janitorial Equipment","Spend Category","Active",null,null,"11456","California-East Bay","11456-California-East Bay",null,null,null,"AS041699320","Brian Baird (041699320) PMPC Administration","AS041699320-Brian Baird (041699320) PMPC Administration","Active",null,null,null,null,null,null,null,null,null,null,null,"SC6119","SC6119||1400","1400","Prepaid Expenses",null,"All"]
[null,null,null,null,null,null,"AC00377","[LFSC] Herbarium Support","AC00377-[LFSC] Herbarium Support","Activity","FD03","Active","2025-03-17T16:11:52.138121+00:00",null,"SC6916","Janitorial Equipment Maintenance","SC6916-Janitorial Equipment Maintenance","Spend Category","Active",null,null,"11457","California-Fresno","11457-California-Fresno",null,null,null,"AS042554455","Laura Bond (042554455) Student Connection and Leadership Center","AS042554455-Laura Bond (042554455) Student Connection and Leadership Center","Active",null,null,null,null,null,null,null,null,null,null,null,"SC6119","SC6119||1650","1650","Construction in Progress",null,"JE_PPE|JE_Override"]
[null,null,null,null,null,null,"AC00378","[LFSC] Fish Curation-Shiozawa","AC00378-[LFSC] Fish Curation-Shiozawa","Activity","FD03","Active","2025-03-17T16:11:52.138121+00:00",null,"SC6917","Laundry Equipment","SC6917-Laundry Equipment","Spend Category","Active",null,null,"11460","California-Orange County","11460-California-Orange County",null,null,null,"AS042626057","Derek Sainsbury (042626057) Religious Education - Church History & Doctrine","AS042626057-Derek Sainsbury (042626057) Religious Education - Church History & Doctrine","Active",null,null,null,null,null,null,null,null,null,null,null,"SC6119","SC6119||4900","4900","Cost of Sales",null,"All"]
[null,null,null,null,null,null,"AC00379","[LFSC] LFSC Farm / Skaggs Fund-MLBM","AC00379-[LFSC] LFSC Farm / Skaggs Fund-MLBM","Activity","FD03","Active","2025-03-17T16:11:52.138121+00:00",null,"SC6918","Library Content","SC6918-Library Content","Spend Category","Active",null,null,"11462","California-Sacramento","11462-California-Sacramento",null,null,null,"AS042950870","Mike Maynor (042950870) PF Building Operations","AS042950870-Mike Maynor (042950870) PF Building Operations","Active",null,null,null,null,null,null,null,null,null,null,null,"SC6119","SC6119||6100","6100","Materials and Supplies","Primary","All"]
[null,null,null,null,null,null,"AC00380","[LFSC] LFSC-Fulton-Chair-MLBM","AC00380-[LFSC] LFSC-Fulton-Chair-MLBM","Activity","FD03","Active","2025-03-17T16:11:52.138121+00:00",null,"SC6919","Library Subscriptions","SC6919-Library Subscriptions","Spend Category","Active",null,null,"11463","California-San Diego","11463-California-San Diego",null,null,null,"AS042952793","Katelyn Staley (042952793) PF Grounds - Landscaping Specialty","AS042952793-Katelyn Staley (042952793) PF Grounds - Landscaping Specialty","Active",null,null,null,null,null,null,null,null,null,null,null,"SC6120","SC6120||1400","1400","Prepaid Expenses",null,"All"]
[null,null,null,null,null,null,"AC00382","[LFSC] Undergrd Experintl Learng-MLBM","AC00382-[LFSC] Undergrd Experintl Learng-MLBM","Activity","FD03","Active","2025-03-17T16:11:52.138121+00:00",null,"SC6920","Media Content","SC6920-Media Content","Spend Category","Active",null,null,"11466","Colorado-Denver","11466-Colorado-Denver",null,null,null,"AS043026334","Quin Swallow (043026334) OIT Resource - Tech Operations - Enterprise Apps","AS043026334-Quin Swallow (043026334) OIT Resource - Tech Operations - Enterprise Apps","Active",null,null,null,null,null,null,null,null,null,null,null,"SC6120","SC6120||6100","6100","Materials and Supplies","Primary","All"]
[null,null,null,null,null,null,"AC00383","[LFSC] Sunshine Fund-MLBM","AC00383-[LFSC] Sunshine Fund-MLBM","Activity","FD07","Active","2025-03-17T16:11:52.138121+00:00",null,"SC6921","Medical Equipment","SC6921-Medical Equipment","Spend Category","Active",null,null,"11467","Georgia-Atlanta","11467-Georgia-Atlanta",null,null,null,"AS043140250","Kirk Rich (043140250) Dining Administration","AS043140250-Kirk Rich (043140250) Dining Administration","Active",null,null,null,null,null,null,null,null,null,null,null,"SC6121","SC6121||1400","1400","Prepaid Expenses",null,"All"]
[null,null,null,null,null,null,"AC00384","[LFSC] Bean Museum Gift Shp","AC00384-[LFSC] Bean Museum Gift Shp","Activity","FD02","Active","2025-03-17T16:11:52.138121+00:00",null,"SC6922","Medical Equipment - Maintenance","SC6922-Medical Equipment - Maintenance","Spend Category","Active",null,null,"11469","Idaho-Boise","11469-Idaho-Boise",null,null,null,"AS043171855","Andy Bay (043171855) Alumni Relations","AS043171855-Andy Bay (043171855) Alumni Relations","Active",null,null,null,null,null,null,null,null,null,null,null,"SC6121","SC6121||1650","1650","Construction in Progress",null,"JE_PPE|JE_Override"]
[null,null,null,null,null,null,"AC00385","[LFSC] Lytle Preserve","AC00385-[LFSC] Lytle Preserve","Activity","FD03","Active","2025-03-17T16:11:52.138121+00:00",null,"SC6923","Musical Instruments","SC6923-Musical Instruments","Spend Category","Active",null,null,"11470","Idaho-Idaho Falls","11470-Idaho-Idaho Falls",null,null,null,"AS043238269","Erin Bailey (043238269) Fine Arts & Communications - School of Music","AS043238269-Erin Bailey (043238269) Fine Arts & Communications - School of Music","Active",null,null,null,null,null,null,null,null,null,null,null,"SC6121","SC6121||4900","4900","Cost of Sales",null,"All"]
[null,null,null,null,null,null,"AC00386","[LFSC] Lytle Preserve Univ Support","AC00386-[LFSC] Lytle Preserve Univ Support","Activity","FD03","Active","2025-03-17T16:11:52.138121+00:00",null,"SC6924","Office Equipment (Asset Track)","SC6924-Office Equipment (Asset Track)","Spend Category","Active",null,null,"11471","Idaho-Pocatello","11471-Idaho-Pocatello",null,null,null,"AS043281326","Grayson Morgan (043281326) FHSS - Geography","AS043281326-Grayson Morgan (043281326) FHSS - Geography","Active",null,null,null,null,null,null,null,null,null,null,null,"SC6121","SC6121||6100","6100","Materials and Supplies","Primary","All"]
[null,null,null,null,null,null,"AC00387","[LFSC] Biology 100","AC00387-[LFSC] Biology 100","Activity","FD01","Active","2025-03-17T16:11:52.138121+00:00",null,"SC6925","Office Equipment - Maintenance","SC6925-Office Equipment - Maintenance","Spend Category","Active",null,null,"11472","Idaho-Twin Falls","11472-Idaho-Twin Falls",null,null,null,"AS043310669","Kristen Erekson (043310669) AVP - Dean, College of Nursing","AS043310669-Kristen Erekson (043310669) AVP - Dean, College of Nursing","Active",null,null,null,null,null,null,null,null,null,null,null,"SC6122","SC6122||1400","1400","Prepaid Expenses",null,"All"]
[null,null,null,null,null,null,"AC00388","[LFSC] Grad Student Funding-BIO","AC00388-[LFSC] Grad Student Funding-BIO","Activity","FD01","Active","2025-03-17T16:11:52.138121+00:00",null,"SC6926","Photography Equipment","SC6926-Photography Equipment","Spend Category","Active",null,null,"11473","Illinois-Chicago","11473-Illinois-Chicago",null,null,null,"AS043323198","Kevin John (043323198) Fine Arts & Communications - School of Communications","AS043323198-Kevin John (043323198) Fine Arts & Communications - School of Communications","Active",null,null,null,null,null,null,null,null,null,null,null,"SC6122","SC6122||6100","6100","Materials and Supplies","Primary","All"]
[null,null,null,null,null,null,"AC00389","[LFSC] Operational Fndrsg Replacm-BIO","AC00389-[LFSC] Operational Fndrsg Replacm-BIO","Activity","FD01","Active","2025-03-17T16:11:52.138121+00:00",null,"SC6927","Portable Structures","SC6927-Portable Structures","Spend Category","Active",null,null,"11476","Minnesota-Minneapolis/St.Paul","11476-Minnesota-Minneapolis/St.Paul",null,null,null,"AS044032831","John Clawson (044032831) College of Engineering - Electrical & Computer Engineering","AS044032831-John Clawson (044032831) College of Engineering - Electrical & Computer Engineering","Active",null,null,null,null,null,null,null,null,null,null,null,"SC6123","SC6123||1400","1400","Prepaid Expenses",null,"All"]
[null,null,null,null,null,null,"AC00390","[LFSC] BYU Pre-Veterinary Club","AC00390-[LFSC] BYU Pre-Veterinary Club","Activity","FD02","Active","2025-03-17T16:11:52.138121+00:00",null,"SC6928","Printing Equipment","SC6928-Printing Equipment","Spend Category","Active",null,null,"11477","Missouri-Kansas City","11477-Missouri-Kansas City",null,null,null,"AS044370492","Jay Brown (044370492) Housing Administration","AS044370492-Jay Brown (044370492) Housing Administration","Active",null,null,null,null,null,null,null,null,null,null,null,"SC6123","SC6123||6100","6100","Materials and Supplies","Primary","All"]
[null,null,null,null,null,null,"AC00391","[LFSC] Tanner Entomology Club","AC00391-[LFSC] Tanner Entomology Club","Activity","FD02","Active","2025-03-17T16:11:52.138121+00:00",null,"SC6929","Scientific and Engineering Equipment","SC6929-Scientific and Engineering Equipment","Spend Category","Active",null,null,"11479","Nebraska-Omaha","11479-Nebraska-Omaha",null,null,null,"AS044418697","Nicole Clawson (044418697) Humanities - English","AS044418697-Nicole Clawson (044418697) Humanities - English","Active",null,null,null,null,null,null,null,null,null,null,null,"SC6124","SC6124||1400","1400","Prepaid Expenses",null,"All"]
[null,null,null,null,null,null,"AC00392","[LFSC] Bioinformatics Resrch Club","AC00392-[LFSC] Bioinformatics Resrch Club","Activity","FD02","Active","2025-03-17T16:11:52.138121+00:00",null,"SC6930","Scientific Equipment - Maintenance","SC6930-Scientific Equipment - Maintenance","Spend Category","Active",null,null,"11480","Nevada-Las Vegas","11480-Nevada-Las Vegas",null,null,null,"AS044555761","James Cardon (044555761) FHSS - Economics","AS044555761-James Cardon (044555761) FHSS - Economics","Active",null,null,null,null,null,null,null,null,null,null,null,"SC6124","SC6124||6100","6100","Materials and Supplies","Primary","All"]
[null,null,null,null,null,null,"AC00393","[LFSC] Marine Biology Club","AC00393-[LFSC] Marine Biology Club","Activity","FD02","Active","2025-03-17T16:11:52.138121+00:00",null,"SC6931","Security Equipment (Asset Track)","SC6931-Security Equipment (Asset Track)","Spend Category","Active",null,null,"11481","New Jersey-North Jersey","11481-New Jersey-North Jersey",null,null,null,"AS045035609","TaraLee Cook (045035609) Management Department","AS045035609-TaraLee Cook (045035609) Management Department","Active",null,null,null,null,null,null,null,null,null,null,null,"SC6125","SC6125||1400","1400","Prepaid Expenses",null,"All"]
[null,null,null,null,null,null,"AC00394","[LFSC] Life Sci Pacific Islander Club","AC00394-[LFSC] Life Sci Pacific Islander Club","Activity","FD02","Active","2025-03-17T16:11:52.138121+00:00",null,"SC6932","Small Appliances","SC6932-Small Appliances","Spend Category","Active",null,null,"11482","New Mexico-Albuquerque","11482-New Mexico-Albuquerque",null,null,null,"AS045167865","Brett Scharffs (045167865) AVP - Dean, Clark Law School","AS045167865-Brett Scharffs (045167865) AVP - Dean, Clark Law School","Active",null,null,null,null,null,null,null,null,null,null,null,"SC6125","SC6125||1650","1650","Construction in Progress",null,"JE_PPE|JE_Override"]
[null,null,null,null,null,null,"AC00395","[LFSC] DNA Sequencing Lab","AC00395-[LFSC] DNA Sequencing Lab","Activity","FD02","Active","2025-03-17T16:11:52.138121+00:00",null,"SC6933","Software","SC6933-Software","Spend Category","Active",null,null,"11485","North Carolina-Charlotte","11485-North Carolina-Charlotte",null,null,null,"AS045325744","Brent Moore (045325744) OIT Leadership - CES Architecture","AS045325744-Brent Moore (045325744) OIT Leadership - CES Architecture","Active",null,null,null,null,null,null,null,null,null,null,null,"SC6125","SC6125||4900","4900","Cost of Sales",null,"All"]
[null,null,null,null,null,null,"AC00396","[LFSC] Biology Scholarships","AC00396-[LFSC] Biology Scholarships","Activity","FD03","Active","2025-03-17T16:11:52.138121+00:00",null,"SC6934","Software and Media - Licenses","SC6934-Software and Media - Licenses","Spend Category","Active",null,null,"11486","North Carolina-Raleigh/Durham","11486-North Carolina-Raleigh/Durham",null,null,null,"AS045666134","Ray Merritt (045666134) Asst Adm VP Physical Facil","AS045666134-Ray Merritt (045666134) Asst Adm VP Physical Facil","Active",null,null,null,null,null,null,null,null,null,null,null,"SC6125","SC6125||6100","6100","Materials and Supplies","Primary","All"]
[null,null,null,null,null,null,"AC00397","[LFSC] LFSC Farm / Skaggs Fund-BIOL","AC00397-[LFSC] LFSC Farm / Skaggs Fund-BIOL","Activity","FD03","Active","2025-03-17T16:11:52.138121+00:00",null,"SC6935","Telecom Equipment","SC6935-Telecom Equipment","Spend Category","Active",null,null,"11487","Ohio-Cincinnati","11487-Ohio-Cincinnati",null,null,null,"AS045860515","Eric Butler (045860515) PF Building Operations","AS045860515-Eric Butler (045860515) PF Building Operations","Active",null,null,null,null,null,null,null,null,null,null,null,"SC6126","SC6126||1400","1400","Prepaid Expenses",null,"All"]
[null,null,null,null,null,null,"AC00398","[LFSC] GMA Petrol fly genome S.Bybee","AC00398-[LFSC] GMA Petrol fly genome S.Bybee","Activity","FD03","Active","2025-03-17T16:11:52.138121+00:00",null,"SC6936","Vehicles Services","SC6936-Vehicles Services","Spend Category","Active",null,null,"11488","Oklahoma-Tulsa","11488-Oklahoma-Tulsa",null,null,null,"AS046004146","Brian Jeffs (046004146) College of Engineering - Electrical & Computer Engineering","AS046004146-Brian Jeffs (046004146) College of Engineering - Electrical & Computer Engineering","Active",null,null,null,null,null,null,null,null,null,null,null,"SC6126","SC6126||1650","1650","Construction in Progress",null,"JE_PPE|JE_Override"]
[null,null,null,null,null,null,"AC00399","[LFSC] Grad Mentoring Award-P.Ridge","AC00399-[LFSC] Grad Mentoring Award-P.Ridge","Activity","FD03","Active","2025-03-17T16:11:52.138121+00:00",null,"SC6937","Vehicles, Motor","SC6937-Vehicles, Motor","Spend Category","Active",null,null,"11490","Texas-Dallas/Ft.Worth","11490-Texas-Dallas/Ft.Worth",null,null,null,"AS046066685","Klint Hobbs (046066685) Student Life VP","AS046066685-Klint Hobbs (046066685) Student Life VP","Active",null,null,null,null,null,null,null,null,null,null,null,"SC6126","SC6126||4900","4900","Cost of Sales",null,"All"]
[null,null,null,null,null,null,"AC00400","[LFSC] Grad Mentoring Award-J.Jensen","AC00400-[LFSC] Grad Mentoring Award-J.Jensen","Activity","FD03","Active","2025-03-17T16:11:52.138121+00:00",null,"SC6938","Vehicles, Off-Road","SC6938-Vehicles, Off-Road","Spend Category","Active",null,null,"11491","Texas-El Paso/Las Cruces","11491-Texas-El Paso/Las Cruces",null,null,null,"AS046299199","Nicholas Mason (046299199) Humanities - English","AS046299199-Nicholas Mason (046299199) Humanities - English","Active",null,null,null,null,null,null,null,null,null,null,null,"SC6126","SC6126||6100","6100","Materials and Supplies","Primary","All"]
[null,null,null,null,null,null,"AC00401","[LFSC] Grad Mentoring Award-J.Johnson","AC00401-[LFSC] Grad Mentoring Award-J.Johnson","Activity","FD03","Active","2025-03-17T16:11:52.138121+00:00",null,"SC6939","Warehouse Equipment","SC6939-Warehouse Equipment","Spend Category","Active",null,null,"11492","Texas-Houston","11492-Texas-Houston",null,null,null,"AS046399270","Cameron Schuetzler (046399270) Campus Scheduling","AS046399270-Cameron Schuetzler (046399270) Campus Scheduling","Active",null,null,null,null,null,null,null,null,null,null,null,"SC6127","SC6127||1400","1400","Prepaid Expenses",null,"All"]
[null,null,null,null,null,null,"AC00402","[LFSC] LFSC-Fulton-Chair-BIOL","AC00402-[LFSC] LFSC-Fulton-Chair-BIOL","Activity","FD03","Active","2025-03-17T16:11:52.138121+00:00",null,"SC6940","Audio Visual Equipment (Only Workday Inventory Module)","SC6940-Audio Visual Equipment (Only Workday Inventory Module)","Spend Category","Active",null,null,"11494","Utah-Cache Valley","11494-Utah-Cache Valley",null,null,null,"AS046482685","David Dahl (046482685) AVP - Dean, Computational, Math,& Physical (CMS)","AS046482685-David Dahl (046482685) AVP - Dean, Computational, Math,& Physical (CMS)","Active",null,null,null,null,null,null,null,null,null,null,null,"SC6127","SC6127||6100","6100","Materials and Supplies","Primary","All"]
[null,null,null,null,null,null,"AC00403","[LFSC] Adams, BJ-Young Scholar","AC00403-[LFSC] Adams, BJ-Young Scholar","Activity","FD03","Active","2025-03-17T16:11:52.138121+00:00",null,"SC6941","Communication Devices (Only Workday Inventory Module)","SC6941-Communication Devices (Only Workday Inventory Module)","Spend Category","Active",null,null,"11495","Utah-Ogden","11495-Utah-Ogden",null,null,null,"AS046579839","Otavio Souza (046579839) Athletics - Men's Volleyball","AS046579839-Otavio Souza (046579839) Athletics - Men's Volleyball","Active",null,null,null,null,null,null,null,null,null,null,null,"SC6128","SC6128||6100","6100","Materials and Supplies","Primary","All"]
[null,null,null,null,null,null,"AC00405","[LFSC] CURA Indirect Student Aid-BIOL","AC00405-[LFSC] CURA Indirect Student Aid-BIOL","Activity","FD03","Active","2025-03-17T16:11:52.138121+00:00",null,"SC6942","Computer Hardware (Only Workday Inventory Module)","SC6942-Computer Hardware (Only Workday Inventory Module)","Spend Category","Active",null,null,"11496","Utah-Salt Lake City","11496-Utah-Salt Lake City",null,null,null,"AS046866186","Jani Radebaugh (046866186) CMS - Geological Sciences","AS046866186-Jani Radebaugh (046866186) CMS - Geological Sciences","Active",null,null,null,null,null,null,null,null,null,null,null,"SC6129","SC6129||1400","1400","Prepaid Expenses",null,"All"]
[null,null,null,null,null,null,"AC00406","[LFSC] Undergrd Experintl Learng-BIOL","AC00406-[LFSC] Undergrd Experintl Learng-BIOL","Activity","FD03","Active","2025-03-17T16:11:52.138121+00:00",null,"SC6943","Data Network Equipment (Only Workday Inventory Module)","SC6943-Data Network Equipment (Only Workday Inventory Module)","Spend Category","Active",null,null,"11497","PA Susquehanna Valley","11497-PA Susquehanna Valley",null,null,null,"AS046927915","Shannon Keeley (046927915) Marketing, Communications, & Technology","AS046927915-Shannon Keeley (046927915) Marketing, Communications, & Technology","Active",null,null,null,null,null,null,null,null,null,null,null,"SC6129","SC6129||1650","1650","Construction in Progress",null,"JE_PPE|JE_Override"]
[null,null,null,null,null,null,"AC00407","[LFSC] CURA Direct Student Aid-BIOL","AC00407-[LFSC] CURA Direct Student Aid-BIOL","Activity","FD03","Active","2025-03-17T16:11:52.138121+00:00",null,"SC6944","Equipment (not otherwise specified) (Only Workday Inventory Module)","SC6944-Equipment (not otherwise specified) (Only Workday Inventory Module)","Spend Category","Active",null,null,"11499","Washington-Seattle","11499-Washington-Seattle",null,null,null,"AS047049476","Kameron Cooper (047049476) Fine Arts & Communications - Design","AS047049476-Kameron Cooper (047049476) Fine Arts & Communications - Design","Active",null,null,null,null,null,null,null,null,null,null,null,"SC6129","SC6129||1651","1651","Construction in Progress (Non-Workday Projects)",null,"All"]
[null,null,null,null,null,null,"AC00408","[LFSC] Sunshine Fund-BIOL","AC00408-[LFSC] Sunshine Fund-BIOL","Activity","FD07","Active","2025-03-17T16:11:52.138121+00:00",null,"SC6945","Office Equipment (Only Workday Inventory Module)","SC6945-Office Equipment (Only Workday Inventory Module)","Spend Category","Active",null,null,"114T3","ESC ACCESS C411A-A1 13594","114T3-ESC ACCESS C411A-A1 13594",null,null,null,"AS047197454","Jodelle Roberts (047197454) PF Building Operations","AS047197454-Jodelle Roberts (047197454) PF Building Operations","Active",null,null,null,null,null,null,null,null,null,null,null,"SC6129","SC6129||4900","4900","Cost of Sales",null,"All"]
[null,null,null,null,null,null,"AC00409","[LFSC] Grad Studies-Deborah Johnson","AC00409-[LFSC] Grad Studies-Deborah Johnson","Activity","FD01","Active","2025-03-17T16:11:52.138121+00:00",null,"SC6946","Security Equipment (Only Workday Inventory Module)","SC6946-Security Equipment (Only Workday Inventory Module)","Spend Category","Active",null,null,"11500","Washington-Central/Moses Lake","11500-Washington-Central/Moses Lake",null,null,null,"AS047330929","Kessia Robinson (047330929) Humanities - English","AS047330929-Kessia Robinson (047330929) Humanities - English","Active",null,null,null,null,null,null,null,null,null,null,null,"SC6129","SC6129||6100","6100","Materials and Supplies","Primary","All"]
[null,null,null,null,null,null,"AC00410","[LFSC] Grad Studies-Devan Bursey","AC00410-[LFSC] Grad Studies-Devan Bursey","Activity","FD01","Active","2025-03-17T16:11:52.138121+00:00",null,"SC6999","Equipment (reclass)","SC6999-Equipment (reclass)","Spend Category","Active",null,null,"11502","PA-Greater Philadelphia","11502-PA-Greater Philadelphia",null,null,null,"AS047441517","Cameron Hee (047441517) Student Life VP","AS047441517-Cameron Hee (047441517) Student Life VP","Active",null,null,null,null,null,null,null,null,null,null,null,"SC6130","SC6130||1400","1400","Prepaid Expenses",null,"All"]
[null,null,null,null,null,null,"AC00411","[LFSC] Grad Student Funding-MMBIO","AC00411-[LFSC] Grad Student Funding-MMBIO","Activity","FD01","Active","2025-03-17T16:11:52.138121+00:00",null,"SC7001","Travel","SC7001-Travel","Spend Category","Active",null,null,"11503","Utah-Utah County","11503-Utah-Utah County",null,null,null,"AS047509842","Taylor Glad (047509842) OIT Resource - AV Events","AS047509842-Taylor Glad (047509842) OIT Resource - AV Events","Active",null,null,null,null,null,null,null,null,null,null,null,"SC6130","SC6130||6100","6100","Materials and Supplies","Primary","All"]
[null,null,null,null,null,null,"AC00412","[LFSC] Grad Studies-Stewart Morley","AC00412-[LFSC] Grad Studies-Stewart Morley","Activity","FD01","Active","2025-03-17T16:11:52.138121+00:00",null,"SC7002","Airfare Domestic","SC7002-Airfare Domestic","Spend Category","Active",null,null,"11504","Florida-Orlando","11504-Florida-Orlando",null,null,null,"AS047801238","Brayden Woodall (047801238) Athletics - Football","AS047801238-Brayden Woodall (047801238) Athletics - Football","Active",null,null,null,null,null,null,null,null,null,null,null,"SC6131","SC6131||1400","1400","Prepaid Expenses",null,"All"]
[null,null,null,null,null,null,"AC00413","[LFSC] Operational Fndrsg Replc-MMBIO","AC00413-[LFSC] Operational Fndrsg Replc-MMBIO","Activity","FD01","Active","2025-03-17T16:11:52.138121+00:00",null,"SC7003","Airfare Foreign","SC7003-Airfare Foreign","Spend Category","Active",null,null,"11505","Florida-South/Miami","11505-Florida-South/Miami",null,null,null,"AS047860039","Cade Charlton (047860039) MSE - Counseling Psychology & Special Ed","AS047860039-Cade Charlton (047860039) MSE - Counseling Psychology & Special Ed","Active",null,null,null,null,null,null,null,null,null,null,null,"SC6131","SC6131||1650","1650","Construction in Progress",null,"JE_PPE|JE_Override"]
[null,null,null,null,null,null,"AC00414","[LFSC] Aquatic Phylogenetics Lab","AC00414-[LFSC] Aquatic Phylogenetics Lab","Activity","FD02","Active","2025-03-17T16:11:52.138121+00:00",null,"SC7004","Transportation Services","SC7004-Transportation Services","Spend Category","Active",null,null,"11506","Florida-Tampa","11506-Florida-Tampa",null,null,null,"AS047927218","Lisa Peck (047927218) FHSS - Internships","AS047927218-Lisa Peck (047927218) FHSS - Internships","Active",null,null,null,null,null,null,null,null,null,null,null,"SC6131","SC6131||1651","1651","Construction in Progress (Non-Workday Projects)",null,"All"]
[null,null,null,null,null,null,"AC00415","[LFSC] MMBIO Club","AC00415-[LFSC] MMBIO Club","Activity","FD02","Active","2025-03-17T16:11:52.138121+00:00",null,"SC7005","Travel - Lodging","SC7005-Travel - Lodging","Spend Category","Active",null,null,"11507","Mississippi-Jackson","11507-Mississippi-Jackson",null,null,null,"AS048357616","Lauren Barnes (048357616) FHSS - School of Family Life","AS048357616-Lauren Barnes (048357616) FHSS - School of Family Life","Active",null,null,null,null,null,null,null,null,null,null,null,"SC6131","SC6131||4900","4900","Cost of Sales",null,"All"]
[null,null,null,null,null,null,"AC00416","[LFSC] Res Instru Core Facil (RICF)","AC00416-[LFSC] Res Instru Core Facil (RICF)","Activity","FD02","Active","2025-03-17T16:11:52.138121+00:00",null,"SC7006","Travel - Tour Guide Services","SC7006-Travel - Tour Guide Services","Spend Category","Active",null,null,"11508","Nevada-Elko","11508-Nevada-Elko",null,null,null,"AS048456520","Chris Gordon (048456520) BYU Broadcasting Administration","AS048456520-Chris Gordon (048456520) BYU Broadcasting Administration","Active",null,null,null,null,null,null,null,null,null,null,null,"SC6131","SC6131||6100","6100","Materials and Supplies","Primary","All"]
[null,null,null,null,null,null,"AC00417","[LFSC] Medical Lab Science Club","AC00417-[LFSC] Medical Lab Science Club","Activity","FD02","Active","2025-03-17T16:11:52.138121+00:00",null,"SC7099","Travel (reclass)","SC7099-Travel (reclass)","Spend Category","Active",null,null,"11511","Tailgates-Campus/HC","11511-Tailgates-Campus/HC",null,null,null,"AS048510154","Alexandra White (048510154) Athletics - Women's Golf","AS048510154-Alexandra White (048510154) Athletics - Women's Golf","Active",null,null,null,null,null,null,null,null,null,null,null,"SC6132","SC6132||1400","1400","Prepaid Expenses",null,"All"]
[null,null,null,null,null,null,"AC00418","[LFSC] Life Sciences Graduate Club","AC00418-[LFSC] Life Sciences Graduate Club","Activity","FD02","Active","2025-03-17T16:11:52.138121+00:00",null,"SC9996","Cash Conversion","SC9996-Cash Conversion","Spend Category","Active",null,null,"11512","Tailgates-Off Campus","11512-Tailgates-Off Campus",null,null,null,"AS048530014","Shelly Reed (048530014) AVP - Dean, College of Nursing","AS048530014-Shelly Reed (048530014) AVP - Dean, College of Nursing","Active",null,null,null,null,null,null,null,null,null,null,null,"SC6132","SC6132||6100","6100","Materials and Supplies","Primary","All"]
[null,null,null,null,null,null,"AC00419","[LFSC] Undergrad Resrch & Intern Club","AC00419-[LFSC] Undergrad Resrch & Intern Club","Activity","FD02","Active","2025-03-17T16:11:52.138121+00:00",null,null,null,null,null,null,null,null,"11513","Tailgates-Bowl Games","11513-Tailgates-Bowl Games",null,null,null,"AS048845092","Ryan Smith (048845092) AVP - Dean, Marriott School of Business (MSB)","AS048845092-Ryan Smith (048845092) AVP - Dean, Marriott School of Business (MSB)","Active",null,null,null,null,null,null,null,null,null,null,null,"SC6133","SC6133||1400","1400","Prepaid Expenses",null,"All"]
[null,null,null,null,null,null,"AC00420","[LFSC] Pre-Genetic Counseling Club","AC00420-[LFSC] Pre-Genetic Counseling Club","Activity","FD02","Active","2025-03-17T16:11:52.138121+00:00",null,null,null,null,null,null,null,null,"11521","Conferencing Odd Year","11521-Conferencing Odd Year",null,null,null,"AS048878987","Nick Frederick (048878987) Religious Education - Ancient Scripture","AS048878987-Nick Frederick (048878987) Religious Education - Ancient Scripture","Active",null,null,null,null,null,null,null,null,null,null,null,"SC6133","SC6133||1650","1650","Construction in Progress",null,"JE_PPE|JE_Override"]
[null,null,null,null,null,null,"AC00421","[LFSC] Operation Outbreak Club","AC00421-[LFSC] Operation Outbreak Club","Activity","FD02","Active","2025-03-17T16:11:52.138121+00:00",null,null,null,null,null,null,null,null,"11522","Conferencing Even Year","11522-Conferencing Even Year",null,null,null,"AS048974113","Valinda Rose (048974113) OIT Core - Business Process & Project Mgmt","AS048974113-Valinda Rose (048974113) OIT Core - Business Process & Project Mgmt","Active",null,null,null,null,null,null,null,null,null,null,null,"SC6133","SC6133||4900","4900","Cost of Sales",null,"All"]
[null,null,null,null,null,null,"AC00422","[LFSC] Enlightenment Society Club","AC00422-[LFSC] Enlightenment Society Club","Activity","FD02","Active","2025-03-17T16:11:52.138121+00:00",null,null,null,null,null,null,null,null,"11525","Family Camp Odd Year","11525-Family Camp Odd Year",null,null,null,"AS049047915","Reid Grawe (049047915) Business Career Center","AS049047915-Reid Grawe (049047915) Business Career Center","Active",null,null,null,null,null,null,null,null,null,null,null,"SC6133","SC6133||6100","6100","Materials and Supplies","Primary","All"]
[null,null,null,null,null,null,"AC00423","[LFSC] Graduate Studies-MMBIO RRGSE","AC00423-[LFSC] Graduate Studies-MMBIO RRGSE","Activity","FD03","Active","2025-03-17T16:11:52.138121+00:00",null,null,null,null,null,null,null,null,"11528","Family Camp Even Year","11528-Family Camp Even Year",null,null,null,"AS049318272","Ryan Jensen (049318272) FHSS - Geography","AS049318272-Ryan Jensen (049318272) FHSS - Geography","Active",null,null,null,null,null,null,null,null,null,null,null,"SC6199","SC6199||1400","1400","Prepaid Expenses",null,"All"]
[null,null,null,null,null,null,"AC00424","[LFSC] Phage Hunter's Class Royalties","AC00424-[LFSC] Phage Hunter's Class Royalties","Activity","FD03","Active","2025-03-17T16:11:52.138121+00:00",null,null,null,null,null,null,null,null,"11533","Football General","11533-Football General",null,null,null,"AS049753059","Joseph Stuart (049753059) FHSS - History","AS049753059-Joseph Stuart (049753059) FHSS - History","Active",null,null,null,null,null,null,null,null,null,null,null,"SC6199","SC6199||1650","1650","Construction in Progress",null,"JE_PPE|JE_Override"]
[null,null,null,null,null,null,"AC00425","[LFSC] Robison, R-Prostratin","AC00425-[LFSC] Robison, R-Prostratin","Activity","FD03","Active","2025-03-17T16:11:52.138121+00:00",null,null,null,null,null,null,null,null,"11536","Freedom Festival","11536-Freedom Festival",null,null,null,"AS050065111","Robert Davis (050065111) CMS - Physics and Astronomy","AS050065111-Robert Davis (050065111) CMS - Physics and Astronomy","Active",null,null,null,null,null,null,null,null,null,null,null,"SC6199","SC6199||1651","1651","Construction in Progress (Non-Workday Projects)",null,"All"]
[null,null,null,null,null,null,"AC00426","[LFSC] Grad Mentoring Award-S.Anderso","AC00426-[LFSC] Grad Mentoring Award-S.Anderso","Activity","FD03","Active","2025-03-17T16:11:52.138121+00:00",null,null,null,null,null,null,null,null,"11545","Cart 1","11545-Cart 1",null,null,null,"AS050481372","Jaren Pope (050481372) FHSS - Economics","AS050481372-Jaren Pope (050481372) FHSS - Economics","Active",null,null,null,null,null,null,null,null,null,null,null,"SC6199","SC6199||6100","6100","Materials and Supplies","Primary","All"]
[null,null,null,null,null,null,"AC00427","[LFSC] LFSC Farm / Skaggs Fund-MMBIO","AC00427-[LFSC] LFSC Farm / Skaggs Fund-MMBIO","Activity","FD03","Active","2025-03-17T16:11:52.138121+00:00",null,null,null,null,null,null,null,null,"11546","Cart 2","11546-Cart 2",null,null,null,"AS050557255","Forrest Hansen (050557255) Law School - External Relations","AS050557255-Forrest Hansen (050557255) Law School - External Relations","Active",null,null,null,null,null,null,null,null,null,null,null,"SC6301","SC6301||6300","6300","Student Aid","Primary","All"]
[null,null,null,null,null,null,"AC00428","[LFSC] Grad Mentoring Award-D.Erickso","AC00428-[LFSC] Grad Mentoring Award-D.Erickso","Activity","FD03","Active","2025-03-17T16:11:52.138121+00:00",null,null,null,null,null,null,null,null,"11547","Cart 3","11547-Cart 3",null,null,null,"AS050558249","Kyle Mammen (050558249) CE Classroom Programs","AS050558249-Kyle Mammen (050558249) CE Classroom Programs","Active",null,null,null,null,null,null,null,null,null,null,null,"SC6302","SC6302||6300","6300","Student Aid","Primary","All"]
[null,null,null,null,null,null,"AC00429","[LFSC] LFSC-Fulton-Chair-MMBIO","AC00429-[LFSC] LFSC-Fulton-Chair-MMBIO","Activity","FD03","Active","2025-03-17T16:11:52.138121+00:00",null,null,null,null,null,null,null,null,"11548","Cart 4","11548-Cart 4",null,null,null,"AS050613103","Katie Palfreyman (050613103) Humanities - English","AS050613103-Katie Palfreyman (050613103) Humanities - English","Active",null,null,null,null,null,null,null,null,null,null,null,"SC6303","SC6303||6300","6300","Student Aid","Primary","All"]
[null,null,null,null,null,null,"AC00431","[LFSC] CURA Indirect Studnt Aid-MMBIO","AC00431-[LFSC] CURA Indirect Studnt Aid-MMBIO","Activity","FD03","Active","2025-03-17T16:11:52.138121+00:00",null,null,null,null,null,null,null,null,"11549","Cart 5","11549-Cart 5",null,null,null,"AS050636631","Jennie Voorhis (050636631) CE Business Services","AS050636631-Jennie Voorhis (050636631) CE Business Services","Active",null,null,null,null,null,null,null,null,null,null,null,"SC6304","SC6304||6300","6300","Student Aid","Primary","All"]
[null,null,null,null,null,null,"AC00432","[LFSC] Undergrd Experintl Learng-MMBI","AC00432-[LFSC] Undergrd Experintl Learng-MMBI","Activity","FD03","Active","2025-03-17T16:11:52.138121+00:00",null,null,null,null,null,null,null,null,"11550","Cart 6","11550-Cart 6",null,null,null,"AS050749641","Mike Holdaway (050749641) OIT Portfolio - CES Network Center (CNC)","AS050749641-Mike Holdaway (050749641) OIT Portfolio - CES Network Center (CNC)","Active",null,null,null,null,null,null,null,null,null,null,null,"SC6305","SC6305||6300","6300","Student Aid","Primary","All"]
[null,null,null,null,null,null,"AC00433","[LFSC] CURA Direct Student Aid-MMBIO","AC00433-[LFSC] CURA Direct Student Aid-MMBIO","Activity","FD03","Active","2025-03-17T16:11:52.138121+00:00",null,null,null,null,null,null,null,null,"11560","Commencement","11560-Commencement",null,null,null,"AS051347479","Gary Sujeta (051347479) PF Paint & Sign Shop","AS051347479-Gary Sujeta (051347479) PF Paint & Sign Shop","Active",null,null,null,null,null,null,null,null,null,null,null,"SC6306","SC6306||6300","6300","Student Aid","Primary","All"]
[null,null,null,null,null,null,"AC00434","[LFSC] Sunshine Fund-MMBIO","AC00434-[LFSC] Sunshine Fund-MMBIO","Activity","FD07","Active","2025-03-17T16:11:52.138121+00:00",null,null,null,null,null,null,null,null,"11562","Sorenson Center","11562-Sorenson Center",null,null,null,"AS051641497","Neil Thornock (051641497) Fine Arts & Communications - School of Music","AS051641497-Neil Thornock (051641497) Fine Arts & Communications - School of Music","Active",null,null,null,null,null,null,null,null,null,null,null,"SC6307","SC6307||6300","6300","Student Aid","Primary","All"]
[null,null,null,null,null,null,"AC00435","[LFSC] Grad Student Funding-NDFS","AC00435-[LFSC] Grad Student Funding-NDFS","Activity","FD01","Active","2025-03-17T16:11:52.138121+00:00",null,null,null,null,null,null,null,null,"11563","Campus Model","11563-Campus Model",null,null,null,"AS051756218","Jared Bell (051756218) Athletics - Corporate Sponsorships","AS051756218-Jared Bell (051756218) Athletics - Corporate Sponsorships","Active",null,null,null,null,null,null,null,null,null,null,null,"SC6308","SC6308||6300","6300","Student Aid","Primary","All"]
[null,null,null,null,null,null,"AC00436","[LFSC] Dietetics Education","AC00436-[LFSC] Dietetics Education","Activity","FD02","Active","2025-03-17T16:11:52.138121+00:00",null,null,null,null,null,null,null,null,"11565","Block Y","11565-Block Y",null,null,null,"AS051762343","Jennine Hollingshaus (051762343) Fine Arts & Communications - Theatre & Media Arts","AS051762343-Jennine Hollingshaus (051762343) Fine Arts & Communications - Theatre & Media Arts","Active",null,null,null,null,null,null,null,null,null,null,null,"SC6399","SC6399||6300","6300","Student Aid","Primary","All"]
[null,null,null,null,null,null,"AC00437","[LFSC] Pendulum Court Dining","AC00437-[LFSC] Pendulum Court Dining","Activity","FD02","Active","2025-03-17T16:11:52.138121+00:00",null,null,null,null,null,null,null,null,"11570","Unassigned","11570-Unassigned",null,null,null,"AS051841946","Heidi Vogeler (051841946) MSE - Counseling Psychology & Special Ed","AS051841946-Heidi Vogeler (051841946) MSE - Counseling Psychology & Special Ed","Active",null,null,null,null,null,null,null,null,null,null,null,"SC6401","SC6401||1400","1400","Prepaid Expenses",null,"All"]
[null,null,null,null,null,null,"AC00438","[LFSC] Food Sciences Club","AC00438-[LFSC] Food Sciences Club","Activity","FD02","Active","2025-03-17T16:11:52.138121+00:00",null,null,null,null,null,null,null,null,"11581","Donations and Sponsorships","11581-Donations and Sponsorships",null,null,null,"AS051989848","Sariah Lunsford (051989848) CE Classroom Programs","AS051989848-Sariah Lunsford (051989848) CE Classroom Programs","Active",null,null,null,null,null,null,null,null,null,null,null,"SC6401","SC6401||6400","6400","General and Administrative","Primary","All"]
[null,null,null,null,null,null,"AC00439","[LFSC] Std Dietetic Assn Club","AC00439-[LFSC] Std Dietetic Assn Club","Activity","FD02","Active","2025-03-17T16:11:52.138121+00:00",null,null,null,null,null,null,null,null,"11587","UW Day of Caring","11587-UW Day of Caring",null,null,null,"AS052054401","Laura Wilson (052054401) Enterprise Solutions - HCM","AS052054401-Laura Wilson (052054401) Enterprise Solutions - HCM","Active",null,null,null,null,null,null,null,null,null,null,null,"SC6402","SC6402||6400","6400","General and Administrative","Primary","All"]
[null,null,null,null,null,null,"AC00440","[LFSC] Food Product Development","AC00440-[LFSC] Food Product Development","Activity","FD02","Active","2025-03-17T16:11:52.138121+00:00",null,null,null,null,null,null,null,null,"11588","United Way Campaign-Kick-Off","11588-United Way Campaign-Kick-Off",null,null,null,"AS052191006","Charlene Clark (052191006) FHSS - School of Social Work","AS052191006-Charlene Clark (052191006) FHSS - School of Social Work","Active",null,null,null,null,null,null,null,null,null,null,null,"SC6403","SC6403||1400","1400","Prepaid Expenses",null,"All"]
[null,null,null,null,null,null,"AC00441","[LFSC] Chromatography Center","AC00441-[LFSC] Chromatography Center","Activity","FD02","Active","2025-03-17T16:11:52.138121+00:00",null,null,null,null,null,null,null,null,"11593","UW Campaign","11593-UW Campaign",null,null,null,"AS052205547","Ryan Flake (052205547) BYU Broadcasting - Post Production","AS052205547-Ryan Flake (052205547) BYU Broadcasting - Post Production","Active",null,null,null,null,null,null,null,null,null,null,null,"SC6403","SC6403||6400","6400","General and Administrative","Primary","All"]
[null,null,null,null,null,null,"AC00442","[LFSC] Nutritional Science Club","AC00442-[LFSC] Nutritional Science Club","Activity","FD02","Active","2025-03-17T16:11:52.138121+00:00",null,null,null,null,null,null,null,null,"11600","Event 21","11600-Event 21",null,null,null,"AS052304264","Ken Lau (052304264) PF Building Operations","AS052304264-Ken Lau (052304264) PF Building Operations","Active",null,null,null,null,null,null,null,null,null,null,null,"SC6404","SC6404||1400","1400","Prepaid Expenses",null,"All"]
[null,null,null,null,null,null,"AC00443","[LFSC] Food Science Capstone","AC00443-[LFSC] Food Science Capstone","Activity","FD02","Active","2025-03-17T16:11:52.138121+00:00",null,null,null,null,null,null,null,null,"11601","Event 22","11601-Event 22",null,null,null,"AS052378482","Ruth Ellis (052378482) Fine Arts & Communications - School of Music","AS052378482-Ruth Ellis (052378482) Fine Arts & Communications - School of Music","Active",null,null,null,null,null,null,null,null,null,null,null,"SC6404","SC6404||1650","1650","Construction in Progress",null,"JE_PPE|JE_Override"]
[null,null,null,null,null,null,"AC00444","[LFSC] Food Micro Expr Lrng Projects","AC00444-[LFSC] Food Micro Expr Lrng Projects","Activity","FD02","Active","2025-03-17T16:11:52.138121+00:00",null,null,null,null,null,null,null,null,"11603","Campus Showcase","11603-Campus Showcase",null,null,null,"AS052394475","Suzanne Julian (052394475) Research & Learning - Library Instruction","AS052394475-Suzanne Julian (052394475) Research & Learning - Library Instruction","Active",null,null,null,null,null,null,null,null,null,null,null,"SC6404","SC6404||1651","1651","Construction in Progress (Non-Workday Projects)",null,"All"]
[null,null,null,null,null,null,"AC00445","[LFSC] Women in Science Club","AC00445-[LFSC] Women in Science Club","Activity","FD02","Active","2025-03-17T16:11:52.138121+00:00",null,null,null,null,null,null,null,null,"11604","Big 12","11604-Big 12",null,null,null,"AS052429999","Talita Wiener-Osman (052429999) Humanities - German & Russian","AS052429999-Talita Wiener-Osman (052429999) Humanities - German & Russian","Active",null,null,null,null,null,null,null,null,null,null,null,"SC6404","SC6404||6400","6400","General and Administrative","Primary","All"]
[null,null,null,null,null,null,"AC00446","[LFSC] Food Sensory Paneling","AC00446-[LFSC] Food Sensory Paneling","Activity","FD03","Active","2025-03-17T16:11:52.138121+00:00",null,null,null,null,null,null,null,null,"11609","Event 30","11609-Event 30",null,null,null,"AS052561772","Michael White (052561772) Humanities - Asian & Near Eastern Languages","AS052561772-Michael White (052561772) Humanities - Asian & Near Eastern Languages","Active",null,null,null,null,null,null,null,null,null,null,null,"SC6405","SC6405||1400","1400","Prepaid Expenses",null,"All"]
[null,null,null,null,null,null,"AC00447","[LFSC] Student Support Scholarship","AC00447-[LFSC] Student Support Scholarship","Activity","FD03","Active","2025-03-17T16:11:52.138121+00:00",null,null,null,null,null,null,null,null,"11659","Summit","11659-Summit",null,null,null,"AS052603694","Adam Law (052603694) Athletics - Baseball","AS052603694-Adam Law (052603694) Athletics - Baseball","Active",null,null,null,null,null,null,null,null,null,null,null,"SC6405","SC6405||6400","6400","General and Administrative","Primary","All"]
[null,null,null,null,null,null,"AC00448","[LFSC] NDFS Mentoring","AC00448-[LFSC] NDFS Mentoring","Activity","FD03","Active","2025-03-17T16:11:52.322069+00:00",null,null,null,null,null,null,null,null,"11666","Comp Ticket Misc Cultural Arts","11666-Comp Ticket Misc Cultural Arts",null,null,null,"AS052697389","Jon Brewer (052697389) Financial Aid and Scholarships","AS052697389-Jon Brewer (052697389) Financial Aid and Scholarships","Active",null,null,null,null,null,null,null,null,null,null,null,"SC6406","SC6406||1400","1400","Prepaid Expenses",null,"All"]
[null,null,null,null,null,null,"AC00449","[LFSC] LFSC Farm / Skaggs Fund-NDFS","AC00449-[LFSC] LFSC Farm / Skaggs Fund-NDFS","Activity","FD03","Active","2025-03-17T16:11:52.322069+00:00",null,null,null,null,null,null,null,null,"11667","Comp Ticket Misc Athletic-No f","11667-Comp Ticket Misc Athletic-No f",null,null,null,"AS052730332","Jennifer Cardon (052730332) CE Facilties & Emergency Coordination","AS052730332-Jennifer Cardon (052730332) CE Facilties & Emergency Coordination","Active",null,null,null,null,null,null,null,null,null,null,null,"SC6406","SC6406||6400","6400","General and Administrative","Primary","All"]
[null,null,null,null,null,null,"AC00450","[LFSC] Grad Mentoring Award-J.Tessem","AC00450-[LFSC] Grad Mentoring Award-J.Tessem","Activity","FD03","Active","2025-03-17T16:11:52.322069+00:00",null,null,null,null,null,null,null,null,"11668","BYU Management Society","11668-BYU Management Society",null,null,null,"AS052767711","Kerry Kartchner (052767711) FHSS - Political Science","AS052767711-Kerry Kartchner (052767711) FHSS - Political Science","Active",null,null,null,null,null,null,null,null,null,null,null,"SC6407","SC6407||1400","1400","Prepaid Expenses",null,"All"]
[null,null,null,null,null,null,"AC00451","[LFSC] Grad Mentoring Award-J.LeChemi","AC00451-[LFSC] Grad Mentoring Award-J.LeChemi","Activity","FD03","Active","2025-03-17T16:11:52.322069+00:00",null,null,null,null,null,null,null,null,"11675","Comp Basketball Season tickets","11675-Comp Basketball Season tickets",null,null,null,"AS052852966","Tamalin Christen (052852966) BYU Broadcasting - Marketing","AS052852966-Tamalin Christen (052852966) BYU Broadcasting - Marketing","Active",null,null,null,null,null,null,null,null,null,null,null,"SC6407","SC6407||6400","6400","General and Administrative","Primary","All"]
[null,null,null,null,null,null,"AC00452","[LFSC] LFSC-Fulton-Chair-NDFS","AC00452-[LFSC] LFSC-Fulton-Chair-NDFS","Activity","FD03","Active","2025-03-17T16:11:52.322069+00:00",null,null,null,null,null,null,null,null,"11685","ROTC","11685-ROTC",null,null,null,"AS053011563","Maddison Colvin (053011563) Fine Arts & Communications - Art","AS053011563-Maddison Colvin (053011563) Fine Arts & Communications - Art","Active",null,null,null,null,null,null,null,null,null,null,null,"SC6408","SC6408||6400","6400","General and Administrative","Primary","All"]
[null,null,null,null,null,null,"AC00454","[LFSC] Undergrd Experintl Learng-NDFS","AC00454-[LFSC] Undergrd Experintl Learng-NDFS","Activity","FD03","Active","2025-03-17T16:11:52.322069+00:00",null,null,null,null,null,null,null,null,"11686","SC Spartanburg","11686-SC Spartanburg",null,null,null,"AS053113933","Kathryn Ottosson (053113933) Lee Library - Collections Access","AS053113933-Kathryn Ottosson (053113933) Lee Library - Collections Access","Active",null,null,null,null,null,null,null,null,null,null,null,"SC6409","SC6409||6400","6400","General and Administrative","Primary","All"]
[null,null,null,null,null,null,"AC00455","[LFSC] CURA Indirect Student Aid-NDFS","AC00455-[LFSC] CURA Indirect Student Aid-NDFS","Activity","FD03","Active","2025-03-17T16:11:52.322069+00:00",null,null,null,null,null,null,null,null,"11687","Ballroom","11687-Ballroom",null,null,null,"AS053123721","Rob Smoot (053123721) Athletics - Cougar Club","AS053123721-Rob Smoot (053123721) Athletics - Cougar Club","Active",null,null,null,null,null,null,null,null,null,null,null,"SC6410","SC6410||1400","1400","Prepaid Expenses",null,"All"]
[null,null,null,null,null,null,"AC00456","[LFSC] CURA Direct Student Aid-NDFS","AC00456-[LFSC] CURA Direct Student Aid-NDFS","Activity","FD03","Active","2025-03-17T16:11:52.322069+00:00",null,null,null,null,null,null,null,null,"11688","Michael Johanson","11688-Michael Johanson",null,null,null,"AS053173168","Derek Griner (053173168) Student Life VP","AS053173168-Derek Griner (053173168) Student Life VP","Active",null,null,null,null,null,null,null,null,null,null,null,"SC6410","SC6410||6400","6400","General and Administrative","Primary","All"]
[null,null,null,null,null,null,"AC00457","[LFSC] Sunshine Fund-NDFS","AC00457-[LFSC] Sunshine Fund-NDFS","Activity","FD07","Active","2025-03-17T16:11:52.322069+00:00",null,null,null,null,null,null,null,null,"11689","Washer/Dryer Income","11689-Washer/Dryer Income",null,null,null,"AS053328098","Michael Hansen (053328098) Advancement Vice President","AS053328098-Michael Hansen (053328098) Advancement Vice President","Active",null,null,null,null,null,null,null,null,null,null,null,"SC6411","SC6411||6400","6400","General and Administrative","Primary","All"]
[null,null,null,null,null,null,"AC00458","[LFSC] Grad Student Funding-CELL","AC00458-[LFSC] Grad Student Funding-CELL","Activity","FD01","Active","2025-03-17T16:11:52.322069+00:00",null,null,null,null,null,null,null,null,"11690","Affinity - Young Ambassadors","11690-Affinity - Young Ambassadors",null,null,null,"AS053393841","Bill Pitt (053393841) College of Engineering - Chemical Engineering","AS053393841-Bill Pitt (053393841) College of Engineering - Chemical Engineering","Active",null,null,null,null,null,null,null,null,null,null,null,"SC6412","SC6412||1400","1400","Prepaid Expenses",null,"All"]
[null,null,null,null,null,null,"AC00459","[LFSC] Confocal Microscope Facility","AC00459-[LFSC] Confocal Microscope Facility","Activity","FD02","Active","2025-03-17T16:11:52.322069+00:00",null,null,null,null,null,null,null,null,"11692","Affinity - Vocal Point","11692-Affinity - Vocal Point",null,null,null,"AS053506341","Kara Stowers (053506341) CMS - Chemistry and Biochemistry","AS053506341-Kara Stowers (053506341) CMS - Chemistry and Biochemistry","Active",null,null,null,null,null,null,null,null,null,null,null,"SC6412","SC6412||6400","6400","General and Administrative","Primary","All"]
[null,null,null,null,null,null,"AC00460","[LFSC] Diabetes Awareness Events","AC00460-[LFSC] Diabetes Awareness Events","Activity","FD03","Active","2025-03-17T16:11:52.322069+00:00",null,null,null,null,null,null,null,null,"11694","Former Student Officer Society","11694-Former Student Officer Society",null,null,null,"AS053764043","Daril Johnson (053764043) CE Business Services","AS053764043-Daril Johnson (053764043) CE Business Services","Active",null,null,null,null,null,null,null,null,null,null,null,"SC6413","SC6413||1400","1400","Prepaid Expenses",null,"All"]
[null,null,null,null,null,null,"AC00461","[LFSC] Grad Studies-CELL","AC00461-[LFSC] Grad Studies-CELL","Activity","FD03","Active","2025-03-17T16:11:52.322069+00:00",null,null,null,null,null,null,null,null,"11695","Affinity-Cougarettes","11695-Affinity-Cougarettes",null,null,null,"AS053793368","Giovanni Tata (053793368) AVP - Associate AVP, Research and Graduate Studies","AS053793368-Giovanni Tata (053793368) AVP - Associate AVP, Research and Graduate Studies","Active",null,null,null,null,null,null,null,null,null,null,null,"SC6413","SC6413||6400","6400","General and Administrative","Primary","All"]
[null,null,null,null,null,null,"AC00462","[LFSC] LFSC Farm / Skaggs Fund-CELL","AC00462-[LFSC] LFSC Farm / Skaggs Fund-CELL","Activity","FD03","Active","2025-03-17T16:11:52.322069+00:00",null,null,null,null,null,null,null,null,"11696","Affinity-Folk Dance","11696-Affinity-Folk Dance",null,null,null,"AS053834421","Tommy Terooatea (053834421) Life Sciences - Biology","AS053834421-Tommy Terooatea (053834421) Life Sciences - Biology","Active",null,null,null,null,null,null,null,null,null,null,null,"SC6414","SC6414||1400","1400","Prepaid Expenses",null,"All"]
[null,null,null,null,null,null,"AC00463","[LFSC] Grad Mentoring Award-J.Edwards","AC00463-[LFSC] Grad Mentoring Award-J.Edwards","Activity","FD03","Active","2025-03-17T16:11:52.322069+00:00",null,null,null,null,null,null,null,null,"11697","Affinity-Living Legends","11697-Affinity-Living Legends",null,null,null,"AS053906103","Annie Thunell (053906103) Heritage Halls","AS053906103-Annie Thunell (053906103) Heritage Halls","Active",null,null,null,null,null,null,null,null,null,null,null,"SC6414","SC6414||1650","1650","Construction in Progress",null,"JE_PPE|JE_Override"]
[null,null,null,null,null,null,"AC00464","[LFSC] Grad Mentoring Award-J.Hansen","AC00464-[LFSC] Grad Mentoring Award-J.Hansen","Activity","FD03","Active","2025-03-17T16:11:52.322069+00:00",null,null,null,null,null,null,null,null,"11698","Affinity-Men's Chorus","11698-Affinity-Men's Chorus",null,null,null,"AS053929956","Bart Chidester (053929956) BYU Broadcasting - Post Production","AS053929956-Bart Chidester (053929956) BYU Broadcasting - Post Production","Active",null,null,null,null,null,null,null,null,null,null,null,"SC6414","SC6414||1651","1651","Construction in Progress (Non-Workday Projects)",null,"All"]
[null,null,null,null,null,null,"AC00465","[LFSC] Grad Mentoring Award-D.Kooyman","AC00465-[LFSC] Grad Mentoring Award-D.Kooyman","Activity","FD03","Active","2025-03-17T16:11:52.322069+00:00",null,null,null,null,null,null,null,null,"11699","Affinity-Nursing Society","11699-Affinity-Nursing Society",null,null,null,"AS053957372","Abby Prince (053957372) PF Building Operations","AS053957372-Abby Prince (053957372) PF Building Operations","Active",null,null,null,null,null,null,null,null,null,null,null,"SC6414","SC6414||6400","6400","General and Administrative","Primary","All"]
[null,null,null,null,null,null,"AC00466","[LFSC] Grad Mentoring Award-D.Thomson","AC00466-[LFSC] Grad Mentoring Award-D.Thomson","Activity","FD03","Active","2025-03-17T16:11:52.322069+00:00",null,null,null,null,null,null,null,null,"11700","Affinity-BYU Ballet","11700-Affinity-BYU Ballet",null,null,null,"AS054052529","Mark Preston (054052529) BYU Broadcasting - Marketing","AS054052529-Mark Preston (054052529) BYU Broadcasting - Marketing","Active",null,null,null,null,null,null,null,null,null,null,null,"SC6415","SC6415||1400","1400","Prepaid Expenses",null,"All"]
[null,null,null,null,null,null,"AC00467","[LFSC] D Kooyman Translation Medicine","AC00467-[LFSC] D Kooyman Translation Medicine","Activity","FD03","Active","2025-03-17T16:11:52.322069+00:00",null,null,null,null,null,null,null,null,"11703","Affinity-Film and TV Connectio","11703-Affinity-Film and TV Connectio",null,null,null,"AS054225613","Jackson DeMille (054225613) Helaman Halls","AS054225613-Jackson DeMille (054225613) Helaman Halls","Active",null,null,null,null,null,null,null,null,null,null,null,"SC6415","SC6415||6400","6400","General and Administrative","Primary","All"]
[null,null,null,null,null,null,"AC00468","[LFSC] T Jenkins Translation Medicine","AC00468-[LFSC] T Jenkins Translation Medicine","Activity","FD03","Active","2025-03-17T16:11:52.322069+00:00",null,null,null,null,null,null,null,null,"11704","Subscriptions/Periodicals","11704-Subscriptions/Periodicals",null,null,null,"AS054459686","Ed Adams (054459686) Academic Vice President","AS054459686-Ed Adams (054459686) Academic Vice President","Active",null,null,null,null,null,null,null,null,null,null,null,"SC6416","SC6416||1400","1400","Prepaid Expenses",null,"All"]
[null,null,null,null,null,null,"AC00469","[LFSC] LFSC-Fulton-Chair-CELL","AC00469-[LFSC] LFSC-Fulton-Chair-CELL","Activity","FD03","Active","2025-03-17T16:11:52.322069+00:00",null,null,null,null,null,null,null,null,"11705","Swim & Dive Chapter","11705-Swim & Dive Chapter",null,null,null,"AS054479354","Elizabeth Clark (054479354) Law School - International Center for Law and Religion","AS054479354-Elizabeth Clark (054479354) Law School - International Center for Law and Religion","Active",null,null,null,null,null,null,null,null,null,null,null,"SC6416","SC6416||6400","6400","General and Administrative","Primary","All"]
[null,null,null,null,null,null,"AC00471","[LFSC] CURA Indirect Studnt Aid-CELL","AC00471-[LFSC] CURA Indirect Studnt Aid-CELL","Activity","FD03","Active","2025-03-17T16:11:52.322069+00:00",null,null,null,null,null,null,null,null,"11706","Geography Chapter","11706-Geography Chapter",null,null,null,"AS054483461","Reed Peterson (054483461) Humanities - Asian & Near Eastern Languages","AS054483461-Reed Peterson (054483461) Humanities - Asian & Near Eastern Languages","Active",null,null,null,null,null,null,null,null,null,null,null,"SC6417","SC6417||1400","1400","Prepaid Expenses",null,"All"]
[null,null,null,null,null,null,"AC00472","[LFSC] Undergrd Experintl Learng-CELL","AC00472-[LFSC] Undergrd Experintl Learng-CELL","Activity","FD03","Active","2025-03-17T16:11:52.322069+00:00",null,null,null,null,null,null,null,null,"11707","Montana - Billings","11707-Montana - Billings",null,null,null,"AS054509286","D. J. Lee (054509286) College of Engineering - Electrical & Computer Engineering","AS054509286-D. J. Lee (054509286) College of Engineering - Electrical & Computer Engineering","Active",null,null,null,null,null,null,null,null,null,null,null,"SC6417","SC6417||6400","6400","General and Administrative","Primary","All"]
[null,null,null,null,null,null,"AC00473","[LFSC] CURA Direct Student Aid-CELL","AC00473-[LFSC] CURA Direct Student Aid-CELL","Activity","FD03","Active","2025-03-17T16:11:52.322069+00:00",null,null,null,null,null,null,null,null,"11710","Alumni Chapter Directors","11710-Alumni Chapter Directors",null,null,null,"AS054511304","Lance Mckinney (054511304) PF AVP Office","AS054511304-Lance Mckinney (054511304) PF AVP Office","Active",null,null,null,null,null,null,null,null,null,null,null,"SC6418","SC6418||6400","6400","General and Administrative","Primary","All"]
[null,null,null,null,null,null,"AC00474","[LFSC] Sunshine Fund-CELL","AC00474-[LFSC] Sunshine Fund-CELL","Activity","FD07","Active","2025-03-17T16:11:52.322069+00:00",null,null,null,null,null,null,null,null,"11711","South Carolina - Columbia","11711-South Carolina - Columbia",null,null,null,"AS054803398","Christine Tanner (054803398) Enrollment Services Executive Director's Office","AS054803398-Christine Tanner (054803398) Enrollment Services Executive Director's Office","Active",null,null,null,null,null,null,null,null,null,null,null,"SC6419","SC6419||1400","1400","Prepaid Expenses",null,"All"]
[null,null,null,null,null,null,"AC00475","[LFSC] Grad Studies-S.StClair","AC00475-[LFSC] Grad Studies-S.StClair","Activity","FD01","Active","2025-03-17T16:11:52.322069+00:00",null,null,null,null,null,null,null,null,"11713","Tennessee - Memphis","11713-Tennessee - Memphis",null,null,null,"AS054806940","Mindy Harmon (054806940) CE FSY Central","AS054806940-Mindy Harmon (054806940) CE FSY Central","Active",null,null,null,null,null,null,null,null,null,null,null,"SC6419","SC6419||6400","6400","General and Administrative","Primary","All"]
[null,null,null,null,null,null,"AC00476","[LFSC] Grad Student Funding-PWS","AC00476-[LFSC] Grad Student Funding-PWS","Activity","FD01","Active","2025-03-17T16:11:52.322069+00:00",null,null,null,null,null,null,null,null,"11714","Kansas - Wichita","11714-Kansas - Wichita",null,null,null,"AS054835693","Stephanie Andrewsen (054835693) Alumni and External Relations","AS054835693-Stephanie Andrewsen (054835693) Alumni and External Relations","Active",null,null,null,null,null,null,null,null,null,null,null,"SC6420","SC6420||1400","1400","Prepaid Expenses",null,"All"]
[null,null,null,null,null,null,"AC00477","[LFSC] Operational Fndrsg Replacm-PWS","AC00477-[LFSC] Operational Fndrsg Replacm-PWS","Activity","FD01","Active","2025-03-17T16:11:52.322069+00:00",null,null,null,null,null,null,null,null,"11715","Utah - St. George","11715-Utah - St. George",null,null,null,"AS054923615","Mike Diede (054923615) Life Sciences - Exercise Sciences","AS054923615-Mike Diede (054923615) Life Sciences - Exercise Sciences","Active",null,null,null,null,null,null,null,null,null,null,null,"SC6420","SC6420||6400","6400","General and Administrative","Primary","All"]
[null,null,null,null,null,null,"AC00478","[LFSC] Farm Research Plots","AC00478-[LFSC] Farm Research Plots","Activity","FD01","Active","2025-03-17T16:11:52.322069+00:00",null,null,null,null,null,null,null,null,"11728","American Samoa","11728-American Samoa",null,null,null,"AS054940732","Rich Patterson (054940732) FHSS - Economics","AS054940732-Rich Patterson (054940732) FHSS - Economics","Active",null,null,null,null,null,null,null,null,null,null,null,"SC6421","SC6421||1400","1400","Prepaid Expenses",null,"All"]
[null,null,null,null,null,null,"AC00479","[LFSC] Plant and Wildlife Sciences","AC00479-[LFSC] Plant and Wildlife Sciences","Activity","FD02","Active","2025-03-17T16:11:52.322069+00:00",null,null,null,null,null,null,null,null,"11739","Delaware - Wilmington","11739-Delaware - Wilmington",null,null,null,"AS055255631","Julie Peery (055255631) MSE  - Teacher Education","AS055255631-Julie Peery (055255631) MSE  - Teacher Education","Active",null,null,null,null,null,null,null,null,null,null,null,"SC6421","SC6421||6400","6400","General and Administrative","Primary","All"]
[null,null,null,null,null,null,"AC00480","[LFSC] Greenhouse Projects","AC00480-[LFSC] Greenhouse Projects","Activity","FD02","Active","2025-03-17T16:11:52.322069+00:00",null,null,null,null,null,null,null,null,"11742","Iowa-Des Moines","11742-Iowa-Des Moines",null,null,null,"AS055337058","Josh Richey (055337058) Enrollment Services Executive Director's Office","AS055337058-Josh Richey (055337058) Enrollment Services Executive Director's Office","Active",null,null,null,null,null,null,null,null,null,null,null,"SC6422","SC6422||1400","1400","Prepaid Expenses",null,"All"]
[null,null,null,null,null,null,"AC00481","[LFSC] Soil-Plant Analysis","AC00481-[LFSC] Soil-Plant Analysis","Activity","FD02","Active","2025-03-17T16:11:52.322069+00:00",null,null,null,null,null,null,null,null,"11752","Speeches","11752-Speeches",null,null,null,"AS055660543","Kerry Soper (055660543) AVP - Dean, Humanities","AS055660543-Kerry Soper (055660543) AVP - Dean, Humanities","Active",null,null,null,null,null,null,null,null,null,null,null,"SC6422","SC6422||6400","6400","General and Administrative","Primary","All"]
[null,null,null,null,null,null,"AC00482","[LFSC] Environmental Science Club","AC00482-[LFSC] Environmental Science Club","Activity","FD02","Active","2025-03-17T16:11:52.322069+00:00",null,null,null,null,null,null,null,null,"11753","Website Maintenance","11753-Website Maintenance",null,null,null,"AS055837095","Suvinia Purcell (055837095) PF Building Operations","AS055837095-Suvinia Purcell (055837095) PF Building Operations","Active",null,null,null,null,null,null,null,null,null,null,null,"SC6423","SC6423||6400","6400","General and Administrative","Primary","All"]
[null,null,null,null,null,null,"AC00483","[LFSC] Landscape Management Club","AC00483-[LFSC] Landscape Management Club","Activity","FD02","Active","2025-03-17T16:11:52.322069+00:00",null,null,null,null,null,null,null,null,"11754","April Commencement","11754-April Commencement",null,null,null,"AS055857647","Maggie Kopp (055857647) Research & Learning - Special Collections","AS055857647-Maggie Kopp (055857647) Research & Learning - Special Collections","Active",null,null,null,null,null,null,null,null,null,null,null,"SC6424","SC6424||1400","1400","Prepaid Expenses",null,"All"]
[null,null,null,null,null,null,"AC00484","[LFSC] Aquarium, Zoo and Rescue Club","AC00484-[LFSC] Aquarium, Zoo and Rescue Club","Activity","FD02","Active","2025-03-17T16:11:52.322069+00:00",null,null,null,null,null,null,null,null,"11760","Student Designers","11760-Student Designers",null,null,null,"AS056008210","Mech Tenney (056008210) Enterprise Solutions - HCM","AS056008210-Mech Tenney (056008210) Enterprise Solutions - HCM","Active",null,null,null,null,null,null,null,null,null,null,null,"SC6424","SC6424||6400","6400","General and Administrative","Primary","All"]
[null,null,null,null,null,null,"AC00485","[LFSC] Geographic Info System(GIS)Lab","AC00485-[LFSC] Geographic Info System(GIS)Lab","Activity","FD02","Active","2025-03-17T16:11:52.322069+00:00",null,null,null,null,null,null,null,null,"11761","Student Computing","11761-Student Computing",null,null,null,"AS056059275","Tamara Moss (056059275) CE Customer Support","AS056059275-Tamara Moss (056059275) CE Customer Support","Active",null,null,null,null,null,null,null,null,null,null,null,"SC6425","SC6425||1400","1400","Prepaid Expenses",null,"All"]
[null,null,null,null,null,null,"AC00486","[LFSC] Cementum Analysis Laboratory","AC00486-[LFSC] Cementum Analysis Laboratory","Activity","FD02","Active","2025-03-17T16:11:52.322069+00:00",null,null,null,null,null,null,null,null,"11762","Student Secretaries","11762-Student Secretaries",null,null,null,"AS056069198","John Wiscombe (056069198) PF Central Heating Plant","AS056069198-John Wiscombe (056069198) PF Central Heating Plant","Active",null,null,null,null,null,null,null,null,null,null,null,"SC6425","SC6425||6400","6400","General and Administrative","Primary","All"]
[null,null,null,null,null,null,"AC00487","[LFSC] Genetics and Biotech Club","AC00487-[LFSC] Genetics and Biotech Club","Activity","FD02","Active","2025-03-17T16:11:52.322069+00:00",null,null,null,null,null,null,null,null,"11763","Student Editors","11763-Student Editors",null,null,null,"AS056353237","Philip Hatch (056353237) PF Grounds - Landscaping Specialty","AS056353237-Philip Hatch (056353237) PF Grounds - Landscaping Specialty","Active",null,null,null,null,null,null,null,null,null,null,null,"SC6426","SC6426||6400","6400","General and Administrative","Primary","All"]
[null,null,null,null,null,null,"AC00488","[LFSC] Wildlife & Range Club","AC00488-[LFSC] Wildlife & Range Club","Activity","FD02","Active","2025-03-17T16:11:52.322069+00:00",null,null,null,null,null,null,null,null,"11764","Student Photography","11764-Student Photography",null,null,null,"AS056691258","Mark Wilson (056691258) Dean's Office Humanities","AS056691258-Mark Wilson (056691258) Dean's Office Humanities","Active",null,null,null,null,null,null,null,null,null,null,null,"SC6427","SC6427||1400","1400","Prepaid Expenses",null,"All"]
[null,null,null,null,null,null,"AC00489","[LFSC] Society for Range Mgmt Club","AC00489-[LFSC] Society for Range Mgmt Club","Activity","FD02","Active","2025-03-17T16:11:52.322069+00:00",null,null,null,null,null,null,null,null,"11765","Student Translators","11765-Student Translators",null,null,null,"AS056755503","Adam Brown (056755503) FHSS - Political Science","AS056755503-Adam Brown (056755503) FHSS - Political Science","Active",null,null,null,null,null,null,null,null,null,null,null,"SC6427","SC6427||6400","6400","General and Administrative","Primary","All"]
[null,null,null,null,null,null,"AC00490","[LFSC] Spotted Wilt","AC00490-[LFSC] Spotted Wilt","Activity","FD03","Active","2025-03-17T16:11:52.322069+00:00",null,null,null,null,null,null,null,null,"11766","Student SEO/Marketing","11766-Student SEO/Marketing",null,null,null,"AS056921368","Daniel Zappala (056921368) CMS - Computer Science","AS056921368-Daniel Zappala (056921368) CMS - Computer Science","Active",null,null,null,null,null,null,null,null,null,null,null,"SC6428","SC6428||1400","1400","Prepaid Expenses",null,"All"]
[null,null,null,null,null,null,"AC00491","[LFSC] National Assc of Landscape Pro","AC00491-[LFSC] National Assc of Landscape Pro","Activity","FD03","Active","2025-03-17T16:11:52.322069+00:00",null,null,null,null,null,null,null,null,"11767","Student Video Editing","11767-Student Video Editing",null,null,null,"AS056963913","Dustin Pead (056963913) Law School","AS056963913-Dustin Pead (056963913) Law School","Active",null,null,null,null,null,null,null,null,null,null,null,"SC6428","SC6428||6400","6400","General and Administrative","Primary","All"]
[null,null,null,null,null,null,"AC00492","[LFSC] LFSC Farm / Skaggs Fund-PWS","AC00492-[LFSC] LFSC Farm / Skaggs Fund-PWS","Activity","FD03","Active","2025-03-17T16:11:52.322069+00:00",null,null,null,null,null,null,null,null,"11770","Photography","11770-Photography",null,null,null,"AS057391302","Scott Raines (057391302) Religious Education - Church History & Doctrine","AS057391302-Scott Raines (057391302) Religious Education - Church History & Doctrine","Active",null,null,null,null,null,null,null,null,null,null,null,"SC6429","SC6429||1400","1400","Prepaid Expenses",null,"All"]
[null,null,null,null,null,null,"AC00493","[LFSC] Grad Mentoring Award-B.Abbott","AC00493-[LFSC] Grad Mentoring Award-B.Abbott","Activity","FD03","Active","2025-03-17T16:11:52.322069+00:00",null,null,null,null,null,null,null,null,"11772","Electronic Media","11772-Electronic Media",null,null,null,"AS057473288","Jennifer Harper (057473288) OIT Resource - CES Network Center (CNC) - Installation","AS057473288-Jennifer Harper (057473288) OIT Resource - CES Network Center (CNC) - Installation","Active",null,null,null,null,null,null,null,null,null,null,null,"SC6429","SC6429||6400","6400","General and Administrative","Primary","All"]
[null,null,null,null,null,null,"AC00494","[LFSC] LFSC-Fulton-Chair-PWS","AC00494-[LFSC] LFSC-Fulton-Chair-PWS","Activity","FD03","Active","2025-03-17T16:11:52.322069+00:00",null,null,null,null,null,null,null,null,"11773","Fonts","11773-Fonts",null,null,null,"AS057686851","Josh DeWitt (057686851) OIT Leadership - Enterprise Data Management and Finance","AS057686851-Josh DeWitt (057686851) OIT Leadership - Enterprise Data Management and Finance","Active",null,null,null,null,null,null,null,null,null,null,null,"SC6430","SC6430||1400","1400","Prepaid Expenses",null,"All"]
[null,null,null,null,null,null,"AC00496","[LFSC] CURA Indirect Student Aid-PWS","AC00496-[LFSC] CURA Indirect Student Aid-PWS","Activity","FD03","Active","2025-03-17T16:11:52.322069+00:00",null,null,null,null,null,null,null,null,"11775","Subscriptions","11775-Subscriptions",null,null,null,"AS057714922","Grant Hart (057714922) CMS - Physics and Astronomy","AS057714922-Grant Hart (057714922) CMS - Physics and Astronomy","Active",null,null,null,null,null,null,null,null,null,null,null,"SC6430","SC6430||6400","6400","General and Administrative","Primary","All"]
[null,null,null,null,null,null,"AC00497","[LFSC] Undergrd Experintl Learng-PWS","AC00497-[LFSC] Undergrd Experintl Learng-PWS","Activity","FD03","Active","2025-03-17T16:11:52.322069+00:00",null,null,null,null,null,null,null,null,"11776","Dues & Memberships","11776-Dues & Memberships",null,null,null,"AS057719021","Robyn Bretzing (057719021) MSE  - Teacher Education","AS057719021-Robyn Bretzing (057719021) MSE  - Teacher Education","Active",null,null,null,null,null,null,null,null,null,null,null,"SC6431","SC6431||1400","1400","Prepaid Expenses",null,"All"]
[null,null,null,null,null,null,"AC00498","[LFSC] CURA Direct Student Aid-PWS","AC00498-[LFSC] CURA Direct Student Aid-PWS","Activity","FD03","Active","2025-03-17T16:11:52.322069+00:00",null,null,null,null,null,null,null,null,"11777","Entry Fees","11777-Entry Fees",null,null,null,"AS058122752","Matthew Shumway (058122752) FHSS - Geography","AS058122752-Matthew Shumway (058122752) FHSS - Geography","Active",null,null,null,null,null,null,null,null,null,null,null,"SC6431","SC6431||6400","6400","General and Administrative","Primary","All"]
[null,null,null,null,null,null,"AC00499","[LFSC] Sunshine Fund-PWS","AC00499-[LFSC] Sunshine Fund-PWS","Activity","FD07","Active","2025-03-17T16:11:52.322069+00:00",null,null,null,null,null,null,null,null,"11800","Billable MU","11800-Billable MU",null,null,null,"AS058228598","Matthew Carlin (058228598) Fine Arts & Communications - Theatre & Media Arts","AS058228598-Matthew Carlin (058228598) Fine Arts & Communications - Theatre & Media Arts","Active",null,null,null,null,null,null,null,null,null,null,null,"SC6432","SC6432||1400","1400","Prepaid Expenses",null,"All"]
[null,null,null,null,null,null,"AC00500","[LFSC] Human Performance Research","AC00500-[LFSC] Human Performance Research","Activity","FD01","Active","2025-03-17T16:11:52.322069+00:00",null,null,null,null,null,null,null,null,"11801","Billable NMU","11801-Billable NMU",null,null,null,"AS058259212","Kimball Germane (058259212) CMS - Computer Science","AS058259212-Kimball Germane (058259212) CMS - Computer Science","Active",null,null,null,null,null,null,null,null,null,null,null,"SC6432","SC6432||6400","6400","General and Administrative","Primary","All"]
[null,null,null,null,null,null,"AC00501","[LFSC] Grad Student Funding-EXSC","AC00501-[LFSC] Grad Student Funding-EXSC","Activity","FD01","Active","2025-03-17T16:11:52.322069+00:00",null,null,null,null,null,null,null,null,"11850","Magazine Printing","11850-Magazine Printing",null,null,null,"AS058350365","Carol Salmon (058350365) CE Broadcast & Streaming Video","AS058350365-Carol Salmon (058350365) CE Broadcast & Streaming Video","Active",null,null,null,null,null,null,null,null,null,null,null,"SC6433","SC6433||1400","1400","Prepaid Expenses",null,"All"]
[null,null,null,null,null,null,"AC00502","[LFSC] Grad Studies-Sunku Kwon","AC00502-[LFSC] Grad Studies-Sunku Kwon","Activity","FD01","Active","2025-03-17T16:11:52.322069+00:00",null,null,null,null,null,null,null,null,"11851","Graphic Design","11851-Graphic Design",null,null,null,"AS058388706","Christian Brown (058388706) Staff and Student Recruiting","AS058388706-Christian Brown (058388706) Staff and Student Recruiting","Active",null,null,null,null,null,null,null,null,null,null,null,"SC6433","SC6433||6400","6400","General and Administrative","Primary","All"]
[null,null,null,null,null,null,"AC00503","[LFSC] Phy/Occupational Therapy Club","AC00503-[LFSC] Phy/Occupational Therapy Club","Activity","FD02","Active","2025-03-17T16:11:52.322069+00:00",null,null,null,null,null,null,null,null,"11852","BYU Today","11852-BYU Today",null,null,null,"AS058552581","Virginia Rosenthal (058552581) Humanities - German & Russian","AS058552581-Virginia Rosenthal (058552581) Humanities - German & Russian","Active",null,null,null,null,null,null,null,null,null,null,null,"SC6434","SC6434||1400","1400","Prepaid Expenses",null,"All"]
[null,null,null,null,null,null,"AC00504","[LFSC] Cougar Athletic Training Club","AC00504-[LFSC] Cougar Athletic Training Club","Activity","FD02","Active","2025-03-17T16:11:52.322069+00:00",null,null,null,null,null,null,null,null,"11853","U.S. Mailing","11853-U.S. Mailing",null,null,null,"AS058906896","Patrick Spencer (058906896) Fine Arts & Communications - Design","AS058906896-Patrick Spencer (058906896) Fine Arts & Communications - Design","Active",null,null,null,null,null,null,null,null,null,null,null,"SC6434","SC6434||6400","6400","General and Administrative","Primary","All"]
[null,null,null,null,null,null,"AC00505","[LFSC] Exercise Sciences Y-Be-Fit","AC00505-[LFSC] Exercise Sciences Y-Be-Fit","Activity","FD02","Active","2025-03-17T16:11:52.322069+00:00",null,null,null,null,null,null,null,null,"11854","Foreign Mailing","11854-Foreign Mailing",null,null,null,"AS059241497","Michael Adams (059241497) Student Life VP","AS059241497-Michael Adams (059241497) Student Life VP","Active",null,null,null,null,null,null,null,null,null,null,null,"SC6435","SC6435||1400","1400","Prepaid Expenses",null,"All"]
[null,null,null,null,null,null,"AC00506","[LFSC] Fitness for Life","AC00506-[LFSC] Fitness for Life","Activity","FD03","Active","2025-03-17T16:11:52.322069+00:00",null,null,null,null,null,null,null,null,"11855","BYU Mag Video Prep","11855-BYU Mag Video Prep",null,null,null,"AS059416261","Tom Meservy (059416261) AVP - Dean, Marriott School of Business (MSB)","AS059416261-Tom Meservy (059416261) AVP - Dean, Marriott School of Business (MSB)","Active",null,null,null,null,null,null,null,null,null,null,null,"SC6435","SC6435||1650","1650","Construction in Progress",null,"JE_PPE|JE_Override"]
[null,null,null,null,null,null,"AC00507","[LFSC] Jesse Knight Profrshp-K Knight","AC00507-[LFSC] Jesse Knight Profrshp-K Knight","Activity","FD03","Active","2025-03-17T16:11:52.322069+00:00",null,null,null,null,null,null,null,null,"11856","BYU Magazine website","11856-BYU Magazine website",null,null,null,"AS059514570","Ammon Ho (059514570) PF Paint & Sign Shop","AS059514570-Ammon Ho (059514570) PF Paint & Sign Shop","Active",null,null,null,null,null,null,null,null,null,null,null,"SC6435","SC6435||1651","1651","Construction in Progress (Non-Workday Projects)",null,"All"]
[null,null,null,null,null,null,"AC00508","[LFSC] Hopkins, Tyson-Young Scholar","AC00508-[LFSC] Hopkins, Tyson-Young Scholar","Activity","FD03","Active","2025-03-17T16:11:52.322069+00:00",null,null,null,null,null,null,null,null,"11857","Y Mag Podcast","11857-Y Mag Podcast",null,null,null,"AS059560897","Laura Muhlestein (059560897) Deans Office BYU Marriott","AS059560897-Laura Muhlestein (059560897) Deans Office BYU Marriott","Active",null,null,null,null,null,null,null,null,null,null,null,"SC6435","SC6435||6400","6400","General and Administrative","Primary","All"]
[null,null,null,null,null,null,"AC00509","[LFSC] Grad Mentoring Award-J.Gifford","AC00509-[LFSC] Grad Mentoring Award-J.Gifford","Activity","FD03","Active","2025-03-17T16:11:52.322069+00:00",null,null,null,null,null,null,null,null,"11860","Reunion 1","11860-Reunion 1",null,null,null,"AS059594692","Jen Nishiguchi (059594692) International VP","AS059594692-Jen Nishiguchi (059594692) International VP","Active",null,null,null,null,null,null,null,null,null,null,null,"SC6436","SC6436||6400","6400","General and Administrative","Primary","All"]
[null,null,null,null,null,null,"AC00510","[LFSC] LFSC-Fulton-Chair-EXSC","AC00510-[LFSC] LFSC-Fulton-Chair-EXSC","Activity","FD03","Active","2025-03-17T16:11:52.322069+00:00",null,null,null,null,null,null,null,null,"11861","Kentucky - Lexington","11861-Kentucky - Lexington",null,null,null,"AS059755157","Katelyn Williams (059755157) Student Wellness","AS059755157-Katelyn Williams (059755157) Student Wellness","Active",null,null,null,null,null,null,null,null,null,null,null,"SC6437","SC6437||6400","6400","General and Administrative","Primary","All"]
[null,null,null,null,null,null,"AC00512","[LFSC] Undergrd Experintl Learng-EXSC","AC00512-[LFSC] Undergrd Experintl Learng-EXSC","Activity","FD03","Active","2025-03-17T16:11:52.322069+00:00",null,null,null,null,null,null,null,null,"11862","Geology","11862-Geology",null,null,null,"AS059842597","Brandon Plewe (059842597) FHSS - Geography","AS059842597-Brandon Plewe (059842597) FHSS - Geography","Active",null,null,null,null,null,null,null,null,null,null,null,"SC6438","SC6438||1400","1400","Prepaid Expenses",null,"All"]
[null,null,null,null,null,null,"AC00513","[LFSC] CURA Indirect Student Aid-EXSC","AC00513-[LFSC] CURA Indirect Student Aid-EXSC","Activity","FD03","Active","2025-03-17T16:11:52.322069+00:00",null,null,null,null,null,null,null,null,"11863","Latino","11863-Latino",null,null,null,"AS059922615","Jon McBride (059922615) Athletics - External Relations","AS059922615-Jon McBride (059922615) Athletics - External Relations","Active",null,null,null,null,null,null,null,null,null,null,null,"SC6438","SC6438||6400","6400","General and Administrative","Primary","All"]
[null,null,null,null,null,null,"AC00514","[LFSC] CURA Direct Student Aid-EXSC","AC00514-[LFSC] CURA Direct Student Aid-EXSC","Activity","FD03","Active","2025-03-17T16:11:52.322069+00:00",null,null,null,null,null,null,null,null,"11867","LDS Educators Society","11867-LDS Educators Society",null,null,null,"AS060137761","Steve Christensen (060137761) AVP - Dean, McKay School of Education (MSE)","AS060137761-Steve Christensen (060137761) AVP - Dean, McKay School of Education (MSE)","Active",null,null,null,null,null,null,null,null,null,null,null,"SC6439","SC6439||1400","1400","Prepaid Expenses",null,"All"]
[null,null,null,null,null,null,"AC00515","[LFSC] Sunshine Fund-EXSC","AC00515-[LFSC] Sunshine Fund-EXSC","Activity","FD07","Active","2025-03-17T16:11:52.322069+00:00",null,null,null,null,null,null,null,null,"11868","Reunion 9","11868-Reunion 9",null,null,null,"AS060169501","Robert Means (060169501) Research & Learning - Humanities","AS060169501-Robert Means (060169501) Research & Learning - Humanities","Active",null,null,null,null,null,null,null,null,null,null,null,"SC6439","SC6439||6400","6400","General and Administrative","Primary","All"]
[null,null,null,null,null,null,"AC00516","[LFSC] Grad Student Funding-HLTH","AC00516-[LFSC] Grad Student Funding-HLTH","Activity","FD01","Active","2025-03-17T16:11:52.322069+00:00",null,null,null,null,null,null,null,null,"11879","TN Northeast","11879-TN Northeast",null,null,null,"AS060654770","Natalie Jensen (060654770) FHSS - Economics","AS060654770-Natalie Jensen (060654770) FHSS - Economics","Active",null,null,null,null,null,null,null,null,null,null,null,"SC6440","SC6440||1400","1400","Prepaid Expenses",null,"All"]
[null,null,null,null,null,null,"AC00517","[LFSC] Master of Public Health","AC00517-[LFSC] Master of Public Health","Activity","FD01","Active","2025-03-17T16:11:52.322069+00:00",null,null,null,null,null,null,null,null,"11885","45 Year Reunion","11885-45 Year Reunion",null,null,null,"AS060781695","Jeanette Geslison (060781695) Fine Arts & Communications - Dance","AS060781695-Jeanette Geslison (060781695) Fine Arts & Communications - Dance","Active",null,null,null,null,null,null,null,null,null,null,null,"SC6440","SC6440||6400","6400","General and Administrative","Primary","All"]
[null,null,null,null,null,null,"AC00518","[LFSC] BYU Public Health Assoc Club","AC00518-[LFSC] BYU Public Health Assoc Club","Activity","FD02","Active","2025-03-17T16:11:52.322069+00:00",null,null,null,null,null,null,null,null,"11889","Joy Weller","11889-Joy Weller",null,null,null,"AS060853265","Lola Taylor (060853265) Indefinite Leaves","AS060853265-Lola Taylor (060853265) Indefinite Leaves","Active",null,null,null,null,null,null,null,null,null,null,null,"SC6441","SC6441||1400","1400","Prepaid Expenses",null,"All"]
[null,null,null,null,null,null,"AC00519","[LFSC] Hepatitis B Virus Club","AC00519-[LFSC] Hepatitis B Virus Club","Activity","FD02","Active","2025-03-17T16:11:52.322069+00:00",null,null,null,null,null,null,null,null,"11957","Publications printing/graphics","11957-Publications printing/graphics",null,null,null,"AS060874409","Almy Hollis (060874409) Mechanical Engineering","AS060874409-Almy Hollis (060874409) Mechanical Engineering","Active",null,null,null,null,null,null,null,null,null,null,null,"SC6441","SC6441||6400","6400","General and Administrative","Primary","All"]
[null,null,null,null,null,null,"AC00520","[LFSC] ASSP Student Accoc. Club","AC00520-[LFSC] ASSP Student Accoc. Club","Activity","FD02","Active","2025-03-17T16:11:52.322069+00:00",null,null,null,null,null,null,null,null,"11959","CLC","11959-CLC",null,null,null,"AS061044013","Gary Smith (061044013) CE Software Development","AS061044013-Gary Smith (061044013) CE Software Development","Active",null,null,null,null,null,null,null,null,null,null,null,"SC6442","SC6442||1400","1400","Prepaid Expenses",null,"All"]
[null,null,null,null,null,null,"AC00521","[LFSC] The BYU Rotaract Club","AC00521-[LFSC] The BYU Rotaract Club","Activity","FD02","Active","2025-03-17T16:11:52.322069+00:00",null,null,null,null,null,null,null,null,"11965","Crafters License","11965-Crafters License",null,null,null,"AS061093642","Barry Holman (061093642) PF Campus Projects - Mechanical Engineering","AS061093642-Barry Holman (061093642) PF Campus Projects - Mechanical Engineering","Active",null,null,null,null,null,null,null,null,null,null,null,"SC6442","SC6442||6400","6400","General and Administrative","Primary","All"]
[null,null,null,null,null,null,"AC00522","[LFSC] IDR Redelfs/Lopez Integration","AC00522-[LFSC] IDR Redelfs/Lopez Integration","Activity","FD03","Active","2025-03-17T16:11:52.322069+00:00",null,null,null,null,null,null,null,null,"11981","Athletics","11981-Athletics",null,null,null,"AS061188345","Gary Lawlor (061188345) CMS - Mathematics","AS061188345-Gary Lawlor (061188345) CMS - Mathematics","Active",null,null,null,null,null,null,null,null,null,null,null,"SC6443","SC6443||1400","1400","Prepaid Expenses",null,"All"]
[null,null,null,null,null,null,"AC00523","[LFSC] LFSC-Fulton-Chair-PH","AC00523-[LFSC] LFSC-Fulton-Chair-PH","Activity","FD03","Active","2025-03-17T16:11:52.322069+00:00",null,null,null,null,null,null,null,null,"11A00","OIT Infrastruct - Distribution","11A00-OIT Infrastruct - Distribution",null,null,null,"AS061424253","Robert Coleman (061424253) PF Major Projects - Construction","AS061424253-Robert Coleman (061424253) PF Major Projects - Construction","Active",null,null,null,null,null,null,null,null,null,null,null,"SC6443","SC6443||6400","6400","General and Administrative","Primary","All"]
[null,null,null,null,null,null,"AC00525","[LFSC] CURA Indirect Student Aid-PH","AC00525-[LFSC] CURA Indirect Student Aid-PH","Activity","FD03","Active","2025-03-17T16:11:52.322069+00:00",null,null,null,null,null,null,null,null,"11A12","TV Headend Distribution","11A12-TV Headend Distribution",null,null,null,"AS061438825","Brooklyn Roemer (061438825) Brand & Creative","AS061438825-Brooklyn Roemer (061438825) Brand & Creative","Active",null,null,null,null,null,null,null,null,null,null,null,"SC6444","SC6444||1400","1400","Prepaid Expenses",null,"All"]
[null,null,null,null,null,null,"AC00526","[LFSC] Undergrd Experintl Learng-HLTH","AC00526-[LFSC] Undergrd Experintl Learng-HLTH","Activity","FD03","Active","2025-03-17T16:11:52.322069+00:00",null,null,null,null,null,null,null,null,"11A81","Network Core","11A81-Network Core",null,null,null,"AS061475058","Brian Chantry (061475058) Enrollment Services Executive Director's Office","AS061475058-Brian Chantry (061475058) Enrollment Services Executive Director's Office","Active",null,null,null,null,null,null,null,null,null,null,null,"SC6444","SC6444||6400","6400","General and Administrative","Primary","All"]
[null,null,null,null,null,null,"AC00527","[LFSC] CURA Direct Student Aid-PH","AC00527-[LFSC] CURA Direct Student Aid-PH","Activity","FD03","Active","2025-03-17T16:11:52.322069+00:00",null,null,null,null,null,null,null,null,"11A82","Network Distribution Equipment","11A82-Network Distribution Equipment",null,null,null,"AS061540758","Danielle LaFata (061540758) Athletics - Olympic Sport Medicine","AS061540758-Danielle LaFata (061540758) Athletics - Olympic Sport Medicine","Active",null,null,null,null,null,null,null,null,null,null,null,"SC6445","SC6445||1400","1400","Prepaid Expenses",null,"All"]
[null,null,null,null,null,null,"AC00528","[LFSC] Sunshine Fund-PH","AC00528-[LFSC] Sunshine Fund-PH","Activity","FD07","Active","2025-03-17T16:11:52.322069+00:00",null,null,null,null,null,null,null,null,"11A84","UPS","11A84-UPS",null,null,null,"AS061662374","Randy Page (061662374) Life Sciences - Dean's Office","AS061662374-Randy Page (061662374) Life Sciences - Dean's Office","Active",null,null,null,null,null,null,null,null,null,null,null,"SC6445","SC6445||6400","6400","General and Administrative","Primary","All"]
[null,null,null,null,null,null,"AC00530","[LAWS] J Reuben Clark Law Socty &Chap","AC00530-[LAWS] J Reuben Clark Law Socty &Chap","Activity","FD03","Active","2025-03-17T16:11:52.322069+00:00",null,null,null,null,null,null,null,null,"11A91","Wire Cable - Feeder (Trunk)","11A91-Wire Cable - Feeder (Trunk)",null,null,null,"AS061704489","Tara Carpenter Estrada (061704489) Fine Arts & Communications - Art","AS061704489-Tara Carpenter Estrada (061704489) Fine Arts & Communications - Art","Active",null,null,null,null,null,null,null,null,null,null,null,"SC6446","SC6446||1400","1400","Prepaid Expenses",null,"All"]
[null,null,null,null,null,null,"AC00531","[LAWS] Research Support","AC00531-[LAWS] Research Support","Activity","FD01","Active","2025-03-17T16:11:52.322069+00:00",null,null,null,null,null,null,null,null,"11A92","Wire Cable - Riser","11A92-Wire Cable - Riser",null,null,null,"AS061742652","Chad Carlos (061742652) MSB - Management","AS061742652-Chad Carlos (061742652) MSB - Management","Active",null,null,null,null,null,null,null,null,null,null,null,"SC6446","SC6446||6400","6400","General and Administrative","Primary","All"]
[null,null,null,null,null,null,"AC00532","[LAWS] Law School Scholar","AC00532-[LAWS] Law School Scholar","Activity","FD01","Active","2025-03-17T16:11:52.322069+00:00",null,null,null,null,null,null,null,null,"11A93","Wire Cable - Station","11A93-Wire Cable - Station",null,null,null,"AS061751916","Jeff Hardy (061751916) FHSS - History","AS061751916-Jeff Hardy (061751916) FHSS - History","Active",null,null,null,null,null,null,null,null,null,null,null,"SC6447","SC6447||1400","1400","Prepaid Expenses",null,"All"]
[null,null,null,null,null,null,"AC00533","[LAWS] Corpus Linguistics Project","AC00533-[LAWS] Corpus Linguistics Project","Activity","FD01","Active","2025-03-17T16:11:52.322069+00:00",null,null,null,null,null,null,null,null,"11A95","Fiber Cable - Feeder","11A95-Fiber Cable - Feeder",null,null,null,"AS061886773","Chris Smith (061886773) Fine Arts & Communications - School of Music","AS061886773-Chris Smith (061886773) Fine Arts & Communications - School of Music","Active",null,null,null,null,null,null,null,null,null,null,null,"SC6447","SC6447||6400","6400","General and Administrative","Primary","All"]
[null,null,null,null,null,null,"AC00534","[LAWS] MLSA","AC00534-[LAWS] MLSA","Activity","FD02","Active","2025-03-17T16:11:52.322069+00:00",null,null,null,null,null,null,null,null,"11A97","Fiber Station Cable","11A97-Fiber Station Cable",null,null,null,"AS061987570","Kelly Russell (061987570) Kennedy International Center","AS061987570-Kelly Russell (061987570) Kennedy International Center","Active",null,null,null,null,null,null,null,null,null,null,null,"SC6448","SC6448||1400","1400","Prepaid Expenses",null,"All"]
[null,null,null,null,null,null,"AC00535","[LAWS] Student Bar Assoc","AC00535-[LAWS] Student Bar Assoc","Activity","FD02","Active","2025-03-17T16:11:52.322069+00:00",null,null,null,null,null,null,null,null,"11A98","Fiber Cable - Tie","11A98-Fiber Cable - Tie",null,null,null,"AS062002515","Jason Adams (062002515) Life Sciences - Cell Biology & Physiology","AS062002515-Jason Adams (062002515) Life Sciences - Cell Biology & Physiology","Active",null,null,null,null,null,null,null,null,null,null,null,"SC6448","SC6448||6400","6400","General and Administrative","Primary","All"]
[null,null,null,null,null,null,"AC00536","[LAWS] Law Partners","AC00536-[LAWS] Law Partners","Activity","FD02","Active","2025-03-17T16:11:52.322069+00:00",null,null,null,null,null,null,null,null,"11AA1","Computer Racks","11AA1-Computer Racks",null,null,null,"AS062066510","Julian Riley (062066510) OIT Resource - AV Events","AS062066510-Julian Riley (062066510) OIT Resource - AV Events","Active",null,null,null,null,null,null,null,null,null,null,null,"SC6449","SC6449||1400","1400","Prepaid Expenses",null,"All"]
[null,null,null,null,null,null,"AC00537","[LAWS] Women in the Law","AC00537-[LAWS] Women in the Law","Activity","FD02","Active","2025-03-17T16:11:52.322069+00:00",null,null,null,null,null,null,null,null,"11AA2","Communications Racks","11AA2-Communications Racks",null,null,null,"AS062412154","Jim Sawka (062412154) PF Building Projects, Maintenance & Transportation Services","AS062412154-Jim Sawka (062412154) PF Building Projects, Maintenance & Transportation Services","Active",null,null,null,null,null,null,null,null,null,null,null,"SC6449","SC6449||1650","1650","Construction in Progress",null,"JE_PPE|JE_Override"]
[null,null,null,null,null,null,"AC00538","[LAWS] BYU Federal Soc","AC00538-[LAWS] BYU Federal Soc","Activity","FD02","Active","2025-03-17T16:11:52.322069+00:00",null,null,null,null,null,null,null,null,"11B00","OIT Infrastruct-Presentation","11B00-OIT Infrastruct-Presentation",null,null,null,"AS062429828","Jon Ward (062429828) CE SLC - Administration","AS062429828-Jon Ward (062429828) CE SLC - Administration","Active",null,null,null,null,null,null,null,null,null,null,null,"SC6449","SC6449||1651","1651","Construction in Progress (Non-Workday Projects)",null,"All"]
[null,null,null,null,null,null,"AC00539","[LAWS] ILSA","AC00539-[LAWS] ILSA","Activity","FD02","Active","2025-03-17T16:11:52.322069+00:00",null,null,null,null,null,null,null,null,"11B18","VIDEO/DATA PROJECTORS","11B18-VIDEO/DATA PROJECTORS",null,null,null,"AS063197888","Stephanie Dautel (063197888) BYU Broadcasting - Marketing","AS063197888-Stephanie Dautel (063197888) BYU Broadcasting - Marketing","Active",null,null,null,null,null,null,null,null,null,null,null,"SC6449","SC6449||6400","6400","General and Administrative","Primary","All"]
[null,null,null,null,null,null,"AC00540","[LAWS] DC Legal Society","AC00540-[LAWS] DC Legal Society","Activity","FD02","Active","2025-03-17T16:11:52.322069+00:00",null,null,null,null,null,null,null,null,"11B1J","Building Shared Equip","11B1J-Building Shared Equip",null,null,null,"AS063335072","Molly Rosenbaum (063335072) MSE - Counseling Psychology & Special Ed","AS063335072-Molly Rosenbaum (063335072) MSE - Counseling Psychology & Special Ed","Active",null,null,null,null,null,null,null,null,null,null,null,"SC6450","SC6450||1400","1400","Prepaid Expenses",null,"All"]
[null,null,null,null,null,null,"AC00541","[LAWS] Native Am Law St Asc","AC00541-[LAWS] Native Am Law St Asc","Activity","FD02","Active","2025-03-17T16:11:52.322069+00:00",null,null,null,null,null,null,null,null,"11B21","SPEAKERS-INSTAL&PERFORM SYS","11B21-SPEAKERS-INSTAL&PERFORM SYS",null,null,null,"AS063351279","Gary Crye (063351279) OIT Portfolio - Teaching, Learning, & Research / Dev Tools","AS063351279-Gary Crye (063351279) OIT Portfolio - Teaching, Learning, & Research / Dev Tools","Active",null,null,null,null,null,null,null,null,null,null,null,"SC6450","SC6450||1650","1650","Construction in Progress",null,"JE_PPE|JE_Override"]
[null,null,null,null,null,null,"AC00542","[LAWS] ADR Society","AC00542-[LAWS] ADR Society","Activity","FD02","Active","2025-03-17T16:11:52.322069+00:00",null,null,null,null,null,null,null,null,"11B22","INSTALLED SOUND REINFORCEMNT S","11B22-INSTALLED SOUND REINFORCEMNT S",null,null,null,"AS063556313","Esteban Garcia (063556313) CE Systems Admin","AS063556313-Esteban Garcia (063556313) CE Systems Admin","Active",null,null,null,null,null,null,null,null,null,null,null,"SC6450","SC6450||1651","1651","Construction in Progress (Non-Workday Projects)",null,"All"]
[null,null,null,null,null,null,"AC00543","[LAWS] Govt and Politics Law Society","AC00543-[LAWS] Govt and Politics Law Society","Activity","FD02","Active","2025-03-17T16:11:52.322069+00:00",null,null,null,null,null,null,null,null,"11B24","CAMPUS EP/BGM-DIS,BROADCST CNT","11B24-CAMPUS EP/BGM-DIS,BROADCST CNT",null,null,null,"AS063658480","Nate Garrett (063658480) PF Air Conditioning Shop","AS063658480-Nate Garrett (063658480) PF Air Conditioning Shop","Active",null,null,null,null,null,null,null,null,null,null,null,"SC6450","SC6450||6400","6400","General and Administrative","Primary","All"]
[null,null,null,null,null,null,"AC00544","[LAWS] Public Interest Law Foundation","AC00544-[LAWS] Public Interest Law Foundation","Activity","FD02","Active","2025-03-17T16:11:52.322069+00:00",null,null,null,null,null,null,null,null,"11B25","AUD-INTRCM SYS-INS-WIRE&WIRELS","11B25-AUD-INTRCM SYS-INS-WIRE&WIRELS",null,null,null,"AS064065708","Kristina Baardson (064065708) Purchasing and Travel - International Travel","AS064065708-Kristina Baardson (064065708) Purchasing and Travel - International Travel","Active",null,null,null,null,null,null,null,null,null,null,null,"SC6451","SC6451||1400","1400","Prepaid Expenses",null,"All"]
[null,null,null,null,null,null,"AC00545","[LAWS] EERS","AC00545-[LAWS] EERS","Activity","FD02","Active","2025-03-17T16:11:52.322069+00:00",null,null,null,null,null,null,null,null,"11B26","INPUT SOURCE-PLAYBCK DECK&MIC","11B26-INPUT SOURCE-PLAYBCK DECK&MIC",null,null,null,"AS064260018","Evan Parry (064260018) MSB - Public Service & Ethics","AS064260018-Evan Parry (064260018) MSB - Public Service & Ethics","Active",null,null,null,null,null,null,null,null,null,null,null,"SC6451","SC6451||6400","6400","General and Administrative","Primary","All"]
[null,null,null,null,null,null,"AC00546","[LAWS] SIPLA","AC00546-[LAWS] SIPLA","Activity","FD02","Active","2025-03-17T16:11:52.322069+00:00",null,null,null,null,null,null,null,null,"11B27","BLDG EP/BGM ORIG&PROC-AMP&TUNE","11B27-BLDG EP/BGM ORIG&PROC-AMP&TUNE",null,null,null,"AS064455119","Ryan Hardy (064455119) CE FSY","AS064455119-Ryan Hardy (064455119) CE FSY","Active",null,null,null,null,null,null,null,null,null,null,null,"SC6452","SC6452||1400","1400","Prepaid Expenses",null,"All"]
[null,null,null,null,null,null,"AC00547","[LAWS] SPENT(Sport/Entertainment Law)","AC00547-[LAWS] SPENT(Sport/Entertainment Law)","Activity","FD02","Active","2025-03-17T16:11:52.322069+00:00",null,null,null,null,null,null,null,null,"11B28","BLDG EP/BGM SPKR-VOL,WIRE&CONT","11B28-BLDG EP/BGM SPKR-VOL,WIRE&CONT",null,null,null,"AS064546661","Matthew Johnson (064546661) OIT Portfolio - Business, Finance, & HR","AS064546661-Matthew Johnson (064546661) OIT Portfolio - Business, Finance, & HR","Active",null,null,null,null,null,null,null,null,null,null,null,"SC6452","SC6452||6400","6400","General and Administrative","Primary","All"]
[null,null,null,null,null,null,"AC00548","[LAWS] Law School Support","AC00548-[LAWS] Law School Support","Activity","FD02","Active","2025-03-17T16:11:52.322069+00:00",null,null,null,null,null,null,null,null,"11B2Z","AUDIO/PAGING MISC.","11B2Z-AUDIO/PAGING MISC.",null,null,null,"AS064699868","Matt Porter (064699868) PF Central Heating Plant","AS064699868-Matt Porter (064699868) PF Central Heating Plant","Active",null,null,null,null,null,null,null,null,null,null,null,"SC6453","SC6453||1400","1400","Prepaid Expenses",null,"All"]
[null,null,null,null,null,null,"AC00549","[LAWS] Community Legal Clinic","AC00549-[LAWS] Community Legal Clinic","Activity","FD02","Active","2025-03-17T16:11:52.322069+00:00",null,null,null,null,null,null,null,null,"11B32","DIMMER PACKS","11B32-DIMMER PACKS",null,null,null,"AS065004973","Eden Peterson (065004973) MSB - Public Service & Ethics","AS065004973-Eden Peterson (065004973) MSB - Public Service & Ethics","Active",null,null,null,null,null,null,null,null,null,null,null,"SC6453","SC6453||6400","6400","General and Administrative","Primary","All"]
[null,null,null,null,null,null,"AC00550","[LAWS] Class Consulting Projects","AC00550-[LAWS] Class Consulting Projects","Activity","FD02","Active","2025-03-17T16:11:52.322069+00:00",null,null,null,null,null,null,null,null,"11B61","VIDEO CAM-INCL BROADCST CAMCOR","11B61-VIDEO CAM-INCL BROADCST CAMCOR",null,null,null,"AS065021516","Jared Franson (065021516) Athletics - Olympic Sport Medicine","AS065021516-Jared Franson (065021516) Athletics - Olympic Sport Medicine","Active",null,null,null,null,null,null,null,null,null,null,null,"SC6454","SC6454||1400","1400","Prepaid Expenses",null,"All"]
[null,null,null,null,null,null,"AC00551","[LAWS] BYU Law Review","AC00551-[LAWS] BYU Law Review","Activity","FD02","Active","2025-03-17T16:11:52.322069+00:00",null,null,null,null,null,null,null,null,"11B6B","Video Recording System","11B6B-Video Recording System",null,null,null,"AS065072862","Sariah Fales (065072862) Humanities - English","AS065072862-Sariah Fales (065072862) Humanities - English","Active",null,null,null,null,null,null,null,null,null,null,null,"SC6454","SC6454||6400","6400","General and Administrative","Primary","All"]
[null,null,null,null,null,null,"AC00552","[LAWS] Antitrust Society","AC00552-[LAWS] Antitrust Society","Activity","FD02","Active","2025-03-17T16:11:52.322069+00:00",null,null,null,null,null,null,null,null,"11B6E","VIDEO   TEST EQUIPMENT","11B6E-VIDEO   TEST EQUIPMENT",null,null,null,"AS065151407","Geoff Johnson (065151407) PF Auxiliary Maintenance","AS065151407-Geoff Johnson (065151407) PF Auxiliary Maintenance","Active",null,null,null,null,null,null,null,null,null,null,null,"SC6455","SC6455||1400","1400","Prepaid Expenses",null,"All"]
[null,null,null,null,null,null,"AC00553","[LAWS] American Constitution Society","AC00553-[LAWS] American Constitution Society","Activity","FD02","Active","2025-03-17T16:11:52.322069+00:00",null,null,null,null,null,null,null,null,"11B6F","Video Playback System","11B6F-Video Playback System",null,null,null,"AS065155580","Cody Reeves (065155580) MSB - Management","AS065155580-Cody Reeves (065155580) MSB - Management","Active",null,null,null,null,null,null,null,null,null,null,null,"SC6455","SC6455||1650","1650","Construction in Progress",null,"JE_PPE|JE_Override"]
[null,null,null,null,null,null,"AC00554","[LAWS] Latino/a Law Student Assoc","AC00554-[LAWS] Latino/a Law Student Assoc","Activity","FD02","Active","2025-03-17T16:11:52.322069+00:00",null,null,null,null,null,null,null,null,"11C00","OIT Access","11C00-OIT Access",null,null,null,"AS065216056","Jacqueline Torres (065216056) Culinary Support Center","AS065216056-Jacqueline Torres (065216056) Culinary Support Center","Active",null,null,null,null,null,null,null,null,null,null,null,"SC6455","SC6455||1651","1651","Construction in Progress (Non-Workday Projects)",null,"All"]
[null,null,null,null,null,null,"AC00555","[LAWS] Law School Professor Acct.","AC00555-[LAWS] Law School Professor Acct.","Activity","FD03","Active","2025-03-17T16:11:52.322069+00:00",null,null,null,null,null,null,null,null,"11D00","OIT Infrastruct-Servers","11D00-OIT Infrastruct-Servers",null,null,null,"AS065242203","Myrna Layton (065242203) Lee Library - Admin, Research & Learning","AS065242203-Myrna Layton (065242203) Lee Library - Admin, Research & Learning","Active",null,null,null,null,null,null,null,null,null,null,null,"SC6455","SC6455||6400","6400","General and Administrative","Primary","All"]
[null,null,null,null,null,null,"AC00556","[LAWS] Prfshp-Law-Welch","AC00556-[LAWS] Prfshp-Law-Welch","Activity","FD03","Active","2025-03-17T16:11:52.322069+00:00",null,null,null,null,null,null,null,null,"11D11","It Server - Speciality","11D11-It Server - Speciality",null,null,null,"AS065373396","Maggie Marchant (065373396) Research & Learning - Social Sciences","AS065373396-Maggie Marchant (065373396) Research & Learning - Social Sciences","Active",null,null,null,null,null,null,null,null,null,null,null,"SC6456","SC6456||1400","1400","Prepaid Expenses",null,"All"]
[null,null,null,null,null,null,"AC00557","[LAWS] Law & Social Change nonstudent","AC00557-[LAWS] Law & Social Change nonstudent","Activity","FD03","Active","2025-03-17T16:11:52.322069+00:00",null,null,null,null,null,null,null,null,"11D25","Department Server - Storage","11D25-Department Server - Storage",null,null,null,"AS065578519","Alisa Kesler Lund (065578519) FHSS - History","AS065578519-Alisa Kesler Lund (065578519) FHSS - History","Active",null,null,null,null,null,null,null,null,null,null,null,"SC6456","SC6456||6400","6400","General and Administrative","Primary","All"]
[null,null,null,null,null,null,"AC00558","[LAWS] Law - President's Innovation","AC00558-[LAWS] Law - President's Innovation","Activity","FD03","Active","2025-03-17T16:11:52.322069+00:00",null,null,null,null,null,null,null,null,"11D41","Central Server - Application","11D41-Central Server - Application",null,null,null,"AS065677979","Brad Barber (065677979) Law School","AS065677979-Brad Barber (065677979) Law School","Active",null,null,null,null,null,null,null,null,null,null,null,"SC6457","SC6457||1400","1400","Prepaid Expenses",null,"All"]
[null,null,null,null,null,null,"AC00560","[LAWS] Student/Faculty Mentoring","AC00560-[LAWS] Student/Faculty Mentoring","Activity","FD03","Active","2025-03-17T16:11:52.322069+00:00",null,null,null,null,null,null,null,null,"11E00","Software - Misc","11E00-Software - Misc",null,null,null,"AS065775978","Michael Goodrich (065775978) CMS - Computer Science","AS065775978-Michael Goodrich (065775978) CMS - Computer Science","Active",null,null,null,null,null,null,null,null,null,null,null,"SC6457","SC6457||6400","6400","General and Administrative","Primary","All"]
[null,null,null,null,null,null,"AC00561","[LAWS] Mediation Lab&Training Project","AC00561-[LAWS] Mediation Lab&Training Project","Activity","FD03","Active","2025-03-17T16:11:52.322069+00:00",null,null,null,null,null,null,null,null,"11E21","Enterprise Management Softwar","11E21-Enterprise Management Softwar",null,null,null,"AS065897875","Jack Stoneman (065897875) Humanities - Asian & Near Eastern Languages","AS065897875-Jack Stoneman (065897875) Humanities - Asian & Near Eastern Languages","Active",null,null,null,null,null,null,null,null,null,null,null,"SC6458","SC6458||1400","1400","Prepaid Expenses",null,"All"]
[null,null,null,null,null,null,"AC00562","[LAWS] Experiential Learning","AC00562-[LAWS] Experiential Learning","Activity","FD03","Active","2025-03-17T16:11:52.322069+00:00",null,null,null,null,null,null,null,null,"11E41","Application Software","11E41-Application Software",null,null,null,"AS066096561","Steven Bednar (066096561) Law School","AS066096561-Steven Bednar (066096561) Law School","Active",null,null,null,null,null,null,null,null,null,null,null,"SC6458","SC6458||6400","6400","General and Administrative","Primary","All"]
[null,null,null,null,null,null,"AC00563","[LAWS] Teaching Programs","AC00563-[LAWS] Teaching Programs","Activity","FD01","Active","2025-03-17T16:11:52.322069+00:00",null,null,null,null,null,null,null,null,"11SLA","McKay School of Education","11SLA-McKay School of Education",null,null,null,"AS066549145","June Standley (066549145) Enrollment Services Marketing and Communications","AS066549145-June Standley (066549145) Enrollment Services Marketing and Communications","Active",null,null,null,null,null,null,null,null,null,null,null,"SC6459","SC6459||1400","1400","Prepaid Expenses",null,"All"]
[null,null,null,null,null,null,"AC00564","[LAWS] Hosted & Regional Conferences","AC00564-[LAWS] Hosted & Regional Conferences","Activity","FD01","Active","2025-03-17T16:11:52.322069+00:00",null,null,null,null,null,null,null,null,"12000","General Airlines","12000-General Airlines",null,null,null,"AS066645543","Curt Holman (066645543) Fine Arts & Communications - Dance","AS066645543-Curt Holman (066645543) Fine Arts & Communications - Dance","Active",null,null,null,null,null,null,null,null,null,null,null,"SC6459","SC6459||6400","6400","General and Administrative","Primary","All"]
[null,null,null,null,null,null,"AC00565","[LAWS] Other Conferences","AC00565-[LAWS] Other Conferences","Activity","FD01","Active","2025-03-17T16:11:52.322069+00:00",null,null,null,null,null,null,null,null,"12001","Hotels","12001-Hotels",null,null,null,"AS066657479","Angela Jones (066657479) CMS - Computer Science","AS066657479-Angela Jones (066657479) CMS - Computer Science","Active",null,null,null,null,null,null,null,null,null,null,null,"SC6460","SC6460||1400","1400","Prepaid Expenses",null,"All"]
[null,null,null,null,null,null,"AC00566","[LAWS] Professorship - W. Cole Durham","AC00566-[LAWS] Professorship - W. Cole Durham","Activity","FD03","Active","2025-03-17T16:11:52.322069+00:00",null,null,null,null,null,null,null,null,"12002","Rental Cars","12002-Rental Cars",null,null,null,"AS066791363","Carolyn Billings (066791363) Athletics - Olympic Sport Medicine","AS066791363-Carolyn Billings (066791363) Athletics - Olympic Sport Medicine","Active",null,null,null,null,null,null,null,null,null,null,null,"SC6460","SC6460||6400","6400","General and Administrative","Primary","All"]
[null,null,null,null,null,null,"AC00567","[LAWS] Int'l Law & Religious Center","AC00567-[LAWS] Int'l Law & Religious Center","Activity","FD03","Active","2025-03-17T16:11:52.322069+00:00",null,null,null,null,null,null,null,null,"12005","Corporate Card","12005-Corporate Card",null,null,null,"AS066794452","Hans-Wilhelm Kelling (066794452) Humanities - German & Russian","AS066794452-Hans-Wilhelm Kelling (066794452) Humanities - German & Russian","Active",null,null,null,null,null,null,null,null,null,null,null,"SC6461","SC6461||1400","1400","Prepaid Expenses",null,"All"]
[null,null,null,null,null,null,"AC00568","[LAWS] Law & Religion Fellows","AC00568-[LAWS] Law & Religion Fellows","Activity","FD03","Active","2025-03-17T16:11:52.322069+00:00",null,null,null,null,null,null,null,null,"12006","JPMorgan Rebate","12006-JPMorgan Rebate",null,null,null,"AS067108432","Jarica Watts (067108432) Humanities - English","AS067108432-Jarica Watts (067108432) Humanities - English","Active",null,null,null,null,null,null,null,null,null,null,null,"SC6461","SC6461||6400","6400","General and Administrative","Primary","All"]
[null,null,null,null,null,null,"AC00569","[ENG] Mentored Learning","AC00569-[ENG] Mentored Learning","Activity","FD01","Active","2025-03-17T16:11:52.322069+00:00",null,null,null,null,null,null,null,null,"12007","Sabre Incentive","12007-Sabre Incentive",null,null,null,"AS067170317","Stephen Ricks (067170317) Humanities - Asian & Near Eastern Languages","AS067170317-Stephen Ricks (067170317) Humanities - Asian & Near Eastern Languages","Active",null,null,null,null,null,null,null,null,null,null,null,"SC6462","SC6462||6400","6400","General and Administrative","Primary","All"]
[null,null,null,null,null,null,"AC00570","[ENG] Named Professorships","AC00570-[ENG] Named Professorships","Activity","FD01","Active","2025-03-17T16:11:52.322069+00:00",null,null,null,null,null,null,null,null,"12015","Passport Services","12015-Passport Services",null,null,null,"AS067325976","Deanna O'Hara (067325976) PF Building Operations","AS067325976-Deanna O'Hara (067325976) PF Building Operations","Active",null,null,null,null,null,null,null,null,null,null,null,"SC6463","SC6463||1400","1400","Prepaid Expenses",null,"All"]
[null,null,null,null,null,null,"AC00571","[ENG] Dean's Ofc Operation","AC00571-[ENG] Dean's Ofc Operation","Activity","FD01","Active","2025-03-17T16:11:52.322069+00:00",null,null,null,null,null,null,null,null,"12020","General Office","12020-General Office",null,null,null,"AS067480259","Lita Little Giddins (067480259) Belonging Vice President","AS067480259-Lita Little Giddins (067480259) Belonging Vice President","Active",null,null,null,null,null,null,null,null,null,null,null,"SC6463","SC6463||6400","6400","General and Administrative","Primary","All"]
[null,null,null,null,null,null,"AC00572","[ENG] Research Support","AC00572-[ENG] Research Support","Activity","FD01","Active","2025-03-17T16:11:52.322069+00:00",null,null,null,null,null,null,null,null,"12022","Lori Sowards","12022-Lori Sowards",null,null,null,"AS067962948","Kirsten Russell (067962948) MSE - Communication Disorders","AS067962948-Kirsten Russell (067962948) MSE - Communication Disorders","Active",null,null,null,null,null,null,null,null,null,null,null,"SC6464","SC6464||6400","6400","General and Administrative","Primary","JE_Research|JE_Override"]
[null,null,null,null,null,null,"AC00573","[ENG] CAEDM","AC00573-[ENG] CAEDM","Activity","FD01","Active","2025-03-17T16:11:52.322069+00:00",null,null,null,null,null,null,null,null,"12023","Debbie Hall","12023-Debbie Hall",null,null,null,"AS067971939","Cathleen Barney (067971939) Enrollment Services Marketing and Communications","AS067971939-Cathleen Barney (067971939) Enrollment Services Marketing and Communications","Active",null,null,null,null,null,null,null,null,null,null,null,"SC6465","SC6465||6400","6400","General and Administrative","Primary","JE_Research|JE_Override"]
[null,null,null,null,null,null,"AC00574","[ENG] Department Supplemental","AC00574-[ENG] Department Supplemental","Activity","FD01","Active","2025-03-17T16:11:52.322069+00:00",null,null,null,null,null,null,null,null,"12024","Wendy Baumgarten","12024-Wendy Baumgarten",null,null,null,"AS068021830","Randy Clement (068021830) BYU Police Operations - Patrol","AS068021830-Randy Clement (068021830) BYU Police Operations - Patrol","Active",null,null,null,null,null,null,null,null,null,null,null,"SC6466","SC6466||1400","1400","Prepaid Expenses",null,"All"]
[null,null,null,null,null,null,"AC00575","[ENG] College Relations Operations","AC00575-[ENG] College Relations Operations","Activity","FD01","Active","2025-03-17T16:11:52.322069+00:00",null,null,null,null,null,null,null,null,"12026","Annette Landon","12026-Annette Landon",null,null,null,"AS068474825","Nathan Leonhardt (068474825) FHSS - School of Family Life","AS068474825-Nathan Leonhardt (068474825) FHSS - School of Family Life","Active",null,null,null,null,null,null,null,null,null,null,null,"SC6466","SC6466||6400","6400","General and Administrative","Primary","All"]
[null,null,null,null,null,null,"AC00576","[ENG] CAEDM Compt Lab","AC00576-[ENG] CAEDM Compt Lab","Activity","FD01","Active","2025-03-17T16:11:52.322069+00:00",null,null,null,null,null,null,null,null,"12028","Cindi ONeal","12028-Cindi ONeal",null,null,null,"AS068696210","Kim Underwood (068696210) Fine Arts & Communications - School of Music","AS068696210-Kim Underwood (068696210) Fine Arts & Communications - School of Music","Active",null,null,null,null,null,null,null,null,null,null,null,"SC6467","SC6467||6400","6400","General and Administrative","Primary","JE_Override"]
[null,null,null,null,null,null,"AC00577","[ENG] College Communications","AC00577-[ENG] College Communications","Activity","FD01","Active","2025-03-17T16:11:52.322069+00:00",null,null,null,null,null,null,null,null,"12029","Lori Ann Andersen","12029-Lori Ann Andersen",null,null,null,"AS068791480","Jeff Worthen (068791480) Executive Chef","AS068791480-Jeff Worthen (068791480) Executive Chef","Active",null,null,null,null,null,null,null,null,null,null,null,"SC6499","SC6499||1400","1400","Prepaid Expenses",null,"All"]
[null,null,null,null,null,null,"AC00578","[ENG] Research Development","AC00578-[ENG] Research Development","Activity","FD01","Active","2025-03-17T16:11:52.322069+00:00",null,null,null,null,null,null,null,null,"12030","Todd Bird","12030-Todd Bird",null,null,null,"AS068792487","Jess Lyons (068792487) OIT Portfolio - Identity","AS068792487-Jess Lyons (068792487) OIT Portfolio - Identity","Active",null,null,null,null,null,null,null,null,null,null,null,"SC6499","SC6499||1650","1650","Construction in Progress",null,"JE_PPE|JE_Override"]
[null,null,null,null,null,null,"AC00579","[ENG] Precision Machining Lab Supprt","AC00579-[ENG] Precision Machining Lab Supprt","Activity","FD01","Active","2025-03-17T16:11:52.322069+00:00",null,null,null,null,null,null,null,null,"12031","Erin Howe","12031-Erin Howe",null,null,null,"AS068871759","Coleman Madsen (068871759) Dining Services","AS068871759-Coleman Madsen (068871759) Dining Services","Active",null,null,null,null,null,null,null,null,null,null,null,"SC6499","SC6499||1651","1651","Construction in Progress (Non-Workday Projects)",null,"All"]
[null,null,null,null,null,null,"AC00580","[ENG] International Travel","AC00580-[ENG] International Travel","Activity","FD01","Active","2025-03-17T16:11:52.322069+00:00",null,null,null,null,null,null,null,null,"12032","Lei Liua","12032-Lei Liua",null,null,null,"AS069028046","Noelani Wayas (069028046) Business Career Center","AS069028046-Noelani Wayas (069028046) Business Career Center","Active",null,null,null,null,null,null,null,null,null,null,null,"SC6499","SC6499||6400","6400","General and Administrative","Primary","All"]
[null,null,null,null,null,null,"AC00581","[ENG] Coll of Eng Student Council","AC00581-[ENG] Coll of Eng Student Council","Activity","FD02","Active","2025-03-17T16:11:52.322069+00:00",null,null,null,null,null,null,null,null,"12034","Karen Brereton","12034-Karen Brereton",null,null,null,"AS069190747","Jake Naugle (069190747) Enrollment Services Marketing and Communications","AS069190747-Jake Naugle (069190747) Enrollment Services Marketing and Communications","Active",null,null,null,null,null,null,null,null,null,null,null,"SC6610","SC6610||6600","6600","Interest Expense","Primary","All"]
[null,null,null,null,null,null,"AC00582","[ENG] Precision Machining Lab","AC00582-[ENG] Precision Machining Lab","Activity","FD02","Active","2025-03-17T16:11:52.322069+00:00",null,null,null,null,null,null,null,null,"12037","Kristina Baardon","12037-Kristina Baardon",null,null,null,"AS069320555","Steven Palica (069320555) OIT Resource - Tech Operations - Enterprise Apps","AS069320555-Steven Palica (069320555) OIT Resource - Tech Operations - Enterprise Apps","Active",null,null,null,null,null,null,null,null,null,null,null,"SC6701","SC6701||1400","1400","Prepaid Expenses",null,"All"]
[null,null,null,null,null,null,"AC00583","[ENG] Coll of Eng Royalty","AC00583-[ENG] Coll of Eng Royalty","Activity","FD03","Active","2025-03-17T16:11:52.322069+00:00",null,null,null,null,null,null,null,null,"12040","Heather Hughes","12040-Heather Hughes",null,null,null,"AS069351973","Rose Combs (069351973) OIT Resource - Application Engineering","AS069351973-Rose Combs (069351973) OIT Resource - Application Engineering","Active",null,null,null,null,null,null,null,null,null,null,null,"SC6701","SC6701||1635","1635","Misc Capital Assets",null,"JE_PPE|JE_Override"]
[null,null,null,null,null,null,"AC00584","[ENG] CAEDM","AC00584-[ENG] CAEDM","Activity","FD03","Active","2025-03-17T16:11:52.322069+00:00",null,null,null,null,null,null,null,null,"12041","Alison Lopez","12041-Alison Lopez",null,null,null,"AS069389994","Michelle Hirsche (069389994) PF Business Support and Compliance","AS069389994-Michelle Hirsche (069389994) PF Business Support and Compliance","Active",null,null,null,null,null,null,null,null,null,null,null,"SC6701","SC6701||1650","1650","Construction in Progress",null,"JE_PPE|JE_Override"]
[null,null,null,null,null,null,"AC00585","[ENG] Prof Dev-Engineering","AC00585-[ENG] Prof Dev-Engineering","Activity","FD03","Active","2025-03-17T16:11:52.322069+00:00",null,null,null,null,null,null,null,null,"12042","Carter Brown","12042-Carter Brown",null,null,null,"AS069577692","Maren Fischer (069577692) Registrar's Office","AS069577692-Maren Fischer (069577692) Registrar's Office","Active",null,null,null,null,null,null,null,null,null,null,null,"SC6701","SC6701||1651","1651","Construction in Progress (Non-Workday Projects)",null,"All"]
[null,null,null,null,null,null,"AC00586","[ENG] Mentoring Grants","AC00586-[ENG] Mentoring Grants","Activity","FD03","Active","2025-03-17T16:11:52.322069+00:00",null,null,null,null,null,null,null,null,"12043","Jaelynn Christensen","12043-Jaelynn Christensen",null,null,null,"AS069598894","Chad Hancock (069598894) Life Sciences - Nutrition, Dietetics, & Food Science","AS069598894-Chad Hancock (069598894) Life Sciences - Nutrition, Dietetics, & Food Science","Active",null,null,null,null,null,null,null,null,null,null,null,"SC6701","SC6701||1700","1700","Accumulated Depreciation",null,"JE_PPE|JE_Override"]
[null,null,null,null,null,null,"AC00587","[ENG] CSR - Engineering (CAEDM)","AC00587-[ENG] CSR - Engineering (CAEDM)","Activity","FD03","Active","2025-03-17T16:11:52.322069+00:00",null,null,null,null,null,null,null,null,"12044","Kelly Van Sickle","12044-Kelly Van Sickle",null,null,null,"AS069635491","Amy Soto (069635491) University Advisement Center","AS069635491-Amy Soto (069635491) University Advisement Center","Active",null,null,null,null,null,null,null,null,null,null,null,"SC6701","SC6701||6700","6700","Physical Facilities","Primary","All"]
[null,null,null,null,null,null,"AC00589","[ENG] Experiential Learning","AC00589-[ENG] Experiential Learning","Activity","FD03","Active","2025-03-17T16:11:52.322069+00:00",null,null,null,null,null,null,null,null,"12045","Rachel Gunnell","12045-Rachel Gunnell",null,null,null,"AS069772710","Alberto Puertas (069772710) University Advisement Center","AS069772710-Alberto Puertas (069772710) University Advisement Center","Active",null,null,null,null,null,null,null,null,null,null,null,"SC6701","SC6701||8000","8000","Depreciation",null,"JE_PPE|JE_Override"]
[null,null,null,null,null,null,"AC00590","[ENG] Technology Education Club","AC00590-[ENG] Technology Education Club","Activity","FD02","Active","2025-03-17T16:11:52.322069+00:00",null,null,null,null,null,null,null,null,"12046","Teri Walker","12046-Teri Walker",null,null,null,"AS069777568","Craig Giles (069777568) PF Keys, Locks, & Access Control","AS069777568-Craig Giles (069777568) PF Keys, Locks, & Access Control","Active",null,null,null,null,null,null,null,null,null,null,null,"SC6702","SC6702||1400","1400","Prepaid Expenses",null,"All"]
[null,null,null,null,null,null,"AC00591","[ENG] Woods Stores","AC00591-[ENG] Woods Stores","Activity","FD02","Active","2025-03-17T16:11:52.322069+00:00",null,null,null,null,null,null,null,null,"12047","Tiffany Barney","12047-Tiffany Barney",null,null,null,"AS069827661","Clark Asay (069827661) AVP - Dean, Clark Law School","AS069827661-Clark Asay (069827661) AVP - Dean, Clark Law School","Active",null,null,null,null,null,null,null,null,null,null,null,"SC6702","SC6702||1610","1610","Building Improvements",null,"JE_PPE|JE_Override"]
[null,null,null,null,null,null,"AC00592","[ENG] Prototype Lab","AC00592-[ENG] Prototype Lab","Activity","FD02","Active","2025-03-17T16:11:52.322069+00:00",null,null,null,null,null,null,null,null,"12060","BYU-Hawaii","12060-BYU-Hawaii",null,null,null,"AS070056977","Laura Greer (070056977) Humanities - Spanish & Portuguese","AS070056977-Laura Greer (070056977) Humanities - Spanish & Portuguese","Active",null,null,null,null,null,null,null,null,null,null,null,"SC6702","SC6702||1650","1650","Construction in Progress",null,"JE_PPE|JE_Override"]
[null,null,null,null,null,null,"AC00593","[ENG] Metals Stores","AC00593-[ENG] Metals Stores","Activity","FD02","Active","2025-03-17T16:11:52.322069+00:00",null,null,null,null,null,null,null,null,"12071","Alumni Cell Phone","12071-Alumni Cell Phone",null,null,null,"AS070309145","Lorenzo Hubbert (070309145) CE Marketing & Outreach","AS070309145-Lorenzo Hubbert (070309145) CE Marketing & Outreach","Active",null,null,null,null,null,null,null,null,null,null,null,"SC6702","SC6702||1651","1651","Construction in Progress (Non-Workday Projects)",null,"All"]
[null,null,null,null,null,null,"AC00594","[ENG] Multi-Media Stores","AC00594-[ENG] Multi-Media Stores","Activity","FD02","Active","2025-03-17T16:11:52.322069+00:00",null,null,null,null,null,null,null,null,"12072","PT Employee Cell Phone","12072-PT Employee Cell Phone",null,null,null,"AS070311203","Trevor Wilson (070311203) Advancement Vice President","AS070311203-Trevor Wilson (070311203) Advancement Vice President","Active",null,null,null,null,null,null,null,null,null,null,null,"SC6702","SC6702||1700","1700","Accumulated Depreciation",null,"JE_PPE|JE_Override"]
[null,null,null,null,null,null,"AC00595","[ENG] BYU Utah Underwater Robotics","AC00595-[ENG] BYU Utah Underwater Robotics","Activity","FD02","Active","2025-03-17T16:11:52.322069+00:00",null,null,null,null,null,null,null,null,"12073","Retiree Cell Phone","12073-Retiree Cell Phone",null,null,null,"AS070435816","Laurel Hornberger (070435816) CE Test Prep & Youth Programs","AS070435816-Laurel Hornberger (070435816) CE Test Prep & Youth Programs","Active",null,null,null,null,null,null,null,null,null,null,null,"SC6702","SC6702||6700","6700","Physical Facilities","Primary","All"]
[null,null,null,null,null,null,"AC00596","[ENG] Digital Magicians","AC00596-[ENG] Digital Magicians","Activity","FD02","Active","2025-03-17T16:11:52.322069+00:00",null,null,null,null,null,null,null,null,"12074","Student Cell Phone","12074-Student Cell Phone",null,null,null,"AS070485150","Richard Osguthorpe (070485150) Academic Vice President","AS070485150-Richard Osguthorpe (070485150) Academic Vice President","Active",null,null,null,null,null,null,null,null,null,null,null,"SC6702","SC6702||8000","8000","Depreciation",null,"JE_PPE|JE_Override"]
[null,null,null,null,null,null,"AC00597","[ENG] EXPERIENTIAL LEARNING TEE","AC00597-[ENG] EXPERIENTIAL LEARNING TEE","Activity","FD03","Active","2025-03-17T16:11:52.322069+00:00",null,null,null,null,null,null,null,null,"12075","Employee Cell Phone","12075-Employee Cell Phone",null,null,null,"AS070916873","Loreen Allphin (070916873) AVP - Dean, Life Sciences","AS070916873-Loreen Allphin (070916873) AVP - Dean, Life Sciences","Active",null,null,null,null,null,null,null,null,null,null,null,"SC6703","SC6703||1400","1400","Prepaid Expenses",null,"All"]
[null,null,null,null,null,null,"AC00598","[ENG] Belonging & Diversity Initiati","AC00598-[ENG] Belonging & Diversity Initiati","Activity","FD01","Active","2025-03-17T16:11:52.322069+00:00",null,null,null,null,null,null,null,null,"12076","BYU-Pathways Cell Phone","12076-BYU-Pathways Cell Phone",null,null,null,"AS071004251","Steve Hatch (071004251) PF Building Operations","AS071004251-Steve Hatch (071004251) PF Building Operations","Active",null,null,null,null,null,null,null,null,null,null,null,"SC6703","SC6703||1620","1620","Furnishings and Fixtures",null,"JE_PPE|JE_Override"]
[null,null,null,null,null,null,"AC00599","[ENG] Animation","AC00599-[ENG] Animation","Activity","FD01","Active","2025-03-17T16:11:52.322069+00:00",null,null,null,null,null,null,null,null,"12077","Prev Employee Cell Phone","12077-Prev Employee Cell Phone",null,null,null,"AS071229464","Brian Maynes (071229464) OIT Core - Finance - Materials Mgmt","AS071229464-Brian Maynes (071229464) OIT Core - Finance - Materials Mgmt","Active",null,null,null,null,null,null,null,null,null,null,null,"SC6703","SC6703||1650","1650","Construction in Progress",null,"JE_PPE|JE_Override"]
[null,null,null,null,null,null,"AC00600","[ENG] BYU Center for Animation 2","AC00600-[ENG] BYU Center for Animation 2","Activity","FD01","Active","2025-03-17T16:11:52.322069+00:00",null,null,null,null,null,null,null,null,"12132","Admission Fees","12132-Admission Fees",null,null,null,"AS071250280","Shari Skabelund (071250280) Athletics - Cougar Club","AS071250280-Shari Skabelund (071250280) Athletics - Cougar Club","Active",null,null,null,null,null,null,null,null,null,null,null,"SC6703","SC6703||1651","1651","Construction in Progress (Non-Workday Projects)",null,"All"]
[null,null,null,null,null,null,"AC00601","[ENG] Kip Christensen","AC00601-[ENG] Kip Christensen","Activity","FD01","Active","2025-03-17T16:11:52.322069+00:00",null,null,null,null,null,null,null,null,"12300","R0480010 5-22410","12300-R0480010 5-22410",null,null,null,"AS071437415","Jon Jensen (071437415) PF Campus Projects - Mechanical Engineering","AS071437415-Jon Jensen (071437415) PF Campus Projects - Mechanical Engineering","Active",null,null,null,null,null,null,null,null,null,null,null,"SC6703","SC6703||1700","1700","Accumulated Depreciation",null,"JE_PPE|JE_Override"]
[null,null,null,null,null,null,"AC00602","[ENG] Skaggs, Paul Research","AC00602-[ENG] Skaggs, Paul Research","Activity","FD01","Active","2025-03-17T16:11:52.322069+00:00",null,null,null,null,null,null,null,null,"12301","R0480023 5-22323","12301-R0480023 5-22323",null,null,null,"AS071482089","George Monsivais (071482089) CE Research, Planning & Asmnt","AS071482089-George Monsivais (071482089) CE Research, Planning & Asmnt","Active",null,null,null,null,null,null,null,null,null,null,null,"SC6703","SC6703||6700","6700","Physical Facilities","Primary","All"]
[null,null,null,null,null,null,"AC00603","[ENG] Industrial Design","AC00603-[ENG] Industrial Design","Activity","FD01","Active","2025-03-17T16:11:52.322069+00:00",null,null,null,null,null,null,null,null,"12302","CAPSTONE","12302-CAPSTONE",null,null,null,"AS071907233","Craig Merrill (071907233) MSB - Finance","AS071907233-Craig Merrill (071907233) MSB - Finance","Active",null,null,null,null,null,null,null,null,null,null,null,"SC6703","SC6703||8000","8000","Depreciation",null,"JE_PPE|JE_Override"]
[null,null,null,null,null,null,"AC00604","[ENG] EXPERIENTIAL LEARNING ID","AC00604-[ENG] EXPERIENTIAL LEARNING ID","Activity","FD03","Active","2025-03-17T16:11:52.322069+00:00",null,null,null,null,null,null,null,null,"12303","R0480004 5-21004","12303-R0480004 5-21004",null,null,null,"AS072208327","Kirk Jacobs (072208327) PF Building Projects, Maintenance & Transportation Services","AS072208327-Kirk Jacobs (072208327) PF Building Projects, Maintenance & Transportation Services","Active",null,null,null,null,null,null,null,null,null,null,null,"SC6704","SC6704||1400","1400","Prepaid Expenses",null,"All"]
[null,null,null,null,null,null,"AC00605","[ENG] School of Technology","AC00605-[ENG] School of Technology","Activity","FD01","Active","2025-03-17T16:11:52.322069+00:00",null,null,null,null,null,null,null,null,"12304","R0480006 5-21006","12304-R0480006 5-21006",null,null,null,"AS072791261","Steven Johnson (072791261) AVP - Dean, Computational, Math,& Physical (CMS)","AS072791261-Steven Johnson (072791261) AVP - Dean, Computational, Math,& Physical (CMS)","Active",null,null,null,null,null,null,null,null,null,null,null,"SC6704","SC6704||1610","1610","Building Improvements",null,"JE_PPE|JE_Override"]
[null,null,null,null,null,null,"AC00606","[ENG] MFGEN Stores","AC00606-[ENG] MFGEN Stores","Activity","FD01","Active","2025-03-17T16:11:52.322069+00:00",null,null,null,null,null,null,null,null,"12305","R0500616 5-22616","12305-R0500616 5-22616",null,null,null,"AS072864443","Danny Yeo (072864443) Dean's Office - Life Sciences","AS072864443-Danny Yeo (072864443) Dean's Office - Life Sciences","Active",null,null,null,null,null,null,null,null,null,null,null,"SC6704","SC6704||1650","1650","Construction in Progress",null,"JE_PPE|JE_Override"]
[null,null,null,null,null,null,"AC00607","[ENG] TECM Computer Lab","AC00607-[ENG] TECM Computer Lab","Activity","FD01","Active","2025-03-17T16:11:52.322069+00:00",null,null,null,null,null,null,null,null,"12307","R0480007 5-21007","12307-R0480007 5-21007",null,null,null,"AS072995413","Ashley Fraser (072995413) FHSS - School of Family Life","AS072995413-Ashley Fraser (072995413) FHSS - School of Family Life","Active",null,null,null,null,null,null,null,null,null,null,null,"SC6704","SC6704||1651","1651","Construction in Progress (Non-Workday Projects)",null,"All"]
[null,null,null,null,null,null,"AC00608","[ENG] MFGEN Computer Lab","AC00608-[ENG] MFGEN Computer Lab","Activity","FD01","Active","2025-03-17T16:11:52.322069+00:00",null,null,null,null,null,null,null,null,"12309","R0300991 5-20991","12309-R0300991 5-20991",null,null,null,"AS073019648","Tia Looney (073019648) BYU Security Operations - Police Dispatch","AS073019648-Tia Looney (073019648) BYU Security Operations - Police Dispatch","Active",null,null,null,null,null,null,null,null,null,null,null,"SC6704","SC6704||1700","1700","Accumulated Depreciation",null,"JE_PPE|JE_Override"]
[null,null,null,null,null,null,"AC00609","[ENG] MFGEN - Grad Studies","AC00609-[ENG] MFGEN - Grad Studies","Activity","FD01","Active","2025-03-17T16:11:52.322069+00:00",null,null,null,null,null,null,null,null,"12310","R0201007","12310-R0201007",null,null,null,"AS073116030","Makay Jackman (073116030) Cannon Center","AS073116030-Makay Jackman (073116030) Cannon Center","Active",null,null,null,null,null,null,null,null,null,null,null,"SC6704","SC6704||6700","6700","Physical Facilities","Primary","All"]
[null,null,null,null,null,null,"AC00610","[ENG] School of Technology Director","AC00610-[ENG] School of Technology Director","Activity","FD01","Active","2025-03-17T16:11:52.322069+00:00",null,null,null,null,null,null,null,null,"12315","R0700039 5-22039","12315-R0700039 5-22039",null,null,null,"AS073120070","Robert Richardson (073120070) CMS - Statistics","AS073120070-Robert Richardson (073120070) CMS - Statistics","Active",null,null,null,null,null,null,null,null,null,null,null,"SC6704","SC6704||8000","8000","Depreciation",null,"JE_PPE|JE_Override"]
[null,null,null,null,null,null,"AC00611","[ENG] Ekstrom, Joseph Research","AC00611-[ENG] Ekstrom, Joseph Research","Activity","FD01","Active","2025-03-17T16:11:52.322069+00:00",null,null,null,null,null,null,null,null,"12316","R0481000","12316-R0481000",null,null,null,"AS073238647","Stephen Kelson (073238647) Law School","AS073238647-Stephen Kelson (073238647) Law School","Active",null,null,null,null,null,null,null,null,null,null,null,"SC6705","SC6705||1400","1400","Prepaid Expenses",null,"All"]
[null,null,null,null,null,null,"AC00612","[ENG] School of Technology Oper","AC00612-[ENG] School of Technology Oper","Activity","FD01","Active","2025-03-17T16:11:52.322069+00:00",null,null,null,null,null,null,null,null,"12317","R0501006","12317-R0501006",null,null,null,"AS073285474","Dennis Crawford (073285474) PF Electrical Shop","AS073285474-Dennis Crawford (073285474) PF Electrical Shop","Active",null,null,null,null,null,null,null,null,null,null,null,"SC6705","SC6705||1610","1610","Building Improvements",null,"JE_PPE|JE_Override"]
[null,null,null,null,null,null,"AC00613","[ENG] MFET Tech Trans","AC00613-[ENG] MFET Tech Trans","Activity","FD03","Active","2025-03-17T16:11:52.322069+00:00",null,null,null,null,null,null,null,null,"12318","R0201028","12318-R0201028",null,null,null,"AS073706975","Kristy Christensen (073706975) FHSS - Anthropology","AS073706975-Kristy Christensen (073706975) FHSS - Anthropology","Active",null,null,null,null,null,null,null,null,null,null,null,"SC6705","SC6705||1650","1650","Construction in Progress",null,"JE_PPE|JE_Override"]
[null,null,null,null,null,null,"AC00614","[ENG] MFGEN - Machine Burden","AC00614-[ENG] MFGEN - Machine Burden","Activity","FD03","Active","2025-03-17T16:11:52.322069+00:00",null,null,null,null,null,null,null,null,"12319","R0701000","12319-R0701000",null,null,null,"AS073955008","D Keith Willmore (073955008) HS General Medicine","AS073955008-D Keith Willmore (073955008) HS General Medicine","Active",null,null,null,null,null,null,null,null,null,null,null,"SC6705","SC6705||1651","1651","Construction in Progress (Non-Workday Projects)",null,"All"]
[null,null,null,null,null,null,"AC00615","[ENG] Technology-Grad Student Funds","AC00615-[ENG] Technology-Grad Student Funds","Activity","FD03","Active","2025-03-17T16:11:52.322069+00:00",null,null,null,null,null,null,null,null,"12320","R0131001","12320-R0131001",null,null,null,"AS074084978","Coleby Clawson (074084978) Advance VP - Director, Athletics","AS074084978-Coleby Clawson (074084978) Advance VP - Director, Athletics","Active",null,null,null,null,null,null,null,null,null,null,null,"SC6705","SC6705||1700","1700","Accumulated Depreciation",null,"JE_PPE|JE_Override"]
[null,null,null,null,null,null,"AC00616","[ENG] General Study Account","AC00616-[ENG] General Study Account","Activity","FD03","Active","2025-03-17T16:11:52.322069+00:00",null,null,null,null,null,null,null,null,"12321","R0601027","12321-R0601027",null,null,null,"AS074189672","Adam Dyer (074189672) Fine Arts & Communications - Dance","AS074189672-Adam Dyer (074189672) Fine Arts & Communications - Dance","Active",null,null,null,null,null,null,null,null,null,null,null,"SC6705","SC6705||6700","6700","Physical Facilities","Primary","All"]
[null,null,null,null,null,null,"AC00617","[ENG] EXPERIENTIAL LEARNING SOT","AC00617-[ENG] EXPERIENTIAL LEARNING SOT","Activity","FD03","Active","2025-03-17T16:11:52.322069+00:00",null,null,null,null,null,null,null,null,"12322","R0701001","12322-R0701001",null,null,null,"AS074432079","Marilyn Richards (074432079) University Advisement Center","AS074432079-Marilyn Richards (074432079) University Advisement Center","Active",null,null,null,null,null,null,null,null,null,null,null,"SC6705","SC6705||8000","8000","Depreciation",null,"JE_PPE|JE_Override"]
[null,null,null,null,null,null,"AC00618","[ENG] Mentoring Grant - Brent Adams","AC00618-[ENG] Mentoring Grant - Brent Adams","Activity","FD03","Active","2025-03-17T16:11:52.322069+00:00",null,null,null,null,null,null,null,null,"12323","R0481001","12323-R0481001",null,null,null,"AS074495546","Lynne Kganetso (074495546) MSE  - Teacher Education","AS074495546-Lynne Kganetso (074495546) MSE  - Teacher Education","Active",null,null,null,null,null,null,null,null,null,null,null,"SC6706","SC6706||1400","1400","Prepaid Expenses",null,"All"]
[null,null,null,null,null,null,"AC00619","[ENG] Faculty Mentoring 3","AC00619-[ENG] Faculty Mentoring 3","Activity","FD03","Active","2025-03-17T16:11:52.322069+00:00",null,null,null,null,null,null,null,null,"12324","R0481002","12324-R0481002",null,null,null,"AS074733418","Kevin Wilson (074733418) Alumni and External Relations","AS074733418-Kevin Wilson (074733418) Alumni and External Relations","Active",null,null,null,null,null,null,null,null,null,null,null,"SC6706","SC6706||1610","1610","Building Improvements",null,"JE_PPE|JE_Override"]
[null,null,null,null,null,null,"AC00620","[ENG] Faculty Mentoring 4","AC00620-[ENG] Faculty Mentoring 4","Activity","FD03","Active","2025-03-17T16:11:52.322069+00:00",null,null,null,null,null,null,null,null,"12325","R0701002","12325-R0701002",null,null,null,"AS074884027","Gil Fellingham (074884027) CMS - Statistics","AS074884027-Gil Fellingham (074884027) CMS - Statistics","Active",null,null,null,null,null,null,null,null,null,null,null,"SC6706","SC6706||1650","1650","Construction in Progress",null,"JE_PPE|JE_Override"]
[null,null,null,null,null,null,"AC00621","[ENG] Faculty Mentoring 5","AC00621-[ENG] Faculty Mentoring 5","Activity","FD03","Active","2025-03-17T16:11:52.322069+00:00",null,null,null,null,null,null,null,null,"12326","R0201057","12326-R0201057",null,null,null,"AS074918829","Brett McInelly (074918829) Humanities - English","AS074918829-Brett McInelly (074918829) Humanities - English","Active",null,null,null,null,null,null,null,null,null,null,null,"SC6706","SC6706||1651","1651","Construction in Progress (Non-Workday Projects)",null,"All"]
[null,null,null,null,null,null,"AC00622","[ENG] ChE JJ Christensen Profsrship","AC00622-[ENG] ChE JJ Christensen Profsrship","Activity","FD01","Active","2025-03-17T16:11:52.322069+00:00",null,null,null,null,null,null,null,null,"12327","R0701003","12327-R0701003",null,null,null,"AS075710348","Scott Bradford (075710348) FHSS - Economics","AS075710348-Scott Bradford (075710348) FHSS - Economics","Active",null,null,null,null,null,null,null,null,null,null,null,"SC6706","SC6706||1700","1700","Accumulated Depreciation",null,"JE_PPE|JE_Override"]
[null,null,null,null,null,null,"AC00623","[ENG] Chem Engr Compt Lab","AC00623-[ENG] Chem Engr Compt Lab","Activity","FD01","Active","2025-03-17T16:11:52.322069+00:00",null,null,null,null,null,null,null,null,"12328","R0301052","12328-R0301052",null,null,null,"AS075946174","Kyle Rollins (075946174) College of Engineering - Civil & Construction Engineering","AS075946174-Kyle Rollins (075946174) College of Engineering - Civil & Construction Engineering","Active",null,null,null,null,null,null,null,null,null,null,null,"SC6706","SC6706||6700","6700","Physical Facilities","Primary","All"]
[null,null,null,null,null,null,"AC00624","[ENG] John Harb","AC00624-[ENG] John Harb","Activity","FD01","Active","2025-03-17T16:11:52.322069+00:00",null,null,null,null,null,null,null,null,"12329","R0701004","12329-R0701004",null,null,null,"AS076001278","Ryan Biddulph (076001278) Fine Arts & Communications - Dance","AS076001278-Ryan Biddulph (076001278) Fine Arts & Communications - Dance","Active",null,null,null,null,null,null,null,null,null,null,null,"SC6706","SC6706||8000","8000","Depreciation",null,"JE_PPE|JE_Override"]
[null,null,null,null,null,null,"AC00625","[ENG] Chem Engr Graduate Studies","AC00625-[ENG] Chem Engr Graduate Studies","Activity","FD01","Active","2025-03-17T16:11:52.322069+00:00",null,null,null,null,null,null,null,null,"12331","R0601050","12331-R0601050",null,null,null,"AS076203614","Clifton Fleming (076203614) AVP - Dean, Clark Law School","AS076203614-Clifton Fleming (076203614) AVP - Dean, Clark Law School","Active",null,null,null,null,null,null,null,null,null,null,null,"SC6707","SC6707||1400","1400","Prepaid Expenses",null,"All"]
[null,null,null,null,null,null,"AC00626","[ENG] KAS Research","AC00626-[ENG] KAS Research","Activity","FD01","Active","2025-03-17T16:11:52.322069+00:00",null,null,null,null,null,null,null,null,"12332","R0601051","12332-R0601051",null,null,null,"AS076237443","Susan Facer (076237443) Registrar's Office","AS076237443-Susan Facer (076237443) Registrar's Office","Active",null,null,null,null,null,null,null,null,null,null,null,"SC6707","SC6707||1650","1650","Construction in Progress",null,"JE_PPE|JE_Override"]
[null,null,null,null,null,null,"AC00627","[ENG] AICHE-Student Chapter","AC00627-[ENG] AICHE-Student Chapter","Activity","FD02","Active","2025-03-17T16:11:52.322069+00:00",null,null,null,null,null,null,null,null,"12333","R0701006","12333-R0701006",null,null,null,"AS076335336","Sydney Brustad (076335336) Enrollment Services Marketing and Communications","AS076335336-Sydney Brustad (076335336) Enrollment Services Marketing and Communications","Active",null,null,null,null,null,null,null,null,null,null,null,"SC6707","SC6707||1651","1651","Construction in Progress (Non-Workday Projects)",null,"All"]
[null,null,null,null,null,null,"AC00628","[ENG] BYU-DIPPR Lab","AC00628-[ENG] BYU-DIPPR Lab","Activity","FD02","Active","2025-03-25T02:03:53.792937+00:00",null,null,null,null,null,null,null,null,"12335","R0481003","12335-R0481003",null,null,null,"AS076425921","Shayla Bott (076425921) AVP - Dean, Fine Arts and Communications","AS076425921-Shayla Bott (076425921) AVP - Dean, Fine Arts and Communications","Active",null,null,null,null,null,null,null,null,null,null,null,"SC6707","SC6707||4900","4900","Cost of Sales",null,"All"]
[null,null,null,null,null,null,"AC00629","[ENG] Polymer Analysis Lab","AC00629-[ENG] Polymer Analysis Lab","Activity","FD02","Active","2025-03-17T16:11:52.322069+00:00",null,null,null,null,null,null,null,null,"12336","R0131004","12336-R0131004",null,null,null,"AS076467577","Scott Lesser (076467577) Fine Arts & Communications - School of Music","AS076467577-Scott Lesser (076467577) Fine Arts & Communications - School of Music","Active",null,null,null,null,null,null,null,null,null,null,null,"SC6707","SC6707||6700","6700","Physical Facilities","Primary","All"]
[null,null,null,null,null,null,"AC00630","[ENG] 2ft Prosthetics","AC00630-[ENG] 2ft Prosthetics","Activity","FD02","Active","2025-03-17T16:11:52.322069+00:00",null,null,null,null,null,null,null,null,"12337","R0201097","12337-R0201097",null,null,null,"AS076572580","Matt Greene (076572580) CE Classroom Programs","AS076572580-Matt Greene (076572580) CE Classroom Programs","Active",null,null,null,null,null,null,null,null,null,null,null,"SC6708","SC6708||1400","1400","Prepaid Expenses",null,"All"]
[null,null,null,null,null,null,"AC00631","[ENG] American Nuclear Society","AC00631-[ENG] American Nuclear Society","Activity","FD02","Active","2025-03-17T16:11:52.322069+00:00",null,null,null,null,null,null,null,null,"12340","R0702001","12340-R0702001",null,null,null,"AS076871747","Michael Barber (076871747) FHSS - Political Science","AS076871747-Michael Barber (076871747) FHSS - Political Science","Active",null,null,null,null,null,null,null,null,null,null,null,"SC6708","SC6708||1610","1610","Building Improvements",null,"JE_PPE|JE_Override"]
[null,null,null,null,null,null,"AC00632","[ENG] Engineers in Business","AC00632-[ENG] Engineers in Business","Activity","FD02","Active","2025-03-17T16:11:52.322069+00:00",null,null,null,null,null,null,null,null,"12341","R0202038","12341-R0202038",null,null,null,"AS076949728","Miguel Pomar (076949728) Business Career Center","AS076949728-Miguel Pomar (076949728) Business Career Center","Active",null,null,null,null,null,null,null,null,null,null,null,"SC6708","SC6708||1650","1650","Construction in Progress",null,"JE_PPE|JE_Override"]
[null,null,null,null,null,null,"AC00633","[ENG] Global Eng Outreach GEO Club","AC00633-[ENG] Global Eng Outreach GEO Club","Activity","FD02","Active","2025-03-17T16:11:52.322069+00:00",null,null,null,null,null,null,null,null,"12343","R0502013","12343-R0502013",null,null,null,"AS077036480","Brian Capt (077036480) College of Engineering - Civil & Construction Engineering","AS077036480-Brian Capt (077036480) College of Engineering - Civil & Construction Engineering","Active",null,null,null,null,null,null,null,null,null,null,null,"SC6708","SC6708||1651","1651","Construction in Progress (Non-Workday Projects)",null,"All"]
[null,null,null,null,null,null,"AC00634","[ENG] BYU Chapter SPE","AC00634-[ENG] BYU Chapter SPE","Activity","FD02","Active","2025-03-17T16:11:52.322069+00:00",null,null,null,null,null,null,null,null,"12344","COE","12344-COE",null,null,null,"AS077196723","Kathleen Reyes (077196723) Dean's Office FHSS","AS077196723-Kathleen Reyes (077196723) Dean's Office FHSS","Active",null,null,null,null,null,null,null,null,null,null,null,"SC6708","SC6708||1700","1700","Accumulated Depreciation",null,"JE_PPE|JE_Override"]
[null,null,null,null,null,null,"AC00635","[ENG] Energy Club","AC00635-[ENG] Energy Club","Activity","FD02","Active","2025-03-17T16:11:52.322069+00:00",null,null,null,null,null,null,null,null,"12345","R0482002","12345-R0482002",null,null,null,"AS077213193","Jason Keeler (077213193) Center for Language Studies","AS077213193-Jason Keeler (077213193) Center for Language Studies","Active",null,null,null,null,null,null,null,null,null,null,null,"SC6708","SC6708||6700","6700","Physical Facilities","Primary","All"]
[null,null,null,null,null,null,"AC00636","[ENG] Chem Engr Equip Repl","AC00636-[ENG] Chem Engr Equip Repl","Activity","FD03","Active","2025-03-17T16:11:52.322069+00:00",null,null,null,null,null,null,null,null,"12346","R0482003","12346-R0482003",null,null,null,"AS077355719","Shiegrid Hernandez (077355719) Multicultural","AS077355719-Shiegrid Hernandez (077355719) Multicultural","Active",null,null,null,null,null,null,null,null,null,null,null,"SC6708","SC6708||8000","8000","Depreciation",null,"JE_PPE|JE_Override"]
[null,null,null,null,null,null,"AC00637","[ENG] Plasma Reactro Maint","AC00637-[ENG] Plasma Reactro Maint","Activity","FD03","Active","2025-03-17T16:11:52.322069+00:00",null,null,null,null,null,null,null,null,"12347","R0482004","12347-R0482004",null,null,null,"AS077676615","Brian King (077676615) OIT Resource - Platform Engineering","AS077676615-Brian King (077676615) OIT Resource - Platform Engineering","Active",null,null,null,null,null,null,null,null,null,null,null,"SC6709","SC6709||1400","1400","Prepaid Expenses",null,"All"]
[null,null,null,null,null,null,"AC00638","[ENG] Pitt License Royalty","AC00638-[ENG] Pitt License Royalty","Activity","FD03","Active","2025-03-17T16:11:52.322069+00:00",null,null,null,null,null,null,null,null,"12348","R0482005","12348-R0482005",null,null,null,"AS077761957","Brandon Bodily (077761957) Cannon Center","AS077761957-Brandon Bodily (077761957) Cannon Center","Active",null,null,null,null,null,null,null,null,null,null,null,"SC6709","SC6709||1610","1610","Building Improvements",null,"JE_PPE|JE_Override"]
[null,null,null,null,null,null,"AC00639","[ENG] WVW Resid Funds","AC00639-[ENG] WVW Resid Funds","Activity","FD03","Active","2025-03-17T16:11:52.322069+00:00",null,null,null,null,null,null,null,null,"12349","R0702004","12349-R0702004",null,null,null,"AS078081441","Scott Beck (078081441) PF Central Heating Plant","AS078081441-Scott Beck (078081441) PF Central Heating Plant","Active",null,null,null,null,null,null,null,null,null,null,null,"SC6709","SC6709||1650","1650","Construction in Progress",null,"JE_PPE|JE_Override"]
[null,null,null,null,null,null,"AC00640","[ENG] Pope, Bill J Fellowship","AC00640-[ENG] Pope, Bill J Fellowship","Activity","FD03","Active","2025-03-17T16:11:52.322069+00:00",null,null,null,null,null,null,null,null,"12350","R0702005","12350-R0702005",null,null,null,"AS078265269","Ben Abbott (078265269) Life Sciences - Plant & Wildlife Sciences","AS078265269-Ben Abbott (078265269) Life Sciences - Plant & Wildlife Sciences","Active",null,null,null,null,null,null,null,null,null,null,null,"SC6709","SC6709||1651","1651","Construction in Progress (Non-Workday Projects)",null,"All"]
[null,null,null,null,null,null,"AC00641","[ENG] CHB Prof Account","AC00641-[ENG] CHB Prof Account","Activity","FD03","Active","2025-03-17T16:11:52.322069+00:00",null,null,null,null,null,null,null,null,"12351","R0702006","12351-R0702006",null,null,null,"AS078265449","Bethany Kramer (078265449) Staff Compensation","AS078265449-Bethany Kramer (078265449) Staff Compensation","Active",null,null,null,null,null,null,null,null,null,null,null,"SC6709","SC6709||1700","1700","Accumulated Depreciation",null,"JE_PPE|JE_Override"]
[null,null,null,null,null,null,"AC00642","[ENG] Bradley C. Bundy Grad Mentor","AC00642-[ENG] Bradley C. Bundy Grad Mentor","Activity","FD03","Active","2025-03-17T16:11:52.322069+00:00",null,null,null,null,null,null,null,null,"12352","R0702007","12352-R0702007",null,null,null,"AS078429420","Byron Johnson (078429420) Chemical Engineering","AS078429420-Byron Johnson (078429420) Chemical Engineering","Active",null,null,null,null,null,null,null,null,null,null,null,"SC6709","SC6709||6700","6700","Physical Facilities","Primary","All"]
[null,null,null,null,null,null,"AC00643","[ENG] Alonzo D. Cook Grad Mentor","AC00643-[ENG] Alonzo D. Cook Grad Mentor","Activity","FD03","Active","2025-03-17T16:11:52.322069+00:00",null,null,null,null,null,null,null,null,"12353","R0482024","12353-R0482024",null,null,null,"AS078487300","Brandan Beerli (078487300) MSE - Dean's Office, McKay School of Education","AS078487300-Brandan Beerli (078487300) MSE - Dean's Office, McKay School of Education","Active",null,null,null,null,null,null,null,null,null,null,null,"SC6709","SC6709||8000","8000","Depreciation",null,"JE_PPE|JE_Override"]
[null,null,null,null,null,null,"AC00644","[ENG] W Pitt Interdispl Research","AC00644-[ENG] W Pitt Interdispl Research","Activity","FD03","Active","2025-03-17T16:11:52.322069+00:00",null,null,null,null,null,null,null,null,"12354","R0482023","12354-R0482023",null,null,null,"AS078578788","Bekki Brau (078578788) MSB - Marketing & Global Supply Chain","AS078578788-Bekki Brau (078578788) MSB - Marketing & Global Supply Chain","Active",null,null,null,null,null,null,null,null,null,null,null,"SC6710","SC6710||1400","1400","Prepaid Expenses",null,"All"]
[null,null,null,null,null,null,"AC00645","[ENG] Doug Tree - IDR Grant 2020","AC00645-[ENG] Doug Tree - IDR Grant 2020","Activity","FD03","Active","2025-03-17T16:11:52.322069+00:00",null,null,null,null,null,null,null,null,"12355","R0482022","12355-R0482022",null,null,null,"AS079167675","Lisa Walker (079167675) Digital Printing","AS079167675-Lisa Walker (079167675) Digital Printing","Active",null,null,null,null,null,null,null,null,null,null,null,"SC6710","SC6710||1620","1620","Furnishings and Fixtures",null,"JE_PPE|JE_Override"]
[null,null,null,null,null,null,"AC00647","[ENG] EXPERIENTIAL LEARNING CHE","AC00647-[ENG] EXPERIENTIAL LEARNING CHE","Activity","FD03","Active","2025-03-17T16:11:52.322069+00:00",null,null,null,null,null,null,null,null,"12357","R0482025","12357-R0482025",null,null,null,"AS079242464","Devan Jensen (079242464) Religious Education - Ancient Scripture","AS079242464-Devan Jensen (079242464) Religious Education - Ancient Scripture","Active",null,null,null,null,null,null,null,null,null,null,null,"SC6710","SC6710||1650","1650","Construction in Progress",null,"JE_PPE|JE_Override"]
[null,null,null,null,null,null,"AC00648","[ENG] Mentoring Grant R Rowley","AC00648-[ENG] Mentoring Grant R Rowley","Activity","FD03","Active","2025-03-17T16:11:52.322069+00:00",null,null,null,null,null,null,null,null,"12399","RC Profit Offset","12399-RC Profit Offset",null,null,null,"AS079396687","Sarah Rollo (079396687) McKay School of Education Assistant Dean External Relations","AS079396687-Sarah Rollo (079396687) McKay School of Education Assistant Dean External Relations","Active",null,null,null,null,null,null,null,null,null,null,null,"SC6710","SC6710||1651","1651","Construction in Progress (Non-Workday Projects)",null,"All"]
[null,null,null,null,null,null,"AC00649","[ENG] Faculty Mentoring 1","AC00649-[ENG] Faculty Mentoring 1","Activity","FD03","Active","2025-03-17T16:11:52.322069+00:00",null,null,null,null,null,null,null,null,"12499","Participant Support Cost (NSF)","12499-Participant Support Cost (NSF)",null,null,null,"AS079530594","Ben Lambert (079530594) Rollins Center Entrep & Tech","AS079530594-Ben Lambert (079530594) Rollins Center Entrep & Tech","Active",null,null,null,null,null,null,null,null,null,null,null,"SC6710","SC6710||1700","1700","Accumulated Depreciation",null,"JE_PPE|JE_Override"]
[null,null,null,null,null,null,"AC00650","[ENG] Faculty Mentoring 2","AC00650-[ENG] Faculty Mentoring 2","Activity","FD03","Active","2025-03-17T16:11:52.322069+00:00",null,null,null,null,null,null,null,null,"12500","Minimum Pension Liability","12500-Minimum Pension Liability",null,null,null,"AS079533006","Kazuhiko Yamashita (079533006) Humanities - Asian & Near Eastern Languages","AS079533006-Kazuhiko Yamashita (079533006) Humanities - Asian & Near Eastern Languages","Active",null,null,null,null,null,null,null,null,null,null,null,"SC6710","SC6710||6700","6700","Physical Facilities","Primary","All"]
[null,null,null,null,null,null,"AC00651","[ENG] Faculty Mentoring 3","AC00651-[ENG] Faculty Mentoring 3","Activity","FD03","Active","2025-03-17T16:11:52.322069+00:00",null,null,null,null,null,null,null,null,"12600","FS Prof Development Council","12600-FS Prof Development Council",null,null,null,"AS079587356","Lynnett Rands (079587356) AVP - Dean, Clark Law School","AS079587356-Lynnett Rands (079587356) AVP - Dean, Clark Law School","Active",null,null,null,null,null,null,null,null,null,null,null,"SC6710","SC6710||8000","8000","Depreciation",null,"JE_PPE|JE_Override"]
[null,null,null,null,null,null,"AC00652","[ENG] Faculty Mentoring 4","AC00652-[ENG] Faculty Mentoring 4","Activity","FD03","Active","2025-03-17T16:11:52.322069+00:00",null,null,null,null,null,null,null,null,"12601","FS Annual Activities Council","12601-FS Annual Activities Council",null,null,null,"AS079654515","Greg Sessions (079654515) PF Paint & Sign Shop","AS079654515-Greg Sessions (079654515) PF Paint & Sign Shop","Active",null,null,null,null,null,null,null,null,null,null,null,"SC6711","SC6711||1400","1400","Prepaid Expenses",null,"All"]
[null,null,null,null,null,null,"AC00653","[ENG] Combustion Lab","AC00653-[ENG] Combustion Lab","Activity","FD01","Active","2025-03-17T16:11:52.322069+00:00",null,null,null,null,null,null,null,null,"12602","FS Employee Engagement Council","12602-FS Employee Engagement Council",null,null,null,"AS079740344","Nelia Justiniano (079740344) Center for Language Studies","AS079740344-Nelia Justiniano (079740344) Center for Language Studies","Active",null,null,null,null,null,null,null,null,null,null,null,"SC6711","SC6711||1615","1615","Other Improvements",null,"JE_PPE|JE_Override"]
[null,null,null,null,null,null,"AC00654","[ENG] NSF Entertainment","AC00654-[ENG] NSF Entertainment","Activity","FD01","Active","2025-03-17T16:11:52.322069+00:00",null,null,null,null,null,null,null,null,"12603","FS Newsletter Council","12603-FS Newsletter Council",null,null,null,"AS080052346","Craig Vandyke (080052346) CMS - Computer Science","AS080052346-Craig Vandyke (080052346) CMS - Computer Science","Active",null,null,null,null,null,null,null,null,null,null,null,"SC6711","SC6711||1650","1650","Construction in Progress",null,"JE_PPE|JE_Override"]
[null,null,null,null,null,null,"AC00655","[ENG] Combustion Computer","AC00655-[ENG] Combustion Computer","Activity","FD03","Active","2025-03-17T16:11:52.322069+00:00",null,null,null,null,null,null,null,null,"12604","FS Division Meeting Council","12604-FS Division Meeting Council",null,null,null,"AS080370425","Tod Myers (080370425) CE FSY","AS080370425-Tod Myers (080370425) CE FSY","Active",null,null,null,null,null,null,null,null,null,null,null,"SC6711","SC6711||1651","1651","Construction in Progress (Non-Workday Projects)",null,"All"]
[null,null,null,null,null,null,"AC00656","[ENG] ACERC Industrial Fnd","AC00656-[ENG] ACERC Industrial Fnd","Activity","FD03","Active","2025-03-17T16:11:52.322069+00:00",null,null,null,null,null,null,null,null,"12SLA","College of Nursing","12SLA-College of Nursing",null,null,null,"AS080550255","Paul Reynolds (080550255) Life Sciences - Cell Biology & Physiology","AS080550255-Paul Reynolds (080550255) Life Sciences - Cell Biology & Physiology","Active",null,null,null,null,null,null,null,null,null,null,null,"SC6711","SC6711||1700","1700","Accumulated Depreciation",null,"JE_PPE|JE_Override"]
[null,null,null,null,null,null,"AC00657","[ENG] ACERC Id Cost Share","AC00657-[ENG] ACERC Id Cost Share","Activity","FD03","Active","2025-03-17T16:11:52.322069+00:00",null,null,null,null,null,null,null,null,"13065","LSDO Shipping","13065-LSDO Shipping",null,null,null,"AS080612947","Gerrit van Dyk (080612947) Research & Learning - Social Sciences","AS080612947-Gerrit van Dyk (080612947) Research & Learning - Social Sciences","Active",null,null,null,null,null,null,null,null,null,null,null,"SC6711","SC6711||6700","6700","Physical Facilities","Primary","All"]
[null,null,null,null,null,null,"AC00658","[ENG] ACERC 4G Cost Share","AC00658-[ENG] ACERC 4G Cost Share","Activity","FD03","Active","2025-03-17T16:11:52.322069+00:00",null,null,null,null,null,null,null,null,"13067","LSDO Posilac","13067-LSDO Posilac",null,null,null,"AS080715937","Manase Palemani (080715937) Dining Administration","AS080715937-Manase Palemani (080715937) Dining Administration","Active",null,null,null,null,null,null,null,null,null,null,null,"SC6711","SC6711||8000","8000","Depreciation",null,"JE_PPE|JE_Override"]
[null,null,null,null,null,null,"AC00659","[ENG] ACERC 6I Cost Share","AC00659-[ENG] ACERC 6I Cost Share","Activity","FD03","Active","2025-03-17T16:11:52.322069+00:00",null,null,null,null,null,null,null,null,"13125","LSDO Event Coordinator","13125-LSDO Event Coordinator",null,null,null,"AS080945711","Kylee Sullivan (080945711) Heritage Halls","AS080945711-Kylee Sullivan (080945711) Heritage Halls","Active",null,null,null,null,null,null,null,null,null,null,null,"SC6712","SC6712||1400","1400","Prepaid Expenses",null,"All"]
[null,null,null,null,null,null,"AC00660","[ENG] ACERC 6C Cost Share","AC00660-[ENG] ACERC 6C Cost Share","Activity","FD03","Active","2025-03-17T16:11:52.322069+00:00",null,null,null,null,null,null,null,null,"13126","LSDO Leadership Council (LSLC)","13126-LSDO Leadership Council (LSLC)",null,null,null,"AS081084485","Jessica Zurcher (081084485) Fine Arts & Communications - School of Communications","AS081084485-Jessica Zurcher (081084485) Fine Arts & Communications - School of Communications","Active",null,null,null,null,null,null,null,null,null,null,null,"SC6712","SC6712||6700","6700","Physical Facilities","Primary","All"]
[null,null,null,null,null,null,"AC00661","[ENG] ACERC Operations","AC00661-[ENG] ACERC Operations","Activity","FD03","Active","2025-03-17T16:11:52.322069+00:00",null,null,null,null,null,null,null,null,"13129","LSDO 1st Gen Insprg Learng-DSA","13129-LSDO 1st Gen Insprg Learng-DSA",null,null,null,"AS081166921","Brandon Dailey (081166921) Student Financial Services","AS081166921-Brandon Dailey (081166921) Student Financial Services","Active",null,null,null,null,null,null,null,null,null,null,null,"SC6713","SC6713||1400","1400","Prepaid Expenses",null,"All"]
[null,null,null,null,null,null,"AC00662","[ENG] Simmons (SCCR) Fellowships","AC00662-[ENG] Simmons (SCCR) Fellowships","Activity","FD03","Active","2025-03-17T16:11:52.322069+00:00",null,null,null,null,null,null,null,null,"13130","LSDO_COMMS-PLC Activities","13130-LSDO_COMMS-PLC Activities",null,null,null,"AS081226254","Casey Deccio (081226254) CMS - Computer Science","AS081226254-Casey Deccio (081226254) CMS - Computer Science","Active",null,null,null,null,null,null,null,null,null,null,null,"SC6713","SC6713||1610","1610","Building Improvements",null,"JE_PPE|JE_Override"]
[null,null,null,null,null,null,"AC00663","[ENG] ACERC Instrument","AC00663-[ENG] ACERC Instrument","Activity","FD03","Active","2025-03-17T16:11:52.322069+00:00",null,null,null,null,null,null,null,null,"13131","LSDO Interdisc Rsrch Awd (IDR)","13131-LSDO Interdisc Rsrch Awd (IDR)",null,null,null,"AS081618275","Autumn Mosis (081618275) Heritage Halls","AS081618275-Autumn Mosis (081618275) Heritage Halls","Active",null,null,null,null,null,null,null,null,null,null,null,"SC6713","SC6713||1650","1650","Construction in Progress",null,"JE_PPE|JE_Override"]
[null,null,null,null,null,null,"AC00664","[ENG] ACERC Equipment","AC00664-[ENG] ACERC Equipment","Activity","FD03","Active","2025-03-17T16:11:52.322069+00:00",null,null,null,null,null,null,null,null,"13150","LSDO Remodeling","13150-LSDO Remodeling",null,null,null,"AS081653032","Enoch Boekweg (081653032) Electrical and Computer Eng","AS081653032-Enoch Boekweg (081653032) Electrical and Computer Eng","Active",null,null,null,null,null,null,null,null,null,null,null,"SC6713","SC6713||1651","1651","Construction in Progress (Non-Workday Projects)",null,"All"]
[null,null,null,null,null,null,"AC00665","[ENG] ACERC Software Supp","AC00665-[ENG] ACERC Software Supp","Activity","FD03","Active","2025-03-17T16:11:52.563115+00:00",null,null,null,null,null,null,null,null,"13156","LSDO Facilities","13156-LSDO Facilities",null,null,null,"AS081765401","Chris Huff (081765401) PF Building Operations","AS081765401-Chris Huff (081765401) PF Building Operations","Active",null,null,null,null,null,null,null,null,null,null,null,"SC6713","SC6713||1700","1700","Accumulated Depreciation",null,"JE_PPE|JE_Override"]
[null,null,null,null,null,null,"AC00666","[ENG] Combustion Lab Publ","AC00666-[ENG] Combustion Lab Publ","Activity","FD03","Active","2025-03-17T16:11:52.563115+00:00",null,null,null,null,null,null,null,null,"13158","LSDO Furnishings","13158-LSDO Furnishings",null,null,null,"AS081822585","Elizabeth Merrill (081822585) CE BYU Online High School","AS081822585-Elizabeth Merrill (081822585) CE BYU Online High School","Active",null,null,null,null,null,null,null,null,null,null,null,"SC6713","SC6713||6700","6700","Physical Facilities","Primary","All"]
[null,null,null,null,null,null,"AC00667","[ENG] ACERC Indirect Cost Share","AC00667-[ENG] ACERC Indirect Cost Share","Activity","FD03","Active","2025-03-17T16:11:52.563115+00:00",null,null,null,null,null,null,null,null,"13160","LSDO Facilities Equipment","13160-LSDO Facilities Equipment",null,null,null,"AS081827389","Dave Laws (081827389) College of Engineering - Mechanical Engineering","AS081827389-Dave Laws (081827389) College of Engineering - Mechanical Engineering","Active",null,null,null,null,null,null,null,null,null,null,null,"SC6713","SC6713||8000","8000","Depreciation",null,"JE_PPE|JE_Override"]
[null,null,null,null,null,null,"AC00668","[ENG] Multi Burner Optimiz","AC00668-[ENG] Multi Burner Optimiz","Activity","FD03","Active","2025-03-17T16:11:52.563115+00:00",null,null,null,null,null,null,null,null,"13200","LSDO Unallocated Expense","13200-LSDO Unallocated Expense",null,null,null,"AS081990395","Stash Dabrowski (081990395) Athletics - Olympic Sport Medicine","AS081990395-Stash Dabrowski (081990395) Athletics - Olympic Sport Medicine","Active",null,null,null,null,null,null,null,null,null,null,null,"SC6714","SC6714||1400","1400","Prepaid Expenses",null,"All"]
[null,null,null,null,null,null,"AC00669","[ENG] Civil Engr Compt Lab","AC00669-[ENG] Civil Engr Compt Lab","Activity","FD01","Active","2025-03-17T16:11:52.563115+00:00",null,null,null,null,null,null,null,null,"13201","LSDO Facility/Land Improvement","13201-LSDO Facility/Land Improvement",null,null,null,"AS082159155","Tommy Cox (082159155) Dean's Office - College of Engineering","AS082159155-Tommy Cox (082159155) Dean's Office - College of Engineering","Active",null,null,null,null,null,null,null,null,null,null,null,"SC6714","SC6714||1620","1620","Furnishings and Fixtures",null,"JE_PPE|JE_Override"]
[null,null,null,null,null,null,"AC00670","[ENG] Ecgl","AC00670-[ENG] Ecgl","Activity","FD01","Active","2025-03-17T16:11:52.563115+00:00",null,null,null,null,null,null,null,null,"13202","LSDO Central UT Science Fair","13202-LSDO Central UT Science Fair",null,null,null,"AS082281630","Kevin Douglas Whitehead (082281630) AVP - Dean, Religious Education","AS082281630-Kevin Douglas Whitehead (082281630) AVP - Dean, Religious Education","Active",null,null,null,null,null,null,null,null,null,null,null,"SC6714","SC6714||1650","1650","Construction in Progress",null,"JE_PPE|JE_Override"]
[null,null,null,null,null,null,"AC00671","[ENG] Civil Engineering","AC00671-[ENG] Civil Engineering","Activity","FD01","Active","2025-03-17T16:11:52.563115+00:00",null,null,null,null,null,null,null,null,"13204","LSDO 3-Minute Thesis Competiti","13204-LSDO 3-Minute Thesis Competiti",null,null,null,"AS082326281","Cramer England (082326281) BYU Broadcasting - Post Production","AS082326281-Cramer England (082326281) BYU Broadcasting - Post Production","Active",null,null,null,null,null,null,null,null,null,null,null,"SC6714","SC6714||1651","1651","Construction in Progress (Non-Workday Projects)",null,"All"]
[null,null,null,null,null,null,"AC00672","[ENG] American Soc of Civil Engineer","AC00672-[ENG] American Soc of Civil Engineer","Activity","FD02","Active","2025-03-17T16:11:52.563115+00:00",null,null,null,null,null,null,null,null,"13205","LSDO LFSC IT Advisory Committe","13205-LSDO LFSC IT Advisory Committe",null,null,null,"AS082372531","Oliver Johnson (082372531) College of Engineering - Mechanical Engineering","AS082372531-Oliver Johnson (082372531) College of Engineering - Mechanical Engineering","Active",null,null,null,null,null,null,null,null,null,null,null,"SC6714","SC6714||1700","1700","Accumulated Depreciation",null,"JE_PPE|JE_Override"]
[null,null,null,null,null,null,"AC00673","[ENG] The Earthquake Engrg Rsch Inst","AC00673-[ENG] The Earthquake Engrg Rsch Inst","Activity","FD02","Active","2025-03-17T16:11:52.563115+00:00",null,null,null,null,null,null,null,null,"13214","LSDO Equity-Ut Coop Assoc","13214-LSDO Equity-Ut Coop Assoc",null,null,null,"AS082401814","Kurt Jensen (082401814) PF Dining and MTC Maintenance","AS082401814-Kurt Jensen (082401814) PF Dining and MTC Maintenance","Active",null,null,null,null,null,null,null,null,null,null,null,"SC6714","SC6714||6700","6700","Physical Facilities","Primary","All"]
[null,null,null,null,null,null,"AC00674","[ENG] BYU AISC Steel Bridge","AC00674-[ENG] BYU AISC Steel Bridge","Activity","FD02","Active","2025-03-17T16:11:52.563115+00:00",null,null,null,null,null,null,null,null,"13215","LSDO Equity-Valley Wide Cooper","13215-LSDO Equity-Valley Wide Cooper",null,null,null,"AS082405720","Jeffery Barrow (082405720) Life Sciences - Cell Biology & Physiology","AS082405720-Jeffery Barrow (082405720) Life Sciences - Cell Biology & Physiology","Active",null,null,null,null,null,null,null,null,null,null,null,"SC6714","SC6714||8000","8000","Depreciation",null,"JE_PPE|JE_Override"]
[null,null,null,null,null,null,"AC00675","[ENG] Women in Civil Engineering","AC00675-[ENG] Women in Civil Engineering","Activity","FD02","Active","2025-03-17T16:11:52.563115+00:00",null,null,null,null,null,null,null,null,"13216","LSDO Equity-Mountainland Apple","13216-LSDO Equity-Mountainland Apple",null,null,null,"AS082411637","Derek Gurr (082411637) BYU Studies","AS082411637-Derek Gurr (082411637) BYU Studies","Active",null,null,null,null,null,null,null,null,null,null,null,"SC6715","SC6715||1400","1400","Prepaid Expenses",null,"All"]
[null,null,null,null,null,null,"AC00676","[ENG] Women in Construction","AC00676-[ENG] Women in Construction","Activity","FD02","Active","2025-03-17T16:11:52.563115+00:00",null,null,null,null,null,null,null,null,"13217","LSDO Equity-Raft River Electri","13217-LSDO Equity-Raft River Electri",null,null,null,"AS082436747","Tara Haubner (082436747) CE FSY Travel","AS082436747-Tara Haubner (082436747) CE FSY Travel","Active",null,null,null,null,null,null,null,null,null,null,null,"SC6715","SC6715||1620","1620","Furnishings and Fixtures",null,"JE_PPE|JE_Override"]
[null,null,null,null,null,null,"AC00677","[ENG] BYU AREMA Student Chapter","AC00677-[ENG] BYU AREMA Student Chapter","Activity","FD02","Active","2025-03-17T16:11:52.563115+00:00",null,null,null,null,null,null,null,null,"13218","LSDO Equity-Western Dairy","13218-LSDO Equity-Western Dairy",null,null,null,"AS082439498","Jason Walker (082439498) MSB - Public Service & Ethics","AS082439498-Jason Walker (082439498) MSB - Public Service & Ethics","Active",null,null,null,null,null,null,null,null,null,null,null,"SC6715","SC6715||1650","1650","Construction in Progress",null,"JE_PPE|JE_Override"]
[null,null,null,null,null,null,"AC00678","[ENG] Tau Beta Pi","AC00678-[ENG] Tau Beta Pi","Activity","FD02","Active","2025-03-17T16:11:52.563115+00:00",null,null,null,null,null,null,null,null,"13220","LSDO Bench to Bedside Event","13220-LSDO Bench to Bedside Event",null,null,null,"AS082698950","Jennifer Wimmer (082698950) MSE  - Teacher Education","AS082698950-Jennifer Wimmer (082698950) MSE  - Teacher Education","Active",null,null,null,null,null,null,null,null,null,null,null,"SC6715","SC6715||1651","1651","Construction in Progress (Non-Workday Projects)",null,"All"]
[null,null,null,null,null,null,"AC00679","[ENG] BYU Ite Student Chap","AC00679-[ENG] BYU Ite Student Chap","Activity","FD02","Active","2025-03-17T16:11:52.563115+00:00",null,null,null,null,null,null,null,null,"13221","LSDO \"Super\" Internship-Fellow","13221-LSDO \"Super\" Internship-Fellow",null,null,null,"AS082878943","Don Fairchild (082878943) OIT Resource - Enterprise Data Management and BI Engineering","AS082878943-Don Fairchild (082878943) OIT Resource - Enterprise Data Management and BI Engineering","Active",null,null,null,null,null,null,null,null,null,null,null,"SC6715","SC6715||1700","1700","Accumulated Depreciation",null,"JE_PPE|JE_Override"]
[null,null,null,null,null,null,"AC00680","[ENG] Environmental Model Rsch Lab","AC00680-[ENG] Environmental Model Rsch Lab","Activity","FD03","Active","2025-03-17T16:11:52.563115+00:00",null,null,null,null,null,null,null,null,"13222","LSDO Horse Barn (LSRL)","13222-LSDO Horse Barn (LSRL)",null,null,null,"AS083023921","Drew Johnson (083023921) PMPC Administration","AS083023921-Drew Johnson (083023921) PMPC Administration","Active",null,null,null,null,null,null,null,null,null,null,null,"SC6715","SC6715||6700","6700","Physical Facilities","Primary","All"]
[null,null,null,null,null,null,"AC00681","[ENG] CEEn Schlrshp Soc Symposium","AC00681-[ENG] CEEn Schlrshp Soc Symposium","Activity","FD03","Active","2025-03-17T16:11:52.563115+00:00",null,null,null,null,null,null,null,null,"13223","LSDO Sponsored Research Recogn","13223-LSDO Sponsored Research Recogn",null,null,null,"AS083269696","Jordan Jones (083269696) Humanities - Spanish & Portuguese","AS083269696-Jordan Jones (083269696) Humanities - Spanish & Portuguese","Active",null,null,null,null,null,null,null,null,null,null,null,"SC6715","SC6715||8000","8000","Depreciation",null,"JE_PPE|JE_Override"]
[null,null,null,null,null,null,"AC00682","[ENG] Vehicle Delay Estimation","AC00682-[ENG] Vehicle Delay Estimation","Activity","FD03","Active","2025-03-17T16:11:52.563115+00:00",null,null,null,null,null,null,null,null,"13224","LSDO BioUtah/BioHive","13224-LSDO BioUtah/BioHive",null,null,null,"AS083311104","Brandon Dunson (083311104) Athletics - Men's Basketball","AS083311104-Brandon Dunson (083311104) Athletics - Men's Basketball","Active",null,null,null,null,null,null,null,null,null,null,null,"SC6716","SC6716||1650","1650","Construction in Progress",null,"JE_PPE|JE_Override"]
[null,null,null,null,null,null,"AC00683","[ENG] Applied Optimization","AC00683-[ENG] Applied Optimization","Activity","FD03","Active","2025-03-17T16:11:52.563115+00:00",null,null,null,null,null,null,null,null,"13225","LSDO IGEM","13225-LSDO IGEM",null,null,null,"AS083756334","Brye Williamson (083756334) PF Building Operations","AS083756334-Brye Williamson (083756334) PF Building Operations","Active",null,null,null,null,null,null,null,null,null,null,null,"SC6716","SC6716||1651","1651","Construction in Progress (Non-Workday Projects)",null,"All"]
[null,null,null,null,null,null,"AC00684","[ENG] UDOT Residual","AC00684-[ENG] UDOT Residual","Activity","FD03","Active","2025-03-17T16:11:52.563115+00:00",null,null,null,null,null,null,null,null,"13226","LSDO Dean/Assoc. Dean Fac. Out","13226-LSDO Dean/Assoc. Dean Fac. Out",null,null,null,"AS083786435","Roberta Larsen (083786435) Life Sciences - Biology","AS083786435-Roberta Larsen (083786435) Life Sciences - Biology","Active",null,null,null,null,null,null,null,null,null,null,null,"SC6716","SC6716||6700","6700","Physical Facilities","Primary","All"]
[null,null,null,null,null,null,"AC00685","[ENG] J Nelson Grad Mentoring Grant","AC00685-[ENG] J Nelson Grad Mentoring Grant","Activity","FD03","Active","2025-03-17T16:11:52.563115+00:00",null,null,null,null,null,null,null,null,"13227","LSDO Faculty & Staff Developme","13227-LSDO Faculty & Staff Developme",null,null,null,"AS083874358","Sheli Sillito Walker (083874358) MSB - Management","AS083874358-Sheli Sillito Walker (083874358) MSB - Management","Active",null,null,null,null,null,null,null,null,null,null,null,"SC6717","SC6717||1650","1650","Construction in Progress",null,"JE_PPE|JE_Override"]
[null,null,null,null,null,null,"AC00686","[ENG] Civil Engr Royalties","AC00686-[ENG] Civil Engr Royalties","Activity","FD03","Active","2025-03-17T16:11:52.563115+00:00",null,null,null,null,null,null,null,null,"13228","LSDO STEM-Y-Faculty Institute","13228-LSDO STEM-Y-Faculty Institute",null,null,null,"AS083875837","Jeff Wilks (083875837) AVP - Dean, Marriott School of Business (MSB)","AS083875837-Jeff Wilks (083875837) AVP - Dean, Marriott School of Business (MSB)","Active",null,null,null,null,null,null,null,null,null,null,null,"SC6717","SC6717||1651","1651","Construction in Progress (Non-Workday Projects)",null,"All"]
[null,null,null,null,null,null,"AC00687","[ENG] Civil Eng Equip Repl","AC00687-[ENG] Civil Eng Equip Repl","Activity","FD03","Active","2025-03-17T16:11:52.563115+00:00",null,null,null,null,null,null,null,null,"13229","LSDO Faculty Buyback Support","13229-LSDO Faculty Buyback Support",null,null,null,"AS083905404","Isaac King (083905404) Museum of Art","AS083905404-Isaac King (083905404) Museum of Art","Active",null,null,null,null,null,null,null,null,null,null,null,"SC6717","SC6717||6700","6700","Physical Facilities","Primary","All"]
[null,null,null,null,null,null,"AC00689","[ENG] EXPERIENTIAL LEARNING CEE","AC00689-[ENG] EXPERIENTIAL LEARNING CEE","Activity","FD03","Active","2025-03-17T16:11:52.563115+00:00",null,null,null,null,null,null,null,null,"13230","LSDO BELONGING-First Generatio","13230-LSDO BELONGING-First Generatio",null,null,null,"AS084014736","Siri Schneck (084014736) HS General Medicine - Nursing","AS084014736-Siri Schneck (084014736) HS General Medicine - Nursing","Active",null,null,null,null,null,null,null,null,null,null,null,"SC6718","SC6718||1400","1400","Prepaid Expenses",null,"All"]
[null,null,null,null,null,null,"AC00690","[ENG] Mentoring Grant - S Guthrie","AC00690-[ENG] Mentoring Grant - S Guthrie","Activity","FD03","Active","2025-03-17T16:11:52.563115+00:00",null,null,null,null,null,null,null,null,"13231","LSDO Interdisciplinary Resrch","13231-LSDO Interdisciplinary Resrch",null,null,null,"AS084026095","Robert Walz (084026095) Fine Arts & Communications - School of Communications","AS084026095-Robert Walz (084026095) Fine Arts & Communications - School of Communications","Active",null,null,null,null,null,null,null,null,null,null,null,"SC6718","SC6718||1620","1620","Furnishings and Fixtures",null,"JE_PPE|JE_Override"]
[null,null,null,null,null,null,"AC00691","[ENG] Mentoring Grant J. Nelson","AC00691-[ENG] Mentoring Grant J. Nelson","Activity","FD03","Active","2025-03-17T16:11:52.563115+00:00",null,null,null,null,null,null,null,null,"13232","LSDO Dept Chair Leadership Dev","13232-LSDO Dept Chair Leadership Dev",null,null,null,"AS084189517","Gustavious Williams (084189517) College of Engineering - Civil & Construction Engineering","AS084189517-Gustavious Williams (084189517) College of Engineering - Civil & Construction Engineering","Active",null,null,null,null,null,null,null,null,null,null,null,"SC6718","SC6718||1650","1650","Construction in Progress",null,"JE_PPE|JE_Override"]
[null,null,null,null,null,null,"AC00692","[ENG] Mentoring Grant - Kyle Rollins","AC00692-[ENG] Mentoring Grant - Kyle Rollins","Activity","FD03","Active","2025-03-17T16:11:52.563115+00:00",null,null,null,null,null,null,null,null,"13233","LSDO COMMS-Sesquicentennial","13233-LSDO COMMS-Sesquicentennial",null,null,null,"AS084222944","Steve Perry (084222944) BYU Broadcasting - BYU Radio","AS084222944-Steve Perry (084222944) BYU Broadcasting - BYU Radio","Active",null,null,null,null,null,null,null,null,null,null,null,"SC6718","SC6718||1651","1651","Construction in Progress (Non-Workday Projects)",null,"All"]
[null,null,null,null,null,null,"AC00693","[ENG] Faculty Mentoring 2","AC00693-[ENG] Faculty Mentoring 2","Activity","FD03","Active","2025-03-17T16:11:52.563115+00:00",null,null,null,null,null,null,null,null,"13234","LSDO Equity-Intermountain Farm","13234-LSDO Equity-Intermountain Farm",null,null,null,"AS084567411","Joseph Staker (084567411) PF Central Heating Plant","AS084567411-Joseph Staker (084567411) PF Central Heating Plant","Active",null,null,null,null,null,null,null,null,null,null,null,"SC6718","SC6718||1700","1700","Accumulated Depreciation",null,"JE_PPE|JE_Override"]
[null,null,null,null,null,null,"AC00694","[ENG] Faculty Mentoring 3","AC00694-[ENG] Faculty Mentoring 3","Activity","FD03","Active","2025-03-17T16:11:52.563115+00:00",null,null,null,null,null,null,null,null,"13235","LSDO Stockroom-Inventory to be","13235-LSDO Stockroom-Inventory to be",null,null,null,"AS084662261","Brian Christensen (084662261) Fine Arts & Communications - Art","AS084662261-Brian Christensen (084662261) Fine Arts & Communications - Art","Active",null,null,null,null,null,null,null,null,null,null,null,"SC6718","SC6718||6700","6700","Physical Facilities","Primary","All"]
[null,null,null,null,null,null,"AC00695","[ENG] Faculty Mentoring 4","AC00695-[ENG] Faculty Mentoring 4","Activity","FD03","Active","2025-03-17T16:11:52.563115+00:00",null,null,null,null,null,null,null,null,"13236","LSDO Sci Spt Shop-Shop Tools","13236-LSDO Sci Spt Shop-Shop Tools",null,null,null,"AS084663531","Scott Walters (084663531) PF Building Operations","AS084663531-Scott Walters (084663531) PF Building Operations","Active",null,null,null,null,null,null,null,null,null,null,null,"SC6718","SC6718||8000","8000","Depreciation",null,"JE_PPE|JE_Override"]
[null,null,null,null,null,null,"AC00696","[ENG] Construction Management","AC00696-[ENG] Construction Management","Activity","FD01","Active","2025-03-17T16:11:52.563115+00:00",null,null,null,null,null,null,null,null,"13237","LSDO Sci Spt Shop-Shop Repairs","13237-LSDO Sci Spt Shop-Shop Repairs",null,null,null,"AS084953801","Anthony Perez (084953801) Brand & Creative","AS084953801-Anthony Perez (084953801) Brand & Creative","Active",null,null,null,null,null,null,null,null,null,null,null,"SC6719","SC6719||1400","1400","Prepaid Expenses",null,"All"]
[null,null,null,null,null,null,"AC00697","[ENG] Const. Managemnt Club","AC00697-[ENG] Const. Managemnt Club","Activity","FD02","Active","2025-03-17T16:11:52.563115+00:00",null,null,null,null,null,null,null,null,"13238","LSDO Stockroom-Loan Items","13238-LSDO Stockroom-Loan Items",null,null,null,"AS085060780","Brad Hewitt (085060780) OIT Resource - CES Network Center (CNC) - Installation","AS085060780-Brad Hewitt (085060780) OIT Resource - CES Network Center (CNC) - Installation","Active",null,null,null,null,null,null,null,null,null,null,null,"SC6719","SC6719||1620","1620","Furnishings and Fixtures",null,"JE_PPE|JE_Override"]
[null,null,null,null,null,null,"AC00698","[ENG] Construction Stores","AC00698-[ENG] Construction Stores","Activity","FD02","Active","2025-03-17T16:11:52.563115+00:00",null,null,null,null,null,null,null,null,"13239","LSDO Stockroom-Sell Items","13239-LSDO Stockroom-Sell Items",null,null,null,"AS085239152","Steven Luke (085239152) FHSS - Psychology","AS085239152-Steven Luke (085239152) FHSS - Psychology","Active",null,null,null,null,null,null,null,null,null,null,null,"SC6719","SC6719||1650","1650","Construction in Progress",null,"JE_PPE|JE_Override"]
[null,null,null,null,null,null,"AC00699","[ENG] Power/Energy","AC00699-[ENG] Power/Energy","Activity","FD02","Active","2025-03-17T16:11:52.563115+00:00",null,null,null,null,null,null,null,null,"13240","LSDO Stockroom-Sell Items-\"R\"","13240-LSDO Stockroom-Sell Items-\"R\"",null,null,null,"AS085269220","Travis Coyne (085269220) Fine Arts & Communications - Theatre & Media Arts","AS085269220-Travis Coyne (085269220) Fine Arts & Communications - Theatre & Media Arts","Active",null,null,null,null,null,null,null,null,null,null,null,"SC6719","SC6719||1651","1651","Construction in Progress (Non-Workday Projects)",null,"All"]
[null,null,null,null,null,null,"AC00700","[ENG] Plastics/Upholstery Stores","AC00700-[ENG] Plastics/Upholstery Stores","Activity","FD02","Active","2025-03-17T16:11:52.563115+00:00",null,null,null,null,null,null,null,null,"13250","LSDO ADVISE-Career Research","13250-LSDO ADVISE-Career Research",null,null,null,"AS085379998","Paul Richards (085379998) College of Engineering - Civil & Construction Engineering","AS085379998-Paul Richards (085379998) College of Engineering - Civil & Construction Engineering","Active",null,null,null,null,null,null,null,null,null,null,null,"SC6719","SC6719||1700","1700","Accumulated Depreciation",null,"JE_PPE|JE_Override"]
[null,null,null,null,null,null,"AC00701","[ENG] Architecture Club","AC00701-[ENG] Architecture Club","Activity","FD02","Active","2025-03-17T16:11:52.563115+00:00",null,null,null,null,null,null,null,null,"13251","LSDO ADVISE-ETS Biology Exams","13251-LSDO ADVISE-ETS Biology Exams",null,null,null,"AS085544891","Matt Butler (085544891) FHSS - Economics","AS085544891-Matt Butler (085544891) FHSS - Economics","Active",null,null,null,null,null,null,null,null,null,null,null,"SC6719","SC6719||6700","6700","Physical Facilities","Primary","All"]
[null,null,null,null,null,null,"AC00702","[ENG] EXPERIENTIAL LEARNING CFM","AC00702-[ENG] EXPERIENTIAL LEARNING CFM","Activity","FD03","Active","2025-03-17T16:11:52.563115+00:00",null,null,null,null,null,null,null,null,"13252","LSDO ADVISE-Career Services","13252-LSDO ADVISE-Career Services",null,null,null,"AS085618274","John Chaston (085618274) Life Sciences - Plant & Wildlife Sciences","AS085618274-John Chaston (085618274) Life Sciences - Plant & Wildlife Sciences","Active",null,null,null,null,null,null,null,null,null,null,null,"SC6719","SC6719||8000","8000","Depreciation",null,"JE_PPE|JE_Override"]
[null,null,null,null,null,null,"AC00703","[ENG] Facilities and Property Mgmt","AC00703-[ENG] Facilities and Property Mgmt","Activity","FD01","Active","2025-03-17T16:11:52.563115+00:00",null,null,null,null,null,null,null,null,"13253","LSDO ADVISE-Communication","13253-LSDO ADVISE-Communication",null,null,null,"AS085963895","Joshua Price (085963895) FHSS - Economics","AS085963895-Joshua Price (085963895) FHSS - Economics","Active",null,null,null,null,null,null,null,null,null,null,null,"SC6720","SC6720||1400","1400","Prepaid Expenses",null,"All"]
[null,null,null,null,null,null,"AC00704","[ENG] Campbell, Jeffery Research","AC00704-[ENG] Campbell, Jeffery Research","Activity","FD01","Active","2025-03-17T16:11:52.563115+00:00",null,null,null,null,null,null,null,null,"13254","LSDO ADVISE-Development","13254-LSDO ADVISE-Development",null,null,null,"AS086020728","Jyothish Joy (086020728) CMS - Chemistry and Biochemistry","AS086020728-Jyothish Joy (086020728) CMS - Chemistry and Biochemistry","Active",null,null,null,null,null,null,null,null,null,null,null,"SC6720","SC6720||1650","1650","Construction in Progress",null,"JE_PPE|JE_Override"]
[null,null,null,null,null,null,"AC00705","[ENG] BYU IFMA","AC00705-[ENG] BYU IFMA","Activity","FD02","Active","2025-03-17T16:11:52.563115+00:00",null,null,null,null,null,null,null,null,"13255","LSDO ADVISE-Graduation","13255-LSDO ADVISE-Graduation",null,null,null,"AS086077890","Chad Brimley (086077890) Dean of Students","AS086077890-Chad Brimley (086077890) Dean of Students","Active",null,null,null,null,null,null,null,null,null,null,null,"SC6720","SC6720||1651","1651","Construction in Progress (Non-Workday Projects)",null,"All"]
[null,null,null,null,null,null,"AC00706","[ENG] Center for Remote Sensing","AC00706-[ENG] Center for Remote Sensing","Activity","FD01","Active","2025-03-17T16:11:52.563115+00:00",null,null,null,null,null,null,null,null,"13256","LSDO ADVISE-Internship/Ment","13256-LSDO ADVISE-Internship/Ment",null,null,null,"AS086106508","Mikayla Robins (086106508) CE Education Week","AS086106508-Mikayla Robins (086106508) CE Education Week","Active",null,null,null,null,null,null,null,null,null,null,null,"SC6720","SC6720||6700","6700","Physical Facilities","Primary","All"]
[null,null,null,null,null,null,"AC00707","[ENG] Elec Engr Compt Lab","AC00707-[ENG] Elec Engr Compt Lab","Activity","FD01","Active","2025-03-17T16:11:52.563115+00:00",null,null,null,null,null,null,null,null,"13257","LSDO ADVISE-New Student Orien","13257-LSDO ADVISE-New Student Orien",null,null,null,"AS086170895","Richard Warr (086170895) CMS - Statistics","AS086170895-Richard Warr (086170895) CMS - Statistics","Active",null,null,null,null,null,null,null,null,null,null,null,"SC6721","SC6721||1400","1400","Prepaid Expenses",null,"All"]
[null,null,null,null,null,null,"AC00708","[ENG] College - UAV","AC00708-[ENG] College - UAV","Activity","FD01","Active","2025-03-17T16:11:52.563115+00:00",null,null,null,null,null,null,null,null,"13258","LSDO ADVISE-Office Operations","13258-LSDO ADVISE-Office Operations",null,null,null,"AS086393576","Eric Swenson (086393576) CMS - Mathematics","AS086393576-Eric Swenson (086393576) CMS - Mathematics","Active",null,null,null,null,null,null,null,null,null,null,null,"SC6721","SC6721||1620","1620","Furnishings and Fixtures",null,"JE_PPE|JE_Override"]
[null,null,null,null,null,null,"AC00709","[ENG] Electrical Engineering","AC00709-[ENG] Electrical Engineering","Activity","FD01","Active","2025-03-17T16:11:52.563115+00:00",null,null,null,null,null,null,null,null,"13259","LSDO ADVISE-Promotional Mate","13259-LSDO ADVISE-Promotional Mate",null,null,null,"AS086418765","Bonnie Bingham (086418765) Dean's Office Humanities","AS086418765-Bonnie Bingham (086418765) Dean's Office Humanities","Active",null,null,null,null,null,null,null,null,null,null,null,"SC6721","SC6721||1650","1650","Construction in Progress",null,"JE_PPE|JE_Override"]
[null,null,null,null,null,null,"AC00710","[ENG] MERS Laboratory","AC00710-[ENG] MERS Laboratory","Activity","FD01","Active","2025-03-17T16:11:52.563115+00:00",null,null,null,null,null,null,null,null,"13260","LSDO ADVISE-Scholarships","13260-LSDO ADVISE-Scholarships",null,null,null,"AS086472691","Brody Blair (086472691) PF Auxiliary Maintenance","AS086472691-Brody Blair (086472691) PF Auxiliary Maintenance","Active",null,null,null,null,null,null,null,null,null,null,null,"SC6721","SC6721||1651","1651","Construction in Progress (Non-Workday Projects)",null,"All"]
[null,null,null,null,null,null,"AC00711","[ENG] EUCLID","AC00711-[ENG] EUCLID","Activity","FD01","Active","2025-03-17T16:11:52.563115+00:00",null,null,null,null,null,null,null,null,"13261","LSDO ADVISE-Und Student Counc","13261-LSDO ADVISE-Und Student Counc",null,null,null,"AS086530432","Erik Larson (086530432) Humanities - Spanish & Portuguese","AS086530432-Erik Larson (086530432) Humanities - Spanish & Portuguese","Active",null,null,null,null,null,null,null,null,null,null,null,"SC6721","SC6721||1700","1700","Accumulated Depreciation",null,"JE_PPE|JE_Override"]
[null,null,null,null,null,null,"AC00712","[ENG] MAGICC Laboratory","AC00712-[ENG] MAGICC Laboratory","Activity","FD01","Active","2025-03-17T16:11:52.563115+00:00",null,null,null,null,null,null,null,null,"13262","LSDO ADVISE-LFSC Consultant","13262-LSDO ADVISE-LFSC Consultant",null,null,null,"AS086584610","Rebecca Hunter (086584610) MSE  - Teacher Education","AS086584610-Rebecca Hunter (086584610) MSE  - Teacher Education","Active",null,null,null,null,null,null,null,null,null,null,null,"SC6721","SC6721||6700","6700","Physical Facilities","Primary","All"]
[null,null,null,null,null,null,"AC00713","[ENG] Auto Pilot Tech Transfer","AC00713-[ENG] Auto Pilot Tech Transfer","Activity","FD01","Active","2025-03-17T16:11:52.563115+00:00",null,null,null,null,null,null,null,null,"13263","LSDO ADVISE-LFSCI 101","13263-LSDO ADVISE-LFSCI 101",null,null,null,"AS086585781","Tim Wilda (086585781) PF Transportation & Manufacturing Services","AS086585781-Tim Wilda (086585781) PF Transportation & Manufacturing Services","Active",null,null,null,null,null,null,null,null,null,null,null,"SC6721","SC6721||8000","8000","Depreciation",null,"JE_PPE|JE_Override"]
[null,null,null,null,null,null,"AC00714","[ENG] Cleanroom Consumables","AC00714-[ENG] Cleanroom Consumables","Activity","FD01","Active","2025-03-17T16:11:52.563115+00:00",null,null,null,null,null,null,null,null,"13264","LSDO ADVISE-Learning Center","13264-LSDO ADVISE-Learning Center",null,null,null,"AS086625637","Annalee Hickman Pierson (086625637) Law School - Law Library","AS086625637-Annalee Hickman Pierson (086625637) Law School - Law Library","Active",null,null,null,null,null,null,null,null,null,null,null,"SC6722","SC6722||1400","1400","Prepaid Expenses",null,"All"]
[null,null,null,null,null,null,"AC00715","[ENG] Soc of Hispanic Prof Eng","AC00715-[ENG] Soc of Hispanic Prof Eng","Activity","FD02","Active","2025-03-17T16:11:52.563115+00:00",null,null,null,null,null,null,null,null,"13265","LSDO Choose to Give","13265-LSDO Choose to Give",null,null,null,"AS086643686","Johanne Hillam (086643686) French and Italian Languages","AS086643686-Johanne Hillam (086643686) French and Italian Languages","Active",null,null,null,null,null,null,null,null,null,null,null,"SC6722","SC6722||6700","6700","Physical Facilities","Primary","All"]
[null,null,null,null,null,null,"AC00716","[ENG] Eta Kappa Nu","AC00716-[ENG] Eta Kappa Nu","Activity","FD02","Active","2025-03-17T16:11:52.563115+00:00",null,null,null,null,null,null,null,null,"13270","LSDO LSIT-Service Desk","13270-LSDO LSIT-Service Desk",null,null,null,"AS086667644","Celeste Beesley (086667644) FHSS - Political Science","AS086667644-Celeste Beesley (086667644) FHSS - Political Science","Active",null,null,null,null,null,null,null,null,null,null,null,"SC6723","SC6723||1400","1400","Prepaid Expenses",null,"All"]
[null,null,null,null,null,null,"AC00717","[ENG] IEEE Club","AC00717-[ENG] IEEE Club","Activity","FD02","Active","2025-03-17T16:11:52.563115+00:00",null,null,null,null,null,null,null,null,"13271","LSDO LSIT-Engineering","13271-LSDO LSIT-Engineering",null,null,null,"AS086950517","Rebecca Hornberger (086950517) HS Administration","AS086950517-Rebecca Hornberger (086950517) HS Administration","Active",null,null,null,null,null,null,null,null,null,null,null,"SC6723","SC6723||6700","6700","Physical Facilities","Primary","All"]
[null,null,null,null,null,null,"AC00718","[ENG] Elect Engr Stores","AC00718-[ENG] Elect Engr Stores","Activity","FD02","Active","2025-03-17T16:11:52.563115+00:00",null,null,null,null,null,null,null,null,"13272","LSDO LSIT-Development","13272-LSDO LSIT-Development",null,null,null,"AS087251463","Sandra Sephton (087251463) FHSS - Psychology","AS087251463-Sandra Sephton (087251463) FHSS - Psychology","Active",null,null,null,null,null,null,null,null,null,null,null,"SC6724","SC6724||1400","1400","Prepaid Expenses",null,"All"]
[null,null,null,null,null,null,"AC00719","[ENG] Cleanroom","AC00719-[ENG] Cleanroom","Activity","FD02","Active","2025-03-17T16:11:52.563115+00:00",null,null,null,null,null,null,null,null,"13273","LSDO LSIT-Design","13273-LSDO LSIT-Design",null,null,null,"AS087450572","Tyler Shumway (087450572) MSB - Finance","AS087450572-Tyler Shumway (087450572) MSB - Finance","Active",null,null,null,null,null,null,null,null,null,null,null,"SC6724","SC6724||6700","6700","Physical Facilities","Primary","All"]
[null,null,null,null,null,null,"AC00720","[ENG] BYU Spacecraft Club","AC00720-[ENG] BYU Spacecraft Club","Activity","FD02","Active","2025-03-17T16:11:52.563115+00:00",null,null,null,null,null,null,null,null,"13275","LSDO NEURO-Grad Students-Maste","13275-LSDO NEURO-Grad Students-Maste",null,null,null,"AS087539527","Tyler Griffin (087539527) AVP - Dean, Religious Education","AS087539527-Tyler Griffin (087539527) AVP - Dean, Religious Education","Active",null,null,null,null,null,null,null,null,null,null,null,"SC6725","SC6725||1400","1400","Prepaid Expenses",null,"All"]
[null,null,null,null,null,null,"AC00721","[ENG] Local Inspir for Future Engin","AC00721-[ENG] Local Inspir for Future Engin","Activity","FD02","Active","2025-03-17T16:11:52.563115+00:00",null,null,null,null,null,null,null,null,"13276","LSDO NEURO-Graduate Students-D","13276-LSDO NEURO-Graduate Students-D",null,null,null,"AS087606974","Ron Goodman (087606974) PF Central Heating Plant","AS087606974-Ron Goodman (087606974) PF Central Heating Plant","Active",null,null,null,null,null,null,null,null,null,null,null,"SC6725","SC6725||6700","6700","Physical Facilities","Primary","All"]
[null,null,null,null,null,null,"AC00722","[ENG] Briarwood Web Develpoment","AC00722-[ENG] Briarwood Web Develpoment","Activity","FD02","Active","2025-03-17T16:11:52.563115+00:00",null,null,null,null,null,null,null,null,"13277","LSDO NEURO-Mentored Resch Fac","13277-LSDO NEURO-Mentored Resch Fac",null,null,null,"AS087946977","Sherri Hadfield (087946977) Humanities - Linguistics","AS087946977-Sherri Hadfield (087946977) Humanities - Linguistics","Active",null,null,null,null,null,null,null,null,null,null,null,"SC6726","SC6726||1400","1400","Prepaid Expenses",null,"All"]
[null,null,null,null,null,null,"AC00723","[ENG] CERS Operations","AC00723-[ENG] CERS Operations","Activity","FD03","Active","2025-03-17T16:11:52.563115+00:00",null,null,null,null,null,null,null,null,"13278","LSDO Michael Stark","13278-LSDO Michael Stark",null,null,null,"AS088222291","Annalyn Osborn (088222291) Humanities - Spanish & Portuguese","AS088222291-Annalyn Osborn (088222291) Humanities - Spanish & Portuguese","Active",null,null,null,null,null,null,null,null,null,null,null,"SC6726","SC6726||6700","6700","Physical Facilities","Primary","All"]
[null,null,null,null,null,null,"AC00724","[ENG] Coray Professorship DG Long","AC00724-[ENG] Coray Professorship DG Long","Activity","FD03","Active","2025-03-17T16:11:52.563115+00:00",null,null,null,null,null,null,null,null,"13279","LSDO Benjamin Crookston","13279-LSDO Benjamin Crookston",null,null,null,"AS088368339","Brett Hashimoto (088368339) Humanities - Linguistics","AS088368339-Brett Hashimoto (088368339) Humanities - Linguistics","Active",null,null,null,null,null,null,null,null,null,null,null,"SC6727","SC6727||1400","1400","Prepaid Expenses",null,"All"]
[null,null,null,null,null,null,"AC00725","[ENG] Elec Eng Equip Repl","AC00725-[ENG] Elec Eng Equip Repl","Activity","FD03","Active","2025-03-17T16:11:52.563115+00:00",null,null,null,null,null,null,null,null,"13280","LSDO Brian Johnson","13280-LSDO Brian Johnson",null,null,null,"AS088387496","Craig Fisher (088387496) PF Grounds - Site & Landscape Construction","AS088387496-Craig Fisher (088387496) PF Grounds - Site & Landscape Construction","Active",null,null,null,null,null,null,null,null,null,null,null,"SC6727","SC6727||6700","6700","Physical Facilities","Primary","All"]
[null,null,null,null,null,null,"AC00726","[ENG] Sigproc Royalty","AC00726-[ENG] Sigproc Royalty","Activity","FD03","Active","2025-03-17T16:11:52.563115+00:00",null,null,null,null,null,null,null,null,"13281","LSDO Loreen Flinders","13281-LSDO Loreen Flinders",null,null,null,"AS088427572","Lee McCullough (088427572) Law School","AS088427572-Lee McCullough (088427572) Law School","Active",null,null,null,null,null,null,null,null,null,null,null,"SC6728","SC6728||1400","1400","Prepaid Expenses",null,"All"]
[null,null,null,null,null,null,"AC00727","[ENG] Sig Process Research","AC00727-[ENG] Sig Process Research","Activity","FD03","Active","2025-03-17T16:11:52.563115+00:00",null,null,null,null,null,null,null,null,"13282","LSDO Josh Leavitt","13282-LSDO Josh Leavitt",null,null,null,"AS088607893","Alyson Ball (088607893) MTC Dining","AS088607893-Alyson Ball (088607893) MTC Dining","Active",null,null,null,null,null,null,null,null,null,null,null,"SC6728","SC6728||6700","6700","Physical Facilities","Primary","All"]
[null,null,null,null,null,null,"AC00728","[ENG] KF Warnick-Young Scholar","AC00728-[ENG] KF Warnick-Young Scholar","Activity","FD03","Active","2025-03-17T16:11:52.563115+00:00",null,null,null,null,null,null,null,null,"13283","LSDO Susan Fullmer","13283-LSDO Susan Fullmer",null,null,null,"AS088807559","Amber Jensen (088807559) Humanities - English","AS088807559-Amber Jensen (088807559) Humanities - English","Active",null,null,null,null,null,null,null,null,null,null,null,"SC6729","SC6729||1400","1400","Prepaid Expenses",null,"All"]
[null,null,null,null,null,null,"AC00729","[ENG] Dept Secretarial Support","AC00729-[ENG] Dept Secretarial Support","Activity","FD03","Active","2025-03-17T16:11:52.563115+00:00",null,null,null,null,null,null,null,null,"13284","LSDO Tonya Fischio","13284-LSDO Tonya Fischio",null,null,null,"AS089085651","Josh Lee (089085651) MSB - School of Accountancy","AS089085651-Josh Lee (089085651) MSB - School of Accountancy","Active",null,null,null,null,null,null,null,null,null,null,null,"SC6729","SC6729||1620","1620","Furnishings and Fixtures",null,"JE_PPE|JE_Override"]
[null,null,null,null,null,null,"AC00730","[ENG] Young Scholar - Brad Hutchings","AC00730-[ENG] Young Scholar - Brad Hutchings","Activity","FD03","Active","2025-03-17T16:11:52.563115+00:00",null,null,null,null,null,null,null,null,"13285","LSDO Michael Barnes","13285-LSDO Michael Barnes",null,null,null,"AS089272986","Bart Stoddard (089272986) Housing Administration","AS089272986-Bart Stoddard (089272986) Housing Administration","Active",null,null,null,null,null,null,null,null,null,null,null,"SC6729","SC6729||1650","1650","Construction in Progress",null,"JE_PPE|JE_Override"]
[null,null,null,null,null,null,"AC00731","[ENG] Automated Accom","AC00731-[ENG] Automated Accom","Activity","FD03","Active","2025-03-17T16:11:52.563115+00:00",null,null,null,null,null,null,null,null,"13286","LSDO Rebecca Scholl","13286-LSDO Rebecca Scholl",null,null,null,"AS089308063","Lauren Davies (089308063) MSE - Communication Disorders","AS089308063-Lauren Davies (089308063) MSE - Communication Disorders","Active",null,null,null,null,null,null,null,null,null,null,null,"SC6729","SC6729||1651","1651","Construction in Progress (Non-Workday Projects)",null,"All"]
[null,null,null,null,null,null,"AC00732","[ENG] Microsphere Resonant","AC00732-[ENG] Microsphere Resonant","Activity","FD03","Active","2025-03-17T16:11:52.563115+00:00",null,null,null,null,null,null,null,null,"13287","LSDO Terri Moser","13287-LSDO Terri Moser",null,null,null,"AS089356046","Jackson Behling (089356046) Electrical and Computer Eng","AS089356046-Jackson Behling (089356046) Electrical and Computer Eng","Active",null,null,null,null,null,null,null,null,null,null,null,"SC6729","SC6729||1700","1700","Accumulated Depreciation",null,"JE_PPE|JE_Override"]
[null,null,null,null,null,null,"AC00733","[ENG] Auto Pilot Tech Transfer","AC00733-[ENG] Auto Pilot Tech Transfer","Activity","FD03","Active","2025-03-17T16:11:52.563115+00:00",null,null,null,null,null,null,null,null,"13288","LSDO Russell Nielson","13288-LSDO Russell Nielson",null,null,null,"AS089398090","Blake Barker (089398090) CMS - Mathematics","AS089398090-Blake Barker (089398090) CMS - Mathematics","Active",null,null,null,null,null,null,null,null,null,null,null,"SC6729","SC6729||6700","6700","Physical Facilities","Primary","All"]
[null,null,null,null,null,null,"AC00734","[ENG] IML Equipment Replacement","AC00734-[ENG] IML Equipment Replacement","Activity","FD03","Active","2025-03-17T16:11:52.563115+00:00",null,null,null,null,null,null,null,null,"13289","LSDO Laura Bridgewater","13289-LSDO Laura Bridgewater",null,null,null,"AS089405044","Sherrie Bangerter (089405044) CE FSY","AS089405044-Sherrie Bangerter (089405044) CE FSY","Active",null,null,null,null,null,null,null,null,null,null,null,"SC6729","SC6729||8000","8000","Depreciation",null,"JE_PPE|JE_Override"]
[null,null,null,null,null,null,"AC00735","[ENG] Pattern Generator","AC00735-[ENG] Pattern Generator","Activity","FD03","Active","2025-03-17T16:11:52.563115+00:00",null,null,null,null,null,null,null,null,"13290","LSDO Student Secretary","13290-LSDO Student Secretary",null,null,null,"AS089471812","Darrell Goff (089471812) Mechanical Engineering","AS089471812-Darrell Goff (089471812) Mechanical Engineering","Active",null,null,null,null,null,null,null,null,null,null,null,"SC6730","SC6730||1400","1400","Prepaid Expenses",null,"All"]
[null,null,null,null,null,null,"AC00736","[ENG] CSR - Engineering (ECE)","AC00736-[ENG] CSR - Engineering (ECE)","Activity","FD03","Active","2025-03-17T16:11:52.563115+00:00",null,null,null,null,null,null,null,null,"13291","LSDO YSA 3rd Stake-#503266","13291-LSDO YSA 3rd Stake-#503266",null,null,null,"AS089938606","Pattie Shumway (089938606) MSB - Experience Design & Management","AS089938606-Pattie Shumway (089938606) MSB - Experience Design & Management","Active",null,null,null,null,null,null,null,null,null,null,null,"SC6730","SC6730||1620","1620","Furnishings and Fixtures",null,"JE_PPE|JE_Override"]
[null,null,null,null,null,null,"AC00737","[ENG] IMMERSE Consolidated","AC00737-[ENG] IMMERSE Consolidated","Activity","FD03","Active","2025-03-17T16:11:52.563115+00:00",null,null,null,null,null,null,null,null,"13292","LSDO COMMS-Student","13292-LSDO COMMS-Student",null,null,null,"AS090325831","Scott Champion (090325831) BYU Broadcasting - Creative Services","AS090325831-Scott Champion (090325831) BYU Broadcasting - Creative Services","Active",null,null,null,null,null,null,null,null,null,null,null,"SC6730","SC6730||1650","1650","Construction in Progress",null,"JE_PPE|JE_Override"]
[null,null,null,null,null,null,"AC00738","[ENG] A Hawkins Grad Mentoring Award","AC00738-[ENG] A Hawkins Grad Mentoring Award","Activity","FD03","Active","2025-03-17T16:11:52.563115+00:00",null,null,null,null,null,null,null,null,"13293","LSDO COMMS-Student Events","13293-LSDO COMMS-Student Events",null,null,null,"AS090428073","Logan Matthews (090428073) Athletics - Olympic Sport Medicine","AS090428073-Logan Matthews (090428073) Athletics - Olympic Sport Medicine","Active",null,null,null,null,null,null,null,null,null,null,null,"SC6730","SC6730||1651","1651","Construction in Progress (Non-Workday Projects)",null,"All"]
[null,null,null,null,null,null,"AC00739","[ENG] D Smalley - PIA 2020 - ECEn","AC00739-[ENG] D Smalley - PIA 2020 - ECEn","Activity","FD03","Active","2025-03-17T16:11:52.563115+00:00",null,null,null,null,null,null,null,null,"13294","LSDO COMMS-Writer","13294-LSDO COMMS-Writer",null,null,null,"AS090471404","Deborah Himes (090471404) AVP - Dean, College of Nursing","AS090471404-Deborah Himes (090471404) AVP - Dean, College of Nursing","Active",null,null,null,null,null,null,null,null,null,null,null,"SC6730","SC6730||1700","1700","Accumulated Depreciation",null,"JE_PPE|JE_Override"]
[null,null,null,null,null,null,"AC00740","[ENG] Interdisciplinary Robotics","AC00740-[ENG] Interdisciplinary Robotics","Activity","FD03","Active","2025-03-17T16:11:52.563115+00:00",null,null,null,null,null,null,null,null,"13295","LSDO COMMS-Internal Communicat","13295-LSDO COMMS-Internal Communicat",null,null,null,"AS090634933","Jeffrey Niven (090634933) College of Engineering - Mechanical Engineering","AS090634933-Jeffrey Niven (090634933) College of Engineering - Mechanical Engineering","Active",null,null,null,null,null,null,null,null,null,null,null,"SC6730","SC6730||6700","6700","Physical Facilities","Primary","All"]
[null,null,null,null,null,null,"AC00741","[ENG] Y-Ride -PIA2022 ? ECEn","AC00741-[ENG] Y-Ride -PIA2022 ? ECEn","Activity","FD03","Active","2025-03-17T16:11:52.563115+00:00",null,null,null,null,null,null,null,null,"13296","LSDO COMMS-Social Media","13296-LSDO COMMS-Social Media",null,null,null,"AS090673468","Kimberly Wright (090673468) Fine Arts & Communications - Theatre & Media Arts","AS090673468-Kimberly Wright (090673468) Fine Arts & Communications - Theatre & Media Arts","Active",null,null,null,null,null,null,null,null,null,null,null,"SC6730","SC6730||8000","8000","Depreciation",null,"JE_PPE|JE_Override"]
[null,null,null,null,null,null,"AC00743","[ENG] EXPERIENTIAL LEARNING ECE","AC00743-[ENG] EXPERIENTIAL LEARNING ECE","Activity","FD03","Active","2025-03-17T16:11:52.563115+00:00",null,null,null,null,null,null,null,null,"13297","LSDO COMMS-Video/Photography","13297-LSDO COMMS-Video/Photography",null,null,null,"AS090692682","Mark Johnson (090692682) MSB - Finance","AS090692682-Mark Johnson (090692682) MSB - Finance","Active",null,null,null,null,null,null,null,null,null,null,null,"SC6731","SC6731||1300","1300","Inventory","Primary","All"]
[null,null,null,null,null,null,"AC00744","[ENG] Faculty Mentoring 2","AC00744-[ENG] Faculty Mentoring 2","Activity","FD03","Active","2025-03-17T16:11:52.563115+00:00",null,null,null,null,null,null,null,null,"13298","LSDO COMMS-Design","13298-LSDO COMMS-Design",null,null,null,"AS090754573","Martha Carter (090754573) Cannon Center","AS090754573-Martha Carter (090754573) Cannon Center","Active",null,null,null,null,null,null,null,null,null,null,null,"SC6731","SC6731||1650","1650","Construction in Progress",null,"JE_PPE|JE_Override"]
[null,null,null,null,null,null,"AC00745","[ENG] Faculty Mentoring 3","AC00745-[ENG] Faculty Mentoring 3","Activity","FD03","Active","2025-03-17T16:11:52.563115+00:00",null,null,null,null,null,null,null,null,"13299","LSDO BELONGING-Women in Life S","13299-LSDO BELONGING-Women in Life S",null,null,null,"AS090902923","Erin Ricks (090902923) Purchasing and Travel - Campus Finance","AS090902923-Erin Ricks (090902923) Purchasing and Travel - Campus Finance","Active",null,null,null,null,null,null,null,null,null,null,null,"SC6731","SC6731||4900","4900","Cost of Sales",null,"All"]
[null,null,null,null,null,null,"AC00746","[ENG] Faculty Mentoring 4","AC00746-[ENG] Faculty Mentoring 4","Activity","FD03","Active","2025-03-17T16:11:52.563115+00:00",null,null,null,null,null,null,null,null,"13305","LSB Research at BYU","13305-LSB Research at BYU",null,null,null,"AS090924308","Kathy Taylor (090924308) Alumni Relations","AS090924308-Kathy Taylor (090924308) Alumni Relations","Active",null,null,null,null,null,null,null,null,null,null,null,"SC6799","SC6799||1400","1400","Prepaid Expenses",null,"All"]
[null,null,null,null,null,null,"AC00747","[ENG] Faculty Mentoring 5","AC00747-[ENG] Faculty Mentoring 5","Activity","FD03","Active","2025-03-17T16:11:52.563115+00:00",null,null,null,null,null,null,null,null,"13307","LSB Administrator/Donor Confer","13307-LSB Administrator/Donor Confer",null,null,null,"AS090941769","Ezra Smith (090941769) Lee Library - Acquisitions","AS090941769-Ezra Smith (090941769) Lee Library - Acquisitions","Active",null,null,null,null,null,null,null,null,null,null,null,"SC6799","SC6799||1650","1650","Construction in Progress",null,"JE_PPE|JE_Override"]
[null,null,null,null,null,null,"AC00748","[ENG] Information Technology","AC00748-[ENG] Information Technology","Activity","FD01","Active","2025-03-17T16:11:52.563115+00:00",null,null,null,null,null,null,null,null,"13332","LSB Student Keys","13332-LSB Student Keys",null,null,null,"AS091090788","Cree Jones (091090788) AVP - Dean, Clark Law School","AS091090788-Cree Jones (091090788) AVP - Dean, Clark Law School","Active",null,null,null,null,null,null,null,null,null,null,null,"SC6799","SC6799||1651","1651","Construction in Progress (Non-Workday Projects)",null,"All"]
[null,null,null,null,null,null,"AC00749","[ENG] Lunt, Barry Research","AC00749-[ENG] Lunt, Barry Research","Activity","FD01","Active","2025-03-17T16:11:52.563115+00:00",null,null,null,null,null,null,null,null,"13333","LSB Copiers","13333-LSB Copiers",null,null,null,"AS091140327","Teresa Thompson (091140327) Lee Library - Acquisitions","AS091140327-Teresa Thompson (091140327) Lee Library - Acquisitions","Active",null,null,null,null,null,null,null,null,null,null,null,"SC6799","SC6799||6700","6700","Physical Facilities","Primary","All"]
[null,null,null,null,null,null,"AC00750","[ENG] IT Stores","AC00750-[ENG] IT Stores","Activity","FD02","Active","2025-03-17T16:11:52.563115+00:00",null,null,null,null,null,null,null,null,"13335","LSB Christmas","13335-LSB Christmas",null,null,null,"AS091329105","Tony Martinez (091329105) CMS - Computer Science","AS091329105-Tony Martinez (091329105) CMS - Computer Science","Active",null,null,null,null,null,null,null,null,null,null,null,"SC6901","SC6901||1400","1400","Prepaid Expenses",null,"All"]
[null,null,null,null,null,null,"AC00751","[ENG] Information Tech Studnt Assoc","AC00751-[ENG] Information Tech Studnt Assoc","Activity","FD02","Active","2025-03-17T16:11:52.563115+00:00",null,null,null,null,null,null,null,null,"13342","LSB Outreach","13342-LSB Outreach",null,null,null,"AS091388504","David Quittner (091388504) PMPC Administration","AS091388504-David Quittner (091388504) PMPC Administration","Active",null,null,null,null,null,null,null,null,null,null,null,"SC6901","SC6901||1625","1625","Capital Equipment",null,"JE_PPE|JE_Override"]
[null,null,null,null,null,null,"AC00752","[ENG] CSSAA","AC00752-[ENG] CSSAA","Activity","FD02","Active","2025-03-17T16:11:52.563115+00:00",null,null,null,null,null,null,null,null,"13356","LSDO Annual Giving Replacement","13356-LSDO Annual Giving Replacement",null,null,null,"AS091471725","Amanda Pope (091471725) MSB - School of Accountancy","AS091471725-Amanda Pope (091471725) MSB - School of Accountancy","Active",null,null,null,null,null,null,null,null,null,null,null,"SC6901","SC6901||1650","1650","Construction in Progress",null,"JE_PPE|JE_Override"]
[null,null,null,null,null,null,"AC00753","[ENG] User Experience Design Club","AC00753-[ENG] User Experience Design Club","Activity","FD02","Active","2025-03-17T16:11:52.563115+00:00",null,null,null,null,null,null,null,null,"13357","LSDO Cancer Research Replaceme","13357-LSDO Cancer Research Replaceme",null,null,null,"AS091601248","Ben Cookson (091601248) Retail Services - Information Technology","AS091601248-Ben Cookson (091601248) Retail Services - Information Technology","Active",null,null,null,null,null,null,null,null,null,null,null,"SC6901","SC6901||1651","1651","Construction in Progress (Non-Workday Projects)",null,"All"]
[null,null,null,null,null,null,"AC00754","[ENG] International Internships","AC00754-[ENG] International Internships","Activity","FD03","Active","2025-03-17T16:11:52.563115+00:00",null,null,null,null,null,null,null,null,"13358","LSDO Exhibit Replacement","13358-LSDO Exhibit Replacement",null,null,null,"AS091888194","David Erickson (091888194) Life Sciences - Microbiology & Molecular Biology","AS091888194-David Erickson (091888194) Life Sciences - Microbiology & Molecular Biology","Active",null,null,null,null,null,null,null,null,null,null,null,"SC6901","SC6901||1700","1700","Accumulated Depreciation",null,"JE_PPE|JE_Override"]
[null,null,null,null,null,null,"AC00755","[ENG] EXPERIENTIAL LEARNING IT","AC00755-[ENG] EXPERIENTIAL LEARNING IT","Activity","FD03","Active","2025-03-17T16:11:52.563115+00:00",null,null,null,null,null,null,null,null,"13359","LSDO MMBIO Research Replacemen","13359-LSDO MMBIO Research Replacemen",null,null,null,"AS091896615","Patricia Febres Aragon (091896615) MTC Dining","AS091896615-Patricia Febres Aragon (091896615) MTC Dining","Active",null,null,null,null,null,null,null,null,null,null,null,"SC6901","SC6901||6900","6900","Equipment, Software, Library","Primary","All"]
[null,null,null,null,null,null,"AC00756","[ENG] Mechanical Engineering","AC00756-[ENG] Mechanical Engineering","Activity","FD01","Active","2025-03-17T16:11:52.563115+00:00",null,null,null,null,null,null,null,null,"13360","LSDO R.Robison Lab Replacement","13360-LSDO R.Robison Lab Replacement",null,null,null,"AS092017795","Nicole Brady (092017795) Fine Arts & Communications - School of Music","AS092017795-Nicole Brady (092017795) Fine Arts & Communications - School of Music","Active",null,null,null,null,null,null,null,null,null,null,null,"SC6901","SC6901||8000","8000","Depreciation",null,"JE_PPE|JE_Override"]
[null,null,null,null,null,null,"AC00757","[ENG] Mech Engr Compt Lab","AC00757-[ENG] Mech Engr Compt Lab","Activity","FD01","Active","2025-03-17T16:11:52.563115+00:00",null,null,null,null,null,null,null,null,"13361","LSDO K.O'Neill Lab Replacement","13361-LSDO K.O'Neill Lab Replacement",null,null,null,"AS092130398","Shawn Nevers (092130398) AVP - Dean, Clark Law School","AS092130398-Shawn Nevers (092130398) AVP - Dean, Clark Law School","Active",null,null,null,null,null,null,null,null,null,null,null,"SC6902","SC6902||1400","1400","Prepaid Expenses",null,"All"]
[null,null,null,null,null,null,"AC00758","[ENG] Spencer Magleby","AC00758-[ENG] Spencer Magleby","Activity","FD01","Active","2025-03-17T16:11:52.563115+00:00",null,null,null,null,null,null,null,null,"13362","LSDO Andean Crops Replacement","13362-LSDO Andean Crops Replacement",null,null,null,"AS092360852","Rust Tippett (092360852) Law School","AS092360852-Rust Tippett (092360852) Law School","Active",null,null,null,null,null,null,null,null,null,null,null,"SC6902","SC6902||1625","1625","Capital Equipment",null,"JE_PPE|JE_Override"]
[null,null,null,null,null,null,"AC00759","[ENG] Mechanical Engineering","AC00759-[ENG] Mechanical Engineering","Activity","FD01","Active","2025-03-17T16:11:52.563115+00:00",null,null,null,null,null,null,null,null,"13363","LSDO Environmental Toxicol Rep","13363-LSDO Environmental Toxicol Rep",null,null,null,"AS092499390","Kristi Aase (092499390) CE BYU Online","AS092499390-Kristi Aase (092499390) CE BYU Online","Active",null,null,null,null,null,null,null,null,null,null,null,"SC6902","SC6902||1650","1650","Construction in Progress",null,"JE_PPE|JE_Override"]
[null,null,null,null,null,null,"AC00760","[ENG] Am Soc of Mech Eng","AC00760-[ENG] Am Soc of Mech Eng","Activity","FD02","Active","2025-03-17T16:11:52.563115+00:00",null,null,null,null,null,null,null,null,"13400","LSPW Campus Visitor","13400-LSPW Campus Visitor",null,null,null,"AS092583590","Diljeet Taylor (092583590) Athletics - Administration","AS092583590-Diljeet Taylor (092583590) Athletics - Administration","Active",null,null,null,null,null,null,null,null,null,null,null,"SC6902","SC6902||1651","1651","Construction in Progress (Non-Workday Projects)",null,"All"]
[null,null,null,null,null,null,"AC00761","[ENG] Am Inst of Aero-Astr","AC00761-[ENG] Am Inst of Aero-Astr","Activity","FD02","Active","2025-03-17T16:11:52.563115+00:00",null,null,null,null,null,null,null,null,"13401","LSPW PWS Teach.& Resear. Labor","13401-LSPW PWS Teach.& Resear. Labor",null,null,null,"AS092942493","Quin Monson (092942493) FHSS - Political Science","AS092942493-Quin Monson (092942493) FHSS - Political Science","Active",null,null,null,null,null,null,null,null,null,null,null,"SC6902","SC6902||1700","1700","Accumulated Depreciation",null,"JE_PPE|JE_Override"]
[null,null,null,null,null,null,"AC00762","[ENG] Society of Women Engineers","AC00762-[ENG] Society of Women Engineers","Activity","FD02","Active","2025-03-17T16:11:52.563115+00:00",null,null,null,null,null,null,null,null,"13402","LSPW Microscopy Laboratory","13402-LSPW Microscopy Laboratory",null,null,null,"AS092988811","Jane Hinckley (092988811) Humanities - Comparative Arts & Letters","AS092988811-Jane Hinckley (092988811) Humanities - Comparative Arts & Letters","Active",null,null,null,null,null,null,null,null,null,null,null,"SC6902","SC6902||6900","6900","Equipment, Software, Library","Primary","All"]
[null,null,null,null,null,null,"AC00763","[ENG] Soc. of Automotive Eng. BYU","AC00763-[ENG] Soc. of Automotive Eng. BYU","Activity","FD02","Active","2025-03-17T16:11:52.563115+00:00",null,null,null,null,null,null,null,null,"13403","LSPW V-PW5V 2019 FORDSTruck/Mc","13403-LSPW V-PW5V 2019 FORDSTruck/Mc",null,null,null,"AS093236604","Melissa Newberry (093236604) MSE  - Teacher Education","AS093236604-Melissa Newberry (093236604) MSE  - Teacher Education","Active",null,null,null,null,null,null,null,null,null,null,null,"SC6902","SC6902||8000","8000","Depreciation",null,"JE_PPE|JE_Override"]
[null,null,null,null,null,null,"AC00764","[ENG] BYU Mechatronics Club","AC00764-[ENG] BYU Mechatronics Club","Activity","FD02","Active","2025-03-17T16:11:52.563115+00:00",null,null,null,null,null,null,null,null,"13404","LSPW V-PW8V 2014 GMC Sierra/PW","13404-LSPW V-PW8V 2014 GMC Sierra/PW",null,null,null,"AS093350422","Genie Lamb (093350422) Retail Services - MTC Store","AS093350422-Genie Lamb (093350422) Retail Services - MTC Store","Active",null,null,null,null,null,null,null,null,null,null,null,"SC6903","SC6903||1400","1400","Prepaid Expenses",null,"All"]
[null,null,null,null,null,null,"AC00765","[ENG] BYU Rocketry Club","AC00765-[ENG] BYU Rocketry Club","Activity","FD02","Active","2025-03-17T16:11:52.563115+00:00",null,null,null,null,null,null,null,null,"13405","LSPW V-PW9V 2013 TOY T.Truck/A","13405-LSPW V-PW9V 2013 TOY T.Truck/A",null,null,null,"AS093396688","Mike MacKay (093396688) Religious Education - Church History & Doctrine","AS093396688-Mike MacKay (093396688) Religious Education - Church History & Doctrine","Active",null,null,null,null,null,null,null,null,null,null,null,"SC6903","SC6903||1625","1625","Capital Equipment",null,"JE_PPE|JE_Override"]
[null,null,null,null,null,null,"AC00766","[ENG] BYU Drone Team","AC00766-[ENG] BYU Drone Team","Activity","FD02","Active","2025-03-17T16:11:52.563115+00:00",null,null,null,null,null,null,null,null,"13406","LSPW V-PW28 2016 ECHO TRLR/McM","13406-LSPW V-PW28 2016 ECHO TRLR/McM",null,null,null,"AS093486263","LeAnna Florence Willmore (093486263) Fine Arts & Communications - School of Music","AS093486263-LeAnna Florence Willmore (093486263) Fine Arts & Communications - School of Music","Active",null,null,null,null,null,null,null,null,null,null,null,"SC6903","SC6903||1650","1650","Construction in Progress",null,"JE_PPE|JE_Override"]
[null,null,null,null,null,null,"AC00767","[ENG] BYU Aeronautics Club","AC00767-[ENG] BYU Aeronautics Club","Activity","FD02","Active","2025-03-17T16:11:52.563115+00:00",null,null,null,null,null,null,null,null,"13407","LSPW V-PW34VV 2021 TOYTTruck/M","13407-LSPW V-PW34VV 2021 TOYTTruck/M",null,null,null,"AS093516232","Kimberlee Quinn (093516232) CE FSY West","AS093516232-Kimberlee Quinn (093516232) CE FSY West","Active",null,null,null,null,null,null,null,null,null,null,null,"SC6903","SC6903||1651","1651","Construction in Progress (Non-Workday Projects)",null,"All"]
[null,null,null,null,null,null,"AC00768","[ENG] OMEGA","AC00768-[ENG] OMEGA","Activity","FD02","Active","2025-03-17T16:11:52.563115+00:00",null,null,null,null,null,null,null,null,"13408","LSPW V-PW42 2013 Polaris ATV/A","13408-LSPW V-PW42 2013 Polaris ATV/A",null,null,null,"AS093594587","Chad Nielson (093594587) PF Flooring & Upholstery Shop","AS093594587-Chad Nielson (093594587) PF Flooring & Upholstery Shop","Active",null,null,null,null,null,null,null,null,null,null,null,"SC6903","SC6903||1700","1700","Accumulated Depreciation",null,"JE_PPE|JE_Override"]
[null,null,null,null,null,null,"AC00769","[ENG] BYU Supermileage Club","AC00769-[ENG] BYU Supermileage Club","Activity","FD02","Active","2025-03-17T16:11:52.563115+00:00",null,null,null,null,null,null,null,null,"13409","LSPW V-PW44 2018 HOND ATV/McMi","13409-LSPW V-PW44 2018 HOND ATV/McMi",null,null,null,"AS093654513","Bob Ridge (093654513) FHSS - Psychology","AS093654513-Bob Ridge (093654513) FHSS - Psychology","Active",null,null,null,null,null,null,null,null,null,null,null,"SC6903","SC6903||6900","6900","Equipment, Software, Library","Primary","All"]
[null,null,null,null,null,null,"AC00770","[ENG] BYU Engineering Design","AC00770-[ENG] BYU Engineering Design","Activity","FD02","Active","2025-03-17T16:11:52.563115+00:00",null,null,null,null,null,null,null,null,"13410","LSPW V-PW45 2018 HOND ATV/McMi","13410-LSPW V-PW45 2018 HOND ATV/McMi",null,null,null,"AS093734228","Randy Corbett (093734228) Fine Arts & Communications - School of Music","AS093734228-Randy Corbett (093734228) Fine Arts & Communications - School of Music","Active",null,null,null,null,null,null,null,null,null,null,null,"SC6903","SC6903||8000","8000","Depreciation",null,"JE_PPE|JE_Override"]
[null,null,null,null,null,null,"AC00771","[ENG] BYU Wind Energy Club","AC00771-[ENG] BYU Wind Energy Club","Activity","FD02","Active","2025-03-17T16:11:52.563115+00:00",null,null,null,null,null,null,null,null,"13411","LSPW PWS 480 Env Capstone: DA&","13411-LSPW PWS 480 Env Capstone: DA&",null,null,null,"AS093794797","Natalie Broekman (093794797) Athletics - Gymnastics","AS093794797-Natalie Broekman (093794797) Athletics - Gymnastics","Active",null,null,null,null,null,null,null,null,null,null,null,"SC6904","SC6904||1400","1400","Prepaid Expenses",null,"All"]
[null,null,null,null,null,null,"AC00772","[ENG] Biomedical Engineering Club","AC00772-[ENG] Biomedical Engineering Club","Activity","FD02","Active","2025-03-17T16:11:52.563115+00:00",null,null,null,null,null,null,null,null,"13412","LSPW De Santiago Lazalde, Josh","13412-LSPW De Santiago Lazalde, Josh",null,null,null,"AS094053349","Kaika Cole (094053349) Fine Arts & Communications - Dance","AS094053349-Kaika Cole (094053349) Fine Arts & Communications - Dance","Active",null,null,null,null,null,null,null,null,null,null,null,"SC6904","SC6904||1625","1625","Capital Equipment",null,"JE_PPE|JE_Override"]
[null,null,null,null,null,null,"AC00773","[ENG] Mech Engr Equip Repl","AC00773-[ENG] Mech Engr Equip Repl","Activity","FD03","Active","2025-03-17T16:11:52.563115+00:00",null,null,null,null,null,null,null,null,"13413","LSPW Vawdrey, Wendy","13413-LSPW Vawdrey, Wendy",null,null,null,"AS094249479","Shaun Sessions (094249479) OIT Resource - CES Network Center (CNC )- Engineering","AS094249479-Shaun Sessions (094249479) OIT Resource - CES Network Center (CNC )- Engineering","Active",null,null,null,null,null,null,null,null,null,null,null,"SC6904","SC6904||1650","1650","Construction in Progress",null,"JE_PPE|JE_Override"]
[null,null,null,null,null,null,"AC00774","[ENG] LL Howell-Univ Professorship","AC00774-[ENG] LL Howell-Univ Professorship","Activity","FD03","Active","2025-03-17T16:11:52.563115+00:00",null,null,null,null,null,null,null,null,"13414","LSPW Hall, Brianna Wells","13414-LSPW Hall, Brianna Wells",null,null,null,"AS094297332","Melanie Cox (094297332) Religious Education - Church History & Doctrine","AS094297332-Melanie Cox (094297332) Religious Education - Church History & Doctrine","Active",null,null,null,null,null,null,null,null,null,null,null,"SC6904","SC6904||1651","1651","Construction in Progress (Non-Workday Projects)",null,"All"]
[null,null,null,null,null,null,"AC00775","[ENG] Heat Transfer","AC00775-[ENG] Heat Transfer","Activity","FD03","Active","2025-03-17T16:11:52.563115+00:00",null,null,null,null,null,null,null,null,"13415","LSPW Tuckett/Wges/Experiential","13415-LSPW Tuckett/Wges/Experiential",null,null,null,"AS094488103","Jason Douglas (094488103) OIT Leadership - CES Architecture","AS094488103-Jason Douglas (094488103) OIT Leadership - CES Architecture","Active",null,null,null,null,null,null,null,null,null,null,null,"SC6904","SC6904||1700","1700","Accumulated Depreciation",null,"JE_PPE|JE_Override"]
[null,null,null,null,null,null,"AC00776","[ENG] Magleby Royalties","AC00776-[ENG] Magleby Royalties","Activity","FD03","Active","2025-03-17T16:11:52.563115+00:00",null,null,null,null,null,null,null,null,"13416","LSPW Vermeulen/Wges/Experienti","13416-LSPW Vermeulen/Wges/Experienti",null,null,null,"AS094493845","Chad Turley (094493845) CE Online Learning","AS094493845-Chad Turley (094493845) CE Online Learning","Active",null,null,null,null,null,null,null,null,null,null,null,"SC6904","SC6904||6900","6900","Equipment, Software, Library","Primary","All"]
[null,null,null,null,null,null,"AC00777","[ENG] Howell Study","AC00777-[ENG] Howell Study","Activity","FD03","Active","2025-03-17T16:11:52.563115+00:00",null,null,null,null,null,null,null,null,"13417","LSPW Calder, Bridget","13417-LSPW Calder, Bridget",null,null,null,"AS094506491","Carrie Sandholtz (094506491) Humanities - Spanish & Portuguese","AS094506491-Carrie Sandholtz (094506491) Humanities - Spanish & Portuguese","Active",null,null,null,null,null,null,null,null,null,null,null,"SC6904","SC6904||8000","8000","Depreciation",null,"JE_PPE|JE_Override"]
[null,null,null,null,null,null,"AC00778","[ENG] CD Sorensen-Duffin Fellowship","AC00778-[ENG] CD Sorensen-Duffin Fellowship","Activity","FD03","Active","2025-03-17T16:11:52.563115+00:00",null,null,null,null,null,null,null,null,"13418","LSPW Featherstone, Janilyn","13418-LSPW Featherstone, Janilyn",null,null,null,"AS094633696","Michael Pease (094633696) Student Wellness","AS094633696-Michael Pease (094633696) Student Wellness","Active",null,null,null,null,null,null,null,null,null,null,null,"SC6905","SC6905||1400","1400","Prepaid Expenses",null,"All"]
[null,null,null,null,null,null,"AC00779","[ENG] Batch Melter Modeling Sys - BW","AC00779-[ENG] Batch Melter Modeling Sys - BW","Activity","FD03","Active","2025-03-17T16:11:52.563115+00:00",null,null,null,null,null,null,null,null,"13419","LSPW Wilcox, Susan","13419-LSPW Wilcox, Susan",null,null,null,"AS094715756","Shannon Mahana (094715756) Food To-Go","AS094715756-Shannon Mahana (094715756) Food To-Go","Active",null,null,null,null,null,null,null,null,null,null,null,"SC6905","SC6905||1625","1625","Capital Equipment",null,"JE_PPE|JE_Override"]
[null,null,null,null,null,null,"AC00780","[ENG] DMAC R&D","AC00780-[ENG] DMAC R&D","Activity","FD03","Active","2025-03-17T16:11:52.563115+00:00",null,null,null,null,null,null,null,null,"13420","LSPW V-PW26 2020 A-FB TRLR/McM","13420-LSPW V-PW26 2020 A-FB TRLR/McM",null,null,null,"AS095019039","Derryck Dunn (095019039) Retail Services - Product Acquisition","AS095019039-Derryck Dunn (095019039) Retail Services - Product Acquisition","Active",null,null,null,null,null,null,null,null,null,null,null,"SC6905","SC6905||1650","1650","Construction in Progress",null,"JE_PPE|JE_Override"]
[null,null,null,null,null,null,"AC00781","[ENG] AFOSR UAV Carryover","AC00781-[ENG] AFOSR UAV Carryover","Activity","FD03","Active","2025-03-17T16:11:52.563115+00:00",null,null,null,null,null,null,null,null,"13421","LSPW Kent, Scott Dunlop","13421-LSPW Kent, Scott Dunlop",null,null,null,"AS095061117","Laura Padilla-Walker (095061117) Academic Vice President","AS095061117-Laura Padilla-Walker (095061117) Academic Vice President","Active",null,null,null,null,null,null,null,null,null,null,null,"SC6905","SC6905||1651","1651","Construction in Progress (Non-Workday Projects)",null,"All"]
[null,null,null,null,null,null,"AC00782","[ENG] Mattson Royalty Acct","AC00782-[ENG] Mattson Royalty Acct","Activity","FD03","Active","2025-03-17T16:11:52.563115+00:00",null,null,null,null,null,null,null,null,"13422","LSPW V-PW65 2019 YAMA GATV/McM","13422-LSPW V-PW65 2019 YAMA GATV/McM",null,null,null,"AS095115976","Jason Sorensen (095115976) CMS - Chemistry and Biochemistry","AS095115976-Jason Sorensen (095115976) CMS - Chemistry and Biochemistry","Active",null,null,null,null,null,null,null,null,null,null,null,"SC6905","SC6905||1700","1700","Accumulated Depreciation",null,"JE_PPE|JE_Override"]
[null,null,null,null,null,null,"AC00783","[ENG] C-UAS Membership Carryover","AC00783-[ENG] C-UAS Membership Carryover","Activity","FD03","Active","2025-03-17T16:11:52.563115+00:00",null,null,null,null,null,null,null,null,"13423","LSPW V-PW35 2005 GMC 8 Van/Abb","13423-LSPW V-PW35 2005 GMC 8 Van/Abb",null,null,null,"AS095284696","Cori Reynolds (095284696) AVP - Dean, College of Nursing","AS095284696-Cori Reynolds (095284696) AVP - Dean, College of Nursing","Active",null,null,null,null,null,null,null,null,null,null,null,"SC6905","SC6905||6900","6900","Equipment, Software, Library","Primary","All"]
[null,null,null,null,null,null,"AC00784","[ENG] T Munro Grad Mentoring Grant","AC00784-[ENG] T Munro Grad Mentoring Grant","Activity","FD03","Active","2025-03-17T16:11:52.563115+00:00",null,null,null,null,null,null,null,null,"13424","LSPW DB31 1979 Boat/Aanderud","13424-LSPW DB31 1979 Boat/Aanderud",null,null,null,"AS095380991","Natalie H Miles (095380991) Brand & Creative","AS095380991-Natalie H Miles (095380991) Brand & Creative","Active",null,null,null,null,null,null,null,null,null,null,null,"SC6905","SC6905||8000","8000","Depreciation",null,"JE_PPE|JE_Override"]
[null,null,null,null,null,null,"AC00785","[ENG] M Colton Grad Mentoring Grant","AC00785-[ENG] M Colton Grad Mentoring Grant","Activity","FD03","Active","2025-03-17T16:11:52.563115+00:00",null,null,null,null,null,null,null,null,"13425","LSPW Charles Redd Center","13425-LSPW Charles Redd Center",null,null,null,"AS095433130","Christopher Reeves (095433130) PMPC Administration","AS095433130-Christopher Reeves (095433130) PMPC Administration","Active",null,null,null,null,null,null,null,null,null,null,null,"SC6906","SC6906||1400","1400","Prepaid Expenses",null,"All"]
[null,null,null,null,null,null,"AC00786","[ENG] Design Collective Operation","AC00786-[ENG] Design Collective Operation","Activity","FD03","Active","2025-03-17T16:11:52.563115+00:00",null,null,null,null,null,null,null,null,"13426","LSPW V-PW21 2019 ECHO TRLR/Hop","13426-LSPW V-PW21 2019 ECHO TRLR/Hop",null,null,null,"AS095509230","Michael Larson (095509230) FHSS - Psychology","AS095509230-Michael Larson (095509230) FHSS - Psychology","Active",null,null,null,null,null,null,null,null,null,null,null,"SC6906","SC6906||1625","1625","Capital Equipment",null,"JE_PPE|JE_Override"]
[null,null,null,null,null,null,"AC00787","[ENG] A Bowden GMA","AC00787-[ENG] A Bowden GMA","Activity","FD03","Active","2025-03-17T16:11:52.563115+00:00",null,null,null,null,null,null,null,null,"13427","LSPW V-PW75 2018 SRTC/Larsen","13427-LSPW V-PW75 2018 SRTC/Larsen",null,null,null,"AS095564660","Brandon Rogers (095564660) Humanities - Spanish & Portuguese","AS095564660-Brandon Rogers (095564660) Humanities - Spanish & Portuguese","Active",null,null,null,null,null,null,null,null,null,null,null,"SC6906","SC6906||1650","1650","Construction in Progress",null,"JE_PPE|JE_Override"]
[null,null,null,null,null,null,"AC00788","[ENG] D Cook Graduate Studies","AC00788-[ENG] D Cook Graduate Studies","Activity","FD03","Active","2025-03-17T16:11:52.563115+00:00",null,null,null,null,null,null,null,null,"13428","LSPW V-PW18 2018 SRTC/Larsen","13428-LSPW V-PW18 2018 SRTC/Larsen",null,null,null,"AS095654939","David Moore (095654939) Academic Vice President","AS095654939-David Moore (095654939) Academic Vice President","Active",null,null,null,null,null,null,null,null,null,null,null,"SC6906","SC6906||1651","1651","Construction in Progress (Non-Workday Projects)",null,"All"]
[null,null,null,null,null,null,"AC00789","[ENG] J Blotter Techprep  Grant","AC00789-[ENG] J Blotter Techprep  Grant","Activity","FD03","Active","2025-03-17T16:11:52.563115+00:00",null,null,null,null,null,null,null,null,"13429","LSPW V-PW93 2016 UTV/Hansen N.","13429-LSPW V-PW93 2016 UTV/Hansen N.",null,null,null,"AS095690725","Christian McClellan (095690725) Student Wellness","AS095690725-Christian McClellan (095690725) Student Wellness","Active",null,null,null,null,null,null,null,null,null,null,null,"SC6906","SC6906||1700","1700","Accumulated Depreciation",null,"JE_PPE|JE_Override"]
[null,null,null,null,null,null,"AC00790","[ENG] J Blotter Grad Mentoring Grant","AC00790-[ENG] J Blotter Grad Mentoring Grant","Activity","FD03","Active","2025-03-17T16:11:52.563115+00:00",null,null,null,null,null,null,null,null,"13430","LSPW PWS 168 Personal Genomics","13430-LSPW PWS 168 Personal Genomics",null,null,null,"AS095763998","Caroline Potter (095763998) Helaman Halls","AS095763998-Caroline Potter (095763998) Helaman Halls","Active",null,null,null,null,null,null,null,null,null,null,null,"SC6906","SC6906||6900","6900","Equipment, Software, Library","Primary","All"]
[null,null,null,null,null,null,"AC00791","[ENG] J Blotter-IDR Grant","AC00791-[ENG] J Blotter-IDR Grant","Activity","FD03","Active","2025-03-17T16:11:52.563115+00:00",null,null,null,null,null,null,null,null,"13431","LSPW PWS 335 Comp. Animal Nutr","13431-LSPW PWS 335 Comp. Animal Nutr",null,null,null,"AS095798542","Kevin Paxton (095798542) Risk Management and Safety","AS095798542-Kevin Paxton (095798542) Risk Management and Safety","Active",null,null,null,null,null,null,null,null,null,null,null,"SC6906","SC6906||8000","8000","Depreciation",null,"JE_PPE|JE_Override"]
[null,null,null,null,null,null,"AC00792","[ENG] Capstone Surplus","AC00792-[ENG] Capstone Surplus","Activity","FD03","Active","2025-03-17T16:11:52.563115+00:00",null,null,null,null,null,null,null,null,"13432","LSPW PWS 155 Careers in Env. S","13432-LSPW PWS 155 Careers in Env. S",null,null,null,"AS095811804","Christian Tupou (095811804) Athletics - Football Sport Performance","AS095811804-Christian Tupou (095811804) Athletics - Football Sport Performance","Active",null,null,null,null,null,null,null,null,null,null,null,"SC6907","SC6907||1400","1400","Prepaid Expenses",null,"All"]
[null,null,null,null,null,null,"AC00793","[ENG] BYU Propulsion Research Team","AC00793-[ENG] BYU Propulsion Research Team","Activity","FD03","Active","2025-03-17T16:11:52.563115+00:00",null,null,null,null,null,null,null,null,"13433","LSPW PWS 481 S.Studies/Land.Ma","13433-LSPW PWS 481 S.Studies/Land.Ma",null,null,null,"AS095964435","Tuckett Slade (095964435) Athletics - Baseball","AS095964435-Tuckett Slade (095964435) Athletics - Baseball","Active",null,null,null,null,null,null,null,null,null,null,null,"SC6907","SC6907||1625","1625","Capital Equipment",null,"JE_PPE|JE_Override"]
[null,null,null,null,null,null,"AC00794","[ENG] Student  Leadership Grant","AC00794-[ENG] Student  Leadership Grant","Activity","FD03","Active","2025-03-17T16:11:52.563115+00:00",null,null,null,null,null,null,null,null,"13434","LSPW Nelson, Shannon","13434-LSPW Nelson, Shannon",null,null,null,"AS096148278","Vianey Villamizar Gonzalez (096148278) CMS - Mathematics","AS096148278-Vianey Villamizar Gonzalez (096148278) CMS - Mathematics","Active",null,null,null,null,null,null,null,null,null,null,null,"SC6907","SC6907||1650","1650","Construction in Progress",null,"JE_PPE|JE_Override"]
[null,null,null,null,null,null,"AC00795","[ENG] SAE Baja Competition","AC00795-[ENG] SAE Baja Competition","Activity","FD03","Active","2025-03-17T16:11:52.563115+00:00",null,null,null,null,null,null,null,null,"13435","LSPW HC Golf Extrav.&Career Fa","13435-LSPW HC Golf Extrav.&Career Fa",null,null,null,"AS096234010","Eric Smith (096234010) OIT Portfolio - Business, Finance, & HR","AS096234010-Eric Smith (096234010) OIT Portfolio - Business, Finance, & HR","Active",null,null,null,null,null,null,null,null,null,null,null,"SC6907","SC6907||1651","1651","Construction in Progress (Non-Workday Projects)",null,"All"]
[null,null,null,null,null,null,"AC00796","[ENG] Join Plastics - Nelson","AC00796-[ENG] Join Plastics - Nelson","Activity","FD03","Active","2025-03-17T16:11:52.563115+00:00",null,null,null,null,null,null,null,null,"13436","LSPW PWS 315 Conflict Resol. M","13436-LSPW PWS 315 Conflict Resol. M",null,null,null,"AS096289421","Mike Hill (096289421) Lee Library - R&L Library Instruction","AS096289421-Mike Hill (096289421) Lee Library - R&L Library Instruction","Active",null,null,null,null,null,null,null,null,null,null,null,"SC6907","SC6907||1700","1700","Accumulated Depreciation",null,"JE_PPE|JE_Override"]
[null,null,null,null,null,null,"AC00798","[ENG] EXPERIENTIAL LEARNING ME","AC00798-[ENG] EXPERIENTIAL LEARNING ME","Activity","FD03","Active","2025-03-17T16:11:52.563115+00:00",null,null,null,null,null,null,null,null,"13437","LSPW PWS 405 Envir. Chemistry","13437-LSPW PWS 405 Envir. Chemistry",null,null,null,"AS096380687","Shannon Brodie (096380687) Heritage Halls","AS096380687-Shannon Brodie (096380687) Heritage Halls","Active",null,null,null,null,null,null,null,null,null,null,null,"SC6907","SC6907||6900","6900","Equipment, Software, Library","Primary","All"]
[null,null,null,null,null,null,"AC00799","[ENG] Mentoring Grant D Maynes","AC00799-[ENG] Mentoring Grant D Maynes","Activity","FD03","Active","2025-03-17T16:11:52.563115+00:00",null,null,null,null,null,null,null,null,"13438","LSPW PWS 406 Envir. Chemistry","13438-LSPW PWS 406 Envir. Chemistry",null,null,null,"AS096543172","Mark Davies (096543172) Dining Services","AS096543172-Mark Davies (096543172) Dining Services","Active",null,null,null,null,null,null,null,null,null,null,null,"SC6907","SC6907||8000","8000","Depreciation",null,"JE_PPE|JE_Override"]
[null,null,null,null,null,null,"AC00800","[ENG] Faculty Mentoring 1","AC00800-[ENG] Faculty Mentoring 1","Activity","FD03","Active","2025-03-17T16:11:52.563115+00:00",null,null,null,null,null,null,null,null,"13439","LSPW PWS 513 Envir. Field Intr","13439-LSPW PWS 513 Envir. Field Intr",null,null,null,"AS097060501","Wendy Birmingham (097060501) FHSS - Dean's Office","AS097060501-Wendy Birmingham (097060501) FHSS - Dean's Office","Active",null,null,null,null,null,null,null,null,null,null,null,"SC6908","SC6908||1400","1400","Prepaid Expenses",null,"All"]
[null,null,null,null,null,null,"AC00801","[ENG] Faculty Mentoring 2","AC00801-[ENG] Faculty Mentoring 2","Activity","FD03","Active","2025-03-17T16:11:52.563115+00:00",null,null,null,null,null,null,null,null,"13440","LSPW PWS 586 Plant Cell Biolog","13440-LSPW PWS 586 Plant Cell Biolog",null,null,null,"AS097130319","Stephen Bay (097130319) Humanities - Comparative Arts & Letters","AS097130319-Stephen Bay (097130319) Humanities - Comparative Arts & Letters","Active",null,null,null,null,null,null,null,null,null,null,null,"SC6908","SC6908||6900","6900","Equipment, Software, Library","Primary","All"]
[null,null,null,null,null,null,"AC00802","[ENG] Faculty Mentoring 3","AC00802-[ENG] Faculty Mentoring 3","Activity","FD03","Active","2025-03-17T16:11:52.563115+00:00",null,null,null,null,null,null,null,null,"13441","LSPW PWS 634 Analysis of Popul","13441-LSPW PWS 634 Analysis of Popul",null,null,null,"AS097295280","Josh Stanfield (097295280) Risk Management & Safety - Environmental Health & Safety","AS097295280-Josh Stanfield (097295280) Risk Management & Safety - Environmental Health & Safety","Active",null,null,null,null,null,null,null,null,null,null,null,"SC6909","SC6909||1400","1400","Prepaid Expenses",null,"All"]
[null,null,null,null,null,null,"AC00803","[ENG] Manufacturing Engineering","AC00803-[ENG] Manufacturing Engineering","Activity","FD01","Active","2025-03-17T16:11:52.563115+00:00",null,null,null,null,null,null,null,null,"13442","LSPW PWS 660 Envir. Site Evalu","13442-LSPW PWS 660 Envir. Site Evalu",null,null,null,"AS097305350","Sergei Burov (097305350) CE Software Development","AS097305350-Sergei Burov (097305350) CE Software Development","Active",null,null,null,null,null,null,null,null,null,null,null,"SC6909","SC6909||1625","1625","Capital Equipment",null,"JE_PPE|JE_Override"]
[null,null,null,null,null,null,"AC00804","[ENG] Brent Strong","AC00804-[ENG] Brent Strong","Activity","FD01","Active","2025-03-17T16:11:52.563115+00:00",null,null,null,null,null,null,null,null,"13443","LSPW PWS 588/469 Metagenomics","13443-LSPW PWS 588/469 Metagenomics",null,null,null,"AS097527377","Lisa Hale (097527377) Humanities - English","AS097527377-Lisa Hale (097527377) Humanities - English","Active",null,null,null,null,null,null,null,null,null,null,null,"SC6909","SC6909||1700","1700","Accumulated Depreciation",null,"JE_PPE|JE_Override"]
[null,null,null,null,null,null,"AC00805","[ENG] Charles Harrell","AC00805-[ENG] Charles Harrell","Activity","FD01","Active","2025-03-17T16:11:52.563115+00:00",null,null,null,null,null,null,null,null,"13444","LSPW PWS 470 Genomic Analysis","13444-LSPW PWS 470 Genomic Analysis",null,null,null,"AS097734838","Alexandre Campos (097734838) PF Building Operations","AS097734838-Alexandre Campos (097734838) PF Building Operations","Active",null,null,null,null,null,null,null,null,null,null,null,"SC6909","SC6909||6900","6900","Equipment, Software, Library","Primary","All"]
[null,null,null,null,null,null,"AC00806","[ENG] Venture Factory","AC00806-[ENG] Venture Factory","Activity","FD02","Active","2025-03-17T16:11:52.563115+00:00",null,null,null,null,null,null,null,null,"13445","LSPW PWS 553 Restoration Ecolo","13445-LSPW PWS 553 Restoration Ecolo",null,null,null,"AS097770556","Matt Curtis (097770556) CE Marketing & Outreach","AS097770556-Matt Curtis (097770556) CE Marketing & Outreach","Active",null,null,null,null,null,null,null,null,null,null,null,"SC6909","SC6909||8000","8000","Depreciation",null,"JE_PPE|JE_Override"]
[null,null,null,null,null,null,"AC00807","[ENG] SAMPE-BYU St Chpt","AC00807-[ENG] SAMPE-BYU St Chpt","Activity","FD02","Active","2025-03-17T16:11:52.563115+00:00",null,null,null,null,null,null,null,null,"13447","LSPW V-PW63 2019 Honda ATV/Rob","13447-LSPW V-PW63 2019 Honda ATV/Rob",null,null,null,"AS097944718","Jon Hardy (097944718) Treasury Services","AS097944718-Jon Hardy (097944718) Treasury Services","Active",null,null,null,null,null,null,null,null,null,null,null,"SC6910","SC6910||1400","1400","Prepaid Expenses",null,"All"]
[null,null,null,null,null,null,"AC00808","[ENG] Society of Mfg Engineers","AC00808-[ENG] Society of Mfg Engineers","Activity","FD02","Active","2025-03-17T16:11:52.563115+00:00",null,null,null,null,null,null,null,null,"13448","LSPW V-PW13 2014 F Trailer/Lar","13448-LSPW V-PW13 2014 F Trailer/Lar",null,null,null,"AS097983968","McKenzie Rees (097983968) MSB - Management","AS097983968-McKenzie Rees (097983968) MSB - Management","Active",null,null,null,null,null,null,null,null,null,null,null,"SC6910","SC6910||1625","1625","Capital Equipment",null,"JE_PPE|JE_Override"]
[null,null,null,null,null,null,"AC00809","[ENG] Rapid Prototype Machine","AC00809-[ENG] Rapid Prototype Machine","Activity","FD02","Active","2025-03-17T16:11:52.563115+00:00",null,null,null,null,null,null,null,null,"13449","LSPW Alcaligenes Project/Aande","13449-LSPW Alcaligenes Project/Aande",null,null,null,"AS098317976","Anton Bowden (098317976) College of Engineering - Mechanical Engineering","AS098317976-Anton Bowden (098317976) College of Engineering - Mechanical Engineering","Active",null,null,null,null,null,null,null,null,null,null,null,"SC6910","SC6910||1650","1650","Construction in Progress",null,"JE_PPE|JE_Override"]
[null,null,null,null,null,null,"AC00810","[ENG] Waterjet Machine","AC00810-[ENG] Waterjet Machine","Activity","FD02","Active","2025-03-17T16:11:52.563115+00:00",null,null,null,null,null,null,null,null,"13450","LSPW Ranjana Pal","13450-LSPW Ranjana Pal",null,null,null,"AS098330149","David Morris (098330149) Regulatory Accounting","AS098330149-David Morris (098330149) Regulatory Accounting","Active",null,null,null,null,null,null,null,null,null,null,null,"SC6910","SC6910||1651","1651","Construction in Progress (Non-Workday Projects)",null,"All"]
[null,null,null,null,null,null,"AC00811","[ENG] BYU Women in Manufacturing","AC00811-[ENG] BYU Women in Manufacturing","Activity","FD02","Active","2025-03-17T16:11:52.563115+00:00",null,null,null,null,null,null,null,null,"13451","LSPW V-PW22 2019SnakeRTrail/Al","13451-LSPW V-PW22 2019SnakeRTrail/Al",null,null,null,"AS098407041","Pania Sagapolutele (098407041) CE FSY Travel","AS098407041-Pania Sagapolutele (098407041) CE FSY Travel","Active",null,null,null,null,null,null,null,null,null,null,null,"SC6910","SC6910||1700","1700","Accumulated Depreciation",null,"JE_PPE|JE_Override"]
[null,null,null,null,null,null,"AC00812","[ENG] Strong Residual","AC00812-[ENG] Strong Residual","Activity","FD03","Active","2025-03-17T16:11:52.563115+00:00",null,null,null,null,null,null,null,null,"13452","LSPW V-PW25 2019SnakeRTrailer/","13452-LSPW V-PW25 2019SnakeRTrailer/",null,null,null,"AS098504004","Taylor Wells (098504004) MSB - Information Systems","AS098504004-Taylor Wells (098504004) MSB - Information Systems","Active",null,null,null,null,null,null,null,null,null,null,null,"SC6910","SC6910||6900","6900","Equipment, Software, Library","Primary","All"]
[null,null,null,null,null,null,"AC00813","[ENG] Development Research","AC00813-[ENG] Development Research","Activity","FD03","Active","2025-03-17T16:11:52.563115+00:00",null,null,null,null,null,null,null,null,"13453","LSPW V-PW 1 2017 TOYT T.Truck/","13453-LSPW V-PW 1 2017 TOYT T.Truck/",null,null,null,"AS098635396","David Robertson (098635396) CE Software Development","AS098635396-David Robertson (098635396) CE Software Development","Active",null,null,null,null,null,null,null,null,null,null,null,"SC6910","SC6910||8000","8000","Depreciation",null,"JE_PPE|JE_Override"]
[null,null,null,null,null,null,"AC00814","[ENG] Residual-Cadsimulati","AC00814-[ENG] Residual-Cadsimulati","Activity","FD03","Active","2025-03-17T16:11:52.563115+00:00",null,null,null,null,null,null,null,null,"13454","LSPW V-PW2V 2021TOYT TRUCK/DEP","13454-LSPW V-PW2V 2021TOYT TRUCK/DEP",null,null,null,"AS098686472","Charles Tuua (098686472) MTC Dining","AS098686472-Charles Tuua (098686472) MTC Dining","Active",null,null,null,null,null,null,null,null,null,null,null,"SC6911","SC6911||1400","1400","Prepaid Expenses",null,"All"]
[null,null,null,null,null,null,"AC00815","[ENG] T Nelson-Contract Funds","AC00815-[ENG] T Nelson-Contract Funds","Activity","FD03","Active","2025-03-17T16:11:52.563115+00:00",null,null,null,null,null,null,null,null,"13455","LSPW V-PW2V 2017 TOYT.PTruck/P","13455-LSPW V-PW2V 2017 TOYT.PTruck/P",null,null,null,"AS098946008","Spencer Waddell (098946008) Fine Arts & Communications - Dance","AS098946008-Spencer Waddell (098946008) Fine Arts & Communications - Dance","Active",null,null,null,null,null,null,null,null,null,null,null,"SC6911","SC6911||1625","1625","Capital Equipment",null,"JE_PPE|JE_Override"]
[null,null,null,null,null,null,"AC00816","[ENG] AB Strong-GE Professorship","AC00816-[ENG] AB Strong-GE Professorship","Activity","FD03","Active","2025-03-17T16:11:52.563115+00:00",null,null,null,null,null,null,null,null,"13456","LSPW V-PW4V 2016 TOYT T.Truck/","13456-LSPW V-PW4V 2016 TOYT T.Truck/",null,null,null,"AS098989264","Brian Santiago (098989264) Advance VP - Director, Athletics","AS098989264-Brian Santiago (098989264) Advance VP - Director, Athletics","Active",null,null,null,null,null,null,null,null,null,null,null,"SC6911","SC6911||1700","1700","Accumulated Depreciation",null,"JE_PPE|JE_Override"]
[null,null,null,null,null,null,"AC00818","[ENG] EXPERIENTIAL LEARNING MET","AC00818-[ENG] EXPERIENTIAL LEARNING MET","Activity","FD03","Active","2025-03-17T16:11:52.563115+00:00",null,null,null,null,null,null,null,null,"13457","LSPW V-PW6V 2016 TOYT TC Truck","13457-LSPW V-PW6V 2016 TOYT TC Truck",null,null,null,"AS099054981","Marin Barney (099054981) Marketing and Production - Marketing Services","AS099054981-Marin Barney (099054981) Marketing and Production - Marketing Services","Active",null,null,null,null,null,null,null,null,null,null,null,"SC6911","SC6911||6900","6900","Equipment, Software, Library","Primary","All"]
[null,null,null,null,null,null,"AC00819","[HUM] Research Support","AC00819-[HUM] Research Support","Activity","FD01","Active","2025-03-17T16:11:52.563115+00:00",null,null,null,null,null,null,null,null,"13458","LSPW V-PW5V 2017 FORD Truck/La","13458-LSPW V-PW5V 2017 FORD Truck/La",null,null,null,"AS099166466","Lauryn Wilde (099166466) Humanities WordCruncher Office","AS099166466-Lauryn Wilde (099166466) Humanities WordCruncher Office","Active",null,null,null,null,null,null,null,null,null,null,null,"SC6911","SC6911||8000","8000","Depreciation",null,"JE_PPE|JE_Override"]
[null,null,null,null,null,null,"AC00820","[HUM] Humanities DMAC","AC00820-[HUM] Humanities DMAC","Activity","FD01","Active","2025-03-17T16:11:52.563115+00:00",null,null,null,null,null,null,null,null,"13459","LSPW V-PW7V 2017 TOYTTruck/St","13459-LSPW V-PW7V 2017 TOYTTruck/St",null,null,null,"AS099403160","Blaine Winters (099403160) AVP - Dean, College of Nursing","AS099403160-Blaine Winters (099403160) AVP - Dean, College of Nursing","Active",null,null,null,null,null,null,null,null,null,null,null,"SC6912","SC6912||1400","1400","Prepaid Expenses",null,"All"]
[null,null,null,null,null,null,"AC00821","[HUM] International Cinema","AC00821-[HUM] International Cinema","Activity","FD01","Active","2025-03-17T16:11:52.563115+00:00",null,null,null,null,null,null,null,null,"13460","LSPW V-PW9 2018 TOYT T.Truck/A","13460-LSPW V-PW9 2018 TOYT T.Truck/A",null,null,null,"AS099746864","Garrett Boden (099746864) Lee Library - R&L Library Instruction","AS099746864-Garrett Boden (099746864) Lee Library - R&L Library Instruction","Active",null,null,null,null,null,null,null,null,null,null,null,"SC6912","SC6912||6900","6900","Equipment, Software, Library","Primary","All"]
[null,null,null,null,null,null,"AC00822","[HUM] Foreign Language Teacher Summer Institute","AC00822-[HUM] Foreign Language Teacher Summer Institute","Activity","FD01","Active","2025-03-17T16:11:52.563115+00:00",null,null,null,null,null,null,null,null,"13461","LSPW V-PW4V 2018 TOYT T.Truck/","13461-LSPW V-PW4V 2018 TOYT T.Truck/",null,null,null,"AS099753917","Yina Patterson (099753917) Humanities - Asian & Near Eastern Languages","AS099753917-Yina Patterson (099753917) Humanities - Asian & Near Eastern Languages","Active",null,null,null,null,null,null,null,null,null,null,null,"SC6913","SC6913||1400","1400","Prepaid Expenses",null,"All"]
[null,null,null,null,null,null,"AC00824","[HUM] Humanities Copy Machines","AC00824-[HUM] Humanities Copy Machines","Activity","FD02","Active","2025-03-17T16:11:52.563115+00:00",null,null,null,null,null,null,null,null,"13462","LSPW V-PW6V 2018 TOYTTCTruck/L","13462-LSPW V-PW6V 2018 TOYTTCTruck/L",null,null,null,"AS099967397","Tanner Eastmond (099967397) FHSS - Economics","AS099967397-Tanner Eastmond (099967397) FHSS - Economics","Active",null,null,null,null,null,null,null,null,null,null,null,"SC6913","SC6913||1625","1625","Capital Equipment",null,"JE_PPE|JE_Override"]
[null,null,null,null,null,null,"AC00825","[HUM] Humanities Royalties","AC00825-[HUM] Humanities Royalties","Activity","FD03","Active","2025-03-17T16:11:52.563115+00:00",null,null,null,null,null,null,null,null,"13463","LSPW V-PW16 2017 UNK TRLR/Lars","13463-LSPW V-PW16 2017 UNK TRLR/Lars",null,null,null,"AS100036881","David Neilsen (100036881) CMS - Physics and Astronomy","AS100036881-David Neilsen (100036881) CMS - Physics and Astronomy","Active",null,null,null,null,null,null,null,null,null,null,null,"SC6913","SC6913||1700","1700","Accumulated Depreciation",null,"JE_PPE|JE_Override"]
[null,null,null,null,null,null,"AC00826","[HUM] Hum Faculty Research Grants","AC00826-[HUM] Hum Faculty Research Grants","Activity","FD03","Active","2025-03-17T16:11:52.563115+00:00",null,null,null,null,null,null,null,null,"13464","LSPW V-PW15 2012 JAY TRLR/McMi","13464-LSPW V-PW15 2012 JAY TRLR/McMi",null,null,null,"AS100411981","Sarah Alatorre (100411981) Alumni Aspen Grove","AS100411981-Sarah Alatorre (100411981) Alumni Aspen Grove","Active",null,null,null,null,null,null,null,null,null,null,null,"SC6913","SC6913||6900","6900","Equipment, Software, Library","Primary","All"]
[null,null,null,null,null,null,"AC00827","[HUM] Humanities Internship Program","AC00827-[HUM] Humanities Internship Program","Activity","FD03","Active","2025-03-17T16:11:52.563115+00:00",null,null,null,null,null,null,null,null,"13465","LSPW V-PW36 2020 CHV BOLT EV/A","13465-LSPW V-PW36 2020 CHV BOLT EV/A",null,null,null,"AS100524882","Michael Biggerstaff (100524882) Religious Education - Ancient Scripture","AS100524882-Michael Biggerstaff (100524882) Religious Education - Ancient Scripture","Active",null,null,null,null,null,null,null,null,null,null,null,"SC6913","SC6913||8000","8000","Depreciation",null,"JE_PPE|JE_Override"]
[null,null,null,null,null,null,"AC00829","[HUM] Humanities Exp Learning","AC00829-[HUM] Humanities Exp Learning","Activity","FD03","Active","2025-03-17T16:11:52.563115+00:00",null,null,null,null,null,null,null,null,"13466","LSPW V-PW59 2013 HOND ATV/Smit","13466-LSPW V-PW59 2013 HOND ATV/Smit",null,null,null,"AS100537744","Lia Saunders (100537744) Cougareat","AS100537744-Lia Saunders (100537744) Cougareat","Active",null,null,null,null,null,null,null,null,null,null,null,"SC6914","SC6914||1400","1400","Prepaid Expenses",null,"All"]
[null,null,null,null,null,null,"AC00830","[HUM] WSTAR Research Group","AC00830-[HUM] WSTAR Research Group","Activity","FD01","Active","2025-03-17T16:11:52.563115+00:00",null,null,null,null,null,null,null,null,"13467","LSPW V-PW60 2010 KUBO TRAC/Arr","13467-LSPW V-PW60 2010 KUBO TRAC/Arr",null,null,null,"AS100575024","Lincoln Blumell (100575024) Religious Education - Ancient Scripture","AS100575024-Lincoln Blumell (100575024) Religious Education - Ancient Scripture","Active",null,null,null,null,null,null,null,null,null,null,null,"SC6914","SC6914||1625","1625","Capital Equipment",null,"JE_PPE|JE_Override"]
[null,null,null,null,null,null,"AC00831","[HUM] Translation Studies Research Group","AC00831-[HUM] Translation Studies Research Group","Activity","FD01","Active","2025-03-17T16:11:52.563115+00:00",null,null,null,null,null,null,null,null,"13468","LSPW V-PW55 2015 Artic Cat ATV","13468-LSPW V-PW55 2015 Artic Cat ATV",null,null,null,"AS100660268","Dustin Bruening (100660268) Life Sciences - Exercise Sciences","AS100660268-Dustin Bruening (100660268) Life Sciences - Exercise Sciences","Active",null,null,null,null,null,null,null,null,null,null,null,"SC6914","SC6914||1650","1650","Construction in Progress",null,"JE_PPE|JE_Override"]
[null,null,null,null,null,null,"AC00833","[HUM] Black Music Research Group","AC00833-[HUM] Black Music Research Group","Activity","FD01","Active","2025-03-17T16:11:52.563115+00:00",null,null,null,null,null,null,null,null,"13469","LSPW V-PW56 2014 Honda ATV/Lar","13469-LSPW V-PW56 2014 Honda ATV/Lar",null,null,null,"AS100851493","Chooi Low (100851493) Culinary Support Center","AS100851493-Chooi Low (100851493) Culinary Support Center","Active",null,null,null,null,null,null,null,null,null,null,null,"SC6914","SC6914||1651","1651","Construction in Progress (Non-Workday Projects)",null,"All"]
[null,null,null,null,null,null,"AC00835","[HUM] Theology & Humanities Research Group","AC00835-[HUM] Theology & Humanities Research Group","Activity","FD01","Active","2025-03-17T16:11:52.563115+00:00",null,null,null,null,null,null,null,null,"13470","LSPW V-PW65 2007 Honda ATV/Lar","13470-LSPW V-PW65 2007 Honda ATV/Lar",null,null,null,"AS101152079","Charles White (101152079) PF Paint & Sign Shop","AS101152079-Charles White (101152079) PF Paint & Sign Shop","Active",null,null,null,null,null,null,null,null,null,null,null,"SC6914","SC6914||1700","1700","Accumulated Depreciation",null,"JE_PPE|JE_Override"]
[null,null,null,null,null,null,"AC00837","[HUM] Applied Humanities Research Group","AC00837-[HUM] Applied Humanities Research Group","Activity","FD01","Active","2025-03-17T16:11:52.563115+00:00",null,null,null,null,null,null,null,null,"13471","LSPW V-PW89 2000KubotaTrac/Mad","13471-LSPW V-PW89 2000KubotaTrac/Mad",null,null,null,"AS101219233","Kyoko Jensen (101219233) Humanities - Asian & Near Eastern Languages","AS101219233-Kyoko Jensen (101219233) Humanities - Asian & Near Eastern Languages","Active",null,null,null,null,null,null,null,null,null,null,null,"SC6914","SC6914||6900","6900","Equipment, Software, Library","Primary","All"]
[null,null,null,null,null,null,"AC00838","[HUM] Boarding School Stories Reasearch Group","AC00838-[HUM] Boarding School Stories Reasearch Group","Activity","FD01","Active","2025-03-17T16:11:52.563115+00:00",null,null,null,null,null,null,null,null,"13472","LSPW V-PW92V 1997 Sierra Trail","13472-LSPW V-PW92V 1997 Sierra Trail",null,null,null,"AS101323358","Gary McGinn (101323358) FHSS - Geography","AS101323358-Gary McGinn (101323358) FHSS - Geography","Active",null,null,null,null,null,null,null,null,null,null,null,"SC6914","SC6914||8000","8000","Depreciation",null,"JE_PPE|JE_Override"]
[null,null,null,null,null,null,"AC00839","[HUM] Greek & Latin Translation Research Group","AC00839-[HUM] Greek & Latin Translation Research Group","Activity","FD01","Active","2025-03-17T16:11:52.563115+00:00",null,null,null,null,null,null,null,null,"13473","LSPW V-PW58 2015 Honda ATV/Smi","13473-LSPW V-PW58 2015 Honda ATV/Smi",null,null,null,"AS101341694","Alyssa Erickson (101341694) CE Online Learning","AS101341694-Alyssa Erickson (101341694) CE Online Learning","Active",null,null,null,null,null,null,null,null,null,null,null,"SC6915","SC6915||1400","1400","Prepaid Expenses",null,"All"]
[null,null,null,null,null,null,"AC00840","[HUM] Editing & Publishing Research Group","AC00840-[HUM] Editing & Publishing Research Group","Activity","FD01","Active","2025-03-17T16:11:52.563115+00:00",null,null,null,null,null,null,null,null,"13474","LSPW V-PW66 2015 BIG TRLR/Arri","13474-LSPW V-PW66 2015 BIG TRLR/Arri",null,null,null,"AS101365331","Kent Minson (101365331) Retail Services - Course Materials","AS101365331-Kent Minson (101365331) Retail Services - Course Materials","Active",null,null,null,null,null,null,null,null,null,null,null,"SC6915","SC6915||1625","1625","Capital Equipment",null,"JE_PPE|JE_Override"]
[null,null,null,null,null,null,"AC00841","[HUM] Romantic & Victorian Research Group","AC00841-[HUM] Romantic & Victorian Research Group","Activity","FD01","Active","2025-03-17T16:11:52.563115+00:00",null,null,null,null,null,null,null,null,"13475","LSPW V-PW67 2012 BIG TRLR/Arri","13475-LSPW V-PW67 2012 BIG TRLR/Arri",null,null,null,"AS101541513","Adam Stout (101541513) OIT Portfolio - Enterprise Data Management","AS101541513-Adam Stout (101541513) OIT Portfolio - Enterprise Data Management","Active",null,null,null,null,null,null,null,null,null,null,null,"SC6915","SC6915||1650","1650","Construction in Progress",null,"JE_PPE|JE_Override"]
[null,null,null,null,null,null,"AC00842","[HUM] MARS Research Group","AC00842-[HUM] MARS Research Group","Activity","FD01","Active","2025-03-17T16:11:52.563115+00:00",null,null,null,null,null,null,null,null,"13476","LSPW V-PW82 2014 Polaris SNO/L","13476-LSPW V-PW82 2014 Polaris SNO/L",null,null,null,"AS102016148","Kimberly Hao (102016148) Lee Library Administration - Collections Services","AS102016148-Kimberly Hao (102016148) Lee Library Administration - Collections Services","Active",null,null,null,null,null,null,null,null,null,null,null,"SC6915","SC6915||1651","1651","Construction in Progress (Non-Workday Projects)",null,"All"]
[null,null,null,null,null,null,"AC00843","[HUM] Literature/Belf Symposium","AC00843-[HUM] Literature/Belf Symposium","Activity","FD03","Active","2025-03-17T16:11:52.563115+00:00",null,null,null,null,null,null,null,null,"13477","LSPW V-PW68 2016 Honda ATV/All","13477-LSPW V-PW68 2016 Honda ATV/All",null,null,null,"AS102434188","Clay Aucoin (102434188) Athletics - Football","AS102434188-Clay Aucoin (102434188) Athletics - Football","Active",null,null,null,null,null,null,null,null,null,null,null,"SC6915","SC6915||1700","1700","Accumulated Depreciation",null,"JE_PPE|JE_Override"]
[null,null,null,null,null,null,"AC00844","[HUM] Humanities Belonging","AC00844-[HUM] Humanities Belonging","Activity","FD01","Active","2025-03-17T16:11:52.563115+00:00",null,null,null,null,null,null,null,null,"13478","LSPW V-PW41 2016 YAMA ATV/Ande","13478-LSPW V-PW41 2016 YAMA ATV/Ande",null,null,null,"AS102715566","Jeff Goeders (102715566) College of Engineering - Electrical & Computer Engineering","AS102715566-Jeff Goeders (102715566) College of Engineering - Electrical & Computer Engineering","Active",null,null,null,null,null,null,null,null,null,null,null,"SC6915","SC6915||6900","6900","Equipment, Software, Library","Primary","All"]
[null,null,null,null,null,null,"AC00845","[HUM] Humanities Leadership Council","AC00845-[HUM] Humanities Leadership Council","Activity","FD02","Active","2025-03-17T16:11:52.563115+00:00",null,null,null,null,null,null,null,null,"13479","LSPWV-PW3V 2015 Ram Truck/Ande","13479-LSPWV-PW3V 2015 Ram Truck/Ande",null,null,null,"AS103108258","Mike Moser (103108258) Athletics - Administration","AS103108258-Mike Moser (103108258) Athletics - Administration","Active",null,null,null,null,null,null,null,null,null,null,null,"SC6915","SC6915||8000","8000","Depreciation",null,"JE_PPE|JE_Override"]
[null,null,null,null,null,null,"AC00846","[HUM] Translation & Localization Club","AC00846-[HUM] Translation & Localization Club","Activity","FD02","Active","2025-03-17T16:11:52.563115+00:00",null,null,null,null,null,null,null,null,"13480","LSPW V-PW20 2017 Ram Truck/Pet","13480-LSPW V-PW20 2017 Ram Truck/Pet",null,null,null,"AS103157340","Jason Christensen (103157340) Management Department","AS103157340-Jason Christensen (103157340) Management Department","Active",null,null,null,null,null,null,null,null,null,null,null,"SC6916","SC6916||1400","1400","Prepaid Expenses",null,"All"]
[null,null,null,null,null,null,"AC00847","[HUM] Medical Humanities Club","AC00847-[HUM] Medical Humanities Club","Activity","FD02","Active","2025-03-17T16:11:52.563115+00:00",null,null,null,null,null,null,null,null,"13481","LSPW V-PW32V 2017 TOYT Truck/P","13481-LSPW V-PW32V 2017 TOYT Truck/P",null,null,null,"AS103158501","Bruce Bailey (103158501) Life Sciences - Exercise Sciences","AS103158501-Bruce Bailey (103158501) Life Sciences - Exercise Sciences","Active",null,null,null,null,null,null,null,null,null,null,null,"SC6916","SC6916||6900","6900","Equipment, Software, Library","Primary","All"]
[null,null,null,null,null,null,"AC00848","[HUM] Humanities to Business Club","AC00848-[HUM] Humanities to Business Club","Activity","FD02","Active","2025-03-17T16:11:52.563115+00:00",null,null,null,null,null,null,null,null,"13482","LSPW V-PW80 2018 AL Trailer/An","13482-LSPW V-PW80 2018 AL Trailer/An",null,null,null,"AS103188899","Matt Finlayson (103188899) OIT Resource - AV Events","AS103188899-Matt Finlayson (103188899) OIT Resource - AV Events","Active",null,null,null,null,null,null,null,null,null,null,null,"SC6917","SC6917||1400","1400","Prepaid Expenses",null,"All"]
[null,null,null,null,null,null,"AC00849","[HUM] Chinese Club","AC00849-[HUM] Chinese Club","Activity","FD02","Active","2025-03-17T16:11:52.563115+00:00",null,null,null,null,null,null,null,null,"13483","LSPW V-PW31 Welding TRLR/Madse","13483-LSPW V-PW31 Welding TRLR/Madse",null,null,null,"AS103862017","Nathanial Brown (103862017) OIT Resource - CES Network Center (CNC) - Installation","AS103862017-Nathanial Brown (103862017) OIT Resource - CES Network Center (CNC) - Installation","Active",null,null,null,null,null,null,null,null,null,null,null,"SC6917","SC6917||1625","1625","Capital Equipment",null,"JE_PPE|JE_Override"]
[null,null,null,null,null,null,"AC00850","[HUM] Korean Language & Culture Club","AC00850-[HUM] Korean Language & Culture Club","Activity","FD02","Active","2025-03-17T16:11:52.563115+00:00",null,null,null,null,null,null,null,null,"13484","LSPW V-PW75 1980 Home Trailer/","13484-LSPW V-PW75 1980 Home Trailer/",null,null,null,"AS103926048","Linda Chahal (103926048) PF Business Support and Compliance","AS103926048-Linda Chahal (103926048) PF Business Support and Compliance","Active",null,null,null,null,null,null,null,null,null,null,null,"SC6917","SC6917||1650","1650","Construction in Progress",null,"JE_PPE|JE_Override"]
[null,null,null,null,null,null,"AC00851","[HUM] Japan Club","AC00851-[HUM] Japan Club","Activity","FD02","Active","2025-03-17T16:11:52.563115+00:00",null,null,null,null,null,null,null,null,"13485","LSPW V-PW31 2018 GMC STruck/PW","13485-LSPW V-PW31 2018 GMC STruck/PW",null,null,null,"AS104186036","Huistean Kay (104186036) Food to Go Services","AS104186036-Huistean Kay (104186036) Food to Go Services","Active",null,null,null,null,null,null,null,null,null,null,null,"SC6917","SC6917||1651","1651","Construction in Progress (Non-Workday Projects)",null,"All"]
[null,null,null,null,null,null,"AC00852","[HUM] Japanese Language Fair","AC00852-[HUM] Japanese Language Fair","Activity","FD02","Active","2025-03-17T16:11:52.563115+00:00",null,null,null,null,null,null,null,null,"13486","LSPW V-PW51 2018 YAMA ATV/Lars","13486-LSPW V-PW51 2018 YAMA ATV/Lars",null,null,null,"AS104461069","Vince Stroud (104461069) Athletics - Administration","AS104461069-Vince Stroud (104461069) Athletics - Administration","Active",null,null,null,null,null,null,null,null,null,null,null,"SC6917","SC6917||1700","1700","Accumulated Depreciation",null,"JE_PPE|JE_Override"]
[null,null,null,null,null,null,"AC00853","[HUM] Japan Student Assoc","AC00853-[HUM] Japan Student Assoc","Activity","FD02","Active","2025-03-17T16:11:52.563115+00:00",null,null,null,null,null,null,null,null,"13487","LSPW V-PW65V 2013 YAMA ATV/Lar","13487-LSPW V-PW65V 2013 YAMA ATV/Lar",null,null,null,"AS104510559","Byron Noel (104510559) Human Resource Business Partners","AS104510559-Byron Noel (104510559) Human Resource Business Partners","Active",null,null,null,null,null,null,null,null,null,null,null,"SC6917","SC6917||6900","6900","Equipment, Software, Library","Primary","All"]
[null,null,null,null,null,null,"AC00854","[HUM] BYU Hebrew Student Association","AC00854-[HUM] BYU Hebrew Student Association","Activity","FD02","Active","2025-03-17T16:11:52.563115+00:00",null,null,null,null,null,null,null,null,"13488","LSPW VRI/PWS Dep/Hansen&Hopkin","13488-LSPW VRI/PWS Dep/Hansen&Hopkin",null,null,null,"AS104822464","Candilyn Newell (104822464) Careers & Experiential Learning - Career Services","AS104822464-Candilyn Newell (104822464) Careers & Experiential Learning - Career Services","Active",null,null,null,null,null,null,null,null,null,null,null,"SC6917","SC6917||8000","8000","Depreciation",null,"JE_PPE|JE_Override"]
[null,null,null,null,null,null,"AC00855","[HUM] Arabic Club","AC00855-[HUM] Arabic Club","Activity","FD02","Active","2025-03-17T16:11:52.563115+00:00",null,null,null,null,null,null,null,null,"13489","LSPW VRI/Geography Dep/Jenson","13489-LSPW VRI/Geography Dep/Jenson",null,null,null,"AS105110905","Joe Belnap (105110905) OIT Resource - Application Engineering","AS105110905-Joe Belnap (105110905) OIT Resource - Application Engineering","Active",null,null,null,null,null,null,null,null,null,null,null,"SC6918","SC6918||1400","1400","Prepaid Expenses",null,"All"]
[null,null,null,null,null,null,"AC00856","[HUM] Nihongo Program","AC00856-[HUM] Nihongo Program","Activity","FD03","Active","2025-03-17T16:11:52.563115+00:00",null,null,null,null,null,null,null,null,"13490","LSPW VRI/Statistics Dep/Heaton","13490-LSPW VRI/Statistics Dep/Heaton",null,null,null,"AS105157189","Catherine Green (105157189) Catering Services","AS105157189-Catherine Green (105157189) Catering Services","Active",null,null,null,null,null,null,null,null,null,null,null,"SC6918","SC6918||1632","1632","Library Content",null,"JE_PPE|JE_Override"]
[null,null,null,null,null,null,"AC00857","[HUM] Ind Study Course Development","AC00857-[HUM] Ind Study Course Development","Activity","FD03","Active","2025-03-17T16:11:52.563115+00:00",null,null,null,null,null,null,null,null,"13491","LSPW Navajo Nation Pinyon R/St","13491-LSPW Navajo Nation Pinyon R/St",null,null,null,"AS105291972","Melissa Hawkley (105291972) Religious Education - Ancient Scripture","AS105291972-Melissa Hawkley (105291972) Religious Education - Ancient Scripture","Active",null,null,null,null,null,null,null,null,null,null,null,"SC6918","SC6918||1700","1700","Accumulated Depreciation",null,"JE_PPE|JE_Override"]
[null,null,null,null,null,null,"AC00859","[HUM] American Sign Language","AC00859-[HUM] American Sign Language","Activity","FD01","Active","2025-03-17T16:11:52.563115+00:00",null,null,null,null,null,null,null,null,"13492","LSPW Charles Redd Center/Smith","13492-LSPW Charles Redd Center/Smith",null,null,null,"AS105381758","Jon Ostenson (105381758) Humanities - English","AS105381758-Jon Ostenson (105381758) Humanities - English","Active",null,null,null,null,null,null,null,null,null,null,null,"SC6918","SC6918||6900","6900","Equipment, Software, Library","Primary","All"]
[null,null,null,null,null,null,"AC00860","[HUM] CLS-Measurement & Evaluation","AC00860-[HUM] CLS-Measurement & Evaluation","Activity","FD01","Active","2025-03-17T16:11:52.563115+00:00",null,null,null,null,null,null,null,null,"13493","LSPW SANT-Bears Ears Research-","13493-LSPW SANT-Bears Ears Research-",null,null,null,"AS105603909","Karl Diether (105603909) MSB - Finance","AS105603909-Karl Diether (105603909) MSB - Finance","Active",null,null,null,null,null,null,null,null,null,null,null,"SC6918","SC6918||8000","8000","Depreciation",null,"JE_PPE|JE_Override"]
[null,null,null,null,null,null,"AC00861","[HUM] CLS-Research & Proficiency Srvcs","AC00861-[HUM] CLS-Research & Proficiency Srvcs","Activity","FD01","Active","2025-03-17T16:11:52.563115+00:00",null,null,null,null,null,null,null,null,"13494","LSPW Kennedy Center","13494-LSPW Kennedy Center",null,null,null,"AS105622997","Roger Harrison (105622997) CMS - Chemistry and Biochemistry","AS105622997-Roger Harrison (105622997) CMS - Chemistry and Biochemistry","Active",null,null,null,null,null,null,null,null,null,null,null,"SC6919","SC6919||1400","1400","Prepaid Expenses",null,"All"]
[null,null,null,null,null,null,"AC00862","[HUM] CLS-Translation & Localization","AC00862-[HUM] CLS-Translation & Localization","Activity","FD01","Active","2025-03-17T16:11:52.563115+00:00",null,null,null,null,null,null,null,null,"13495","LSPW Agbiochem/Bacteria/Geary","13495-LSPW Agbiochem/Bacteria/Geary",null,null,null,"AS106135949","Mike Robinson (106135949) AVP - Dean, College of Nursing","AS106135949-Mike Robinson (106135949) AVP - Dean, College of Nursing","Active",null,null,null,null,null,null,null,null,null,null,null,"SC6919","SC6919||6900","6900","Equipment, Software, Library","Primary","All"]
[null,null,null,null,null,null,"AC00863","[HUM] CLS-Curriculum & Instruction","AC00863-[HUM] CLS-Curriculum & Instruction","Activity","FD01","Active","2025-03-17T16:11:52.563115+00:00",null,null,null,null,null,null,null,null,"13496","LSPW Wastewater SARS-COV-2/Aan","13496-LSPW Wastewater SARS-COV-2/Aan",null,null,null,"AS106247348","Charity Wyatt (106247348) AVP - Dean, Clark Law School","AS106247348-Charity Wyatt (106247348) AVP - Dean, Clark Law School","Active",null,null,null,null,null,null,null,null,null,null,null,"SC6920","SC6920||1400","1400","Prepaid Expenses",null,"All"]
[null,null,null,null,null,null,"AC00864","[HUM] CES-Global Education Support","AC00864-[HUM] CES-Global Education Support","Activity","FD01","Active","2025-03-17T16:11:52.563115+00:00",null,null,null,null,null,null,null,null,"13497","LSPW Charles Redd Center/St Cl","13497-LSPW Charles Redd Center/St Cl",null,null,null,"AS106323990","Craig Youngs (106323990) OIT Leadership - CES Security Mgmt","AS106323990-Craig Youngs (106323990) OIT Leadership - CES Security Mgmt","Active",null,null,null,null,null,null,null,null,null,null,null,"SC6920","SC6920||1638","1638","Media",null,"JE_PPE|JE_Override"]
[null,null,null,null,null,null,"AC00865","[HUM] American Sign Language Club","AC00865-[HUM] American Sign Language Club","Activity","FD02","Active","2025-03-17T16:11:52.563115+00:00",null,null,null,null,null,null,null,null,"13498","LSPW Charles Redd Center/Stewa","13498-LSPW Charles Redd Center/Stewa",null,null,null,"AS106463112","Kurt Sandholtz (106463112) MSB - Public Service & Ethics","AS106463112-Kurt Sandholtz (106463112) MSB - Public Service & Ethics","Active",null,null,null,null,null,null,null,null,null,null,null,"SC6920","SC6920||1700","1700","Accumulated Depreciation",null,"JE_PPE|JE_Override"]
[null,null,null,null,null,null,"AC00866","[HUM] CLS Graduate","AC00866-[HUM] CLS Graduate","Activity","FD01","Active","2025-03-17T16:11:52.563115+00:00",null,null,null,null,null,null,null,null,"13499","LSPW Charles Redd Center/Allph","13499-LSPW Charles Redd Center/Allph",null,null,null,"AS106484257","Robert Johns (106484257) CE FSY Central","AS106484257-Robert Johns (106484257) CE FSY Central","Active",null,null,null,null,null,null,null,null,null,null,null,"SC6920","SC6920||6900","6900","Equipment, Software, Library","Primary","All"]
[null,null,null,null,null,null,"AC00867","[HUM] WebCAPE","AC00867-[HUM] WebCAPE","Activity","FD03","Active","2025-03-17T16:11:52.563115+00:00",null,null,null,null,null,null,null,null,"13500","LSBM Director","13500-LSBM Director",null,null,null,"AS106494435","Brent Feland (106494435) Life Sciences - Exercise Sciences","AS106494435-Brent Feland (106494435) Life Sciences - Exercise Sciences","Active",null,null,null,null,null,null,null,null,null,null,null,"SC6920","SC6920||8000","8000","Depreciation",null,"JE_PPE|JE_Override"]
[null,null,null,null,null,null,"AC00868","[HUM] Mentored Learning-Ext Funded","AC00868-[HUM] Mentored Learning-Ext Funded","Activity","FD03","Active","2025-03-17T16:11:52.563115+00:00",null,null,null,null,null,null,null,null,"13501","LSBM Roberta Larsen","13501-LSBM Roberta Larsen",null,null,null,"AS106775394","Michael Davie (106775394) Athletics - Olympic Sport Medicine","AS106775394-Michael Davie (106775394) Athletics - Olympic Sport Medicine","Active",null,null,null,null,null,null,null,null,null,null,null,"SC6921","SC6921||1400","1400","Prepaid Expenses",null,"All"]
[null,null,null,null,null,null,"AC00869","[HUM] Eye Tracking Research Grant","AC00869-[HUM] Eye Tracking Research Grant","Activity","FD03","Active","2025-03-17T16:11:52.563115+00:00",null,null,null,null,null,null,null,null,"13502","LSBM Museum Bldg","13502-LSBM Museum Bldg",null,null,null,"AS107037544","Melissa Gibbs (107037544) School of Communications","AS107037544-Melissa Gibbs (107037544) School of Communications","Active",null,null,null,null,null,null,null,null,null,null,null,"SC6921","SC6921||1625","1625","Capital Equipment",null,"JE_PPE|JE_Override"]
[null,null,null,null,null,null,"AC00870","[HUM] Comp Adaptive Lang Test: CALT","AC00870-[HUM] Comp Adaptive Lang Test: CALT","Activity","FD03","Active","2025-03-17T16:11:52.563115+00:00",null,null,null,null,null,null,null,null,"13504","LSBM VLR4-Ford Dump Bed (gas o","13504-LSBM VLR4-Ford Dump Bed (gas o",null,null,null,"AS107316947","Sarah Hall (107316947) Life Sciences - Public Health","AS107316947-Sarah Hall (107316947) Life Sciences - Public Health","Active",null,null,null,null,null,null,null,null,null,null,null,"SC6921","SC6921||1650","1650","Construction in Progress",null,"JE_PPE|JE_Override"]
[null,null,null,null,null,null,"AC00871","[HUM] RM Lifelong Lang Learning -PIA","AC00871-[HUM] RM Lifelong Lang Learning -PIA","Activity","FD03","Active","2025-03-17T16:11:52.563115+00:00",null,null,null,null,null,null,null,null,"13505","LSBM Lytle vehicle maintenance","13505-LSBM Lytle vehicle maintenance",null,null,null,"AS107371388","Lilibeth Blas (107371388) Cannon Center","AS107371388-Lilibeth Blas (107371388) Cannon Center","Active",null,null,null,null,null,null,null,null,null,null,null,"SC6921","SC6921||1651","1651","Construction in Progress (Non-Workday Projects)",null,"All"]
[null,null,null,null,null,null,"AC00872","[HUM] Machine Learning&LASER-PIA2022","AC00872-[HUM] Machine Learning&LASER-PIA2022","Activity","FD03","Active","2025-03-17T16:11:52.563115+00:00",null,null,null,null,null,null,null,null,"13506","LSBM Packer, Ken","13506-LSBM Packer, Ken",null,null,null,"AS107489318","Hien Nguyen (107489318) HS Administration","AS107489318-Hien Nguyen (107489318) HS Administration","Active",null,null,null,null,null,null,null,null,null,null,null,"SC6921","SC6921||1700","1700","Accumulated Depreciation",null,"JE_PPE|JE_Override"]
[null,null,null,null,null,null,"AC00873","[HUM] CLS-ASL","AC00873-[HUM] CLS-ASL","Activity","FD03","Active","2025-03-17T16:11:52.563115+00:00",null,null,null,null,null,null,null,null,"13507","LSBM Hammari, Josh","13507-LSBM Hammari, Josh",null,null,null,"AS107495401","Michelle Davis (107495401) PF Grounds Maintenance","AS107495401-Michelle Davis (107495401) PF Grounds Maintenance","Active",null,null,null,null,null,null,null,null,null,null,null,"SC6921","SC6921||6900","6900","Equipment, Software, Library","Primary","All"]
[null,null,null,null,null,null,"AC00874","[HUM] CLS-GES","AC00874-[HUM] CLS-GES","Activity","FD03","Active","2025-03-17T16:11:52.563115+00:00",null,null,null,null,null,null,null,null,"13508","LSBM Kite, Taylor","13508-LSBM Kite, Taylor",null,null,null,"AS107513872","Ryan Kerr (107513872) Special Events","AS107513872-Ryan Kerr (107513872) Special Events","Active",null,null,null,null,null,null,null,null,null,null,null,"SC6921","SC6921||8000","8000","Depreciation",null,"JE_PPE|JE_Override"]
[null,null,null,null,null,null,"AC00875","[HUM] CLS-R&PS","AC00875-[HUM] CLS-R&PS","Activity","FD03","Active","2025-03-17T16:11:52.563115+00:00",null,null,null,null,null,null,null,null,"13509","LSBM Knight, Katy","13509-LSBM Knight, Katy",null,null,null,"AS107524522","Benjamin Bikman (107524522) Life Sciences - Cell Biology & Physiology","AS107524522-Benjamin Bikman (107524522) Life Sciences - Cell Biology & Physiology","Active",null,null,null,null,null,null,null,null,null,null,null,"SC6922","SC6922||1400","1400","Prepaid Expenses",null,"All"]
[null,null,null,null,null,null,"AC00877","[HUM] Language Houses","AC00877-[HUM] Language Houses","Activity","FD02","Active","2025-03-17T16:11:52.563115+00:00",null,null,null,null,null,null,null,null,"13510","LSBM Dallin Leota","13510-LSBM Dallin Leota",null,null,null,"AS107556193","Cindy Busard (107556193) BYU Store Support-Admin Service","AS107556193-Cindy Busard (107556193) BYU Store Support-Admin Service","Active",null,null,null,null,null,null,null,null,null,null,null,"SC6922","SC6922||6900","6900","Equipment, Software, Library","Primary","All"]
[null,null,null,null,null,null,"AC00879","[HUM] Italian Language House","AC00879-[HUM] Italian Language House","Activity","FD02","Active","2025-03-17T16:11:52.563115+00:00",null,null,null,null,null,null,null,null,"13511","LSBM VLR1 - 2013 GMC (gas only","13511-LSBM VLR1 - 2013 GMC (gas only",null,null,null,"AS107594780","Steve Liddle (107594780) MSB - Information Systems","AS107594780-Steve Liddle (107594780) MSB - Information Systems","Active",null,null,null,null,null,null,null,null,null,null,null,"SC6923","SC6923||1400","1400","Prepaid Expenses",null,"All"]
[null,null,null,null,null,null,"AC00880","[HUM] French Language House","AC00880-[HUM] French Language House","Activity","FD02","Active","2025-03-17T16:11:52.698977+00:00",null,null,null,null,null,null,null,null,"13512","LSBM Diesel Storage","13512-LSBM Diesel Storage",null,null,null,"AS107742924","Linda Godfrey (107742924) International Vice President","AS107742924-Linda Godfrey (107742924) International Vice President","Active",null,null,null,null,null,null,null,null,null,null,null,"SC6923","SC6923||1625","1625","Capital Equipment",null,"JE_PPE|JE_Override"]
[null,null,null,null,null,null,"AC00881","[HUM] Spanish Language House","AC00881-[HUM] Spanish Language House","Activity","FD02","Active","2025-03-17T16:11:52.698977+00:00",null,null,null,null,null,null,null,null,"13513","LSBM Petroleum (non-diesel) St","13513-LSBM Petroleum (non-diesel) St",null,null,null,"AS107796095","Ashley Pun Eveson (107796095) The Neal A. Maxwell Institute","AS107796095-Ashley Pun Eveson (107796095) The Neal A. Maxwell Institute","Active",null,null,null,null,null,null,null,null,null,null,null,"SC6923","SC6923||1700","1700","Accumulated Depreciation",null,"JE_PPE|JE_Override"]
[null,null,null,null,null,null,"AC00882","[HUM] Portuguese Language House","AC00882-[HUM] Portuguese Language House","Activity","FD02","Active","2025-03-17T16:11:52.698977+00:00",null,null,null,null,null,null,null,null,"13514","LSBM Janene Auger","13514-LSBM Janene Auger",null,null,null,"AS108275287","Jared Ludlow (108275287) AVP - Assistant AVP, Religious Publications","AS108275287-Jared Ludlow (108275287) AVP - Assistant AVP, Religious Publications","Active",null,null,null,null,null,null,null,null,null,null,null,"SC6923","SC6923||6900","6900","Equipment, Software, Library","Primary","All"]
[null,null,null,null,null,null,"AC00883","[HUM] Russian Language House","AC00883-[HUM] Russian Language House","Activity","FD02","Active","2025-03-17T16:11:52.698977+00:00",null,null,null,null,null,null,null,null,"13515","LSBM Schenck, Travis","13515-LSBM Schenck, Travis",null,null,null,"AS108586581","Christian Asplund (108586581) Fine Arts & Communications - School of Music","AS108586581-Christian Asplund (108586581) Fine Arts & Communications - School of Music","Active",null,null,null,null,null,null,null,null,null,null,null,"SC6923","SC6923||8000","8000","Depreciation",null,"JE_PPE|JE_Override"]
[null,null,null,null,null,null,"AC00884","[HUM] German Language House","AC00884-[HUM] German Language House","Activity","FD02","Active","2025-03-17T16:11:52.698977+00:00",null,null,null,null,null,null,null,null,"13516","LSBM Hadfied, Robert","13516-LSBM Hadfied, Robert",null,null,null,"AS108807243","Lindsay Von Forell (108807243) CE Controller","AS108807243-Lindsay Von Forell (108807243) CE Controller","Active",null,null,null,null,null,null,null,null,null,null,null,"SC6924","SC6924||1400","1400","Prepaid Expenses",null,"All"]
[null,null,null,null,null,null,"AC00885","[HUM] Japanese Language House","AC00885-[HUM] Japanese Language House","Activity","FD02","Active","2025-03-17T16:11:52.698977+00:00",null,null,null,null,null,null,null,null,"13517","LSBM Skidmore, Skip","13517-LSBM Skidmore, Skip",null,null,null,"AS109639638","Brad Bailey (109639638) OIT Leadership - Enterprise Data Management and Finance","AS109639638-Brad Bailey (109639638) OIT Leadership - Enterprise Data Management and Finance","Active",null,null,null,null,null,null,null,null,null,null,null,"SC6924","SC6924||1625","1625","Capital Equipment",null,"JE_PPE|JE_Override"]
[null,null,null,null,null,null,"AC00886","[HUM] Chinese Language House","AC00886-[HUM] Chinese Language House","Activity","FD02","Active","2025-03-17T16:11:52.698977+00:00",null,null,null,null,null,null,null,null,"13519","LSBM Baker, Randy","13519-LSBM Baker, Randy",null,null,null,"AS109700517","Amanda Boden (109700517) CE FSY Central","AS109700517-Amanda Boden (109700517) CE FSY Central","Active",null,null,null,null,null,null,null,null,null,null,null,"SC6924","SC6924||1650","1650","Construction in Progress",null,"JE_PPE|JE_Override"]
[null,null,null,null,null,null,"AC00887","[HUM] Hebrew Language House","AC00887-[HUM] Hebrew Language House","Activity","FD02","Active","2025-03-17T16:11:52.698977+00:00",null,null,null,null,null,null,null,null,"13520","LSBM Exhibits General","13520-LSBM Exhibits General",null,null,null,"AS109830211","Jacquelyn Christensen (109830211) Humanities - Linguistics","AS109830211-Jacquelyn Christensen (109830211) Humanities - Linguistics","Active",null,null,null,null,null,null,null,null,null,null,null,"SC6924","SC6924||1651","1651","Construction in Progress (Non-Workday Projects)",null,"All"]
[null,null,null,null,null,null,"AC00888","[HUM] Korean Language House","AC00888-[HUM] Korean Language House","Activity","FD02","Active","2025-03-17T16:11:52.698977+00:00",null,null,null,null,null,null,null,null,"13521","LSBM Citizen Science Center","13521-LSBM Citizen Science Center",null,null,null,"AS110311183","Timothy Mabey (110311183) Helaman Halls","AS110311183-Timothy Mabey (110311183) Helaman Halls","Active",null,null,null,null,null,null,null,null,null,null,null,"SC6924","SC6924||1700","1700","Accumulated Depreciation",null,"JE_PPE|JE_Override"]
[null,null,null,null,null,null,"AC00889","[HUM] Arabic Language House","AC00889-[HUM] Arabic Language House","Activity","FD02","Active","2025-03-17T16:11:52.698977+00:00",null,null,null,null,null,null,null,null,"13522","LSBM Date Night","13522-LSBM Date Night",null,null,null,"AS110533256","David Jones (110533256) PMPC Administration","AS110533256-David Jones (110533256) PMPC Administration","Active",null,null,null,null,null,null,null,null,null,null,null,"SC6924","SC6924||6900","6900","Equipment, Software, Library","Primary","All"]
[null,null,null,null,null,null,"AC00890","[HUM] Writing Center","AC00890-[HUM] Writing Center","Activity","FD01","Active","2025-03-17T16:11:52.698977+00:00",null,null,null,null,null,null,null,null,"13523","LSBM Education Other","13523-LSBM Education Other",null,null,null,"AS110798678","Paige Despain (110798678) Office of Research Computing","AS110798678-Paige Despain (110798678) Office of Research Computing","Active",null,null,null,null,null,null,null,null,null,null,null,"SC6924","SC6924||8000","8000","Depreciation",null,"JE_PPE|JE_Override"]
[null,null,null,null,null,null,"AC00891","[HUM] English Graduate","AC00891-[HUM] English Graduate","Activity","FD01","Active","2025-03-17T16:11:52.698977+00:00",null,null,null,null,null,null,null,null,"13524","LSBM Junior Naturalist","13524-LSBM Junior Naturalist",null,null,null,"AS110845320","Scott Murff (110845320) MSB - Management","AS110845320-Scott Murff (110845320) MSB - Management","Active",null,null,null,null,null,null,null,null,null,null,null,"SC6925","SC6925||1400","1400","Prepaid Expenses",null,"All"]
[null,null,null,null,null,null,"AC00892","[HUM] University Writing","AC00892-[HUM] University Writing","Activity","FD01","Active","2025-03-17T16:11:52.698977+00:00",null,null,null,null,null,null,null,null,"13525","LSBM Outreach","13525-LSBM Outreach",null,null,null,"AS110874617","Ben Drewry (110874617) Careers & Experiential Learning - Career Services","AS110874617-Ben Drewry (110874617) Careers & Experiential Learning - Career Services","Active",null,null,null,null,null,null,null,null,null,null,null,"SC6925","SC6925||6900","6900","Equipment, Software, Library","Primary","All"]
[null,null,null,null,null,null,"AC00893","[HUM] Writing Across the Curriculum","AC00893-[HUM] Writing Across the Curriculum","Activity","FD01","Active","2025-03-17T16:11:52.698977+00:00",null,null,null,null,null,null,null,null,"13526","LSBM Educ. Collection Rental","13526-LSBM Educ. Collection Rental",null,null,null,"AS111308486","Hattie Norcross Eppel (111308486) Title IX","AS111308486-Hattie Norcross Eppel (111308486) Title IX","Active",null,null,null,null,null,null,null,null,null,null,null,"SC6926","SC6926||1400","1400","Prepaid Expenses",null,"All"]
[null,null,null,null,null,null,"AC00894","[HUM] Writing Fellows","AC00894-[HUM] Writing Fellows","Activity","FD01","Active","2025-03-17T16:11:52.698977+00:00",null,null,null,null,null,null,null,null,"13527","LSBM Nature Experienceships","13527-LSBM Nature Experienceships",null,null,null,"AS111742893","Carina Alleman (111742893) AVP - Dean, Family Home Social Science (FHSS)","AS111742893-Carina Alleman (111742893) AVP - Dean, Family Home Social Science (FHSS)","Active",null,null,null,null,null,null,null,null,null,null,null,"SC6926","SC6926||1625","1625","Capital Equipment",null,"JE_PPE|JE_Override"]
[null,null,null,null,null,null,"AC00895","[HUM] Inscape Magazine","AC00895-[HUM] Inscape Magazine","Activity","FD02","Active","2025-03-17T16:11:52.698977+00:00",null,null,null,null,null,null,null,null,"13528","LSBM Darwin Day","13528-LSBM Darwin Day",null,null,null,"AS111858564","Emma Warr (111858564) Wilkinson Center","AS111858564-Emma Warr (111858564) Wilkinson Center","Active",null,null,null,null,null,null,null,null,null,null,null,"SC6926","SC6926||1700","1700","Accumulated Depreciation",null,"JE_PPE|JE_Override"]
[null,null,null,null,null,null,"AC00896","[HUM] English Society","AC00896-[HUM] English Society","Activity","FD02","Active","2025-03-17T16:11:52.698977+00:00",null,null,null,null,null,null,null,null,"13529","LSBM Bio-Box Rental","13529-LSBM Bio-Box Rental",null,null,null,"AS111965440","Carri Jenkins (111965440) Advancement Vice President","AS111965440-Carri Jenkins (111965440) Advancement Vice President","Active",null,null,null,null,null,null,null,null,null,null,null,"SC6926","SC6926||6900","6900","Equipment, Software, Library","Primary","All"]
[null,null,null,null,null,null,"AC00897","[HUM] English Graduate Society","AC00897-[HUM] English Graduate Society","Activity","FD02","Active","2025-03-17T16:11:52.698977+00:00",null,null,null,null,null,null,null,null,"13530","LSBM Biology Boot Camp","13530-LSBM Biology Boot Camp",null,null,null,"AS112047555","Bruce Money (112047555) MSB - Marketing & Global Supply Chain","AS112047555-Bruce Money (112047555) MSB - Marketing & Global Supply Chain","Active",null,null,null,null,null,null,null,null,null,null,null,"SC6926","SC6926||8000","8000","Depreciation",null,"JE_PPE|JE_Override"]
[null,null,null,null,null,null,"AC00898","[HUM] Central Utah Writing Project","AC00898-[HUM] Central Utah Writing Project","Activity","FD02","Active","2025-03-17T16:11:52.698977+00:00",null,null,null,null,null,null,null,null,"13531","LSBM Trivia Night","13531-LSBM Trivia Night",null,null,null,"AS112181328","Paula Moore (112181328) MSB - Dean's Office, Marriott School of Business","AS112181328-Paula Moore (112181328) MSB - Dean's Office, Marriott School of Business","Active",null,null,null,null,null,null,null,null,null,null,null,"SC6927","SC6927||1400","1400","Prepaid Expenses",null,"All"]
[null,null,null,null,null,null,"AC00899","[HUM] Fourth Genre","AC00899-[HUM] Fourth Genre","Activity","FD02","Active","2025-03-17T16:11:52.698977+00:00",null,null,null,null,null,null,null,null,"13532","LSBM Critter Camp","13532-LSBM Critter Camp",null,null,null,"AS113098638","Megan Sanborn Jones (113098638) AVP - Dean, Fine Arts and Communications","AS113098638-Megan Sanborn Jones (113098638) AVP - Dean, Fine Arts and Communications","Active",null,null,null,null,null,null,null,null,null,null,null,"SC6927","SC6927||1625","1625","Capital Equipment",null,"JE_PPE|JE_Override"]
[null,null,null,null,null,null,"AC00900","[HUM] Writing 150 Royalties","AC00900-[HUM] Writing 150 Royalties","Activity","FD03","Active","2025-03-17T16:11:52.698977+00:00",null,null,null,null,null,null,null,null,"13533","LSBM Clark, Shawn-Research","13533-LSBM Clark, Shawn-Research",null,null,null,"AS113324354","Rebecca Lewis (113324354) Fine Arts & Communications - Dance","AS113324354-Rebecca Lewis (113324354) Fine Arts & Communications - Dance","Active",null,null,null,null,null,null,null,null,null,null,null,"SC6927","SC6927||1650","1650","Construction in Progress",null,"JE_PPE|JE_Override"]
[null,null,null,null,null,null,"AC00901","[HUM] English Internship Program","AC00901-[HUM] English Internship Program","Activity","FD03","Active","2025-03-17T16:11:52.698977+00:00",null,null,null,null,null,null,null,null,"13534","LSBM Baumann, Richard-Research","13534-LSBM Baumann, Richard-Research",null,null,null,"AS113348858","Mark Epling (113348858) OIT Leadership - CES Architecture","AS113348858-Mark Epling (113348858) OIT Leadership - CES Architecture","Active",null,null,null,null,null,null,null,null,null,null,null,"SC6927","SC6927||1651","1651","Construction in Progress (Non-Workday Projects)",null,"All"]
[null,null,null,null,null,null,"AC00902","[HUM] Graduate Studies (TR)","AC00902-[HUM] Graduate Studies (TR)","Activity","FD03","Active","2025-03-17T16:11:52.698977+00:00",null,null,null,null,null,null,null,null,"13535","LSBM Game Night","13535-LSBM Game Night",null,null,null,"AS113451975","Scott Baldwin (113451975) FHSS - Psychology","AS113451975-Scott Baldwin (113451975) FHSS - Psychology","Active",null,null,null,null,null,null,null,null,null,null,null,"SC6927","SC6927||1700","1700","Accumulated Depreciation",null,"JE_PPE|JE_Override"]
[null,null,null,null,null,null,"AC00903","[HUM] Grad Studies Mentor Grant","AC00903-[HUM] Grad Studies Mentor Grant","Activity","FD03","Active","2025-03-17T16:11:52.698977+00:00",null,null,null,null,null,null,null,null,"13536","LSBM Family Home Evening","13536-LSBM Family Home Evening",null,null,null,"AS113453562","Michael Pack (113453562) Sorensen Center","AS113453562-Michael Pack (113453562) Sorensen Center","Active",null,null,null,null,null,null,null,null,null,null,null,"SC6927","SC6927||6900","6900","Equipment, Software, Library","Primary","All"]
[null,null,null,null,null,null,"AC00904","[HUM] Advanced Writing Royalties","AC00904-[HUM] Advanced Writing Royalties","Activity","FD03","Active","2025-03-17T16:11:52.698977+00:00",null,null,null,null,null,null,null,null,"13537","LSBM Whiting, Mike-Insect-Rese","13537-LSBM Whiting, Mike-Insect-Rese",null,null,null,"AS113777939","Jeff Batt (113777939) MSE - Instructional Psychology & Technology","AS113777939-Jeff Batt (113777939) MSE - Instructional Psychology & Technology","Active",null,null,null,null,null,null,null,null,null,null,null,"SC6927","SC6927||8000","8000","Depreciation",null,"JE_PPE|JE_Override"]
[null,null,null,null,null,null,"AC00906","[HUM] English Dept Sunshine Fund","AC00906-[HUM] English Dept Sunshine Fund","Activity","FD07","Active","2025-03-17T16:11:52.698977+00:00",null,null,null,null,null,null,null,null,"13539","LSBM Rogers, Duke-Research","13539-LSBM Rogers, Duke-Research",null,null,null,"AS113815654","Shane Wright (113815654) International VP","AS113815654-Shane Wright (113815654) International VP","Active",null,null,null,null,null,null,null,null,null,null,null,"SC6928","SC6928||1400","1400","Prepaid Expenses",null,"All"]
[null,null,null,null,null,null,"AC00907","[HUM] Italian Club","AC00907-[HUM] Italian Club","Activity","FD02","Active","2025-03-17T16:11:52.698977+00:00",null,null,null,null,null,null,null,null,"13540","LSBM Utah Flora 5th Edition","13540-LSBM Utah Flora 5th Edition",null,null,null,"AS113878491","Scott McClellan (113878491) Facilities Planning and Design - Campus Projects","AS113878491-Scott McClellan (113878491) Facilities Planning and Design - Campus Projects","Active",null,null,null,null,null,null,null,null,null,null,null,"SC6928","SC6928||1625","1625","Capital Equipment",null,"JE_PPE|JE_Override"]
[null,null,null,null,null,null,"AC00908","[HUM] Pi Delta Phi","AC00908-[HUM] Pi Delta Phi","Activity","FD02","Active","2025-03-17T16:11:52.698977+00:00",null,null,null,null,null,null,null,null,"13542","LSBM Whiting, Alison-Research","13542-LSBM Whiting, Alison-Research",null,null,null,"AS114057097","Catherine Pavia (114057097) Humanities - English","AS114057097-Catherine Pavia (114057097) Humanities - English","Active",null,null,null,null,null,null,null,null,null,null,null,"SC6928","SC6928||1650","1650","Construction in Progress",null,"JE_PPE|JE_Override"]
[null,null,null,null,null,null,"AC00909","[HUM] The French Club","AC00909-[HUM] The French Club","Activity","FD02","Active","2025-03-17T16:11:52.698977+00:00",null,null,null,null,null,null,null,null,"13543","LSBM Bybee, Seth-Research","13543-LSBM Bybee, Seth-Research",null,null,null,"AS114158363","Jonathan Wade (114158363) Humanities - Spanish & Portuguese","AS114158363-Jonathan Wade (114158363) Humanities - Spanish & Portuguese","Active",null,null,null,null,null,null,null,null,null,null,null,"SC6928","SC6928||1651","1651","Construction in Progress (Non-Workday Projects)",null,"All"]
[null,null,null,null,null,null,"AC00910","[HUM] French Language Fair","AC00910-[HUM] French Language Fair","Activity","FD02","Active","2025-03-17T16:11:52.698977+00:00",null,null,null,null,null,null,null,null,"13544","LSBM Adams, Byron-Research","13544-LSBM Adams, Byron-Research",null,null,null,"AS114164260","Matthew Owens (114164260) PF Air Conditioning Shop","AS114164260-Matthew Owens (114164260) PF Air Conditioning Shop","Active",null,null,null,null,null,null,null,null,null,null,null,"SC6928","SC6928||1700","1700","Accumulated Depreciation",null,"JE_PPE|JE_Override"]
[null,null,null,null,null,null,"AC00911","[HUM] NCFS","AC00911-[HUM] NCFS","Activity","FD02","Active","2025-03-17T16:11:52.698977+00:00",null,null,null,null,null,null,null,null,"13546","LSBM Shiozawa, Dennis-Research","13546-LSBM Shiozawa, Dennis-Research",null,null,null,"AS114204612","Michelle Prososki","AS114204612-Michelle Prososki","Active",null,null,null,null,null,null,null,null,null,null,null,"SC6928","SC6928||6900","6900","Equipment, Software, Library","Primary","All"]
[null,null,null,null,null,null,"AC00912","[HUM] Their Story is Our Story","AC00912-[HUM] Their Story is Our Story","Activity","FD02","Active","2025-03-17T16:11:52.698977+00:00",null,null,null,null,null,null,null,null,"13547","LSBM Johnson, J - Fishes-Resea","13547-LSBM Johnson, J - Fishes-Resea",null,null,null,"AS114287004","Merry Bird (114287004) PF Building Operations","AS114287004-Merry Bird (114287004) PF Building Operations","Active",null,null,null,null,null,null,null,null,null,null,null,"SC6928","SC6928||8000","8000","Depreciation",null,"JE_PPE|JE_Override"]
[null,null,null,null,null,null,"AC00913","[HUM] French Language Experience","AC00913-[HUM] French Language Experience","Activity","FD03","Active","2025-03-17T16:11:52.698977+00:00",null,null,null,null,null,null,null,null,"13549","LSBM Museum Remodel","13549-LSBM Museum Remodel",null,null,null,"AS114308799","Joe Merrill (114308799) Retail Services - General Administration","AS114308799-Joe Merrill (114308799) Retail Services - General Administration","Active",null,null,null,null,null,null,null,null,null,null,null,"SC6929","SC6929||1400","1400","Prepaid Expenses",null,"All"]
[null,null,null,null,null,null,"AC00914","[HUM] Graduate Studies (TR)","AC00914-[HUM] Graduate Studies (TR)","Activity","FD03","Active","2025-03-17T16:11:52.698977+00:00",null,null,null,null,null,null,null,null,"13550","LSBM CITES","13550-LSBM CITES",null,null,null,"AS114478265","Taylor Burrell (114478265) PF Air Conditioning Shop","AS114478265-Taylor Burrell (114478265) PF Air Conditioning Shop","Active",null,null,null,null,null,null,null,null,null,null,null,"SC6929","SC6929||1625","1625","Capital Equipment",null,"JE_PPE|JE_Override"]
[null,null,null,null,null,null,"AC00916","[HUM] French & Italian Sunshine Fund","AC00916-[HUM] French & Italian Sunshine Fund","Activity","FD07","Active","2025-03-17T16:11:52.698977+00:00",null,null,null,null,null,null,null,null,"13551","LSBM Probst, Taylor-Research","13551-LSBM Probst, Taylor-Research",null,null,null,"AS114545215","Brent Barson (114545215) AVP - Dean, Fine Arts and Communications","AS114545215-Brent Barson (114545215) AVP - Dean, Fine Arts and Communications","Active",null,null,null,null,null,null,null,null,null,null,null,"SC6929","SC6929||1650","1650","Construction in Progress",null,"JE_PPE|JE_Override"]
[null,null,null,null,null,null,"AC00917","[HUM] German Language Fair","AC00917-[HUM] German Language Fair","Activity","FD02","Active","2025-03-17T16:11:52.698977+00:00",null,null,null,null,null,null,null,null,"13553","LSBM Lichens Curration","13553-LSBM Lichens Curration",null,null,null,"AS114817681","Christopher Burgess (114817681) Athletics - Men's Basketball","AS114817681-Christopher Burgess (114817681) Athletics - Men's Basketball","Active",null,null,null,null,null,null,null,null,null,null,null,"SC6929","SC6929||1651","1651","Construction in Progress (Non-Workday Projects)",null,"All"]
[null,null,null,null,null,null,"AC00918","[HUM] The German Society","AC00918-[HUM] The German Society","Activity","FD02","Active","2025-03-17T16:11:52.698977+00:00",null,null,null,null,null,null,null,null,"13554","LSBM Data Basing - Leigh","13554-LSBM Data Basing - Leigh",null,null,null,"AS115006992","Pam Dansie (115006992) PF Building Operations","AS115006992-Pam Dansie (115006992) PF Building Operations","Active",null,null,null,null,null,null,null,null,null,null,null,"SC6929","SC6929||1700","1700","Accumulated Depreciation",null,"JE_PPE|JE_Override"]
[null,null,null,null,null,null,"AC00919","[HUM] Russian Club","AC00919-[HUM] Russian Club","Activity","FD02","Active","2025-03-17T16:11:52.698977+00:00",null,null,null,null,null,null,null,null,"13555","LSBM Data Basing-Mike","13555-LSBM Data Basing-Mike",null,null,null,"AS115055430","Amy Foote (115055430) General Accounting","AS115055430-Amy Foote (115055430) General Accounting","Active",null,null,null,null,null,null,null,null,null,null,null,"SC6929","SC6929||6900","6900","Equipment, Software, Library","Primary","All"]
[null,null,null,null,null,null,"AC00920","[HUM] German Honor Society","AC00920-[HUM] German Honor Society","Activity","FD02","Active","2025-03-17T16:11:52.698977+00:00",null,null,null,null,null,null,null,null,"13557","LSBM Johnson, Leigh-Research","13557-LSBM Johnson, Leigh-Research",null,null,null,"AS115130085","Courtney Stephens (115130085) CE IS Course Dev - World Languages","AS115130085-Courtney Stephens (115130085) CE IS Course Dev - World Languages","Active",null,null,null,null,null,null,null,null,null,null,null,"SC6929","SC6929||8000","8000","Depreciation",null,"JE_PPE|JE_Override"]
[null,null,null,null,null,null,"AC00921","[HUM] Russian Honor Society","AC00921-[HUM] Russian Honor Society","Activity","FD02","Active","2025-03-17T16:11:52.698977+00:00",null,null,null,null,null,null,null,null,"13558","LSBM Johnson, Robert-Research","13558-LSBM Johnson, Robert-Research",null,null,null,"AS115241136","Kylie Patterson (115241136) Special Events","AS115241136-Kylie Patterson (115241136) Special Events","Active",null,null,null,null,null,null,null,null,null,null,null,"SC6930","SC6930||1400","1400","Prepaid Expenses",null,"All"]
[null,null,null,null,null,null,"AC00922","[HUM] Slovene Linguistics Studies","AC00922-[HUM] Slovene Linguistics Studies","Activity","FD02","Active","2025-03-17T16:11:52.698977+00:00",null,null,null,null,null,null,null,null,"13559","LSBM Quest for Knowledge","13559-LSBM Quest for Knowledge",null,null,null,"AS115640550","Todd Brown (115640550) CES Information Security Operations Center (CESSOC)","AS115640550-Todd Brown (115640550) CES Information Security Operations Center (CESSOC)","Active",null,null,null,null,null,null,null,null,null,null,null,"SC6930","SC6930||6900","6900","Equipment, Software, Library","Primary","All"]
[null,null,null,null,null,null,"AC00924","[HUM] ODH Ticcit","AC00924-[HUM] ODH Ticcit","Activity","FD01","Active","2025-03-17T16:11:52.698977+00:00",null,null,null,null,null,null,null,null,"13560","LSBM Hunter, Kennedy Rsrch","13560-LSBM Hunter, Kennedy Rsrch",null,null,null,"AS115778561","Maren Johnson (115778561) Humanities - English","AS115778561-Maren Johnson (115778561) Humanities - English","Active",null,null,null,null,null,null,null,null,null,null,null,"SC6931","SC6931||1400","1400","Prepaid Expenses",null,"All"]
[null,null,null,null,null,null,"AC00925","[HUM] DigHT","AC00925-[HUM] DigHT","Activity","FD01","Active","2025-03-17T16:11:52.698977+00:00",null,null,null,null,null,null,null,null,"13562","LSBM Sale/Expense-Mounts","13562-LSBM Sale/Expense-Mounts",null,null,null,"AS116029884","Kristen Betts (116029884) MSE  - Teacher Education","AS116029884-Kristen Betts (116029884) MSE  - Teacher Education","Active",null,null,null,null,null,null,null,null,null,null,null,"SC6931","SC6931||1625","1625","Capital Equipment",null,"JE_PPE|JE_Override"]
[null,null,null,null,null,null,"AC00926","[HUM] CLIPS","AC00926-[HUM] CLIPS","Activity","FD02","Active","2025-03-17T16:11:52.698977+00:00",null,null,null,null,null,null,null,null,"13563","LSBM Grants/Awards","13563-LSBM Grants/Awards",null,null,null,"AS116053592","Jared Bellon (116053592) PMPC Administration","AS116053592-Jared Bellon (116053592) PMPC Administration","Active",null,null,null,null,null,null,null,null,null,null,null,"SC6931","SC6931||1650","1650","Construction in Progress",null,"JE_PPE|JE_Override"]
[null,null,null,null,null,null,"AC00927","[HUM] FLATS","AC00927-[HUM] FLATS","Activity","FD03","Active","2025-03-17T16:11:52.698977+00:00",null,null,null,null,null,null,null,null,"13564","LSBM Nelson, Riley-Research","13564-LSBM Nelson, Riley-Research",null,null,null,"AS116189748","Greg Hooke (116189748) Asst Adm VP Physical Facil","AS116189748-Greg Hooke (116189748) Asst Adm VP Physical Facil","Active",null,null,null,null,null,null,null,null,null,null,null,"SC6931","SC6931||1651","1651","Construction in Progress (Non-Workday Projects)",null,"All"]
[null,null,null,null,null,null,"AC00928","[HUM] Research Match Funds","AC00928-[HUM] Research Match Funds","Activity","FD03","Active","2025-03-17T16:11:52.698977+00:00",null,null,null,null,null,null,null,null,"13565","LSBM Frandsen, Paul - Research","13565-LSBM Frandsen, Paul - Research",null,null,null,"AS116207011","Valerie Buck (116207011) Lee Library - Metadata & IT Division","AS116207011-Valerie Buck (116207011) Lee Library - Metadata & IT Division","Active",null,null,null,null,null,null,null,null,null,null,null,"SC6931","SC6931||1700","1700","Accumulated Depreciation",null,"JE_PPE|JE_Override"]
[null,null,null,null,null,null,"AC00930","[HUM] WordCruncher Operations, RTG","AC00930-[HUM] WordCruncher Operations, RTG","Activity","FD02","Active","2025-03-17T16:11:52.698977+00:00",null,null,null,null,null,null,null,null,"13566","LSBM Whipple, Clint - Research","13566-LSBM Whipple, Clint - Research",null,null,null,"AS116234850","Elsa Torgersen (116234850) CE FSY Logistics","AS116234850-Elsa Torgersen (116234850) CE FSY Logistics","Active",null,null,null,null,null,null,null,null,null,null,null,"SC6931","SC6931||6900","6900","Equipment, Software, Library","Primary","All"]
[null,null,null,null,null,null,"AC00931","[HUM] Comparative Studies-Graduates","AC00931-[HUM] Comparative Studies-Graduates","Activity","FD01","Active","2025-03-17T16:11:52.698977+00:00",null,null,null,null,null,null,null,null,"13567","LSBM Tree of Life Exhibit","13567-LSBM Tree of Life Exhibit",null,null,null,"AS116373126","Aaron Nielson (116373126) AVP - Dean, Clark Law School","AS116373126-Aaron Nielson (116373126) AVP - Dean, Clark Law School","Active",null,null,null,null,null,null,null,null,null,null,null,"SC6931","SC6931||8000","8000","Depreciation",null,"JE_PPE|JE_Override"]
[null,null,null,null,null,null,"AC00932","[HUM] Scandinavian Program","AC00932-[HUM] Scandinavian Program","Activity","FD01","Active","2025-03-17T16:11:52.698977+00:00",null,null,null,null,null,null,null,null,"13568","LSBM Social Media","13568-LSBM Social Media",null,null,null,"AS117041348","Shawn Trauntvein (117041348) Financial Aid and Scholarships","AS117041348-Shawn Trauntvein (117041348) Financial Aid and Scholarships","Active",null,null,null,null,null,null,null,null,null,null,null,"SC6932","SC6932||1400","1400","Prepaid Expenses",null,"All"]
[null,null,null,null,null,null,"AC00933","[HUM] Art History Association","AC00933-[HUM] Art History Association","Activity","FD02","Active","2025-03-17T16:11:52.698977+00:00",null,null,null,null,null,null,null,null,"13569","LSBM Book-Lichen","13569-LSBM Book-Lichen",null,null,null,"AS117156772","Laura Lamoreaux (117156772) College of Engineering - Chemical Engineering","AS117156772-Laura Lamoreaux (117156772) College of Engineering - Chemical Engineering","Active",null,null,null,null,null,null,null,null,null,null,null,"SC6932","SC6932||1625","1625","Capital Equipment",null,"JE_PPE|JE_Override"]
[null,null,null,null,null,null,"AC00934","[HUM] IHUM CLUB","AC00934-[HUM] IHUM CLUB","Activity","FD02","Active","2025-03-17T16:11:52.698977+00:00",null,null,null,null,null,null,null,null,"13570","LSBM Infromation Desk Supplies","13570-LSBM Infromation Desk Supplies",null,null,null,"AS117318368","Daniel Quarnberg (117318368) Law School","AS117318368-Daniel Quarnberg (117318368) Law School","Active",null,null,null,null,null,null,null,null,null,null,null,"SC6932","SC6932||1650","1650","Construction in Progress",null,"JE_PPE|JE_Override"]
[null,null,null,null,null,null,"AC00935","[HUM] Eta Sigma Phi","AC00935-[HUM] Eta Sigma Phi","Activity","FD02","Active","2025-03-17T16:11:52.698977+00:00",null,null,null,null,null,null,null,null,"13571","LSBM Recycling Exhibit","13571-LSBM Recycling Exhibit",null,null,null,"AS117344720","Joseph Hall (117344720) Dean's Office - CMS","AS117344720-Joseph Hall (117344720) Dean's Office - CMS","Active",null,null,null,null,null,null,null,null,null,null,null,"SC6932","SC6932||1651","1651","Construction in Progress (Non-Workday Projects)",null,"All"]
[null,null,null,null,null,null,"AC00936","[HUM] American Society of Papryologists","AC00936-[HUM] American Society of Papryologists","Activity","FD02","Active","2025-03-17T16:11:52.698977+00:00",null,null,null,null,null,null,null,null,"13572","LSBM Africa Room Exhibit","13572-LSBM Africa Room Exhibit",null,null,null,"AS117548330","Julia Ashworth (117548330) Fine Arts & Communications - Theatre & Media Arts","AS117548330-Julia Ashworth (117548330) Fine Arts & Communications - Theatre & Media Arts","Active",null,null,null,null,null,null,null,null,null,null,null,"SC6932","SC6932||1700","1700","Accumulated Depreciation",null,"JE_PPE|JE_Override"]
[null,null,null,null,null,null,"AC00937","[HUM] Journal of American Culture","AC00937-[HUM] Journal of American Culture","Activity","FD02","Active","2025-03-17T16:11:52.698977+00:00",null,null,null,null,null,null,null,null,"13573","LSBM Connections Exhibit","13573-LSBM Connections Exhibit",null,null,null,"AS117745761","Curtis Child (117745761) AVP - Dean, Family Home Social Science (FHSS)","AS117745761-Curtis Child (117745761) AVP - Dean, Family Home Social Science (FHSS)","Active",null,null,null,null,null,null,null,null,null,null,null,"SC6932","SC6932||6900","6900","Equipment, Software, Library","Primary","All"]
[null,null,null,null,null,null,"AC00938","[HUM] BYU Scandinavian Club","AC00938-[HUM] BYU Scandinavian Club","Activity","FD02","Active","2025-03-17T16:11:52.698977+00:00",null,null,null,null,null,null,null,null,"13574","LSBM Insect Color Exhibit","13574-LSBM Insect Color Exhibit",null,null,null,"AS117773720","Steve Hill (117773720) Enrollment Services Executive Director's Office","AS117773720-Steve Hill (117773720) Enrollment Services Executive Director's Office","Active",null,null,null,null,null,null,null,null,null,null,null,"SC6932","SC6932||8000","8000","Depreciation",null,"JE_PPE|JE_Override"]
[null,null,null,null,null,null,"AC00939","[HUM] Scandinavian Internshp Program","AC00939-[HUM] Scandinavian Internshp Program","Activity","FD03","Active","2025-03-17T16:11:52.698977+00:00",null,null,null,null,null,null,null,null,"13575","LSBM Covid Exhibit","13575-LSBM Covid Exhibit",null,null,null,"AS117842228","Cordell Briggs (117842228) Dining Services","AS117842228-Cordell Briggs (117842228) Dining Services","Active",null,null,null,null,null,null,null,null,null,null,null,"SC6933","SC6933||1400","1400","Prepaid Expenses",null,"All"]
[null,null,null,null,null,null,"AC00940","[HUM] HUM 101 Course Support","AC00940-[HUM] HUM 101 Course Support","Activity","FD03","Active","2025-03-17T16:11:52.698977+00:00",null,null,null,null,null,null,null,null,"13576","LSBM Climate Change Exhibit","13576-LSBM Climate Change Exhibit",null,null,null,"AS118085270","Gina Jackson (118085270) College of Nursing","AS118085270-Gina Jackson (118085270) College of Nursing","Active",null,null,null,null,null,null,null,null,null,null,null,"SC6933","SC6933||1637","1637","Software",null,"JE_PPE|JE_Override"]
[null,null,null,null,null,null,"AC00942","[HUM] Humanities Publication Center-Editors","AC00942-[HUM] Humanities Publication Center-Editors","Activity","FD01","Active","2025-03-17T16:11:52.698977+00:00",null,null,null,null,null,null,null,null,"13577","LSBM Seeds Exhibit","13577-LSBM Seeds Exhibit",null,null,null,"AS118518496","Phillip Hartog (118518496) Athletics - Olympic Sport Medicine","AS118518496-Phillip Hartog (118518496) Athletics - Olympic Sport Medicine","Active",null,null,null,null,null,null,null,null,null,null,null,"SC6933","SC6933||1700","1700","Accumulated Depreciation",null,"JE_PPE|JE_Override"]
[null,null,null,null,null,null,"AC00943","[HUM] Move and Stance Research Group","AC00943-[HUM] Move and Stance Research Group","Activity","FD01","Active","2025-03-17T16:11:52.698977+00:00",null,null,null,null,null,null,null,null,"13578","LSBM Diversification Exhibit","13578-LSBM Diversification Exhibit",null,null,null,"AS118901715","Pace Nielsen (118901715) CMS - Mathematics","AS118901715-Pace Nielsen (118901715) CMS - Mathematics","Active",null,null,null,null,null,null,null,null,null,null,null,"SC6933","SC6933||6900","6900","Equipment, Software, Library","Primary","All"]
[null,null,null,null,null,null,"AC00944","[HUM] Linguistics Graduate","AC00944-[HUM] Linguistics Graduate","Activity","FD01","Active","2025-03-17T16:11:52.698977+00:00",null,null,null,null,null,null,null,null,"13579","LSBM Donation Box","13579-LSBM Donation Box",null,null,null,"AS119095763","David Sims (119095763) FHSS - Economics","AS119095763-David Sims (119095763) FHSS - Economics","Active",null,null,null,null,null,null,null,null,null,null,null,"SC6933","SC6933||8000","8000","Depreciation",null,"JE_PPE|JE_Override"]
[null,null,null,null,null,null,"AC00945","[HUM] Humanities Publication Center-Operations","AC00945-[HUM] Humanities Publication Center-Operations","Activity","FD02","Active","2025-03-17T16:11:52.698977+00:00",null,null,null,null,null,null,null,null,"13580","LSBM Photo Show","13580-LSBM Photo Show",null,null,null,"AS119110661","Mark Beecher (119110661) Student Life VP","AS119110661-Mark Beecher (119110661) Student Life VP","Active",null,null,null,null,null,null,null,null,null,null,null,"SC6934","SC6934||1400","1400","Prepaid Expenses",null,"All"]
[null,null,null,null,null,null,"AC00946","[HUM] The Leading Edge","AC00946-[HUM] The Leading Edge","Activity","FD02","Active","2025-03-17T16:11:52.698977+00:00",null,null,null,null,null,null,null,null,"13581","LSBM LM-1 Truck","13581-LSBM LM-1 Truck",null,null,null,"AS119352652","Travis Dance (119352652) PF Planning & Construction - Major Projects","AS119352652-Travis Dance (119352652) PF Planning & Construction - Major Projects","Active",null,null,null,null,null,null,null,null,null,null,null,"SC6934","SC6934||6900","6900","Equipment, Software, Library","Primary","All"]
[null,null,null,null,null,null,"AC00947","[HUM] Linguistics Student Society","AC00947-[HUM] Linguistics Student Society","Activity","FD02","Active","2025-03-17T16:11:52.698977+00:00",null,null,null,null,null,null,null,null,"13584","LSBM LM-2 Camry -Grey","13584-LSBM LM-2 Camry -Grey",null,null,null,"AS119433638","Emilee Barrett (119433638) CE Test Prep & Youth Programs","AS119433638-Emilee Barrett (119433638) CE Test Prep & Youth Programs","Active",null,null,null,null,null,null,null,null,null,null,null,"SC6935","SC6935||1400","1400","Prepaid Expenses",null,"All"]
[null,null,null,null,null,null,"AC00948","[HUM] STET - The Editors Network","AC00948-[HUM] STET - The Editors Network","Activity","FD02","Active","2025-03-17T16:11:52.698977+00:00",null,null,null,null,null,null,null,null,"13586","Lytle Improvements","13586-Lytle Improvements",null,null,null,"AS119461870","Troy Wilde (119461870) OIT Portfolio - Identity","AS119461870-Troy Wilde (119461870) OIT Portfolio - Identity","Active",null,null,null,null,null,null,null,null,null,null,null,"SC6935","SC6935||1625","1625","Capital Equipment",null,"JE_PPE|JE_Override"]
[null,null,null,null,null,null,"AC00949","[HUM] ELANG 430R Stowaway Mag","AC00949-[HUM] ELANG 430R Stowaway Mag","Activity","FD02","Active","2025-03-17T16:11:52.698977+00:00",null,null,null,null,null,null,null,null,"13587","LSBM LM-1 Truck Rental","13587-LSBM LM-1 Truck Rental",null,null,null,"AS119593747","Cindy Monson Litchford (119593747) Athletics - Track & Field","AS119593747-Cindy Monson Litchford (119593747) Athletics - Track & Field","Active",null,null,null,null,null,null,null,null,null,null,null,"SC6935","SC6935||1650","1650","Construction in Progress",null,"JE_PPE|JE_Override"]
[null,null,null,null,null,null,"AC00950","[HUM] Ling Royalties","AC00950-[HUM] Ling Royalties","Activity","FD03","Active","2025-03-17T16:11:52.698977+00:00",null,null,null,null,null,null,null,null,"13588","LSBM Leavitt, Steve-Research","13588-LSBM Leavitt, Steve-Research",null,null,null,"AS119743920","Kris Nelson (119743920) Academic Vice President","AS119743920-Kris Nelson (119743920) Academic Vice President","Active",null,null,null,null,null,null,null,null,null,null,null,"SC6935","SC6935||1651","1651","Construction in Progress (Non-Workday Projects)",null,"All"]
[null,null,null,null,null,null,"AC00951","[HUM] Graduate Studies (TR)","AC00951-[HUM] Graduate Studies (TR)","Activity","FD03","Active","2025-03-17T16:11:52.698977+00:00",null,null,null,null,null,null,null,null,"13589","LSBM Tanner Lecture","13589-LSBM Tanner Lecture",null,null,null,"AS119812781","Bill Keenan (119812781) Business Career Center","AS119812781-Bill Keenan (119812781) Business Career Center","Active",null,null,null,null,null,null,null,null,null,null,null,"SC6935","SC6935||1700","1700","Accumulated Depreciation",null,"JE_PPE|JE_Override"]
[null,null,null,null,null,null,"AC00952","[HUM] Editing Internshhip Enhancemen","AC00952-[HUM] Editing Internshhip Enhancemen","Activity","FD03","Active","2025-03-17T16:11:52.698977+00:00",null,null,null,null,null,null,null,null,"13590","LSBM Halloween Family Night","13590-LSBM Halloween Family Night",null,null,null,"AS119933025","Samuel Payne (119933025) Life Sciences - Biology","AS119933025-Samuel Payne (119933025) Life Sciences - Biology","Active",null,null,null,null,null,null,null,null,null,null,null,"SC6935","SC6935||6900","6900","Equipment, Software, Library","Primary","All"]
[null,null,null,null,null,null,"AC00955","[HUM] Spanish and Portuguese Graduate","AC00955-[HUM] Spanish and Portuguese Graduate","Activity","FD01","Active","2025-03-17T16:11:52.698977+00:00",null,null,null,null,null,null,null,null,"13591","LSBM Easter Family Night","13591-LSBM Easter Family Night",null,null,null,"AS120315123","Jordan Brady (120315123) Athletics - Men's Basketball","AS120315123-Jordan Brady (120315123) Athletics - Men's Basketball","Active",null,null,null,null,null,null,null,null,null,null,null,"SC6935","SC6935||8000","8000","Depreciation",null,"JE_PPE|JE_Override"]
[null,null,null,null,null,null,"AC00956","[HUM] Spanish Resource Center","AC00956-[HUM] Spanish Resource Center","Activity","FD01","Active","2025-03-17T16:11:52.698977+00:00",null,null,null,null,null,null,null,null,"13592","LSBM Night at the Museums","13592-LSBM Night at the Museums",null,null,null,"AS120405939","Ann Marie Lambert (120405939) Honor Code Office","AS120405939-Ann Marie Lambert (120405939) Honor Code Office","Active",null,null,null,null,null,null,null,null,null,null,null,"SC6936","SC6936||1400","1400","Prepaid Expenses",null,"All"]
[null,null,null,null,null,null,"AC00957","[HUM] Educational Outreach-S&P","AC00957-[HUM] Educational Outreach-S&P","Activity","FD02","Active","2025-03-17T16:11:52.698977+00:00",null,null,null,null,null,null,null,null,"13593","LSBM Promotional Giveaways","13593-LSBM Promotional Giveaways",null,null,null,"AS120420148","Victor Pinto (120420148) PF Paint & Sign Shop","AS120420148-Victor Pinto (120420148) PF Paint & Sign Shop","Active",null,null,null,null,null,null,null,null,null,null,null,"SC6936","SC6936||6900","6900","Equipment, Software, Library","Primary","All"]
[null,null,null,null,null,null,"AC00958","[HUM] Spanish Musical Group","AC00958-[HUM] Spanish Musical Group","Activity","FD02","Active","2025-03-17T16:11:52.698977+00:00",null,null,null,null,null,null,null,null,"13594","LSBM Discover Utah-Shelf Exhib","13594-LSBM Discover Utah-Shelf Exhib",null,null,null,"AS120428382","Jennifer Schill (120428382) Research & Learning - Social Sciences","AS120428382-Jennifer Schill (120428382) Research & Learning - Social Sciences","Active",null,null,null,null,null,null,null,null,null,null,null,"SC6937","SC6937||1400","1400","Prepaid Expenses",null,"All"]
[null,null,null,null,null,null,"AC00959","[HUM] Sigma Delta Pi","AC00959-[HUM] Sigma Delta Pi","Activity","FD02","Active","2025-03-17T16:11:52.698977+00:00",null,null,null,null,null,null,null,null,"13595","LSBM Marketing","13595-LSBM Marketing",null,null,null,"AS120510499","Iz Boekweg (120510499) PF Grounds - Site & Landscape Construction","AS120510499-Iz Boekweg (120510499) PF Grounds - Site & Landscape Construction","Active",null,null,null,null,null,null,null,null,null,null,null,"SC6937","SC6937||1630","1630","Vehicles",null,"JE_PPE|JE_Override"]
[null,null,null,null,null,null,"AC00960","[HUM] Phi Lambda Beta - Beta Ypsilon","AC00960-[HUM] Phi Lambda Beta - Beta Ypsilon","Activity","FD02","Active","2025-03-17T16:11:52.698977+00:00",null,null,null,null,null,null,null,null,"13596","LSBM Lytle Max-Planck-Inst-cle","13596-LSBM Lytle Max-Planck-Inst-cle",null,null,null,"AS120636344","Scott Webb (120636344) MSB - Marketing & Global Supply Chain","AS120636344-Scott Webb (120636344) MSB - Marketing & Global Supply Chain","Active",null,null,null,null,null,null,null,null,null,null,null,"SC6937","SC6937||1700","1700","Accumulated Depreciation",null,"JE_PPE|JE_Override"]
[null,null,null,null,null,null,"AC00961","[HUM] Spanish 321 Royalties","AC00961-[HUM] Spanish 321 Royalties","Activity","FD03","Active","2025-03-17T16:11:52.698977+00:00",null,null,null,null,null,null,null,null,"13597","LSBM Lytle Land","13597-LSBM Lytle Land",null,null,null,"AS120701340","Aaron Moody (120701340) CE Registration & Cashier","AS120701340-Aaron Moody (120701340) CE Registration & Cashier","Active",null,null,null,null,null,null,null,null,null,null,null,"SC6937","SC6937||6900","6900","Equipment, Software, Library","Primary","All"]
[null,null,null,null,null,null,"AC00963","[HUM] Span & Port Sunshine Fund","AC00963-[HUM] Span & Port Sunshine Fund","Activity","FD07","Active","2025-03-17T16:11:52.698977+00:00",null,null,null,null,null,null,null,null,"13598","LSBM Residual Const Funds","13598-LSBM Residual Const Funds",null,null,null,"AS120882572","Kalani Sitake (120882572) Advance VP - Director, Athletics","AS120882572-Kalani Sitake (120882572) Advance VP - Director, Athletics","Active",null,null,null,null,null,null,null,null,null,null,null,"SC6937","SC6937||8000","8000","Depreciation",null,"JE_PPE|JE_Override"]
[null,null,null,null,null,null,"AC00964","[MSE] School Research","AC00964-[MSE] School Research","Activity","FD01","Active","2025-03-17T16:11:52.698977+00:00",null,null,null,null,null,null,null,null,"13599","LSBM Lytle home remodel","13599-LSBM Lytle home remodel",null,null,null,"AS120961401","Stephanie Breinholt (120961401) Fine Arts & Communications - Theatre & Media Arts","AS120961401-Stephanie Breinholt (120961401) Fine Arts & Communications - Theatre & Media Arts","Active",null,null,null,null,null,null,null,null,null,null,null,"SC6938","SC6938||1400","1400","Prepaid Expenses",null,"All"]
[null,null,null,null,null,null,"AC00965","[MSE] Ed Inquiry, Measurement, Eval","AC00965-[MSE] Ed Inquiry, Measurement, Eval","Activity","FD01","Active","2025-03-17T16:11:52.698977+00:00",null,null,null,null,null,null,null,null,"13600","LSBI Res Cycle Sequencing","13600-LSBI Res Cycle Sequencing",null,null,null,"AS121137236","Bryan Hamblin (121137236) AVP - Dean, Clark Law School","AS121137236-Bryan Hamblin (121137236) AVP - Dean, Clark Law School","Active",null,null,null,null,null,null,null,null,null,null,null,"SC6938","SC6938||1625","1625","Capital Equipment",null,"JE_PPE|JE_Override"]
[null,null,null,null,null,null,"AC00966","[MSE] University Research","AC00966-[MSE] University Research","Activity","FD01","Active","2025-03-17T16:11:52.698977+00:00",null,null,null,null,null,null,null,null,"13601","LSBI Res Lane Usage","13601-LSBI Res Lane Usage",null,null,null,"AS121169186","William Rust (121169186) College of Engineering - Mechanical Engineering","AS121169186-William Rust (121169186) College of Engineering - Mechanical Engineering","Active",null,null,null,null,null,null,null,null,null,null,null,"SC6938","SC6938||1700","1700","Accumulated Depreciation",null,"JE_PPE|JE_Override"]
[null,null,null,null,null,null,"AC00967","[MSE] Visiting Scholars","AC00967-[MSE] Visiting Scholars","Activity","FD01","Active","2025-03-17T16:11:52.698977+00:00",null,null,null,null,null,null,null,null,"13602","LSBI Res Fragment Analysis","13602-LSBI Res Fragment Analysis",null,null,null,"AS121548413","Quint Colman (121548413) PMPC Administration","AS121548413-Quint Colman (121548413) PMPC Administration","Active",null,null,null,null,null,null,null,null,null,null,null,"SC6938","SC6938||6900","6900","Equipment, Software, Library","Primary","All"]
[null,null,null,null,null,null,"AC00968","[MSE] PPAT Student Support","AC00968-[MSE] PPAT Student Support","Activity","FD01","Active","2025-03-17T16:11:52.698977+00:00",null,null,null,null,null,null,null,null,"13603","LSBI Res Big Dye","13603-LSBI Res Big Dye",null,null,null,"AS121668778","Bethany Duerst (121668778) Staff Compensation","AS121668778-Bethany Duerst (121668778) Staff Compensation","Active",null,null,null,null,null,null,null,null,null,null,null,"SC6938","SC6938||8000","8000","Depreciation",null,"JE_PPE|JE_Override"]
[null,null,null,null,null,null,"AC00969","[MSE] Student Teaching Sup","AC00969-[MSE] Student Teaching Sup","Activity","FD01","Active","2025-03-17T16:11:52.698977+00:00",null,null,null,null,null,null,null,null,"13604","LSBI Res PacBio Sequel","13604-LSBI Res PacBio Sequel",null,null,null,"AS121684964","Jenny Wheeler (121684964) AAVP, Faculty Dev - University Librarian, Lee Library","AS121684964-Jenny Wheeler (121684964) AAVP, Faculty Dev - University Librarian, Lee Library","Active",null,null,null,null,null,null,null,null,null,null,null,"SC6939","SC6939||1400","1400","Prepaid Expenses",null,"All"]
[null,null,null,null,null,null,"AC00970","[MSE] Grad Student Support","AC00970-[MSE] Grad Student Support","Activity","FD01","Active","2025-03-17T16:11:52.698977+00:00",null,null,null,null,null,null,null,null,"13605","LSBI Res Illumina","13605-LSBI Res Illumina",null,null,null,"AS121802238","Tom Pittman (121802238) Dean's Office FHSS","AS121802238-Tom Pittman (121802238) Dean's Office FHSS","Active",null,null,null,null,null,null,null,null,null,null,null,"SC6939","SC6939||1625","1625","Capital Equipment",null,"JE_PPE|JE_Override"]
[null,null,null,null,null,null,"AC00971","[MSE] Coop Teach Cash","AC00971-[MSE] Coop Teach Cash","Activity","FD01","Active","2025-03-17T16:11:52.698977+00:00",null,null,null,null,null,null,null,null,"13606","LSBI Res pg and Agilent bioana","13606-LSBI Res pg and Agilent bioana",null,null,null,"AS121934274","Inho Jung (121934274) Humanities - Asian & Near Eastern Languages","AS121934274-Inho Jung (121934274) Humanities - Asian & Near Eastern Languages","Active",null,null,null,null,null,null,null,null,null,null,null,"SC6939","SC6939||1650","1650","Construction in Progress",null,"JE_PPE|JE_Override"]
[null,null,null,null,null,null,"AC00972","[MSE] Education Advisement","AC00972-[MSE] Education Advisement","Activity","FD01","Active","2025-03-17T16:11:52.698977+00:00",null,null,null,null,null,null,null,null,"13607","LSBI Womens Resrch Init 2020","13607-LSBI Womens Resrch Init 2020",null,null,null,"AS121944169","Duncan Larsen (121944169) Dean's Office - College of Engineering","AS121944169-Duncan Larsen (121944169) Dean's Office - College of Engineering","Active",null,null,null,null,null,null,null,null,null,null,null,"SC6939","SC6939||1651","1651","Construction in Progress (Non-Workday Projects)",null,"All"]
[null,null,null,null,null,null,"AC00973","[MSE] Accounting","AC00973-[MSE] Accounting","Activity","FD01","Active","2025-03-17T16:11:52.698977+00:00",null,null,null,null,null,null,null,null,"13608","LSBI Bio 550 Behavioral Ecolog","13608-LSBI Bio 550 Behavioral Ecolog",null,null,null,"AS121995597","Eric Bybee (121995597) MSE  - Teacher Education","AS121995597-Eric Bybee (121995597) MSE  - Teacher Education","Active",null,null,null,null,null,null,null,null,null,null,null,"SC6939","SC6939||1700","1700","Accumulated Depreciation",null,"JE_PPE|JE_Override"]
[null,null,null,null,null,null,"AC00974","[MSE] MSE Multicultural Committee","AC00974-[MSE] MSE Multicultural Committee","Activity","FD01","Active","2025-03-17T16:11:52.698977+00:00",null,null,null,null,null,null,null,null,"13609","LSBI EEL Facility-Research","13609-LSBI EEL Facility-Research",null,null,null,"AS122125065","David Burnett (122125065) OIT Core -  Tech Support","AS122125065-David Burnett (122125065) OIT Core -  Tech Support","Active",null,null,null,null,null,null,null,null,null,null,null,"SC6939","SC6939||6900","6900","Equipment, Software, Library","Primary","All"]
[null,null,null,null,null,null,"AC00975","[MSE] Tech Lab","AC00975-[MSE] Tech Lab","Activity","FD01","Active","2025-03-17T16:11:52.698977+00:00",null,null,null,null,null,null,null,null,"13610","LSBI Bio 235 Field Botany","13610-LSBI Bio 235 Field Botany",null,null,null,"AS122238061","Eusebio Enciso (122238061) Culinary Support Center","AS122238061-Eusebio Enciso (122238061) Culinary Support Center","Active",null,null,null,null,null,null,null,null,null,null,null,"SC6939","SC6939||8000","8000","Depreciation",null,"JE_PPE|JE_Override"]
[null,null,null,null,null,null,"AC00976","[MSE] Education Computing Support","AC00976-[MSE] Education Computing Support","Activity","FD01","Active","2025-03-17T16:11:52.698977+00:00",null,null,null,null,null,null,null,null,"13611","LSBI Bio 364 Bioinfomatics Alg","13611-LSBI Bio 364 Bioinfomatics Alg",null,null,null,"AS122333112","Brigham Talbot (122333112) Registrar's Office","AS122333112-Brigham Talbot (122333112) Registrar's Office","Active",null,null,null,null,null,null,null,null,null,null,null,"SC6940","SC6940||1300","1300","Inventory","Primary","All"]
[null,null,null,null,null,null,"AC00977","[MSE] Accreditation Assessment","AC00977-[MSE] Accreditation Assessment","Activity","FD01","Active","2025-03-17T16:11:52.698977+00:00",null,null,null,null,null,null,null,null,"13612","LSBI Bio 291R Vet Med Seminar","13612-LSBI Bio 291R Vet Med Seminar",null,null,null,"AS122381038","James White (122381038) Cougareat","AS122381038-James White (122381038) Cougareat","Active",null,null,null,null,null,null,null,null,null,null,null,"SC6940","SC6940||1650","1650","Construction in Progress",null,"JE_PPE|JE_Override"]
[null,null,null,null,null,null,"AC00978","[MSE] CITES Fellowship","AC00978-[MSE] CITES Fellowship","Activity","FD01","Active","2025-03-17T16:11:52.698977+00:00",null,null,null,null,null,null,null,null,"13613","LSBI Bio 392R Prevet Preceptor","13613-LSBI Bio 392R Prevet Preceptor",null,null,null,"AS122448945","E.J. Caffaro (122448945) Enrollment Services Office","AS122448945-E.J. Caffaro (122448945) Enrollment Services Office","Active",null,null,null,null,null,null,null,null,null,null,null,"SC6940","SC6940||4900","4900","Cost of Sales",null,"All"]
[null,null,null,null,null,null,"AC00979","[MSE] Grant Specialist","AC00979-[MSE] Grant Specialist","Activity","FD01","Active","2025-03-17T16:11:52.698977+00:00",null,null,null,null,null,null,null,null,"13614","LSBI Bio 120 Field Biology","13614-LSBI Bio 120 Field Biology",null,null,null,"AS122455676","Daniel Bradshaw (122455676) Fine Arts & Communications - School of Music","AS122455676-Daniel Bradshaw (122455676) Fine Arts & Communications - School of Music","Active",null,null,null,null,null,null,null,null,null,null,null,"SC6940","SC6940||6900","6900","Equipment, Software, Library",null,"All"]
[null,null,null,null,null,null,"AC00980","[MSE] Research Office","AC00980-[MSE] Research Office","Activity","FD01","Active","2025-03-17T16:11:52.698977+00:00",null,null,null,null,null,null,null,null,"13615","LSBI Bio 380 Animal Phys Anato","13615-LSBI Bio 380 Animal Phys Anato",null,null,null,"AS122543874","Eric Howard (122543874) Lee Library - Communications","AS122543874-Eric Howard (122543874) Lee Library - Communications","Active",null,null,null,null,null,null,null,null,null,null,null,"SC6941","SC6941||1300","1300","Inventory","Primary","All"]
[null,null,null,null,null,null,"AC00981","[MSE] AIME Club","AC00981-[MSE] AIME Club","Activity","FD02","Active","2025-03-17T16:11:52.698977+00:00",null,null,null,null,null,null,null,null,"13616","LSBI Bio 447 Mammology","13616-LSBI Bio 447 Mammology",null,null,null,"AS122597533","Kendall Wilson (122597533) PF Carpenter Shop","AS122597533-Kendall Wilson (122597533) PF Carpenter Shop","Active",null,null,null,null,null,null,null,null,null,null,null,"SC6941","SC6941||1650","1650","Construction in Progress",null,"JE_PPE|JE_Override"]
[null,null,null,null,null,null,"AC00982","[MSE] Student Teaching Fee","AC00982-[MSE] Student Teaching Fee","Activity","FD03","Active","2025-03-17T16:11:52.698977+00:00",null,null,null,null,null,null,null,null,"13617","LSBI Bio 557 Stream Ecology","13617-LSBI Bio 557 Stream Ecology",null,null,null,"AS122658126","Steven Wood (122658126) CMS - Chemistry and Biochemistry","AS122658126-Steven Wood (122658126) CMS - Chemistry and Biochemistry","Active",null,null,null,null,null,null,null,null,null,null,null,"SC6941","SC6941||4900","4900","Cost of Sales",null,"All"]
[null,null,null,null,null,null,"AC00983","[MSE] Beede Project User Payments","AC00983-[MSE] Beede Project User Payments","Activity","FD03","Active","2025-03-17T16:11:52.698977+00:00",null,null,null,null,null,null,null,null,"13618","LSBI Bio 443 Icthyology","13618-LSBI Bio 443 Icthyology",null,null,null,"AS123043357","Kiri Case (123043357) Humanities - English","AS123043357-Kiri Case (123043357) Humanities - English","Active",null,null,null,null,null,null,null,null,null,null,null,"SC6941","SC6941||6900","6900","Equipment, Software, Library",null,"All"]
[null,null,null,null,null,null,"AC00984","[MSE] Critical Thinking","AC00984-[MSE] Critical Thinking","Activity","FD03","Active","2025-03-17T16:11:52.698977+00:00",null,null,null,null,null,null,null,null,"13619","LSBI Bio 194 Intro to Mentored","13619-LSBI Bio 194 Intro to Mentored",null,null,null,"AS123392561","Debbie Tehrani (123392561) PF Building Projects, Maintenance & Transportation Services","AS123392561-Debbie Tehrani (123392561) PF Building Projects, Maintenance & Transportation Services","Active",null,null,null,null,null,null,null,null,null,null,null,"SC6942","SC6942||1300","1300","Inventory","Primary","All"]
[null,null,null,null,null,null,"AC00985","[MSE] What's Best for Matthew Paymnt","AC00985-[MSE] What's Best for Matthew Paymnt","Activity","FD03","Active","2025-03-17T16:11:52.698977+00:00",null,null,null,null,null,null,null,null,"13620","LSBI Dept Funds Allocation-Fun","13620-LSBI Dept Funds Allocation-Fun",null,null,null,"AS123417982","Ansalee Greenwood (123417982) Humanities - English","AS123417982-Ansalee Greenwood (123417982) Humanities - English","Active",null,null,null,null,null,null,null,null,null,null,null,"SC6942","SC6942||1650","1650","Construction in Progress",null,"JE_PPE|JE_Override"]
[null,null,null,null,null,null,"AC00986","[MSE] Beede Distribution Account","AC00986-[MSE] Beede Distribution Account","Activity","FD03","Active","2025-03-17T16:11:52.698977+00:00",null,null,null,null,null,null,null,null,"13621","LSBI South Pacific Projects","13621-LSBI South Pacific Projects",null,null,null,"AS123433674","Othello Richards (123433674) Fine Arts & Communications - School of Communications","AS123433674-Othello Richards (123433674) Fine Arts & Communications - School of Communications","Active",null,null,null,null,null,null,null,null,null,null,null,"SC6942","SC6942||4900","4900","Cost of Sales",null,"All"]
[null,null,null,null,null,null,"AC00987","[MSE] Live Text Licensing Fee","AC00987-[MSE] Live Text Licensing Fee","Activity","FD03","Active","2025-03-17T16:11:52.698977+00:00",null,null,null,null,null,null,null,null,"13622","LSBI AD1 (McMillian)","13622-LSBI AD1 (McMillian)",null,null,null,"AS123542369","Gary Whitaker (123542369) Dining Administration","AS123542369-Gary Whitaker (123542369) Dining Administration","Active",null,null,null,null,null,null,null,null,null,null,null,"SC6942","SC6942||6900","6900","Equipment, Software, Library",null,"All"]
[null,null,null,null,null,null,"AC00988","[MSE] Student Teachers","AC00988-[MSE] Student Teachers","Activity","FD03","Active","2025-03-17T16:11:52.698977+00:00",null,null,null,null,null,null,null,null,"13623","LSBI Alzheimer s Disease","13623-LSBI Alzheimer s Disease",null,null,null,"AS123563353","Nicole Donahoo (123563353) MSB - School of Accountancy","AS123563353-Nicole Donahoo (123563353) MSB - School of Accountancy","Active",null,null,null,null,null,null,null,null,null,null,null,"SC6943","SC6943||1300","1300","Inventory","Primary","All"]
[null,null,null,null,null,null,"AC00989","[MSE] MSE Professional Development","AC00989-[MSE] MSE Professional Development","Activity","FD03","Active","2025-03-17T16:11:52.698977+00:00",null,null,null,null,null,null,null,null,"13624","LSBI Bio 264 Stat Analy for Bi","13624-LSBI Bio 264 Stat Analy for Bi",null,null,null,"AS123697382","Jeff Copas (123697382) PF Building Operations","AS123697382-Jeff Copas (123697382) PF Building Operations","Active",null,null,null,null,null,null,null,null,null,null,null,"SC6943","SC6943||1650","1650","Construction in Progress",null,"JE_PPE|JE_Override"]
[null,null,null,null,null,null,"AC00990","[MSE] Education - President's Innova","AC00990-[MSE] Education - President's Innova","Activity","FD03","Active","2025-03-17T16:11:52.698977+00:00",null,null,null,null,null,null,null,null,"13625","LSBI Leavitt, Steve","13625-LSBI Leavitt, Steve",null,null,null,"AS123812983","Mira Larsen (123812983) Fine Arts & Communications - Dance","AS123812983-Mira Larsen (123812983) Fine Arts & Communications - Dance","Active",null,null,null,null,null,null,null,null,null,null,null,"SC6943","SC6943||4900","4900","Cost of Sales",null,"All"]
[null,null,null,null,null,null,"AC00991","[MSE] Experiential Inspiring Learn","AC00991-[MSE] Experiential Inspiring Learn","Activity","FD03","Active","2025-03-17T16:11:52.698977+00:00",null,null,null,null,null,null,null,null,"13626","LSBI Bio 100 Online Developmen","13626-LSBI Bio 100 Online Developmen",null,null,null,"AS123820240","Ron Hager (123820240) Life Sciences - Exercise Sciences","AS123820240-Ron Hager (123820240) Life Sciences - Exercise Sciences","Active",null,null,null,null,null,null,null,null,null,null,null,"SC6943","SC6943||6900","6900","Equipment, Software, Library",null,"All"]
[null,null,null,null,null,null,"AC00992","[MSE] Teacher ED Sunshine Fund","AC00992-[MSE] Teacher ED Sunshine Fund","Activity","FD07","Active","2025-03-17T16:11:52.698977+00:00",null,null,null,null,null,null,null,null,"13627","LSBI Evolution Display Case","13627-LSBI Evolution Display Case",null,null,null,"AS123985964","Stephen Done (123985964) BYU Broadcasting - Digital Media","AS123985964-Stephen Done (123985964) BYU Broadcasting - Digital Media","Active",null,null,null,null,null,null,null,null,null,null,null,"SC6944","SC6944||1300","1300","Inventory","Primary","All"]
[null,null,null,null,null,null,"AC00993","[MSE] HR- Student Teachers","AC00993-[MSE] HR- Student Teachers","Activity","FD03","Active","2025-03-17T16:11:52.698977+00:00",null,null,null,null,null,null,null,null,"13628","LSBI Bio 445 Herpetology","13628-LSBI Bio 445 Herpetology",null,null,null,"AS124120943","Randa Alvord (124120943) Advisement, College of Fine Arts and Communications","AS124120943-Randa Alvord (124120943) Advisement, College of Fine Arts and Communications","Active",null,null,null,null,null,null,null,null,null,null,null,"SC6944","SC6944||1650","1650","Construction in Progress",null,"JE_PPE|JE_Override"]
[null,null,null,null,null,null,"AC00994","[MSE] Database/Web","AC00994-[MSE] Database/Web","Activity","FD01","Active","2025-03-17T16:11:52.698977+00:00",null,null,null,null,null,null,null,null,"13629","LSBI Bio 265 Bio Data Science","13629-LSBI Bio 265 Bio Data Science",null,null,null,"AS124472486","Layne Peterson (124472486) Fine Arts & Communications - School of Communications","AS124472486-Layne Peterson (124472486) Fine Arts & Communications - School of Communications","Active",null,null,null,null,null,null,null,null,null,null,null,"SC6944","SC6944||4900","4900","Cost of Sales",null,"All"]
[null,null,null,null,null,null,"AC00995","[MSE] Ext. Relations/Creative","AC00995-[MSE] Ext. Relations/Creative","Activity","FD01","Active","2025-03-17T16:11:52.698977+00:00",null,null,null,null,null,null,null,null,"13630","LSBI Bio 511 Lichenology","13630-LSBI Bio 511 Lichenology",null,null,null,"AS124508116","Jen Yamamoto (124508116) CMS - Statistics","AS124508116-Jen Yamamoto (124508116) CMS - Statistics","Active",null,null,null,null,null,null,null,null,null,null,null,"SC6944","SC6944||6900","6900","Equipment, Software, Library",null,"All"]
[null,null,null,null,null,null,"AC00996","[MSE] Ed Society/Alumni","AC00996-[MSE] Ed Society/Alumni","Activity","FD01","Active","2025-03-17T16:11:52.698977+00:00",null,null,null,null,null,null,null,null,"13631","LSBI Speciation and Phylogeogr","13631-LSBI Speciation and Phylogeogr",null,null,null,"AS124732026","Mark Ellison (124732026) Religious Education - Ancient Scripture","AS124732026-Mark Ellison (124732026) Religious Education - Ancient Scripture","Active",null,null,null,null,null,null,null,null,null,null,null,"SC6945","SC6945||1300","1300","Inventory","Primary","All"]
[null,null,null,null,null,null,"AC00997","[MSE] Recruitment","AC00997-[MSE] Recruitment","Activity","FD01","Active","2025-03-17T16:11:52.698977+00:00",null,null,null,null,null,null,null,null,"13632","LSBI Bio 316 Adv Sci Writing a","13632-LSBI Bio 316 Adv Sci Writing a",null,null,null,"AS124891767","Emily Sumsion (124891767) CE FSY West","AS124891767-Emily Sumsion (124891767) CE FSY West","Active",null,null,null,null,null,null,null,null,null,null,null,"SC6945","SC6945||1650","1650","Construction in Progress",null,"JE_PPE|JE_Override"]
[null,null,null,null,null,null,"AC00998","[MSE] Grad Studies/COMD Scholarship","AC00998-[MSE] Grad Studies/COMD Scholarship","Activity","FD01","Active","2025-03-17T16:11:52.698977+00:00",null,null,null,null,null,null,null,null,"13633","LSBI Bio 450 Conservation Biol","13633-LSBI Bio 450 Conservation Biol",null,null,null,"AS125090296","Clifton Farnsworth (125090296) College of Engineering - Civil & Construction Engineering","AS125090296-Clifton Farnsworth (125090296) College of Engineering - Civil & Construction Engineering","Active",null,null,null,null,null,null,null,null,null,null,null,"SC6945","SC6945||4900","4900","Cost of Sales",null,"All"]
[null,null,null,null,null,null,"AC00999","[MSE] NSSLHA","AC00999-[MSE] NSSLHA","Activity","FD02","Active","2025-03-17T16:11:52.698977+00:00",null,null,null,null,null,null,null,null,"13634","LSBI Bio 378 Practicum in Bio","13634-LSBI Bio 378 Practicum in Bio",null,null,null,"AS125095502","Blake Hansen (125095502) MSE - Counseling Psychology & Special Ed","AS125095502-Blake Hansen (125095502) MSE - Counseling Psychology & Special Ed","Active",null,null,null,null,null,null,null,null,null,null,null,"SC6945","SC6945||6900","6900","Equipment, Software, Library",null,"All"]
[null,null,null,null,null,null,"AC01000","[MSE] Audiology Clinic","AC01000-[MSE] Audiology Clinic","Activity","FD03","Active","2025-03-17T16:11:52.698977+00:00",null,null,null,null,null,null,null,null,"13635","LSBI Bio 541 Aquatic Entomolog","13635-LSBI Bio 541 Aquatic Entomolog",null,null,null,"AS125815511","Bonnie Geldmacher (125815511) Law Library","AS125815511-Bonnie Geldmacher (125815511) Law Library","Active",null,null,null,null,null,null,null,null,null,null,null,"SC6946","SC6946||1300","1300","Inventory","Primary","All"]
[null,null,null,null,null,null,"AC01001","[MSE] Speech-Language Clinic","AC01001-[MSE] Speech-Language Clinic","Activity","FD03","Active","2025-03-17T16:11:52.698977+00:00",null,null,null,null,null,null,null,null,"13636","LSBI Great Basin","13636-LSBI Great Basin",null,null,null,"AS125840977","Jeremy Fraser (125840977) PF Moving, Receiving, & Office Furniture","AS125840977-Jeremy Fraser (125840977) PF Moving, Receiving, & Office Furniture","Active",null,null,null,null,null,null,null,null,null,null,null,"SC6946","SC6946||1650","1650","Construction in Progress",null,"JE_PPE|JE_Override"]
[null,null,null,null,null,null,"AC01002","[MSE] PIF - Stroke Study","AC01002-[MSE] PIF - Stroke Study","Activity","FD03","Active","2025-03-17T16:11:52.698977+00:00",null,null,null,null,null,null,null,null,"13637","LSBI Willes B of M Studies","13637-LSBI Willes B of M Studies",null,null,null,"AS126243836","Tyson Williamson (126243836) College of Engineering - Civil & Construction Engineering","AS126243836-Tyson Williamson (126243836) College of Engineering - Civil & Construction Engineering","Active",null,null,null,null,null,null,null,null,null,null,null,"SC6946","SC6946||4900","4900","Cost of Sales",null,"All"]
[null,null,null,null,null,null,"AC01003","[MSE] Discretionary Research Fund","AC01003-[MSE] Discretionary Research Fund","Activity","FD03","Active","2025-03-17T16:11:52.698977+00:00",null,null,null,null,null,null,null,null,"13638","LSBI Bio 379 Class Mgmt and La","13638-LSBI Bio 379 Class Mgmt and La",null,null,null,"AS126333697","Mark Hughes (126333697) CMS - Mathematics","AS126333697-Mark Hughes (126333697) CMS - Mathematics","Active",null,null,null,null,null,null,null,null,null,null,null,"SC6946","SC6946||6900","6900","Equipment, Software, Library",null,"All"]
[null,null,null,null,null,null,"AC01005","[MSE] Counseling and Special","AC01005-[MSE] Counseling and Special","Activity","FD01","Active","2025-03-17T16:11:52.698977+00:00",null,null,null,null,null,null,null,null,"13639","LSBI Clark, Shawn","13639-LSBI Clark, Shawn",null,null,null,"AS126379521","Yvette Anderson (126379521) Master of Business Administration","AS126379521-Yvette Anderson (126379521) Master of Business Administration","Active",null,null,null,null,null,null,null,null,null,null,null,"SC6999","SC6999||1400","1400","Prepaid Expenses",null,"All"]
[null,null,null,null,null,null,"AC01006","[MSE] Academy of Spiritual Center","AC01006-[MSE] Academy of Spiritual Center","Activity","FD01","Active","2025-03-17T16:11:52.698977+00:00",null,null,null,null,null,null,null,null,"13640","LSBI Summer Student Wages","13640-LSBI Summer Student Wages",null,null,null,"AS126545477","Tara Marquez (126545477) Athletics - Olympic Sport Medicine","AS126545477-Tara Marquez (126545477) Athletics - Olympic Sport Medicine","Active",null,null,null,null,null,null,null,null,null,null,null,"SC6999","SC6999||1650","1650","Construction in Progress",null,"JE_PPE|JE_Override"]
[null,null,null,null,null,null,"AC01007","[MSE] St Council Exceptional Childrn","AC01007-[MSE] St Council Exceptional Childrn","Activity","FD02","Active","2025-03-17T16:11:52.698977+00:00",null,null,null,null,null,null,null,null,"13641","LSBI Bio 455 Plant Ecology","13641-LSBI Bio 455 Plant Ecology",null,null,null,"AS126590901","Zack Warren (126590901) Athletics - Administration","AS126590901-Zack Warren (126590901) Athletics - Administration","Active",null,null,null,null,null,null,null,null,null,null,null,"SC6999","SC6999||1651","1651","Construction in Progress (Non-Workday Projects)",null,"All"]
[null,null,null,null,null,null,"AC01008","[MSE] Spiritual Foundations","AC01008-[MSE] Spiritual Foundations","Activity","FD03","Active","2025-03-17T16:11:52.698977+00:00",null,null,null,null,null,null,null,null,"13642","LSBI Griffen, Blaine","13642-LSBI Griffen, Blaine",null,null,null,"AS126632870","Julie Rivers (126632870) International VP Office","AS126632870-Julie Rivers (126632870) International VP Office","Active",null,null,null,null,null,null,null,null,null,null,null,"SC6999","SC6999||6900","6900","Equipment, Software, Library","Primary","All"]
[null,null,null,null,null,null,"AC01009","[MSE] Autism Project","AC01009-[MSE] Autism Project","Activity","FD03","Active","2025-03-17T16:11:52.698977+00:00",null,null,null,null,null,null,null,null,"13643","LSBI Bio 463 Genetics of Human","13643-LSBI Bio 463 Genetics of Human",null,null,null,"AS126634758","Kirsten Thompson (126634758) Center for Teaching and Learning","AS126634758-Kirsten Thompson (126634758) Center for Teaching and Learning","Active",null,null,null,null,null,null,null,null,null,null,null,"SC7001","SC7001||1400","1400","Prepaid Expenses",null,"All"]
[null,null,null,null,null,null,"AC01010","[MSE] IDR Suicide Risk Grant","AC01010-[MSE] IDR Suicide Risk Grant","Activity","FD03","Active","2025-03-17T16:11:52.698977+00:00",null,null,null,null,null,null,null,null,"13644","LSBI Bio 476 Biology Student T","13644-LSBI Bio 476 Biology Student T",null,null,null,"AS126682227","Earl Brown (126682227) Humanities - Linguistics","AS126682227-Earl Brown (126682227) Humanities - Linguistics","Active",null,null,null,null,null,null,null,null,null,null,null,"SC7001","SC7001||7000","7000","Travel","Primary","All"]
[null,null,null,null,null,null,"AC01011","[MSE] E. Cutrer Grad Mentoring Award","AC01011-[MSE] E. Cutrer Grad Mentoring Award","Activity","FD03","Active","2025-03-17T16:11:52.698977+00:00",null,null,null,null,null,null,null,null,"13645","LSBI Bio 496R Secondary teachi","13645-LSBI Bio 496R Secondary teachi",null,null,null,"AS127277455","Brook Gotberg (127277455) AVP - Dean, Clark Law School","AS127277455-Brook Gotberg (127277455) AVP - Dean, Clark Law School","Active",null,null,null,null,null,null,null,null,null,null,null,"SC7002","SC7002||1400","1400","Prepaid Expenses",null,"All"]
[null,null,null,null,null,null,"AC01013","[MSE] Ed Leadership and Foundations","AC01013-[MSE] Ed Leadership and Foundations","Activity","FD01","Active","2025-03-17T16:11:52.698977+00:00",null,null,null,null,null,null,null,null,"13646","LSBI Bio 503 Research Orientat","13646-LSBI Bio 503 Research Orientat",null,null,null,"AS127470044","Nathan Haines (127470044) Fine Arts & Communications - School of Music","AS127470044-Nathan Haines (127470044) Fine Arts & Communications - School of Music","Active",null,null,null,null,null,null,null,null,null,null,null,"SC7002","SC7002||7000","7000","Travel","Primary","All"]
[null,null,null,null,null,null,"AC01014","[MSE] Principals Academy Fellowship","AC01014-[MSE] Principals Academy Fellowship","Activity","FD01","Active","2025-03-17T16:11:52.698977+00:00",null,null,null,null,null,null,null,null,"13647","LSBI Bio 510 Bio Systematics C","13647-LSBI Bio 510 Bio Systematics C",null,null,null,"AS127546071","Anna Duvall (127546071) Fine Arts & Communications - Dance","AS127546071-Anna Duvall (127546071) Fine Arts & Communications - Dance","Active",null,null,null,null,null,null,null,null,null,null,null,"SC7003","SC7003||1400","1400","Prepaid Expenses",null,"All"]
[null,null,null,null,null,null,"AC01015","[MSE] Ed Law Journal","AC01015-[MSE] Ed Law Journal","Activity","FD02","Active","2025-03-17T16:11:52.698977+00:00",null,null,null,null,null,null,null,null,"13648","LSBI Bio 512 Angiosperm Phylog","13648-LSBI Bio 512 Angiosperm Phylog",null,null,null,"AS127614029","Marsh Morford (127614029) BYU Broadcasting - Post Production","AS127614029-Marsh Morford (127614029) BYU Broadcasting - Post Production","Active",null,null,null,null,null,null,null,null,null,null,null,"SC7003","SC7003||7000","7000","Travel","Primary","All"]
[null,null,null,null,null,null,"AC01016","[MSE] Leadership R & D","AC01016-[MSE] Leadership R & D","Activity","FD03","Active","2025-03-17T16:11:52.698977+00:00",null,null,null,null,null,null,null,null,"13649","LSBI Bio 517 Pub in Peer Rev J","13649-LSBI Bio 517 Pub in Peer Rev J",null,null,null,"AS127769758","Scott Payne (127769758) OIT Core - Business Process & Project Mgmt","AS127769758-Scott Payne (127769758) OIT Core - Business Process & Project Mgmt","Active",null,null,null,null,null,null,null,null,null,null,null,"SC7004","SC7004||1400","1400","Prepaid Expenses",null,"All"]
[null,null,null,null,null,null,"AC01018","[MSE] Instruct Material L","AC01018-[MSE] Instruct Material L","Activity","FD01","Active","2025-03-17T16:11:52.698977+00:00",null,null,null,null,null,null,null,null,"13650","LSPW CURA-Aanderud, Zachary","13650-LSPW CURA-Aanderud, Zachary",null,null,null,"AS127929233","Brooke Downs (127929233) Humanities - English","AS127929233-Brooke Downs (127929233) Humanities - English","Active",null,null,null,null,null,null,null,null,null,null,null,"SC7004","SC7004||7000","7000","Travel","Primary","All"]
[null,null,null,null,null,null,"AC01019","[MSE] Instructional Science","AC01019-[MSE] Instructional Science","Activity","FD01","Active","2025-03-17T16:11:52.698977+00:00",null,null,null,null,null,null,null,null,"13651","LSPW CURA-Abbott, Benjamin","13651-LSPW CURA-Abbott, Benjamin",null,null,null,"AS128083483","Gregory Macfarlane (128083483) College of Engineering - Civil & Construction Engineering","AS128083483-Gregory Macfarlane (128083483) College of Engineering - Civil & Construction Engineering","Active",null,null,null,null,null,null,null,null,null,null,null,"SC7005","SC7005||1400","1400","Prepaid Expenses",null,"All"]
[null,null,null,null,null,null,"AC01020","[MSE] Undergrad Research Training","AC01020-[MSE] Undergrad Research Training","Activity","FD01","Active","2025-03-17T16:11:52.698977+00:00",null,null,null,null,null,null,null,null,"13652","LSPW CURA-Allen, Phil","13652-LSPW CURA-Allen, Phil",null,null,null,"AS128447981","Todd Uffens (128447981) Retail Services - General Administration","AS128447981-Todd Uffens (128447981) Retail Services - General Administration","Active",null,null,null,null,null,null,null,null,null,null,null,"SC7005","SC7005||7000","7000","Travel","Primary","All"]
[null,null,null,null,null,null,"AC01021","[MSE] Grad Study Robert Bodily","AC01021-[MSE] Grad Study Robert Bodily","Activity","FD01","Active","2025-03-17T16:11:52.698977+00:00",null,null,null,null,null,null,null,null,"13653","LSPW CURA-Allphin, Loreen","13653-LSPW CURA-Allphin, Loreen",null,null,null,"AS128595921","David Draper (128595921) Mechanical Engineering","AS128595921-David Draper (128595921) Mechanical Engineering","Active",null,null,null,null,null,null,null,null,null,null,null,"SC7006","SC7006||1400","1400","Prepaid Expenses",null,"All"]
[null,null,null,null,null,null,"AC01022","[MSE] Inst Psych & Tech Student Org","AC01022-[MSE] Inst Psych & Tech Student Org","Activity","FD02","Active","2025-03-17T16:11:52.698977+00:00",null,null,null,null,null,null,null,null,"13654","LSPW CURA-Anderson, Val","13654-LSPW CURA-Anderson, Val",null,null,null,"AS128774011","Traci Neilsen (128774011) CMS - Physics and Astronomy","AS128774011-Traci Neilsen (128774011) CMS - Physics and Astronomy","Active",null,null,null,null,null,null,null,null,null,null,null,"SC7006","SC7006||7000","7000","Travel","Primary","All"]
[null,null,null,null,null,null,"AC01023","[MSE] Graduate Studies-Inst Psy","AC01023-[MSE] Graduate Studies-Inst Psy","Activity","FD03","Active","2025-03-17T16:11:52.698977+00:00",null,null,null,null,null,null,null,null,"13655","LSPW CURA-Arrington, Matthew","13655-LSPW CURA-Arrington, Matthew",null,null,null,"AS128853436","Greg Corlett (128853436) Computer Science","AS128853436-Greg Corlett (128853436) Computer Science","Active",null,null,null,null,null,null,null,null,null,null,null,"SC7099","SC7099||1400","1400","Prepaid Expenses",null,"All"]
[null,null,null,null,null,null,"AC01024","[MSE] IP&T Designated Funds","AC01024-[MSE] IP&T Designated Funds","Activity","FD03","Active","2025-03-17T16:11:52.698977+00:00",null,null,null,null,null,null,null,null,"13656","LSPW CURA-Chaston, John","13656-LSPW CURA-Chaston, John",null,null,null,"AS129016922","Jeff Lyon (129016922) Lee Library - Metadata & IT Division","AS129016922-Jeff Lyon (129016922) Lee Library - Metadata & IT Division","Active",null,null,null,null,null,null,null,null,null,null,null,"SC7099","SC7099||7000","7000","Travel","Primary","All"]
[null,null,null,null,null,null,"AC01026","[MSE] CITES District Operations","AC01026-[MSE] CITES District Operations","Activity","FD01","Active","2025-03-17T16:11:52.698977+00:00",null,null,null,null,null,null,null,null,"13657","LSPW CURA-Standring, Sam","13657-LSPW CURA-Standring, Sam",null,null,null,"AS129251124","Greg Conner (129251124) CMS - Mathematics","AS129251124-Greg Conner (129251124) CMS - Mathematics","Active"]
[null,null,null,null,null,null,"AC01027","[MSE] Science & Engineering Fair","AC01027-[MSE] Science & Engineering Fair","Activity","FD02","Active","2025-03-17T16:11:52.698977+00:00",null,null,null,null,null,null,null,null,"13658","LSPW CURA-Frandsen, Paul","13658-LSPW CURA-Frandsen, Paul",null,null,null,"AS129666591","Eric Hansen (129666591) OIT Resource - Application Engineering","AS129666591-Eric Hansen (129666591) OIT Resource - Application Engineering","Active"]
[null,null,null,null,null,null,"AC01028","[MSE] Technology Project","AC01028-[MSE] Technology Project","Activity","FD03","Active","2025-03-17T16:11:52.698977+00:00",null,null,null,null,null,null,null,null,"13659","LSPW CURA-Geary, Bradley","13659-LSPW CURA-Geary, Bradley",null,null,null,"AS130025478","Heather Leary (130025478) MSE - Instructional Psychology & Technology","AS130025478-Heather Leary (130025478) MSE - Instructional Psychology & Technology","Active"]
[null,null,null,null,null,null,"AC01029","[MSE] BYU Partnership Renewal","AC01029-[MSE] BYU Partnership Renewal","Activity","FD03","Active","2025-03-17T16:11:52.698977+00:00",null,null,null,null,null,null,null,null,"13660","LSPW CURA-Hansen, Neil","13660-LSPW CURA-Hansen, Neil",null,null,null,"AS130212271","Justin Peatross (130212271) CMS - Physics and Astronomy","AS130212271-Justin Peatross (130212271) CMS - Physics and Astronomy","Active"]
[null,null,null,null,null,null,"AC01030","[MSE] CI-MTSS","AC01030-[MSE] CI-MTSS","Activity","FD03","Active","2025-03-17T16:11:52.698977+00:00",null,null,null,null,null,null,null,null,"13661","LSPW CURA-Hopkins, Bryan","13661-LSPW CURA-Hopkins, Bryan",null,null,null,"AS130331894","Jason Hansen (130331894) Life Sciences - Cell Biology & Physiology","AS130331894-Jason Hansen (130331894) Life Sciences - Cell Biology & Physiology","Active"]
[null,null,null,null,null,null,"AC01032","[MSE] Cites Capital Campaign","AC01032-[MSE] Cites Capital Campaign","Activity","FD03","Active","2025-03-17T16:11:52.698977+00:00",null,null,null,null,null,null,null,null,"13662","LSPW CURA-Hulet, April","13662-LSPW CURA-Hulet, April",null,null,null,"AS130365989","David Orton (130365989) OIT Portfolio - Tech Planning CES","AS130365989-David Orton (130365989) OIT Portfolio - Tech Planning CES","Active"]
[null,null,null,null,null,null,"AC01033","[MSE] CITES Sunshine Fund","AC01033-[MSE] CITES Sunshine Fund","Activity","FD07","Active","2025-03-17T16:11:52.698977+00:00",null,null,null,null,null,null,null,null,"13663","LSPW CURA-Jarvis, David","13663-LSPW CURA-Jarvis, David",null,null,null,"AS130490818","Kirsti Nelson (130490818) Purchasing and Travel- Campus Travel","AS130490818-Kirsti Nelson (130490818) Purchasing and Travel- Campus Travel","Active"]
[null,null,null,null,null,null,"AC01034","[MSE] Teacher Ed Grad Scholarships","AC01034-[MSE] Teacher Ed Grad Scholarships","Activity","FD01","Active","2025-03-17T16:11:52.698977+00:00",null,null,null,null,null,null,null,null,"13664","LSPW CURA-Jellen, Eric","13664-LSPW CURA-Jellen, Eric",null,null,null,"AS130563092","Brendan Wright (130563092) AVP - Dean, Graduate Studies","AS130563092-Brendan Wright (130563092) AVP - Dean, Graduate Studies","Active"]
[null,null,null,null,null,null,"AC01035","[MSE] Materials Account - Nebo Dist","AC01035-[MSE] Materials Account - Nebo Dist","Activity","FD01","Active","2025-03-17T16:11:52.698977+00:00",null,null,null,null,null,null,null,null,"13665","LSPW CURA-Jolley, Greg","13665-LSPW CURA-Jolley, Greg",null,null,null,"AS130564577","Kosha Hansen (130564577) Facilities Planning and Design - Campus Projects","AS130564577-Kosha Hansen (130564577) Facilities Planning and Design - Campus Projects","Active"]
[null,null,null,null,null,null,"AC01036","[MSE] Materials Account - Jordan Dis","AC01036-[MSE] Materials Account - Jordan Dis","Activity","FD01","Active","2025-03-17T16:11:52.698977+00:00",null,null,null,null,null,null,null,null,"13666","LSPW CURA-Larsen, Randy","13666-LSPW CURA-Larsen, Randy",null,null,null,"AS130700616","Ken Horton (130700616) Law School","AS130700616-Ken Horton (130700616) Law School","Active"]
[null,null,null,null,null,null,"AC01037","[MSE] Materials Account - Provo Dist","AC01037-[MSE] Materials Account - Provo Dist","Activity","FD01","Active","2025-03-17T16:11:52.698977+00:00",null,null,null,null,null,null,null,null,"13667","LSPW CURA-Madsen, Matthew","13667-LSPW CURA-Madsen, Matthew",null,null,null,"AS130971411","Susie Quartey (130971411) Research Administration - Sponsored Projects","AS130971411-Susie Quartey (130971411) Research Administration - Sponsored Projects","Active"]
[null,null,null,null,null,null,"AC01038","[MSE] Materials Account - Wasatch","AC01038-[MSE] Materials Account - Wasatch","Activity","FD01","Active","2025-03-17T16:11:52.698977+00:00",null,null,null,null,null,null,null,null,"13668","LSPW CURA-Maughan, Jeff","13668-LSPW CURA-Maughan, Jeff",null,null,null,"AS130973917","Stephanie Bair (130973917) AVP - Dean, Clark Law School","AS130973917-Stephanie Bair (130973917) AVP - Dean, Clark Law School","Active"]
[null,null,null,null,null,null,"AC01039","[MSE] Materials Account - Alpine Dis","AC01039-[MSE] Materials Account - Alpine Dis","Activity","FD01","Active","2025-03-17T16:11:52.698977+00:00",null,null,null,null,null,null,null,null,"13669","LSPW CURA-McMillan, Brock","13669-LSPW CURA-McMillan, Brock",null,null,null,"AS131008737","Damon Darais (131008737) OIT Leadership - CES Architecture","AS131008737-Damon Darais (131008737) OIT Leadership - CES Architecture","Active"]
[null,null,null,null,null,null,"AC01040","[MSE] Materials Account - ECE","AC01040-[MSE] Materials Account - ECE","Activity","FD01","Active","2025-03-17T16:11:52.698977+00:00",null,null,null,null,null,null,null,null,"13670","LSPW CURA-Petersen, Steven","13670-LSPW CURA-Petersen, Steven",null,null,null,"AS131324809","Ashley Jex (131324809) Fine Arts & Communications - Dance","AS131324809-Ashley Jex (131324809) Fine Arts & Communications - Dance","Active"]
[null,null,null,null,null,null,"AC01041","[MSE] Student Mentoring Program","AC01041-[MSE] Student Mentoring Program","Activity","FD01","Active","2025-03-17T16:11:52.698977+00:00",null,null,null,null,null,null,null,null,"13671","LSPW CURA-Robinson, Todd","13671-LSPW CURA-Robinson, Todd",null,null,null,"AS131471623","Montana Djanie (131471623) Enrollment Services Executive Director's Office","AS131471623-Montana Djanie (131471623) Enrollment Services Executive Director's Office","Active"]
[null,null,null,null,null,null,"AC01042","[MSE] Student Academic Assoc","AC01042-[MSE] Student Academic Assoc","Activity","FD01","Active","2025-03-17T16:11:52.698977+00:00",null,null,null,null,null,null,null,null,"13672","LSPW CURA-Smith, Thomas","13672-LSPW CURA-Smith, Thomas",null,null,null,"AS131511199","Ed McCracken (131511199) Enterprise Solutions - Finance/P&T","AS131511199-Ed McCracken (131511199) Enterprise Solutions - Finance/P&T","Active"]
[null,null,null,null,null,null,"AC01043","[MSE] Pre Intern Workshop","AC01043-[MSE] Pre Intern Workshop","Activity","FD01","Active","2025-03-17T16:11:52.698977+00:00",null,null,null,null,null,null,null,null,"13673","LSPW CURA-St. Clair, Sam","13673-LSPW CURA-St. Clair, Sam",null,null,null,"AS131577106","Joel Campbell (131577106) Fine Arts & Communications - School of Communications","AS131577106-Joel Campbell (131577106) Fine Arts & Communications - School of Communications","Active"]
[null,null,null,null,null,null,"AC01044","[MSE] BYU Reading Council","AC01044-[MSE] BYU Reading Council","Activity","FD02","Active","2025-03-17T16:11:52.698977+00:00",null,null,null,null,null,null,null,null,"13674","LSPW CURA-Stewart, J. Ryan","13674-LSPW CURA-Stewart, J. Ryan",null,null,null,"AS131602654","Ray Lines (131602654) OIT Leadership - AVP","AS131602654-Ray Lines (131602654) OIT Leadership - AVP","Active"]
[null,null,null,null,null,null,"AC01045","[MSE] Early Childhood Ed Club","AC01045-[MSE] Early Childhood Ed Club","Activity","FD02","Active","2025-03-17T16:11:52.698977+00:00",null,null,null,null,null,null,null,null,"13675","LSPW Colman/Noorda, Ch.","13675-LSPW Colman/Noorda, Ch.",null,null,null,"AS131905426","Lisa Denning (131905426) BYU Security Operations - Police Dispatch","AS131905426-Lisa Denning (131905426) BYU Security Operations - Police Dispatch","Active"]
[null,null,null,null,null,null,"AC01046","[MSE] Learning/Teaching Tech Lab","AC01046-[MSE] Learning/Teaching Tech Lab","Activity","FD02","Active","2025-03-17T16:11:52.698977+00:00",null,null,null,null,null,null,null,null,"13676","LSPW Hopkins/Cole D.","13676-LSPW Hopkins/Cole D.",null,null,null,"AS132409976","Evan Lambson (132409976) OIT Resource - Application Engineering","AS132409976-Evan Lambson (132409976) OIT Resource - Application Engineering","Active"]
[null,null,null,null,null,null,"AC01047","[MSE] Teacher Education LRC","AC01047-[MSE] Teacher Education LRC","Activity","FD03","Active","2025-03-17T16:11:52.698977+00:00",null,null,null,null,null,null,null,null,"13677","LSPW Frandsen/Tolman E.","13677-LSPW Frandsen/Tolman E.",null,null,null,"AS132557605","Curtis LeBaron (132557605) MSB - Management","AS132557605-Curtis LeBaron (132557605) MSB - Management","Active"]
[null,null,null,null,null,null,"AC01048","[MSE] PETE Fulton Funds","AC01048-[MSE] PETE Fulton Funds","Activity","FD03","Active","2025-03-17T16:11:52.698977+00:00",null,null,null,null,null,null,null,null,"13678","LSPW Smith/Raj V.","13678-LSPW Smith/Raj V.",null,null,null,"AS132569840","Whitley Kelemen (132569840) MSB - Experience Design & Management","AS132569840-Whitley Kelemen (132569840) MSB - Experience Design & Management","Active"]
[null,null,null,null,null,null,"AC01049","[MSE] SEEL Project","AC01049-[MSE] SEEL Project","Activity","FD03","Active","2025-03-17T16:11:52.698977+00:00",null,null,null,null,null,null,null,null,"13679","LSPW Frandsen/Bursell M","13679-LSPW Frandsen/Bursell M",null,null,null,"AS132612214","Scarlett Lindsay (132612214) CE Multimedia Services","AS132612214-Scarlett Lindsay (132612214) CE Multimedia Services","Active"]
[null,null,null,null,null,null,"AC01051","[MSB] MSB Graduate Scholarships","AC01051-[MSB] MSB Graduate Scholarships","Activity","FD01","Active","2025-03-17T16:11:52.698977+00:00",null,null,null,null,null,null,null,null,"13680","LSPW Jellen/Taylor J.","13680-LSPW Jellen/Taylor J.",null,null,null,"AS132849662","Marianna Tronchuk (132849662) Cougareat","AS132849662-Marianna Tronchuk (132849662) Cougareat","Active"]
[null,null,null,null,null,null,"AC01052","[MSB] Driggs Chair","AC01052-[MSB] Driggs Chair","Activity","FD01","Active","2025-03-17T16:11:52.698977+00:00",null,null,null,null,null,null,null,null,"13681","LSPW Abbott/Norris A.","13681-LSPW Abbott/Norris A.",null,null,null,"AS132862844","Carolee Rogers (132862844) Humanities - Linguistics","AS132862844-Carolee Rogers (132862844) Humanities - Linguistics","Active"]
[null,null,null,null,null,null,"AC01053","[MSB] MSB Transfers & Services","AC01053-[MSB] MSB Transfers & Services","Activity","FD02","Active","2025-03-17T16:11:52.698977+00:00",null,null,null,null,null,null,null,null,"13682","LSPW Abbott/Stanford T.","13682-LSPW Abbott/Stanford T.",null,null,null,"AS133151076","Mark Atwood (133151076) PF Building Operations","AS133151076-Mark Atwood (133151076) PF Building Operations","Active"]
[null,null,null,null,null,null,"AC01054","[MSB] MSB Tuition Transfers","AC01054-[MSB] MSB Tuition Transfers","Activity","FD03","Active","2025-03-17T16:11:52.698977+00:00",null,null,null,null,null,null,null,null,"13683","LSPW Robinson/Billin T.","13683-LSPW Robinson/Billin T.",null,null,null,"AS133245229","Eva Witesman (133245229) MSB - Public Service & Ethics","AS133245229-Eva Witesman (133245229) MSB - Public Service & Ethics","Active"]
[null,null,null,null,null,null,"AC01055","[MSB] Marriott School Transfers","AC01055-[MSB] Marriott School Transfers","Activity","FD03","Active","2025-03-17T16:11:52.698977+00:00",null,null,null,null,null,null,null,null,"13684","LSPW Chaston/Gottfredson S.","13684-LSPW Chaston/Gottfredson S.",null,null,null,"AS133388472","Ryan Miller (133388472) FHSS - School of Social Work","AS133388472-Ryan Miller (133388472) FHSS - School of Social Work","Active"]
[null,null,null,null,null,null,"AC01056","[MSB] BYU DAC Learn Do Become","AC01056-[MSB] BYU DAC Learn Do Become","Activity","FD03","Active","2025-03-17T16:11:52.698977+00:00",null,null,null,null,null,null,null,null,"13685","LSPW Geary/Nielson E.","13685-LSPW Geary/Nielson E.",null,null,null,"AS133389743","Jordan Stewart (133389743) Fine Arts & Communications - Design","AS133389743-Jordan Stewart (133389743) Fine Arts & Communications - Design","Active"]
[null,null,null,null,null,null,"AC01058","[MSB] BYU Experiential Learning","AC01058-[MSB] BYU Experiential Learning","Activity","FD03","Active","2025-03-17T16:11:52.698977+00:00",null,null,null,null,null,null,null,null,"13686","LSPW Frandsen/Coenen E.","13686-LSPW Frandsen/Coenen E.",null,null,null,"AS133647388","Brendan Huber (133647388) Lee Library - Information Technology","AS133647388-Brendan Huber (133647388) Lee Library - Information Technology","Active"]
[null,null,null,null,null,null,"AC01059","[MSB] NAC Spouses Sunshine Fund","AC01059-[MSB] NAC Spouses Sunshine Fund","Activity","FD07","Active","2025-03-17T16:11:52.698977+00:00",null,null,null,null,null,null,null,null,"13687","LSPW Chaston/Davis M.","13687-LSPW Chaston/Davis M.",null,null,null,"AS133692455","Tim McLain (133692455) AVP - Dean, College of Engineering","AS133692455-Tim McLain (133692455) AVP - Dean, College of Engineering","Active"]
[null,null,null,null,null,null,"AC01060","[MSB] WACSB (Western Assoc of Coll)","AC01060-[MSB] WACSB (Western Assoc of Coll)","Activity","FD07","Active","2025-03-17T16:11:52.698977+00:00",null,null,null,null,null,null,null,null,"13688","LSPW Allen/Flake A.","13688-LSPW Allen/Flake A.",null,null,null,"AS133811138","Ruth Aguirre (133811138) FHSS - School of Social Work","AS133811138-Ruth Aguirre (133811138) FHSS - School of Social Work","Active"]
[null,null,null,null,null,null,"AC01061","[MSB] Executive Lectures","AC01061-[MSB] Executive Lectures","Activity","FD01","Active","2025-03-17T16:11:52.698977+00:00",null,null,null,null,null,null,null,null,"13689","LSPW Abbott/Frandsen B.","13689-LSPW Abbott/Frandsen B.",null,null,null,"AS133832735","Robbie Chaney (133832735) Life Sciences - Public Health","AS133832735-Robbie Chaney (133832735) Life Sciences - Public Health","Active"]
[null,null,null,null,null,null,"AC01062","[MSB] Research Support","AC01062-[MSB] Research Support","Activity","FD01","Active","2025-03-17T16:11:52.698977+00:00",null,null,null,null,null,null,null,null,"13690","LSPW Audubon Group/W&R Club","13690-LSPW Audubon Group/W&R Club",null,null,null,"AS133959713","Nathan Crane (133959713) College of Engineering - Mechanical Engineering","AS133959713-Nathan Crane (133959713) College of Engineering - Mechanical Engineering","Active"]
[null,null,null,null,null,null,"AC01063","[MSB] MSB Student Council","AC01063-[MSB] MSB Student Council","Activity","FD01","Active","2025-03-17T16:11:52.698977+00:00",null,null,null,null,null,null,null,null,"13691","LSPW Ecological Restoration/W&","13691-LSPW Ecological Restoration/W&",null,null,null,"AS134122299","Jacob Speakman (134122299) OIT Resource - Application Engineering","AS134122299-Jacob Speakman (134122299) OIT Resource - Application Engineering","Active"]
[null,null,null,null,null,null,"AC01064","[MSB] MSB Student Council","AC01064-[MSB] MSB Student Council","Activity","FD02","Active","2025-03-17T16:11:52.698977+00:00",null,null,null,null,null,null,null,null,"13692","LSPW PWS 2024","13692-LSPW PWS 2024",null,null,null,"AS134167750","Sione Pouha (134167750) Athletics - Football","AS134167750-Sione Pouha (134167750) Athletics - Football","Active"]
[null,null,null,null,null,null,"AC01065","[MSB] Marriott School Support","AC01065-[MSB] Marriott School Support","Activity","FD03","Active","2025-03-17T16:11:52.698977+00:00",null,null,null,null,null,null,null,null,"13693","LSPW PWS 2025","13693-LSPW PWS 2025",null,null,null,"AS134174522","Michael Holmes (134174522) CE Events","AS134174522-Michael Holmes (134174522) CE Events","Active"]
[null,null,null,null,null,null,"AC01069","[MSB] Inclusion in Business Society","AC01069-[MSB] Inclusion in Business Society","Activity","FD02","Active","2025-03-17T16:11:52.698977+00:00",null,null,null,null,null,null,null,null,"13697","LSPW Chaston/Tanner A.","13697-LSPW Chaston/Tanner A.",null,null,null,"AS134402120","Christopher Oscarson (134402120) AVP - Dean, Undergraduate Education","AS134402120-Christopher Oscarson (134402120) AVP - Dean, Undergraduate Education","Active"]
[null,null,null,null,null,null,"AC01090","[MSB] GMC Operating Account","AC01090-[MSB] GMC Operating Account","Activity","FD03","Active","2025-03-17T16:11:52.698977+00:00",null,null,null,null,null,null,null,null,"13718","LSDO Advisement","13718-LSDO Advisement",null,null,null,"AS137422294","Cindy Sweat (137422294) Religious Education - Ancient Scripture","AS137422294-Cindy Sweat (137422294) Religious Education - Ancient Scripture","Active"]
[null,null,null,null,null,null,"AC01131","[MSB] BYU Marketing Assoc","AC01131-[MSB] BYU Marketing Assoc","Activity","FD02","Active","2025-03-17T16:11:52.869001+00:00",null,null,null,null,null,null,null,null,"13757","LSDO LSB Plant Maintenance","13757-LSDO LSB Plant Maintenance",null,null,null,"AS142758140","Nancy Fulda (142758140) CMS - Computer Science","AS142758140-Nancy Fulda (142758140) CMS - Computer Science","Active"]
[null,null,null,null,null,null,"AC01154","[MSB] MBA Recruiting & Alumni","AC01154-[MSB] MBA Recruiting & Alumni","Activity","FD03","Active","2025-03-17T16:11:52.869001+00:00",null,null,null,null,null,null,null,null,"13778","LSDO MaryLouFulton Chair-DSA","13778-LSDO MaryLouFulton Chair-DSA",null,null,null,"AS145229199","Emily Read (145229199) Purchasing and Travel - Continuing Education Travel","AS145229199-Emily Read (145229199) Purchasing and Travel - Continuing Education Travel","Active"]
[null,null,null,null,null,null,"AC01173","[MSB] MBA Strategy & Consulting Club","AC01173-[MSB] MBA Strategy & Consulting Club","Activity","FD02","Active","2025-03-17T16:11:52.869001+00:00",null,null,null,null,null,null,null,null,"13795","LSDO LS-Input Gathering Commit","13795-LSDO LS-Input Gathering Commit",null,null,null,"AS148104690","Whitney Johnson (148104690) Athletics - Academic Advisement","AS148104690-Whitney Johnson (148104690) Athletics - Academic Advisement","Active"]
[null,null,null,null,null,null,"AC01197","[MSB] BYU MPA Operating Account","AC01197-[MSB] BYU MPA Operating Account","Activity","FD03","Active","2025-03-17T16:11:52.869001+00:00",null,null,null,null,null,null,null,null,"14030","MAILCHIMP","14030-MAILCHIMP",null,null,null,"AS151006820","Michael Hunter (151006820) BYU Broadcasting - Production","AS151006820-Michael Hunter (151006820) BYU Broadcasting - Production","Active"]
[null,null,null,null,null,null,"AC01216","[MSB] EXDM Operating Account","AC01216-[MSB] EXDM Operating Account","Activity","FD03","Active","2025-03-17T16:11:52.869001+00:00",null,null,null,null,null,null,null,null,"14062","Marketing-Photo Shoot Appearal","14062-Marketing-Photo Shoot Appearal",null,null,null,"AS154237943","Brock McMillan (154237943) Life Sciences - Plant & Wildlife Sciences","AS154237943-Brock McMillan (154237943) Life Sciences - Plant & Wildlife Sciences","Active"]
[null,null,null,null,null,null,"AC01235","[NURS] Mentored Grant-S Lookinland","AC01235-[NURS] Mentored Grant-S Lookinland","Activity","FD03","Active","2025-03-17T16:11:52.869001+00:00",null,null,null,null,null,null,null,null,"14094","IT","14094-IT",null,null,null,"AS157687619","Tammy Youngs (157687619) CE IS Course Dev","AS157687619-Tammy Youngs (157687619) CE IS Course Dev","Active"]
[null,null,null,null,null,null,"AC01256","[ARTS] Comms - Film & Dig Media Fund","AC01256-[ARTS] Comms - Film & Dig Media Fund","Activity","FD01","Active","2025-03-17T16:11:52.869001+00:00",null,null,null,null,null,null,null,null,"14149","Contract Services - Off Campus","14149-Contract Services - Off Campus",null,null,null,"AS161426266","Gordon Smith (161426266) BYU Security Operations - Training/Security","AS161426266-Gordon Smith (161426266) BYU Security Operations - Training/Security","Active"]
[null,null,null,null,null,null,"AC01296","[ARTS] Ballroom Dance Dancesport","AC01296-[ARTS] Ballroom Dance Dancesport","Activity","FD02","Active","2025-03-17T16:11:52.869001+00:00",null,null,null,null,null,null,null,null,"14506","Credit Card Accrual","14506-Credit Card Accrual",null,null,null,"AS168270055","Larisa Schumann (168270055) Humanities - English","AS168270055-Larisa Schumann (168270055) Humanities - English","Active"]
[null,null,null,null,null,null,"AC01309","[ARTS] Dance Major Club","AC01309-[ARTS] Dance Major Club","Activity","FD02","Active","2025-03-17T16:11:52.869001+00:00",null,null,null,null,null,null,null,null,"14641","Long Distance","14641-Long Distance",null,null,null,"AS171204072","Joseph Darowski (171204072) Humanities - English","AS171204072-Joseph Darowski (171204072) Humanities - English","Active"]
[null,null,null,null,null,null,"AC01336","[ARTS] Family Concert Series","AC01336-[ARTS] Family Concert Series","Activity","FD01","Active","2025-03-17T16:11:53.01151+00:00",null,null,null,null,null,null,null,null,"14SLA","Humanities","14SLA-Humanities",null,null,null,"AS176381485","Scott Braithwaite (176381485) FHSS - Psychology","AS176381485-Scott Braithwaite (176381485) FHSS - Psychology","Active"]
[null,null,null,null,null,null,"AC01353","[ARTS] Concert Choir Operations","AC01353-[ARTS] Concert Choir Operations","Activity","FD02","Active","2025-04-01T02:03:57.526982+00:00",null,null,null,null,null,null,null,null,"15032","Department Events","15032-Department Events",null,null,null,"AS179782955","Johnson Hansen (179782955) BYU Broadcasting - Producers Group","AS179782955-Johnson Hansen (179782955) BYU Broadcasting - Producers Group","Active"]
[null,null,null,null,null,null,"AC01370","[ARTS] Brass","AC01370-[ARTS] Brass","Activity","FD02","Active","2025-03-17T16:11:53.01151+00:00",null,null,null,null,null,null,null,null,"15074","OU Prepayments","15074-OU Prepayments",null,null,null,"AS183677278","Brian Roberts (183677278) Humanities - English","AS183677278-Brian Roberts (183677278) Humanities - English","Active"]
[null,null,null,null,null,null,"AC01391","[ARTS] Men's Chorus","AC01391-[ARTS] Men's Chorus","Activity","FD02","Active","2025-04-01T02:03:57.526982+00:00",null,null,null,null,null,null,null,null,"15119","Aerobics","15119-Aerobics",null,null,null,"AS188117619","Emily Hills (188117619) Humanities - English","AS188117619-Emily Hills (188117619) Humanities - English","Active"]
[null,null,null,null,null,null,"AC01432","[ARTS] Student Theater Association","AC01432-[ARTS] Student Theater Association","Activity","FD02","Active","2025-03-17T16:11:53.01151+00:00",null,null,null,null,null,null,null,null,"15246","Pre-Dent","15246-Pre-Dent",null,null,null,"AS196671797","Brianna Magnusson (196671797) Life Sciences - Public Health","AS196671797-Brianna Magnusson (196671797) Life Sciences - Public Health","Active"]
[null,null,null,null,null,null,"AC01454","[ARTS] BYU Student Chapter, NAEA","AC01454-[ARTS] BYU Student Chapter, NAEA","Activity","FD02","Active","2025-03-17T16:11:53.01151+00:00",null,null,null,null,null,null,null,null,"15464","MyHometown Provo","15464-MyHometown Provo",null,null,null,"AS200364485","Matthew Richardson (200364485) Religious Education - Church History & Doctrine","AS200364485-Matthew Richardson (200364485) Religious Education - Church History & Doctrine","Active"]
[null,null,null,null,null,null,"AC01475","[CMS] Research Support","AC01475-[CMS] Research Support","Activity","FD01","Active","2025-03-17T16:11:53.01151+00:00",null,null,null,null,null,null,null,null,"15490","College Learning Mentors","15490-College Learning Mentors",null,null,null,"AS204357283","Kent Layton (204357283) College of Engineering - Electrical & Computer Engineering","AS204357283-Kent Layton (204357283) College of Engineering - Electrical & Computer Engineering","Active"]
[null,null,null,null,null,null,"AC01492","[CMS] Cytrometry Recharge Center","AC01492-[CMS] Cytrometry Recharge Center","Activity","FD02","Active","2025-03-17T16:11:53.01151+00:00",null,null,null,null,null,null,null,null,"15534","Adopt a Grandparent","15534-Adopt a Grandparent",null,null,null,"AS206717772","Krystal Pierce (206717772) Religious Education - Ancient Scripture","AS206717772-Krystal Pierce (206717772) Religious Education - Ancient Scripture","Active"]
[null,null,null,null,null,null,"AC01514","[CMS] Physical Rsrch & Postdoc JAJ","AC01514-[CMS] Physical Rsrch & Postdoc JAJ","Activity","FD03","Active","2025-03-17T16:11:53.01151+00:00",null,null,null,null,null,null,null,null,"15560","Community Srv Admin","15560-Community Srv Admin",null,null,null,"AS210558467","Amber Larsen (210558467) FHSS - History","AS210558467-Amber Larsen (210558467) FHSS - History","Active"]
[null,null,null,null,null,null,"AC01532","[CMS] Computational Economics Lab","AC01532-[CMS] Computational Economics Lab","Activity","FD03","Active","2025-03-17T16:11:53.01151+00:00",null,null,null,null,null,null,null,null,"15592","Hospice","15592-Hospice",null,null,null,"AS215146746","Tim Young (215146746) OIT Resource - AV Events","AS215146746-Tim Young (215146746) OIT Resource - AV Events","Active"]
[null,null,null,null,null,null,"AC01567","[CMS] SACME","AC01567-[CMS] SACME","Activity","FD02","Active","2025-03-17T16:11:53.126618+00:00",null,null,null,null,null,null,null,null,"15672","Handball Club","15672-Handball Club",null,null,null,"AS222163619","Jalene McDonald (222163619) FHSS - Psychology","AS222163619-Jalene McDonald (222163619) FHSS - Psychology","Active"]
[null,null,null,null,null,null,"AC01598","[CMS] Physics Experiential Learning","AC01598-[CMS] Physics Experiential Learning","Activity","FD03","Active","2025-03-17T16:11:53.126618+00:00",null,null,null,null,null,null,null,null,"15702","SCLC Operations","15702-SCLC Operations",null,null,null,"AS228507002","Dan Belnap (228507002) Religious Education - Ancient Scripture","AS228507002-Dan Belnap (228507002) Religious Education - Ancient Scripture","Active"]
[null,null,null,null,null,null,"AC01616","[ADM] Univ Share Auxiliary","AC01616-[ADM] Univ Share Auxiliary","Activity","FD03","Active","2025-03-17T16:11:53.126618+00:00",null,null,null,null,null,null,null,null,"15725","BikeWalkBus Club","15725-BikeWalkBus Club",null,null,null,"AS231469219","Jenny LeStarge (231469219) CE Student Success Coaching 1","AS231469219-Jenny LeStarge (231469219) CE Student Success Coaching 1","Active"]
[null,null,null,null,null,null,"AC01637","[ADM] Compliance Reporting Penalties","AC01637-[ADM] Compliance Reporting Penalties","Activity","FD03","Active","2025-03-17T16:11:53.126618+00:00",null,null,null,null,null,null,null,null,"15746","Freedom for North Korea at BYU","15746-Freedom for North Korea at BYU",null,null,null,"AS235652507","Andra Duke (235652507) Advancement VP","AS235652507-Andra Duke (235652507) Advancement VP","Active"]
[null,null,null,null,null,null,"AC01654","[ADM] University Police Sunshine","AC01654-[ADM] University Police Sunshine","Activity","FD07","Active","2025-03-17T16:11:53.126618+00:00",null,null,null,null,null,null,null,null,"15775","BYU Mixed Reality (MR) Club","15775-BYU Mixed Reality (MR) Club",null,null,null,"AS238034799","Katinia Aspinall (238034799) PF Building Operations","AS238034799-Katinia Aspinall (238034799) PF Building Operations","Active"]
[null,null,null,null,null,null,"AC01671","[FIN] Treasury Services","AC01671-[FIN] Treasury Services","Activity","FD03","Active","2025-03-17T16:11:53.126618+00:00",null,null,null,null,null,null,null,null,"15792","Health and Wellness Club","15792-Health and Wellness Club",null,null,null,"AS241948267","Gale Mecham (241948267) OIT Resource - Data and BI Engineering","AS241948267-Gale Mecham (241948267) OIT Resource - Data and BI Engineering","Active"]
[null,null,null,null,null,null,"AC01700","[HR] Benefits-Service Awards","AC01700-[HR] Benefits-Service Awards","Activity","FD01","Active","2025-03-17T16:11:53.126618+00:00",null,null,null,null,null,null,null,null,"15820","BYU Fencing Club","15820-BYU Fencing Club",null,null,null,"AS247144599","Stephanie Magleby (247144599) College of Engineering - Civil & Construction Engineering","AS247144599-Stephanie Magleby (247144599) College of Engineering - Civil & Construction Engineering","Active"]
[null,null,null,null,null,null,"AC01739","[PFAC] Coal","AC01739-[PFAC] Coal","Activity","FD01","Active","2025-03-17T16:11:53.126618+00:00",null,null,null,null,null,null,null,null,"15853","Laugh Out Loud","15853-Laugh Out Loud",null,null,null,"AS255866776","Ron Saltmarsh (255866776) Fine Arts & Communications - School of Music","AS255866776-Ron Saltmarsh (255866776) Fine Arts & Communications - School of Music","Active"]
[null,null,null,null,null,null,"AC01760","[PFAC] Regular Po's Clearng","AC01760-[PFAC] Regular Po's Clearng","Activity","FD01","Active","2025-03-17T16:11:53.24074+00:00",null,null,null,null,null,null,null,null,"15875","BYU Board Game Club","15875-BYU Board Game Club",null,null,null,"AS259686704","Daniel Williams (259686704) CMS - Statistics","AS259686704-Daniel Williams (259686704) CMS - Statistics","Active"]
[null,null,null,null,null,null,"AC01779","[STLF] Pre Law Student Assn","AC01779-[STLF] Pre Law Student Assn","Activity","FD02","Active","2025-03-17T16:11:53.24074+00:00",null,null,null,null,null,null,null,null,"15892","Family History Club","15892-Family History Club",null,null,null,"AS262263178","Lisa Giguere (262263178) Academic Advisement Center","AS262263178-Lisa Giguere (262263178) Academic Advisement Center","Active"]
[null,null,null,null,null,null,"AC01796","[STLF] Multicultural SOAR","AC01796-[STLF] Multicultural SOAR","Activity","FD01","Active","2025-03-17T16:11:53.24074+00:00",null,null,null,null,null,null,null,null,"15960","Biofeedback","15960-Biofeedback",null,null,null,"AS264905376","Benjamin Wilson (264905376) PF Air Conditioning Shop","AS264905376-Benjamin Wilson (264905376) PF Air Conditioning Shop","Active"]
[null,null,null,null,null,null,"AC01815","[ENRL] Commencement Actvts","AC01815-[ENRL] Commencement Actvts","Activity","FD01","Active","2025-03-17T16:11:53.24074+00:00",null,null,null,null,null,null,null,null,"16012","[LAWS] GLL Fiduciary Law","16012-[LAWS] GLL Fiduciary Law",null,null,null,"AS269402060","Scott Campbell (269402060) Athletics - Finance","AS269402060-Scott Campbell (269402060) Athletics - Finance","Active"]
[null,null,null,null,null,null,"AC01835","[ENRL] Trusts, Misc.","AC01835-[ENRL] Trusts, Misc.","Activity","FD07","Active","2025-03-17T16:11:53.24074+00:00",null,null,null,null,null,null,null,null,"16132","Recurring Electronic Resources","16132-Recurring Electronic Resources",null,null,null,"AS272030611","Troy Lewis (272030611) MSB - School of Accountancy","AS272030611-Troy Lewis (272030611) MSB - School of Accountancy","Active"]
[null,null,null,null,null,null,"AC01874","[HCEN] BYU Healthcare Management Asso","AC01874-[HCEN] BYU Healthcare Management Asso","Activity","FD02","Active","2025-03-17T16:11:53.24074+00:00",null,null,null,null,null,null,null,null,"16281","Moot Court","16281-Moot Court",null,null,null,"AS277642870","Eric Maynes (277642870) Heritage Halls","AS277642870-Eric Maynes (277642870) Heritage Halls","Active"]
[null,null,null,null,null,null,"AC01896","[ADM] BYU Women","AC01896-[ADM] BYU Women","Activity","FD02","Active","2025-03-17T16:11:53.24074+00:00",null,null,null,null,null,null,null,null,"16307","Wellbeing","16307-Wellbeing",null,null,null,"AS281568861","Jordan Wright (281568861) MSB - Finance","AS281568861-Jordan Wright (281568861) MSB - Finance","Active"]
[null,null,null,null,null,null,"AC01913","[AER] BYU Alumni LLC","AC01913-[AER] BYU Alumni LLC","Activity","FD02","Active","2025-03-17T16:11:53.24074+00:00",null,null,null,null,null,null,null,null,"16378","Tax & Estate Planning Society","16378-Tax & Estate Planning Society",null,null,null,"AS285513537","Mark Gheen (285513537) OIT Resource - CES Network Center (CNC )- Engineering","AS285513537-Mark Gheen (285513537) OIT Resource - CES Network Center (CNC )- Engineering","Active"]
[null,null,null,null,null,null,"AC01934","[AER] Alumni Association","AC01934-[AER] Alumni Association","Activity","FD02","Active","2025-03-17T16:11:53.24074+00:00",null,null,null,null,null,null,null,null,"16701","Library Technology","16701-Library Technology",null,null,null,"AS289682308","Japheth McGee (289682308) MSB - Public Service & Ethics","AS289682308-Japheth McGee (289682308) MSB - Public Service & Ethics","Active"]
[null,null,null,null,null,null,"AC01967","[AER] CA Ventura/Santa Barbara","AC01967-[AER] CA Ventura/Santa Barbara","Activity","FD02","Active","2025-03-17T16:11:53.337779+00:00",null,null,null,null,null,null,null,null,"16805","Religious Freedom Summit","16805-Religious Freedom Summit",null,null,null,"AS297175923","Denise Halverson (297175923) CMS - Mathematics","AS297175923-Denise Halverson (297175923) CMS - Mathematics","Active"]
[null,null,null,null,null,null,"AC01969","[AER] GA Atlanta","AC01969-[AER] GA Atlanta","Activity","FD02","Active","2025-03-17T16:11:53.337779+00:00",null,null,null,null,null,null,null,null,"16814","Western Hemisphere Summit OAS","16814-Western Hemisphere Summit OAS",null,null,null,"AS297215839","Ahmad Karout (297215839) Humanities - Dean's Office","AS297215839-Ahmad Karout (297215839) Humanities - Dean's Office","Active"]
[null,null,null,null,null,null,"AC02012","[BYUB] BYUB 1% Carryover","AC02012-[BYUB] BYUB 1% Carryover","Activity","FD02","Active","2025-03-17T16:11:53.337779+00:00",null,null,null,null,null,null,null,null,"16943","Domestic Conferences","16943-Domestic Conferences",null,null,null,"AS306628932","Grant Schultz (306628932) AVP - Dean, College of Engineering","AS306628932-Grant Schultz (306628932) AVP - Dean, College of Engineering","Active"]
[null,null,null,null,null,null,"AC02029","[ATH] Equipment Room","AC02029-[ATH] Equipment Room","Activity","FD02","Active","2025-03-17T16:11:53.337779+00:00",null,null,null,null,null,null,null,null,"17005","ATH Cougar Cruise","17005-ATH Cougar Cruise",null,null,null,"AS310621296","Ed Martinelli (310621296) Dean of Students Office","AS310621296-Ed Martinelli (310621296) Dean of Students Office","Active"]
[null,null,null,null,null,null,"AC02050","[ATH] SFH Strength and Conditioning","AC02050-[ATH] SFH Strength and Conditioning","Activity","FD02","Active","2025-03-17T16:11:53.337779+00:00",null,null,null,null,null,null,null,null,"17060","ATH Track - Women's","17060-ATH Track - Women's",null,null,null,"AS314606477","David Senior (314606477) Marketing & Global Spply Chain","AS314606477-David Senior (314606477) Marketing & Global Spply Chain","Active"]
[null,null,null,null,null,null,"AC02074","[ATH] Sports Camps-Financial Aid","AC02074-[ATH] Sports Camps-Financial Aid","Activity","FD02","Active","2025-03-17T16:11:53.337779+00:00",null,null,null,null,null,null,null,null,"17125","ATH Sports Medicine","17125-ATH Sports Medicine",null,null,null,"AS318935413","Becky Schulthies (318935413) FHSS - Anthropology","AS318935413-Becky Schulthies (318935413) FHSS - Anthropology","Active"]
[null,null,null,null,null,null,"AC02085","[ATH] Sports Camps-Winter Baseball","AC02085-[ATH] Sports Camps-Winter Baseball","Activity","FD02","Active","2025-03-17T16:11:53.337779+00:00",null,null,null,null,null,null,null,null,"17140","ATH Track  Elem\\Triple Crown","17140-ATH Track  Elem\\Triple Crown",null,null,null,"AS322577049","Benjamin Boizelle (322577049) CMS - Physics and Astronomy","AS322577049-Benjamin Boizelle (322577049) CMS - Physics and Astronomy","Active"]
[null,null,null,null,null,null,"AC02106","[ATH] Sports Camps-Gymnastics","AC02106-[ATH] Sports Camps-Gymnastics","Activity","FD02","Active","2025-03-17T16:11:53.337779+00:00",null,null,null,null,null,null,null,null,"17319","ATH FB Wives events","17319-ATH FB Wives events",null,null,null,"AS326343137","Daniel Smalley (326343137) College of Engineering - Electrical & Computer Engineering","AS326343137-Daniel Smalley (326343137) College of Engineering - Electrical & Computer Engineering","Active"]
[null,null,null,null,null,null,"AC02146","[INVP] International VP Hosting","AC02146-[INVP] International VP Hosting","Activity","FD03","Active","2025-03-17T16:11:53.337779+00:00",null,null,null,null,null,null,null,null,"17513","ATH Cougar Club 20%","17513-ATH Cougar Club 20%",null,null,null,"AS333300795","Nancy Norman (333300795) OIT Leadership - AVP","AS333300795-Nancy Norman (333300795) OIT Leadership - AVP","Active"]
[null,null,null,null,null,null,"AC02163","[INVP] Folk Dance Ensemble","AC02163-[INVP] Folk Dance Ensemble","Activity","FD03","Active","2025-03-17T16:11:53.337779+00:00",null,null,null,null,null,null,null,null,"17610","ATH Cell Phone","17610-ATH Cell Phone",null,null,null,"AS335859594","Caleb Deppermann (335859594) Humanities - Comparative Arts & Letters","AS335859594-Caleb Deppermann (335859594) Humanities - Comparative Arts & Letters","Active"]
[null,null,null,null,null,null,"AC02184","[KC] International Relations","AC02184-[KC] International Relations","Activity","FD01","Active","2025-03-17T16:11:53.431221+00:00",null,null,null,null,null,null,null,null,"17704","ATH Dues & Memberships","17704-ATH Dues & Memberships",null,null,null,"AS340363031","Krista Mortensen (340363031) Economics","AS340363031-Krista Mortensen (340363031) Economics","Active"]
[null,null,null,null,null,null,"AC02203","[KC] Asia Business","AC02203-[KC] Asia Business","Activity","FD02","Active","2025-03-17T16:11:53.431221+00:00",null,null,null,null,null,null,null,null,"17726","ATH Pool Construction","17726-ATH Pool Construction",null,null,null,"AS344242477","Brian Johnson (344242477) Dean's Office - Life Sciences","AS344242477-Brian Johnson (344242477) Dean's Office - Life Sciences","Active"]
[null,null,null,null,null,null,"AC02223","[KC] ISP Program","AC02223-[KC] ISP Program","Activity","FD02","Active","2025-03-17T16:11:53.431221+00:00",null,null,null,null,null,null,null,null,"17804","ATH Game 4","17804-ATH Game 4",null,null,null,"AS348314079","Robin Hancock (348314079) Fine Arts & Communications - School of Music","AS348314079-Robin Hancock (348314079) Fine Arts & Communications - School of Music","Active"]
[null,null,null,null,null,null,"AC02240","[KC] France Business SEP","AC02240-[KC] France Business SEP","Activity","FD02","Active","2025-03-17T16:11:53.431221+00:00",null,null,null,null,null,null,null,null,"17821","ATH Game 21","17821-ATH Game 21",null,null,null,"AS351548734","Joel Christensen (351548734) Asst Administration VP Finance","AS351548734-Joel Christensen (351548734) Asst Administration VP Finance","Active"]
[null,null,null,null,null,null,"AC02279","[KC] Information Systems, 4th Indus","AC02279-[KC] Information Systems, 4th Indus","Activity","FD02","Active","2025-03-17T16:11:53.431221+00:00",null,null,null,null,null,null,null,null,"17907","ATH Odd Year Game 6","17907-ATH Odd Year Game 6",null,null,null,"AS357366840","Hugh Fraser (357366840) Cougareat","AS357366840-Hugh Fraser (357366840) Cougareat","Active"]
[null,null,null,null,null,null,"AC02300","[KC] ISP Program","AC02300-[KC] ISP Program","Activity","FD02","Active","2025-03-17T16:11:53.431221+00:00",null,null,null,null,null,null,null,null,"17950","ATH Cougar Club Memb","17950-ATH Cougar Club Memb",null,null,null,"AS361662088","Ryan Clark (361662088) BYU Broadcasting - Human Resources","AS361662088-Ryan Clark (361662088) BYU Broadcasting - Human Resources","Active"]
[null,null,null,null,null,null,"AC02310","[KC] ISP Program","AC02310-[KC] ISP Program","Activity","FD02","Active","2025-03-17T16:11:53.431221+00:00",null,null,null,null,null,null,null,null,"18063","ARTS Express","18063-ARTS Express",null,null,null,"AS363461382","Aaron Cornia (363461382) University Communications","AS363461382-Aaron Cornia (363461382) University Communications","Active"]
[null,null,null,null,null,null,"AC02339","[KC] Plague, Penicillin, and Pretze","AC02339-[KC] Plague, Penicillin, and Pretze","Activity","FD02","Active","2025-03-17T16:11:53.431221+00:00",null,null,null,null,null,null,null,null,"19036","David Lignell","19036-David Lignell",null,null,null,"AS368966773","Austin Bushman (368966773) CE Testing Services","AS368966773-Austin Bushman (368966773) CE Testing Services","Active"]
[null,null,null,null,null,null,"AC02356","[KC] Weidman Center Global Internsh","AC02356-[KC] Weidman Center Global Internsh","Activity","FD02","Active","2025-03-17T16:11:53.431221+00:00",null,null,null,null,null,null,null,null,"19112","Craig Shaw","19112-Craig Shaw",null,null,null,"AS371363032","Emily Lund (371363032) College of Nursing","AS371363032-Emily Lund (371363032) College of Nursing","Active"]
[null,null,null,null,null,null,"AC02373","[KC] Incoming Exchange Student DE","AC02373-[KC] Incoming Exchange Student DE","Activity","FD02","Active","2025-03-17T16:11:53.431221+00:00",null,null,null,null,null,null,null,null,"19148","Daniel P Ames","19148-Daniel P Ames",null,null,null,"AS374367447","Brian Hooper (374367447) Catering Services","AS374367447-Brian Hooper (374367447) Catering Services","Active"]
[null,null,null,null,null,null,"AC02394","[KC] English Language Teaching in T","AC02394-[KC] English Language Teaching in T","Activity","FD02","Active","2025-03-17T16:11:53.504097+00:00",null,null,null,null,null,null,null,null,"19250","blank","19250-blank",null,null,null,"AS378911086","Steve Riep (378911086) Humanities - Asian & Near Eastern Languages","AS378911086-Steve Riep (378911086) Humanities - Asian & Near Eastern Languages","Active"]
[null,null,null,null,null,null,"AC02433","[ADM] Pell Administration","AC02433-[ADM] Pell Administration","Activity","FD01","Active","2025-03-17T16:11:53.504097+00:00",null,null,null,null,null,null,null,null,"19353","Oils","19353-Oils",null,null,null,"AS386367607","Emilee Wright (386367607) Fine Arts & Communications - Dance","AS386367607-Emilee Wright (386367607) Fine Arts & Communications - Dance","Active"]
[null,null,null,null,null,null,"AC02438","[ADM] Social Security","AC02438-[ADM] Social Security","Activity","FD01","Active","2025-03-17T16:11:53.504097+00:00",null,null,null,null,null,null,null,null,"19375","Jones","19375-Jones",null,null,null,"AS387902333","Hal Boyd (387902333) University President","AS387902333-Hal Boyd (387902333) University President","Active"]
[null,null,null,null,null,null,"AC02472","[ADM] Vacation Payable","AC02472-[ADM] Vacation Payable","Activity","FD01","Active","2025-03-17T16:11:53.504097+00:00",null,null,null,null,null,null,null,null,"19448","Michael Chambers","19448-Michael Chambers",null,null,null,"AS394696339","Kalen Alpin (394696339) CE FSY Hiring","AS394696339-Kalen Alpin (394696339) CE FSY Hiring","Active"]
[null,null,null,null,null,null,"AC02489","[ADM] Claim on Cash Clearing Errors","AC02489-[ADM] Claim on Cash Clearing Errors","Activity","FD01","Active","2025-03-17T16:11:53.504097+00:00",null,null,null,null,null,null,null,null,"19480","Phil Lundrigan","19480-Phil Lundrigan",null,null,null,"AS397147213","Chris Harvey (397147213) CMS - Computer Science","AS397147213-Chris Harvey (397147213) CMS - Computer Science","Active"]
[null,null,null,null,null,null,"AC02510","[FIN] PCA-Instruction & Acad Support","AC02510-[FIN] PCA-Instruction & Acad Support","Activity","FD02","Active","2025-03-17T16:11:53.504097+00:00",null,null,null,null,null,null,null,null,"19575","Instrumentation","19575-Instrumentation",null,null,null,"AS401877957","Jim Woodard (401877957) Employee Relations and Equal Opportunity","AS401877957-Jim Woodard (401877957) Employee Relations and Equal Opportunity","Active"]
[null,null,null,null,null,null,"AC02527","[FIN] PCA Satisfaction Restrictions","AC02527-[FIN] PCA Satisfaction Restrictions","Activity","FD20","Active","2025-03-17T16:11:53.504097+00:00",null,null,null,null,null,null,null,null,"19599","Hongjuan Ran","19599-Hongjuan Ran",null,null,null,"AS404657352","Denise Stephens (404657352) CMS - Physics and Astronomy","AS404657352-Denise Stephens (404657352) CMS - Physics and Astronomy","Active"]
[null,null,null,null,null,null,"AC02568","[ADM] WSC Building Replacement","AC02568-[ADM] WSC Building Replacement","Activity","FD06","Active","2025-03-17T16:11:53.504097+00:00",null,null,null,null,null,null,null,null,"19750","Mike Miles","19750-Mike Miles",null,null,null,"AS412845633","Jessica Everett (412845633) Law School","AS412845633-Jessica Everett (412845633) Law School","Active"]
[null,null,null,null,null,null,"AC02588","[PHIL] Unassigned DL","AC02588-[PHIL] Unassigned DL","Activity","FD07","Active","2025-03-17T16:11:53.504097+00:00",null,null,null,null,null,null,null,null,"19783","Justin Giboney   Startup","19783-Justin Giboney   Startup",null,null,null,"AS415662175","Stanton Woods (415662175) Facilities Planning and Design - Campus Projects","AS415662175-Stanton Woods (415662175) Facilities Planning and Design - Campus Projects","Active"]
[null,null,null,null,null,null,"AC02605","[PHIL] Former EM","AC02605-[PHIL] Former EM","Activity","FD07","Active","2025-03-17T16:11:53.590488+00:00",null,null,null,null,null,null,null,null,"19858","BYU Drone Team","19858-BYU Drone Team",null,null,null,"AS419250498","Kayla Mennenga (419250498) FHSS - School of Family Life","AS419250498-Kayla Mennenga (419250498) FHSS - School of Family Life","Active"]
[null,null,null,null,null,null,"AC02622","[PHIL] Pending DE Donor Liason","AC02622-[PHIL] Pending DE Donor Liason","Activity","FD07","Active","2025-03-17T16:11:53.590488+00:00",null,null,null,null,null,null,null,null,"19901","Global Engineering Outreach","19901-Global Engineering Outreach",null,null,null,"AS422216985","Gregory Allen (422216985) Cougareat","AS422216985-Gregory Allen (422216985) Cougareat","Active"]
[null,null,null,null,null,null,"AC02651","[CE] HS Course Investment","AC02651-[CE] HS Course Investment","Activity","FD03","Active","2025-03-17T16:11:53.590488+00:00",null,null,null,null,null,null,null,null,"19957","STEM Alliance","19957-STEM Alliance",null,null,null,"AS425318529","Tina Tavana (425318529) Life Sciences - Biology","AS425318529-Tina Tavana (425318529) Life Sciences - Biology","Active"]
[null,null,null,null,null,null,"AC02668","[CE] IS Rebranding","AC02668-[CE] IS Rebranding","Activity","FD02","Active","2025-03-17T16:11:53.590488+00:00",null,null,null,null,null,null,null,null,"20000","Unclassified/General","20000-Unclassified/General",null,null,null,"AS427887859","Riley Hales (427887859) Civil and Construction Enginee","AS427887859-Riley Hales (427887859) Civil and Construction Enginee","Active"]
[null,null,null,null,null,null,"AC02693","[CE] UN MFG 202: History of Creativity 2","AC02693-[CE] UN MFG 202: History of Creativity 2","Activity","FD02","Active","2025-03-17T16:11:53.590488+00:00",null,null,null,null,null,null,null,null,"20273","Anth - Cyndy Finlayson","20273-Anth - Cyndy Finlayson",null,null,null,"AS432609472","Paul Reynolds (432609472) Dean's Office - College of Engineering","AS432609472-Paul Reynolds (432609472) Dean's Office - College of Engineering","Active"]
[null,null,null,null,null,null,"AC02729","[CE] UN PSYCH 111: Psychological Science","AC02729-[CE] UN PSYCH 111: Psychological Science","Activity","FD02","Active","2025-03-17T16:11:53.590488+00:00",null,null,null,null,null,null,null,null,"20663","Soc Scott Sanders","20663-Soc Scott Sanders",null,null,null,"AS440412973","Steven Johnson (440412973) PMPC Administration","AS440412973-Steven Johnson (440412973) PMPC Administration","Active"]
[null,null,null,null,null,null,"AC02746","[CE] UN SFL 102: Intro to Interior Design","AC02746-[CE] UN SFL 102: Intro to Interior Design","Activity","FD02","Active","2025-03-17T16:11:53.590488+00:00",null,null,null,null,null,null,null,null,"20917","GWS","20917-GWS",null,null,null,"AS443229257","Renea Scott (443229257) CMS - Statistics","AS443229257-Renea Scott (443229257) CMS - Statistics","Active"]
[null,null,null,null,null,null,"AC02767","[CE] UN SOC 111: Introductory Sociology","AC02767-[CE] UN SOC 111: Introductory Sociology","Activity","FD02","Active","2025-03-17T16:11:53.590488+00:00",null,null,null,null,null,null,null,null,"20953","Aaron Rose","20953-Aaron Rose",null,null,null,"AS446016107","Nieves Knapp (446016107) Humanities - Spanish & Portuguese","AS446016107-Nieves Knapp (446016107) Humanities - Spanish & Portuguese","Active"]
[null,null,null,null,null,null,"AC02784","[CE] UN MUSIC 201: Civilization, Music 1","AC02784-[CE] UN MUSIC 201: Civilization, Music 1","Activity","FD02","Active","2025-03-17T16:11:53.590488+00:00",null,null,null,null,null,null,null,null,"20989","Troy Galbraith","20989-Troy Galbraith",null,null,null,"AS448254590","Steven Allen (448254590) AVP - Dean, Family Home Social Science (FHSS)","AS448254590-Steven Allen (448254590) AVP - Dean, Family Home Social Science (FHSS)","Active"]
[null,null,null,null,null,null,"AC02800","[CE] UN RUSS 302: Intermediate Russian Part 1","AC02800-[CE] UN RUSS 302: Intermediate Russian Part 1","Activity","FD02","Active","2025-03-17T16:11:53.590488+00:00",null,null,null,null,null,null,null,null,"21108","Kevin John","21108-Kevin John",null,null,null,"AS451125565","Jon Forsyth (451125565) Humanities - Linguistics","AS451125565-Jon Forsyth (451125565) Humanities - Linguistics","Active"]
[null,null,null,null,null,null,"AC02823","[CE] UN ENGL 230: Studies in British Literature","AC02823-[CE] UN ENGL 230: Studies in British Literature","Activity","FD02","Active","2025-03-17T16:11:53.660064+00:00",null,null,null,null,null,null,null,null,"21165","Communications Strategic Labs","21165-Communications Strategic Labs",null,null,null,"AS454671217","David Barney (454671217) MSE  - Teacher Education","AS454671217-David Barney (454671217) MSE  - Teacher Education","Active"]
[null,null,null,null,null,null,"AC02863","[CE] UN GERM 302: Advanced German Language Part 1","AC02863-[CE] UN GERM 302: Advanced German Language Part 1","Activity","FD02","Active","2025-03-17T16:11:53.660064+00:00",null,null,null,null,null,null,null,null,"21350","Audio Content","21350-Audio Content",null,null,null,"AS459578603","Richard Smith (459578603) College of Engineering - Mechanical Engineering","AS459578603-Richard Smith (459578603) College of Engineering - Mechanical Engineering","Active"]
[null,null,null,null,null,null,"AC02884","[CE] UN KOREA 102: First-Year Korean 2","AC02884-[CE] UN KOREA 102: First-Year Korean 2","Activity","FD02","Active","2025-03-17T16:11:53.660064+00:00",null,null,null,null,null,null,null,null,"21416","Christmas Card","21416-Christmas Card",null,null,null,"AS464183048","Tyler Briggs (464183048) University Accessibility Center","AS464183048-Tyler Briggs (464183048) University Accessibility Center","Active"]
[null,null,null,null,null,null,"AC02901","[CE] UN HLTH 426: Environmental Toxicology","AC02901-[CE] UN HLTH 426: Environmental Toxicology","Activity","FD02","Active","2025-03-17T16:11:53.660064+00:00",null,null,null,null,null,null,null,null,"21445","External Relations","21445-External Relations",null,null,null,"AS467419690","Julie Allen (467419690) Humanities - Comparative Arts & Letters","AS467419690-Julie Allen (467419690) Humanities - Comparative Arts & Letters","Active"]
[null,null,null,null,null,null,"AC02919","[CE] UN ACC 310: Principles of Accounting Part 2","AC02919-[CE] UN ACC 310: Principles of Accounting Part 2","Activity","FD02","Active","2025-03-17T16:11:53.660064+00:00",null,null,null,null,null,null,null,null,"21508","MOA Exhibit Annual Booklet","21508-MOA Exhibit Annual Booklet",null,null,null,"AS469335086","Ben Jessen (469335086) PF Air Conditioning Shop","AS469335086-Ben Jessen (469335086) PF Air Conditioning Shop","Active"]
[null,null,null,null,null,null,"AC02940","[CE] UN MSB 596R: Business Spanish","AC02940-[CE] UN MSB 596R: Business Spanish","Activity","FD02","Active","2025-03-17T16:11:53.660064+00:00",null,null,null,null,null,null,null,null,"21552","MOA Educat Family Programs","21552-MOA Educat Family Programs",null,null,null,"AS471755422","April Reber (471755422) FHSS - Anthropology","AS471755422-April Reber (471755422) FHSS - Anthropology","Active"]
[null,null,null,null,null,null,"AC02957","[CE] UN GEOL 103: Life of the Past","AC02957-[CE] UN GEOL 103: Life of the Past","Activity","FD02","Active","2025-03-17T16:11:53.660064+00:00",null,null,null,null,null,null,null,null,"21588","MOA Marketing","21588-MOA Marketing",null,null,null,"AS474825251","Rob McFarland (474825251) Humanities - German & Russian","AS474825251-Rob McFarland (474825251) Humanities - German & Russian","Active"]
[null,null,null,null,null,null,"AC02978","[CE] UN REL A 122: The Book of Mormon","AC02978-[CE] UN REL A 122: The Book of Mormon","Activity","FD02","Active","2025-03-17T16:11:53.660064+00:00",null,null,null,null,null,null,null,null,"21631","Concert Choir","21631-Concert Choir",null,null,null,"AS477395841","Cindy Brightenburg (477395841) Lee Library - R&L Special Collections","AS477395841-Cindy Brightenburg (477395841) Lee Library - R&L Special Collections","Active"]
[null,null,null,null,null,null,"AC03017","[CE] HS ART 059: Intro to Commercial Art","AC03017-[CE] HS ART 059: Intro to Commercial Art","Activity","FD02","Active","2025-03-17T16:11:53.760059+00:00",null,null,null,null,null,null,null,null,"21704","Taggart, Matthew","21704-Taggart, Matthew",null,null,null,"AS485982055","Joel Selway (485982055) FHSS - Political Science","AS485982055-Joel Selway (485982055) FHSS - Political Science","Active"]
[null,null,null,null,null,null,"AC03034","[CE] HS CTE 042: Animation","AC03034-[CE] HS CTE 042: Animation","Activity","FD02","Active","2025-03-17T16:11:53.760059+00:00",null,null,null,null,null,null,null,null,"21721","Stephanie Breinholt","21721-Stephanie Breinholt",null,null,null,"AS489785281","Christopher Meza-Leon (489785281) Cougareat","AS489785281-Christopher Meza-Leon (489785281) Cougareat","Active"]
[null,null,null,null,null,null,"AC03059","[CE] HS INFOP 041: Keyboarding","AC03059-[CE] HS INFOP 041: Keyboarding","Activity","FD02","Active","2025-03-17T16:11:53.760059+00:00",null,null,null,null,null,null,null,null,"21796","TMA 224","21796-TMA 224",null,null,null,"AS495607034","Audrey Perry Martin (495607034) Law School","AS495607034-Audrey Perry Martin (495607034) Law School","Active"]
[null,null,null,null,null,null,"AC03073","[CE] HS CLOTH 041: Basic Clothing Construction","AC03073-[CE] HS CLOTH 041: Basic Clothing Construction","Activity","FD02","Active","2025-03-17T16:11:53.760059+00:00",null,null,null,null,null,null,null,null,"21846","FM / Studios Capital Equipment","21846-FM / Studios Capital Equipment",null,null,null,"AS498489500","Treavor Peterson (498489500) Marketing & Global Spply Chain","AS498489500-Treavor Peterson (498489500) Marketing & Global Spply Chain","Active"]
[null,null,null,null,null,null,"AC03090","[CE] HS ENGL 033: Seventh-Grade English, Part 2","AC03090-[CE] HS ENGL 033: Seventh-Grade English, Part 2","Activity","FD02","Active","2025-03-17T16:11:53.760059+00:00",null,null,null,null,null,null,null,null,"21B92","Internet Protocol TV-Decoders","21B92-Internet Protocol TV-Decoders",null,null,null,"AS501346856","Russ Nielson (501346856) PF Electrical Shop","AS501346856-Russ Nielson (501346856) PF Electrical Shop","Active"]
[null,null,null,null,null,null,"AC03111","[CE] HS READ 049: Recreational Reading","AC03111-[CE] HS READ 049: Recreational Reading","Activity","FD02","Active","2025-03-17T16:11:53.760059+00:00",null,null,null,null,null,null,null,null,"22300","HLRC Wages","22300-HLRC Wages",null,null,null,"AS505013984","Brad Orr (505013984) PF Building Operations","AS505013984-Brad Orr (505013984) PF Building Operations","Active"]
[null,null,null,null,null,null,"AC03150","[CE] HS MUSIC 043: Guitar Basics, Part 1","AC03150-[CE] HS MUSIC 043: Guitar Basics, Part 1","Activity","FD02","Active","2025-03-17T16:11:53.760059+00:00",null,null,null,null,null,null,null,null,"22407","Awards Banquet","22407-Awards Banquet",null,null,null,"AS516290776","Dan Spencer (516290776) Chemical Engineering","AS516290776-Dan Spencer (516290776) Chemical Engineering","Active"]
[null,null,null,null,null,null,"AC03166","[CE] HS JOG 041: Jogging","AC03166-[CE] HS JOG 041: Jogging","Activity","FD02","Active","2025-03-17T16:11:53.760059+00:00",null,null,null,null,null,null,null,null,"22423","ENGL TA","22423-ENGL TA",null,null,null,"AS519128755","Beverly Bell (519128755) Heritage Halls","AS519128755-Beverly Bell (519128755) Heritage Halls","Active"]
[null,null,null,null,null,null,"AC03189","[CE] HS GSCI 035: Eighth Grade Science, Part 1","AC03189-[CE] HS GSCI 035: Eighth Grade Science, Part 1","Activity","FD02","Active","2025-03-17T16:11:53.760059+00:00",null,null,null,null,null,null,null,null,"22451","Philosophy Club","22451-Philosophy Club",null,null,null,"AS523293550","Karen Brereton (523293550) Purchasing and Travel - Travel Operations","AS523293550-Karen Brereton (523293550) Purchasing and Travel - Travel Operations","Active"]
[null,null,null,null,null,null,"AC03206","[CE] HS SOCST 038: United States History, Part 4","AC03206-[CE] HS SOCST 038: United States History, Part 4","Activity","FD02","Active","2025-03-17T16:11:53.760059+00:00",null,null,null,null,null,null,null,null,"22908","Humanities Center","22908-Humanities Center",null,null,null,"AS526459833","Jonathan Jarvis (526459833) FHSS - Sociology","AS526459833-Jonathan Jarvis (526459833) FHSS - Sociology","Active"]
[null,null,null,null,null,null,"AC03227","[CE] HS HIST 064: World History, Western Hemisphere","AC03227-[CE] HS HIST 064: World History, Western Hemisphere","Activity","FD02","Active","2025-03-17T16:11:53.814975+00:00",null,null,null,null,null,null,null,null,"22931","Asian & Near Eastern Lang","22931-Asian & Near Eastern Lang",null,null,null,"AS531680638","Renea Beckstrand (531680638) AVP - Dean, College of Nursing","AS531680638-Renea Beckstrand (531680638) AVP - Dean, College of Nursing","Active"]
[null,null,null,null,null,null,"AC03244","[CE] HS ARAB 053: Second-Year Arabic, Part 2","AC03244-[CE] HS ARAB 053: Second-Year Arabic, Part 2","Activity","FD02","Active","2025-03-17T16:11:53.814975+00:00",null,null,null,null,null,null,null,null,"23020","Carly Peterson","23020-Carly Peterson",null,null,null,"AS535288243","Mohammed Barakat (535288243) FHSS - Anthropology","AS535288243-Mohammed Barakat (535288243) FHSS - Anthropology","Active"]
[null,null,null,null,null,null,"AC03265","[CE] HS JAPAN 041: First-Year Japanese, Part 3","AC03265-[CE] HS JAPAN 041: First-Year Japanese, Part 3","Activity","FD02","Active","2025-03-17T16:11:53.814975+00:00",null,null,null,null,null,null,null,null,"23052","Janelle Macintosh","23052-Janelle Macintosh",null,null,null,"AS540220590","Nicole Stewart (540220590) Dean's Office - College of Engineering","AS540220590-Nicole Stewart (540220590) Dean's Office - College of Engineering","Active"]
[null,null,null,null,null,null,"AC03294","[CE] CEC MUSIC 075: Organ Performance, Level 5","AC03294-[CE] CEC MUSIC 075: Organ Performance, Level 5","Activity","FD02","Active","2025-03-17T16:11:53.814975+00:00",null,null,null,null,null,null,null,null,"23119","Stacie Hunsaker","23119-Stacie Hunsaker",null,null,null,"AS546309661","Tevita Ruiz (546309661) Purchasing and Travel - Campus Finance","AS546309661-Tevita Ruiz (546309661) Purchasing and Travel - Campus Finance","Active"]
[null,null,null,null,null,null,"AC03323","[CE] BYUO CHEM 105: General College Chemistry 1 with Lab (Integrated)","AC03323-[CE] BYUO CHEM 105: General College Chemistry 1 with Lab (Integrated)","Activity","FD02","Active","2025-03-17T16:11:53.814975+00:00",null,null,null,null,null,null,null,null,"23178","Denise Cummins","23178-Denise Cummins",null,null,null,"AS551760750","Travis Steward (551760750) Alumni Aspen Grove","AS551760750-Travis Steward (551760750) Alumni Aspen Grove","Active"]
[null,null,null,null,null,null,"AC03345","[CE] BYUO C S 224: Intro to Computer Systems","AC03345-[CE] BYUO C S 224: Intro to Computer Systems","Activity","FD02","Active","2025-03-17T16:11:53.814975+00:00",null,null,null,null,null,null,null,null,"23353","Sondra Heaston","23353-Sondra Heaston",null,null,null,"AS555821372","Willie Waite (555821372) BYU Security Operations - Training/Security","AS555821372-Willie Waite (555821372) BYU Security Operations - Training/Security","Active"]
[null,null,null,null,null,null,"AC03362","[CE] BYUO EUROP 490R: Senior Seminar","AC03362-[CE] BYUO EUROP 490R: Senior Seminar","Activity","FD02","Active","2025-03-17T16:11:53.814975+00:00",null,null,null,null,null,null,null,null,"23529","Deborah Himes","23529-Deborah Himes",null,null,null,"AS559106058","Aliyah Formen (559106058)","AS559106058-Aliyah Formen (559106058)","Active"]
[null,null,null,null,null,null,"AC03379","[CE] BYUO GEOL 109: Geology of the Planets","AC03379-[CE] BYUO GEOL 109: Geology of the Planets","Activity","FD02","Active","2025-03-17T16:11:53.814975+00:00",null,null,null,null,null,null,null,null,"23577","Brandon Thatcher","23577-Brandon Thatcher",null,null,null,"AS563204475","Fredy Carrasco (563204475) OIT Resource - AV Services","AS563204475-Fredy Carrasco (563204475) OIT Resource - AV Services","Active"]
[null,null,null,null,null,null,"AC03403","[CE] BYUO HCOLL 494R: On-Campus Experiential Project","AC03403-[CE] BYUO HCOLL 494R: On-Campus Experiential Project","Activity","FD02","Active","2025-03-17T16:11:53.814975+00:00",null,null,null,null,null,null,null,null,"23667","Michael Thomas","23667-Michael Thomas",null,null,null,"AS567009474","Chris Sears (567009474) Staff and Student Recruiting","AS567009474-Chris Sears (567009474) Staff and Student Recruiting","Active"]
[null,null,null,null,null,null,"AC03440","[CE] BYUO IP&T 515R: Special Topics in Instructional Psychology and Technology","AC03440-[CE] BYUO IP&T 515R: Special Topics in Instructional Psychology and Technology","Activity","FD02","Active","2025-03-17T16:11:53.906813+00:00",null,null,null,null,null,null,null,null,"23829","Deborah Himes","23829-Deborah Himes",null,null,null,"AS575361992","Kristen Chandler (575361992) Humanities - English","AS575361992-Kristen Chandler (575361992) Humanities - English","Active"]
[null,null,null,null,null,null,"AC03461","[CE] BYUO IP&T 674R: Quasi-Experimental Studies","AC03461-[CE] BYUO IP&T 674R: Quasi-Experimental Studies","Activity","FD02","Active","2025-03-17T16:11:53.906813+00:00",null,null,null,null,null,null,null,null,"23929","Deborah Himes","23929-Deborah Himes",null,null,null,"AS580481508","Braden Brown (580481508) Athletics - Academic Advisement","AS580481508-Braden Brown (580481508) Athletics - Academic Advisement","Active"]
[null,null,null,null,null,null,"AC03478","[CE] BYUO IP&T 799R: Doctoral Dissertation","AC03478-[CE] BYUO IP&T 799R: Doctoral Dissertation","Activity","FD02","Active","2025-03-17T16:11:53.906813+00:00",null,null,null,null,null,null,null,null,"23973","Petr Ruda","23973-Petr Ruda",null,null,null,"AS583195134","Chris Wilcox (583195134) PF Housing HVAC & Maintenance","AS583195134-Chris Wilcox (583195134) PF Housing HVAC & Maintenance","Active"]
[null,null,null,null,null,null,"AC03495","[CE] BYUO LING 660: Language Testing","AC03495-[CE] BYUO LING 660: Language Testing","Activity","FD02","Active","2025-03-17T16:11:53.906813+00:00",null,null,null,null,null,null,null,null,"24008","Centralized Chemical Inventory","24008-Centralized Chemical Inventory",null,null,null,"AS586161094","Nelson Reveco Garces (586161094) PF Carpenter Shop","AS586161094-Nelson Reveco Garces (586161094) PF Carpenter Shop","Active"]
[null,null,null,null,null,null,"AC03516","[CE] BYUO MSB 596R: Business Italian","AC03516-[CE] BYUO MSB 596R: Business Italian","Activity","FD02","Active","2025-03-17T16:11:53.906813+00:00",null,null,null,null,null,null,null,null,"24097","Chem Camp","24097-Chem Camp",null,null,null,"AS588642492","Bryan Tanner (588642492) CE IS Course Dev","AS588642492-Bryan Tanner (588642492) CE IS Course Dev","Active"]
[null,null,null,null,null,null,"AC03554","[CE] BYUO PSYCH 305: Multicultural Psychology","AC03554-[CE] BYUO PSYCH 305: Multicultural Psychology","Activity","FD02","Active","2025-03-17T16:11:53.906813+00:00",null,null,null,null,null,null,null,null,"24351","X-Ray Diffraction","24351-X-Ray Diffraction",null,null,null,"AS594543898","Jaime Rivera Barragan (594543898) PF Building Operations","AS594543898-Jaime Rivera Barragan (594543898) PF Building Operations","Active"]
[null,null,null,null,null,null,"AC03577","[CE] BYUO REL A 275: Teachings and Doctrine of the Book of Mormon","AC03577-[CE] BYUO REL A 275: Teachings and Doctrine of the Book of Mormon","Activity","FD02","Active","2025-03-17T16:11:53.906813+00:00",null,null,null,null,null,null,null,null,"24536","Graves, Steven W","24536-Graves, Steven W",null,null,null,"AS598802730","Pam Wilson (598802730) Payroll","AS598802730-Pam Wilson (598802730) Payroll","Active"]
[null,null,null,null,null,null,"AC03595","[CE] BYUO SFL 185R: Beginning Clothing Construction","AC03595-[CE] BYUO SFL 185R: Beginning Clothing Construction","Activity","FD02","Active","2025-03-17T16:11:53.906813+00:00",null,null,null,null,null,null,null,null,"24631","Stowers, Kara J.","24631-Stowers, Kara J.",null,null,null,"AS601863472","Veldon Law (601863472) CE Assoc Dean Andrews","AS601863472-Veldon Law (601863472) CE Assoc Dean Andrews","Active"]
[null,null,null,null,null,null,"AC03612","[CE] BYUO SOC W 200: Intro to Social Work","AC03612-[CE] BYUO SOC W 200: Intro to Social Work","Activity","FD02","Active","2025-03-17T16:11:53.906813+00:00",null,null,null,null,null,null,null,null,"24856","Johnson, Jeremy A.","24856-Johnson, Jeremy A.",null,null,null,"AS604513928","Carson Trautman (604513928) International VP Office","AS604513928-Carson Trautman (604513928) International VP Office","Active"]
[null,null,null,null,null,null,"AC03633","[CE] BYUO STDEV 318: Graduate School Preparation: Practical Strategies for Becoming a More Competitive Applicant","AC03633-[CE] BYUO STDEV 318: Graduate School Preparation: Practical Strategies for Becoming a More Competitive Applicant","Activity","FD02","Active","2025-03-17T16:11:53.906813+00:00",null,null,null,null,null,null,null,null,"25005","Roper, Paul","25005-Roper, Paul",null,null,null,"AS608760740","Roy Bean (608760740) FHSS - School of Family Life","AS608760740-Roy Bean (608760740) FHSS - School of Family Life","Active"]
[null,null,null,null,null,null,"AC03703","[CE] FSY MO Warrensburg","AC03703-[CE] FSY MO Warrensburg","Activity","FD02","Active","2025-03-17T16:11:53.988465+00:00",null,null,null,null,null,null,null,null,"25034","Jones, Mike","25034-Jones, Mike",null,null,null,"AS612693675","Mauri Johnson (612693675) Humanities - English","AS612693675-Mauri Johnson (612693675) Humanities - English","Active"]
[null,null,null,null,null,null,"AC03714","[CE] FSY UT Ephraim","AC03714-[CE] FSY UT Ephraim","Activity","FD02","Active","2025-03-17T16:11:53.988465+00:00",null,null,null,null,null,null,null,null,"25040","CS Dept Office","25040-CS Dept Office",null,null,null,"AS613619877","Galilee Poulson (613619877) Purchasing and Travel - Cell Phone Office","AS613619877-Galilee Poulson (613619877) Purchasing and Travel - Cell Phone Office","Active"]
[null,null,null,null,null,null,"AC03877","[CE] FSY AK Anchorage","AC03877-[CE] FSY AK Anchorage","Activity","FD02","Active","2025-03-17T16:11:53.988465+00:00",null,null,null,null,null,null,null,null,"25204","Visiting Scholar","25204-Visiting Scholar",null,null,null,"AS621405364","Genevieve Baker (621405364) College of Engineering - Manufacturing Engineering","AS621405364-Genevieve Baker (621405364) College of Engineering - Manufacturing Engineering","Active"]
[null,null,null,null,null,null,"AC03917","[CE] FSY UT Logan","AC03917-[CE] FSY UT Logan","Activity","FD02","Active","2025-03-17T16:11:53.988465+00:00",null,null,null,null,null,null,null,null,"25229","410-Hotel","25229-410-Hotel",null,null,null,"AS624926375","Leslie Gallacher (624926375) Law School","AS624926375-Leslie Gallacher (624926375) Law School","Active"]
[null,null,null,null,null,null,"AC03979","[CE] EFY Special Edition NY Palmyra 04","AC03979-[CE] EFY Special Edition NY Palmyra 04","Activity","FD02","Active","2025-03-17T16:11:53.988465+00:00",null,null,null,null,null,null,null,null,"25307","Conner, Gregory R.","25307-Conner, Gregory R.",null,null,null,"AS628843483","Cheri Koford (628843483) Museum of Art - Financial Support","AS628843483-Cheri Koford (628843483) Museum of Art - Financial Support","Active"]
[null,null,null,null,null,null,"AC04005","[CE] EFY Adventure UT Goblin Valley 02","AC04005-[CE] EFY Adventure UT Goblin Valley 02","Activity","FD02","Active","2025-03-17T16:11:53.988465+00:00",null,null,null,null,null,null,null,null,"25331","Hughes, Mark","25331-Hughes, Mark",null,null,null,"AS631326374","Devin Anderson (631326374) Athletics - Football Sport Performance","AS631326374-Devin Anderson (631326374) Athletics - Football Sport Performance","Active"]
[null,null,null,null,null,null,"AC04037","[CE] SL MPA 604: Government and Non-Profit Accounting","AC04037-[CE] SL MPA 604: Government and Non-Profit Accounting","Activity","FD02","Active","2025-03-17T16:11:53.988465+00:00",null,null,null,null,null,null,null,null,"25362","Drew Johnson","25362-Drew Johnson",null,null,null,"AS636098565","Ryan Nelson (636098565) Law School","AS636098565-Ryan Nelson (636098565) Law School","Active"]
[null,null,null,null,null,null,"AC04052","[CE] SL MPA 651: Nonprofit Organization Management","AC04052-[CE] SL MPA 651: Nonprofit Organization Management","Activity","FD02","Active","2025-03-17T16:11:53.988465+00:00",null,null,null,null,null,null,null,null,"25390","MEG Grant","25390-MEG Grant",null,null,null,"AS638760845","John Zick (638760845) PF Building Operations","AS638760845-John Zick (638760845) PF Building Operations","Active"]
[null,null,null,null,null,null,"AC04091","[CE] SL PSYCH 342: Psychopathology","AC04091-[CE] SL PSYCH 342: Psychopathology","Activity","FD02","Active","2025-03-17T16:11:54.091948+00:00",null,null,null,null,null,null,null,null,"25441","Robert Snellman","25441-Robert Snellman",null,null,null,"AS646001646","Porter Brown (646001646) PF Electrical Shop","AS646001646-Porter Brown (646001646) PF Electrical Shop","Active"]
[null,null,null,null,null,null,"AC04108","[CE] SL SFL 223: Preparation for Marriage","AC04108-[CE] SL SFL 223: Preparation for Marriage","Activity","FD02","Active","2025-03-17T16:11:54.091948+00:00",null,null,null,null,null,null,null,null,"25515","Teuscher, Dawn","25515-Teuscher, Dawn",null,null,null,"AS649005698","Marcie Remington (649005698) FHSS - School of Social Work","AS649005698-Marcie Remington (649005698) FHSS - School of Social Work","Active"]
[null,null,null,null,null,null,"AC04129","[CE] SL BUS M 200: Personal Finance","AC04129-[CE] SL BUS M 200: Personal Finance","Activity","FD02","Active","2025-03-17T16:11:54.091948+00:00",null,null,null,null,null,null,null,null,"25615","Laboratories/Teaching","25615-Laboratories/Teaching",null,null,null,"AS652333936","Samantha Young (652333936) Athletics - Men's Basketball","AS652333936-Samantha Young (652333936) Athletics - Men's Basketball","Active"]
[null,null,null,null,null,null,"AC04144","[CE] SL MSB 430: Intro to International Business","AC04144-[CE] SL MSB 430: Intro to International Business","Activity","FD02","Active","2025-03-17T16:11:54.091948+00:00",null,null,null,null,null,null,null,null,"25640","Allred, David D.","25640-Allred, David D.",null,null,null,"AS655796088","Chris Rogers (655796088) Humanities - Linguistics","AS655796088-Chris Rogers (655796088) Humanities - Linguistics","Active"]
[null,null,null,null,null,null,"AC04168","[CE] SL CHEM 101: Introductory General Chemistry","AC04168-[CE] SL CHEM 101: Introductory General Chemistry","Activity","FD02","Active","2025-03-17T16:11:54.091948+00:00",null,null,null,null,null,null,null,null,"25670","Stokes, Harold T.","25670-Stokes, Harold T.",null,null,null,"AS658581540","Alexis Baggett (658581540) Admissions Office","AS658581540-Alexis Baggett (658581540) Admissions Office","Active"]
[null,null,null,null,null,null,"AC04185","[CE] SL COMMS 321: News Reporting","AC04185-[CE] SL COMMS 321: News Reporting","Activity","FD02","Active","2025-03-17T16:11:54.091948+00:00",null,null,null,null,null,null,null,null,"25691","Hirshmann, Eric W.","25691-Hirshmann, Eric W.",null,null,null,"AS661831709","Emily Beckstrand (661831709) Heritage Halls","AS661831709-Emily Beckstrand (661831709) Heritage Halls","Active"]
[null,null,null,null,null,null,"AC04224","[CE] SL PORT 321: Third-Year Portuguese Reading, Grammar, and Culture","AC04224-[CE] SL PORT 321: Third-Year Portuguese Reading, Grammar, and Culture","Activity","FD02","Active","2025-03-17T16:11:54.091948+00:00",null,null,null,null,null,null,null,null,"25749","PHSCS 451/452","25749-PHSCS 451/452",null,null,null,"AS670084063","Martin Garn (670084063) OIT Resource - Application Engineering","AS670084063-Martin Garn (670084063) OIT Resource - Application Engineering","Active"]
[null,null,null,null,null,null,"AC04245","[CE] SL FREN 102: First-Year French, Part 2","AC04245-[CE] SL FREN 102: First-Year French, Part 2","Activity","FD02","Active","2025-03-17T16:11:54.091948+00:00",null,null,null,null,null,null,null,null,"25805","Consulting Center","25805-Consulting Center",null,null,null,"AS672949094","Steven Leavitt (672949094) Life Sciences - Biology","AS672949094-Steven Leavitt (672949094) Life Sciences - Biology","Active"]
[null,null,null,null,null,null,"AC04262","[CE] SL SPAN 339: Intro to Hispanic Literature","AC04262-[CE] SL SPAN 339: Intro to Hispanic Literature","Activity","FD02","Active","2025-03-17T16:11:54.091948+00:00",null,null,null,null,null,null,null,null,"25823","Shane Reese","25823-Shane Reese",null,null,null,"AS675368145","Mikaela Dufur (675368145) AVP - Dean, Family Home Social Science (FHSS)","AS675368145-Mikaela Dufur (675368145) AVP - Dean, Family Home Social Science (FHSS)","Active"]
[null,null,null,null,null,null,"AC04284","[CE] SL REL C 351: World Religions","AC04284-[CE] SL REL C 351: World Religions","Activity","FD02","Active","2025-03-17T16:11:54.091948+00:00",null,null,null,null,null,null,null,null,"25851","Alex Petersen","25851-Alex Petersen",null,null,null,"AS678959122","ShuPei Wang (678959122) Humanities - Asian & Near Eastern Languages","AS678959122-ShuPei Wang (678959122) Humanities - Asian & Near Eastern Languages","Active"]
[null,null,null,null,null,null,"AC04301","[CE] SL STDEV 117: Career Exploration","AC04301-[CE] SL STDEV 117: Career Exploration","Activity","FD02","Active","2025-03-17T16:11:54.159986+00:00",null,null,null,null,null,null,null,null,"25915","Office Professionals Retreats","25915-Office Professionals Retreats",null,null,null,"AS681781483","Sofia Gray (681781483) PF Building Operations","AS681781483-Sofia Gray (681781483) PF Building Operations","Active"]
[null,null,null,null,null,null,"AC04318","[CE] EC CPSE 651: Statistics1: Foundations","AC04318-[CE] EC CPSE 651: Statistics1: Foundations","Activity","FD02","Active","2025-03-17T16:11:54.159986+00:00",null,null,null,null,null,null,null,null,"25935","[CMS] Swag","25935-[CMS] Swag",null,null,null,"AS683894254","Kimberly Jenkins (683894254) AVP - Dean, Computational, Math,& Physical (CMS)","AS683894254-Kimberly Jenkins (683894254) AVP - Dean, Computational, Math,& Physical (CMS)","Active"]
[null,null,null,null,null,null,"AC04339","[CE] EC MFGEN 230: Computer-Aided Manufacturing","AC04339-[CE] EC MFGEN 230: Computer-Aided Manufacturing","Activity","FD02","Active","2025-03-17T16:11:54.159986+00:00",null,null,null,null,null,null,null,null,"26009","Chris Hair","26009-Chris Hair",null,null,null,"AS686637706","Michelle Sorensen (686637706) PF Transportation & Manufacturing Services","AS686637706-Michelle Sorensen (686637706) PF Transportation & Manufacturing Services","Active"]
[null,null,null,null,null,null,"AC04378","[CE] EC SFL 334: Adult Development and Aging","AC04378-[CE] EC SFL 334: Adult Development and Aging","Activity","FD02","Active","2025-03-17T16:11:54.159986+00:00",null,null,null,null,null,null,null,null,"26049","Team Building Activity","26049-Team Building Activity",null,null,null,"AS693349821","Karaleigh Garrison (693349821) Fine Arts & Communications - Theatre & Media Arts","AS693349821-Karaleigh Garrison (693349821) Fine Arts & Communications - Theatre & Media Arts","Active"]
[null,null,null,null,null,null,"AC04402","[CE] EC GEOG 422: Principles of Urban Design","AC04402-[CE] EC GEOG 422: Principles of Urban Design","Activity","FD02","Active","2025-03-17T16:11:54.159986+00:00",null,null,null,null,null,null,null,null,"26074","MBA International Lunches","26074-MBA International Lunches",null,null,null,"AS698908985","Alexander Stone (698908985) PF Paint & Sign Shop","AS698908985-Alexander Stone (698908985) PF Paint & Sign Shop","Active"]
[null,null,null,null,null,null,"AC04417","[CE] EC PSYCH 220: Human Development:Life Span","AC04417-[CE] EC PSYCH 220: Human Development:Life Span","Activity","FD02","Active","2025-03-17T16:11:54.159986+00:00",null,null,null,null,null,null,null,null,"26089","AEROS Honor Guard","26089-AEROS Honor Guard",null,null,null,"AS700717208","Liana Au (700717208) HS Administration","AS700717208-Liana Au (700717208) HS Administration","Active"]
[null,null,null,null,null,null,"AC04434","[CE] EC PSYCH 349: Intro to Positive Psychology","AC04434-[CE] EC PSYCH 349: Intro to Positive Psychology","Activity","FD02","Active","2025-03-17T16:11:54.159986+00:00",null,null,null,null,null,null,null,null,"26106","Jason Walker","26106-Jason Walker",null,null,null,"AS704086517","Zach Wright (704086517) MSB - Marketing & Global Supply Chain","AS704086517-Zach Wright (704086517) MSB - Marketing & Global Supply Chain","Active"]
[null,null,null,null,null,null,"AC04455","[CE] EC DESGD 280: Media Design 1","AC04455-[CE] EC DESGD 280: Media Design 1","Activity","FD02","Active","2025-03-17T16:11:54.159986+00:00",null,null,null,null,null,null,null,null,"26128","Bonnie Anderson","26128-Bonnie Anderson",null,null,null,"AS707711241","Steve Williams (707711241) CMS - Mathematics Education","AS707711241-Steve Williams (707711241) CMS - Mathematics Education","Active"]
[null,null,null,null,null,null,"AC04472","[CE] EC DESIL 452: Senior Illustration Studio 2","AC04472-[CE] EC DESIL 452: Senior Illustration Studio 2","Activity","FD02","Active","2025-03-17T16:11:54.159986+00:00",null,null,null,null,null,null,null,null,"26146","Social Venture Navigator","26146-Social Venture Navigator",null,null,null,"AS712546832","Mark Nielsen (712546832) OIT Core - Communications and Training","AS712546832-Mark Nielsen (712546832) OIT Core - Communications and Training","Active"]
[null,null,null,null,null,null,"AC04511","[CE] EC COMMS 315: Intro to SEO and Analytics","AC04511-[CE] EC COMMS 315: Intro to SEO and Analytics","Activity","FD02","Active","2025-03-17T16:11:54.222705+00:00",null,null,null,null,null,null,null,null,"26188","Amanda Pope","26188-Amanda Pope",null,null,null,"AS720677133","Adam Montgomery (720677133) OIT Resource - Platform Engineering","AS720677133-Adam Montgomery (720677133) OIT Resource - Platform Engineering","Active"]
[null,null,null,null,null,null,"AC04519","[CE] EC COMMS 360: Communication Management Principles and Theory","AC04519-[CE] EC COMMS 360: Communication Management Principles and Theory","Activity","FD02","Active","2025-03-17T16:11:54.222705+00:00",null,null,null,null,null,null,null,null,"26197","Master of Information Systems","26197-Master of Information Systems",null,null,null,"AS722268623","Corey Niepraschk (722268623) Student Life Technology","AS722268623-Corey Niepraschk (722268623) Student Life Technology","Active"]
[null,null,null,null,null,null,"AC04550","[CE] EC DANCE 290: Ballet Accelerated Technique 1","AC04550-[CE] EC DANCE 290: Ballet Accelerated Technique 1","Activity","FD02","Active","2025-03-17T16:11:54.222705+00:00",null,null,null,null,null,null,null,null,"26231","GBC Office Enhancements","26231-GBC Office Enhancements",null,null,null,"AS727871662","Candice Poole (727871662) AVP - Dean, Clark Law School","AS727871662-Candice Poole (727871662) AVP - Dean, Clark Law School","Active"]
[null,null,null,null,null,null,"AC04571","[CE] EC MUSIC 235A: Instrumental Conducting Techniques","AC04571-[CE] EC MUSIC 235A: Instrumental Conducting Techniques","Activity","FD02","Active","2025-03-17T16:11:54.222705+00:00",null,null,null,null,null,null,null,null,"26253","EMPA Orientation","26253-EMPA Orientation",null,null,null,"AS731694171","Morgan Gunter (731694171) Fine Arts & Communications - Theatre & Media Arts","AS731694171-Morgan Gunter (731694171) Fine Arts & Communications - Theatre & Media Arts","Active"]
[null,null,null,null,null,null,"AC04588","[CE] EC TMA 101: Intro to the Theatre","AC04588-[CE] EC TMA 101: Intro to the Theatre","Activity","FD02","Active","2025-03-17T16:11:54.222705+00:00",null,null,null,null,null,null,null,null,"26271","Remodel","26271-Remodel",null,null,null,"AS735604220","Hannah Estioko (735604220) CE FSY Training","AS735604220-Hannah Estioko (735604220) CE FSY Training","Active"]
[null,null,null,null,null,null,"AC04605","[CE] EC TMA 392: Children's Media","AC04605-[CE] EC TMA 392: Children's Media","Activity","FD02","Active","2025-03-17T16:11:54.222705+00:00",null,null,null,null,null,null,null,null,"26290","Research Coordinator","26290-Research Coordinator",null,null,null,"AS739282837","Falyn Crawford (739282837) Wyview Park/Riviera","AS739282837-Falyn Crawford (739282837) Wyview Park/Riviera","Active"]
[null,null,null,null,null,null,"AC04626","[CE] EC ASL 111R: Basic Conversation","AC04626-[CE] EC ASL 111R: Basic Conversation","Activity","FD02","Active","2025-03-17T16:11:54.222705+00:00",null,null,null,null,null,null,null,null,"26313","Heather Pack","26313-Heather Pack",null,null,null,"AS743282583","David Clark (743282583) School of Accountancy","AS743282583-David Clark (743282583) School of Accountancy","Active"]
[null,null,null,null,null,null,"AC04666","[CE] EC HAWAI 202: Second-Year Hawaiian","AC04666-[CE] EC HAWAI 202: Second-Year Hawaiian","Activity","FD02","Active","2025-03-17T16:11:54.222705+00:00",null,null,null,null,null,null,null,null,"26413","Annual dues","26413-Annual dues",null,null,null,"AS750717073","Spencer Tuft (750717073) OIT Resource - Application Engineering","AS750717073-Spencer Tuft (750717073) OIT Resource - Application Engineering","Active"]
[null,null,null,null,null,null,"AC04683","[CE] EC INDON 330: Advanced Language and Culture: Indonesian","AC04683-[CE] EC INDON 330: Advanced Language and Culture: Indonesian","Activity","FD02","Active","2025-03-17T16:11:54.222705+00:00",null,null,null,null,null,null,null,null,"26431","Spencer Hilton","26431-Spencer Hilton",null,null,null,"AS754911070","Leslee Thorne-Murphy (754911070) AVP - Dean, Humanities","AS754911070-Leslee Thorne-Murphy (754911070) AVP - Dean, Humanities","Active"]
[null,null,null,null,null,null,"AC04704","[CE] EC PERSI 202: Second-Year Persian 2","AC04704-[CE] EC PERSI 202: Second-Year Persian 2","Activity","FD02","Active","2025-03-17T16:11:54.281822+00:00",null,null,null,null,null,null,null,null,"26454","RIPM RA-Wightman","26454-RIPM RA-Wightman",null,null,null,"AS758538209","Hannah Brundage (758538209) Heritage Halls","AS758538209-Hannah Brundage (758538209) Heritage Halls","Active"]
[null,null,null,null,null,null,"AC04721","[CE] EC SWAHI 330: Advanced Language and Culture: Swahili","AC04721-[CE] EC SWAHI 330: Advanced Language and Culture: Swahili","Activity","FD02","Active","2025-03-17T16:11:54.281822+00:00",null,null,null,null,null,null,null,null,"26472","Katy Reese","26472-Katy Reese",null,null,null,"AS761593418","Dane Thorley (761593418) AVP - Dean, Clark Law School","AS761593418-Dane Thorley (761593418) AVP - Dean, Clark Law School","Active"]
[null,null,null,null,null,null,"AC04742","[CE] EC TURK 101: First-Year Turkish","AC04742-[CE] EC TURK 101: First-Year Turkish","Activity","FD02","Active","2025-03-17T16:11:54.281822+00:00",null,null,null,null,null,null,null,null,"26510","MKSC Brand Lab","26510-MKSC Brand Lab",null,null,null,"AS765412661","Shyla Jackson (765412661) Athletics - Academic Advisement","AS765412661-Shyla Jackson (765412661) Athletics - Academic Advisement","Active"]
[null,null,null,null,null,null,"AC04777","[CE] EC SPAN 360: Intro to Translation","AC04777-[CE] EC SPAN 360: Intro to Translation","Activity","FD02","Active","2025-03-17T16:11:54.281822+00:00",null,null,null,null,null,null,null,null,"26547","MKSC SCOA Jackson Trip","26547-MKSC SCOA Jackson Trip",null,null,null,"AS772267897","Lori Glenn (772267897) Student Financial Services","AS772267897-Lori Glenn (772267897) Student Financial Services","Active"]
[null,null,null,null,null,null,"AC04799","[CE] EC NORWE 201: Second-Year Norwegian","AC04799-[CE] EC NORWE 201: Second-Year Norwegian","Activity","FD02","Active","2025-03-17T16:11:54.281822+00:00",null,null,null,null,null,null,null,null,"26569","MILSCI Staff Ride","26569-MILSCI Staff Ride",null,null,null,"AS775878705","Tenli Emery (775878705) College of Engineering - Civil & Construction Engineering","AS775878705-Tenli Emery (775878705) College of Engineering - Civil & Construction Engineering","Active"]
[null,null,null,null,null,null,"AC04820","[CE] EC FINN 202: Second-Year Finnish","AC04820-[CE] EC FINN 202: Second-Year Finnish","Activity","FD02","Active","2025-03-17T16:11:54.281822+00:00",null,null,null,null,null,null,null,null,"26599","AZ, Phoenix West","26599-AZ, Phoenix West",null,null,null,"AS779688348","Barbara Wilkinson (779688348) OIT Core - Finance - Materials Mgmt","AS779688348-Barbara Wilkinson (779688348) OIT Core - Finance - Materials Mgmt","Active"]
[null,null,null,null,null,null,"AC04837","[CE] EC ARTHC 202: World Civilization since 1500","AC04837-[CE] EC ARTHC 202: World Civilization since 1500","Activity","FD02","Active","2025-03-17T16:11:54.281822+00:00",null,null,null,null,null,null,null,null,"26631","Student Entre. of the Year","26631-Student Entre. of the Year",null,null,null,"AS782433974","Michelle Moore (782433974) CE Large Programs","AS782433974-Michelle Moore (782433974) CE Large Programs","Active"]
[null,null,null,null,null,null,"AC04854","[CE] EC GERM 200R: Second Year Proficiency Tutorial","AC04854-[CE] EC GERM 200R: Second Year Proficiency Tutorial","Activity","FD02","Active","2025-03-17T16:11:54.281822+00:00",null,null,null,null,null,null,null,null,"26671","Project 91","26671-Project 91",null,null,null,"AS785514910","Mark Callister (785514910) AVP - Dean, Fine Arts and Communications","AS785514910-Mark Callister (785514910) AVP - Dean, Fine Arts and Communications","Active"]
[null,null,null,null,null,null,"AC04884","[CE] EC ENGL 452: Contemporary Criticism","AC04884-[CE] EC ENGL 452: Contemporary Criticism","Activity","FD02","Active","2025-03-17T16:11:54.281822+00:00",null,null,null,null,null,null,null,null,"26736","MBA Info Session","26736-MBA Info Session",null,null,null,"AS791007926","Lukas Taylor (791007926) HS General Medicine - Nursing","AS791007926-Lukas Taylor (791007926) HS General Medicine - Nursing","Active"]
[null,null,null,null,null,null,"AC04893","[CE] EC WRTG 313: Expository Writing for Elementary Education Majors","AC04893-[CE] EC WRTG 313: Expository Writing for Elementary Education Majors","Activity","FD02","Active","2025-03-17T16:11:54.281822+00:00",null,null,null,null,null,null,null,null,"26756","Jeffrey Pickerd","26756-Jeffrey Pickerd",null,null,null,"AS794209778","Blake Wiscombe (794209778) OIT Resource - CES Network Center (CNC) - Installation","AS794209778-Blake Wiscombe (794209778) OIT Resource - CES Network Center (CNC) - Installation","Active"]
[null,null,null,null,null,null,"AC04914","[CE] EC CANT 101: First-Year Cantonese","AC04914-[CE] EC CANT 101: First-Year Cantonese","Activity","FD02","Active","2025-03-17T16:11:54.368072+00:00",null,null,null,null,null,null,null,null,"26794","MPA Grantwell Program","26794-MPA Grantwell Program",null,null,null,"AS796843794","JPaul Storrs (796843794) Fine Arts & Communications - Dance","AS796843794-JPaul Storrs (796843794) Fine Arts & Communications - Dance","Active"]
[null,null,null,null,null,null,"AC04953","[CE] EC EXSC 320: Basic Athletic Training","AC04953-[CE] EC EXSC 320: Basic Athletic Training","Activity","FD02","Active","2025-03-17T16:11:54.368072+00:00",null,null,null,null,null,null,null,null,"26866","Idaho, Boise","26866-Idaho, Boise",null,null,null,"AS805334113","Matt Mitchell (805334113) Mail Services","AS805334113-Matt Mitchell (805334113) Mail Services","Active"]
[null,null,null,null,null,null,"AC04970","[CE] EC HLTH 403R: Special Topics","AC04970-[CE] EC HLTH 403R: Special Topics","Activity","FD02","Active","2025-03-17T16:11:54.368072+00:00",null,null,null,null,null,null,null,null,"26890","Washington, Seattle","26890-Washington, Seattle",null,null,null,"AS810039033","Levi Smith (810039033) Enterprise Solutions - Data and Reporting","AS810039033-Levi Smith (810039033) Enterprise Solutions - Data and Reporting","Active"]
[null,null,null,null,null,null,"AC04991","[CE] EC PWS 168: Personal Genomics","AC04991-[CE] EC PWS 168: Personal Genomics","Activity","FD02","Active","2025-03-17T16:11:54.368072+00:00",null,null,null,null,null,null,null,null,"26924","Undergraduate Students","26924-Undergraduate Students",null,null,null,"AS815581210","Gary Glade (815581210) FHSS Computing Services","AS815581210-Gary Glade (815581210) FHSS Computing Services","Active"]
[null,null,null,null,null,null,"AC05009","[CE] EC IS 455: Predictive Analytics","AC05009-[CE] EC IS 455: Predictive Analytics","Activity","FD02","Active","2025-03-17T16:11:54.368072+00:00",null,null,null,null,null,null,null,null,"26942","David Wilson","26942-David Wilson",null,null,null,"AS818926019","Morgan Shaw (818926019) Academic Advisement Center","AS818926019-Morgan Shaw (818926019) Academic Advisement Center","Active"]
[null,null,null,null,null,null,"AC05030","[CE] EC MATH 110: College Algebra","AC05030-[CE] EC MATH 110: College Algebra","Activity","FD02","Active","2025-03-17T16:11:54.368072+00:00",null,null,null,null,null,null,null,null,"27012","Cont. Ed.","27012-Cont. Ed.",null,null,null,"AS822935167","Kyle Poulin (822935167) Management Department","AS822935167-Kyle Poulin (822935167) Management Department","Active"]
[null,null,null,null,null,null,"AC05047","[CE] EC REL C 130: Missionary Preparation","AC05047-[CE] EC REL C 130: Missionary Preparation","Activity","FD02","Active","2025-03-17T16:11:54.368072+00:00",null,null,null,null,null,null,null,null,"27043","Repairs","27043-Repairs",null,null,null,"AS825847488","Karen Kelemen (825847488) Student Wellness","AS825847488-Karen Kelemen (825847488) Student Wellness","Active"]
[null,null,null,null,null,null,"AC05086","[CE] EC SWELL 175: Scuba Diving, Beginning","AC05086-[CE] EC SWELL 175: Scuba Diving, Beginning","Activity","FD02","Active","2025-03-17T16:11:54.368072+00:00",null,null,null,null,null,null,null,null,"27155","Heritage","27155-Heritage",null,null,null,"AS832093977","Kevin Wafford (832093977) PF Building Operations","AS832093977-Kevin Wafford (832093977) PF Building Operations","Active"]
[null,null,null,null,null,null,"AC05107","[CE] EC STDEV 170: Intro to Health Professions","AC05107-[CE] EC STDEV 170: Intro to Health Professions","Activity","FD02","Active","2025-03-17T16:11:54.368072+00:00",null,null,null,null,null,null,null,null,"27210","MTC Housing Domestic","27210-MTC Housing Domestic",null,null,null,"AS836434023","Joe Everett (836434023) Research & Learning - Social Sciences","AS836434023-Joe Everett (836434023) Research & Learning - Social Sciences","Active"]
[null,null,null,null,null,null,"AC05119","[CE] EC STDEV 319: Professional Etiquette","AC05119-[CE] EC STDEV 319: Professional Etiquette","Activity","FD02","Active","2025-03-17T16:11:54.368072+00:00",null,null,null,null,null,null,null,null,"27243","Premium Email","27243-Premium Email",null,null,null,"AS838534328","Anastasia Hayden (838534328) Athletics - Women's Tennis","AS838534328-Anastasia Hayden (838534328) Athletics - Women's Tennis","Active"]
[null,null,null,null,null,null,"AC05165","[CE] CW Winter Workshop","AC05165-[CE] CW Winter Workshop","Activity","FD02","Active","2025-03-17T16:11:54.421438+00:00",null,null,null,null,null,null,null,null,"27280","Contract Late Fee","27280-Contract Late Fee",null,null,null,"AS842253311","Paul Barton (842253311) Student Life VP","AS842253311-Paul Barton (842253311) Student Life VP","Active"]
[null,null,null,null,null,null,"AC05212","[CE] CW Summer Festival","AC05212-[CE] CW Summer Festival","Activity","FD02","Active","2025-03-17T16:11:54.421438+00:00",null,null,null,null,null,null,null,null,"27330","Vaccines","27330-Vaccines",null,null,null,"AS845223146","Caitlin Ackley (845223146) CE BYU Online High School","AS845223146-Caitlin Ackley (845223146) CE BYU Online High School","Active"]
[null,null,null,null,null,null,"AC05242","[CE] CW Life After Loss","AC05242-[CE] CW Life After Loss","Activity","FD02","Active","2025-03-17T16:11:54.421438+00:00",null,null,null,null,null,null,null,null,"27393","Fall Room Rental","27393-Fall Room Rental",null,null,null,"AS849304952","Jessica Lynn McGovern (849304952) Humanities - Linguistics","AS849304952-Jessica Lynn McGovern (849304952) Humanities - Linguistics","Active"]
[null,null,null,null,null,null,"AC05282","[CE] CW ACT Prep Intensive UT Provo 07","AC05282-[CE] CW ACT Prep Intensive UT Provo 07","Activity","FD02","Active","2025-03-17T16:11:54.421438+00:00",null,null,null,null,null,null,null,null,"27505","Block of Meals","27505-Block of Meals",null,null,null,"AS854165229","Jaren Wilkey (854165229) University Communications","AS854165229-Jaren Wilkey (854165229) University Communications","Active"]
[null,null,null,null,null,null,"AC05327","[MSE] Office Improvement Fund","AC05327-[MSE] Office Improvement Fund","Activity","FD01","Active","2025-03-17T16:11:54.421438+00:00",null,null,null,null,null,null,null,null,"27572","Residence Life","27572-Residence Life",null,null,null,"AS858858051","Ken Brooke (858858051) Athletics - Softball","AS858858051-Ken Brooke (858858051) Athletics - Softball","Active"]
[null,null,null,null,null,null,"AC05359","[HUM] English Reading Series Book","AC05359-[HUM] English Reading Series Book","Activity","FD02","Active","2025-03-17T16:11:54.483487+00:00",null,null,null,null,null,null,null,null,"28202","Master Classes/Workshops","28202-Master Classes/Workshops",null,null,null,"AS866727679","Evan Bingham (866727679) College of Engineering - Civil & Construction Engineering","AS866727679-Evan Bingham (866727679) College of Engineering - Civil & Construction Engineering","Active"]
[null,null,null,null,null,null,"AC05380","[LAWS] Law Choir","AC05380-[LAWS] Law Choir","Activity","FD02","Active","2025-03-17T16:11:54.483487+00:00",null,null,null,null,null,null,null,null,"28261","Blackpool Choreography","28261-Blackpool Choreography",null,null,null,"AS871108858","Mike Moesel (871108858) Law School","AS871108858-Mike Moesel (871108858) Law School","Active"]
[null,null,null,null,null,null,"AC05397","[ARTS] W23 TMA YC The Tempest","AC05397-[ARTS] W23 TMA YC The Tempest","Activity","FD02","Active","2025-03-17T16:11:54.483487+00:00",null,null,null,null,null,null,null,null,"28293","Ballroom Area","28293-Ballroom Area",null,null,null,"AS873528053","Scott Christopherson (873528053) Fine Arts & Communications - Theatre & Media Arts","AS873528053-Scott Christopherson (873528053) Fine Arts & Communications - Theatre & Media Arts","Active"]
[null,null,null,null,null,null,"AC05414","[ENG] Graduate Studies RRGSE-TES","AC05414-[ENG] Graduate Studies RRGSE-TES","Activity","FD03","Active","2025-03-17T16:11:54.483487+00:00",null,null,null,null,null,null,null,null,"28413","LSPH Thygerson, Steven","28413-LSPH Thygerson, Steven",null,null,null,"AS877328565","Jared Shipp (877328565) BYU Security Operations - Police Dispatch","AS877328565-Jared Shipp (877328565) BYU Security Operations - Police Dispatch","Active"]
[null,null,null,null,null,null,"AC05435","[CMS] GradStudies-Statistics-RRGSE","AC05435-[CMS] GradStudies-Statistics-RRGSE","Activity","FD03","Active","2025-03-17T16:11:54.483487+00:00",null,null,null,null,null,null,null,null,"28434","LSPH Bobbitt Award (Thacker)","28434-LSPH Bobbitt Award (Thacker)",null,null,null,"AS880738072","Samantha Standring (880738072) Life Sciences - Plant & Wildlife Sciences","AS880738072-Samantha Standring (880738072) Life Sciences - Plant & Wildlife Sciences","Active"]
[null,null,null,null,null,null,"AC05483","[CE] BYUO HLTH 312: Intro to Plan, Interv, Eval","AC05483-[CE] BYUO HLTH 312: Intro to Plan, Interv, Eval","Activity","FD02","Active","2025-03-17T16:11:54.483487+00:00",null,null,null,null,null,null,null,null,"28531","LSES Vehrs, Pat","28531-LSES Vehrs, Pat",null,null,null,"AS892607442","David Jarvis (892607442) Life Sciences - Plant & Wildlife Sciences","AS892607442-David Jarvis (892607442) Life Sciences - Plant & Wildlife Sciences","Active"]
[null,null,null,null,null,null,"AC05502","[STLF] Lars Nielsen Research","AC05502-[STLF] Lars Nielsen Research","Activity","FD01","Active","2025-03-17T16:11:54.483487+00:00",null,null,null,null,null,null,null,null,"28549","LSES MS Other Expense","28549-LSES MS Other Expense",null,null,null,"AS895793522","Mallory Meng (895793522) Master of Business Administration","AS895793522-Mallory Meng (895793522) Master of Business Administration","Active"]
[null,null,null,null,null,null,"AC05519","[STLF] Kirtley, Natalie Research","AC05519-[STLF] Kirtley, Natalie Research","Activity","FD01","Active","2025-03-17T16:11:54.483487+00:00",null,null,null,null,null,null,null,null,"28567","LSES Student Awards","28567-LSES Student Awards",null,null,null,"AS899104916","Brian Harker (899104916) Fine Arts & Communications - School of Music","AS899104916-Brian Harker (899104916) Fine Arts & Communications - School of Music","Active"]
[null,null,null,null,null,null,"AC05536","[REL] Michael Mackay - Faculty Consolidated","AC05536-[REL] Michael Mackay - Faculty Consolidated","Activity","FD04","Active","2025-03-17T16:11:54.483487+00:00",null,null,null,null,null,null,null,null,"28587","LSES 661 Ron Hager","28587-LSES 661 Ron Hager",null,null,null,"AS903591786","Daniel Bradley (903591786) BYU Security Operations - Police Dispatch","AS903591786-Daniel Bradley (903591786) BYU Security Operations - Police Dispatch","Active"]
[null,null,null,null,null,null,"AC05557","[REL] Matthew Richardson - Faculty Consolidated","AC05557-[REL] Matthew Richardson - Faculty Consolidated","Activity","FD04","Active","2025-03-17T16:11:54.536451+00:00",null,null,null,null,null,null,null,null,"28717","Ross Storey","28717-Ross Storey",null,null,null,"AS908332007","Heather Hammond (908332007) Humanities - English","AS908332007-Heather Hammond (908332007) Humanities - English","Active"]
[null,null,null,null,null,null,"AC05591","[REL] Brad Wilcox - Faculty Consolidated","AC05591-[REL] Brad Wilcox - Faculty Consolidated","Activity","FD04","Active","2025-03-17T16:11:54.536451+00:00",null,null,null,null,null,null,null,null,"28977","Lost Equipment","28977-Lost Equipment",null,null,null,"AS912929517","Aaron Skabelund (912929517) FHSS - History","AS912929517-Aaron Skabelund (912929517) FHSS - History","Active"]
[null,null,null,null,null,null,"AC05618","[CMS] Natalie Blades - Faculty Consolidated","AC05618-[CMS] Natalie Blades - Faculty Consolidated","Activity","FD04","Active","2025-03-17T16:11:54.536451+00:00",null,null,null,null,null,null,null,null,"29095","Student Outreach-Promotion","29095-Student Outreach-Promotion",null,null,null,"AS917584355","Scott Bernards (917584355) PF Moving, Receiving, & Office Furniture","AS917584355-Scott Bernards (917584355) PF Moving, Receiving, & Office Furniture","Active"]
[null,null,null,null,null,null,"AC05635","[CMS] Garritt L Page - Faculty Consolidated","AC05635-[CMS] Garritt L Page - Faculty Consolidated","Activity","FD04","Active","2025-03-17T16:11:54.536451+00:00",null,null,null,null,null,null,null,null,"29202","Honors 22x","29202-Honors 22x",null,null,null,"AS921095094","Lori Steadman (921095094) Humanities - English","AS921095094-Lori Steadman (921095094) Humanities - English","Active"]
[null,null,null,null,null,null,"AC05652","[CMS] David Allred - Faculty Consolidated","AC05652-[CMS] David Allred - Faculty Consolidated","Activity","FD04","Active","2025-03-17T16:11:54.536451+00:00",null,null,null,null,null,null,null,null,"29306","Cougar Crash Course","29306-Cougar Crash Course",null,null,null,"AS924407619","Ross Storey (924407619) MSB - Experience Design & Management","AS924407619-Ross Storey (924407619) MSB - Experience Design & Management","Active"]
[null,null,null,null,null,null,"AC05673","[CMS] Mark Transtrum - Faculty Consolidated","AC05673-[CMS] Mark Transtrum - Faculty Consolidated","Activity","FD04","Active","2025-03-17T16:11:54.536451+00:00",null,null,null,null,null,null,null,null,"29601","FYE Office Supplies","29601-FYE Office Supplies",null,null,null,"AS929082181","Susie Griffin (929082181) Catering Services","AS929082181-Susie Griffin (929082181) Catering Services","Active"]
[null,null,null,null,null,null,"AC05690","[CMS] Williams, Steven - Faculty Consolidated","AC05690-[CMS] Williams, Steven - Faculty Consolidated","Activity","FD04","Active","2025-03-17T16:11:54.536451+00:00",null,null,null,null,null,null,null,null,"29701","Pre-Convocation Social","29701-Pre-Convocation Social",null,null,null,"AS932597743","Denny Putra (932597743) Student Development Services","AS932597743-Denny Putra (932597743) Student Development Services","Active"]
[null,null,null,null,null,null,"AC05719","[CMS] Pace Nielsen - Faculty Consolidated","AC05719-[CMS] Pace Nielsen - Faculty Consolidated","Activity","FD04","Active","2025-03-17T16:11:54.536451+00:00",null,null,null,null,null,null,null,null,"29816","Friday Night Extravagnza","29816-Friday Night Extravagnza",null,null,null,"AS937577677","Shane Warby (937577677) College of Fine Arts and Communications - IT & Facilities","AS937577677-Shane Warby (937577677) College of Fine Arts and Communications - IT & Facilities","Active"]
[null,null,null,null,null,null,"AC05751","[CMS] Scott Ritter - Faculty Consolidated","AC05751-[CMS] Scott Ritter - Faculty Consolidated","Activity","FD04","Active","2025-03-17T16:11:54.536451+00:00",null,null,null,null,null,null,null,null,"29959","NSO T-shirts","29959-NSO T-shirts",null,null,null,"AS942955786","Tim Ipson (942955786) Dining Administration","AS942955786-Tim Ipson (942955786) Dining Administration","Active"]
[null,null,null,null,null,null,"AC05768","[CMS] Kevin Seppi - Faculty Consolidated","AC05768-[CMS] Kevin Seppi - Faculty Consolidated","Activity","FD04","Active","2025-03-17T16:11:54.593212+00:00",null,null,null,null,null,null,null,null,"30004","LSPW Geary, Bradley","30004-LSPW Geary, Bradley",null,null,null,"AS946464693","Kristin Baughman (946464693) Law School","AS946464693-Kristin Baughman (946464693) Law School","Active"]
[null,null,null,null,null,null,"AC05789","[CMS] Germane, Kimball - Faculty Consolidated","AC05789-[CMS] Germane, Kimball - Faculty Consolidated","Activity","FD04","Active","2025-03-17T16:11:54.593212+00:00",null,null,null,null,null,null,null,null,"30026","LSPW PWS 199R Academic Interns","30026-LSPW PWS 199R Academic Interns",null,null,null,"AS952834223","Baylee Van Patten (952834223) Fine Arts & Communications - Dance","AS952834223-Baylee Van Patten (952834223) Fine Arts & Communications - Dance","Active"]
[null,null,null,null,null,null,"AC05806","[CMS] Matthew Linford - Faculty Consolidated","AC05806-[CMS] Matthew Linford - Faculty Consolidated","Activity","FD04","Active","2025-03-17T16:11:54.593212+00:00",null,null,null,null,null,null,null,null,"30043","LSPW PWS 301 Plant Growth&Repr","30043-LSPW PWS 301 Plant Growth&Repr",null,null,null,"AS956960126","Sonja Sperling (956960126) Fine Arts & Communications - School of Music","AS956960126-Sonja Sperling (956960126) Fine Arts & Communications - School of Music","Active"]
[null,null,null,null,null,null,"AC05826","[CMS] Daniel H. Ess - Faculty Consolidated","AC05826-[CMS] Daniel H. Ess - Faculty Consolidated","Activity","FD04","Active","2025-03-17T16:11:54.593212+00:00",null,null,null,null,null,null,null,null,"30063","LSPW PWS 330 Range Plant ID&Ec","30063-LSPW PWS 330 Range Plant ID&Ec",null,null,null,"AS960708380","Jonathan Liljegren (960708380) MSB - School of Accountancy","AS960708380-Jonathan Liljegren (960708380) MSB - School of Accountancy","Active"]
[null,null,null,null,null,null,"AC05845","[CMS] Tracy, Chris Faculty Consolidated","AC05845-[CMS] Tracy, Chris Faculty Consolidated","Activity","FD04","Active","2025-03-17T16:11:54.593212+00:00",null,null,null,null,null,null,null,null,"30082","LSPW Udall, Joshua","30082-LSPW Udall, Joshua",null,null,null,"AS964195949","Alisha Redelfs (964195949) Life Sciences - Public Health","AS964195949-Alisha Redelfs (964195949) Life Sciences - Public Health","Active"]
[null,null,null,null,null,null,"AC05884","[MSE] Todd Pennington - Faculty Consolidated","AC05884-[MSE] Todd Pennington - Faculty Consolidated","Activity","FD04","Active","2025-03-17T16:11:54.593212+00:00",null,null,null,null,null,null,null,null,"30117","LSPWV-PW6 2024NISSTRUCK/Larsen","30117-LSPWV-PW6 2024NISSTRUCK/Larsen",null,null,null,"AS973172637","Christy Turnbow (973172637) Fine Arts & Communications - School of Music","AS973172637-Christy Turnbow (973172637) Fine Arts & Communications - School of Music","Active"]
[null,null,null,null,null,null,"AC05905","[MSE] M. Owens - Faculty Consolidated","AC05905-[MSE] M. Owens - Faculty Consolidated","Activity","FD04","Active","2025-03-17T16:11:54.593212+00:00",null,null,null,null,null,null,null,null,"30139","LSPW Kert, Young","30139-LSPW Kert, Young",null,null,null,"AS976350576","Westin Dangerfield (976350576) MSB - Management","AS976350576-Westin Dangerfield (976350576) MSB - Management","Active"]
[null,null,null,null,null,null,"AC05922","[MSE] Blake Hansen - Faculty Consolidated","AC05922-[MSE] Blake Hansen - Faculty Consolidated","Activity","FD04","Active","2025-03-17T16:11:54.593212+00:00",null,null,null,null,null,null,null,null,"30157","LSPW Marlow Woodward 50%","30157-LSPW Marlow Woodward 50%",null,null,null,"AS979658361","Ryan Beckstead (979658361) CE Assoc Dean Andrews","AS979658361-Ryan Beckstead (979658361) CE Assoc Dean Andrews","Active"]
[null,null,null,null,null,null,"AC05939","[MSE] K Tanner - Faculty Consolidated","AC05939-[MSE] K Tanner - Faculty Consolidated","Activity","FD04","Active","2025-03-17T16:11:54.593212+00:00",null,null,null,null,null,null,null,null,"30174","LSPW PWS 341 Animal Diversity","30174-LSPW PWS 341 Animal Diversity",null,null,null,"AS982676960","Melia Kau (982676960) PF Paint & Sign Shop","AS982676960-Melia Kau (982676960) PF Paint & Sign Shop","Active"]
[null,null,null,null,null,null,"AC05966","[MSB] Bill Heninger - Faculty Consolidated","AC05966-[MSB] Bill Heninger - Faculty Consolidated","Activity","FD04","Active","2025-03-17T16:11:54.652844+00:00",null,null,null,null,null,null,null,null,"30201","LSBI Adams, Byron","30201-LSBI Adams, Byron",null,null,null,"AS987041769","David Wingate (987041769) CMS - Computer Science","AS987041769-David Wingate (987041769) CMS - Computer Science","Active"]
[null,null,null,null,null,null,"AC05978","[MSB] Troy K. Lewis - D429Faculty Consolidated","AC05978-[MSB] Troy K. Lewis - D429Faculty Consolidated","Activity","FD04","Active","2025-03-17T16:11:54.652844+00:00",null,null,null,null,null,null,null,null,"30213","LSBI Baumann, Richard W","30213-LSBI Baumann, Richard W",null,null,null,"AS989417213","Dayton Martindale (989417213) CE Marketing & Outreach","AS989417213-Dayton Martindale (989417213) CE Marketing & Outreach","Active"]
[null,null,null,null,null,null,"AC06017","[MSB] Scott Webb - Faculty Consolidated","AC06017-[MSB] Scott Webb - Faculty Consolidated","Activity","FD04","Active","2025-03-17T16:11:54.652844+00:00",null,null,null,null,null,null,null,null,"30261","LSBI 23 CURA B Adams-E Johnson","30261-LSBI 23 CURA B Adams-E Johnson"]
[null,null,null,null,null,null,"AC06038","[MSB] Michael Hendron - Faculty Consolidated","AC06038-[MSB] Michael Hendron - Faculty Consolidated","Activity","FD04","Active","2025-03-17T16:11:54.652844+00:00",null,null,null,null,null,null,null,null,"30289","LSBI Insurance Claims","30289-LSBI Insurance Claims"]
[null,null,null,null,null,null,"AC06055","[MSB] Teppo Felin - Faculty Consolidated","AC06055-[MSB] Teppo Felin - Faculty Consolidated","Activity","FD04","Active","2025-03-17T16:11:54.652844+00:00",null,null,null,null,null,null,null,null,"30306","LSBI BIO 130 Biology","30306-LSBI BIO 130 Biology"]
[null,null,null,null,null,null,"AC06073","[MSB] Doug Dean - Faculty Consolidated","AC06073-[MSB] Doug Dean - Faculty Consolidated","Activity","FD04","Active","2025-03-17T16:11:54.652844+00:00",null,null,null,null,null,null,null,null,"30325","LSBI WNAN Award","30325-LSBI WNAN Award"]
[null,null,null,null,null,null,"AC06094","[MSB] Steffen, Jacob - Faculty Consolidated","AC06094-[MSB] Steffen, Jacob - Faculty Consolidated","Activity","FD04","Active","2025-03-17T16:11:54.652844+00:00",null,null,null,null,null,null,null,null,"30355","LSBI Seminar Expenses","30355-LSBI Seminar Expenses"]
[null,null,null,null,null,null,"AC06111","[MSB] Bronson Argyle - Faculty Consolidated","AC06111-[MSB] Bronson Argyle - Faculty Consolidated","Activity","FD04","Active","2025-03-17T16:11:54.652844+00:00",null,null,null,null,null,null,null,null,"30387","LSBI DNASC-Claire Wootan","30387-LSBI DNASC-Claire Wootan"]
[null,null,null,null,null,null,"AC06132","[LFSC] Thygerson, Steven - Faculty Consolidated","AC06132-[LFSC] Thygerson, Steven - Faculty Consolidated","Activity","FD04","Active","2025-03-19T02:04:05.081943+00:00",null,null,null,null,null,null,null,null,"30411","LSND IMPA","30411-LSND IMPA"]
[null,null,null,null,null,null,"AC06171","[LFSC] Frandsen, Paul - Faculty Consolidated","AC06171-[LFSC] Frandsen, Paul - Faculty Consolidated","Activity","FD04","Active","2025-03-21T02:04:04.659901+00:00",null,null,null,null,null,null,null,null,"30455","LSND Chromatography Center","30455-LSND Chromatography Center"]
[null,null,null,null,null,null,"AC06188","[LFSC] Kenealey, Jason - Faculty Consolidated","AC06188-[LFSC] Kenealey, Jason - Faculty Consolidated","Activity","FD04","Active","2025-03-21T02:04:04.659901+00:00",null,null,null,null,null,null,null,null,"30472","LS Coll UG Rsrch Awd-CURA 12","30472-LS Coll UG Rsrch Awd-CURA 12"]
[null,null,null,null,null,null,"AC06201","[LFSC] Nielsen, Brent L - Faculty Consolidated","AC06201-[LFSC] Nielsen, Brent L - Faculty Consolidated","Activity","FD04","Active","2025-03-17T16:11:54.704116+00:00",null,null,null,null,null,null,null,null,"30502","LSMM Thunder Biotech, Inc,","30502-LSMM Thunder Biotech, Inc,"]
[null,null,null,null,null,null,"AC06227","[LFSC] Hopkins, Ty - Faculty Consolidated","AC06227-[LFSC] Hopkins, Ty - Faculty Consolidated","Activity","FD04","Active","2025-03-22T02:03:32.386352+00:00",null,null,null,null,null,null,null,null,"30528","LSMM MMBIO 441","30528-LSMM MMBIO 441"]
[null,null,null,null,null,null,"AC06248","[LFSC] Suli, Arminda - Faculty Consolidated","AC06248-[LFSC] Suli, Arminda - Faculty Consolidated","Activity","FD04","Active","2025-03-17T16:11:54.704116+00:00",null,null,null,null,null,null,null,null,"30549","LSMM MMBIO 366","30549-LSMM MMBIO 366"]
[null,null,null,null,null,null,"AC06265","[LFSC] Arroyo, Juan A - Faculty Consolidated","AC06265-[LFSC] Arroyo, Juan A - Faculty Consolidated","Activity","FD04","Active","2025-03-17T16:11:54.704116+00:00",null,null,null,null,null,null,null,null,"30566","LSMM MMBIO 406","30566-LSMM MMBIO 406"]
[null,null,null,null,null,null,"AC06304","[LIB] Trevan Hatch - Faculty Consolidated","AC06304-[LIB] Trevan Hatch - Faculty Consolidated","Activity","FD04","Active","2025-03-17T16:11:54.704116+00:00",null,null,null,null,null,null,null,null,"30650","LSES New Faculty Search","30650-LSES New Faculty Search"]
[null,null,null,null,null,null,"AC06308","[LIB] Betsy Hopkins - Faculty Consolidated","AC06308-[LIB] Betsy Hopkins - Faculty Consolidated","Activity","FD04","Active","2025-03-17T16:11:54.704116+00:00",null,null,null,null,null,null,null,null,"30654","LSES New Fac - Ridge","30654-LSES New Fac - Ridge"]
[null,null,null,null,null,null,"AC06343","[LIB] Justin Johnson - Faculty Consolidated","AC06343-[LIB] Justin Johnson - Faculty Consolidated","Activity","FD04","Active","2025-03-17T16:11:54.704116+00:00",null,null,null,null,null,null,null,null,"30718","LSCE Barrott, James","30718-LSCE Barrott, James"]
[null,null,null,null,null,null,"AC06364","[HUM] Montgomery, Cherice - Faculty Consolidated","AC06364-[HUM] Montgomery, Cherice - Faculty Consolidated","Activity","FD04","Active","2025-03-17T16:11:54.704116+00:00",null,null,null,null,null,null,null,null,"30761","LSCE Confocal Microscope","30761-LSCE Confocal Microscope"]
[null,null,null,null,null,null,"AC06381","[HUM] Williams, Lynn Faculty Consolidated","AC06381-[HUM] Williams, Lynn Faculty Consolidated","Activity","FD04","Active","2025-03-17T16:11:54.800235+00:00",null,null,null,null,null,null,null,null,"30802","LSCE CELL 550R","30802-LSCE CELL 550R"]
[null,null,null,null,null,null,"AC06398","[HUM] White, Justin - Faculty Consolidated","AC06398-[HUM] White, Justin - Faculty Consolidated","Activity","FD04","Active","2025-03-17T16:11:54.800235+00:00",null,null,null,null,null,null,null,null,"30819","LSCE CELL 210","30819-LSCE CELL 210"]
[null,null,null,null,null,null,"AC06419","[HUM] Tanner, Mark - Faculty Consolidated","AC06419-[HUM] Tanner, Mark - Faculty Consolidated","Activity","FD04","Active","2025-03-17T16:11:54.800235+00:00",null,null,null,null,null,null,null,null,"30911","LSPW Hansen, Neil","30911-LSPW Hansen, Neil"]
[null,null,null,null,null,null,"AC06459","[HUM] Unlandt, Nicolaas - Faculty Consolidated","AC06459-[HUM] Unlandt, Nicolaas - Faculty Consolidated","Activity","FD04","Active","2025-03-17T16:11:54.800235+00:00",null,null,null,null,null,null,null,null,"30951","LSPWV-PW8V 2020 FORD TRUCK/DEP","30951-LSPWV-PW8V 2020 FORD TRUCK/DEP"]
[null,null,null,null,null,null,"AC06476","[HUM] Westover, Paul - Faculty Consolidated","AC06476-[HUM] Westover, Paul - Faculty Consolidated","Activity","FD04","Active","2025-03-17T16:11:54.800235+00:00",null,null,null,null,null,null,null,null,"30968","LSPW PWS191 Intro to Land.Mana","30968-LSPW PWS191 Intro to Land.Mana"]
[null,null,null,null,null,null,"AC06497","[HUM] Rudy, Jill - Faculty Consolidated","AC06497-[HUM] Rudy, Jill - Faculty Consolidated","Activity","FD04","Active","2025-03-17T16:11:54.800235+00:00",null,null,null,null,null,null,null,null,"30989","LSPW PWS 2023","30989-LSPW PWS 2023"]
[null,null,null,null,null,null,"AC06514","[HUM] Jensen, Amber Faculty Consolidated","AC06514-[HUM] Jensen, Amber Faculty Consolidated","Activity","FD04","Active","2025-03-17T16:11:54.800235+00:00",null,null,null,null,null,null,null,null,"31026","Vehicle - Department","31026-Vehicle - Department"]
[null,null,null,null,null,null,"AC06535","[HUM] Parry, Joe - Faculty Consolidated","AC06535-[HUM] Parry, Joe - Faculty Consolidated","Activity","FD04","Active","2025-03-17T16:11:54.800235+00:00",null,null,null,null,null,null,null,null,"32216","Hunkler 60000","32216-Hunkler 60000"]
[null,null,null,null,null,null,"AC06566","[HUM] Wilcox, Matthew - Faculty Consolidated","AC06566-[HUM] Wilcox, Matthew - Faculty Consolidated","Activity","FD04","Active","2025-03-17T16:11:54.800235+00:00",null,null,null,null,null,null,null,null,"32268","Work In Process","32268-Work In Process"]
[null,null,null,null,null,null,"AC06592","[PHIL] Gary Terranova","AC06592-[PHIL] Gary Terranova","Activity","FD07","Active","2025-03-17T16:11:54.842818+00:00",null,null,null,null,null,null,null,null,"32314","Digital","32314-Digital"]
[null,null,null,null,null,null,"AC06613","[PHIL] Dan Scoresby","AC06613-[PHIL] Dan Scoresby","Activity","FD07","Active","2025-03-17T16:11:54.842818+00:00",null,null,null,null,null,null,null,null,"32610","Textbooks","32610-Textbooks"]
[null,null,null,null,null,null,"AC06630","[PHIL] Rudy Carlos","AC06630-[PHIL] Rudy Carlos","Activity","FD07","Active","2025-03-17T16:11:54.842818+00:00",null,null,null,null,null,null,null,null,"34010","Special Collections","34010-Special Collections"]
[null,null,null,null,null,null,"AC06647","[ARTS] Threlfall, Tim - Faculty Consolidated","AC06647-[ARTS] Threlfall, Tim - Faculty Consolidated","Activity","FD04","Active","2025-03-17T16:11:54.842818+00:00",null,null,null,null,null,null,null,null,"34036","Latter-day Saint Databases","34036-Latter-day Saint Databases"]
[null,null,null,null,null,null,"AC06673","[ARTS] Hansen, Eric - Faculty Consolidated","AC06673-[ARTS] Hansen, Eric - Faculty Consolidated","Activity","FD04","Active","2025-03-17T16:11:54.842818+00:00",null,null,null,null,null,null,null,null,"34091","Rsch & Learn. Div. Staff Travel","34091-Rsch & Learn. Div. Staff Travel"]
[null,null,null,null,null,null,"AC06686","[ARTS] Staheli, Ron - Faculty Consolidated","AC06686-[ARTS] Staheli, Ron - Faculty Consolidated","Activity","FD04","Active","2025-03-17T16:11:54.842818+00:00",null,null,null,null,null,null,null,null,"34120","Visegrad Countries Pol & Cult","34120-Visegrad Countries Pol & Cult"]
[null,null,null,null,null,null,"AC06707","[ARTS] Bastian, Darren Faculty Consolidated","AC06707-[ARTS] Bastian, Darren Faculty Consolidated","Activity","FD04","Active","2025-03-17T16:11:54.842818+00:00",null,null,null,null,null,null,null,null,"34144","Spanish & Portuguese","34144-Spanish & Portuguese"]
[null,null,null,null,null,null,"AC06746","[ARTS] D Morgan - Faculty Consolidated","AC06746-[ARTS] D Morgan - Faculty Consolidated","Activity","FD04","Active","2025-03-17T16:11:54.842818+00:00",null,null,null,null,null,null,null,null,"34215","Art & Design","34215-Art & Design"]
[null,null,null,null,null,null,"AC06763","[ARTS] Lindsay, Nathan - Faculty Consolidated","AC06763-[ARTS] Lindsay, Nathan - Faculty Consolidated","Activity","FD04","Active","2025-03-17T16:11:54.842818+00:00",null,null,null,null,null,null,null,null,"34233","Literature - Slavic","34233-Literature - Slavic"]
[null,null,null,null,null,null,"AC06784","[ARTS] Marin Leggat Roper Faculty Consolidated","AC06784-[ARTS] Marin Leggat Roper Faculty Consolidated","Activity","FD04","Active","2025-03-17T16:11:54.842818+00:00",null,null,null,null,null,null,null,null,"34285","Nursing","34285-Nursing"]
[null,null,null,null,null,null,"AC06801","[FHSS] Hoffmann, John - Faculty Consolidated","AC06801-[FHSS] Hoffmann, John - Faculty Consolidated","Activity","FD04","Active","2025-03-17T16:11:54.9036+00:00",null,null,null,null,null,null,null,null,"34326","Archives","34326-Archives"]
[null,null,null,null,null,null,"AC06823","[FHSS] Aguirre, Ruth - Faculty Consolidated","AC06823-[FHSS] Aguirre, Ruth - Faculty Consolidated","Activity","FD04","Active","2025-03-17T16:11:54.9036+00:00",null,null,null,null,null,null,null,null,"34360","New Resources","34360-New Resources"]
[null,null,null,null,null,null,"AC06841","[FHSS] Bradford, Angela - Faculty Consolidated","AC06841-[FHSS] Bradford, Angela - Faculty Consolidated","Activity","FD04","Active","2025-03-17T16:11:54.9036+00:00",null,null,null,null,null,null,null,null,"34381","Binding - Periodicals","34381-Binding - Periodicals"]
[null,null,null,null,null,null,"AC06883","[FHSS] Ridge, Robert - Faculty Consolidated","AC06883-[FHSS] Ridge, Robert - Faculty Consolidated","Activity","FD04","Active","2025-03-17T16:11:54.9036+00:00",null,null,null,null,null,null,null,null,"34604","Ben Harry","34604-Ben Harry"]
[null,null,null,null,null,null,"AC06905","[FHSS] Sandie Sephton - Faculty Consolidated","AC06905-[FHSS] Sandie Sephton - Faculty Consolidated","Activity","FD04","Active","2025-03-17T16:11:54.9036+00:00",null,null,null,null,null,null,null,null,"35112","Gibson, Luke","35112-Gibson, Luke"]
[null,null,null,null,null,null,"AC06913","[FHSS] Hancock, Ralph C - Faculty Consolidated","AC06913-[FHSS] Hancock, Ralph C - Faculty Consolidated","Activity","FD04","Active","2025-03-17T16:11:54.9036+00:00",null,null,null,null,null,null,null,null,"35125","Art Resource Room","35125-Art Resource Room"]
[null,null,null,null,null,null,"AC06941","[FHSS] McGuire, Elizabeth Faculty Consolidated","AC06941-[FHSS] McGuire, Elizabeth Faculty Consolidated","Activity","FD04","Active","2025-03-17T16:11:54.9036+00:00",null,null,null,null,null,null,null,null,"35159","Doug Thomas","35159-Doug Thomas"]
[null,null,null,null,null,null,"AC06962","[FHSS] DeSchweinitz, Rebecca - Faculty Consolidated","AC06962-[FHSS] DeSchweinitz, Rebecca - Faculty Consolidated","Activity","FD04","Active","2025-03-17T16:11:54.9036+00:00",null,null,null,null,null,null,null,null,"35185","Sculpture","35185-Sculpture"]
[null,null,null,null,null,null,"AC06979","[FHSS] Duan, Diana Zhidan - Faculty Consolidated","AC06979-[FHSS] Duan, Diana Zhidan - Faculty Consolidated","Activity","FD04","Active","2025-03-17T16:11:54.9036+00:00",null,null,null,null,null,null,null,null,"35243","DESIL 101 Drawing Composition","35243-DESIL 101 Drawing Composition"]
[null,null,null,null,null,null,"AC07004","[FHSS] Ransom, Michael R - Faculty Consolidated","AC07004-[FHSS] Ransom, Michael R - Faculty Consolidated","Activity","FD04","Active","2025-03-17T16:11:54.957842+00:00",null,null,null,null,null,null,null,null,"35280","Guest Artist - WID","35280-Guest Artist - WID"]
[null,null,null,null,null,null,"AC07049","[FHSS] Reber, April - Faculty Consolidated","AC07049-[FHSS] Reber, April - Faculty Consolidated","Activity","FD04","Active","2025-03-17T16:11:54.957842+00:00",null,null,null,null,null,null,null,null,"35390","Vanishing Voices-P Adams","35390-Vanishing Voices-P Adams"]
[null,null,null,null,null,null,"AC07075","[NURS] Neil Peterson - Faculty Consolidated","AC07075-[NURS] Neil Peterson - Faculty Consolidated","Activity","FD04","Active","2025-03-17T16:11:54.957842+00:00",null,null,null,null,null,null,null,null,"35434","COJ CD: Carol of Joy","35434-COJ CD: Carol of Joy"]
[null,null,null,null,null,null,"AC07088","[NURS] Jeanette Drake Faculty Consolidated","AC07088-[NURS] Jeanette Drake Faculty Consolidated","Activity","FD04","Active","2025-03-17T16:11:54.957842+00:00",null,null,null,null,null,null,null,null,"35453","WCS Single: Happy","35453-WCS Single: Happy"]
[null,null,null,null,null,null,"AC07105","[ENG] C Teng - Faculty Consolidated","AC07105-[ENG] C Teng - Faculty Consolidated","Activity","FD04","Active","2025-03-17T16:11:54.957842+00:00",null,null,null,null,null,null,null,null,"35472","DSM ComeThouFountEvery:YMP003","35472-DSM ComeThouFountEvery:YMP003"]
[null,null,null,null,null,null,"AC07126","[ENG] Larry Howell - Faculty Consolidated","AC07126-[ENG] Larry Howell - Faculty Consolidated","Activity","FD04","Active","2025-03-17T16:11:54.957842+00:00",null,null,null,null,null,null,null,null,"35497","POSTER: Noteworthy","35497-POSTER: Noteworthy"]
[null,null,null,null,null,null,"AC07143","[ENG] B Iverson - Faculty Consolidated","AC07143-[ENG] B Iverson - Faculty Consolidated","Activity","FD04","Active","2025-03-17T16:11:54.957842+00:00",null,null,null,null,null,null,null,null,"35615","JOR 'JOttley Retrospective' CD","35615-JOR 'JOttley Retrospective' CD"]
[null,null,null,null,null,null,"AC07182","[ENG] M Jensen - Faculty Consolidated","AC07182-[ENG] M Jensen - Faculty Consolidated","Activity","FD04","Active","2025-03-17T16:11:54.957842+00:00",null,null,null,null,null,null,null,null,"35656","DMV-LS: Ain't No Mountain High","35656-DMV-LS: Ain't No Mountain High"]
[null,null,null,null,null,null,"AC07204","[ENG] E Bingham - Faculty Consolidated","AC07204-[ENG] E Bingham - Faculty Consolidated","Activity","FD04","Active","2025-03-17T16:11:54.957842+00:00",null,null,null,null,null,null,null,null,"35680","RDH 'The Road Home' CD","35680-RDH 'The Road Home' CD"]
[null,null,null,null,null,null,"AC07221","[ENG] N Jones Faculty Consolidated","AC07221-[ENG] N Jones Faculty Consolidated","Activity","FD04","Active","2025-03-17T16:11:55.003647+00:00",null,null,null,null,null,null,null,null,"35702","Thornock, Neil","35702-Thornock, Neil"]
[null,null,null,null,null,null,"AC07238","[ENG] M. Argyle - Faculty Consolidated","AC07238-[ENG] M. Argyle - Faculty Consolidated","Activity","FD04","Active","2025-03-17T16:11:55.003647+00:00",null,null,null,null,null,null,null,null,"35731","Organ Online Training","35731-Organ Online Training"]
[null,null,null,null,null,null,"AC07259","[LAWS] Aaron Nielson - Faculty Consolidated","AC07259-[LAWS] Aaron Nielson - Faculty Consolidated","Activity","FD04","Active","2025-03-17T16:11:55.003647+00:00",null,null,null,null,null,null,null,null,"35769","Hong-Park, Jihea","35769-Hong-Park, Jihea"]
[null,null,null,null,null,null,"AC07276","[LAWS] Gladriel Shobe - Faculty Consolidated","AC07276-[LAWS] Gladriel Shobe - Faculty Consolidated","Activity","FD04","Active","2025-03-17T16:11:55.003647+00:00",null,null,null,null,null,null,null,null,"35790","Bounous, Barry","35790-Bounous, Barry"]
[null,null,null,null,null,null,"AC07299","[AVP] Kristian S Heal - Faculty Consolidated","AC07299-[AVP] Kristian S Heal - Faculty Consolidated","Activity","FD04","Active","2025-03-17T16:11:55.003647+00:00",null,null,null,null,null,null,null,null,"35831","MMN 'Mormoniana' CD","35831-MMN 'Mormoniana' CD"]
[null,null,null,null,null,null,"AC07339","[CE] EC COMMS 317: Advertising Research Methods","AC07339-[CE] EC COMMS 317: Advertising Research Methods","Activity","FD02","Active","2025-03-17T16:11:55.003647+00:00",null,null,null,null,null,null,null,null,"35881","Destribois, Clemence","35881-Destribois, Clemence"]
[null,null,null,null,null,null,"AC07356","[CE] EC EXDM 300: Creating a Good Life","AC07356-[CE] EC EXDM 300: Creating a Good Life","Activity","FD02","Active","2025-03-17T16:11:55.003647+00:00",null,null,null,null,null,null,null,null,"35936","Wind Symphony","35936-Wind Symphony"]
[null,null,null,null,null,null,"AC07385","[CE] BYUO NURS 371: Nursing","AC07385-[CE] BYUO NURS 371: Nursing","Activity","FD02","Active","2025-03-17T16:11:55.003647+00:00",null,null,null,null,null,null,null,null,"35971","Pub: Carol of the Bells:YMP002","35971-Pub: Carol of the Bells:YMP002"]
[null,null,null,null,null,null,"AC07405","[CE] EC C S 110: How to Program","AC07405-[CE] EC C S 110: How to Program","Activity","FD02","Active","2025-03-17T16:11:55.003647+00:00",null,null,null,null,null,null,null,null,"35SLA","Chief Financial Officer","35SLA-Chief Financial Officer"]
[null,null,null,null,null,null,"AC07430","[CE] FSY VT Castleton","AC07430-[CE] FSY VT Castleton","Activity","FD02","Active","2025-03-17T16:11:55.052098+00:00",null,null,null,null,null,null,null,null,"36038","Lithuanian","36038-Lithuanian"]
[null,null,null,null,null,null,"AC07466","[CE] EC CELL 570: Responsible Research Conduct","AC07466-[CE] EC CELL 570: Responsible Research Conduct","Activity","FD02","Active","2025-03-17T16:11:55.052098+00:00",null,null,null,null,null,null,null,null,"36107","Sr. Office Traing","36107-Sr. Office Traing"]
[null,null,null,null,null,null,"AC07485","[STLF] Vogeler, Heidi Research","AC07485-[STLF] Vogeler, Heidi Research","Activity","FD01","Active","2025-03-17T16:11:55.052098+00:00",null,null,null,null,null,null,null,null,"36393","MTC Summer Social","36393-MTC Summer Social"]
[null,null,null,null,null,null,"AC07506","[FHSS] Psych Association","AC07506-[FHSS] Psych Association","Activity","FD02","Active","2025-03-17T16:11:55.052098+00:00",null,null,null,null,null,null,null,null,"36516","Full-time MTC Conference B","36516-Full-time MTC Conference B"]
[null,null,null,null,null,null,"AC07523","[HUM] CLS-Hum College Projects","AC07523-[HUM] CLS-Hum College Projects","Activity","FD03","Active","2025-03-17T16:11:55.052098+00:00",null,null,null,null,null,null,null,null,"36533","Mail Room - Conract Expense","36533-Mail Room - Conract Expense"]
[null,null,null,null,null,null,"AC07540","[MSB] Piacitelli, Jill - Faculty Consolidated","AC07540-[MSB] Piacitelli, Jill - Faculty Consolidated","Activity","FD04","Active","2025-03-17T16:11:55.052098+00:00",null,null,null,null,null,null,null,null,"36550","Part-time Empl. Appreciation","36550-Part-time Empl. Appreciation"]
[null,null,null,null,null,null,"AC07573","[FHSS] Nelson, Jenae - Faculty Consolidated","AC07573-[FHSS] Nelson, Jenae - Faculty Consolidated","Activity","FD04","Active","2025-03-17T16:11:55.052098+00:00",null,null,null,null,null,null,null,null,"38004","Personnel Manager","38004-Personnel Manager"]
[null,null,null,null,null,null,"AC07602","[LFSC] Kershaw, Jonathan - Faculty Consolidated","AC07602-[LFSC] Kershaw, Jonathan - Faculty Consolidated","Activity","FD04","Active","2025-03-21T02:04:06.631604+00:00",null,null,null,null,null,null,null,null,"38078","Cancellation Fees","38078-Cancellation Fees"]
[null,null,null,null,null,null,"AC07624","[MSE] Fuentes, Debra - Faculty Consolidated","AC07624-[MSE] Fuentes, Debra - Faculty Consolidated","Activity","FD04","Active","2025-03-17T16:11:55.052098+00:00",null,null,null,null,null,null,null,null,"38152","Extra Dinner Ticket","38152-Extra Dinner Ticket"]
[null,null,null,null,null,null,"AC07642","[CE] CW Living Legends Dance Camp","AC07642-[CE] CW Living Legends Dance Camp","Activity","FD02","Active","2025-03-17T16:11:55.095375+00:00",null,null,null,null,null,null,null,null,"38246","MMS - Edit/Layout/Trans (Prog)","38246-MMS - Edit/Layout/Trans (Prog)"]
[null,null,null,null,null,null,"AC07660","[FHSS] Brunson, Emily - Faculty Consolidated","AC07660-[FHSS] Brunson, Emily - Faculty Consolidated","Activity","FD04","Active","2025-03-17T16:11:55.095375+00:00",null,null,null,null,null,null,null,null,"38295","MMS - Administration","38295-MMS - Administration"]
[null,null,null,null,null,null,"AC07684","[ARTS] Ramachandran Sylvia - Faculty Consolidated","AC07684-[ARTS] Ramachandran Sylvia - Faculty Consolidated","Activity","FD04","Active","2025-03-17T16:11:55.095375+00:00",null,null,null,null,null,null,null,null,"38675","Duplicate Ticket","38675-Duplicate Ticket"]
[null,null,null,null,null,null,"AC07700","[ADM] Student Life","AC07700-[ADM] Student Life","Activity","FD01","Active","2025-03-17T16:11:55.095375+00:00",null,null,null,null,null,null,null,null,"38748","[CE] Private Instruction 50 minutes","38748-[CE] Private Instruction 50 minutes"]
[null,null,null,null,null,null,"AC07739","[ADM] Dining-MTC Cafeteria","AC07739-[ADM] Dining-MTC Cafeteria","Activity","FD01","Active","2025-03-17T16:11:55.095375+00:00",null,null,null,null,null,null,null,null,"38872","First Aid","38872-First Aid"]
[null,null,null,null,null,null,"AC07760","[OIT] Inventory - AP","AC07760-[OIT] Inventory - AP","Activity","FD01","Active","2025-03-17T16:11:55.095375+00:00",null,null,null,null,null,null,null,null,"38917","CE Alloc - C&W Central","38917-CE Alloc - C&W Central"]
[null,null,null,null,null,null,"AC07777","[CE] FSY Travel & P-Card (Todd)","AC07777-[CE] FSY Travel & P-Card (Todd)","Activity","FD02","Active","2025-03-17T16:11:55.095375+00:00",null,null,null,null,null,null,null,null,"38SLA","Fulton Eng & Technology","38SLA-Fulton Eng & Technology"]
[null,null,null,null,null,null,"AC07798","[LFSC] Access Equip Life Sciences","AC07798-[LFSC] Access Equip Life Sciences","Activity","FD01","Active","2025-03-17T16:11:55.095375+00:00",null,null,null,null,null,null,null,null,"39419","Kai Nui Summit","39419-Kai Nui Summit"]
[null,null,null,null,null,null,"AC07812","[ADM] Access Equip Financial Services","AC07812-[ADM] Access Equip Financial Services","Activity","FD01","Active","2025-03-17T16:11:55.095375+00:00",null,null,null,null,null,null,null,null,"39433","GSS Faith & Scholarship Sympos","39433-GSS Faith & Scholarship Sympos"]
[null,null,null,null,null,null,"AC07833","[ATH] Event Services - Baseball VP","AC07833-[ATH] Event Services - Baseball VP","Activity","FD02","Active","2025-03-17T16:11:55.095375+00:00",null,null,null,null,null,null,null,null,"39624","Library subscriptions-renew","39624-Library subscriptions-renew"]
[null,null,null,null,null,null,"AC07854","[LFSC] Access Equip Deans Office","AC07854-[LFSC] Access Equip Deans Office","Activity","FD01","Active","2025-03-17T16:11:55.134434+00:00",null,null,null,null,null,null,null,null,"39662","ILG-2","39662-ILG-2"]
[null,null,null,null,null,null,"AC07893","[CMS] CMS Events","AC07893-[CMS] CMS Events","Activity","FD01","Active","2025-03-17T16:11:55.134434+00:00",null,null,null,null,null,null,null,null,"41000","Administration","41000-Administration"]
[null,null,null,null,null,null,"AC07914","[ADM] AR Orem Utah Temple","AC07914-[ADM] AR Orem Utah Temple","Activity","FD01","Active","2025-03-22T02:03:32.386352+00:00",null,null,null,null,null,null,null,null,"41778","Pos2542-Consultant","41778-Pos2542-Consultant"]
[null,null,null,null,null,null,"AC07922","[NURS] Tobe, Hiromi - Faculty Consolidation","AC07922-[NURS] Tobe, Hiromi - Faculty Consolidation","Activity","FD04","Active","2025-03-17T16:11:55.134434+00:00",null,null,null,null,null,null,null,null,"42118","Folk Dance","42118-Folk Dance"]
[null,null,null,null,null,null,"AC07955","[HUM] Jung, Inho - Faculty Consolidation","AC07955-[HUM] Jung, Inho - Faculty Consolidation","Activity","FD04","Active","2025-04-02T02:04:30.253716+00:00",null,null,null,null,null,null,null,null,"45310","Vet Services-Special","45310-Vet Services-Special"]
[null,null,null,null,null,null,"CC10016","[AVP] STEM RD","CC10016-[AVP] STEM RD","Cost Center","FD01","Active","2025-01-31T03:05:04.561931+00:00",null,null,null,null,null,null,null,null,"47010","MI Website (development)","47010-MI Website (development)"]
[null,null,null,null,null,null,"CC10033","[AVP] Undergraduate Educ Dean","CC10033-[AVP] Undergraduate Educ Dean","Cost Center","FD01","Active","2025-04-09T02:03:37.489617+00:00",null,null,null,null,null,null,null,null,"47301","Return to Inventor Legal","47301-Return to Inventor Legal"]
[null,null,null,null,null,null,"CC10072","[FHSS] Center for Family History","CC10072-[FHSS] Center for Family History","Cost Center","FD01","Active","2025-01-15T03:04:58.646831+00:00",null,null,null,null,null,null,null,null,"47848","Event #7","47848-Event #7"]
[null,null,null,null,null,null,"CC10093","[LFSC] Micro & Molecular Biology","CC10093-[LFSC] Micro & Molecular Biology","Cost Center","FD01","Active","2025-01-05T03:04:18.691986+00:00",null,null,null,null,null,null,null,null,"47881","LEA Wages","47881-LEA Wages"]
[null,null,null,null,null,null,"CC10116","[HUM] Advisement Center","CC10116-[HUM] Advisement Center","Cost Center","FD01","Active","2025-01-09T03:04:37.798994+00:00",null,null,null,null,null,null,null,null,"48017","Faculty Mentoring","48017-Faculty Mentoring"]
[null,null,null,null,null,null,"CC10132","[MSE] Communication Disorders","CC10132-[MSE] Communication Disorders","Cost Center","FD01","Active","2025-01-05T03:04:18.691986+00:00",null,null,null,null,null,null,null,null,"48204","Freeman, Robert","48204-Freeman, Robert"]
[null,null,null,null,null,null,"CC10149","[MSB] MSB CAPS Operations","CC10149-[MSB] MSB CAPS Operations","Cost Center","FD01","Active","2025-01-05T03:04:18.691986+00:00",null,null,null,null,null,null,null,null,"49043","Other Conferences","49043-Other Conferences"]
[null,null,null,null,null,null,"CC10166","[MSB] Enterpreneurship","CC10166-[MSB] Enterpreneurship","Cost Center","FD01","Active","2025-01-05T03:04:18.691986+00:00",null,null,null,null,null,null,null,null,"4D021","Lab Attendance","4D021-Lab Attendance"]
[null,null,null,null,null,null,"CC10187","[CMS] Physical & Math Sciences(CPMS)","CC10187-[CMS] Physical & Math Sciences(CPMS)","Cost Center","FD01","Active","2025-01-05T03:04:20.593726+00:00",null,null,null,null,null,null,null,null,"4D080","TBD","4D080-TBD"]
[null,null,null,null,null,null,"CC10223","[ADM] Asst Admin VP- Aux & Prog","CC10223-[ADM] Asst Admin VP- Aux & Prog","Cost Center","FD01","Active","2025-01-29T03:04:18.341583+00:00",null,null,null,null,null,null,null,null,"4D153","Document Management","4D153-Document Management"]
[null,null,null,null,null,null,"CC10244","[DINE] Legends Grille","CC10244-[DINE] Legends Grille","Cost Center","FD02","Active","2025-02-20T03:04:04.15874+00:00",null,null,null,null,null,null,null,null,"51033","Hall/Paiute Oil & Mining","51033-Hall/Paiute Oil & Mining"]
[null,null,null,null,null,null,"CC10265","[DINE] Jamba Juice","CC10265-[DINE] Jamba Juice","Cost Center","FD02","Active","2025-03-27T02:04:05.819702+00:00",null,null,null,null,null,null,null,null,"51148","Leroy Pugh / Insurance Policy","51148-Leroy Pugh / Insurance Policy"]
[null,null,null,null,null,null,"CC10282","[PROD] Bindery","CC10282-[PROD] Bindery","Cost Center","FD02","Active","2025-01-22T03:04:55.797623+00:00",null,null,null,null,null,null,null,null,"51187","John Gunter/Tel Electronics","51187-John Gunter/Tel Electronics"]
[null,null,null,null,null,null,"CC10303","[PFAC] Paint Shop","CC10303-[PFAC] Paint Shop","Cost Center","FD01","Active","2025-01-05T03:04:20.593726+00:00",null,null,null,null,null,null,null,null,"51753","Burnham/Schwab Tech","51753-Burnham/Schwab Tech"]
[null,null,null,null,null,null,"CC10320","[PFAC] MTC Housing Proper","CC10320-[PFAC] MTC Housing Proper","Cost Center","FD02","Active","2025-04-08T02:03:40.844661+00:00",null,null,null,null,null,null,null,null,"52126","Graham, William F-241500149","52126-Graham, William F-241500149"]
[null,null,null,null,null,null,"CC10351","[STLF] Off Campus Housing","CC10351-[STLF] Off Campus Housing","Cost Center","FD02","Active","2025-01-05T03:04:20.65832+00:00",null,null,null,null,null,null,null,null,"52211","Wardle, Eileen-241501964","52211-Wardle, Eileen-241501964"]
[null,null,null,null,null,null,"CC10381","[AER] Hinckley Center Operations","CC10381-[AER] Hinckley Center Operations","Cost Center","FD02","Active","2025-01-05T03:04:20.65832+00:00",null,null,null,null,null,null,null,null,"52284","Peterson, D V-961503414","52284-Peterson, D V-961503414"]
[null,null,null,null,null,null,"CC10398","[BYUB] BYUB BYUradio & Radio Admin","CC10398-[BYUB] BYUB BYUradio & Radio Admin","Cost Center","FD02","Active","2025-03-05T16:04:20.253838+00:00",null,null,null,null,null,null,null,null,"52367","Ferguson, Joe-961400652","52367-Ferguson, Joe-961400652"]
[null,null,null,null,null,null,"CC10419","[ATH] Swimming","CC10419-[ATH] Swimming","Cost Center","FD02","Active","2025-01-05T03:04:20.65832+00:00",null,null,null,null,null,null,null,null,"52408","Hinman, Channing-961500253","52408-Hinman, Channing-961500253"]
[null,null,null,null,null,null,"CC10436","[KC] ISP Office","CC10436-[KC] ISP Office","Cost Center","FD02","Active","2025-03-06T03:04:07.254647+00:00",null,null,null,null,null,null,null,null,"52452","Weiler, Peter-243000072","52452-Weiler, Peter-243000072"]
[null,null,null,null,null,null,"CC10458","[OIT] IT RESOURCE - Platform","CC10458-[OIT] IT RESOURCE - Platform","Cost Center","FD01","Active","2025-02-20T03:04:04.15874+00:00",null,null,null,null,null,null,null,null,"52507","Nalder 2005-241402577","52507-Nalder 2005-241402577"]
[null,null,null,null,null,null,"CC10475","[OIT] IT SERVICE - Unified Communicatio","CC10475-[OIT] IT SERVICE - Unified Communicatio","Cost Center","FD01","Active","2025-04-09T02:03:37.489617+00:00",null,null,null,null,null,null,null,null,"52550","Sabey, Burns R.-243001427","52550-Sabey, Burns R.-243001427"]
[null,null,null,null,null,null,"CC10520","[CE] Editing Services","CC10520-[CE] Editing Services","Cost Center","FD02","Active","2025-01-05T03:04:20.694121+00:00",null,null,null,null,null,null,null,null,"52620","Yentzer, Edwin 964200000","52620-Yentzer, Edwin 964200000"]
[null,null,null,null,null,null,"CC10543","[CE] Licensing and Copyright","CC10543-[CE] Licensing and Copyright","Cost Center","FD02","Active","2025-01-05T03:04:20.694121+00:00",null,null,null,null,null,null,null,null,"52640","Gardner, Julie B. 241404391","52640-Gardner, Julie B. 241404391"]
[null,null,null,null,null,null,"CC10565","[DINE] L&T Produce","CC10565-[DINE] L&T Produce","Cost Center","FD02","Active","2025-01-05T03:04:20.694121+00:00",null,null,null,null,null,null,null,null,"53202","Pope/Diamicron","53202-Pope/Diamicron"]
[null,null,null,null,null,null,"CC10579","[DINE] Cougar Crust","CC10579-[DINE] Cougar Crust","Cost Center","FD02","Active","2025-01-05T03:04:20.694121+00:00",null,null,null,null,null,null,null,null,"53951","33:061:0006 Beaver Creek 4","53951-33:061:0006 Beaver Creek 4"]
[null,null,null,null,null,null,"GF00015","[AER] QE - Alumni Association","GF00015-[AER] QE - Alumni Association","Gift","FD29","Active","2025-04-09T02:03:40.492826+00:00",null,null,null,null,null,null,null,null,"54804","Chatbooks/Cougar Capital","54804-Chatbooks/Cougar Capital"]
[null,null,null,null,null,null,"GF00032","[AER] QE - ALUM - Indianapolis","GF00032-[AER] QE - ALUM - Indianapolis","Gift","FD29","Active","2025-04-09T02:03:40.492826+00:00",null,null,null,null,null,null,null,null,"55210","CA Kern County","55210-CA Kern County"]
[null,null,null,null,null,null,"GF00071","[BYUB] QE - BYU Broadcasting Initiatives","GF00071-[BYUB] QE - BYU Broadcasting Initiatives","Gift","FD29","Active","2025-04-09T02:03:40.492826+00:00",null,null,null,null,null,null,null,null,"55270","NE Lincoln","55270-NE Lincoln"]
[null,null,null,null,null,null,"GF00092","[LAWS] QE - Deem, Woodruff J","GF00092-[LAWS] QE - Deem, Woodruff J","Gift","FD29","Active","2025-04-09T02:03:40.492826+00:00",null,null,null,null,null,null,null,null,"55D21","Department C-Project 2021 New","55D21-Department C-Project 2021 New"]
[null,null,null,null,null,null,"GF00109","[LAWS] QE - Student Financial Assistance","GF00109-[LAWS] QE - Student Financial Assistance","Gift","FD29","Active","2025-04-09T02:03:40.492826+00:00",null,null,null,null,null,null,null,null,"57019","Move to New Music Building","57019-Move to New Music Building"]
[null,null,null,null,null,null,"GF00140","[ENG] QE - ME EN Research Professorship","GF00140-[ENG] QE - ME EN Research Professorship","Gift","FD29","Active","2025-04-09T02:03:40.492826+00:00",null,null,null,null,null,null,null,null,"57092","Hazel Crandall","57092-Hazel Crandall"]
[null,null,null,null,null,null,"GF00148","[NURS] QE - Edmunds, Mary Ellen","GF00148-[NURS] QE - Edmunds, Mary Ellen","Gift","FD29","Active","2025-04-09T02:03:40.492826+00:00",null,null,null,null,null,null,null,null,"57105","SFH-CD: Flyin\" High-Synthesis","57105-SFH-CD: Flyin\" High-Synthesis"]
[null,null,null,null,null,null,"GF00165","[STLF] QE - Ogden, Myron W","GF00165-[STLF] QE - Ogden, Myron W","Gift","FD29","Active","2025-04-09T02:03:40.60888+00:00",null,null,null,null,null,null,null,null,"57123","OOH-DPD: Of One Heart","57123-OOH-DPD: Of One Heart"]
[null,null,null,null,null,null,"GF00186","[ENRL] QE - Tanner, Nathan Eldon","GF00186-[ENRL] QE - Tanner, Nathan Eldon","Gift","FD29","Active","2025-04-09T02:03:40.60888+00:00",null,null,null,null,null,null,null,null,"57144","OCE-DPD:O Come Emmanuel-Single","57144-OCE-DPD:O Come Emmanuel-Single"]
[null,null,null,null,null,null,"GF00225","[FHSS] QE - Center for Family History Endowment","GF00225-[FHSS] QE - Center for Family History Endowment","Gift","FD29","Active","2025-04-09T02:03:40.60888+00:00",null,null,null,null,null,null,null,null,"57188","BOCA 2015","57188-BOCA 2015"]
[null,null,null,null,null,null,"GF00247","[FHSS] QE - Roby, Jini Scholarship","GF00247-[FHSS] QE - Roby, Jini Scholarship","Gift","FD29","Active","2025-04-09T02:03:40.60888+00:00",null,null,null,null,null,null,null,null,"57210","ISS1 'Starts w Song V.1' (DPD)","57210-ISS1 'Starts w Song V.1' (DPD)"]
[null,null,null,null,null,null,"GF00264","[ARTS] QE - CFAC Dean's Discretionary Fund","GF00264-[ARTS] QE - CFAC Dean's Discretionary Fund","Gift","FD29","Active","2025-04-09T02:03:40.60888+00:00",null,null,null,null,null,null,null,null,"57227","KFD 'Kingsfold' (DPD)","57227-KFD 'Kingsfold' (DPD)"]
[null,null,null,null,null,null,"GF00281","[ARTS] QE - Nye, C H-Music","GF00281-[ARTS] QE - Nye, C H-Music","Gift","FD29","Active","2025-04-09T02:03:40.60888+00:00",null,null,null,null,null,null,null,null,"57245","CHO 'Colors of Sound' (DPD)","57245-CHO 'Colors of Sound' (DPD)"]
[null,null,null,null,null,null,"GF00302","[ARTS] QE - Liptak Theatre Endowed Fund","GF00302-[ARTS] QE - Liptak Theatre Endowed Fund","Gift","FD29","Active","2025-04-09T02:03:40.726806+00:00",null,null,null,null,null,null,null,null,"57267","DMV-VP: Amazing Grace","57267-DMV-VP: Amazing Grace"]
[null,null,null,null,null,null,"GF00319","[HUM] QE - English Dept Award","GF00319-[HUM] QE - English Dept Award","Gift","FD29","Active","2025-04-09T02:03:40.726806+00:00",null,null,null,null,null,null,null,null,"57284","Pub: BYU Broadcasting","57284-Pub: BYU Broadcasting"]
[null,null,null,null,null,null,"GF00358","[LFSC] QE - WNAN-Natural History Publicati","GF00358-[LFSC] QE - WNAN-Natural History Publicati","Gift","FD29","Active","2025-04-09T02:03:40.726806+00:00",null,null,null,null,null,null,null,null,"57395","Book of Will","57395-Book of Will"]
[null,null,null,null,null,null,"GF00364","[LFSC] QE - Martin, Thomas L Prof","GF00364-[LFSC] QE - Martin, Thomas L Prof","Gift","FD29","Active","2025-04-09T02:03:40.726806+00:00",null,null,null,null,null,null,null,null,"57430","Urban Forager","57430-Urban Forager"]
[null,null,null,null,null,null,"GF00397","[MSB] QE - Burke, Ronald R","GF00397-[MSB] QE - Burke, Ronald R","Gift","FD29","Active","2025-04-09T02:03:40.726806+00:00",null,null,null,null,null,null,null,null,"57509","DMV-VP: It'sMostWonderful(CUS)","57509-DMV-VP: It'sMostWonderful(CUS)"]
[null,null,null,null,null,null,"GF00414","[MSB] QE - Albrecht, LeAnn","GF00414-[MSB] QE - Albrecht, LeAnn","Gift","FD29","Active","2025-04-09T02:03:40.726806+00:00",null,null,null,null,null,null,null,null,"57526","DSM-SaviorRedmrSoul:YMP014,003","57526-DSM-SaviorRedmrSoul:YMP014,003"]
[null,null,null,null,null,null,"GF00435","[MSB] QE - Dyer, William G. and Bonnie H.","GF00435-[MSB] QE - Dyer, William G. and Bonnie H.","Gift","FD29","Active","2025-04-09T02:03:40.726806+00:00",null,null,null,null,null,null,null,null,"57549","PSM-One Single Bell:YMP002,013","57549-PSM-One Single Bell:YMP002,013"]
[null,null,null,null,null,null,"GF00452","[MSB] QE - Smith, Hyrum W-MSB","GF00452-[MSB] QE - Smith, Hyrum W-MSB","Gift","FD29","Active","2025-04-09T02:03:40.867072+00:00",null,null,null,null,null,null,null,null,"57568","DSM-I Know That My Red: YMP012","57568-DSM-I Know That My Red: YMP012"]
[null,null,null,null,null,null,"GF00494","[CMS] QE - Baer, Julie Michele","GF00494-[CMS] QE - Baer, Julie Michele","Gift","FD29","Active","2025-04-09T02:03:40.867072+00:00",null,null,null,null,null,null,null,null,"57615","PSM-I'm Listening:YMP003","57615-PSM-I'm Listening:YMP003"]
[null,null,null,null,null,null,"GF00513","[CMS] QE - Carter, Melvin W Professorship","GF00513-[CMS] QE - Carter, Melvin W Professorship","Gift","FD29","Active","2025-04-09T02:03:40.867072+00:00",null,null,null,null,null,null,null,null,"57639","DMV-NW:You'll Be In My Heart","57639-DMV-NW:You'll Be In My Heart"]
[null,null,null,null,null,null,"GF00530","[REL] QE - Friends of Relig Educ","GF00530-[REL] QE - Friends of Relig Educ","Gift","FD29","Active","2025-04-09T02:03:40.867072+00:00",null,null,null,null,null,null,null,null,"57659","BOS-DPD:Time Flies (Synthesis)","57659-BOS-DPD:Time Flies (Synthesis)"]
[null,null,null,null,null,null,"GF00551","[FIN] QE - Wiley, Floyd","GF00551-[FIN] QE - Wiley, Floyd","Gift","FD29","Active","2025-04-09T02:03:40.867072+00:00",null,null,null,null,null,null,null,null,"57681","Marshes of Glynn","57681-Marshes of Glynn"]
[null,null,null,null,null,null,"GF00568","[FIN] QE - Wirthlin, John & Zina","GF00568-[FIN] QE - Wirthlin, John & Zina","Gift","FD29","Active","2025-04-09T02:03:40.867072+00:00",null,null,null,null,null,null,null,null,"57701","DMV-NW: Be Thou My Vision","57701-DMV-NW: Be Thou My Vision"]
[null,null,null,null,null,null,"GF00589","[AVP] TE - Sorensen Ctr for Moral Ldrship","GF00589-[AVP] TE - Sorensen Ctr for Moral Ldrship","Gift","FD23","Active","2025-04-09T02:03:40.867072+00:00",null,null,null,null,null,null,null,null,"57724","DMV-NWY: It's Raining Men (LS)","57724-DMV-NWY: It's Raining Men (LS)"]
[null,null,null,null,null,null,"GF00622","[ATH] TE - Farnsworth, Ross & Anita","GF00622-[ATH] TE - Farnsworth, Ross & Anita","Gift","FD23","Active","2025-04-09T02:03:40.9797+00:00",null,null,null,null,null,null,null,null,"57760","DMV-VP: Dynamite","57760-DMV-VP: Dynamite"]
[null,null,null,null,null,null,"GF00646","[ATH] TE - Smith, Jeff and Sandee Family","GF00646-[ATH] TE - Smith, Jeff and Sandee Family","Gift","FD23","Active","2025-04-09T02:03:40.9797+00:00",null,null,null,null,null,null,null,null,"57796","DMV-NW: Where Is the Love","57796-DMV-NW: Where Is the Love"]
[null,null,null,null,null,null,"GF00667","[ATH] TE - Rex, Tilafaiga","GF00667-[ATH] TE - Rex, Tilafaiga","Gift","FD23","Active","2025-04-09T02:03:41.084243+00:00",null,null,null,null,null,null,null,null,"57821","DSM-Hallelujah: YMP018","57821-DSM-Hallelujah: YMP018"]
[null,null,null,null,null,null,"GF00684","[ATH] TE - Rolapp, Ralph T","GF00684-[ATH] TE - Rolapp, Ralph T","Gift","FD23","Active","2025-04-09T02:03:41.084243+00:00",null,null,null,null,null,null,null,null,"57839","MC-SNGL: Cornerstone","57839-MC-SNGL: Cornerstone"]
[null,null,null,null,null,null,"GF00701","[ATH] TE - James, Josh Men's Basketball","GF00701-[ATH] TE - James, Josh Men's Basketball","Gift","FD23","Active","2025-04-09T02:03:41.084243+00:00",null,null,null,null,null,null,null,null,"57857","DSM-O Holy Night: YMP040","57857-DSM-O Holy Night: YMP040"]
[null,null,null,null,null,null,"GF00729","[ATH] TE - Schulz, Charles M Scholarship","GF00729-[ATH] TE - Schulz, Charles M Scholarship","Gift","FD23","Active","2025-04-09T02:03:41.084243+00:00",null,null,null,null,null,null,null,null,"57886","Pub: Praise to the Man: YMP020","57886-Pub: Praise to the Man: YMP020"]
[null,null,null,null,null,null,"GF00762","[LAWS] TE - Christensen, David and Mary","GF00762-[LAWS] TE - Christensen, David and Mary","Gift","FD23","Active","2025-04-09T02:03:41.164974+00:00",null,null,null,null,null,null,null,null,"57919","DMV-SG: Carol of the Bells","57919-DMV-SG: Carol of the Bells"]
[null,null,null,null,null,null,"GF00783","[LAWS] TE - Welch Writing Prize","GF00783-[LAWS] TE - Welch Writing Prize","Gift","FD23","Active","2025-04-09T02:03:41.164974+00:00",null,null,null,null,null,null,null,null,"57940","DMV-NW: Even If","57940-DMV-NW: Even If"]
[null,null,null,null,null,null,"GF00800","[LAWS] TE - Hancock, Wayne Professorship","GF00800-[LAWS] TE - Hancock, Wayne Professorship","Gift","FD23","Active","2025-04-09T02:03:41.164974+00:00",null,null,null,null,null,null,null,null,"57957","DMV-VP: The Prayer","57957-DMV-VP: The Prayer"]
[null,null,null,null,null,null,"GF00817","[LAWS] TE - Benson, A. Gael","GF00817-[LAWS] TE - Benson, A. Gael","Gift","FD23","Active","2025-04-09T02:03:41.164974+00:00",null,null,null,null,null,null,null,null,"57974","Pub:O Come Let Us Addore:YMP043","57974-Pub:O Come Let Us Addore:YMP043"]
[null,null,null,null,null,null,"GF00838","[LAWS] TE - John E. and Alexandra L. Preston Endowed Scholarship Fund in Law","GF00838-[LAWS] TE - John E. and Alexandra L. Preston Endowed Scholarship Fund in Law","Gift","FD23","Active","2025-04-09T02:03:41.164974+00:00",null,null,null,null,null,null,null,null,"57995","[INVP] Artist Rlty:Savannah Stevenson","57995-[INVP] Artist Rlty:Savannah Stevenson"]
[null,null,null,null,null,null,"GF00857","[ENG] TE - Budge, Dr. W. Don & Kaye M.","GF00857-[ENG] TE - Budge, Dr. W. Don & Kaye M.","Gift","FD23","Active","2025-04-09T02:03:41.164974+00:00",null,null,null,null,null,null,null,null,"58641","SSII Liquid LLC 8% Interest","58641-SSII Liquid LLC 8% Interest"]
[null,null,null,null,null,null,"GF00896","[ENG] TE - Van Wagenen, Paul G.","GF00896-[ENG] TE - Van Wagenen, Paul G.","Gift","FD23","Active","2025-04-09T02:03:41.164974+00:00",null,null,null,null,null,null,null,null,"61140","Repl Stoves WP1-7,17-20","61140-Repl Stoves WP1-7,17-20"]
[null,null,null,null,null,null,"GF00917","[ENG] TE - Jeffrey M. and Jane Nobbs Endowed Scholarship Fund","GF00917-[ENG] TE - Jeffrey M. and Jane Nobbs Endowed Scholarship Fund","Gift","FD23","Active","2025-04-09T02:03:41.164974+00:00",null,null,null,null,null,null,null,null,"61343","Add Lounge Furn WSC 2nd Floor","61343-Add Lounge Furn WSC 2nd Floor"]
[null,null,null,null,null,null,"GF00934","[ENG] TE - Polgar, Jane & Peter","GF00934-[ENG] TE - Polgar, Jane & Peter","Gift","FD23","Active","2025-04-09T02:03:41.29978+00:00",null,null,null,null,null,null,null,null,"61447","Repl Heaters Bldg A,B,C","61447-Repl Heaters Bldg A,B,C"]
[null,null,null,null,null,null,"GF00955","[ENG] TE - Burns, Fritz-Equip","GF00955-[ENG] TE - Burns, Fritz-Equip","Gift","FD23","Active","2025-04-09T02:03:41.29978+00:00",null,null,null,null,null,null,null,null,"61473","Repl Compressor HLC","61473-Repl Compressor HLC"]
[null,null,null,null,null,null,"GF00965","[ENG] TE - American Woodturners","GF00965-[ENG] TE - American Woodturners","Gift","FD23","Active","2025-04-09T02:03:41.29978+00:00",null,null,null,null,null,null,null,null,"61500","Fire Protection Sys FLSR","61500-Fire Protection Sys FLSR"]
[null,null,null,null,null,null,"GF00990","[NURS] TE - Anim-Addo, Regina","GF00990-[NURS] TE - Anim-Addo, Regina","Gift","FD23","Active","2025-04-09T02:03:41.29978+00:00",null,null,null,null,null,null,null,null,"61527","Repl Carpet HR04-05","61527-Repl Carpet HR04-05"]
[null,null,null,null,null,null,"GF01011","[NURS] TE - Thatcher, Kathlyn and Thomas","GF01011-[NURS] TE - Thatcher, Kathlyn and Thomas","Gift","FD23","Active","2025-04-09T02:03:41.29978+00:00",null,null,null,null,null,null,null,null,"61549","Repl Folding Tables WSC","61549-Repl Folding Tables WSC"]
[null,null,null,null,null,null,"GF01050","[STLF] TE - Ong, Wai-Mui Amelia","GF01050-[STLF] TE - Ong, Wai-Mui Amelia","Gift","FD23","Active","2025-04-09T02:03:41.29978+00:00",null,null,null,null,null,null,null,null,"61589","Repaint WP05-07","61589-Repaint WP05-07"]
[null,null,null,null,null,null,"GF01071","[STLF] TE - Judd, J. McKay and Ruth","GF01071-[STLF] TE - Judd, J. McKay and Ruth","Gift","FD23","Active","2025-04-09T02:03:41.29978+00:00",null,null,null,null,null,null,null,null,"61610","Install Acc AV WSC Bllrm","61610-Install Acc AV WSC Bllrm"]
[null,null,null,null,null,null,"GF01088","[STLF] TE - McPherson, Lora Scholarship","GF01088-[STLF] TE - McPherson, Lora Scholarship","Gift","FD23","Active","2025-04-09T02:03:41.418464+00:00",null,null,null,null,null,null,null,null,"61627","Repaint Common Areas HLG","61627-Repaint Common Areas HLG"]
[null,null,null,null,null,null,"GF01116","[ENRL] TE - Crabtree, Roland","GF01116-[ENRL] TE - Crabtree, Roland","Gift","FD23","Active","2025-04-09T02:03:41.418464+00:00",null,null,null,null,null,null,null,null,"61655","Repl Apt Furnaces WT 2025","61655-Repl Apt Furnaces WT 2025"]
[null,null,null,null,null,null,"GF01127","[ENRL] TE - Allred, David & Mary","GF01127-[ENRL] TE - Allred, David & Mary","Gift","FD23","Active","2025-04-09T02:03:41.418464+00:00",null,null,null,null,null,null,null,null,"61666","Add Canopy Furniture NE patio","61666-Add Canopy Furniture NE patio"]
[null,null,null,null,null,null,"GF01144","[ENRL] TE - Saunders, Marigold N","GF01144-[ENRL] TE - Saunders, Marigold N","Gift","FD23","Active","2025-04-09T02:03:41.418464+00:00",null,null,null,null,null,null,null,null,"62131","G Research 1","62131-G Research 1"]
[null,null,null,null,null,null,"GF01183","[ENRL] TE - Stout, Clair L","GF01183-[ENRL] TE - Stout, Clair L","Gift","FD23","Active","2025-04-09T02:03:41.418464+00:00",null,null,null,null,null,null,null,null,"62500","Religion & Human Flourishing","62500-Religion & Human Flourishing"]
[null,null,null,null,null,null,"GF01204","[ENRL] TE - Laird, George & Lelia","GF01204-[ENRL] TE - Laird, George & Lelia","Gift","FD23","Active","2025-04-09T02:03:41.418464+00:00",null,null,null,null,null,null,null,null,"62533","R Research 3","62533-R Research 3"]
[null,null,null,null,null,null,"GF01223","[ENRL] TE - Horne, Maurine & Seth","GF01223-[ENRL] TE - Horne, Maurine & Seth","Gift","FD23","Active","2025-04-09T02:03:41.418464+00:00",null,null,null,null,null,null,null,null,"62620","F Event 10","62620-F Event 10"]
[null,null,null,null,null,null,"GF01243","[ENRL] TE - Lee, Marjorie A.","GF01243-[ENRL] TE - Lee, Marjorie A.","Gift","FD23","Active","2025-04-09T02:03:41.418464+00:00",null,null,null,null,null,null,null,null,"62800","Marketing & Media","62800-Marketing & Media"]
[null,null,null,null,null,null,"GF01260","[ENRL] TE - Boggess Family Schol","GF01260-[ENRL] TE - Boggess Family Schol","Gift","FD23","Active","2025-04-09T02:03:41.418464+00:00",null,null,null,null,null,null,null,null,"64152","NW Provo, UT 12/13/18","64152-NW Provo, UT 12/13/18"]
[null,null,null,null,null,null,"GF01277","[ENRL] TE - Newman, Frank B","GF01277-[ENRL] TE - Newman, Frank B","Gift","FD23","Active","2025-04-09T02:03:41.418464+00:00",null,null,null,null,null,null,null,null,"64268","BD NV & CA 10/18-23/22","64268-BD NV & CA 10/18-23/22"]
[null,null,null,null,null,null,"GF01298","[ENRL] TE - Cooper, Jeff & Kenna","GF01298-[ENRL] TE - Cooper, Jeff & Kenna","Gift","FD23","Active","2025-04-09T02:03:41.564541+00:00",null,null,null,null,null,null,null,null,"64298","VP Campus Show 1/13-14/23","64298-VP Campus Show 1/13-14/23"]
[null,null,null,null,null,null,"GF01337","[ENRL] TE - Cline, Elizabeth Showalter","GF01337-[ENRL] TE - Cline, Elizabeth Showalter","Gift","FD23","Active","2025-04-09T02:03:41.564541+00:00",null,null,null,null,null,null,null,null,"64337","MS Sorensen Center 11/10/23","64337-MS Sorensen Center 11/10/23"]
[null,null,null,null,null,null,"GF01340","[ENRL] TE - Weaver, Douglas and Melisa","GF01340-[ENRL] TE - Weaver, Douglas and Melisa","Gift","FD23","Active","2025-04-09T02:03:41.564541+00:00",null,null,null,null,null,null,null,null,"64340","AE Fireside AF 4/14/24","64340-AE Fireside AF 4/14/24"]
[null,null,null,null,null,null,"GF01376","[ENRL] TE - Staples, Joseph and Robyn","GF01376-[ENRL] TE - Staples, Joseph and Robyn","Gift","FD23","Active","2025-04-09T02:03:41.564541+00:00",null,null,null,null,null,null,null,null,"64376","World of Dance 9/21/24","64376-World of Dance 9/21/24"]
[null,null,null,null,null,null,"GF01393","[ENRL] TE - Jeffrey and Jane Nobbs Endowed Scholarship Fund","GF01393-[ENRL] TE - Jeffrey and Jane Nobbs Endowed Scholarship Fund","Gift","FD23","Active","2025-04-09T02:03:41.564541+00:00",null,null,null,null,null,null,null,null,"64393","VP Festive Finals 12/2/24","64393-VP Festive Finals 12/2/24"]
[null,null,null,null,null,null,"GF01414","[ENRL] TE - Taggart, Hal and Phyllis","GF01414-[ENRL] TE - Taggart, Hal and Phyllis","Gift","FD23","Active","2025-04-09T02:03:41.564541+00:00",null,null,null,null,null,null,null,null,"64414","[INVP] FD Sweetheart Swing 2/8/25","64414-[INVP] FD Sweetheart Swing 2/8/25"]
[null,null,null,null,null,null,"GF01431","[FHSS] TE - Neuenschwander Family","GF01431-[FHSS] TE - Neuenschwander Family","Gift","FD23","Active","2025-04-09T02:03:41.564541+00:00",null,null,null,null,null,null,null,null,"65008","Corporate Partner Events","65008-Corporate Partner Events"]
[null,null,null,null,null,null,"GF01458","[FHSS] TE - Fagg, N Stanley","GF01458-[FHSS] TE - Fagg, N Stanley","Gift","FD23","Active","2025-04-09T02:03:41.564541+00:00",null,null,null,null,null,null,null,null,"65115","First Colony Mortgage","65115-First Colony Mortgage"]
[null,null,null,null,null,null,"GF01492","[FHSS] TE - Rice, Alice W","GF01492-[FHSS] TE - Rice, Alice W","Gift","FD23","Active","2025-04-09T02:03:41.685166+00:00",null,null,null,null,null,null,null,null,"65214","Utah Community Credit Union","65214-Utah Community Credit Union"]
[null,null,null,null,null,null,"GF01509","[FHSS] TE - Roberts, Jack E. & Marilyn H.","GF01509-[FHSS] TE - Roberts, Jack E. & Marilyn H.","Gift","FD23","Active","2025-04-09T02:03:41.685166+00:00",null,null,null,null,null,null,null,null,"65277","Utah Dept of Health","65277-Utah Dept of Health"]
[null,null,null,null,null,null,"GF01530","[ARTS] TE - Driver, Robert (P Arts)","GF01530-[ARTS] TE - Driver, Robert (P Arts)","Gift","FD23","Active","2025-04-09T02:03:41.685166+00:00",null,null,null,null,null,null,null,null,"65325","Mission Belt","65325-Mission Belt"]
[null,null,null,null,null,null,"GF01547","[ARTS] TE - Hittman, Suzanne M.","GF01547-[ARTS] TE - Hittman, Suzanne M.","Gift","FD23","Active","2025-04-09T02:03:41.685166+00:00",null,null,null,null,null,null,null,null,"65353","Economic Partners","65353-Economic Partners"]
[null,null,null,null,null,null,"GF01565","[ARTS] TE - Smoot Music Dance Travel","GF01565-[ARTS] TE - Smoot Music Dance Travel","Gift","FD23","Active","2025-04-09T02:03:41.685166+00:00",null,null,null,null,null,null,null,null,"65383","Breeze","65383-Breeze"]
[null,null,null,null,null,null,"GF01586","[ARTS] TE - Malouf, Eblen S. MOA","GF01586-[ARTS] TE - Malouf, Eblen S. MOA","Gift","FD23","Active","2025-04-09T02:03:41.766885+00:00",null,null,null,null,null,null,null,null,"65405","Doug Smith Kia","65405-Doug Smith Kia"]
[null,null,null,null,null,null,"GF01625","[ARTS] TE - Glenn, Lee & Juanita","GF01625-[ARTS] TE - Glenn, Lee & Juanita","Gift","FD23","Active","2025-04-09T02:03:41.766885+00:00",null,null,null,null,null,null,null,null,"65444","[ATH] Eric Woodley","65444-[ATH] Eric Woodley"]
[null,null,null,null,null,null,"GF01642","[ARTS] TE - Lee, Lawrence","GF01642-[ARTS] TE - Lee, Lawrence","Gift","FD23","Active","2025-04-09T02:03:41.766885+00:00",null,null,null,null,null,null,null,null,"66687","Cougar Capital/AtlasUrology","66687-Cougar Capital/AtlasUrology"]
[null,null,null,null,null,null,"GF01663","[ARTS] TE - Dalton, David and Donna","GF01663-[ARTS] TE - Dalton, David and Donna","Gift","FD23","Active","2025-04-09T02:03:41.828063+00:00",null,null,null,null,null,null,null,null,"67007","External reviewer transport","67007-External reviewer transport"]
[null,null,null,null,null,null,"GF01680","[ARTS] TE - Brubaker, Christeena","GF01680-[ARTS] TE - Brubaker, Christeena","Gift","FD23","Active","2025-04-09T02:03:41.828063+00:00",null,null,null,null,null,null,null,null,"67101","Raab,Wade (Investigations)","67101-Raab,Wade (Investigations)"]
[null,null,null,null,null,null,"GF01705","[KC] TE - Snyder, Lu Ann Scholarship","GF01705-[KC] TE - Snyder, Lu Ann Scholarship","Gift","FD23","Active","2025-04-09T02:03:41.828063+00:00",null,null,null,null,null,null,null,null,"67126","Vehicle PD 5 (Grey Salvaged)","67126-Vehicle PD 5 (Grey Salvaged)"]
[null,null,null,null,null,null,"GF01719","[HUM] TE - Handley, Ethel L","GF01719-[HUM] TE - Handley, Ethel L","Gift","FD23","Active","2025-04-09T02:03:41.828063+00:00",null,null,null,null,null,null,null,null,"67140","Goodman,Steven Lee","67140-Goodman,Steven Lee"]
[null,null,null,null,null,null,"GF01758","[KC] TE - Sayer, Kevin Global","GF01758-[KC] TE - Sayer, Kevin Global","Gift","FD23","Active","2025-04-09T02:03:41.828063+00:00",null,null,null,null,null,null,null,null,"71SLA","Athletics - AV Events","71SLA-Athletics - AV Events"]
[null,null,null,null,null,null,"GF01779","[LIB] TE - Heiner, Joy Library Science","GF01779-[LIB] TE - Heiner, Joy Library Science","Gift","FD23","Active","2025-04-09T02:03:41.828063+00:00",null,null,null,null,null,null,null,null,"80026","LSMM Schachterle,Jeff-Research","80026-LSMM Schachterle,Jeff-Research"]
[null,null,null,null,null,null,"GF01796","[LFSC] TE - Smart, Thomas B","GF01796-[LFSC] TE - Smart, Thomas B","Gift","FD23","Active","2025-04-09T02:03:41.898194+00:00",null,null,null,null,null,null,null,null,"80045","LSCE Silcox,Roy-Research","80045-LSCE Silcox,Roy-Research"]
[null,null,null,null,null,null,"GF01812","[LFSC] TE - Davis, Carl F., Jr.","GF01812-[LFSC] TE - Davis, Carl F., Jr.","Gift","FD23","Active","2025-04-09T02:03:41.898194+00:00",null,null,null,null,null,null,null,null,"80101","LSPW Abbott,Ben-Research","80101-LSPW Abbott,Ben-Research"]
[null,null,null,null,null,null,"GF01836","[LFSC] TE - Lewis, Mark Meredith","GF01836-[LFSC] TE - Lewis, Mark Meredith","Gift","FD23","Active","2025-04-09T02:03:41.898194+00:00",null,null,null,null,null,null,null,null,"80124","LSPW Smith,Tom-Research","80124-LSPW Smith,Tom-Research"]
[null,null,null,null,null,null,"GF01853","[LFSC] TE - Frandsen, Wanda & W. Schlrshp","GF01853-[LFSC] TE - Frandsen, Wanda & W. Schlrshp","Gift","FD23","Active","2025-04-09T02:03:41.898194+00:00",null,null,null,null,null,null,null,null,"80141","LSPW Hansen Exp Learning","80141-LSPW Hansen Exp Learning"]
[null,null,null,null,null,null,"GF01874","[LFSC] TE - Tipton, Vernon J.","GF01874-[LFSC] TE - Tipton, Vernon J.","Gift","FD23","Active","2025-04-09T02:03:41.898194+00:00",null,null,null,null,null,null,null,null,"80162","LSPW Allen Res & Exp Learning","80162-LSPW Allen Res & Exp Learning"]
[null,null,null,null,null,null,"GF01913","[MSB] TE - Brooksby, Jason B","GF01913-[MSB] TE - Brooksby, Jason B","Gift","FD23","Active","2025-04-09T02:03:41.898194+00:00",null,null,null,null,null,null,null,null,"80201","LSPW PWS 003 Experiential Lear","80201-LSPW PWS 003 Experiential Lear"]
[null,null,null,null,null,null,"GF01930","[MSB] TE - Gunnell, J Darwin","GF01930-[MSB] TE - Gunnell, J Darwin","Gift","FD23","Active","2025-04-09T02:03:41.898194+00:00",null,null,null,null,null,null,null,null,"80515","LSES Seeley, Matt - Research","80515-LSES Seeley, Matt - Research"]
[null,null,null,null,null,null,"GF01941","[MSB] TE - McKinney - Internatnl","GF01941-[MSB] TE - McKinney - Internatnl","Gift","FD23","Active","2025-04-09T02:03:41.898194+00:00",null,null,null,null,null,null,null,null,"80565","LSES Wilwand, Malorie-Research","80565-LSES Wilwand, Malorie-Research"]
[null,null,null,null,null,null,"GF01969","[MSB] TE - King, T. Eugene and Lenadra","GF01969-[MSB] TE - King, T. Eugene and Lenadra","Gift","FD23","Active","2025-04-09T02:03:41.898194+00:00",null,null,null,null,null,null,null,null,"82D20","Facilitate Cloud Usage","82D20-Facilitate Cloud Usage"]
[null,null,null,null,null,null,"GF01990","[MSB] TE - Carey, Paul E.","GF01990-[MSB] TE - Carey, Paul E.","Gift","FD23","Active","2025-04-09T02:03:42.006217+00:00",null,null,null,null,null,null,null,null,"97D20","Facilitate cloud use & integra","97D20-Facilitate cloud use & integra"]
[null,null,null,null,null,null,"GF02007","[MSB] TE - Cherrington, David Schlrshp","GF02007-[MSB] TE - Cherrington, David Schlrshp","Gift","FD23","Active","2025-04-09T02:03:42.006217+00:00",null,null,null,null,null,null,null,null,"ABUSB","Andrea Busby","ABUSB-Andrea Busby"]
[null,null,null,null,null,null,"GF02046","[MSB] TE - Jones, Garth N. & Family","GF02046-[MSB] TE - Jones, Garth N. & Family","Gift","FD23","Active","2025-04-09T02:03:42.006217+00:00",null,null,null,null,null,null,null,null,"AGILE","AGILE Support & Training","AGILE-AGILE Support & Training"]
[null,null,null,null,null,null,"GF02071","[MSB] TE - Livingstone, Donald","GF02071-[MSB] TE - Livingstone, Donald","Gift","FD23","Active","2025-04-09T02:03:42.006217+00:00",null,null,null,null,null,null,null,null,"APCHN","ATL Principle Cast Honorarium","APCHN-ATL Principle Cast Honorarium"]
[null,null,null,null,null,null,"GF02085","[MSB] TE - Waterhouse-Profship","GF02085-[MSB] TE - Waterhouse-Profship","Gift","FD23","Active","2025-04-09T02:03:42.006217+00:00",null,null,null,null,null,null,null,null,"APOPE","Arden Pope","APOPE-Arden Pope"]
[null,null,null,null,null,null,"GF02102","[MSB] TE - Bennett, Steven and Brenda Sch","GF02102-[MSB] TE - Bennett, Steven and Brenda Sch","Gift","FD23","Active","2025-04-09T02:03:42.006217+00:00",null,null,null,null,null,null,null,null,"ATHDP","Athletics SHC Deposits","ATHDP-Athletics SHC Deposits"]
[null,null,null,null,null,null,"GF02123","[MSE] TE - Sant, Janet","GF02123-[MSE] TE - Sant, Janet","Gift","FD23","Active","2025-04-09T02:03:42.006217+00:00",null,null,null,null,null,null,null,null,"BBLAC","LSMM Black, Bob","BBLAC-LSMM Black, Bob"]
[null,null,null,null,null,null,"GF02140","[MSE] TE - Robinson, Genova","GF02140-[MSE] TE - Robinson, Genova","Gift","FD23","Active","2025-04-09T02:03:42.006217+00:00",null,null,null,null,null,null,null,null,"BG135","Athletics Recruiting","BG135-Athletics Recruiting"]
[null,null,null,null,null,null,"GF02183","[MSE] TE - Culatta, Dr. Barbara","GF02183-[MSE] TE - Culatta, Dr. Barbara","Gift","FD23","Active","2025-04-09T02:03:42.201935+00:00",null,null,null,null,null,null,null,null,"BG183","VSM","BG183-VSM"]
[null,null,null,null,null,null,"GF02199","[MSE] TE - Robinson, Wendy","GF02199-[MSE] TE - Robinson, Wendy","Gift","FD23","Active","2025-04-09T02:03:42.201935+00:00",null,null,null,null,null,null,null,null,"BG546","Database Management","BG546-Database Management"]
[null,null,null,null,null,null,"GF02218","[MSE] TE - Porter, Ann R.","GF02218-[MSE] TE - Porter, Ann R.","Gift","FD23","Active","2025-04-09T02:03:42.201935+00:00",null,null,null,null,null,null,null,null,"BHILL","Ben Hill","BHILL-Ben Hill"]
[null,null,null,null,null,null,"GF02239","[CMS] TE - Wilson, Bryon J.","GF02239-[CMS] TE - Wilson, Bryon J.","Gift","FD23","Active","2025-04-09T02:03:42.201935+00:00",null,null,null,null,null,null,null,null,"BRENS","Rensink, Brenden","BRENS-Rensink, Brenden"]
[null,null,null,null,null,null,"GF02256","[CMS] TE - Hill, Brian T. & Katherine","GF02256-[CMS] TE - Hill, Brian T. & Katherine","Gift","FD23","Active","2025-04-09T02:03:42.201935+00:00",null,null,null,null,null,null,null,null,"BYUAM","BYU Additional Medicare Tax","BYUAM-BYU Additional Medicare Tax"]
[null,null,null,null,null,null,"GF02277","[CMS] TE - Hintze Family Geology","GF02277-[CMS] TE - Hintze Family Geology","Gift","FD23","Active","2025-04-09T02:03:42.201935+00:00",null,null,null,null,null,null,null,null,"C1500","HBLL Replace Elev #3","C1500-HBLL Replace Elev #3"]
[null,null,null,null,null,null,"GF02306","[CMS] TE - Allred, Kimberly Nicole","GF02306-[CMS] TE - Allred, Kimberly Nicole","Gift","FD23","Active","2025-04-09T02:03:42.201935+00:00",null,null,null,null,null,null,null,null,"C1539","Otis Elevator Company","C1539-Otis Elevator Company"]
[null,null,null,null,null,null,"GF02334","[JC] TE - Christensen, Lee & Rosetta","GF02334-[JC] TE - Christensen, Lee & Rosetta","Gift","FD23","Active","2025-04-09T02:03:42.307079+00:00",null,null,null,null,null,null,null,null,"C1574","Arnell-West Inc.","C1574-Arnell-West Inc."]
[null,null,null,null,null,null,"GF02355","[REL] TE - Chaplain Endowed Fund","GF02355-[REL] TE - Chaplain Endowed Fund","Gift","FD23","Active","2025-04-09T02:03:42.307079+00:00",null,null,null,null,null,null,null,null,"C1600","Clark's Quality Roofing","C1600-Clark's Quality Roofing"]
[null,null,null,null,null,null,"GF02372","[STLF] TE - Hurst, M. Lynn Pre-Dental","GF02372-[STLF] TE - Hurst, M. Lynn Pre-Dental","Gift","FD23","Active","2025-04-09T02:03:42.307079+00:00",null,null,null,null,null,null,null,null,"CACMD","All Ar Champ Cmpn-Mktg Day","CACMD-All Ar Champ Cmpn-Mktg Day"]
[null,null,null,null,null,null,"GF02390","[ATH] DG - Whiting, Charles W- Deferred Gift","GF02390-[ATH] DG - Whiting, Charles W- Deferred Gift","Gift","FD27","Active","2025-01-12T03:04:23.29146+00:00",null,null,null,null,null,null,null,null,"CAP02","Capstone Team 2","CAP02-Capstone Team 2"]
[null,null,null,null,null,null,"GF02411","[ENRL] DG - Patterson, Jack Dee- Deferred Gift","GF02411-[ENRL] DG - Patterson, Jack Dee- Deferred Gift","Gift","FD27","Active","2025-01-12T03:04:23.29146+00:00",null,null,null,null,null,null,null,null,"CAP23","Capstone Team 23","CAP23-Capstone Team 23"]
[null,null,null,null,null,null,"GF02435","[ENRL] DG - Peterson, Darryl V- Deferred Gift","GF02435-[ENRL] DG - Peterson, Darryl V- Deferred Gift","Gift","FD27","Active","2025-01-12T03:04:23.29146+00:00",null,null,null,null,null,null,null,null,"CAP47","Capstone Team 47","CAP47-Capstone Team 47"]
[null,null,null,null,null,null,"GF02472","[LFSC] DG - Bennion, Beryl H- Deferred Gift","GF02472-[LFSC] DG - Bennion, Beryl H- Deferred Gift","Gift","FD27","Active","2025-01-12T03:04:23.29146+00:00",null,null,null,null,null,null,null,null,"CBSKT","Big Stories Cmpn-Press Kits","CBSKT-Big Stories Cmpn-Press Kits"]
[null,null,null,null,null,null,"GF02489","[CMS] DG - Turner, Clark CPMS UG Mentors- Deferred Gift","GF02489-[CMS] DG - Turner, Clark CPMS UG Mentors- Deferred Gift","Gift","FD27","Active","2025-01-12T03:04:23.29146+00:00",null,null,null,null,null,null,null,null,"CBTSM","BYUtv Cmpn-Social Mktg","CBTSM-BYUtv Cmpn-Social Mktg"]
[null,null,null,null,null,null,"GF02507","[ENRL] LN - Short Term Student Loan Fund","GF02507-[ENRL] LN - Short Term Student Loan Fund","Gift","FD27","Active","2025-04-09T02:03:42.307079+00:00",null,null,null,null,null,null,null,null,"CCNIN","LivingRecord Cmpn-Insider","CCNIN-LivingRecord Cmpn-Insider"]
[null,null,null,null,null,null,"GF02528","[FIN] PM - R543-3711-Gasser, G Walter","GF02528-[FIN] PM - R543-3711-Gasser, G Walter","Gift","FD27","Active","2025-01-12T03:04:23.328437+00:00",null,null,null,null,null,null,null,null,"CDBEV","Deep Blue Cmpn-Events","CDBEV-Deep Blue Cmpn-Events"]
[null,null,null,null,null,null,"GF02544","[FIN] PM - Teschler, Edythe J","GF02544-[FIN] PM - Teschler, Edythe J","Gift","FD27","Active","2025-01-12T03:04:23.328437+00:00",null,null,null,null,null,null,null,null,"CELA1","Civic Engmnt Leadership Assoc","CELA1-Civic Engmnt Leadership Assoc"]
[null,null,null,null,null,null,"GF02568","[FIN] PM - Petersen, John S.","GF02568-[FIN] PM - Petersen, John S.","Gift","FD20","Active","2025-01-12T03:04:23.328437+00:00",null,null,null,null,null,null,null,null,"CG108","Red Hat Linux OS","CG108-Red Hat Linux OS"]
[null,null,null,null,null,null,"GF02607","[FIN] PM - Turner, Robert","GF02607-[FIN] PM - Turner, Robert","Gift","FD20","Active","2025-01-12T03:04:23.328437+00:00",null,null,null,null,null,null,null,null,"CG163","Classroom Administration/Gradi","CG163-Classroom Administration/Gradi"]
[null,null,null,null,null,null,"GF02627","[AER] BG - LA North Reg Rep Grt","GF02627-[AER] BG - LA North Reg Rep Grt","Gift","FD20","Active","2025-01-12T03:04:23.328437+00:00",null,null,null,null,null,null,null,null,"CG180","UVNetworks","CG180-UVNetworks"]
[null,null,null,null,null,null,"GF02648","[AER] BG - MI Detroit","GF02648-[AER] BG - MI Detroit","Gift","FD20","Active","2025-01-12T03:04:23.328437+00:00",null,null,null,null,null,null,null,null,"CG522","Survey Management","CG522-Survey Management"]
[null,null,null,null,null,null,"GF02665","[AER] BG - OH Cleveland","GF02665-[AER] BG - OH Cleveland","Gift","FD20","Active","2025-01-12T03:04:23.328437+00:00",null,null,null,null,null,null,null,null,"CGDOF","Game day Cmpn-Offline Mktg","CGDOF-Game day Cmpn-Offline Mktg"]
[null,null,null,null,null,null,"GF02699","[AER] BG - DC Mgt Soc Schlrshp","GF02699-[AER] BG - DC Mgt Soc Schlrshp","Gift","FD20","Active","2025-01-12T03:04:23.328437+00:00",null,null,null,null,null,null,null,null,"CHSIN","Hello Sunday Cmpn-Insider","CHSIN-Hello Sunday Cmpn-Insider"]
[null,null,null,null,null,null,"GF02705","[ATH] BG - Annual Scholarship Fund","GF02705-[ATH] BG - Annual Scholarship Fund","Gift","FD20","Active","2025-01-12T03:04:23.328437+00:00",null,null,null,null,null,null,null,null,"CHYDM","Her Y Cmpn-Digital","CHYDM-Her Y Cmpn-Digital"]
[null,null,null,null,null,null,"GF02744","[ATH] BG - Women Tennis Fund","GF02744-[ATH] BG - Women Tennis Fund","Gift","FD20","Active","2025-01-12T03:04:23.374583+00:00",null,null,null,null,null,null,null,null,"CLDSM","Conf Special Cmpn-Social Mktg","CLDSM-Conf Special Cmpn-Social Mktg"]
[null,null,null,null,null,null,"GF02766","[AVP] BG - College of H&HP Annual Fund","GF02766-[AVP] BG - College of H&HP Annual Fund","Gift","FD20","Active","2025-01-12T03:04:23.374583+00:00",null,null,null,null,null,null,null,null,"CMGPI","Making Good Cmpn-Promo Item","CMGPI-Making Good Cmpn-Promo Item"]
[null,null,null,null,null,null,"GF02784","[LAWS] BG - Student Financial Assistance","GF02784-[LAWS] BG - Student Financial Assistance","Gift","FD20","Active","2025-01-12T03:04:23.374583+00:00",null,null,null,null,null,null,null,null,"CNNOT","Nine Years Cmpn-Other","CNNOT-Nine Years Cmpn-Other"]
[null,null,null,null,null,null,"GF02808","[LAWS] BG - Public Service Fellowships","GF02808-[LAWS] BG - Public Service Fellowships","Gift","FD20","Active","2025-01-12T03:04:23.374583+00:00",null,null,null,null,null,null,null,null,"COSOT","Tales OutSub Cmpn-Other","COSOT-Tales OutSub Cmpn-Other"]
[null,null,null,null,null,null,"GF02823","[LAWS] BG - Diversity Scholarships","GF02823-[LAWS] BG - Diversity Scholarships","Gift","FD20","Active","2025-01-12T03:04:23.406263+00:00",null,null,null,null,null,null,null,null,"CPBKT","Radio DeepBl Cmpn-Press Kits","CPBKT-Radio DeepBl Cmpn-Press Kits"]
[null,null,null,null,null,null,"GF02840","[ENG] BG - Chem Engr Grad Schol","GF02840-[ENG] BG - Chem Engr Grad Schol","Gift","FD20","Active","2025-01-12T03:04:23.406263+00:00",null,null,null,null,null,null,null,null,"CPPKT","ParentInProg Cmpn-Press Kits","CPPKT-ParentInProg Cmpn-Press Kits"]
[null,null,null,null,null,null,"GF02880","[ENG] BG - Humanitarian","GF02880-[ENG] BG - Humanitarian","Gift","FD20","Active","2025-01-12T03:04:23.406263+00:00",null,null,null,null,null,null,null,null,"CRSSM","Radio BigStryCmpn-Social Mktg","CRSSM-Radio BigStryCmpn-Social Mktg"]
[null,null,null,null,null,null,"GF02901","[ENG] BG - Remote Sensing Gifts","GF02901-[ENG] BG - Remote Sensing Gifts","Gift","FD20","Active","2025-01-12T03:04:23.406263+00:00",null,null,null,null,null,null,null,null,"CRXSM","Red Rocks Cmpn-Social Mktg","CRXSM-Red Rocks Cmpn-Social Mktg"]
[null,null,null,null,null,null,"GF02919","[ENG] BG - Intel Scholarship","GF02919-[ENG] BG - Intel Scholarship","Gift","FD20","Active","2025-02-22T03:04:17.368161+00:00",null,null,null,null,null,null,null,null,"CS158","Intrusion detection/network mo","CS158-Intrusion detection/network mo"]
[null,null,null,null,null,null,"GF02927","[ENG] BG - Google Symbiflow Classroom","GF02927-[ENG] BG - Google Symbiflow Classroom","Gift","FD20","Active","2025-01-12T03:04:23.406263+00:00",null,null,null,null,null,null,null,null,"CSBIF","Coach ShowBB Cmpn-Influencers","CSBIF-Coach ShowBB Cmpn-Influencers"]
[null,null,null,null,null,null,"GF02959","[ENG] BG - Tech Ed & Mgmt TFG","GF02959-[ENG] BG - Tech Ed & Mgmt TFG","Gift","FD20","Active","2025-01-12T03:04:23.406263+00:00",null,null,null,null,null,null,null,null,"CSFIF","Coach ShowFB Cmpn-Influencers","CSFIF-Coach ShowFB Cmpn-Influencers"]
[null,null,null,null,null,null,"GF02976","[STLF] BG - Extramurals-Lacrosse","GF02976-[STLF] BG - Extramurals-Lacrosse","Gift","FD20","Active","2025-01-12T03:04:23.406263+00:00",null,null,null,null,null,null,null,null,"CSIOT","Silverpoint Cmpn-Other","CSIOT-Silverpoint Cmpn-Other"]
[null,null,null,null,null,null,"GF02999","[ENRL] BG - Okland-Norwegian Scholarship","GF02999-[ENRL] BG - Okland-Norwegian Scholarship","Gift","FD20","Active","2025-01-12T03:04:23.406263+00:00",null,null,null,null,null,null,null,null,"CSNOF","Sports Nation Cmpn-Offline Mkt","CSNOF-Sports Nation Cmpn-Offline Mkt"]
[null,null,null,null,null,null,"GF03039","[ENRL] BG - Henrietta Herwig Memori Scholr","GF03039-[ENRL] BG - Henrietta Herwig Memori Scholr","Gift","FD20","Active","2025-01-12T03:04:23.471921+00:00",null,null,null,null,null,null,null,null,"CTECH","Computer Technicians Team","CTECH-Computer Technicians Team"]
[null,null,null,null,null,null,"GF03061","[ENRL] BG - Patrick D Kihoza Sig Scholarsh","GF03061-[ENRL] BG - Patrick D Kihoza Sig Scholarsh","Gift","FD20","Active","2025-01-12T03:04:23.471921+00:00",null,null,null,null,null,null,null,null,"CTWPR","Call of Wild Cmpn-Public Rel.","CTWPR-Call of Wild Cmpn-Public Rel."]
[null,null,null,null,null,null,"GF03079","[ENRL] BG - Peter & Laura Scholz Sig Schol","GF03079-[ENRL] BG - Peter & Laura Scholz Sig Schol","Gift","FD20","Active","2025-01-12T03:04:23.471921+00:00",null,null,null,null,null,null,null,null,"CTXCR","Castle Rock CO City Tax","CTXCR-Castle Rock CO City Tax"]
[null,null,null,null,null,null,"GF03096","[ENRL] BG - Vinson Knight Signature Schola","GF03096-[ENRL] BG - Vinson Knight Signature Schola","Gift","FD20","Active","2025-01-12T03:04:23.471921+00:00",null,null,null,null,null,null,null,null,"CTXGV","Greenwood Village CO City Tax","CTXGV-Greenwood Village CO City Tax"]
[null,null,null,null,null,null,"GF03117","[ENRL] BG - Alfred LeRoy Kelly Sig Schol.","GF03117-[ENRL] BG - Alfred LeRoy Kelly Sig Schol.","Gift","FD20","Active","2025-01-12T03:04:23.471921+00:00",null,null,null,null,null,null,null,null,"CTXTE","Telluride CO City Tax","CTXTE-Telluride CO City Tax"]
[null,null,null,null,null,null,"GF03136","[ENRL] BG - U Gotta Wanna","GF03136-[ENRL] BG - U Gotta Wanna","Gift","FD20","Active","2025-01-12T03:04:23.471921+00:00",null,null,null,null,null,null,null,null,"CUCOT","Uncomfy Cmpn-Other","CUCOT-Uncomfy Cmpn-Other"]
[null,null,null,null,null,null,"GF03175","[ENRL] BG - Robison, Ann Signature Scholar","GF03175-[ENRL] BG - Robison, Ann Signature Scholar","Gift","FD20","Active","2025-01-12T03:04:23.471921+00:00",null,null,null,null,null,null,null,null,"D4551","Instructional Coaching Academy","D4551-Instructional Coaching Academy"]
[null,null,null,null,null,null,"GF03198","[FHSS] BG - FLHEE Gifts","GF03198-[FHSS] BG - FLHEE Gifts","Gift","FD20","Active","2025-01-12T03:04:23.471921+00:00",null,null,null,null,null,null,null,null,"DA241","Contempry Dnc Tec Thry-2","DA241-Contempry Dnc Tec Thry-2"]
[null,null,null,null,null,null,"GF03227","[FHSS] BG - Social Work Gifts","GF03227-[FHSS] BG - Social Work Gifts","Gift","FD20","Active","2025-01-12T03:04:23.471921+00:00",null,null,null,null,null,null,null,null,"DARAY","Daren Ray","DARAY-Daren Ray"]
[null,null,null,null,null,null,"GF03248","[ARTS] BG - Living Legends Scholarships","GF03248-[ARTS] BG - Living Legends Scholarships","Gift","FD20","Active","2025-01-12T03:04:23.508528+00:00",null,null,null,null,null,null,null,null,"DEPTE","Departmental - Eng","DEPTE-Departmental - Eng"]
[null,null,null,null,null,null,"GF03266","[ARTS] BG - Product Design","GF03266-[ARTS] BG - Product Design","Gift","FD20","Active","2025-01-12T03:04:23.508528+00:00",null,null,null,null,null,null,null,null,"DF757","xASB A4, Video Conferencing Ro","DF757-xASB A4, Video Conferencing Ro"]
[null,null,null,null,null,null,"GF03284","[ARTS] BG - Folk Ensemble Gifts","GF03284-[ARTS] BG - Folk Ensemble Gifts","Gift","FD20","Active","2025-01-12T03:04:23.508528+00:00",null,null,null,null,null,null,null,null,"DIVRS","Curriculum Diversificati Grant","DIVRS-Curriculum Diversificati Grant"]
[null,null,null,null,null,null,"GF03315","[ARTS] BG - Student Filmmakers","GF03315-[ARTS] BG - Student Filmmakers","Gift","FD20","Active","2025-01-12T03:04:23.553457+00:00",null,null,null,null,null,null,null,null,"DM034","Phone System Transition-Pilot","DM034-Phone System Transition-Pilot"]
[null,null,null,null,null,null,"GF03349","BG - Everett & Ruby Logan Sig Schol","GF03349-BG - Everett & Ruby Logan Sig Schol","Gift","FD20","Active","2025-02-04T03:04:52.555317+00:00",null,null,null,null,null,null,null,null,"DM071","CTB, Fiber for IT labs","DM071-CTB, Fiber for IT labs"]
[null,null,null,null,null,null,"GF03369","[KC] BG - Anthony Taylor London Schol","GF03369-[KC] BG - Anthony Taylor London Schol","Gift","FD20","Active","2025-01-12T03:04:23.553457+00:00",null,null,null,null,null,null,null,null,"DONOR","Donor Relations","DONOR-Donor Relations"]
[null,null,null,null,null,null,"GF03392","[LIB] BG - Special Collections Developmnt","GF03392-[LIB] BG - Special Collections Developmnt","Gift","FD20","Active","2025-01-12T03:04:23.553457+00:00",null,null,null,null,null,null,null,null,"E1872","EX18 Other Guests-Hosting","E1872-EX18 Other Guests-Hosting"]
[null,null,null,null,null,null,"GF03412","[LFSC] BG - CELL Scholarships","GF03412-[LFSC] BG - CELL Scholarships","Gift","FD20","Active","2025-01-12T03:04:23.553457+00:00",null,null,null,null,null,null,null,null,"ECARE","EFP Camera Rental","ECARE-EFP Camera Rental"]
[null,null,null,null,null,null,"GF03435","[LFSC] BG - MMBIO Direct Student Aid","GF03435-[LFSC] BG - MMBIO Direct Student Aid","Gift","FD20","Active","2025-01-12T03:04:23.553457+00:00",null,null,null,null,null,null,null,null,"EFYCA","EFY CA Tax Withholding","EFYCA-EFY CA Tax Withholding"]
[null,null,null,null,null,null,"GF03455","[LFSC] BG - Landscape Management Scholarsh","GF03455-[LFSC] BG - Landscape Management Scholarsh","Gift","FD20","Active","2025-01-12T03:04:23.553457+00:00",null,null,null,null,null,null,null,null,"EFYMO","EFY MO Tax Withholding","EFYMO-EFY MO Tax Withholding"]
[null,null,null,null,null,null,"GF03498","[MSB] BG - ExDM Gifts","GF03498-[MSB] BG - ExDM Gifts","Gift","FD20","Active","2025-01-12T03:04:23.553457+00:00",null,null,null,null,null,null,null,null,"ENVIR","Environmental Modeling Sys Inc","ENVIR-Environmental Modeling Sys Inc"]
[null,null,null,null,null,null,"GF03522","[MSB] BG - Strategy Student Support Fund","GF03522-[MSB] BG - Strategy Student Support Fund","Gift","FD20","Active","2025-01-12T03:04:23.623879+00:00",null,null,null,null,null,null,null,null,"ETAYL","Emily Taylor","ETAYL-Emily Taylor"]
[null,null,null,null,null,null,"GF03545","[MSB] BG - MBA Program Annual Fund","GF03545-[MSB] BG - MBA Program Annual Fund","Gift","FD20","Active","2025-01-12T03:04:23.623879+00:00",null,null,null,null,null,null,null,null,"EXPNS","Expense","EXPNS-Expense"]
[null,null,null,null,null,null,"GF03575","[MSB] BG - Centennial Scholarship Fund","GF03575-[MSB] BG - Centennial Scholarship Fund","Gift","FD20","Active","2025-01-12T03:04:23.623879+00:00",null,null,null,null,null,null,null,null,"FFALL","Future Fall","FFALL-Future Fall"]
[null,null,null,null,null,null,"GF03587","[MSE] BG - Smith, Scott-Spec Ed","GF03587-[MSE] BG - Smith, Scott-Spec Ed","Gift","FD20","Active","2025-01-12T03:04:23.623879+00:00",null,null,null,null,null,null,null,null,"FOODS","SFL Foods Lab","FOODS-SFL Foods Lab"]
[null,null,null,null,null,null,"GF03613","[CMS] BG - Cox2 Project","GF03613-[CMS] BG - Cox2 Project","Gift","FD20","Active","2025-01-12T03:04:23.623879+00:00",null,null,null,null,null,null,null,null,"G0531","Graduate CRC Fellowships","G0531-Graduate CRC Fellowships"]
[null,null,null,null,null,null,"GF03634","[CMS] BG - Data Mining Project","GF03634-[CMS] BG - Data Mining Project","Gift","FD20","Active","2025-01-12T03:04:23.623879+00:00",null,null,null,null,null,null,null,null,"G3727","Graduate Visiting Scholars","G3727-Graduate Visiting Scholars"]
[null,null,null,null,null,null,"GF03673","[CMS] BG - Geological Student Aid","GF03673-[CMS] BG - Geological Student Aid","Gift","FD20","Active","2025-01-12T03:04:23.658203+00:00",null,null,null,null,null,null,null,null,"GMCCL","Graduate McCleary, William","GMCCL-Graduate McCleary, William"]
[null,null,null,null,null,null,"GF03690","[CMS] BG - Together For Greatness","GF03690-[CMS] BG - Together For Greatness","Gift","FD20","Active","2025-01-12T03:04:23.658203+00:00",null,null,null,null,null,null,null,null,"GRCLR","Gen Rec Cash Clearing","GRCLR-Gen Rec Cash Clearing"]
[null,null,null,null,null,null,"GF03720","[STLF] BG - Pre-Med Fund","GF03720-[STLF] BG - Pre-Med Fund","Gift","FD20","Active","2025-01-12T03:04:23.658203+00:00",null,null,null,null,null,null,null,null,"GSCYL","Gas Cylinder","GSCYL-Gas Cylinder"]
[null,null,null,null,null,null,"GF03730","[FIN] BG - Restrict Fns Clrng","GF03730-[FIN] BG - Restrict Fns Clrng","Gift","FD20","Active","2025-01-12T03:04:23.658203+00:00",null,null,null,null,null,null,null,null,"GWILS","Graduate Wilson, Eric","GWILS-Graduate Wilson, Eric"]
[null,null,null,null,null,null,"GF03753","[ATH] RG- NCAA One Time Distribution","GF03753-[ATH] RG- NCAA One Time Distribution","Gift","FD28","Active","2025-01-12T03:04:23.658203+00:00",null,null,null,null,null,null,null,null,"HMILL","Hal (Harold) Miller","HMILL-Hal (Harold) Miller"]
[null,null,null,null,null,null,"GF03796","[BYUB] RG- BYU Radio Content Project","GF03796-[BYUB] RG- BYU Radio Content Project","Gift","FD28","Active","2025-03-19T02:04:05.081943+00:00",null,null,null,null,null,null,null,null,"HSDIL","HSDL-CANO IL Tax Withholding","HSDIL-HSDL-CANO IL Tax Withholding"]
[null,null,null,null,null,null,"GF03835","[FHSS] RG- Chamberlain, Solomon","GF03835-[FHSS] RG- Chamberlain, Solomon","Gift","FD28","Active","2025-01-12T03:04:23.658203+00:00",null,null,null,null,null,null,null,null,"ID173","xHyperion (Oracle PBCS) implem","ID173-xHyperion (Oracle PBCS) implem"]
[null,null,null,null,null,null,"GF03857","[INVP] RG- Ukraine Spec Country","GF03857-[INVP] RG- Ukraine Spec Country","Gift","FD28","Active","2025-01-12T03:04:23.710669+00:00",null,null,null,null,null,null,null,null,"IDRGT","LSMM Interdiscipl Research","IDRGT-LSMM Interdiscipl Research"]
[null,null,null,null,null,null,"GF03881","[MSB] RG- Grantwell","GF03881-[MSB] RG- Grantwell","Gift","FD28","Active","2025-01-12T03:04:23.710669+00:00",null,null,null,null,null,null,null,null,"JALLE","JALLE","JALLE-JALLE"]
[null,null,null,null,null,null,"GF03899","[REL] RG- Virtual Tours Project","GF03899-[REL] RG- Virtual Tours Project","Gift","FD28","Active","2025-01-12T03:04:23.710669+00:00",null,null,null,null,null,null,null,null,"JCREG","Due to Jerusalem","JCREG-Due to Jerusalem"]
[null,null,null,null,null,null,"GF03916","[ATH] DG - Cougar Club Ath. Support Fund- Deferred Gift","GF03916-[ATH] DG - Cougar Club Ath. Support Fund- Deferred Gift","Gift","FD21","Active","2025-01-12T03:04:23.710669+00:00",null,null,null,null,null,null,null,null,"JKEAR","J R Kearl","JKEAR-J R Kearl"]
[null,null,null,null,null,null,"GF03934","[STLF] DG - Univ Access Cntr - Donations- Deferred Gift","GF03934-[STLF] DG - Univ Access Cntr - Donations- Deferred Gift","Gift","FD21","Active","2025-01-12T03:04:23.710669+00:00",null,null,null,null,null,null,null,null,"JPRIC","Joseph Price","JPRIC-Joseph Price"]
[null,null,null,null,null,null,"GF03977","[MSE] DG - Coll of Education- Deferred Gift","GF03977-[MSE] DG - Coll of Education- Deferred Gift","Gift","FD21","Active","2025-01-12T03:04:23.710669+00:00",null,null,null,null,null,null,null,null,"K0143","Misc Prod","K0143-Misc Prod"]
[null,null,null,null,null,null,"GF03989","[FIN] DG - Smith, Clint & Donna- Deferred Gift","GF03989-[FIN] DG - Smith, Clint & Donna- Deferred Gift","Gift","FD21","Active","2025-01-12T03:04:23.710669+00:00",null,null,null,null,null,null,null,null,"K0251","VizRt Graphics","K0251-VizRt Graphics"]
[null,null,null,null,null,null,"GF04013","[CE] II - CE Program Scholarship","GF04013-[CE] II - CE Program Scholarship","Gift","FD03","Active","2025-04-09T02:03:42.307079+00:00",null,null,null,null,null,null,null,null,"K0482","Lenses","K0482-Lenses"]
[null,null,null,null,null,null,"GF04034","[ARTS] BG - Barlow 2023","GF04034-[ARTS] BG - Barlow 2023","Gift","FD20","Active","2025-01-12T03:04:23.710669+00:00",null,null,null,null,null,null,null,null,"KDRES","LSND Della Corte, Karen - Rese","KDRES-LSND Della Corte, Karen - Rese"]
[null,null,null,null,null,null,"GF04052","[AVP] BG - Graduate Belonging Fellowships","GF04052-[AVP] BG - Graduate Belonging Fellowships","Gift","FD20","Active","2025-01-12T03:04:23.710669+00:00",null,null,null,null,null,null,null,null,"KWS35","Stiles, Kendall","KWS35-Stiles, Kendall"]
[null,null,null,null,null,null,"GF04073","[ENRL] BG - Future Educator Sig Schol","GF04073-[ENRL] BG - Future Educator Sig Schol","Gift","FD20","Active","2025-01-12T03:04:23.767307+00:00",null,null,null,null,null,null,null,null,"LISRS","[HUM] Language Immersion Student Residence","LISRS-[HUM] Language Immersion Student Residence"]
[null,null,null,null,null,null,"GF04145","[HUM] QE - Rosen, Harold","GF04145-[HUM] QE - Rosen, Harold","Gift","FD29","Active","2025-04-09T02:03:42.38179+00:00",null,null,null,null,null,null,null,null,"LV027","RMDL Mother's Room LVES","LV027-RMDL Mother's Room LVES"]
[null,null,null,null,null,null,"GF04152","[CMS] BG - Rheumatic Relief Student Aid","GF04152-[CMS] BG - Rheumatic Relief Student Aid","Gift","FD20","Active","2025-01-12T03:04:23.767307+00:00",null,null,null,null,null,null,null,null,"LV036","Airgap/Hub Drain to Sinks,LVES","LV036-Airgap/Hub Drain to Sinks,LVES"]
[null,null,null,null,null,null,"GF04186","[ATH] TE - Lansing Family Basketball","GF04186-[ATH] TE - Lansing Family Basketball","Gift","FD23","Active","2025-04-09T02:03:42.38179+00:00",null,null,null,null,null,null,null,null,"M1917","Carpet - R6","M1917-Carpet - R6"]
[null,null,null,null,null,null,"GF04203","[ATH] TE - Brand Family Endowed Athletic Scholarship Fund #2","GF04203-[ATH] TE - Brand Family Endowed Athletic Scholarship Fund #2","Gift","FD23","Active","2025-04-09T02:03:42.38179+00:00",null,null,null,null,null,null,null,null,"M1944","Campus Fiber Cabling Infr.","M1944-Campus Fiber Cabling Infr."]
[null,null,null,null,null,null,"GF04220","[CMS] PE - Reed M. & Helen F. Izatt Endowed Fund","GF04220-[CMS] PE - Reed M. & Helen F. Izatt Endowed Fund","Gift","FD21","Active","2025-01-18T03:04:40.253559+00:00",null,null,null,null,null,null,null,null,"M1965","Video Equipment - T2","M1965-Video Equipment - T2"]
[null,null,null,null,null,null,"GF04241","[CMS] PE - Parrish Family  Endowed Fund in Computer Science","GF04241-[CMS] PE - Parrish Family  Endowed Fund in Computer Science","Gift","FD21","Active","2025-01-18T03:04:40.253559+00:00",null,null,null,null,null,null,null,null,"M1992","2019 Sale of MTC ITI Surplus","M1992-2019 Sale of MTC ITI Surplus"]
[null,null,null,null,null,null,"GF04261","[ARTS] PE - Ben Sweat Ballroom Dance endowed Scholarship Fund","GF04261-[ARTS] PE - Ben Sweat Ballroom Dance endowed Scholarship Fund","Gift","FD21","Active","2025-01-18T03:04:41.976003+00:00",null,null,null,null,null,null,null,null,"M2022","Networked Printer Replacements","M2022-Networked Printer Replacements"]
[null,null,null,null,null,null,"GF04303","[NURS] QE - College of Nursing Graduate Scholarships Quasi Endowment","GF04303-[NURS] QE - College of Nursing Graduate Scholarships Quasi Endowment","Gift","FD29","Active","2025-04-09T02:03:42.38179+00:00",null,null,null,null,null,null,null,null,"M2072","Athletic Equipment - MTC","M2072-Athletic Equipment - MTC"]
[null,null,null,null,null,null,"GF04320","[AER] BG - St. George, UT Management Society Scholarships","GF04320-[AER] BG - St. George, UT Management Society Scholarships","Gift","FD20","Active","2025-01-12T03:04:23.80315+00:00",null,null,null,null,null,null,null,null,"M2097","BYU West Remodel","M2097-BYU West Remodel"]
[null,null,null,null,null,null,"GF04337","[INVP] TE - Lighting the World through Folk Dance Endowed Fund","GF04337-[INVP] TE - Lighting the World through Folk Dance Endowed Fund","Gift","FD23","Active","2025-04-09T02:03:42.38179+00:00",null,null,null,null,null,null,null,null,"M2116","In-Field Coaching ZoomRm Equip","M2116-In-Field Coaching ZoomRm Equip"]
[null,null,null,null,null,null,"GF04358","[AER] BG - Civil Engineering - Alumni Chapter Scholarships","GF04358-[AER] BG - Civil Engineering - Alumni Chapter Scholarships","Gift","FD20","Active","2025-01-12T03:04:23.80315+00:00",null,null,null,null,null,null,null,null,"M2147","Restroom Retrofits - MTC","M2147-Restroom Retrofits - MTC"]
[null,null,null,null,null,null,"GF04375","[AER] BG - Native American - Alumni Chapter Scholarships","GF04375-[AER] BG - Native American - Alumni Chapter Scholarships","Gift","FD20","Active","2025-01-12T03:04:23.80315+00:00",null,null,null,null,null,null,null,null,"M2170","MTC TV Replacement","M2170-MTC TV Replacement"]
[null,null,null,null,null,null,"GF04402","[AER] BG - NY Syracuse - Alumni Chapter Scholarships","GF04402-[AER] BG - NY Syracuse - Alumni Chapter Scholarships","Gift","FD20","Active","2025-01-12T03:04:23.80315+00:00",null,null,null,null,null,null,null,null,"M2250","One-off Blind Replacement MTC","M2250-One-off Blind Replacement MTC"]
[null,null,null,null,null,null,"GF04436","[CE] II - CE Dean's Discretionary","GF04436-[CE] II - CE Dean's Discretionary","Gift","FD02","Active","2025-04-09T02:03:42.464861+00:00",null,null,null,null,null,null,null,null,"M2284","Printer Replacements","M2284-Printer Replacements"]
[null,null,null,null,null,null,"GF04454","[ARTS] TE - BYU Men's Chorus Endowed Fund","GF04454-[ARTS] TE - BYU Men's Chorus Endowed Fund","Gift","FD23","Active","2025-04-09T02:03:42.464861+00:00",null,null,null,null,null,null,null,null,"M2301","S2 Medical Dental Remodel","M2301-S2 Medical Dental Remodel"]
[null,null,null,null,null,null,"GF04475","[ENG] PE - Construction Management Class of 2006 Endowed Fund","GF04475-[ENG] PE - Construction Management Class of 2006 Endowed Fund","Gift","FD21","Active","2025-04-09T02:03:42.464861+00:00",null,null,null,null,null,null,null,null,"M2323","Upgrade T4 Missionary Lab Head","M2323-Upgrade T4 Missionary Lab Head"]
[null,null,null,null,null,null,"GF04492","[LAWS] PE - Kenneth Thompson McCleve Endowed Fund","GF04492-[LAWS] PE - Kenneth Thompson McCleve Endowed Fund","Gift","FD21","Active","2025-04-09T02:03:42.464861+00:00",null,null,null,null,null,null,null,null,"M2341","S3 Room Refnish Hardwood Floor","M2341-S3 Room Refnish Hardwood Floor"]
[null,null,null,null,null,null,"GR00018","[ENG] Fry-DOE-Testing and model -based optim","GR00018-[ENG] Fry-DOE-Testing and model -based optim","Grant","FD05","Active","2025-03-05T16:04:22.838397+00:00",null,null,null,null,null,null,null,null,"M2399","PZT Exterior Camera","M2399-PZT Exterior Camera"]
[null,null,null,null,null,null,"GR00036","[ENG] AW00258 Subaward 22-0582-Agricultural Research Service, USDA","GR00036-[ENG] AW00258 Subaward 22-0582-Agricultural Research Service, USDA","Grant","FD05","Active","2025-04-08T02:03:43.196923+00:00",null,null,null,null,null,null,null,null,"M2422","Game Ready Replacement","M2422-Game Ready Replacement"]
[null,null,null,null,null,null,"GR00175","[ENG] Smalley-NSF-Breakthrough Display Technolog","GR00175-[ENG] Smalley-NSF-Breakthrough Display Technolog","Grant","FD05","Active","2025-03-25T02:03:53.792937+00:00",null,null,null,null,null,null,null,null,"M2484","[MTC] T2 & Parking Garage UPS Maintenance","M2484-[MTC] T2 & Parking Garage UPS Maintenance"]
[null,null,null,null,null,null,"GR00271","[ENG] Hovanski-Pacific Northwest National Lab-Center of Friction Stir Proces","GR00271-[ENG] Hovanski-Pacific Northwest National Lab-Center of Friction Stir Proces","Grant","FD05","Active","2025-03-19T02:04:04.74007+00:00",null,null,null,null,null,null,null,null,"M4679","HCEB, Office Space","M4679-HCEB, Office Space"]
[null,null,null,null,null,null,"GR00340","[ENG] Mattson-USAF Academy-Effective Use of Product Archi","GR00340-[ENG] Mattson-USAF Academy-Effective Use of Product Archi","Grant","FD05","Active","2025-02-28T03:03:53.009936+00:00",null,null,null,null,null,null,null,null,"M6227","HBLL 4740 Remodel","M6227-HBLL 4740 Remodel"]
[null,null,null,null,null,null,"GR00494","[FHSS] Cannon-The Church of Jesus Christ-Ottoman Census of Palestine In","GR00494-[FHSS] Cannon-The Church of Jesus Christ-Ottoman Census of Palestine In","Grant","FD05","Active","2025-04-03T02:04:43.922927+00:00",null,null,null,null,null,null,null,null,"M6759","TNRB 561/591, Remodel","M6759-TNRB 561/591, Remodel"]
[null,null,null,null,null,null,"GR00567","[LFSC] Whiting-Texas AandM Univ-NSFDEB-NERC: Integrating phylo","GR00567-[LFSC] Whiting-Texas AandM Univ-NSFDEB-NERC: Integrating phylo","Grant","FD05","Active","2025-03-06T03:04:07.254647+00:00",null,null,null,null,null,null,null,null,"M7433","SAB Replace Roof","M7433-SAB Replace Roof"]
[null,null,null,null,null,null,"GR00713","[LFSC] Jellen-Dept of Agriculture-Avena Pangenome","GR00713-[LFSC] Jellen-Dept of Agriculture-Avena Pangenome","Grant","FD05","Active","2025-01-12T03:04:22.202228+00:00",null,null,null,null,null,null,null,null,"M8448","HBLL 2082/2084 Remodel","M8448-HBLL 2082/2084 Remodel"]
[null,null,null,null,null,null,"GR00847","[CMS] Willardson-NIH-Diversity Supplement for NIH G","GR00847-[CMS] Willardson-NIH-Diversity Supplement for NIH G","Grant","FD05","Active","2025-02-16T03:03:27.511022+00:00",null,null,null,null,null,null,null,null,"M9151","ESC Mech Controls","M9151-ESC Mech Controls"]
[null,null,null,null,null,null,"GR00967","[CMS] Deccio-Comcast Corporation-Assessing the Accessibility an","GR00967-[CMS] Deccio-Comcast Corporation-Assessing the Accessibility an","Grant","FD05","Active","2025-03-21T02:04:04.659901+00:00",null,null,null,null,null,null,null,null,"MATRE","Multi Art Rental","MATRE-Multi Art Rental"]
[null,null,null,null,null,null,"GR01051","[CMS] Lu-Simons Foundation-Complicated Dynamics for Infin","GR01051-[CMS] Lu-Simons Foundation-Complicated Dynamics for Infin","Grant","FD05","Active","2025-03-14T02:03:41.433601+00:00",null,null,null,null,null,null,null,null,"MCOPE","Michael Cope","MCOPE-Michael Cope"]
[null,null,null,null,null,null,"GR01166","[ENG] Judd-Simpson Strong-Tie Co-Effect of over-strength factor","GR01166-[ENG] Judd-Simpson Strong-Tie Co-Effect of over-strength factor","Grant","FD05","Active","2025-04-03T02:04:43.922927+00:00",null,null,null,null,null,null,null,null,"ME415","ME415","ME415-ME415"]
[null,null,null,null,null,null,"GR01184","[ENG] Fullwood-NSF-Collaborative Research: GOALI:","GR01184-[ENG] Fullwood-NSF-Collaborative Research: GOALI:","Grant","FD05","Active","2025-01-12T03:04:22.296791+00:00",null,null,null,null,null,null,null,null,"ME479","International Product Design","ME479-International Product Design"]
[null,null,null,null,null,null,"GR01216","[LFSC] Jarvis-King Abdullah Univ-Uncovering the wild genetic di","GR01216-[LFSC] Jarvis-King Abdullah Univ-Uncovering the wild genetic di","Grant","FD05","Active","2025-01-12T03:04:22.296791+00:00",null,null,null,null,null,null,null,null,"ME576","ME576","ME576-ME576"]
[null,null,null,null,null,null,"GR01239","[CMS] Snell-Sandia National Labs-Transformers for Cybersecurity","GR01239-[CMS] Snell-Sandia National Labs-Transformers for Cybersecurity","Grant","FD05","Active","2025-02-16T03:03:27.511022+00:00",null,null,null,null,null,null,null,null,"MEQLR","Multi Equipment Loss/Repair","MEQLR-Multi Equipment Loss/Repair"]
[null,null,null,null,null,null,"GR01309","[ENG] Warnick-Army-FPGA - Based Array Signal Proc","GR01309-[ENG] Warnick-Army-FPGA - Based Array Signal Proc","Grant","FD05","Active","2025-03-06T03:04:07.254647+00:00",null,null,null,null,null,null,null,null,"MISCW","Misc women","MISCW-Misc women"]
[null,null,null,null,null,null,"GR01369","[FHSS] Coyne-Georgetown Univ-Early childhood and digital me","GR01369-[FHSS] Coyne-Georgetown Univ-Early childhood and digital me","Grant","FD05","Active","2025-01-12T03:04:22.339521+00:00",null,null,null,null,null,null,null,null,"MMJ44","Jensen, Marcus M.","MMJ44-Jensen, Marcus M."]
[null,null,null,null,null,null,"GR01394","[FHSS] Wilson-Boston College-Benefit Generosity, Take-up, a","GR01394-[FHSS] Wilson-Boston College-Benefit Generosity, Take-up, a","Grant","FD05","Active","2025-02-16T03:03:27.511022+00:00",null,null,null,null,null,null,null,null,"MRIRF","MRI Research Facility","MRIRF-MRI Research Facility"]
[null,null,null,null,null,null,"GR01415","[ENG] Homer-Massachusetts Institute of Tech-GOALI: Collaborative Research:","GR01415-[ENG] Homer-Massachusetts Institute of Tech-GOALI: Collaborative Research:","Grant","FD05","Active","2025-01-12T03:04:22.339521+00:00",null,null,null,null,null,null,null,null,"MSTRE","Multicam Set Const Rental","MSTRE-Multicam Set Const Rental"]
[null,null,null,null,null,null,"GR01458","[FHSS] Holt-Lunstad-George Washington Univ-Extending the Table: Does Shab","GR01458-[FHSS] Holt-Lunstad-George Washington Univ-Extending the Table: Does Shab","Grant","FD05","Active","2025-01-12T03:04:22.339521+00:00",null,null,null,null,null,null,null,null,"MTDPS","Multi Tech Dir Payroll","MTDPS-Multi Tech Dir Payroll"]
[null,null,null,null,null,null,"GR01489","[LFSC] Madsen-Rio Tinto Kennecott-Improving Vegetation Establish","GR01489-[LFSC] Madsen-Rio Tinto Kennecott-Improving Vegetation Establish","Grant","FD05","Active","2025-03-20T02:04:12.994064+00:00",null,null,null,null,null,null,null,null,"MWOOD","Michael Wood","MWOOD-Michael Wood"]
[null,null,null,null,null,null,"GR01536","[ENG] Rappleye-Lawrence Livermore National Labs-Preliminary Optimization of El","GR01536-[ENG] Rappleye-Lawrence Livermore National Labs-Preliminary Optimization of El","Grant","FD05","Active","2025-03-05T16:04:23.03584+00:00",null,null,null,null,null,null,null,null,"N1650","ASB D155 Vault Anteroom","N1650-ASB D155 Vault Anteroom"]
[null,null,null,null,null,null,"GR01553","[LFSC] Adams-Univ of Colorado, Boulder-LTER: The Roles of Legacy and","GR01553-[LFSC] Adams-Univ of Colorado, Boulder-LTER: The Roles of Legacy and","Grant","FD05","Active","2025-01-12T03:04:22.339521+00:00",null,null,null,null,null,null,null,null,"N1994","JKB Police Suite, Remodel","N1994-JKB Police Suite, Remodel"]
[null,null,null,null,null,null,"GR01585","[CMS] Watt-Cures Within Reach-Treating Anemia in Myelofibros","GR01585-[CMS] Watt-Cures Within Reach-Treating Anemia in Myelofibros","Grant","FD05","Active","2025-04-08T02:03:43.196923+00:00",null,null,null,null,null,null,null,null,"N3110","HCEB 303 Remodel","N3110-HCEB 303 Remodel"]
[null,null,null,null,null,null,"GR01606","[ENG] Richards-DuraFuse Frames-Cyclic Behavior of Structural","GR01606-[ENG] Richards-DuraFuse Frames-Cyclic Behavior of Structural","Grant","FD05","Active","2025-03-05T16:04:23.03584+00:00",null,null,null,null,null,null,null,null,"N3903","FPH 107 Replace Floor","N3903-FPH 107 Replace Floor"]
[null,null,null,null,null,null,"GR01624","[ENG] Mangelson-DOD ONR N000142412301-Modeling Natural Dynamic Scenes for Autonomous Littoral Operations","GR01624-[ENG] Mangelson-DOD ONR N000142412301-Modeling Natural Dynamic Scenes for Autonomous Littoral Operations","Grant","FD05","Active","2025-03-01T03:03:25.44141+00:00",null,null,null,null,null,null,null,null,"N4584","CB 494 Remodel","N4584-CB 494 Remodel"]
[null,null,null,null,null,null,"GR01643","[LFSC] StClair-UDNR 242217-Megafire impacts on terrestrial and aquatic ecosystems 24-25","GR01643-[LFSC] StClair-UDNR 242217-Megafire impacts on terrestrial and aquatic ecosystems 24-25","Grant","FD05","Active","2025-01-12T03:04:22.392553+00:00",null,null,null,null,null,null,null,null,"N4827","BRMB 120A Reconfigure","N4827-BRMB 120A Reconfigure"]
[null,null,null,null,null,null,"GR01670","[ENG] Mangelson-DOD ONR N000142412503-Simulation of Dynamic Coastal Scenes for Semantic Autonomy","GR01670-[ENG] Mangelson-DOD ONR N000142412503-Simulation of Dynamic Coastal Scenes for Semantic Autonomy","Grant","FD05","Active","2025-01-12T03:04:22.392553+00:00",null,null,null,null,null,null,null,null,"N5723","CTB 101A, Remodel","N5723-CTB 101A, Remodel"]
[null,null,null,null,null,null,"GR01708","[ENG] AW00425 Subaward 23-0605-University of Kansas Center for Research","GR01708-[ENG] AW00425 Subaward 23-0605-University of Kansas Center for Research","Grant","FD05","Active","2025-04-08T02:03:43.196923+00:00",null,null,null,null,null,null,null,null,"N6978","MLRP 110 Readers","N6978-MLRP 110 Readers"]
[null,null,null,null,null,null,"GR01755","[CMS] Sandberg-DOE-Advanced Imaging of intergranular strain dynamics-SC0022133","GR01755-[CMS] Sandberg-DOE-Advanced Imaging of intergranular strain dynamics-SC0022133","Grant","FD05","Active","2025-03-14T02:03:41.433601+00:00",null,null,null,null,null,null,null,null,"ND194","NDFS 194","ND194-NDFS 194"]
[null,null,null,null,null,null,"GR01772","[ENG ] Rappleye-DOE LLNL B666185-Refinement of the Automation of Actinide Electrorefining Using Surrogates","GR01772-[ENG ] Rappleye-DOE LLNL B666185-Refinement of the Automation of Actinide Electrorefining Using Surrogates","Grant","FD05","Active","2025-03-06T03:04:09.120458+00:00",null,null,null,null,null,null,null,null,"ND400","NDFS 400","ND400-NDFS 400"]
[null,null,null,null,null,null,"GR01790","[ENG ] Ames-DOC NOAA UA A24-0501-S001-Advancing Community NextGen and NextGen In A Box (NGIAB)","GR01790-[ENG ] Ames-DOC NOAA UA A24-0501-S001-Advancing Community NextGen and NextGen In A Box (NGIAB)","Grant","FD05","Active","2025-03-06T03:04:09.120458+00:00",null,null,null,null,null,null,null,null,"ND502","NDFS 502","ND502-NDFS 502"]
[null,null,null,null,null,null,"GR01811","[ENG ] Crane-DOE PANTEX-Investigations into Binder Jetting","GR01811-[ENG ] Crane-DOE PANTEX-Investigations into Binder Jetting","Grant","FD05","Active","2025-04-02T02:04:30.253716+00:00",null,null,null,null,null,null,null,null,"NNIEL","Natalie Nielson","NNIEL-Natalie Nielson"]
[null,null,null,null,null,null,"GR02013","[ENG] Guymon-Uiowa/NIH-Zwitterionic Hydrogel S05352-01","GR02013-[ENG] Guymon-Uiowa/NIH-Zwitterionic Hydrogel S05352-01","Grant","FD05","Active","2025-03-06T03:04:09.120458+00:00",null,null,null,null,null,null,null,null,"OPP23","Opportunity Scholarship 2023","OPP23-Opportunity Scholarship 2023"]
[null,null,null,null,null,null,"GR02059","[LS]Hansen-USU/4R-Irrigation 4R's 202303-646","GR02059-[LS]Hansen-USU/4R-Irrigation 4R's 202303-646","Grant","FD05","Active","2025-03-13T02:03:45.777917+00:00",null,null,null,null,null,null,null,null,"P0805","Pest Control Specialist","P0805-Pest Control Specialist"]
[null,null,null,null,null,null,"PJ000000009","[AVP] Friction Stir Pipe Welding","PJ000000009-[AVP] Friction Stir Pipe Welding","Project","FD03","Active","2025-01-23T03:04:39.611235+00:00",null,null,null,null,null,null,null,null,"P0912","Gardening Specialist - G","P0912-Gardening Specialist - G"]
[null,null,null,null,null,null,"PJ000000026","[ARTS] BRAVO! Ira Glass: 7 Things I'v","PJ000000026-[ARTS] BRAVO! Ira Glass: 7 Things I'v","Project","FD02","Active","2025-01-12T03:04:20.913937+00:00",null,null,null,null,null,null,null,null,"P1502","High Work/Tunnel/Safety Spec","P1502-High Work/Tunnel/Safety Spec"]
[null,null,null,null,null,null,"PJ000000047","[AVP] Akedah (The Binding)","PJ000000047-[AVP] Akedah (The Binding)","Project","FD03","Active","2025-01-12T03:04:20.913937+00:00",null,null,null,null,null,null,null,null,"P2401","Carpenter Projects Lead","P2401-Carpenter Projects Lead"]
[null,null,null,null,null,null,"PJ000000078","[ARTS] Winter-Winter Opera: American Ghost S","PJ000000078-[ARTS] Winter-Winter Opera: American Ghost S","Project","FD02","Active","2025-01-12T03:04:20.913937+00:00",null,null,null,null,null,null,null,null,"P2700","Access Management","P2700-Access Management"]
[null,null,null,null,null,null,"PJ000000082","[ARTS] Winter-American Piano Quartet","PJ000000082-[ARTS] Winter-American Piano Quartet","Project","FD02","Active","2025-01-12T03:04:20.913937+00:00",null,null,null,null,null,null,null,null,"P2704","C-cure and Key Office Support","P2704-C-cure and Key Office Support"]
[null,null,null,null,null,null,"PJ000000103","[ARTS] TMA: 536 Fall Project","PJ000000103-[ARTS] TMA: 536 Fall Project","Project","FD02","Active","2025-01-12T03:04:20.913937+00:00",null,null,null,null,null,null,null,null,"P3310","Elevator Mechanic 1","P3310-Elevator Mechanic 1"]
[null,null,null,null,null,null,"PJ000000142","[ARTS] Fall-dancEnsemble","PJ000000142-[ARTS] Fall-dancEnsemble","Project","FD02","Active","2025-01-12T03:04:20.913937+00:00",null,null,null,null,null,null,null,null,"PC058","Cust Area 5 SFH 5","PC058-Cust Area 5 SFH 5"]
[null,null,null,null,null,null,"PJ000000159","[ARTS] BYU Music Group","PJ000000159-[ARTS] BYU Music Group","Project","FD02","Active","2025-01-12T03:04:21.010112+00:00",null,null,null,null,null,null,null,null,"PC203","Cust Area 20 TNRB 2","PC203-Cust Area 20 TNRB 2"]
[null,null,null,null,null,null,"PJ000000180","[ARTS] C&W: Youth Ballroom Dance Camp","PJ000000180-[ARTS] C&W: Youth Ballroom Dance Camp","Project","FD02","Active","2025-01-12T03:04:21.010112+00:00",null,null,null,null,null,null,null,null,"PC452","Cust Area 45 BNSN 1","PC452-Cust Area 45 BNSN 1"]
[null,null,null,null,null,null,"PJ000000206","[ARTS] Fall-SOM: Guest Artists","PJ000000206-[ARTS] Fall-SOM: Guest Artists","Project","FD02","Active","2025-01-12T03:04:21.010112+00:00",null,null,null,null,null,null,null,null,"PC805","Cust Area 80 ESC 2","PC805-Cust Area 80 ESC 2"]
[null,null,null,null,null,null,"PJ000000219","[ARTS] Fall-Instrumental Showcase","PJ000000219-[ARTS] Fall-Instrumental Showcase","Project","FD02","Active","2025-01-12T03:04:21.010112+00:00",null,null,null,null,null,null,null,null,"PC954","Cust Area 95 AKH","PC954-Cust Area 95 AKH"]
[null,null,null,null,null,null,"PJ000000236","[ARTS] Fall-Symphony Orchestra","PJ000000236-[ARTS] Fall-Symphony Orchestra","Project","FD02","Active","2025-01-12T03:04:21.010112+00:00",null,null,null,null,null,null,null,null,"PCZ04","Cust Zone 4 Area Manager","PCZ04-Cust Zone 4 Area Manager"]
[null,null,null,null,null,null,"PJ000000275","[ARTS] Winter-BYU Men's Chorus","PJ000000275-[ARTS] Winter-BYU Men's Chorus","Project","FD02","Active","2025-01-12T03:04:21.100378+00:00",null,null,null,null,null,null,null,null,"PEVAN","LSMM Evans, R Paul","PEVAN-LSMM Evans, R Paul"]
[null,null,null,null,null,null,"PJ000000297","[ADM] CNA Maintenance 2022 - LVES","PJ000000297-[ADM] CNA Maintenance 2022 - LVES","Project","FD06","Active","2025-01-12T03:04:17.512046+00:00",null,null,null,null,null,null,null,null,"PH761","West View Building","PH761-West View Building"]
[null,null,null,null,null,null,"PJ000000314","[ADM] CNA RETROFIT","PJ000000314-[ADM] CNA RETROFIT","Project","FD06","Active","2025-01-31T03:05:04.561931+00:00",null,null,null,null,null,null,null,null,"PH785","WSC 2900, BYU Store Phase II","PH785-WSC 2900, BYU Store Phase II"]
[null,null,null,null,null,null,"PJ000000336","[ADM] UPGRD PUMP,UTIL,DOORWAY 154-CB","PJ000000336-[ADM] UPGRD PUMP,UTIL,DOORWAY 154-CB","Project","FD06","Active","2025-01-31T03:05:04.561931+00:00",null,null,null,null,null,null,null,null,"PH918","MTC S1, (ESTIMATE)  Mechanical","PH918-MTC S1, (ESTIMATE)  Mechanical"]
[null,null,null,null,null,null,"PJ000000353","[ADM] Chalkboards & Whiteboards-CMPS","PJ000000353-[ADM] Chalkboards & Whiteboards-CMPS","Project","FD06","Active","2025-01-31T03:05:04.561931+00:00",null,null,null,null,null,null,null,null,"PLBVR","Political Behavior","PLBVR-Political Behavior"]
[null,null,null,null,null,null,"PJ000000370","[ADM] Conference Table and Chair-ASB","PJ000000370-[ADM] Conference Table and Chair-ASB","Project","FD06","Active","2025-01-31T03:05:04.561931+00:00",null,null,null,null,null,null,null,null,"PPBOA","Radio DeepBl Promo-On-air","PPBOA-Radio DeepBl Promo-On-air"]
[null,null,null,null,null,null,"PJ000000413","[ADM] New Office Chairs for SDS-WSC","PJ000000413-[ADM] New Office Chairs for SDS-WSC","Project","FD06","Active","2025-01-31T03:05:04.561931+00:00",null,null,null,null,null,null,null,null,"PSYSW","Pol Sci Young Scholars Worksho","PSYSW-Pol Sci Young Scholars Worksho"]
[null,null,null,null,null,null,"PJ000000430","[ADM] RMDL Cubicles 2102 - ITB","PJ000000430-[ADM] RMDL Cubicles 2102 - ITB","Project","FD06","Active","2025-01-31T03:05:04.561931+00:00",null,null,null,null,null,null,null,null,"PTF14","Technology Planning","PTF14-Technology Planning"]
[null,null,null,null,null,null,"PJ000000442","[ADM] UPDT Managers House-LMH","PJ000000442-[ADM] UPDT Managers House-LMH","Project","FD06","Active","2025-01-31T03:05:04.561931+00:00",null,null,null,null,null,null,null,null,"PWRES","LSND Williams, Pauline - Resea","PWRES-LSND Williams, Pauline - Resea"]
[null,null,null,null,null,null,"PJ000000469","[ADM] Advertise. RMDL Furniture-KMBL","PJ000000469-[ADM] Advertise. RMDL Furniture-KMBL","Project","FD06","Active","2025-01-31T03:05:06.057765+00:00",null,null,null,null,null,null,null,null,"REGIS","Motor Pool Registration Fees","REGIS-Motor Pool Registration Fees"]
[null,null,null,null,null,null,"PJ000000486","[ADM] ORDR FRNTR STDY AREA 2302-HBLL","PJ000000486-[ADM] ORDR FRNTR STDY AREA 2302-HBLL","Project","FD06","Active","2025-01-31T03:05:06.057765+00:00",null,null,null,null,null,null,null,null,"RKB44","R. Kirk Belnap","RKB44-R. Kirk Belnap"]
[null,null,null,null,null,null,"PJ000000507","[ADM] RENOVATE 3 ROOMS-TLRB","PJ000000507-[ADM] RENOVATE 3 ROOMS-TLRB","Project","FD06","Active","2025-01-31T03:05:06.057765+00:00",null,null,null,null,null,null,null,null,"RRRES","LSND Richards, Rickelle - Rese","RRRES-LSND Richards, Rickelle - Rese"]
[null,null,null,null,null,null,"PJ000000546","[AER] RPLC Concourse Tile-MC","PJ000000546-[AER] RPLC Concourse Tile-MC","Project","FD02","Active","2025-01-31T03:05:06.057765+00:00",null,null,null,null,null,null,null,null,"SBRAD","Scott Bradford","SBRAD-Scott Bradford"]
[null,null,null,null,null,null,"PJ000000549","[HCEN] 25 STEELCASE THINK CHAIRS-SHC","PJ000000549-[HCEN] 25 STEELCASE THINK CHAIRS-SHC","Project","FD02","Active","2025-01-31T03:05:06.057765+00:00",null,null,null,null,null,null,null,null,"SCCRF","[AVP] SCCRF (Simmons Cancer Center Research Fellow)","SCCRF-[AVP] SCCRF (Simmons Cancer Center Research Fellow)"]
[null,null,null,null,null,null,"PJ000000585","[ADM] 2021-IT AMPS Access Tuit Offse","PJ000000585-[ADM] 2021-IT AMPS Access Tuit Offse","Project","FD06","Active","2025-01-12T03:04:19.485198+00:00",null,null,null,null,null,null,null,null,"SJOHN","LSMM Johnson, Steven","SJOHN-LSMM Johnson, Steven"]
[null,null,null,null,null,null,"PJ000000602","[ADM] UVC LIGHT EMITTERS - MOA","PJ000000602-[ADM] UVC LIGHT EMITTERS - MOA","Project","FD02","Active","2025-01-31T03:05:06.23028+00:00",null,null,null,null,null,null,null,null,"SMSGT","Text Messaging","SMSGT-Text Messaging"]
[null,null,null,null,null,null,"PJ000000623","[ADM] Furniture Install - HBLL","PJ000000623-[ADM] Furniture Install - HBLL","Project","FD06","Active","2025-01-31T03:05:06.23028+00:00",null,null,null,null,null,null,null,null,"STDEP","Interest - Student Deposits","STDEP-Interest - Student Deposits"]
[null,null,null,null,null,null,"PJ000000640","[ADM] RMDL Blue Zone - LVES","PJ000000640-[ADM] RMDL Blue Zone - LVES","Project","FD06","Active","2025-01-31T03:05:06.23028+00:00",null,null,null,null,null,null,null,null,"STXFL","State Tax - FL","STXFL-State Tax - FL"]
[null,null,null,null,null,null,"PJ000000679","[ADM] UPDT WEST CRRDR FL 2-MCDB","PJ000000679-[ADM] UPDT WEST CRRDR FL 2-MCDB","Project","FD06","Active","2025-01-31T03:05:04.561931+00:00",null,null,null,null,null,null,null,null,"STXWI","State Tax - WI","STXWI-State Tax - WI"]
[null,null,null,null,null,null,"PJ000000689","[ADM] BUILD 4 DISPLAY CASES - HBLL","PJ000000689-[ADM] BUILD 4 DISPLAY CASES - HBLL","Project","FD06","Active","2025-01-31T03:05:06.23028+00:00",null,null,null,null,null,null,null,null,"SV007","AV Equipment Rental & Delivery","SV007-AV Equipment Rental & Delivery"]
[null,null,null,null,null,null,"PJ000000718","[ADM] CNA DUAL VAV BOX RPLCMNT-MOA","PJ000000718-[ADM] CNA DUAL VAV BOX RPLCMNT-MOA","Project","FD06","Active","2025-01-31T03:05:04.561931+00:00",null,null,null,null,null,null,null,null,"SV039","Technology Support & Operation","SV039-Technology Support & Operation"]
[null,null,null,null,null,null,"PJ000000735","[AVP] D2020-048 Varroa L-BeeKeeping","PJ000000735-[AVP] D2020-048 Varroa L-BeeKeeping","Project","FD03","Active","2025-01-23T03:04:39.611235+00:00",null,null,null,null,null,null,null,null,"SV066","Monitoring","SV066-Monitoring"]
[null,null,null,null,null,null,"PJ000000756","[AVP] Step by Step Phase II","PJ000000756-[AVP] Step by Step Phase II","Project","FD03","Active","2025-01-12T03:04:21.100378+00:00",null,null,null,null,null,null,null,null,"TBIGR","TBI Group Brain Injury","TBIGR-TBI Group Brain Injury"]
[null,null,null,null,null,null,"PJ000000773","[AVP] L71 US SYN Corp","PJ000000773-[AVP] L71 US SYN Corp","Project","FD03","Active","2025-01-23T03:04:39.611235+00:00",null,null,null,null,null,null,null,null,"TRAVL","Travel Card","TRAVL-Travel Card"]
[null,null,null,null,null,null,"PJ000000796","[AVP] Linguistically Diverse Guide","PJ000000796-[AVP] Linguistically Diverse Guide","Project","FD03","Active","2025-01-12T03:04:21.100378+00:00",null,null,null,null,null,null,null,null,"TRXOR","Transit Tax - Oregon","TRXOR-Transit Tax - Oregon"]
[null,null,null,null,null,null,"PJ000000835","[AVP] Closing of Geneva Steel","PJ000000835-[AVP] Closing of Geneva Steel","Project","FD03","Active","2025-01-12T03:04:20.913937+00:00",null,null,null,null,null,null,null,null,"WEBTM","Web Development Team","WEBTM-Web Development Team"]
[null,null,null,null,null,null,"PJ000000852","[ADM] RPLC MITSUBISHI 30 KVA UPS-CTB","PJ000000852-[ADM] RPLC MITSUBISHI 30 KVA UPS-CTB","Project","FD06","Active","2025-01-31T03:05:06.23028+00:00",null,null,null,null,null,null,null,null,"XILNX","Xilinx","XILNX-Xilinx"]
[null,null,null,null,null,null,"PJ000000873","[AVP] Pagu Va","PJ000000873-[AVP] Pagu Va","Project","FD03","Active","2025-01-12T03:04:21.010112+00:00",null,null,null,null,null,null,null,null,"YTEAC","Y Teach History Association","YTEAC-Y Teach History Association"]
[null,null,null,null,null,null,"PJ000000890","[ARTS] Communications: Listen Up Seri","PJ000000890-[ARTS] Communications: Listen Up Seri","Project","FD02","Active","2025-01-12T03:04:21.010112+00:00",null,null,null,null,null,null,null,null,"Z0382","Z03 Curatorial","Z0382-Z03 Curatorial"]
[null,null,null,null,null,null,"PJ000000907","[AVP] Beede-Unders. Lang. Acquis.","PJ000000907-[AVP] Beede-Unders. Lang. Acquis.","Project","FD03","Active","2025-01-12T03:04:21.010112+00:00",null,null,null,null,null,null,null,null,"Z0622","Z06 Exhibition Opening Event","Z0622-Z06 Exhibition Opening Event"]
[null,null,null,null,null,null,"PJ000000925","[ARTS] Winter-Symphony Orchestra","PJ000000925-[ARTS] Winter-Symphony Orchestra","Project","FD02","Active","2025-01-12T03:04:21.010112+00:00",null,null,null,null,null,null,null,null,"Z0788","Z07 Marketing","Z0788-Z07 Marketing"]
[null,null,null,null,null,null,"PJ000000968","[AVP] Virtual Audiometer-on campus","PJ000000968-[AVP] Virtual Audiometer-on campus","Project","FD03","Active","2025-01-12T03:04:21.010112+00:00",null,null,null,null,null,null,null,null,"Z1312","Z13 Exhibition Shipping","Z1312-Z13 Exhibition Shipping"]
[null,null,null,null,null,null,"PJ000000989","[AVP] Live and Kicking","PJ000000989-[AVP] Live and Kicking","Project","FD03","Active","2025-01-12T03:04:21.010112+00:00",null,null,null,null,null,null,null,null,"Z1634","Z16 Painting","Z1634-Z16 Painting"]
[null,null,null,null,null,null,"PJ000001006","[AVP] Diantha's Crossing","PJ000001006-[AVP] Diantha's Crossing","Project","FD03","Active","2025-01-12T03:04:21.100378+00:00",null,null,null,null,null,null,null,null,"Z1788","Z17 Marketing","Z1788-Z17 Marketing"]
[null,null,null,null,null,null,"PJ000001023","[AVP] Alternate Reality Experience","PJ000001023-[AVP] Alternate Reality Experience","Project","FD03","Active","2025-01-12T03:04:21.010112+00:00"]
[null,null,null,null,null,null,"PJ000001055","[AVP] Animated Strategy Mini-Lecture","PJ000001055-[AVP] Animated Strategy Mini-Lecture","Project","FD03","Active","2025-01-12T03:04:21.100378+00:00"]
[null,null,null,null,null,null,"PJ000001062","[STLF] UT Counseling Ctrs Conference","PJ000001062-[STLF] UT Counseling Ctrs Conference","Project","FD03","Active","2025-01-12T03:04:21.010112+00:00"]
[null,null,null,null,null,null,"PJ000001083","[AVP] L John K. Benson PERCS","PJ000001083-[AVP] L John K. Benson PERCS","Project","FD03","Active","2025-01-23T03:04:39.611235+00:00"]
[null,null,null,null,null,null,"PJ000001122","[AVP] L125 IIA Regents of CA","PJ000001122-[AVP] L125 IIA Regents of CA","Project","FD03","Active","2025-01-23T03:04:41.444459+00:00"]
[null,null,null,null,null,null,"PJ000001139","[ADM] IMPR INTERIOR BENCHES-CMPS","PJ000001139-[ADM] IMPR INTERIOR BENCHES-CMPS","Project","FD06","Active","2025-01-31T03:05:06.23028+00:00"]
[null,null,null,null,null,null,"PJ000001160","[ADM] RPLC-Lounge Chair in 2250-CONF","PJ000001160-[ADM] RPLC-Lounge Chair in 2250-CONF","Project","FD06","Active","2025-01-31T03:05:06.23028+00:00"]
[null,null,null,null,null,null,"PJ000001183","[ADM] RPLC Screw Compressors-BRWB","PJ000001183-[ADM] RPLC Screw Compressors-BRWB","Project","FD06","Active","2025-01-31T03:05:06.057765+00:00"]
[null,null,null,null,null,null,"PJ000001195","[ADM] EXPNSN TNK RPLCMNT-TBLU","PJ000001195-[ADM] EXPNSN TNK RPLCMNT-TBLU","Project","FD06","Active","2025-01-31T03:05:06.057765+00:00"]
[null,null,null,null,null,null,"PJ000001216","[ADM] Entry Flooring-ITB","PJ000001216-[ADM] Entry Flooring-ITB","Project","FD06","Active","2025-01-31T03:05:06.23028+00:00"]
[null,null,null,null,null,null,"PJ000001255","[ADM] Rollup Doors 145E & 146B-RB","PJ000001255-[ADM] Rollup Doors 145E & 146B-RB","Project","FD06","Active","2025-01-31T03:05:06.057765+00:00"]
[null,null,null,null,null,null,"PJ000001276","[ADM] MTC CNA Facilites Budget-2022","PJ000001276-[ADM] MTC CNA Facilites Budget-2022","Project","FD06","Active","2025-01-12T03:04:19.989679+00:00"]
[null,null,null,null,null,null,"PJ000001290","[ADM] MTC CNA Technology 50/50-2022","PJ000001290-[ADM] MTC CNA Technology 50/50-2022","Project","FD06","Active","2025-01-12T03:04:19.989679+00:00"]
[null,null,null,null,null,null,"PJ000001311","[ADM] UPS System Batteries RM134-UPC","PJ000001311-[ADM] UPS System Batteries RM134-UPC","Project","FD06","Active","2025-01-31T03:05:06.23028+00:00"]
[null,null,null,null,null,null,"PJ000001332","[ADM] Library/office ceiling&lights","PJ000001332-[ADM] Library/office ceiling&lights","Project","FD06","Active","2025-01-12T03:04:19.643495+00:00"]
[null,null,null,null,null,null,"PJ000001349","[ADM] RPLC-Boiler 4&6 Oxy Anlz-PPCH","PJ000001349-[ADM] RPLC-Boiler 4&6 Oxy Anlz-PPCH","Project","FD06","Active","2025-01-31T03:05:06.370671+00:00"]
[null,null,null,null,null,null,"PJ000001388","[ADM] IMPR Optimize A/C system","PJ000001388-[ADM] IMPR Optimize A/C system","Project","FD06","Active","2025-01-12T03:04:19.643495+00:00"]
[null,null,null,null,null,null,"PJ000001409","[ADM] SWAMP COOLER & FURNACE-CMPS","PJ000001409-[ADM] SWAMP COOLER & FURNACE-CMPS","Project","FD06","Active","2025-01-31T03:05:06.370671+00:00"]
[null,null,null,null,null,null,"PJ000001418","[ADM] JRMC CNA PARENT OTHER","PJ000001418-[ADM] JRMC CNA PARENT OTHER","Project","FD06","Active","2025-01-12T03:04:19.643495+00:00"]
[null,null,null,null,null,null,"PJ000001460","[ADM] Spanish Fork Farm Sale-CMPS","PJ000001460-[ADM] Spanish Fork Farm Sale-CMPS","Project","FD06","Active","2025-01-31T03:05:06.521058+00:00"]
[null,null,null,null,null,null,"PJ000001477","[OIT] 2022 ITI Network Improvement","PJ000001477-[OIT] 2022 ITI Network Improvement","Project","FD06","Active","2025-01-12T03:04:19.643495+00:00"]
[null,null,null,null,null,null,"PJ000001494","[ADM] RPLC-Elevator-ESC","PJ000001494-[ADM] RPLC-Elevator-ESC","Project","FD06","Active","2025-01-31T03:05:06.23028+00:00"]
[null,null,null,null,null,null,"PJ000001515","[ADM] Paving BRWB shop parking-CMPS","PJ000001515-[ADM] Paving BRWB shop parking-CMPS","Project","FD06","Active","2025-01-31T03:05:06.23028+00:00"]
[null,null,null,null,null,null,"PJ000001537","[OIT] 2021 ITD","PJ000001537-[OIT] 2021 ITD","Project","FD06","Active","2025-01-12T03:04:19.790246+00:00"]
[null,null,null,null,null,null,"PJ000001576","[ADM] RPLC-Trash Compactor-hook-TMCB","PJ000001576-[ADM] RPLC-Trash Compactor-hook-TMCB","Project","FD06","Active","2025-01-31T03:05:06.521058+00:00"]
[null,null,null,null,null,null,"PJ000001593","[OIT] 2022 OIT Billed to C Projs","PJ000001593-[OIT] 2022 OIT Billed to C Projs","Project","FD06","Active","2025-01-12T03:04:19.790246+00:00"]
[null,null,null,null,null,null,"PJ000001624","[AVP] XD2009-94 Dielectric Cell","PJ000001624-[AVP] XD2009-94 Dielectric Cell","Project","FD03","Active","2025-01-23T03:04:39.611235+00:00"]
[null,null,null,null,null,null,"PJ000001645","[ADM] RTRO-IMPR HVAC Air Flow-CMPS","PJ000001645-[ADM] RTRO-IMPR HVAC Air Flow-CMPS","Project","FD06","Active","2025-01-31T03:05:06.23028+00:00"]
[null,null,null,null,null,null,"PJ000001681","[AVP] D2010-021 Dgtl Media Wtrmrkg","PJ000001681-[AVP] D2010-021 Dgtl Media Wtrmrkg","Project","FD03","Active","2025-01-23T03:04:39.611235+00:00"]
[null,null,null,null,null,null,"PJ000001702","[ADM] BUILDING CONTROLS-CMPS","PJ000001702-[ADM] BUILDING CONTROLS-CMPS","Project","FD06","Active","2025-01-31T03:05:06.370671+00:00"]
[null,null,null,null,null,null,"PJ000001723","[ADM] LABORATORY RETROFITS-CMPS","PJ000001723-[ADM] LABORATORY RETROFITS-CMPS","Project","FD06","Active","2025-01-31T03:05:06.521058+00:00"]
[null,null,null,null,null,null,"PJ000001740","[MSB] MBA Finance Retreat ODD Yrs","PJ000001740-[MSB] MBA Finance Retreat ODD Yrs","Project","FD03","Active","2025-01-12T03:04:21.100378+00:00"]
[null,null,null,null,null,null,"PJ000001761","[AVP] D2015-026 SAILS","PJ000001761-[AVP] D2015-026 SAILS","Project","FD03","Active","2025-01-23T03:04:41.444459+00:00"]
[null,null,null,null,null,null,"PJ000001778","[ADM] RPLC LGHT W/ LEDS 948- KMBL","PJ000001778-[ADM] RPLC LGHT W/ LEDS 948- KMBL","Project","FD06","Active","2025-01-31T03:05:06.521058+00:00"]
[null,null,null,null,null,null,"PJ000001809","[BYUB] Family Rules S3","PJ000001809-[BYUB] Family Rules S3","Project","FD02","Active","2025-02-19T03:04:25.347349+00:00"]
[null,null,null,null,null,null,"PJ000001817","[BYUB] Artful Season 3","PJ000001817-[BYUB] Artful Season 3","Project","FD02","Active","2025-02-19T03:04:25.347349+00:00"]
[null,null,null,null,null,null,"PJ000001856","[ADM] ANNUAL CONCRETE GRINDING-CMPS","PJ000001856-[ADM] ANNUAL CONCRETE GRINDING-CMPS","Project","FD06","Active","2025-01-31T03:05:06.370671+00:00"]
[null,null,null,null,null,null,"PJ000001877","[BYUB] Ruby & the Well S3","PJ000001877-[BYUB] Ruby & the Well S3","Project","FD02","Active","2025-02-19T03:04:25.347349+00:00"]
[null,null,null,null,null,null,"PJ000001894","[AVP] D2016-045 2016-037 Barrier","PJ000001894-[AVP] D2016-045 2016-037 Barrier","Project","FD03","Active","2025-01-23T03:04:41.444459+00:00"]
[null,null,null,null,null,null,"PJ000001916","[ADM] IMPR-EMGY Shower Drains 1-CMPS","PJ000001916-[ADM] IMPR-EMGY Shower Drains 1-CMPS","Project","FD06","Active","2025-01-31T03:05:06.370671+00:00"]
[null,null,null,null,null,null,"PJ000001933","[ADM] TOWER WATER COMMON SUMP-PPCW","PJ000001933-[ADM] TOWER WATER COMMON SUMP-PPCW","Project","FD06","Active","2025-01-31T03:05:06.645118+00:00"]
[null,null,null,null,null,null,"PJ000001950","[BYUB] Grace Notes S5","PJ000001950-[BYUB] Grace Notes S5","Project","FD02","Active","2025-01-31T03:05:06.370671+00:00"]
[null,null,null,null,null,null,"PJ000001989","[ADM] IMPR WATER SYSTEM-CMPS","PJ000001989-[ADM] IMPR WATER SYSTEM-CMPS","Project","FD06","Active","2025-01-31T03:05:06.370671+00:00"]
[null,null,null,null,null,null,"PJ000002010","[BYUB] Radio Sports Content","PJ000002010-[BYUB] Radio Sports Content","Project","FD02","Active","2025-02-19T03:04:25.347349+00:00"]
[null,null,null,null,null,null,"PJ000002027","[ADM] RPLC-Interior Door-CMPS","PJ000002027-[ADM] RPLC-Interior Door-CMPS","Project","FD06","Active","2025-01-31T03:05:06.521058+00:00"]
[null,null,null,null,null,null,"PJ000002056","[ADM] FRNTR 5 OFFICES 5TH FLR-TNRB","PJ000002056-[ADM] FRNTR 5 OFFICES 5TH FLR-TNRB","Project","FD06","Active","2025-01-31T03:05:06.521058+00:00"]
[null,null,null,null,null,null,"PJ000002066","[ADM] 2023 CNA ELEVATOR - MOA","PJ000002066-[ADM] 2023 CNA ELEVATOR - MOA","Project","FD06","Active","2025-01-31T03:05:06.645118+00:00"]
[null,null,null,null,null,null,"PJ000002084","[BYUB] BYU Basketball w Mark Pope 23-","PJ000002084-[BYUB] BYU Basketball w Mark Pope 23-","Project","FD02","Active","2025-02-19T03:04:25.347349+00:00"]
[null,null,null,null,null,null,"PJ000002134","[ADM] CNVRT RM TO BREAK RM 3118B-LSB","PJ000002134-[ADM] CNVRT RM TO BREAK RM 3118B-LSB","Project","FD06","Active","2025-01-31T03:05:06.521058+00:00"]
[null,null,null,null,null,null,"PJ000002151","[ADM] PlumbingDelivrySyst&Pumps-TMCB","PJ000002151-[ADM] PlumbingDelivrySyst&Pumps-TMCB","Project","FD06","Active","2025-01-31T03:05:06.645118+00:00"]
[null,null,null,null,null,null,"PJ000002159","[ADM] HAZMAT BOILER-BYUW","PJ000002159-[ADM] HAZMAT BOILER-BYUW","Project","FD06","Active","2025-01-31T03:05:06.521058+00:00"]
[null,null,null,null,null,null,"PJ000002190","[ADM] MOTORIZED DESK & CHAIR- KMBL","PJ000002190-[ADM] MOTORIZED DESK & CHAIR- KMBL","Project","FD06","Active","2025-01-31T03:05:06.645118+00:00"]
[null,null,null,null,null,null,"PJ000002207","[ADM] ADD LOCKERS E190F-LVES","PJ000002207-[ADM] ADD LOCKERS E190F-LVES","Project","FD06","Active","2025-01-31T03:05:06.645118+00:00"]
[null,null,null,null,null,null,"PJ000002228","[ADM] Building Controls-CMPS","PJ000002228-[ADM] Building Controls-CMPS","Project","FD06","Active","2025-01-31T03:05:06.645118+00:00"]
[null,null,null,null,null,null,"PJ000002267","[ADM] Build New Help Desks 4530-HBLL","PJ000002267-[ADM] Build New Help Desks 4530-HBLL","Project","FD06","Active","2025-01-31T03:05:06.645118+00:00"]
[null,null,null,null,null,null,"PJ000002285","[ADM] Flooring-MCKB","PJ000002285-[ADM] Flooring-MCKB","Project","FD06","Active","2025-01-31T03:05:06.645118+00:00"]
[null,null,null,null,null,null,"PJ000002300","[ADM] SUSTAINABILITY STUDY - CMPS","PJ000002300-[ADM] SUSTAINABILITY STUDY - CMPS","Project","FD06","Active","2025-01-31T03:05:06.645118+00:00"]
[null,null,null,null,null,null,"PJ000002324","[ADM] IMPR Upper Aud. Lights - JRMC","PJ000002324-[ADM] IMPR Upper Aud. Lights - JRMC","Project","FD06","Active","2025-01-12T03:04:20.257497+00:00"]
[null,null,null,null,null,null,"PJ000002346","[ADM] Water Coolers-TMCB","PJ000002346-[ADM] Water Coolers-TMCB","Project","FD06","Active","2025-01-31T03:05:06.764347+00:00"]
[null,null,null,null,null,null,"PJ000002363","[AVP] D2014-025 Polar Array Antennas","PJ000002363-[AVP] D2014-025 Polar Array Antennas","Project","FD03","Active","2025-01-23T03:04:41.444459+00:00"]
[null,null,null,null,null,null,"PJ000002403","[HUM] Conference on John Milton","PJ000002403-[HUM] Conference on John Milton","Project","FD03","Active","2025-02-12T03:04:46.358961+00:00"]
[null,null,null,null,null,null,"PJ000002409","[BYUB] After Further Review 2022","PJ000002409-[BYUB] After Further Review 2022","Project","FD02","Active","2025-02-19T03:04:25.347349+00:00"]
[null,null,null,null,null,null,"PJ000002442","[ADM] RPLC Light in Hall of Fame-SAB","PJ000002442-[ADM] RPLC Light in Hall of Fame-SAB","Project","FD06","Active","2025-01-31T03:05:06.764347+00:00"]
[null,null,null,null,null,null,"PJ000002459","[AVP] L OverHorizon 2014 008","PJ000002459-[AVP] L OverHorizon 2014 008","Project","FD03","Active","2025-01-23T03:04:41.444459+00:00"]
[null,null,null,null,null,null,"PJ000002480","[AER] UPGR Conference Room 269-UPB","PJ000002480-[AER] UPGR Conference Room 269-UPB","Project","FD02","Active","2025-01-31T03:05:06.764347+00:00"]
[null,null,null,null,null,null,"PJ000002498","[AVP] Check Escrow","PJ000002498-[AVP] Check Escrow","Project","FD03","Active","2025-01-12T03:04:21.176512+00:00"]
[null,null,null,null,null,null,"PJ000002519","[ADM] Add Sink to Rm 733 - KMBL","PJ000002519-[ADM] Add Sink to Rm 733 - KMBL","Project","FD06","Active","2025-01-31T03:05:06.764347+00:00"]
[null,null,null,null,null,null,"PJ000002538","[ADM] RMDL 444- KMBL","PJ000002538-[ADM] RMDL 444- KMBL","Project","FD06","Active","2025-01-31T03:05:06.764347+00:00"]
[null,null,null,null,null,null,"PJ000002581","[BYUB] APLSD: COMMISSIONED SERIES","PJ000002581-[BYUB] APLSD: COMMISSIONED SERIES","Project","FD02","Active","2025-01-31T03:05:06.861923+00:00"]
[null,null,null,null,null,null,"PJ000002602","[ADM] RPLC Carpet - BNSN","PJ000002602-[ADM] RPLC Carpet - BNSN","Project","FD06","Active","2025-01-31T03:05:06.764347+00:00"]
[null,null,null,null,null,null,"PJ000002619","[ADM] RPLC Carpet - SFH","PJ000002619-[ADM] RPLC Carpet - SFH","Project","FD06","Active","2025-01-31T03:05:06.861923+00:00"]
[null,null,null,null,null,null,"PJ000002641","[AVP] Digital Speech","PJ000002641-[AVP] Digital Speech","Project","FD03","Active","2025-01-12T03:04:21.100378+00:00"]
[null,null,null,null,null,null,"PJ000002674","[ADM] CAULKING/GASKET-PPCH","PJ000002674-[ADM] CAULKING/GASKET-PPCH","Project","FD06","Active","2025-01-31T03:05:06.861923+00:00"]
[null,null,null,null,null,null,"PJ000002699","[ADM] RECONFIG 3086 & 3082 - JFSB","PJ000002699-[ADM] RECONFIG 3086 & 3082 - JFSB","Project","FD06","Active","2025-01-31T03:05:06.861923+00:00"]
[null,null,null,null,null,null,"PJ000002720","[ADM] EXTR CANOPY CONSTRUCTION-MCDB","PJ000002720-[ADM] EXTR CANOPY CONSTRUCTION-MCDB","Project","FD06","Active","2025-01-31T03:05:06.861923+00:00"]
[null,null,null,null,null,null,"PJ000002737","[OIT] 2024 OIT Billed to C Projs","PJ000002737-[OIT] 2024 OIT Billed to C Projs","Project","FD06","Active","2025-01-12T03:04:20.473677+00:00"]
[null,null,null,null,null,null,"PJ000002754","[ADM] CREATE SEC SPACE 375 - JSB","PJ000002754-[ADM] CREATE SEC SPACE 375 - JSB","Project","FD06","Active","2025-01-31T03:05:06.861923+00:00"]
[null,null,null,null,null,null,"PJ000002775","[ADM] INSTALL HSPTL HDWALL 157A-KMBL","PJ000002775-[ADM] INSTALL HSPTL HDWALL 157A-KMBL","Project","FD06","Active","2025-01-31T03:05:06.861923+00:00"]
[null,null,null,null,null,null,"PJ000002803","[OIT] 2022 ITI Life Safety Replace","PJ000002803-[OIT] 2022 ITI Life Safety Replace","Project","FD06","Active","2025-01-12T03:04:20.473677+00:00"]
[null,null,null,null,null,null,"PJ000002814","[DINE] RPLC AMMONIA PUMP SYSTEM-CSC","PJ000002814-[DINE] RPLC AMMONIA PUMP SYSTEM-CSC","Project","FD02","Active","2025-01-31T03:05:06.861923+00:00"]
[null,null,null,null,null,null,"PJ000002856","[ARTS] F23 BRAVO! When You Wish Upon a St","PJ000002856-[ARTS] F23 BRAVO! When You Wish Upon a St","Project","FD02","Active","2025-01-12T03:04:21.176512+00:00"]
[null,null,null,null,null,null,"PJ000002873","[ARTS] Freedom Festival Event","PJ000002873-[ARTS] Freedom Festival Event","Project","FD02","Active","2025-01-12T03:04:21.176512+00:00"]
[null,null,null,null,null,null,"PJ000002894","[MSB] IS Professional Conference","PJ000002894-[MSB] IS Professional Conference","Project","FD03","Active","2025-01-12T03:04:21.176512+00:00"]
[null,null,null,null,null,null,"PJ000002913","[ADM] RMDL OFF SUITE ENTRY 265 -CTB","PJ000002913-[ADM] RMDL OFF SUITE ENTRY 265 -CTB","Project","FD06","Active","2025-01-31T03:05:06.935658+00:00"]
[null,null,null,null,null,null,"PJ000002929","[ADM] REMODEL UNIV POLICE SUITE -JKB","PJ000002929-[ADM] REMODEL UNIV POLICE SUITE -JKB","Project","FD06","Active","2025-01-31T03:05:06.935658+00:00"]
[null,null,null,null,null,null,"PJ000002950","[ADM] ROLLER SHADES IN CONF RM- TNRB","PJ000002950-[ADM] ROLLER SHADES IN CONF RM- TNRB","Project","FD06","Active","2025-01-31T03:05:06.935658+00:00"]
[null,null,null,null,null,null,"PJ000002989","[ADM] CNA-UVC LIGHT EMMITTERS - HBLL","PJ000002989-[ADM] CNA-UVC LIGHT EMMITTERS - HBLL","Project","FD06","Active","2025-01-31T03:05:06.935658+00:00"]
[null,null,null,null,null,null,"PJ000003010","[OIT] 2024 ITI Identity Replacement","PJ000003010-[OIT] 2024 ITI Identity Replacement","Project","FD06","Active","2025-04-03T02:04:41.93478+00:00"]
[null,null,null,null,null,null,"PJ000003027","[ADM] 2024 CNA RTFT DOME THTR JRMC","PJ000003027-[ADM] 2024 CNA RTFT DOME THTR JRMC","Project","FD06","Active","2025-01-12T03:04:20.56377+00:00"]
[null,null,null,null,null,null,"PJ000003041","[ADM] 2024 CNA RTFT ONGNG ORGN JRMC","PJ000003041-[ADM] 2024 CNA RTFT ONGNG ORGN JRMC","Project","FD06","Active","2025-01-12T03:04:20.56377+00:00"]
[null,null,null,null,null,null,"PJ000003066","[ADM] REC DSK&STU WRKSTATON 303-HCEB","PJ000003066-[ADM] REC DSK&STU WRKSTATON 303-HCEB","Project","FD06","Active","2025-01-31T03:05:06.935658+00:00"]
[null,null,null,null,null,null,"PJ000003083","[ADM] Carpet -RB","PJ000003083-[ADM] Carpet -RB","Project","FD06","Active","2025-01-31T03:05:06.935658+00:00"]
[null,null,null,null,null,null,"PJ000003104","[ADM] Conduit, Cable, Switch -CMPS","PJ000003104-[ADM] Conduit, Cable, Switch -CMPS","Project","FD06","Active","2025-01-31T03:05:06.935658+00:00"]
[null,null,null,null,null,null,"PJ000003143","[ADM] Carpet large areas-HBLL","PJ000003143-[ADM] Carpet large areas-HBLL","Project","FD06","Active","2025-01-31T03:05:06.935658+00:00"]
[null,null,null,null,null,null,"PJ000003148","[ADM] Bldg Access Hrdwr Retroft-CMPS","PJ000003148-[ADM] Bldg Access Hrdwr Retroft-CMPS","Project","FD06","Active","2025-01-31T03:05:06.935658+00:00"]
[null,null,null,null,null,null,"PJ000003182","[ADM] ADD OFF TO OFF SUITE 730 -TNRB","PJ000003182-[ADM] ADD OFF TO OFF SUITE 730 -TNRB","Project","FD06","Active","2025-01-31T03:05:06.935658+00:00"]
[null,null,null,null,null,null,"PJ000003199","[BYUB] Devotionals 2024","PJ000003199-[BYUB] Devotionals 2024","Project","FD02","Active","2025-02-19T03:04:25.347349+00:00"]
[null,null,null,null,null,null,"PJ000003216","[ADM] Enclose Dmpstrs/cntainers-CMPS","PJ000003216-[ADM] Enclose Dmpstrs/cntainers-CMPS","Project","FD06","Active","2025-01-31T03:05:06.980684+00:00"]
[null,null,null,null,null,null,"PJ000003237","[ADM] NEW OFFICE FURNITURE-TLRB","PJ000003237-[ADM] NEW OFFICE FURNITURE-TLRB","Project","FD06","Active","2025-01-31T03:05:06.980684+00:00"]
[null,null,null,null,null,null,"PJ000003283","[ADM] REPURPOSE OFFCE 4056-JFSB","PJ000003283-[ADM] REPURPOSE OFFCE 4056-JFSB","Project","FD06","Active","2025-01-31T03:05:06.980684+00:00"]
[null,null,null,null,null,null,"PJ000003304","[ADM] NEW OFFICE CHAIRS 1208- ITB","PJ000003304-[ADM] NEW OFFICE CHAIRS 1208- ITB","Project","FD06","Active","2025-01-31T03:05:06.980684+00:00"]
[null,null,null,null,null,null,"PJ000003321","[ADM] Blinds -HGB","PJ000003321-[ADM] Blinds -HGB","Project","FD06","Active","2025-01-31T03:05:06.980684+00:00"]
[null,null,null,null,null,null,"PJ000003338","[ADM] Caulking/Gasket -RMB","PJ000003338-[ADM] Caulking/Gasket -RMB","Project","FD06","Active","2025-01-31T03:05:06.980684+00:00"]
[null,null,null,null,null,null,"PJ000003359","[ADM] Chapel Pews Main Floor -UPC","PJ000003359-[ADM] Chapel Pews Main Floor -UPC","Project","FD06","Active","2025-01-31T03:05:06.980684+00:00"]
[null,null,null,null,null,null,"PJ000003376","[ADM] VFD's Driven to Fail BBD-CMPS","PJ000003376-[ADM] VFD's Driven to Fail BBD-CMPS","Project","FD06","Active","2025-01-31T03:05:07.046037+00:00"]
[null,null,null,null,null,null,"PJ000003412","[ADM] ARCHITECT DETAILED PLAN5-HBLL","PJ000003412-[ADM] ARCHITECT DETAILED PLAN5-HBLL","Project","FD06","Active","2025-01-31T03:05:06.980684+00:00"]
[null,null,null,null,null,null,"PJ000003437","[ADM] HVAC Eletrical Panel -TMCB","PJ000003437-[ADM] HVAC Eletrical Panel -TMCB","Project","FD06","Active","2025-01-31T03:05:07.046037+00:00"]
[null,null,null,null,null,null,"PJ000003454","[ADM] UPDATE FURNITURE ID CENTER-WSC","PJ000003454-[ADM] UPDATE FURNITURE ID CENTER-WSC","Project","FD06","Active","2025-01-31T03:05:07.046037+00:00"]
[null,null,null,null,null,null,"PJ000003478","[BYUB] Dwight in Shining Armor S3&4","PJ000003478-[BYUB] Dwight in Shining Armor S3&4","Project","FD02","Active","2025-01-31T03:05:07.046037+00:00"]
[null,null,null,null,null,null,"PJ000003495","[BYUB] Comedy IQ Season 2","PJ000003495-[BYUB] Comedy IQ Season 2","Project","FD02","Active","2025-01-31T03:05:07.046037+00:00"]
[null,null,null,null,null,null,"PJ000003522","[ADM] REFRIGERATION EQUIP ER - ESC","PJ000003522-[ADM] REFRIGERATION EQUIP ER - ESC","Project","FD06","Active","2025-01-31T03:05:07.046037+00:00"]
[null,null,null,null,null,null,"PJ000003534","[ARTS] W25 BRAVO! My Cantus Valentine","PJ000003534-[ARTS] W25 BRAVO! My Cantus Valentine","Project","FD02","Active","2025-01-12T03:04:21.176512+00:00"]
[null,null,null,null,null,null,"PJ000003573","[ADM] PURCH&INSLL PALLET RACJING-UPB","PJ000003573-[ADM] PURCH&INSLL PALLET RACJING-UPB","Project","FD06","Active","2025-01-31T03:05:07.046037+00:00"]
[null,null,null,null,null,null,"PJ000003594","[BYUB] UPDATE LIGHTING 1220 - BYUB","PJ000003594-[BYUB] UPDATE LIGHTING 1220 - BYUB","Project","FD02","Active","2025-01-31T03:05:07.046037+00:00"]
[null,null,null,null,null,null,"PJ000003611","[ADM] CONFIGURE 2 OFF SPACE 352-TNRB","PJ000003611-[ADM] CONFIGURE 2 OFF SPACE 352-TNRB","Project","FD06","Active","2025-01-31T03:05:07.046037+00:00"]
[null,null,null,null,null,null,"PJ000003628","[ADM] DETERIORATION CONCRETE - LSB","PJ000003628-[ADM] DETERIORATION CONCRETE - LSB","Project","FD06","Active","2025-01-31T03:05:07.093382+00:00"]
[null,null,null,null,null,null,"PJ000003663","[BYUB] Braver Season 1","PJ000003663-[BYUB] Braver Season 1","Project","FD02","Active","2025-02-19T03:04:25.347349+00:00"]
[null,null,null,null,null,null,"PJ000003668","[BYUB] Kumu","PJ000003668-[BYUB] Kumu","Project","FD02","Active","2025-02-19T03:04:25.347349+00:00"]
[null,null,null,null,null,null,"PJ000003707","[DINE] ASSESS HVAC IN MOA CAFE","PJ000003707-[DINE] ASSESS HVAC IN MOA CAFE","Project","FD02","Active","2025-01-31T03:05:07.093382+00:00"]
[null,null,null,null,null,null,"PJ000003728","[ADM] RECNFIGRE OFFICE SPC 2020 -WSC","PJ000003728-[ADM] RECNFIGRE OFFICE SPC 2020 -WSC","Project","FD06","Active","2025-01-31T03:05:07.093382+00:00"]
[null,null,null,null,null,null,"PJ000003745","[ADM] 2024 CNA REFINSH AUD FLR -JRMC","PJ000003745-[ADM] 2024 CNA REFINSH AUD FLR -JRMC","Project","FD06","Active","2025-01-12T03:04:20.838244+00:00"]
[null,null,null,null,null,null,"PJ000003770","[BYUB] Sports Nation 2025","PJ000003770-[BYUB] Sports Nation 2025","Project","FD02","Active","2025-03-07T03:03:47.690758+00:00"]
[null,null,null,null,null,null,"PJ000003784","[BYUB] Joyful Noise","PJ000003784-[BYUB] Joyful Noise","Project","FD02","Active","2025-02-20T03:04:04.15874+00:00"]
[null,null,null,null,null,null,"PJ000003801","[ADM] 2025 CNA LIGHTS - SFH","PJ000003801-[ADM] 2025 CNA LIGHTS - SFH","Project","FD06","Active","2025-01-31T03:05:07.093382+00:00"]
[null,null,null,null,null,null,"PJ000003844","[ADM] 2025 CNA Electr Wire&Pnls-BELL","PJ000003844-[ADM] 2025 CNA Electr Wire&Pnls-BELL","Project","FD06","Active","2025-01-31T03:05:07.133127+00:00"]
[null,null,null,null,null,null,"PJ000003861","[ADM] 2025 CNA Light Ctrls Uppr-JFSB","PJ000003861-[ADM] 2025 CNA Light Ctrls Uppr-JFSB","Project","FD06","Active","2025-01-31T03:05:07.133127+00:00"]
[null,null,null,null,null,null,"PJ000003882","[ADM] 2025 CNA Crown Elctr Jack-ELLB","PJ000003882-[ADM] 2025 CNA Crown Elctr Jack-ELLB","Project","FD06","Active","2025-01-31T03:05:07.133127+00:00"]
[null,null,null,null,null,null,"PJ000003898","[ADM] 2025 CNA Panels & Feeders-PPGH","PJ000003898-[ADM] 2025 CNA Panels & Feeders-PPGH","Project","FD06","Active","2025-01-31T03:05:07.133127+00:00"]
[null,null,null,null,null,null,"PJ000003917","[ADM] 2025 CNA Bury Valve WHRCB-CMPS","PJ000003917-[ADM] 2025 CNA Bury Valve WHRCB-CMPS","Project","FD06","Active","2025-01-31T03:05:07.133127+00:00"]
[null,null,null,null,null,null,"PJ000003938","[ADM] 2025 CNA Updt ConfRm C107-BNSN","PJ000003938-[ADM] 2025 CNA Updt ConfRm C107-BNSN","Project","FD06","Active","2025-01-31T03:05:07.133127+00:00"]
[null,null,null,null,null,null,"PJ000003977","[ADM] 2025 CNA Desk/Tables - MLBM","PJ000003977-[ADM] 2025 CNA Desk/Tables - MLBM","Project","FD06","Active","2025-01-31T03:05:07.093382+00:00"]
[null,null,null,null,null,null,"PJ000003994","[PROD] INST NEW PRSS, RLCTD OLD - UPB","PJ000003994-[PROD] INST NEW PRSS, RLCTD OLD - UPB","Project","FD02","Active","2025-01-31T03:05:07.198087+00:00"]
[null,null,null,null,null,null,"PJ000004005","[ADM] CSM BK SHLV DK & SD TBL - JFSB","PJ000004005-[ADM] CSM BK SHLV DK & SD TBL - JFSB","Project","FD06","Active","2025-01-31T03:05:07.198087+00:00"]
[null,null,null,null,null,null,"PJ000004033","[ADM] CRTE ADDTL WRKSPCE 5000 - LSB","PJ000004033-[ADM] CRTE ADDTL WRKSPCE 5000 - LSB","Project","FD06","Active","2025-01-31T03:05:07.198087+00:00"]
[null,null,null,null,null,null,"PJ000004054","[ADM] REFRESH SPACE 230 - CB","PJ000004054-[ADM] REFRESH SPACE 230 - CB","Project","FD06","Active","2025-01-31T03:05:07.198087+00:00"]
[null,null,null,null,null,null,"PJ000004071","[LIB] CES Shared Resources","PJ000004071-[LIB] CES Shared Resources","Project","FD01","Active","2025-01-23T03:04:41.444459+00:00"]
[null,null,null,null,null,null,"PJ000004110","[ADM] 2025 ITI Network Improvement","PJ000004110-[ADM] 2025 ITI Network Improvement","Project","FD06","Active","2025-01-23T03:04:41.444459+00:00"]
[null,null,null,null,null,null,"PJ000004131","BYUB 2025 Replacement- Misc. Distribution","PJ000004131-BYUB 2025 Replacement- Misc. Distribution","Project","FD02","Active","2025-01-31T03:05:07.198087+00:00"]
[null,null,null,null,null,null,"PJ000004133","BYUB 2025 Replacement- Misc. Production","PJ000004133-BYUB 2025 Replacement- Misc. Production","Project","FD02","Active","2025-01-31T03:05:07.198087+00:00"]
[null,null,null,null,null,null,"PJ000004167","2025 CNA IMPROVE - Additional Utility Meters and Monitors - CMPS","PJ000004167-2025 CNA IMPROVE - Additional Utility Meters and Monitors - CMPS","Project","FD06","Active","2025-03-06T03:04:07.254647+00:00"]
[null,null,null,null,null,null,"PJ000004188","[ATH] REPAINT CLUBHOUSE HALLWAYS - MLRS","PJ000004188-[ATH] REPAINT CLUBHOUSE HALLWAYS - MLRS","Project","FD02","Active","2025-02-11T16:05:13.368373+00:00"]
[null,null,null,null,null,null,"PJ000004205","Marriott School of Business - Acquisitions 2025","PJ000004205-Marriott School of Business - Acquisitions 2025","Project","FD01","Active","2025-02-08T03:04:07.450549+00:00"]
[null,null,null,null,null,null,"PJ000004226","2025 CNA REPLACE - Annual Concrete Flatwork, Curb and Gutter - CMPS","PJ000004226-2025 CNA REPLACE - Annual Concrete Flatwork, Curb and Gutter - CMPS","Project","FD06","Active","2025-03-06T03:04:07.254647+00:00"]
[null,null,null,null,null,null,"PJ000004264","2025 CNA IMPROVE - Water System New Improvements - CMPS","PJ000004264-2025 CNA IMPROVE - Water System New Improvements - CMPS","Project","FD06","Active","2025-03-07T03:03:47.690758+00:00"]
[null,null,null,null,null,null,"PJ000004283","[JER] 2025 CNA RETROFIT - ONGOING Gardening Retrofit","PJ000004283-[JER] 2025 CNA RETROFIT - ONGOING Gardening Retrofit","Project","FD06","Active","2025-03-13T02:03:45.777917+00:00"]
[null,null,null,null,null,null,"PJ000004304","[PFAC] NEW CONFERENCE TABLE AND CHAIRS 2019 - ITB","PJ000004304-[PFAC] NEW CONFERENCE TABLE AND CHAIRS 2019 - ITB","Project","FD03","Active","2025-03-20T02:04:10.712747+00:00"]
[null,null,null,null,null,null,"PJ000004321","[PFAC] PHASE 2 - FURNITURE & ELECTRICAL - COLLABORATION SPACE 136 -ROTC","PJ000004321-[PFAC] PHASE 2 - FURNITURE & ELECTRICAL - COLLABORATION SPACE 136 -ROTC","Project","FD06","Active","2025-03-20T02:04:10.712747+00:00"]
[null,null,null,null,null,null,"PJ000004342","[PFAC] PURCHASE FURNITURE FOR REMODEL - UPB","PJ000004342-[PFAC] PURCHASE FURNITURE FOR REMODEL - UPB","Project","FD02","Active","2025-03-23T02:03:28.387634+00:00"]
[null,null,null,null,null,null,"PJ000004359","[STLF] 2025 Replace Lights WSC Restrooms","PJ000004359-[STLF] 2025 Replace Lights WSC Restrooms","Project","FD02","Active","2025-04-02T02:04:28.356935+00:00"]
[null,null,null,null,null,null,"PJCECD-00000003","RELC-351: 300, Survey of World Religions","PJCECD-00000003-RELC-351: 300, Survey of World Religions","Project","FD02","Active","2025-01-31T03:05:07.273692+00:00"]
[null,null,null,null,null,null,"PJCECD-00000008_Instructional_Design","300, New/Revision, Missionary Preparation: CE Course Design > Instructional Design    (Starts: 01/01/2025)","PJCECD-00000008_Instructional_Design-300, New/Revision, Missionary Preparation: CE Course Design > Instructional Design    (Starts: 01/01/2025)","Project Plan","FD02","Active","2025-01-31T03:05:07.358996+00:00"]
[null,null,null,null,null,null,"PJCECD-00000012","PHSCS-105: 300, New/Revision, General Physics 1","PJCECD-00000012-PHSCS-105: 300, New/Revision, General Physics 1","Project","FD02","Active","2025-01-31T03:05:07.273692+00:00"]
[null,null,null,null,null,null,"PJCECD-00000015_AuthorPayment","300,Online Conversion, How to Program: CE Course Design > Author Payment    (Starts: 01/01/2025)","PJCECD-00000015_AuthorPayment-300,Online Conversion, How to Program: CE Course Design > Author Payment    (Starts: 01/01/2025)","Project Plan","FD02","Active","2025-01-31T03:05:07.358996+00:00"]
[null,null,null,null,null,null,"PJCECD-00000019_Instructional_Design","CE Course Design > Instructional Design    (Starts: 01/01/2025)","PJCECD-00000019_Instructional_Design-CE Course Design > Instructional Design    (Starts: 01/01/2025)","Project Plan","FD02","Active","2025-01-31T03:05:07.358996+00:00"]
[null,null,null,null,null,null,"PJCECD-00000024_AuthorPayment","300, New, Business and Consumer Math, Part 2: CE Course Design > Author Payment    (Starts: 01/01/2025)","PJCECD-00000024_AuthorPayment-300, New, Business and Consumer Math, Part 2: CE Course Design > Author Payment    (Starts: 01/01/2025)","Project Plan","FD02","Active","2025-01-31T03:05:07.358996+00:00"]
[null,null,null,null,null,null,"PJCECD-00000027_AuthorPayment","300, New, First-Year Chinese, Part 2: CE Course Design > Author Payment    (Starts: 01/01/2025)","PJCECD-00000027_AuthorPayment-300, New, First-Year Chinese, Part 2: CE Course Design > Author Payment    (Starts: 01/01/2025)","Project Plan","FD02","Active","2025-01-31T03:05:07.441216+00:00"]
[null,null,null,null,null,null,"PJCECD-00000035_3rdParty","300, New, Medical Terminology: CE Course Design > 3rd Party    (Starts: 01/01/2025)","PJCECD-00000035_3rdParty-300, New, Medical Terminology: CE Course Design > 3rd Party    (Starts: 01/01/2025)","Project Plan","FD02","Active","2025-01-31T03:05:07.358996+00:00"]
[null,null,null,null,null,null,"PJCECD-00000038_Instructional_Design","300, New, Anatomy and Physiology, Part 2: CE Course Design > Instructional Design    (Starts: 01/01/2025)","PJCECD-00000038_Instructional_Design-300, New, Anatomy and Physiology, Part 2: CE Course Design > Instructional Design    (Starts: 01/01/2025)","Project Plan","FD02","Active","2025-01-31T03:05:07.358996+00:00"]
[null,null,null,null,null,null,"PJCECD-00000042_MultiMedia","302, Revision, Algebra 1, Part 2: CE Course Design > MultiMedia    (Starts: 01/01/2025)","PJCECD-00000042_MultiMedia-302, Revision, Algebra 1, Part 2: CE Course Design > MultiMedia    (Starts: 01/01/2025)","Project Plan","FD02","Active","2025-01-31T03:05:07.358996+00:00"]
[null,null,null,null,null,null,"PJCECD-00000046_3rdParty","300, New, AP United States Government and Politics: CE Course Design > 3rd Party    (Starts: 01/01/2025)","PJCECD-00000046_3rdParty-300, New, AP United States Government and Politics: CE Course Design > 3rd Party    (Starts: 01/01/2025)","Project Plan","FD02","Active","2025-01-31T03:05:07.441216+00:00"]
[null,null,null,null,null,null,"PJCECD-00000052_AuthorPayment","300, New, AP Statistics ***New OU: CE Course Design > Author Payment    (Starts: 01/01/2025)","PJCECD-00000052_AuthorPayment-300, New, AP Statistics ***New OU: CE Course Design > Author Payment    (Starts: 01/01/2025)","Project Plan","FD02","Active","2025-01-31T03:05:07.441216+00:00"]
[null,null,null,null,null,null,"PJCECD-00000054","CE HS ENVRN 041-Environmental","PJCECD-00000054-CE HS ENVRN 041-Environmental","Project","FD02","Active","2025-01-31T03:05:07.273692+00:00"]
[null,null,null,null,null,null,"PJCECD-00000061_MultiMedia","Human Anatomy: CE Course Design > MultiMedia    (Starts: 01/01/2025)","PJCECD-00000061_MultiMedia-Human Anatomy: CE Course Design > MultiMedia    (Starts: 01/01/2025)","Project Plan","FD02","Active","2025-01-31T03:05:07.441216+00:00"]
[null,null,null,null,null,null,"PJCECD-00000066","MCOM-320: Management Communication","PJCECD-00000066-MCOM-320: Management Communication","Project","FD02","Active","2025-01-31T03:05:07.273692+00:00"]
[null,null,null,null,null,null,"PJCECD-00000069_AuthorPayment","Career Exploration: CE Course Design > Author Payment    (Starts: 01/01/2025)","PJCECD-00000069_AuthorPayment-Career Exploration: CE Course Design > Author Payment    (Starts: 01/01/2025)","Project Plan","FD02","Active","2025-01-31T03:05:07.441216+00:00"]
[null,null,null,null,null,null,"PJCECD-00000071_AuthorPayment","Technical Communication: CE Course Design > Author Payment    (Starts: 01/01/2025)","PJCECD-00000071_AuthorPayment-Technical Communication: CE Course Design > Author Payment    (Starts: 01/01/2025)","Project Plan","FD02","Active","2025-01-31T03:05:07.358996+00:00"]
[null,null,null,null,null,null,"PJCECD-00000077_3rdParty","Geography and World Affairs: CE Course Design > 3rd Party    (Starts: 01/01/2025)","PJCECD-00000077_3rdParty-Geography and World Affairs: CE Course Design > 3rd Party    (Starts: 01/01/2025)","Project Plan","FD02","Active","2025-01-31T03:05:07.358996+00:00"]
[null,null,null,null,null,null,"PJCECD-00000080_Instructional_Design","Orientation to the Major: CE Course Design > Instructional Design    (Starts: 01/01/2025)","PJCECD-00000080_Instructional_Design-Orientation to the Major: CE Course Design > Instructional Design    (Starts: 01/01/2025)","Project Plan","FD02","Active","2025-01-31T03:05:07.441216+00:00"]
[null,null,null,null,null,null,"PJCECD-00000084_MultiMedia","Cognition: CE Course Design > MultiMedia    (Starts: 01/01/2025)","PJCECD-00000084_MultiMedia-Cognition: CE Course Design > MultiMedia    (Starts: 01/01/2025)","Project Plan","FD02","Active","2025-01-31T03:05:07.441216+00:00"]
[null,null,null,null,null,null,"PJCECD-00000092_Instructional_Design","Pilot, Latin American Culture: CE Course Design > Instructional Design    (Starts: 01/01/2025)","PJCECD-00000092_Instructional_Design-Pilot, Latin American Culture: CE Course Design > Instructional Design    (Starts: 01/01/2025)","Project Plan","FD02","Active","2025-01-31T03:05:07.441216+00:00"]
[null,null,null,null,null,null,"PJCECD-00000104","CE UN ACC 200: Principles of Accounting","PJCECD-00000104-CE UN ACC 200: Principles of Accounting","Project","FD02","Active","2025-03-19T02:04:02.297738+00:00"]
[null,null,null,null,null,null,"PJCECD-00000121","CE HS AEROB 045: Aerobics","PJCECD-00000121-CE HS AEROB 045: Aerobics","Project","FD02","Active","2025-03-19T02:04:02.297738+00:00"]
[null,null,null,null,null,null,"PJCECD-00000143","CE BYUO NURS 333: End of Life Care","PJCECD-00000143-CE BYUO NURS 333: End of Life Care","Project","FD02","Active","2025-03-19T02:04:02.297738+00:00"]
[null,null,null,null,null,null,"PJIT-000000116","BYU Projects : BYUB 2nd Floor, Remove/Re-install Existing/New FPDs, Mounts, Comcast, etc. (K7877)","PJIT-000000116-BYU Projects : BYUB 2nd Floor, Remove/Re-install Existing/New FPDs, Mounts, Comcast, etc. (K7877)","Project","FD02","Active","2025-02-08T03:04:07.450549+00:00"]
[null,null,null,null,null,null,"PJIT-000000151","WSC 2074, Replace EPBGM system (PRJ-8444)","PJIT-000000151-WSC 2074, Replace EPBGM system (PRJ-8444)","Project","FD06","Active","2025-02-26T03:04:08.25364+00:00"]
[null,null,null,null,null,null,"PJIT-000000205","Arts 2105A, Team Room (PRJ-8810)","PJIT-000000205-Arts 2105A, Team Room (PRJ-8810)","Project","FD06","Active","2025-03-11T02:04:05.977113+00:00"]
[null,null,null,null,null,null,"PJIT-000000215","Arts 2135, Photo Studio 2 (PRJ-8820)","PJIT-000000215-Arts 2135, Photo Studio 2 (PRJ-8820)","Project","FD06","Active","2025-03-11T02:04:05.977113+00:00"]
[null,null,null,null,null,null,"PJIT-000000246","Arts 3107, Reception (PRJ-8851)","PJIT-000000246-Arts 3107, Reception (PRJ-8851)","Project","FD06","Active","2025-03-11T02:04:05.977113+00:00"]
[null,null,null,null,null,null,"PJIT-000000263","Arts 3147, Life Drawing Studio 1 (PRJ-8869)","PJIT-000000263-Arts 3147, Life Drawing Studio 1 (PRJ-8869)","Project","FD06","Active","2025-02-06T03:04:22.663354+00:00"]
[null,null,null,null,null,null,"PJIT-000000284","Arts 4202A SLL","PJIT-000000284-Arts 4202A SLL","Project","FD06","Active","2025-03-11T02:04:05.977113+00:00"]
[null,null,null,null,null,null,"PJIT-000000302","Arts 4214, New Genre Stage (PRJ-8910)","PJIT-000000302-Arts 4214, New Genre Stage (PRJ-8910)","Project","FD06","Active","2025-04-02T02:04:28.356935+00:00"]
[null,null,null,null,null,null,"PJIT-000000340","TNRB W237 (N1549), remodel (Network) (PRJ-9153)","PJIT-000000340-TNRB W237 (N1549), remodel (Network) (PRJ-9153)","Project","FD06","Active","2025-04-02T02:04:28.356935+00:00"]
[null,null,null,null,null,null,"PJIT-000000405","Cloud Backup Standardization (PRJ-9725)","PJIT-000000405-Cloud Backup Standardization (PRJ-9725)","Project","FD01","Active","2025-01-08T03:04:35.097272+00:00"]
[null,null,null,null,null,null,"PJIT-000000423","AV Cable Plant, Relic Cabling Removal (2024) (PRJ-9746)","PJIT-000000423-AV Cable Plant, Relic Cabling Removal (2024) (PRJ-9746)","Project","FD06","Active","2025-01-09T03:04:37.798994+00:00"]
[null,null,null,null,null,null,"PJIT-000000448","Digital Preservation Storage (PRJ-9791)","PJIT-000000448-Digital Preservation Storage (PRJ-9791)","Project","FD06","Active","2025-02-07T03:05:24.75733+00:00"]
[null,null,null,null,null,null,"PJIT-000000478","WSC, TV Displays in Office of Belonging offices (PRJ-9843)","PJIT-000000478-WSC, TV Displays in Office of Belonging offices (PRJ-9843)","Project","FD06","Active","2025-02-07T03:05:24.75733+00:00"]
[null,null,null,null,null,null,"PJIT-000000509","HBLL 1101 (N3246), remodel (Network) (PRJ-10037)","PJIT-000000509-HBLL 1101 (N3246), remodel (Network) (PRJ-10037)","Project","FD06","Active","2025-04-02T02:04:28.356935+00:00"]
[null,null,null,null,null,null,"PJIT-000000605","Data Resource Delivery Tool Investigation and Implementation (PRJ-10313)","PJIT-000000605-Data Resource Delivery Tool Investigation and Implementation (PRJ-10313)","Project","FD06","Active","2025-01-28T03:04:28.428277+00:00"]
[null,null,null,null,null,null,"PJIT-000000639","IPF UPS Replacement","PJIT-000000639-IPF UPS Replacement","Project","FD02","Active","2025-04-03T02:04:41.93478+00:00"]
[null,null,null,null,null,null,"PJIT-000000663","MARB B107 - Replace Classroom Presentation System","PJIT-000000663-MARB B107 - Replace Classroom Presentation System","Project","FD06","Active","2025-03-14T02:03:41.433601+00:00"]
[null,null,null,null,null,null,"PJIT-000000685","CMPS, 2024 Hardware Configuration (PRJ-10519)","PJIT-000000685-CMPS, 2024 Hardware Configuration (PRJ-10519)","Project","FD06","Active","2025-01-31T03:05:07.198087+00:00"]
[null,null,null,null,null,null,"PJIT-000000716","Arts, Lighting Consultant (PRJ-10652)","PJIT-000000716-Arts, Lighting Consultant (PRJ-10652)","Project","FD06","Active","2025-03-11T02:04:05.977113+00:00"]
[null,null,null,null,null,null,"PJIT-000000781","KMBL, Security camera additions to entrances","PJIT-000000781-KMBL, Security camera additions to entrances","Project","FD06","Active","2025-01-02T03:05:06.891923+00:00"]
[null,null,null,null,null,null,"PJIT-000000790","WSC, Security camera additions for entrances (PRJ-10993)","PJIT-000000790-WSC, Security camera additions for entrances (PRJ-10993)","Project","FD06","Active","2025-03-12T02:03:44.124645+00:00"]
[null,null,null,null,null,null,"PJIT-000000876","Rank and Status Policy Changes - Text Replacement Project (PRJ-11264)","PJIT-000000876-Rank and Status Policy Changes - Text Replacement Project (PRJ-11264)","Project","FD01","Active","2025-01-08T03:04:35.097272+00:00"]
[null,null,null,null,null,null,"PJIT-000000909","Campus Drive LPR Switch Install (PRJ-11377)","PJIT-000000909-Campus Drive LPR Switch Install (PRJ-11377)","Project","FD06","Active","2025-03-13T02:03:44.050009+00:00"]
[null,null,null,null,null,null,"PJIT-000000937","TMCB 3360 (N6730), remodel (Network) (PRJ-11432)","PJIT-000000937-TMCB 3360 (N6730), remodel (Network) (PRJ-11432)","Project","FD06","Active","2025-03-26T02:03:09.435783+00:00"]
[null,null,null,null,null,null,"PJIT-000000978","MC, Security Camera Additions to entrances (PRJ-11510)","PJIT-000000978-MC, Security Camera Additions to entrances (PRJ-11510)","Project","FD06","Active","2025-02-26T03:04:08.25364+00:00"]
[null,null,null,null,null,null,"PJIT-000001002","WSC 1147, Replace VIA with AppleTV/Ditto (PRJ-11540)","PJIT-000001002-WSC 1147, Replace VIA with AppleTV/Ditto (PRJ-11540)","Project","FD06","Active","2025-03-12T02:03:44.124645+00:00"]
[null,null,null,null,null,null,"PJIT-000001017","MC 1130 (N7205), Remodel (PRJ-11557)","PJIT-000001017-MC 1130 (N7205), Remodel (PRJ-11557)","Project","FD02","Active","2025-02-08T03:04:07.450549+00:00"]
[null,null,null,null,null,null,"PJIT-000001065","TNRB 316, Replace VIAs with AppleTV/Ditto (PRJ-11617)","PJIT-000001065-TNRB 316, Replace VIAs with AppleTV/Ditto (PRJ-11617)","Project","FD06","Active","2025-03-12T02:03:44.124645+00:00"]
[null,null,null,null,null,null,"PJIT-000001085","ENSN College - Room 1007 (PRJ-11647)","PJIT-000001085-ENSN College - Room 1007 (PRJ-11647)","Project","FD01","Active","2025-01-10T03:04:00.898887+00:00"]
[null,null,null,null,null,null,"PJIT-000001119","Arts 3201B Office","PJIT-000001119-Arts 3201B Office","Project","FD06","Active","2025-03-11T02:04:05.977113+00:00"]
[null,null,null,null,null,null,"PJIT-000001135","MTC Exterior Security Camera Installations","PJIT-000001135-MTC Exterior Security Camera Installations","Project","FD07","Active","2025-01-02T03:05:10.204032+00:00"]
[null,null,null,null,null,null,"PJIT-000001160","WSC 1085, Hang FPD with AppleTV (PRJ-11804)","PJIT-000001160-WSC 1085, Hang FPD with AppleTV (PRJ-11804)","Project","FD03","Active","2025-01-15T03:04:58.646831+00:00"]
[null,null,null,null,null,null,"PJIT-000001182","TMCB 203 ","PJIT-000001182-TMCB 203 "," Classroom Presentation System (PRJ-11833)","Cost Center","Project","2025-04-05T02:04:05.378113+00:00"]
[null,null,null,null,null,null,"PJIT-000001532","CB 385, Classroom Presentation System","PJIT-000001532-CB 385, Classroom Presentation System","Project","FD06","Active","2025-03-13T02:03:44.050009+00:00"]
[null,null,null,null,null,null,"PJIT-000001549","SNLB 290J, Classroom Presentation System","PJIT-000001549-SNLB 290J, Classroom Presentation System","Project","FD06","Active","2025-03-13T02:03:44.050009+00:00"]
[null,null,null,null,null,null,"PJIT-000001570","CMPS, Software Contractors (Cultivar) for BYU Security","PJIT-000001570-CMPS, Software Contractors (Cultivar) for BYU Security","Project","FD06","Active","2025-02-15T03:04:02.344689+00:00"]
[null,null,null,null,null,null,"PJIT-000001577","SIS Sustainability","PJIT-000001577-SIS Sustainability","Project","FD06","Active","2025-01-15T03:04:58.646831+00:00"]
[null,null,null,null,null,null,"PJIT-000001615","ESC Addition A124, Install 55'' TV, AppleTV, HDMI, TEC Pi (M7851)","PJIT-000001615-ESC Addition A124, Install 55'' TV, AppleTV, HDMI, TEC Pi (M7851)","Project","FD06","Active","2025-02-27T03:03:44.609062+00:00"]
[null,null,null,null,null,null,"PJIT-000001633","HRCB 150, Classroom Presentation System","PJIT-000001633-HRCB 150, Classroom Presentation System","Project","FD06","Active","2025-03-11T02:04:05.977113+00:00"]
[null,null,null,null,null,null,"PJIT-000001672","KMBL 680, Classroom Presentation System","PJIT-000001672-KMBL 680, Classroom Presentation System","Project","FD06","Active","2025-03-13T02:03:44.050009+00:00"]
[null,null,null,null,null,null,"PJIT-000001693","~*H-CMPS, Backbone Improvements 2025","PJIT-000001693-~*H-CMPS, Backbone Improvements 2025","Project","FD06","Active","2025-04-02T02:04:28.356935+00:00"]
[null,null,null,null,null,null,"PJIT-000001716","~*H-CMPS, Wireless Controller Replacement 2025","PJIT-000001716-~*H-CMPS, Wireless Controller Replacement 2025","Project","FD06","Active","2025-04-02T02:04:28.356935+00:00"]
[null,null,null,null,null,null,"PJIT-000001736","HRCB 257, Replace VIA with AppleTV/Ditto","PJIT-000001736-HRCB 257, Replace VIA with AppleTV/Ditto","Project","FD06","Active","2025-03-11T02:04:05.977113+00:00"]
[null,null,null,null,null,null,"PJIT-000001755","KMBL 620, Remodel, Remove Podium, Replace with Heckler & Ergotron (N5445)","PJIT-000001755-KMBL 620, Remodel, Remove Podium, Replace with Heckler & Ergotron (N5445)","Project","FD06","Active","2025-02-22T03:04:14.77063+00:00"]
[null,null,null,null,null,null,"PJIT-000001773","P-East Campus (Wasatch Elementary) (N5976), Remodel","PJIT-000001773-P-East Campus (Wasatch Elementary) (N5976), Remodel","Project","FD06","Active","2025-04-09T02:03:40.270132+00:00"]
[null,null,null,null,null,null,"PJIT-000001796","P-PPCH, Switch Replacement 2025","PJIT-000001796-P-PPCH, Switch Replacement 2025","Project","FD06","Active","2025-04-10T02:03:34.096238+00:00"]
[null,null,null,null,null,null,"PJIT-000001839","Video Capital Equipment","PJIT-000001839-Video Capital Equipment","Project","FD01","Active","2025-03-26T02:03:11.50475+00:00"]
[null,null,null,null,null,null,"PJIT-000001855","MC 3402, AV Classroom Replacement","PJIT-000001855-MC 3402, AV Classroom Replacement","Project","FD06","Active","2025-03-22T02:03:32.386352+00:00"]
[null,null,null,null,null,null,"PJIT-000001884","P-MOA(DS), Switch Replacement","PJIT-000001884-P-MOA(DS), Switch Replacement","Project","FD06","Active","2025-04-10T02:03:34.096238+00:00"]
[null,null,null,null,null,null,"PJOP-000000102","Endpoint Management","PJOP-000000102-Endpoint Management","Project","FD01","Active","2025-01-02T03:05:07.946926+00:00"]
[null,null,null,null,null,null,"PJOP-000000123","AV Distribution & Infrastructure","PJOP-000000123-AV Distribution & Infrastructure","Project","FD01","Active","2025-01-02T03:05:07.946926+00:00"]
[null,null,null,null,null,null,"PJOP-000000140","Radio","PJOP-000000140-Radio","Project","FD01","Active","2025-01-02T03:05:08.095218+00:00"]
[null,null,null,null,null,null,"PJOP-000000175","WSOC v Iowa State 9/30/24 (PRJ-11328)","PJOP-000000175-WSOC v Iowa State 9/30/24 (PRJ-11328)","Project","FD01","Active","2025-01-08T03:04:35.097272+00:00"]
[null,null,null,null,null,null,"PJOP-000000231","Forum: David French 9/24/24 (PRJ-11496)","PJOP-000000231-Forum: David French 9/24/24 (PRJ-11496)","Project","FD01","Active","2025-01-08T03:04:35.097272+00:00"]
[null,null,null,null,null,null,"PJOP-000000260","Marriott Madness 10/3/24 (PRJ-11602)","PJOP-000000260-Marriott Madness 10/3/24 (PRJ-11602)","Project","FD01","Active","2025-01-08T03:04:35.097272+00:00"]
[null,null,null,null,null,null,"PJOP-000000283","MBKB v Colorado Christian 10/30/24 (PRJ-11700)","PJOP-000000283-MBKB v Colorado Christian 10/30/24 (PRJ-11700)","Project","FD01","Active","2025-01-08T03:04:35.097272+00:00"]
[null,null,null,null,null,null,"PJOP-000000318","FHSS Fulton Conference 12/5/24","PJOP-000000318-FHSS Fulton Conference 12/5/24","Project","FD01","Active","2025-01-02T03:05:10.316556+00:00"]
[null,null,null,null,null,null,"PJOP-000000402","MBKB v Texas Tech 1/7/25","PJOP-000000402-MBKB v Texas Tech 1/7/25","Project","FD01","Active","2025-01-28T03:04:30.001237+00:00"]
[null,null,null,null,null,null,"PJOP-000000438","Philanthropies Summit Meetings 2/4/25","PJOP-000000438-Philanthropies Summit Meetings 2/4/25","Project","FD07","Active","2025-02-07T03:05:24.75733+00:00"]
[null,null,null,null,null,null,"PJOP-000000463","2025 Windows Management Operational","PJOP-000000463-2025 Windows Management Operational","Project","FD01","Active","2025-02-11T16:05:13.368373+00:00"]
[null,null,null,null,null,null,"PJOP-000000480","2025 Tableau Operational","PJOP-000000480-2025 Tableau Operational","Project","FD01","Active","2025-02-11T16:05:13.368373+00:00"]
[null,null,null,null,null,null,"PJOP-000000501","WBKB v Kansas 2/25/25","PJOP-000000501-WBKB v Kansas 2/25/25","Project","FD01","Active","2025-02-20T03:04:04.15874+00:00"]
[null,null,null,null,null,null,"PJOP-000000519","Public Domain Film Festival 3/7/25","PJOP-000000519-Public Domain Film Festival 3/7/25","Project","FD01","Active","2025-03-05T16:04:20.253838+00:00"]
[null,null,null,null,null,null,"PJOP-000000547","Silent Disco Party 3/20/25","PJOP-000000547-Silent Disco Party 3/20/25","Project","FD01","Active","2025-03-19T02:04:02.297738+00:00"]
[null,null,null,null,null,null,"PJOP-000000559","Traditions Ball 3/29/25","PJOP-000000559-Traditions Ball 3/29/25","Project","FD02","Active","2025-03-26T02:03:11.50475+00:00"]
[null,null,null,null,null,null,"PP000000078_FA_Production>FA_Makeup_Hair","American Ghost S: FA Production > FA Makeup & Hair    (Starts: 05/14/2024)","PP000000078_FA_Production>FA_Makeup_Hair-American Ghost S: FA Production > FA Makeup & Hair    (Starts: 05/14/2024)","Project Plan","FD02","Active","2025-01-12T03:04:21.255165+00:00"]
[null,null,null,null,null,null,"PP000000079_FA_Production>Projection","FA Production > Projection    (Starts: 12/30/2023)","PP000000079_FA_Production>Projection-FA Production > Projection    (Starts: 12/30/2023)","Project Plan","FD02","Active","2025-01-12T03:04:21.255165+00:00"]
[null,null,null,null,null,null,"PP000000080_FA_Production>Run_Crew","FA Production > Run Crew    (Starts: 12/30/2023)","PP000000080_FA_Production>Run_Crew-FA Production > Run Crew    (Starts: 12/30/2023)","Project Plan","FD02","Active","2025-01-12T03:04:21.255165+00:00"]
[null,null,null,null,null,null,"PP000000081_FA_Production>Stage_Manager","FA Production > Stage Manager    (Starts: 12/30/2023)","PP000000081_FA_Production>Stage_Manager-FA Production > Stage Manager    (Starts: 12/30/2023)","Project Plan","FD02","Active","2025-01-12T03:04:21.255165+00:00"]
[null,null,null,null,null,null,"PP000000083_FA_Production>Lighting","FA Production > Lighting    (Starts: 12/30/2023)","PP000000083_FA_Production>Lighting-FA Production > Lighting    (Starts: 12/30/2023)","Project Plan","FD02","Active","2025-01-12T03:04:21.255165+00:00"]
[null,null,null,null,null,null,"PP000000084_FA_Production>Other","New Music for a: FA Production > Other    (Starts: 12/30/2023)","PP000000084_FA_Production>Other-New Music for a: FA Production > Other    (Starts: 12/30/2023)","Project Plan","FD02","Active","2025-01-12T03:04:21.255165+00:00"]
[null,null,null,null,null,null,"PP000000085_FA_Production>Stage_Manager","FA Production > Stage Manager    (Starts: 12/30/2023)","PP000000085_FA_Production>Stage_Manager-FA Production > Stage Manager    (Starts: 12/30/2023)","Project Plan","FD02","Active","2025-01-12T03:04:21.255165+00:00"]
[null,null,null,null,null,null,"PP000000088_FA_Production>Other","FA Production > Other    (Starts: 12/30/2023)","PP000000088_FA_Production>Other-FA Production > Other    (Starts: 12/30/2023)","Project Plan","FD02","Active","2025-01-12T03:04:21.255165+00:00"]
[null,null,null,null,null,null,"PP000000089_FA_Production>Projection","Choral Children's Show: FA Production > Projection    (Starts: 12/30/2023)","PP000000089_FA_Production>Projection-Choral Children's Show: FA Production > Projection    (Starts: 12/30/2023)","Project Plan","FD02","Active","2025-01-12T03:04:21.319185+00:00"]
[null,null,null,null,null,null,"PP000000102_FA_Production>Other","FA Production > Other    (Starts: 12/30/2023)","PP000000102_FA_Production>Other-FA Production > Other    (Starts: 12/30/2023)","Project Plan","FD02","Active","2025-01-12T03:04:21.255165+00:00"]
[null,null,null,null,null,null,"PP000000104_FA_Production>FA_Makeup_Hair","FA Production > FA Makeup & Hair    (Starts: 12/30/2023)","PP000000104_FA_Production>FA_Makeup_Hair-FA Production > FA Makeup & Hair    (Starts: 12/30/2023)","Project Plan","FD02","Active","2025-01-12T03:04:21.255165+00:00"]
[null,null,null,null,null,null,"PP000000105_FA_Production>Lighting","FA Production > Lighting    (Starts: 12/30/2023)","PP000000105_FA_Production>Lighting-FA Production > Lighting    (Starts: 12/30/2023)","Project Plan","FD02","Active","2025-01-12T03:04:21.397276+00:00"]
[null,null,null,null,null,null,"PP000000106_FA_Production>Run_Crew","FA Production > Run Crew    (Starts: 12/30/2023)","PP000000106_FA_Production>Run_Crew-FA Production > Run Crew    (Starts: 12/30/2023)","Project Plan","FD02","Active","2025-01-12T03:04:21.255165+00:00"]
[null,null,null,null,null,null,"PP000000109_FA_Production>Lighting","FA Production > Lighting    (Starts: 12/30/2023)","PP000000109_FA_Production>Lighting-FA Production > Lighting    (Starts: 12/30/2023)","Project Plan","FD02","Active","2025-01-12T03:04:21.319185+00:00"]
[null,null,null,null,null,null,"PP000000109_FA_Production>Projection","FA Production > Projection    (Starts: 12/30/2023)","PP000000109_FA_Production>Projection-FA Production > Projection    (Starts: 12/30/2023)","Project Plan","FD02","Active","2025-01-12T03:04:21.319185+00:00"]
[null,null,null,null,null,null,"PP000000111_FA_Production>Stage_Operations","FA Production > Stage Operations    (Starts: 12/30/2023)","PP000000111_FA_Production>Stage_Operations-FA Production > Stage Operations    (Starts: 12/30/2023)","Project Plan","FD02","Active","2025-01-12T03:04:21.397276+00:00"]
[null,null,null,null,null,null,"PP000000113_FA_Production>Costume_Shop","FA Production > Costume    (Starts: 12/30/2023)","PP000000113_FA_Production>Costume_Shop-FA Production > Costume    (Starts: 12/30/2023)","Project Plan","FD02","Active","2025-01-12T03:04:21.397276+00:00"]
[null,null,null,null,null,null,"PP000000114_FA_Production>Other","Conservatory Performance: FA Production > Other    (Starts: 12/30/2023)","PP000000114_FA_Production>Other-Conservatory Performance: FA Production > Other    (Starts: 12/30/2023)","Project Plan","FD02","Active","2025-01-12T03:04:21.319185+00:00"]
[null,null,null,null,null,null,"PP000000115_FA_Production>Projection","FA Production > Projection    (Starts: 12/30/2023)","PP000000115_FA_Production>Projection-FA Production > Projection    (Starts: 12/30/2023)","Project Plan","FD02","Active","2025-01-12T03:04:21.397276+00:00"]
[null,null,null,null,null,null,"PP000000117_FA_Production>Audio","FA Production > Audio    (Starts: 12/30/2023)","PP000000117_FA_Production>Audio-FA Production > Audio    (Starts: 12/30/2023)","Project Plan","FD02","Active","2025-01-12T03:04:21.397276+00:00"]
[null,null,null,null,null,null,"PP000000119_FA_Production>Props","FA Production > Props    (Starts: 12/30/2023)","PP000000119_FA_Production>Props-FA Production > Props    (Starts: 12/30/2023)","Project Plan","FD02","Active","2025-01-12T03:04:21.460794+00:00"]
[null,null,null,null,null,null,"PP000000120_FA_Production>Scene_Shop","Mask, Broom, Prop: FA Production > Scene Shop    (Starts: 12/30/2023)","PP000000120_FA_Production>Scene_Shop-Mask, Broom, Prop: FA Production > Scene Shop    (Starts: 12/30/2023)","Project Plan","FD02","Active","2025-01-12T03:04:21.319185+00:00"]
[null,null,null,null,null,null,"PP000000122_FA_Production>FA_Makeup_Hair","FA Production > FA Makeup & Hair    (Starts: 12/30/2023)","PP000000122_FA_Production>FA_Makeup_Hair-FA Production > FA Makeup & Hair    (Starts: 12/30/2023)","Project Plan","FD02","Active","2025-01-12T03:04:21.319185+00:00"]
[null,null,null,null,null,null,"PP000000123_FA_Production>Lighting","FA Production > Lighting    (Starts: 12/30/2023)","PP000000123_FA_Production>Lighting-FA Production > Lighting    (Starts: 12/30/2023)","Project Plan","FD02","Active","2025-01-12T03:04:21.460794+00:00"]
[null,null,null,null,null,null,"PP000000124_FA_Production>Other","FA Production > Other    (Starts: 12/30/2023)","PP000000124_FA_Production>Other-FA Production > Other    (Starts: 12/30/2023)","Project Plan","FD02","Active","2025-01-12T03:04:21.397276+00:00"]
[null,null,null,null,null,null,"PP000000126_FA_Production>Scene_Shop","FA Production > Scene Shop    (Starts: 12/30/2023)","PP000000126_FA_Production>Scene_Shop-FA Production > Scene Shop    (Starts: 12/30/2023)","Project Plan","FD02","Active","2025-01-12T03:04:21.397276+00:00"]
[null,null,null,null,null,null,"PP000000128_FA_Production>Producer","As You Like It: FA Production > Producer    (Starts: 12/30/2023)","PP000000128_FA_Production>Producer-As You Like It: FA Production > Producer    (Starts: 12/30/2023)","Project Plan","FD02","Active","2025-01-12T03:04:21.319185+00:00"]
[null,null,null,null,null,null,"PP000000129_FA_Production>Stage_Operations","FA Production > Stage Operations    (Starts: 12/30/2023)","PP000000129_FA_Production>Stage_Operations-FA Production > Stage Operations    (Starts: 12/30/2023)","Project Plan","FD02","Active","2025-01-12T03:04:21.460794+00:00"]
[null,null,null,null,null,null,"PP000000131_FA_Production>Costume_Shop","FA Production > Costume    (Starts: 12/30/2023)","PP000000131_FA_Production>Costume_Shop-FA Production > Costume    (Starts: 12/30/2023)","Project Plan","FD02","Active","2025-01-12T03:04:21.460794+00:00"]
[null,null,null,null,null,null,"PP000000132_FA_Production>FA_Makeup_Hair","FA Production > FA Makeup & Hair    (Starts: 12/30/2023)","PP000000132_FA_Production>FA_Makeup_Hair-FA Production > FA Makeup & Hair    (Starts: 12/30/2023)","Project Plan","FD02","Active","2025-01-12T03:04:21.397276+00:00"]
[null,null,null,null,null,null,"PP000000133_FA_Production>Projection","FA Production > Projection    (Starts: 12/30/2023)","PP000000133_FA_Production>Projection-FA Production > Projection    (Starts: 12/30/2023)","Project Plan","FD02","Active","2025-01-31T03:05:07.273692+00:00"]
[null,null,null,null,null,null,"PP000000135_FA_Production>Lighting","FA Production > Lighting    (Starts: 12/30/2023)","PP000000135_FA_Production>Lighting-FA Production > Lighting    (Starts: 12/30/2023)","Project Plan","FD02","Active","2025-01-12T03:04:21.460794+00:00"]
[null,null,null,null,null,null,"PP000000137_FA_Production>Props","FA Production > Props    (Starts: 12/30/2023)","PP000000137_FA_Production>Props-FA Production > Props    (Starts: 12/30/2023)","Project Plan","FD02","Active","2025-01-12T03:04:21.536697+00:00"]
[null,null,null,null,null,null,"PP000000138_FA_Production>Scene_Shop","FA Production > Scene Shop    (Starts: 12/30/2023)","PP000000138_FA_Production>Scene_Shop-FA Production > Scene Shop    (Starts: 12/30/2023)","Project Plan","FD02","Active","2025-01-12T03:04:21.397276+00:00"]
[null,null,null,null,null,null,"PP000000139_FA_Production>Stage_Operations","FA Production > Stage Operations    (Starts: 12/30/2023)","PP000000139_FA_Production>Stage_Operations-FA Production > Stage Operations    (Starts: 12/30/2023)","Project Plan","FD02","Active","2025-01-12T03:04:21.536697+00:00"]
[null,null,null,null,null,null,"PP000000141_FA_Production>Lighting","FA Production > Lighting    (Starts: 12/30/2023)","PP000000141_FA_Production>Lighting-FA Production > Lighting    (Starts: 12/30/2023)","Project Plan","FD02","Active","2025-01-12T03:04:21.536697+00:00"]
[null,null,null,null,null,null,"PP000000142_FA_Production>Other","FA Production > Other    (Starts: 12/30/2023)","PP000000142_FA_Production>Other-FA Production > Other    (Starts: 12/30/2023)","Project Plan","FD02","Active","2025-01-12T03:04:21.397276+00:00"]
[null,null,null,null,null,null,"PP000000143_FA_Production>Props","FA Production > Props    (Starts: 06/20/2024)","PP000000143_FA_Production>Props-FA Production > Props    (Starts: 06/20/2024)","Project Plan","FD02","Active","2025-01-12T03:04:21.709885+00:00"]
[null,null,null,null,null,null,"PP000000146_FA_Production>Producer","FA Production > Producer    (Starts: 12/30/2023)","PP000000146_FA_Production>Producer-FA Production > Producer    (Starts: 12/30/2023)","Project Plan","FD02","Active","2025-01-12T03:04:21.650491+00:00"]
[null,null,null,null,null,null,"PP000000147_FA_Production>Props","FA Production > Props    (Starts: 12/30/2023)","PP000000147_FA_Production>Props-FA Production > Props    (Starts: 12/30/2023)","Project Plan","FD02","Active","2025-01-12T03:04:21.709885+00:00"]
[null,null,null,null,null,null,"PP000000149_FA_Production>Costume_Shop","FA Production > Costume    (Starts: 12/30/2023)","PP000000149_FA_Production>Costume_Shop-FA Production > Costume    (Starts: 12/30/2023)","Project Plan","FD02","Active","2025-01-12T03:04:21.709885+00:00"]
[null,null,null,null,null,null,"PP000000150_FA_Production>FA_Makeup_Hair","FA Production > FA Makeup & Hair    (Starts: 12/30/2023)","PP000000150_FA_Production>FA_Makeup_Hair-FA Production > FA Makeup & Hair    (Starts: 12/30/2023)","Project Plan","FD02","Active","2025-01-12T03:04:21.709885+00:00"]
[null,null,null,null,null,null,"PP000000151_FA_Production>Audio","FA Production > Audio    (Starts: 12/30/2023)","PP000000151_FA_Production>Audio-FA Production > Audio    (Starts: 12/30/2023)","Project Plan","FD02","Active","2025-01-12T03:04:21.709885+00:00"]
[null,null,null,null,null,null,"PP000000152_FA_Production>Scene_Shop","FA Production > Scene Shop    (Starts: 12/30/2023)","PP000000152_FA_Production>Scene_Shop-FA Production > Scene Shop    (Starts: 12/30/2023)","Project Plan","FD02","Active","2025-01-12T03:04:21.709885+00:00"]
[null,null,null,null,null,null,"PP000000201_FA_Production>Marketing","FA Production > Marketing    (Starts: 06/20/2024)","PP000000201_FA_Production>Marketing-FA Production > Marketing    (Starts: 06/20/2024)","Project Plan","FD02","Active","2025-01-12T03:04:21.772455+00:00"]
[null,null,null,null,null,null,"PP000000202_FA_Production>Producer","FA Production > Producer    (Starts: 12/30/2023)","PP000000202_FA_Production>Producer-FA Production > Producer    (Starts: 12/30/2023)","Project Plan","FD02","Active","2025-01-12T03:04:21.772455+00:00"]
[null,null,null,null,null,null,"PP000000203_FA_Production>Stage_Operations","FA Production > Stage Operations    (Starts: 12/30/2023)","PP000000203_FA_Production>Stage_Operations-FA Production > Stage Operations    (Starts: 12/30/2023)","Project Plan","FD02","Active","2025-01-12T03:04:21.772455+00:00"]
[null,null,null,null,null,null,"PP000000205_FA_Production>Props","FA Production > Props    (Starts: 12/30/2023)","PP000000205_FA_Production>Props-FA Production > Props    (Starts: 12/30/2023)","Project Plan","FD02","Active","2025-01-12T03:04:21.824934+00:00"]
[null,null,null,null,null,null,"PP000000206_FA_Production>Producer","Guest Artists: FA Production > Producer    (Starts: 12/30/2023)","PP000000206_FA_Production>Producer-Guest Artists: FA Production > Producer    (Starts: 12/30/2023)","Project Plan","FD02","Active","2025-01-12T03:04:21.772455+00:00"]
[null,null,null,null,null,null,"PP000000207_FA_Production>Props","FA Production > Props    (Starts: 12/30/2023)","PP000000207_FA_Production>Props-FA Production > Props    (Starts: 12/30/2023)","Project Plan","FD02","Active","2025-01-12T03:04:21.824934+00:00"]
[null,null,null,null,null,null,"PP000000210_FA_Production>Front_of_House","FA Production > Front of House    (Starts: 12/30/2023)","PP000000210_FA_Production>Front_of_House-FA Production > Front of House    (Starts: 12/30/2023)","Project Plan","FD02","Active","2025-01-12T03:04:21.772455+00:00"]
[null,null,null,null,null,null,"PP000000211_FA_Production>Props","FA Production > Props    (Starts: 12/30/2023)","PP000000211_FA_Production>Props-FA Production > Props    (Starts: 12/30/2023)","Project Plan","FD02","Active","2025-01-12T03:04:21.824934+00:00"]
[null,null,null,null,null,null,"PP000000212_FA_Production>Scene_Shop","FA Production > Scene Shop    (Starts: 12/30/2023)","PP000000212_FA_Production>Scene_Shop-FA Production > Scene Shop    (Starts: 12/30/2023)","Project Plan","FD02","Active","2025-01-12T03:04:21.824934+00:00"]
[null,null,null,null,null,null,"PP000000213_FA_Production>Other","FA Production > Other    (Starts: 12/30/2023)","PP000000213_FA_Production>Other-FA Production > Other    (Starts: 12/30/2023)","Project Plan","FD02","Active","2025-01-12T03:04:21.875336+00:00"]
[null,null,null,null,null,null,"PP000000215_FA_Production>Marketing","FA Production > Marketing    (Starts: 12/30/2023)","PP000000215_FA_Production>Marketing-FA Production > Marketing    (Starts: 12/30/2023)","Project Plan","FD02","Active","2025-01-12T03:04:21.824934+00:00"]
[null,null,null,null,null,null,"PP000000216_FA_Production>Producer","FA Production > Producer    (Starts: 12/30/2023)","PP000000216_FA_Production>Producer-FA Production > Producer    (Starts: 12/30/2023)","Project Plan","FD02","Active","2025-01-12T03:04:21.824934+00:00"]
[null,null,null,null,null,null,"PP000000217_FA_Production>Stage_Operations","FA Production > Stage Operations    (Starts: 12/30/2023)","PP000000217_FA_Production>Stage_Operations-FA Production > Stage Operations    (Starts: 12/30/2023)","Project Plan","FD02","Active","2025-01-12T03:04:21.875336+00:00"]
[null,null,null,null,null,null,"PP000000220_FA_Production>Producer","FA Production > Producer    (Starts: 12/30/2023)","PP000000220_FA_Production>Producer-FA Production > Producer    (Starts: 12/30/2023)","Project Plan","FD02","Active","2025-01-12T03:04:21.824934+00:00"]
[null,null,null,null,null,null,"PP000000221_FA_Production>Lighting","FA Production > Lighting    (Starts: 12/30/2023)","PP000000221_FA_Production>Lighting-FA Production > Lighting    (Starts: 12/30/2023)","Project Plan","FD02","Active","2025-01-12T03:04:21.875336+00:00"]
[null,null,null,null,null,null,"PP000000223_FA_Production>Creative","FA Production > Creative    (Starts: 12/30/2023)","PP000000223_FA_Production>Creative-FA Production > Creative    (Starts: 12/30/2023)","Project Plan","FD02","Active","2025-01-12T03:04:21.875336+00:00"]
[null,null,null,null,null,null,"PP000000224_FA_Production>Front_of_House","FA Production > Front of House    (Starts: 12/30/2023)","PP000000224_FA_Production>Front_of_House-FA Production > Front of House    (Starts: 12/30/2023)","Project Plan","FD02","Active","2025-01-12T03:04:21.824934+00:00"]
[null,null,null,null,null,null,"PP000000225_FA_Production>Props","FA Production > Props    (Starts: 12/30/2023)","PP000000225_FA_Production>Props-FA Production > Props    (Starts: 12/30/2023)","Project Plan","FD02","Active","2025-01-12T03:04:21.875336+00:00"]
[null,null,null,null,null,null,"PP000000226_FA_Production>Scene_Shop","FA Production > Scene Shop    (Starts: 12/30/2023)","PP000000226_FA_Production>Scene_Shop-FA Production > Scene Shop    (Starts: 12/30/2023)","Project Plan","FD02","Active","2025-01-12T03:04:21.875336+00:00"]
[null,null,null,null,null,null,"PP000000229_FA_Production>Marketing","FA Production > Marketing    (Starts: 12/30/2023)","PP000000229_FA_Production>Marketing-FA Production > Marketing    (Starts: 12/30/2023)","Project Plan","FD02","Active","2025-01-12T03:04:21.875336+00:00"]
[null,null,null,null,null,null,"PP000000230_FA_Production>Props","FA Production > Props    (Starts: 12/30/2023)","PP000000230_FA_Production>Props-FA Production > Props    (Starts: 12/30/2023)","Project Plan","FD02","Active","2025-01-12T03:04:21.875336+00:00"]
[null,null,null,null,null,null,"PP000000232_FA_Production>Audio","FA Production > Audio    (Starts: 12/30/2023)","PP000000232_FA_Production>Audio-FA Production > Audio    (Starts: 12/30/2023)","Project Plan","FD02","Active","2025-01-12T03:04:21.875336+00:00"]
[null,null,null,null,null,null,"PP000000233_FA_Production>Marketing","FA Production > Marketing    (Starts: 12/30/2023)","PP000000233_FA_Production>Marketing-FA Production > Marketing    (Starts: 12/30/2023)","Project Plan","FD02","Active","2025-01-12T03:04:21.937427+00:00"]
[null,null,null,null,null,null,"PP000000234_FA_Production>Producer","FA Production > Producer    (Starts: 12/30/2023)","PP000000234_FA_Production>Producer-FA Production > Producer    (Starts: 12/30/2023)","Project Plan","FD02","Active","2025-01-12T03:04:21.875336+00:00"]
[null,null,null,null,null,null,"PP000000235_FA_Production>Props","FA Production > Props    (Starts: 12/30/2023)","PP000000235_FA_Production>Props-FA Production > Props    (Starts: 12/30/2023)","Project Plan","FD02","Active","2025-01-12T03:04:21.937427+00:00"]
[null,null,null,null,null,null,"PP000000237_FA_Production>Scene_Shop","FA Production > Scene Shop    (Starts: 12/30/2023)","PP000000237_FA_Production>Scene_Shop-FA Production > Scene Shop    (Starts: 12/30/2023)","Project Plan","FD02","Active","2025-01-12T03:04:21.937427+00:00"]
[null,null,null,null,null,null,"PP000000239_FA_Production>Run_Crew","FA Production > Run Crew    (Starts: 12/30/2023)","PP000000239_FA_Production>Run_Crew-FA Production > Run Crew    (Starts: 12/30/2023)","Project Plan","FD02","Active","2025-01-12T03:04:21.937427+00:00"]
[null,null,null,null,null,null,"PP000000240_FA_Production>Stage_Manager","FA Production > Stage Manager    (Starts: 12/30/2023)","PP000000240_FA_Production>Stage_Manager-FA Production > Stage Manager    (Starts: 12/30/2023)","Project Plan","FD02","Active","2025-01-12T03:04:21.937427+00:00"]
[null,null,null,null,null,null,"PP000000242_FA_Production>Front_of_House","FA Production > Front of House    (Starts: 12/30/2023)","PP000000242_FA_Production>Front_of_House-FA Production > Front of House    (Starts: 12/30/2023)","Project Plan","FD02","Active","2025-01-12T03:04:21.937427+00:00"]
[null,null,null,null,null,null,"PP000000243_FA_Production>Marketing","FA Production > Marketing    (Starts: 12/30/2023)","PP000000243_FA_Production>Marketing-FA Production > Marketing    (Starts: 12/30/2023)","Project Plan","FD02","Active","2025-01-12T03:04:21.937427+00:00"]
[null,null,null,null,null,null,"PP000000244_FA_Production>Scene_Shop","FA Production > Scene Shop    (Starts: 12/30/2023)","PP000000244_FA_Production>Scene_Shop-FA Production > Scene Shop    (Starts: 12/30/2023)","Project Plan","FD02","Active","2025-01-12T03:04:21.937427+00:00"]
[null,null,null,null,null,null,"PP000000246_FA_Production>Lighting","FA Production > Lighting    (Starts: 12/30/2023)","PP000000246_FA_Production>Lighting-FA Production > Lighting    (Starts: 12/30/2023)","Project Plan","FD02","Active","2025-01-12T03:04:21.536697+00:00"]
[null,null,null,null,null,null,"PP000000248_FA_Production>Projection","FA Production > Projection    (Starts: 12/30/2023)","PP000000248_FA_Production>Projection-FA Production > Projection    (Starts: 12/30/2023)","Project Plan","FD02","Active","2025-01-12T03:04:21.536697+00:00"]
[null,null,null,null,null,null,"PP000000250_FA_Production>Audio","Listen Up-Morris Robinson: FA Production > Audio    (Starts: 12/30/2023)","PP000000250_FA_Production>Audio-Listen Up-Morris Robinson: FA Production > Audio    (Starts: 12/30/2023)","Project Plan","FD02","Active","2025-01-12T03:04:21.536697+00:00"]
[null,null,null,null,null,null,"PP000000251_FA_Production>Creative","FA Production > Creative    (Starts: 12/30/2023)","PP000000251_FA_Production>Creative-FA Production > Creative    (Starts: 12/30/2023)","Project Plan","FD02","Active","2025-01-12T03:04:21.460794+00:00"]
[null,null,null,null,null,null,"PP000000252_FA_Production>Front_of_House","FA Production > Front of House    (Starts: 12/30/2023)","PP000000252_FA_Production>Front_of_House-FA Production > Front of House    (Starts: 12/30/2023)","Project Plan","FD02","Active","2025-01-12T03:04:21.592641+00:00"]
[null,null,null,null,null,null,"PP000000253_FA_Production>Other","FA Production > Other    (Starts: 12/30/2023)","PP000000253_FA_Production>Other-FA Production > Other    (Starts: 12/30/2023)","Project Plan","FD02","Active","2025-01-12T03:04:21.460794+00:00"]
[null,null,null,null,null,null,"PP000000254_FA_Production>Stage_Manager","FA Production > Stage Manager    (Starts: 12/30/2023)","PP000000254_FA_Production>Stage_Manager-FA Production > Stage Manager    (Starts: 12/30/2023)","Project Plan","FD02","Active","2025-01-12T03:04:21.592641+00:00"]
[null,null,null,null,null,null,"PP000000256_FA_Production>Front_of_House","FA Production > Front of House    (Starts: 12/30/2023)","PP000000256_FA_Production>Front_of_House-FA Production > Front of House    (Starts: 12/30/2023)","Project Plan","FD02","Active","2025-01-12T03:04:21.592641+00:00"]
[null,null,null,null,null,null,"PP000000258_FA_Production>Stage_Manager","FA Production > Stage Manager    (Starts: 12/30/2023)","PP000000258_FA_Production>Stage_Manager-FA Production > Stage Manager    (Starts: 12/30/2023)","Project Plan","FD02","Active","2025-01-12T03:04:21.592641+00:00"]
[null,null,null,null,null,null,"PP000000260_FA_Production>Audio","FA Production > Audio    (Starts: 12/30/2023)","PP000000260_FA_Production>Audio-FA Production > Audio    (Starts: 12/30/2023)","Project Plan","FD02","Active","2025-01-12T03:04:21.592641+00:00"]
[null,null,null,null,null,null,"PP000000261_FA_Production>Marketing","FA Production > Marketing    (Starts: 12/30/2023)","PP000000261_FA_Production>Marketing-FA Production > Marketing    (Starts: 12/30/2023)","Project Plan","FD02","Active","2025-01-12T03:04:21.536697+00:00"]
[null,null,null,null,null,null,"PP000000263_FA_Production>Producer","FA Production > Producer    (Starts: 12/30/2023)","PP000000263_FA_Production>Producer-FA Production > Producer    (Starts: 12/30/2023)","Project Plan","FD02","Active","2025-01-12T03:04:21.536697+00:00"]
[null,null,null,null,null,null,"PP000000264_FA_Production>Audio","FA Production > Audio    (Starts: 12/30/2023)","PP000000264_FA_Production>Audio-FA Production > Audio    (Starts: 12/30/2023)","Project Plan","FD02","Active","2025-01-12T03:04:21.592641+00:00"]
[null,null,null,null,null,null,"PP000000265_FA_Production>Creative","FA Production > Creative    (Starts: 12/30/2023)","PP000000265_FA_Production>Creative-FA Production > Creative    (Starts: 12/30/2023)","Project Plan","FD02","Active","2025-01-12T03:04:21.536697+00:00"]
[null,null,null,null,null,null,"PP000000267_FA_Production>Run_Crew","FA Production > Run Crew    (Starts: 12/30/2023)","PP000000267_FA_Production>Run_Crew-FA Production > Run Crew    (Starts: 12/30/2023)","Project Plan","FD02","Active","2025-01-12T03:04:21.536697+00:00"]
[null,null,null,null,null,null,"PP000000269_FA_Production>Creative","FA Production > Creative    (Starts: 12/30/2023)","PP000000269_FA_Production>Creative-FA Production > Creative    (Starts: 12/30/2023)","Project Plan","FD02","Active","2025-01-12T03:04:21.536697+00:00"]
[null,null,null,null,null,null,"PP000000270_FA_Production>Props","FA Production > Props    (Starts: 12/30/2023)","PP000000270_FA_Production>Props-FA Production > Props    (Starts: 12/30/2023)","Project Plan","FD02","Active","2025-01-12T03:04:21.650491+00:00"]
[null,null,null,null,null,null,"PP000000271_FA_Production>Other","FA Production > Other    (Starts: 12/30/2023)","PP000000271_FA_Production>Other-FA Production > Other    (Starts: 12/30/2023)","Project Plan","FD02","Active","2025-01-12T03:04:21.937427+00:00"]
[null,null,null,null,null,null,"PP000000272_FA_Production>Stage_Manager","FA Production > Stage Manager    (Starts: 12/30/2023)","PP000000272_FA_Production>Stage_Manager-FA Production > Stage Manager    (Starts: 12/30/2023)","Project Plan","FD02","Active","2025-01-12T03:04:21.98+00:00"]
[null,null,null,null,null,null,"PP000000274_FA_Production>Audio","FA Production > Audio    (Starts: 12/30/2023)","PP000000274_FA_Production>Audio-FA Production > Audio    (Starts: 12/30/2023)","Project Plan","FD02","Active","2025-01-12T03:04:21.98+00:00"]
[null,null,null,null,null,null,"PP000000275_FA_Production>Marketing","FA Production > Marketing    (Starts: 12/30/2023)","PP000000275_FA_Production>Marketing-FA Production > Marketing    (Starts: 12/30/2023)","Project Plan","FD02","Active","2025-01-12T03:04:21.937427+00:00"]
[null,null,null,null,null,null,"PP000000277_FA_Production>Scene_Shop","FA Production > Scene Shop    (Starts: 12/30/2023)","PP000000277_FA_Production>Scene_Shop-FA Production > Scene Shop    (Starts: 12/30/2023)","Project Plan","FD02","Active","2025-01-12T03:04:21.937427+00:00"]
[null,null,null,null,null,null,"PP000000279_FA_Production>FA_Makeup_Hair","FA Production > FA Makeup & Hair    (Starts: 12/30/2023)","PP000000279_FA_Production>FA_Makeup_Hair-FA Production > FA Makeup & Hair    (Starts: 12/30/2023)","Project Plan","FD02","Active","2025-01-12T03:04:21.98+00:00"]
[null,null,null,null,null,null,"PP000000280_FA_Production>Projection","FA Production > Projection    (Starts: 12/30/2023)","PP000000280_FA_Production>Projection-FA Production > Projection    (Starts: 12/30/2023)","Project Plan","FD02","Active","2025-01-12T03:04:21.98+00:00"]
[null,null,null,null,null,null,"PP000000281_FA_Production>Run_Crew","FA Production > Run Crew    (Starts: 12/30/2023)","PP000000281_FA_Production>Run_Crew-FA Production > Run Crew    (Starts: 12/30/2023)","Project Plan","FD02","Active","2025-01-12T03:04:21.98+00:00"]
[null,null,null,null,null,null,"PP000000282_FA_Production>Stage_Manager","FA Production > Stage Manager    (Starts: 12/30/2023)","PP000000282_FA_Production>Stage_Manager-FA Production > Stage Manager    (Starts: 12/30/2023)","Project Plan","FD02","Active","2025-01-12T03:04:21.98+00:00"]
[null,null,null,null,null,null,"PP000000284_FA_Production>Front_of_House","FA Production > Front of House    (Starts: 12/30/2023)","PP000000284_FA_Production>Front_of_House-FA Production > Front of House    (Starts: 12/30/2023)","Project Plan","FD02","Active","2025-01-12T03:04:21.536697+00:00"]
[null,null,null,null,null,null,"PP000000286_FA_Production>Lighting","Commercial Musi: FA Production > Lighting    (Starts: 12/30/2023)","PP000000286_FA_Production>Lighting-Commercial Musi: FA Production > Lighting    (Starts: 12/30/2023)","Project Plan","FD02","Active","2025-01-12T03:04:21.592641+00:00"]
[null,null,null,null,null,null,"PP000000288_FA_Production>Lighting","FA Production > Lighting    (Starts: 12/30/2023)","PP000000288_FA_Production>Lighting-FA Production > Lighting    (Starts: 12/30/2023)","Project Plan","FD02","Active","2025-01-12T03:04:21.592641+00:00"]
[null,null,null,null,null,null,"PP000000289_FA_Production>Other","FA Production > Other    (Starts: 12/30/2023)","PP000000289_FA_Production>Other-FA Production > Other    (Starts: 12/30/2023)","Project Plan","FD02","Active","2025-01-12T03:04:21.650491+00:00"]
[null,null,null,null,null,null,"PP000000290_FA_Production>Projection","FA Production > Projection    (Starts: 12/30/2023)","PP000000290_FA_Production>Projection-FA Production > Projection    (Starts: 12/30/2023)","Project Plan","FD02","Active","2025-01-12T03:04:21.592641+00:00"]
[null,null,null,null,null,null,"PP000000292_FA_Production>Audio","FA Production > Audio    (Starts: 12/30/2023)","PP000000292_FA_Production>Audio-FA Production > Audio    (Starts: 12/30/2023)","Project Plan","FD02","Active","2025-01-12T03:04:21.592641+00:00"]
[null,null,null,null,null,null,"PP000000293_FA_Production>Other","FA Production > Other    (Starts: 12/30/2023)","PP000000293_FA_Production>Other-FA Production > Other    (Starts: 12/30/2023)","Project Plan","FD02","Active","2025-01-12T03:04:21.650491+00:00"]
[null,null,null,null,null,null,"PP000000861_FA_Production>Costume_Shop","FA Production > Costume    (Starts: 12/30/2023)","PP000000861_FA_Production>Costume_Shop-FA Production > Costume    (Starts: 12/30/2023)","Project Plan","FD02","Active","2025-01-12T03:04:21.650491+00:00"]
[null,null,null,null,null,null,"PP000000891_FA_Production>FA_Makeup_Hair","FA Production > FA Makeup & Hair    (Starts: 12/30/2023)","PP000000891_FA_Production>FA_Makeup_Hair-FA Production > FA Makeup & Hair    (Starts: 12/30/2023)","Project Plan","FD02","Active","2025-01-12T03:04:21.650491+00:00"]
[null,null,null,null,null,null,"PP000000892_FA_Production>Lighting","FA Production > Lighting    (Starts: 12/30/2023)","PP000000892_FA_Production>Lighting-FA Production > Lighting    (Starts: 12/30/2023)","Project Plan","FD02","Active","2025-01-12T03:04:21.650491+00:00"]
[null,null,null,null,null,null,"PP000000893_FA_Production>Run_Crew","FA Production > Run Crew    (Starts: 12/30/2023)","PP000000893_FA_Production>Run_Crew-FA Production > Run Crew    (Starts: 12/30/2023)","Project Plan","FD02","Active","2025-01-12T03:04:21.650491+00:00"]
[null,null,null,null,null,null,"PP000000919_FA_Production>Stage_Manager","FA Production > Stage Manager    (Starts: 12/30/2023)","PP000000919_FA_Production>Stage_Manager-FA Production > Stage Manager    (Starts: 12/30/2023)","Project Plan","FD02","Active","2025-01-12T03:04:21.709885+00:00"]
[null,null,null,null,null,null,"PP000000921_FA_Production>Audio","FA Production > Audio    (Starts: 12/30/2023)","PP000000921_FA_Production>Audio-FA Production > Audio    (Starts: 12/30/2023)","Project Plan","FD02","Active","2025-01-12T03:04:21.709885+00:00"]
[null,null,null,null,null,null,"PP000000923_FA_Production>Stage_Operations","FA Production > Stage Operations    (Starts: 12/30/2023)","PP000000923_FA_Production>Stage_Operations-FA Production > Stage Operations    (Starts: 12/30/2023)","Project Plan","FD02","Active","2025-01-12T03:04:21.772455+00:00"]
[null,null,null,null,null,null,"PP000000925_FA_Production>Costume_Shop","FA Production > Costume    (Starts: 12/30/2023)","PP000000925_FA_Production>Costume_Shop-FA Production > Costume    (Starts: 12/30/2023)","Project Plan","FD02","Active","2025-01-12T03:04:21.772455+00:00"]
[null,null,null,null,null,null,"PP000000926_FA_Production>Other","Philharmonic: FA Production > Other    (Starts: 12/30/2023)","PP000000926_FA_Production>Other-Philharmonic: FA Production > Other    (Starts: 12/30/2023)","Project Plan","FD02","Active","2025-01-12T03:04:21.709885+00:00"]
[null,null,null,null,null,null,"PP000001027_FA_Production>Projection","FA Production > Projection    (Starts: 12/30/2023)","PP000001027_FA_Production>Projection-FA Production > Projection    (Starts: 12/30/2023)","Project Plan","FD02","Active","2025-01-12T03:04:21.772455+00:00"]
[null,null,null,null,null,null,"PP000001029_FA_Production>Props","FA Production > Props    (Starts: 12/30/2023)","PP000001029_FA_Production>Props-FA Production > Props    (Starts: 12/30/2023)","Project Plan","FD02","Active","2025-01-12T03:04:21.772455+00:00"]
[null,null,null,null,null,null,"PP000001031_FA_Production>FA_Makeup_Hair","FA Production > FA Makeup & Hair    (Starts: 12/30/2023)","PP000001031_FA_Production>FA_Makeup_Hair-FA Production > FA Makeup & Hair    (Starts: 12/30/2023)","Project Plan","FD02","Active","2025-01-12T03:04:21.772455+00:00"]
[null,null,null,null,null,null,"PP000002062_FA_Production>Run_Crew","FA Production > Run Crew    (Starts: 12/30/2023)","PP000002062_FA_Production>Run_Crew-FA Production > Run Crew    (Starts: 12/30/2023)","Project Plan","FD02","Active","2025-01-12T03:04:22.024732+00:00"]
[null,null,null,null,null,null,"PP000002426_FA_Production>Creative","haracters of Myth: FA Production > Creative    (Starts: 12/30/2023)","PP000002426_FA_Production>Creative-haracters of Myth: FA Production > Creative    (Starts: 12/30/2023)","Project Plan","FD02","Active","2025-01-12T03:04:22.083811+00:00"]
[null,null,null,null,null,null,"PP000002427_FA_Production>Front_of_House","FA Production > Front of House    (Starts: 12/30/2023)","PP000002427_FA_Production>Front_of_House-FA Production > Front of House    (Starts: 12/30/2023)","Project Plan","FD02","Active","2025-01-12T03:04:22.024732+00:00"]
[null,null,null,null,null,null,"PP000002428_FA_Production>Marketing","FA Production > Marketing    (Starts: 12/30/2023)","PP000002428_FA_Production>Marketing-FA Production > Marketing    (Starts: 12/30/2023)","Project Plan","FD02","Active","2025-01-12T03:04:22.083811+00:00"]
[null,null,null,null,null,null,"PP000002432_FA_Production>Marketing","Recitals: FA Production > Marketing    (Starts: 12/30/2023)","PP000002432_FA_Production>Marketing-Recitals: FA Production > Marketing    (Starts: 12/30/2023)","Project Plan","FD02","Active","2025-01-12T03:04:21.772455+00:00"]
[null,null,null,null,null,null,"PP000002434_FA_Production>Audio","FA Production > Audio    (Starts: 12/30/2023)","PP000002434_FA_Production>Audio-FA Production > Audio    (Starts: 12/30/2023)","Project Plan","FD02","Active","2025-01-12T03:04:22.024732+00:00"]
[null,null,null,null,null,null,"PP000002444_FA_Production>Projection","FA Production > Projection    (Starts: 12/30/2023)","PP000002444_FA_Production>Projection-FA Production > Projection    (Starts: 12/30/2023)","Project Plan","FD02","Active","2025-01-12T03:04:22.024732+00:00"]
[null,null,null,null,null,null,"PP000002490_FA_Production>Audio","FA Production > Audio    (Starts: 12/30/2023)","PP000002490_FA_Production>Audio-FA Production > Audio    (Starts: 12/30/2023)","Project Plan","FD02","Active","2025-01-12T03:04:22.024732+00:00"]
[null,null,null,null,null,null,"PP000002491_FA_Production>Creative","FA Production > Creative    (Starts: 12/30/2023)","PP000002491_FA_Production>Creative-FA Production > Creative    (Starts: 12/30/2023)","Project Plan","FD02","Active","2025-01-12T03:04:22.024732+00:00"]
[null,null,null,null,null,null,"PP000002493_FA_Production>Costume_Shop","FA Production > Costume    (Starts: 12/30/2023)","PP000002493_FA_Production>Costume_Shop-FA Production > Costume    (Starts: 12/30/2023)","Project Plan","FD02","Active","2025-01-12T03:04:22.024732+00:00"]
[null,null,null,null,null,null,"PP000002493_FA_Production>Run_Crew","FA Production > Run Crew    (Starts: 12/30/2023)","PP000002493_FA_Production>Run_Crew-FA Production > Run Crew    (Starts: 12/30/2023)","Project Plan","FD02","Active","2025-01-12T03:04:22.024732+00:00"]
[null,null,null,null,null,null,"PP000002518_FA_Production>Stage_Manager","FA Production > Stage Manager    (Starts: 12/30/2023)","PP000002518_FA_Production>Stage_Manager-FA Production > Stage Manager    (Starts: 12/30/2023)","Project Plan","FD02","Active","2025-01-12T03:04:22.024732+00:00"]
[null,null,null,null,null,null,"PP000002567_FA_Production>Front_of_House","FA Production > Front of House    (Starts: 12/30/2023)","PP000002567_FA_Production>Front_of_House-FA Production > Front of House    (Starts: 12/30/2023)","Project Plan","FD02","Active","2025-01-12T03:04:22.083811+00:00"]
[null,null,null,null,null,null,"PP000002569_FA_Production>Stage_Manager","FA Production > Stage Manager    (Starts: 12/30/2023)","PP000002569_FA_Production>Stage_Manager-FA Production > Stage Manager    (Starts: 12/30/2023)","Project Plan","FD02","Active","2025-01-12T03:04:22.083811+00:00"]
[null,null,null,null,null,null,"PP000002643_FA_Production>Audio","FA Production > Audio    (Starts: 12/30/2023)","PP000002643_FA_Production>Audio-FA Production > Audio    (Starts: 12/30/2023)","Project Plan","FD02","Active","2025-01-12T03:04:22.024732+00:00"]
[null,null,null,null,null,null,"PP000002867_FA_Production>Projection","FA Production > Projection    (Starts: 12/30/2023)","PP000002867_FA_Production>Projection-FA Production > Projection    (Starts: 12/30/2023)","Project Plan","FD02","Active","2025-01-12T03:04:22.083811+00:00"]
[null,null,null,null,null,null,"PP000002868_FA_Production>Projection","FA Production > Projection    (Starts: 12/30/2023)","PP000002868_FA_Production>Projection-FA Production > Projection    (Starts: 12/30/2023)","Project Plan","FD02","Active","2025-01-12T03:04:22.083811+00:00"]
[null,null,null,null,null,null,"PP000002870_FA_Production>Audio","FA Production > Audio    (Starts: 12/30/2023)","PP000002870_FA_Production>Audio-FA Production > Audio    (Starts: 12/30/2023)","Project Plan","FD02","Active","2025-01-12T03:04:22.083811+00:00"]
[null,null,null,null,null,null,"PP000002871_FA_Production>Creative","FA Production > Creative    (Starts: 12/30/2023)","PP000002871_FA_Production>Creative-FA Production > Creative    (Starts: 12/30/2023)","Project Plan","FD02","Active","2025-01-12T03:04:22.134052+00:00"]
[null,null,null,null,null,null,"PP000002990_FA_Production>Run_Crew","FA Production > Run Crew    (Starts: 09/30/2024)","PP000002990_FA_Production>Run_Crew-FA Production > Run Crew    (Starts: 09/30/2024)","Project Plan","FD02","Active","2025-01-12T03:04:22.083811+00:00"]
[null,null,null,null,null,null,"PP000003035_FA_Production>Run_Crew","Babe the Sheep Pig: FA Production > Run Crew    (Starts: 02/01/2024)","PP000003035_FA_Production>Run_Crew-Babe the Sheep Pig: FA Production > Run Crew    (Starts: 02/01/2024)","Project Plan","FD02","Active","2025-01-12T03:04:22.134052+00:00"]
[null,null,null,null,null,null,"PP000003075_FA_Production>Lighting","BYU Blast!: FA Production > Lighting    (Starts: 09/30/2024)","PP000003075_FA_Production>Lighting-BYU Blast!: FA Production > Lighting    (Starts: 09/30/2024)","Project Plan","FD02","Active","2025-01-12T03:04:22.134052+00:00"]
[null,null,null,null,null,null,"PP000003243_FA_Production>Run_Crew","FA Production > Run Crew    (Starts: 02/01/2024)","PP000003243_FA_Production>Run_Crew-FA Production > Run Crew    (Starts: 02/01/2024)","Project Plan","FD02","Active","2025-01-12T03:04:22.134052+00:00"]
[null,null,null,null,null,null,"PP000003449_FA_Production>Stage_Manager","FA Production > Stage Manager    (Starts: 09/30/2024)","PP000003449_FA_Production>Stage_Manager-FA Production > Stage Manager    (Starts: 09/30/2024)","Project Plan","FD02","Active","2025-01-12T03:04:22.024732+00:00"]
[null,null,null,null,null,null,"PP000003532_FA_Production>Audio","FA Production > Audio    (Starts: 09/30/2024)","PP000003532_FA_Production>Audio-FA Production > Audio    (Starts: 09/30/2024)","Project Plan","FD02","Active","2025-01-12T03:04:22.134052+00:00"]
[null,null,null,null,null,null,"PP000003533_FA_Production>Marketing","FA Production > Marketing    (Starts: 09/30/2024)","PP000003533_FA_Production>Marketing-FA Production > Marketing    (Starts: 09/30/2024)","Project Plan","FD02","Active","2025-02-04T03:04:49.546065+00:00"]
[null,null,null,null,null,null,"PP000003537_FA_Production>Front_of_House","FA Production > Front of House    (Starts: 06/01/2024)","PP000003537_FA_Production>Front_of_House-FA Production > Front of House    (Starts: 06/01/2024)","Project Plan","FD02","Active","2025-01-12T03:04:22.083811+00:00"]
[null,null,null,null,null,null,"PPIT000000375_OIT>a>Deliver","OIT > Deliver    (Starts: 01/01/2025)","PPIT000000375_OIT>a>Deliver-OIT > Deliver    (Starts: 01/01/2025)","Project Plan","FD01","Active","2025-02-25T03:04:03.371912+00:00"]
[null,null,null,null,null,null,"PPIT000001106_OIT>a>Deliver","OIT > Deliver    (Starts: 01/01/2025)","PPIT000001106_OIT>a>Deliver-OIT > Deliver    (Starts: 01/01/2025)","Project Plan","FD01","Active","2025-04-01T02:03:57.526982+00:00"]
[null,null,null,null,null,null,"PPOP000000103_OIT>a>Maintenance","OIT > Maintenance  (01/01/2025 - 12/31/2025)","PPOP000000103_OIT>a>Maintenance-OIT > Maintenance  (01/01/2025 - 12/31/2025)","Project Plan","FD01","Active","2025-01-02T03:05:12.976744+00:00"]
[null,null,null,null,null,null,"PPOP000000107_OIT>b>Enhancement","OIT > Enhancement  (01/01/2025 - 12/31/2025)","PPOP000000107_OIT>b>Enhancement-OIT > Enhancement  (01/01/2025 - 12/31/2025)","Project Plan","FD01","Active","2025-01-02T03:05:12.976744+00:00"]
[null,null,null,null,null,null,"PPOP000000111_OIT>a>Maintenance","OIT > Maintenance  (01/01/2025 - 12/31/2025)","PPOP000000111_OIT>a>Maintenance-OIT > Maintenance  (01/01/2025 - 12/31/2025)","Project Plan","FD01","Active","2025-01-02T03:05:12.976744+00:00"]
[null,null,null,null,null,null,"PPOP000000118_OIT>d>User_Support","OIT > User Support  (01/01/2025 - 12/31/2025)","PPOP000000118_OIT>d>User_Support-OIT > User Support  (01/01/2025 - 12/31/2025)","Project Plan","FD01","Active","2025-01-02T03:05:13.038921+00:00"]
[null,null,null,null,null,null,"PPOP000000122_OIT>e>Consultation_Planning","OIT > Consultation & Planning  (01/01/2025 - 12/31/2025)","PPOP000000122_OIT>e>Consultation_Planning-OIT > Consultation & Planning  (01/01/2025 - 12/31/2025)","Project Plan","FD01","Active","2025-01-02T03:05:13.038921+00:00"]
[null,null,null,null,null,null,"PPOP000000126_OIT>b>Enhancement","OIT > Enhancement  (01/01/2025 - 12/31/2025)","PPOP000000126_OIT>b>Enhancement-OIT > Enhancement  (01/01/2025 - 12/31/2025)","Project Plan","FD01","Active","2025-01-02T03:05:13.038921+00:00"]
[null,null,null,null,null,null,"PPOP000000130_OIT>c>Order_Fulfillment","OIT > Order Fulfillment  (01/01/2025 - 12/31/2025)","PPOP000000130_OIT>c>Order_Fulfillment-OIT > Order Fulfillment  (01/01/2025 - 12/31/2025)","Project Plan","FD01","Active","2025-01-02T03:05:13.038921+00:00"]
[null,null,null,null,null,null,"PPOP000000133_OIT>e>Consultation_Planning","OIT > Consultation & Planning  (01/01/2025 - 12/31/2025)","PPOP000000133_OIT>e>Consultation_Planning-OIT > Consultation & Planning  (01/01/2025 - 12/31/2025)","Project Plan","FD01","Active","2025-01-02T03:05:13.038921+00:00"]
[null,null,null,null,null,null,"PPOP000000141_OIT>b>Enhancement","OIT > Enhancement  (01/01/2025 - 12/31/2025)","PPOP000000141_OIT>b>Enhancement-OIT > Enhancement  (01/01/2025 - 12/31/2025)","Project Plan","FD01","Active","2025-01-02T03:05:13.038921+00:00"]
[null,null,null,null,null,null,"PPOP000000141_OIT>d>User_Support","OIT > User Support  (01/01/2025 - 12/31/2025)","PPOP000000141_OIT>d>User_Support-OIT > User Support  (01/01/2025 - 12/31/2025)","Project Plan","FD01","Active","2025-01-02T03:05:13.038921+00:00"]
[null,null,null,null,null,null,"PPOP000000149_OIT>c>Order_Fulfillment","OIT > Order Fulfillment  (01/01/2025 - 12/31/2025)","PPOP000000149_OIT>c>Order_Fulfillment-OIT > Order Fulfillment  (01/01/2025 - 12/31/2025)","Project Plan","FD01","Active","2025-01-02T03:05:13.038921+00:00"]
[null,null,null,null,null,null,"PPOP000000152_OIT>e>Consultation_Planning","OIT > Consultation & Planning  (01/01/2025 - 12/31/2025)","PPOP000000152_OIT>e>Consultation_Planning-OIT > Consultation & Planning  (01/01/2025 - 12/31/2025)","Project Plan","FD01","Active","2025-01-02T03:05:13.038921+00:00"]
[null,null,null,null,null,null,"PPOP000000177_OIT>a>Deliver","OIT > Deliver    (Starts: 01/01/2025)","PPOP000000177_OIT>a>Deliver-OIT > Deliver    (Starts: 01/01/2025)","Project Plan","FD01","Active","2025-01-08T03:04:37.01015+00:00"]
[null,null,null,null,null,null,"PPOP000000232_OIT>c>Order_Fulfillment","OIT > Order Fulfillment","PPOP000000232_OIT>c>Order_Fulfillment-OIT > Order Fulfillment","Project Plan","FD01","Active","2025-01-08T03:04:37.01015+00:00"]
[null,null,null,null,null,null,"PPOP000000260_OIT>a>Deliver","OIT > Deliver    (Starts: 01/01/2025)","PPOP000000260_OIT>a>Deliver-OIT > Deliver    (Starts: 01/01/2025)","Project Plan","FD01","Active","2025-01-08T03:04:37.01015+00:00"]
[null,null,null,null,null,null,"PPOP000000293_OIT>a>Deliver","OIT > Deliver    (Starts: 01/01/2025)","PPOP000000293_OIT>a>Deliver-OIT > Deliver    (Starts: 01/01/2025)","Project Plan","FD01","Active","2025-01-08T03:04:37.01015+00:00"]
[null,null,null,null,null,null,"PPOP000000426_OIT>c>Order_Fulfillment","OIT > Order Fulfillment  (01/01/2025 - 12/31/2025)","PPOP000000426_OIT>c>Order_Fulfillment-OIT > Order Fulfillment  (01/01/2025 - 12/31/2025)","Project Plan","FD01","Active","2025-01-29T03:04:18.341583+00:00"]
[null,null,null,null,null,null,"PPOP000000451_OIT>c>Order_Fulfillment","OIT > Order Fulfillment  (01/01/2025 - 12/31/2025)","PPOP000000451_OIT>c>Order_Fulfillment-OIT > Order Fulfillment  (01/01/2025 - 12/31/2025)","Project Plan","FD01","Active","2025-02-08T03:04:07.450549+00:00"]
[null,null,null,null,null,null,"PPOP000000458_OIT>d>User_Support","OIT > User Support  (01/01/2025 - 12/31/2025)","PPOP000000458_OIT>d>User_Support-OIT > User Support  (01/01/2025 - 12/31/2025)","Project Plan","FD01","Active","2025-02-11T16:05:13.368373+00:00"]
[null,null,null,null,null,null,"PPOP000000460_OIT>c>Order_Fulfillment","OIT > Order Fulfillment  (01/01/2025 - 12/31/2025)","PPOP000000460_OIT>c>Order_Fulfillment-OIT > Order Fulfillment  (01/01/2025 - 12/31/2025)","Project Plan","FD01","Active","2025-02-11T16:05:13.368373+00:00"]
[null,null,null,null,null,null,"PPOP000000460_OIT>d>User_Support","OIT > User Support  (01/01/2025 - 12/31/2025)","PPOP000000460_OIT>d>User_Support-OIT > User Support  (01/01/2025 - 12/31/2025)","Project Plan","FD01","Active","2025-02-11T16:05:13.368373+00:00"]
[null,null,null,null,null,null,"PPOP000000460_OIT>e>Consultation_Planning","OIT > Consultation & Planning  (01/01/2025 - 12/31/2025)","PPOP000000460_OIT>e>Consultation_Planning-OIT > Consultation & Planning  (01/01/2025 - 12/31/2025)","Project Plan","FD01","Active","2025-02-11T16:05:13.368373+00:00"]
[null,null,null,null,null,null,"PPOP000000461_OIT>a>Maintenance","OIT > Maintenance  (01/01/2025 - 12/31/2025)","PPOP000000461_OIT>a>Maintenance-OIT > Maintenance  (01/01/2025 - 12/31/2025)","Project Plan","FD01","Active","2025-03-27T02:04:07.663585+00:00"]
[null,null,null,null,null,null,"PPOP000000461_OIT>b>Enhancement","OIT > Enhancement  (01/01/2025 - 12/31/2025)","PPOP000000461_OIT>b>Enhancement-OIT > Enhancement  (01/01/2025 - 12/31/2025)","Project Plan","FD01","Active","2025-03-27T02:04:07.663585+00:00"]
[null,null,null,null,null,null,"PPOP000000461_OIT>c>Order_Fulfillment","OIT > Order Fulfillment  (01/01/2025 - 12/31/2025)","PPOP000000461_OIT>c>Order_Fulfillment-OIT > Order Fulfillment  (01/01/2025 - 12/31/2025)","Project Plan","FD01","Active","2025-03-27T02:04:07.663585+00:00"]
[null,null,null,null,null,null,"PPOP000000461_OIT>d>User_Support","OIT > User Support  (01/01/2025 - 12/31/2025)","PPOP000000461_OIT>d>User_Support-OIT > User Support  (01/01/2025 - 12/31/2025)","Project Plan","FD01","Active","2025-03-27T02:04:07.663585+00:00"]
[null,null,null,null,null,null,"PPOP000000461_OIT>e>Consultation_Planning","OIT > Consultation & Planning  (01/01/2025 - 12/31/2025)","PPOP000000461_OIT>e>Consultation_Planning-OIT > Consultation & Planning  (01/01/2025 - 12/31/2025)","Project Plan","FD01","Active","2025-03-27T02:04:07.663585+00:00"]
[null,null,null,null,null,null,"PPOP000000462_OIT>a>Maintenance","OIT > Maintenance  (01/01/2025 - 12/31/2025)","PPOP000000462_OIT>a>Maintenance-OIT > Maintenance  (01/01/2025 - 12/31/2025)","Project Plan","FD01","Active","2025-02-11T16:05:13.368373+00:00"]
[null,null,null,null,null,null,"PPOP000000462_OIT>b>Enhancement","OIT > Enhancement  (01/01/2025 - 12/31/2025)","PPOP000000462_OIT>b>Enhancement-OIT > Enhancement  (01/01/2025 - 12/31/2025)","Project Plan","FD01","Active","2025-02-11T16:05:16.411397+00:00"]
[null,null,null,null,null,null,"PPOP000000462_OIT>c>Order_Fulfillment","OIT > Order Fulfillment  (01/01/2025 - 12/31/2025)","PPOP000000462_OIT>c>Order_Fulfillment-OIT > Order Fulfillment  (01/01/2025 - 12/31/2025)","Project Plan","FD01","Active","2025-02-11T16:05:16.411397+00:00"]
[null,null,null,null,null,null,"PPOP000000462_OIT>d>User_Support","OIT > User Support  (01/01/2025 - 12/31/2025)","PPOP000000462_OIT>d>User_Support-OIT > User Support  (01/01/2025 - 12/31/2025)","Project Plan","FD01","Active","2025-02-11T16:05:16.411397+00:00"]
[null,null,null,null,null,null,"PPOP000000462_OIT>e>Consultation_Planning","OIT > Consultation & Planning  (01/01/2025 - 12/31/2025)","PPOP000000462_OIT>e>Consultation_Planning-OIT > Consultation & Planning  (01/01/2025 - 12/31/2025)","Project Plan","FD01","Active","2025-02-11T16:05:16.411397+00:00"]
[null,null,null,null,null,null,"PPOP000000463_OIT>a>Maintenance","OIT > Maintenance  (01/01/2025 - 12/31/2025)","PPOP000000463_OIT>a>Maintenance-OIT > Maintenance  (01/01/2025 - 12/31/2025)","Project Plan","FD01","Active","2025-02-11T16:05:13.368373+00:00"]
[null,null,null,null,null,null,"PPOP000000463_OIT>b>Enhancement","OIT > Enhancement  (01/01/2025 - 12/31/2025)","PPOP000000463_OIT>b>Enhancement-OIT > Enhancement  (01/01/2025 - 12/31/2025)","Project Plan","FD01","Active","2025-02-11T16:05:13.368373+00:00"]
[null,null,null,null,null,null,"PPOP000000463_OIT>c>Order_Fulfillment","OIT > Order Fulfillment  (01/01/2025 - 12/31/2025)","PPOP000000463_OIT>c>Order_Fulfillment-OIT > Order Fulfillment  (01/01/2025 - 12/31/2025)","Project Plan","FD01","Active","2025-02-11T16:05:13.368373+00:00"]
[null,null,null,null,null,null,"PPOP000000463_OIT>d>User_Support","OIT > User Support  (01/01/2025 - 12/31/2025)","PPOP000000463_OIT>d>User_Support-OIT > User Support  (01/01/2025 - 12/31/2025)","Project Plan","FD01","Active","2025-02-11T16:05:13.368373+00:00"]
[null,null,null,null,null,null,"PPOP000000463_OIT>e>Consultation_Planning","OIT > Consultation & Planning  (01/01/2025 - 12/31/2025)","PPOP000000463_OIT>e>Consultation_Planning-OIT > Consultation & Planning  (01/01/2025 - 12/31/2025)","Project Plan","FD01","Active","2025-02-11T16:05:13.368373+00:00"]
[null,null,null,null,null,null,"PPOP000000464_OIT>a>Maintenance","OIT > Maintenance  (01/01/2025 - 12/31/2025)","PPOP000000464_OIT>a>Maintenance-OIT > Maintenance  (01/01/2025 - 12/31/2025)","Project Plan","FD01","Active","2025-02-11T16:05:16.411397+00:00"]
[null,null,null,null,null,null,"PPOP000000464_OIT>b>Enhancement","OIT > Enhancement  (01/01/2025 - 12/31/2025)","PPOP000000464_OIT>b>Enhancement-OIT > Enhancement  (01/01/2025 - 12/31/2025)","Project Plan","FD01","Active","2025-02-11T16:05:16.411397+00:00"]
[null,null,null,null,null,null,"PPOP000000464_OIT>c>Order_Fulfillment","OIT > Order Fulfillment  (01/01/2025 - 12/31/2025)","PPOP000000464_OIT>c>Order_Fulfillment-OIT > Order Fulfillment  (01/01/2025 - 12/31/2025)","Project Plan","FD01","Active","2025-02-11T16:05:16.411397+00:00"]
[null,null,null,null,null,null,"PPOP000000464_OIT>d>User_Support","OIT > User Support  (01/01/2025 - 12/31/2025)","PPOP000000464_OIT>d>User_Support-OIT > User Support  (01/01/2025 - 12/31/2025)","Project Plan","FD01","Active","2025-02-11T16:05:16.411397+00:00"]
[null,null,null,null,null,null,"PPOP000000464_OIT>e>Consultation_Planning","OIT > Consultation & Planning  (01/01/2025 - 12/31/2025)","PPOP000000464_OIT>e>Consultation_Planning-OIT > Consultation & Planning  (01/01/2025 - 12/31/2025)","Project Plan","FD01","Active","2025-02-11T16:05:16.411397+00:00"]
[null,null,null,null,null,null,"PPOP000000465_OIT>a>Maintenance","OIT > Maintenance  (01/01/2025 - 12/31/2025)","PPOP000000465_OIT>a>Maintenance-OIT > Maintenance  (01/01/2025 - 12/31/2025)","Project Plan","FD01","Active","2025-02-12T03:04:46.358961+00:00"]
[null,null,null,null,null,null,"PPOP000000465_OIT>b>Enhancement","OIT > Enhancement  (01/01/2025 - 12/31/2025)","PPOP000000465_OIT>b>Enhancement-OIT > Enhancement  (01/01/2025 - 12/31/2025)","Project Plan","FD01","Active","2025-02-12T03:04:46.358961+00:00"]
[null,null,null,null,null,null,"PPOP000000465_OIT>c>Order_Fulfillment","OIT > Order Fulfillment  (01/01/2025 - 12/31/2025)","PPOP000000465_OIT>c>Order_Fulfillment-OIT > Order Fulfillment  (01/01/2025 - 12/31/2025)","Project Plan","FD01","Active","2025-02-12T03:04:46.358961+00:00"]
[null,null,null,null,null,null,"PPOP000000465_OIT>d>User_Support","OIT > User Support  (01/01/2025 - 12/31/2025)","PPOP000000465_OIT>d>User_Support-OIT > User Support  (01/01/2025 - 12/31/2025)","Project Plan","FD01","Active","2025-02-12T03:04:46.358961+00:00"]
[null,null,null,null,null,null,"PPOP000000465_OIT>e>Consultation_Planning","OIT > Consultation & Planning  (01/01/2025 - 12/31/2025)","PPOP000000465_OIT>e>Consultation_Planning-OIT > Consultation & Planning  (01/01/2025 - 12/31/2025)","Project Plan","FD01","Active","2025-02-12T03:04:46.358961+00:00"]
[null,null,null,null,null,null,"PPOP000000466_OIT>a>Maintenance","OIT > Maintenance  (01/01/2025 - 12/31/2025)","PPOP000000466_OIT>a>Maintenance-OIT > Maintenance  (01/01/2025 - 12/31/2025)","Project Plan","FD01","Active","2025-02-11T16:05:16.411397+00:00"]
[null,null,null,null,null,null,"PPOP000000466_OIT>b>Enhancement","OIT > Enhancement  (01/01/2025 - 12/31/2025)","PPOP000000466_OIT>b>Enhancement-OIT > Enhancement  (01/01/2025 - 12/31/2025)","Project Plan","FD01","Active","2025-02-11T16:05:16.411397+00:00"]
[null,null,null,null,null,null,"PPOP000000466_OIT>c>Order_Fulfillment","OIT > Order Fulfillment  (01/01/2025 - 12/31/2025)","PPOP000000466_OIT>c>Order_Fulfillment-OIT > Order Fulfillment  (01/01/2025 - 12/31/2025)","Project Plan","FD01","Active","2025-02-11T16:05:16.411397+00:00"]
[null,null,null,null,null,null,"PPOP000000466_OIT>d>User_Support","OIT > User Support  (01/01/2025 - 12/31/2025)","PPOP000000466_OIT>d>User_Support-OIT > User Support  (01/01/2025 - 12/31/2025)","Project Plan","FD01","Active","2025-02-11T16:05:16.411397+00:00"]
[null,null,null,null,null,null,"PPOP000000466_OIT>e>Consultation_Planning","OIT > Consultation & Planning  (01/01/2025 - 12/31/2025)","PPOP000000466_OIT>e>Consultation_Planning-OIT > Consultation & Planning  (01/01/2025 - 12/31/2025)","Project Plan","FD01","Active","2025-02-11T16:05:16.411397+00:00"]
[null,null,null,null,null,null,"PPOP000000467_OIT>a>Maintenance","OIT > Maintenance  (01/01/2025 - 12/31/2025)","PPOP000000467_OIT>a>Maintenance-OIT > Maintenance  (01/01/2025 - 12/31/2025)","Project Plan","FD01","Active","2025-02-11T16:05:16.411397+00:00"]
[null,null,null,null,null,null,"PPOP000000467_OIT>b>Enhancement","OIT > Enhancement  (01/01/2025 - 12/31/2025)","PPOP000000467_OIT>b>Enhancement-OIT > Enhancement  (01/01/2025 - 12/31/2025)","Project Plan","FD01","Active","2025-02-11T16:05:16.411397+00:00"]
[null,null,null,null,null,null,"PPOP000000467_OIT>c>Order_Fulfillment","OIT > Order Fulfillment  (01/01/2025 - 12/31/2025)","PPOP000000467_OIT>c>Order_Fulfillment-OIT > Order Fulfillment  (01/01/2025 - 12/31/2025)","Project Plan","FD01","Active","2025-02-11T16:05:16.411397+00:00"]
[null,null,null,null,null,null,"PPOP000000467_OIT>d>User_Support","OIT > User Support  (01/01/2025 - 12/31/2025)","PPOP000000467_OIT>d>User_Support-OIT > User Support  (01/01/2025 - 12/31/2025)","Project Plan","FD01","Active","2025-02-11T16:05:16.411397+00:00"]
[null,null,null,null,null,null,"PPOP000000467_OIT>e>Consultation_Planning","OIT > Consultation & Planning  (01/01/2025 - 12/31/2025)","PPOP000000467_OIT>e>Consultation_Planning-OIT > Consultation & Planning  (01/01/2025 - 12/31/2025)","Project Plan","FD01","Active","2025-02-11T16:05:16.411397+00:00"]
[null,null,null,null,null,null,"PPOP000000468_OIT>a>Maintenance","OIT > Maintenance  (01/01/2025 - 12/31/2025)","PPOP000000468_OIT>a>Maintenance-OIT > Maintenance  (01/01/2025 - 12/31/2025)","Project Plan","FD01","Active","2025-02-11T16:05:16.411397+00:00"]
[null,null,null,null,null,null,"PPOP000000468_OIT>b>Enhancement","OIT > Enhancement  (01/01/2025 - 12/31/2025)","PPOP000000468_OIT>b>Enhancement-OIT > Enhancement  (01/01/2025 - 12/31/2025)","Project Plan","FD01","Active","2025-02-11T16:05:16.411397+00:00"]
[null,null,null,null,null,null,"PPOP000000468_OIT>c>Order_Fulfillment","OIT > Order Fulfillment  (01/01/2025 - 12/31/2025)","PPOP000000468_OIT>c>Order_Fulfillment-OIT > Order Fulfillment  (01/01/2025 - 12/31/2025)","Project Plan","FD01","Active","2025-02-11T16:05:16.411397+00:00"]
[null,null,null,null,null,null,"PPOP000000468_OIT>d>User_Support","OIT > User Support  (01/01/2025 - 12/31/2025)","PPOP000000468_OIT>d>User_Support-OIT > User Support  (01/01/2025 - 12/31/2025)","Project Plan","FD01","Active","2025-02-11T16:05:16.411397+00:00"]
[null,null,null,null,null,null,"PPOP000000468_OIT>e>Consultation_Planning","OIT > Consultation & Planning  (01/01/2025 - 12/31/2025)","PPOP000000468_OIT>e>Consultation_Planning-OIT > Consultation & Planning  (01/01/2025 - 12/31/2025)","Project Plan","FD01","Active","2025-02-11T16:05:16.411397+00:00"]
[null,null,null,null,null,null,"PPOP000000469_OIT>a>Maintenance","OIT > Maintenance  (01/01/2025 - 12/31/2025)","PPOP000000469_OIT>a>Maintenance-OIT > Maintenance  (01/01/2025 - 12/31/2025)","Project Plan","FD01","Active","2025-02-11T16:05:16.411397+00:00"]
[null,null,null,null,null,null,"PPOP000000469_OIT>b>Enhancement","OIT > Enhancement  (01/01/2025 - 12/31/2025)","PPOP000000469_OIT>b>Enhancement-OIT > Enhancement  (01/01/2025 - 12/31/2025)","Project Plan","FD01","Active","2025-02-11T16:05:16.411397+00:00"]
[null,null,null,null,null,null,"PPOP000000469_OIT>c>Order_Fulfillment","OIT > Order Fulfillment  (01/01/2025 - 12/31/2025)","PPOP000000469_OIT>c>Order_Fulfillment-OIT > Order Fulfillment  (01/01/2025 - 12/31/2025)","Project Plan","FD01","Active","2025-02-11T16:05:16.411397+00:00"]
[null,null,null,null,null,null,"PPOP000000469_OIT>d>User_Support","OIT > User Support  (01/01/2025 - 12/31/2025)","PPOP000000469_OIT>d>User_Support-OIT > User Support  (01/01/2025 - 12/31/2025)","Project Plan","FD01","Active","2025-02-11T16:05:16.411397+00:00"]
[null,null,null,null,null,null,"PPOP000000469_OIT>e>Consultation_Planning","OIT > Consultation & Planning  (01/01/2025 - 12/31/2025)","PPOP000000469_OIT>e>Consultation_Planning-OIT > Consultation & Planning  (01/01/2025 - 12/31/2025)","Project Plan","FD01","Active","2025-02-11T16:05:16.411397+00:00"]
[null,null,null,null,null,null,"PPOP000000470_OIT>a>Maintenance","OIT > Maintenance  (01/01/2025 - 12/31/2025)","PPOP000000470_OIT>a>Maintenance-OIT > Maintenance  (01/01/2025 - 12/31/2025)","Project Plan","FD01","Active","2025-02-11T16:05:16.411397+00:00"]
[null,null,null,null,null,null,"PPOP000000470_OIT>b>Enhancement","OIT > Enhancement  (01/01/2025 - 12/31/2025)","PPOP000000470_OIT>b>Enhancement-OIT > Enhancement  (01/01/2025 - 12/31/2025)","Project Plan","FD01","Active","2025-02-11T16:05:16.411397+00:00"]
[null,null,null,null,null,null,"PPOP000000470_OIT>c>Order_Fulfillment","OIT > Order Fulfillment  (01/01/2025 - 12/31/2025)","PPOP000000470_OIT>c>Order_Fulfillment-OIT > Order Fulfillment  (01/01/2025 - 12/31/2025)","Project Plan","FD01","Active","2025-02-11T16:05:16.411397+00:00"]
[null,null,null,null,null,null,"PPOP000000470_OIT>d>User_Support","OIT > User Support  (01/01/2025 - 12/31/2025)","PPOP000000470_OIT>d>User_Support-OIT > User Support  (01/01/2025 - 12/31/2025)","Project Plan","FD01","Active","2025-02-11T16:05:16.411397+00:00"]
[null,null,null,null,null,null,"PPOP000000470_OIT>e>Consultation_Planning","OIT > Consultation & Planning  (01/01/2025 - 12/31/2025)","PPOP000000470_OIT>e>Consultation_Planning-OIT > Consultation & Planning  (01/01/2025 - 12/31/2025)","Project Plan","FD01","Active","2025-02-11T16:05:16.411397+00:00"]
[null,null,null,null,null,null,"PPOP000000471_OIT>a>Maintenance","OIT > Maintenance  (01/01/2025 - 12/31/2025)","PPOP000000471_OIT>a>Maintenance-OIT > Maintenance  (01/01/2025 - 12/31/2025)","Project Plan","FD01","Active","2025-02-11T16:05:16.411397+00:00"]
[null,null,null,null,null,null,"PPOP000000471_OIT>b>Enhancement","OIT > Enhancement  (01/01/2025 - 12/31/2025)","PPOP000000471_OIT>b>Enhancement-OIT > Enhancement  (01/01/2025 - 12/31/2025)","Project Plan","FD01","Active","2025-02-11T16:05:16.411397+00:00"]
[null,null,null,null,null,null,"PPOP000000471_OIT>c>Order_Fulfillment","OIT > Order Fulfillment  (01/01/2025 - 12/31/2025)","PPOP000000471_OIT>c>Order_Fulfillment-OIT > Order Fulfillment  (01/01/2025 - 12/31/2025)","Project Plan","FD01","Active","2025-02-11T16:05:16.411397+00:00"]
[null,null,null,null,null,null,"PPOP000000471_OIT>d>User_Support","OIT > User Support  (01/01/2025 - 12/31/2025)","PPOP000000471_OIT>d>User_Support-OIT > User Support  (01/01/2025 - 12/31/2025)","Project Plan","FD01","Active","2025-02-11T16:05:16.411397+00:00"]
[null,null,null,null,null,null,"PPOP000000471_OIT>e>Consultation_Planning","OIT > Consultation & Planning  (01/01/2025 - 12/31/2025)","PPOP000000471_OIT>e>Consultation_Planning-OIT > Consultation & Planning  (01/01/2025 - 12/31/2025)","Project Plan","FD01","Active","2025-02-11T16:05:16.411397+00:00"]
[null,null,null,null,null,null,"PPOP000000472_OIT>a>Maintenance","OIT > Maintenance  (01/01/2025 - 12/31/2025)","PPOP000000472_OIT>a>Maintenance-OIT > Maintenance  (01/01/2025 - 12/31/2025)","Project Plan","FD01","Active","2025-02-11T16:05:16.411397+00:00"]
[null,null,null,null,null,null,"PPOP000000472_OIT>b>Enhancement","OIT > Enhancement  (01/01/2025 - 12/31/2025)","PPOP000000472_OIT>b>Enhancement-OIT > Enhancement  (01/01/2025 - 12/31/2025)","Project Plan","FD01","Active","2025-02-11T16:05:16.411397+00:00"]
[null,null,null,null,null,null,"PPOP000000472_OIT>c>Order_Fulfillment","OIT > Order Fulfillment  (01/01/2025 - 12/31/2025)","PPOP000000472_OIT>c>Order_Fulfillment-OIT > Order Fulfillment  (01/01/2025 - 12/31/2025)","Project Plan","FD01","Active","2025-02-11T16:05:16.411397+00:00"]
[null,null,null,null,null,null,"PPOP000000472_OIT>d>User_Support","OIT > User Support  (01/01/2025 - 12/31/2025)","PPOP000000472_OIT>d>User_Support-OIT > User Support  (01/01/2025 - 12/31/2025)","Project Plan","FD01","Active","2025-02-11T16:05:16.411397+00:00"]
[null,null,null,null,null,null,"PPOP000000472_OIT>e>Consultation_Planning","OIT > Consultation & Planning  (01/01/2025 - 12/31/2025)","PPOP000000472_OIT>e>Consultation_Planning-OIT > Consultation & Planning  (01/01/2025 - 12/31/2025)","Project Plan","FD01","Active","2025-02-11T16:05:16.411397+00:00"]
[null,null,null,null,null,null,"PPOP000000473_OIT>a>Maintenance","OIT > Maintenance  (01/01/2025 - 12/31/2025)","PPOP000000473_OIT>a>Maintenance-OIT > Maintenance  (01/01/2025 - 12/31/2025)","Project Plan","FD01","Active","2025-02-11T16:05:16.411397+00:00"]
[null,null,null,null,null,null,"PPOP000000473_OIT>b>Enhancement","OIT > Enhancement  (01/01/2025 - 12/31/2025)","PPOP000000473_OIT>b>Enhancement-OIT > Enhancement  (01/01/2025 - 12/31/2025)","Project Plan","FD01","Active","2025-02-11T16:05:16.411397+00:00"]
[null,null,null,null,null,null,"PPOP000000473_OIT>c>Order_Fulfillment","OIT > Order Fulfillment  (01/01/2025 - 12/31/2025)","PPOP000000473_OIT>c>Order_Fulfillment-OIT > Order Fulfillment  (01/01/2025 - 12/31/2025)","Project Plan","FD01","Active","2025-02-11T16:05:16.411397+00:00"]
[null,null,null,null,null,null,"PPOP000000473_OIT>d>User_Support","OIT > User Support  (01/01/2025 - 12/31/2025)","PPOP000000473_OIT>d>User_Support-OIT > User Support  (01/01/2025 - 12/31/2025)","Project Plan","FD01","Active","2025-02-11T16:05:16.411397+00:00"]
[null,null,null,null,null,null,"PPOP000000473_OIT>e>Consultation_Planning","OIT > Consultation & Planning  (01/01/2025 - 12/31/2025)","PPOP000000473_OIT>e>Consultation_Planning-OIT > Consultation & Planning  (01/01/2025 - 12/31/2025)","Project Plan","FD01","Active","2025-02-11T16:05:16.411397+00:00"]
[null,null,null,null,null,null,"PPOP000000474_OIT>a>Maintenance","OIT > Maintenance  (01/01/2025 - 12/31/2025)","PPOP000000474_OIT>a>Maintenance-OIT > Maintenance  (01/01/2025 - 12/31/2025)","Project Plan","FD01","Active","2025-02-11T16:05:16.411397+00:00"]
[null,null,null,null,null,null,"PPOP000000474_OIT>b>Enhancement","OIT > Enhancement  (01/01/2025 - 12/31/2025)","PPOP000000474_OIT>b>Enhancement-OIT > Enhancement  (01/01/2025 - 12/31/2025)","Project Plan","FD01","Active","2025-02-11T16:05:16.411397+00:00"]
[null,null,null,null,null,null,"PPOP000000474_OIT>c>Order_Fulfillment","OIT > Order Fulfillment  (01/01/2025 - 12/31/2025)","PPOP000000474_OIT>c>Order_Fulfillment-OIT > Order Fulfillment  (01/01/2025 - 12/31/2025)","Project Plan","FD01","Active","2025-02-11T16:05:16.411397+00:00"]
[null,null,null,null,null,null,"PPOP000000474_OIT>d>User_Support","OIT > User Support  (01/01/2025 - 12/31/2025)","PPOP000000474_OIT>d>User_Support-OIT > User Support  (01/01/2025 - 12/31/2025)","Project Plan","FD01","Active","2025-02-11T16:05:16.411397+00:00"]
[null,null,null,null,null,null,"PPOP000000474_OIT>e>Consultation_Planning","OIT > Consultation & Planning  (01/01/2025 - 12/31/2025)","PPOP000000474_OIT>e>Consultation_Planning-OIT > Consultation & Planning  (01/01/2025 - 12/31/2025)","Project Plan","FD01","Active","2025-02-11T16:05:16.411397+00:00"]
[null,null,null,null,null,null,"PPOP000000475_OIT>a>Maintenance","OIT > Maintenance  (01/01/2025 - 12/31/2025)","PPOP000000475_OIT>a>Maintenance-OIT > Maintenance  (01/01/2025 - 12/31/2025)","Project Plan","FD01","Active","2025-02-11T16:05:16.411397+00:00"]
[null,null,null,null,null,null,"PPOP000000475_OIT>b>Enhancement","OIT > Enhancement  (01/01/2025 - 12/31/2025)","PPOP000000475_OIT>b>Enhancement-OIT > Enhancement  (01/01/2025 - 12/31/2025)","Project Plan","FD01","Active","2025-02-11T16:05:16.411397+00:00"]
[null,null,null,null,null,null,"PPOP000000475_OIT>c>Order_Fulfillment","OIT > Order Fulfillment  (01/01/2025 - 12/31/2025)","PPOP000000475_OIT>c>Order_Fulfillment-OIT > Order Fulfillment  (01/01/2025 - 12/31/2025)","Project Plan","FD01","Active","2025-02-11T16:05:16.411397+00:00"]
[null,null,null,null,null,null,"PPOP000000475_OIT>d>User_Support","OIT > User Support  (01/01/2025 - 12/31/2025)","PPOP000000475_OIT>d>User_Support-OIT > User Support  (01/01/2025 - 12/31/2025)","Project Plan","FD01","Active","2025-02-11T16:05:16.411397+00:00"]
[null,null,null,null,null,null,"PPOP000000475_OIT>e>Consultation_Planning","OIT > Consultation & Planning  (01/01/2025 - 12/31/2025)","PPOP000000475_OIT>e>Consultation_Planning-OIT > Consultation & Planning  (01/01/2025 - 12/31/2025)","Project Plan","FD01","Active","2025-02-11T16:05:16.411397+00:00"]
[null,null,null,null,null,null,"PPOP000000476_OIT>a>Maintenance","OIT > Maintenance  (01/01/2025 - 12/31/2025)","PPOP000000476_OIT>a>Maintenance-OIT > Maintenance  (01/01/2025 - 12/31/2025)","Project Plan","FD01","Active","2025-02-11T16:05:16.411397+00:00"]
[null,null,null,null,null,null,"PPOP000000476_OIT>b>Enhancement","OIT > Enhancement  (01/01/2025 - 12/31/2025)","PPOP000000476_OIT>b>Enhancement-OIT > Enhancement  (01/01/2025 - 12/31/2025)","Project Plan","FD01","Active","2025-02-11T16:05:16.411397+00:00"]
[null,null,null,null,null,null,"PPOP000000476_OIT>c>Order_Fulfillment","OIT > Order Fulfillment  (01/01/2025 - 12/31/2025)","PPOP000000476_OIT>c>Order_Fulfillment-OIT > Order Fulfillment  (01/01/2025 - 12/31/2025)","Project Plan","FD01","Active","2025-02-11T16:05:16.411397+00:00"]
[null,null,null,null,null,null,"PPOP000000476_OIT>d>User_Support","OIT > User Support  (01/01/2025 - 12/31/2025)","PPOP000000476_OIT>d>User_Support-OIT > User Support  (01/01/2025 - 12/31/2025)","Project Plan","FD01","Active","2025-02-11T16:05:16.411397+00:00"]
[null,null,null,null,null,null,"PPOP000000476_OIT>e>Consultation_Planning","OIT > Consultation & Planning  (01/01/2025 - 12/31/2025)","PPOP000000476_OIT>e>Consultation_Planning-OIT > Consultation & Planning  (01/01/2025 - 12/31/2025)","Project Plan","FD01","Active","2025-02-11T16:05:16.411397+00:00"]
[null,null,null,null,null,null,"PPOP000000477_OIT>a>Maintenance","OIT > Maintenance  (01/01/2025 - 12/31/2025)","PPOP000000477_OIT>a>Maintenance-OIT > Maintenance  (01/01/2025 - 12/31/2025)","Project Plan","FD01","Active","2025-02-11T16:05:16.411397+00:00"]
[null,null,null,null,null,null,"PPOP000000477_OIT>b>Enhancement","OIT > Enhancement  (01/01/2025 - 12/31/2025)","PPOP000000477_OIT>b>Enhancement-OIT > Enhancement  (01/01/2025 - 12/31/2025)","Project Plan","FD01","Active","2025-02-11T16:05:16.411397+00:00"]
[null,null,null,null,null,null,"PPOP000000477_OIT>c>Order_Fulfillment","OIT > Order Fulfillment  (01/01/2025 - 12/31/2025)","PPOP000000477_OIT>c>Order_Fulfillment-OIT > Order Fulfillment  (01/01/2025 - 12/31/2025)","Project Plan","FD01","Active","2025-02-11T16:05:16.411397+00:00"]
[null,null,null,null,null,null,"PPOP000000477_OIT>d>User_Support","OIT > User Support  (01/01/2025 - 12/31/2025)","PPOP000000477_OIT>d>User_Support-OIT > User Support  (01/01/2025 - 12/31/2025)","Project Plan","FD01","Active","2025-02-11T16:05:16.411397+00:00"]
[null,null,null,null,null,null,"PPOP000000477_OIT>e>Consultation_Planning","OIT > Consultation & Planning  (01/01/2025 - 12/31/2025)","PPOP000000477_OIT>e>Consultation_Planning-OIT > Consultation & Planning  (01/01/2025 - 12/31/2025)","Project Plan","FD01","Active","2025-02-11T16:05:16.411397+00:00"]
[null,null,null,null,null,null,"PPOP000000478_OIT>a>Maintenance","OIT > Maintenance  (01/01/2025 - 12/31/2025)","PPOP000000478_OIT>a>Maintenance-OIT > Maintenance  (01/01/2025 - 12/31/2025)","Project Plan","FD01","Active","2025-02-11T16:05:16.411397+00:00"]
[null,null,null,null,null,null,"PPOP000000478_OIT>b>Enhancement","OIT > Enhancement  (01/01/2025 - 12/31/2025)","PPOP000000478_OIT>b>Enhancement-OIT > Enhancement  (01/01/2025 - 12/31/2025)","Project Plan","FD01","Active","2025-02-11T16:05:16.411397+00:00"]
[null,null,null,null,null,null,"PPOP000000478_OIT>c>Order_Fulfillment","OIT > Order Fulfillment  (01/01/2025 - 12/31/2025)","PPOP000000478_OIT>c>Order_Fulfillment-OIT > Order Fulfillment  (01/01/2025 - 12/31/2025)","Project Plan","FD01","Active","2025-02-11T16:05:16.411397+00:00"]
[null,null,null,null,null,null,"PPOP000000478_OIT>d>User_Support","OIT > User Support  (01/01/2025 - 12/31/2025)","PPOP000000478_OIT>d>User_Support-OIT > User Support  (01/01/2025 - 12/31/2025)","Project Plan","FD01","Active","2025-02-11T16:05:16.411397+00:00"]
[null,null,null,null,null,null,"PPOP000000478_OIT>e>Consultation_Planning","OIT > Consultation & Planning  (01/01/2025 - 12/31/2025)","PPOP000000478_OIT>e>Consultation_Planning-OIT > Consultation & Planning  (01/01/2025 - 12/31/2025)","Project Plan","FD01","Active","2025-02-11T16:05:16.411397+00:00"]
[null,null,null,null,null,null,"PPOP000000479_OIT>a>Maintenance","OIT > Maintenance  (01/01/2025 - 12/31/2025)","PPOP000000479_OIT>a>Maintenance-OIT > Maintenance  (01/01/2025 - 12/31/2025)","Project Plan","FD01","Active","2025-02-11T16:05:16.411397+00:00"]
[null,null,null,null,null,null,"PPOP000000479_OIT>b>Enhancement","OIT > Enhancement  (01/01/2025 - 12/31/2025)","PPOP000000479_OIT>b>Enhancement-OIT > Enhancement  (01/01/2025 - 12/31/2025)","Project Plan","FD01","Active","2025-02-11T16:05:16.411397+00:00"]
[null,null,null,null,null,null,"PPOP000000479_OIT>c>Order_Fulfillment","OIT > Order Fulfillment  (01/01/2025 - 12/31/2025)","PPOP000000479_OIT>c>Order_Fulfillment-OIT > Order Fulfillment  (01/01/2025 - 12/31/2025)","Project Plan","FD01","Active","2025-02-11T16:05:16.411397+00:00"]
[null,null,null,null,null,null,"PPOP000000479_OIT>d>User_Support","OIT > User Support  (01/01/2025 - 12/31/2025)","PPOP000000479_OIT>d>User_Support-OIT > User Support  (01/01/2025 - 12/31/2025)","Project Plan","FD01","Active","2025-02-11T16:05:16.411397+00:00"]
[null,null,null,null,null,null,"PPOP000000479_OIT>e>Consultation_Planning","OIT > Consultation & Planning  (01/01/2025 - 12/31/2025)","PPOP000000479_OIT>e>Consultation_Planning-OIT > Consultation & Planning  (01/01/2025 - 12/31/2025)","Project Plan","FD01","Active","2025-02-11T16:05:16.411397+00:00"]
[null,null,null,null,null,null,"PPOP000000480_OIT>a>Maintenance","OIT > Maintenance  (01/01/2025 - 12/31/2025)","PPOP000000480_OIT>a>Maintenance-OIT > Maintenance  (01/01/2025 - 12/31/2025)","Project Plan","FD01","Active","2025-02-11T16:05:16.411397+00:00"]
[null,null,null,null,null,null,"PPOP000000480_OIT>b>Enhancement","OIT > Enhancement  (01/01/2025 - 12/31/2025)","PPOP000000480_OIT>b>Enhancement-OIT > Enhancement  (01/01/2025 - 12/31/2025)","Project Plan","FD01","Active","2025-02-11T16:05:16.411397+00:00"]
[null,null,null,null,null,null,"PPOP000000480_OIT>c>Order_Fulfillment","OIT > Order Fulfillment  (01/01/2025 - 12/31/2025)","PPOP000000480_OIT>c>Order_Fulfillment-OIT > Order Fulfillment  (01/01/2025 - 12/31/2025)","Project Plan","FD01","Active","2025-02-11T16:05:16.411397+00:00"]
[null,null,null,null,null,null,"PPOP000000480_OIT>d>User_Support","OIT > User Support  (01/01/2025 - 12/31/2025)","PPOP000000480_OIT>d>User_Support-OIT > User Support  (01/01/2025 - 12/31/2025)","Project Plan","FD01","Active","2025-02-11T16:05:16.411397+00:00"]
[null,null,null,null,null,null,"PPOP000000480_OIT>e>Consultation_Planning","OIT > Consultation & Planning  (01/01/2025 - 12/31/2025)","PPOP000000480_OIT>e>Consultation_Planning-OIT > Consultation & Planning  (01/01/2025 - 12/31/2025)","Project Plan","FD01","Active","2025-02-11T16:05:16.411397+00:00"]
[null,null,null,null,null,null,"PPOP000000481_OIT>a>Maintenance","OIT > Maintenance  (01/01/2025 - 12/31/2025)","PPOP000000481_OIT>a>Maintenance-OIT > Maintenance  (01/01/2025 - 12/31/2025)","Project Plan","FD01","Active","2025-02-11T16:05:16.411397+00:00"]
[null,null,null,null,null,null,"PPOP000000481_OIT>b>Enhancement","OIT > Enhancement  (01/01/2025 - 12/31/2025)","PPOP000000481_OIT>b>Enhancement-OIT > Enhancement  (01/01/2025 - 12/31/2025)","Project Plan","FD01","Active","2025-02-11T16:05:16.411397+00:00"]
[null,null,null,null,null,null,"PPOP000000481_OIT>c>Order_Fulfillment","OIT > Order Fulfillment  (01/01/2025 - 12/31/2025)","PPOP000000481_OIT>c>Order_Fulfillment-OIT > Order Fulfillment  (01/01/2025 - 12/31/2025)","Project Plan","FD01","Active","2025-02-11T16:05:16.411397+00:00"]
[null,null,null,null,null,null,"PPOP000000481_OIT>d>User_Support","OIT > User Support  (01/01/2025 - 12/31/2025)","PPOP000000481_OIT>d>User_Support-OIT > User Support  (01/01/2025 - 12/31/2025)","Project Plan","FD01","Active","2025-02-11T16:05:16.411397+00:00"]
[null,null,null,null,null,null,"PPOP000000481_OIT>e>Consultation_Planning","OIT > Consultation & Planning  (01/01/2025 - 12/31/2025)","PPOP000000481_OIT>e>Consultation_Planning-OIT > Consultation & Planning  (01/01/2025 - 12/31/2025)","Project Plan","FD01","Active","2025-02-11T16:05:16.411397+00:00"]
[null,null,null,null,null,null,"PPOP000000482_OIT>a>Maintenance","OIT > Maintenance  (01/01/2025 - 12/31/2025)","PPOP000000482_OIT>a>Maintenance-OIT > Maintenance  (01/01/2025 - 12/31/2025)","Project Plan","FD01","Active","2025-02-11T16:05:16.411397+00:00"]
[null,null,null,null,null,null,"PPOP000000482_OIT>b>Enhancement","OIT > Enhancement  (01/01/2025 - 12/31/2025)","PPOP000000482_OIT>b>Enhancement-OIT > Enhancement  (01/01/2025 - 12/31/2025)","Project Plan","FD01","Active","2025-02-11T16:05:16.411397+00:00"]
[null,null,null,null,null,null,"PPOP000000482_OIT>c>Order_Fulfillment","OIT > Order Fulfillment  (01/01/2025 - 12/31/2025)","PPOP000000482_OIT>c>Order_Fulfillment-OIT > Order Fulfillment  (01/01/2025 - 12/31/2025)","Project Plan","FD01","Active","2025-02-11T16:05:16.411397+00:00"]
[null,null,null,null,null,null,"PPOP000000482_OIT>d>User_Support","OIT > User Support  (01/01/2025 - 12/31/2025)","PPOP000000482_OIT>d>User_Support-OIT > User Support  (01/01/2025 - 12/31/2025)","Project Plan","FD01","Active","2025-02-11T16:05:16.411397+00:00"]
[null,null,null,null,null,null,"PPOP000000482_OIT>e>Consultation_Planning","OIT > Consultation & Planning  (01/01/2025 - 12/31/2025)","PPOP000000482_OIT>e>Consultation_Planning-OIT > Consultation & Planning  (01/01/2025 - 12/31/2025)","Project Plan","FD01","Active","2025-02-11T16:05:16.411397+00:00"]
[null,null,null,null,null,null,"PPOP000000483_OIT>a>Maintenance","OIT > Maintenance  (01/01/2025 - 12/31/2025)","PPOP000000483_OIT>a>Maintenance-OIT > Maintenance  (01/01/2025 - 12/31/2025)","Project Plan","FD01","Active","2025-02-11T16:05:16.411397+00:00"]
[null,null,null,null,null,null,"PPOP000000483_OIT>b>Enhancement","OIT > Enhancement  (01/01/2025 - 12/31/2025)","PPOP000000483_OIT>b>Enhancement-OIT > Enhancement  (01/01/2025 - 12/31/2025)","Project Plan","FD01","Active","2025-02-11T16:05:16.411397+00:00"]
[null,null,null,null,null,null,"PPOP000000483_OIT>c>Order_Fulfillment","OIT > Order Fulfillment  (01/01/2025 - 12/31/2025)","PPOP000000483_OIT>c>Order_Fulfillment-OIT > Order Fulfillment  (01/01/2025 - 12/31/2025)","Project Plan","FD01","Active","2025-02-11T16:05:16.411397+00:00"]
[null,null,null,null,null,null,"PPOP000000483_OIT>d>User_Support","OIT > User Support  (01/01/2025 - 12/31/2025)","PPOP000000483_OIT>d>User_Support-OIT > User Support  (01/01/2025 - 12/31/2025)","Project Plan","FD01","Active","2025-02-11T16:05:16.411397+00:00"]
[null,null,null,null,null,null,"PPOP000000483_OIT>e>Consultation_Planning","OIT > Consultation & Planning  (01/01/2025 - 12/31/2025)","PPOP000000483_OIT>e>Consultation_Planning-OIT > Consultation & Planning  (01/01/2025 - 12/31/2025)","Project Plan","FD01","Active","2025-02-11T16:05:16.411397+00:00"]
[null,null,null,null,null,null,"PPOP000000484_OIT>a>Maintenance","OIT > Maintenance  (01/01/2025 - 12/31/2025)","PPOP000000484_OIT>a>Maintenance-OIT > Maintenance  (01/01/2025 - 12/31/2025)","Project Plan","FD01","Active","2025-02-12T03:04:47.840261+00:00"]
[null,null,null,null,null,null,"PPOP000000484_OIT>b>Enhancement","OIT > Enhancement  (01/01/2025 - 12/31/2025)","PPOP000000484_OIT>b>Enhancement-OIT > Enhancement  (01/01/2025 - 12/31/2025)","Project Plan","FD01","Active","2025-02-12T03:04:47.840261+00:00"]
[null,null,null,null,null,null,"PPOP000000484_OIT>c>Order_Fulfillment","OIT > Order Fulfillment  (01/01/2025 - 12/31/2025)","PPOP000000484_OIT>c>Order_Fulfillment-OIT > Order Fulfillment  (01/01/2025 - 12/31/2025)","Project Plan","FD01","Active","2025-02-12T03:04:47.840261+00:00"]
[null,null,null,null,null,null,"PPOP000000484_OIT>d>User_Support","OIT > User Support  (01/01/2025 - 12/31/2025)","PPOP000000484_OIT>d>User_Support-OIT > User Support  (01/01/2025 - 12/31/2025)","Project Plan","FD01","Active","2025-02-12T03:04:47.840261+00:00"]
[null,null,null,null,null,null,"PPOP000000484_OIT>e>Consultation_Planning","OIT > Consultation & Planning  (01/01/2025 - 12/31/2025)","PPOP000000484_OIT>e>Consultation_Planning-OIT > Consultation & Planning  (01/01/2025 - 12/31/2025)","Project Plan","FD01","Active","2025-02-12T03:04:47.840261+00:00"]
[null,null,null,null,null,null,"PPOP000000485_OIT>a>Maintenance","OIT > Maintenance  (01/01/2025 - 12/31/2025)","PPOP000000485_OIT>a>Maintenance-OIT > Maintenance  (01/01/2025 - 12/31/2025)","Project Plan","FD01","Active","2025-02-12T03:04:47.840261+00:00"]
[null,null,null,null,null,null,"PPOP000000485_OIT>b>Enhancement","OIT > Enhancement  (01/01/2025 - 12/31/2025)","PPOP000000485_OIT>b>Enhancement-OIT > Enhancement  (01/01/2025 - 12/31/2025)","Project Plan","FD01","Active","2025-02-12T03:04:47.840261+00:00"]
[null,null,null,null,null,null,"PPOP000000485_OIT>c>Order_Fulfillment","OIT > Order Fulfillment  (01/01/2025 - 12/31/2025)","PPOP000000485_OIT>c>Order_Fulfillment-OIT > Order Fulfillment  (01/01/2025 - 12/31/2025)","Project Plan","FD01","Active","2025-02-12T03:04:47.840261+00:00"]
[null,null,null,null,null,null,"PPOP000000485_OIT>d>User_Support","OIT > User Support  (01/01/2025 - 12/31/2025)","PPOP000000485_OIT>d>User_Support-OIT > User Support  (01/01/2025 - 12/31/2025)","Project Plan","FD01","Active","2025-02-12T03:04:47.840261+00:00"]
[null,null,null,null,null,null,"PPOP000000485_OIT>e>Consultation_Planning","OIT > Consultation & Planning  (01/01/2025 - 12/31/2025)","PPOP000000485_OIT>e>Consultation_Planning-OIT > Consultation & Planning  (01/01/2025 - 12/31/2025)","Project Plan","FD01","Active","2025-02-12T03:04:47.840261+00:00"]
[null,null,null,null,null,null,"PPOP000000486_OIT>a>Maintenance","OIT > Maintenance  (01/01/2025 - 12/31/2025)","PPOP000000486_OIT>a>Maintenance-OIT > Maintenance  (01/01/2025 - 12/31/2025)","Project Plan","FD01","Active","2025-02-12T03:04:47.840261+00:00"]
[null,null,null,null,null,null,"PPOP000000486_OIT>b>Enhancement","OIT > Enhancement  (01/01/2025 - 12/31/2025)","PPOP000000486_OIT>b>Enhancement-OIT > Enhancement  (01/01/2025 - 12/31/2025)","Project Plan","FD01","Active","2025-02-12T03:04:47.840261+00:00"]
[null,null,null,null,null,null,"PPOP000000486_OIT>c>Order_Fulfillment","OIT > Order Fulfillment  (01/01/2025 - 12/31/2025)","PPOP000000486_OIT>c>Order_Fulfillment-OIT > Order Fulfillment  (01/01/2025 - 12/31/2025)","Project Plan","FD01","Active","2025-02-12T03:04:47.840261+00:00"]
[null,null,null,null,null,null,"PPOP000000486_OIT>d>User_Support","OIT > User Support  (01/01/2025 - 12/31/2025)","PPOP000000486_OIT>d>User_Support-OIT > User Support  (01/01/2025 - 12/31/2025)","Project Plan","FD01","Active","2025-02-12T03:04:47.840261+00:00"]
[null,null,null,null,null,null,"PPOP000000486_OIT>e>Consultation_Planning","OIT > Consultation & Planning  (01/01/2025 - 12/31/2025)","PPOP000000486_OIT>e>Consultation_Planning-OIT > Consultation & Planning  (01/01/2025 - 12/31/2025)","Project Plan","FD01","Active","2025-02-12T03:04:47.840261+00:00"]
[null,null,null,null,null,null,"PPOP000000487_OIT>a>Maintenance","OIT > Maintenance  (01/01/2025 - 12/31/2025)","PPOP000000487_OIT>a>Maintenance-OIT > Maintenance  (01/01/2025 - 12/31/2025)","Project Plan","FD01","Active","2025-02-12T03:04:47.840261+00:00"]
[null,null,null,null,null,null,"PPOP000000487_OIT>b>Enhancement","OIT > Enhancement  (01/01/2025 - 12/31/2025)","PPOP000000487_OIT>b>Enhancement-OIT > Enhancement  (01/01/2025 - 12/31/2025)","Project Plan","FD01","Active","2025-02-12T03:04:47.840261+00:00"]
[null,null,null,null,null,null,"PPOP000000487_OIT>c>Order_Fulfillment","OIT > Order Fulfillment  (01/01/2025 - 12/31/2025)","PPOP000000487_OIT>c>Order_Fulfillment-OIT > Order Fulfillment  (01/01/2025 - 12/31/2025)","Project Plan","FD01","Active","2025-02-12T03:04:47.840261+00:00"]
[null,null,null,null,null,null,"PPOP000000487_OIT>d>User_Support","OIT > User Support  (01/01/2025 - 12/31/2025)","PPOP000000487_OIT>d>User_Support-OIT > User Support  (01/01/2025 - 12/31/2025)","Project Plan","FD01","Active","2025-02-12T03:04:47.840261+00:00"]
[null,null,null,null,null,null,"PPOP000000487_OIT>e>Consultation_Planning","OIT > Consultation & Planning  (01/01/2025 - 12/31/2025)","PPOP000000487_OIT>e>Consultation_Planning-OIT > Consultation & Planning  (01/01/2025 - 12/31/2025)","Project Plan","FD01","Active","2025-02-12T03:04:47.840261+00:00"]
[null,null,null,null,null,null,"PPOP000000488_OIT>a>Maintenance","OIT > Maintenance  (01/01/2025 - 12/31/2025)","PPOP000000488_OIT>a>Maintenance-OIT > Maintenance  (01/01/2025 - 12/31/2025)","Project Plan","FD01","Active","2025-02-12T03:04:46.358961+00:00"]
[null,null,null,null,null,null,"PPOP000000488_OIT>b>Enhancement","OIT > Enhancement  (01/01/2025 - 12/31/2025)","PPOP000000488_OIT>b>Enhancement-OIT > Enhancement  (01/01/2025 - 12/31/2025)","Project Plan","FD01","Active","2025-02-12T03:04:46.358961+00:00"]
[null,null,null,null,null,null,"PPOP000000488_OIT>c>Order_Fulfillment","OIT > Order Fulfillment  (01/01/2025 - 12/31/2025)","PPOP000000488_OIT>c>Order_Fulfillment-OIT > Order Fulfillment  (01/01/2025 - 12/31/2025)","Project Plan","FD01","Active","2025-02-12T03:04:47.840261+00:00"]
[null,null,null,null,null,null,"PPOP000000488_OIT>d>User_Support","OIT > User Support  (01/01/2025 - 12/31/2025)","PPOP000000488_OIT>d>User_Support-OIT > User Support  (01/01/2025 - 12/31/2025)","Project Plan","FD01","Active","2025-02-12T03:04:47.840261+00:00"]
[null,null,null,null,null,null,"PPOP000000488_OIT>e>Consultation_Planning","OIT > Consultation & Planning  (01/01/2025 - 12/31/2025)","PPOP000000488_OIT>e>Consultation_Planning-OIT > Consultation & Planning  (01/01/2025 - 12/31/2025)","Project Plan","FD01","Active","2025-02-12T03:04:47.840261+00:00"]
[null,null,null,null,null,null,"PPOP000000489_OIT>a>Maintenance","OIT > Maintenance  (01/01/2025 - 12/31/2025)","PPOP000000489_OIT>a>Maintenance-OIT > Maintenance  (01/01/2025 - 12/31/2025)","Project Plan","FD01","Active","2025-02-12T03:04:46.358961+00:00"]
[null,null,null,null,null,null,"PPOP000000489_OIT>b>Enhancement","OIT > Enhancement  (01/01/2025 - 12/31/2025)","PPOP000000489_OIT>b>Enhancement-OIT > Enhancement  (01/01/2025 - 12/31/2025)","Project Plan","FD01","Active","2025-02-12T03:04:46.358961+00:00"]
[null,null,null,null,null,null,"PPOP000000489_OIT>c>Order_Fulfillment","OIT > Order Fulfillment  (01/01/2025 - 12/31/2025)","PPOP000000489_OIT>c>Order_Fulfillment-OIT > Order Fulfillment  (01/01/2025 - 12/31/2025)","Project Plan","FD01","Active","2025-02-12T03:04:46.358961+00:00"]
[null,null,null,null,null,null,"PPOP000000489_OIT>d>User_Support","OIT > User Support  (01/01/2025 - 12/31/2025)","PPOP000000489_OIT>d>User_Support-OIT > User Support  (01/01/2025 - 12/31/2025)","Project Plan","FD01","Active","2025-02-12T03:04:46.358961+00:00"]
[null,null,null,null,null,null,"PPOP000000489_OIT>e>Consultation_Planning","OIT > Consultation & Planning  (01/01/2025 - 12/31/2025)","PPOP000000489_OIT>e>Consultation_Planning-OIT > Consultation & Planning  (01/01/2025 - 12/31/2025)","Project Plan","FD01","Active","2025-02-12T03:04:46.358961+00:00"]
[null,null,null,null,null,null,"PPOP000000490_OIT>a>Maintenance","OIT > Maintenance  (01/01/2025 - 12/31/2025)","PPOP000000490_OIT>a>Maintenance-OIT > Maintenance  (01/01/2025 - 12/31/2025)","Project Plan","FD01","Active","2025-02-12T03:04:47.840261+00:00"]
[null,null,null,null,null,null,"PPOP000000490_OIT>b>Enhancement","OIT > Enhancement  (01/01/2025 - 12/31/2025)","PPOP000000490_OIT>b>Enhancement-OIT > Enhancement  (01/01/2025 - 12/31/2025)","Project Plan","FD01","Active","2025-02-12T03:04:47.840261+00:00"]
[null,null,null,null,null,null,"PPOP000000490_OIT>c>Order_Fulfillment","OIT > Order Fulfillment  (01/01/2025 - 12/31/2025)","PPOP000000490_OIT>c>Order_Fulfillment-OIT > Order Fulfillment  (01/01/2025 - 12/31/2025)","Project Plan","FD01","Active","2025-02-12T03:04:47.840261+00:00"]
[null,null,null,null,null,null,"PPOP000000490_OIT>d>User_Support","OIT > User Support  (01/01/2025 - 12/31/2025)","PPOP000000490_OIT>d>User_Support-OIT > User Support  (01/01/2025 - 12/31/2025)","Project Plan","FD01","Active","2025-02-12T03:04:47.840261+00:00"]
[null,null,null,null,null,null,"PPOP000000490_OIT>e>Consultation_Planning","OIT > Consultation & Planning  (01/01/2025 - 12/31/2025)","PPOP000000490_OIT>e>Consultation_Planning-OIT > Consultation & Planning  (01/01/2025 - 12/31/2025)","Project Plan","FD01","Active","2025-02-12T03:04:47.840261+00:00"]
[null,null,null,null,null,null,"PPOP000000491_OIT>c>Order_Fulfillment","OIT > Order Fulfillment  (01/01/2025 - 12/31/2025)","PPOP000000491_OIT>c>Order_Fulfillment-OIT > Order Fulfillment  (01/01/2025 - 12/31/2025)","Project Plan","FD02","Active","2025-02-20T03:04:04.15874+00:00"]
[null,null,null,null,null,null,"PPOP000000494_OIT>c>Order_Fulfillment","OIT > Order Fulfillment  (01/01/2025 - 12/31/2025)","PPOP000000494_OIT>c>Order_Fulfillment-OIT > Order Fulfillment  (01/01/2025 - 12/31/2025)","Project Plan","FD01","Active","2025-02-14T03:03:46.24314+00:00"]
[null,null,null,null,null,null,"PPOP000000496_OIT>c>Order_Fulfillment","OIT > Order Fulfillment  (01/01/2025 - 12/31/2025)","PPOP000000496_OIT>c>Order_Fulfillment-OIT > Order Fulfillment  (01/01/2025 - 12/31/2025)","Project Plan","FD01","Active","2025-02-15T03:04:02.344689+00:00"]
[null,null,null,null,null,null,"PPOP000000500_OIT>c>Order_Fulfillment","OIT > Order Fulfillment  (01/01/2025 - 12/31/2025)","PPOP000000500_OIT>c>Order_Fulfillment-OIT > Order Fulfillment  (01/01/2025 - 12/31/2025)","Project Plan","FD01","Active","2025-03-28T02:03:39.792418+00:00"]
[null,null,null,null,null,null,"PPOP000000501_OIT>c>Order_Fulfillment","OIT > Order Fulfillment  (01/01/2025 - 12/31/2025)","PPOP000000501_OIT>c>Order_Fulfillment-OIT > Order Fulfillment  (01/01/2025 - 12/31/2025)","Project Plan","FD01","Active","2025-02-20T03:04:06.036491+00:00"]
[null,null,null,null,null,null,"PPOP000000502_OIT>c>Order_Fulfillment","OIT > Order Fulfillment  (01/01/2025 - 12/31/2025)","PPOP000000502_OIT>c>Order_Fulfillment-OIT > Order Fulfillment  (01/01/2025 - 12/31/2025)","Project Plan","FD01","Active","2025-02-20T03:04:06.036491+00:00"]
[null,null,null,null,null,null,"PPOP000000506_OIT>c>Order_Fulfillment","OIT > Order Fulfillment  (01/01/2025 - 12/31/2025)","PPOP000000506_OIT>c>Order_Fulfillment-OIT > Order Fulfillment  (01/01/2025 - 12/31/2025)","Project Plan","FD01","Active","2025-02-26T03:04:08.25364+00:00"]
[null,null,null,null,null,null,"PPOP000000507_OIT>c>Order_Fulfillment","OIT > Order Fulfillment  (01/01/2025 - 12/31/2025)","PPOP000000507_OIT>c>Order_Fulfillment-OIT > Order Fulfillment  (01/01/2025 - 12/31/2025)","Project Plan","FD01","Active","2025-02-26T03:04:08.25364+00:00"]
[null,null,null,null,null,null,"PPOP000000508_OIT>c>Order_Fulfillment","OIT > Order Fulfillment  (01/01/2025 - 12/31/2025)","PPOP000000508_OIT>c>Order_Fulfillment-OIT > Order Fulfillment  (01/01/2025 - 12/31/2025)","Project Plan","FD01","Active","2025-02-26T03:04:08.25364+00:00"]
[null,null,null,null,null,null,"PPOP000000511_OIT>c>Order_Fulfillment","OIT > Order Fulfillment  (01/01/2025 - 12/31/2025)","PPOP000000511_OIT>c>Order_Fulfillment-OIT > Order Fulfillment  (01/01/2025 - 12/31/2025)","Project Plan","FD01","Active","2025-03-15T02:03:41.606114+00:00"]
[null,null,null,null,null,null,"PPOP000000514_OIT>c>Order_Fulfillment","OIT > Order Fulfillment  (01/01/2025 - 12/31/2025)","PPOP000000514_OIT>c>Order_Fulfillment-OIT > Order Fulfillment  (01/01/2025 - 12/31/2025)","Project Plan","FD01","Active","2025-02-27T03:03:44.609062+00:00"]
[null,null,null,null,null,null,"PPOP000000517_OIT>c>Order_Fulfillment","OIT > Order Fulfillment  (01/01/2025 - 12/31/2025)","PPOP000000517_OIT>c>Order_Fulfillment-OIT > Order Fulfillment  (01/01/2025 - 12/31/2025)","Project Plan","FD01","Active","2025-03-05T16:04:22.838397+00:00"]
[null,null,null,null,null,null,"PPOP000000518_OIT>c>Order_Fulfillment","OIT > Order Fulfillment  (01/01/2025 - 12/31/2025)","PPOP000000518_OIT>c>Order_Fulfillment-OIT > Order Fulfillment  (01/01/2025 - 12/31/2025)","Project Plan","FD01","Active","2025-03-05T16:04:22.838397+00:00"]
[null,null,null,null,null,null,"PPOP000000520_OIT>c>Order_Fulfillment","OIT > Order Fulfillment  (01/01/2025 - 12/31/2025)","PPOP000000520_OIT>c>Order_Fulfillment-OIT > Order Fulfillment  (01/01/2025 - 12/31/2025)","Project Plan","FD01","Active","2025-03-05T16:04:22.838397+00:00"]
[null,null,null,null,null,null,"PPOP000000521_OIT>c>Order_Fulfillment","OIT > Order Fulfillment  (01/01/2025 - 12/31/2025)","PPOP000000521_OIT>c>Order_Fulfillment-OIT > Order Fulfillment  (01/01/2025 - 12/31/2025)","Project Plan","FD01","Active","2025-03-05T16:04:22.838397+00:00"]
[null,null,null,null,null,null,"PPOP000000527_OIT>c>Order_Fulfillment","OIT > Order Fulfillment  (01/01/2025 - 12/31/2025)","PPOP000000527_OIT>c>Order_Fulfillment-OIT > Order Fulfillment  (01/01/2025 - 12/31/2025)","Project Plan","FD01","Active","2025-03-11T02:04:07.596407+00:00"]
[null,null,null,null,null,null,"PPOP000000529_OIT>c>Order_Fulfillment","OIT > Order Fulfillment  (01/01/2025 - 12/31/2025)","PPOP000000529_OIT>c>Order_Fulfillment-OIT > Order Fulfillment  (01/01/2025 - 12/31/2025)","Project Plan","FD01","Active","2025-03-11T02:04:07.596407+00:00"]
[null,null,null,null,null,null,"PPOP000000531_OIT>c>Order_Fulfillment","OIT > Order Fulfillment  (01/01/2025 - 12/31/2025)","PPOP000000531_OIT>c>Order_Fulfillment-OIT > Order Fulfillment  (01/01/2025 - 12/31/2025)","Project Plan","FD01","Active","2025-03-11T02:04:07.596407+00:00"]
[null,null,null,null,null,null,"PPOP000000534_OIT>c>Order_Fulfillment","OIT > Order Fulfillment  (01/01/2025 - 12/31/2025)","PPOP000000534_OIT>c>Order_Fulfillment-OIT > Order Fulfillment  (01/01/2025 - 12/31/2025)","Project Plan","FD01","Active","2025-03-11T02:04:07.596407+00:00"]
[null,null,null,null,null,null,"PPOP000000542_OIT>c>Order_Fulfillment","OIT > Order Fulfillment  (01/01/2025 - 12/31/2025)","PPOP000000542_OIT>c>Order_Fulfillment-OIT > Order Fulfillment  (01/01/2025 - 12/31/2025)","Project Plan","FD01","Active","2025-03-13T02:03:45.777917+00:00"]
[null,null,null,null,null,null,"PPOP000000544_OIT>c>Order_Fulfillment","OIT > Order Fulfillment  (01/01/2025 - 12/31/2025)","PPOP000000544_OIT>c>Order_Fulfillment-OIT > Order Fulfillment  (01/01/2025 - 12/31/2025)","Project Plan","FD01","Active","2025-03-14T02:03:41.433601+00:00"]
[null,null,null,null,null,null,"PPOP000000545_OIT>c>Order_Fulfillment","OIT > Order Fulfillment  (01/01/2025 - 12/31/2025)","PPOP000000545_OIT>c>Order_Fulfillment-OIT > Order Fulfillment  (01/01/2025 - 12/31/2025)","Project Plan","FD01","Active","2025-03-14T02:03:41.433601+00:00"]
[null,null,null,null,null,null,"PPOP000000546_OIT>c>Order_Fulfillment","OIT > Order Fulfillment  (01/01/2025 - 12/31/2025)","PPOP000000546_OIT>c>Order_Fulfillment-OIT > Order Fulfillment  (01/01/2025 - 12/31/2025)","Project Plan","FD01","Active","2025-03-19T02:04:04.74007+00:00"]
[null,null,null,null,null,null,"PPOP000000548_OIT>c>Order_Fulfillment","OIT > Order Fulfillment  (01/01/2025 - 12/31/2025)","PPOP000000548_OIT>c>Order_Fulfillment-OIT > Order Fulfillment  (01/01/2025 - 12/31/2025)","Project Plan","FD01","Active","2025-03-19T02:04:04.74007+00:00"]
[null,null,null,null,null,null,"PPOP000000549_OIT>c>Order_Fulfillment","OIT > Order Fulfillment  (01/01/2025 - 12/31/2025)","PPOP000000549_OIT>c>Order_Fulfillment-OIT > Order Fulfillment  (01/01/2025 - 12/31/2025)","Project Plan","FD01","Active","2025-03-19T02:04:04.74007+00:00"]
[null,null,null,null,null,null,"PPOP000000550_OIT>c>Order_Fulfillment","OIT > Order Fulfillment  (01/01/2025 - 12/31/2025)","PPOP000000550_OIT>c>Order_Fulfillment-OIT > Order Fulfillment  (01/01/2025 - 12/31/2025)","Project Plan","FD01","Active","2025-03-19T02:04:04.74007+00:00"]
[null,null,null,null,null,null,"PPOP000000551_OIT>c>Order_Fulfillment","OIT > Order Fulfillment  (01/01/2025 - 12/31/2025)","PPOP000000551_OIT>c>Order_Fulfillment-OIT > Order Fulfillment  (01/01/2025 - 12/31/2025)","Project Plan","FD01","Active","2025-03-19T02:04:04.74007+00:00"]
[null,null,null,null,null,null,"PPOP000000554_OIT>c>Order_Fulfillment","OIT > Order Fulfillment  (01/01/2025 - 12/31/2025)","PPOP000000554_OIT>c>Order_Fulfillment-OIT > Order Fulfillment  (01/01/2025 - 12/31/2025)","Project Plan","FD01","Active","2025-03-20T02:04:12.994064+00:00"]
[null,null,null,null,null,null,"PPOP000000556_OIT>c>Order_Fulfillment","OIT > Order Fulfillment  (01/01/2025 - 12/31/2025)","PPOP000000556_OIT>c>Order_Fulfillment-OIT > Order Fulfillment  (01/01/2025 - 12/31/2025)","Project Plan","FD01","Active","2025-03-25T02:03:53.792937+00:00"]
[null,null,null,null,null,null,"PPOP000000557_OIT>c>Order_Fulfillment","OIT > Order Fulfillment  (01/01/2025 - 12/31/2025)","PPOP000000557_OIT>c>Order_Fulfillment-OIT > Order Fulfillment  (01/01/2025 - 12/31/2025)","Project Plan","FD01","Active","2025-03-26T02:03:11.755369+00:00"]
[null,null,null,null,null,null,"PPOP000000558_OIT>c>Order_Fulfillment","OIT > Order Fulfillment  (01/01/2025 - 12/31/2025)","PPOP000000558_OIT>c>Order_Fulfillment-OIT > Order Fulfillment  (01/01/2025 - 12/31/2025)","Project Plan","FD01","Active","2025-03-26T02:03:11.755369+00:00"]
[null,null,null,null,null,null,"PPOP000000561_OIT>c>Order_Fulfillment","OIT > Order Fulfillment  (01/01/2025 - 12/31/2025)","PPOP000000561_OIT>c>Order_Fulfillment-OIT > Order Fulfillment  (01/01/2025 - 12/31/2025)","Project Plan","FD01","Active","2025-03-28T02:03:39.792418+00:00"]
[null,null,null,null,null,null,"PPOP000000563_OIT>c>Order_Fulfillment","OIT > Order Fulfillment  (01/01/2025 - 12/31/2025)","PPOP000000563_OIT>c>Order_Fulfillment-OIT > Order Fulfillment  (01/01/2025 - 12/31/2025)","Project Plan","FD01","Active","2025-03-28T02:03:39.792418+00:00"]
[null,null,null,null,null,null,"PPOP000000564_OIT>c>Order_Fulfillment","OIT > Order Fulfillment  (01/01/2025 - 12/31/2025)","PPOP000000564_OIT>c>Order_Fulfillment-OIT > Order Fulfillment  (01/01/2025 - 12/31/2025)","Project Plan","FD01","Active","2025-03-28T02:03:39.792418+00:00"]
[null,null,null,null,null,null,"PPOP000000567_OIT>c>Order_Fulfillment","OIT > Order Fulfillment  (01/01/2025 - 12/31/2025)","PPOP000000567_OIT>c>Order_Fulfillment-OIT > Order Fulfillment  (01/01/2025 - 12/31/2025)","Project Plan","FD01","Active","2025-04-02T02:04:30.253716+00:00"]
[null,null,null,null,null,null,"PPOP000000568_OIT>c>Order_Fulfillment","OIT > Order Fulfillment  (01/01/2025 - 12/31/2025)","PPOP000000568_OIT>c>Order_Fulfillment-OIT > Order Fulfillment  (01/01/2025 - 12/31/2025)","Project Plan","FD01","Active","2025-04-10T02:03:36.125036+00:00"]
[null,null,null,null,null,null,"PPOP000000569_OIT>c>Order_Fulfillment","OIT > Order Fulfillment  (01/01/2025 - 12/31/2025)","PPOP000000569_OIT>c>Order_Fulfillment-OIT > Order Fulfillment  (01/01/2025 - 12/31/2025)","Project Plan","FD01","Active","2025-04-03T02:04:41.93478+00:00"]
[null,null,null,null,null,null,"PPOP000000571_OIT>c>Order_Fulfillment","OIT > Order Fulfillment  (01/01/2025 - 12/31/2025)","PPOP000000571_OIT>c>Order_Fulfillment-OIT > Order Fulfillment  (01/01/2025 - 12/31/2025)","Project Plan","FD01","Active","2025-04-02T02:04:30.253716+00:00"]
[null,null,null,null,null,null,"PPOP000000573_OIT>c>Order_Fulfillment","OIT > Order Fulfillment  (01/01/2025 - 12/31/2025)","PPOP000000573_OIT>c>Order_Fulfillment-OIT > Order Fulfillment  (01/01/2025 - 12/31/2025)","Project Plan","FD01","Active","2025-04-03T02:04:43.922927+00:00"]
[null,null,null,null,null,null,"PPOP000000575_OIT>c>Order_Fulfillment","OIT > Order Fulfillment  (01/01/2025 - 12/31/2025)","PPOP000000575_OIT>c>Order_Fulfillment-OIT > Order Fulfillment  (01/01/2025 - 12/31/2025)","Project Plan","FD01","Active","2025-04-08T02:03:43.196923+00:00"]
[null,null,null,null,null,null,"PPOP000000578_OIT>c>Order_Fulfillment","OIT > Order Fulfillment  (01/01/2025 - 12/31/2025)","PPOP000000578_OIT>c>Order_Fulfillment-OIT > Order Fulfillment  (01/01/2025 - 12/31/2025)","Project Plan","FD01","Active","2025-04-03T02:04:41.93478+00:00"]
[null,null,null,null,null,null,"PPOP000000579_OIT>c>Order_Fulfillment","OIT > Order Fulfillment  (01/01/2025 - 12/31/2025)","PPOP000000579_OIT>c>Order_Fulfillment-OIT > Order Fulfillment  (01/01/2025 - 12/31/2025)","Project Plan","FD01","Active","2025-04-03T02:04:43.922927+00:00"]
[null,null,null,null,null,null,"PPOP000000580_OIT>c>Order_Fulfillment","OIT > Order Fulfillment  (01/01/2025 - 12/31/2025)","PPOP000000580_OIT>c>Order_Fulfillment-OIT > Order Fulfillment  (01/01/2025 - 12/31/2025)","Project Plan","FD01","Active","2025-04-08T02:03:43.196923+00:00"]
[null,null,null,null,null,null,"PPOP000000581_OIT>c>Order_Fulfillment","OIT > Order Fulfillment  (01/01/2025 - 12/31/2025)","PPOP000000581_OIT>c>Order_Fulfillment-OIT > Order Fulfillment  (01/01/2025 - 12/31/2025)","Project Plan","FD01","Active","2025-04-08T02:03:43.196923+00:00"]
[null,null,null,null,null,null,"PPOP000000582_OIT>c>Order_Fulfillment","OIT > Order Fulfillment  (01/01/2025 - 12/31/2025)","PPOP000000582_OIT>c>Order_Fulfillment-OIT > Order Fulfillment  (01/01/2025 - 12/31/2025)","Project Plan","FD01","Active","2025-04-08T02:03:43.196923+00:00"]
[null,null,null,null,null,null,"PPOP000000583_OIT>c>Order_Fulfillment","OIT > Order Fulfillment  (01/01/2025 - 12/31/2025)","PPOP000000583_OIT>c>Order_Fulfillment-OIT > Order Fulfillment  (01/01/2025 - 12/31/2025)","Project Plan","FD01","Active","2025-04-08T02:03:43.196923+00:00"]
[null,null,null,null,null,null,"PPOP000000584_OIT>c>Order_Fulfillment","OIT > Order Fulfillment  (01/01/2025 - 12/31/2025)","PPOP000000584_OIT>c>Order_Fulfillment-OIT > Order Fulfillment  (01/01/2025 - 12/31/2025)","Project Plan","FD01","Active","2025-04-08T02:03:43.196923+00:00"]
[null,null,null,null,null,null,"PPOP000000586_OIT>c>Order_Fulfillment","OIT > Order Fulfillment  (01/01/2025 - 12/31/2025)","PPOP000000586_OIT>c>Order_Fulfillment-OIT > Order Fulfillment  (01/01/2025 - 12/31/2025)","Project Plan","FD01","Active","2025-04-08T02:03:43.196923+00:00"]
[null,null,null,null,null,null,"PPOP000000591_OIT>c>Order_Fulfillment","OIT > Order Fulfillment  (01/01/2025 - 12/31/2025)","PPOP000000591_OIT>c>Order_Fulfillment-OIT > Order Fulfillment  (01/01/2025 - 12/31/2025)","Project Plan","FD02","Active","2025-04-08T02:03:43.196923+00:00"]
[null,null,null,null,null,null,"PPOP000000594_OIT>c>Order_Fulfillment","OIT > Order Fulfillment  (01/01/2025 - 12/31/2025)","PPOP000000594_OIT>c>Order_Fulfillment-OIT > Order Fulfillment  (01/01/2025 - 12/31/2025)","Project Plan","FD01","Active","2025-04-10T02:03:36.314245+00:00"]
[null,null,null,null,null,null,"PPOP000000595_OIT>c>Order_Fulfillment","OIT > Order Fulfillment  (01/01/2025 - 12/31/2025)","PPOP000000595_OIT>c>Order_Fulfillment-OIT > Order Fulfillment  (01/01/2025 - 12/31/2025)","Project Plan","FD01","Active","2025-04-10T02:03:36.314245+00:00"]
[null,null,null,null,null,null,"PROJECT_PLAN_TASK-3-89455","FA Production > Audio","PROJECT_PLAN_TASK-3-89455-FA Production > Audio","Project Plan","FD02","Active","2025-01-28T03:04:30.001237+00:00"]
[null,null,null,null,null,null,"PROJECT_PLAN_TASK-3-89456","FA Production > Costume","PROJECT_PLAN_TASK-3-89456-FA Production > Costume","Project Plan","FD02","Active","2025-01-28T03:04:30.001237+00:00"]
[null,null,null,null,null,null,"PROJECT_PLAN_TASK-3-89457","FA Production > FA Makeup & Hair","PROJECT_PLAN_TASK-3-89457-FA Production > FA Makeup & Hair","Project Plan","FD02","Active","2025-01-28T03:04:30.001237+00:00"]
[null,null,null,null,null,null,"PROJECT_PLAN_TASK-3-89458","FA Production > Front of House","PROJECT_PLAN_TASK-3-89458-FA Production > Front of House","Project Plan","FD02","Active","2025-01-28T03:04:30.001237+00:00"]
[null,null,null,null,null,null,"PROJECT_PLAN_TASK-3-89459","FA Production > Lighting","PROJECT_PLAN_TASK-3-89459-FA Production > Lighting","Project Plan","FD02","Active","2025-01-28T03:04:30.001237+00:00"]
[null,null,null,null,null,null,"PROJECT_PLAN_TASK-3-89469","FA Production > Audio","PROJECT_PLAN_TASK-3-89469-FA Production > Audio","Project Plan","FD01","Active","2025-01-23T03:04:41.67576+00:00"]
[null,null,null,null,null,null,"PROJECT_PLAN_TASK-3-89470","FA Production > Costume","PROJECT_PLAN_TASK-3-89470-FA Production > Costume","Project Plan","FD01","Active","2025-01-23T03:04:41.67576+00:00"]
[null,null,null,null,null,null,"PROJECT_PLAN_TASK-3-89471","FA Production > FA Makeup & Hair","PROJECT_PLAN_TASK-3-89471-FA Production > FA Makeup & Hair","Project Plan","FD01","Active","2025-01-23T03:04:41.67576+00:00"]
[null,null,null,null,null,null,"PROJECT_PLAN_TASK-3-89472","FA Production > Front of House","PROJECT_PLAN_TASK-3-89472-FA Production > Front of House","Project Plan","FD01","Active","2025-01-23T03:04:41.67576+00:00"]
[null,null,null,null,null,null,"PROJECT_PLAN_TASK-3-89473","FA Production > Lighting","PROJECT_PLAN_TASK-3-89473-FA Production > Lighting","Project Plan","FD01","Active","2025-01-23T03:04:41.67576+00:00"]
[null,null,null,null,null,null,"PROJECT_PLAN_TASK-3-89474","FA Production > Marketing","PROJECT_PLAN_TASK-3-89474-FA Production > Marketing","Project Plan","FD01","Active","2025-01-23T03:04:41.67576+00:00"]
[null,null,null,null,null,null,"PROJECT_PLAN_TASK-3-89475","FA Production > Producer","PROJECT_PLAN_TASK-3-89475-FA Production > Producer","Project Plan","FD01","Active","2025-01-23T03:04:41.67576+00:00"]
[null,null,null,null,null,null,"PROJECT_PLAN_TASK-3-89476","FA Production > Props","PROJECT_PLAN_TASK-3-89476-FA Production > Props","Project Plan","FD01","Active","2025-01-23T03:04:41.67576+00:00"]
[null,null,null,null,null,null,"PROJECT_PLAN_TASK-3-89477","FA Production > Scene Shop","PROJECT_PLAN_TASK-3-89477-FA Production > Scene Shop","Project Plan","FD01","Active","2025-01-23T03:04:41.67576+00:00"]
[null,null,null,null,null,null,"PROJECT_PLAN_TASK-3-89478","FA Production > Stage Operations","PROJECT_PLAN_TASK-3-89478-FA Production > Stage Operations","Project Plan","FD01","Active","2025-01-23T03:04:41.67576+00:00"]
[null,null,null,null,null,null,"PROJECT_PLAN_TASK-3-89479","FA Production > Creative","PROJECT_PLAN_TASK-3-89479-FA Production > Creative","Project Plan","FD01","Active","2025-01-23T03:04:41.67576+00:00"]
[null,null,null,null,null,null,"PROJECT_PLAN_TASK-3-89480","FA Production > Other","PROJECT_PLAN_TASK-3-89480-FA Production > Other","Project Plan","FD01","Active","2025-01-23T03:04:41.67576+00:00"]
[null,null,null,null,null,null,"PROJECT_PLAN_TASK-3-89481","FA Production > Run Crew","PROJECT_PLAN_TASK-3-89481-FA Production > Run Crew","Project Plan","FD01","Active","2025-01-23T03:04:41.67576+00:00"]
[null,null,null,null,null,null,"PROJECT_PLAN_TASK-3-89483","FA Production > Audio","PROJECT_PLAN_TASK-3-89483-FA Production > Audio","Project Plan","FD01","Active","2025-03-26T02:03:11.50475+00:00"]
[null,null,null,null,null,null,"PROJECT_PLAN_TASK-3-89484","FA Production > Costume","PROJECT_PLAN_TASK-3-89484-FA Production > Costume","Project Plan","FD01","Active","2025-03-26T02:03:11.50475+00:00"]
[null,null,null,null,null,null,"PROJECT_PLAN_TASK-3-89485","FA Production > FA Makeup & Hair","PROJECT_PLAN_TASK-3-89485-FA Production > FA Makeup & Hair","Project Plan","FD01","Active","2025-03-26T02:03:11.50475+00:00"]
[null,null,null,null,null,null,"PROJECT_PLAN_TASK-3-89486","FA Production > Front of House","PROJECT_PLAN_TASK-3-89486-FA Production > Front of House","Project Plan","FD01","Active","2025-03-26T02:03:11.50475+00:00"]
[null,null,null,null,null,null,"PROJECT_PLAN_TASK-3-89487","FA Production > Lighting","PROJECT_PLAN_TASK-3-89487-FA Production > Lighting","Project Plan","FD01","Active","2025-03-26T02:03:11.50475+00:00"]
[null,null,null,null,null,null,"PROJECT_PLAN_TASK-3-89488","FA Production > Marketing","PROJECT_PLAN_TASK-3-89488-FA Production > Marketing","Project Plan","FD01","Active","2025-03-26T02:03:11.50475+00:00"]
[null,null,null,null,null,null,"PROJECT_PLAN_TASK-3-89489","FA Production > Producer","PROJECT_PLAN_TASK-3-89489-FA Production > Producer","Project Plan","FD01","Active","2025-03-26T02:03:11.50475+00:00"]
[null,null,null,null,null,null,"PROJECT_PLAN_TASK-3-89490","FA Production > Props","PROJECT_PLAN_TASK-3-89490-FA Production > Props","Project Plan","FD01","Active","2025-03-26T02:03:11.50475+00:00"]
[null,null,null,null,null,null,"PROJECT_PLAN_TASK-3-89491","FA Production > Scene Shop","PROJECT_PLAN_TASK-3-89491-FA Production > Scene Shop","Project Plan","FD01","Active","2025-03-26T02:03:11.50475+00:00"]
[null,null,null,null,null,null,"PROJECT_PLAN_TASK-3-89492","FA Production > Stage Operations","PROJECT_PLAN_TASK-3-89492-FA Production > Stage Operations","Project Plan","FD01","Active","2025-03-26T02:03:11.50475+00:00"]
[null,null,null,null,null,null,"PROJECT_PLAN_TASK-3-89493","FA Production > Creative","PROJECT_PLAN_TASK-3-89493-FA Production > Creative","Project Plan","FD01","Active","2025-03-26T02:03:11.50475+00:00"]
[null,null,null,null,null,null,"PROJECT_PLAN_TASK-3-89494","FA Production > Other","PROJECT_PLAN_TASK-3-89494-FA Production > Other","Project Plan","FD01","Active","2025-03-26T02:03:11.50475+00:00"]
[null,null,null,null,null,null,"PROJECT_PLAN_TASK-3-89495","FA Production > Run Crew","PROJECT_PLAN_TASK-3-89495-FA Production > Run Crew","Project Plan","FD01","Active","2025-03-26T02:03:11.50475+00:00"]
[null,null,null,null,null,null,"PROJECT_PLAN_TASK-3-89496","FA Production > Stage Manager","PROJECT_PLAN_TASK-3-89496-FA Production > Stage Manager","Project Plan","FD01","Active","2025-03-26T02:03:11.50475+00:00"]
[null,null,null,null,null,null,"PROJECT_PLAN_TASK-3-93930","FA Production > Audio","PROJECT_PLAN_TASK-3-93930-FA Production > Audio","Project Plan","FD01","Active","2025-02-06T03:04:24.626914+00:00"]
[null,null,null,null,null,null,"PROJECT_PLAN_TASK-3-93931","FA Production > Costume","PROJECT_PLAN_TASK-3-93931-FA Production > Costume","Project Plan","FD01","Active","2025-02-06T03:04:24.626914+00:00"]
[null,null,null,null,null,null,"PROJECT_PLAN_TASK-3-93932","FA Production > FA Makeup & Hair","PROJECT_PLAN_TASK-3-93932-FA Production > FA Makeup & Hair","Project Plan","FD01","Active","2025-02-06T03:04:24.626914+00:00"]
[null,null,null,null,null,null,"PROJECT_PLAN_TASK-3-93933","FA Production > Front of House","PROJECT_PLAN_TASK-3-93933-FA Production > Front of House","Project Plan","FD01","Active","2025-02-06T03:04:24.626914+00:00"]
[null,null,null,null,null,null,"PROJECT_PLAN_TASK-3-93934","FA Production > Lighting","PROJECT_PLAN_TASK-3-93934-FA Production > Lighting","Project Plan","FD01","Active","2025-02-06T03:04:24.626914+00:00"]
[null,null,null,null,null,null,"PROJECT_PLAN_TASK-3-93935","FA Production > Marketing","PROJECT_PLAN_TASK-3-93935-FA Production > Marketing","Project Plan","FD01","Active","2025-02-06T03:04:24.626914+00:00"]
[null,null,null,null,null,null,"PROJECT_PLAN_TASK-3-93936","FA Production > Producer","PROJECT_PLAN_TASK-3-93936-FA Production > Producer","Project Plan","FD01","Active","2025-02-06T03:04:24.626914+00:00"]
[null,null,null,null,null,null,"PROJECT_PLAN_TASK-3-93937","FA Production > Props","PROJECT_PLAN_TASK-3-93937-FA Production > Props","Project Plan","FD01","Active","2025-02-06T03:04:24.626914+00:00"]
[null,null,null,null,null,null,"PROJECT_PLAN_TASK-3-93938","FA Production > Scene Shop","PROJECT_PLAN_TASK-3-93938-FA Production > Scene Shop","Project Plan","FD01","Active","2025-02-06T03:04:24.626914+00:00"]
[null,null,null,null,null,null,"PROJECT_PLAN_TASK-3-93939","FA Production > Stage Operations","PROJECT_PLAN_TASK-3-93939-FA Production > Stage Operations","Project Plan","FD01","Active","2025-02-06T03:04:24.626914+00:00"]
[null,null,null,null,null,null,"PROJECT_PLAN_TASK-3-93940","FA Production > Creative","PROJECT_PLAN_TASK-3-93940-FA Production > Creative","Project Plan","FD01","Active","2025-02-06T03:04:24.626914+00:00"]
[null,null,null,null,null,null,"PROJECT_PLAN_TASK-3-93941","FA Production > Other","PROJECT_PLAN_TASK-3-93941-FA Production > Other","Project Plan","FD01","Active","2025-02-06T03:04:24.626914+00:00"]
[null,null,null,null,null,null,"PROJECT_PLAN_TASK-3-93942","FA Production > Run Crew","PROJECT_PLAN_TASK-3-93942-FA Production > Run Crew","Project Plan","FD01","Active","2025-02-06T03:04:24.626914+00:00"]
[null,null,null,null,null,null,"PROJECT_PLAN_TASK-3-93943","FA Production > Stage Manager","PROJECT_PLAN_TASK-3-93943-FA Production > Stage Manager","Project Plan","FD01","Active","2025-02-06T03:04:24.626914+00:00"]

{"sheet":"Tenant","index":4,"n_rows":16,"n_cols":21,"rows_kept":16,"cut":false,"hidden":true,"merged":[[1,5,1,12],[1,15,2,16],[1,17,2,17],[1,18,2,18],[1,19,2,20]]}
[null,null,null,null,null,null,null,null,null,null,null,null,null,{"$f":"_xlfn.DAYS(NOW(),O4)","v":1},{"$f":"\"Refresh Worktags\" & CHAR(10) & \"* \" & _xlfn.DAYS(NOW(),O4) & \" days since worktag refresh\"","v":"Refresh Worktags\n* 1 days since worktag refresh"}]
[null,null,"Intra Campus",null,null,null,null,null,null,null,null,null,null,null,null,"Journal Sources",null,"Ledger","Currency","Books"]
[null,null,"Revenue","Tenant","Type",null,null,null,null,null,null,null,null,"Version","Last Updated",null,null,"Ledger","Currency"]
[null,null,"Y","Production","BANK","ALU","Brigham Young University Alumni, LLC","ALU-Brigham Young University Alumni, LLC","Actuals","2025-Jan (Calendar Year)","2025-01-01","2025-01-31","Open",1,"2025-04-10","JE Campus","JE_Campus","Actuals","CAD","(blank)",{"$f":"\"\"","v":""}]
[null,null,null,"Sandbox","JRNL","BYU","Brigham Young University","BYU-Brigham Young University","Actuals","2025-Jan (Calendar Year)","2025-01-01","2025-01-31","Open",null,null,"JE Gift","JE_Gift","Commitment","EUR","Financial Adjustment","Financial_Adjustment"]
[null,null,null,null,null,"CAN","EFY-Canada Foundation","CAN-EFY-Canada Foundation","Actuals","2025-Jan (Calendar Year)","2025-01-01","2025-01-31","Open",null,null,"JE Override","JE_Override","Obligation","GBP"]
[null,null,null,null,null,"CEE","CE Events, LLC","CEE-CE Events, LLC","Actuals","2025-Jan (Calendar Year)","2025-01-01","2025-01-31","Open",null,null,"JE Payroll","JE_Payroll",null,"ILS"]
[null,null,null,null,null,"FSY","FSY, LLC","FSY-FSY, LLC","Actuals","2025-Jan (Calendar Year)","2025-01-01","2025-01-31","Open",null,null,"JE PPE","JE_PPE",null,"USD"]
[null,null,null,null,null,"HED","HEDL, LLC","HED-HEDL, LLC","Actuals","2025-Jan (Calendar Year)","2025-01-01","2025-01-31","Open",null,null,"JE Research","JE_Research"]
[null,null,null,null,null,"IHS","HSDL, LLC","IHS-HSDL, LLC","Actuals","2025-Jan (Calendar Year)","2025-01-01","2025-01-31","Open"]
[null,null,null,null,null,"INT","BYU International, LLC","INT-BYU International, LLC","Actuals","2025-Jan (Calendar Year)","2025-01-01","2025-01-31","Open"]
[null,null,null,null,null,"JER","The Jerusalem Center for Near Eastern Studies","JER-The Jerusalem Center for Near Eastern Studies","Actuals","2025-Jan (Calendar Year)","2025-01-01","2025-01-31","Open"]
[null,null,null,null,null,"LDN","Brigham Young University, Ltd.","LDN-Brigham Young University, Ltd.","Actuals","2025-Jan (Calendar Year)","2025-01-01","2025-01-31","Open"]
[null,null,null,null,null,"USD_CAN","USD EFY-Canada Foundation","USD_CAN-USD EFY-Canada Foundation","Actuals","2025-Jan (Calendar Year)","2025-01-01","2025-01-31","Open"]
[null,null,null,null,null,"USD_JER","USD The Jerusalem Center for Near Eastern Studies","USD_JER-USD The Jerusalem Center for Near Eastern Studies","Actuals","2025-Jan (Calendar Year)","2025-01-01","2025-01-31","Open"]
[null,null,null,null,null,"USD_LDN","USD Brigham Young University, Ltd.","USD_LDN-USD Brigham Young University, Ltd.","Actuals","2025-Jan (Calendar Year)","2025-01-01","2025-01-31","Open"]

{"sheet":"AccountSCRC_Concat","index":5,"n_rows":3221,"n_cols":8,"rows_kept":3221,"cut":false,"hidden":true,"merged":[]}
[{"$f":"IF(B1<>\"\",IF(C1<>\"\",B1&\"_\"&C1&\" \"&D1&\"/\"&E1,B1&\" \"&D1),\"\")","v":"1000 Cash USD"},{"$f":"Worktags!AL5","v":"1000"},null,{"$f":"IFERROR(VLOOKUP(B1,Worktags!AL:AO,2,FALSE),\"\")","v":"Cash USD"},null,{"$f":"IFERROR(VLOOKUP(IF(C1=\"\",B1&\"||\"&B1,C1&\"||\"&B1),Worktags!AR:AV,5,FALSE),\"\")","v":""},{"$f":"MAX(IF(ISBLANK(Worktags!AL:AL),0,ROW(Worktags!AL:AL)))","v":143},{"$f":"MAX(IF(ISBLANK(Worktags!AR:AR),0,ROW(Worktags!AR:AR)))","v":963}]
["1000_BK1001 Cash USD/Wells Fargo Concentration 2494",{"$f":"Worktags!AS77","v":"1000"},{"$f":"IF(Worktags!AQ77<>Worktags!AS77,Worktags!AQ77,\"\")","v":"BK1001"},{"$f":"IFERROR(VLOOKUP(B2,Worktags!AL:AO,2,FALSE),\"\")","v":"Cash USD"},{"$f":"IFERROR(VLOOKUP(C2,Worktags!O:T,2,FALSE),\"\")","v":"Wells Fargo Concentration 2494"},{"$f":"IFERROR(VLOOKUP(IF(C2=\"\",B2&\"||\"&B2,C2&\"||\"&B2),Worktags!AR:AV,5,FALSE),\"\")","v":"JE_Override"}]
["1000_BK1002 Cash USD/Wells Fargo Depository 0001",{"$f":"Worktags!AS78","v":"1000"},{"$f":"IF(Worktags!AQ78<>Worktags!AS78,Worktags!AQ78,\"\")","v":"BK1002"},{"$f":"IFERROR(VLOOKUP(B3,Worktags!AL:AO,2,FALSE),\"\")","v":"Cash USD"},{"$f":"IFERROR(VLOOKUP(C3,Worktags!O:T,2,FALSE),\"\")","v":"Wells Fargo Depository 0001"},{"$f":"IFERROR(VLOOKUP(IF(C3=\"\",B3&\"||\"&B3,C3&\"||\"&B3),Worktags!AR:AV,5,FALSE),\"\")","v":"JE_Override"}]
["1000_BK1003 Cash USD/Wells Fargo Disbursement 0217",{"$f":"Worktags!AS79","v":"1000"},{"$f":"IF(Worktags!AQ79<>Worktags!AS79,Worktags!AQ79,\"\")","v":"BK1003"},{"$f":"IFERROR(VLOOKUP(B4,Worktags!AL:AO,2,FALSE),\"\")","v":"Cash USD"},{"$f":"IFERROR(VLOOKUP(C4,Worktags!O:T,2,FALSE),\"\")","v":"Wells Fargo Disbursement 0217"},{"$f":"IFERROR(VLOOKUP(IF(C4=\"\",B4&\"||\"&B4,C4&\"||\"&B4),Worktags!AR:AV,5,FALSE),\"\")","v":"JE_Override"}]
["1000_BK1004 Cash USD/Wells Fargo Payroll 0118",{"$f":"Worktags!AS80","v":"1000"},{"$f":"IF(Worktags!AQ80<>Worktags!AS80,Worktags!AQ80,\"\")","v":"BK1004"},{"$f":"IFERROR(VLOOKUP(B5,Worktags!AL:AO,2,FALSE),\"\")","v":"Cash USD"},{"$f":"IFERROR(VLOOKUP(C5,Worktags!O:T,2,FALSE),\"\")","v":"Wells Fargo Payroll 0118"},{"$f":"IFERROR(VLOOKUP(IF(C5=\"\",B5&\"||\"&B5,C5&\"||\"&B5),Worktags!AR:AV,5,FALSE),\"\")","v":"JE_Override"}]
["1000_BK1005 Cash USD/Wells Fargo Agency 3757",{"$f":"Worktags!AS81","v":"1000"},{"$f":"IF(Worktags!AQ81<>Worktags!AS81,Worktags!AQ81,\"\")","v":"BK1005"},{"$f":"IFERROR(VLOOKUP(B6,Worktags!AL:AO,2,FALSE),\"\")","v":"Cash USD"},{"$f":"IFERROR(VLOOKUP(C6,Worktags!O:T,2,FALSE),\"\")","v":"Wells Fargo Agency 3757"},{"$f":"IFERROR(VLOOKUP(IF(C6=\"\",B6&\"||\"&B6,C6&\"||\"&B6),Worktags!AR:AV,5,FALSE),\"\")","v":"JE_Override"}]
["1000_BK1006 Cash USD/Wells Fargo Fed Funds 2462",{"$f":"Worktags!AS82","v":"1000"},{"$f":"IF(Worktags!AQ82<>Worktags!AS82,Worktags!AQ82,\"\")","v":"BK1006"},{"$f":"IFERROR(VLOOKUP(B7,Worktags!AL:AO,2,FALSE),\"\")","v":"Cash USD"},{"$f":"IFERROR(VLOOKUP(C7,Worktags!O:T,2,FALSE),\"\")","v":"Wells Fargo Fed Funds 2462"},{"$f":"IFERROR(VLOOKUP(IF(C7=\"\",B7&\"||\"&B7,C7&\"||\"&B7),Worktags!AR:AV,5,FALSE),\"\")","v":"JE_Override"}]
["1000_BK1008 Cash USD/",{"$f":"Worktags!AS83","v":"1000"},{"$f":"IF(Worktags!AQ83<>Worktags!AS83,Worktags!AQ83,\"\")","v":"BK1008"},{"$f":"IFERROR(VLOOKUP(B8,Worktags!AL:AO,2,FALSE),\"\")","v":"Cash USD"},{"$f":"IFERROR(VLOOKUP(C8,Worktags!O:T,2,FALSE),\"\")","v":""},{"$f":"IFERROR(VLOOKUP(IF(C8=\"\",B8&\"||\"&B8,C8&\"||\"&B8),Worktags!AR:AV,5,FALSE),\"\")","v":"JE_Override"}]
["1000_BK1020 Cash USD/JPMorgan Per Diem 5898",{"$f":"Worktags!AS84","v":"1000"},{"$f":"IF(Worktags!AQ84<>Worktags!AS84,Worktags!AQ84,\"\")","v":"BK1020"},{"$f":"IFERROR(VLOOKUP(B9,Worktags!AL:AO,2,FALSE),\"\")","v":"Cash USD"},{"$f":"IFERROR(VLOOKUP(C9,Worktags!O:T,2,FALSE),\"\")","v":"JPMorgan Per Diem 5898"},{"$f":"IFERROR(VLOOKUP(IF(C9=\"\",B9&\"||\"&B9,C9&\"||\"&B9),Worktags!AR:AV,5,FALSE),\"\")","v":"JE_Override"}]
["1000_BK1030 Cash USD/CUBS BYU 3920",{"$f":"Worktags!AS85","v":"1000"},{"$f":"IF(Worktags!AQ85<>Worktags!AS85,Worktags!AQ85,\"\")","v":"BK1030"},{"$f":"IFERROR(VLOOKUP(B10,Worktags!AL:AO,2,FALSE),\"\")","v":"Cash USD"},{"$f":"IFERROR(VLOOKUP(C10,Worktags!O:T,2,FALSE),\"\")","v":"CUBS BYU 3920"},{"$f":"IFERROR(VLOOKUP(IF(C10=\"\",B10&\"||\"&B10,C10&\"||\"&B10),Worktags!AR:AV,5,FALSE),\"\")","v":"JE_Override"}]
["1000_BK1041 Cash USD/Jerusalem Operations USD 7144",{"$f":"Worktags!AS87","v":"1000"},{"$f":"IF(Worktags!AQ87<>Worktags!AS87,Worktags!AQ87,\"\")","v":"BK1041"},{"$f":"IFERROR(VLOOKUP(B11,Worktags!AL:AO,2,FALSE),\"\")","v":"Cash USD"},{"$f":"IFERROR(VLOOKUP(C11,Worktags!O:T,2,FALSE),\"\")","v":"Jerusalem Operations USD 7144"},{"$f":"IFERROR(VLOOKUP(IF(C11=\"\",B11&\"||\"&B11,C11&\"||\"&B11),Worktags!AR:AV,5,FALSE),\"\")","v":"JE_Override"}]
["1001 Cash ILS",{"$f":"Worktags!AL6","v":"1001"},null,{"$f":"IFERROR(VLOOKUP(B12,Worktags!AL:AO,2,FALSE),\"\")","v":"Cash ILS"},null,{"$f":"IFERROR(VLOOKUP(IF(C12=\"\",B12&\"||\"&B12,C12&\"||\"&B12),Worktags!AR:AV,5,FALSE),\"\")","v":"All"}]
["1001 Cash ILS",{"$f":"Worktags!AS4","v":"1001"},{"$f":"IF(Worktags!AQ4<>Worktags!AS4,Worktags!AQ4,\"\")","v":""},{"$f":"IFERROR(VLOOKUP(B13,Worktags!AL:AO,2,FALSE),\"\")","v":"Cash ILS"},{"$f":"IFERROR(VLOOKUP(C13,Worktags!O:T,2,FALSE),\"\")","v":""},{"$f":"IFERROR(VLOOKUP(IF(C13=\"\",B13&\"||\"&B13,C13&\"||\"&B13),Worktags!AR:AV,5,FALSE),\"\")","v":"All"}]
["1001_BK1040 Cash ILS/Jerusalem Payroll ILS 0039",{"$f":"Worktags!AS86","v":"1001"},{"$f":"IF(Worktags!AQ86<>Worktags!AS86,Worktags!AQ86,\"\")","v":"BK1040"},{"$f":"IFERROR(VLOOKUP(B14,Worktags!AL:AO,2,FALSE),\"\")","v":"Cash ILS"},{"$f":"IFERROR(VLOOKUP(C14,Worktags!O:T,2,FALSE),\"\")","v":"Jerusalem Payroll ILS 0039"},{"$f":"IFERROR(VLOOKUP(IF(C14=\"\",B14&\"||\"&B14,C14&\"||\"&B14),Worktags!AR:AV,5,FALSE),\"\")","v":"JE_Override"}]
["1001_BK1042 Cash ILS/Jerusalem Operations ILS 3566",{"$f":"Worktags!AS88","v":"1001"},{"$f":"IF(Worktags!AQ88<>Worktags!AS88,Worktags!AQ88,\"\")","v":"BK1042"},{"$f":"IFERROR(VLOOKUP(B15,Worktags!AL:AO,2,FALSE),\"\")","v":"Cash ILS"},{"$f":"IFERROR(VLOOKUP(C15,Worktags!O:T,2,FALSE),\"\")","v":"Jerusalem Operations ILS 3566"},{"$f":"IFERROR(VLOOKUP(IF(C15=\"\",B15&\"||\"&B15,C15&\"||\"&B15),Worktags!AR:AV,5,FALSE),\"\")","v":"JE_Override"}]
["1002 Cash GBP",{"$f":"Worktags!AL7","v":"1002"},null,{"$f":"IFERROR(VLOOKUP(B16,Worktags!AL:AO,2,FALSE),\"\")","v":"Cash GBP"},null,{"$f":"IFERROR(VLOOKUP(IF(C16=\"\",B16&\"||\"&B16,C16&\"||\"&B16),Worktags!AR:AV,5,FALSE),\"\")","v":"All"}]
["1002 Cash GBP",{"$f":"Worktags!AS5","v":"1002"},{"$f":"IF(Worktags!AQ5<>Worktags!AS5,Worktags!AQ5,\"\")","v":""},{"$f":"IFERROR(VLOOKUP(B17,Worktags!AL:AO,2,FALSE),\"\")","v":"Cash GBP"},{"$f":"IFERROR(VLOOKUP(C17,Worktags!O:T,2,FALSE),\"\")","v":""},{"$f":"IFERROR(VLOOKUP(IF(C17=\"\",B17&\"||\"&B17,C17&\"||\"&B17),Worktags!AR:AV,5,FALSE),\"\")","v":"All"}]
["1003 Cash EUR",{"$f":"Worktags!AL8","v":"1003"},null,{"$f":"IFERROR(VLOOKUP(B18,Worktags!AL:AO,2,FALSE),\"\")","v":"Cash EUR"},null,{"$f":"IFERROR(VLOOKUP(IF(C18=\"\",B18&\"||\"&B18,C18&\"||\"&B18),Worktags!AR:AV,5,FALSE),\"\")","v":""}]
["1003_BK1053 Cash EUR/",{"$f":"Worktags!AS89","v":"1003"},{"$f":"IF(Worktags!AQ89<>Worktags!AS89,Worktags!AQ89,\"\")","v":"BK1053"},{"$f":"IFERROR(VLOOKUP(B19,Worktags!AL:AO,2,FALSE),\"\")","v":"Cash EUR"},{"$f":"IFERROR(VLOOKUP(C19,Worktags!O:T,2,FALSE),\"\")","v":""},{"$f":"IFERROR(VLOOKUP(IF(C19=\"\",B19&\"||\"&B19,C19&\"||\"&B19),Worktags!AR:AV,5,FALSE),\"\")","v":"JE_Override"}]
["1003_BK1054 Cash EUR/",{"$f":"Worktags!AS90","v":"1003"},{"$f":"IF(Worktags!AQ90<>Worktags!AS90,Worktags!AQ90,\"\")","v":"BK1054"},{"$f":"IFERROR(VLOOKUP(B20,Worktags!AL:AO,2,FALSE),\"\")","v":"Cash EUR"},{"$f":"IFERROR(VLOOKUP(C20,Worktags!O:T,2,FALSE),\"\")","v":""},{"$f":"IFERROR(VLOOKUP(IF(C20=\"\",B20&\"||\"&B20,C20&\"||\"&B20),Worktags!AR:AV,5,FALSE),\"\")","v":"JE_Override"}]
["1003_BK1055 Cash EUR/",{"$f":"Worktags!AS91","v":"1003"},{"$f":"IF(Worktags!AQ91<>Worktags!AS91,Worktags!AQ91,\"\")","v":"BK1055"},{"$f":"IFERROR(VLOOKUP(B21,Worktags!AL:AO,2,FALSE),\"\")","v":"Cash EUR"},{"$f":"IFERROR(VLOOKUP(C21,Worktags!O:T,2,FALSE),\"\")","v":""},{"$f":"IFERROR(VLOOKUP(IF(C21=\"\",B21&\"||\"&B21,C21&\"||\"&B21),Worktags!AR:AV,5,FALSE),\"\")","v":"JE_Override"}]
["1004 Cash CAD",{"$f":"Worktags!AL9","v":"1004"},null,{"$f":"IFERROR(VLOOKUP(B22,Worktags!AL:AO,2,FALSE),\"\")","v":"Cash CAD"},null,{"$f":"IFERROR(VLOOKUP(IF(C22=\"\",B22&\"||\"&B22,C22&\"||\"&B22),Worktags!AR:AV,5,FALSE),\"\")","v":"All"}]
["1004 Cash CAD",{"$f":"Worktags!AS6","v":"1004"},{"$f":"IF(Worktags!AQ6<>Worktags!AS6,Worktags!AQ6,\"\")","v":""},{"$f":"IFERROR(VLOOKUP(B23,Worktags!AL:AO,2,FALSE),\"\")","v":"Cash CAD"},{"$f":"IFERROR(VLOOKUP(C23,Worktags!O:T,2,FALSE),\"\")","v":""},{"$f":"IFERROR(VLOOKUP(IF(C23=\"\",B23&\"||\"&B23,C23&\"||\"&B23),Worktags!AR:AV,5,FALSE),\"\")","v":"All"}]
["1040 Petty Cash",{"$f":"Worktags!AL10","v":"1040"},null,{"$f":"IFERROR(VLOOKUP(B24,Worktags!AL:AO,2,FALSE),\"\")","v":"Petty Cash"},null,{"$f":"IFERROR(VLOOKUP(IF(C24=\"\",B24&\"||\"&B24,C24&\"||\"&B24),Worktags!AR:AV,5,FALSE),\"\")","v":"All"}]
["1040 Petty Cash",{"$f":"Worktags!AS7","v":"1040"},{"$f":"IF(Worktags!AQ7<>Worktags!AS7,Worktags!AQ7,\"\")","v":""},{"$f":"IFERROR(VLOOKUP(B25,Worktags!AL:AO,2,FALSE),\"\")","v":"Petty Cash"},{"$f":"IFERROR(VLOOKUP(C25,Worktags!O:T,2,FALSE),\"\")","v":""},{"$f":"IFERROR(VLOOKUP(IF(C25=\"\",B25&\"||\"&B25,C25&\"||\"&B25),Worktags!AR:AV,5,FALSE),\"\")","v":"All"}]
["1050 Change Funds",{"$f":"Worktags!AL11","v":"1050"},null,{"$f":"IFERROR(VLOOKUP(B26,Worktags!AL:AO,2,FALSE),\"\")","v":"Change Funds"},null,{"$f":"IFERROR(VLOOKUP(IF(C26=\"\",B26&\"||\"&B26,C26&\"||\"&B26),Worktags!AR:AV,5,FALSE),\"\")","v":"All"}]
["1050 Change Funds",{"$f":"Worktags!AS8","v":"1050"},{"$f":"IF(Worktags!AQ8<>Worktags!AS8,Worktags!AQ8,\"\")","v":""},{"$f":"IFERROR(VLOOKUP(B27,Worktags!AL:AO,2,FALSE),\"\")","v":"Change Funds"},{"$f":"IFERROR(VLOOKUP(C27,Worktags!O:T,2,FALSE),\"\")","v":""},{"$f":"IFERROR(VLOOKUP(IF(C27=\"\",B27&\"||\"&B27,C27&\"||\"&B27),Worktags!AR:AV,5,FALSE),\"\")","v":"All"}]
["1055 Gift Cards",{"$f":"Worktags!AL12","v":"1055"},null,{"$f":"IFERROR(VLOOKUP(B28,Worktags!AL:AO,2,FALSE),\"\")","v":"Gift Cards"},null,{"$f":"IFERROR(VLOOKUP(IF(C28=\"\",B28&\"||\"&B28,C28&\"||\"&B28),Worktags!AR:AV,5,FALSE),\"\")","v":""}]
["1055_SC1055 Gift Cards/Gift Cards",{"$f":"Worktags!AS212","v":"1055"},{"$f":"IF(Worktags!AQ212<>Worktags!AS212,Worktags!AQ212,\"\")","v":"SC1055"},{"$f":"IFERROR(VLOOKUP(B29,Worktags!AL:AO,2,FALSE),\"\")","v":"Gift Cards"},{"$f":"IFERROR(VLOOKUP(C29,Worktags!O:T,2,FALSE),\"\")","v":"Gift Cards"},{"$f":"IFERROR(VLOOKUP(IF(C29=\"\",B29&\"||\"&B29,C29&\"||\"&B29),Worktags!AR:AV,5,FALSE),\"\")","v":"All"}]
["1090 Clearing-Cash",{"$f":"Worktags!AL13","v":"1090"},null,{"$f":"IFERROR(VLOOKUP(B30,Worktags!AL:AO,2,FALSE),\"\")","v":"Clearing-Cash"},null,{"$f":"IFERROR(VLOOKUP(IF(C30=\"\",B30&\"||\"&B30,C30&\"||\"&B30),Worktags!AR:AV,5,FALSE),\"\")","v":"All"}]
["1090 Clearing-Cash",{"$f":"Worktags!AS9","v":"1090"},{"$f":"IF(Worktags!AQ9<>Worktags!AS9,Worktags!AQ9,\"\")","v":""},{"$f":"IFERROR(VLOOKUP(B31,Worktags!AL:AO,2,FALSE),\"\")","v":"Clearing-Cash"},{"$f":"IFERROR(VLOOKUP(C31,Worktags!O:T,2,FALSE),\"\")","v":""},{"$f":"IFERROR(VLOOKUP(IF(C31=\"\",B31&\"||\"&B31,C31&\"||\"&B31),Worktags!AR:AV,5,FALSE),\"\")","v":"All"}]
["1090_SC4100 Clearing-Cash/Tuition and Fees Refunds",{"$f":"Worktags!AS252","v":"1090"},{"$f":"IF(Worktags!AQ252<>Worktags!AS252,Worktags!AQ252,\"\")","v":"SC4100"},{"$f":"IFERROR(VLOOKUP(B32,Worktags!AL:AO,2,FALSE),\"\")","v":"Clearing-Cash"},{"$f":"IFERROR(VLOOKUP(C32,Worktags!O:T,2,FALSE),\"\")","v":"Tuition and Fees Refunds"},{"$f":"IFERROR(VLOOKUP(IF(C32=\"\",B32&\"||\"&B32,C32&\"||\"&B32),Worktags!AR:AV,5,FALSE),\"\")","v":"All"}]
["1120 Investment Pool",{"$f":"Worktags!AL14","v":"1120"},null,{"$f":"IFERROR(VLOOKUP(B33,Worktags!AL:AO,2,FALSE),\"\")","v":"Investment Pool"},null,{"$f":"IFERROR(VLOOKUP(IF(C33=\"\",B33&\"||\"&B33,C33&\"||\"&B33),Worktags!AR:AV,5,FALSE),\"\")","v":"JE_Gift|JE_Override"}]
["1120 Investment Pool",{"$f":"Worktags!AS10","v":"1120"},{"$f":"IF(Worktags!AQ10<>Worktags!AS10,Worktags!AQ10,\"\")","v":""},{"$f":"IFERROR(VLOOKUP(B34,Worktags!AL:AO,2,FALSE),\"\")","v":"Investment Pool"},{"$f":"IFERROR(VLOOKUP(C34,Worktags!O:T,2,FALSE),\"\")","v":""},{"$f":"IFERROR(VLOOKUP(IF(C34=\"\",B34&\"||\"&B34,C34&\"||\"&B34),Worktags!AR:AV,5,FALSE),\"\")","v":"JE_Gift|JE_Override"}]
["1121 Investments - Book Value",{"$f":"Worktags!AL15","v":"1121"},null,{"$f":"IFERROR(VLOOKUP(B35,Worktags!AL:AO,2,FALSE),\"\")","v":"Investments - Book Value"},null,{"$f":"IFERROR(VLOOKUP(IF(C35=\"\",B35&\"||\"&B35,C35&\"||\"&B35),Worktags!AR:AV,5,FALSE),\"\")","v":"JE_Gift|JE_Override"}]
["1121 Investments - Book Value",{"$f":"Worktags!AS11","v":"1121"},{"$f":"IF(Worktags!AQ11<>Worktags!AS11,Worktags!AQ11,\"\")","v":""},{"$f":"IFERROR(VLOOKUP(B36,Worktags!AL:AO,2,FALSE),\"\")","v":"Investments - Book Value"},{"$f":"IFERROR(VLOOKUP(C36,Worktags!O:T,2,FALSE),\"\")","v":""},{"$f":"IFERROR(VLOOKUP(IF(C36=\"\",B36&\"||\"&B36,C36&\"||\"&B36),Worktags!AR:AV,5,FALSE),\"\")","v":"JE_Gift|JE_Override"}]
["1122 Investments - Fair Market Value",{"$f":"Worktags!AL16","v":"1122"},null,{"$f":"IFERROR(VLOOKUP(B37,Worktags!AL:AO,2,FALSE),\"\")","v":"Investments - Fair Market Value"},null,{"$f":"IFERROR(VLOOKUP(IF(C37=\"\",B37&\"||\"&B37,C37&\"||\"&B37),Worktags!AR:AV,5,FALSE),\"\")","v":"JE_Gift|JE_Override"}]
["1122 Investments - Fair Market Value",{"$f":"Worktags!AS12","v":"1122"},{"$f":"IF(Worktags!AQ12<>Worktags!AS12,Worktags!AQ12,\"\")","v":""},{"$f":"IFERROR(VLOOKUP(B38,Worktags!AL:AO,2,FALSE),\"\")","v":"Investments - Fair Market Value"},{"$f":"IFERROR(VLOOKUP(C38,Worktags!O:T,2,FALSE),\"\")","v":""},{"$f":"IFERROR(VLOOKUP(IF(C38=\"\",B38&\"||\"&B38,C38&\"||\"&B38),Worktags!AR:AV,5,FALSE),\"\")","v":"JE_Gift|JE_Override"}]
["1150 Other Equity Securities",{"$f":"Worktags!AL17","v":"1150"},null,{"$f":"IFERROR(VLOOKUP(B39,Worktags!AL:AO,2,FALSE),\"\")","v":"Other Equity Securities"},null,{"$f":"IFERROR(VLOOKUP(IF(C39=\"\",B39&\"||\"&B39,C39&\"||\"&B39),Worktags!AR:AV,5,FALSE),\"\")","v":"JE_Gift|JE_Override"}]
["1150 Other Equity Securities",{"$f":"Worktags!AS13","v":"1150"},{"$f":"IF(Worktags!AQ13<>Worktags!AS13,Worktags!AQ13,\"\")","v":""},{"$f":"IFERROR(VLOOKUP(B40,Worktags!AL:AO,2,FALSE),\"\")","v":"Other Equity Securities"},{"$f":"IFERROR(VLOOKUP(C40,Worktags!O:T,2,FALSE),\"\")","v":""},{"$f":"IFERROR(VLOOKUP(IF(C40=\"\",B40&\"||\"&B40,C40&\"||\"&B40),Worktags!AR:AV,5,FALSE),\"\")","v":"JE_Gift|JE_Override"}]
["1160 Other Fixed Income Securities",{"$f":"Worktags!AL18","v":"1160"},null,{"$f":"IFERROR(VLOOKUP(B41,Worktags!AL:AO,2,FALSE),\"\")","v":"Other Fixed Income Securities"},null,{"$f":"IFERROR(VLOOKUP(IF(C41=\"\",B41&\"||\"&B41,C41&\"||\"&B41),Worktags!AR:AV,5,FALSE),\"\")","v":"JE_Gift|JE_Override"}]
["1160 Other Fixed Income Securities",{"$f":"Worktags!AS14","v":"1160"},{"$f":"IF(Worktags!AQ14<>Worktags!AS14,Worktags!AQ14,\"\")","v":""},{"$f":"IFERROR(VLOOKUP(B42,Worktags!AL:AO,2,FALSE),\"\")","v":"Other Fixed Income Securities"},{"$f":"IFERROR(VLOOKUP(C42,Worktags!O:T,2,FALSE),\"\")","v":""},{"$f":"IFERROR(VLOOKUP(IF(C42=\"\",B42&\"||\"&B42,C42&\"||\"&B42),Worktags!AR:AV,5,FALSE),\"\")","v":"JE_Gift|JE_Override"}]
["1170 Other Investments",{"$f":"Worktags!AL19","v":"1170"},null,{"$f":"IFERROR(VLOOKUP(B43,Worktags!AL:AO,2,FALSE),\"\")","v":"Other Investments"},null,{"$f":"IFERROR(VLOOKUP(IF(C43=\"\",B43&\"||\"&B43,C43&\"||\"&B43),Worktags!AR:AV,5,FALSE),\"\")","v":"JE_Gift|JE_Override"}]
["1170 Other Investments",{"$f":"Worktags!AS15","v":"1170"},{"$f":"IF(Worktags!AQ15<>Worktags!AS15,Worktags!AQ15,\"\")","v":""},{"$f":"IFERROR(VLOOKUP(B44,Worktags!AL:AO,2,FALSE),\"\")","v":"Other Investments"},{"$f":"IFERROR(VLOOKUP(C44,Worktags!O:T,2,FALSE),\"\")","v":""},{"$f":"IFERROR(VLOOKUP(IF(C44=\"\",B44&\"||\"&B44,C44&\"||\"&B44),Worktags!AR:AV,5,FALSE),\"\")","v":"JE_Gift|JE_Override"}]
["1200 Department Receivable",{"$f":"Worktags!AL20","v":"1200"},null,{"$f":"IFERROR(VLOOKUP(B45,Worktags!AL:AO,2,FALSE),\"\")","v":"Department Receivable"},null,{"$f":"IFERROR(VLOOKUP(IF(C45=\"\",B45&\"||\"&B45,C45&\"||\"&B45),Worktags!AR:AV,5,FALSE),\"\")","v":"All"}]
["1200 Department Receivable",{"$f":"Worktags!AS16","v":"1200"},{"$f":"IF(Worktags!AQ16<>Worktags!AS16,Worktags!AQ16,\"\")","v":""},{"$f":"IFERROR(VLOOKUP(B46,Worktags!AL:AO,2,FALSE),\"\")","v":"Department Receivable"},{"$f":"IFERROR(VLOOKUP(C46,Worktags!O:T,2,FALSE),\"\")","v":""},{"$f":"IFERROR(VLOOKUP(IF(C46=\"\",B46&\"||\"&B46,C46&\"||\"&B46),Worktags!AR:AV,5,FALSE),\"\")","v":"All"}]
["1200_SC1218 Department Receivable/Utah Sales Tax",{"$f":"Worktags!AS213","v":"1200"},{"$f":"IF(Worktags!AQ213<>Worktags!AS213,Worktags!AQ213,\"\")","v":"SC1218"},{"$f":"IFERROR(VLOOKUP(B47,Worktags!AL:AO,2,FALSE),\"\")","v":"Department Receivable"},{"$f":"IFERROR(VLOOKUP(C47,Worktags!O:T,2,FALSE),\"\")","v":"Utah Sales Tax"},{"$f":"IFERROR(VLOOKUP(IF(C47=\"\",B47&\"||\"&B47,C47&\"||\"&B47),Worktags!AR:AV,5,FALSE),\"\")","v":"All"}]
["1200_SC4100 Department Receivable/Tuition and Fees Refunds",{"$f":"Worktags!AS253","v":"1200"},{"$f":"IF(Worktags!AQ253<>Worktags!AS253,Worktags!AQ253,\"\")","v":"SC4100"},{"$f":"IFERROR(VLOOKUP(B48,Worktags!AL:AO,2,FALSE),\"\")","v":"Department Receivable"},{"$f":"IFERROR(VLOOKUP(C48,Worktags!O:T,2,FALSE),\"\")","v":"Tuition and Fees Refunds"},{"$f":"IFERROR(VLOOKUP(IF(C48=\"\",B48&\"||\"&B48,C48&\"||\"&B48),Worktags!AR:AV,5,FALSE),\"\")","v":"All"}]
["1210 Off Campus Receivable",{"$f":"Worktags!AL21","v":"1210"},null,{"$f":"IFERROR(VLOOKUP(B49,Worktags!AL:AO,2,FALSE),\"\")","v":"Off Campus Receivable"},null,{"$f":"IFERROR(VLOOKUP(IF(C49=\"\",B49&\"||\"&B49,C49&\"||\"&B49),Worktags!AR:AV,5,FALSE),\"\")","v":"All"}]
["1210 Off Campus Receivable",{"$f":"Worktags!AS17","v":"1210"},{"$f":"IF(Worktags!AQ17<>Worktags!AS17,Worktags!AQ17,\"\")","v":""},{"$f":"IFERROR(VLOOKUP(B50,Worktags!AL:AO,2,FALSE),\"\")","v":"Off Campus Receivable"},{"$f":"IFERROR(VLOOKUP(C50,Worktags!O:T,2,FALSE),\"\")","v":""},{"$f":"IFERROR(VLOOKUP(IF(C50=\"\",B50&\"||\"&B50,C50&\"||\"&B50),Worktags!AR:AV,5,FALSE),\"\")","v":"All"}]
["1210_RC1210 Off Campus Receivable/Off Campus Receivable",{"$f":"Worktags!AS92","v":"1210"},{"$f":"IF(Worktags!AQ92<>Worktags!AS92,Worktags!AQ92,\"\")","v":"RC1210"},{"$f":"IFERROR(VLOOKUP(B51,Worktags!AL:AO,2,FALSE),\"\")","v":"Off Campus Receivable"},{"$f":"IFERROR(VLOOKUP(C51,Worktags!O:T,2,FALSE),\"\")","v":"Off Campus Receivable"},{"$f":"IFERROR(VLOOKUP(IF(C51=\"\",B51&\"||\"&B51,C51&\"||\"&B51),Worktags!AR:AV,5,FALSE),\"\")","v":"All"}]
["1210_SC1218 Off Campus Receivable/Utah Sales Tax",{"$f":"Worktags!AS214","v":"1210"},{"$f":"IF(Worktags!AQ214<>Worktags!AS214,Worktags!AQ214,\"\")","v":"SC1218"},{"$f":"IFERROR(VLOOKUP(B52,Worktags!AL:AO,2,FALSE),\"\")","v":"Off Campus Receivable"},{"$f":"IFERROR(VLOOKUP(C52,Worktags!O:T,2,FALSE),\"\")","v":"Utah Sales Tax"},{"$f":"IFERROR(VLOOKUP(IF(C52=\"\",B52&\"||\"&B52,C52&\"||\"&B52),Worktags!AR:AV,5,FALSE),\"\")","v":"All"}]
["1220 Student Receivable",{"$f":"Worktags!AL22","v":"1220"},null,{"$f":"IFERROR(VLOOKUP(B53,Worktags!AL:AO,2,FALSE),\"\")","v":"Student Receivable"},null,{"$f":"IFERROR(VLOOKUP(IF(C53=\"\",B53&\"||\"&B53,C53&\"||\"&B53),Worktags!AR:AV,5,FALSE),\"\")","v":"All"}]
["1220 Student Receivable",{"$f":"Worktags!AS18","v":"1220"},{"$f":"IF(Worktags!AQ18<>Worktags!AS18,Worktags!AQ18,\"\")","v":""},{"$f":"IFERROR(VLOOKUP(B54,Worktags!AL:AO,2,FALSE),\"\")","v":"Student Receivable"},{"$f":"IFERROR(VLOOKUP(C54,Worktags!O:T,2,FALSE),\"\")","v":""},{"$f":"IFERROR(VLOOKUP(IF(C54=\"\",B54&\"||\"&B54,C54&\"||\"&B54),Worktags!AR:AV,5,FALSE),\"\")","v":"All"}]
["1230 Church Receivable",{"$f":"Worktags!AL23","v":"1230"},null,{"$f":"IFERROR(VLOOKUP(B55,Worktags!AL:AO,2,FALSE),\"\")","v":"Church Receivable"},null,{"$f":"IFERROR(VLOOKUP(IF(C55=\"\",B55&\"||\"&B55,C55&\"||\"&B55),Worktags!AR:AV,5,FALSE),\"\")","v":"All"}]
["1230 Church Receivable",{"$f":"Worktags!AS19","v":"1230"},{"$f":"IF(Worktags!AQ19<>Worktags!AS19,Worktags!AQ19,\"\")","v":""},{"$f":"IFERROR(VLOOKUP(B56,Worktags!AL:AO,2,FALSE),\"\")","v":"Church Receivable"},{"$f":"IFERROR(VLOOKUP(C56,Worktags!O:T,2,FALSE),\"\")","v":""},{"$f":"IFERROR(VLOOKUP(IF(C56=\"\",B56&\"||\"&B56,C56&\"||\"&B56),Worktags!AR:AV,5,FALSE),\"\")","v":"All"}]
["1230_RC1230 Church Receivable/Church Receivable",{"$f":"Worktags!AS93","v":"1230"},{"$f":"IF(Worktags!AQ93<>Worktags!AS93,Worktags!AQ93,\"\")","v":"RC1230"},{"$f":"IFERROR(VLOOKUP(B57,Worktags!AL:AO,2,FALSE),\"\")","v":"Church Receivable"},{"$f":"IFERROR(VLOOKUP(C57,Worktags!O:T,2,FALSE),\"\")","v":"Church Receivable"},{"$f":"IFERROR(VLOOKUP(IF(C57=\"\",B57&\"||\"&B57,C57&\"||\"&B57),Worktags!AR:AV,5,FALSE),\"\")","v":"All"}]
["1235 Sponsored Programs Receivable",{"$f":"Worktags!AL24","v":"1235"},null,{"$f":"IFERROR(VLOOKUP(B58,Worktags!AL:AO,2,FALSE),\"\")","v":"Sponsored Programs Receivable"},null,{"$f":"IFERROR(VLOOKUP(IF(C58=\"\",B58&\"||\"&B58,C58&\"||\"&B58),Worktags!AR:AV,5,FALSE),\"\")","v":"JE_Research|JE_Override"}]
["1235 Sponsored Programs Receivable",{"$f":"Worktags!AS20","v":"1235"},{"$f":"IF(Worktags!AQ20<>Worktags!AS20,Worktags!AQ20,\"\")","v":""},{"$f":"IFERROR(VLOOKUP(B59,Worktags!AL:AO,2,FALSE),\"\")","v":"Sponsored Programs Receivable"},{"$f":"IFERROR(VLOOKUP(C59,Worktags!O:T,2,FALSE),\"\")","v":""},{"$f":"IFERROR(VLOOKUP(IF(C59=\"\",B59&\"||\"&B59,C59&\"||\"&B59),Worktags!AR:AV,5,FALSE),\"\")","v":"JE_Research|JE_Override"}]
["1236 Unbilled Sponsored Programs Receivable",{"$f":"Worktags!AL25","v":"1236"},null,{"$f":"IFERROR(VLOOKUP(B60,Worktags!AL:AO,2,FALSE),\"\")","v":"Unbilled Sponsored Programs Receivable"},null,{"$f":"IFERROR(VLOOKUP(IF(C60=\"\",B60&\"||\"&B60,C60&\"||\"&B60),Worktags!AR:AV,5,FALSE),\"\")","v":"JE_Research|JE_Override"}]
["1236 Unbilled Sponsored Programs Receivable",{"$f":"Worktags!AS21","v":"1236"},{"$f":"IF(Worktags!AQ21<>Worktags!AS21,Worktags!AQ21,\"\")","v":""},{"$f":"IFERROR(VLOOKUP(B61,Worktags!AL:AO,2,FALSE),\"\")","v":"Unbilled Sponsored Programs Receivable"},{"$f":"IFERROR(VLOOKUP(C61,Worktags!O:T,2,FALSE),\"\")","v":""},{"$f":"IFERROR(VLOOKUP(IF(C61=\"\",B61&\"||\"&B61,C61&\"||\"&B61),Worktags!AR:AV,5,FALSE),\"\")","v":"JE_Research|JE_Override"}]
["1240 Advances Receivable",{"$f":"Worktags!AL26","v":"1240"},null,{"$f":"IFERROR(VLOOKUP(B62,Worktags!AL:AO,2,FALSE),\"\")","v":"Advances Receivable"},null,{"$f":"IFERROR(VLOOKUP(IF(C62=\"\",B62&\"||\"&B62,C62&\"||\"&B62),Worktags!AR:AV,5,FALSE),\"\")","v":"All"}]
["1240 Advances Receivable",{"$f":"Worktags!AS22","v":"1240"},{"$f":"IF(Worktags!AQ22<>Worktags!AS22,Worktags!AQ22,\"\")","v":""},{"$f":"IFERROR(VLOOKUP(B63,Worktags!AL:AO,2,FALSE),\"\")","v":"Advances Receivable"},{"$f":"IFERROR(VLOOKUP(C63,Worktags!O:T,2,FALSE),\"\")","v":""},{"$f":"IFERROR(VLOOKUP(IF(C63=\"\",B63&\"||\"&B63,C63&\"||\"&B63),Worktags!AR:AV,5,FALSE),\"\")","v":"All"}]
["1241 Employee Receivable",{"$f":"Worktags!AL27","v":"1241"},null,{"$f":"IFERROR(VLOOKUP(B64,Worktags!AL:AO,2,FALSE),\"\")","v":"Employee Receivable"},null,{"$f":"IFERROR(VLOOKUP(IF(C64=\"\",B64&\"||\"&B64,C64&\"||\"&B64),Worktags!AR:AV,5,FALSE),\"\")","v":"All"}]
[{"$f":"IF(B65<>\"\",IF(C65<>\"\",B65&\"_\"&C65&\" \"&D65&\"/\"&E65,B65&\" \"&D65),\"\")","v":"1241 Employee Receivable"},{"$f":"Worktags!AS23","v":"1241"},{"$f":"IF(Worktags!AQ23<>Worktags!AS23,Worktags!AQ23,\"\")","v":""},{"$f":"IFERROR(VLOOKUP(B65,Worktags!AL:AO,2,FALSE),\"\")","v":"Employee Receivable"},{"$f":"IFERROR(VLOOKUP(C65,Worktags!O:T,2,FALSE),\"\")","v":""},{"$f":"IFERROR(VLOOKUP(IF(C65=\"\",B65&\"||\"&B65,C65&\"||\"&B65),Worktags!AR:AV,5,FALSE),\"\")","v":"All"}]
["1260 Notes Receivable",{"$f":"Worktags!AL28","v":"1260"},null,{"$f":"IFERROR(VLOOKUP(B66,Worktags!AL:AO,2,FALSE),\"\")","v":"Notes Receivable"},null,{"$f":"IFERROR(VLOOKUP(IF(C66=\"\",B66&\"||\"&B66,C66&\"||\"&B66),Worktags!AR:AV,5,FALSE),\"\")","v":"All"}]
["1260 Notes Receivable",{"$f":"Worktags!AS24","v":"1260"},{"$f":"IF(Worktags!AQ24<>Worktags!AS24,Worktags!AQ24,\"\")","v":""},{"$f":"IFERROR(VLOOKUP(B67,Worktags!AL:AO,2,FALSE),\"\")","v":"Notes Receivable"},{"$f":"IFERROR(VLOOKUP(C67,Worktags!O:T,2,FALSE),\"\")","v":""},{"$f":"IFERROR(VLOOKUP(IF(C67=\"\",B67&\"||\"&B67,C67&\"||\"&B67),Worktags!AR:AV,5,FALSE),\"\")","v":"All"}]
["1270 Student Loan Receivable-Short Term",{"$f":"Worktags!AL29","v":"1270"},null,{"$f":"IFERROR(VLOOKUP(B68,Worktags!AL:AO,2,FALSE),\"\")","v":"Student Loan Receivable-Short Term"},null,{"$f":"IFERROR(VLOOKUP(IF(C68=\"\",B68&\"||\"&B68,C68&\"||\"&B68),Worktags!AR:AV,5,FALSE),\"\")","v":"All"}]
["1270 Student Loan Receivable-Short Term",{"$f":"Worktags!AS25","v":"1270"},{"$f":"IF(Worktags!AQ25<>Worktags!AS25,Worktags!AQ25,\"\")","v":""},{"$f":"IFERROR(VLOOKUP(B69,Worktags!AL:AO,2,FALSE),\"\")","v":"Student Loan Receivable-Short Term"},{"$f":"IFERROR(VLOOKUP(C69,Worktags!O:T,2,FALSE),\"\")","v":""},{"$f":"IFERROR(VLOOKUP(IF(C69=\"\",B69&\"||\"&B69,C69&\"||\"&B69),Worktags!AR:AV,5,FALSE),\"\")","v":"All"}]
["1275 Student Loan Receivable-Long Term",{"$f":"Worktags!AL30","v":"1275"},null,{"$f":"IFERROR(VLOOKUP(B70,Worktags!AL:AO,2,FALSE),\"\")","v":"Student Loan Receivable-Long Term"},null,{"$f":"IFERROR(VLOOKUP(IF(C70=\"\",B70&\"||\"&B70,C70&\"||\"&B70),Worktags!AR:AV,5,FALSE),\"\")","v":"All"}]
["1275 Student Loan Receivable-Long Term",{"$f":"Worktags!AS26","v":"1275"},{"$f":"IF(Worktags!AQ26<>Worktags!AS26,Worktags!AQ26,\"\")","v":""},{"$f":"IFERROR(VLOOKUP(B71,Worktags!AL:AO,2,FALSE),\"\")","v":"Student Loan Receivable-Long Term"},{"$f":"IFERROR(VLOOKUP(C71,Worktags!O:T,2,FALSE),\"\")","v":""},{"$f":"IFERROR(VLOOKUP(IF(C71=\"\",B71&\"||\"&B71,C71&\"||\"&B71),Worktags!AR:AV,5,FALSE),\"\")","v":"All"}]
["1280 Pledges Receivable",{"$f":"Worktags!AL31","v":"1280"},null,{"$f":"IFERROR(VLOOKUP(B72,Worktags!AL:AO,2,FALSE),\"\")","v":"Pledges Receivable"},null,{"$f":"IFERROR(VLOOKUP(IF(C72=\"\",B72&\"||\"&B72,C72&\"||\"&B72),Worktags!AR:AV,5,FALSE),\"\")","v":"All"}]
["1280 Pledges Receivable",{"$f":"Worktags!AS27","v":"1280"},{"$f":"IF(Worktags!AQ27<>Worktags!AS27,Worktags!AQ27,\"\")","v":""},{"$f":"IFERROR(VLOOKUP(B73,Worktags!AL:AO,2,FALSE),\"\")","v":"Pledges Receivable"},{"$f":"IFERROR(VLOOKUP(C73,Worktags!O:T,2,FALSE),\"\")","v":""},{"$f":"IFERROR(VLOOKUP(IF(C73=\"\",B73&\"||\"&B73,C73&\"||\"&B73),Worktags!AR:AV,5,FALSE),\"\")","v":"All"}]
["1285 Deferred Gifts",{"$f":"Worktags!AL32","v":"1285"},null,{"$f":"IFERROR(VLOOKUP(B74,Worktags!AL:AO,2,FALSE),\"\")","v":"Deferred Gifts"},null,{"$f":"IFERROR(VLOOKUP(IF(C74=\"\",B74&\"||\"&B74,C74&\"||\"&B74),Worktags!AR:AV,5,FALSE),\"\")","v":"All"}]
["1285 Deferred Gifts",{"$f":"Worktags!AS28","v":"1285"},{"$f":"IF(Worktags!AQ28<>Worktags!AS28,Worktags!AQ28,\"\")","v":""},{"$f":"IFERROR(VLOOKUP(B75,Worktags!AL:AO,2,FALSE),\"\")","v":"Deferred Gifts"},{"$f":"IFERROR(VLOOKUP(C75,Worktags!O:T,2,FALSE),\"\")","v":""},{"$f":"IFERROR(VLOOKUP(IF(C75=\"\",B75&\"||\"&B75,C75&\"||\"&B75),Worktags!AR:AV,5,FALSE),\"\")","v":"All"}]
["1289 Pledges/Def Gifts Rec Reserve",{"$f":"Worktags!AL33","v":"1289"},null,{"$f":"IFERROR(VLOOKUP(B76,Worktags!AL:AO,2,FALSE),\"\")","v":"Pledges/Def Gifts Rec Reserve"},null,{"$f":"IFERROR(VLOOKUP(IF(C76=\"\",B76&\"||\"&B76,C76&\"||\"&B76),Worktags!AR:AV,5,FALSE),\"\")","v":"All"}]
["1289 Pledges/Def Gifts Rec Reserve",{"$f":"Worktags!AS29","v":"1289"},{"$f":"IF(Worktags!AQ29<>Worktags!AS29,Worktags!AQ29,\"\")","v":""},{"$f":"IFERROR(VLOOKUP(B77,Worktags!AL:AO,2,FALSE),\"\")","v":"Pledges/Def Gifts Rec Reserve"},{"$f":"IFERROR(VLOOKUP(C77,Worktags!O:T,2,FALSE),\"\")","v":""},{"$f":"IFERROR(VLOOKUP(IF(C77=\"\",B77&\"||\"&B77,C77&\"||\"&B77),Worktags!AR:AV,5,FALSE),\"\")","v":"All"}]
["1290 Clearing-Receivable",{"$f":"Worktags!AL34","v":"1290"},null,{"$f":"IFERROR(VLOOKUP(B78,Worktags!AL:AO,2,FALSE),\"\")","v":"Clearing-Receivable"},null,{"$f":"IFERROR(VLOOKUP(IF(C78=\"\",B78&\"||\"&B78,C78&\"||\"&B78),Worktags!AR:AV,5,FALSE),\"\")","v":"All"}]
["1290 Clearing-Receivable",{"$f":"Worktags!AS30","v":"1290"},{"$f":"IF(Worktags!AQ30<>Worktags!AS30,Worktags!AQ30,\"\")","v":""},{"$f":"IFERROR(VLOOKUP(B79,Worktags!AL:AO,2,FALSE),\"\")","v":"Clearing-Receivable"},{"$f":"IFERROR(VLOOKUP(C79,Worktags!O:T,2,FALSE),\"\")","v":""},{"$f":"IFERROR(VLOOKUP(IF(C79=\"\",B79&\"||\"&B79,C79&\"||\"&B79),Worktags!AR:AV,5,FALSE),\"\")","v":"All"}]
["1290_RC1290 Clearing-Receivable/Clearing-Receivable",{"$f":"Worktags!AS94","v":"1290"},{"$f":"IF(Worktags!AQ94<>Worktags!AS94,Worktags!AQ94,\"\")","v":"RC1290"},{"$f":"IFERROR(VLOOKUP(B80,Worktags!AL:AO,2,FALSE),\"\")","v":"Clearing-Receivable"},{"$f":"IFERROR(VLOOKUP(C80,Worktags!O:T,2,FALSE),\"\")","v":"Clearing-Receivable"},{"$f":"IFERROR(VLOOKUP(IF(C80=\"\",B80&\"||\"&B80,C80&\"||\"&B80),Worktags!AR:AV,5,FALSE),\"\")","v":"All"}]
["1290_SC1290 Clearing-Receivable/MFC Refunds",{"$f":"Worktags!AS215","v":"1290"},{"$f":"IF(Worktags!AQ215<>Worktags!AS215,Worktags!AQ215,\"\")","v":"SC1290"},{"$f":"IFERROR(VLOOKUP(B81,Worktags!AL:AO,2,FALSE),\"\")","v":"Clearing-Receivable"},{"$f":"IFERROR(VLOOKUP(C81,Worktags!O:T,2,FALSE),\"\")","v":"MFC Refunds"},{"$f":"IFERROR(VLOOKUP(IF(C81=\"\",B81&\"||\"&B81,C81&\"||\"&B81),Worktags!AR:AV,5,FALSE),\"\")","v":"All"}]
["1291 Clearing-Receivable Bank Cards",{"$f":"Worktags!AL35","v":"1291"},null,{"$f":"IFERROR(VLOOKUP(B82,Worktags!AL:AO,2,FALSE),\"\")","v":"Clearing-Receivable Bank Cards"},null,{"$f":"IFERROR(VLOOKUP(IF(C82=\"\",B82&\"||\"&B82,C82&\"||\"&B82),Worktags!AR:AV,5,FALSE),\"\")","v":"All"}]
["1291 Clearing-Receivable Bank Cards",{"$f":"Worktags!AS31","v":"1291"},{"$f":"IF(Worktags!AQ31<>Worktags!AS31,Worktags!AQ31,\"\")","v":""},{"$f":"IFERROR(VLOOKUP(B83,Worktags!AL:AO,2,FALSE),\"\")","v":"Clearing-Receivable Bank Cards"},{"$f":"IFERROR(VLOOKUP(C83,Worktags!O:T,2,FALSE),\"\")","v":""},{"$f":"IFERROR(VLOOKUP(IF(C83=\"\",B83&\"||\"&B83,C83&\"||\"&B83),Worktags!AR:AV,5,FALSE),\"\")","v":"All"}]
["1299 Account/Note Rec Reserve",{"$f":"Worktags!AL36","v":"1299"},null,{"$f":"IFERROR(VLOOKUP(B84,Worktags!AL:AO,2,FALSE),\"\")","v":"Account/Note Rec Reserve"},null,{"$f":"IFERROR(VLOOKUP(IF(C84=\"\",B84&\"||\"&B84,C84&\"||\"&B84),Worktags!AR:AV,5,FALSE),\"\")","v":"All"}]
["1299 Account/Note Rec Reserve",{"$f":"Worktags!AS32","v":"1299"},{"$f":"IF(Worktags!AQ32<>Worktags!AS32,Worktags!AQ32,\"\")","v":""},{"$f":"IFERROR(VLOOKUP(B85,Worktags!AL:AO,2,FALSE),\"\")","v":"Account/Note Rec Reserve"},{"$f":"IFERROR(VLOOKUP(C85,Worktags!O:T,2,FALSE),\"\")","v":""},{"$f":"IFERROR(VLOOKUP(IF(C85=\"\",B85&\"||\"&B85,C85&\"||\"&B85),Worktags!AR:AV,5,FALSE),\"\")","v":"All"}]
["1299_RC1298 Account/Note Rec Reserve/Special Recovery",{"$f":"Worktags!AS95","v":"1299"},{"$f":"IF(Worktags!AQ95<>Worktags!AS95,Worktags!AQ95,\"\")","v":"RC1298"},{"$f":"IFERROR(VLOOKUP(B86,Worktags!AL:AO,2,FALSE),\"\")","v":"Account/Note Rec Reserve"},{"$f":"IFERROR(VLOOKUP(C86,Worktags!O:T,2,FALSE),\"\")","v":"Special Recovery"},{"$f":"IFERROR(VLOOKUP(IF(C86=\"\",B86&\"||\"&B86,C86&\"||\"&B86),Worktags!AR:AV,5,FALSE),\"\")","v":"All"}]
["1300 Inventory - Workday",{"$f":"Worktags!AL37","v":"1300"},null,{"$f":"IFERROR(VLOOKUP(B87,Worktags!AL:AO,2,FALSE),\"\")","v":"Inventory - Workday"},null,{"$f":"IFERROR(VLOOKUP(IF(C87=\"\",B87&\"||\"&B87,C87&\"||\"&B87),Worktags!AR:AV,5,FALSE),\"\")","v":""}]
["1300_SC1300 Inventory - Workday/Inventory - Workday",{"$f":"Worktags!AS216","v":"1300"},{"$f":"IF(Worktags!AQ216<>Worktags!AS216,Worktags!AQ216,\"\")","v":"SC1300"},{"$f":"IFERROR(VLOOKUP(B88,Worktags!AL:AO,2,FALSE),\"\")","v":"Inventory - Workday"},{"$f":"IFERROR(VLOOKUP(C88,Worktags!O:T,2,FALSE),\"\")","v":"Inventory - Workday"},{"$f":"IFERROR(VLOOKUP(IF(C88=\"\",B88&\"||\"&B88,C88&\"||\"&B88),Worktags!AR:AV,5,FALSE),\"\")","v":"All"}]
["1300_SC6731 Inventory - Workday/Stage and Studio Lighting (Only Workday Inventory Module)",{"$f":"Worktags!AS703","v":"1300"},{"$f":"IF(Worktags!AQ703<>Worktags!AS703,Worktags!AQ703,\"\")","v":"SC6731"},{"$f":"IFERROR(VLOOKUP(B89,Worktags!AL:AO,2,FALSE),\"\")","v":"Inventory - Workday"},{"$f":"IFERROR(VLOOKUP(C89,Worktags!O:T,2,FALSE),\"\")","v":"Stage and Studio Lighting (Only Workday Inventory Module)"},{"$f":"IFERROR(VLOOKUP(IF(C89=\"\",B89&\"||\"&B89,C89&\"||\"&B89),Worktags!AR:AV,5,FALSE),\"\")","v":"All"}]
["1300_SC6940 Inventory - Workday/Audio Visual Equipment (Only Workday Inventory Module)",{"$f":"Worktags!AS918","v":"1300"},{"$f":"IF(Worktags!AQ918<>Worktags!AS918,Worktags!AQ918,\"\")","v":"SC6940"},{"$f":"IFERROR(VLOOKUP(B90,Worktags!AL:AO,2,FALSE),\"\")","v":"Inventory - Workday"},{"$f":"IFERROR(VLOOKUP(C90,Worktags!O:T,2,FALSE),\"\")","v":"Audio Visual Equipment (Only Workday Inventory Module)"},{"$f":"IFERROR(VLOOKUP(IF(C90=\"\",B90&\"||\"&B90,C90&\"||\"&B90),Worktags!AR:AV,5,FALSE),\"\")","v":"All"}]
["1300_SC6941 Inventory - Workday/Communication Devices (Only Workday Inventory Module)",{"$f":"Worktags!AS922","v":"1300"},{"$f":"IF(Worktags!AQ922<>Worktags!AS922,Worktags!AQ922,\"\")","v":"SC6941"},{"$f":"IFERROR(VLOOKUP(B91,Worktags!AL:AO,2,FALSE),\"\")","v":"Inventory - Workday"},{"$f":"IFERROR(VLOOKUP(C91,Worktags!O:T,2,FALSE),\"\")","v":"Communication Devices (Only Workday Inventory Module)"},{"$f":"IFERROR(VLOOKUP(IF(C91=\"\",B91&\"||\"&B91,C91&\"||\"&B91),Worktags!AR:AV,5,FALSE),\"\")","v":"All"}]
["1300_SC6942 Inventory - Workday/Computer Hardware (Only Workday Inventory Module)",{"$f":"Worktags!AS926","v":"1300"},{"$f":"IF(Worktags!AQ926<>Worktags!AS926,Worktags!AQ926,\"\")","v":"SC6942"},{"$f":"IFERROR(VLOOKUP(B92,Worktags!AL:AO,2,FALSE),\"\")","v":"Inventory - Workday"},{"$f":"IFERROR(VLOOKUP(C92,Worktags!O:T,2,FALSE),\"\")","v":"Computer Hardware (Only Workday Inventory Module)"},{"$f":"IFERROR(VLOOKUP(IF(C92=\"\",B92&\"||\"&B92,C92&\"||\"&B92),Worktags!AR:AV,5,FALSE),\"\")","v":"All"}]
["1300_SC6943 Inventory - Workday/Data Network Equipment (Only Workday Inventory Module)",{"$f":"Worktags!AS930","v":"1300"},{"$f":"IF(Worktags!AQ930<>Worktags!AS930,Worktags!AQ930,\"\")","v":"SC6943"},{"$f":"IFERROR(VLOOKUP(B93,Worktags!AL:AO,2,FALSE),\"\")","v":"Inventory - Workday"},{"$f":"IFERROR(VLOOKUP(C93,Worktags!O:T,2,FALSE),\"\")","v":"Data Network Equipment (Only Workday Inventory Module)"},{"$f":"IFERROR(VLOOKUP(IF(C93=\"\",B93&\"||\"&B93,C93&\"||\"&B93),Worktags!AR:AV,5,FALSE),\"\")","v":"All"}]
["1300_SC6944 Inventory - Workday/Equipment (not otherwise specified) (Only Workday Inventory Module)",{"$f":"Worktags!AS934","v":"1300"},{"$f":"IF(Worktags!AQ934<>Worktags!AS934,Worktags!AQ934,\"\")","v":"SC6944"},{"$f":"IFERROR(VLOOKUP(B94,Worktags!AL:AO,2,FALSE),\"\")","v":"Inventory - Workday"},{"$f":"IFERROR(VLOOKUP(C94,Worktags!O:T,2,FALSE),\"\")","v":"Equipment (not otherwise specified) (Only Workday Inventory Module)"},{"$f":"IFERROR(VLOOKUP(IF(C94=\"\",B94&\"||\"&B94,C94&\"||\"&B94),Worktags!AR:AV,5,FALSE),\"\")","v":"All"}]
["1300_SC6945 Inventory - Workday/Office Equipment (Only Workday Inventory Module)",{"$f":"Worktags!AS938","v":"1300"},{"$f":"IF(Worktags!AQ938<>Worktags!AS938,Worktags!AQ938,\"\")","v":"SC6945"},{"$f":"IFERROR(VLOOKUP(B95,Worktags!AL:AO,2,FALSE),\"\")","v":"Inventory - Workday"},{"$f":"IFERROR(VLOOKUP(C95,Worktags!O:T,2,FALSE),\"\")","v":"Office Equipment (Only Workday Inventory Module)"},{"$f":"IFERROR(VLOOKUP(IF(C95=\"\",B95&\"||\"&B95,C95&\"||\"&B95),Worktags!AR:AV,5,FALSE),\"\")","v":"All"}]
["1300_SC6946 Inventory - Workday/Security Equipment (Only Workday Inventory Module)",{"$f":"Worktags!AS942","v":"1300"},{"$f":"IF(Worktags!AQ942<>Worktags!AS942,Worktags!AQ942,\"\")","v":"SC6946"},{"$f":"IFERROR(VLOOKUP(B96,Worktags!AL:AO,2,FALSE),\"\")","v":"Inventory - Workday"},{"$f":"IFERROR(VLOOKUP(C96,Worktags!O:T,2,FALSE),\"\")","v":"Security Equipment (Only Workday Inventory Module)"},{"$f":"IFERROR(VLOOKUP(IF(C96=\"\",B96&\"||\"&B96,C96&\"||\"&B96),Worktags!AR:AV,5,FALSE),\"\")","v":"All"}]
["1310 Inventory - Campus Subsystems",{"$f":"Worktags!AL38","v":"1310"},null,{"$f":"IFERROR(VLOOKUP(B97,Worktags!AL:AO,2,FALSE),\"\")","v":"Inventory - Campus Subsystems"},null,{"$f":"IFERROR(VLOOKUP(IF(C97=\"\",B97&\"||\"&B97,C97&\"||\"&B97),Worktags!AR:AV,5,FALSE),\"\")","v":""}]
["1310_SC1310 Inventory - Campus Subsystems/Inventory - Campus Subsystems",{"$f":"Worktags!AS217","v":"1310"},{"$f":"IF(Worktags!AQ217<>Worktags!AS217,Worktags!AQ217,\"\")","v":"SC1310"},{"$f":"IFERROR(VLOOKUP(B98,Worktags!AL:AO,2,FALSE),\"\")","v":"Inventory - Campus Subsystems"},{"$f":"IFERROR(VLOOKUP(C98,Worktags!O:T,2,FALSE),\"\")","v":"Inventory - Campus Subsystems"},{"$f":"IFERROR(VLOOKUP(IF(C98=\"\",B98&\"||\"&B98,C98&\"||\"&B98),Worktags!AR:AV,5,FALSE),\"\")","v":"All"}]
["1350 Inventory-Work in Process",{"$f":"Worktags!AL39","v":"1350"},null,{"$f":"IFERROR(VLOOKUP(B99,Worktags!AL:AO,2,FALSE),\"\")","v":"Inventory-Work in Process"},null,{"$f":"IFERROR(VLOOKUP(IF(C99=\"\",B99&\"||\"&B99,C99&\"||\"&B99),Worktags!AR:AV,5,FALSE),\"\")","v":"All"}]
["1350 Inventory-Work in Process",{"$f":"Worktags!AS33","v":"1350"},{"$f":"IF(Worktags!AQ33<>Worktags!AS33,Worktags!AQ33,\"\")","v":""},{"$f":"IFERROR(VLOOKUP(B100,Worktags!AL:AO,2,FALSE),\"\")","v":"Inventory-Work in Process"},{"$f":"IFERROR(VLOOKUP(C100,Worktags!O:T,2,FALSE),\"\")","v":""},{"$f":"IFERROR(VLOOKUP(IF(C100=\"\",B100&\"||\"&B100,C100&\"||\"&B100),Worktags!AR:AV,5,FALSE),\"\")","v":"All"}]
["1390 Clearing-Inventory",{"$f":"Worktags!AL40","v":"1390"},null,{"$f":"IFERROR(VLOOKUP(B101,Worktags!AL:AO,2,FALSE),\"\")","v":"Clearing-Inventory"},null,{"$f":"IFERROR(VLOOKUP(IF(C101=\"\",B101&\"||\"&B101,C101&\"||\"&B101),Worktags!AR:AV,5,FALSE),\"\")","v":"All"}]
["1390 Clearing-Inventory",{"$f":"Worktags!AS34","v":"1390"},{"$f":"IF(Worktags!AQ34<>Worktags!AS34,Worktags!AQ34,\"\")","v":""},{"$f":"IFERROR(VLOOKUP(B102,Worktags!AL:AO,2,FALSE),\"\")","v":"Clearing-Inventory"},{"$f":"IFERROR(VLOOKUP(C102,Worktags!O:T,2,FALSE),\"\")","v":""},{"$f":"IFERROR(VLOOKUP(IF(C102=\"\",B102&\"||\"&B102,C102&\"||\"&B102),Worktags!AR:AV,5,FALSE),\"\")","v":"All"}]
["1390_SC1390 Clearing-Inventory/Inventory - Clearing (Conversion Only)",{"$f":"Worktags!AS218","v":"1390"},{"$f":"IF(Worktags!AQ218<>Worktags!AS218,Worktags!AQ218,\"\")","v":"SC1390"},{"$f":"IFERROR(VLOOKUP(B103,Worktags!AL:AO,2,FALSE),\"\")","v":"Clearing-Inventory"},{"$f":"IFERROR(VLOOKUP(C103,Worktags!O:T,2,FALSE),\"\")","v":"Inventory - Clearing (Conversion Only)"},{"$f":"IFERROR(VLOOKUP(IF(C103=\"\",B103&\"||\"&B103,C103&\"||\"&B103),Worktags!AR:AV,5,FALSE),\"\")","v":"All"}]
["1399 Inventory Reserve",{"$f":"Worktags!AL41","v":"1399"},null,{"$f":"IFERROR(VLOOKUP(B104,Worktags!AL:AO,2,FALSE),\"\")","v":"Inventory Reserve"},null,{"$f":"IFERROR(VLOOKUP(IF(C104=\"\",B104&\"||\"&B104,C104&\"||\"&B104),Worktags!AR:AV,5,FALSE),\"\")","v":"All"}]
["1399 Inventory Reserve",{"$f":"Worktags!AS35","v":"1399"},{"$f":"IF(Worktags!AQ35<>Worktags!AS35,Worktags!AQ35,\"\")","v":""},{"$f":"IFERROR(VLOOKUP(B105,Worktags!AL:AO,2,FALSE),\"\")","v":"Inventory Reserve"},{"$f":"IFERROR(VLOOKUP(C105,Worktags!O:T,2,FALSE),\"\")","v":""},{"$f":"IFERROR(VLOOKUP(IF(C105=\"\",B105&\"||\"&B105,C105&\"||\"&B105),Worktags!AR:AV,5,FALSE),\"\")","v":"All"}]
["1400 Prepaid Expenses",{"$f":"Worktags!AL42","v":"1400"},null,{"$f":"IFERROR(VLOOKUP(B106,Worktags!AL:AO,2,FALSE),\"\")","v":"Prepaid Expenses"},null,{"$f":"IFERROR(VLOOKUP(IF(C106=\"\",B106&\"||\"&B106,C106&\"||\"&B106),Worktags!AR:AV,5,FALSE),\"\")","v":"All"}]
["1400 Prepaid Expenses",{"$f":"Worktags!AS36","v":"1400"},{"$f":"IF(Worktags!AQ36<>Worktags!AS36,Worktags!AQ36,\"\")","v":""},{"$f":"IFERROR(VLOOKUP(B107,Worktags!AL:AO,2,FALSE),\"\")","v":"Prepaid Expenses"},{"$f":"IFERROR(VLOOKUP(C107,Worktags!O:T,2,FALSE),\"\")","v":""},{"$f":"IFERROR(VLOOKUP(IF(C107=\"\",B107&\"||\"&B107,C107&\"||\"&B107),Worktags!AR:AV,5,FALSE),\"\")","v":"All"}]
["1400_SC1400 Prepaid Expenses/Prepaid Expenses",{"$f":"Worktags!AS219","v":"1400"},{"$f":"IF(Worktags!AQ219<>Worktags!AS219,Worktags!AQ219,\"\")","v":"SC1400"},{"$f":"IFERROR(VLOOKUP(B108,Worktags!AL:AO,2,FALSE),\"\")","v":"Prepaid Expenses"},{"$f":"IFERROR(VLOOKUP(C108,Worktags!O:T,2,FALSE),\"\")","v":"Prepaid Expenses"},{"$f":"IFERROR(VLOOKUP(IF(C108=\"\",B108&\"||\"&B108,C108&\"||\"&B108),Worktags!AR:AV,5,FALSE),\"\")","v":"All"}]
["1400_SC6101 Prepaid Expenses/Animal Supplies",{"$f":"Worktags!AS300","v":"1400"},{"$f":"IF(Worktags!AQ300<>Worktags!AS300,Worktags!AQ300,\"\")","v":"SC6101"},{"$f":"IFERROR(VLOOKUP(B109,Worktags!AL:AO,2,FALSE),\"\")","v":"Prepaid Expenses"},{"$f":"IFERROR(VLOOKUP(C109,Worktags!O:T,2,FALSE),\"\")","v":"Animal Supplies"},{"$f":"IFERROR(VLOOKUP(IF(C109=\"\",B109&\"||\"&B109,C109&\"||\"&B109),Worktags!AR:AV,5,FALSE),\"\")","v":"All"}]
["1400_SC6102 Prepaid Expenses/Animals",{"$f":"Worktags!AS302","v":"1400"},{"$f":"IF(Worktags!AQ302<>Worktags!AS302,Worktags!AQ302,\"\")","v":"SC6102"},{"$f":"IFERROR(VLOOKUP(B110,Worktags!AL:AO,2,FALSE),\"\")","v":"Prepaid Expenses"},{"$f":"IFERROR(VLOOKUP(C110,Worktags!O:T,2,FALSE),\"\")","v":"Animals"},{"$f":"IFERROR(VLOOKUP(IF(C110=\"\",B110&\"||\"&B110,C110&\"||\"&B110),Worktags!AR:AV,5,FALSE),\"\")","v":"All"}]
["1400_SC6103 Prepaid Expenses/Art",{"$f":"Worktags!AS304","v":"1400"},{"$f":"IF(Worktags!AQ304<>Worktags!AS304,Worktags!AQ304,\"\")","v":"SC6103"},{"$f":"IFERROR(VLOOKUP(B111,Worktags!AL:AO,2,FALSE),\"\")","v":"Prepaid Expenses"},{"$f":"IFERROR(VLOOKUP(C111,Worktags!O:T,2,FALSE),\"\")","v":"Art"},{"$f":"IFERROR(VLOOKUP(IF(C111=\"\",B111&\"||\"&B111,C111&\"||\"&B111),Worktags!AR:AV,5,FALSE),\"\")","v":"All"}]
["1400_SC6104 Prepaid Expenses/Art Supplies",{"$f":"Worktags!AS306","v":"1400"},{"$f":"IF(Worktags!AQ306<>Worktags!AS306,Worktags!AQ306,\"\")","v":"SC6104"},{"$f":"IFERROR(VLOOKUP(B112,Worktags!AL:AO,2,FALSE),\"\")","v":"Prepaid Expenses"},{"$f":"IFERROR(VLOOKUP(C112,Worktags!O:T,2,FALSE),\"\")","v":"Art Supplies"},{"$f":"IFERROR(VLOOKUP(IF(C112=\"\",B112&\"||\"&B112,C112&\"||\"&B112),Worktags!AR:AV,5,FALSE),\"\")","v":"All"}]
["1400_SC6105 Prepaid Expenses/Athletic Supplies",{"$f":"Worktags!AS308","v":"1400"},{"$f":"IF(Worktags!AQ308<>Worktags!AS308,Worktags!AQ308,\"\")","v":"SC6105"},{"$f":"IFERROR(VLOOKUP(B113,Worktags!AL:AO,2,FALSE),\"\")","v":"Prepaid Expenses"},{"$f":"IFERROR(VLOOKUP(C113,Worktags!O:T,2,FALSE),\"\")","v":"Athletic Supplies"},{"$f":"IFERROR(VLOOKUP(IF(C113=\"\",B113&\"||\"&B113,C113&\"||\"&B113),Worktags!AR:AV,5,FALSE),\"\")","v":"All"}]
["1400_SC6106 Prepaid Expenses/Audio Visual Supplies",{"$f":"Worktags!AS310","v":"1400"},{"$f":"IF(Worktags!AQ310<>Worktags!AS310,Worktags!AQ310,\"\")","v":"SC6106"},{"$f":"IFERROR(VLOOKUP(B114,Worktags!AL:AO,2,FALSE),\"\")","v":"Prepaid Expenses"},{"$f":"IFERROR(VLOOKUP(C114,Worktags!O:T,2,FALSE),\"\")","v":"Audio Visual Supplies"},{"$f":"IFERROR(VLOOKUP(IF(C114=\"\",B114&\"||\"&B114,C114&\"||\"&B114),Worktags!AR:AV,5,FALSE),\"\")","v":"All"}]
["1400_SC6107 Prepaid Expenses/Clothing",{"$f":"Worktags!AS315","v":"1400"},{"$f":"IF(Worktags!AQ315<>Worktags!AS315,Worktags!AQ315,\"\")","v":"SC6107"},{"$f":"IFERROR(VLOOKUP(B115,Worktags!AL:AO,2,FALSE),\"\")","v":"Prepaid Expenses"},{"$f":"IFERROR(VLOOKUP(C115,Worktags!O:T,2,FALSE),\"\")","v":"Clothing"},{"$f":"IFERROR(VLOOKUP(IF(C115=\"\",B115&\"||\"&B115,C115&\"||\"&B115),Worktags!AR:AV,5,FALSE),\"\")","v":"All"}]
["1400_SC6108 Prepaid Expenses/Data Network Supplies",{"$f":"Worktags!AS319","v":"1400"},{"$f":"IF(Worktags!AQ319<>Worktags!AS319,Worktags!AQ319,\"\")","v":"SC6108"},{"$f":"IFERROR(VLOOKUP(B116,Worktags!AL:AO,2,FALSE),\"\")","v":"Prepaid Expenses"},{"$f":"IFERROR(VLOOKUP(C116,Worktags!O:T,2,FALSE),\"\")","v":"Data Network Supplies"},{"$f":"IFERROR(VLOOKUP(IF(C116=\"\",B116&\"||\"&B116,C116&\"||\"&B116),Worktags!AR:AV,5,FALSE),\"\")","v":"All"}]
["1400_SC6109 Prepaid Expenses/Floral Supplies",{"$f":"Worktags!AS324","v":"1400"},{"$f":"IF(Worktags!AQ324<>Worktags!AS324,Worktags!AQ324,\"\")","v":"SC6109"},{"$f":"IFERROR(VLOOKUP(B117,Worktags!AL:AO,2,FALSE),\"\")","v":"Prepaid Expenses"},{"$f":"IFERROR(VLOOKUP(C117,Worktags!O:T,2,FALSE),\"\")","v":"Floral Supplies"},{"$f":"IFERROR(VLOOKUP(IF(C117=\"\",B117&\"||\"&B117,C117&\"||\"&B117),Worktags!AR:AV,5,FALSE),\"\")","v":"All"}]
["1400_SC6110 Prepaid Expenses/Food and Beverages",{"$f":"Worktags!AS326","v":"1400"},{"$f":"IF(Worktags!AQ326<>Worktags!AS326,Worktags!AQ326,\"\")","v":"SC6110"},{"$f":"IFERROR(VLOOKUP(B118,Worktags!AL:AO,2,FALSE),\"\")","v":"Prepaid Expenses"},{"$f":"IFERROR(VLOOKUP(C118,Worktags!O:T,2,FALSE),\"\")","v":"Food and Beverages"},{"$f":"IFERROR(VLOOKUP(IF(C118=\"\",B118&\"||\"&B118,C118&\"||\"&B118),Worktags!AR:AV,5,FALSE),\"\")","v":"All"}]
["1400_SC6111 Prepaid Expenses/Food Service Disposables",{"$f":"Worktags!AS330","v":"1400"},{"$f":"IF(Worktags!AQ330<>Worktags!AS330,Worktags!AQ330,\"\")","v":"SC6111"},{"$f":"IFERROR(VLOOKUP(B119,Worktags!AL:AO,2,FALSE),\"\")","v":"Prepaid Expenses"},{"$f":"IFERROR(VLOOKUP(C119,Worktags!O:T,2,FALSE),\"\")","v":"Food Service Disposables"},{"$f":"IFERROR(VLOOKUP(IF(C119=\"\",B119&\"||\"&B119,C119&\"||\"&B119),Worktags!AR:AV,5,FALSE),\"\")","v":"All"}]
["1400_SC6112 Prepaid Expenses/Food Service Supplies",{"$f":"Worktags!AS334","v":"1400"},{"$f":"IF(Worktags!AQ334<>Worktags!AS334,Worktags!AQ334,\"\")","v":"SC6112"},{"$f":"IFERROR(VLOOKUP(B120,Worktags!AL:AO,2,FALSE),\"\")","v":"Prepaid Expenses"},{"$f":"IFERROR(VLOOKUP(C120,Worktags!O:T,2,FALSE),\"\")","v":"Food Service Supplies"},{"$f":"IFERROR(VLOOKUP(IF(C120=\"\",B120&\"||\"&B120,C120&\"||\"&B120),Worktags!AR:AV,5,FALSE),\"\")","v":"All"}]
["1400_SC6113 Prepaid Expenses/Fuel",{"$f":"Worktags!AS336","v":"1400"},{"$f":"IF(Worktags!AQ336<>Worktags!AS336,Worktags!AQ336,\"\")","v":"SC6113"},{"$f":"IFERROR(VLOOKUP(B121,Worktags!AL:AO,2,FALSE),\"\")","v":"Prepaid Expenses"},{"$f":"IFERROR(VLOOKUP(C121,Worktags!O:T,2,FALSE),\"\")","v":"Fuel"},{"$f":"IFERROR(VLOOKUP(IF(C121=\"\",B121&\"||\"&B121,C121&\"||\"&B121),Worktags!AR:AV,5,FALSE),\"\")","v":"All"}]
["1400_SC6114 Prepaid Expenses/Hazardous Chemicals",{"$f":"Worktags!AS338","v":"1400"},{"$f":"IF(Worktags!AQ338<>Worktags!AS338,Worktags!AQ338,\"\")","v":"SC6114"},{"$f":"IFERROR(VLOOKUP(B122,Worktags!AL:AO,2,FALSE),\"\")","v":"Prepaid Expenses"},{"$f":"IFERROR(VLOOKUP(C122,Worktags!O:T,2,FALSE),\"\")","v":"Hazardous Chemicals"},{"$f":"IFERROR(VLOOKUP(IF(C122=\"\",B122&\"||\"&B122,C122&\"||\"&B122),Worktags!AR:AV,5,FALSE),\"\")","v":"All"}]
["1400_SC6115 Prepaid Expenses/Janitorial Supplies",{"$f":"Worktags!AS342","v":"1400"},{"$f":"IF(Worktags!AQ342<>Worktags!AS342,Worktags!AQ342,\"\")","v":"SC6115"},{"$f":"IFERROR(VLOOKUP(B123,Worktags!AL:AO,2,FALSE),\"\")","v":"Prepaid Expenses"},{"$f":"IFERROR(VLOOKUP(C123,Worktags!O:T,2,FALSE),\"\")","v":"Janitorial Supplies"},{"$f":"IFERROR(VLOOKUP(IF(C123=\"\",B123&\"||\"&B123,C123&\"||\"&B123),Worktags!AR:AV,5,FALSE),\"\")","v":"All"}]
["1400_SC6116 Prepaid Expenses/Laundry Supplies",{"$f":"Worktags!AS344","v":"1400"},{"$f":"IF(Worktags!AQ344<>Worktags!AS344,Worktags!AQ344,\"\")","v":"SC6116"},{"$f":"IFERROR(VLOOKUP(B124,Worktags!AL:AO,2,FALSE),\"\")","v":"Prepaid Expenses"},{"$f":"IFERROR(VLOOKUP(C124,Worktags!O:T,2,FALSE),\"\")","v":"Laundry Supplies"},{"$f":"IFERROR(VLOOKUP(IF(C124=\"\",B124&\"||\"&B124,C124&\"||\"&B124),Worktags!AR:AV,5,FALSE),\"\")","v":"All"}]
["1400_SC6117 Prepaid Expenses/Medical Supplies",{"$f":"Worktags!AS346","v":"1400"},{"$f":"IF(Worktags!AQ346<>Worktags!AS346,Worktags!AQ346,\"\")","v":"SC6117"},{"$f":"IFERROR(VLOOKUP(B125,Worktags!AL:AO,2,FALSE),\"\")","v":"Prepaid Expenses"},{"$f":"IFERROR(VLOOKUP(C125,Worktags!O:T,2,FALSE),\"\")","v":"Medical Supplies"},{"$f":"IFERROR(VLOOKUP(IF(C125=\"\",B125&\"||\"&B125,C125&\"||\"&B125),Worktags!AR:AV,5,FALSE),\"\")","v":"All"}]
["1400_SC6118 Prepaid Expenses/Musical Instrument Supplies",{"$f":"Worktags!AS348","v":"1400"},{"$f":"IF(Worktags!AQ348<>Worktags!AS348,Worktags!AQ348,\"\")","v":"SC6118"},{"$f":"IFERROR(VLOOKUP(B126,Worktags!AL:AO,2,FALSE),\"\")","v":"Prepaid Expenses"},{"$f":"IFERROR(VLOOKUP(C126,Worktags!O:T,2,FALSE),\"\")","v":"Musical Instrument Supplies"},{"$f":"IFERROR(VLOOKUP(IF(C126=\"\",B126&\"||\"&B126,C126&\"||\"&B126),Worktags!AR:AV,5,FALSE),\"\")","v":"All"}]
["1400_SC6119 Prepaid Expenses/Office Supplies",{"$f":"Worktags!AS350","v":"1400"},{"$f":"IF(Worktags!AQ350<>Worktags!AS350,Worktags!AQ350,\"\")","v":"SC6119"},{"$f":"IFERROR(VLOOKUP(B127,Worktags!AL:AO,2,FALSE),\"\")","v":"Prepaid Expenses"},{"$f":"IFERROR(VLOOKUP(C127,Worktags!O:T,2,FALSE),\"\")","v":"Office Supplies"},{"$f":"IFERROR(VLOOKUP(IF(C127=\"\",B127&\"||\"&B127,C127&\"||\"&B127),Worktags!AR:AV,5,FALSE),\"\")","v":"All"}]
["1400_SC6120 Prepaid Expenses/Other Expense",{"$f":"Worktags!AS354","v":"1400"},{"$f":"IF(Worktags!AQ354<>Worktags!AS354,Worktags!AQ354,\"\")","v":"SC6120"},{"$f":"IFERROR(VLOOKUP(B128,Worktags!AL:AO,2,FALSE),\"\")","v":"Prepaid Expenses"},{"$f":"IFERROR(VLOOKUP(C128,Worktags!O:T,2,FALSE),\"\")","v":"Other Expense"},{"$f":"IFERROR(VLOOKUP(IF(C128=\"\",B128&\"||\"&B128,C128&\"||\"&B128),Worktags!AR:AV,5,FALSE),\"\")","v":"All"}]
[{"$f":"IF(B129<>\"\",IF(C129<>\"\",B129&\"_\"&C129&\" \"&D129&\"/\"&E129,B129&\" \"&D129),\"\")","v":"1400_SC6121 Prepaid Expenses/Packaging"},{"$f":"Worktags!AS356","v":"1400"},{"$f":"IF(Worktags!AQ356<>Worktags!AS356,Worktags!AQ356,\"\")","v":"SC6121"},{"$f":"IFERROR(VLOOKUP(B129,Worktags!AL:AO,2,FALSE),\"\")","v":"Prepaid Expenses"},{"$f":"IFERROR(VLOOKUP(C129,Worktags!O:T,2,FALSE),\"\")","v":"Packaging"},{"$f":"IFERROR(VLOOKUP(IF(C129=\"\",B129&\"||\"&B129,C129&\"||\"&B129),Worktags!AR:AV,5,FALSE),\"\")","v":"All"}]
["1400_SC6122 Prepaid Expenses/Paper",{"$f":"Worktags!AS360","v":"1400"},{"$f":"IF(Worktags!AQ360<>Worktags!AS360,Worktags!AQ360,\"\")","v":"SC6122"},{"$f":"IFERROR(VLOOKUP(B130,Worktags!AL:AO,2,FALSE),\"\")","v":"Prepaid Expenses"},{"$f":"IFERROR(VLOOKUP(C130,Worktags!O:T,2,FALSE),\"\")","v":"Paper"},{"$f":"IFERROR(VLOOKUP(IF(C130=\"\",B130&\"||\"&B130,C130&\"||\"&B130),Worktags!AR:AV,5,FALSE),\"\")","v":"All"}]
["1400_SC6123 Prepaid Expenses/Photography Supplies",{"$f":"Worktags!AS362","v":"1400"},{"$f":"IF(Worktags!AQ362<>Worktags!AS362,Worktags!AQ362,\"\")","v":"SC6123"},{"$f":"IFERROR(VLOOKUP(B131,Worktags!AL:AO,2,FALSE),\"\")","v":"Prepaid Expenses"},{"$f":"IFERROR(VLOOKUP(C131,Worktags!O:T,2,FALSE),\"\")","v":"Photography Supplies"},{"$f":"IFERROR(VLOOKUP(IF(C131=\"\",B131&\"||\"&B131,C131&\"||\"&B131),Worktags!AR:AV,5,FALSE),\"\")","v":"All"}]
["1400_SC6124 Prepaid Expenses/Printed Media",{"$f":"Worktags!AS364","v":"1400"},{"$f":"IF(Worktags!AQ364<>Worktags!AS364,Worktags!AQ364,\"\")","v":"SC6124"},{"$f":"IFERROR(VLOOKUP(B132,Worktags!AL:AO,2,FALSE),\"\")","v":"Prepaid Expenses"},{"$f":"IFERROR(VLOOKUP(C132,Worktags!O:T,2,FALSE),\"\")","v":"Printed Media"},{"$f":"IFERROR(VLOOKUP(IF(C132=\"\",B132&\"||\"&B132,C132&\"||\"&B132),Worktags!AR:AV,5,FALSE),\"\")","v":"All"}]
["1400_SC6125 Prepaid Expenses/Printing Supplies",{"$f":"Worktags!AS366","v":"1400"},{"$f":"IF(Worktags!AQ366<>Worktags!AS366,Worktags!AQ366,\"\")","v":"SC6125"},{"$f":"IFERROR(VLOOKUP(B133,Worktags!AL:AO,2,FALSE),\"\")","v":"Prepaid Expenses"},{"$f":"IFERROR(VLOOKUP(C133,Worktags!O:T,2,FALSE),\"\")","v":"Printing Supplies"},{"$f":"IFERROR(VLOOKUP(IF(C133=\"\",B133&\"||\"&B133,C133&\"||\"&B133),Worktags!AR:AV,5,FALSE),\"\")","v":"All"}]
["1400_SC6126 Prepaid Expenses/Scientific and Engineering Supplies",{"$f":"Worktags!AS370","v":"1400"},{"$f":"IF(Worktags!AQ370<>Worktags!AS370,Worktags!AQ370,\"\")","v":"SC6126"},{"$f":"IFERROR(VLOOKUP(B134,Worktags!AL:AO,2,FALSE),\"\")","v":"Prepaid Expenses"},{"$f":"IFERROR(VLOOKUP(C134,Worktags!O:T,2,FALSE),\"\")","v":"Scientific and Engineering Supplies"},{"$f":"IFERROR(VLOOKUP(IF(C134=\"\",B134&\"||\"&B134,C134&\"||\"&B134),Worktags!AR:AV,5,FALSE),\"\")","v":"All"}]
["1400_SC6127 Prepaid Expenses/Special Collections",{"$f":"Worktags!AS374","v":"1400"},{"$f":"IF(Worktags!AQ374<>Worktags!AS374,Worktags!AQ374,\"\")","v":"SC6127"},{"$f":"IFERROR(VLOOKUP(B135,Worktags!AL:AO,2,FALSE),\"\")","v":"Prepaid Expenses"},{"$f":"IFERROR(VLOOKUP(C135,Worktags!O:T,2,FALSE),\"\")","v":"Special Collections"},{"$f":"IFERROR(VLOOKUP(IF(C135=\"\",B135&\"||\"&B135,C135&\"||\"&B135),Worktags!AR:AV,5,FALSE),\"\")","v":"All"}]
["1400_SC6129 Prepaid Expenses/Supplies (not otherwise specified)",{"$f":"Worktags!AS377","v":"1400"},{"$f":"IF(Worktags!AQ377<>Worktags!AS377,Worktags!AQ377,\"\")","v":"SC6129"},{"$f":"IFERROR(VLOOKUP(B136,Worktags!AL:AO,2,FALSE),\"\")","v":"Prepaid Expenses"},{"$f":"IFERROR(VLOOKUP(C136,Worktags!O:T,2,FALSE),\"\")","v":"Supplies (not otherwise specified)"},{"$f":"IFERROR(VLOOKUP(IF(C136=\"\",B136&\"||\"&B136,C136&\"||\"&B136),Worktags!AR:AV,5,FALSE),\"\")","v":"All"}]
["1400_SC6130 Prepaid Expenses/Teaching Supplies",{"$f":"Worktags!AS382","v":"1400"},{"$f":"IF(Worktags!AQ382<>Worktags!AS382,Worktags!AQ382,\"\")","v":"SC6130"},{"$f":"IFERROR(VLOOKUP(B137,Worktags!AL:AO,2,FALSE),\"\")","v":"Prepaid Expenses"},{"$f":"IFERROR(VLOOKUP(C137,Worktags!O:T,2,FALSE),\"\")","v":"Teaching Supplies"},{"$f":"IFERROR(VLOOKUP(IF(C137=\"\",B137&\"||\"&B137,C137&\"||\"&B137),Worktags!AR:AV,5,FALSE),\"\")","v":"All"}]
["1400_SC6131 Prepaid Expenses/Telecom Supplies",{"$f":"Worktags!AS384","v":"1400"},{"$f":"IF(Worktags!AQ384<>Worktags!AS384,Worktags!AQ384,\"\")","v":"SC6131"},{"$f":"IFERROR(VLOOKUP(B138,Worktags!AL:AO,2,FALSE),\"\")","v":"Prepaid Expenses"},{"$f":"IFERROR(VLOOKUP(C138,Worktags!O:T,2,FALSE),\"\")","v":"Telecom Supplies"},{"$f":"IFERROR(VLOOKUP(IF(C138=\"\",B138&\"||\"&B138,C138&\"||\"&B138),Worktags!AR:AV,5,FALSE),\"\")","v":"All"}]
["1400_SC6132 Prepaid Expenses/Vehicle Supplies",{"$f":"Worktags!AS389","v":"1400"},{"$f":"IF(Worktags!AQ389<>Worktags!AS389,Worktags!AQ389,\"\")","v":"SC6132"},{"$f":"IFERROR(VLOOKUP(B139,Worktags!AL:AO,2,FALSE),\"\")","v":"Prepaid Expenses"},{"$f":"IFERROR(VLOOKUP(C139,Worktags!O:T,2,FALSE),\"\")","v":"Vehicle Supplies"},{"$f":"IFERROR(VLOOKUP(IF(C139=\"\",B139&\"||\"&B139,C139&\"||\"&B139),Worktags!AR:AV,5,FALSE),\"\")","v":"All"}]
["1400_SC6133 Prepaid Expenses/Lab Gases and Cryogenics",{"$f":"Worktags!AS391","v":"1400"},{"$f":"IF(Worktags!AQ391<>Worktags!AS391,Worktags!AQ391,\"\")","v":"SC6133"},{"$f":"IFERROR(VLOOKUP(B140,Worktags!AL:AO,2,FALSE),\"\")","v":"Prepaid Expenses"},{"$f":"IFERROR(VLOOKUP(C140,Worktags!O:T,2,FALSE),\"\")","v":"Lab Gases and Cryogenics"},{"$f":"IFERROR(VLOOKUP(IF(C140=\"\",B140&\"||\"&B140,C140&\"||\"&B140),Worktags!AR:AV,5,FALSE),\"\")","v":"All"}]
["1400_SC6199 Prepaid Expenses/Materials and Supplies (reclass)",{"$f":"Worktags!AS395","v":"1400"},{"$f":"IF(Worktags!AQ395<>Worktags!AS395,Worktags!AQ395,\"\")","v":"SC6199"},{"$f":"IFERROR(VLOOKUP(B141,Worktags!AL:AO,2,FALSE),\"\")","v":"Prepaid Expenses"},{"$f":"IFERROR(VLOOKUP(C141,Worktags!O:T,2,FALSE),\"\")","v":"Materials and Supplies (reclass)"},{"$f":"IFERROR(VLOOKUP(IF(C141=\"\",B141&\"||\"&B141,C141&\"||\"&B141),Worktags!AR:AV,5,FALSE),\"\")","v":"All"}]
["1400_SC6401 Prepaid Expenses/Advertising",{"$f":"Worktags!AS408","v":"1400"},{"$f":"IF(Worktags!AQ408<>Worktags!AS408,Worktags!AQ408,\"\")","v":"SC6401"},{"$f":"IFERROR(VLOOKUP(B142,Worktags!AL:AO,2,FALSE),\"\")","v":"Prepaid Expenses"},{"$f":"IFERROR(VLOOKUP(C142,Worktags!O:T,2,FALSE),\"\")","v":"Advertising"},{"$f":"IFERROR(VLOOKUP(IF(C142=\"\",B142&\"||\"&B142,C142&\"||\"&B142),Worktags!AR:AV,5,FALSE),\"\")","v":"All"}]
["1400_SC6403 Prepaid Expenses/Animal Services",{"$f":"Worktags!AS411","v":"1400"},{"$f":"IF(Worktags!AQ411<>Worktags!AS411,Worktags!AQ411,\"\")","v":"SC6403"},{"$f":"IFERROR(VLOOKUP(B143,Worktags!AL:AO,2,FALSE),\"\")","v":"Prepaid Expenses"},{"$f":"IFERROR(VLOOKUP(C143,Worktags!O:T,2,FALSE),\"\")","v":"Animal Services"},{"$f":"IFERROR(VLOOKUP(IF(C143=\"\",B143&\"||\"&B143,C143&\"||\"&B143),Worktags!AR:AV,5,FALSE),\"\")","v":"All"}]
["1400_SC6404 Prepaid Expenses/Architectural or Engineering Services",{"$f":"Worktags!AS413","v":"1400"},{"$f":"IF(Worktags!AQ413<>Worktags!AS413,Worktags!AQ413,\"\")","v":"SC6404"},{"$f":"IFERROR(VLOOKUP(B144,Worktags!AL:AO,2,FALSE),\"\")","v":"Prepaid Expenses"},{"$f":"IFERROR(VLOOKUP(C144,Worktags!O:T,2,FALSE),\"\")","v":"Architectural or Engineering Services"},{"$f":"IFERROR(VLOOKUP(IF(C144=\"\",B144&\"||\"&B144,C144&\"||\"&B144),Worktags!AR:AV,5,FALSE),\"\")","v":"All"}]
["1400_SC6405 Prepaid Expenses/Art and Design Services",{"$f":"Worktags!AS417","v":"1400"},{"$f":"IF(Worktags!AQ417<>Worktags!AS417,Worktags!AQ417,\"\")","v":"SC6405"},{"$f":"IFERROR(VLOOKUP(B145,Worktags!AL:AO,2,FALSE),\"\")","v":"Prepaid Expenses"},{"$f":"IFERROR(VLOOKUP(C145,Worktags!O:T,2,FALSE),\"\")","v":"Art and Design Services"},{"$f":"IFERROR(VLOOKUP(IF(C145=\"\",B145&\"||\"&B145,C145&\"||\"&B145),Worktags!AR:AV,5,FALSE),\"\")","v":"All"}]
["1400_SC6406 Prepaid Expenses/Athletic Events",{"$f":"Worktags!AS419","v":"1400"},{"$f":"IF(Worktags!AQ419<>Worktags!AS419,Worktags!AQ419,\"\")","v":"SC6406"},{"$f":"IFERROR(VLOOKUP(B146,Worktags!AL:AO,2,FALSE),\"\")","v":"Prepaid Expenses"},{"$f":"IFERROR(VLOOKUP(C146,Worktags!O:T,2,FALSE),\"\")","v":"Athletic Events"},{"$f":"IFERROR(VLOOKUP(IF(C146=\"\",B146&\"||\"&B146,C146&\"||\"&B146),Worktags!AR:AV,5,FALSE),\"\")","v":"All"}]
["1400_SC6407 Prepaid Expenses/Audio Visual Media Duplication",{"$f":"Worktags!AS421","v":"1400"},{"$f":"IF(Worktags!AQ421<>Worktags!AS421,Worktags!AQ421,\"\")","v":"SC6407"},{"$f":"IFERROR(VLOOKUP(B147,Worktags!AL:AO,2,FALSE),\"\")","v":"Prepaid Expenses"},{"$f":"IFERROR(VLOOKUP(C147,Worktags!O:T,2,FALSE),\"\")","v":"Audio Visual Media Duplication"},{"$f":"IFERROR(VLOOKUP(IF(C147=\"\",B147&\"||\"&B147,C147&\"||\"&B147),Worktags!AR:AV,5,FALSE),\"\")","v":"All"}]
["1400_SC6410 Prepaid Expenses/Broadcast Services",{"$f":"Worktags!AS425","v":"1400"},{"$f":"IF(Worktags!AQ425<>Worktags!AS425,Worktags!AQ425,\"\")","v":"SC6410"},{"$f":"IFERROR(VLOOKUP(B148,Worktags!AL:AO,2,FALSE),\"\")","v":"Prepaid Expenses"},{"$f":"IFERROR(VLOOKUP(C148,Worktags!O:T,2,FALSE),\"\")","v":"Broadcast Services"},{"$f":"IFERROR(VLOOKUP(IF(C148=\"\",B148&\"||\"&B148,C148&\"||\"&B148),Worktags!AR:AV,5,FALSE),\"\")","v":"All"}]
["1400_SC6412 Prepaid Expenses/Cell Phones and Plans",{"$f":"Worktags!AS428","v":"1400"},{"$f":"IF(Worktags!AQ428<>Worktags!AS428,Worktags!AQ428,\"\")","v":"SC6412"},{"$f":"IFERROR(VLOOKUP(B149,Worktags!AL:AO,2,FALSE),\"\")","v":"Prepaid Expenses"},{"$f":"IFERROR(VLOOKUP(C149,Worktags!O:T,2,FALSE),\"\")","v":"Cell Phones and Plans"},{"$f":"IFERROR(VLOOKUP(IF(C149=\"\",B149&\"||\"&B149,C149&\"||\"&B149),Worktags!AR:AV,5,FALSE),\"\")","v":"All"}]
["1400_SC6413 Prepaid Expenses/Competition Officiating",{"$f":"Worktags!AS430","v":"1400"},{"$f":"IF(Worktags!AQ430<>Worktags!AS430,Worktags!AQ430,\"\")","v":"SC6413"},{"$f":"IFERROR(VLOOKUP(B150,Worktags!AL:AO,2,FALSE),\"\")","v":"Prepaid Expenses"},{"$f":"IFERROR(VLOOKUP(C150,Worktags!O:T,2,FALSE),\"\")","v":"Competition Officiating"},{"$f":"IFERROR(VLOOKUP(IF(C150=\"\",B150&\"||\"&B150,C150&\"||\"&B150),Worktags!AR:AV,5,FALSE),\"\")","v":"All"}]
["1400_SC6414 Prepaid Expenses/Computer Services",{"$f":"Worktags!AS432","v":"1400"},{"$f":"IF(Worktags!AQ432<>Worktags!AS432,Worktags!AQ432,\"\")","v":"SC6414"},{"$f":"IFERROR(VLOOKUP(B151,Worktags!AL:AO,2,FALSE),\"\")","v":"Prepaid Expenses"},{"$f":"IFERROR(VLOOKUP(C151,Worktags!O:T,2,FALSE),\"\")","v":"Computer Services"},{"$f":"IFERROR(VLOOKUP(IF(C151=\"\",B151&\"||\"&B151,C151&\"||\"&B151),Worktags!AR:AV,5,FALSE),\"\")","v":"All"}]
["1400_SC6415 Prepaid Expenses/Conference and Events Hosting",{"$f":"Worktags!AS436","v":"1400"},{"$f":"IF(Worktags!AQ436<>Worktags!AS436,Worktags!AQ436,\"\")","v":"SC6415"},{"$f":"IFERROR(VLOOKUP(B152,Worktags!AL:AO,2,FALSE),\"\")","v":"Prepaid Expenses"},{"$f":"IFERROR(VLOOKUP(C152,Worktags!O:T,2,FALSE),\"\")","v":"Conference and Events Hosting"},{"$f":"IFERROR(VLOOKUP(IF(C152=\"\",B152&\"||\"&B152,C152&\"||\"&B152),Worktags!AR:AV,5,FALSE),\"\")","v":"All"}]
["1400_SC6416 Prepaid Expenses/Conference Registration",{"$f":"Worktags!AS438","v":"1400"},{"$f":"IF(Worktags!AQ438<>Worktags!AS438,Worktags!AQ438,\"\")","v":"SC6416"},{"$f":"IFERROR(VLOOKUP(B153,Worktags!AL:AO,2,FALSE),\"\")","v":"Prepaid Expenses"},{"$f":"IFERROR(VLOOKUP(C153,Worktags!O:T,2,FALSE),\"\")","v":"Conference Registration"},{"$f":"IFERROR(VLOOKUP(IF(C153=\"\",B153&\"||\"&B153,C153&\"||\"&B153),Worktags!AR:AV,5,FALSE),\"\")","v":"All"}]
["1400_SC6417 Prepaid Expenses/Consulting - Financial and Research",{"$f":"Worktags!AS440","v":"1400"},{"$f":"IF(Worktags!AQ440<>Worktags!AS440,Worktags!AQ440,\"\")","v":"SC6417"},{"$f":"IFERROR(VLOOKUP(B154,Worktags!AL:AO,2,FALSE),\"\")","v":"Prepaid Expenses"},{"$f":"IFERROR(VLOOKUP(C154,Worktags!O:T,2,FALSE),\"\")","v":"Consulting - Financial and Research"},{"$f":"IFERROR(VLOOKUP(IF(C154=\"\",B154&\"||\"&B154,C154&\"||\"&B154),Worktags!AR:AV,5,FALSE),\"\")","v":"All"}]
["1400_SC6419 Prepaid Expenses/Data Connectivity Services",{"$f":"Worktags!AS443","v":"1400"},{"$f":"IF(Worktags!AQ443<>Worktags!AS443,Worktags!AQ443,\"\")","v":"SC6419"},{"$f":"IFERROR(VLOOKUP(B155,Worktags!AL:AO,2,FALSE),\"\")","v":"Prepaid Expenses"},{"$f":"IFERROR(VLOOKUP(C155,Worktags!O:T,2,FALSE),\"\")","v":"Data Connectivity Services"},{"$f":"IFERROR(VLOOKUP(IF(C155=\"\",B155&\"||\"&B155,C155&\"||\"&B155),Worktags!AR:AV,5,FALSE),\"\")","v":"All"}]
["1400_SC6420 Prepaid Expenses/Educational Facilities - Rent/Lease <=1yr",{"$f":"Worktags!AS445","v":"1400"},{"$f":"IF(Worktags!AQ445<>Worktags!AS445,Worktags!AQ445,\"\")","v":"SC6420"},{"$f":"IFERROR(VLOOKUP(B156,Worktags!AL:AO,2,FALSE),\"\")","v":"Prepaid Expenses"},{"$f":"IFERROR(VLOOKUP(C156,Worktags!O:T,2,FALSE),\"\")","v":"Educational Facilities - Rent/Lease <=1yr"},{"$f":"IFERROR(VLOOKUP(IF(C156=\"\",B156&\"||\"&B156,C156&\"||\"&B156),Worktags!AR:AV,5,FALSE),\"\")","v":"All"}]
["1400_SC6421 Prepaid Expenses/Employee Development Services",{"$f":"Worktags!AS447","v":"1400"},{"$f":"IF(Worktags!AQ447<>Worktags!AS447,Worktags!AQ447,\"\")","v":"SC6421"},{"$f":"IFERROR(VLOOKUP(B157,Worktags!AL:AO,2,FALSE),\"\")","v":"Prepaid Expenses"},{"$f":"IFERROR(VLOOKUP(C157,Worktags!O:T,2,FALSE),\"\")","v":"Employee Development Services"},{"$f":"IFERROR(VLOOKUP(IF(C157=\"\",B157&\"||\"&B157,C157&\"||\"&B157),Worktags!AR:AV,5,FALSE),\"\")","v":"All"}]
["1400_SC6422 Prepaid Expenses/Food Services and Caterers",{"$f":"Worktags!AS449","v":"1400"},{"$f":"IF(Worktags!AQ449<>Worktags!AS449,Worktags!AQ449,\"\")","v":"SC6422"},{"$f":"IFERROR(VLOOKUP(B158,Worktags!AL:AO,2,FALSE),\"\")","v":"Prepaid Expenses"},{"$f":"IFERROR(VLOOKUP(C158,Worktags!O:T,2,FALSE),\"\")","v":"Food Services and Caterers"},{"$f":"IFERROR(VLOOKUP(IF(C158=\"\",B158&\"||\"&B158,C158&\"||\"&B158),Worktags!AR:AV,5,FALSE),\"\")","v":"All"}]
["1400_SC6424 Prepaid Expenses/Franchise Fees",{"$f":"Worktags!AS452","v":"1400"},{"$f":"IF(Worktags!AQ452<>Worktags!AS452,Worktags!AQ452,\"\")","v":"SC6424"},{"$f":"IFERROR(VLOOKUP(B159,Worktags!AL:AO,2,FALSE),\"\")","v":"Prepaid Expenses"},{"$f":"IFERROR(VLOOKUP(C159,Worktags!O:T,2,FALSE),\"\")","v":"Franchise Fees"},{"$f":"IFERROR(VLOOKUP(IF(C159=\"\",B159&\"||\"&B159,C159&\"||\"&B159),Worktags!AR:AV,5,FALSE),\"\")","v":"All"}]
["1400_SC6425 Prepaid Expenses/Government Fees",{"$f":"Worktags!AS454","v":"1400"},{"$f":"IF(Worktags!AQ454<>Worktags!AS454,Worktags!AQ454,\"\")","v":"SC6425"},{"$f":"IFERROR(VLOOKUP(B160,Worktags!AL:AO,2,FALSE),\"\")","v":"Prepaid Expenses"},{"$f":"IFERROR(VLOOKUP(C160,Worktags!O:T,2,FALSE),\"\")","v":"Government Fees"},{"$f":"IFERROR(VLOOKUP(IF(C160=\"\",B160&\"||\"&B160,C160&\"||\"&B160),Worktags!AR:AV,5,FALSE),\"\")","v":"All"}]
["1400_SC6427 Prepaid Expenses/Hosted Entertainment",{"$f":"Worktags!AS457","v":"1400"},{"$f":"IF(Worktags!AQ457<>Worktags!AS457,Worktags!AQ457,\"\")","v":"SC6427"},{"$f":"IFERROR(VLOOKUP(B161,Worktags!AL:AO,2,FALSE),\"\")","v":"Prepaid Expenses"},{"$f":"IFERROR(VLOOKUP(C161,Worktags!O:T,2,FALSE),\"\")","v":"Hosted Entertainment"},{"$f":"IFERROR(VLOOKUP(IF(C161=\"\",B161&\"||\"&B161,C161&\"||\"&B161),Worktags!AR:AV,5,FALSE),\"\")","v":"All"}]
["1400_SC6428 Prepaid Expenses/Hosted Meals",{"$f":"Worktags!AS459","v":"1400"},{"$f":"IF(Worktags!AQ459<>Worktags!AS459,Worktags!AQ459,\"\")","v":"SC6428"},{"$f":"IFERROR(VLOOKUP(B162,Worktags!AL:AO,2,FALSE),\"\")","v":"Prepaid Expenses"},{"$f":"IFERROR(VLOOKUP(C162,Worktags!O:T,2,FALSE),\"\")","v":"Hosted Meals"},{"$f":"IFERROR(VLOOKUP(IF(C162=\"\",B162&\"||\"&B162,C162&\"||\"&B162),Worktags!AR:AV,5,FALSE),\"\")","v":"All"}]
["1400_SC6429 Prepaid Expenses/Insurance",{"$f":"Worktags!AS461","v":"1400"},{"$f":"IF(Worktags!AQ461<>Worktags!AS461,Worktags!AQ461,\"\")","v":"SC6429"},{"$f":"IFERROR(VLOOKUP(B163,Worktags!AL:AO,2,FALSE),\"\")","v":"Prepaid Expenses"},{"$f":"IFERROR(VLOOKUP(C163,Worktags!O:T,2,FALSE),\"\")","v":"Insurance"},{"$f":"IFERROR(VLOOKUP(IF(C163=\"\",B163&\"||\"&B163,C163&\"||\"&B163),Worktags!AR:AV,5,FALSE),\"\")","v":"All"}]
["1400_SC6430 Prepaid Expenses/Janitorial Services",{"$f":"Worktags!AS463","v":"1400"},{"$f":"IF(Worktags!AQ463<>Worktags!AS463,Worktags!AQ463,\"\")","v":"SC6430"},{"$f":"IFERROR(VLOOKUP(B164,Worktags!AL:AO,2,FALSE),\"\")","v":"Prepaid Expenses"},{"$f":"IFERROR(VLOOKUP(C164,Worktags!O:T,2,FALSE),\"\")","v":"Janitorial Services"},{"$f":"IFERROR(VLOOKUP(IF(C164=\"\",B164&\"||\"&B164,C164&\"||\"&B164),Worktags!AR:AV,5,FALSE),\"\")","v":"All"}]
["1400_SC6431 Prepaid Expenses/Laundry Services",{"$f":"Worktags!AS465","v":"1400"},{"$f":"IF(Worktags!AQ465<>Worktags!AS465,Worktags!AQ465,\"\")","v":"SC6431"},{"$f":"IFERROR(VLOOKUP(B165,Worktags!AL:AO,2,FALSE),\"\")","v":"Prepaid Expenses"},{"$f":"IFERROR(VLOOKUP(C165,Worktags!O:T,2,FALSE),\"\")","v":"Laundry Services"},{"$f":"IFERROR(VLOOKUP(IF(C165=\"\",B165&\"||\"&B165,C165&\"||\"&B165),Worktags!AR:AV,5,FALSE),\"\")","v":"All"}]
["1400_SC6432 Prepaid Expenses/Legal Services",{"$f":"Worktags!AS467","v":"1400"},{"$f":"IF(Worktags!AQ467<>Worktags!AS467,Worktags!AQ467,\"\")","v":"SC6432"},{"$f":"IFERROR(VLOOKUP(B166,Worktags!AL:AO,2,FALSE),\"\")","v":"Prepaid Expenses"},{"$f":"IFERROR(VLOOKUP(C166,Worktags!O:T,2,FALSE),\"\")","v":"Legal Services"},{"$f":"IFERROR(VLOOKUP(IF(C166=\"\",B166&\"||\"&B166,C166&\"||\"&B166),Worktags!AR:AV,5,FALSE),\"\")","v":"All"}]
["1400_SC6433 Prepaid Expenses/Medical Services",{"$f":"Worktags!AS469","v":"1400"},{"$f":"IF(Worktags!AQ469<>Worktags!AS469,Worktags!AQ469,\"\")","v":"SC6433"},{"$f":"IFERROR(VLOOKUP(B167,Worktags!AL:AO,2,FALSE),\"\")","v":"Prepaid Expenses"},{"$f":"IFERROR(VLOOKUP(C167,Worktags!O:T,2,FALSE),\"\")","v":"Medical Services"},{"$f":"IFERROR(VLOOKUP(IF(C167=\"\",B167&\"||\"&B167,C167&\"||\"&B167),Worktags!AR:AV,5,FALSE),\"\")","v":"All"}]
["1400_SC6434 Prepaid Expenses/Membership Dues",{"$f":"Worktags!AS471","v":"1400"},{"$f":"IF(Worktags!AQ471<>Worktags!AS471,Worktags!AQ471,\"\")","v":"SC6434"},{"$f":"IFERROR(VLOOKUP(B168,Worktags!AL:AO,2,FALSE),\"\")","v":"Prepaid Expenses"},{"$f":"IFERROR(VLOOKUP(C168,Worktags!O:T,2,FALSE),\"\")","v":"Membership Dues"},{"$f":"IFERROR(VLOOKUP(IF(C168=\"\",B168&\"||\"&B168,C168&\"||\"&B168),Worktags!AR:AV,5,FALSE),\"\")","v":"All"}]
["1400_SC6435 Prepaid Expenses/Misc Independent Contractors",{"$f":"Worktags!AS473","v":"1400"},{"$f":"IF(Worktags!AQ473<>Worktags!AS473,Worktags!AQ473,\"\")","v":"SC6435"},{"$f":"IFERROR(VLOOKUP(B169,Worktags!AL:AO,2,FALSE),\"\")","v":"Prepaid Expenses"},{"$f":"IFERROR(VLOOKUP(C169,Worktags!O:T,2,FALSE),\"\")","v":"Misc Independent Contractors"},{"$f":"IFERROR(VLOOKUP(IF(C169=\"\",B169&\"||\"&B169,C169&\"||\"&B169),Worktags!AR:AV,5,FALSE),\"\")","v":"All"}]
["1400_SC6438 Prepaid Expenses/Performers/Presenters",{"$f":"Worktags!AS479","v":"1400"},{"$f":"IF(Worktags!AQ479<>Worktags!AS479,Worktags!AQ479,\"\")","v":"SC6438"},{"$f":"IFERROR(VLOOKUP(B170,Worktags!AL:AO,2,FALSE),\"\")","v":"Prepaid Expenses"},{"$f":"IFERROR(VLOOKUP(C170,Worktags!O:T,2,FALSE),\"\")","v":"Performers/Presenters"},{"$f":"IFERROR(VLOOKUP(IF(C170=\"\",B170&\"||\"&B170,C170&\"||\"&B170),Worktags!AR:AV,5,FALSE),\"\")","v":"All"}]
["1400_SC6439 Prepaid Expenses/Pest Control Services",{"$f":"Worktags!AS481","v":"1400"},{"$f":"IF(Worktags!AQ481<>Worktags!AS481,Worktags!AQ481,\"\")","v":"SC6439"},{"$f":"IFERROR(VLOOKUP(B171,Worktags!AL:AO,2,FALSE),\"\")","v":"Prepaid Expenses"},{"$f":"IFERROR(VLOOKUP(C171,Worktags!O:T,2,FALSE),\"\")","v":"Pest Control Services"},{"$f":"IFERROR(VLOOKUP(IF(C171=\"\",B171&\"||\"&B171,C171&\"||\"&B171),Worktags!AR:AV,5,FALSE),\"\")","v":"All"}]
["1400_SC6440 Prepaid Expenses/Portable Structures-Rent/Lease <=1yr",{"$f":"Worktags!AS483","v":"1400"},{"$f":"IF(Worktags!AQ483<>Worktags!AS483,Worktags!AQ483,\"\")","v":"SC6440"},{"$f":"IFERROR(VLOOKUP(B172,Worktags!AL:AO,2,FALSE),\"\")","v":"Prepaid Expenses"},{"$f":"IFERROR(VLOOKUP(C172,Worktags!O:T,2,FALSE),\"\")","v":"Portable Structures-Rent/Lease <=1yr"},{"$f":"IFERROR(VLOOKUP(IF(C172=\"\",B172&\"||\"&B172,C172&\"||\"&B172),Worktags!AR:AV,5,FALSE),\"\")","v":"All"}]
["1400_SC6441 Prepaid Expenses/Postage, Shipping and Freight",{"$f":"Worktags!AS485","v":"1400"},{"$f":"IF(Worktags!AQ485<>Worktags!AS485,Worktags!AQ485,\"\")","v":"SC6441"},{"$f":"IFERROR(VLOOKUP(B173,Worktags!AL:AO,2,FALSE),\"\")","v":"Prepaid Expenses"},{"$f":"IFERROR(VLOOKUP(C173,Worktags!O:T,2,FALSE),\"\")","v":"Postage, Shipping and Freight"},{"$f":"IFERROR(VLOOKUP(IF(C173=\"\",B173&\"||\"&B173,C173&\"||\"&B173),Worktags!AR:AV,5,FALSE),\"\")","v":"All"}]
["1400_SC6442 Prepaid Expenses/Printing Services",{"$f":"Worktags!AS487","v":"1400"},{"$f":"IF(Worktags!AQ487<>Worktags!AS487,Worktags!AQ487,\"\")","v":"SC6442"},{"$f":"IFERROR(VLOOKUP(B174,Worktags!AL:AO,2,FALSE),\"\")","v":"Prepaid Expenses"},{"$f":"IFERROR(VLOOKUP(C174,Worktags!O:T,2,FALSE),\"\")","v":"Printing Services"},{"$f":"IFERROR(VLOOKUP(IF(C174=\"\",B174&\"||\"&B174,C174&\"||\"&B174),Worktags!AR:AV,5,FALSE),\"\")","v":"All"}]
["1400_SC6443 Prepaid Expenses/Production Services",{"$f":"Worktags!AS489","v":"1400"},{"$f":"IF(Worktags!AQ489<>Worktags!AS489,Worktags!AQ489,\"\")","v":"SC6443"},{"$f":"IFERROR(VLOOKUP(B175,Worktags!AL:AO,2,FALSE),\"\")","v":"Prepaid Expenses"},{"$f":"IFERROR(VLOOKUP(C175,Worktags!O:T,2,FALSE),\"\")","v":"Production Services"},{"$f":"IFERROR(VLOOKUP(IF(C175=\"\",B175&\"||\"&B175,C175&\"||\"&B175),Worktags!AR:AV,5,FALSE),\"\")","v":"All"}]
["1400_SC6444 Prepaid Expenses/Promotional and Branded Items",{"$f":"Worktags!AS491","v":"1400"},{"$f":"IF(Worktags!AQ491<>Worktags!AS491,Worktags!AQ491,\"\")","v":"SC6444"},{"$f":"IFERROR(VLOOKUP(B176,Worktags!AL:AO,2,FALSE),\"\")","v":"Prepaid Expenses"},{"$f":"IFERROR(VLOOKUP(C176,Worktags!O:T,2,FALSE),\"\")","v":"Promotional and Branded Items"},{"$f":"IFERROR(VLOOKUP(IF(C176=\"\",B176&\"||\"&B176,C176&\"||\"&B176),Worktags!AR:AV,5,FALSE),\"\")","v":"All"}]
["1400_SC6445 Prepaid Expenses/Public Safety Services",{"$f":"Worktags!AS493","v":"1400"},{"$f":"IF(Worktags!AQ493<>Worktags!AS493,Worktags!AQ493,\"\")","v":"SC6445"},{"$f":"IFERROR(VLOOKUP(B177,Worktags!AL:AO,2,FALSE),\"\")","v":"Prepaid Expenses"},{"$f":"IFERROR(VLOOKUP(C177,Worktags!O:T,2,FALSE),\"\")","v":"Public Safety Services"},{"$f":"IFERROR(VLOOKUP(IF(C177=\"\",B177&\"||\"&B177,C177&\"||\"&B177),Worktags!AR:AV,5,FALSE),\"\")","v":"All"}]
["1400_SC6446 Prepaid Expenses/Publication Services",{"$f":"Worktags!AS495","v":"1400"},{"$f":"IF(Worktags!AQ495<>Worktags!AS495,Worktags!AQ495,\"\")","v":"SC6446"},{"$f":"IFERROR(VLOOKUP(B178,Worktags!AL:AO,2,FALSE),\"\")","v":"Prepaid Expenses"},{"$f":"IFERROR(VLOOKUP(C178,Worktags!O:T,2,FALSE),\"\")","v":"Publication Services"},{"$f":"IFERROR(VLOOKUP(IF(C178=\"\",B178&\"||\"&B178,C178&\"||\"&B178),Worktags!AR:AV,5,FALSE),\"\")","v":"All"}]
["1400_SC6447 Prepaid Expenses/Real Estate - Rent/Lease <=1yr",{"$f":"Worktags!AS497","v":"1400"},{"$f":"IF(Worktags!AQ497<>Worktags!AS497,Worktags!AQ497,\"\")","v":"SC6447"},{"$f":"IFERROR(VLOOKUP(B179,Worktags!AL:AO,2,FALSE),\"\")","v":"Prepaid Expenses"},{"$f":"IFERROR(VLOOKUP(C179,Worktags!O:T,2,FALSE),\"\")","v":"Real Estate - Rent/Lease <=1yr"},{"$f":"IFERROR(VLOOKUP(IF(C179=\"\",B179&\"||\"&B179,C179&\"||\"&B179),Worktags!AR:AV,5,FALSE),\"\")","v":"All"}]
["1400_SC6448 Prepaid Expenses/Real Estate - Rent/Lease >1yr",{"$f":"Worktags!AS499","v":"1400"},{"$f":"IF(Worktags!AQ499<>Worktags!AS499,Worktags!AQ499,\"\")","v":"SC6448"},{"$f":"IFERROR(VLOOKUP(B180,Worktags!AL:AO,2,FALSE),\"\")","v":"Prepaid Expenses"},{"$f":"IFERROR(VLOOKUP(C180,Worktags!O:T,2,FALSE),\"\")","v":"Real Estate - Rent/Lease >1yr"},{"$f":"IFERROR(VLOOKUP(IF(C180=\"\",B180&\"||\"&B180,C180&\"||\"&B180),Worktags!AR:AV,5,FALSE),\"\")","v":"All"}]
["1400_SC6449 Prepaid Expenses/Rent/Lease < = 1 year",{"$f":"Worktags!AS501","v":"1400"},{"$f":"IF(Worktags!AQ501<>Worktags!AS501,Worktags!AQ501,\"\")","v":"SC6449"},{"$f":"IFERROR(VLOOKUP(B181,Worktags!AL:AO,2,FALSE),\"\")","v":"Prepaid Expenses"},{"$f":"IFERROR(VLOOKUP(C181,Worktags!O:T,2,FALSE),\"\")","v":"Rent/Lease < = 1 year"},{"$f":"IFERROR(VLOOKUP(IF(C181=\"\",B181&\"||\"&B181,C181&\"||\"&B181),Worktags!AR:AV,5,FALSE),\"\")","v":"All"}]
["1400_SC6450 Prepaid Expenses/Rent/Lease >1 Year",{"$f":"Worktags!AS505","v":"1400"},{"$f":"IF(Worktags!AQ505<>Worktags!AS505,Worktags!AQ505,\"\")","v":"SC6450"},{"$f":"IFERROR(VLOOKUP(B182,Worktags!AL:AO,2,FALSE),\"\")","v":"Prepaid Expenses"},{"$f":"IFERROR(VLOOKUP(C182,Worktags!O:T,2,FALSE),\"\")","v":"Rent/Lease >1 Year"},{"$f":"IFERROR(VLOOKUP(IF(C182=\"\",B182&\"||\"&B182,C182&\"||\"&B182),Worktags!AR:AV,5,FALSE),\"\")","v":"All"}]
["1400_SC6451 Prepaid Expenses/Research Subjects",{"$f":"Worktags!AS509","v":"1400"},{"$f":"IF(Worktags!AQ509<>Worktags!AS509,Worktags!AQ509,\"\")","v":"SC6451"},{"$f":"IFERROR(VLOOKUP(B183,Worktags!AL:AO,2,FALSE),\"\")","v":"Prepaid Expenses"},{"$f":"IFERROR(VLOOKUP(C183,Worktags!O:T,2,FALSE),\"\")","v":"Research Subjects"},{"$f":"IFERROR(VLOOKUP(IF(C183=\"\",B183&\"||\"&B183,C183&\"||\"&B183),Worktags!AR:AV,5,FALSE),\"\")","v":"All"}]
["1400_SC6452 Prepaid Expenses/Royalties and Licensing Fees",{"$f":"Worktags!AS511","v":"1400"},{"$f":"IF(Worktags!AQ511<>Worktags!AS511,Worktags!AQ511,\"\")","v":"SC6452"},{"$f":"IFERROR(VLOOKUP(B184,Worktags!AL:AO,2,FALSE),\"\")","v":"Prepaid Expenses"},{"$f":"IFERROR(VLOOKUP(C184,Worktags!O:T,2,FALSE),\"\")","v":"Royalties and Licensing Fees"},{"$f":"IFERROR(VLOOKUP(IF(C184=\"\",B184&\"||\"&B184,C184&\"||\"&B184),Worktags!AR:AV,5,FALSE),\"\")","v":"All"}]
["1400_SC6453 Prepaid Expenses/Scientific Services",{"$f":"Worktags!AS513","v":"1400"},{"$f":"IF(Worktags!AQ513<>Worktags!AS513,Worktags!AQ513,\"\")","v":"SC6453"},{"$f":"IFERROR(VLOOKUP(B185,Worktags!AL:AO,2,FALSE),\"\")","v":"Prepaid Expenses"},{"$f":"IFERROR(VLOOKUP(C185,Worktags!O:T,2,FALSE),\"\")","v":"Scientific Services"},{"$f":"IFERROR(VLOOKUP(IF(C185=\"\",B185&\"||\"&B185,C185&\"||\"&B185),Worktags!AR:AV,5,FALSE),\"\")","v":"All"}]
["1400_SC6454 Prepaid Expenses/Screening Services",{"$f":"Worktags!AS515","v":"1400"},{"$f":"IF(Worktags!AQ515<>Worktags!AS515,Worktags!AQ515,\"\")","v":"SC6454"},{"$f":"IFERROR(VLOOKUP(B186,Worktags!AL:AO,2,FALSE),\"\")","v":"Prepaid Expenses"},{"$f":"IFERROR(VLOOKUP(C186,Worktags!O:T,2,FALSE),\"\")","v":"Screening Services"},{"$f":"IFERROR(VLOOKUP(IF(C186=\"\",B186&\"||\"&B186,C186&\"||\"&B186),Worktags!AR:AV,5,FALSE),\"\")","v":"All"}]
["1400_SC6455 Prepaid Expenses/Services (not otherwise specified)",{"$f":"Worktags!AS517","v":"1400"},{"$f":"IF(Worktags!AQ517<>Worktags!AS517,Worktags!AQ517,\"\")","v":"SC6455"},{"$f":"IFERROR(VLOOKUP(B187,Worktags!AL:AO,2,FALSE),\"\")","v":"Prepaid Expenses"},{"$f":"IFERROR(VLOOKUP(C187,Worktags!O:T,2,FALSE),\"\")","v":"Services (not otherwise specified)"},{"$f":"IFERROR(VLOOKUP(IF(C187=\"\",B187&\"||\"&B187,C187&\"||\"&B187),Worktags!AR:AV,5,FALSE),\"\")","v":"All"}]
["1400_SC6456 Prepaid Expenses/Shared Partner Services",{"$f":"Worktags!AS521","v":"1400"},{"$f":"IF(Worktags!AQ521<>Worktags!AS521,Worktags!AQ521,\"\")","v":"SC6456"},{"$f":"IFERROR(VLOOKUP(B188,Worktags!AL:AO,2,FALSE),\"\")","v":"Prepaid Expenses"},{"$f":"IFERROR(VLOOKUP(C188,Worktags!O:T,2,FALSE),\"\")","v":"Shared Partner Services"},{"$f":"IFERROR(VLOOKUP(IF(C188=\"\",B188&\"||\"&B188,C188&\"||\"&B188),Worktags!AR:AV,5,FALSE),\"\")","v":"All"}]
["1400_SC6457 Prepaid Expenses/Student Teacher Supervision",{"$f":"Worktags!AS523","v":"1400"},{"$f":"IF(Worktags!AQ523<>Worktags!AS523,Worktags!AQ523,\"\")","v":"SC6457"},{"$f":"IFERROR(VLOOKUP(B189,Worktags!AL:AO,2,FALSE),\"\")","v":"Prepaid Expenses"},{"$f":"IFERROR(VLOOKUP(C189,Worktags!O:T,2,FALSE),\"\")","v":"Student Teacher Supervision"},{"$f":"IFERROR(VLOOKUP(IF(C189=\"\",B189&\"||\"&B189,C189&\"||\"&B189),Worktags!AR:AV,5,FALSE),\"\")","v":"All"}]
["1400_SC6458 Prepaid Expenses/Subscriptions",{"$f":"Worktags!AS525","v":"1400"},{"$f":"IF(Worktags!AQ525<>Worktags!AS525,Worktags!AQ525,\"\")","v":"SC6458"},{"$f":"IFERROR(VLOOKUP(B190,Worktags!AL:AO,2,FALSE),\"\")","v":"Prepaid Expenses"},{"$f":"IFERROR(VLOOKUP(C190,Worktags!O:T,2,FALSE),\"\")","v":"Subscriptions"},{"$f":"IFERROR(VLOOKUP(IF(C190=\"\",B190&\"||\"&B190,C190&\"||\"&B190),Worktags!AR:AV,5,FALSE),\"\")","v":"All"}]
["1400_SC6459 Prepaid Expenses/Taxes",{"$f":"Worktags!AS527","v":"1400"},{"$f":"IF(Worktags!AQ527<>Worktags!AS527,Worktags!AQ527,\"\")","v":"SC6459"},{"$f":"IFERROR(VLOOKUP(B191,Worktags!AL:AO,2,FALSE),\"\")","v":"Prepaid Expenses"},{"$f":"IFERROR(VLOOKUP(C191,Worktags!O:T,2,FALSE),\"\")","v":"Taxes"},{"$f":"IFERROR(VLOOKUP(IF(C191=\"\",B191&\"||\"&B191,C191&\"||\"&B191),Worktags!AR:AV,5,FALSE),\"\")","v":"All"}]
["1400_SC6460 Prepaid Expenses/Testing Services",{"$f":"Worktags!AS529","v":"1400"},{"$f":"IF(Worktags!AQ529<>Worktags!AS529,Worktags!AQ529,\"\")","v":"SC6460"},{"$f":"IFERROR(VLOOKUP(B192,Worktags!AL:AO,2,FALSE),\"\")","v":"Prepaid Expenses"},{"$f":"IFERROR(VLOOKUP(C192,Worktags!O:T,2,FALSE),\"\")","v":"Testing Services"},{"$f":"IFERROR(VLOOKUP(IF(C192=\"\",B192&\"||\"&B192,C192&\"||\"&B192),Worktags!AR:AV,5,FALSE),\"\")","v":"All"}]
[{"$f":"IF(B193<>\"\",IF(C193<>\"\",B193&\"_\"&C193&\" \"&D193&\"/\"&E193,B193&\" \"&D193),\"\")","v":"1400_SC6461 Prepaid Expenses/TV, Media Subscription Services"},{"$f":"Worktags!AS531","v":"1400"},{"$f":"IF(Worktags!AQ531<>Worktags!AS531,Worktags!AQ531,\"\")","v":"SC6461"},{"$f":"IFERROR(VLOOKUP(B193,Worktags!AL:AO,2,FALSE),\"\")","v":"Prepaid Expenses"},{"$f":"IFERROR(VLOOKUP(C193,Worktags!O:T,2,FALSE),\"\")","v":"TV, Media Subscription Services"},{"$f":"IFERROR(VLOOKUP(IF(C193=\"\",B193&\"||\"&B193,C193&\"||\"&B193),Worktags!AR:AV,5,FALSE),\"\")","v":"All"}]
["1400_SC6463 Prepaid Expenses/Waste Disposal Services",{"$f":"Worktags!AS534","v":"1400"},{"$f":"IF(Worktags!AQ534<>Worktags!AS534,Worktags!AQ534,\"\")","v":"SC6463"},{"$f":"IFERROR(VLOOKUP(B194,Worktags!AL:AO,2,FALSE),\"\")","v":"Prepaid Expenses"},{"$f":"IFERROR(VLOOKUP(C194,Worktags!O:T,2,FALSE),\"\")","v":"Waste Disposal Services"},{"$f":"IFERROR(VLOOKUP(IF(C194=\"\",B194&\"||\"&B194,C194&\"||\"&B194),Worktags!AR:AV,5,FALSE),\"\")","v":"All"}]
["1400_SC6466 Prepaid Expenses/Income Taxes",{"$f":"Worktags!AS538","v":"1400"},{"$f":"IF(Worktags!AQ538<>Worktags!AS538,Worktags!AQ538,\"\")","v":"SC6466"},{"$f":"IFERROR(VLOOKUP(B195,Worktags!AL:AO,2,FALSE),\"\")","v":"Prepaid Expenses"},{"$f":"IFERROR(VLOOKUP(C195,Worktags!O:T,2,FALSE),\"\")","v":"Income Taxes"},{"$f":"IFERROR(VLOOKUP(IF(C195=\"\",B195&\"||\"&B195,C195&\"||\"&B195),Worktags!AR:AV,5,FALSE),\"\")","v":"All"}]
["1400_SC6499 Prepaid Expenses/General and Administrative (reclass)",{"$f":"Worktags!AS541","v":"1400"},{"$f":"IF(Worktags!AQ541<>Worktags!AS541,Worktags!AQ541,\"\")","v":"SC6499"},{"$f":"IFERROR(VLOOKUP(B196,Worktags!AL:AO,2,FALSE),\"\")","v":"Prepaid Expenses"},{"$f":"IFERROR(VLOOKUP(C196,Worktags!O:T,2,FALSE),\"\")","v":"General and Administrative (reclass)"},{"$f":"IFERROR(VLOOKUP(IF(C196=\"\",B196&\"||\"&B196,C196&\"||\"&B196),Worktags!AR:AV,5,FALSE),\"\")","v":"All"}]
["1400_SC6701 Prepaid Expenses/Building Access Supplies",{"$f":"Worktags!AS546","v":"1400"},{"$f":"IF(Worktags!AQ546<>Worktags!AS546,Worktags!AQ546,\"\")","v":"SC6701"},{"$f":"IFERROR(VLOOKUP(B197,Worktags!AL:AO,2,FALSE),\"\")","v":"Prepaid Expenses"},{"$f":"IFERROR(VLOOKUP(C197,Worktags!O:T,2,FALSE),\"\")","v":"Building Access Supplies"},{"$f":"IFERROR(VLOOKUP(IF(C197=\"\",B197&\"||\"&B197,C197&\"||\"&B197),Worktags!AR:AV,5,FALSE),\"\")","v":"All"}]
["1400_SC6702 Prepaid Expenses/Building Construction and Improvements",{"$f":"Worktags!AS553","v":"1400"},{"$f":"IF(Worktags!AQ553<>Worktags!AS553,Worktags!AQ553,\"\")","v":"SC6702"},{"$f":"IFERROR(VLOOKUP(B198,Worktags!AL:AO,2,FALSE),\"\")","v":"Prepaid Expenses"},{"$f":"IFERROR(VLOOKUP(C198,Worktags!O:T,2,FALSE),\"\")","v":"Building Construction and Improvements"},{"$f":"IFERROR(VLOOKUP(IF(C198=\"\",B198&\"||\"&B198,C198&\"||\"&B198),Worktags!AR:AV,5,FALSE),\"\")","v":"All"}]
["1400_SC6703 Prepaid Expenses/Building Furnishings",{"$f":"Worktags!AS560","v":"1400"},{"$f":"IF(Worktags!AQ560<>Worktags!AS560,Worktags!AQ560,\"\")","v":"SC6703"},{"$f":"IFERROR(VLOOKUP(B199,Worktags!AL:AO,2,FALSE),\"\")","v":"Prepaid Expenses"},{"$f":"IFERROR(VLOOKUP(C199,Worktags!O:T,2,FALSE),\"\")","v":"Building Furnishings"},{"$f":"IFERROR(VLOOKUP(IF(C199=\"\",B199&\"||\"&B199,C199&\"||\"&B199),Worktags!AR:AV,5,FALSE),\"\")","v":"All"}]
["1400_SC6704 Prepaid Expenses/Building Materials - Finishing",{"$f":"Worktags!AS567","v":"1400"},{"$f":"IF(Worktags!AQ567<>Worktags!AS567,Worktags!AQ567,\"\")","v":"SC6704"},{"$f":"IFERROR(VLOOKUP(B200,Worktags!AL:AO,2,FALSE),\"\")","v":"Prepaid Expenses"},{"$f":"IFERROR(VLOOKUP(C200,Worktags!O:T,2,FALSE),\"\")","v":"Building Materials - Finishing"},{"$f":"IFERROR(VLOOKUP(IF(C200=\"\",B200&\"||\"&B200,C200&\"||\"&B200),Worktags!AR:AV,5,FALSE),\"\")","v":"All"}]
["1400_SC6705 Prepaid Expenses/Building Materials - Raw",{"$f":"Worktags!AS574","v":"1400"},{"$f":"IF(Worktags!AQ574<>Worktags!AS574,Worktags!AQ574,\"\")","v":"SC6705"},{"$f":"IFERROR(VLOOKUP(B201,Worktags!AL:AO,2,FALSE),\"\")","v":"Prepaid Expenses"},{"$f":"IFERROR(VLOOKUP(C201,Worktags!O:T,2,FALSE),\"\")","v":"Building Materials - Raw"},{"$f":"IFERROR(VLOOKUP(IF(C201=\"\",B201&\"||\"&B201,C201&\"||\"&B201),Worktags!AR:AV,5,FALSE),\"\")","v":"All"}]
["1400_SC6706 Prepaid Expenses/Electrical Devices",{"$f":"Worktags!AS581","v":"1400"},{"$f":"IF(Worktags!AQ581<>Worktags!AS581,Worktags!AQ581,\"\")","v":"SC6706"},{"$f":"IFERROR(VLOOKUP(B202,Worktags!AL:AO,2,FALSE),\"\")","v":"Prepaid Expenses"},{"$f":"IFERROR(VLOOKUP(C202,Worktags!O:T,2,FALSE),\"\")","v":"Electrical Devices"},{"$f":"IFERROR(VLOOKUP(IF(C202=\"\",B202&\"||\"&B202,C202&\"||\"&B202),Worktags!AR:AV,5,FALSE),\"\")","v":"All"}]
["1400_SC6707 Prepaid Expenses/Electrical Supplies",{"$f":"Worktags!AS588","v":"1400"},{"$f":"IF(Worktags!AQ588<>Worktags!AS588,Worktags!AQ588,\"\")","v":"SC6707"},{"$f":"IFERROR(VLOOKUP(B203,Worktags!AL:AO,2,FALSE),\"\")","v":"Prepaid Expenses"},{"$f":"IFERROR(VLOOKUP(C203,Worktags!O:T,2,FALSE),\"\")","v":"Electrical Supplies"},{"$f":"IFERROR(VLOOKUP(IF(C203=\"\",B203&\"||\"&B203,C203&\"||\"&B203),Worktags!AR:AV,5,FALSE),\"\")","v":"All"}]
["1400_SC6708 Prepaid Expenses/Fans/Furnaces",{"$f":"Worktags!AS593","v":"1400"},{"$f":"IF(Worktags!AQ593<>Worktags!AS593,Worktags!AQ593,\"\")","v":"SC6708"},{"$f":"IFERROR(VLOOKUP(B204,Worktags!AL:AO,2,FALSE),\"\")","v":"Prepaid Expenses"},{"$f":"IFERROR(VLOOKUP(C204,Worktags!O:T,2,FALSE),\"\")","v":"Fans/Furnaces"},{"$f":"IFERROR(VLOOKUP(IF(C204=\"\",B204&\"||\"&B204,C204&\"||\"&B204),Worktags!AR:AV,5,FALSE),\"\")","v":"All"}]
["1400_SC6709 Prepaid Expenses/Flooring Materials",{"$f":"Worktags!AS600","v":"1400"},{"$f":"IF(Worktags!AQ600<>Worktags!AS600,Worktags!AQ600,\"\")","v":"SC6709"},{"$f":"IFERROR(VLOOKUP(B205,Worktags!AL:AO,2,FALSE),\"\")","v":"Prepaid Expenses"},{"$f":"IFERROR(VLOOKUP(C205,Worktags!O:T,2,FALSE),\"\")","v":"Flooring Materials"},{"$f":"IFERROR(VLOOKUP(IF(C205=\"\",B205&\"||\"&B205,C205&\"||\"&B205),Worktags!AR:AV,5,FALSE),\"\")","v":"All"}]
["1400_SC6710 Prepaid Expenses/Furnishing Accessories",{"$f":"Worktags!AS607","v":"1400"},{"$f":"IF(Worktags!AQ607<>Worktags!AS607,Worktags!AQ607,\"\")","v":"SC6710"},{"$f":"IFERROR(VLOOKUP(B206,Worktags!AL:AO,2,FALSE),\"\")","v":"Prepaid Expenses"},{"$f":"IFERROR(VLOOKUP(C206,Worktags!O:T,2,FALSE),\"\")","v":"Furnishing Accessories"},{"$f":"IFERROR(VLOOKUP(IF(C206=\"\",B206&\"||\"&B206,C206&\"||\"&B206),Worktags!AR:AV,5,FALSE),\"\")","v":"All"}]
["1400_SC6711 Prepaid Expenses/Grounds and Landscaping Supplies",{"$f":"Worktags!AS614","v":"1400"},{"$f":"IF(Worktags!AQ614<>Worktags!AS614,Worktags!AQ614,\"\")","v":"SC6711"},{"$f":"IFERROR(VLOOKUP(B207,Worktags!AL:AO,2,FALSE),\"\")","v":"Prepaid Expenses"},{"$f":"IFERROR(VLOOKUP(C207,Worktags!O:T,2,FALSE),\"\")","v":"Grounds and Landscaping Supplies"},{"$f":"IFERROR(VLOOKUP(IF(C207=\"\",B207&\"||\"&B207,C207&\"||\"&B207),Worktags!AR:AV,5,FALSE),\"\")","v":"All"}]
["1400_SC6712 Prepaid Expenses/Grounds Services",{"$f":"Worktags!AS621","v":"1400"},{"$f":"IF(Worktags!AQ621<>Worktags!AS621,Worktags!AQ621,\"\")","v":"SC6712"},{"$f":"IFERROR(VLOOKUP(B208,Worktags!AL:AO,2,FALSE),\"\")","v":"Prepaid Expenses"},{"$f":"IFERROR(VLOOKUP(C208,Worktags!O:T,2,FALSE),\"\")","v":"Grounds Services"},{"$f":"IFERROR(VLOOKUP(IF(C208=\"\",B208&\"||\"&B208,C208&\"||\"&B208),Worktags!AR:AV,5,FALSE),\"\")","v":"All"}]
["1400_SC6713 Prepaid Expenses/Industrial Fixtures",{"$f":"Worktags!AS623","v":"1400"},{"$f":"IF(Worktags!AQ623<>Worktags!AS623,Worktags!AQ623,\"\")","v":"SC6713"},{"$f":"IFERROR(VLOOKUP(B209,Worktags!AL:AO,2,FALSE),\"\")","v":"Prepaid Expenses"},{"$f":"IFERROR(VLOOKUP(C209,Worktags!O:T,2,FALSE),\"\")","v":"Industrial Fixtures"},{"$f":"IFERROR(VLOOKUP(IF(C209=\"\",B209&\"||\"&B209,C209&\"||\"&B209),Worktags!AR:AV,5,FALSE),\"\")","v":"All"}]
["1400_SC6714 Prepaid Expenses/Lighting Fixtures and Lamps",{"$f":"Worktags!AS630","v":"1400"},{"$f":"IF(Worktags!AQ630<>Worktags!AS630,Worktags!AQ630,\"\")","v":"SC6714"},{"$f":"IFERROR(VLOOKUP(B210,Worktags!AL:AO,2,FALSE),\"\")","v":"Prepaid Expenses"},{"$f":"IFERROR(VLOOKUP(C210,Worktags!O:T,2,FALSE),\"\")","v":"Lighting Fixtures and Lamps"},{"$f":"IFERROR(VLOOKUP(IF(C210=\"\",B210&\"||\"&B210,C210&\"||\"&B210),Worktags!AR:AV,5,FALSE),\"\")","v":"All"}]
["1400_SC6715 Prepaid Expenses/Plumbing Fixtures",{"$f":"Worktags!AS637","v":"1400"},{"$f":"IF(Worktags!AQ637<>Worktags!AS637,Worktags!AQ637,\"\")","v":"SC6715"},{"$f":"IFERROR(VLOOKUP(B211,Worktags!AL:AO,2,FALSE),\"\")","v":"Prepaid Expenses"},{"$f":"IFERROR(VLOOKUP(C211,Worktags!O:T,2,FALSE),\"\")","v":"Plumbing Fixtures"},{"$f":"IFERROR(VLOOKUP(IF(C211=\"\",B211&\"||\"&B211,C211&\"||\"&B211),Worktags!AR:AV,5,FALSE),\"\")","v":"All"}]
["1400_SC6718 Prepaid Expenses/Signage, Electronic",{"$f":"Worktags!AS650","v":"1400"},{"$f":"IF(Worktags!AQ650<>Worktags!AS650,Worktags!AQ650,\"\")","v":"SC6718"},{"$f":"IFERROR(VLOOKUP(B212,Worktags!AL:AO,2,FALSE),\"\")","v":"Prepaid Expenses"},{"$f":"IFERROR(VLOOKUP(C212,Worktags!O:T,2,FALSE),\"\")","v":"Signage, Electronic"},{"$f":"IFERROR(VLOOKUP(IF(C212=\"\",B212&\"||\"&B212,C212&\"||\"&B212),Worktags!AR:AV,5,FALSE),\"\")","v":"All"}]
["1400_SC6719 Prepaid Expenses/Signage, Non-electronic",{"$f":"Worktags!AS657","v":"1400"},{"$f":"IF(Worktags!AQ657<>Worktags!AS657,Worktags!AQ657,\"\")","v":"SC6719"},{"$f":"IFERROR(VLOOKUP(B213,Worktags!AL:AO,2,FALSE),\"\")","v":"Prepaid Expenses"},{"$f":"IFERROR(VLOOKUP(C213,Worktags!O:T,2,FALSE),\"\")","v":"Signage, Non-electronic"},{"$f":"IFERROR(VLOOKUP(IF(C213=\"\",B213&\"||\"&B213,C213&\"||\"&B213),Worktags!AR:AV,5,FALSE),\"\")","v":"All"}]
["1400_SC6720 Prepaid Expenses/Specialized Trade Services - Physical Facilities",{"$f":"Worktags!AS664","v":"1400"},{"$f":"IF(Worktags!AQ664<>Worktags!AS664,Worktags!AQ664,\"\")","v":"SC6720"},{"$f":"IFERROR(VLOOKUP(B214,Worktags!AL:AO,2,FALSE),\"\")","v":"Prepaid Expenses"},{"$f":"IFERROR(VLOOKUP(C214,Worktags!O:T,2,FALSE),\"\")","v":"Specialized Trade Services - Physical Facilities"},{"$f":"IFERROR(VLOOKUP(IF(C214=\"\",B214&\"||\"&B214,C214&\"||\"&B214),Worktags!AR:AV,5,FALSE),\"\")","v":"All"}]
["1400_SC6721 Prepaid Expenses/Stage and Studio Lighting (Asset Track)",{"$f":"Worktags!AS668","v":"1400"},{"$f":"IF(Worktags!AQ668<>Worktags!AS668,Worktags!AQ668,\"\")","v":"SC6721"},{"$f":"IFERROR(VLOOKUP(B215,Worktags!AL:AO,2,FALSE),\"\")","v":"Prepaid Expenses"},{"$f":"IFERROR(VLOOKUP(C215,Worktags!O:T,2,FALSE),\"\")","v":"Stage and Studio Lighting (Asset Track)"},{"$f":"IFERROR(VLOOKUP(IF(C215=\"\",B215&\"||\"&B215,C215&\"||\"&B215),Worktags!AR:AV,5,FALSE),\"\")","v":"All"}]
["1400_SC6722 Prepaid Expenses/Utilities, Electricity",{"$f":"Worktags!AS675","v":"1400"},{"$f":"IF(Worktags!AQ675<>Worktags!AS675,Worktags!AQ675,\"\")","v":"SC6722"},{"$f":"IFERROR(VLOOKUP(B216,Worktags!AL:AO,2,FALSE),\"\")","v":"Prepaid Expenses"},{"$f":"IFERROR(VLOOKUP(C216,Worktags!O:T,2,FALSE),\"\")","v":"Utilities, Electricity"},{"$f":"IFERROR(VLOOKUP(IF(C216=\"\",B216&\"||\"&B216,C216&\"||\"&B216),Worktags!AR:AV,5,FALSE),\"\")","v":"All"}]
["1400_SC6723 Prepaid Expenses/Utilities, Garbage Hauling",{"$f":"Worktags!AS677","v":"1400"},{"$f":"IF(Worktags!AQ677<>Worktags!AS677,Worktags!AQ677,\"\")","v":"SC6723"},{"$f":"IFERROR(VLOOKUP(B217,Worktags!AL:AO,2,FALSE),\"\")","v":"Prepaid Expenses"},{"$f":"IFERROR(VLOOKUP(C217,Worktags!O:T,2,FALSE),\"\")","v":"Utilities, Garbage Hauling"},{"$f":"IFERROR(VLOOKUP(IF(C217=\"\",B217&\"||\"&B217,C217&\"||\"&B217),Worktags!AR:AV,5,FALSE),\"\")","v":"All"}]
["1400_SC6724 Prepaid Expenses/Utilities, Heat/Cool Unit",{"$f":"Worktags!AS679","v":"1400"},{"$f":"IF(Worktags!AQ679<>Worktags!AS679,Worktags!AQ679,\"\")","v":"SC6724"},{"$f":"IFERROR(VLOOKUP(B218,Worktags!AL:AO,2,FALSE),\"\")","v":"Prepaid Expenses"},{"$f":"IFERROR(VLOOKUP(C218,Worktags!O:T,2,FALSE),\"\")","v":"Utilities, Heat/Cool Unit"},{"$f":"IFERROR(VLOOKUP(IF(C218=\"\",B218&\"||\"&B218,C218&\"||\"&B218),Worktags!AR:AV,5,FALSE),\"\")","v":"All"}]
["1400_SC6725 Prepaid Expenses/Utilities, Natural Gas",{"$f":"Worktags!AS681","v":"1400"},{"$f":"IF(Worktags!AQ681<>Worktags!AS681,Worktags!AQ681,\"\")","v":"SC6725"},{"$f":"IFERROR(VLOOKUP(B219,Worktags!AL:AO,2,FALSE),\"\")","v":"Prepaid Expenses"},{"$f":"IFERROR(VLOOKUP(C219,Worktags!O:T,2,FALSE),\"\")","v":"Utilities, Natural Gas"},{"$f":"IFERROR(VLOOKUP(IF(C219=\"\",B219&\"||\"&B219,C219&\"||\"&B219),Worktags!AR:AV,5,FALSE),\"\")","v":"All"}]
["1400_SC6726 Prepaid Expenses/Utilities, Other",{"$f":"Worktags!AS683","v":"1400"},{"$f":"IF(Worktags!AQ683<>Worktags!AS683,Worktags!AQ683,\"\")","v":"SC6726"},{"$f":"IFERROR(VLOOKUP(B220,Worktags!AL:AO,2,FALSE),\"\")","v":"Prepaid Expenses"},{"$f":"IFERROR(VLOOKUP(C220,Worktags!O:T,2,FALSE),\"\")","v":"Utilities, Other"},{"$f":"IFERROR(VLOOKUP(IF(C220=\"\",B220&\"||\"&B220,C220&\"||\"&B220),Worktags!AR:AV,5,FALSE),\"\")","v":"All"}]
["1400_SC6727 Prepaid Expenses/Utilities, Sewer",{"$f":"Worktags!AS685","v":"1400"},{"$f":"IF(Worktags!AQ685<>Worktags!AS685,Worktags!AQ685,\"\")","v":"SC6727"},{"$f":"IFERROR(VLOOKUP(B221,Worktags!AL:AO,2,FALSE),\"\")","v":"Prepaid Expenses"},{"$f":"IFERROR(VLOOKUP(C221,Worktags!O:T,2,FALSE),\"\")","v":"Utilities, Sewer"},{"$f":"IFERROR(VLOOKUP(IF(C221=\"\",B221&\"||\"&B221,C221&\"||\"&B221),Worktags!AR:AV,5,FALSE),\"\")","v":"All"}]
["1400_SC6728 Prepaid Expenses/Utilities, Water",{"$f":"Worktags!AS687","v":"1400"},{"$f":"IF(Worktags!AQ687<>Worktags!AS687,Worktags!AQ687,\"\")","v":"SC6728"},{"$f":"IFERROR(VLOOKUP(B222,Worktags!AL:AO,2,FALSE),\"\")","v":"Prepaid Expenses"},{"$f":"IFERROR(VLOOKUP(C222,Worktags!O:T,2,FALSE),\"\")","v":"Utilities, Water"},{"$f":"IFERROR(VLOOKUP(IF(C222=\"\",B222&\"||\"&B222,C222&\"||\"&B222),Worktags!AR:AV,5,FALSE),\"\")","v":"All"}]
["1400_SC6729 Prepaid Expenses/Warehouse Fixtures",{"$f":"Worktags!AS689","v":"1400"},{"$f":"IF(Worktags!AQ689<>Worktags!AS689,Worktags!AQ689,\"\")","v":"SC6729"},{"$f":"IFERROR(VLOOKUP(B223,Worktags!AL:AO,2,FALSE),\"\")","v":"Prepaid Expenses"},{"$f":"IFERROR(VLOOKUP(C223,Worktags!O:T,2,FALSE),\"\")","v":"Warehouse Fixtures"},{"$f":"IFERROR(VLOOKUP(IF(C223=\"\",B223&\"||\"&B223,C223&\"||\"&B223),Worktags!AR:AV,5,FALSE),\"\")","v":"All"}]
["1400_SC6730 Prepaid Expenses/Window Treatments",{"$f":"Worktags!AS696","v":"1400"},{"$f":"IF(Worktags!AQ696<>Worktags!AS696,Worktags!AQ696,\"\")","v":"SC6730"},{"$f":"IFERROR(VLOOKUP(B224,Worktags!AL:AO,2,FALSE),\"\")","v":"Prepaid Expenses"},{"$f":"IFERROR(VLOOKUP(C224,Worktags!O:T,2,FALSE),\"\")","v":"Window Treatments"},{"$f":"IFERROR(VLOOKUP(IF(C224=\"\",B224&\"||\"&B224,C224&\"||\"&B224),Worktags!AR:AV,5,FALSE),\"\")","v":"All"}]
["1400_SC6799 Prepaid Expenses/Physical Facilities (reclass)",{"$f":"Worktags!AS706","v":"1400"},{"$f":"IF(Worktags!AQ706<>Worktags!AS706,Worktags!AQ706,\"\")","v":"SC6799"},{"$f":"IFERROR(VLOOKUP(B225,Worktags!AL:AO,2,FALSE),\"\")","v":"Prepaid Expenses"},{"$f":"IFERROR(VLOOKUP(C225,Worktags!O:T,2,FALSE),\"\")","v":"Physical Facilities (reclass)"},{"$f":"IFERROR(VLOOKUP(IF(C225=\"\",B225&\"||\"&B225,C225&\"||\"&B225),Worktags!AR:AV,5,FALSE),\"\")","v":"All"}]
["1400_SC6901 Prepaid Expenses/Art Equipment",{"$f":"Worktags!AS710","v":"1400"},{"$f":"IF(Worktags!AQ710<>Worktags!AS710,Worktags!AQ710,\"\")","v":"SC6901"},{"$f":"IFERROR(VLOOKUP(B226,Worktags!AL:AO,2,FALSE),\"\")","v":"Prepaid Expenses"},{"$f":"IFERROR(VLOOKUP(C226,Worktags!O:T,2,FALSE),\"\")","v":"Art Equipment"},{"$f":"IFERROR(VLOOKUP(IF(C226=\"\",B226&\"||\"&B226,C226&\"||\"&B226),Worktags!AR:AV,5,FALSE),\"\")","v":"All"}]
["1400_SC6902 Prepaid Expenses/Athletic Equipment",{"$f":"Worktags!AS717","v":"1400"},{"$f":"IF(Worktags!AQ717<>Worktags!AS717,Worktags!AQ717,\"\")","v":"SC6902"},{"$f":"IFERROR(VLOOKUP(B227,Worktags!AL:AO,2,FALSE),\"\")","v":"Prepaid Expenses"},{"$f":"IFERROR(VLOOKUP(C227,Worktags!O:T,2,FALSE),\"\")","v":"Athletic Equipment"},{"$f":"IFERROR(VLOOKUP(IF(C227=\"\",B227&\"||\"&B227,C227&\"||\"&B227),Worktags!AR:AV,5,FALSE),\"\")","v":"All"}]
["1400_SC6903 Prepaid Expenses/Audio Visual Equipment (Asset Track)",{"$f":"Worktags!AS724","v":"1400"},{"$f":"IF(Worktags!AQ724<>Worktags!AS724,Worktags!AQ724,\"\")","v":"SC6903"},{"$f":"IFERROR(VLOOKUP(B228,Worktags!AL:AO,2,FALSE),\"\")","v":"Prepaid Expenses"},{"$f":"IFERROR(VLOOKUP(C228,Worktags!O:T,2,FALSE),\"\")","v":"Audio Visual Equipment (Asset Track)"},{"$f":"IFERROR(VLOOKUP(IF(C228=\"\",B228&\"||\"&B228,C228&\"||\"&B228),Worktags!AR:AV,5,FALSE),\"\")","v":"All"}]
["1400_SC6904 Prepaid Expenses/Communication Devices (Asset Track)",{"$f":"Worktags!AS731","v":"1400"},{"$f":"IF(Worktags!AQ731<>Worktags!AS731,Worktags!AQ731,\"\")","v":"SC6904"},{"$f":"IFERROR(VLOOKUP(B229,Worktags!AL:AO,2,FALSE),\"\")","v":"Prepaid Expenses"},{"$f":"IFERROR(VLOOKUP(C229,Worktags!O:T,2,FALSE),\"\")","v":"Communication Devices (Asset Track)"},{"$f":"IFERROR(VLOOKUP(IF(C229=\"\",B229&\"||\"&B229,C229&\"||\"&B229),Worktags!AR:AV,5,FALSE),\"\")","v":"All"}]
["1400_SC6905 Prepaid Expenses/Computer Hardware (Asset Track)",{"$f":"Worktags!AS738","v":"1400"},{"$f":"IF(Worktags!AQ738<>Worktags!AS738,Worktags!AQ738,\"\")","v":"SC6905"},{"$f":"IFERROR(VLOOKUP(B230,Worktags!AL:AO,2,FALSE),\"\")","v":"Prepaid Expenses"},{"$f":"IFERROR(VLOOKUP(C230,Worktags!O:T,2,FALSE),\"\")","v":"Computer Hardware (Asset Track)"},{"$f":"IFERROR(VLOOKUP(IF(C230=\"\",B230&\"||\"&B230,C230&\"||\"&B230),Worktags!AR:AV,5,FALSE),\"\")","v":"All"}]
["1400_SC6906 Prepaid Expenses/Data Network Equipment (Asset Track)",{"$f":"Worktags!AS745","v":"1400"},{"$f":"IF(Worktags!AQ745<>Worktags!AS745,Worktags!AQ745,\"\")","v":"SC6906"},{"$f":"IFERROR(VLOOKUP(B231,Worktags!AL:AO,2,FALSE),\"\")","v":"Prepaid Expenses"},{"$f":"IFERROR(VLOOKUP(C231,Worktags!O:T,2,FALSE),\"\")","v":"Data Network Equipment (Asset Track)"},{"$f":"IFERROR(VLOOKUP(IF(C231=\"\",B231&\"||\"&B231,C231&\"||\"&B231),Worktags!AR:AV,5,FALSE),\"\")","v":"All"}]
["1400_SC6907 Prepaid Expenses/Equipment (not otherwise specified) (Asset Track)",{"$f":"Worktags!AS752","v":"1400"},{"$f":"IF(Worktags!AQ752<>Worktags!AS752,Worktags!AQ752,\"\")","v":"SC6907"},{"$f":"IFERROR(VLOOKUP(B232,Worktags!AL:AO,2,FALSE),\"\")","v":"Prepaid Expenses"},{"$f":"IFERROR(VLOOKUP(C232,Worktags!O:T,2,FALSE),\"\")","v":"Equipment (not otherwise specified) (Asset Track)"},{"$f":"IFERROR(VLOOKUP(IF(C232=\"\",B232&\"||\"&B232,C232&\"||\"&B232),Worktags!AR:AV,5,FALSE),\"\")","v":"All"}]
["1400_SC6908 Prepaid Expenses/Equipment Maintenance (not otherwise specified)",{"$f":"Worktags!AS759","v":"1400"},{"$f":"IF(Worktags!AQ759<>Worktags!AS759,Worktags!AQ759,\"\")","v":"SC6908"},{"$f":"IFERROR(VLOOKUP(B233,Worktags!AL:AO,2,FALSE),\"\")","v":"Prepaid Expenses"},{"$f":"IFERROR(VLOOKUP(C233,Worktags!O:T,2,FALSE),\"\")","v":"Equipment Maintenance (not otherwise specified)"},{"$f":"IFERROR(VLOOKUP(IF(C233=\"\",B233&\"||\"&B233,C233&\"||\"&B233),Worktags!AR:AV,5,FALSE),\"\")","v":"All"}]
["1400_SC6909 Prepaid Expenses/Firearms",{"$f":"Worktags!AS761","v":"1400"},{"$f":"IF(Worktags!AQ761<>Worktags!AS761,Worktags!AQ761,\"\")","v":"SC6909"},{"$f":"IFERROR(VLOOKUP(B234,Worktags!AL:AO,2,FALSE),\"\")","v":"Prepaid Expenses"},{"$f":"IFERROR(VLOOKUP(C234,Worktags!O:T,2,FALSE),\"\")","v":"Firearms"},{"$f":"IFERROR(VLOOKUP(IF(C234=\"\",B234&\"||\"&B234,C234&\"||\"&B234),Worktags!AR:AV,5,FALSE),\"\")","v":"All"}]
["1400_SC6910 Prepaid Expenses/Food Service Equipment",{"$f":"Worktags!AS766","v":"1400"},{"$f":"IF(Worktags!AQ766<>Worktags!AS766,Worktags!AQ766,\"\")","v":"SC6910"},{"$f":"IFERROR(VLOOKUP(B235,Worktags!AL:AO,2,FALSE),\"\")","v":"Prepaid Expenses"},{"$f":"IFERROR(VLOOKUP(C235,Worktags!O:T,2,FALSE),\"\")","v":"Food Service Equipment"},{"$f":"IFERROR(VLOOKUP(IF(C235=\"\",B235&\"||\"&B235,C235&\"||\"&B235),Worktags!AR:AV,5,FALSE),\"\")","v":"All"}]
["1400_SC6911 Prepaid Expenses/Grants Capital Equipment",{"$f":"Worktags!AS773","v":"1400"},{"$f":"IF(Worktags!AQ773<>Worktags!AS773,Worktags!AQ773,\"\")","v":"SC6911"},{"$f":"IFERROR(VLOOKUP(B236,Worktags!AL:AO,2,FALSE),\"\")","v":"Prepaid Expenses"},{"$f":"IFERROR(VLOOKUP(C236,Worktags!O:T,2,FALSE),\"\")","v":"Grants Capital Equipment"},{"$f":"IFERROR(VLOOKUP(IF(C236=\"\",B236&\"||\"&B236,C236&\"||\"&B236),Worktags!AR:AV,5,FALSE),\"\")","v":"All"}]
["1400_SC6912 Prepaid Expenses/Grants Non-Capital Equipment",{"$f":"Worktags!AS778","v":"1400"},{"$f":"IF(Worktags!AQ778<>Worktags!AS778,Worktags!AQ778,\"\")","v":"SC6912"},{"$f":"IFERROR(VLOOKUP(B237,Worktags!AL:AO,2,FALSE),\"\")","v":"Prepaid Expenses"},{"$f":"IFERROR(VLOOKUP(C237,Worktags!O:T,2,FALSE),\"\")","v":"Grants Non-Capital Equipment"},{"$f":"IFERROR(VLOOKUP(IF(C237=\"\",B237&\"||\"&B237,C237&\"||\"&B237),Worktags!AR:AV,5,FALSE),\"\")","v":"All"}]
["1400_SC6913 Prepaid Expenses/Grounds Equipment",{"$f":"Worktags!AS780","v":"1400"},{"$f":"IF(Worktags!AQ780<>Worktags!AS780,Worktags!AQ780,\"\")","v":"SC6913"},{"$f":"IFERROR(VLOOKUP(B238,Worktags!AL:AO,2,FALSE),\"\")","v":"Prepaid Expenses"},{"$f":"IFERROR(VLOOKUP(C238,Worktags!O:T,2,FALSE),\"\")","v":"Grounds Equipment"},{"$f":"IFERROR(VLOOKUP(IF(C238=\"\",B238&\"||\"&B238,C238&\"||\"&B238),Worktags!AR:AV,5,FALSE),\"\")","v":"All"}]
["1400_SC6914 Prepaid Expenses/Industrial Equipment",{"$f":"Worktags!AS785","v":"1400"},{"$f":"IF(Worktags!AQ785<>Worktags!AS785,Worktags!AQ785,\"\")","v":"SC6914"},{"$f":"IFERROR(VLOOKUP(B239,Worktags!AL:AO,2,FALSE),\"\")","v":"Prepaid Expenses"},{"$f":"IFERROR(VLOOKUP(C239,Worktags!O:T,2,FALSE),\"\")","v":"Industrial Equipment"},{"$f":"IFERROR(VLOOKUP(IF(C239=\"\",B239&\"||\"&B239,C239&\"||\"&B239),Worktags!AR:AV,5,FALSE),\"\")","v":"All"}]
["1400_SC6915 Prepaid Expenses/Janitorial Equipment",{"$f":"Worktags!AS792","v":"1400"},{"$f":"IF(Worktags!AQ792<>Worktags!AS792,Worktags!AQ792,\"\")","v":"SC6915"},{"$f":"IFERROR(VLOOKUP(B240,Worktags!AL:AO,2,FALSE),\"\")","v":"Prepaid Expenses"},{"$f":"IFERROR(VLOOKUP(C240,Worktags!O:T,2,FALSE),\"\")","v":"Janitorial Equipment"},{"$f":"IFERROR(VLOOKUP(IF(C240=\"\",B240&\"||\"&B240,C240&\"||\"&B240),Worktags!AR:AV,5,FALSE),\"\")","v":"All"}]
["1400_SC6916 Prepaid Expenses/Janitorial Equipment Maintenance",{"$f":"Worktags!AS799","v":"1400"},{"$f":"IF(Worktags!AQ799<>Worktags!AS799,Worktags!AQ799,\"\")","v":"SC6916"},{"$f":"IFERROR(VLOOKUP(B241,Worktags!AL:AO,2,FALSE),\"\")","v":"Prepaid Expenses"},{"$f":"IFERROR(VLOOKUP(C241,Worktags!O:T,2,FALSE),\"\")","v":"Janitorial Equipment Maintenance"},{"$f":"IFERROR(VLOOKUP(IF(C241=\"\",B241&\"||\"&B241,C241&\"||\"&B241),Worktags!AR:AV,5,FALSE),\"\")","v":"All"}]
["1400_SC6917 Prepaid Expenses/Laundry Equipment",{"$f":"Worktags!AS801","v":"1400"},{"$f":"IF(Worktags!AQ801<>Worktags!AS801,Worktags!AQ801,\"\")","v":"SC6917"},{"$f":"IFERROR(VLOOKUP(B242,Worktags!AL:AO,2,FALSE),\"\")","v":"Prepaid Expenses"},{"$f":"IFERROR(VLOOKUP(C242,Worktags!O:T,2,FALSE),\"\")","v":"Laundry Equipment"},{"$f":"IFERROR(VLOOKUP(IF(C242=\"\",B242&\"||\"&B242,C242&\"||\"&B242),Worktags!AR:AV,5,FALSE),\"\")","v":"All"}]
["1400_SC6918 Prepaid Expenses/Library Content",{"$f":"Worktags!AS808","v":"1400"},{"$f":"IF(Worktags!AQ808<>Worktags!AS808,Worktags!AQ808,\"\")","v":"SC6918"},{"$f":"IFERROR(VLOOKUP(B243,Worktags!AL:AO,2,FALSE),\"\")","v":"Prepaid Expenses"},{"$f":"IFERROR(VLOOKUP(C243,Worktags!O:T,2,FALSE),\"\")","v":"Library Content"},{"$f":"IFERROR(VLOOKUP(IF(C243=\"\",B243&\"||\"&B243,C243&\"||\"&B243),Worktags!AR:AV,5,FALSE),\"\")","v":"All"}]
["1400_SC6919 Prepaid Expenses/Library Subscriptions",{"$f":"Worktags!AS813","v":"1400"},{"$f":"IF(Worktags!AQ813<>Worktags!AS813,Worktags!AQ813,\"\")","v":"SC6919"},{"$f":"IFERROR(VLOOKUP(B244,Worktags!AL:AO,2,FALSE),\"\")","v":"Prepaid Expenses"},{"$f":"IFERROR(VLOOKUP(C244,Worktags!O:T,2,FALSE),\"\")","v":"Library Subscriptions"},{"$f":"IFERROR(VLOOKUP(IF(C244=\"\",B244&\"||\"&B244,C244&\"||\"&B244),Worktags!AR:AV,5,FALSE),\"\")","v":"All"}]
["1400_SC6920 Prepaid Expenses/Media Content",{"$f":"Worktags!AS815","v":"1400"},{"$f":"IF(Worktags!AQ815<>Worktags!AS815,Worktags!AQ815,\"\")","v":"SC6920"},{"$f":"IFERROR(VLOOKUP(B245,Worktags!AL:AO,2,FALSE),\"\")","v":"Prepaid Expenses"},{"$f":"IFERROR(VLOOKUP(C245,Worktags!O:T,2,FALSE),\"\")","v":"Media Content"},{"$f":"IFERROR(VLOOKUP(IF(C245=\"\",B245&\"||\"&B245,C245&\"||\"&B245),Worktags!AR:AV,5,FALSE),\"\")","v":"All"}]
["1400_SC6921 Prepaid Expenses/Medical Equipment",{"$f":"Worktags!AS820","v":"1400"},{"$f":"IF(Worktags!AQ820<>Worktags!AS820,Worktags!AQ820,\"\")","v":"SC6921"},{"$f":"IFERROR(VLOOKUP(B246,Worktags!AL:AO,2,FALSE),\"\")","v":"Prepaid Expenses"},{"$f":"IFERROR(VLOOKUP(C246,Worktags!O:T,2,FALSE),\"\")","v":"Medical Equipment"},{"$f":"IFERROR(VLOOKUP(IF(C246=\"\",B246&\"||\"&B246,C246&\"||\"&B246),Worktags!AR:AV,5,FALSE),\"\")","v":"All"}]
["1400_SC6922 Prepaid Expenses/Medical Equipment - Maintenance",{"$f":"Worktags!AS827","v":"1400"},{"$f":"IF(Worktags!AQ827<>Worktags!AS827,Worktags!AQ827,\"\")","v":"SC6922"},{"$f":"IFERROR(VLOOKUP(B247,Worktags!AL:AO,2,FALSE),\"\")","v":"Prepaid Expenses"},{"$f":"IFERROR(VLOOKUP(C247,Worktags!O:T,2,FALSE),\"\")","v":"Medical Equipment - Maintenance"},{"$f":"IFERROR(VLOOKUP(IF(C247=\"\",B247&\"||\"&B247,C247&\"||\"&B247),Worktags!AR:AV,5,FALSE),\"\")","v":"All"}]
["1400_SC6923 Prepaid Expenses/Musical Instruments",{"$f":"Worktags!AS829","v":"1400"},{"$f":"IF(Worktags!AQ829<>Worktags!AS829,Worktags!AQ829,\"\")","v":"SC6923"},{"$f":"IFERROR(VLOOKUP(B248,Worktags!AL:AO,2,FALSE),\"\")","v":"Prepaid Expenses"},{"$f":"IFERROR(VLOOKUP(C248,Worktags!O:T,2,FALSE),\"\")","v":"Musical Instruments"},{"$f":"IFERROR(VLOOKUP(IF(C248=\"\",B248&\"||\"&B248,C248&\"||\"&B248),Worktags!AR:AV,5,FALSE),\"\")","v":"All"}]
["1400_SC6924 Prepaid Expenses/Office Equipment (Asset Track)",{"$f":"Worktags!AS834","v":"1400"},{"$f":"IF(Worktags!AQ834<>Worktags!AS834,Worktags!AQ834,\"\")","v":"SC6924"},{"$f":"IFERROR(VLOOKUP(B249,Worktags!AL:AO,2,FALSE),\"\")","v":"Prepaid Expenses"},{"$f":"IFERROR(VLOOKUP(C249,Worktags!O:T,2,FALSE),\"\")","v":"Office Equipment (Asset Track)"},{"$f":"IFERROR(VLOOKUP(IF(C249=\"\",B249&\"||\"&B249,C249&\"||\"&B249),Worktags!AR:AV,5,FALSE),\"\")","v":"All"}]
["1400_SC6925 Prepaid Expenses/Office Equipment - Maintenance",{"$f":"Worktags!AS841","v":"1400"},{"$f":"IF(Worktags!AQ841<>Worktags!AS841,Worktags!AQ841,\"\")","v":"SC6925"},{"$f":"IFERROR(VLOOKUP(B250,Worktags!AL:AO,2,FALSE),\"\")","v":"Prepaid Expenses"},{"$f":"IFERROR(VLOOKUP(C250,Worktags!O:T,2,FALSE),\"\")","v":"Office Equipment - Maintenance"},{"$f":"IFERROR(VLOOKUP(IF(C250=\"\",B250&\"||\"&B250,C250&\"||\"&B250),Worktags!AR:AV,5,FALSE),\"\")","v":"All"}]
["1400_SC6926 Prepaid Expenses/Photography Equipment",{"$f":"Worktags!AS843","v":"1400"},{"$f":"IF(Worktags!AQ843<>Worktags!AS843,Worktags!AQ843,\"\")","v":"SC6926"},{"$f":"IFERROR(VLOOKUP(B251,Worktags!AL:AO,2,FALSE),\"\")","v":"Prepaid Expenses"},{"$f":"IFERROR(VLOOKUP(C251,Worktags!O:T,2,FALSE),\"\")","v":"Photography Equipment"},{"$f":"IFERROR(VLOOKUP(IF(C251=\"\",B251&\"||\"&B251,C251&\"||\"&B251),Worktags!AR:AV,5,FALSE),\"\")","v":"All"}]
["1400_SC6927 Prepaid Expenses/Portable Structures",{"$f":"Worktags!AS848","v":"1400"},{"$f":"IF(Worktags!AQ848<>Worktags!AS848,Worktags!AQ848,\"\")","v":"SC6927"},{"$f":"IFERROR(VLOOKUP(B252,Worktags!AL:AO,2,FALSE),\"\")","v":"Prepaid Expenses"},{"$f":"IFERROR(VLOOKUP(C252,Worktags!O:T,2,FALSE),\"\")","v":"Portable Structures"},{"$f":"IFERROR(VLOOKUP(IF(C252=\"\",B252&\"||\"&B252,C252&\"||\"&B252),Worktags!AR:AV,5,FALSE),\"\")","v":"All"}]
["1400_SC6928 Prepaid Expenses/Printing Equipment",{"$f":"Worktags!AS855","v":"1400"},{"$f":"IF(Worktags!AQ855<>Worktags!AS855,Worktags!AQ855,\"\")","v":"SC6928"},{"$f":"IFERROR(VLOOKUP(B253,Worktags!AL:AO,2,FALSE),\"\")","v":"Prepaid Expenses"},{"$f":"IFERROR(VLOOKUP(C253,Worktags!O:T,2,FALSE),\"\")","v":"Printing Equipment"},{"$f":"IFERROR(VLOOKUP(IF(C253=\"\",B253&\"||\"&B253,C253&\"||\"&B253),Worktags!AR:AV,5,FALSE),\"\")","v":"All"}]
["1400_SC6929 Prepaid Expenses/Scientific and Engineering Equipment",{"$f":"Worktags!AS862","v":"1400"},{"$f":"IF(Worktags!AQ862<>Worktags!AS862,Worktags!AQ862,\"\")","v":"SC6929"},{"$f":"IFERROR(VLOOKUP(B254,Worktags!AL:AO,2,FALSE),\"\")","v":"Prepaid Expenses"},{"$f":"IFERROR(VLOOKUP(C254,Worktags!O:T,2,FALSE),\"\")","v":"Scientific and Engineering Equipment"},{"$f":"IFERROR(VLOOKUP(IF(C254=\"\",B254&\"||\"&B254,C254&\"||\"&B254),Worktags!AR:AV,5,FALSE),\"\")","v":"All"}]
["1400_SC6930 Prepaid Expenses/Scientific Equipment - Maintenance",{"$f":"Worktags!AS869","v":"1400"},{"$f":"IF(Worktags!AQ869<>Worktags!AS869,Worktags!AQ869,\"\")","v":"SC6930"},{"$f":"IFERROR(VLOOKUP(B255,Worktags!AL:AO,2,FALSE),\"\")","v":"Prepaid Expenses"},{"$f":"IFERROR(VLOOKUP(C255,Worktags!O:T,2,FALSE),\"\")","v":"Scientific Equipment - Maintenance"},{"$f":"IFERROR(VLOOKUP(IF(C255=\"\",B255&\"||\"&B255,C255&\"||\"&B255),Worktags!AR:AV,5,FALSE),\"\")","v":"All"}]
["1400_SC6931 Prepaid Expenses/Security Equipment (Asset Track)",{"$f":"Worktags!AS871","v":"1400"},{"$f":"IF(Worktags!AQ871<>Worktags!AS871,Worktags!AQ871,\"\")","v":"SC6931"},{"$f":"IFERROR(VLOOKUP(B256,Worktags!AL:AO,2,FALSE),\"\")","v":"Prepaid Expenses"},{"$f":"IFERROR(VLOOKUP(C256,Worktags!O:T,2,FALSE),\"\")","v":"Security Equipment (Asset Track)"},{"$f":"IFERROR(VLOOKUP(IF(C256=\"\",B256&\"||\"&B256,C256&\"||\"&B256),Worktags!AR:AV,5,FALSE),\"\")","v":"All"}]
[{"$f":"IF(B257<>\"\",IF(C257<>\"\",B257&\"_\"&C257&\" \"&D257&\"/\"&E257,B257&\" \"&D257),\"\")","v":"1400_SC6932 Prepaid Expenses/Small Appliances"},{"$f":"Worktags!AS878","v":"1400"},{"$f":"IF(Worktags!AQ878<>Worktags!AS878,Worktags!AQ878,\"\")","v":"SC6932"},{"$f":"IFERROR(VLOOKUP(B257,Worktags!AL:AO,2,FALSE),\"\")","v":"Prepaid Expenses"},{"$f":"IFERROR(VLOOKUP(C257,Worktags!O:T,2,FALSE),\"\")","v":"Small Appliances"},{"$f":"IFERROR(VLOOKUP(IF(C257=\"\",B257&\"||\"&B257,C257&\"||\"&B257),Worktags!AR:AV,5,FALSE),\"\")","v":"All"}]
["1400_SC6933 Prepaid Expenses/Software",{"$f":"Worktags!AS885","v":"1400"},{"$f":"IF(Worktags!AQ885<>Worktags!AS885,Worktags!AQ885,\"\")","v":"SC6933"},{"$f":"IFERROR(VLOOKUP(B258,Worktags!AL:AO,2,FALSE),\"\")","v":"Prepaid Expenses"},{"$f":"IFERROR(VLOOKUP(C258,Worktags!O:T,2,FALSE),\"\")","v":"Software"},{"$f":"IFERROR(VLOOKUP(IF(C258=\"\",B258&\"||\"&B258,C258&\"||\"&B258),Worktags!AR:AV,5,FALSE),\"\")","v":"All"}]
["1400_SC6934 Prepaid Expenses/Software and Media - Licenses",{"$f":"Worktags!AS890","v":"1400"},{"$f":"IF(Worktags!AQ890<>Worktags!AS890,Worktags!AQ890,\"\")","v":"SC6934"},{"$f":"IFERROR(VLOOKUP(B259,Worktags!AL:AO,2,FALSE),\"\")","v":"Prepaid Expenses"},{"$f":"IFERROR(VLOOKUP(C259,Worktags!O:T,2,FALSE),\"\")","v":"Software and Media - Licenses"},{"$f":"IFERROR(VLOOKUP(IF(C259=\"\",B259&\"||\"&B259,C259&\"||\"&B259),Worktags!AR:AV,5,FALSE),\"\")","v":"All"}]
["1400_SC6935 Prepaid Expenses/Telecom Equipment",{"$f":"Worktags!AS892","v":"1400"},{"$f":"IF(Worktags!AQ892<>Worktags!AS892,Worktags!AQ892,\"\")","v":"SC6935"},{"$f":"IFERROR(VLOOKUP(B260,Worktags!AL:AO,2,FALSE),\"\")","v":"Prepaid Expenses"},{"$f":"IFERROR(VLOOKUP(C260,Worktags!O:T,2,FALSE),\"\")","v":"Telecom Equipment"},{"$f":"IFERROR(VLOOKUP(IF(C260=\"\",B260&\"||\"&B260,C260&\"||\"&B260),Worktags!AR:AV,5,FALSE),\"\")","v":"All"}]
["1400_SC6936 Prepaid Expenses/Vehicles Services",{"$f":"Worktags!AS899","v":"1400"},{"$f":"IF(Worktags!AQ899<>Worktags!AS899,Worktags!AQ899,\"\")","v":"SC6936"},{"$f":"IFERROR(VLOOKUP(B261,Worktags!AL:AO,2,FALSE),\"\")","v":"Prepaid Expenses"},{"$f":"IFERROR(VLOOKUP(C261,Worktags!O:T,2,FALSE),\"\")","v":"Vehicles Services"},{"$f":"IFERROR(VLOOKUP(IF(C261=\"\",B261&\"||\"&B261,C261&\"||\"&B261),Worktags!AR:AV,5,FALSE),\"\")","v":"All"}]
["1400_SC6937 Prepaid Expenses/Vehicles, Motor",{"$f":"Worktags!AS901","v":"1400"},{"$f":"IF(Worktags!AQ901<>Worktags!AS901,Worktags!AQ901,\"\")","v":"SC6937"},{"$f":"IFERROR(VLOOKUP(B262,Worktags!AL:AO,2,FALSE),\"\")","v":"Prepaid Expenses"},{"$f":"IFERROR(VLOOKUP(C262,Worktags!O:T,2,FALSE),\"\")","v":"Vehicles, Motor"},{"$f":"IFERROR(VLOOKUP(IF(C262=\"\",B262&\"||\"&B262,C262&\"||\"&B262),Worktags!AR:AV,5,FALSE),\"\")","v":"All"}]
["1400_SC6938 Prepaid Expenses/Vehicles, Off-Road",{"$f":"Worktags!AS906","v":"1400"},{"$f":"IF(Worktags!AQ906<>Worktags!AS906,Worktags!AQ906,\"\")","v":"SC6938"},{"$f":"IFERROR(VLOOKUP(B263,Worktags!AL:AO,2,FALSE),\"\")","v":"Prepaid Expenses"},{"$f":"IFERROR(VLOOKUP(C263,Worktags!O:T,2,FALSE),\"\")","v":"Vehicles, Off-Road"},{"$f":"IFERROR(VLOOKUP(IF(C263=\"\",B263&\"||\"&B263,C263&\"||\"&B263),Worktags!AR:AV,5,FALSE),\"\")","v":"All"}]
["1400_SC6939 Prepaid Expenses/Warehouse Equipment",{"$f":"Worktags!AS911","v":"1400"},{"$f":"IF(Worktags!AQ911<>Worktags!AS911,Worktags!AQ911,\"\")","v":"SC6939"},{"$f":"IFERROR(VLOOKUP(B264,Worktags!AL:AO,2,FALSE),\"\")","v":"Prepaid Expenses"},{"$f":"IFERROR(VLOOKUP(C264,Worktags!O:T,2,FALSE),\"\")","v":"Warehouse Equipment"},{"$f":"IFERROR(VLOOKUP(IF(C264=\"\",B264&\"||\"&B264,C264&\"||\"&B264),Worktags!AR:AV,5,FALSE),\"\")","v":"All"}]
["1400_SC6999 Prepaid Expenses/Equipment (reclass)",{"$f":"Worktags!AS946","v":"1400"},{"$f":"IF(Worktags!AQ946<>Worktags!AS946,Worktags!AQ946,\"\")","v":"SC6999"},{"$f":"IFERROR(VLOOKUP(B265,Worktags!AL:AO,2,FALSE),\"\")","v":"Prepaid Expenses"},{"$f":"IFERROR(VLOOKUP(C265,Worktags!O:T,2,FALSE),\"\")","v":"Equipment (reclass)"},{"$f":"IFERROR(VLOOKUP(IF(C265=\"\",B265&\"||\"&B265,C265&\"||\"&B265),Worktags!AR:AV,5,FALSE),\"\")","v":"All"}]
["1400_SC7001 Prepaid Expenses/Travel",{"$f":"Worktags!AS950","v":"1400"},{"$f":"IF(Worktags!AQ950<>Worktags!AS950,Worktags!AQ950,\"\")","v":"SC7001"},{"$f":"IFERROR(VLOOKUP(B266,Worktags!AL:AO,2,FALSE),\"\")","v":"Prepaid Expenses"},{"$f":"IFERROR(VLOOKUP(C266,Worktags!O:T,2,FALSE),\"\")","v":"Travel"},{"$f":"IFERROR(VLOOKUP(IF(C266=\"\",B266&\"||\"&B266,C266&\"||\"&B266),Worktags!AR:AV,5,FALSE),\"\")","v":"All"}]
["1400_SC7002 Prepaid Expenses/Airfare Domestic",{"$f":"Worktags!AS952","v":"1400"},{"$f":"IF(Worktags!AQ952<>Worktags!AS952,Worktags!AQ952,\"\")","v":"SC7002"},{"$f":"IFERROR(VLOOKUP(B267,Worktags!AL:AO,2,FALSE),\"\")","v":"Prepaid Expenses"},{"$f":"IFERROR(VLOOKUP(C267,Worktags!O:T,2,FALSE),\"\")","v":"Airfare Domestic"},{"$f":"IFERROR(VLOOKUP(IF(C267=\"\",B267&\"||\"&B267,C267&\"||\"&B267),Worktags!AR:AV,5,FALSE),\"\")","v":"All"}]
["1400_SC7003 Prepaid Expenses/Airfare Foreign",{"$f":"Worktags!AS954","v":"1400"},{"$f":"IF(Worktags!AQ954<>Worktags!AS954,Worktags!AQ954,\"\")","v":"SC7003"},{"$f":"IFERROR(VLOOKUP(B268,Worktags!AL:AO,2,FALSE),\"\")","v":"Prepaid Expenses"},{"$f":"IFERROR(VLOOKUP(C268,Worktags!O:T,2,FALSE),\"\")","v":"Airfare Foreign"},{"$f":"IFERROR(VLOOKUP(IF(C268=\"\",B268&\"||\"&B268,C268&\"||\"&B268),Worktags!AR:AV,5,FALSE),\"\")","v":"All"}]
["1400_SC7004 Prepaid Expenses/Transportation Services",{"$f":"Worktags!AS956","v":"1400"},{"$f":"IF(Worktags!AQ956<>Worktags!AS956,Worktags!AQ956,\"\")","v":"SC7004"},{"$f":"IFERROR(VLOOKUP(B269,Worktags!AL:AO,2,FALSE),\"\")","v":"Prepaid Expenses"},{"$f":"IFERROR(VLOOKUP(C269,Worktags!O:T,2,FALSE),\"\")","v":"Transportation Services"},{"$f":"IFERROR(VLOOKUP(IF(C269=\"\",B269&\"||\"&B269,C269&\"||\"&B269),Worktags!AR:AV,5,FALSE),\"\")","v":"All"}]
["1400_SC7005 Prepaid Expenses/Travel - Lodging",{"$f":"Worktags!AS958","v":"1400"},{"$f":"IF(Worktags!AQ958<>Worktags!AS958,Worktags!AQ958,\"\")","v":"SC7005"},{"$f":"IFERROR(VLOOKUP(B270,Worktags!AL:AO,2,FALSE),\"\")","v":"Prepaid Expenses"},{"$f":"IFERROR(VLOOKUP(C270,Worktags!O:T,2,FALSE),\"\")","v":"Travel - Lodging"},{"$f":"IFERROR(VLOOKUP(IF(C270=\"\",B270&\"||\"&B270,C270&\"||\"&B270),Worktags!AR:AV,5,FALSE),\"\")","v":"All"}]
["1400_SC7006 Prepaid Expenses/Travel - Tour Guide Services",{"$f":"Worktags!AS960","v":"1400"},{"$f":"IF(Worktags!AQ960<>Worktags!AS960,Worktags!AQ960,\"\")","v":"SC7006"},{"$f":"IFERROR(VLOOKUP(B271,Worktags!AL:AO,2,FALSE),\"\")","v":"Prepaid Expenses"},{"$f":"IFERROR(VLOOKUP(C271,Worktags!O:T,2,FALSE),\"\")","v":"Travel - Tour Guide Services"},{"$f":"IFERROR(VLOOKUP(IF(C271=\"\",B271&\"||\"&B271,C271&\"||\"&B271),Worktags!AR:AV,5,FALSE),\"\")","v":"All"}]
["1400_SC7099 Prepaid Expenses/Travel (reclass)",{"$f":"Worktags!AS962","v":"1400"},{"$f":"IF(Worktags!AQ962<>Worktags!AS962,Worktags!AQ962,\"\")","v":"SC7099"},{"$f":"IFERROR(VLOOKUP(B272,Worktags!AL:AO,2,FALSE),\"\")","v":"Prepaid Expenses"},{"$f":"IFERROR(VLOOKUP(C272,Worktags!O:T,2,FALSE),\"\")","v":"Travel (reclass)"},{"$f":"IFERROR(VLOOKUP(IF(C272=\"\",B272&\"||\"&B272,C272&\"||\"&B272),Worktags!AR:AV,5,FALSE),\"\")","v":"All"}]
["1410 Deposits",{"$f":"Worktags!AL43","v":"1410"},null,{"$f":"IFERROR(VLOOKUP(B273,Worktags!AL:AO,2,FALSE),\"\")","v":"Deposits"},null,{"$f":"IFERROR(VLOOKUP(IF(C273=\"\",B273&\"||\"&B273,C273&\"||\"&B273),Worktags!AR:AV,5,FALSE),\"\")","v":"All"}]
["1410 Deposits",{"$f":"Worktags!AS37","v":"1410"},{"$f":"IF(Worktags!AQ37<>Worktags!AS37,Worktags!AQ37,\"\")","v":""},{"$f":"IFERROR(VLOOKUP(B274,Worktags!AL:AO,2,FALSE),\"\")","v":"Deposits"},{"$f":"IFERROR(VLOOKUP(C274,Worktags!O:T,2,FALSE),\"\")","v":""},{"$f":"IFERROR(VLOOKUP(IF(C274=\"\",B274&\"||\"&B274,C274&\"||\"&B274),Worktags!AR:AV,5,FALSE),\"\")","v":"All"}]
["1420 Other Assets",{"$f":"Worktags!AL44","v":"1420"},null,{"$f":"IFERROR(VLOOKUP(B275,Worktags!AL:AO,2,FALSE),\"\")","v":"Other Assets"},null,{"$f":"IFERROR(VLOOKUP(IF(C275=\"\",B275&\"||\"&B275,C275&\"||\"&B275),Worktags!AR:AV,5,FALSE),\"\")","v":""}]
["1420_SC1420 Other Assets/Other Assets",{"$f":"Worktags!AS220","v":"1420"},{"$f":"IF(Worktags!AQ220<>Worktags!AS220,Worktags!AQ220,\"\")","v":"SC1420"},{"$f":"IFERROR(VLOOKUP(B276,Worktags!AL:AO,2,FALSE),\"\")","v":"Other Assets"},{"$f":"IFERROR(VLOOKUP(C276,Worktags!O:T,2,FALSE),\"\")","v":"Other Assets"},{"$f":"IFERROR(VLOOKUP(IF(C276=\"\",B276&\"||\"&B276,C276&\"||\"&B276),Worktags!AR:AV,5,FALSE),\"\")","v":"All"}]
["1429 Other Assets Reserve",{"$f":"Worktags!AL45","v":"1429"},null,{"$f":"IFERROR(VLOOKUP(B277,Worktags!AL:AO,2,FALSE),\"\")","v":"Other Assets Reserve"},null,{"$f":"IFERROR(VLOOKUP(IF(C277=\"\",B277&\"||\"&B277,C277&\"||\"&B277),Worktags!AR:AV,5,FALSE),\"\")","v":"All"}]
["1429 Other Assets Reserve",{"$f":"Worktags!AS38","v":"1429"},{"$f":"IF(Worktags!AQ38<>Worktags!AS38,Worktags!AQ38,\"\")","v":""},{"$f":"IFERROR(VLOOKUP(B278,Worktags!AL:AO,2,FALSE),\"\")","v":"Other Assets Reserve"},{"$f":"IFERROR(VLOOKUP(C278,Worktags!O:T,2,FALSE),\"\")","v":""},{"$f":"IFERROR(VLOOKUP(IF(C278=\"\",B278&\"||\"&B278,C278&\"||\"&B278),Worktags!AR:AV,5,FALSE),\"\")","v":"All"}]
["1430 Right of Use Asset",{"$f":"Worktags!AL46","v":"1430"},null,{"$f":"IFERROR(VLOOKUP(B279,Worktags!AL:AO,2,FALSE),\"\")","v":"Right of Use Asset"},null,{"$f":"IFERROR(VLOOKUP(IF(C279=\"\",B279&\"||\"&B279,C279&\"||\"&B279),Worktags!AR:AV,5,FALSE),\"\")","v":"All"}]
["1430 Right of Use Asset",{"$f":"Worktags!AS39","v":"1430"},{"$f":"IF(Worktags!AQ39<>Worktags!AS39,Worktags!AQ39,\"\")","v":""},{"$f":"IFERROR(VLOOKUP(B280,Worktags!AL:AO,2,FALSE),\"\")","v":"Right of Use Asset"},{"$f":"IFERROR(VLOOKUP(C280,Worktags!O:T,2,FALSE),\"\")","v":""},{"$f":"IFERROR(VLOOKUP(IF(C280=\"\",B280&\"||\"&B280,C280&\"||\"&B280),Worktags!AR:AV,5,FALSE),\"\")","v":"All"}]
["1435 Deferred Tax Asset",{"$f":"Worktags!AL47","v":"1435"},null,{"$f":"IFERROR(VLOOKUP(B281,Worktags!AL:AO,2,FALSE),\"\")","v":"Deferred Tax Asset"},null,{"$f":"IFERROR(VLOOKUP(IF(C281=\"\",B281&\"||\"&B281,C281&\"||\"&B281),Worktags!AR:AV,5,FALSE),\"\")","v":"All"}]
["1435 Deferred Tax Asset",{"$f":"Worktags!AS40","v":"1435"},{"$f":"IF(Worktags!AQ40<>Worktags!AS40,Worktags!AQ40,\"\")","v":""},{"$f":"IFERROR(VLOOKUP(B282,Worktags!AL:AO,2,FALSE),\"\")","v":"Deferred Tax Asset"},{"$f":"IFERROR(VLOOKUP(C282,Worktags!O:T,2,FALSE),\"\")","v":""},{"$f":"IFERROR(VLOOKUP(IF(C282=\"\",B282&\"||\"&B282,C282&\"||\"&B282),Worktags!AR:AV,5,FALSE),\"\")","v":"All"}]
["1440 Valuation Allowance - DTA",{"$f":"Worktags!AL48","v":"1440"},null,{"$f":"IFERROR(VLOOKUP(B283,Worktags!AL:AO,2,FALSE),\"\")","v":"Valuation Allowance - DTA"},null,{"$f":"IFERROR(VLOOKUP(IF(C283=\"\",B283&\"||\"&B283,C283&\"||\"&B283),Worktags!AR:AV,5,FALSE),\"\")","v":"All"}]
["1440 Valuation Allowance - DTA",{"$f":"Worktags!AS41","v":"1440"},{"$f":"IF(Worktags!AQ41<>Worktags!AS41,Worktags!AQ41,\"\")","v":""},{"$f":"IFERROR(VLOOKUP(B284,Worktags!AL:AO,2,FALSE),\"\")","v":"Valuation Allowance - DTA"},{"$f":"IFERROR(VLOOKUP(C284,Worktags!O:T,2,FALSE),\"\")","v":""},{"$f":"IFERROR(VLOOKUP(IF(C284=\"\",B284&\"||\"&B284,C284&\"||\"&B284),Worktags!AR:AV,5,FALSE),\"\")","v":"All"}]
["1450 Retire Postretire Benefit Asset",{"$f":"Worktags!AL49","v":"1450"},null,{"$f":"IFERROR(VLOOKUP(B285,Worktags!AL:AO,2,FALSE),\"\")","v":"Retire Postretire Benefit Asset"},null,{"$f":"IFERROR(VLOOKUP(IF(C285=\"\",B285&\"||\"&B285,C285&\"||\"&B285),Worktags!AR:AV,5,FALSE),\"\")","v":"All"}]
["1450 Retire Postretire Benefit Asset",{"$f":"Worktags!AS42","v":"1450"},{"$f":"IF(Worktags!AQ42<>Worktags!AS42,Worktags!AQ42,\"\")","v":""},{"$f":"IFERROR(VLOOKUP(B286,Worktags!AL:AO,2,FALSE),\"\")","v":"Retire Postretire Benefit Asset"},{"$f":"IFERROR(VLOOKUP(C286,Worktags!O:T,2,FALSE),\"\")","v":""},{"$f":"IFERROR(VLOOKUP(IF(C286=\"\",B286&\"||\"&B286,C286&\"||\"&B286),Worktags!AR:AV,5,FALSE),\"\")","v":"All"}]
["1490 Clearing-Prepaid and Other",{"$f":"Worktags!AL50","v":"1490"},null,{"$f":"IFERROR(VLOOKUP(B287,Worktags!AL:AO,2,FALSE),\"\")","v":"Clearing-Prepaid and Other"},null,{"$f":"IFERROR(VLOOKUP(IF(C287=\"\",B287&\"||\"&B287,C287&\"||\"&B287),Worktags!AR:AV,5,FALSE),\"\")","v":"All"}]
["1490 Clearing-Prepaid and Other",{"$f":"Worktags!AS43","v":"1490"},{"$f":"IF(Worktags!AQ43<>Worktags!AS43,Worktags!AQ43,\"\")","v":""},{"$f":"IFERROR(VLOOKUP(B288,Worktags!AL:AO,2,FALSE),\"\")","v":"Clearing-Prepaid and Other"},{"$f":"IFERROR(VLOOKUP(C288,Worktags!O:T,2,FALSE),\"\")","v":""},{"$f":"IFERROR(VLOOKUP(IF(C288=\"\",B288&\"||\"&B288,C288&\"||\"&B288),Worktags!AR:AV,5,FALSE),\"\")","v":"All"}]
["1490_SC1490 Clearing-Prepaid and Other/Clearing-Prepaid and Other (Conversion Only)",{"$f":"Worktags!AS221","v":"1490"},{"$f":"IF(Worktags!AQ221<>Worktags!AS221,Worktags!AQ221,\"\")","v":"SC1490"},{"$f":"IFERROR(VLOOKUP(B289,Worktags!AL:AO,2,FALSE),\"\")","v":"Clearing-Prepaid and Other"},{"$f":"IFERROR(VLOOKUP(C289,Worktags!O:T,2,FALSE),\"\")","v":"Clearing-Prepaid and Other (Conversion Only)"},{"$f":"IFERROR(VLOOKUP(IF(C289=\"\",B289&\"||\"&B289,C289&\"||\"&B289),Worktags!AR:AV,5,FALSE),\"\")","v":"All"}]
["1500 Securities Held/Liquidation",{"$f":"Worktags!AL51","v":"1500"},null,{"$f":"IFERROR(VLOOKUP(B290,Worktags!AL:AO,2,FALSE),\"\")","v":"Securities Held/Liquidation"},null,{"$f":"IFERROR(VLOOKUP(IF(C290=\"\",B290&\"||\"&B290,C290&\"||\"&B290),Worktags!AR:AV,5,FALSE),\"\")","v":"JE_Gift|JE_Override"}]
["1500 Securities Held/Liquidation",{"$f":"Worktags!AS44","v":"1500"},{"$f":"IF(Worktags!AQ44<>Worktags!AS44,Worktags!AQ44,\"\")","v":""},{"$f":"IFERROR(VLOOKUP(B291,Worktags!AL:AO,2,FALSE),\"\")","v":"Securities Held/Liquidation"},{"$f":"IFERROR(VLOOKUP(C291,Worktags!O:T,2,FALSE),\"\")","v":""},{"$f":"IFERROR(VLOOKUP(IF(C291=\"\",B291&\"||\"&B291,C291&\"||\"&B291),Worktags!AR:AV,5,FALSE),\"\")","v":"JE_Gift|JE_Override"}]
["1510 Real Estate Held/Liquidation",{"$f":"Worktags!AL52","v":"1510"},null,{"$f":"IFERROR(VLOOKUP(B292,Worktags!AL:AO,2,FALSE),\"\")","v":"Real Estate Held/Liquidation"},null,{"$f":"IFERROR(VLOOKUP(IF(C292=\"\",B292&\"||\"&B292,C292&\"||\"&B292),Worktags!AR:AV,5,FALSE),\"\")","v":"JE_Gift|JE_Override"}]
["1510 Real Estate Held/Liquidation",{"$f":"Worktags!AS45","v":"1510"},{"$f":"IF(Worktags!AQ45<>Worktags!AS45,Worktags!AQ45,\"\")","v":""},{"$f":"IFERROR(VLOOKUP(B293,Worktags!AL:AO,2,FALSE),\"\")","v":"Real Estate Held/Liquidation"},{"$f":"IFERROR(VLOOKUP(C293,Worktags!O:T,2,FALSE),\"\")","v":""},{"$f":"IFERROR(VLOOKUP(IF(C293=\"\",B293&\"||\"&B293,C293&\"||\"&B293),Worktags!AR:AV,5,FALSE),\"\")","v":"JE_Gift|JE_Override"}]
["1520 Other Assets Held/Liquidation",{"$f":"Worktags!AL53","v":"1520"},null,{"$f":"IFERROR(VLOOKUP(B294,Worktags!AL:AO,2,FALSE),\"\")","v":"Other Assets Held/Liquidation"},null,{"$f":"IFERROR(VLOOKUP(IF(C294=\"\",B294&\"||\"&B294,C294&\"||\"&B294),Worktags!AR:AV,5,FALSE),\"\")","v":"JE_Gift|JE_Override"}]
["1520 Other Assets Held/Liquidation",{"$f":"Worktags!AS46","v":"1520"},{"$f":"IF(Worktags!AQ46<>Worktags!AS46,Worktags!AQ46,\"\")","v":""},{"$f":"IFERROR(VLOOKUP(B295,Worktags!AL:AO,2,FALSE),\"\")","v":"Other Assets Held/Liquidation"},{"$f":"IFERROR(VLOOKUP(C295,Worktags!O:T,2,FALSE),\"\")","v":""},{"$f":"IFERROR(VLOOKUP(IF(C295=\"\",B295&\"||\"&B295,C295&\"||\"&B295),Worktags!AR:AV,5,FALSE),\"\")","v":"JE_Gift|JE_Override"}]
["1590 Clearing-Assets Held/Liquidation",{"$f":"Worktags!AL54","v":"1590"},null,{"$f":"IFERROR(VLOOKUP(B296,Worktags!AL:AO,2,FALSE),\"\")","v":"Clearing-Assets Held/Liquidation"},null,{"$f":"IFERROR(VLOOKUP(IF(C296=\"\",B296&\"||\"&B296,C296&\"||\"&B296),Worktags!AR:AV,5,FALSE),\"\")","v":"JE_Gift|JE_Override"}]
["1590 Clearing-Assets Held/Liquidation",{"$f":"Worktags!AS47","v":"1590"},{"$f":"IF(Worktags!AQ47<>Worktags!AS47,Worktags!AQ47,\"\")","v":""},{"$f":"IFERROR(VLOOKUP(B297,Worktags!AL:AO,2,FALSE),\"\")","v":"Clearing-Assets Held/Liquidation"},{"$f":"IFERROR(VLOOKUP(C297,Worktags!O:T,2,FALSE),\"\")","v":""},{"$f":"IFERROR(VLOOKUP(IF(C297=\"\",B297&\"||\"&B297,C297&\"||\"&B297),Worktags!AR:AV,5,FALSE),\"\")","v":"JE_Gift|JE_Override"}]
["1599 Assets Held/Liquidation Reserve",{"$f":"Worktags!AL55","v":"1599"},null,{"$f":"IFERROR(VLOOKUP(B298,Worktags!AL:AO,2,FALSE),\"\")","v":"Assets Held/Liquidation Reserve"},null,{"$f":"IFERROR(VLOOKUP(IF(C298=\"\",B298&\"||\"&B298,C298&\"||\"&B298),Worktags!AR:AV,5,FALSE),\"\")","v":"JE_Gift|JE_Override"}]
["1599 Assets Held/Liquidation Reserve",{"$f":"Worktags!AS48","v":"1599"},{"$f":"IF(Worktags!AQ48<>Worktags!AS48,Worktags!AQ48,\"\")","v":""},{"$f":"IFERROR(VLOOKUP(B299,Worktags!AL:AO,2,FALSE),\"\")","v":"Assets Held/Liquidation Reserve"},{"$f":"IFERROR(VLOOKUP(C299,Worktags!O:T,2,FALSE),\"\")","v":""},{"$f":"IFERROR(VLOOKUP(IF(C299=\"\",B299&\"||\"&B299,C299&\"||\"&B299),Worktags!AR:AV,5,FALSE),\"\")","v":"JE_Gift|JE_Override"}]
["1600 Land",{"$f":"Worktags!AL56","v":"1600"},null,{"$f":"IFERROR(VLOOKUP(B300,Worktags!AL:AO,2,FALSE),\"\")","v":"Land"},null,{"$f":"IFERROR(VLOOKUP(IF(C300=\"\",B300&\"||\"&B300,C300&\"||\"&B300),Worktags!AR:AV,5,FALSE),\"\")","v":""}]
["1600_SC1600 Land/Land",{"$f":"Worktags!AS222","v":"1600"},{"$f":"IF(Worktags!AQ222<>Worktags!AS222,Worktags!AQ222,\"\")","v":"SC1600"},{"$f":"IFERROR(VLOOKUP(B301,Worktags!AL:AO,2,FALSE),\"\")","v":"Land"},{"$f":"IFERROR(VLOOKUP(C301,Worktags!O:T,2,FALSE),\"\")","v":"Land"},{"$f":"IFERROR(VLOOKUP(IF(C301=\"\",B301&\"||\"&B301,C301&\"||\"&B301),Worktags!AR:AV,5,FALSE),\"\")","v":"JE_PPE|JE_Override"}]
["1605 Buildings",{"$f":"Worktags!AL57","v":"1605"},null,{"$f":"IFERROR(VLOOKUP(B302,Worktags!AL:AO,2,FALSE),\"\")","v":"Buildings"},null,{"$f":"IFERROR(VLOOKUP(IF(C302=\"\",B302&\"||\"&B302,C302&\"||\"&B302),Worktags!AR:AV,5,FALSE),\"\")","v":""}]
["1605_SC1605 Buildings/Buildings",{"$f":"Worktags!AS223","v":"1605"},{"$f":"IF(Worktags!AQ223<>Worktags!AS223,Worktags!AQ223,\"\")","v":"SC1605"},{"$f":"IFERROR(VLOOKUP(B303,Worktags!AL:AO,2,FALSE),\"\")","v":"Buildings"},{"$f":"IFERROR(VLOOKUP(C303,Worktags!O:T,2,FALSE),\"\")","v":"Buildings"},{"$f":"IFERROR(VLOOKUP(IF(C303=\"\",B303&\"||\"&B303,C303&\"||\"&B303),Worktags!AR:AV,5,FALSE),\"\")","v":"JE_PPE|JE_Override"}]
["1610 Building Improvements",{"$f":"Worktags!AL58","v":"1610"},null,{"$f":"IFERROR(VLOOKUP(B304,Worktags!AL:AO,2,FALSE),\"\")","v":"Building Improvements"},null,{"$f":"IFERROR(VLOOKUP(IF(C304=\"\",B304&\"||\"&B304,C304&\"||\"&B304),Worktags!AR:AV,5,FALSE),\"\")","v":""}]
["1610_SC6702 Building Improvements/Building Construction and Improvements",{"$f":"Worktags!AS554","v":"1610"},{"$f":"IF(Worktags!AQ554<>Worktags!AS554,Worktags!AQ554,\"\")","v":"SC6702"},{"$f":"IFERROR(VLOOKUP(B305,Worktags!AL:AO,2,FALSE),\"\")","v":"Building Improvements"},{"$f":"IFERROR(VLOOKUP(C305,Worktags!O:T,2,FALSE),\"\")","v":"Building Construction and Improvements"},{"$f":"IFERROR(VLOOKUP(IF(C305=\"\",B305&\"||\"&B305,C305&\"||\"&B305),Worktags!AR:AV,5,FALSE),\"\")","v":"JE_PPE|JE_Override"}]
["1610_SC6704 Building Improvements/Building Materials - Finishing",{"$f":"Worktags!AS568","v":"1610"},{"$f":"IF(Worktags!AQ568<>Worktags!AS568,Worktags!AQ568,\"\")","v":"SC6704"},{"$f":"IFERROR(VLOOKUP(B306,Worktags!AL:AO,2,FALSE),\"\")","v":"Building Improvements"},{"$f":"IFERROR(VLOOKUP(C306,Worktags!O:T,2,FALSE),\"\")","v":"Building Materials - Finishing"},{"$f":"IFERROR(VLOOKUP(IF(C306=\"\",B306&\"||\"&B306,C306&\"||\"&B306),Worktags!AR:AV,5,FALSE),\"\")","v":"JE_PPE|JE_Override"}]
["1610_SC6705 Building Improvements/Building Materials - Raw",{"$f":"Worktags!AS575","v":"1610"},{"$f":"IF(Worktags!AQ575<>Worktags!AS575,Worktags!AQ575,\"\")","v":"SC6705"},{"$f":"IFERROR(VLOOKUP(B307,Worktags!AL:AO,2,FALSE),\"\")","v":"Building Improvements"},{"$f":"IFERROR(VLOOKUP(C307,Worktags!O:T,2,FALSE),\"\")","v":"Building Materials - Raw"},{"$f":"IFERROR(VLOOKUP(IF(C307=\"\",B307&\"||\"&B307,C307&\"||\"&B307),Worktags!AR:AV,5,FALSE),\"\")","v":"JE_PPE|JE_Override"}]
["1610_SC6706 Building Improvements/Electrical Devices",{"$f":"Worktags!AS582","v":"1610"},{"$f":"IF(Worktags!AQ582<>Worktags!AS582,Worktags!AQ582,\"\")","v":"SC6706"},{"$f":"IFERROR(VLOOKUP(B308,Worktags!AL:AO,2,FALSE),\"\")","v":"Building Improvements"},{"$f":"IFERROR(VLOOKUP(C308,Worktags!O:T,2,FALSE),\"\")","v":"Electrical Devices"},{"$f":"IFERROR(VLOOKUP(IF(C308=\"\",B308&\"||\"&B308,C308&\"||\"&B308),Worktags!AR:AV,5,FALSE),\"\")","v":"JE_PPE|JE_Override"}]
["1610_SC6708 Building Improvements/Fans/Furnaces",{"$f":"Worktags!AS594","v":"1610"},{"$f":"IF(Worktags!AQ594<>Worktags!AS594,Worktags!AQ594,\"\")","v":"SC6708"},{"$f":"IFERROR(VLOOKUP(B309,Worktags!AL:AO,2,FALSE),\"\")","v":"Building Improvements"},{"$f":"IFERROR(VLOOKUP(C309,Worktags!O:T,2,FALSE),\"\")","v":"Fans/Furnaces"},{"$f":"IFERROR(VLOOKUP(IF(C309=\"\",B309&\"||\"&B309,C309&\"||\"&B309),Worktags!AR:AV,5,FALSE),\"\")","v":"JE_PPE|JE_Override"}]
["1610_SC6709 Building Improvements/Flooring Materials",{"$f":"Worktags!AS601","v":"1610"},{"$f":"IF(Worktags!AQ601<>Worktags!AS601,Worktags!AQ601,\"\")","v":"SC6709"},{"$f":"IFERROR(VLOOKUP(B310,Worktags!AL:AO,2,FALSE),\"\")","v":"Building Improvements"},{"$f":"IFERROR(VLOOKUP(C310,Worktags!O:T,2,FALSE),\"\")","v":"Flooring Materials"},{"$f":"IFERROR(VLOOKUP(IF(C310=\"\",B310&\"||\"&B310,C310&\"||\"&B310),Worktags!AR:AV,5,FALSE),\"\")","v":"JE_PPE|JE_Override"}]
["1610_SC6713 Building Improvements/Industrial Fixtures",{"$f":"Worktags!AS624","v":"1610"},{"$f":"IF(Worktags!AQ624<>Worktags!AS624,Worktags!AQ624,\"\")","v":"SC6713"},{"$f":"IFERROR(VLOOKUP(B311,Worktags!AL:AO,2,FALSE),\"\")","v":"Building Improvements"},{"$f":"IFERROR(VLOOKUP(C311,Worktags!O:T,2,FALSE),\"\")","v":"Industrial Fixtures"},{"$f":"IFERROR(VLOOKUP(IF(C311=\"\",B311&\"||\"&B311,C311&\"||\"&B311),Worktags!AR:AV,5,FALSE),\"\")","v":"JE_PPE|JE_Override"}]
["1615 Other Improvements",{"$f":"Worktags!AL59","v":"1615"},null,{"$f":"IFERROR(VLOOKUP(B312,Worktags!AL:AO,2,FALSE),\"\")","v":"Other Improvements"},null,{"$f":"IFERROR(VLOOKUP(IF(C312=\"\",B312&\"||\"&B312,C312&\"||\"&B312),Worktags!AR:AV,5,FALSE),\"\")","v":""}]
["1615_SC1615 Other Improvements/Other Improvements",{"$f":"Worktags!AS226","v":"1615"},{"$f":"IF(Worktags!AQ226<>Worktags!AS226,Worktags!AQ226,\"\")","v":"SC1615"},{"$f":"IFERROR(VLOOKUP(B313,Worktags!AL:AO,2,FALSE),\"\")","v":"Other Improvements"},{"$f":"IFERROR(VLOOKUP(C313,Worktags!O:T,2,FALSE),\"\")","v":"Other Improvements"},{"$f":"IFERROR(VLOOKUP(IF(C313=\"\",B313&\"||\"&B313,C313&\"||\"&B313),Worktags!AR:AV,5,FALSE),\"\")","v":"JE_PPE|JE_Override"}]
["1615_SC6711 Other Improvements/Grounds and Landscaping Supplies",{"$f":"Worktags!AS615","v":"1615"},{"$f":"IF(Worktags!AQ615<>Worktags!AS615,Worktags!AQ615,\"\")","v":"SC6711"},{"$f":"IFERROR(VLOOKUP(B314,Worktags!AL:AO,2,FALSE),\"\")","v":"Other Improvements"},{"$f":"IFERROR(VLOOKUP(C314,Worktags!O:T,2,FALSE),\"\")","v":"Grounds and Landscaping Supplies"},{"$f":"IFERROR(VLOOKUP(IF(C314=\"\",B314&\"||\"&B314,C314&\"||\"&B314),Worktags!AR:AV,5,FALSE),\"\")","v":"JE_PPE|JE_Override"}]
["1620 Furnishings and Fixtures",{"$f":"Worktags!AL60","v":"1620"},null,{"$f":"IFERROR(VLOOKUP(B315,Worktags!AL:AO,2,FALSE),\"\")","v":"Furnishings and Fixtures"},null,{"$f":"IFERROR(VLOOKUP(IF(C315=\"\",B315&\"||\"&B315,C315&\"||\"&B315),Worktags!AR:AV,5,FALSE),\"\")","v":""}]
["1620_SC6703 Furnishings and Fixtures/Building Furnishings",{"$f":"Worktags!AS561","v":"1620"},{"$f":"IF(Worktags!AQ561<>Worktags!AS561,Worktags!AQ561,\"\")","v":"SC6703"},{"$f":"IFERROR(VLOOKUP(B316,Worktags!AL:AO,2,FALSE),\"\")","v":"Furnishings and Fixtures"},{"$f":"IFERROR(VLOOKUP(C316,Worktags!O:T,2,FALSE),\"\")","v":"Building Furnishings"},{"$f":"IFERROR(VLOOKUP(IF(C316=\"\",B316&\"||\"&B316,C316&\"||\"&B316),Worktags!AR:AV,5,FALSE),\"\")","v":"JE_PPE|JE_Override"}]
["1620_SC6710 Furnishings and Fixtures/Furnishing Accessories",{"$f":"Worktags!AS608","v":"1620"},{"$f":"IF(Worktags!AQ608<>Worktags!AS608,Worktags!AQ608,\"\")","v":"SC6710"},{"$f":"IFERROR(VLOOKUP(B317,Worktags!AL:AO,2,FALSE),\"\")","v":"Furnishings and Fixtures"},{"$f":"IFERROR(VLOOKUP(C317,Worktags!O:T,2,FALSE),\"\")","v":"Furnishing Accessories"},{"$f":"IFERROR(VLOOKUP(IF(C317=\"\",B317&\"||\"&B317,C317&\"||\"&B317),Worktags!AR:AV,5,FALSE),\"\")","v":"JE_PPE|JE_Override"}]
["1620_SC6714 Furnishings and Fixtures/Lighting Fixtures and Lamps",{"$f":"Worktags!AS631","v":"1620"},{"$f":"IF(Worktags!AQ631<>Worktags!AS631,Worktags!AQ631,\"\")","v":"SC6714"},{"$f":"IFERROR(VLOOKUP(B318,Worktags!AL:AO,2,FALSE),\"\")","v":"Furnishings and Fixtures"},{"$f":"IFERROR(VLOOKUP(C318,Worktags!O:T,2,FALSE),\"\")","v":"Lighting Fixtures and Lamps"},{"$f":"IFERROR(VLOOKUP(IF(C318=\"\",B318&\"||\"&B318,C318&\"||\"&B318),Worktags!AR:AV,5,FALSE),\"\")","v":"JE_PPE|JE_Override"}]
["1620_SC6715 Furnishings and Fixtures/Plumbing Fixtures",{"$f":"Worktags!AS638","v":"1620"},{"$f":"IF(Worktags!AQ638<>Worktags!AS638,Worktags!AQ638,\"\")","v":"SC6715"},{"$f":"IFERROR(VLOOKUP(B319,Worktags!AL:AO,2,FALSE),\"\")","v":"Furnishings and Fixtures"},{"$f":"IFERROR(VLOOKUP(C319,Worktags!O:T,2,FALSE),\"\")","v":"Plumbing Fixtures"},{"$f":"IFERROR(VLOOKUP(IF(C319=\"\",B319&\"||\"&B319,C319&\"||\"&B319),Worktags!AR:AV,5,FALSE),\"\")","v":"JE_PPE|JE_Override"}]
["1620_SC6718 Furnishings and Fixtures/Signage, Electronic",{"$f":"Worktags!AS651","v":"1620"},{"$f":"IF(Worktags!AQ651<>Worktags!AS651,Worktags!AQ651,\"\")","v":"SC6718"},{"$f":"IFERROR(VLOOKUP(B320,Worktags!AL:AO,2,FALSE),\"\")","v":"Furnishings and Fixtures"},{"$f":"IFERROR(VLOOKUP(C320,Worktags!O:T,2,FALSE),\"\")","v":"Signage, Electronic"},{"$f":"IFERROR(VLOOKUP(IF(C320=\"\",B320&\"||\"&B320,C320&\"||\"&B320),Worktags!AR:AV,5,FALSE),\"\")","v":"JE_PPE|JE_Override"}]
[{"$f":"IF(B321<>\"\",IF(C321<>\"\",B321&\"_\"&C321&\" \"&D321&\"/\"&E321,B321&\" \"&D321),\"\")","v":"1620_SC6719 Furnishings and Fixtures/Signage, Non-electronic"},{"$f":"Worktags!AS658","v":"1620"},{"$f":"IF(Worktags!AQ658<>Worktags!AS658,Worktags!AQ658,\"\")","v":"SC6719"},{"$f":"IFERROR(VLOOKUP(B321,Worktags!AL:AO,2,FALSE),\"\")","v":"Furnishings and Fixtures"},{"$f":"IFERROR(VLOOKUP(C321,Worktags!O:T,2,FALSE),\"\")","v":"Signage, Non-electronic"},{"$f":"IFERROR(VLOOKUP(IF(C321=\"\",B321&\"||\"&B321,C321&\"||\"&B321),Worktags!AR:AV,5,FALSE),\"\")","v":"JE_PPE|JE_Override"}]
["1620_SC6721 Furnishings and Fixtures/Stage and Studio Lighting (Asset Track)",{"$f":"Worktags!AS669","v":"1620"},{"$f":"IF(Worktags!AQ669<>Worktags!AS669,Worktags!AQ669,\"\")","v":"SC6721"},{"$f":"IFERROR(VLOOKUP(B322,Worktags!AL:AO,2,FALSE),\"\")","v":"Furnishings and Fixtures"},{"$f":"IFERROR(VLOOKUP(C322,Worktags!O:T,2,FALSE),\"\")","v":"Stage and Studio Lighting (Asset Track)"},{"$f":"IFERROR(VLOOKUP(IF(C322=\"\",B322&\"||\"&B322,C322&\"||\"&B322),Worktags!AR:AV,5,FALSE),\"\")","v":"JE_PPE|JE_Override"}]
["1620_SC6729 Furnishings and Fixtures/Warehouse Fixtures",{"$f":"Worktags!AS690","v":"1620"},{"$f":"IF(Worktags!AQ690<>Worktags!AS690,Worktags!AQ690,\"\")","v":"SC6729"},{"$f":"IFERROR(VLOOKUP(B323,Worktags!AL:AO,2,FALSE),\"\")","v":"Furnishings and Fixtures"},{"$f":"IFERROR(VLOOKUP(C323,Worktags!O:T,2,FALSE),\"\")","v":"Warehouse Fixtures"},{"$f":"IFERROR(VLOOKUP(IF(C323=\"\",B323&\"||\"&B323,C323&\"||\"&B323),Worktags!AR:AV,5,FALSE),\"\")","v":"JE_PPE|JE_Override"}]
["1620_SC6730 Furnishings and Fixtures/Window Treatments",{"$f":"Worktags!AS697","v":"1620"},{"$f":"IF(Worktags!AQ697<>Worktags!AS697,Worktags!AQ697,\"\")","v":"SC6730"},{"$f":"IFERROR(VLOOKUP(B324,Worktags!AL:AO,2,FALSE),\"\")","v":"Furnishings and Fixtures"},{"$f":"IFERROR(VLOOKUP(C324,Worktags!O:T,2,FALSE),\"\")","v":"Window Treatments"},{"$f":"IFERROR(VLOOKUP(IF(C324=\"\",B324&\"||\"&B324,C324&\"||\"&B324),Worktags!AR:AV,5,FALSE),\"\")","v":"JE_PPE|JE_Override"}]
["1625 Capital Equipment",{"$f":"Worktags!AL61","v":"1625"},null,{"$f":"IFERROR(VLOOKUP(B325,Worktags!AL:AO,2,FALSE),\"\")","v":"Capital Equipment"},null,{"$f":"IFERROR(VLOOKUP(IF(C325=\"\",B325&\"||\"&B325,C325&\"||\"&B325),Worktags!AR:AV,5,FALSE),\"\")","v":""}]
["1625_SC6901 Capital Equipment/Art Equipment",{"$f":"Worktags!AS711","v":"1625"},{"$f":"IF(Worktags!AQ711<>Worktags!AS711,Worktags!AQ711,\"\")","v":"SC6901"},{"$f":"IFERROR(VLOOKUP(B326,Worktags!AL:AO,2,FALSE),\"\")","v":"Capital Equipment"},{"$f":"IFERROR(VLOOKUP(C326,Worktags!O:T,2,FALSE),\"\")","v":"Art Equipment"},{"$f":"IFERROR(VLOOKUP(IF(C326=\"\",B326&\"||\"&B326,C326&\"||\"&B326),Worktags!AR:AV,5,FALSE),\"\")","v":"JE_PPE|JE_Override"}]
["1625_SC6902 Capital Equipment/Athletic Equipment",{"$f":"Worktags!AS718","v":"1625"},{"$f":"IF(Worktags!AQ718<>Worktags!AS718,Worktags!AQ718,\"\")","v":"SC6902"},{"$f":"IFERROR(VLOOKUP(B327,Worktags!AL:AO,2,FALSE),\"\")","v":"Capital Equipment"},{"$f":"IFERROR(VLOOKUP(C327,Worktags!O:T,2,FALSE),\"\")","v":"Athletic Equipment"},{"$f":"IFERROR(VLOOKUP(IF(C327=\"\",B327&\"||\"&B327,C327&\"||\"&B327),Worktags!AR:AV,5,FALSE),\"\")","v":"JE_PPE|JE_Override"}]
["1625_SC6903 Capital Equipment/Audio Visual Equipment (Asset Track)",{"$f":"Worktags!AS725","v":"1625"},{"$f":"IF(Worktags!AQ725<>Worktags!AS725,Worktags!AQ725,\"\")","v":"SC6903"},{"$f":"IFERROR(VLOOKUP(B328,Worktags!AL:AO,2,FALSE),\"\")","v":"Capital Equipment"},{"$f":"IFERROR(VLOOKUP(C328,Worktags!O:T,2,FALSE),\"\")","v":"Audio Visual Equipment (Asset Track)"},{"$f":"IFERROR(VLOOKUP(IF(C328=\"\",B328&\"||\"&B328,C328&\"||\"&B328),Worktags!AR:AV,5,FALSE),\"\")","v":"JE_PPE|JE_Override"}]
["1625_SC6904 Capital Equipment/Communication Devices (Asset Track)",{"$f":"Worktags!AS732","v":"1625"},{"$f":"IF(Worktags!AQ732<>Worktags!AS732,Worktags!AQ732,\"\")","v":"SC6904"},{"$f":"IFERROR(VLOOKUP(B329,Worktags!AL:AO,2,FALSE),\"\")","v":"Capital Equipment"},{"$f":"IFERROR(VLOOKUP(C329,Worktags!O:T,2,FALSE),\"\")","v":"Communication Devices (Asset Track)"},{"$f":"IFERROR(VLOOKUP(IF(C329=\"\",B329&\"||\"&B329,C329&\"||\"&B329),Worktags!AR:AV,5,FALSE),\"\")","v":"JE_PPE|JE_Override"}]
["1625_SC6905 Capital Equipment/Computer Hardware (Asset Track)",{"$f":"Worktags!AS739","v":"1625"},{"$f":"IF(Worktags!AQ739<>Worktags!AS739,Worktags!AQ739,\"\")","v":"SC6905"},{"$f":"IFERROR(VLOOKUP(B330,Worktags!AL:AO,2,FALSE),\"\")","v":"Capital Equipment"},{"$f":"IFERROR(VLOOKUP(C330,Worktags!O:T,2,FALSE),\"\")","v":"Computer Hardware (Asset Track)"},{"$f":"IFERROR(VLOOKUP(IF(C330=\"\",B330&\"||\"&B330,C330&\"||\"&B330),Worktags!AR:AV,5,FALSE),\"\")","v":"JE_PPE|JE_Override"}]
["1625_SC6906 Capital Equipment/Data Network Equipment (Asset Track)",{"$f":"Worktags!AS746","v":"1625"},{"$f":"IF(Worktags!AQ746<>Worktags!AS746,Worktags!AQ746,\"\")","v":"SC6906"},{"$f":"IFERROR(VLOOKUP(B331,Worktags!AL:AO,2,FALSE),\"\")","v":"Capital Equipment"},{"$f":"IFERROR(VLOOKUP(C331,Worktags!O:T,2,FALSE),\"\")","v":"Data Network Equipment (Asset Track)"},{"$f":"IFERROR(VLOOKUP(IF(C331=\"\",B331&\"||\"&B331,C331&\"||\"&B331),Worktags!AR:AV,5,FALSE),\"\")","v":"JE_PPE|JE_Override"}]
["1625_SC6907 Capital Equipment/Equipment (not otherwise specified) (Asset Track)",{"$f":"Worktags!AS753","v":"1625"},{"$f":"IF(Worktags!AQ753<>Worktags!AS753,Worktags!AQ753,\"\")","v":"SC6907"},{"$f":"IFERROR(VLOOKUP(B332,Worktags!AL:AO,2,FALSE),\"\")","v":"Capital Equipment"},{"$f":"IFERROR(VLOOKUP(C332,Worktags!O:T,2,FALSE),\"\")","v":"Equipment (not otherwise specified) (Asset Track)"},{"$f":"IFERROR(VLOOKUP(IF(C332=\"\",B332&\"||\"&B332,C332&\"||\"&B332),Worktags!AR:AV,5,FALSE),\"\")","v":"JE_PPE|JE_Override"}]
["1625_SC6909 Capital Equipment/Firearms",{"$f":"Worktags!AS762","v":"1625"},{"$f":"IF(Worktags!AQ762<>Worktags!AS762,Worktags!AQ762,\"\")","v":"SC6909"},{"$f":"IFERROR(VLOOKUP(B333,Worktags!AL:AO,2,FALSE),\"\")","v":"Capital Equipment"},{"$f":"IFERROR(VLOOKUP(C333,Worktags!O:T,2,FALSE),\"\")","v":"Firearms"},{"$f":"IFERROR(VLOOKUP(IF(C333=\"\",B333&\"||\"&B333,C333&\"||\"&B333),Worktags!AR:AV,5,FALSE),\"\")","v":"JE_PPE|JE_Override"}]
["1625_SC6910 Capital Equipment/Food Service Equipment",{"$f":"Worktags!AS767","v":"1625"},{"$f":"IF(Worktags!AQ767<>Worktags!AS767,Worktags!AQ767,\"\")","v":"SC6910"},{"$f":"IFERROR(VLOOKUP(B334,Worktags!AL:AO,2,FALSE),\"\")","v":"Capital Equipment"},{"$f":"IFERROR(VLOOKUP(C334,Worktags!O:T,2,FALSE),\"\")","v":"Food Service Equipment"},{"$f":"IFERROR(VLOOKUP(IF(C334=\"\",B334&\"||\"&B334,C334&\"||\"&B334),Worktags!AR:AV,5,FALSE),\"\")","v":"JE_PPE|JE_Override"}]
["1625_SC6911 Capital Equipment/Grants Capital Equipment",{"$f":"Worktags!AS774","v":"1625"},{"$f":"IF(Worktags!AQ774<>Worktags!AS774,Worktags!AQ774,\"\")","v":"SC6911"},{"$f":"IFERROR(VLOOKUP(B335,Worktags!AL:AO,2,FALSE),\"\")","v":"Capital Equipment"},{"$f":"IFERROR(VLOOKUP(C335,Worktags!O:T,2,FALSE),\"\")","v":"Grants Capital Equipment"},{"$f":"IFERROR(VLOOKUP(IF(C335=\"\",B335&\"||\"&B335,C335&\"||\"&B335),Worktags!AR:AV,5,FALSE),\"\")","v":"JE_PPE|JE_Override"}]
["1625_SC6913 Capital Equipment/Grounds Equipment",{"$f":"Worktags!AS781","v":"1625"},{"$f":"IF(Worktags!AQ781<>Worktags!AS781,Worktags!AQ781,\"\")","v":"SC6913"},{"$f":"IFERROR(VLOOKUP(B336,Worktags!AL:AO,2,FALSE),\"\")","v":"Capital Equipment"},{"$f":"IFERROR(VLOOKUP(C336,Worktags!O:T,2,FALSE),\"\")","v":"Grounds Equipment"},{"$f":"IFERROR(VLOOKUP(IF(C336=\"\",B336&\"||\"&B336,C336&\"||\"&B336),Worktags!AR:AV,5,FALSE),\"\")","v":"JE_PPE|JE_Override"}]
["1625_SC6914 Capital Equipment/Industrial Equipment",{"$f":"Worktags!AS786","v":"1625"},{"$f":"IF(Worktags!AQ786<>Worktags!AS786,Worktags!AQ786,\"\")","v":"SC6914"},{"$f":"IFERROR(VLOOKUP(B337,Worktags!AL:AO,2,FALSE),\"\")","v":"Capital Equipment"},{"$f":"IFERROR(VLOOKUP(C337,Worktags!O:T,2,FALSE),\"\")","v":"Industrial Equipment"},{"$f":"IFERROR(VLOOKUP(IF(C337=\"\",B337&\"||\"&B337,C337&\"||\"&B337),Worktags!AR:AV,5,FALSE),\"\")","v":"JE_PPE|JE_Override"}]
["1625_SC6915 Capital Equipment/Janitorial Equipment",{"$f":"Worktags!AS793","v":"1625"},{"$f":"IF(Worktags!AQ793<>Worktags!AS793,Worktags!AQ793,\"\")","v":"SC6915"},{"$f":"IFERROR(VLOOKUP(B338,Worktags!AL:AO,2,FALSE),\"\")","v":"Capital Equipment"},{"$f":"IFERROR(VLOOKUP(C338,Worktags!O:T,2,FALSE),\"\")","v":"Janitorial Equipment"},{"$f":"IFERROR(VLOOKUP(IF(C338=\"\",B338&\"||\"&B338,C338&\"||\"&B338),Worktags!AR:AV,5,FALSE),\"\")","v":"JE_PPE|JE_Override"}]
["1625_SC6917 Capital Equipment/Laundry Equipment",{"$f":"Worktags!AS802","v":"1625"},{"$f":"IF(Worktags!AQ802<>Worktags!AS802,Worktags!AQ802,\"\")","v":"SC6917"},{"$f":"IFERROR(VLOOKUP(B339,Worktags!AL:AO,2,FALSE),\"\")","v":"Capital Equipment"},{"$f":"IFERROR(VLOOKUP(C339,Worktags!O:T,2,FALSE),\"\")","v":"Laundry Equipment"},{"$f":"IFERROR(VLOOKUP(IF(C339=\"\",B339&\"||\"&B339,C339&\"||\"&B339),Worktags!AR:AV,5,FALSE),\"\")","v":"JE_PPE|JE_Override"}]
["1625_SC6921 Capital Equipment/Medical Equipment",{"$f":"Worktags!AS821","v":"1625"},{"$f":"IF(Worktags!AQ821<>Worktags!AS821,Worktags!AQ821,\"\")","v":"SC6921"},{"$f":"IFERROR(VLOOKUP(B340,Worktags!AL:AO,2,FALSE),\"\")","v":"Capital Equipment"},{"$f":"IFERROR(VLOOKUP(C340,Worktags!O:T,2,FALSE),\"\")","v":"Medical Equipment"},{"$f":"IFERROR(VLOOKUP(IF(C340=\"\",B340&\"||\"&B340,C340&\"||\"&B340),Worktags!AR:AV,5,FALSE),\"\")","v":"JE_PPE|JE_Override"}]
["1625_SC6923 Capital Equipment/Musical Instruments",{"$f":"Worktags!AS830","v":"1625"},{"$f":"IF(Worktags!AQ830<>Worktags!AS830,Worktags!AQ830,\"\")","v":"SC6923"},{"$f":"IFERROR(VLOOKUP(B341,Worktags!AL:AO,2,FALSE),\"\")","v":"Capital Equipment"},{"$f":"IFERROR(VLOOKUP(C341,Worktags!O:T,2,FALSE),\"\")","v":"Musical Instruments"},{"$f":"IFERROR(VLOOKUP(IF(C341=\"\",B341&\"||\"&B341,C341&\"||\"&B341),Worktags!AR:AV,5,FALSE),\"\")","v":"JE_PPE|JE_Override"}]
["1625_SC6924 Capital Equipment/Office Equipment (Asset Track)",{"$f":"Worktags!AS835","v":"1625"},{"$f":"IF(Worktags!AQ835<>Worktags!AS835,Worktags!AQ835,\"\")","v":"SC6924"},{"$f":"IFERROR(VLOOKUP(B342,Worktags!AL:AO,2,FALSE),\"\")","v":"Capital Equipment"},{"$f":"IFERROR(VLOOKUP(C342,Worktags!O:T,2,FALSE),\"\")","v":"Office Equipment (Asset Track)"},{"$f":"IFERROR(VLOOKUP(IF(C342=\"\",B342&\"||\"&B342,C342&\"||\"&B342),Worktags!AR:AV,5,FALSE),\"\")","v":"JE_PPE|JE_Override"}]
["1625_SC6926 Capital Equipment/Photography Equipment",{"$f":"Worktags!AS844","v":"1625"},{"$f":"IF(Worktags!AQ844<>Worktags!AS844,Worktags!AQ844,\"\")","v":"SC6926"},{"$f":"IFERROR(VLOOKUP(B343,Worktags!AL:AO,2,FALSE),\"\")","v":"Capital Equipment"},{"$f":"IFERROR(VLOOKUP(C343,Worktags!O:T,2,FALSE),\"\")","v":"Photography Equipment"},{"$f":"IFERROR(VLOOKUP(IF(C343=\"\",B343&\"||\"&B343,C343&\"||\"&B343),Worktags!AR:AV,5,FALSE),\"\")","v":"JE_PPE|JE_Override"}]
["1625_SC6927 Capital Equipment/Portable Structures",{"$f":"Worktags!AS849","v":"1625"},{"$f":"IF(Worktags!AQ849<>Worktags!AS849,Worktags!AQ849,\"\")","v":"SC6927"},{"$f":"IFERROR(VLOOKUP(B344,Worktags!AL:AO,2,FALSE),\"\")","v":"Capital Equipment"},{"$f":"IFERROR(VLOOKUP(C344,Worktags!O:T,2,FALSE),\"\")","v":"Portable Structures"},{"$f":"IFERROR(VLOOKUP(IF(C344=\"\",B344&\"||\"&B344,C344&\"||\"&B344),Worktags!AR:AV,5,FALSE),\"\")","v":"JE_PPE|JE_Override"}]
["1625_SC6928 Capital Equipment/Printing Equipment",{"$f":"Worktags!AS856","v":"1625"},{"$f":"IF(Worktags!AQ856<>Worktags!AS856,Worktags!AQ856,\"\")","v":"SC6928"},{"$f":"IFERROR(VLOOKUP(B345,Worktags!AL:AO,2,FALSE),\"\")","v":"Capital Equipment"},{"$f":"IFERROR(VLOOKUP(C345,Worktags!O:T,2,FALSE),\"\")","v":"Printing Equipment"},{"$f":"IFERROR(VLOOKUP(IF(C345=\"\",B345&\"||\"&B345,C345&\"||\"&B345),Worktags!AR:AV,5,FALSE),\"\")","v":"JE_PPE|JE_Override"}]
["1625_SC6929 Capital Equipment/Scientific and Engineering Equipment",{"$f":"Worktags!AS863","v":"1625"},{"$f":"IF(Worktags!AQ863<>Worktags!AS863,Worktags!AQ863,\"\")","v":"SC6929"},{"$f":"IFERROR(VLOOKUP(B346,Worktags!AL:AO,2,FALSE),\"\")","v":"Capital Equipment"},{"$f":"IFERROR(VLOOKUP(C346,Worktags!O:T,2,FALSE),\"\")","v":"Scientific and Engineering Equipment"},{"$f":"IFERROR(VLOOKUP(IF(C346=\"\",B346&\"||\"&B346,C346&\"||\"&B346),Worktags!AR:AV,5,FALSE),\"\")","v":"JE_PPE|JE_Override"}]
["1625_SC6931 Capital Equipment/Security Equipment (Asset Track)",{"$f":"Worktags!AS872","v":"1625"},{"$f":"IF(Worktags!AQ872<>Worktags!AS872,Worktags!AQ872,\"\")","v":"SC6931"},{"$f":"IFERROR(VLOOKUP(B347,Worktags!AL:AO,2,FALSE),\"\")","v":"Capital Equipment"},{"$f":"IFERROR(VLOOKUP(C347,Worktags!O:T,2,FALSE),\"\")","v":"Security Equipment (Asset Track)"},{"$f":"IFERROR(VLOOKUP(IF(C347=\"\",B347&\"||\"&B347,C347&\"||\"&B347),Worktags!AR:AV,5,FALSE),\"\")","v":"JE_PPE|JE_Override"}]
["1625_SC6932 Capital Equipment/Small Appliances",{"$f":"Worktags!AS879","v":"1625"},{"$f":"IF(Worktags!AQ879<>Worktags!AS879,Worktags!AQ879,\"\")","v":"SC6932"},{"$f":"IFERROR(VLOOKUP(B348,Worktags!AL:AO,2,FALSE),\"\")","v":"Capital Equipment"},{"$f":"IFERROR(VLOOKUP(C348,Worktags!O:T,2,FALSE),\"\")","v":"Small Appliances"},{"$f":"IFERROR(VLOOKUP(IF(C348=\"\",B348&\"||\"&B348,C348&\"||\"&B348),Worktags!AR:AV,5,FALSE),\"\")","v":"JE_PPE|JE_Override"}]
["1625_SC6935 Capital Equipment/Telecom Equipment",{"$f":"Worktags!AS893","v":"1625"},{"$f":"IF(Worktags!AQ893<>Worktags!AS893,Worktags!AQ893,\"\")","v":"SC6935"},{"$f":"IFERROR(VLOOKUP(B349,Worktags!AL:AO,2,FALSE),\"\")","v":"Capital Equipment"},{"$f":"IFERROR(VLOOKUP(C349,Worktags!O:T,2,FALSE),\"\")","v":"Telecom Equipment"},{"$f":"IFERROR(VLOOKUP(IF(C349=\"\",B349&\"||\"&B349,C349&\"||\"&B349),Worktags!AR:AV,5,FALSE),\"\")","v":"JE_PPE|JE_Override"}]
["1625_SC6938 Capital Equipment/Vehicles, Off-Road",{"$f":"Worktags!AS907","v":"1625"},{"$f":"IF(Worktags!AQ907<>Worktags!AS907,Worktags!AQ907,\"\")","v":"SC6938"},{"$f":"IFERROR(VLOOKUP(B350,Worktags!AL:AO,2,FALSE),\"\")","v":"Capital Equipment"},{"$f":"IFERROR(VLOOKUP(C350,Worktags!O:T,2,FALSE),\"\")","v":"Vehicles, Off-Road"},{"$f":"IFERROR(VLOOKUP(IF(C350=\"\",B350&\"||\"&B350,C350&\"||\"&B350),Worktags!AR:AV,5,FALSE),\"\")","v":"JE_PPE|JE_Override"}]
["1625_SC6939 Capital Equipment/Warehouse Equipment",{"$f":"Worktags!AS912","v":"1625"},{"$f":"IF(Worktags!AQ912<>Worktags!AS912,Worktags!AQ912,\"\")","v":"SC6939"},{"$f":"IFERROR(VLOOKUP(B351,Worktags!AL:AO,2,FALSE),\"\")","v":"Capital Equipment"},{"$f":"IFERROR(VLOOKUP(C351,Worktags!O:T,2,FALSE),\"\")","v":"Warehouse Equipment"},{"$f":"IFERROR(VLOOKUP(IF(C351=\"\",B351&\"||\"&B351,C351&\"||\"&B351),Worktags!AR:AV,5,FALSE),\"\")","v":"JE_PPE|JE_Override"}]
["1630 Vehicles",{"$f":"Worktags!AL62","v":"1630"},null,{"$f":"IFERROR(VLOOKUP(B352,Worktags!AL:AO,2,FALSE),\"\")","v":"Vehicles"},null,{"$f":"IFERROR(VLOOKUP(IF(C352=\"\",B352&\"||\"&B352,C352&\"||\"&B352),Worktags!AR:AV,5,FALSE),\"\")","v":""}]
["1630_SC6937 Vehicles/Vehicles, Motor",{"$f":"Worktags!AS902","v":"1630"},{"$f":"IF(Worktags!AQ902<>Worktags!AS902,Worktags!AQ902,\"\")","v":"SC6937"},{"$f":"IFERROR(VLOOKUP(B353,Worktags!AL:AO,2,FALSE),\"\")","v":"Vehicles"},{"$f":"IFERROR(VLOOKUP(C353,Worktags!O:T,2,FALSE),\"\")","v":"Vehicles, Motor"},{"$f":"IFERROR(VLOOKUP(IF(C353=\"\",B353&\"||\"&B353,C353&\"||\"&B353),Worktags!AR:AV,5,FALSE),\"\")","v":"JE_PPE|JE_Override"}]
["1632 Library Content",{"$f":"Worktags!AL63","v":"1632"},null,{"$f":"IFERROR(VLOOKUP(B354,Worktags!AL:AO,2,FALSE),\"\")","v":"Library Content"},null,{"$f":"IFERROR(VLOOKUP(IF(C354=\"\",B354&\"||\"&B354,C354&\"||\"&B354),Worktags!AR:AV,5,FALSE),\"\")","v":""}]
["1632_SC6918 Library Content/Library Content",{"$f":"Worktags!AS809","v":"1632"},{"$f":"IF(Worktags!AQ809<>Worktags!AS809,Worktags!AQ809,\"\")","v":"SC6918"},{"$f":"IFERROR(VLOOKUP(B355,Worktags!AL:AO,2,FALSE),\"\")","v":"Library Content"},{"$f":"IFERROR(VLOOKUP(C355,Worktags!O:T,2,FALSE),\"\")","v":"Library Content"},{"$f":"IFERROR(VLOOKUP(IF(C355=\"\",B355&\"||\"&B355,C355&\"||\"&B355),Worktags!AR:AV,5,FALSE),\"\")","v":"JE_PPE|JE_Override"}]
["1635 Misc Capital Assets",{"$f":"Worktags!AL64","v":"1635"},null,{"$f":"IFERROR(VLOOKUP(B356,Worktags!AL:AO,2,FALSE),\"\")","v":"Misc Capital Assets"},null,{"$f":"IFERROR(VLOOKUP(IF(C356=\"\",B356&\"||\"&B356,C356&\"||\"&B356),Worktags!AR:AV,5,FALSE),\"\")","v":""}]
["1635_SC1635 Misc Capital Assets/Misc Capital Assets",{"$f":"Worktags!AS227","v":"1635"},{"$f":"IF(Worktags!AQ227<>Worktags!AS227,Worktags!AQ227,\"\")","v":"SC1635"},{"$f":"IFERROR(VLOOKUP(B357,Worktags!AL:AO,2,FALSE),\"\")","v":"Misc Capital Assets"},{"$f":"IFERROR(VLOOKUP(C357,Worktags!O:T,2,FALSE),\"\")","v":"Misc Capital Assets"},{"$f":"IFERROR(VLOOKUP(IF(C357=\"\",B357&\"||\"&B357,C357&\"||\"&B357),Worktags!AR:AV,5,FALSE),\"\")","v":"JE_PPE|JE_Override"}]
["1635_SC6701 Misc Capital Assets/Building Access Supplies",{"$f":"Worktags!AS547","v":"1635"},{"$f":"IF(Worktags!AQ547<>Worktags!AS547,Worktags!AQ547,\"\")","v":"SC6701"},{"$f":"IFERROR(VLOOKUP(B358,Worktags!AL:AO,2,FALSE),\"\")","v":"Misc Capital Assets"},{"$f":"IFERROR(VLOOKUP(C358,Worktags!O:T,2,FALSE),\"\")","v":"Building Access Supplies"},{"$f":"IFERROR(VLOOKUP(IF(C358=\"\",B358&\"||\"&B358,C358&\"||\"&B358),Worktags!AR:AV,5,FALSE),\"\")","v":"JE_PPE|JE_Override"}]
["1637 Software",{"$f":"Worktags!AL65","v":"1637"},null,{"$f":"IFERROR(VLOOKUP(B359,Worktags!AL:AO,2,FALSE),\"\")","v":"Software"},null,{"$f":"IFERROR(VLOOKUP(IF(C359=\"\",B359&\"||\"&B359,C359&\"||\"&B359),Worktags!AR:AV,5,FALSE),\"\")","v":""}]
["1637_SC6933 Software/Software",{"$f":"Worktags!AS886","v":"1637"},{"$f":"IF(Worktags!AQ886<>Worktags!AS886,Worktags!AQ886,\"\")","v":"SC6933"},{"$f":"IFERROR(VLOOKUP(B360,Worktags!AL:AO,2,FALSE),\"\")","v":"Software"},{"$f":"IFERROR(VLOOKUP(C360,Worktags!O:T,2,FALSE),\"\")","v":"Software"},{"$f":"IFERROR(VLOOKUP(IF(C360=\"\",B360&\"||\"&B360,C360&\"||\"&B360),Worktags!AR:AV,5,FALSE),\"\")","v":"JE_PPE|JE_Override"}]
["1638 Media",{"$f":"Worktags!AL66","v":"1638"},null,{"$f":"IFERROR(VLOOKUP(B361,Worktags!AL:AO,2,FALSE),\"\")","v":"Media"},null,{"$f":"IFERROR(VLOOKUP(IF(C361=\"\",B361&\"||\"&B361,C361&\"||\"&B361),Worktags!AR:AV,5,FALSE),\"\")","v":""}]
["1638_SC6920 Media/Media Content",{"$f":"Worktags!AS816","v":"1638"},{"$f":"IF(Worktags!AQ816<>Worktags!AS816,Worktags!AQ816,\"\")","v":"SC6920"},{"$f":"IFERROR(VLOOKUP(B362,Worktags!AL:AO,2,FALSE),\"\")","v":"Media"},{"$f":"IFERROR(VLOOKUP(C362,Worktags!O:T,2,FALSE),\"\")","v":"Media Content"},{"$f":"IFERROR(VLOOKUP(IF(C362=\"\",B362&\"||\"&B362,C362&\"||\"&B362),Worktags!AR:AV,5,FALSE),\"\")","v":"JE_PPE|JE_Override"}]
["1650 Construction in Progress",{"$f":"Worktags!AL67","v":"1650"},null,{"$f":"IFERROR(VLOOKUP(B363,Worktags!AL:AO,2,FALSE),\"\")","v":"Construction in Progress"},null,{"$f":"IFERROR(VLOOKUP(IF(C363=\"\",B363&\"||\"&B363,C363&\"||\"&B363),Worktags!AR:AV,5,FALSE),\"\")","v":"JE_PPE|JE_Override"}]
["1650 Construction in Progress",{"$f":"Worktags!AS49","v":"1650"},{"$f":"IF(Worktags!AQ49<>Worktags!AS49,Worktags!AQ49,\"\")","v":""},{"$f":"IFERROR(VLOOKUP(B364,Worktags!AL:AO,2,FALSE),\"\")","v":"Construction in Progress"},{"$f":"IFERROR(VLOOKUP(C364,Worktags!O:T,2,FALSE),\"\")","v":""},{"$f":"IFERROR(VLOOKUP(IF(C364=\"\",B364&\"||\"&B364,C364&\"||\"&B364),Worktags!AR:AV,5,FALSE),\"\")","v":"JE_PPE|JE_Override"}]
["1650_SC6106 Construction in Progress/Audio Visual Supplies",{"$f":"Worktags!AS311","v":"1650"},{"$f":"IF(Worktags!AQ311<>Worktags!AS311,Worktags!AQ311,\"\")","v":"SC6106"},{"$f":"IFERROR(VLOOKUP(B365,Worktags!AL:AO,2,FALSE),\"\")","v":"Construction in Progress"},{"$f":"IFERROR(VLOOKUP(C365,Worktags!O:T,2,FALSE),\"\")","v":"Audio Visual Supplies"},{"$f":"IFERROR(VLOOKUP(IF(C365=\"\",B365&\"||\"&B365,C365&\"||\"&B365),Worktags!AR:AV,5,FALSE),\"\")","v":"JE_PPE|JE_Override"}]
["1650_SC6107 Construction in Progress/Clothing",{"$f":"Worktags!AS316","v":"1650"},{"$f":"IF(Worktags!AQ316<>Worktags!AS316,Worktags!AQ316,\"\")","v":"SC6107"},{"$f":"IFERROR(VLOOKUP(B366,Worktags!AL:AO,2,FALSE),\"\")","v":"Construction in Progress"},{"$f":"IFERROR(VLOOKUP(C366,Worktags!O:T,2,FALSE),\"\")","v":"Clothing"},{"$f":"IFERROR(VLOOKUP(IF(C366=\"\",B366&\"||\"&B366,C366&\"||\"&B366),Worktags!AR:AV,5,FALSE),\"\")","v":"JE_PPE|JE_Override"}]
["1650_SC6108 Construction in Progress/Data Network Supplies",{"$f":"Worktags!AS320","v":"1650"},{"$f":"IF(Worktags!AQ320<>Worktags!AS320,Worktags!AQ320,\"\")","v":"SC6108"},{"$f":"IFERROR(VLOOKUP(B367,Worktags!AL:AO,2,FALSE),\"\")","v":"Construction in Progress"},{"$f":"IFERROR(VLOOKUP(C367,Worktags!O:T,2,FALSE),\"\")","v":"Data Network Supplies"},{"$f":"IFERROR(VLOOKUP(IF(C367=\"\",B367&\"||\"&B367,C367&\"||\"&B367),Worktags!AR:AV,5,FALSE),\"\")","v":"JE_PPE|JE_Override"}]
["1650_SC6110 Construction in Progress/Food and Beverages",{"$f":"Worktags!AS327","v":"1650"},{"$f":"IF(Worktags!AQ327<>Worktags!AS327,Worktags!AQ327,\"\")","v":"SC6110"},{"$f":"IFERROR(VLOOKUP(B368,Worktags!AL:AO,2,FALSE),\"\")","v":"Construction in Progress"},{"$f":"IFERROR(VLOOKUP(C368,Worktags!O:T,2,FALSE),\"\")","v":"Food and Beverages"},{"$f":"IFERROR(VLOOKUP(IF(C368=\"\",B368&\"||\"&B368,C368&\"||\"&B368),Worktags!AR:AV,5,FALSE),\"\")","v":"JE_PPE|JE_Override"}]
["1650_SC6111 Construction in Progress/Food Service Disposables",{"$f":"Worktags!AS331","v":"1650"},{"$f":"IF(Worktags!AQ331<>Worktags!AS331,Worktags!AQ331,\"\")","v":"SC6111"},{"$f":"IFERROR(VLOOKUP(B369,Worktags!AL:AO,2,FALSE),\"\")","v":"Construction in Progress"},{"$f":"IFERROR(VLOOKUP(C369,Worktags!O:T,2,FALSE),\"\")","v":"Food Service Disposables"},{"$f":"IFERROR(VLOOKUP(IF(C369=\"\",B369&\"||\"&B369,C369&\"||\"&B369),Worktags!AR:AV,5,FALSE),\"\")","v":"JE_PPE|JE_Override"}]
["1650_SC6114 Construction in Progress/Hazardous Chemicals",{"$f":"Worktags!AS339","v":"1650"},{"$f":"IF(Worktags!AQ339<>Worktags!AS339,Worktags!AQ339,\"\")","v":"SC6114"},{"$f":"IFERROR(VLOOKUP(B370,Worktags!AL:AO,2,FALSE),\"\")","v":"Construction in Progress"},{"$f":"IFERROR(VLOOKUP(C370,Worktags!O:T,2,FALSE),\"\")","v":"Hazardous Chemicals"},{"$f":"IFERROR(VLOOKUP(IF(C370=\"\",B370&\"||\"&B370,C370&\"||\"&B370),Worktags!AR:AV,5,FALSE),\"\")","v":"JE_PPE|JE_Override"}]
["1650_SC6119 Construction in Progress/Office Supplies",{"$f":"Worktags!AS351","v":"1650"},{"$f":"IF(Worktags!AQ351<>Worktags!AS351,Worktags!AQ351,\"\")","v":"SC6119"},{"$f":"IFERROR(VLOOKUP(B371,Worktags!AL:AO,2,FALSE),\"\")","v":"Construction in Progress"},{"$f":"IFERROR(VLOOKUP(C371,Worktags!O:T,2,FALSE),\"\")","v":"Office Supplies"},{"$f":"IFERROR(VLOOKUP(IF(C371=\"\",B371&\"||\"&B371,C371&\"||\"&B371),Worktags!AR:AV,5,FALSE),\"\")","v":"JE_PPE|JE_Override"}]
["1650_SC6121 Construction in Progress/Packaging",{"$f":"Worktags!AS357","v":"1650"},{"$f":"IF(Worktags!AQ357<>Worktags!AS357,Worktags!AQ357,\"\")","v":"SC6121"},{"$f":"IFERROR(VLOOKUP(B372,Worktags!AL:AO,2,FALSE),\"\")","v":"Construction in Progress"},{"$f":"IFERROR(VLOOKUP(C372,Worktags!O:T,2,FALSE),\"\")","v":"Packaging"},{"$f":"IFERROR(VLOOKUP(IF(C372=\"\",B372&\"||\"&B372,C372&\"||\"&B372),Worktags!AR:AV,5,FALSE),\"\")","v":"JE_PPE|JE_Override"}]
["1650_SC6125 Construction in Progress/Printing Supplies",{"$f":"Worktags!AS367","v":"1650"},{"$f":"IF(Worktags!AQ367<>Worktags!AS367,Worktags!AQ367,\"\")","v":"SC6125"},{"$f":"IFERROR(VLOOKUP(B373,Worktags!AL:AO,2,FALSE),\"\")","v":"Construction in Progress"},{"$f":"IFERROR(VLOOKUP(C373,Worktags!O:T,2,FALSE),\"\")","v":"Printing Supplies"},{"$f":"IFERROR(VLOOKUP(IF(C373=\"\",B373&\"||\"&B373,C373&\"||\"&B373),Worktags!AR:AV,5,FALSE),\"\")","v":"JE_PPE|JE_Override"}]
["1650_SC6126 Construction in Progress/Scientific and Engineering Supplies",{"$f":"Worktags!AS371","v":"1650"},{"$f":"IF(Worktags!AQ371<>Worktags!AS371,Worktags!AQ371,\"\")","v":"SC6126"},{"$f":"IFERROR(VLOOKUP(B374,Worktags!AL:AO,2,FALSE),\"\")","v":"Construction in Progress"},{"$f":"IFERROR(VLOOKUP(C374,Worktags!O:T,2,FALSE),\"\")","v":"Scientific and Engineering Supplies"},{"$f":"IFERROR(VLOOKUP(IF(C374=\"\",B374&\"||\"&B374,C374&\"||\"&B374),Worktags!AR:AV,5,FALSE),\"\")","v":"JE_PPE|JE_Override"}]
["1650_SC6129 Construction in Progress/Supplies (not otherwise specified)",{"$f":"Worktags!AS378","v":"1650"},{"$f":"IF(Worktags!AQ378<>Worktags!AS378,Worktags!AQ378,\"\")","v":"SC6129"},{"$f":"IFERROR(VLOOKUP(B375,Worktags!AL:AO,2,FALSE),\"\")","v":"Construction in Progress"},{"$f":"IFERROR(VLOOKUP(C375,Worktags!O:T,2,FALSE),\"\")","v":"Supplies (not otherwise specified)"},{"$f":"IFERROR(VLOOKUP(IF(C375=\"\",B375&\"||\"&B375,C375&\"||\"&B375),Worktags!AR:AV,5,FALSE),\"\")","v":"JE_PPE|JE_Override"}]
["1650_SC6131 Construction in Progress/Telecom Supplies",{"$f":"Worktags!AS385","v":"1650"},{"$f":"IF(Worktags!AQ385<>Worktags!AS385,Worktags!AQ385,\"\")","v":"SC6131"},{"$f":"IFERROR(VLOOKUP(B376,Worktags!AL:AO,2,FALSE),\"\")","v":"Construction in Progress"},{"$f":"IFERROR(VLOOKUP(C376,Worktags!O:T,2,FALSE),\"\")","v":"Telecom Supplies"},{"$f":"IFERROR(VLOOKUP(IF(C376=\"\",B376&\"||\"&B376,C376&\"||\"&B376),Worktags!AR:AV,5,FALSE),\"\")","v":"JE_PPE|JE_Override"}]
["1650_SC6133 Construction in Progress/Lab Gases and Cryogenics",{"$f":"Worktags!AS392","v":"1650"},{"$f":"IF(Worktags!AQ392<>Worktags!AS392,Worktags!AQ392,\"\")","v":"SC6133"},{"$f":"IFERROR(VLOOKUP(B377,Worktags!AL:AO,2,FALSE),\"\")","v":"Construction in Progress"},{"$f":"IFERROR(VLOOKUP(C377,Worktags!O:T,2,FALSE),\"\")","v":"Lab Gases and Cryogenics"},{"$f":"IFERROR(VLOOKUP(IF(C377=\"\",B377&\"||\"&B377,C377&\"||\"&B377),Worktags!AR:AV,5,FALSE),\"\")","v":"JE_PPE|JE_Override"}]
["1650_SC6199 Construction in Progress/Materials and Supplies (reclass)",{"$f":"Worktags!AS396","v":"1650"},{"$f":"IF(Worktags!AQ396<>Worktags!AS396,Worktags!AQ396,\"\")","v":"SC6199"},{"$f":"IFERROR(VLOOKUP(B378,Worktags!AL:AO,2,FALSE),\"\")","v":"Construction in Progress"},{"$f":"IFERROR(VLOOKUP(C378,Worktags!O:T,2,FALSE),\"\")","v":"Materials and Supplies (reclass)"},{"$f":"IFERROR(VLOOKUP(IF(C378=\"\",B378&\"||\"&B378,C378&\"||\"&B378),Worktags!AR:AV,5,FALSE),\"\")","v":"JE_PPE|JE_Override"}]
["1650_SC6404 Construction in Progress/Architectural or Engineering Services",{"$f":"Worktags!AS414","v":"1650"},{"$f":"IF(Worktags!AQ414<>Worktags!AS414,Worktags!AQ414,\"\")","v":"SC6404"},{"$f":"IFERROR(VLOOKUP(B379,Worktags!AL:AO,2,FALSE),\"\")","v":"Construction in Progress"},{"$f":"IFERROR(VLOOKUP(C379,Worktags!O:T,2,FALSE),\"\")","v":"Architectural or Engineering Services"},{"$f":"IFERROR(VLOOKUP(IF(C379=\"\",B379&\"||\"&B379,C379&\"||\"&B379),Worktags!AR:AV,5,FALSE),\"\")","v":"JE_PPE|JE_Override"}]
["1650_SC6414 Construction in Progress/Computer Services",{"$f":"Worktags!AS433","v":"1650"},{"$f":"IF(Worktags!AQ433<>Worktags!AS433,Worktags!AQ433,\"\")","v":"SC6414"},{"$f":"IFERROR(VLOOKUP(B380,Worktags!AL:AO,2,FALSE),\"\")","v":"Construction in Progress"},{"$f":"IFERROR(VLOOKUP(C380,Worktags!O:T,2,FALSE),\"\")","v":"Computer Services"},{"$f":"IFERROR(VLOOKUP(IF(C380=\"\",B380&\"||\"&B380,C380&\"||\"&B380),Worktags!AR:AV,5,FALSE),\"\")","v":"JE_PPE|JE_Override"}]
["1650_SC6435 Construction in Progress/Misc Independent Contractors",{"$f":"Worktags!AS474","v":"1650"},{"$f":"IF(Worktags!AQ474<>Worktags!AS474,Worktags!AQ474,\"\")","v":"SC6435"},{"$f":"IFERROR(VLOOKUP(B381,Worktags!AL:AO,2,FALSE),\"\")","v":"Construction in Progress"},{"$f":"IFERROR(VLOOKUP(C381,Worktags!O:T,2,FALSE),\"\")","v":"Misc Independent Contractors"},{"$f":"IFERROR(VLOOKUP(IF(C381=\"\",B381&\"||\"&B381,C381&\"||\"&B381),Worktags!AR:AV,5,FALSE),\"\")","v":"JE_PPE|JE_Override"}]
["1650_SC6449 Construction in Progress/Rent/Lease < = 1 year",{"$f":"Worktags!AS502","v":"1650"},{"$f":"IF(Worktags!AQ502<>Worktags!AS502,Worktags!AQ502,\"\")","v":"SC6449"},{"$f":"IFERROR(VLOOKUP(B382,Worktags!AL:AO,2,FALSE),\"\")","v":"Construction in Progress"},{"$f":"IFERROR(VLOOKUP(C382,Worktags!O:T,2,FALSE),\"\")","v":"Rent/Lease < = 1 year"},{"$f":"IFERROR(VLOOKUP(IF(C382=\"\",B382&\"||\"&B382,C382&\"||\"&B382),Worktags!AR:AV,5,FALSE),\"\")","v":"JE_PPE|JE_Override"}]
["1650_SC6450 Construction in Progress/Rent/Lease >1 Year",{"$f":"Worktags!AS506","v":"1650"},{"$f":"IF(Worktags!AQ506<>Worktags!AS506,Worktags!AQ506,\"\")","v":"SC6450"},{"$f":"IFERROR(VLOOKUP(B383,Worktags!AL:AO,2,FALSE),\"\")","v":"Construction in Progress"},{"$f":"IFERROR(VLOOKUP(C383,Worktags!O:T,2,FALSE),\"\")","v":"Rent/Lease >1 Year"},{"$f":"IFERROR(VLOOKUP(IF(C383=\"\",B383&\"||\"&B383,C383&\"||\"&B383),Worktags!AR:AV,5,FALSE),\"\")","v":"JE_PPE|JE_Override"}]
["1650_SC6455 Construction in Progress/Services (not otherwise specified)",{"$f":"Worktags!AS518","v":"1650"},{"$f":"IF(Worktags!AQ518<>Worktags!AS518,Worktags!AQ518,\"\")","v":"SC6455"},{"$f":"IFERROR(VLOOKUP(B384,Worktags!AL:AO,2,FALSE),\"\")","v":"Construction in Progress"},{"$f":"IFERROR(VLOOKUP(C384,Worktags!O:T,2,FALSE),\"\")","v":"Services (not otherwise specified)"},{"$f":"IFERROR(VLOOKUP(IF(C384=\"\",B384&\"||\"&B384,C384&\"||\"&B384),Worktags!AR:AV,5,FALSE),\"\")","v":"JE_PPE|JE_Override"}]
[{"$f":"IF(B385<>\"\",IF(C385<>\"\",B385&\"_\"&C385&\" \"&D385&\"/\"&E385,B385&\" \"&D385),\"\")","v":"1650_SC6499 Construction in Progress/General and Administrative (reclass)"},{"$f":"Worktags!AS542","v":"1650"},{"$f":"IF(Worktags!AQ542<>Worktags!AS542,Worktags!AQ542,\"\")","v":"SC6499"},{"$f":"IFERROR(VLOOKUP(B385,Worktags!AL:AO,2,FALSE),\"\")","v":"Construction in Progress"},{"$f":"IFERROR(VLOOKUP(C385,Worktags!O:T,2,FALSE),\"\")","v":"General and Administrative (reclass)"},{"$f":"IFERROR(VLOOKUP(IF(C385=\"\",B385&\"||\"&B385,C385&\"||\"&B385),Worktags!AR:AV,5,FALSE),\"\")","v":"JE_PPE|JE_Override"}]
["1650_SC6701 Construction in Progress/Building Access Supplies",{"$f":"Worktags!AS548","v":"1650"},{"$f":"IF(Worktags!AQ548<>Worktags!AS548,Worktags!AQ548,\"\")","v":"SC6701"},{"$f":"IFERROR(VLOOKUP(B386,Worktags!AL:AO,2,FALSE),\"\")","v":"Construction in Progress"},{"$f":"IFERROR(VLOOKUP(C386,Worktags!O:T,2,FALSE),\"\")","v":"Building Access Supplies"},{"$f":"IFERROR(VLOOKUP(IF(C386=\"\",B386&\"||\"&B386,C386&\"||\"&B386),Worktags!AR:AV,5,FALSE),\"\")","v":"JE_PPE|JE_Override"}]
["1650_SC6702 Construction in Progress/Building Construction and Improvements",{"$f":"Worktags!AS555","v":"1650"},{"$f":"IF(Worktags!AQ555<>Worktags!AS555,Worktags!AQ555,\"\")","v":"SC6702"},{"$f":"IFERROR(VLOOKUP(B387,Worktags!AL:AO,2,FALSE),\"\")","v":"Construction in Progress"},{"$f":"IFERROR(VLOOKUP(C387,Worktags!O:T,2,FALSE),\"\")","v":"Building Construction and Improvements"},{"$f":"IFERROR(VLOOKUP(IF(C387=\"\",B387&\"||\"&B387,C387&\"||\"&B387),Worktags!AR:AV,5,FALSE),\"\")","v":"JE_PPE|JE_Override"}]
["1650_SC6703 Construction in Progress/Building Furnishings",{"$f":"Worktags!AS562","v":"1650"},{"$f":"IF(Worktags!AQ562<>Worktags!AS562,Worktags!AQ562,\"\")","v":"SC6703"},{"$f":"IFERROR(VLOOKUP(B388,Worktags!AL:AO,2,FALSE),\"\")","v":"Construction in Progress"},{"$f":"IFERROR(VLOOKUP(C388,Worktags!O:T,2,FALSE),\"\")","v":"Building Furnishings"},{"$f":"IFERROR(VLOOKUP(IF(C388=\"\",B388&\"||\"&B388,C388&\"||\"&B388),Worktags!AR:AV,5,FALSE),\"\")","v":"JE_PPE|JE_Override"}]
["1650_SC6704 Construction in Progress/Building Materials - Finishing",{"$f":"Worktags!AS569","v":"1650"},{"$f":"IF(Worktags!AQ569<>Worktags!AS569,Worktags!AQ569,\"\")","v":"SC6704"},{"$f":"IFERROR(VLOOKUP(B389,Worktags!AL:AO,2,FALSE),\"\")","v":"Construction in Progress"},{"$f":"IFERROR(VLOOKUP(C389,Worktags!O:T,2,FALSE),\"\")","v":"Building Materials - Finishing"},{"$f":"IFERROR(VLOOKUP(IF(C389=\"\",B389&\"||\"&B389,C389&\"||\"&B389),Worktags!AR:AV,5,FALSE),\"\")","v":"JE_PPE|JE_Override"}]
["1650_SC6705 Construction in Progress/Building Materials - Raw",{"$f":"Worktags!AS576","v":"1650"},{"$f":"IF(Worktags!AQ576<>Worktags!AS576,Worktags!AQ576,\"\")","v":"SC6705"},{"$f":"IFERROR(VLOOKUP(B390,Worktags!AL:AO,2,FALSE),\"\")","v":"Construction in Progress"},{"$f":"IFERROR(VLOOKUP(C390,Worktags!O:T,2,FALSE),\"\")","v":"Building Materials - Raw"},{"$f":"IFERROR(VLOOKUP(IF(C390=\"\",B390&\"||\"&B390,C390&\"||\"&B390),Worktags!AR:AV,5,FALSE),\"\")","v":"JE_PPE|JE_Override"}]
["1650_SC6706 Construction in Progress/Electrical Devices",{"$f":"Worktags!AS583","v":"1650"},{"$f":"IF(Worktags!AQ583<>Worktags!AS583,Worktags!AQ583,\"\")","v":"SC6706"},{"$f":"IFERROR(VLOOKUP(B391,Worktags!AL:AO,2,FALSE),\"\")","v":"Construction in Progress"},{"$f":"IFERROR(VLOOKUP(C391,Worktags!O:T,2,FALSE),\"\")","v":"Electrical Devices"},{"$f":"IFERROR(VLOOKUP(IF(C391=\"\",B391&\"||\"&B391,C391&\"||\"&B391),Worktags!AR:AV,5,FALSE),\"\")","v":"JE_PPE|JE_Override"}]
["1650_SC6707 Construction in Progress/Electrical Supplies",{"$f":"Worktags!AS589","v":"1650"},{"$f":"IF(Worktags!AQ589<>Worktags!AS589,Worktags!AQ589,\"\")","v":"SC6707"},{"$f":"IFERROR(VLOOKUP(B392,Worktags!AL:AO,2,FALSE),\"\")","v":"Construction in Progress"},{"$f":"IFERROR(VLOOKUP(C392,Worktags!O:T,2,FALSE),\"\")","v":"Electrical Supplies"},{"$f":"IFERROR(VLOOKUP(IF(C392=\"\",B392&\"||\"&B392,C392&\"||\"&B392),Worktags!AR:AV,5,FALSE),\"\")","v":"JE_PPE|JE_Override"}]
["1650_SC6708 Construction in Progress/Fans/Furnaces",{"$f":"Worktags!AS595","v":"1650"},{"$f":"IF(Worktags!AQ595<>Worktags!AS595,Worktags!AQ595,\"\")","v":"SC6708"},{"$f":"IFERROR(VLOOKUP(B393,Worktags!AL:AO,2,FALSE),\"\")","v":"Construction in Progress"},{"$f":"IFERROR(VLOOKUP(C393,Worktags!O:T,2,FALSE),\"\")","v":"Fans/Furnaces"},{"$f":"IFERROR(VLOOKUP(IF(C393=\"\",B393&\"||\"&B393,C393&\"||\"&B393),Worktags!AR:AV,5,FALSE),\"\")","v":"JE_PPE|JE_Override"}]
["1650_SC6709 Construction in Progress/Flooring Materials",{"$f":"Worktags!AS602","v":"1650"},{"$f":"IF(Worktags!AQ602<>Worktags!AS602,Worktags!AQ602,\"\")","v":"SC6709"},{"$f":"IFERROR(VLOOKUP(B394,Worktags!AL:AO,2,FALSE),\"\")","v":"Construction in Progress"},{"$f":"IFERROR(VLOOKUP(C394,Worktags!O:T,2,FALSE),\"\")","v":"Flooring Materials"},{"$f":"IFERROR(VLOOKUP(IF(C394=\"\",B394&\"||\"&B394,C394&\"||\"&B394),Worktags!AR:AV,5,FALSE),\"\")","v":"JE_PPE|JE_Override"}]
["1650_SC6710 Construction in Progress/Furnishing Accessories",{"$f":"Worktags!AS609","v":"1650"},{"$f":"IF(Worktags!AQ609<>Worktags!AS609,Worktags!AQ609,\"\")","v":"SC6710"},{"$f":"IFERROR(VLOOKUP(B395,Worktags!AL:AO,2,FALSE),\"\")","v":"Construction in Progress"},{"$f":"IFERROR(VLOOKUP(C395,Worktags!O:T,2,FALSE),\"\")","v":"Furnishing Accessories"},{"$f":"IFERROR(VLOOKUP(IF(C395=\"\",B395&\"||\"&B395,C395&\"||\"&B395),Worktags!AR:AV,5,FALSE),\"\")","v":"JE_PPE|JE_Override"}]
["1650_SC6711 Construction in Progress/Grounds and Landscaping Supplies",{"$f":"Worktags!AS616","v":"1650"},{"$f":"IF(Worktags!AQ616<>Worktags!AS616,Worktags!AQ616,\"\")","v":"SC6711"},{"$f":"IFERROR(VLOOKUP(B396,Worktags!AL:AO,2,FALSE),\"\")","v":"Construction in Progress"},{"$f":"IFERROR(VLOOKUP(C396,Worktags!O:T,2,FALSE),\"\")","v":"Grounds and Landscaping Supplies"},{"$f":"IFERROR(VLOOKUP(IF(C396=\"\",B396&\"||\"&B396,C396&\"||\"&B396),Worktags!AR:AV,5,FALSE),\"\")","v":"JE_PPE|JE_Override"}]
["1650_SC6713 Construction in Progress/Industrial Fixtures",{"$f":"Worktags!AS625","v":"1650"},{"$f":"IF(Worktags!AQ625<>Worktags!AS625,Worktags!AQ625,\"\")","v":"SC6713"},{"$f":"IFERROR(VLOOKUP(B397,Worktags!AL:AO,2,FALSE),\"\")","v":"Construction in Progress"},{"$f":"IFERROR(VLOOKUP(C397,Worktags!O:T,2,FALSE),\"\")","v":"Industrial Fixtures"},{"$f":"IFERROR(VLOOKUP(IF(C397=\"\",B397&\"||\"&B397,C397&\"||\"&B397),Worktags!AR:AV,5,FALSE),\"\")","v":"JE_PPE|JE_Override"}]
["1650_SC6714 Construction in Progress/Lighting Fixtures and Lamps",{"$f":"Worktags!AS632","v":"1650"},{"$f":"IF(Worktags!AQ632<>Worktags!AS632,Worktags!AQ632,\"\")","v":"SC6714"},{"$f":"IFERROR(VLOOKUP(B398,Worktags!AL:AO,2,FALSE),\"\")","v":"Construction in Progress"},{"$f":"IFERROR(VLOOKUP(C398,Worktags!O:T,2,FALSE),\"\")","v":"Lighting Fixtures and Lamps"},{"$f":"IFERROR(VLOOKUP(IF(C398=\"\",B398&\"||\"&B398,C398&\"||\"&B398),Worktags!AR:AV,5,FALSE),\"\")","v":"JE_PPE|JE_Override"}]
["1650_SC6715 Construction in Progress/Plumbing Fixtures",{"$f":"Worktags!AS639","v":"1650"},{"$f":"IF(Worktags!AQ639<>Worktags!AS639,Worktags!AQ639,\"\")","v":"SC6715"},{"$f":"IFERROR(VLOOKUP(B399,Worktags!AL:AO,2,FALSE),\"\")","v":"Construction in Progress"},{"$f":"IFERROR(VLOOKUP(C399,Worktags!O:T,2,FALSE),\"\")","v":"Plumbing Fixtures"},{"$f":"IFERROR(VLOOKUP(IF(C399=\"\",B399&\"||\"&B399,C399&\"||\"&B399),Worktags!AR:AV,5,FALSE),\"\")","v":"JE_PPE|JE_Override"}]
["1650_SC6716 Construction in Progress/Retainage",{"$f":"Worktags!AS644","v":"1650"},{"$f":"IF(Worktags!AQ644<>Worktags!AS644,Worktags!AQ644,\"\")","v":"SC6716"},{"$f":"IFERROR(VLOOKUP(B400,Worktags!AL:AO,2,FALSE),\"\")","v":"Construction in Progress"},{"$f":"IFERROR(VLOOKUP(C400,Worktags!O:T,2,FALSE),\"\")","v":"Retainage"},{"$f":"IFERROR(VLOOKUP(IF(C400=\"\",B400&\"||\"&B400,C400&\"||\"&B400),Worktags!AR:AV,5,FALSE),\"\")","v":"JE_PPE|JE_Override"}]
["1650_SC6717 Construction in Progress/Retainage Interest",{"$f":"Worktags!AS647","v":"1650"},{"$f":"IF(Worktags!AQ647<>Worktags!AS647,Worktags!AQ647,\"\")","v":"SC6717"},{"$f":"IFERROR(VLOOKUP(B401,Worktags!AL:AO,2,FALSE),\"\")","v":"Construction in Progress"},{"$f":"IFERROR(VLOOKUP(C401,Worktags!O:T,2,FALSE),\"\")","v":"Retainage Interest"},{"$f":"IFERROR(VLOOKUP(IF(C401=\"\",B401&\"||\"&B401,C401&\"||\"&B401),Worktags!AR:AV,5,FALSE),\"\")","v":"JE_PPE|JE_Override"}]
["1650_SC6718 Construction in Progress/Signage, Electronic",{"$f":"Worktags!AS652","v":"1650"},{"$f":"IF(Worktags!AQ652<>Worktags!AS652,Worktags!AQ652,\"\")","v":"SC6718"},{"$f":"IFERROR(VLOOKUP(B402,Worktags!AL:AO,2,FALSE),\"\")","v":"Construction in Progress"},{"$f":"IFERROR(VLOOKUP(C402,Worktags!O:T,2,FALSE),\"\")","v":"Signage, Electronic"},{"$f":"IFERROR(VLOOKUP(IF(C402=\"\",B402&\"||\"&B402,C402&\"||\"&B402),Worktags!AR:AV,5,FALSE),\"\")","v":"JE_PPE|JE_Override"}]
["1650_SC6719 Construction in Progress/Signage, Non-electronic",{"$f":"Worktags!AS659","v":"1650"},{"$f":"IF(Worktags!AQ659<>Worktags!AS659,Worktags!AQ659,\"\")","v":"SC6719"},{"$f":"IFERROR(VLOOKUP(B403,Worktags!AL:AO,2,FALSE),\"\")","v":"Construction in Progress"},{"$f":"IFERROR(VLOOKUP(C403,Worktags!O:T,2,FALSE),\"\")","v":"Signage, Non-electronic"},{"$f":"IFERROR(VLOOKUP(IF(C403=\"\",B403&\"||\"&B403,C403&\"||\"&B403),Worktags!AR:AV,5,FALSE),\"\")","v":"JE_PPE|JE_Override"}]
["1650_SC6720 Construction in Progress/Specialized Trade Services - Physical Facilities",{"$f":"Worktags!AS665","v":"1650"},{"$f":"IF(Worktags!AQ665<>Worktags!AS665,Worktags!AQ665,\"\")","v":"SC6720"},{"$f":"IFERROR(VLOOKUP(B404,Worktags!AL:AO,2,FALSE),\"\")","v":"Construction in Progress"},{"$f":"IFERROR(VLOOKUP(C404,Worktags!O:T,2,FALSE),\"\")","v":"Specialized Trade Services - Physical Facilities"},{"$f":"IFERROR(VLOOKUP(IF(C404=\"\",B404&\"||\"&B404,C404&\"||\"&B404),Worktags!AR:AV,5,FALSE),\"\")","v":"JE_PPE|JE_Override"}]
["1650_SC6721 Construction in Progress/Stage and Studio Lighting (Asset Track)",{"$f":"Worktags!AS670","v":"1650"},{"$f":"IF(Worktags!AQ670<>Worktags!AS670,Worktags!AQ670,\"\")","v":"SC6721"},{"$f":"IFERROR(VLOOKUP(B405,Worktags!AL:AO,2,FALSE),\"\")","v":"Construction in Progress"},{"$f":"IFERROR(VLOOKUP(C405,Worktags!O:T,2,FALSE),\"\")","v":"Stage and Studio Lighting (Asset Track)"},{"$f":"IFERROR(VLOOKUP(IF(C405=\"\",B405&\"||\"&B405,C405&\"||\"&B405),Worktags!AR:AV,5,FALSE),\"\")","v":"JE_PPE|JE_Override"}]
["1650_SC6729 Construction in Progress/Warehouse Fixtures",{"$f":"Worktags!AS691","v":"1650"},{"$f":"IF(Worktags!AQ691<>Worktags!AS691,Worktags!AQ691,\"\")","v":"SC6729"},{"$f":"IFERROR(VLOOKUP(B406,Worktags!AL:AO,2,FALSE),\"\")","v":"Construction in Progress"},{"$f":"IFERROR(VLOOKUP(C406,Worktags!O:T,2,FALSE),\"\")","v":"Warehouse Fixtures"},{"$f":"IFERROR(VLOOKUP(IF(C406=\"\",B406&\"||\"&B406,C406&\"||\"&B406),Worktags!AR:AV,5,FALSE),\"\")","v":"JE_PPE|JE_Override"}]
["1650_SC6730 Construction in Progress/Window Treatments",{"$f":"Worktags!AS698","v":"1650"},{"$f":"IF(Worktags!AQ698<>Worktags!AS698,Worktags!AQ698,\"\")","v":"SC6730"},{"$f":"IFERROR(VLOOKUP(B407,Worktags!AL:AO,2,FALSE),\"\")","v":"Construction in Progress"},{"$f":"IFERROR(VLOOKUP(C407,Worktags!O:T,2,FALSE),\"\")","v":"Window Treatments"},{"$f":"IFERROR(VLOOKUP(IF(C407=\"\",B407&\"||\"&B407,C407&\"||\"&B407),Worktags!AR:AV,5,FALSE),\"\")","v":"JE_PPE|JE_Override"}]
["1650_SC6731 Construction in Progress/Stage and Studio Lighting (Only Workday Inventory Module)",{"$f":"Worktags!AS704","v":"1650"},{"$f":"IF(Worktags!AQ704<>Worktags!AS704,Worktags!AQ704,\"\")","v":"SC6731"},{"$f":"IFERROR(VLOOKUP(B408,Worktags!AL:AO,2,FALSE),\"\")","v":"Construction in Progress"},{"$f":"IFERROR(VLOOKUP(C408,Worktags!O:T,2,FALSE),\"\")","v":"Stage and Studio Lighting (Only Workday Inventory Module)"},{"$f":"IFERROR(VLOOKUP(IF(C408=\"\",B408&\"||\"&B408,C408&\"||\"&B408),Worktags!AR:AV,5,FALSE),\"\")","v":"JE_PPE|JE_Override"}]
["1650_SC6799 Construction in Progress/Physical Facilities (reclass)",{"$f":"Worktags!AS707","v":"1650"},{"$f":"IF(Worktags!AQ707<>Worktags!AS707,Worktags!AQ707,\"\")","v":"SC6799"},{"$f":"IFERROR(VLOOKUP(B409,Worktags!AL:AO,2,FALSE),\"\")","v":"Construction in Progress"},{"$f":"IFERROR(VLOOKUP(C409,Worktags!O:T,2,FALSE),\"\")","v":"Physical Facilities (reclass)"},{"$f":"IFERROR(VLOOKUP(IF(C409=\"\",B409&\"||\"&B409,C409&\"||\"&B409),Worktags!AR:AV,5,FALSE),\"\")","v":"JE_PPE|JE_Override"}]
["1650_SC6901 Construction in Progress/Art Equipment",{"$f":"Worktags!AS712","v":"1650"},{"$f":"IF(Worktags!AQ712<>Worktags!AS712,Worktags!AQ712,\"\")","v":"SC6901"},{"$f":"IFERROR(VLOOKUP(B410,Worktags!AL:AO,2,FALSE),\"\")","v":"Construction in Progress"},{"$f":"IFERROR(VLOOKUP(C410,Worktags!O:T,2,FALSE),\"\")","v":"Art Equipment"},{"$f":"IFERROR(VLOOKUP(IF(C410=\"\",B410&\"||\"&B410,C410&\"||\"&B410),Worktags!AR:AV,5,FALSE),\"\")","v":"JE_PPE|JE_Override"}]
["1650_SC6902 Construction in Progress/Athletic Equipment",{"$f":"Worktags!AS719","v":"1650"},{"$f":"IF(Worktags!AQ719<>Worktags!AS719,Worktags!AQ719,\"\")","v":"SC6902"},{"$f":"IFERROR(VLOOKUP(B411,Worktags!AL:AO,2,FALSE),\"\")","v":"Construction in Progress"},{"$f":"IFERROR(VLOOKUP(C411,Worktags!O:T,2,FALSE),\"\")","v":"Athletic Equipment"},{"$f":"IFERROR(VLOOKUP(IF(C411=\"\",B411&\"||\"&B411,C411&\"||\"&B411),Worktags!AR:AV,5,FALSE),\"\")","v":"JE_PPE|JE_Override"}]
["1650_SC6903 Construction in Progress/Audio Visual Equipment (Asset Track)",{"$f":"Worktags!AS726","v":"1650"},{"$f":"IF(Worktags!AQ726<>Worktags!AS726,Worktags!AQ726,\"\")","v":"SC6903"},{"$f":"IFERROR(VLOOKUP(B412,Worktags!AL:AO,2,FALSE),\"\")","v":"Construction in Progress"},{"$f":"IFERROR(VLOOKUP(C412,Worktags!O:T,2,FALSE),\"\")","v":"Audio Visual Equipment (Asset Track)"},{"$f":"IFERROR(VLOOKUP(IF(C412=\"\",B412&\"||\"&B412,C412&\"||\"&B412),Worktags!AR:AV,5,FALSE),\"\")","v":"JE_PPE|JE_Override"}]
["1650_SC6904 Construction in Progress/Communication Devices (Asset Track)",{"$f":"Worktags!AS733","v":"1650"},{"$f":"IF(Worktags!AQ733<>Worktags!AS733,Worktags!AQ733,\"\")","v":"SC6904"},{"$f":"IFERROR(VLOOKUP(B413,Worktags!AL:AO,2,FALSE),\"\")","v":"Construction in Progress"},{"$f":"IFERROR(VLOOKUP(C413,Worktags!O:T,2,FALSE),\"\")","v":"Communication Devices (Asset Track)"},{"$f":"IFERROR(VLOOKUP(IF(C413=\"\",B413&\"||\"&B413,C413&\"||\"&B413),Worktags!AR:AV,5,FALSE),\"\")","v":"JE_PPE|JE_Override"}]
["1650_SC6905 Construction in Progress/Computer Hardware (Asset Track)",{"$f":"Worktags!AS740","v":"1650"},{"$f":"IF(Worktags!AQ740<>Worktags!AS740,Worktags!AQ740,\"\")","v":"SC6905"},{"$f":"IFERROR(VLOOKUP(B414,Worktags!AL:AO,2,FALSE),\"\")","v":"Construction in Progress"},{"$f":"IFERROR(VLOOKUP(C414,Worktags!O:T,2,FALSE),\"\")","v":"Computer Hardware (Asset Track)"},{"$f":"IFERROR(VLOOKUP(IF(C414=\"\",B414&\"||\"&B414,C414&\"||\"&B414),Worktags!AR:AV,5,FALSE),\"\")","v":"JE_PPE|JE_Override"}]
["1650_SC6906 Construction in Progress/Data Network Equipment (Asset Track)",{"$f":"Worktags!AS747","v":"1650"},{"$f":"IF(Worktags!AQ747<>Worktags!AS747,Worktags!AQ747,\"\")","v":"SC6906"},{"$f":"IFERROR(VLOOKUP(B415,Worktags!AL:AO,2,FALSE),\"\")","v":"Construction in Progress"},{"$f":"IFERROR(VLOOKUP(C415,Worktags!O:T,2,FALSE),\"\")","v":"Data Network Equipment (Asset Track)"},{"$f":"IFERROR(VLOOKUP(IF(C415=\"\",B415&\"||\"&B415,C415&\"||\"&B415),Worktags!AR:AV,5,FALSE),\"\")","v":"JE_PPE|JE_Override"}]
["1650_SC6907 Construction in Progress/Equipment (not otherwise specified) (Asset Track)",{"$f":"Worktags!AS754","v":"1650"},{"$f":"IF(Worktags!AQ754<>Worktags!AS754,Worktags!AQ754,\"\")","v":"SC6907"},{"$f":"IFERROR(VLOOKUP(B416,Worktags!AL:AO,2,FALSE),\"\")","v":"Construction in Progress"},{"$f":"IFERROR(VLOOKUP(C416,Worktags!O:T,2,FALSE),\"\")","v":"Equipment (not otherwise specified) (Asset Track)"},{"$f":"IFERROR(VLOOKUP(IF(C416=\"\",B416&\"||\"&B416,C416&\"||\"&B416),Worktags!AR:AV,5,FALSE),\"\")","v":"JE_PPE|JE_Override"}]
["1650_SC6910 Construction in Progress/Food Service Equipment",{"$f":"Worktags!AS768","v":"1650"},{"$f":"IF(Worktags!AQ768<>Worktags!AS768,Worktags!AQ768,\"\")","v":"SC6910"},{"$f":"IFERROR(VLOOKUP(B417,Worktags!AL:AO,2,FALSE),\"\")","v":"Construction in Progress"},{"$f":"IFERROR(VLOOKUP(C417,Worktags!O:T,2,FALSE),\"\")","v":"Food Service Equipment"},{"$f":"IFERROR(VLOOKUP(IF(C417=\"\",B417&\"||\"&B417,C417&\"||\"&B417),Worktags!AR:AV,5,FALSE),\"\")","v":"JE_PPE|JE_Override"}]
["1650_SC6914 Construction in Progress/Industrial Equipment",{"$f":"Worktags!AS787","v":"1650"},{"$f":"IF(Worktags!AQ787<>Worktags!AS787,Worktags!AQ787,\"\")","v":"SC6914"},{"$f":"IFERROR(VLOOKUP(B418,Worktags!AL:AO,2,FALSE),\"\")","v":"Construction in Progress"},{"$f":"IFERROR(VLOOKUP(C418,Worktags!O:T,2,FALSE),\"\")","v":"Industrial Equipment"},{"$f":"IFERROR(VLOOKUP(IF(C418=\"\",B418&\"||\"&B418,C418&\"||\"&B418),Worktags!AR:AV,5,FALSE),\"\")","v":"JE_PPE|JE_Override"}]
["1650_SC6915 Construction in Progress/Janitorial Equipment",{"$f":"Worktags!AS794","v":"1650"},{"$f":"IF(Worktags!AQ794<>Worktags!AS794,Worktags!AQ794,\"\")","v":"SC6915"},{"$f":"IFERROR(VLOOKUP(B419,Worktags!AL:AO,2,FALSE),\"\")","v":"Construction in Progress"},{"$f":"IFERROR(VLOOKUP(C419,Worktags!O:T,2,FALSE),\"\")","v":"Janitorial Equipment"},{"$f":"IFERROR(VLOOKUP(IF(C419=\"\",B419&\"||\"&B419,C419&\"||\"&B419),Worktags!AR:AV,5,FALSE),\"\")","v":"JE_PPE|JE_Override"}]
["1650_SC6917 Construction in Progress/Laundry Equipment",{"$f":"Worktags!AS803","v":"1650"},{"$f":"IF(Worktags!AQ803<>Worktags!AS803,Worktags!AQ803,\"\")","v":"SC6917"},{"$f":"IFERROR(VLOOKUP(B420,Worktags!AL:AO,2,FALSE),\"\")","v":"Construction in Progress"},{"$f":"IFERROR(VLOOKUP(C420,Worktags!O:T,2,FALSE),\"\")","v":"Laundry Equipment"},{"$f":"IFERROR(VLOOKUP(IF(C420=\"\",B420&\"||\"&B420,C420&\"||\"&B420),Worktags!AR:AV,5,FALSE),\"\")","v":"JE_PPE|JE_Override"}]
["1650_SC6921 Construction in Progress/Medical Equipment",{"$f":"Worktags!AS822","v":"1650"},{"$f":"IF(Worktags!AQ822<>Worktags!AS822,Worktags!AQ822,\"\")","v":"SC6921"},{"$f":"IFERROR(VLOOKUP(B421,Worktags!AL:AO,2,FALSE),\"\")","v":"Construction in Progress"},{"$f":"IFERROR(VLOOKUP(C421,Worktags!O:T,2,FALSE),\"\")","v":"Medical Equipment"},{"$f":"IFERROR(VLOOKUP(IF(C421=\"\",B421&\"||\"&B421,C421&\"||\"&B421),Worktags!AR:AV,5,FALSE),\"\")","v":"JE_PPE|JE_Override"}]
["1650_SC6924 Construction in Progress/Office Equipment (Asset Track)",{"$f":"Worktags!AS836","v":"1650"},{"$f":"IF(Worktags!AQ836<>Worktags!AS836,Worktags!AQ836,\"\")","v":"SC6924"},{"$f":"IFERROR(VLOOKUP(B422,Worktags!AL:AO,2,FALSE),\"\")","v":"Construction in Progress"},{"$f":"IFERROR(VLOOKUP(C422,Worktags!O:T,2,FALSE),\"\")","v":"Office Equipment (Asset Track)"},{"$f":"IFERROR(VLOOKUP(IF(C422=\"\",B422&\"||\"&B422,C422&\"||\"&B422),Worktags!AR:AV,5,FALSE),\"\")","v":"JE_PPE|JE_Override"}]
["1650_SC6927 Construction in Progress/Portable Structures",{"$f":"Worktags!AS850","v":"1650"},{"$f":"IF(Worktags!AQ850<>Worktags!AS850,Worktags!AQ850,\"\")","v":"SC6927"},{"$f":"IFERROR(VLOOKUP(B423,Worktags!AL:AO,2,FALSE),\"\")","v":"Construction in Progress"},{"$f":"IFERROR(VLOOKUP(C423,Worktags!O:T,2,FALSE),\"\")","v":"Portable Structures"},{"$f":"IFERROR(VLOOKUP(IF(C423=\"\",B423&\"||\"&B423,C423&\"||\"&B423),Worktags!AR:AV,5,FALSE),\"\")","v":"JE_PPE|JE_Override"}]
["1650_SC6928 Construction in Progress/Printing Equipment",{"$f":"Worktags!AS857","v":"1650"},{"$f":"IF(Worktags!AQ857<>Worktags!AS857,Worktags!AQ857,\"\")","v":"SC6928"},{"$f":"IFERROR(VLOOKUP(B424,Worktags!AL:AO,2,FALSE),\"\")","v":"Construction in Progress"},{"$f":"IFERROR(VLOOKUP(C424,Worktags!O:T,2,FALSE),\"\")","v":"Printing Equipment"},{"$f":"IFERROR(VLOOKUP(IF(C424=\"\",B424&\"||\"&B424,C424&\"||\"&B424),Worktags!AR:AV,5,FALSE),\"\")","v":"JE_PPE|JE_Override"}]
["1650_SC6929 Construction in Progress/Scientific and Engineering Equipment",{"$f":"Worktags!AS864","v":"1650"},{"$f":"IF(Worktags!AQ864<>Worktags!AS864,Worktags!AQ864,\"\")","v":"SC6929"},{"$f":"IFERROR(VLOOKUP(B425,Worktags!AL:AO,2,FALSE),\"\")","v":"Construction in Progress"},{"$f":"IFERROR(VLOOKUP(C425,Worktags!O:T,2,FALSE),\"\")","v":"Scientific and Engineering Equipment"},{"$f":"IFERROR(VLOOKUP(IF(C425=\"\",B425&\"||\"&B425,C425&\"||\"&B425),Worktags!AR:AV,5,FALSE),\"\")","v":"JE_PPE|JE_Override"}]
["1650_SC6931 Construction in Progress/Security Equipment (Asset Track)",{"$f":"Worktags!AS873","v":"1650"},{"$f":"IF(Worktags!AQ873<>Worktags!AS873,Worktags!AQ873,\"\")","v":"SC6931"},{"$f":"IFERROR(VLOOKUP(B426,Worktags!AL:AO,2,FALSE),\"\")","v":"Construction in Progress"},{"$f":"IFERROR(VLOOKUP(C426,Worktags!O:T,2,FALSE),\"\")","v":"Security Equipment (Asset Track)"},{"$f":"IFERROR(VLOOKUP(IF(C426=\"\",B426&\"||\"&B426,C426&\"||\"&B426),Worktags!AR:AV,5,FALSE),\"\")","v":"JE_PPE|JE_Override"}]
["1650_SC6932 Construction in Progress/Small Appliances",{"$f":"Worktags!AS880","v":"1650"},{"$f":"IF(Worktags!AQ880<>Worktags!AS880,Worktags!AQ880,\"\")","v":"SC6932"},{"$f":"IFERROR(VLOOKUP(B427,Worktags!AL:AO,2,FALSE),\"\")","v":"Construction in Progress"},{"$f":"IFERROR(VLOOKUP(C427,Worktags!O:T,2,FALSE),\"\")","v":"Small Appliances"},{"$f":"IFERROR(VLOOKUP(IF(C427=\"\",B427&\"||\"&B427,C427&\"||\"&B427),Worktags!AR:AV,5,FALSE),\"\")","v":"JE_PPE|JE_Override"}]
["1650_SC6935 Construction in Progress/Telecom Equipment",{"$f":"Worktags!AS894","v":"1650"},{"$f":"IF(Worktags!AQ894<>Worktags!AS894,Worktags!AQ894,\"\")","v":"SC6935"},{"$f":"IFERROR(VLOOKUP(B428,Worktags!AL:AO,2,FALSE),\"\")","v":"Construction in Progress"},{"$f":"IFERROR(VLOOKUP(C428,Worktags!O:T,2,FALSE),\"\")","v":"Telecom Equipment"},{"$f":"IFERROR(VLOOKUP(IF(C428=\"\",B428&\"||\"&B428,C428&\"||\"&B428),Worktags!AR:AV,5,FALSE),\"\")","v":"JE_PPE|JE_Override"}]
["1650_SC6939 Construction in Progress/Warehouse Equipment",{"$f":"Worktags!AS913","v":"1650"},{"$f":"IF(Worktags!AQ913<>Worktags!AS913,Worktags!AQ913,\"\")","v":"SC6939"},{"$f":"IFERROR(VLOOKUP(B429,Worktags!AL:AO,2,FALSE),\"\")","v":"Construction in Progress"},{"$f":"IFERROR(VLOOKUP(C429,Worktags!O:T,2,FALSE),\"\")","v":"Warehouse Equipment"},{"$f":"IFERROR(VLOOKUP(IF(C429=\"\",B429&\"||\"&B429,C429&\"||\"&B429),Worktags!AR:AV,5,FALSE),\"\")","v":"JE_PPE|JE_Override"}]
["1650_SC6940 Construction in Progress/Audio Visual Equipment (Only Workday Inventory Module)",{"$f":"Worktags!AS919","v":"1650"},{"$f":"IF(Worktags!AQ919<>Worktags!AS919,Worktags!AQ919,\"\")","v":"SC6940"},{"$f":"IFERROR(VLOOKUP(B430,Worktags!AL:AO,2,FALSE),\"\")","v":"Construction in Progress"},{"$f":"IFERROR(VLOOKUP(C430,Worktags!O:T,2,FALSE),\"\")","v":"Audio Visual Equipment (Only Workday Inventory Module)"},{"$f":"IFERROR(VLOOKUP(IF(C430=\"\",B430&\"||\"&B430,C430&\"||\"&B430),Worktags!AR:AV,5,FALSE),\"\")","v":"JE_PPE|JE_Override"}]
["1650_SC6941 Construction in Progress/Communication Devices (Only Workday Inventory Module)",{"$f":"Worktags!AS923","v":"1650"},{"$f":"IF(Worktags!AQ923<>Worktags!AS923,Worktags!AQ923,\"\")","v":"SC6941"},{"$f":"IFERROR(VLOOKUP(B431,Worktags!AL:AO,2,FALSE),\"\")","v":"Construction in Progress"},{"$f":"IFERROR(VLOOKUP(C431,Worktags!O:T,2,FALSE),\"\")","v":"Communication Devices (Only Workday Inventory Module)"},{"$f":"IFERROR(VLOOKUP(IF(C431=\"\",B431&\"||\"&B431,C431&\"||\"&B431),Worktags!AR:AV,5,FALSE),\"\")","v":"JE_PPE|JE_Override"}]
["1650_SC6942 Construction in Progress/Computer Hardware (Only Workday Inventory Module)",{"$f":"Worktags!AS927","v":"1650"},{"$f":"IF(Worktags!AQ927<>Worktags!AS927,Worktags!AQ927,\"\")","v":"SC6942"},{"$f":"IFERROR(VLOOKUP(B432,Worktags!AL:AO,2,FALSE),\"\")","v":"Construction in Progress"},{"$f":"IFERROR(VLOOKUP(C432,Worktags!O:T,2,FALSE),\"\")","v":"Computer Hardware (Only Workday Inventory Module)"},{"$f":"IFERROR(VLOOKUP(IF(C432=\"\",B432&\"||\"&B432,C432&\"||\"&B432),Worktags!AR:AV,5,FALSE),\"\")","v":"JE_PPE|JE_Override"}]
["1650_SC6943 Construction in Progress/Data Network Equipment (Only Workday Inventory Module)",{"$f":"Worktags!AS931","v":"1650"},{"$f":"IF(Worktags!AQ931<>Worktags!AS931,Worktags!AQ931,\"\")","v":"SC6943"},{"$f":"IFERROR(VLOOKUP(B433,Worktags!AL:AO,2,FALSE),\"\")","v":"Construction in Progress"},{"$f":"IFERROR(VLOOKUP(C433,Worktags!O:T,2,FALSE),\"\")","v":"Data Network Equipment (Only Workday Inventory Module)"},{"$f":"IFERROR(VLOOKUP(IF(C433=\"\",B433&\"||\"&B433,C433&\"||\"&B433),Worktags!AR:AV,5,FALSE),\"\")","v":"JE_PPE|JE_Override"}]
["1650_SC6944 Construction in Progress/Equipment (not otherwise specified) (Only Workday Inventory Module)",{"$f":"Worktags!AS935","v":"1650"},{"$f":"IF(Worktags!AQ935<>Worktags!AS935,Worktags!AQ935,\"\")","v":"SC6944"},{"$f":"IFERROR(VLOOKUP(B434,Worktags!AL:AO,2,FALSE),\"\")","v":"Construction in Progress"},{"$f":"IFERROR(VLOOKUP(C434,Worktags!O:T,2,FALSE),\"\")","v":"Equipment (not otherwise specified) (Only Workday Inventory Module)"},{"$f":"IFERROR(VLOOKUP(IF(C434=\"\",B434&\"||\"&B434,C434&\"||\"&B434),Worktags!AR:AV,5,FALSE),\"\")","v":"JE_PPE|JE_Override"}]
["1650_SC6945 Construction in Progress/Office Equipment (Only Workday Inventory Module)",{"$f":"Worktags!AS939","v":"1650"},{"$f":"IF(Worktags!AQ939<>Worktags!AS939,Worktags!AQ939,\"\")","v":"SC6945"},{"$f":"IFERROR(VLOOKUP(B435,Worktags!AL:AO,2,FALSE),\"\")","v":"Construction in Progress"},{"$f":"IFERROR(VLOOKUP(C435,Worktags!O:T,2,FALSE),\"\")","v":"Office Equipment (Only Workday Inventory Module)"},{"$f":"IFERROR(VLOOKUP(IF(C435=\"\",B435&\"||\"&B435,C435&\"||\"&B435),Worktags!AR:AV,5,FALSE),\"\")","v":"JE_PPE|JE_Override"}]
["1650_SC6946 Construction in Progress/Security Equipment (Only Workday Inventory Module)",{"$f":"Worktags!AS943","v":"1650"},{"$f":"IF(Worktags!AQ943<>Worktags!AS943,Worktags!AQ943,\"\")","v":"SC6946"},{"$f":"IFERROR(VLOOKUP(B436,Worktags!AL:AO,2,FALSE),\"\")","v":"Construction in Progress"},{"$f":"IFERROR(VLOOKUP(C436,Worktags!O:T,2,FALSE),\"\")","v":"Security Equipment (Only Workday Inventory Module)"},{"$f":"IFERROR(VLOOKUP(IF(C436=\"\",B436&\"||\"&B436,C436&\"||\"&B436),Worktags!AR:AV,5,FALSE),\"\")","v":"JE_PPE|JE_Override"}]
["1650_SC6999 Construction in Progress/Equipment (reclass)",{"$f":"Worktags!AS947","v":"1650"},{"$f":"IF(Worktags!AQ947<>Worktags!AS947,Worktags!AQ947,\"\")","v":"SC6999"},{"$f":"IFERROR(VLOOKUP(B437,Worktags!AL:AO,2,FALSE),\"\")","v":"Construction in Progress"},{"$f":"IFERROR(VLOOKUP(C437,Worktags!O:T,2,FALSE),\"\")","v":"Equipment (reclass)"},{"$f":"IFERROR(VLOOKUP(IF(C437=\"\",B437&\"||\"&B437,C437&\"||\"&B437),Worktags!AR:AV,5,FALSE),\"\")","v":"JE_PPE|JE_Override"}]
["1651 Construction In Progress (Non-Workday Projects)",{"$f":"Worktags!AL68","v":"1651"},null,{"$f":"IFERROR(VLOOKUP(B438,Worktags!AL:AO,2,FALSE),\"\")","v":"Construction In Progress (Non-Workday Projects)"},null,{"$f":"IFERROR(VLOOKUP(IF(C438=\"\",B438&\"||\"&B438,C438&\"||\"&B438),Worktags!AR:AV,5,FALSE),\"\")","v":"All"}]
["1651 Construction In Progress (Non-Workday Projects)",{"$f":"Worktags!AS50","v":"1651"},{"$f":"IF(Worktags!AQ50<>Worktags!AS50,Worktags!AQ50,\"\")","v":""},{"$f":"IFERROR(VLOOKUP(B439,Worktags!AL:AO,2,FALSE),\"\")","v":"Construction In Progress (Non-Workday Projects)"},{"$f":"IFERROR(VLOOKUP(C439,Worktags!O:T,2,FALSE),\"\")","v":""},{"$f":"IFERROR(VLOOKUP(IF(C439=\"\",B439&\"||\"&B439,C439&\"||\"&B439),Worktags!AR:AV,5,FALSE),\"\")","v":"All"}]
["1651_SC6106 Construction In Progress (Non-Workday Projects)/Audio Visual Supplies",{"$f":"Worktags!AS312","v":"1651"},{"$f":"IF(Worktags!AQ312<>Worktags!AS312,Worktags!AQ312,\"\")","v":"SC6106"},{"$f":"IFERROR(VLOOKUP(B440,Worktags!AL:AO,2,FALSE),\"\")","v":"Construction In Progress (Non-Workday Projects)"},{"$f":"IFERROR(VLOOKUP(C440,Worktags!O:T,2,FALSE),\"\")","v":"Audio Visual Supplies"},{"$f":"IFERROR(VLOOKUP(IF(C440=\"\",B440&\"||\"&B440,C440&\"||\"&B440),Worktags!AR:AV,5,FALSE),\"\")","v":"All"}]
["1651_SC6108 Construction In Progress (Non-Workday Projects)/Data Network Supplies",{"$f":"Worktags!AS321","v":"1651"},{"$f":"IF(Worktags!AQ321<>Worktags!AS321,Worktags!AQ321,\"\")","v":"SC6108"},{"$f":"IFERROR(VLOOKUP(B441,Worktags!AL:AO,2,FALSE),\"\")","v":"Construction In Progress (Non-Workday Projects)"},{"$f":"IFERROR(VLOOKUP(C441,Worktags!O:T,2,FALSE),\"\")","v":"Data Network Supplies"},{"$f":"IFERROR(VLOOKUP(IF(C441=\"\",B441&\"||\"&B441,C441&\"||\"&B441),Worktags!AR:AV,5,FALSE),\"\")","v":"All"}]
["1651_SC6129 Construction In Progress (Non-Workday Projects)/Supplies (not otherwise specified)",{"$f":"Worktags!AS379","v":"1651"},{"$f":"IF(Worktags!AQ379<>Worktags!AS379,Worktags!AQ379,\"\")","v":"SC6129"},{"$f":"IFERROR(VLOOKUP(B442,Worktags!AL:AO,2,FALSE),\"\")","v":"Construction In Progress (Non-Workday Projects)"},{"$f":"IFERROR(VLOOKUP(C442,Worktags!O:T,2,FALSE),\"\")","v":"Supplies (not otherwise specified)"},{"$f":"IFERROR(VLOOKUP(IF(C442=\"\",B442&\"||\"&B442,C442&\"||\"&B442),Worktags!AR:AV,5,FALSE),\"\")","v":"All"}]
["1651_SC6131 Construction In Progress (Non-Workday Projects)/Telecom Supplies",{"$f":"Worktags!AS386","v":"1651"},{"$f":"IF(Worktags!AQ386<>Worktags!AS386,Worktags!AQ386,\"\")","v":"SC6131"},{"$f":"IFERROR(VLOOKUP(B443,Worktags!AL:AO,2,FALSE),\"\")","v":"Construction In Progress (Non-Workday Projects)"},{"$f":"IFERROR(VLOOKUP(C443,Worktags!O:T,2,FALSE),\"\")","v":"Telecom Supplies"},{"$f":"IFERROR(VLOOKUP(IF(C443=\"\",B443&\"||\"&B443,C443&\"||\"&B443),Worktags!AR:AV,5,FALSE),\"\")","v":"All"}]
["1651_SC6199 Construction In Progress (Non-Workday Projects)/Materials and Supplies (reclass)",{"$f":"Worktags!AS397","v":"1651"},{"$f":"IF(Worktags!AQ397<>Worktags!AS397,Worktags!AQ397,\"\")","v":"SC6199"},{"$f":"IFERROR(VLOOKUP(B444,Worktags!AL:AO,2,FALSE),\"\")","v":"Construction In Progress (Non-Workday Projects)"},{"$f":"IFERROR(VLOOKUP(C444,Worktags!O:T,2,FALSE),\"\")","v":"Materials and Supplies (reclass)"},{"$f":"IFERROR(VLOOKUP(IF(C444=\"\",B444&\"||\"&B444,C444&\"||\"&B444),Worktags!AR:AV,5,FALSE),\"\")","v":"All"}]
["1651_SC6404 Construction In Progress (Non-Workday Projects)/Architectural or Engineering Services",{"$f":"Worktags!AS415","v":"1651"},{"$f":"IF(Worktags!AQ415<>Worktags!AS415,Worktags!AQ415,\"\")","v":"SC6404"},{"$f":"IFERROR(VLOOKUP(B445,Worktags!AL:AO,2,FALSE),\"\")","v":"Construction In Progress (Non-Workday Projects)"},{"$f":"IFERROR(VLOOKUP(C445,Worktags!O:T,2,FALSE),\"\")","v":"Architectural or Engineering Services"},{"$f":"IFERROR(VLOOKUP(IF(C445=\"\",B445&\"||\"&B445,C445&\"||\"&B445),Worktags!AR:AV,5,FALSE),\"\")","v":"All"}]
["1651_SC6414 Construction In Progress (Non-Workday Projects)/Computer Services",{"$f":"Worktags!AS434","v":"1651"},{"$f":"IF(Worktags!AQ434<>Worktags!AS434,Worktags!AQ434,\"\")","v":"SC6414"},{"$f":"IFERROR(VLOOKUP(B446,Worktags!AL:AO,2,FALSE),\"\")","v":"Construction In Progress (Non-Workday Projects)"},{"$f":"IFERROR(VLOOKUP(C446,Worktags!O:T,2,FALSE),\"\")","v":"Computer Services"},{"$f":"IFERROR(VLOOKUP(IF(C446=\"\",B446&\"||\"&B446,C446&\"||\"&B446),Worktags!AR:AV,5,FALSE),\"\")","v":"All"}]
["1651_SC6435 Construction In Progress (Non-Workday Projects)/Misc Independent Contractors",{"$f":"Worktags!AS475","v":"1651"},{"$f":"IF(Worktags!AQ475<>Worktags!AS475,Worktags!AQ475,\"\")","v":"SC6435"},{"$f":"IFERROR(VLOOKUP(B447,Worktags!AL:AO,2,FALSE),\"\")","v":"Construction In Progress (Non-Workday Projects)"},{"$f":"IFERROR(VLOOKUP(C447,Worktags!O:T,2,FALSE),\"\")","v":"Misc Independent Contractors"},{"$f":"IFERROR(VLOOKUP(IF(C447=\"\",B447&\"||\"&B447,C447&\"||\"&B447),Worktags!AR:AV,5,FALSE),\"\")","v":"All"}]
["1651_SC6449 Construction In Progress (Non-Workday Projects)/Rent/Lease < = 1 year",{"$f":"Worktags!AS503","v":"1651"},{"$f":"IF(Worktags!AQ503<>Worktags!AS503,Worktags!AQ503,\"\")","v":"SC6449"},{"$f":"IFERROR(VLOOKUP(B448,Worktags!AL:AO,2,FALSE),\"\")","v":"Construction In Progress (Non-Workday Projects)"},{"$f":"IFERROR(VLOOKUP(C448,Worktags!O:T,2,FALSE),\"\")","v":"Rent/Lease < = 1 year"},{"$f":"IFERROR(VLOOKUP(IF(C448=\"\",B448&\"||\"&B448,C448&\"||\"&B448),Worktags!AR:AV,5,FALSE),\"\")","v":"All"}]
[{"$f":"IF(B449<>\"\",IF(C449<>\"\",B449&\"_\"&C449&\" \"&D449&\"/\"&E449,B449&\" \"&D449),\"\")","v":"1651_SC6450 Construction In Progress (Non-Workday Projects)/Rent/Lease >1 Year"},{"$f":"Worktags!AS507","v":"1651"},{"$f":"IF(Worktags!AQ507<>Worktags!AS507,Worktags!AQ507,\"\")","v":"SC6450"},{"$f":"IFERROR(VLOOKUP(B449,Worktags!AL:AO,2,FALSE),\"\")","v":"Construction In Progress (Non-Workday Projects)"},{"$f":"IFERROR(VLOOKUP(C449,Worktags!O:T,2,FALSE),\"\")","v":"Rent/Lease >1 Year"},{"$f":"IFERROR(VLOOKUP(IF(C449=\"\",B449&\"||\"&B449,C449&\"||\"&B449),Worktags!AR:AV,5,FALSE),\"\")","v":"All"}]
["1651_SC6455 Construction In Progress (Non-Workday Projects)/Services (not otherwise specified)",{"$f":"Worktags!AS519","v":"1651"},{"$f":"IF(Worktags!AQ519<>Worktags!AS519,Worktags!AQ519,\"\")","v":"SC6455"},{"$f":"IFERROR(VLOOKUP(B450,Worktags!AL:AO,2,FALSE),\"\")","v":"Construction In Progress (Non-Workday Projects)"},{"$f":"IFERROR(VLOOKUP(C450,Worktags!O:T,2,FALSE),\"\")","v":"Services (not otherwise specified)"},{"$f":"IFERROR(VLOOKUP(IF(C450=\"\",B450&\"||\"&B450,C450&\"||\"&B450),Worktags!AR:AV,5,FALSE),\"\")","v":"All"}]
["1651_SC6499 Construction In Progress (Non-Workday Projects)/General and Administrative (reclass)",{"$f":"Worktags!AS543","v":"1651"},{"$f":"IF(Worktags!AQ543<>Worktags!AS543,Worktags!AQ543,\"\")","v":"SC6499"},{"$f":"IFERROR(VLOOKUP(B451,Worktags!AL:AO,2,FALSE),\"\")","v":"Construction In Progress (Non-Workday Projects)"},{"$f":"IFERROR(VLOOKUP(C451,Worktags!O:T,2,FALSE),\"\")","v":"General and Administrative (reclass)"},{"$f":"IFERROR(VLOOKUP(IF(C451=\"\",B451&\"||\"&B451,C451&\"||\"&B451),Worktags!AR:AV,5,FALSE),\"\")","v":"All"}]
["1651_SC6701 Construction In Progress (Non-Workday Projects)/Building Access Supplies",{"$f":"Worktags!AS549","v":"1651"},{"$f":"IF(Worktags!AQ549<>Worktags!AS549,Worktags!AQ549,\"\")","v":"SC6701"},{"$f":"IFERROR(VLOOKUP(B452,Worktags!AL:AO,2,FALSE),\"\")","v":"Construction In Progress (Non-Workday Projects)"},{"$f":"IFERROR(VLOOKUP(C452,Worktags!O:T,2,FALSE),\"\")","v":"Building Access Supplies"},{"$f":"IFERROR(VLOOKUP(IF(C452=\"\",B452&\"||\"&B452,C452&\"||\"&B452),Worktags!AR:AV,5,FALSE),\"\")","v":"All"}]
["1651_SC6702 Construction In Progress (Non-Workday Projects)/Building Construction and Improvements",{"$f":"Worktags!AS556","v":"1651"},{"$f":"IF(Worktags!AQ556<>Worktags!AS556,Worktags!AQ556,\"\")","v":"SC6702"},{"$f":"IFERROR(VLOOKUP(B453,Worktags!AL:AO,2,FALSE),\"\")","v":"Construction In Progress (Non-Workday Projects)"},{"$f":"IFERROR(VLOOKUP(C453,Worktags!O:T,2,FALSE),\"\")","v":"Building Construction and Improvements"},{"$f":"IFERROR(VLOOKUP(IF(C453=\"\",B453&\"||\"&B453,C453&\"||\"&B453),Worktags!AR:AV,5,FALSE),\"\")","v":"All"}]
["1651_SC6703 Construction In Progress (Non-Workday Projects)/Building Furnishings",{"$f":"Worktags!AS563","v":"1651"},{"$f":"IF(Worktags!AQ563<>Worktags!AS563,Worktags!AQ563,\"\")","v":"SC6703"},{"$f":"IFERROR(VLOOKUP(B454,Worktags!AL:AO,2,FALSE),\"\")","v":"Construction In Progress (Non-Workday Projects)"},{"$f":"IFERROR(VLOOKUP(C454,Worktags!O:T,2,FALSE),\"\")","v":"Building Furnishings"},{"$f":"IFERROR(VLOOKUP(IF(C454=\"\",B454&\"||\"&B454,C454&\"||\"&B454),Worktags!AR:AV,5,FALSE),\"\")","v":"All"}]
["1651_SC6704 Construction In Progress (Non-Workday Projects)/Building Materials - Finishing",{"$f":"Worktags!AS570","v":"1651"},{"$f":"IF(Worktags!AQ570<>Worktags!AS570,Worktags!AQ570,\"\")","v":"SC6704"},{"$f":"IFERROR(VLOOKUP(B455,Worktags!AL:AO,2,FALSE),\"\")","v":"Construction In Progress (Non-Workday Projects)"},{"$f":"IFERROR(VLOOKUP(C455,Worktags!O:T,2,FALSE),\"\")","v":"Building Materials - Finishing"},{"$f":"IFERROR(VLOOKUP(IF(C455=\"\",B455&\"||\"&B455,C455&\"||\"&B455),Worktags!AR:AV,5,FALSE),\"\")","v":"All"}]
["1651_SC6705 Construction In Progress (Non-Workday Projects)/Building Materials - Raw",{"$f":"Worktags!AS577","v":"1651"},{"$f":"IF(Worktags!AQ577<>Worktags!AS577,Worktags!AQ577,\"\")","v":"SC6705"},{"$f":"IFERROR(VLOOKUP(B456,Worktags!AL:AO,2,FALSE),\"\")","v":"Construction In Progress (Non-Workday Projects)"},{"$f":"IFERROR(VLOOKUP(C456,Worktags!O:T,2,FALSE),\"\")","v":"Building Materials - Raw"},{"$f":"IFERROR(VLOOKUP(IF(C456=\"\",B456&\"||\"&B456,C456&\"||\"&B456),Worktags!AR:AV,5,FALSE),\"\")","v":"All"}]
["1651_SC6706 Construction In Progress (Non-Workday Projects)/Electrical Devices",{"$f":"Worktags!AS584","v":"1651"},{"$f":"IF(Worktags!AQ584<>Worktags!AS584,Worktags!AQ584,\"\")","v":"SC6706"},{"$f":"IFERROR(VLOOKUP(B457,Worktags!AL:AO,2,FALSE),\"\")","v":"Construction In Progress (Non-Workday Projects)"},{"$f":"IFERROR(VLOOKUP(C457,Worktags!O:T,2,FALSE),\"\")","v":"Electrical Devices"},{"$f":"IFERROR(VLOOKUP(IF(C457=\"\",B457&\"||\"&B457,C457&\"||\"&B457),Worktags!AR:AV,5,FALSE),\"\")","v":"All"}]
["1651_SC6707 Construction In Progress (Non-Workday Projects)/Electrical Supplies",{"$f":"Worktags!AS590","v":"1651"},{"$f":"IF(Worktags!AQ590<>Worktags!AS590,Worktags!AQ590,\"\")","v":"SC6707"},{"$f":"IFERROR(VLOOKUP(B458,Worktags!AL:AO,2,FALSE),\"\")","v":"Construction In Progress (Non-Workday Projects)"},{"$f":"IFERROR(VLOOKUP(C458,Worktags!O:T,2,FALSE),\"\")","v":"Electrical Supplies"},{"$f":"IFERROR(VLOOKUP(IF(C458=\"\",B458&\"||\"&B458,C458&\"||\"&B458),Worktags!AR:AV,5,FALSE),\"\")","v":"All"}]
["1651_SC6708 Construction In Progress (Non-Workday Projects)/Fans/Furnaces",{"$f":"Worktags!AS596","v":"1651"},{"$f":"IF(Worktags!AQ596<>Worktags!AS596,Worktags!AQ596,\"\")","v":"SC6708"},{"$f":"IFERROR(VLOOKUP(B459,Worktags!AL:AO,2,FALSE),\"\")","v":"Construction In Progress (Non-Workday Projects)"},{"$f":"IFERROR(VLOOKUP(C459,Worktags!O:T,2,FALSE),\"\")","v":"Fans/Furnaces"},{"$f":"IFERROR(VLOOKUP(IF(C459=\"\",B459&\"||\"&B459,C459&\"||\"&B459),Worktags!AR:AV,5,FALSE),\"\")","v":"All"}]
["1651_SC6709 Construction In Progress (Non-Workday Projects)/Flooring Materials",{"$f":"Worktags!AS603","v":"1651"},{"$f":"IF(Worktags!AQ603<>Worktags!AS603,Worktags!AQ603,\"\")","v":"SC6709"},{"$f":"IFERROR(VLOOKUP(B460,Worktags!AL:AO,2,FALSE),\"\")","v":"Construction In Progress (Non-Workday Projects)"},{"$f":"IFERROR(VLOOKUP(C460,Worktags!O:T,2,FALSE),\"\")","v":"Flooring Materials"},{"$f":"IFERROR(VLOOKUP(IF(C460=\"\",B460&\"||\"&B460,C460&\"||\"&B460),Worktags!AR:AV,5,FALSE),\"\")","v":"All"}]
["1651_SC6710 Construction In Progress (Non-Workday Projects)/Furnishing Accessories",{"$f":"Worktags!AS610","v":"1651"},{"$f":"IF(Worktags!AQ610<>Worktags!AS610,Worktags!AQ610,\"\")","v":"SC6710"},{"$f":"IFERROR(VLOOKUP(B461,Worktags!AL:AO,2,FALSE),\"\")","v":"Construction In Progress (Non-Workday Projects)"},{"$f":"IFERROR(VLOOKUP(C461,Worktags!O:T,2,FALSE),\"\")","v":"Furnishing Accessories"},{"$f":"IFERROR(VLOOKUP(IF(C461=\"\",B461&\"||\"&B461,C461&\"||\"&B461),Worktags!AR:AV,5,FALSE),\"\")","v":"All"}]
["1651_SC6711 Construction In Progress (Non-Workday Projects)/Grounds and Landscaping Supplies",{"$f":"Worktags!AS617","v":"1651"},{"$f":"IF(Worktags!AQ617<>Worktags!AS617,Worktags!AQ617,\"\")","v":"SC6711"},{"$f":"IFERROR(VLOOKUP(B462,Worktags!AL:AO,2,FALSE),\"\")","v":"Construction In Progress (Non-Workday Projects)"},{"$f":"IFERROR(VLOOKUP(C462,Worktags!O:T,2,FALSE),\"\")","v":"Grounds and Landscaping Supplies"},{"$f":"IFERROR(VLOOKUP(IF(C462=\"\",B462&\"||\"&B462,C462&\"||\"&B462),Worktags!AR:AV,5,FALSE),\"\")","v":"All"}]
["1651_SC6713 Construction In Progress (Non-Workday Projects)/Industrial Fixtures",{"$f":"Worktags!AS626","v":"1651"},{"$f":"IF(Worktags!AQ626<>Worktags!AS626,Worktags!AQ626,\"\")","v":"SC6713"},{"$f":"IFERROR(VLOOKUP(B463,Worktags!AL:AO,2,FALSE),\"\")","v":"Construction In Progress (Non-Workday Projects)"},{"$f":"IFERROR(VLOOKUP(C463,Worktags!O:T,2,FALSE),\"\")","v":"Industrial Fixtures"},{"$f":"IFERROR(VLOOKUP(IF(C463=\"\",B463&\"||\"&B463,C463&\"||\"&B463),Worktags!AR:AV,5,FALSE),\"\")","v":"All"}]
["1651_SC6714 Construction In Progress (Non-Workday Projects)/Lighting Fixtures and Lamps",{"$f":"Worktags!AS633","v":"1651"},{"$f":"IF(Worktags!AQ633<>Worktags!AS633,Worktags!AQ633,\"\")","v":"SC6714"},{"$f":"IFERROR(VLOOKUP(B464,Worktags!AL:AO,2,FALSE),\"\")","v":"Construction In Progress (Non-Workday Projects)"},{"$f":"IFERROR(VLOOKUP(C464,Worktags!O:T,2,FALSE),\"\")","v":"Lighting Fixtures and Lamps"},{"$f":"IFERROR(VLOOKUP(IF(C464=\"\",B464&\"||\"&B464,C464&\"||\"&B464),Worktags!AR:AV,5,FALSE),\"\")","v":"All"}]
["1651_SC6715 Construction In Progress (Non-Workday Projects)/Plumbing Fixtures",{"$f":"Worktags!AS640","v":"1651"},{"$f":"IF(Worktags!AQ640<>Worktags!AS640,Worktags!AQ640,\"\")","v":"SC6715"},{"$f":"IFERROR(VLOOKUP(B465,Worktags!AL:AO,2,FALSE),\"\")","v":"Construction In Progress (Non-Workday Projects)"},{"$f":"IFERROR(VLOOKUP(C465,Worktags!O:T,2,FALSE),\"\")","v":"Plumbing Fixtures"},{"$f":"IFERROR(VLOOKUP(IF(C465=\"\",B465&\"||\"&B465,C465&\"||\"&B465),Worktags!AR:AV,5,FALSE),\"\")","v":"All"}]
["1651_SC6716 Construction In Progress (Non-Workday Projects)/Retainage",{"$f":"Worktags!AS645","v":"1651"},{"$f":"IF(Worktags!AQ645<>Worktags!AS645,Worktags!AQ645,\"\")","v":"SC6716"},{"$f":"IFERROR(VLOOKUP(B466,Worktags!AL:AO,2,FALSE),\"\")","v":"Construction In Progress (Non-Workday Projects)"},{"$f":"IFERROR(VLOOKUP(C466,Worktags!O:T,2,FALSE),\"\")","v":"Retainage"},{"$f":"IFERROR(VLOOKUP(IF(C466=\"\",B466&\"||\"&B466,C466&\"||\"&B466),Worktags!AR:AV,5,FALSE),\"\")","v":"All"}]
["1651_SC6717 Construction In Progress (Non-Workday Projects)/Retainage Interest",{"$f":"Worktags!AS648","v":"1651"},{"$f":"IF(Worktags!AQ648<>Worktags!AS648,Worktags!AQ648,\"\")","v":"SC6717"},{"$f":"IFERROR(VLOOKUP(B467,Worktags!AL:AO,2,FALSE),\"\")","v":"Construction In Progress (Non-Workday Projects)"},{"$f":"IFERROR(VLOOKUP(C467,Worktags!O:T,2,FALSE),\"\")","v":"Retainage Interest"},{"$f":"IFERROR(VLOOKUP(IF(C467=\"\",B467&\"||\"&B467,C467&\"||\"&B467),Worktags!AR:AV,5,FALSE),\"\")","v":"All"}]
["1651_SC6718 Construction In Progress (Non-Workday Projects)/Signage, Electronic",{"$f":"Worktags!AS653","v":"1651"},{"$f":"IF(Worktags!AQ653<>Worktags!AS653,Worktags!AQ653,\"\")","v":"SC6718"},{"$f":"IFERROR(VLOOKUP(B468,Worktags!AL:AO,2,FALSE),\"\")","v":"Construction In Progress (Non-Workday Projects)"},{"$f":"IFERROR(VLOOKUP(C468,Worktags!O:T,2,FALSE),\"\")","v":"Signage, Electronic"},{"$f":"IFERROR(VLOOKUP(IF(C468=\"\",B468&\"||\"&B468,C468&\"||\"&B468),Worktags!AR:AV,5,FALSE),\"\")","v":"All"}]
["1651_SC6719 Construction In Progress (Non-Workday Projects)/Signage, Non-electronic",{"$f":"Worktags!AS660","v":"1651"},{"$f":"IF(Worktags!AQ660<>Worktags!AS660,Worktags!AQ660,\"\")","v":"SC6719"},{"$f":"IFERROR(VLOOKUP(B469,Worktags!AL:AO,2,FALSE),\"\")","v":"Construction In Progress (Non-Workday Projects)"},{"$f":"IFERROR(VLOOKUP(C469,Worktags!O:T,2,FALSE),\"\")","v":"Signage, Non-electronic"},{"$f":"IFERROR(VLOOKUP(IF(C469=\"\",B469&\"||\"&B469,C469&\"||\"&B469),Worktags!AR:AV,5,FALSE),\"\")","v":"All"}]
["1651_SC6720 Construction In Progress (Non-Workday Projects)/Specialized Trade Services - Physical Facilities",{"$f":"Worktags!AS666","v":"1651"},{"$f":"IF(Worktags!AQ666<>Worktags!AS666,Worktags!AQ666,\"\")","v":"SC6720"},{"$f":"IFERROR(VLOOKUP(B470,Worktags!AL:AO,2,FALSE),\"\")","v":"Construction In Progress (Non-Workday Projects)"},{"$f":"IFERROR(VLOOKUP(C470,Worktags!O:T,2,FALSE),\"\")","v":"Specialized Trade Services - Physical Facilities"},{"$f":"IFERROR(VLOOKUP(IF(C470=\"\",B470&\"||\"&B470,C470&\"||\"&B470),Worktags!AR:AV,5,FALSE),\"\")","v":"All"}]
["1651_SC6721 Construction In Progress (Non-Workday Projects)/Stage and Studio Lighting (Asset Track)",{"$f":"Worktags!AS671","v":"1651"},{"$f":"IF(Worktags!AQ671<>Worktags!AS671,Worktags!AQ671,\"\")","v":"SC6721"},{"$f":"IFERROR(VLOOKUP(B471,Worktags!AL:AO,2,FALSE),\"\")","v":"Construction In Progress (Non-Workday Projects)"},{"$f":"IFERROR(VLOOKUP(C471,Worktags!O:T,2,FALSE),\"\")","v":"Stage and Studio Lighting (Asset Track)"},{"$f":"IFERROR(VLOOKUP(IF(C471=\"\",B471&\"||\"&B471,C471&\"||\"&B471),Worktags!AR:AV,5,FALSE),\"\")","v":"All"}]
["1651_SC6729 Construction In Progress (Non-Workday Projects)/Warehouse Fixtures",{"$f":"Worktags!AS692","v":"1651"},{"$f":"IF(Worktags!AQ692<>Worktags!AS692,Worktags!AQ692,\"\")","v":"SC6729"},{"$f":"IFERROR(VLOOKUP(B472,Worktags!AL:AO,2,FALSE),\"\")","v":"Construction In Progress (Non-Workday Projects)"},{"$f":"IFERROR(VLOOKUP(C472,Worktags!O:T,2,FALSE),\"\")","v":"Warehouse Fixtures"},{"$f":"IFERROR(VLOOKUP(IF(C472=\"\",B472&\"||\"&B472,C472&\"||\"&B472),Worktags!AR:AV,5,FALSE),\"\")","v":"All"}]
["1651_SC6730 Construction In Progress (Non-Workday Projects)/Window Treatments",{"$f":"Worktags!AS699","v":"1651"},{"$f":"IF(Worktags!AQ699<>Worktags!AS699,Worktags!AQ699,\"\")","v":"SC6730"},{"$f":"IFERROR(VLOOKUP(B473,Worktags!AL:AO,2,FALSE),\"\")","v":"Construction In Progress (Non-Workday Projects)"},{"$f":"IFERROR(VLOOKUP(C473,Worktags!O:T,2,FALSE),\"\")","v":"Window Treatments"},{"$f":"IFERROR(VLOOKUP(IF(C473=\"\",B473&\"||\"&B473,C473&\"||\"&B473),Worktags!AR:AV,5,FALSE),\"\")","v":"All"}]
["1651_SC6799 Construction In Progress (Non-Workday Projects)/Physical Facilities (reclass)",{"$f":"Worktags!AS708","v":"1651"},{"$f":"IF(Worktags!AQ708<>Worktags!AS708,Worktags!AQ708,\"\")","v":"SC6799"},{"$f":"IFERROR(VLOOKUP(B474,Worktags!AL:AO,2,FALSE),\"\")","v":"Construction In Progress (Non-Workday Projects)"},{"$f":"IFERROR(VLOOKUP(C474,Worktags!O:T,2,FALSE),\"\")","v":"Physical Facilities (reclass)"},{"$f":"IFERROR(VLOOKUP(IF(C474=\"\",B474&\"||\"&B474,C474&\"||\"&B474),Worktags!AR:AV,5,FALSE),\"\")","v":"All"}]
["1651_SC6901 Construction In Progress (Non-Workday Projects)/Art Equipment",{"$f":"Worktags!AS713","v":"1651"},{"$f":"IF(Worktags!AQ713<>Worktags!AS713,Worktags!AQ713,\"\")","v":"SC6901"},{"$f":"IFERROR(VLOOKUP(B475,Worktags!AL:AO,2,FALSE),\"\")","v":"Construction In Progress (Non-Workday Projects)"},{"$f":"IFERROR(VLOOKUP(C475,Worktags!O:T,2,FALSE),\"\")","v":"Art Equipment"},{"$f":"IFERROR(VLOOKUP(IF(C475=\"\",B475&\"||\"&B475,C475&\"||\"&B475),Worktags!AR:AV,5,FALSE),\"\")","v":"All"}]
["1651_SC6902 Construction In Progress (Non-Workday Projects)/Athletic Equipment",{"$f":"Worktags!AS720","v":"1651"},{"$f":"IF(Worktags!AQ720<>Worktags!AS720,Worktags!AQ720,\"\")","v":"SC6902"},{"$f":"IFERROR(VLOOKUP(B476,Worktags!AL:AO,2,FALSE),\"\")","v":"Construction In Progress (Non-Workday Projects)"},{"$f":"IFERROR(VLOOKUP(C476,Worktags!O:T,2,FALSE),\"\")","v":"Athletic Equipment"},{"$f":"IFERROR(VLOOKUP(IF(C476=\"\",B476&\"||\"&B476,C476&\"||\"&B476),Worktags!AR:AV,5,FALSE),\"\")","v":"All"}]
["1651_SC6903 Construction In Progress (Non-Workday Projects)/Audio Visual Equipment (Asset Track)",{"$f":"Worktags!AS727","v":"1651"},{"$f":"IF(Worktags!AQ727<>Worktags!AS727,Worktags!AQ727,\"\")","v":"SC6903"},{"$f":"IFERROR(VLOOKUP(B477,Worktags!AL:AO,2,FALSE),\"\")","v":"Construction In Progress (Non-Workday Projects)"},{"$f":"IFERROR(VLOOKUP(C477,Worktags!O:T,2,FALSE),\"\")","v":"Audio Visual Equipment (Asset Track)"},{"$f":"IFERROR(VLOOKUP(IF(C477=\"\",B477&\"||\"&B477,C477&\"||\"&B477),Worktags!AR:AV,5,FALSE),\"\")","v":"All"}]
["1651_SC6904 Construction In Progress (Non-Workday Projects)/Communication Devices (Asset Track)",{"$f":"Worktags!AS734","v":"1651"},{"$f":"IF(Worktags!AQ734<>Worktags!AS734,Worktags!AQ734,\"\")","v":"SC6904"},{"$f":"IFERROR(VLOOKUP(B478,Worktags!AL:AO,2,FALSE),\"\")","v":"Construction In Progress (Non-Workday Projects)"},{"$f":"IFERROR(VLOOKUP(C478,Worktags!O:T,2,FALSE),\"\")","v":"Communication Devices (Asset Track)"},{"$f":"IFERROR(VLOOKUP(IF(C478=\"\",B478&\"||\"&B478,C478&\"||\"&B478),Worktags!AR:AV,5,FALSE),\"\")","v":"All"}]
["1651_SC6905 Construction In Progress (Non-Workday Projects)/Computer Hardware (Asset Track)",{"$f":"Worktags!AS741","v":"1651"},{"$f":"IF(Worktags!AQ741<>Worktags!AS741,Worktags!AQ741,\"\")","v":"SC6905"},{"$f":"IFERROR(VLOOKUP(B479,Worktags!AL:AO,2,FALSE),\"\")","v":"Construction In Progress (Non-Workday Projects)"},{"$f":"IFERROR(VLOOKUP(C479,Worktags!O:T,2,FALSE),\"\")","v":"Computer Hardware (Asset Track)"},{"$f":"IFERROR(VLOOKUP(IF(C479=\"\",B479&\"||\"&B479,C479&\"||\"&B479),Worktags!AR:AV,5,FALSE),\"\")","v":"All"}]
["1651_SC6906 Construction In Progress (Non-Workday Projects)/Data Network Equipment (Asset Track)",{"$f":"Worktags!AS748","v":"1651"},{"$f":"IF(Worktags!AQ748<>Worktags!AS748,Worktags!AQ748,\"\")","v":"SC6906"},{"$f":"IFERROR(VLOOKUP(B480,Worktags!AL:AO,2,FALSE),\"\")","v":"Construction In Progress (Non-Workday Projects)"},{"$f":"IFERROR(VLOOKUP(C480,Worktags!O:T,2,FALSE),\"\")","v":"Data Network Equipment (Asset Track)"},{"$f":"IFERROR(VLOOKUP(IF(C480=\"\",B480&\"||\"&B480,C480&\"||\"&B480),Worktags!AR:AV,5,FALSE),\"\")","v":"All"}]
["1651_SC6907 Construction In Progress (Non-Workday Projects)/Equipment (not otherwise specified) (Asset Track)",{"$f":"Worktags!AS755","v":"1651"},{"$f":"IF(Worktags!AQ755<>Worktags!AS755,Worktags!AQ755,\"\")","v":"SC6907"},{"$f":"IFERROR(VLOOKUP(B481,Worktags!AL:AO,2,FALSE),\"\")","v":"Construction In Progress (Non-Workday Projects)"},{"$f":"IFERROR(VLOOKUP(C481,Worktags!O:T,2,FALSE),\"\")","v":"Equipment (not otherwise specified) (Asset Track)"},{"$f":"IFERROR(VLOOKUP(IF(C481=\"\",B481&\"||\"&B481,C481&\"||\"&B481),Worktags!AR:AV,5,FALSE),\"\")","v":"All"}]
["1651_SC6910 Construction In Progress (Non-Workday Projects)/Food Service Equipment",{"$f":"Worktags!AS769","v":"1651"},{"$f":"IF(Worktags!AQ769<>Worktags!AS769,Worktags!AQ769,\"\")","v":"SC6910"},{"$f":"IFERROR(VLOOKUP(B482,Worktags!AL:AO,2,FALSE),\"\")","v":"Construction In Progress (Non-Workday Projects)"},{"$f":"IFERROR(VLOOKUP(C482,Worktags!O:T,2,FALSE),\"\")","v":"Food Service Equipment"},{"$f":"IFERROR(VLOOKUP(IF(C482=\"\",B482&\"||\"&B482,C482&\"||\"&B482),Worktags!AR:AV,5,FALSE),\"\")","v":"All"}]
["1651_SC6914 Construction In Progress (Non-Workday Projects)/Industrial Equipment",{"$f":"Worktags!AS788","v":"1651"},{"$f":"IF(Worktags!AQ788<>Worktags!AS788,Worktags!AQ788,\"\")","v":"SC6914"},{"$f":"IFERROR(VLOOKUP(B483,Worktags!AL:AO,2,FALSE),\"\")","v":"Construction In Progress (Non-Workday Projects)"},{"$f":"IFERROR(VLOOKUP(C483,Worktags!O:T,2,FALSE),\"\")","v":"Industrial Equipment"},{"$f":"IFERROR(VLOOKUP(IF(C483=\"\",B483&\"||\"&B483,C483&\"||\"&B483),Worktags!AR:AV,5,FALSE),\"\")","v":"All"}]
["1651_SC6915 Construction In Progress (Non-Workday Projects)/Janitorial Equipment",{"$f":"Worktags!AS795","v":"1651"},{"$f":"IF(Worktags!AQ795<>Worktags!AS795,Worktags!AQ795,\"\")","v":"SC6915"},{"$f":"IFERROR(VLOOKUP(B484,Worktags!AL:AO,2,FALSE),\"\")","v":"Construction In Progress (Non-Workday Projects)"},{"$f":"IFERROR(VLOOKUP(C484,Worktags!O:T,2,FALSE),\"\")","v":"Janitorial Equipment"},{"$f":"IFERROR(VLOOKUP(IF(C484=\"\",B484&\"||\"&B484,C484&\"||\"&B484),Worktags!AR:AV,5,FALSE),\"\")","v":"All"}]
["1651_SC6917 Construction In Progress (Non-Workday Projects)/Laundry Equipment",{"$f":"Worktags!AS804","v":"1651"},{"$f":"IF(Worktags!AQ804<>Worktags!AS804,Worktags!AQ804,\"\")","v":"SC6917"},{"$f":"IFERROR(VLOOKUP(B485,Worktags!AL:AO,2,FALSE),\"\")","v":"Construction In Progress (Non-Workday Projects)"},{"$f":"IFERROR(VLOOKUP(C485,Worktags!O:T,2,FALSE),\"\")","v":"Laundry Equipment"},{"$f":"IFERROR(VLOOKUP(IF(C485=\"\",B485&\"||\"&B485,C485&\"||\"&B485),Worktags!AR:AV,5,FALSE),\"\")","v":"All"}]
["1651_SC6921 Construction In Progress (Non-Workday Projects)/Medical Equipment",{"$f":"Worktags!AS823","v":"1651"},{"$f":"IF(Worktags!AQ823<>Worktags!AS823,Worktags!AQ823,\"\")","v":"SC6921"},{"$f":"IFERROR(VLOOKUP(B486,Worktags!AL:AO,2,FALSE),\"\")","v":"Construction In Progress (Non-Workday Projects)"},{"$f":"IFERROR(VLOOKUP(C486,Worktags!O:T,2,FALSE),\"\")","v":"Medical Equipment"},{"$f":"IFERROR(VLOOKUP(IF(C486=\"\",B486&\"||\"&B486,C486&\"||\"&B486),Worktags!AR:AV,5,FALSE),\"\")","v":"All"}]
["1651_SC6924 Construction In Progress (Non-Workday Projects)/Office Equipment (Asset Track)",{"$f":"Worktags!AS837","v":"1651"},{"$f":"IF(Worktags!AQ837<>Worktags!AS837,Worktags!AQ837,\"\")","v":"SC6924"},{"$f":"IFERROR(VLOOKUP(B487,Worktags!AL:AO,2,FALSE),\"\")","v":"Construction In Progress (Non-Workday Projects)"},{"$f":"IFERROR(VLOOKUP(C487,Worktags!O:T,2,FALSE),\"\")","v":"Office Equipment (Asset Track)"},{"$f":"IFERROR(VLOOKUP(IF(C487=\"\",B487&\"||\"&B487,C487&\"||\"&B487),Worktags!AR:AV,5,FALSE),\"\")","v":"All"}]
["1651_SC6927 Construction In Progress (Non-Workday Projects)/Portable Structures",{"$f":"Worktags!AS851","v":"1651"},{"$f":"IF(Worktags!AQ851<>Worktags!AS851,Worktags!AQ851,\"\")","v":"SC6927"},{"$f":"IFERROR(VLOOKUP(B488,Worktags!AL:AO,2,FALSE),\"\")","v":"Construction In Progress (Non-Workday Projects)"},{"$f":"IFERROR(VLOOKUP(C488,Worktags!O:T,2,FALSE),\"\")","v":"Portable Structures"},{"$f":"IFERROR(VLOOKUP(IF(C488=\"\",B488&\"||\"&B488,C488&\"||\"&B488),Worktags!AR:AV,5,FALSE),\"\")","v":"All"}]
["1651_SC6928 Construction In Progress (Non-Workday Projects)/Printing Equipment",{"$f":"Worktags!AS858","v":"1651"},{"$f":"IF(Worktags!AQ858<>Worktags!AS858,Worktags!AQ858,\"\")","v":"SC6928"},{"$f":"IFERROR(VLOOKUP(B489,Worktags!AL:AO,2,FALSE),\"\")","v":"Construction In Progress (Non-Workday Projects)"},{"$f":"IFERROR(VLOOKUP(C489,Worktags!O:T,2,FALSE),\"\")","v":"Printing Equipment"},{"$f":"IFERROR(VLOOKUP(IF(C489=\"\",B489&\"||\"&B489,C489&\"||\"&B489),Worktags!AR:AV,5,FALSE),\"\")","v":"All"}]
["1651_SC6929 Construction In Progress (Non-Workday Projects)/Scientific and Engineering Equipment",{"$f":"Worktags!AS865","v":"1651"},{"$f":"IF(Worktags!AQ865<>Worktags!AS865,Worktags!AQ865,\"\")","v":"SC6929"},{"$f":"IFERROR(VLOOKUP(B490,Worktags!AL:AO,2,FALSE),\"\")","v":"Construction In Progress (Non-Workday Projects)"},{"$f":"IFERROR(VLOOKUP(C490,Worktags!O:T,2,FALSE),\"\")","v":"Scientific and Engineering Equipment"},{"$f":"IFERROR(VLOOKUP(IF(C490=\"\",B490&\"||\"&B490,C490&\"||\"&B490),Worktags!AR:AV,5,FALSE),\"\")","v":"All"}]
["1651_SC6931 Construction In Progress (Non-Workday Projects)/Security Equipment (Asset Track)",{"$f":"Worktags!AS874","v":"1651"},{"$f":"IF(Worktags!AQ874<>Worktags!AS874,Worktags!AQ874,\"\")","v":"SC6931"},{"$f":"IFERROR(VLOOKUP(B491,Worktags!AL:AO,2,FALSE),\"\")","v":"Construction In Progress (Non-Workday Projects)"},{"$f":"IFERROR(VLOOKUP(C491,Worktags!O:T,2,FALSE),\"\")","v":"Security Equipment (Asset Track)"},{"$f":"IFERROR(VLOOKUP(IF(C491=\"\",B491&\"||\"&B491,C491&\"||\"&B491),Worktags!AR:AV,5,FALSE),\"\")","v":"All"}]
["1651_SC6932 Construction In Progress (Non-Workday Projects)/Small Appliances",{"$f":"Worktags!AS881","v":"1651"},{"$f":"IF(Worktags!AQ881<>Worktags!AS881,Worktags!AQ881,\"\")","v":"SC6932"},{"$f":"IFERROR(VLOOKUP(B492,Worktags!AL:AO,2,FALSE),\"\")","v":"Construction In Progress (Non-Workday Projects)"},{"$f":"IFERROR(VLOOKUP(C492,Worktags!O:T,2,FALSE),\"\")","v":"Small Appliances"},{"$f":"IFERROR(VLOOKUP(IF(C492=\"\",B492&\"||\"&B492,C492&\"||\"&B492),Worktags!AR:AV,5,FALSE),\"\")","v":"All"}]
["1651_SC6935 Construction In Progress (Non-Workday Projects)/Telecom Equipment",{"$f":"Worktags!AS895","v":"1651"},{"$f":"IF(Worktags!AQ895<>Worktags!AS895,Worktags!AQ895,\"\")","v":"SC6935"},{"$f":"IFERROR(VLOOKUP(B493,Worktags!AL:AO,2,FALSE),\"\")","v":"Construction In Progress (Non-Workday Projects)"},{"$f":"IFERROR(VLOOKUP(C493,Worktags!O:T,2,FALSE),\"\")","v":"Telecom Equipment"},{"$f":"IFERROR(VLOOKUP(IF(C493=\"\",B493&\"||\"&B493,C493&\"||\"&B493),Worktags!AR:AV,5,FALSE),\"\")","v":"All"}]
["1651_SC6939 Construction In Progress (Non-Workday Projects)/Warehouse Equipment",{"$f":"Worktags!AS914","v":"1651"},{"$f":"IF(Worktags!AQ914<>Worktags!AS914,Worktags!AQ914,\"\")","v":"SC6939"},{"$f":"IFERROR(VLOOKUP(B494,Worktags!AL:AO,2,FALSE),\"\")","v":"Construction In Progress (Non-Workday Projects)"},{"$f":"IFERROR(VLOOKUP(C494,Worktags!O:T,2,FALSE),\"\")","v":"Warehouse Equipment"},{"$f":"IFERROR(VLOOKUP(IF(C494=\"\",B494&\"||\"&B494,C494&\"||\"&B494),Worktags!AR:AV,5,FALSE),\"\")","v":"All"}]
["1651_SC6999 Construction In Progress (Non-Workday Projects)/Equipment (reclass)",{"$f":"Worktags!AS948","v":"1651"},{"$f":"IF(Worktags!AQ948<>Worktags!AS948,Worktags!AQ948,\"\")","v":"SC6999"},{"$f":"IFERROR(VLOOKUP(B495,Worktags!AL:AO,2,FALSE),\"\")","v":"Construction In Progress (Non-Workday Projects)"},{"$f":"IFERROR(VLOOKUP(C495,Worktags!O:T,2,FALSE),\"\")","v":"Equipment (reclass)"},{"$f":"IFERROR(VLOOKUP(IF(C495=\"\",B495&\"||\"&B495,C495&\"||\"&B495),Worktags!AR:AV,5,FALSE),\"\")","v":"All"}]
["1700 Accumulated Depreciation",{"$f":"Worktags!AL69","v":"1700"},null,{"$f":"IFERROR(VLOOKUP(B496,Worktags!AL:AO,2,FALSE),\"\")","v":"Accumulated Depreciation"},null,{"$f":"IFERROR(VLOOKUP(IF(C496=\"\",B496&\"||\"&B496,C496&\"||\"&B496),Worktags!AR:AV,5,FALSE),\"\")","v":""}]
["1700_SC1605 Accumulated Depreciation/Buildings",{"$f":"Worktags!AS224","v":"1700"},{"$f":"IF(Worktags!AQ224<>Worktags!AS224,Worktags!AQ224,\"\")","v":"SC1605"},{"$f":"IFERROR(VLOOKUP(B497,Worktags!AL:AO,2,FALSE),\"\")","v":"Accumulated Depreciation"},{"$f":"IFERROR(VLOOKUP(C497,Worktags!O:T,2,FALSE),\"\")","v":"Buildings"},{"$f":"IFERROR(VLOOKUP(IF(C497=\"\",B497&\"||\"&B497,C497&\"||\"&B497),Worktags!AR:AV,5,FALSE),\"\")","v":"JE_PPE|JE_Override"}]
["1700_SC1635 Accumulated Depreciation/Misc Capital Assets",{"$f":"Worktags!AS228","v":"1700"},{"$f":"IF(Worktags!AQ228<>Worktags!AS228,Worktags!AQ228,\"\")","v":"SC1635"},{"$f":"IFERROR(VLOOKUP(B498,Worktags!AL:AO,2,FALSE),\"\")","v":"Accumulated Depreciation"},{"$f":"IFERROR(VLOOKUP(C498,Worktags!O:T,2,FALSE),\"\")","v":"Misc Capital Assets"},{"$f":"IFERROR(VLOOKUP(IF(C498=\"\",B498&\"||\"&B498,C498&\"||\"&B498),Worktags!AR:AV,5,FALSE),\"\")","v":"JE_PPE|JE_Override"}]
["1700_SC6701 Accumulated Depreciation/Building Access Supplies",{"$f":"Worktags!AS550","v":"1700"},{"$f":"IF(Worktags!AQ550<>Worktags!AS550,Worktags!AQ550,\"\")","v":"SC6701"},{"$f":"IFERROR(VLOOKUP(B499,Worktags!AL:AO,2,FALSE),\"\")","v":"Accumulated Depreciation"},{"$f":"IFERROR(VLOOKUP(C499,Worktags!O:T,2,FALSE),\"\")","v":"Building Access Supplies"},{"$f":"IFERROR(VLOOKUP(IF(C499=\"\",B499&\"||\"&B499,C499&\"||\"&B499),Worktags!AR:AV,5,FALSE),\"\")","v":"JE_PPE|JE_Override"}]
["1700_SC6702 Accumulated Depreciation/Building Construction and Improvements",{"$f":"Worktags!AS557","v":"1700"},{"$f":"IF(Worktags!AQ557<>Worktags!AS557,Worktags!AQ557,\"\")","v":"SC6702"},{"$f":"IFERROR(VLOOKUP(B500,Worktags!AL:AO,2,FALSE),\"\")","v":"Accumulated Depreciation"},{"$f":"IFERROR(VLOOKUP(C500,Worktags!O:T,2,FALSE),\"\")","v":"Building Construction and Improvements"},{"$f":"IFERROR(VLOOKUP(IF(C500=\"\",B500&\"||\"&B500,C500&\"||\"&B500),Worktags!AR:AV,5,FALSE),\"\")","v":"JE_PPE|JE_Override"}]
["1700_SC6703 Accumulated Depreciation/Building Furnishings",{"$f":"Worktags!AS564","v":"1700"},{"$f":"IF(Worktags!AQ564<>Worktags!AS564,Worktags!AQ564,\"\")","v":"SC6703"},{"$f":"IFERROR(VLOOKUP(B501,Worktags!AL:AO,2,FALSE),\"\")","v":"Accumulated Depreciation"},{"$f":"IFERROR(VLOOKUP(C501,Worktags!O:T,2,FALSE),\"\")","v":"Building Furnishings"},{"$f":"IFERROR(VLOOKUP(IF(C501=\"\",B501&\"||\"&B501,C501&\"||\"&B501),Worktags!AR:AV,5,FALSE),\"\")","v":"JE_PPE|JE_Override"}]
["1700_SC6704 Accumulated Depreciation/Building Materials - Finishing",{"$f":"Worktags!AS571","v":"1700"},{"$f":"IF(Worktags!AQ571<>Worktags!AS571,Worktags!AQ571,\"\")","v":"SC6704"},{"$f":"IFERROR(VLOOKUP(B502,Worktags!AL:AO,2,FALSE),\"\")","v":"Accumulated Depreciation"},{"$f":"IFERROR(VLOOKUP(C502,Worktags!O:T,2,FALSE),\"\")","v":"Building Materials - Finishing"},{"$f":"IFERROR(VLOOKUP(IF(C502=\"\",B502&\"||\"&B502,C502&\"||\"&B502),Worktags!AR:AV,5,FALSE),\"\")","v":"JE_PPE|JE_Override"}]
["1700_SC6705 Accumulated Depreciation/Building Materials - Raw",{"$f":"Worktags!AS578","v":"1700"},{"$f":"IF(Worktags!AQ578<>Worktags!AS578,Worktags!AQ578,\"\")","v":"SC6705"},{"$f":"IFERROR(VLOOKUP(B503,Worktags!AL:AO,2,FALSE),\"\")","v":"Accumulated Depreciation"},{"$f":"IFERROR(VLOOKUP(C503,Worktags!O:T,2,FALSE),\"\")","v":"Building Materials - Raw"},{"$f":"IFERROR(VLOOKUP(IF(C503=\"\",B503&\"||\"&B503,C503&\"||\"&B503),Worktags!AR:AV,5,FALSE),\"\")","v":"JE_PPE|JE_Override"}]
["1700_SC6706 Accumulated Depreciation/Electrical Devices",{"$f":"Worktags!AS585","v":"1700"},{"$f":"IF(Worktags!AQ585<>Worktags!AS585,Worktags!AQ585,\"\")","v":"SC6706"},{"$f":"IFERROR(VLOOKUP(B504,Worktags!AL:AO,2,FALSE),\"\")","v":"Accumulated Depreciation"},{"$f":"IFERROR(VLOOKUP(C504,Worktags!O:T,2,FALSE),\"\")","v":"Electrical Devices"},{"$f":"IFERROR(VLOOKUP(IF(C504=\"\",B504&\"||\"&B504,C504&\"||\"&B504),Worktags!AR:AV,5,FALSE),\"\")","v":"JE_PPE|JE_Override"}]
["1700_SC6708 Accumulated Depreciation/Fans/Furnaces",{"$f":"Worktags!AS597","v":"1700"},{"$f":"IF(Worktags!AQ597<>Worktags!AS597,Worktags!AQ597,\"\")","v":"SC6708"},{"$f":"IFERROR(VLOOKUP(B505,Worktags!AL:AO,2,FALSE),\"\")","v":"Accumulated Depreciation"},{"$f":"IFERROR(VLOOKUP(C505,Worktags!O:T,2,FALSE),\"\")","v":"Fans/Furnaces"},{"$f":"IFERROR(VLOOKUP(IF(C505=\"\",B505&\"||\"&B505,C505&\"||\"&B505),Worktags!AR:AV,5,FALSE),\"\")","v":"JE_PPE|JE_Override"}]
["1700_SC6709 Accumulated Depreciation/Flooring Materials",{"$f":"Worktags!AS604","v":"1700"},{"$f":"IF(Worktags!AQ604<>Worktags!AS604,Worktags!AQ604,\"\")","v":"SC6709"},{"$f":"IFERROR(VLOOKUP(B506,Worktags!AL:AO,2,FALSE),\"\")","v":"Accumulated Depreciation"},{"$f":"IFERROR(VLOOKUP(C506,Worktags!O:T,2,FALSE),\"\")","v":"Flooring Materials"},{"$f":"IFERROR(VLOOKUP(IF(C506=\"\",B506&\"||\"&B506,C506&\"||\"&B506),Worktags!AR:AV,5,FALSE),\"\")","v":"JE_PPE|JE_Override"}]
["1700_SC6710 Accumulated Depreciation/Furnishing Accessories",{"$f":"Worktags!AS611","v":"1700"},{"$f":"IF(Worktags!AQ611<>Worktags!AS611,Worktags!AQ611,\"\")","v":"SC6710"},{"$f":"IFERROR(VLOOKUP(B507,Worktags!AL:AO,2,FALSE),\"\")","v":"Accumulated Depreciation"},{"$f":"IFERROR(VLOOKUP(C507,Worktags!O:T,2,FALSE),\"\")","v":"Furnishing Accessories"},{"$f":"IFERROR(VLOOKUP(IF(C507=\"\",B507&\"||\"&B507,C507&\"||\"&B507),Worktags!AR:AV,5,FALSE),\"\")","v":"JE_PPE|JE_Override"}]
["1700_SC6711 Accumulated Depreciation/Grounds and Landscaping Supplies",{"$f":"Worktags!AS618","v":"1700"},{"$f":"IF(Worktags!AQ618<>Worktags!AS618,Worktags!AQ618,\"\")","v":"SC6711"},{"$f":"IFERROR(VLOOKUP(B508,Worktags!AL:AO,2,FALSE),\"\")","v":"Accumulated Depreciation"},{"$f":"IFERROR(VLOOKUP(C508,Worktags!O:T,2,FALSE),\"\")","v":"Grounds and Landscaping Supplies"},{"$f":"IFERROR(VLOOKUP(IF(C508=\"\",B508&\"||\"&B508,C508&\"||\"&B508),Worktags!AR:AV,5,FALSE),\"\")","v":"JE_PPE|JE_Override"}]
["1700_SC6713 Accumulated Depreciation/Industrial Fixtures",{"$f":"Worktags!AS627","v":"1700"},{"$f":"IF(Worktags!AQ627<>Worktags!AS627,Worktags!AQ627,\"\")","v":"SC6713"},{"$f":"IFERROR(VLOOKUP(B509,Worktags!AL:AO,2,FALSE),\"\")","v":"Accumulated Depreciation"},{"$f":"IFERROR(VLOOKUP(C509,Worktags!O:T,2,FALSE),\"\")","v":"Industrial Fixtures"},{"$f":"IFERROR(VLOOKUP(IF(C509=\"\",B509&\"||\"&B509,C509&\"||\"&B509),Worktags!AR:AV,5,FALSE),\"\")","v":"JE_PPE|JE_Override"}]
["1700_SC6714 Accumulated Depreciation/Lighting Fixtures and Lamps",{"$f":"Worktags!AS634","v":"1700"},{"$f":"IF(Worktags!AQ634<>Worktags!AS634,Worktags!AQ634,\"\")","v":"SC6714"},{"$f":"IFERROR(VLOOKUP(B510,Worktags!AL:AO,2,FALSE),\"\")","v":"Accumulated Depreciation"},{"$f":"IFERROR(VLOOKUP(C510,Worktags!O:T,2,FALSE),\"\")","v":"Lighting Fixtures and Lamps"},{"$f":"IFERROR(VLOOKUP(IF(C510=\"\",B510&\"||\"&B510,C510&\"||\"&B510),Worktags!AR:AV,5,FALSE),\"\")","v":"JE_PPE|JE_Override"}]
["1700_SC6715 Accumulated Depreciation/Plumbing Fixtures",{"$f":"Worktags!AS641","v":"1700"},{"$f":"IF(Worktags!AQ641<>Worktags!AS641,Worktags!AQ641,\"\")","v":"SC6715"},{"$f":"IFERROR(VLOOKUP(B511,Worktags!AL:AO,2,FALSE),\"\")","v":"Accumulated Depreciation"},{"$f":"IFERROR(VLOOKUP(C511,Worktags!O:T,2,FALSE),\"\")","v":"Plumbing Fixtures"},{"$f":"IFERROR(VLOOKUP(IF(C511=\"\",B511&\"||\"&B511,C511&\"||\"&B511),Worktags!AR:AV,5,FALSE),\"\")","v":"JE_PPE|JE_Override"}]
["1700_SC6718 Accumulated Depreciation/Signage, Electronic",{"$f":"Worktags!AS654","v":"1700"},{"$f":"IF(Worktags!AQ654<>Worktags!AS654,Worktags!AQ654,\"\")","v":"SC6718"},{"$f":"IFERROR(VLOOKUP(B512,Worktags!AL:AO,2,FALSE),\"\")","v":"Accumulated Depreciation"},{"$f":"IFERROR(VLOOKUP(C512,Worktags!O:T,2,FALSE),\"\")","v":"Signage, Electronic"},{"$f":"IFERROR(VLOOKUP(IF(C512=\"\",B512&\"||\"&B512,C512&\"||\"&B512),Worktags!AR:AV,5,FALSE),\"\")","v":"JE_PPE|JE_Override"}]
[{"$f":"IF(B513<>\"\",IF(C513<>\"\",B513&\"_\"&C513&\" \"&D513&\"/\"&E513,B513&\" \"&D513),\"\")","v":"1700_SC6719 Accumulated Depreciation/Signage, Non-electronic"},{"$f":"Worktags!AS661","v":"1700"},{"$f":"IF(Worktags!AQ661<>Worktags!AS661,Worktags!AQ661,\"\")","v":"SC6719"},{"$f":"IFERROR(VLOOKUP(B513,Worktags!AL:AO,2,FALSE),\"\")","v":"Accumulated Depreciation"},{"$f":"IFERROR(VLOOKUP(C513,Worktags!O:T,2,FALSE),\"\")","v":"Signage, Non-electronic"},{"$f":"IFERROR(VLOOKUP(IF(C513=\"\",B513&\"||\"&B513,C513&\"||\"&B513),Worktags!AR:AV,5,FALSE),\"\")","v":"JE_PPE|JE_Override"}]
["1700_SC6721 Accumulated Depreciation/Stage and Studio Lighting (Asset Track)",{"$f":"Worktags!AS672","v":"1700"},{"$f":"IF(Worktags!AQ672<>Worktags!AS672,Worktags!AQ672,\"\")","v":"SC6721"},{"$f":"IFERROR(VLOOKUP(B514,Worktags!AL:AO,2,FALSE),\"\")","v":"Accumulated Depreciation"},{"$f":"IFERROR(VLOOKUP(C514,Worktags!O:T,2,FALSE),\"\")","v":"Stage and Studio Lighting (Asset Track)"},{"$f":"IFERROR(VLOOKUP(IF(C514=\"\",B514&\"||\"&B514,C514&\"||\"&B514),Worktags!AR:AV,5,FALSE),\"\")","v":"JE_PPE|JE_Override"}]
["1700_SC6729 Accumulated Depreciation/Warehouse Fixtures",{"$f":"Worktags!AS693","v":"1700"},{"$f":"IF(Worktags!AQ693<>Worktags!AS693,Worktags!AQ693,\"\")","v":"SC6729"},{"$f":"IFERROR(VLOOKUP(B515,Worktags!AL:AO,2,FALSE),\"\")","v":"Accumulated Depreciation"},{"$f":"IFERROR(VLOOKUP(C515,Worktags!O:T,2,FALSE),\"\")","v":"Warehouse Fixtures"},{"$f":"IFERROR(VLOOKUP(IF(C515=\"\",B515&\"||\"&B515,C515&\"||\"&B515),Worktags!AR:AV,5,FALSE),\"\")","v":"JE_PPE|JE_Override"}]
["1700_SC6730 Accumulated Depreciation/Window Treatments",{"$f":"Worktags!AS700","v":"1700"},{"$f":"IF(Worktags!AQ700<>Worktags!AS700,Worktags!AQ700,\"\")","v":"SC6730"},{"$f":"IFERROR(VLOOKUP(B516,Worktags!AL:AO,2,FALSE),\"\")","v":"Accumulated Depreciation"},{"$f":"IFERROR(VLOOKUP(C516,Worktags!O:T,2,FALSE),\"\")","v":"Window Treatments"},{"$f":"IFERROR(VLOOKUP(IF(C516=\"\",B516&\"||\"&B516,C516&\"||\"&B516),Worktags!AR:AV,5,FALSE),\"\")","v":"JE_PPE|JE_Override"}]
["1700_SC6901 Accumulated Depreciation/Art Equipment",{"$f":"Worktags!AS714","v":"1700"},{"$f":"IF(Worktags!AQ714<>Worktags!AS714,Worktags!AQ714,\"\")","v":"SC6901"},{"$f":"IFERROR(VLOOKUP(B517,Worktags!AL:AO,2,FALSE),\"\")","v":"Accumulated Depreciation"},{"$f":"IFERROR(VLOOKUP(C517,Worktags!O:T,2,FALSE),\"\")","v":"Art Equipment"},{"$f":"IFERROR(VLOOKUP(IF(C517=\"\",B517&\"||\"&B517,C517&\"||\"&B517),Worktags!AR:AV,5,FALSE),\"\")","v":"JE_PPE|JE_Override"}]
["1700_SC6902 Accumulated Depreciation/Athletic Equipment",{"$f":"Worktags!AS721","v":"1700"},{"$f":"IF(Worktags!AQ721<>Worktags!AS721,Worktags!AQ721,\"\")","v":"SC6902"},{"$f":"IFERROR(VLOOKUP(B518,Worktags!AL:AO,2,FALSE),\"\")","v":"Accumulated Depreciation"},{"$f":"IFERROR(VLOOKUP(C518,Worktags!O:T,2,FALSE),\"\")","v":"Athletic Equipment"},{"$f":"IFERROR(VLOOKUP(IF(C518=\"\",B518&\"||\"&B518,C518&\"||\"&B518),Worktags!AR:AV,5,FALSE),\"\")","v":"JE_PPE|JE_Override"}]
["1700_SC6903 Accumulated Depreciation/Audio Visual Equipment (Asset Track)",{"$f":"Worktags!AS728","v":"1700"},{"$f":"IF(Worktags!AQ728<>Worktags!AS728,Worktags!AQ728,\"\")","v":"SC6903"},{"$f":"IFERROR(VLOOKUP(B519,Worktags!AL:AO,2,FALSE),\"\")","v":"Accumulated Depreciation"},{"$f":"IFERROR(VLOOKUP(C519,Worktags!O:T,2,FALSE),\"\")","v":"Audio Visual Equipment (Asset Track)"},{"$f":"IFERROR(VLOOKUP(IF(C519=\"\",B519&\"||\"&B519,C519&\"||\"&B519),Worktags!AR:AV,5,FALSE),\"\")","v":"JE_PPE|JE_Override"}]
["1700_SC6904 Accumulated Depreciation/Communication Devices (Asset Track)",{"$f":"Worktags!AS735","v":"1700"},{"$f":"IF(Worktags!AQ735<>Worktags!AS735,Worktags!AQ735,\"\")","v":"SC6904"},{"$f":"IFERROR(VLOOKUP(B520,Worktags!AL:AO,2,FALSE),\"\")","v":"Accumulated Depreciation"},{"$f":"IFERROR(VLOOKUP(C520,Worktags!O:T,2,FALSE),\"\")","v":"Communication Devices (Asset Track)"},{"$f":"IFERROR(VLOOKUP(IF(C520=\"\",B520&\"||\"&B520,C520&\"||\"&B520),Worktags!AR:AV,5,FALSE),\"\")","v":"JE_PPE|JE_Override"}]
["1700_SC6905 Accumulated Depreciation/Computer Hardware (Asset Track)",{"$f":"Worktags!AS742","v":"1700"},{"$f":"IF(Worktags!AQ742<>Worktags!AS742,Worktags!AQ742,\"\")","v":"SC6905"},{"$f":"IFERROR(VLOOKUP(B521,Worktags!AL:AO,2,FALSE),\"\")","v":"Accumulated Depreciation"},{"$f":"IFERROR(VLOOKUP(C521,Worktags!O:T,2,FALSE),\"\")","v":"Computer Hardware (Asset Track)"},{"$f":"IFERROR(VLOOKUP(IF(C521=\"\",B521&\"||\"&B521,C521&\"||\"&B521),Worktags!AR:AV,5,FALSE),\"\")","v":"JE_PPE|JE_Override"}]
["1700_SC6906 Accumulated Depreciation/Data Network Equipment (Asset Track)",{"$f":"Worktags!AS749","v":"1700"},{"$f":"IF(Worktags!AQ749<>Worktags!AS749,Worktags!AQ749,\"\")","v":"SC6906"},{"$f":"IFERROR(VLOOKUP(B522,Worktags!AL:AO,2,FALSE),\"\")","v":"Accumulated Depreciation"},{"$f":"IFERROR(VLOOKUP(C522,Worktags!O:T,2,FALSE),\"\")","v":"Data Network Equipment (Asset Track)"},{"$f":"IFERROR(VLOOKUP(IF(C522=\"\",B522&\"||\"&B522,C522&\"||\"&B522),Worktags!AR:AV,5,FALSE),\"\")","v":"JE_PPE|JE_Override"}]
["1700_SC6907 Accumulated Depreciation/Equipment (not otherwise specified) (Asset Track)",{"$f":"Worktags!AS756","v":"1700"},{"$f":"IF(Worktags!AQ756<>Worktags!AS756,Worktags!AQ756,\"\")","v":"SC6907"},{"$f":"IFERROR(VLOOKUP(B523,Worktags!AL:AO,2,FALSE),\"\")","v":"Accumulated Depreciation"},{"$f":"IFERROR(VLOOKUP(C523,Worktags!O:T,2,FALSE),\"\")","v":"Equipment (not otherwise specified) (Asset Track)"},{"$f":"IFERROR(VLOOKUP(IF(C523=\"\",B523&\"||\"&B523,C523&\"||\"&B523),Worktags!AR:AV,5,FALSE),\"\")","v":"JE_PPE|JE_Override"}]
["1700_SC6909 Accumulated Depreciation/Firearms",{"$f":"Worktags!AS763","v":"1700"},{"$f":"IF(Worktags!AQ763<>Worktags!AS763,Worktags!AQ763,\"\")","v":"SC6909"},{"$f":"IFERROR(VLOOKUP(B524,Worktags!AL:AO,2,FALSE),\"\")","v":"Accumulated Depreciation"},{"$f":"IFERROR(VLOOKUP(C524,Worktags!O:T,2,FALSE),\"\")","v":"Firearms"},{"$f":"IFERROR(VLOOKUP(IF(C524=\"\",B524&\"||\"&B524,C524&\"||\"&B524),Worktags!AR:AV,5,FALSE),\"\")","v":"JE_PPE|JE_Override"}]
["1700_SC6910 Accumulated Depreciation/Food Service Equipment",{"$f":"Worktags!AS770","v":"1700"},{"$f":"IF(Worktags!AQ770<>Worktags!AS770,Worktags!AQ770,\"\")","v":"SC6910"},{"$f":"IFERROR(VLOOKUP(B525,Worktags!AL:AO,2,FALSE),\"\")","v":"Accumulated Depreciation"},{"$f":"IFERROR(VLOOKUP(C525,Worktags!O:T,2,FALSE),\"\")","v":"Food Service Equipment"},{"$f":"IFERROR(VLOOKUP(IF(C525=\"\",B525&\"||\"&B525,C525&\"||\"&B525),Worktags!AR:AV,5,FALSE),\"\")","v":"JE_PPE|JE_Override"}]
["1700_SC6911 Accumulated Depreciation/Grants Capital Equipment",{"$f":"Worktags!AS775","v":"1700"},{"$f":"IF(Worktags!AQ775<>Worktags!AS775,Worktags!AQ775,\"\")","v":"SC6911"},{"$f":"IFERROR(VLOOKUP(B526,Worktags!AL:AO,2,FALSE),\"\")","v":"Accumulated Depreciation"},{"$f":"IFERROR(VLOOKUP(C526,Worktags!O:T,2,FALSE),\"\")","v":"Grants Capital Equipment"},{"$f":"IFERROR(VLOOKUP(IF(C526=\"\",B526&\"||\"&B526,C526&\"||\"&B526),Worktags!AR:AV,5,FALSE),\"\")","v":"JE_PPE|JE_Override"}]
["1700_SC6913 Accumulated Depreciation/Grounds Equipment",{"$f":"Worktags!AS782","v":"1700"},{"$f":"IF(Worktags!AQ782<>Worktags!AS782,Worktags!AQ782,\"\")","v":"SC6913"},{"$f":"IFERROR(VLOOKUP(B527,Worktags!AL:AO,2,FALSE),\"\")","v":"Accumulated Depreciation"},{"$f":"IFERROR(VLOOKUP(C527,Worktags!O:T,2,FALSE),\"\")","v":"Grounds Equipment"},{"$f":"IFERROR(VLOOKUP(IF(C527=\"\",B527&\"||\"&B527,C527&\"||\"&B527),Worktags!AR:AV,5,FALSE),\"\")","v":"JE_PPE|JE_Override"}]
["1700_SC6914 Accumulated Depreciation/Industrial Equipment",{"$f":"Worktags!AS789","v":"1700"},{"$f":"IF(Worktags!AQ789<>Worktags!AS789,Worktags!AQ789,\"\")","v":"SC6914"},{"$f":"IFERROR(VLOOKUP(B528,Worktags!AL:AO,2,FALSE),\"\")","v":"Accumulated Depreciation"},{"$f":"IFERROR(VLOOKUP(C528,Worktags!O:T,2,FALSE),\"\")","v":"Industrial Equipment"},{"$f":"IFERROR(VLOOKUP(IF(C528=\"\",B528&\"||\"&B528,C528&\"||\"&B528),Worktags!AR:AV,5,FALSE),\"\")","v":"JE_PPE|JE_Override"}]
["1700_SC6915 Accumulated Depreciation/Janitorial Equipment",{"$f":"Worktags!AS796","v":"1700"},{"$f":"IF(Worktags!AQ796<>Worktags!AS796,Worktags!AQ796,\"\")","v":"SC6915"},{"$f":"IFERROR(VLOOKUP(B529,Worktags!AL:AO,2,FALSE),\"\")","v":"Accumulated Depreciation"},{"$f":"IFERROR(VLOOKUP(C529,Worktags!O:T,2,FALSE),\"\")","v":"Janitorial Equipment"},{"$f":"IFERROR(VLOOKUP(IF(C529=\"\",B529&\"||\"&B529,C529&\"||\"&B529),Worktags!AR:AV,5,FALSE),\"\")","v":"JE_PPE|JE_Override"}]
["1700_SC6917 Accumulated Depreciation/Laundry Equipment",{"$f":"Worktags!AS805","v":"1700"},{"$f":"IF(Worktags!AQ805<>Worktags!AS805,Worktags!AQ805,\"\")","v":"SC6917"},{"$f":"IFERROR(VLOOKUP(B530,Worktags!AL:AO,2,FALSE),\"\")","v":"Accumulated Depreciation"},{"$f":"IFERROR(VLOOKUP(C530,Worktags!O:T,2,FALSE),\"\")","v":"Laundry Equipment"},{"$f":"IFERROR(VLOOKUP(IF(C530=\"\",B530&\"||\"&B530,C530&\"||\"&B530),Worktags!AR:AV,5,FALSE),\"\")","v":"JE_PPE|JE_Override"}]
["1700_SC6918 Accumulated Depreciation/Library Content",{"$f":"Worktags!AS810","v":"1700"},{"$f":"IF(Worktags!AQ810<>Worktags!AS810,Worktags!AQ810,\"\")","v":"SC6918"},{"$f":"IFERROR(VLOOKUP(B531,Worktags!AL:AO,2,FALSE),\"\")","v":"Accumulated Depreciation"},{"$f":"IFERROR(VLOOKUP(C531,Worktags!O:T,2,FALSE),\"\")","v":"Library Content"},{"$f":"IFERROR(VLOOKUP(IF(C531=\"\",B531&\"||\"&B531,C531&\"||\"&B531),Worktags!AR:AV,5,FALSE),\"\")","v":"JE_PPE|JE_Override"}]
["1700_SC6920 Accumulated Depreciation/Media Content",{"$f":"Worktags!AS817","v":"1700"},{"$f":"IF(Worktags!AQ817<>Worktags!AS817,Worktags!AQ817,\"\")","v":"SC6920"},{"$f":"IFERROR(VLOOKUP(B532,Worktags!AL:AO,2,FALSE),\"\")","v":"Accumulated Depreciation"},{"$f":"IFERROR(VLOOKUP(C532,Worktags!O:T,2,FALSE),\"\")","v":"Media Content"},{"$f":"IFERROR(VLOOKUP(IF(C532=\"\",B532&\"||\"&B532,C532&\"||\"&B532),Worktags!AR:AV,5,FALSE),\"\")","v":"JE_PPE|JE_Override"}]
["1700_SC6921 Accumulated Depreciation/Medical Equipment",{"$f":"Worktags!AS824","v":"1700"},{"$f":"IF(Worktags!AQ824<>Worktags!AS824,Worktags!AQ824,\"\")","v":"SC6921"},{"$f":"IFERROR(VLOOKUP(B533,Worktags!AL:AO,2,FALSE),\"\")","v":"Accumulated Depreciation"},{"$f":"IFERROR(VLOOKUP(C533,Worktags!O:T,2,FALSE),\"\")","v":"Medical Equipment"},{"$f":"IFERROR(VLOOKUP(IF(C533=\"\",B533&\"||\"&B533,C533&\"||\"&B533),Worktags!AR:AV,5,FALSE),\"\")","v":"JE_PPE|JE_Override"}]
["1700_SC6923 Accumulated Depreciation/Musical Instruments",{"$f":"Worktags!AS831","v":"1700"},{"$f":"IF(Worktags!AQ831<>Worktags!AS831,Worktags!AQ831,\"\")","v":"SC6923"},{"$f":"IFERROR(VLOOKUP(B534,Worktags!AL:AO,2,FALSE),\"\")","v":"Accumulated Depreciation"},{"$f":"IFERROR(VLOOKUP(C534,Worktags!O:T,2,FALSE),\"\")","v":"Musical Instruments"},{"$f":"IFERROR(VLOOKUP(IF(C534=\"\",B534&\"||\"&B534,C534&\"||\"&B534),Worktags!AR:AV,5,FALSE),\"\")","v":"JE_PPE|JE_Override"}]
["1700_SC6924 Accumulated Depreciation/Office Equipment (Asset Track)",{"$f":"Worktags!AS838","v":"1700"},{"$f":"IF(Worktags!AQ838<>Worktags!AS838,Worktags!AQ838,\"\")","v":"SC6924"},{"$f":"IFERROR(VLOOKUP(B535,Worktags!AL:AO,2,FALSE),\"\")","v":"Accumulated Depreciation"},{"$f":"IFERROR(VLOOKUP(C535,Worktags!O:T,2,FALSE),\"\")","v":"Office Equipment (Asset Track)"},{"$f":"IFERROR(VLOOKUP(IF(C535=\"\",B535&\"||\"&B535,C535&\"||\"&B535),Worktags!AR:AV,5,FALSE),\"\")","v":"JE_PPE|JE_Override"}]
["1700_SC6926 Accumulated Depreciation/Photography Equipment",{"$f":"Worktags!AS845","v":"1700"},{"$f":"IF(Worktags!AQ845<>Worktags!AS845,Worktags!AQ845,\"\")","v":"SC6926"},{"$f":"IFERROR(VLOOKUP(B536,Worktags!AL:AO,2,FALSE),\"\")","v":"Accumulated Depreciation"},{"$f":"IFERROR(VLOOKUP(C536,Worktags!O:T,2,FALSE),\"\")","v":"Photography Equipment"},{"$f":"IFERROR(VLOOKUP(IF(C536=\"\",B536&\"||\"&B536,C536&\"||\"&B536),Worktags!AR:AV,5,FALSE),\"\")","v":"JE_PPE|JE_Override"}]
["1700_SC6927 Accumulated Depreciation/Portable Structures",{"$f":"Worktags!AS852","v":"1700"},{"$f":"IF(Worktags!AQ852<>Worktags!AS852,Worktags!AQ852,\"\")","v":"SC6927"},{"$f":"IFERROR(VLOOKUP(B537,Worktags!AL:AO,2,FALSE),\"\")","v":"Accumulated Depreciation"},{"$f":"IFERROR(VLOOKUP(C537,Worktags!O:T,2,FALSE),\"\")","v":"Portable Structures"},{"$f":"IFERROR(VLOOKUP(IF(C537=\"\",B537&\"||\"&B537,C537&\"||\"&B537),Worktags!AR:AV,5,FALSE),\"\")","v":"JE_PPE|JE_Override"}]
["1700_SC6928 Accumulated Depreciation/Printing Equipment",{"$f":"Worktags!AS859","v":"1700"},{"$f":"IF(Worktags!AQ859<>Worktags!AS859,Worktags!AQ859,\"\")","v":"SC6928"},{"$f":"IFERROR(VLOOKUP(B538,Worktags!AL:AO,2,FALSE),\"\")","v":"Accumulated Depreciation"},{"$f":"IFERROR(VLOOKUP(C538,Worktags!O:T,2,FALSE),\"\")","v":"Printing Equipment"},{"$f":"IFERROR(VLOOKUP(IF(C538=\"\",B538&\"||\"&B538,C538&\"||\"&B538),Worktags!AR:AV,5,FALSE),\"\")","v":"JE_PPE|JE_Override"}]
["1700_SC6929 Accumulated Depreciation/Scientific and Engineering Equipment",{"$f":"Worktags!AS866","v":"1700"},{"$f":"IF(Worktags!AQ866<>Worktags!AS866,Worktags!AQ866,\"\")","v":"SC6929"},{"$f":"IFERROR(VLOOKUP(B539,Worktags!AL:AO,2,FALSE),\"\")","v":"Accumulated Depreciation"},{"$f":"IFERROR(VLOOKUP(C539,Worktags!O:T,2,FALSE),\"\")","v":"Scientific and Engineering Equipment"},{"$f":"IFERROR(VLOOKUP(IF(C539=\"\",B539&\"||\"&B539,C539&\"||\"&B539),Worktags!AR:AV,5,FALSE),\"\")","v":"JE_PPE|JE_Override"}]
["1700_SC6931 Accumulated Depreciation/Security Equipment (Asset Track)",{"$f":"Worktags!AS875","v":"1700"},{"$f":"IF(Worktags!AQ875<>Worktags!AS875,Worktags!AQ875,\"\")","v":"SC6931"},{"$f":"IFERROR(VLOOKUP(B540,Worktags!AL:AO,2,FALSE),\"\")","v":"Accumulated Depreciation"},{"$f":"IFERROR(VLOOKUP(C540,Worktags!O:T,2,FALSE),\"\")","v":"Security Equipment (Asset Track)"},{"$f":"IFERROR(VLOOKUP(IF(C540=\"\",B540&\"||\"&B540,C540&\"||\"&B540),Worktags!AR:AV,5,FALSE),\"\")","v":"JE_PPE|JE_Override"}]
["1700_SC6932 Accumulated Depreciation/Small Appliances",{"$f":"Worktags!AS882","v":"1700"},{"$f":"IF(Worktags!AQ882<>Worktags!AS882,Worktags!AQ882,\"\")","v":"SC6932"},{"$f":"IFERROR(VLOOKUP(B541,Worktags!AL:AO,2,FALSE),\"\")","v":"Accumulated Depreciation"},{"$f":"IFERROR(VLOOKUP(C541,Worktags!O:T,2,FALSE),\"\")","v":"Small Appliances"},{"$f":"IFERROR(VLOOKUP(IF(C541=\"\",B541&\"||\"&B541,C541&\"||\"&B541),Worktags!AR:AV,5,FALSE),\"\")","v":"JE_PPE|JE_Override"}]
["1700_SC6933 Accumulated Depreciation/Software",{"$f":"Worktags!AS887","v":"1700"},{"$f":"IF(Worktags!AQ887<>Worktags!AS887,Worktags!AQ887,\"\")","v":"SC6933"},{"$f":"IFERROR(VLOOKUP(B542,Worktags!AL:AO,2,FALSE),\"\")","v":"Accumulated Depreciation"},{"$f":"IFERROR(VLOOKUP(C542,Worktags!O:T,2,FALSE),\"\")","v":"Software"},{"$f":"IFERROR(VLOOKUP(IF(C542=\"\",B542&\"||\"&B542,C542&\"||\"&B542),Worktags!AR:AV,5,FALSE),\"\")","v":"JE_PPE|JE_Override"}]
["1700_SC6935 Accumulated Depreciation/Telecom Equipment",{"$f":"Worktags!AS896","v":"1700"},{"$f":"IF(Worktags!AQ896<>Worktags!AS896,Worktags!AQ896,\"\")","v":"SC6935"},{"$f":"IFERROR(VLOOKUP(B543,Worktags!AL:AO,2,FALSE),\"\")","v":"Accumulated Depreciation"},{"$f":"IFERROR(VLOOKUP(C543,Worktags!O:T,2,FALSE),\"\")","v":"Telecom Equipment"},{"$f":"IFERROR(VLOOKUP(IF(C543=\"\",B543&\"||\"&B543,C543&\"||\"&B543),Worktags!AR:AV,5,FALSE),\"\")","v":"JE_PPE|JE_Override"}]
["1700_SC6937 Accumulated Depreciation/Vehicles, Motor",{"$f":"Worktags!AS903","v":"1700"},{"$f":"IF(Worktags!AQ903<>Worktags!AS903,Worktags!AQ903,\"\")","v":"SC6937"},{"$f":"IFERROR(VLOOKUP(B544,Worktags!AL:AO,2,FALSE),\"\")","v":"Accumulated Depreciation"},{"$f":"IFERROR(VLOOKUP(C544,Worktags!O:T,2,FALSE),\"\")","v":"Vehicles, Motor"},{"$f":"IFERROR(VLOOKUP(IF(C544=\"\",B544&\"||\"&B544,C544&\"||\"&B544),Worktags!AR:AV,5,FALSE),\"\")","v":"JE_PPE|JE_Override"}]
["1700_SC6938 Accumulated Depreciation/Vehicles, Off-Road",{"$f":"Worktags!AS908","v":"1700"},{"$f":"IF(Worktags!AQ908<>Worktags!AS908,Worktags!AQ908,\"\")","v":"SC6938"},{"$f":"IFERROR(VLOOKUP(B545,Worktags!AL:AO,2,FALSE),\"\")","v":"Accumulated Depreciation"},{"$f":"IFERROR(VLOOKUP(C545,Worktags!O:T,2,FALSE),\"\")","v":"Vehicles, Off-Road"},{"$f":"IFERROR(VLOOKUP(IF(C545=\"\",B545&\"||\"&B545,C545&\"||\"&B545),Worktags!AR:AV,5,FALSE),\"\")","v":"JE_PPE|JE_Override"}]
["1700_SC6939 Accumulated Depreciation/Warehouse Equipment",{"$f":"Worktags!AS915","v":"1700"},{"$f":"IF(Worktags!AQ915<>Worktags!AS915,Worktags!AQ915,\"\")","v":"SC6939"},{"$f":"IFERROR(VLOOKUP(B546,Worktags!AL:AO,2,FALSE),\"\")","v":"Accumulated Depreciation"},{"$f":"IFERROR(VLOOKUP(C546,Worktags!O:T,2,FALSE),\"\")","v":"Warehouse Equipment"},{"$f":"IFERROR(VLOOKUP(IF(C546=\"\",B546&\"||\"&B546,C546&\"||\"&B546),Worktags!AR:AV,5,FALSE),\"\")","v":"JE_PPE|JE_Override"}]
["2000 Accounts Payable",{"$f":"Worktags!AL70","v":"2000"},null,{"$f":"IFERROR(VLOOKUP(B547,Worktags!AL:AO,2,FALSE),\"\")","v":"Accounts Payable"},null,{"$f":"IFERROR(VLOOKUP(IF(C547=\"\",B547&\"||\"&B547,C547&\"||\"&B547),Worktags!AR:AV,5,FALSE),\"\")","v":"JE_Override"}]
["2000 Accounts Payable",{"$f":"Worktags!AS51","v":"2000"},{"$f":"IF(Worktags!AQ51<>Worktags!AS51,Worktags!AQ51,\"\")","v":""},{"$f":"IFERROR(VLOOKUP(B548,Worktags!AL:AO,2,FALSE),\"\")","v":"Accounts Payable"},{"$f":"IFERROR(VLOOKUP(C548,Worktags!O:T,2,FALSE),\"\")","v":""},{"$f":"IFERROR(VLOOKUP(IF(C548=\"\",B548&\"||\"&B548,C548&\"||\"&B548),Worktags!AR:AV,5,FALSE),\"\")","v":"JE_Override"}]
["2010 Procurement Card Payable",{"$f":"Worktags!AL71","v":"2010"},null,{"$f":"IFERROR(VLOOKUP(B549,Worktags!AL:AO,2,FALSE),\"\")","v":"Procurement Card Payable"},null,{"$f":"IFERROR(VLOOKUP(IF(C549=\"\",B549&\"||\"&B549,C549&\"||\"&B549),Worktags!AR:AV,5,FALSE),\"\")","v":""}]
["2010_SC2010 Procurement Card Payable/Procurement Card Payable",{"$f":"Worktags!AS230","v":"2010"},{"$f":"IF(Worktags!AQ230<>Worktags!AS230,Worktags!AQ230,\"\")","v":"SC2010"},{"$f":"IFERROR(VLOOKUP(B550,Worktags!AL:AO,2,FALSE),\"\")","v":"Procurement Card Payable"},{"$f":"IFERROR(VLOOKUP(C550,Worktags!O:T,2,FALSE),\"\")","v":"Procurement Card Payable"},{"$f":"IFERROR(VLOOKUP(IF(C550=\"\",B550&\"||\"&B550,C550&\"||\"&B550),Worktags!AR:AV,5,FALSE),\"\")","v":"All"}]
["2010_SC2011 Procurement Card Payable/Virtual Card Payable",{"$f":"Worktags!AS231","v":"2010"},{"$f":"IF(Worktags!AQ231<>Worktags!AS231,Worktags!AQ231,\"\")","v":"SC2011"},{"$f":"IFERROR(VLOOKUP(B551,Worktags!AL:AO,2,FALSE),\"\")","v":"Procurement Card Payable"},{"$f":"IFERROR(VLOOKUP(C551,Worktags!O:T,2,FALSE),\"\")","v":"Virtual Card Payable"},{"$f":"IFERROR(VLOOKUP(IF(C551=\"\",B551&\"||\"&B551,C551&\"||\"&B551),Worktags!AR:AV,5,FALSE),\"\")","v":"All"}]
["2020 Other and Retainages Payable",{"$f":"Worktags!AL72","v":"2020"},null,{"$f":"IFERROR(VLOOKUP(B552,Worktags!AL:AO,2,FALSE),\"\")","v":"Other and Retainages Payable"},null,{"$f":"IFERROR(VLOOKUP(IF(C552=\"\",B552&\"||\"&B552,C552&\"||\"&B552),Worktags!AR:AV,5,FALSE),\"\")","v":""}]
["2020_SC2020 Other and Retainages Payable/Other and Retainages Payable",{"$f":"Worktags!AS232","v":"2020"},{"$f":"IF(Worktags!AQ232<>Worktags!AS232,Worktags!AQ232,\"\")","v":"SC2020"},{"$f":"IFERROR(VLOOKUP(B553,Worktags!AL:AO,2,FALSE),\"\")","v":"Other and Retainages Payable"},{"$f":"IFERROR(VLOOKUP(C553,Worktags!O:T,2,FALSE),\"\")","v":"Other and Retainages Payable"},{"$f":"IFERROR(VLOOKUP(IF(C553=\"\",B553&\"||\"&B553,C553&\"||\"&B553),Worktags!AR:AV,5,FALSE),\"\")","v":"All"}]
["2020_SC2021 Other and Retainages Payable/Escheatment Expense",{"$f":"Worktags!AS233","v":"2020"},{"$f":"IF(Worktags!AQ233<>Worktags!AS233,Worktags!AQ233,\"\")","v":"SC2021"},{"$f":"IFERROR(VLOOKUP(B554,Worktags!AL:AO,2,FALSE),\"\")","v":"Other and Retainages Payable"},{"$f":"IFERROR(VLOOKUP(C554,Worktags!O:T,2,FALSE),\"\")","v":"Escheatment Expense"},{"$f":"IFERROR(VLOOKUP(IF(C554=\"\",B554&\"||\"&B554,C554&\"||\"&B554),Worktags!AR:AV,5,FALSE),\"\")","v":"All"}]
["2025 Payroll Net Pay Clearing",{"$f":"Worktags!AL73","v":"2025"},null,{"$f":"IFERROR(VLOOKUP(B555,Worktags!AL:AO,2,FALSE),\"\")","v":"Payroll Net Pay Clearing"},null,{"$f":"IFERROR(VLOOKUP(IF(C555=\"\",B555&\"||\"&B555,C555&\"||\"&B555),Worktags!AR:AV,5,FALSE),\"\")","v":"JE_Payroll|JE_Override"}]
["2025 Payroll Net Pay Clearing",{"$f":"Worktags!AS52","v":"2025"},{"$f":"IF(Worktags!AQ52<>Worktags!AS52,Worktags!AQ52,\"\")","v":""},{"$f":"IFERROR(VLOOKUP(B556,Worktags!AL:AO,2,FALSE),\"\")","v":"Payroll Net Pay Clearing"},{"$f":"IFERROR(VLOOKUP(C556,Worktags!O:T,2,FALSE),\"\")","v":""},{"$f":"IFERROR(VLOOKUP(IF(C556=\"\",B556&\"||\"&B556,C556&\"||\"&B556),Worktags!AR:AV,5,FALSE),\"\")","v":"JE_Payroll|JE_Override"}]
["2030 Other Payroll Deducts Payable",{"$f":"Worktags!AL74","v":"2030"},null,{"$f":"IFERROR(VLOOKUP(B557,Worktags!AL:AO,2,FALSE),\"\")","v":"Other Payroll Deducts Payable"},null,{"$f":"IFERROR(VLOOKUP(IF(C557=\"\",B557&\"||\"&B557,C557&\"||\"&B557),Worktags!AR:AV,5,FALSE),\"\")","v":""}]
["2030_SC2030 Other Payroll Deducts Payable/Other Payroll Deducts Payable",{"$f":"Worktags!AS234","v":"2030"},{"$f":"IF(Worktags!AQ234<>Worktags!AS234,Worktags!AQ234,\"\")","v":"SC2030"},{"$f":"IFERROR(VLOOKUP(B558,Worktags!AL:AO,2,FALSE),\"\")","v":"Other Payroll Deducts Payable"},{"$f":"IFERROR(VLOOKUP(C558,Worktags!O:T,2,FALSE),\"\")","v":"Other Payroll Deducts Payable"},{"$f":"IFERROR(VLOOKUP(IF(C558=\"\",B558&\"||\"&B558,C558&\"||\"&B558),Worktags!AR:AV,5,FALSE),\"\")","v":"All"}]
["2030_SC2031 Other Payroll Deducts Payable/Garnishments",{"$f":"Worktags!AS235","v":"2030"},{"$f":"IF(Worktags!AQ235<>Worktags!AS235,Worktags!AQ235,\"\")","v":"SC2031"},{"$f":"IFERROR(VLOOKUP(B559,Worktags!AL:AO,2,FALSE),\"\")","v":"Other Payroll Deducts Payable"},{"$f":"IFERROR(VLOOKUP(C559,Worktags!O:T,2,FALSE),\"\")","v":"Garnishments"},{"$f":"IFERROR(VLOOKUP(IF(C559=\"\",B559&\"||\"&B559,C559&\"||\"&B559),Worktags!AR:AV,5,FALSE),\"\")","v":"All"}]
["2030_SC2032 Other Payroll Deducts Payable/Employee Passthrough Donations",{"$f":"Worktags!AS236","v":"2030"},{"$f":"IF(Worktags!AQ236<>Worktags!AS236,Worktags!AQ236,\"\")","v":"SC2032"},{"$f":"IFERROR(VLOOKUP(B560,Worktags!AL:AO,2,FALSE),\"\")","v":"Other Payroll Deducts Payable"},{"$f":"IFERROR(VLOOKUP(C560,Worktags!O:T,2,FALSE),\"\")","v":"Employee Passthrough Donations"},{"$f":"IFERROR(VLOOKUP(IF(C560=\"\",B560&\"||\"&B560,C560&\"||\"&B560),Worktags!AR:AV,5,FALSE),\"\")","v":"All"}]
["2030_SC2033 Other Payroll Deducts Payable/FICA Offset/Recollect",{"$f":"Worktags!AS237","v":"2030"},{"$f":"IF(Worktags!AQ237<>Worktags!AS237,Worktags!AQ237,\"\")","v":"SC2033"},{"$f":"IFERROR(VLOOKUP(B561,Worktags!AL:AO,2,FALSE),\"\")","v":"Other Payroll Deducts Payable"},{"$f":"IFERROR(VLOOKUP(C561,Worktags!O:T,2,FALSE),\"\")","v":"FICA Offset/Recollect"},{"$f":"IFERROR(VLOOKUP(IF(C561=\"\",B561&\"||\"&B561,C561&\"||\"&B561),Worktags!AR:AV,5,FALSE),\"\")","v":"All"}]
["2090 Clearing-Accounts Payable",{"$f":"Worktags!AL75","v":"2090"},null,{"$f":"IFERROR(VLOOKUP(B562,Worktags!AL:AO,2,FALSE),\"\")","v":"Clearing-Accounts Payable"},null,{"$f":"IFERROR(VLOOKUP(IF(C562=\"\",B562&\"||\"&B562,C562&\"||\"&B562),Worktags!AR:AV,5,FALSE),\"\")","v":"All"}]
["2090 Clearing-Accounts Payable",{"$f":"Worktags!AS53","v":"2090"},{"$f":"IF(Worktags!AQ53<>Worktags!AS53,Worktags!AQ53,\"\")","v":""},{"$f":"IFERROR(VLOOKUP(B563,Worktags!AL:AO,2,FALSE),\"\")","v":"Clearing-Accounts Payable"},{"$f":"IFERROR(VLOOKUP(C563,Worktags!O:T,2,FALSE),\"\")","v":""},{"$f":"IFERROR(VLOOKUP(IF(C563=\"\",B563&\"||\"&B563,C563&\"||\"&B563),Worktags!AR:AV,5,FALSE),\"\")","v":"All"}]
["2090_SC2090 Clearing-Accounts Payable/Clearing-Accounts Payable",{"$f":"Worktags!AS238","v":"2090"},{"$f":"IF(Worktags!AQ238<>Worktags!AS238,Worktags!AQ238,\"\")","v":"SC2090"},{"$f":"IFERROR(VLOOKUP(B564,Worktags!AL:AO,2,FALSE),\"\")","v":"Clearing-Accounts Payable"},{"$f":"IFERROR(VLOOKUP(C564,Worktags!O:T,2,FALSE),\"\")","v":"Clearing-Accounts Payable"},{"$f":"IFERROR(VLOOKUP(IF(C564=\"\",B564&\"||\"&B564,C564&\"||\"&B564),Worktags!AR:AV,5,FALSE),\"\")","v":"All"}]
["2100 FICA Payable",{"$f":"Worktags!AL76","v":"2100"},null,{"$f":"IFERROR(VLOOKUP(B565,Worktags!AL:AO,2,FALSE),\"\")","v":"FICA Payable"},null,{"$f":"IFERROR(VLOOKUP(IF(C565=\"\",B565&\"||\"&B565,C565&\"||\"&B565),Worktags!AR:AV,5,FALSE),\"\")","v":""}]
["2100_SC2100 FICA Payable/FICA Payable",{"$f":"Worktags!AS239","v":"2100"},{"$f":"IF(Worktags!AQ239<>Worktags!AS239,Worktags!AQ239,\"\")","v":"SC2100"},{"$f":"IFERROR(VLOOKUP(B566,Worktags!AL:AO,2,FALSE),\"\")","v":"FICA Payable"},{"$f":"IFERROR(VLOOKUP(C566,Worktags!O:T,2,FALSE),\"\")","v":"FICA Payable"},{"$f":"IFERROR(VLOOKUP(IF(C566=\"\",B566&\"||\"&B566,C566&\"||\"&B566),Worktags!AR:AV,5,FALSE),\"\")","v":"All"}]
["2105 Federal Withholding Payable",{"$f":"Worktags!AL77","v":"2105"},null,{"$f":"IFERROR(VLOOKUP(B567,Worktags!AL:AO,2,FALSE),\"\")","v":"Federal Withholding Payable"},null,{"$f":"IFERROR(VLOOKUP(IF(C567=\"\",B567&\"||\"&B567,C567&\"||\"&B567),Worktags!AR:AV,5,FALSE),\"\")","v":""}]
["2105_SC2105 Federal Withholding Payable/Federal Withholding Payable",{"$f":"Worktags!AS240","v":"2105"},{"$f":"IF(Worktags!AQ240<>Worktags!AS240,Worktags!AQ240,\"\")","v":"SC2105"},{"$f":"IFERROR(VLOOKUP(B568,Worktags!AL:AO,2,FALSE),\"\")","v":"Federal Withholding Payable"},{"$f":"IFERROR(VLOOKUP(C568,Worktags!O:T,2,FALSE),\"\")","v":"Federal Withholding Payable"},{"$f":"IFERROR(VLOOKUP(IF(C568=\"\",B568&\"||\"&B568,C568&\"||\"&B568),Worktags!AR:AV,5,FALSE),\"\")","v":"All"}]
["2110 State Payroll Taxes Payable",{"$f":"Worktags!AL78","v":"2110"},null,{"$f":"IFERROR(VLOOKUP(B569,Worktags!AL:AO,2,FALSE),\"\")","v":"State Payroll Taxes Payable"},null,{"$f":"IFERROR(VLOOKUP(IF(C569=\"\",B569&\"||\"&B569,C569&\"||\"&B569),Worktags!AR:AV,5,FALSE),\"\")","v":""}]
["2110_SC2110 State Payroll Taxes Payable/State Payroll Taxes Payable",{"$f":"Worktags!AS241","v":"2110"},{"$f":"IF(Worktags!AQ241<>Worktags!AS241,Worktags!AQ241,\"\")","v":"SC2110"},{"$f":"IFERROR(VLOOKUP(B570,Worktags!AL:AO,2,FALSE),\"\")","v":"State Payroll Taxes Payable"},{"$f":"IFERROR(VLOOKUP(C570,Worktags!O:T,2,FALSE),\"\")","v":"State Payroll Taxes Payable"},{"$f":"IFERROR(VLOOKUP(IF(C570=\"\",B570&\"||\"&B570,C570&\"||\"&B570),Worktags!AR:AV,5,FALSE),\"\")","v":"All"}]
["2130 Sales Tax Payable - Utah",{"$f":"Worktags!AL79","v":"2130"},null,{"$f":"IFERROR(VLOOKUP(B571,Worktags!AL:AO,2,FALSE),\"\")","v":"Sales Tax Payable - Utah"},null,{"$f":"IFERROR(VLOOKUP(IF(C571=\"\",B571&\"||\"&B571,C571&\"||\"&B571),Worktags!AR:AV,5,FALSE),\"\")","v":""}]
["2130_SC2130 Sales Tax Payable - Utah/Sales Tax Payable - Utah",{"$f":"Worktags!AS242","v":"2130"},{"$f":"IF(Worktags!AQ242<>Worktags!AS242,Worktags!AQ242,\"\")","v":"SC2130"},{"$f":"IFERROR(VLOOKUP(B572,Worktags!AL:AO,2,FALSE),\"\")","v":"Sales Tax Payable - Utah"},{"$f":"IFERROR(VLOOKUP(C572,Worktags!O:T,2,FALSE),\"\")","v":"Sales Tax Payable - Utah"},{"$f":"IFERROR(VLOOKUP(IF(C572=\"\",B572&\"||\"&B572,C572&\"||\"&B572),Worktags!AR:AV,5,FALSE),\"\")","v":"All"}]
["2132 Sales Tax Payable - Other States",{"$f":"Worktags!AL80","v":"2132"},null,{"$f":"IFERROR(VLOOKUP(B573,Worktags!AL:AO,2,FALSE),\"\")","v":"Sales Tax Payable - Other States"},null,{"$f":"IFERROR(VLOOKUP(IF(C573=\"\",B573&\"||\"&B573,C573&\"||\"&B573),Worktags!AR:AV,5,FALSE),\"\")","v":""}]
["2132_SC2132 Sales Tax Payable - Other States/Sales Tax Payable - Other States",{"$f":"Worktags!AS243","v":"2132"},{"$f":"IF(Worktags!AQ243<>Worktags!AS243,Worktags!AQ243,\"\")","v":"SC2132"},{"$f":"IFERROR(VLOOKUP(B574,Worktags!AL:AO,2,FALSE),\"\")","v":"Sales Tax Payable - Other States"},{"$f":"IFERROR(VLOOKUP(C574,Worktags!O:T,2,FALSE),\"\")","v":"Sales Tax Payable - Other States"},{"$f":"IFERROR(VLOOKUP(IF(C574=\"\",B574&\"||\"&B574,C574&\"||\"&B574),Worktags!AR:AV,5,FALSE),\"\")","v":"All"}]
["2140 Property Tax Payable",{"$f":"Worktags!AL81","v":"2140"},null,{"$f":"IFERROR(VLOOKUP(B575,Worktags!AL:AO,2,FALSE),\"\")","v":"Property Tax Payable"},null,{"$f":"IFERROR(VLOOKUP(IF(C575=\"\",B575&\"||\"&B575,C575&\"||\"&B575),Worktags!AR:AV,5,FALSE),\"\")","v":""}]
["2140_SC2140 Property Tax Payable/Property Tax Payable",{"$f":"Worktags!AS244","v":"2140"},{"$f":"IF(Worktags!AQ244<>Worktags!AS244,Worktags!AQ244,\"\")","v":"SC2140"},{"$f":"IFERROR(VLOOKUP(B576,Worktags!AL:AO,2,FALSE),\"\")","v":"Property Tax Payable"},{"$f":"IFERROR(VLOOKUP(C576,Worktags!O:T,2,FALSE),\"\")","v":"Property Tax Payable"},{"$f":"IFERROR(VLOOKUP(IF(C576=\"\",B576&\"||\"&B576,C576&\"||\"&B576),Worktags!AR:AV,5,FALSE),\"\")","v":"All"}]
[{"$f":"IF(B577<>\"\",IF(C577<>\"\",B577&\"_\"&C577&\" \"&D577&\"/\"&E577,B577&\" \"&D577),\"\")","v":"2150 UBIT Payable"},{"$f":"Worktags!AL82","v":"2150"},null,{"$f":"IFERROR(VLOOKUP(B577,Worktags!AL:AO,2,FALSE),\"\")","v":"UBIT Payable"},null,{"$f":"IFERROR(VLOOKUP(IF(C577=\"\",B577&\"||\"&B577,C577&\"||\"&B577),Worktags!AR:AV,5,FALSE),\"\")","v":""}]
["2150_SC2150 UBIT Payable/UBIT Payable",{"$f":"Worktags!AS245","v":"2150"},{"$f":"IF(Worktags!AQ245<>Worktags!AS245,Worktags!AQ245,\"\")","v":"SC2150"},{"$f":"IFERROR(VLOOKUP(B578,Worktags!AL:AO,2,FALSE),\"\")","v":"UBIT Payable"},{"$f":"IFERROR(VLOOKUP(C578,Worktags!O:T,2,FALSE),\"\")","v":"UBIT Payable"},{"$f":"IFERROR(VLOOKUP(IF(C578=\"\",B578&\"||\"&B578,C578&\"||\"&B578),Worktags!AR:AV,5,FALSE),\"\")","v":"All"}]
["2160 Other Taxes Payable",{"$f":"Worktags!AL83","v":"2160"},null,{"$f":"IFERROR(VLOOKUP(B579,Worktags!AL:AO,2,FALSE),\"\")","v":"Other Taxes Payable"},null,{"$f":"IFERROR(VLOOKUP(IF(C579=\"\",B579&\"||\"&B579,C579&\"||\"&B579),Worktags!AR:AV,5,FALSE),\"\")","v":""}]
["2160_SC2160 Other Taxes Payable/Other Taxes Payable",{"$f":"Worktags!AS246","v":"2160"},{"$f":"IF(Worktags!AQ246<>Worktags!AS246,Worktags!AQ246,\"\")","v":"SC2160"},{"$f":"IFERROR(VLOOKUP(B580,Worktags!AL:AO,2,FALSE),\"\")","v":"Other Taxes Payable"},{"$f":"IFERROR(VLOOKUP(C580,Worktags!O:T,2,FALSE),\"\")","v":"Other Taxes Payable"},{"$f":"IFERROR(VLOOKUP(IF(C580=\"\",B580&\"||\"&B580,C580&\"||\"&B580),Worktags!AR:AV,5,FALSE),\"\")","v":"All"}]
["2200 Accrued Liabilities",{"$f":"Worktags!AL84","v":"2200"},null,{"$f":"IFERROR(VLOOKUP(B581,Worktags!AL:AO,2,FALSE),\"\")","v":"Accrued Liabilities"},null,{"$f":"IFERROR(VLOOKUP(IF(C581=\"\",B581&\"||\"&B581,C581&\"||\"&B581),Worktags!AR:AV,5,FALSE),\"\")","v":"All"}]
["2200 Accrued Liabilities",{"$f":"Worktags!AS54","v":"2200"},{"$f":"IF(Worktags!AQ54<>Worktags!AS54,Worktags!AQ54,\"\")","v":""},{"$f":"IFERROR(VLOOKUP(B582,Worktags!AL:AO,2,FALSE),\"\")","v":"Accrued Liabilities"},{"$f":"IFERROR(VLOOKUP(C582,Worktags!O:T,2,FALSE),\"\")","v":""},{"$f":"IFERROR(VLOOKUP(IF(C582=\"\",B582&\"||\"&B582,C582&\"||\"&B582),Worktags!AR:AV,5,FALSE),\"\")","v":"All"}]
["2200_SC2200 Accrued Liabilities/Accrued Liabilities (Conversion Only)",{"$f":"Worktags!AS247","v":"2200"},{"$f":"IF(Worktags!AQ247<>Worktags!AS247,Worktags!AQ247,\"\")","v":"SC2200"},{"$f":"IFERROR(VLOOKUP(B583,Worktags!AL:AO,2,FALSE),\"\")","v":"Accrued Liabilities"},{"$f":"IFERROR(VLOOKUP(C583,Worktags!O:T,2,FALSE),\"\")","v":"Accrued Liabilities (Conversion Only)"},{"$f":"IFERROR(VLOOKUP(IF(C583=\"\",B583&\"||\"&B583,C583&\"||\"&B583),Worktags!AR:AV,5,FALSE),\"\")","v":"All"}]
["2210 Accrued Payroll-Biweekly",{"$f":"Worktags!AL85","v":"2210"},null,{"$f":"IFERROR(VLOOKUP(B584,Worktags!AL:AO,2,FALSE),\"\")","v":"Accrued Payroll-Biweekly"},null,{"$f":"IFERROR(VLOOKUP(IF(C584=\"\",B584&\"||\"&B584,C584&\"||\"&B584),Worktags!AR:AV,5,FALSE),\"\")","v":"All"}]
["2210 Accrued Payroll-Biweekly",{"$f":"Worktags!AS55","v":"2210"},{"$f":"IF(Worktags!AQ55<>Worktags!AS55,Worktags!AQ55,\"\")","v":""},{"$f":"IFERROR(VLOOKUP(B585,Worktags!AL:AO,2,FALSE),\"\")","v":"Accrued Payroll-Biweekly"},{"$f":"IFERROR(VLOOKUP(C585,Worktags!O:T,2,FALSE),\"\")","v":""},{"$f":"IFERROR(VLOOKUP(IF(C585=\"\",B585&\"||\"&B585,C585&\"||\"&B585),Worktags!AR:AV,5,FALSE),\"\")","v":"All"}]
["2215 Accrued Payroll-Faculty",{"$f":"Worktags!AL86","v":"2215"},null,{"$f":"IFERROR(VLOOKUP(B586,Worktags!AL:AO,2,FALSE),\"\")","v":"Accrued Payroll-Faculty"},null,{"$f":"IFERROR(VLOOKUP(IF(C586=\"\",B586&\"||\"&B586,C586&\"||\"&B586),Worktags!AR:AV,5,FALSE),\"\")","v":"All"}]
["2215 Accrued Payroll-Faculty",{"$f":"Worktags!AS56","v":"2215"},{"$f":"IF(Worktags!AQ56<>Worktags!AS56,Worktags!AQ56,\"\")","v":""},{"$f":"IFERROR(VLOOKUP(B587,Worktags!AL:AO,2,FALSE),\"\")","v":"Accrued Payroll-Faculty"},{"$f":"IFERROR(VLOOKUP(C587,Worktags!O:T,2,FALSE),\"\")","v":""},{"$f":"IFERROR(VLOOKUP(IF(C587=\"\",B587&\"||\"&B587,C587&\"||\"&B587),Worktags!AR:AV,5,FALSE),\"\")","v":"All"}]
["2220 Accrued Payroll Benefits",{"$f":"Worktags!AL87","v":"2220"},null,{"$f":"IFERROR(VLOOKUP(B588,Worktags!AL:AO,2,FALSE),\"\")","v":"Accrued Payroll Benefits"},null,{"$f":"IFERROR(VLOOKUP(IF(C588=\"\",B588&\"||\"&B588,C588&\"||\"&B588),Worktags!AR:AV,5,FALSE),\"\")","v":"All"}]
["2220 Accrued Payroll Benefits",{"$f":"Worktags!AS57","v":"2220"},{"$f":"IF(Worktags!AQ57<>Worktags!AS57,Worktags!AQ57,\"\")","v":""},{"$f":"IFERROR(VLOOKUP(B589,Worktags!AL:AO,2,FALSE),\"\")","v":"Accrued Payroll Benefits"},{"$f":"IFERROR(VLOOKUP(C589,Worktags!O:T,2,FALSE),\"\")","v":""},{"$f":"IFERROR(VLOOKUP(IF(C589=\"\",B589&\"||\"&B589,C589&\"||\"&B589),Worktags!AR:AV,5,FALSE),\"\")","v":"All"}]
["2230 Accrued Vacation",{"$f":"Worktags!AL88","v":"2230"},null,{"$f":"IFERROR(VLOOKUP(B590,Worktags!AL:AO,2,FALSE),\"\")","v":"Accrued Vacation"},null,{"$f":"IFERROR(VLOOKUP(IF(C590=\"\",B590&\"||\"&B590,C590&\"||\"&B590),Worktags!AR:AV,5,FALSE),\"\")","v":"All"}]
["2230 Accrued Vacation",{"$f":"Worktags!AS58","v":"2230"},{"$f":"IF(Worktags!AQ58<>Worktags!AS58,Worktags!AQ58,\"\")","v":""},{"$f":"IFERROR(VLOOKUP(B591,Worktags!AL:AO,2,FALSE),\"\")","v":"Accrued Vacation"},{"$f":"IFERROR(VLOOKUP(C591,Worktags!O:T,2,FALSE),\"\")","v":""},{"$f":"IFERROR(VLOOKUP(IF(C591=\"\",B591&\"||\"&B591,C591&\"||\"&B591),Worktags!AR:AV,5,FALSE),\"\")","v":"All"}]
["2300 Deposits Payable",{"$f":"Worktags!AL89","v":"2300"},null,{"$f":"IFERROR(VLOOKUP(B592,Worktags!AL:AO,2,FALSE),\"\")","v":"Deposits Payable"},null,{"$f":"IFERROR(VLOOKUP(IF(C592=\"\",B592&\"||\"&B592,C592&\"||\"&B592),Worktags!AR:AV,5,FALSE),\"\")","v":""}]
["2300_RC2300 Deposits Payable/Deposits Receivable",{"$f":"Worktags!AS96","v":"2300"},{"$f":"IF(Worktags!AQ96<>Worktags!AS96,Worktags!AQ96,\"\")","v":"RC2300"},{"$f":"IFERROR(VLOOKUP(B593,Worktags!AL:AO,2,FALSE),\"\")","v":"Deposits Payable"},{"$f":"IFERROR(VLOOKUP(C593,Worktags!O:T,2,FALSE),\"\")","v":"Deposits Receivable"},{"$f":"IFERROR(VLOOKUP(IF(C593=\"\",B593&\"||\"&B593,C593&\"||\"&B593),Worktags!AR:AV,5,FALSE),\"\")","v":"All"}]
["2300_SC2300 Deposits Payable/Deposits Payable",{"$f":"Worktags!AS248","v":"2300"},{"$f":"IF(Worktags!AQ248<>Worktags!AS248,Worktags!AQ248,\"\")","v":"SC2300"},{"$f":"IFERROR(VLOOKUP(B594,Worktags!AL:AO,2,FALSE),\"\")","v":"Deposits Payable"},{"$f":"IFERROR(VLOOKUP(C594,Worktags!O:T,2,FALSE),\"\")","v":"Deposits Payable"},{"$f":"IFERROR(VLOOKUP(IF(C594=\"\",B594&\"||\"&B594,C594&\"||\"&B594),Worktags!AR:AV,5,FALSE),\"\")","v":"All"}]
["2400 Annuities Payable",{"$f":"Worktags!AL90","v":"2400"},null,{"$f":"IFERROR(VLOOKUP(B595,Worktags!AL:AO,2,FALSE),\"\")","v":"Annuities Payable"},null,{"$f":"IFERROR(VLOOKUP(IF(C595=\"\",B595&\"||\"&B595,C595&\"||\"&B595),Worktags!AR:AV,5,FALSE),\"\")","v":""}]
["2400_SC2400 Annuities Payable/Annuities Payable",{"$f":"Worktags!AS249","v":"2400"},{"$f":"IF(Worktags!AQ249<>Worktags!AS249,Worktags!AQ249,\"\")","v":"SC2400"},{"$f":"IFERROR(VLOOKUP(B596,Worktags!AL:AO,2,FALSE),\"\")","v":"Annuities Payable"},{"$f":"IFERROR(VLOOKUP(C596,Worktags!O:T,2,FALSE),\"\")","v":"Annuities Payable"},{"$f":"IFERROR(VLOOKUP(IF(C596=\"\",B596&\"||\"&B596,C596&\"||\"&B596),Worktags!AR:AV,5,FALSE),\"\")","v":"All"}]
["2491 Inter-Company Receivable/Payable",{"$f":"Worktags!AL91","v":"2491"},null,{"$f":"IFERROR(VLOOKUP(B597,Worktags!AL:AO,2,FALSE),\"\")","v":"Inter-Company Receivable/Payable"},null,{"$f":"IFERROR(VLOOKUP(IF(C597=\"\",B597&\"||\"&B597,C597&\"||\"&B597),Worktags!AR:AV,5,FALSE),\"\")","v":"JE_Override"}]
["2491 Inter-Company Receivable/Payable",{"$f":"Worktags!AS59","v":"2491"},{"$f":"IF(Worktags!AQ59<>Worktags!AS59,Worktags!AQ59,\"\")","v":""},{"$f":"IFERROR(VLOOKUP(B598,Worktags!AL:AO,2,FALSE),\"\")","v":"Inter-Company Receivable/Payable"},{"$f":"IFERROR(VLOOKUP(C598,Worktags!O:T,2,FALSE),\"\")","v":""},{"$f":"IFERROR(VLOOKUP(IF(C598=\"\",B598&\"||\"&B598,C598&\"||\"&B598),Worktags!AR:AV,5,FALSE),\"\")","v":"JE_Override"}]
["2492 Inter-Worktag Receivable/Payable",{"$f":"Worktags!AL92","v":"2492"},null,{"$f":"IFERROR(VLOOKUP(B599,Worktags!AL:AO,2,FALSE),\"\")","v":"Inter-Worktag Receivable/Payable"},null,{"$f":"IFERROR(VLOOKUP(IF(C599=\"\",B599&\"||\"&B599,C599&\"||\"&B599),Worktags!AR:AV,5,FALSE),\"\")","v":"JE_Override"}]
["2492 Inter-Worktag Receivable/Payable",{"$f":"Worktags!AS60","v":"2492"},{"$f":"IF(Worktags!AQ60<>Worktags!AS60,Worktags!AQ60,\"\")","v":""},{"$f":"IFERROR(VLOOKUP(B600,Worktags!AL:AO,2,FALSE),\"\")","v":"Inter-Worktag Receivable/Payable"},{"$f":"IFERROR(VLOOKUP(C600,Worktags!O:T,2,FALSE),\"\")","v":""},{"$f":"IFERROR(VLOOKUP(IF(C600=\"\",B600&\"||\"&B600,C600&\"||\"&B600),Worktags!AR:AV,5,FALSE),\"\")","v":"JE_Override"}]
["2500 Notes Payable",{"$f":"Worktags!AL93","v":"2500"},null,{"$f":"IFERROR(VLOOKUP(B601,Worktags!AL:AO,2,FALSE),\"\")","v":"Notes Payable"},null,{"$f":"IFERROR(VLOOKUP(IF(C601=\"\",B601&\"||\"&B601,C601&\"||\"&B601),Worktags!AR:AV,5,FALSE),\"\")","v":""}]
["2500_SC2500 Notes Payable/Notes Payable",{"$f":"Worktags!AS250","v":"2500"},{"$f":"IF(Worktags!AQ250<>Worktags!AS250,Worktags!AQ250,\"\")","v":"SC2500"},{"$f":"IFERROR(VLOOKUP(B602,Worktags!AL:AO,2,FALSE),\"\")","v":"Notes Payable"},{"$f":"IFERROR(VLOOKUP(C602,Worktags!O:T,2,FALSE),\"\")","v":"Notes Payable"},{"$f":"IFERROR(VLOOKUP(IF(C602=\"\",B602&\"||\"&B602,C602&\"||\"&B602),Worktags!AR:AV,5,FALSE),\"\")","v":"All"}]
["2510 Notes Payable - Church",{"$f":"Worktags!AL94","v":"2510"},null,{"$f":"IFERROR(VLOOKUP(B603,Worktags!AL:AO,2,FALSE),\"\")","v":"Notes Payable - Church"},null,{"$f":"IFERROR(VLOOKUP(IF(C603=\"\",B603&\"||\"&B603,C603&\"||\"&B603),Worktags!AR:AV,5,FALSE),\"\")","v":""}]
["2510_SC2510 Notes Payable - Church/Notes Payable - Church",{"$f":"Worktags!AS251","v":"2510"},{"$f":"IF(Worktags!AQ251<>Worktags!AS251,Worktags!AQ251,\"\")","v":"SC2510"},{"$f":"IFERROR(VLOOKUP(B604,Worktags!AL:AO,2,FALSE),\"\")","v":"Notes Payable - Church"},{"$f":"IFERROR(VLOOKUP(C604,Worktags!O:T,2,FALSE),\"\")","v":"Notes Payable - Church"},{"$f":"IFERROR(VLOOKUP(IF(C604=\"\",B604&\"||\"&B604,C604&\"||\"&B604),Worktags!AR:AV,5,FALSE),\"\")","v":"All"}]
["2550 Lease Liability",{"$f":"Worktags!AL95","v":"2550"},null,{"$f":"IFERROR(VLOOKUP(B605,Worktags!AL:AO,2,FALSE),\"\")","v":"Lease Liability"},null,{"$f":"IFERROR(VLOOKUP(IF(C605=\"\",B605&\"||\"&B605,C605&\"||\"&B605),Worktags!AR:AV,5,FALSE),\"\")","v":"All"}]
["2550 Lease Liability",{"$f":"Worktags!AS61","v":"2550"},{"$f":"IF(Worktags!AQ61<>Worktags!AS61,Worktags!AQ61,\"\")","v":""},{"$f":"IFERROR(VLOOKUP(B606,Worktags!AL:AO,2,FALSE),\"\")","v":"Lease Liability"},{"$f":"IFERROR(VLOOKUP(C606,Worktags!O:T,2,FALSE),\"\")","v":""},{"$f":"IFERROR(VLOOKUP(IF(C606=\"\",B606&\"||\"&B606,C606&\"||\"&B606),Worktags!AR:AV,5,FALSE),\"\")","v":"All"}]
["2600 Deferred Revenue",{"$f":"Worktags!AL96","v":"2600"},null,{"$f":"IFERROR(VLOOKUP(B607,Worktags!AL:AO,2,FALSE),\"\")","v":"Deferred Revenue"},null,{"$f":"IFERROR(VLOOKUP(IF(C607=\"\",B607&\"||\"&B607,C607&\"||\"&B607),Worktags!AR:AV,5,FALSE),\"\")","v":"All"}]
["2600 Deferred Revenue",{"$f":"Worktags!AS62","v":"2600"},{"$f":"IF(Worktags!AQ62<>Worktags!AS62,Worktags!AQ62,\"\")","v":""},{"$f":"IFERROR(VLOOKUP(B608,Worktags!AL:AO,2,FALSE),\"\")","v":"Deferred Revenue"},{"$f":"IFERROR(VLOOKUP(C608,Worktags!O:T,2,FALSE),\"\")","v":""},{"$f":"IFERROR(VLOOKUP(IF(C608=\"\",B608&\"||\"&B608,C608&\"||\"&B608),Worktags!AR:AV,5,FALSE),\"\")","v":"All"}]
["2600_RC4001 Deferred Revenue/Church Appropriation",{"$f":"Worktags!AS97","v":"2600"},{"$f":"IF(Worktags!AQ97<>Worktags!AS97,Worktags!AQ97,\"\")","v":"RC4001"},{"$f":"IFERROR(VLOOKUP(B609,Worktags!AL:AO,2,FALSE),\"\")","v":"Deferred Revenue"},{"$f":"IFERROR(VLOOKUP(C609,Worktags!O:T,2,FALSE),\"\")","v":"Church Appropriation"},{"$f":"IFERROR(VLOOKUP(IF(C609=\"\",B609&\"||\"&B609,C609&\"||\"&B609),Worktags!AR:AV,5,FALSE),\"\")","v":"All"}]
["2600_RC4002 Deferred Revenue/University Allocation",{"$f":"Worktags!AS99","v":"2600"},{"$f":"IF(Worktags!AQ99<>Worktags!AS99,Worktags!AQ99,\"\")","v":"RC4002"},{"$f":"IFERROR(VLOOKUP(B610,Worktags!AL:AO,2,FALSE),\"\")","v":"Deferred Revenue"},{"$f":"IFERROR(VLOOKUP(C610,Worktags!O:T,2,FALSE),\"\")","v":"University Allocation"},{"$f":"IFERROR(VLOOKUP(IF(C610=\"\",B610&\"||\"&B610,C610&\"||\"&B610),Worktags!AR:AV,5,FALSE),\"\")","v":"All"}]
["2600_RC4101 Deferred Revenue/Tuition",{"$f":"Worktags!AS101","v":"2600"},{"$f":"IF(Worktags!AQ101<>Worktags!AS101,Worktags!AQ101,\"\")","v":"RC4101"},{"$f":"IFERROR(VLOOKUP(B611,Worktags!AL:AO,2,FALSE),\"\")","v":"Deferred Revenue"},{"$f":"IFERROR(VLOOKUP(C611,Worktags!O:T,2,FALSE),\"\")","v":"Tuition"},{"$f":"IFERROR(VLOOKUP(IF(C611=\"\",B611&\"||\"&B611,C611&\"||\"&B611),Worktags!AR:AV,5,FALSE),\"\")","v":"All"}]
["2600_RC4102 Deferred Revenue/Student Fee Distribution",{"$f":"Worktags!AS103","v":"2600"},{"$f":"IF(Worktags!AQ103<>Worktags!AS103,Worktags!AQ103,\"\")","v":"RC4102"},{"$f":"IFERROR(VLOOKUP(B612,Worktags!AL:AO,2,FALSE),\"\")","v":"Deferred Revenue"},{"$f":"IFERROR(VLOOKUP(C612,Worktags!O:T,2,FALSE),\"\")","v":"Student Fee Distribution"},{"$f":"IFERROR(VLOOKUP(IF(C612=\"\",B612&\"||\"&B612,C612&\"||\"&B612),Worktags!AR:AV,5,FALSE),\"\")","v":"All"}]
["2600_RC4103 Deferred Revenue/Non-Credit Income",{"$f":"Worktags!AS105","v":"2600"},{"$f":"IF(Worktags!AQ105<>Worktags!AS105,Worktags!AQ105,\"\")","v":"RC4103"},{"$f":"IFERROR(VLOOKUP(B613,Worktags!AL:AO,2,FALSE),\"\")","v":"Deferred Revenue"},{"$f":"IFERROR(VLOOKUP(C613,Worktags!O:T,2,FALSE),\"\")","v":"Non-Credit Income"},{"$f":"IFERROR(VLOOKUP(IF(C613=\"\",B613&\"||\"&B613,C613&\"||\"&B613),Worktags!AR:AV,5,FALSE),\"\")","v":"All"}]
["2600_RC4104 Deferred Revenue/Student Fees",{"$f":"Worktags!AS107","v":"2600"},{"$f":"IF(Worktags!AQ107<>Worktags!AS107,Worktags!AQ107,\"\")","v":"RC4104"},{"$f":"IFERROR(VLOOKUP(B614,Worktags!AL:AO,2,FALSE),\"\")","v":"Deferred Revenue"},{"$f":"IFERROR(VLOOKUP(C614,Worktags!O:T,2,FALSE),\"\")","v":"Student Fees"},{"$f":"IFERROR(VLOOKUP(IF(C614=\"\",B614&\"||\"&B614,C614&\"||\"&B614),Worktags!AR:AV,5,FALSE),\"\")","v":"All"}]
["2600_RC4110 Deferred Revenue/Grad Service Fee",{"$f":"Worktags!AS109","v":"2600"},{"$f":"IF(Worktags!AQ109<>Worktags!AS109,Worktags!AQ109,\"\")","v":"RC4110"},{"$f":"IFERROR(VLOOKUP(B615,Worktags!AL:AO,2,FALSE),\"\")","v":"Deferred Revenue"},{"$f":"IFERROR(VLOOKUP(C615,Worktags!O:T,2,FALSE),\"\")","v":"Grad Service Fee"},{"$f":"IFERROR(VLOOKUP(IF(C615=\"\",B615&\"||\"&B615,C615&\"||\"&B615),Worktags!AR:AV,5,FALSE),\"\")","v":"All"}]
["2600_RC4111 Deferred Revenue/Admission Fees",{"$f":"Worktags!AS111","v":"2600"},{"$f":"IF(Worktags!AQ111<>Worktags!AS111,Worktags!AQ111,\"\")","v":"RC4111"},{"$f":"IFERROR(VLOOKUP(B616,Worktags!AL:AO,2,FALSE),\"\")","v":"Deferred Revenue"},{"$f":"IFERROR(VLOOKUP(C616,Worktags!O:T,2,FALSE),\"\")","v":"Admission Fees"},{"$f":"IFERROR(VLOOKUP(IF(C616=\"\",B616&\"||\"&B616,C616&\"||\"&B616),Worktags!AR:AV,5,FALSE),\"\")","v":"All"}]
["2600_RC4112 Deferred Revenue/Graduation Fees",{"$f":"Worktags!AS113","v":"2600"},{"$f":"IF(Worktags!AQ113<>Worktags!AS113,Worktags!AQ113,\"\")","v":"RC4112"},{"$f":"IFERROR(VLOOKUP(B617,Worktags!AL:AO,2,FALSE),\"\")","v":"Deferred Revenue"},{"$f":"IFERROR(VLOOKUP(C617,Worktags!O:T,2,FALSE),\"\")","v":"Graduation Fees"},{"$f":"IFERROR(VLOOKUP(IF(C617=\"\",B617&\"||\"&B617,C617&\"||\"&B617),Worktags!AR:AV,5,FALSE),\"\")","v":"All"}]
["2600_RC4113 Deferred Revenue/Transcript Fees",{"$f":"Worktags!AS115","v":"2600"},{"$f":"IF(Worktags!AQ115<>Worktags!AS115,Worktags!AQ115,\"\")","v":"RC4113"},{"$f":"IFERROR(VLOOKUP(B618,Worktags!AL:AO,2,FALSE),\"\")","v":"Deferred Revenue"},{"$f":"IFERROR(VLOOKUP(C618,Worktags!O:T,2,FALSE),\"\")","v":"Transcript Fees"},{"$f":"IFERROR(VLOOKUP(IF(C618=\"\",B618&\"||\"&B618,C618&\"||\"&B618),Worktags!AR:AV,5,FALSE),\"\")","v":"All"}]
["2600_RC4114 Deferred Revenue/Special Exam Fees",{"$f":"Worktags!AS117","v":"2600"},{"$f":"IF(Worktags!AQ117<>Worktags!AS117,Worktags!AQ117,\"\")","v":"RC4114"},{"$f":"IFERROR(VLOOKUP(B619,Worktags!AL:AO,2,FALSE),\"\")","v":"Deferred Revenue"},{"$f":"IFERROR(VLOOKUP(C619,Worktags!O:T,2,FALSE),\"\")","v":"Special Exam Fees"},{"$f":"IFERROR(VLOOKUP(IF(C619=\"\",B619&\"||\"&B619,C619&\"||\"&B619),Worktags!AR:AV,5,FALSE),\"\")","v":"All"}]
["2600_RC4115 Deferred Revenue/ACT Test Fees",{"$f":"Worktags!AS119","v":"2600"},{"$f":"IF(Worktags!AQ119<>Worktags!AS119,Worktags!AQ119,\"\")","v":"RC4115"},{"$f":"IFERROR(VLOOKUP(B620,Worktags!AL:AO,2,FALSE),\"\")","v":"Deferred Revenue"},{"$f":"IFERROR(VLOOKUP(C620,Worktags!O:T,2,FALSE),\"\")","v":"ACT Test Fees"},{"$f":"IFERROR(VLOOKUP(IF(C620=\"\",B620&\"||\"&B620,C620&\"||\"&B620),Worktags!AR:AV,5,FALSE),\"\")","v":"All"}]
["2600_RC4117 Deferred Revenue/Locker Rentals",{"$f":"Worktags!AS122","v":"2600"},{"$f":"IF(Worktags!AQ122<>Worktags!AS122,Worktags!AQ122,\"\")","v":"RC4117"},{"$f":"IFERROR(VLOOKUP(B621,Worktags!AL:AO,2,FALSE),\"\")","v":"Deferred Revenue"},{"$f":"IFERROR(VLOOKUP(C621,Worktags!O:T,2,FALSE),\"\")","v":"Locker Rentals"},{"$f":"IFERROR(VLOOKUP(IF(C621=\"\",B621&\"||\"&B621,C621&\"||\"&B621),Worktags!AR:AV,5,FALSE),\"\")","v":"All"}]
["2600_RC4199 Deferred Revenue/Tuition and Fees (reclass)",{"$f":"Worktags!AS124","v":"2600"},{"$f":"IF(Worktags!AQ124<>Worktags!AS124,Worktags!AQ124,\"\")","v":"RC4199"},{"$f":"IFERROR(VLOOKUP(B622,Worktags!AL:AO,2,FALSE),\"\")","v":"Deferred Revenue"},{"$f":"IFERROR(VLOOKUP(C622,Worktags!O:T,2,FALSE),\"\")","v":"Tuition and Fees (reclass)"},{"$f":"IFERROR(VLOOKUP(IF(C622=\"\",B622&\"||\"&B622,C622&\"||\"&B622),Worktags!AR:AV,5,FALSE),\"\")","v":"All"}]
["2600_RC4401 Deferred Revenue/Sale of Services",{"$f":"Worktags!AS136","v":"2600"},{"$f":"IF(Worktags!AQ136<>Worktags!AS136,Worktags!AQ136,\"\")","v":"RC4401"},{"$f":"IFERROR(VLOOKUP(B623,Worktags!AL:AO,2,FALSE),\"\")","v":"Deferred Revenue"},{"$f":"IFERROR(VLOOKUP(C623,Worktags!O:T,2,FALSE),\"\")","v":"Sale of Services"},{"$f":"IFERROR(VLOOKUP(IF(C623=\"\",B623&\"||\"&B623,C623&\"||\"&B623),Worktags!AR:AV,5,FALSE),\"\")","v":"All"}]
["2600_RC4404 Deferred Revenue/Sale of Services-Taxable",{"$f":"Worktags!AS140","v":"2600"},{"$f":"IF(Worktags!AQ140<>Worktags!AS140,Worktags!AQ140,\"\")","v":"RC4404"},{"$f":"IFERROR(VLOOKUP(B624,Worktags!AL:AO,2,FALSE),\"\")","v":"Deferred Revenue"},{"$f":"IFERROR(VLOOKUP(C624,Worktags!O:T,2,FALSE),\"\")","v":"Sale of Services-Taxable"},{"$f":"IFERROR(VLOOKUP(IF(C624=\"\",B624&\"||\"&B624,C624&\"||\"&B624),Worktags!AR:AV,5,FALSE),\"\")","v":"All"}]
["2600_RC4405 Deferred Revenue/Sale of Services-Refunds",{"$f":"Worktags!AS142","v":"2600"},{"$f":"IF(Worktags!AQ142<>Worktags!AS142,Worktags!AQ142,\"\")","v":"RC4405"},{"$f":"IFERROR(VLOOKUP(B625,Worktags!AL:AO,2,FALSE),\"\")","v":"Deferred Revenue"},{"$f":"IFERROR(VLOOKUP(C625,Worktags!O:T,2,FALSE),\"\")","v":"Sale of Services-Refunds"},{"$f":"IFERROR(VLOOKUP(IF(C625=\"\",B625&\"||\"&B625,C625&\"||\"&B625),Worktags!AR:AV,5,FALSE),\"\")","v":"All"}]
["2600_RC4406 Deferred Revenue/Sponsorship Revenue",{"$f":"Worktags!AS144","v":"2600"},{"$f":"IF(Worktags!AQ144<>Worktags!AS144,Worktags!AQ144,\"\")","v":"RC4406"},{"$f":"IFERROR(VLOOKUP(B626,Worktags!AL:AO,2,FALSE),\"\")","v":"Deferred Revenue"},{"$f":"IFERROR(VLOOKUP(C626,Worktags!O:T,2,FALSE),\"\")","v":"Sponsorship Revenue"},{"$f":"IFERROR(VLOOKUP(IF(C626=\"\",B626&\"||\"&B626,C626&\"||\"&B626),Worktags!AR:AV,5,FALSE),\"\")","v":"All"}]
["2600_RC4407 Deferred Revenue/Publishing Revenue",{"$f":"Worktags!AS146","v":"2600"},{"$f":"IF(Worktags!AQ146<>Worktags!AS146,Worktags!AQ146,\"\")","v":"RC4407"},{"$f":"IFERROR(VLOOKUP(B627,Worktags!AL:AO,2,FALSE),\"\")","v":"Deferred Revenue"},{"$f":"IFERROR(VLOOKUP(C627,Worktags!O:T,2,FALSE),\"\")","v":"Publishing Revenue"},{"$f":"IFERROR(VLOOKUP(IF(C627=\"\",B627&\"||\"&B627,C627&\"||\"&B627),Worktags!AR:AV,5,FALSE),\"\")","v":"All"}]
["2600_RC4408 Deferred Revenue/Digital Download Revenue",{"$f":"Worktags!AS148","v":"2600"},{"$f":"IF(Worktags!AQ148<>Worktags!AS148,Worktags!AQ148,\"\")","v":"RC4408"},{"$f":"IFERROR(VLOOKUP(B628,Worktags!AL:AO,2,FALSE),\"\")","v":"Deferred Revenue"},{"$f":"IFERROR(VLOOKUP(C628,Worktags!O:T,2,FALSE),\"\")","v":"Digital Download Revenue"},{"$f":"IFERROR(VLOOKUP(IF(C628=\"\",B628&\"||\"&B628,C628&\"||\"&B628),Worktags!AR:AV,5,FALSE),\"\")","v":"All"}]
["2600_RC4409 Deferred Revenue/Digital Streaming Revenue",{"$f":"Worktags!AS150","v":"2600"},{"$f":"IF(Worktags!AQ150<>Worktags!AS150,Worktags!AQ150,\"\")","v":"RC4409"},{"$f":"IFERROR(VLOOKUP(B629,Worktags!AL:AO,2,FALSE),\"\")","v":"Deferred Revenue"},{"$f":"IFERROR(VLOOKUP(C629,Worktags!O:T,2,FALSE),\"\")","v":"Digital Streaming Revenue"},{"$f":"IFERROR(VLOOKUP(IF(C629=\"\",B629&\"||\"&B629,C629&\"||\"&B629),Worktags!AR:AV,5,FALSE),\"\")","v":"All"}]
["2600_RC4499 Deferred Revenue/Sale of Services (reclass)",{"$f":"Worktags!AS152","v":"2600"},{"$f":"IF(Worktags!AQ152<>Worktags!AS152,Worktags!AQ152,\"\")","v":"RC4499"},{"$f":"IFERROR(VLOOKUP(B630,Worktags!AL:AO,2,FALSE),\"\")","v":"Deferred Revenue"},{"$f":"IFERROR(VLOOKUP(C630,Worktags!O:T,2,FALSE),\"\")","v":"Sale of Services (reclass)"},{"$f":"IFERROR(VLOOKUP(IF(C630=\"\",B630&\"||\"&B630,C630&\"||\"&B630),Worktags!AR:AV,5,FALSE),\"\")","v":"All"}]
["2600_RC4501 Deferred Revenue/Sale of Goods",{"$f":"Worktags!AS154","v":"2600"},{"$f":"IF(Worktags!AQ154<>Worktags!AS154,Worktags!AQ154,\"\")","v":"RC4501"},{"$f":"IFERROR(VLOOKUP(B631,Worktags!AL:AO,2,FALSE),\"\")","v":"Deferred Revenue"},{"$f":"IFERROR(VLOOKUP(C631,Worktags!O:T,2,FALSE),\"\")","v":"Sale of Goods"},{"$f":"IFERROR(VLOOKUP(IF(C631=\"\",B631&\"||\"&B631,C631&\"||\"&B631),Worktags!AR:AV,5,FALSE),\"\")","v":"All"}]
["2600_RC4502 Deferred Revenue/Sale of Goods-Taxable",{"$f":"Worktags!AS156","v":"2600"},{"$f":"IF(Worktags!AQ156<>Worktags!AS156,Worktags!AQ156,\"\")","v":"RC4502"},{"$f":"IFERROR(VLOOKUP(B632,Worktags!AL:AO,2,FALSE),\"\")","v":"Deferred Revenue"},{"$f":"IFERROR(VLOOKUP(C632,Worktags!O:T,2,FALSE),\"\")","v":"Sale of Goods-Taxable"},{"$f":"IFERROR(VLOOKUP(IF(C632=\"\",B632&\"||\"&B632,C632&\"||\"&B632),Worktags!AR:AV,5,FALSE),\"\")","v":"All"}]
["2600_RC4503 Deferred Revenue/Sale of Goods-Discount/Returns",{"$f":"Worktags!AS158","v":"2600"},{"$f":"IF(Worktags!AQ158<>Worktags!AS158,Worktags!AQ158,\"\")","v":"RC4503"},{"$f":"IFERROR(VLOOKUP(B633,Worktags!AL:AO,2,FALSE),\"\")","v":"Deferred Revenue"},{"$f":"IFERROR(VLOOKUP(C633,Worktags!O:T,2,FALSE),\"\")","v":"Sale of Goods-Discount/Returns"},{"$f":"IFERROR(VLOOKUP(IF(C633=\"\",B633&\"||\"&B633,C633&\"||\"&B633),Worktags!AR:AV,5,FALSE),\"\")","v":"All"}]
["2600_RC4504 Deferred Revenue/Sales - Online and Out of State",{"$f":"Worktags!AS160","v":"2600"},{"$f":"IF(Worktags!AQ160<>Worktags!AS160,Worktags!AQ160,\"\")","v":"RC4504"},{"$f":"IFERROR(VLOOKUP(B634,Worktags!AL:AO,2,FALSE),\"\")","v":"Deferred Revenue"},{"$f":"IFERROR(VLOOKUP(C634,Worktags!O:T,2,FALSE),\"\")","v":"Sales - Online and Out of State"},{"$f":"IFERROR(VLOOKUP(IF(C634=\"\",B634&\"||\"&B634,C634&\"||\"&B634),Worktags!AR:AV,5,FALSE),\"\")","v":"All"}]
["2600_RC4505 Deferred Revenue/Ticket Sales",{"$f":"Worktags!AS162","v":"2600"},{"$f":"IF(Worktags!AQ162<>Worktags!AS162,Worktags!AQ162,\"\")","v":"RC4505"},{"$f":"IFERROR(VLOOKUP(B635,Worktags!AL:AO,2,FALSE),\"\")","v":"Deferred Revenue"},{"$f":"IFERROR(VLOOKUP(C635,Worktags!O:T,2,FALSE),\"\")","v":"Ticket Sales"},{"$f":"IFERROR(VLOOKUP(IF(C635=\"\",B635&\"||\"&B635,C635&\"||\"&B635),Worktags!AR:AV,5,FALSE),\"\")","v":"All"}]
["2600_RC4506 Deferred Revenue/Ticket Sales-Taxable",{"$f":"Worktags!AS164","v":"2600"},{"$f":"IF(Worktags!AQ164<>Worktags!AS164,Worktags!AQ164,\"\")","v":"RC4506"},{"$f":"IFERROR(VLOOKUP(B636,Worktags!AL:AO,2,FALSE),\"\")","v":"Deferred Revenue"},{"$f":"IFERROR(VLOOKUP(C636,Worktags!O:T,2,FALSE),\"\")","v":"Ticket Sales-Taxable"},{"$f":"IFERROR(VLOOKUP(IF(C636=\"\",B636&\"||\"&B636,C636&\"||\"&B636),Worktags!AR:AV,5,FALSE),\"\")","v":"All"}]
["2600_RC4507 Deferred Revenue/Ticket Sales-Refunds",{"$f":"Worktags!AS166","v":"2600"},{"$f":"IF(Worktags!AQ166<>Worktags!AS166,Worktags!AQ166,\"\")","v":"RC4507"},{"$f":"IFERROR(VLOOKUP(B637,Worktags!AL:AO,2,FALSE),\"\")","v":"Deferred Revenue"},{"$f":"IFERROR(VLOOKUP(C637,Worktags!O:T,2,FALSE),\"\")","v":"Ticket Sales-Refunds"},{"$f":"IFERROR(VLOOKUP(IF(C637=\"\",B637&\"||\"&B637,C637&\"||\"&B637),Worktags!AR:AV,5,FALSE),\"\")","v":"All"}]
["2600_RC4599 Deferred Revenue/Sale of Goods (reclass)",{"$f":"Worktags!AS168","v":"2600"},{"$f":"IF(Worktags!AQ168<>Worktags!AS168,Worktags!AQ168,\"\")","v":"RC4599"},{"$f":"IFERROR(VLOOKUP(B638,Worktags!AL:AO,2,FALSE),\"\")","v":"Deferred Revenue"},{"$f":"IFERROR(VLOOKUP(C638,Worktags!O:T,2,FALSE),\"\")","v":"Sale of Goods (reclass)"},{"$f":"IFERROR(VLOOKUP(IF(C638=\"\",B638&\"||\"&B638,C638&\"||\"&B638),Worktags!AR:AV,5,FALSE),\"\")","v":"All"}]
["2600_RC4704 Deferred Revenue/Rental Income",{"$f":"Worktags!AS173","v":"2600"},{"$f":"IF(Worktags!AQ173<>Worktags!AS173,Worktags!AQ173,\"\")","v":"RC4704"},{"$f":"IFERROR(VLOOKUP(B639,Worktags!AL:AO,2,FALSE),\"\")","v":"Deferred Revenue"},{"$f":"IFERROR(VLOOKUP(C639,Worktags!O:T,2,FALSE),\"\")","v":"Rental Income"},{"$f":"IFERROR(VLOOKUP(IF(C639=\"\",B639&\"||\"&B639,C639&\"||\"&B639),Worktags!AR:AV,5,FALSE),\"\")","v":"All"}]
["2600_SC4100 Deferred Revenue/Tuition and Fees Refunds",{"$f":"Worktags!AS254","v":"2600"},{"$f":"IF(Worktags!AQ254<>Worktags!AS254,Worktags!AQ254,\"\")","v":"SC4100"},{"$f":"IFERROR(VLOOKUP(B640,Worktags!AL:AO,2,FALSE),\"\")","v":"Deferred Revenue"},{"$f":"IFERROR(VLOOKUP(C640,Worktags!O:T,2,FALSE),\"\")","v":"Tuition and Fees Refunds"},{"$f":"IFERROR(VLOOKUP(IF(C640=\"\",B640&\"||\"&B640,C640&\"||\"&B640),Worktags!AR:AV,5,FALSE),\"\")","v":"All"}]
[{"$f":"IF(B641<>\"\",IF(C641<>\"\",B641&\"_\"&C641&\" \"&D641&\"/\"&E641,B641&\" \"&D641),\"\")","v":"2700 Retire Postretire Benefit Obligation"},{"$f":"Worktags!AL97","v":"2700"},null,{"$f":"IFERROR(VLOOKUP(B641,Worktags!AL:AO,2,FALSE),\"\")","v":"Retire Postretire Benefit Obligation"},null,{"$f":"IFERROR(VLOOKUP(IF(C641=\"\",B641&\"||\"&B641,C641&\"||\"&B641),Worktags!AR:AV,5,FALSE),\"\")","v":"All"}]
["2700 Retire Postretire Benefit Obligation",{"$f":"Worktags!AS63","v":"2700"},{"$f":"IF(Worktags!AQ63<>Worktags!AS63,Worktags!AQ63,\"\")","v":""},{"$f":"IFERROR(VLOOKUP(B642,Worktags!AL:AO,2,FALSE),\"\")","v":"Retire Postretire Benefit Obligation"},{"$f":"IFERROR(VLOOKUP(C642,Worktags!O:T,2,FALSE),\"\")","v":""},{"$f":"IFERROR(VLOOKUP(IF(C642=\"\",B642&\"||\"&B642,C642&\"||\"&B642),Worktags!AR:AV,5,FALSE),\"\")","v":"All"}]
["2710 Deferred Tax Liability",{"$f":"Worktags!AL98","v":"2710"},null,{"$f":"IFERROR(VLOOKUP(B643,Worktags!AL:AO,2,FALSE),\"\")","v":"Deferred Tax Liability"},null,{"$f":"IFERROR(VLOOKUP(IF(C643=\"\",B643&\"||\"&B643,C643&\"||\"&B643),Worktags!AR:AV,5,FALSE),\"\")","v":"All"}]
["2710 Deferred Tax Liability",{"$f":"Worktags!AS64","v":"2710"},{"$f":"IF(Worktags!AQ64<>Worktags!AS64,Worktags!AQ64,\"\")","v":""},{"$f":"IFERROR(VLOOKUP(B644,Worktags!AL:AO,2,FALSE),\"\")","v":"Deferred Tax Liability"},{"$f":"IFERROR(VLOOKUP(C644,Worktags!O:T,2,FALSE),\"\")","v":""},{"$f":"IFERROR(VLOOKUP(IF(C644=\"\",B644&\"||\"&B644,C644&\"||\"&B644),Worktags!AR:AV,5,FALSE),\"\")","v":"All"}]
["3400 Net Assets (prior year)",{"$f":"Worktags!AL99","v":"3400"},null,{"$f":"IFERROR(VLOOKUP(B645,Worktags!AL:AO,2,FALSE),\"\")","v":"Net Assets (prior year)"},null,{"$f":"IFERROR(VLOOKUP(IF(C645=\"\",B645&\"||\"&B645,C645&\"||\"&B645),Worktags!AR:AV,5,FALSE),\"\")","v":"JE_Override"}]
["3400 Net Assets (prior year)",{"$f":"Worktags!AS65","v":"3400"},{"$f":"IF(Worktags!AQ65<>Worktags!AS65,Worktags!AQ65,\"\")","v":""},{"$f":"IFERROR(VLOOKUP(B646,Worktags!AL:AO,2,FALSE),\"\")","v":"Net Assets (prior year)"},{"$f":"IFERROR(VLOOKUP(C646,Worktags!O:T,2,FALSE),\"\")","v":""},{"$f":"IFERROR(VLOOKUP(IF(C646=\"\",B646&\"||\"&B646,C646&\"||\"&B646),Worktags!AR:AV,5,FALSE),\"\")","v":"JE_Override"}]
["3500 Net Assets",{"$f":"Worktags!AL100","v":"3500"},null,{"$f":"IFERROR(VLOOKUP(B647,Worktags!AL:AO,2,FALSE),\"\")","v":"Net Assets"},null,{"$f":"IFERROR(VLOOKUP(IF(C647=\"\",B647&\"||\"&B647,C647&\"||\"&B647),Worktags!AR:AV,5,FALSE),\"\")","v":"JE_Override"}]
["3500 Net Assets",{"$f":"Worktags!AS66","v":"3500"},{"$f":"IF(Worktags!AQ66<>Worktags!AS66,Worktags!AQ66,\"\")","v":""},{"$f":"IFERROR(VLOOKUP(B648,Worktags!AL:AO,2,FALSE),\"\")","v":"Net Assets"},{"$f":"IFERROR(VLOOKUP(C648,Worktags!O:T,2,FALSE),\"\")","v":""},{"$f":"IFERROR(VLOOKUP(IF(C648=\"\",B648&\"||\"&B648,C648&\"||\"&B648),Worktags!AR:AV,5,FALSE),\"\")","v":"JE_Override"}]
["3600 Net Assets-Reserve",{"$f":"Worktags!AL101","v":"3600"},null,{"$f":"IFERROR(VLOOKUP(B649,Worktags!AL:AO,2,FALSE),\"\")","v":"Net Assets-Reserve"},null,{"$f":"IFERROR(VLOOKUP(IF(C649=\"\",B649&\"||\"&B649,C649&\"||\"&B649),Worktags!AR:AV,5,FALSE),\"\")","v":"All"}]
["3600 Net Assets-Reserve",{"$f":"Worktags!AS67","v":"3600"},{"$f":"IF(Worktags!AQ67<>Worktags!AS67,Worktags!AQ67,\"\")","v":""},{"$f":"IFERROR(VLOOKUP(B650,Worktags!AL:AO,2,FALSE),\"\")","v":"Net Assets-Reserve"},{"$f":"IFERROR(VLOOKUP(C650,Worktags!O:T,2,FALSE),\"\")","v":""},{"$f":"IFERROR(VLOOKUP(IF(C650=\"\",B650&\"||\"&B650,C650&\"||\"&B650),Worktags!AR:AV,5,FALSE),\"\")","v":"All"}]
["3609 Net Assets (Reserve Offset)",{"$f":"Worktags!AL102","v":"3609"},null,{"$f":"IFERROR(VLOOKUP(B651,Worktags!AL:AO,2,FALSE),\"\")","v":"Net Assets (Reserve Offset)"},null,{"$f":"IFERROR(VLOOKUP(IF(C651=\"\",B651&\"||\"&B651,C651&\"||\"&B651),Worktags!AR:AV,5,FALSE),\"\")","v":"All"}]
["3609 Net Assets (Reserve Offset)",{"$f":"Worktags!AS68","v":"3609"},{"$f":"IF(Worktags!AQ68<>Worktags!AS68,Worktags!AQ68,\"\")","v":""},{"$f":"IFERROR(VLOOKUP(B652,Worktags!AL:AO,2,FALSE),\"\")","v":"Net Assets (Reserve Offset)"},{"$f":"IFERROR(VLOOKUP(C652,Worktags!O:T,2,FALSE),\"\")","v":""},{"$f":"IFERROR(VLOOKUP(IF(C652=\"\",B652&\"||\"&B652,C652&\"||\"&B652),Worktags!AR:AV,5,FALSE),\"\")","v":"All"}]
["3670 Retirement Benefits Adjustment",{"$f":"Worktags!AL103","v":"3670"},null,{"$f":"IFERROR(VLOOKUP(B653,Worktags!AL:AO,2,FALSE),\"\")","v":"Retirement Benefits Adjustment"},null,{"$f":"IFERROR(VLOOKUP(IF(C653=\"\",B653&\"||\"&B653,C653&\"||\"&B653),Worktags!AR:AV,5,FALSE),\"\")","v":"JE_Override"}]
["3670 Retirement Benefits Adjustment",{"$f":"Worktags!AS69","v":"3670"},{"$f":"IF(Worktags!AQ69<>Worktags!AS69,Worktags!AQ69,\"\")","v":""},{"$f":"IFERROR(VLOOKUP(B654,Worktags!AL:AO,2,FALSE),\"\")","v":"Retirement Benefits Adjustment"},{"$f":"IFERROR(VLOOKUP(C654,Worktags!O:T,2,FALSE),\"\")","v":""},{"$f":"IFERROR(VLOOKUP(IF(C654=\"\",B654&\"||\"&B654,C654&\"||\"&B654),Worktags!AR:AV,5,FALSE),\"\")","v":"JE_Override"}]
["3680 Cumulative Translation Adjustment",{"$f":"Worktags!AL104","v":"3680"},null,{"$f":"IFERROR(VLOOKUP(B655,Worktags!AL:AO,2,FALSE),\"\")","v":"Cumulative Translation Adjustment"},null,{"$f":"IFERROR(VLOOKUP(IF(C655=\"\",B655&\"||\"&B655,C655&\"||\"&B655),Worktags!AR:AV,5,FALSE),\"\")","v":"JE_Override"}]
["3680 Cumulative Translation Adjustment",{"$f":"Worktags!AS70","v":"3680"},{"$f":"IF(Worktags!AQ70<>Worktags!AS70,Worktags!AQ70,\"\")","v":""},{"$f":"IFERROR(VLOOKUP(B656,Worktags!AL:AO,2,FALSE),\"\")","v":"Cumulative Translation Adjustment"},{"$f":"IFERROR(VLOOKUP(C656,Worktags!O:T,2,FALSE),\"\")","v":""},{"$f":"IFERROR(VLOOKUP(IF(C656=\"\",B656&\"||\"&B656,C656&\"||\"&B656),Worktags!AR:AV,5,FALSE),\"\")","v":"JE_Override"}]
["3690 Net Assets (Proj Conv P&L)",{"$f":"Worktags!AL105","v":"3690"},null,{"$f":"IFERROR(VLOOKUP(B657,Worktags!AL:AO,2,FALSE),\"\")","v":"Net Assets (Proj Conv P&L)"},null,{"$f":"IFERROR(VLOOKUP(IF(C657=\"\",B657&\"||\"&B657,C657&\"||\"&B657),Worktags!AR:AV,5,FALSE),\"\")","v":"JE_Override"}]
["3690 Net Assets (Proj Conv P&L)",{"$f":"Worktags!AS71","v":"3690"},{"$f":"IF(Worktags!AQ71<>Worktags!AS71,Worktags!AQ71,\"\")","v":""},{"$f":"IFERROR(VLOOKUP(B658,Worktags!AL:AO,2,FALSE),\"\")","v":"Net Assets (Proj Conv P&L)"},{"$f":"IFERROR(VLOOKUP(C658,Worktags!O:T,2,FALSE),\"\")","v":""},{"$f":"IFERROR(VLOOKUP(IF(C658=\"\",B658&\"||\"&B658,C658&\"||\"&B658),Worktags!AR:AV,5,FALSE),\"\")","v":"JE_Override"}]
["4000 Appropriations",{"$f":"Worktags!AL106","v":"4000"},null,{"$f":"IFERROR(VLOOKUP(B659,Worktags!AL:AO,2,FALSE),\"\")","v":"Appropriations"},null,{"$f":"IFERROR(VLOOKUP(IF(C659=\"\",B659&\"||\"&B659,C659&\"||\"&B659),Worktags!AR:AV,5,FALSE),\"\")","v":""}]
["4000_RC4001 Appropriations/Church Appropriation",{"$f":"Worktags!AS98","v":"4000"},{"$f":"IF(Worktags!AQ98<>Worktags!AS98,Worktags!AQ98,\"\")","v":"RC4001"},{"$f":"IFERROR(VLOOKUP(B660,Worktags!AL:AO,2,FALSE),\"\")","v":"Appropriations"},{"$f":"IFERROR(VLOOKUP(C660,Worktags!O:T,2,FALSE),\"\")","v":"Church Appropriation"},{"$f":"IFERROR(VLOOKUP(IF(C660=\"\",B660&\"||\"&B660,C660&\"||\"&B660),Worktags!AR:AV,5,FALSE),\"\")","v":"All"}]
["4000_RC4002 Appropriations/University Allocation",{"$f":"Worktags!AS100","v":"4000"},{"$f":"IF(Worktags!AQ100<>Worktags!AS100,Worktags!AQ100,\"\")","v":"RC4002"},{"$f":"IFERROR(VLOOKUP(B661,Worktags!AL:AO,2,FALSE),\"\")","v":"Appropriations"},{"$f":"IFERROR(VLOOKUP(C661,Worktags!O:T,2,FALSE),\"\")","v":"University Allocation"},{"$f":"IFERROR(VLOOKUP(IF(C661=\"\",B661&\"||\"&B661,C661&\"||\"&B661),Worktags!AR:AV,5,FALSE),\"\")","v":"All"}]
["4100 Tuition and Fees",{"$f":"Worktags!AL107","v":"4100"},null,{"$f":"IFERROR(VLOOKUP(B662,Worktags!AL:AO,2,FALSE),\"\")","v":"Tuition and Fees"},null,{"$f":"IFERROR(VLOOKUP(IF(C662=\"\",B662&\"||\"&B662,C662&\"||\"&B662),Worktags!AR:AV,5,FALSE),\"\")","v":""}]
["4100_RC4101 Tuition and Fees/Tuition",{"$f":"Worktags!AS102","v":"4100"},{"$f":"IF(Worktags!AQ102<>Worktags!AS102,Worktags!AQ102,\"\")","v":"RC4101"},{"$f":"IFERROR(VLOOKUP(B663,Worktags!AL:AO,2,FALSE),\"\")","v":"Tuition and Fees"},{"$f":"IFERROR(VLOOKUP(C663,Worktags!O:T,2,FALSE),\"\")","v":"Tuition"},{"$f":"IFERROR(VLOOKUP(IF(C663=\"\",B663&\"||\"&B663,C663&\"||\"&B663),Worktags!AR:AV,5,FALSE),\"\")","v":"All"}]
["4100_RC4102 Tuition and Fees/Student Fee Distribution",{"$f":"Worktags!AS104","v":"4100"},{"$f":"IF(Worktags!AQ104<>Worktags!AS104,Worktags!AQ104,\"\")","v":"RC4102"},{"$f":"IFERROR(VLOOKUP(B664,Worktags!AL:AO,2,FALSE),\"\")","v":"Tuition and Fees"},{"$f":"IFERROR(VLOOKUP(C664,Worktags!O:T,2,FALSE),\"\")","v":"Student Fee Distribution"},{"$f":"IFERROR(VLOOKUP(IF(C664=\"\",B664&\"||\"&B664,C664&\"||\"&B664),Worktags!AR:AV,5,FALSE),\"\")","v":"All"}]
["4100_RC4103 Tuition and Fees/Non-Credit Income",{"$f":"Worktags!AS106","v":"4100"},{"$f":"IF(Worktags!AQ106<>Worktags!AS106,Worktags!AQ106,\"\")","v":"RC4103"},{"$f":"IFERROR(VLOOKUP(B665,Worktags!AL:AO,2,FALSE),\"\")","v":"Tuition and Fees"},{"$f":"IFERROR(VLOOKUP(C665,Worktags!O:T,2,FALSE),\"\")","v":"Non-Credit Income"},{"$f":"IFERROR(VLOOKUP(IF(C665=\"\",B665&\"||\"&B665,C665&\"||\"&B665),Worktags!AR:AV,5,FALSE),\"\")","v":"All"}]
["4100_RC4104 Tuition and Fees/Student Fees",{"$f":"Worktags!AS108","v":"4100"},{"$f":"IF(Worktags!AQ108<>Worktags!AS108,Worktags!AQ108,\"\")","v":"RC4104"},{"$f":"IFERROR(VLOOKUP(B666,Worktags!AL:AO,2,FALSE),\"\")","v":"Tuition and Fees"},{"$f":"IFERROR(VLOOKUP(C666,Worktags!O:T,2,FALSE),\"\")","v":"Student Fees"},{"$f":"IFERROR(VLOOKUP(IF(C666=\"\",B666&\"||\"&B666,C666&\"||\"&B666),Worktags!AR:AV,5,FALSE),\"\")","v":"All"}]
["4100_RC4110 Tuition and Fees/Grad Service Fee",{"$f":"Worktags!AS110","v":"4100"},{"$f":"IF(Worktags!AQ110<>Worktags!AS110,Worktags!AQ110,\"\")","v":"RC4110"},{"$f":"IFERROR(VLOOKUP(B667,Worktags!AL:AO,2,FALSE),\"\")","v":"Tuition and Fees"},{"$f":"IFERROR(VLOOKUP(C667,Worktags!O:T,2,FALSE),\"\")","v":"Grad Service Fee"},{"$f":"IFERROR(VLOOKUP(IF(C667=\"\",B667&\"||\"&B667,C667&\"||\"&B667),Worktags!AR:AV,5,FALSE),\"\")","v":"All"}]
["4100_RC4111 Tuition and Fees/Admission Fees",{"$f":"Worktags!AS112","v":"4100"},{"$f":"IF(Worktags!AQ112<>Worktags!AS112,Worktags!AQ112,\"\")","v":"RC4111"},{"$f":"IFERROR(VLOOKUP(B668,Worktags!AL:AO,2,FALSE),\"\")","v":"Tuition and Fees"},{"$f":"IFERROR(VLOOKUP(C668,Worktags!O:T,2,FALSE),\"\")","v":"Admission Fees"},{"$f":"IFERROR(VLOOKUP(IF(C668=\"\",B668&\"||\"&B668,C668&\"||\"&B668),Worktags!AR:AV,5,FALSE),\"\")","v":"All"}]
["4100_RC4112 Tuition and Fees/Graduation Fees",{"$f":"Worktags!AS114","v":"4100"},{"$f":"IF(Worktags!AQ114<>Worktags!AS114,Worktags!AQ114,\"\")","v":"RC4112"},{"$f":"IFERROR(VLOOKUP(B669,Worktags!AL:AO,2,FALSE),\"\")","v":"Tuition and Fees"},{"$f":"IFERROR(VLOOKUP(C669,Worktags!O:T,2,FALSE),\"\")","v":"Graduation Fees"},{"$f":"IFERROR(VLOOKUP(IF(C669=\"\",B669&\"||\"&B669,C669&\"||\"&B669),Worktags!AR:AV,5,FALSE),\"\")","v":"All"}]
["4100_RC4113 Tuition and Fees/Transcript Fees",{"$f":"Worktags!AS116","v":"4100"},{"$f":"IF(Worktags!AQ116<>Worktags!AS116,Worktags!AQ116,\"\")","v":"RC4113"},{"$f":"IFERROR(VLOOKUP(B670,Worktags!AL:AO,2,FALSE),\"\")","v":"Tuition and Fees"},{"$f":"IFERROR(VLOOKUP(C670,Worktags!O:T,2,FALSE),\"\")","v":"Transcript Fees"},{"$f":"IFERROR(VLOOKUP(IF(C670=\"\",B670&\"||\"&B670,C670&\"||\"&B670),Worktags!AR:AV,5,FALSE),\"\")","v":"All"}]
["4100_RC4114 Tuition and Fees/Special Exam Fees",{"$f":"Worktags!AS118","v":"4100"},{"$f":"IF(Worktags!AQ118<>Worktags!AS118,Worktags!AQ118,\"\")","v":"RC4114"},{"$f":"IFERROR(VLOOKUP(B671,Worktags!AL:AO,2,FALSE),\"\")","v":"Tuition and Fees"},{"$f":"IFERROR(VLOOKUP(C671,Worktags!O:T,2,FALSE),\"\")","v":"Special Exam Fees"},{"$f":"IFERROR(VLOOKUP(IF(C671=\"\",B671&\"||\"&B671,C671&\"||\"&B671),Worktags!AR:AV,5,FALSE),\"\")","v":"All"}]
["4100_RC4115 Tuition and Fees/ACT Test Fees",{"$f":"Worktags!AS120","v":"4100"},{"$f":"IF(Worktags!AQ120<>Worktags!AS120,Worktags!AQ120,\"\")","v":"RC4115"},{"$f":"IFERROR(VLOOKUP(B672,Worktags!AL:AO,2,FALSE),\"\")","v":"Tuition and Fees"},{"$f":"IFERROR(VLOOKUP(C672,Worktags!O:T,2,FALSE),\"\")","v":"ACT Test Fees"},{"$f":"IFERROR(VLOOKUP(IF(C672=\"\",B672&\"||\"&B672,C672&\"||\"&B672),Worktags!AR:AV,5,FALSE),\"\")","v":"All"}]
["4100_RC4116 Tuition and Fees/Library Fines",{"$f":"Worktags!AS121","v":"4100"},{"$f":"IF(Worktags!AQ121<>Worktags!AS121,Worktags!AQ121,\"\")","v":"RC4116"},{"$f":"IFERROR(VLOOKUP(B673,Worktags!AL:AO,2,FALSE),\"\")","v":"Tuition and Fees"},{"$f":"IFERROR(VLOOKUP(C673,Worktags!O:T,2,FALSE),\"\")","v":"Library Fines"},{"$f":"IFERROR(VLOOKUP(IF(C673=\"\",B673&\"||\"&B673,C673&\"||\"&B673),Worktags!AR:AV,5,FALSE),\"\")","v":"All"}]
["4100_RC4117 Tuition and Fees/Locker Rentals",{"$f":"Worktags!AS123","v":"4100"},{"$f":"IF(Worktags!AQ123<>Worktags!AS123,Worktags!AQ123,\"\")","v":"RC4117"},{"$f":"IFERROR(VLOOKUP(B674,Worktags!AL:AO,2,FALSE),\"\")","v":"Tuition and Fees"},{"$f":"IFERROR(VLOOKUP(C674,Worktags!O:T,2,FALSE),\"\")","v":"Locker Rentals"},{"$f":"IFERROR(VLOOKUP(IF(C674=\"\",B674&\"||\"&B674,C674&\"||\"&B674),Worktags!AR:AV,5,FALSE),\"\")","v":"All"}]
["4100_RC4199 Tuition and Fees/Tuition and Fees (reclass)",{"$f":"Worktags!AS125","v":"4100"},{"$f":"IF(Worktags!AQ125<>Worktags!AS125,Worktags!AQ125,\"\")","v":"RC4199"},{"$f":"IFERROR(VLOOKUP(B675,Worktags!AL:AO,2,FALSE),\"\")","v":"Tuition and Fees"},{"$f":"IFERROR(VLOOKUP(C675,Worktags!O:T,2,FALSE),\"\")","v":"Tuition and Fees (reclass)"},{"$f":"IFERROR(VLOOKUP(IF(C675=\"\",B675&\"||\"&B675,C675&\"||\"&B675),Worktags!AR:AV,5,FALSE),\"\")","v":"All"}]
["4100_SC4100 Tuition and Fees/Tuition and Fees Refunds",{"$f":"Worktags!AS255","v":"4100"},{"$f":"IF(Worktags!AQ255<>Worktags!AS255,Worktags!AQ255,\"\")","v":"SC4100"},{"$f":"IFERROR(VLOOKUP(B676,Worktags!AL:AO,2,FALSE),\"\")","v":"Tuition and Fees"},{"$f":"IFERROR(VLOOKUP(C676,Worktags!O:T,2,FALSE),\"\")","v":"Tuition and Fees Refunds"},{"$f":"IFERROR(VLOOKUP(IF(C676=\"\",B676&\"||\"&B676,C676&\"||\"&B676),Worktags!AR:AV,5,FALSE),\"\")","v":"All"}]
["4198 Tuition and Fees (Contra)",{"$f":"Worktags!AL108","v":"4198"},null,{"$f":"IFERROR(VLOOKUP(B677,Worktags!AL:AO,2,FALSE),\"\")","v":"Tuition and Fees (Contra)"},null,{"$f":"IFERROR(VLOOKUP(IF(C677=\"\",B677&\"||\"&B677,C677&\"||\"&B677),Worktags!AR:AV,5,FALSE),\"\")","v":""}]
["4200 Gifts and Grants",{"$f":"Worktags!AL109","v":"4200"},null,{"$f":"IFERROR(VLOOKUP(B678,Worktags!AL:AO,2,FALSE),\"\")","v":"Gifts and Grants"},null,{"$f":"IFERROR(VLOOKUP(IF(C678=\"\",B678&\"||\"&B678,C678&\"||\"&B678),Worktags!AR:AV,5,FALSE),\"\")","v":""}]
["4200_RC4201 Gifts and Grants/Gift Revenue-Cash",{"$f":"Worktags!AS126","v":"4200"},{"$f":"IF(Worktags!AQ126<>Worktags!AS126,Worktags!AQ126,\"\")","v":"RC4201"},{"$f":"IFERROR(VLOOKUP(B679,Worktags!AL:AO,2,FALSE),\"\")","v":"Gifts and Grants"},{"$f":"IFERROR(VLOOKUP(C679,Worktags!O:T,2,FALSE),\"\")","v":"Gift Revenue-Cash"},{"$f":"IFERROR(VLOOKUP(IF(C679=\"\",B679&\"||\"&B679,C679&\"||\"&B679),Worktags!AR:AV,5,FALSE),\"\")","v":"JE_Gift|JE_Override"}]
["4200_RC4202 Gifts and Grants/Gift Revenue-Securities",{"$f":"Worktags!AS127","v":"4200"},{"$f":"IF(Worktags!AQ127<>Worktags!AS127,Worktags!AQ127,\"\")","v":"RC4202"},{"$f":"IFERROR(VLOOKUP(B680,Worktags!AL:AO,2,FALSE),\"\")","v":"Gifts and Grants"},{"$f":"IFERROR(VLOOKUP(C680,Worktags!O:T,2,FALSE),\"\")","v":"Gift Revenue-Securities"},{"$f":"IFERROR(VLOOKUP(IF(C680=\"\",B680&\"||\"&B680,C680&\"||\"&B680),Worktags!AR:AV,5,FALSE),\"\")","v":"JE_Gift|JE_Override"}]
["4200_RC4203 Gifts and Grants/Gift Revenue - Tangible Property",{"$f":"Worktags!AS128","v":"4200"},{"$f":"IF(Worktags!AQ128<>Worktags!AS128,Worktags!AQ128,\"\")","v":"RC4203"},{"$f":"IFERROR(VLOOKUP(B681,Worktags!AL:AO,2,FALSE),\"\")","v":"Gifts and Grants"},{"$f":"IFERROR(VLOOKUP(C681,Worktags!O:T,2,FALSE),\"\")","v":"Gift Revenue - Tangible Property"},{"$f":"IFERROR(VLOOKUP(IF(C681=\"\",B681&\"||\"&B681,C681&\"||\"&B681),Worktags!AR:AV,5,FALSE),\"\")","v":"JE_Gift|JE_Override"}]
["4200_RC4204 Gifts and Grants/Sponsored Program Revenue",{"$f":"Worktags!AS129","v":"4200"},{"$f":"IF(Worktags!AQ129<>Worktags!AS129,Worktags!AQ129,\"\")","v":"RC4204"},{"$f":"IFERROR(VLOOKUP(B682,Worktags!AL:AO,2,FALSE),\"\")","v":"Gifts and Grants"},{"$f":"IFERROR(VLOOKUP(C682,Worktags!O:T,2,FALSE),\"\")","v":"Sponsored Program Revenue"},{"$f":"IFERROR(VLOOKUP(IF(C682=\"\",B682&\"||\"&B682,C682&\"||\"&B682),Worktags!AR:AV,5,FALSE),\"\")","v":"All"}]
["4200_RC4299 Gifts and Grants/Gift Revenue (reclass)",{"$f":"Worktags!AS130","v":"4200"},{"$f":"IF(Worktags!AQ130<>Worktags!AS130,Worktags!AQ130,\"\")","v":"RC4299"},{"$f":"IFERROR(VLOOKUP(B683,Worktags!AL:AO,2,FALSE),\"\")","v":"Gifts and Grants"},{"$f":"IFERROR(VLOOKUP(C683,Worktags!O:T,2,FALSE),\"\")","v":"Gift Revenue (reclass)"},{"$f":"IFERROR(VLOOKUP(IF(C683=\"\",B683&\"||\"&B683,C683&\"||\"&B683),Worktags!AR:AV,5,FALSE),\"\")","v":"All"}]
["4300 Investment Income",{"$f":"Worktags!AL110","v":"4300"},null,{"$f":"IFERROR(VLOOKUP(B684,Worktags!AL:AO,2,FALSE),\"\")","v":"Investment Income"},null,{"$f":"IFERROR(VLOOKUP(IF(C684=\"\",B684&\"||\"&B684,C684&\"||\"&B684),Worktags!AR:AV,5,FALSE),\"\")","v":""}]
["4300_RC4301 Investment Income/Investment Dividend Income",{"$f":"Worktags!AS131","v":"4300"},{"$f":"IF(Worktags!AQ131<>Worktags!AS131,Worktags!AQ131,\"\")","v":"RC4301"},{"$f":"IFERROR(VLOOKUP(B685,Worktags!AL:AO,2,FALSE),\"\")","v":"Investment Income"},{"$f":"IFERROR(VLOOKUP(C685,Worktags!O:T,2,FALSE),\"\")","v":"Investment Dividend Income"},{"$f":"IFERROR(VLOOKUP(IF(C685=\"\",B685&\"||\"&B685,C685&\"||\"&B685),Worktags!AR:AV,5,FALSE),\"\")","v":"All"}]
["4300_RC4302 Investment Income/Investment Interest Income",{"$f":"Worktags!AS132","v":"4300"},{"$f":"IF(Worktags!AQ132<>Worktags!AS132,Worktags!AQ132,\"\")","v":"RC4302"},{"$f":"IFERROR(VLOOKUP(B686,Worktags!AL:AO,2,FALSE),\"\")","v":"Investment Income"},{"$f":"IFERROR(VLOOKUP(C686,Worktags!O:T,2,FALSE),\"\")","v":"Investment Interest Income"},{"$f":"IFERROR(VLOOKUP(IF(C686=\"\",B686&\"||\"&B686,C686&\"||\"&B686),Worktags!AR:AV,5,FALSE),\"\")","v":"All"}]
["4310 Investment Gains and Losses",{"$f":"Worktags!AL111","v":"4310"},null,{"$f":"IFERROR(VLOOKUP(B687,Worktags!AL:AO,2,FALSE),\"\")","v":"Investment Gains and Losses"},null,{"$f":"IFERROR(VLOOKUP(IF(C687=\"\",B687&\"||\"&B687,C687&\"||\"&B687),Worktags!AR:AV,5,FALSE),\"\")","v":""}]
["4310_RC4311 Investment Gains and Losses/Investment Gains/Losses",{"$f":"Worktags!AS133","v":"4310"},{"$f":"IF(Worktags!AQ133<>Worktags!AS133,Worktags!AQ133,\"\")","v":"RC4311"},{"$f":"IFERROR(VLOOKUP(B688,Worktags!AL:AO,2,FALSE),\"\")","v":"Investment Gains and Losses"},{"$f":"IFERROR(VLOOKUP(C688,Worktags!O:T,2,FALSE),\"\")","v":"Investment Gains/Losses"},{"$f":"IFERROR(VLOOKUP(IF(C688=\"\",B688&\"||\"&B688,C688&\"||\"&B688),Worktags!AR:AV,5,FALSE),\"\")","v":"All"}]
["4310_RC4312 Investment Gains and Losses/Investment Income Assets Held for Liquidation",{"$f":"Worktags!AS134","v":"4310"},{"$f":"IF(Worktags!AQ134<>Worktags!AS134,Worktags!AQ134,\"\")","v":"RC4312"},{"$f":"IFERROR(VLOOKUP(B689,Worktags!AL:AO,2,FALSE),\"\")","v":"Investment Gains and Losses"},{"$f":"IFERROR(VLOOKUP(C689,Worktags!O:T,2,FALSE),\"\")","v":"Investment Income Assets Held for Liquidation"},{"$f":"IFERROR(VLOOKUP(IF(C689=\"\",B689&\"||\"&B689,C689&\"||\"&B689),Worktags!AR:AV,5,FALSE),\"\")","v":"All"}]
["4310_RC4313 Investment Gains and Losses/Unrealized Investment Gains/Losses",{"$f":"Worktags!AS135","v":"4310"},{"$f":"IF(Worktags!AQ135<>Worktags!AS135,Worktags!AQ135,\"\")","v":"RC4313"},{"$f":"IFERROR(VLOOKUP(B690,Worktags!AL:AO,2,FALSE),\"\")","v":"Investment Gains and Losses"},{"$f":"IFERROR(VLOOKUP(C690,Worktags!O:T,2,FALSE),\"\")","v":"Unrealized Investment Gains/Losses"},{"$f":"IFERROR(VLOOKUP(IF(C690=\"\",B690&\"||\"&B690,C690&\"||\"&B690),Worktags!AR:AV,5,FALSE),\"\")","v":"All"}]
["4400 Sale of Services",{"$f":"Worktags!AL112","v":"4400"},null,{"$f":"IFERROR(VLOOKUP(B691,Worktags!AL:AO,2,FALSE),\"\")","v":"Sale of Services"},null,{"$f":"IFERROR(VLOOKUP(IF(C691=\"\",B691&\"||\"&B691,C691&\"||\"&B691),Worktags!AR:AV,5,FALSE),\"\")","v":""}]
["4400_RC4401 Sale of Services/Sale of Services",{"$f":"Worktags!AS137","v":"4400"},{"$f":"IF(Worktags!AQ137<>Worktags!AS137,Worktags!AQ137,\"\")","v":"RC4401"},{"$f":"IFERROR(VLOOKUP(B692,Worktags!AL:AO,2,FALSE),\"\")","v":"Sale of Services"},{"$f":"IFERROR(VLOOKUP(C692,Worktags!O:T,2,FALSE),\"\")","v":"Sale of Services"},{"$f":"IFERROR(VLOOKUP(IF(C692=\"\",B692&\"||\"&B692,C692&\"||\"&B692),Worktags!AR:AV,5,FALSE),\"\")","v":"All"}]
["4400_RC4402 Sale of Services/Sale of Services-Campus Appropriation",{"$f":"Worktags!AS138","v":"4400"},{"$f":"IF(Worktags!AQ138<>Worktags!AS138,Worktags!AQ138,\"\")","v":"RC4402"},{"$f":"IFERROR(VLOOKUP(B693,Worktags!AL:AO,2,FALSE),\"\")","v":"Sale of Services"},{"$f":"IFERROR(VLOOKUP(C693,Worktags!O:T,2,FALSE),\"\")","v":"Sale of Services-Campus Appropriation"},{"$f":"IFERROR(VLOOKUP(IF(C693=\"\",B693&\"||\"&B693,C693&\"||\"&B693),Worktags!AR:AV,5,FALSE),\"\")","v":"All"}]
["4400_RC4403 Sale of Services/Sale of Services-Campus Other",{"$f":"Worktags!AS139","v":"4400"},{"$f":"IF(Worktags!AQ139<>Worktags!AS139,Worktags!AQ139,\"\")","v":"RC4403"},{"$f":"IFERROR(VLOOKUP(B694,Worktags!AL:AO,2,FALSE),\"\")","v":"Sale of Services"},{"$f":"IFERROR(VLOOKUP(C694,Worktags!O:T,2,FALSE),\"\")","v":"Sale of Services-Campus Other"},{"$f":"IFERROR(VLOOKUP(IF(C694=\"\",B694&\"||\"&B694,C694&\"||\"&B694),Worktags!AR:AV,5,FALSE),\"\")","v":"All"}]
["4400_RC4404 Sale of Services/Sale of Services-Taxable",{"$f":"Worktags!AS141","v":"4400"},{"$f":"IF(Worktags!AQ141<>Worktags!AS141,Worktags!AQ141,\"\")","v":"RC4404"},{"$f":"IFERROR(VLOOKUP(B695,Worktags!AL:AO,2,FALSE),\"\")","v":"Sale of Services"},{"$f":"IFERROR(VLOOKUP(C695,Worktags!O:T,2,FALSE),\"\")","v":"Sale of Services-Taxable"},{"$f":"IFERROR(VLOOKUP(IF(C695=\"\",B695&\"||\"&B695,C695&\"||\"&B695),Worktags!AR:AV,5,FALSE),\"\")","v":"All"}]
["4400_RC4405 Sale of Services/Sale of Services-Refunds",{"$f":"Worktags!AS143","v":"4400"},{"$f":"IF(Worktags!AQ143<>Worktags!AS143,Worktags!AQ143,\"\")","v":"RC4405"},{"$f":"IFERROR(VLOOKUP(B696,Worktags!AL:AO,2,FALSE),\"\")","v":"Sale of Services"},{"$f":"IFERROR(VLOOKUP(C696,Worktags!O:T,2,FALSE),\"\")","v":"Sale of Services-Refunds"},{"$f":"IFERROR(VLOOKUP(IF(C696=\"\",B696&\"||\"&B696,C696&\"||\"&B696),Worktags!AR:AV,5,FALSE),\"\")","v":"All"}]
["4400_RC4406 Sale of Services/Sponsorship Revenue",{"$f":"Worktags!AS145","v":"4400"},{"$f":"IF(Worktags!AQ145<>Worktags!AS145,Worktags!AQ145,\"\")","v":"RC4406"},{"$f":"IFERROR(VLOOKUP(B697,Worktags!AL:AO,2,FALSE),\"\")","v":"Sale of Services"},{"$f":"IFERROR(VLOOKUP(C697,Worktags!O:T,2,FALSE),\"\")","v":"Sponsorship Revenue"},{"$f":"IFERROR(VLOOKUP(IF(C697=\"\",B697&\"||\"&B697,C697&\"||\"&B697),Worktags!AR:AV,5,FALSE),\"\")","v":"All"}]
["4400_RC4407 Sale of Services/Publishing Revenue",{"$f":"Worktags!AS147","v":"4400"},{"$f":"IF(Worktags!AQ147<>Worktags!AS147,Worktags!AQ147,\"\")","v":"RC4407"},{"$f":"IFERROR(VLOOKUP(B698,Worktags!AL:AO,2,FALSE),\"\")","v":"Sale of Services"},{"$f":"IFERROR(VLOOKUP(C698,Worktags!O:T,2,FALSE),\"\")","v":"Publishing Revenue"},{"$f":"IFERROR(VLOOKUP(IF(C698=\"\",B698&\"||\"&B698,C698&\"||\"&B698),Worktags!AR:AV,5,FALSE),\"\")","v":"All"}]
["4400_RC4408 Sale of Services/Digital Download Revenue",{"$f":"Worktags!AS149","v":"4400"},{"$f":"IF(Worktags!AQ149<>Worktags!AS149,Worktags!AQ149,\"\")","v":"RC4408"},{"$f":"IFERROR(VLOOKUP(B699,Worktags!AL:AO,2,FALSE),\"\")","v":"Sale of Services"},{"$f":"IFERROR(VLOOKUP(C699,Worktags!O:T,2,FALSE),\"\")","v":"Digital Download Revenue"},{"$f":"IFERROR(VLOOKUP(IF(C699=\"\",B699&\"||\"&B699,C699&\"||\"&B699),Worktags!AR:AV,5,FALSE),\"\")","v":"All"}]
["4400_RC4409 Sale of Services/Digital Streaming Revenue",{"$f":"Worktags!AS151","v":"4400"},{"$f":"IF(Worktags!AQ151<>Worktags!AS151,Worktags!AQ151,\"\")","v":"RC4409"},{"$f":"IFERROR(VLOOKUP(B700,Worktags!AL:AO,2,FALSE),\"\")","v":"Sale of Services"},{"$f":"IFERROR(VLOOKUP(C700,Worktags!O:T,2,FALSE),\"\")","v":"Digital Streaming Revenue"},{"$f":"IFERROR(VLOOKUP(IF(C700=\"\",B700&\"||\"&B700,C700&\"||\"&B700),Worktags!AR:AV,5,FALSE),\"\")","v":"All"}]
["4400_RC4499 Sale of Services/Sale of Services (reclass)",{"$f":"Worktags!AS153","v":"4400"},{"$f":"IF(Worktags!AQ153<>Worktags!AS153,Worktags!AQ153,\"\")","v":"RC4499"},{"$f":"IFERROR(VLOOKUP(B701,Worktags!AL:AO,2,FALSE),\"\")","v":"Sale of Services"},{"$f":"IFERROR(VLOOKUP(C701,Worktags!O:T,2,FALSE),\"\")","v":"Sale of Services (reclass)"},{"$f":"IFERROR(VLOOKUP(IF(C701=\"\",B701&\"||\"&B701,C701&\"||\"&B701),Worktags!AR:AV,5,FALSE),\"\")","v":"All"}]
["4500 Sale of Goods",{"$f":"Worktags!AL113","v":"4500"},null,{"$f":"IFERROR(VLOOKUP(B702,Worktags!AL:AO,2,FALSE),\"\")","v":"Sale of Goods"},null,{"$f":"IFERROR(VLOOKUP(IF(C702=\"\",B702&\"||\"&B702,C702&\"||\"&B702),Worktags!AR:AV,5,FALSE),\"\")","v":""}]
["4500_RC4501 Sale of Goods/Sale of Goods",{"$f":"Worktags!AS155","v":"4500"},{"$f":"IF(Worktags!AQ155<>Worktags!AS155,Worktags!AQ155,\"\")","v":"RC4501"},{"$f":"IFERROR(VLOOKUP(B703,Worktags!AL:AO,2,FALSE),\"\")","v":"Sale of Goods"},{"$f":"IFERROR(VLOOKUP(C703,Worktags!O:T,2,FALSE),\"\")","v":"Sale of Goods"},{"$f":"IFERROR(VLOOKUP(IF(C703=\"\",B703&\"||\"&B703,C703&\"||\"&B703),Worktags!AR:AV,5,FALSE),\"\")","v":"All"}]
["4500_RC4502 Sale of Goods/Sale of Goods-Taxable",{"$f":"Worktags!AS157","v":"4500"},{"$f":"IF(Worktags!AQ157<>Worktags!AS157,Worktags!AQ157,\"\")","v":"RC4502"},{"$f":"IFERROR(VLOOKUP(B704,Worktags!AL:AO,2,FALSE),\"\")","v":"Sale of Goods"},{"$f":"IFERROR(VLOOKUP(C704,Worktags!O:T,2,FALSE),\"\")","v":"Sale of Goods-Taxable"},{"$f":"IFERROR(VLOOKUP(IF(C704=\"\",B704&\"||\"&B704,C704&\"||\"&B704),Worktags!AR:AV,5,FALSE),\"\")","v":"All"}]
[{"$f":"IF(B705<>\"\",IF(C705<>\"\",B705&\"_\"&C705&\" \"&D705&\"/\"&E705,B705&\" \"&D705),\"\")","v":"4500_RC4503 Sale of Goods/Sale of Goods-Discount/Returns"},{"$f":"Worktags!AS159","v":"4500"},{"$f":"IF(Worktags!AQ159<>Worktags!AS159,Worktags!AQ159,\"\")","v":"RC4503"},{"$f":"IFERROR(VLOOKUP(B705,Worktags!AL:AO,2,FALSE),\"\")","v":"Sale of Goods"},{"$f":"IFERROR(VLOOKUP(C705,Worktags!O:T,2,FALSE),\"\")","v":"Sale of Goods-Discount/Returns"},{"$f":"IFERROR(VLOOKUP(IF(C705=\"\",B705&\"||\"&B705,C705&\"||\"&B705),Worktags!AR:AV,5,FALSE),\"\")","v":"All"}]
["4500_RC4504 Sale of Goods/Sales - Online and Out of State",{"$f":"Worktags!AS161","v":"4500"},{"$f":"IF(Worktags!AQ161<>Worktags!AS161,Worktags!AQ161,\"\")","v":"RC4504"},{"$f":"IFERROR(VLOOKUP(B706,Worktags!AL:AO,2,FALSE),\"\")","v":"Sale of Goods"},{"$f":"IFERROR(VLOOKUP(C706,Worktags!O:T,2,FALSE),\"\")","v":"Sales - Online and Out of State"},{"$f":"IFERROR(VLOOKUP(IF(C706=\"\",B706&\"||\"&B706,C706&\"||\"&B706),Worktags!AR:AV,5,FALSE),\"\")","v":"All"}]
["4500_RC4505 Sale of Goods/Ticket Sales",{"$f":"Worktags!AS163","v":"4500"},{"$f":"IF(Worktags!AQ163<>Worktags!AS163,Worktags!AQ163,\"\")","v":"RC4505"},{"$f":"IFERROR(VLOOKUP(B707,Worktags!AL:AO,2,FALSE),\"\")","v":"Sale of Goods"},{"$f":"IFERROR(VLOOKUP(C707,Worktags!O:T,2,FALSE),\"\")","v":"Ticket Sales"},{"$f":"IFERROR(VLOOKUP(IF(C707=\"\",B707&\"||\"&B707,C707&\"||\"&B707),Worktags!AR:AV,5,FALSE),\"\")","v":"All"}]
["4500_RC4506 Sale of Goods/Ticket Sales-Taxable",{"$f":"Worktags!AS165","v":"4500"},{"$f":"IF(Worktags!AQ165<>Worktags!AS165,Worktags!AQ165,\"\")","v":"RC4506"},{"$f":"IFERROR(VLOOKUP(B708,Worktags!AL:AO,2,FALSE),\"\")","v":"Sale of Goods"},{"$f":"IFERROR(VLOOKUP(C708,Worktags!O:T,2,FALSE),\"\")","v":"Ticket Sales-Taxable"},{"$f":"IFERROR(VLOOKUP(IF(C708=\"\",B708&\"||\"&B708,C708&\"||\"&B708),Worktags!AR:AV,5,FALSE),\"\")","v":"All"}]
["4500_RC4507 Sale of Goods/Ticket Sales-Refunds",{"$f":"Worktags!AS167","v":"4500"},{"$f":"IF(Worktags!AQ167<>Worktags!AS167,Worktags!AQ167,\"\")","v":"RC4507"},{"$f":"IFERROR(VLOOKUP(B709,Worktags!AL:AO,2,FALSE),\"\")","v":"Sale of Goods"},{"$f":"IFERROR(VLOOKUP(C709,Worktags!O:T,2,FALSE),\"\")","v":"Ticket Sales-Refunds"},{"$f":"IFERROR(VLOOKUP(IF(C709=\"\",B709&\"||\"&B709,C709&\"||\"&B709),Worktags!AR:AV,5,FALSE),\"\")","v":"All"}]
["4500_RC4599 Sale of Goods/Sale of Goods (reclass)",{"$f":"Worktags!AS169","v":"4500"},{"$f":"IF(Worktags!AQ169<>Worktags!AS169,Worktags!AQ169,\"\")","v":"RC4599"},{"$f":"IFERROR(VLOOKUP(B710,Worktags!AL:AO,2,FALSE),\"\")","v":"Sale of Goods"},{"$f":"IFERROR(VLOOKUP(C710,Worktags!O:T,2,FALSE),\"\")","v":"Sale of Goods (reclass)"},{"$f":"IFERROR(VLOOKUP(IF(C710=\"\",B710&\"||\"&B710,C710&\"||\"&B710),Worktags!AR:AV,5,FALSE),\"\")","v":"All"}]
["4700 Other Income",{"$f":"Worktags!AL114","v":"4700"},null,{"$f":"IFERROR(VLOOKUP(B711,Worktags!AL:AO,2,FALSE),\"\")","v":"Other Income"},null,{"$f":"IFERROR(VLOOKUP(IF(C711=\"\",B711&\"||\"&B711,C711&\"||\"&B711),Worktags!AR:AV,5,FALSE),\"\")","v":""}]
["4700_RC4701 Other Income/Non-Investment-Dividend Income",{"$f":"Worktags!AS170","v":"4700"},{"$f":"IF(Worktags!AQ170<>Worktags!AS170,Worktags!AQ170,\"\")","v":"RC4701"},{"$f":"IFERROR(VLOOKUP(B712,Worktags!AL:AO,2,FALSE),\"\")","v":"Other Income"},{"$f":"IFERROR(VLOOKUP(C712,Worktags!O:T,2,FALSE),\"\")","v":"Non-Investment-Dividend Income"},{"$f":"IFERROR(VLOOKUP(IF(C712=\"\",B712&\"||\"&B712,C712&\"||\"&B712),Worktags!AR:AV,5,FALSE),\"\")","v":"All"}]
["4700_RC4702 Other Income/Non-Investment-Interest Income",{"$f":"Worktags!AS171","v":"4700"},{"$f":"IF(Worktags!AQ171<>Worktags!AS171,Worktags!AQ171,\"\")","v":"RC4702"},{"$f":"IFERROR(VLOOKUP(B713,Worktags!AL:AO,2,FALSE),\"\")","v":"Other Income"},{"$f":"IFERROR(VLOOKUP(C713,Worktags!O:T,2,FALSE),\"\")","v":"Non-Investment-Interest Income"},{"$f":"IFERROR(VLOOKUP(IF(C713=\"\",B713&\"||\"&B713,C713&\"||\"&B713),Worktags!AR:AV,5,FALSE),\"\")","v":"All"}]
["4700_RC4703 Other Income/Non-Investment-Gains/Losses",{"$f":"Worktags!AS172","v":"4700"},{"$f":"IF(Worktags!AQ172<>Worktags!AS172,Worktags!AQ172,\"\")","v":"RC4703"},{"$f":"IFERROR(VLOOKUP(B714,Worktags!AL:AO,2,FALSE),\"\")","v":"Other Income"},{"$f":"IFERROR(VLOOKUP(C714,Worktags!O:T,2,FALSE),\"\")","v":"Non-Investment-Gains/Losses"},{"$f":"IFERROR(VLOOKUP(IF(C714=\"\",B714&\"||\"&B714,C714&\"||\"&B714),Worktags!AR:AV,5,FALSE),\"\")","v":"All"}]
["4700_RC4704 Other Income/Rental Income",{"$f":"Worktags!AS174","v":"4700"},{"$f":"IF(Worktags!AQ174<>Worktags!AS174,Worktags!AQ174,\"\")","v":"RC4704"},{"$f":"IFERROR(VLOOKUP(B715,Worktags!AL:AO,2,FALSE),\"\")","v":"Other Income"},{"$f":"IFERROR(VLOOKUP(C715,Worktags!O:T,2,FALSE),\"\")","v":"Rental Income"},{"$f":"IFERROR(VLOOKUP(IF(C715=\"\",B715&\"||\"&B715,C715&\"||\"&B715),Worktags!AR:AV,5,FALSE),\"\")","v":"All"}]
["4700_RC4705 Other Income/Agency Deposits",{"$f":"Worktags!AS175","v":"4700"},{"$f":"IF(Worktags!AQ175<>Worktags!AS175,Worktags!AQ175,\"\")","v":"RC4705"},{"$f":"IFERROR(VLOOKUP(B716,Worktags!AL:AO,2,FALSE),\"\")","v":"Other Income"},{"$f":"IFERROR(VLOOKUP(C716,Worktags!O:T,2,FALSE),\"\")","v":"Agency Deposits"},{"$f":"IFERROR(VLOOKUP(IF(C716=\"\",B716&\"||\"&B716,C716&\"||\"&B716),Worktags!AR:AV,5,FALSE),\"\")","v":"All"}]
["4700_RC4706 Other Income/Club Association Dues and Fees",{"$f":"Worktags!AS176","v":"4700"},{"$f":"IF(Worktags!AQ176<>Worktags!AS176,Worktags!AQ176,\"\")","v":"RC4706"},{"$f":"IFERROR(VLOOKUP(B717,Worktags!AL:AO,2,FALSE),\"\")","v":"Other Income"},{"$f":"IFERROR(VLOOKUP(C717,Worktags!O:T,2,FALSE),\"\")","v":"Club Association Dues and Fees"},{"$f":"IFERROR(VLOOKUP(IF(C717=\"\",B717&\"||\"&B717,C717&\"||\"&B717),Worktags!AR:AV,5,FALSE),\"\")","v":"All"}]
["4700_RC4707 Other Income/Royalty Income",{"$f":"Worktags!AS177","v":"4700"},{"$f":"IF(Worktags!AQ177<>Worktags!AS177,Worktags!AQ177,\"\")","v":"RC4707"},{"$f":"IFERROR(VLOOKUP(B718,Worktags!AL:AO,2,FALSE),\"\")","v":"Other Income"},{"$f":"IFERROR(VLOOKUP(C718,Worktags!O:T,2,FALSE),\"\")","v":"Royalty Income"},{"$f":"IFERROR(VLOOKUP(IF(C718=\"\",B718&\"||\"&B718,C718&\"||\"&B718),Worktags!AR:AV,5,FALSE),\"\")","v":"All"}]
["4700_RC4708 Other Income/Distributed Royalty Income",{"$f":"Worktags!AS178","v":"4700"},{"$f":"IF(Worktags!AQ178<>Worktags!AS178,Worktags!AQ178,\"\")","v":"RC4708"},{"$f":"IFERROR(VLOOKUP(B719,Worktags!AL:AO,2,FALSE),\"\")","v":"Other Income"},{"$f":"IFERROR(VLOOKUP(C719,Worktags!O:T,2,FALSE),\"\")","v":"Distributed Royalty Income"},{"$f":"IFERROR(VLOOKUP(IF(C719=\"\",B719&\"||\"&B719,C719&\"||\"&B719),Worktags!AR:AV,5,FALSE),\"\")","v":"All"}]
["4700_RC4709 Other Income/Over/Short",{"$f":"Worktags!AS179","v":"4700"},{"$f":"IF(Worktags!AQ179<>Worktags!AS179,Worktags!AQ179,\"\")","v":"RC4709"},{"$f":"IFERROR(VLOOKUP(B720,Worktags!AL:AO,2,FALSE),\"\")","v":"Other Income"},{"$f":"IFERROR(VLOOKUP(C720,Worktags!O:T,2,FALSE),\"\")","v":"Over/Short"},{"$f":"IFERROR(VLOOKUP(IF(C720=\"\",B720&\"||\"&B720,C720&\"||\"&B720),Worktags!AR:AV,5,FALSE),\"\")","v":"All"}]
["4700_RC4710 Other Income/Other Income",{"$f":"Worktags!AS180","v":"4700"},{"$f":"IF(Worktags!AQ180<>Worktags!AS180,Worktags!AQ180,\"\")","v":"RC4710"},{"$f":"IFERROR(VLOOKUP(B721,Worktags!AL:AO,2,FALSE),\"\")","v":"Other Income"},{"$f":"IFERROR(VLOOKUP(C721,Worktags!O:T,2,FALSE),\"\")","v":"Other Income"},{"$f":"IFERROR(VLOOKUP(IF(C721=\"\",B721&\"||\"&B721,C721&\"||\"&B721),Worktags!AR:AV,5,FALSE),\"\")","v":"All"}]
["4700_RC4711 Other Income/Restricted Transfers (UFSonly)",{"$f":"Worktags!AS181","v":"4700"},{"$f":"IF(Worktags!AQ181<>Worktags!AS181,Worktags!AQ181,\"\")","v":"RC4711"},{"$f":"IFERROR(VLOOKUP(B722,Worktags!AL:AO,2,FALSE),\"\")","v":"Other Income"},{"$f":"IFERROR(VLOOKUP(C722,Worktags!O:T,2,FALSE),\"\")","v":"Restricted Transfers (UFSonly)"},{"$f":"IFERROR(VLOOKUP(IF(C722=\"\",B722&\"||\"&B722,C722&\"||\"&B722),Worktags!AR:AV,5,FALSE),\"\")","v":"JE_Gift|JE_Override"}]
["4700_RC4712 Other Income/Interest Alloc-Claim on Cash",{"$f":"Worktags!AS182","v":"4700"},{"$f":"IF(Worktags!AQ182<>Worktags!AS182,Worktags!AQ182,\"\")","v":"RC4712"},{"$f":"IFERROR(VLOOKUP(B723,Worktags!AL:AO,2,FALSE),\"\")","v":"Other Income"},{"$f":"IFERROR(VLOOKUP(C723,Worktags!O:T,2,FALSE),\"\")","v":"Interest Alloc-Claim on Cash"},{"$f":"IFERROR(VLOOKUP(IF(C723=\"\",B723&\"||\"&B723,C723&\"||\"&B723),Worktags!AR:AV,5,FALSE),\"\")","v":"JE_Override"}]
["4700_RC4713 Other Income/Gain/Loss Sale of Asset",{"$f":"Worktags!AS183","v":"4700"},{"$f":"IF(Worktags!AQ183<>Worktags!AS183,Worktags!AQ183,\"\")","v":"RC4713"},{"$f":"IFERROR(VLOOKUP(B724,Worktags!AL:AO,2,FALSE),\"\")","v":"Other Income"},{"$f":"IFERROR(VLOOKUP(C724,Worktags!O:T,2,FALSE),\"\")","v":"Gain/Loss Sale of Asset"},{"$f":"IFERROR(VLOOKUP(IF(C724=\"\",B724&\"||\"&B724,C724&\"||\"&B724),Worktags!AR:AV,5,FALSE),\"\")","v":"JE_PPE|JE_Override"}]
["4700_RC4714 Other Income/Legal Fees Reimbursement",{"$f":"Worktags!AS184","v":"4700"},{"$f":"IF(Worktags!AQ184<>Worktags!AS184,Worktags!AQ184,\"\")","v":"RC4714"},{"$f":"IFERROR(VLOOKUP(B725,Worktags!AL:AO,2,FALSE),\"\")","v":"Other Income"},{"$f":"IFERROR(VLOOKUP(C725,Worktags!O:T,2,FALSE),\"\")","v":"Legal Fees Reimbursement"},{"$f":"IFERROR(VLOOKUP(IF(C725=\"\",B725&\"||\"&B725,C725&\"||\"&B725),Worktags!AR:AV,5,FALSE),\"\")","v":"All"}]
["4700_RC4715 Other Income/Realized Currency Gain/Loss",{"$f":"Worktags!AS185","v":"4700"},{"$f":"IF(Worktags!AQ185<>Worktags!AS185,Worktags!AQ185,\"\")","v":"RC4715"},{"$f":"IFERROR(VLOOKUP(B726,Worktags!AL:AO,2,FALSE),\"\")","v":"Other Income"},{"$f":"IFERROR(VLOOKUP(C726,Worktags!O:T,2,FALSE),\"\")","v":"Realized Currency Gain/Loss"},{"$f":"IFERROR(VLOOKUP(IF(C726=\"\",B726&\"||\"&B726,C726&\"||\"&B726),Worktags!AR:AV,5,FALSE),\"\")","v":"JE_Override"}]
["4700_RC4716 Other Income/Unrealized Currency Gain/Loss",{"$f":"Worktags!AS186","v":"4700"},{"$f":"IF(Worktags!AQ186<>Worktags!AS186,Worktags!AQ186,\"\")","v":"RC4716"},{"$f":"IFERROR(VLOOKUP(B727,Worktags!AL:AO,2,FALSE),\"\")","v":"Other Income"},{"$f":"IFERROR(VLOOKUP(C727,Worktags!O:T,2,FALSE),\"\")","v":"Unrealized Currency Gain/Loss"},{"$f":"IFERROR(VLOOKUP(IF(C727=\"\",B727&\"||\"&B727,C727&\"||\"&B727),Worktags!AR:AV,5,FALSE),\"\")","v":"JE_Override"}]
["4700_RC4717 Other Income/Credit Card Merchant Fee",{"$f":"Worktags!AS187","v":"4700"},{"$f":"IF(Worktags!AQ187<>Worktags!AS187,Worktags!AQ187,\"\")","v":"RC4717"},{"$f":"IFERROR(VLOOKUP(B728,Worktags!AL:AO,2,FALSE),\"\")","v":"Other Income"},{"$f":"IFERROR(VLOOKUP(C728,Worktags!O:T,2,FALSE),\"\")","v":"Credit Card Merchant Fee"},{"$f":"IFERROR(VLOOKUP(IF(C728=\"\",B728&\"||\"&B728,C728&\"||\"&B728),Worktags!AR:AV,5,FALSE),\"\")","v":"All"}]
["4700_RC4799 Other Income/Other Income (reclass)",{"$f":"Worktags!AS188","v":"4700"},{"$f":"IF(Worktags!AQ188<>Worktags!AS188,Worktags!AQ188,\"\")","v":"RC4799"},{"$f":"IFERROR(VLOOKUP(B729,Worktags!AL:AO,2,FALSE),\"\")","v":"Other Income"},{"$f":"IFERROR(VLOOKUP(C729,Worktags!O:T,2,FALSE),\"\")","v":"Other Income (reclass)"},{"$f":"IFERROR(VLOOKUP(IF(C729=\"\",B729&\"||\"&B729,C729&\"||\"&B729),Worktags!AR:AV,5,FALSE),\"\")","v":"All"}]
["4780 Inter-Company Contribution Revenue",{"$f":"Worktags!AL115","v":"4780"},null,{"$f":"IFERROR(VLOOKUP(B730,Worktags!AL:AO,2,FALSE),\"\")","v":"Inter-Company Contribution Revenue"},null,{"$f":"IFERROR(VLOOKUP(IF(C730=\"\",B730&\"||\"&B730,C730&\"||\"&B730),Worktags!AR:AV,5,FALSE),\"\")","v":"All"}]
["4780 Inter-Company Contribution Revenue",{"$f":"Worktags!AS72","v":"4780"},{"$f":"IF(Worktags!AQ72<>Worktags!AS72,Worktags!AQ72,\"\")","v":""},{"$f":"IFERROR(VLOOKUP(B731,Worktags!AL:AO,2,FALSE),\"\")","v":"Inter-Company Contribution Revenue"},{"$f":"IFERROR(VLOOKUP(C731,Worktags!O:T,2,FALSE),\"\")","v":""},{"$f":"IFERROR(VLOOKUP(IF(C731=\"\",B731&\"||\"&B731,C731&\"||\"&B731),Worktags!AR:AV,5,FALSE),\"\")","v":"All"}]
["4800 Intra-Division Sales",{"$f":"Worktags!AL116","v":"4800"},null,{"$f":"IFERROR(VLOOKUP(B732,Worktags!AL:AO,2,FALSE),\"\")","v":"Intra-Division Sales"},null,{"$f":"IFERROR(VLOOKUP(IF(C732=\"\",B732&\"||\"&B732,C732&\"||\"&B732),Worktags!AR:AV,5,FALSE),\"\")","v":""}]
["4800_RC4800 Intra-Division Sales/Intra-Division Sales",{"$f":"Worktags!AS189","v":"4800"},{"$f":"IF(Worktags!AQ189<>Worktags!AS189,Worktags!AQ189,\"\")","v":"RC4800"},{"$f":"IFERROR(VLOOKUP(B733,Worktags!AL:AO,2,FALSE),\"\")","v":"Intra-Division Sales"},{"$f":"IFERROR(VLOOKUP(C733,Worktags!O:T,2,FALSE),\"\")","v":"Intra-Division Sales"},{"$f":"IFERROR(VLOOKUP(IF(C733=\"\",B733&\"||\"&B733,C733&\"||\"&B733),Worktags!AR:AV,5,FALSE),\"\")","v":"All"}]
["4850 Intra-Division Purchases",{"$f":"Worktags!AL117","v":"4850"},null,{"$f":"IFERROR(VLOOKUP(B734,Worktags!AL:AO,2,FALSE),\"\")","v":"Intra-Division Purchases"},null,{"$f":"IFERROR(VLOOKUP(IF(C734=\"\",B734&\"||\"&B734,C734&\"||\"&B734),Worktags!AR:AV,5,FALSE),\"\")","v":""}]
["4850_RC4850 Intra-Division Purchases/Intra-Division Purchases",{"$f":"Worktags!AS190","v":"4850"},{"$f":"IF(Worktags!AQ190<>Worktags!AS190,Worktags!AQ190,\"\")","v":"RC4850"},{"$f":"IFERROR(VLOOKUP(B735,Worktags!AL:AO,2,FALSE),\"\")","v":"Intra-Division Purchases"},{"$f":"IFERROR(VLOOKUP(C735,Worktags!O:T,2,FALSE),\"\")","v":"Intra-Division Purchases"},{"$f":"IFERROR(VLOOKUP(IF(C735=\"\",B735&\"||\"&B735,C735&\"||\"&B735),Worktags!AR:AV,5,FALSE),\"\")","v":"All"}]
["4890 Release of Restrictions",{"$f":"Worktags!AL118","v":"4890"},null,{"$f":"IFERROR(VLOOKUP(B736,Worktags!AL:AO,2,FALSE),\"\")","v":"Release of Restrictions"},null,{"$f":"IFERROR(VLOOKUP(IF(C736=\"\",B736&\"||\"&B736,C736&\"||\"&B736),Worktags!AR:AV,5,FALSE),\"\")","v":""}]
["4890_RC4890 Release of Restrictions/Release Restrictions (UFSonly)",{"$f":"Worktags!AS191","v":"4890"},{"$f":"IF(Worktags!AQ191<>Worktags!AS191,Worktags!AQ191,\"\")","v":"RC4890"},{"$f":"IFERROR(VLOOKUP(B737,Worktags!AL:AO,2,FALSE),\"\")","v":"Release of Restrictions"},{"$f":"IFERROR(VLOOKUP(C737,Worktags!O:T,2,FALSE),\"\")","v":"Release Restrictions (UFSonly)"},{"$f":"IFERROR(VLOOKUP(IF(C737=\"\",B737&\"||\"&B737,C737&\"||\"&B737),Worktags!AR:AV,5,FALSE),\"\")","v":"JE_Gift|JE_Override"}]
["4890_RC4891 Release of Restrictions/Endowment Payout Distribution",{"$f":"Worktags!AS192","v":"4890"},{"$f":"IF(Worktags!AQ192<>Worktags!AS192,Worktags!AQ192,\"\")","v":"RC4891"},{"$f":"IFERROR(VLOOKUP(B738,Worktags!AL:AO,2,FALSE),\"\")","v":"Release of Restrictions"},{"$f":"IFERROR(VLOOKUP(C738,Worktags!O:T,2,FALSE),\"\")","v":"Endowment Payout Distribution"},{"$f":"IFERROR(VLOOKUP(IF(C738=\"\",B738&\"||\"&B738,C738&\"||\"&B738),Worktags!AR:AV,5,FALSE),\"\")","v":"JE_Gift|JE_Override"}]
["4890_RC4892 Release of Restrictions/Endowment Payout Spendable Available",{"$f":"Worktags!AS193","v":"4890"},{"$f":"IF(Worktags!AQ193<>Worktags!AS193,Worktags!AQ193,\"\")","v":"RC4892"},{"$f":"IFERROR(VLOOKUP(B739,Worktags!AL:AO,2,FALSE),\"\")","v":"Release of Restrictions"},{"$f":"IFERROR(VLOOKUP(C739,Worktags!O:T,2,FALSE),\"\")","v":"Endowment Payout Spendable Available"},{"$f":"IFERROR(VLOOKUP(IF(C739=\"\",B739&\"||\"&B739,C739&\"||\"&B739),Worktags!AR:AV,5,FALSE),\"\")","v":"JE_Gift|JE_Override"}]
["4890_RC4893 Release of Restrictions/Reinvestment",{"$f":"Worktags!AS194","v":"4890"},{"$f":"IF(Worktags!AQ194<>Worktags!AS194,Worktags!AQ194,\"\")","v":"RC4893"},{"$f":"IFERROR(VLOOKUP(B740,Worktags!AL:AO,2,FALSE),\"\")","v":"Release of Restrictions"},{"$f":"IFERROR(VLOOKUP(C740,Worktags!O:T,2,FALSE),\"\")","v":"Reinvestment"},{"$f":"IFERROR(VLOOKUP(IF(C740=\"\",B740&\"||\"&B740,C740&\"||\"&B740),Worktags!AR:AV,5,FALSE),\"\")","v":"JE_Gift|JE_Override"}]
["4900 Cost of Sales",{"$f":"Worktags!AL119","v":"4900"},null,{"$f":"IFERROR(VLOOKUP(B741,Worktags!AL:AO,2,FALSE),\"\")","v":"Cost of Sales"},null,{"$f":"IFERROR(VLOOKUP(IF(C741=\"\",B741&\"||\"&B741,C741&\"||\"&B741),Worktags!AR:AV,5,FALSE),\"\")","v":""}]
["4900_SC4901 Cost of Sales/Cost of Goods Sold",{"$f":"Worktags!AS256","v":"4900"},{"$f":"IF(Worktags!AQ256<>Worktags!AS256,Worktags!AQ256,\"\")","v":"SC4901"},{"$f":"IFERROR(VLOOKUP(B742,Worktags!AL:AO,2,FALSE),\"\")","v":"Cost of Sales"},{"$f":"IFERROR(VLOOKUP(C742,Worktags!O:T,2,FALSE),\"\")","v":"Cost of Goods Sold"},{"$f":"IFERROR(VLOOKUP(IF(C742=\"\",B742&\"||\"&B742,C742&\"||\"&B742),Worktags!AR:AV,5,FALSE),\"\")","v":"All"}]
["4900_SC4902 Cost of Sales/Inventory Adjustment",{"$f":"Worktags!AS257","v":"4900"},{"$f":"IF(Worktags!AQ257<>Worktags!AS257,Worktags!AQ257,\"\")","v":"SC4902"},{"$f":"IFERROR(VLOOKUP(B743,Worktags!AL:AO,2,FALSE),\"\")","v":"Cost of Sales"},{"$f":"IFERROR(VLOOKUP(C743,Worktags!O:T,2,FALSE),\"\")","v":"Inventory Adjustment"},{"$f":"IFERROR(VLOOKUP(IF(C743=\"\",B743&\"||\"&B743,C743&\"||\"&B743),Worktags!AR:AV,5,FALSE),\"\")","v":"All"}]
["4900_SC4903 Cost of Sales/Freight-In",{"$f":"Worktags!AS258","v":"4900"},{"$f":"IF(Worktags!AQ258<>Worktags!AS258,Worktags!AQ258,\"\")","v":"SC4903"},{"$f":"IFERROR(VLOOKUP(B744,Worktags!AL:AO,2,FALSE),\"\")","v":"Cost of Sales"},{"$f":"IFERROR(VLOOKUP(C744,Worktags!O:T,2,FALSE),\"\")","v":"Freight-In"},{"$f":"IFERROR(VLOOKUP(IF(C744=\"\",B744&\"||\"&B744,C744&\"||\"&B744),Worktags!AR:AV,5,FALSE),\"\")","v":"All"}]
["4900_SC4904 Cost of Sales/Purchase Discounts Earned",{"$f":"Worktags!AS259","v":"4900"},{"$f":"IF(Worktags!AQ259<>Worktags!AS259,Worktags!AQ259,\"\")","v":"SC4904"},{"$f":"IFERROR(VLOOKUP(B745,Worktags!AL:AO,2,FALSE),\"\")","v":"Cost of Sales"},{"$f":"IFERROR(VLOOKUP(C745,Worktags!O:T,2,FALSE),\"\")","v":"Purchase Discounts Earned"},{"$f":"IFERROR(VLOOKUP(IF(C745=\"\",B745&\"||\"&B745,C745&\"||\"&B745),Worktags!AR:AV,5,FALSE),\"\")","v":"All"}]
["4900_SC6106 Cost of Sales/Audio Visual Supplies",{"$f":"Worktags!AS313","v":"4900"},{"$f":"IF(Worktags!AQ313<>Worktags!AS313,Worktags!AQ313,\"\")","v":"SC6106"},{"$f":"IFERROR(VLOOKUP(B746,Worktags!AL:AO,2,FALSE),\"\")","v":"Cost of Sales"},{"$f":"IFERROR(VLOOKUP(C746,Worktags!O:T,2,FALSE),\"\")","v":"Audio Visual Supplies"},{"$f":"IFERROR(VLOOKUP(IF(C746=\"\",B746&\"||\"&B746,C746&\"||\"&B746),Worktags!AR:AV,5,FALSE),\"\")","v":"All"}]
["4900_SC6107 Cost of Sales/Clothing",{"$f":"Worktags!AS317","v":"4900"},{"$f":"IF(Worktags!AQ317<>Worktags!AS317,Worktags!AQ317,\"\")","v":"SC6107"},{"$f":"IFERROR(VLOOKUP(B747,Worktags!AL:AO,2,FALSE),\"\")","v":"Cost of Sales"},{"$f":"IFERROR(VLOOKUP(C747,Worktags!O:T,2,FALSE),\"\")","v":"Clothing"},{"$f":"IFERROR(VLOOKUP(IF(C747=\"\",B747&\"||\"&B747,C747&\"||\"&B747),Worktags!AR:AV,5,FALSE),\"\")","v":"All"}]
["4900_SC6108 Cost of Sales/Data Network Supplies",{"$f":"Worktags!AS322","v":"4900"},{"$f":"IF(Worktags!AQ322<>Worktags!AS322,Worktags!AQ322,\"\")","v":"SC6108"},{"$f":"IFERROR(VLOOKUP(B748,Worktags!AL:AO,2,FALSE),\"\")","v":"Cost of Sales"},{"$f":"IFERROR(VLOOKUP(C748,Worktags!O:T,2,FALSE),\"\")","v":"Data Network Supplies"},{"$f":"IFERROR(VLOOKUP(IF(C748=\"\",B748&\"||\"&B748,C748&\"||\"&B748),Worktags!AR:AV,5,FALSE),\"\")","v":"All"}]
["4900_SC6110 Cost of Sales/Food and Beverages",{"$f":"Worktags!AS328","v":"4900"},{"$f":"IF(Worktags!AQ328<>Worktags!AS328,Worktags!AQ328,\"\")","v":"SC6110"},{"$f":"IFERROR(VLOOKUP(B749,Worktags!AL:AO,2,FALSE),\"\")","v":"Cost of Sales"},{"$f":"IFERROR(VLOOKUP(C749,Worktags!O:T,2,FALSE),\"\")","v":"Food and Beverages"},{"$f":"IFERROR(VLOOKUP(IF(C749=\"\",B749&\"||\"&B749,C749&\"||\"&B749),Worktags!AR:AV,5,FALSE),\"\")","v":"All"}]
["4900_SC6111 Cost of Sales/Food Service Disposables",{"$f":"Worktags!AS332","v":"4900"},{"$f":"IF(Worktags!AQ332<>Worktags!AS332,Worktags!AQ332,\"\")","v":"SC6111"},{"$f":"IFERROR(VLOOKUP(B750,Worktags!AL:AO,2,FALSE),\"\")","v":"Cost of Sales"},{"$f":"IFERROR(VLOOKUP(C750,Worktags!O:T,2,FALSE),\"\")","v":"Food Service Disposables"},{"$f":"IFERROR(VLOOKUP(IF(C750=\"\",B750&\"||\"&B750,C750&\"||\"&B750),Worktags!AR:AV,5,FALSE),\"\")","v":"All"}]
["4900_SC6114 Cost of Sales/Hazardous Chemicals",{"$f":"Worktags!AS340","v":"4900"},{"$f":"IF(Worktags!AQ340<>Worktags!AS340,Worktags!AQ340,\"\")","v":"SC6114"},{"$f":"IFERROR(VLOOKUP(B751,Worktags!AL:AO,2,FALSE),\"\")","v":"Cost of Sales"},{"$f":"IFERROR(VLOOKUP(C751,Worktags!O:T,2,FALSE),\"\")","v":"Hazardous Chemicals"},{"$f":"IFERROR(VLOOKUP(IF(C751=\"\",B751&\"||\"&B751,C751&\"||\"&B751),Worktags!AR:AV,5,FALSE),\"\")","v":"All"}]
["4900_SC6119 Cost of Sales/Office Supplies",{"$f":"Worktags!AS352","v":"4900"},{"$f":"IF(Worktags!AQ352<>Worktags!AS352,Worktags!AQ352,\"\")","v":"SC6119"},{"$f":"IFERROR(VLOOKUP(B752,Worktags!AL:AO,2,FALSE),\"\")","v":"Cost of Sales"},{"$f":"IFERROR(VLOOKUP(C752,Worktags!O:T,2,FALSE),\"\")","v":"Office Supplies"},{"$f":"IFERROR(VLOOKUP(IF(C752=\"\",B752&\"||\"&B752,C752&\"||\"&B752),Worktags!AR:AV,5,FALSE),\"\")","v":"All"}]
["4900_SC6121 Cost of Sales/Packaging",{"$f":"Worktags!AS358","v":"4900"},{"$f":"IF(Worktags!AQ358<>Worktags!AS358,Worktags!AQ358,\"\")","v":"SC6121"},{"$f":"IFERROR(VLOOKUP(B753,Worktags!AL:AO,2,FALSE),\"\")","v":"Cost of Sales"},{"$f":"IFERROR(VLOOKUP(C753,Worktags!O:T,2,FALSE),\"\")","v":"Packaging"},{"$f":"IFERROR(VLOOKUP(IF(C753=\"\",B753&\"||\"&B753,C753&\"||\"&B753),Worktags!AR:AV,5,FALSE),\"\")","v":"All"}]
["4900_SC6125 Cost of Sales/Printing Supplies",{"$f":"Worktags!AS368","v":"4900"},{"$f":"IF(Worktags!AQ368<>Worktags!AS368,Worktags!AQ368,\"\")","v":"SC6125"},{"$f":"IFERROR(VLOOKUP(B754,Worktags!AL:AO,2,FALSE),\"\")","v":"Cost of Sales"},{"$f":"IFERROR(VLOOKUP(C754,Worktags!O:T,2,FALSE),\"\")","v":"Printing Supplies"},{"$f":"IFERROR(VLOOKUP(IF(C754=\"\",B754&\"||\"&B754,C754&\"||\"&B754),Worktags!AR:AV,5,FALSE),\"\")","v":"All"}]
["4900_SC6126 Cost of Sales/Scientific and Engineering Supplies",{"$f":"Worktags!AS372","v":"4900"},{"$f":"IF(Worktags!AQ372<>Worktags!AS372,Worktags!AQ372,\"\")","v":"SC6126"},{"$f":"IFERROR(VLOOKUP(B755,Worktags!AL:AO,2,FALSE),\"\")","v":"Cost of Sales"},{"$f":"IFERROR(VLOOKUP(C755,Worktags!O:T,2,FALSE),\"\")","v":"Scientific and Engineering Supplies"},{"$f":"IFERROR(VLOOKUP(IF(C755=\"\",B755&\"||\"&B755,C755&\"||\"&B755),Worktags!AR:AV,5,FALSE),\"\")","v":"All"}]
["4900_SC6129 Cost of Sales/Supplies (not otherwise specified)",{"$f":"Worktags!AS380","v":"4900"},{"$f":"IF(Worktags!AQ380<>Worktags!AS380,Worktags!AQ380,\"\")","v":"SC6129"},{"$f":"IFERROR(VLOOKUP(B756,Worktags!AL:AO,2,FALSE),\"\")","v":"Cost of Sales"},{"$f":"IFERROR(VLOOKUP(C756,Worktags!O:T,2,FALSE),\"\")","v":"Supplies (not otherwise specified)"},{"$f":"IFERROR(VLOOKUP(IF(C756=\"\",B756&\"||\"&B756,C756&\"||\"&B756),Worktags!AR:AV,5,FALSE),\"\")","v":"All"}]
["4900_SC6131 Cost of Sales/Telecom Supplies",{"$f":"Worktags!AS387","v":"4900"},{"$f":"IF(Worktags!AQ387<>Worktags!AS387,Worktags!AQ387,\"\")","v":"SC6131"},{"$f":"IFERROR(VLOOKUP(B757,Worktags!AL:AO,2,FALSE),\"\")","v":"Cost of Sales"},{"$f":"IFERROR(VLOOKUP(C757,Worktags!O:T,2,FALSE),\"\")","v":"Telecom Supplies"},{"$f":"IFERROR(VLOOKUP(IF(C757=\"\",B757&\"||\"&B757,C757&\"||\"&B757),Worktags!AR:AV,5,FALSE),\"\")","v":"All"}]
["4900_SC6133 Cost of Sales/Lab Gases and Cryogenics",{"$f":"Worktags!AS393","v":"4900"},{"$f":"IF(Worktags!AQ393<>Worktags!AS393,Worktags!AQ393,\"\")","v":"SC6133"},{"$f":"IFERROR(VLOOKUP(B758,Worktags!AL:AO,2,FALSE),\"\")","v":"Cost of Sales"},{"$f":"IFERROR(VLOOKUP(C758,Worktags!O:T,2,FALSE),\"\")","v":"Lab Gases and Cryogenics"},{"$f":"IFERROR(VLOOKUP(IF(C758=\"\",B758&\"||\"&B758,C758&\"||\"&B758),Worktags!AR:AV,5,FALSE),\"\")","v":"All"}]
["4900_SC6707 Cost of Sales/Electrical Supplies",{"$f":"Worktags!AS591","v":"4900"},{"$f":"IF(Worktags!AQ591<>Worktags!AS591,Worktags!AQ591,\"\")","v":"SC6707"},{"$f":"IFERROR(VLOOKUP(B759,Worktags!AL:AO,2,FALSE),\"\")","v":"Cost of Sales"},{"$f":"IFERROR(VLOOKUP(C759,Worktags!O:T,2,FALSE),\"\")","v":"Electrical Supplies"},{"$f":"IFERROR(VLOOKUP(IF(C759=\"\",B759&\"||\"&B759,C759&\"||\"&B759),Worktags!AR:AV,5,FALSE),\"\")","v":"All"}]
["4900_SC6731 Cost of Sales/Stage and Studio Lighting (Only Workday Inventory Module)",{"$f":"Worktags!AS705","v":"4900"},{"$f":"IF(Worktags!AQ705<>Worktags!AS705,Worktags!AQ705,\"\")","v":"SC6731"},{"$f":"IFERROR(VLOOKUP(B760,Worktags!AL:AO,2,FALSE),\"\")","v":"Cost of Sales"},{"$f":"IFERROR(VLOOKUP(C760,Worktags!O:T,2,FALSE),\"\")","v":"Stage and Studio Lighting (Only Workday Inventory Module)"},{"$f":"IFERROR(VLOOKUP(IF(C760=\"\",B760&\"||\"&B760,C760&\"||\"&B760),Worktags!AR:AV,5,FALSE),\"\")","v":"All"}]
["4900_SC6940 Cost of Sales/Audio Visual Equipment (Only Workday Inventory Module)",{"$f":"Worktags!AS920","v":"4900"},{"$f":"IF(Worktags!AQ920<>Worktags!AS920,Worktags!AQ920,\"\")","v":"SC6940"},{"$f":"IFERROR(VLOOKUP(B761,Worktags!AL:AO,2,FALSE),\"\")","v":"Cost of Sales"},{"$f":"IFERROR(VLOOKUP(C761,Worktags!O:T,2,FALSE),\"\")","v":"Audio Visual Equipment (Only Workday Inventory Module)"},{"$f":"IFERROR(VLOOKUP(IF(C761=\"\",B761&\"||\"&B761,C761&\"||\"&B761),Worktags!AR:AV,5,FALSE),\"\")","v":"All"}]
["4900_SC6941 Cost of Sales/Communication Devices (Only Workday Inventory Module)",{"$f":"Worktags!AS924","v":"4900"},{"$f":"IF(Worktags!AQ924<>Worktags!AS924,Worktags!AQ924,\"\")","v":"SC6941"},{"$f":"IFERROR(VLOOKUP(B762,Worktags!AL:AO,2,FALSE),\"\")","v":"Cost of Sales"},{"$f":"IFERROR(VLOOKUP(C762,Worktags!O:T,2,FALSE),\"\")","v":"Communication Devices (Only Workday Inventory Module)"},{"$f":"IFERROR(VLOOKUP(IF(C762=\"\",B762&\"||\"&B762,C762&\"||\"&B762),Worktags!AR:AV,5,FALSE),\"\")","v":"All"}]
["4900_SC6942 Cost of Sales/Computer Hardware (Only Workday Inventory Module)",{"$f":"Worktags!AS928","v":"4900"},{"$f":"IF(Worktags!AQ928<>Worktags!AS928,Worktags!AQ928,\"\")","v":"SC6942"},{"$f":"IFERROR(VLOOKUP(B763,Worktags!AL:AO,2,FALSE),\"\")","v":"Cost of Sales"},{"$f":"IFERROR(VLOOKUP(C763,Worktags!O:T,2,FALSE),\"\")","v":"Computer Hardware (Only Workday Inventory Module)"},{"$f":"IFERROR(VLOOKUP(IF(C763=\"\",B763&\"||\"&B763,C763&\"||\"&B763),Worktags!AR:AV,5,FALSE),\"\")","v":"All"}]
["4900_SC6943 Cost of Sales/Data Network Equipment (Only Workday Inventory Module)",{"$f":"Worktags!AS932","v":"4900"},{"$f":"IF(Worktags!AQ932<>Worktags!AS932,Worktags!AQ932,\"\")","v":"SC6943"},{"$f":"IFERROR(VLOOKUP(B764,Worktags!AL:AO,2,FALSE),\"\")","v":"Cost of Sales"},{"$f":"IFERROR(VLOOKUP(C764,Worktags!O:T,2,FALSE),\"\")","v":"Data Network Equipment (Only Workday Inventory Module)"},{"$f":"IFERROR(VLOOKUP(IF(C764=\"\",B764&\"||\"&B764,C764&\"||\"&B764),Worktags!AR:AV,5,FALSE),\"\")","v":"All"}]
["4900_SC6944 Cost of Sales/Equipment (not otherwise specified) (Only Workday Inventory Module)",{"$f":"Worktags!AS936","v":"4900"},{"$f":"IF(Worktags!AQ936<>Worktags!AS936,Worktags!AQ936,\"\")","v":"SC6944"},{"$f":"IFERROR(VLOOKUP(B765,Worktags!AL:AO,2,FALSE),\"\")","v":"Cost of Sales"},{"$f":"IFERROR(VLOOKUP(C765,Worktags!O:T,2,FALSE),\"\")","v":"Equipment (not otherwise specified) (Only Workday Inventory Module)"},{"$f":"IFERROR(VLOOKUP(IF(C765=\"\",B765&\"||\"&B765,C765&\"||\"&B765),Worktags!AR:AV,5,FALSE),\"\")","v":"All"}]
["4900_SC6945 Cost of Sales/Office Equipment (Only Workday Inventory Module)",{"$f":"Worktags!AS940","v":"4900"},{"$f":"IF(Worktags!AQ940<>Worktags!AS940,Worktags!AQ940,\"\")","v":"SC6945"},{"$f":"IFERROR(VLOOKUP(B766,Worktags!AL:AO,2,FALSE),\"\")","v":"Cost of Sales"},{"$f":"IFERROR(VLOOKUP(C766,Worktags!O:T,2,FALSE),\"\")","v":"Office Equipment (Only Workday Inventory Module)"},{"$f":"IFERROR(VLOOKUP(IF(C766=\"\",B766&\"||\"&B766,C766&\"||\"&B766),Worktags!AR:AV,5,FALSE),\"\")","v":"All"}]
["4900_SC6946 Cost of Sales/Security Equipment (Only Workday Inventory Module)",{"$f":"Worktags!AS944","v":"4900"},{"$f":"IF(Worktags!AQ944<>Worktags!AS944,Worktags!AQ944,\"\")","v":"SC6946"},{"$f":"IFERROR(VLOOKUP(B767,Worktags!AL:AO,2,FALSE),\"\")","v":"Cost of Sales"},{"$f":"IFERROR(VLOOKUP(C767,Worktags!O:T,2,FALSE),\"\")","v":"Security Equipment (Only Workday Inventory Module)"},{"$f":"IFERROR(VLOOKUP(IF(C767=\"\",B767&\"||\"&B767,C767&\"||\"&B767),Worktags!AR:AV,5,FALSE),\"\")","v":"All"}]
["5000 Salaries and Wages",{"$f":"Worktags!AL120","v":"5000"},null,{"$f":"IFERROR(VLOOKUP(B768,Worktags!AL:AO,2,FALSE),\"\")","v":"Salaries and Wages"},null,{"$f":"IFERROR(VLOOKUP(IF(C768=\"\",B768&\"||\"&B768,C768&\"||\"&B768),Worktags!AR:AV,5,FALSE),\"\")","v":""}]
[{"$f":"IF(B769<>\"\",IF(C769<>\"\",B769&\"_\"&C769&\" \"&D769&\"/\"&E769,B769&\" \"&D769),\"\")","v":"5000_SC5000 Salaries and Wages/Staff Exempt Salaries"},{"$f":"Worktags!AS260","v":"5000"},{"$f":"IF(Worktags!AQ260<>Worktags!AS260,Worktags!AQ260,\"\")","v":"SC5000"},{"$f":"IFERROR(VLOOKUP(B769,Worktags!AL:AO,2,FALSE),\"\")","v":"Salaries and Wages"},{"$f":"IFERROR(VLOOKUP(C769,Worktags!O:T,2,FALSE),\"\")","v":"Staff Exempt Salaries"},{"$f":"IFERROR(VLOOKUP(IF(C769=\"\",B769&\"||\"&B769,C769&\"||\"&B769),Worktags!AR:AV,5,FALSE),\"\")","v":"JE_Payroll|JE_Override"}]
["5000_SC5009 Salaries and Wages/Staff Exempt Salaries (reclass)",{"$f":"Worktags!AS261","v":"5000"},{"$f":"IF(Worktags!AQ261<>Worktags!AS261,Worktags!AQ261,\"\")","v":"SC5009"},{"$f":"IFERROR(VLOOKUP(B770,Worktags!AL:AO,2,FALSE),\"\")","v":"Salaries and Wages"},{"$f":"IFERROR(VLOOKUP(C770,Worktags!O:T,2,FALSE),\"\")","v":"Staff Exempt Salaries (reclass)"},{"$f":"IFERROR(VLOOKUP(IF(C770=\"\",B770&\"||\"&B770,C770&\"||\"&B770),Worktags!AR:AV,5,FALSE),\"\")","v":"All"}]
["5000_SC5030 Salaries and Wages/Staff Exempt Salaries (Overload)",{"$f":"Worktags!AS262","v":"5000"},{"$f":"IF(Worktags!AQ262<>Worktags!AS262,Worktags!AQ262,\"\")","v":"SC5030"},{"$f":"IFERROR(VLOOKUP(B771,Worktags!AL:AO,2,FALSE),\"\")","v":"Salaries and Wages"},{"$f":"IFERROR(VLOOKUP(C771,Worktags!O:T,2,FALSE),\"\")","v":"Staff Exempt Salaries (Overload)"},{"$f":"IFERROR(VLOOKUP(IF(C771=\"\",B771&\"||\"&B771,C771&\"||\"&B771),Worktags!AR:AV,5,FALSE),\"\")","v":"JE_Payroll|JE_Override"}]
["5000_SC5100 Salaries and Wages/Faculty Salaries",{"$f":"Worktags!AS263","v":"5000"},{"$f":"IF(Worktags!AQ263<>Worktags!AS263,Worktags!AQ263,\"\")","v":"SC5100"},{"$f":"IFERROR(VLOOKUP(B772,Worktags!AL:AO,2,FALSE),\"\")","v":"Salaries and Wages"},{"$f":"IFERROR(VLOOKUP(C772,Worktags!O:T,2,FALSE),\"\")","v":"Faculty Salaries"},{"$f":"IFERROR(VLOOKUP(IF(C772=\"\",B772&\"||\"&B772,C772&\"||\"&B772),Worktags!AR:AV,5,FALSE),\"\")","v":"JE_Payroll|JE_Override"}]
["5000_SC5109 Salaries and Wages/Faculty Salaries (reclass)",{"$f":"Worktags!AS264","v":"5000"},{"$f":"IF(Worktags!AQ264<>Worktags!AS264,Worktags!AQ264,\"\")","v":"SC5109"},{"$f":"IFERROR(VLOOKUP(B773,Worktags!AL:AO,2,FALSE),\"\")","v":"Salaries and Wages"},{"$f":"IFERROR(VLOOKUP(C773,Worktags!O:T,2,FALSE),\"\")","v":"Faculty Salaries (reclass)"},{"$f":"IFERROR(VLOOKUP(IF(C773=\"\",B773&\"||\"&B773,C773&\"||\"&B773),Worktags!AR:AV,5,FALSE),\"\")","v":"All"}]
["5000_SC5120 Salaries and Wages/Faculty Spring Summer Salaries",{"$f":"Worktags!AS265","v":"5000"},{"$f":"IF(Worktags!AQ265<>Worktags!AS265,Worktags!AQ265,\"\")","v":"SC5120"},{"$f":"IFERROR(VLOOKUP(B774,Worktags!AL:AO,2,FALSE),\"\")","v":"Salaries and Wages"},{"$f":"IFERROR(VLOOKUP(C774,Worktags!O:T,2,FALSE),\"\")","v":"Faculty Spring Summer Salaries"},{"$f":"IFERROR(VLOOKUP(IF(C774=\"\",B774&\"||\"&B774,C774&\"||\"&B774),Worktags!AR:AV,5,FALSE),\"\")","v":"JE_Payroll|JE_Override"}]
["5000_SC5130 Salaries and Wages/Faculty Salaries (Supplemental/Overload)",{"$f":"Worktags!AS266","v":"5000"},{"$f":"IF(Worktags!AQ266<>Worktags!AS266,Worktags!AQ266,\"\")","v":"SC5130"},{"$f":"IFERROR(VLOOKUP(B775,Worktags!AL:AO,2,FALSE),\"\")","v":"Salaries and Wages"},{"$f":"IFERROR(VLOOKUP(C775,Worktags!O:T,2,FALSE),\"\")","v":"Faculty Salaries (Supplemental/Overload)"},{"$f":"IFERROR(VLOOKUP(IF(C775=\"\",B775&\"||\"&B775,C775&\"||\"&B775),Worktags!AR:AV,5,FALSE),\"\")","v":"JE_Payroll|JE_Override"}]
["5000_SC5190 Salaries and Wages/Post Doc Research Associate",{"$f":"Worktags!AS267","v":"5000"},{"$f":"IF(Worktags!AQ267<>Worktags!AS267,Worktags!AQ267,\"\")","v":"SC5190"},{"$f":"IFERROR(VLOOKUP(B776,Worktags!AL:AO,2,FALSE),\"\")","v":"Salaries and Wages"},{"$f":"IFERROR(VLOOKUP(C776,Worktags!O:T,2,FALSE),\"\")","v":"Post Doc Research Associate"},{"$f":"IFERROR(VLOOKUP(IF(C776=\"\",B776&\"||\"&B776,C776&\"||\"&B776),Worktags!AR:AV,5,FALSE),\"\")","v":"JE_Payroll|JE_Override"}]
["5000_SC5300 Salaries and Wages/Faculty Adjunct Salaries",{"$f":"Worktags!AS268","v":"5000"},{"$f":"IF(Worktags!AQ268<>Worktags!AS268,Worktags!AQ268,\"\")","v":"SC5300"},{"$f":"IFERROR(VLOOKUP(B777,Worktags!AL:AO,2,FALSE),\"\")","v":"Salaries and Wages"},{"$f":"IFERROR(VLOOKUP(C777,Worktags!O:T,2,FALSE),\"\")","v":"Faculty Adjunct Salaries"},{"$f":"IFERROR(VLOOKUP(IF(C777=\"\",B777&\"||\"&B777,C777&\"||\"&B777),Worktags!AR:AV,5,FALSE),\"\")","v":"JE_Payroll|JE_Override"}]
["5000_SC5309 Salaries and Wages/Faculty Adjunct Salaries (reclass)",{"$f":"Worktags!AS269","v":"5000"},{"$f":"IF(Worktags!AQ269<>Worktags!AS269,Worktags!AQ269,\"\")","v":"SC5309"},{"$f":"IFERROR(VLOOKUP(B778,Worktags!AL:AO,2,FALSE),\"\")","v":"Salaries and Wages"},{"$f":"IFERROR(VLOOKUP(C778,Worktags!O:T,2,FALSE),\"\")","v":"Faculty Adjunct Salaries (reclass)"},{"$f":"IFERROR(VLOOKUP(IF(C778=\"\",B778&\"||\"&B778,C778&\"||\"&B778),Worktags!AR:AV,5,FALSE),\"\")","v":"All"}]
["5000_SC5320 Salaries and Wages/Faculty Adjunct Salaries - Part Benefits",{"$f":"Worktags!AS270","v":"5000"},{"$f":"IF(Worktags!AQ270<>Worktags!AS270,Worktags!AQ270,\"\")","v":"SC5320"},{"$f":"IFERROR(VLOOKUP(B779,Worktags!AL:AO,2,FALSE),\"\")","v":"Salaries and Wages"},{"$f":"IFERROR(VLOOKUP(C779,Worktags!O:T,2,FALSE),\"\")","v":"Faculty Adjunct Salaries - Part Benefits"},{"$f":"IFERROR(VLOOKUP(IF(C779=\"\",B779&\"||\"&B779,C779&\"||\"&B779),Worktags!AR:AV,5,FALSE),\"\")","v":"JE_Payroll|JE_Override"}]
["5000_SC5400 Salaries and Wages/Staff Non-Exempt Wages",{"$f":"Worktags!AS271","v":"5000"},{"$f":"IF(Worktags!AQ271<>Worktags!AS271,Worktags!AQ271,\"\")","v":"SC5400"},{"$f":"IFERROR(VLOOKUP(B780,Worktags!AL:AO,2,FALSE),\"\")","v":"Salaries and Wages"},{"$f":"IFERROR(VLOOKUP(C780,Worktags!O:T,2,FALSE),\"\")","v":"Staff Non-Exempt Wages"},{"$f":"IFERROR(VLOOKUP(IF(C780=\"\",B780&\"||\"&B780,C780&\"||\"&B780),Worktags!AR:AV,5,FALSE),\"\")","v":"JE_Payroll|JE_Override"}]
["5000_SC5409 Salaries and Wages/Staff Non-Exempt Wages (reclass)",{"$f":"Worktags!AS272","v":"5000"},{"$f":"IF(Worktags!AQ272<>Worktags!AS272,Worktags!AQ272,\"\")","v":"SC5409"},{"$f":"IFERROR(VLOOKUP(B781,Worktags!AL:AO,2,FALSE),\"\")","v":"Salaries and Wages"},{"$f":"IFERROR(VLOOKUP(C781,Worktags!O:T,2,FALSE),\"\")","v":"Staff Non-Exempt Wages (reclass)"},{"$f":"IFERROR(VLOOKUP(IF(C781=\"\",B781&\"||\"&B781,C781&\"||\"&B781),Worktags!AR:AV,5,FALSE),\"\")","v":"All"}]
["5000_SC5430 Salaries and Wages/Staff Non-Exempt Wages (Overtime/Premium)",{"$f":"Worktags!AS273","v":"5000"},{"$f":"IF(Worktags!AQ273<>Worktags!AS273,Worktags!AQ273,\"\")","v":"SC5430"},{"$f":"IFERROR(VLOOKUP(B782,Worktags!AL:AO,2,FALSE),\"\")","v":"Salaries and Wages"},{"$f":"IFERROR(VLOOKUP(C782,Worktags!O:T,2,FALSE),\"\")","v":"Staff Non-Exempt Wages (Overtime/Premium)"},{"$f":"IFERROR(VLOOKUP(IF(C782=\"\",B782&\"||\"&B782,C782&\"||\"&B782),Worktags!AR:AV,5,FALSE),\"\")","v":"JE_Payroll|JE_Override"}]
["5000_SC5500 Salaries and Wages/Student Contract Salaries",{"$f":"Worktags!AS274","v":"5000"},{"$f":"IF(Worktags!AQ274<>Worktags!AS274,Worktags!AQ274,\"\")","v":"SC5500"},{"$f":"IFERROR(VLOOKUP(B783,Worktags!AL:AO,2,FALSE),\"\")","v":"Salaries and Wages"},{"$f":"IFERROR(VLOOKUP(C783,Worktags!O:T,2,FALSE),\"\")","v":"Student Contract Salaries"},{"$f":"IFERROR(VLOOKUP(IF(C783=\"\",B783&\"||\"&B783,C783&\"||\"&B783),Worktags!AR:AV,5,FALSE),\"\")","v":"JE_Payroll|JE_Override"}]
["5000_SC5502 Salaries and Wages/Student Contract Salaries-FICA",{"$f":"Worktags!AS275","v":"5000"},{"$f":"IF(Worktags!AQ275<>Worktags!AS275,Worktags!AQ275,\"\")","v":"SC5502"},{"$f":"IFERROR(VLOOKUP(B784,Worktags!AL:AO,2,FALSE),\"\")","v":"Salaries and Wages"},{"$f":"IFERROR(VLOOKUP(C784,Worktags!O:T,2,FALSE),\"\")","v":"Student Contract Salaries-FICA"},{"$f":"IFERROR(VLOOKUP(IF(C784=\"\",B784&\"||\"&B784,C784&\"||\"&B784),Worktags!AR:AV,5,FALSE),\"\")","v":"JE_Payroll|JE_Override"}]
["5000_SC5509 Salaries and Wages/Student Contract Salaries (reclass)",{"$f":"Worktags!AS276","v":"5000"},{"$f":"IF(Worktags!AQ276<>Worktags!AS276,Worktags!AQ276,\"\")","v":"SC5509"},{"$f":"IFERROR(VLOOKUP(B785,Worktags!AL:AO,2,FALSE),\"\")","v":"Salaries and Wages"},{"$f":"IFERROR(VLOOKUP(C785,Worktags!O:T,2,FALSE),\"\")","v":"Student Contract Salaries (reclass)"},{"$f":"IFERROR(VLOOKUP(IF(C785=\"\",B785&\"||\"&B785,C785&\"||\"&B785),Worktags!AR:AV,5,FALSE),\"\")","v":"All"}]
["5000_SC5600 Salaries and Wages/Student Hourly Wages",{"$f":"Worktags!AS277","v":"5000"},{"$f":"IF(Worktags!AQ277<>Worktags!AS277,Worktags!AQ277,\"\")","v":"SC5600"},{"$f":"IFERROR(VLOOKUP(B786,Worktags!AL:AO,2,FALSE),\"\")","v":"Salaries and Wages"},{"$f":"IFERROR(VLOOKUP(C786,Worktags!O:T,2,FALSE),\"\")","v":"Student Hourly Wages"},{"$f":"IFERROR(VLOOKUP(IF(C786=\"\",B786&\"||\"&B786,C786&\"||\"&B786),Worktags!AR:AV,5,FALSE),\"\")","v":"JE_Payroll|JE_Override"}]
["5000_SC5602 Salaries and Wages/Student Hourly Wages-FICA",{"$f":"Worktags!AS278","v":"5000"},{"$f":"IF(Worktags!AQ278<>Worktags!AS278,Worktags!AQ278,\"\")","v":"SC5602"},{"$f":"IFERROR(VLOOKUP(B787,Worktags!AL:AO,2,FALSE),\"\")","v":"Salaries and Wages"},{"$f":"IFERROR(VLOOKUP(C787,Worktags!O:T,2,FALSE),\"\")","v":"Student Hourly Wages-FICA"},{"$f":"IFERROR(VLOOKUP(IF(C787=\"\",B787&\"||\"&B787,C787&\"||\"&B787),Worktags!AR:AV,5,FALSE),\"\")","v":"JE_Payroll|JE_Override"}]
["5000_SC5609 Salaries and Wages/Student Hourly Wages (Reclass)",{"$f":"Worktags!AS279","v":"5000"},{"$f":"IF(Worktags!AQ279<>Worktags!AS279,Worktags!AQ279,\"\")","v":"SC5609"},{"$f":"IFERROR(VLOOKUP(B788,Worktags!AL:AO,2,FALSE),\"\")","v":"Salaries and Wages"},{"$f":"IFERROR(VLOOKUP(C788,Worktags!O:T,2,FALSE),\"\")","v":"Student Hourly Wages (Reclass)"},{"$f":"IFERROR(VLOOKUP(IF(C788=\"\",B788&\"||\"&B788,C788&\"||\"&B788),Worktags!AR:AV,5,FALSE),\"\")","v":"All"}]
["5000_SC5700 Salaries and Wages/Part-time Wages - No Benefits",{"$f":"Worktags!AS280","v":"5000"},{"$f":"IF(Worktags!AQ280<>Worktags!AS280,Worktags!AQ280,\"\")","v":"SC5700"},{"$f":"IFERROR(VLOOKUP(B789,Worktags!AL:AO,2,FALSE),\"\")","v":"Salaries and Wages"},{"$f":"IFERROR(VLOOKUP(C789,Worktags!O:T,2,FALSE),\"\")","v":"Part-time Wages - No Benefits"},{"$f":"IFERROR(VLOOKUP(IF(C789=\"\",B789&\"||\"&B789,C789&\"||\"&B789),Worktags!AR:AV,5,FALSE),\"\")","v":"JE_Payroll|JE_Override"}]
["5000_SC5709 Salaries and Wages/Part-time Wages (reclass)",{"$f":"Worktags!AS281","v":"5000"},{"$f":"IF(Worktags!AQ281<>Worktags!AS281,Worktags!AQ281,\"\")","v":"SC5709"},{"$f":"IFERROR(VLOOKUP(B790,Worktags!AL:AO,2,FALSE),\"\")","v":"Salaries and Wages"},{"$f":"IFERROR(VLOOKUP(C790,Worktags!O:T,2,FALSE),\"\")","v":"Part-time Wages (reclass)"},{"$f":"IFERROR(VLOOKUP(IF(C790=\"\",B790&\"||\"&B790,C790&\"||\"&B790),Worktags!AR:AV,5,FALSE),\"\")","v":"All"}]
["5000_SC5730 Salaries and Wages/Part-time Wages - Part Benefits",{"$f":"Worktags!AS282","v":"5000"},{"$f":"IF(Worktags!AQ282<>Worktags!AS282,Worktags!AQ282,\"\")","v":"SC5730"},{"$f":"IFERROR(VLOOKUP(B791,Worktags!AL:AO,2,FALSE),\"\")","v":"Salaries and Wages"},{"$f":"IFERROR(VLOOKUP(C791,Worktags!O:T,2,FALSE),\"\")","v":"Part-time Wages - Part Benefits"},{"$f":"IFERROR(VLOOKUP(IF(C791=\"\",B791&\"||\"&B791,C791&\"||\"&B791),Worktags!AR:AV,5,FALSE),\"\")","v":"JE_Payroll|JE_Override"}]
["5000_SC5800 Salaries and Wages/Taxable Payroll Additions",{"$f":"Worktags!AS283","v":"5000"},{"$f":"IF(Worktags!AQ283<>Worktags!AS283,Worktags!AQ283,\"\")","v":"SC5800"},{"$f":"IFERROR(VLOOKUP(B792,Worktags!AL:AO,2,FALSE),\"\")","v":"Salaries and Wages"},{"$f":"IFERROR(VLOOKUP(C792,Worktags!O:T,2,FALSE),\"\")","v":"Taxable Payroll Additions"},{"$f":"IFERROR(VLOOKUP(IF(C792=\"\",B792&\"||\"&B792,C792&\"||\"&B792),Worktags!AR:AV,5,FALSE),\"\")","v":"JE_Payroll|JE_Override"}]
["5000_SC5860 Salaries and Wages/Moving Reimbursement",{"$f":"Worktags!AS284","v":"5000"},{"$f":"IF(Worktags!AQ284<>Worktags!AS284,Worktags!AQ284,\"\")","v":"SC5860"},{"$f":"IFERROR(VLOOKUP(B793,Worktags!AL:AO,2,FALSE),\"\")","v":"Salaries and Wages"},{"$f":"IFERROR(VLOOKUP(C793,Worktags!O:T,2,FALSE),\"\")","v":"Moving Reimbursement"},{"$f":"IFERROR(VLOOKUP(IF(C793=\"\",B793&\"||\"&B793,C793&\"||\"&B793),Worktags!AR:AV,5,FALSE),\"\")","v":"JE_Payroll|JE_Override"}]
["5000_SC5899 Salaries and Wages/Taxable Payroll Additions (reclass)",{"$f":"Worktags!AS289","v":"5000"},{"$f":"IF(Worktags!AQ289<>Worktags!AS289,Worktags!AQ289,\"\")","v":"SC5899"},{"$f":"IFERROR(VLOOKUP(B794,Worktags!AL:AO,2,FALSE),\"\")","v":"Salaries and Wages"},{"$f":"IFERROR(VLOOKUP(C794,Worktags!O:T,2,FALSE),\"\")","v":"Taxable Payroll Additions (reclass)"},{"$f":"IFERROR(VLOOKUP(IF(C794=\"\",B794&\"||\"&B794,C794&\"||\"&B794),Worktags!AR:AV,5,FALSE),\"\")","v":"All"}]
["5800 Project Labor Cost",{"$f":"Worktags!AL121","v":"5800"},null,{"$f":"IFERROR(VLOOKUP(B795,Worktags!AL:AO,2,FALSE),\"\")","v":"Project Labor Cost"},null,{"$f":"IFERROR(VLOOKUP(IF(C795=\"\",B795&\"||\"&B795,C795&\"||\"&B795),Worktags!AR:AV,5,FALSE),\"\")","v":""}]
["5800_SC5890 Project Labor Cost/Project Labor Cost",{"$f":"Worktags!AS285","v":"5800"},{"$f":"IF(Worktags!AQ285<>Worktags!AS285,Worktags!AQ285,\"\")","v":"SC5890"},{"$f":"IFERROR(VLOOKUP(B796,Worktags!AL:AO,2,FALSE),\"\")","v":"Project Labor Cost"},{"$f":"IFERROR(VLOOKUP(C796,Worktags!O:T,2,FALSE),\"\")","v":"Project Labor Cost"},{"$f":"IFERROR(VLOOKUP(IF(C796=\"\",B796&\"||\"&B796,C796&\"||\"&B796),Worktags!AR:AV,5,FALSE),\"\")","v":"JE_Payroll|JE_Override"}]
["5800_SC5892 Project Labor Cost/Project Labor Cost Non-Capital",{"$f":"Worktags!AS287","v":"5800"},{"$f":"IF(Worktags!AQ287<>Worktags!AS287,Worktags!AQ287,\"\")","v":"SC5892"},{"$f":"IFERROR(VLOOKUP(B797,Worktags!AL:AO,2,FALSE),\"\")","v":"Project Labor Cost"},{"$f":"IFERROR(VLOOKUP(C797,Worktags!O:T,2,FALSE),\"\")","v":"Project Labor Cost Non-Capital"},{"$f":"IFERROR(VLOOKUP(IF(C797=\"\",B797&\"||\"&B797,C797&\"||\"&B797),Worktags!AR:AV,5,FALSE),\"\")","v":"JE_Payroll|JE_Override"}]
["5801 Project Labor Cost Recovery",{"$f":"Worktags!AL122","v":"5801"},null,{"$f":"IFERROR(VLOOKUP(B798,Worktags!AL:AO,2,FALSE),\"\")","v":"Project Labor Cost Recovery"},null,{"$f":"IFERROR(VLOOKUP(IF(C798=\"\",B798&\"||\"&B798,C798&\"||\"&B798),Worktags!AR:AV,5,FALSE),\"\")","v":""}]
["5801_SC5891 Project Labor Cost Recovery/Project Labor Cost Recovery",{"$f":"Worktags!AS286","v":"5801"},{"$f":"IF(Worktags!AQ286<>Worktags!AS286,Worktags!AQ286,\"\")","v":"SC5891"},{"$f":"IFERROR(VLOOKUP(B799,Worktags!AL:AO,2,FALSE),\"\")","v":"Project Labor Cost Recovery"},{"$f":"IFERROR(VLOOKUP(C799,Worktags!O:T,2,FALSE),\"\")","v":"Project Labor Cost Recovery"},{"$f":"IFERROR(VLOOKUP(IF(C799=\"\",B799&\"||\"&B799,C799&\"||\"&B799),Worktags!AR:AV,5,FALSE),\"\")","v":"JE_Payroll|JE_Override"}]
["5801_SC5893 Project Labor Cost Recovery/Project Labor Cost Non-Capital Recovery",{"$f":"Worktags!AS288","v":"5801"},{"$f":"IF(Worktags!AQ288<>Worktags!AS288,Worktags!AQ288,\"\")","v":"SC5893"},{"$f":"IFERROR(VLOOKUP(B800,Worktags!AL:AO,2,FALSE),\"\")","v":"Project Labor Cost Recovery"},{"$f":"IFERROR(VLOOKUP(C800,Worktags!O:T,2,FALSE),\"\")","v":"Project Labor Cost Non-Capital Recovery"},{"$f":"IFERROR(VLOOKUP(IF(C800=\"\",B800&\"||\"&B800,C800&\"||\"&B800),Worktags!AR:AV,5,FALSE),\"\")","v":"JE_Payroll|JE_Override"}]
["5900 Benefits",{"$f":"Worktags!AL123","v":"5900"},null,{"$f":"IFERROR(VLOOKUP(B801,Worktags!AL:AO,2,FALSE),\"\")","v":"Benefits"},null,{"$f":"IFERROR(VLOOKUP(IF(C801=\"\",B801&\"||\"&B801,C801&\"||\"&B801),Worktags!AR:AV,5,FALSE),\"\")","v":""}]
["5900_SC5900 Benefits/Staff Exempt Benefits",{"$f":"Worktags!AS290","v":"5900"},{"$f":"IF(Worktags!AQ290<>Worktags!AS290,Worktags!AQ290,\"\")","v":"SC5900"},{"$f":"IFERROR(VLOOKUP(B802,Worktags!AL:AO,2,FALSE),\"\")","v":"Benefits"},{"$f":"IFERROR(VLOOKUP(C802,Worktags!O:T,2,FALSE),\"\")","v":"Staff Exempt Benefits"},{"$f":"IFERROR(VLOOKUP(IF(C802=\"\",B802&\"||\"&B802,C802&\"||\"&B802),Worktags!AR:AV,5,FALSE),\"\")","v":"JE_Payroll|JE_Override"}]
["5900_SC5910 Benefits/Faculty Benefits",{"$f":"Worktags!AS291","v":"5900"},{"$f":"IF(Worktags!AQ291<>Worktags!AS291,Worktags!AQ291,\"\")","v":"SC5910"},{"$f":"IFERROR(VLOOKUP(B803,Worktags!AL:AO,2,FALSE),\"\")","v":"Benefits"},{"$f":"IFERROR(VLOOKUP(C803,Worktags!O:T,2,FALSE),\"\")","v":"Faculty Benefits"},{"$f":"IFERROR(VLOOKUP(IF(C803=\"\",B803&\"||\"&B803,C803&\"||\"&B803),Worktags!AR:AV,5,FALSE),\"\")","v":"JE_Payroll|JE_Override"}]
["5900_SC5930 Benefits/Faculty Adjunct Benefits",{"$f":"Worktags!AS292","v":"5900"},{"$f":"IF(Worktags!AQ292<>Worktags!AS292,Worktags!AQ292,\"\")","v":"SC5930"},{"$f":"IFERROR(VLOOKUP(B804,Worktags!AL:AO,2,FALSE),\"\")","v":"Benefits"},{"$f":"IFERROR(VLOOKUP(C804,Worktags!O:T,2,FALSE),\"\")","v":"Faculty Adjunct Benefits"},{"$f":"IFERROR(VLOOKUP(IF(C804=\"\",B804&\"||\"&B804,C804&\"||\"&B804),Worktags!AR:AV,5,FALSE),\"\")","v":"JE_Payroll|JE_Override"}]
["5900_SC5940 Benefits/Staff Non-Exempt Benefits",{"$f":"Worktags!AS293","v":"5900"},{"$f":"IF(Worktags!AQ293<>Worktags!AS293,Worktags!AQ293,\"\")","v":"SC5940"},{"$f":"IFERROR(VLOOKUP(B805,Worktags!AL:AO,2,FALSE),\"\")","v":"Benefits"},{"$f":"IFERROR(VLOOKUP(C805,Worktags!O:T,2,FALSE),\"\")","v":"Staff Non-Exempt Benefits"},{"$f":"IFERROR(VLOOKUP(IF(C805=\"\",B805&\"||\"&B805,C805&\"||\"&B805),Worktags!AR:AV,5,FALSE),\"\")","v":"JE_Payroll|JE_Override"}]
["5900_SC5950 Benefits/Student Benefits",{"$f":"Worktags!AS294","v":"5900"},{"$f":"IF(Worktags!AQ294<>Worktags!AS294,Worktags!AQ294,\"\")","v":"SC5950"},{"$f":"IFERROR(VLOOKUP(B806,Worktags!AL:AO,2,FALSE),\"\")","v":"Benefits"},{"$f":"IFERROR(VLOOKUP(C806,Worktags!O:T,2,FALSE),\"\")","v":"Student Benefits"},{"$f":"IFERROR(VLOOKUP(IF(C806=\"\",B806&\"||\"&B806,C806&\"||\"&B806),Worktags!AR:AV,5,FALSE),\"\")","v":"JE_Payroll|JE_Override"}]
["5900_SC5970 Benefits/Part-time Benefits",{"$f":"Worktags!AS295","v":"5900"},{"$f":"IF(Worktags!AQ295<>Worktags!AS295,Worktags!AQ295,\"\")","v":"SC5970"},{"$f":"IFERROR(VLOOKUP(B807,Worktags!AL:AO,2,FALSE),\"\")","v":"Benefits"},{"$f":"IFERROR(VLOOKUP(C807,Worktags!O:T,2,FALSE),\"\")","v":"Part-time Benefits"},{"$f":"IFERROR(VLOOKUP(IF(C807=\"\",B807&\"||\"&B807,C807&\"||\"&B807),Worktags!AR:AV,5,FALSE),\"\")","v":"JE_Payroll|JE_Override"}]
["5900_SC5990 Benefits/Other Local/State Payroll Tax",{"$f":"Worktags!AS296","v":"5900"},{"$f":"IF(Worktags!AQ296<>Worktags!AS296,Worktags!AQ296,\"\")","v":"SC5990"},{"$f":"IFERROR(VLOOKUP(B808,Worktags!AL:AO,2,FALSE),\"\")","v":"Benefits"},{"$f":"IFERROR(VLOOKUP(C808,Worktags!O:T,2,FALSE),\"\")","v":"Other Local/State Payroll Tax"},{"$f":"IFERROR(VLOOKUP(IF(C808=\"\",B808&\"||\"&B808,C808&\"||\"&B808),Worktags!AR:AV,5,FALSE),\"\")","v":"JE_Payroll|JE_Override"}]
["5900_SC5995 Benefits/University Benefits-Payments",{"$f":"Worktags!AS297","v":"5900"},{"$f":"IF(Worktags!AQ297<>Worktags!AS297,Worktags!AQ297,\"\")","v":"SC5995"},{"$f":"IFERROR(VLOOKUP(B809,Worktags!AL:AO,2,FALSE),\"\")","v":"Benefits"},{"$f":"IFERROR(VLOOKUP(C809,Worktags!O:T,2,FALSE),\"\")","v":"University Benefits-Payments"},{"$f":"IFERROR(VLOOKUP(IF(C809=\"\",B809&\"||\"&B809,C809&\"||\"&B809),Worktags!AR:AV,5,FALSE),\"\")","v":"JE_Payroll|JE_Override"}]
["5900_SC5998 Benefits/FICA Clearing (Payroll System Only)",{"$f":"Worktags!AS298","v":"5900"},{"$f":"IF(Worktags!AQ298<>Worktags!AS298,Worktags!AQ298,\"\")","v":"SC5998"},{"$f":"IFERROR(VLOOKUP(B810,Worktags!AL:AO,2,FALSE),\"\")","v":"Benefits"},{"$f":"IFERROR(VLOOKUP(C810,Worktags!O:T,2,FALSE),\"\")","v":"FICA Clearing (Payroll System Only)"},{"$f":"IFERROR(VLOOKUP(IF(C810=\"\",B810&\"||\"&B810,C810&\"||\"&B810),Worktags!AR:AV,5,FALSE),\"\")","v":"JE_Payroll|JE_Override"}]
["5900_SC5999 Benefits/Benefits (reclass)",{"$f":"Worktags!AS299","v":"5900"},{"$f":"IF(Worktags!AQ299<>Worktags!AS299,Worktags!AQ299,\"\")","v":"SC5999"},{"$f":"IFERROR(VLOOKUP(B811,Worktags!AL:AO,2,FALSE),\"\")","v":"Benefits"},{"$f":"IFERROR(VLOOKUP(C811,Worktags!O:T,2,FALSE),\"\")","v":"Benefits (reclass)"},{"$f":"IFERROR(VLOOKUP(IF(C811=\"\",B811&\"||\"&B811,C811&\"||\"&B811),Worktags!AR:AV,5,FALSE),\"\")","v":"All"}]
["6100 Materials and Supplies",{"$f":"Worktags!AL124","v":"6100"},null,{"$f":"IFERROR(VLOOKUP(B812,Worktags!AL:AO,2,FALSE),\"\")","v":"Materials and Supplies"},null,{"$f":"IFERROR(VLOOKUP(IF(C812=\"\",B812&\"||\"&B812,C812&\"||\"&B812),Worktags!AR:AV,5,FALSE),\"\")","v":""}]
["6100_SC0610 Materials and Supplies/Materials and Supplies (Budget Only)",{"$f":"Worktags!AS201","v":"6100"},{"$f":"IF(Worktags!AQ201<>Worktags!AS201,Worktags!AQ201,\"\")","v":"SC0610"},{"$f":"IFERROR(VLOOKUP(B813,Worktags!AL:AO,2,FALSE),\"\")","v":"Materials and Supplies"},{"$f":"IFERROR(VLOOKUP(C813,Worktags!O:T,2,FALSE),\"\")","v":"Materials and Supplies (Budget Only)"},{"$f":"IFERROR(VLOOKUP(IF(C813=\"\",B813&\"||\"&B813,C813&\"||\"&B813),Worktags!AR:AV,5,FALSE),\"\")","v":"JE_Override"}]
["6100_SC6101 Materials and Supplies/Animal Supplies",{"$f":"Worktags!AS301","v":"6100"},{"$f":"IF(Worktags!AQ301<>Worktags!AS301,Worktags!AQ301,\"\")","v":"SC6101"},{"$f":"IFERROR(VLOOKUP(B814,Worktags!AL:AO,2,FALSE),\"\")","v":"Materials and Supplies"},{"$f":"IFERROR(VLOOKUP(C814,Worktags!O:T,2,FALSE),\"\")","v":"Animal Supplies"},{"$f":"IFERROR(VLOOKUP(IF(C814=\"\",B814&\"||\"&B814,C814&\"||\"&B814),Worktags!AR:AV,5,FALSE),\"\")","v":"All"}]
["6100_SC6102 Materials and Supplies/Animals",{"$f":"Worktags!AS303","v":"6100"},{"$f":"IF(Worktags!AQ303<>Worktags!AS303,Worktags!AQ303,\"\")","v":"SC6102"},{"$f":"IFERROR(VLOOKUP(B815,Worktags!AL:AO,2,FALSE),\"\")","v":"Materials and Supplies"},{"$f":"IFERROR(VLOOKUP(C815,Worktags!O:T,2,FALSE),\"\")","v":"Animals"},{"$f":"IFERROR(VLOOKUP(IF(C815=\"\",B815&\"||\"&B815,C815&\"||\"&B815),Worktags!AR:AV,5,FALSE),\"\")","v":"All"}]
["6100_SC6103 Materials and Supplies/Art",{"$f":"Worktags!AS305","v":"6100"},{"$f":"IF(Worktags!AQ305<>Worktags!AS305,Worktags!AQ305,\"\")","v":"SC6103"},{"$f":"IFERROR(VLOOKUP(B816,Worktags!AL:AO,2,FALSE),\"\")","v":"Materials and Supplies"},{"$f":"IFERROR(VLOOKUP(C816,Worktags!O:T,2,FALSE),\"\")","v":"Art"},{"$f":"IFERROR(VLOOKUP(IF(C816=\"\",B816&\"||\"&B816,C816&\"||\"&B816),Worktags!AR:AV,5,FALSE),\"\")","v":"All"}]
["6100_SC6104 Materials and Supplies/Art Supplies",{"$f":"Worktags!AS307","v":"6100"},{"$f":"IF(Worktags!AQ307<>Worktags!AS307,Worktags!AQ307,\"\")","v":"SC6104"},{"$f":"IFERROR(VLOOKUP(B817,Worktags!AL:AO,2,FALSE),\"\")","v":"Materials and Supplies"},{"$f":"IFERROR(VLOOKUP(C817,Worktags!O:T,2,FALSE),\"\")","v":"Art Supplies"},{"$f":"IFERROR(VLOOKUP(IF(C817=\"\",B817&\"||\"&B817,C817&\"||\"&B817),Worktags!AR:AV,5,FALSE),\"\")","v":"All"}]
["6100_SC6105 Materials and Supplies/Athletic Supplies",{"$f":"Worktags!AS309","v":"6100"},{"$f":"IF(Worktags!AQ309<>Worktags!AS309,Worktags!AQ309,\"\")","v":"SC6105"},{"$f":"IFERROR(VLOOKUP(B818,Worktags!AL:AO,2,FALSE),\"\")","v":"Materials and Supplies"},{"$f":"IFERROR(VLOOKUP(C818,Worktags!O:T,2,FALSE),\"\")","v":"Athletic Supplies"},{"$f":"IFERROR(VLOOKUP(IF(C818=\"\",B818&\"||\"&B818,C818&\"||\"&B818),Worktags!AR:AV,5,FALSE),\"\")","v":"All"}]
["6100_SC6106 Materials and Supplies/Audio Visual Supplies",{"$f":"Worktags!AS314","v":"6100"},{"$f":"IF(Worktags!AQ314<>Worktags!AS314,Worktags!AQ314,\"\")","v":"SC6106"},{"$f":"IFERROR(VLOOKUP(B819,Worktags!AL:AO,2,FALSE),\"\")","v":"Materials and Supplies"},{"$f":"IFERROR(VLOOKUP(C819,Worktags!O:T,2,FALSE),\"\")","v":"Audio Visual Supplies"},{"$f":"IFERROR(VLOOKUP(IF(C819=\"\",B819&\"||\"&B819,C819&\"||\"&B819),Worktags!AR:AV,5,FALSE),\"\")","v":"All"}]
["6100_SC6107 Materials and Supplies/Clothing",{"$f":"Worktags!AS318","v":"6100"},{"$f":"IF(Worktags!AQ318<>Worktags!AS318,Worktags!AQ318,\"\")","v":"SC6107"},{"$f":"IFERROR(VLOOKUP(B820,Worktags!AL:AO,2,FALSE),\"\")","v":"Materials and Supplies"},{"$f":"IFERROR(VLOOKUP(C820,Worktags!O:T,2,FALSE),\"\")","v":"Clothing"},{"$f":"IFERROR(VLOOKUP(IF(C820=\"\",B820&\"||\"&B820,C820&\"||\"&B820),Worktags!AR:AV,5,FALSE),\"\")","v":"All"}]
["6100_SC6108 Materials and Supplies/Data Network Supplies",{"$f":"Worktags!AS323","v":"6100"},{"$f":"IF(Worktags!AQ323<>Worktags!AS323,Worktags!AQ323,\"\")","v":"SC6108"},{"$f":"IFERROR(VLOOKUP(B821,Worktags!AL:AO,2,FALSE),\"\")","v":"Materials and Supplies"},{"$f":"IFERROR(VLOOKUP(C821,Worktags!O:T,2,FALSE),\"\")","v":"Data Network Supplies"},{"$f":"IFERROR(VLOOKUP(IF(C821=\"\",B821&\"||\"&B821,C821&\"||\"&B821),Worktags!AR:AV,5,FALSE),\"\")","v":"All"}]
["6100_SC6109 Materials and Supplies/Floral Supplies",{"$f":"Worktags!AS325","v":"6100"},{"$f":"IF(Worktags!AQ325<>Worktags!AS325,Worktags!AQ325,\"\")","v":"SC6109"},{"$f":"IFERROR(VLOOKUP(B822,Worktags!AL:AO,2,FALSE),\"\")","v":"Materials and Supplies"},{"$f":"IFERROR(VLOOKUP(C822,Worktags!O:T,2,FALSE),\"\")","v":"Floral Supplies"},{"$f":"IFERROR(VLOOKUP(IF(C822=\"\",B822&\"||\"&B822,C822&\"||\"&B822),Worktags!AR:AV,5,FALSE),\"\")","v":"All"}]
["6100_SC6110 Materials and Supplies/Food and Beverages",{"$f":"Worktags!AS329","v":"6100"},{"$f":"IF(Worktags!AQ329<>Worktags!AS329,Worktags!AQ329,\"\")","v":"SC6110"},{"$f":"IFERROR(VLOOKUP(B823,Worktags!AL:AO,2,FALSE),\"\")","v":"Materials and Supplies"},{"$f":"IFERROR(VLOOKUP(C823,Worktags!O:T,2,FALSE),\"\")","v":"Food and Beverages"},{"$f":"IFERROR(VLOOKUP(IF(C823=\"\",B823&\"||\"&B823,C823&\"||\"&B823),Worktags!AR:AV,5,FALSE),\"\")","v":"All"}]
["6100_SC6111 Materials and Supplies/Food Service Disposables",{"$f":"Worktags!AS333","v":"6100"},{"$f":"IF(Worktags!AQ333<>Worktags!AS333,Worktags!AQ333,\"\")","v":"SC6111"},{"$f":"IFERROR(VLOOKUP(B824,Worktags!AL:AO,2,FALSE),\"\")","v":"Materials and Supplies"},{"$f":"IFERROR(VLOOKUP(C824,Worktags!O:T,2,FALSE),\"\")","v":"Food Service Disposables"},{"$f":"IFERROR(VLOOKUP(IF(C824=\"\",B824&\"||\"&B824,C824&\"||\"&B824),Worktags!AR:AV,5,FALSE),\"\")","v":"All"}]
["6100_SC6112 Materials and Supplies/Food Service Supplies",{"$f":"Worktags!AS335","v":"6100"},{"$f":"IF(Worktags!AQ335<>Worktags!AS335,Worktags!AQ335,\"\")","v":"SC6112"},{"$f":"IFERROR(VLOOKUP(B825,Worktags!AL:AO,2,FALSE),\"\")","v":"Materials and Supplies"},{"$f":"IFERROR(VLOOKUP(C825,Worktags!O:T,2,FALSE),\"\")","v":"Food Service Supplies"},{"$f":"IFERROR(VLOOKUP(IF(C825=\"\",B825&\"||\"&B825,C825&\"||\"&B825),Worktags!AR:AV,5,FALSE),\"\")","v":"All"}]
["6100_SC6113 Materials and Supplies/Fuel",{"$f":"Worktags!AS337","v":"6100"},{"$f":"IF(Worktags!AQ337<>Worktags!AS337,Worktags!AQ337,\"\")","v":"SC6113"},{"$f":"IFERROR(VLOOKUP(B826,Worktags!AL:AO,2,FALSE),\"\")","v":"Materials and Supplies"},{"$f":"IFERROR(VLOOKUP(C826,Worktags!O:T,2,FALSE),\"\")","v":"Fuel"},{"$f":"IFERROR(VLOOKUP(IF(C826=\"\",B826&\"||\"&B826,C826&\"||\"&B826),Worktags!AR:AV,5,FALSE),\"\")","v":"All"}]
["6100_SC6114 Materials and Supplies/Hazardous Chemicals",{"$f":"Worktags!AS341","v":"6100"},{"$f":"IF(Worktags!AQ341<>Worktags!AS341,Worktags!AQ341,\"\")","v":"SC6114"},{"$f":"IFERROR(VLOOKUP(B827,Worktags!AL:AO,2,FALSE),\"\")","v":"Materials and Supplies"},{"$f":"IFERROR(VLOOKUP(C827,Worktags!O:T,2,FALSE),\"\")","v":"Hazardous Chemicals"},{"$f":"IFERROR(VLOOKUP(IF(C827=\"\",B827&\"||\"&B827,C827&\"||\"&B827),Worktags!AR:AV,5,FALSE),\"\")","v":"All"}]
["6100_SC6115 Materials and Supplies/Janitorial Supplies",{"$f":"Worktags!AS343","v":"6100"},{"$f":"IF(Worktags!AQ343<>Worktags!AS343,Worktags!AQ343,\"\")","v":"SC6115"},{"$f":"IFERROR(VLOOKUP(B828,Worktags!AL:AO,2,FALSE),\"\")","v":"Materials and Supplies"},{"$f":"IFERROR(VLOOKUP(C828,Worktags!O:T,2,FALSE),\"\")","v":"Janitorial Supplies"},{"$f":"IFERROR(VLOOKUP(IF(C828=\"\",B828&\"||\"&B828,C828&\"||\"&B828),Worktags!AR:AV,5,FALSE),\"\")","v":"All"}]
["6100_SC6116 Materials and Supplies/Laundry Supplies",{"$f":"Worktags!AS345","v":"6100"},{"$f":"IF(Worktags!AQ345<>Worktags!AS345,Worktags!AQ345,\"\")","v":"SC6116"},{"$f":"IFERROR(VLOOKUP(B829,Worktags!AL:AO,2,FALSE),\"\")","v":"Materials and Supplies"},{"$f":"IFERROR(VLOOKUP(C829,Worktags!O:T,2,FALSE),\"\")","v":"Laundry Supplies"},{"$f":"IFERROR(VLOOKUP(IF(C829=\"\",B829&\"||\"&B829,C829&\"||\"&B829),Worktags!AR:AV,5,FALSE),\"\")","v":"All"}]
["6100_SC6117 Materials and Supplies/Medical Supplies",{"$f":"Worktags!AS347","v":"6100"},{"$f":"IF(Worktags!AQ347<>Worktags!AS347,Worktags!AQ347,\"\")","v":"SC6117"},{"$f":"IFERROR(VLOOKUP(B830,Worktags!AL:AO,2,FALSE),\"\")","v":"Materials and Supplies"},{"$f":"IFERROR(VLOOKUP(C830,Worktags!O:T,2,FALSE),\"\")","v":"Medical Supplies"},{"$f":"IFERROR(VLOOKUP(IF(C830=\"\",B830&\"||\"&B830,C830&\"||\"&B830),Worktags!AR:AV,5,FALSE),\"\")","v":"All"}]
["6100_SC6118 Materials and Supplies/Musical Instrument Supplies",{"$f":"Worktags!AS349","v":"6100"},{"$f":"IF(Worktags!AQ349<>Worktags!AS349,Worktags!AQ349,\"\")","v":"SC6118"},{"$f":"IFERROR(VLOOKUP(B831,Worktags!AL:AO,2,FALSE),\"\")","v":"Materials and Supplies"},{"$f":"IFERROR(VLOOKUP(C831,Worktags!O:T,2,FALSE),\"\")","v":"Musical Instrument Supplies"},{"$f":"IFERROR(VLOOKUP(IF(C831=\"\",B831&\"||\"&B831,C831&\"||\"&B831),Worktags!AR:AV,5,FALSE),\"\")","v":"All"}]
["6100_SC6119 Materials and Supplies/Office Supplies",{"$f":"Worktags!AS353","v":"6100"},{"$f":"IF(Worktags!AQ353<>Worktags!AS353,Worktags!AQ353,\"\")","v":"SC6119"},{"$f":"IFERROR(VLOOKUP(B832,Worktags!AL:AO,2,FALSE),\"\")","v":"Materials and Supplies"},{"$f":"IFERROR(VLOOKUP(C832,Worktags!O:T,2,FALSE),\"\")","v":"Office Supplies"},{"$f":"IFERROR(VLOOKUP(IF(C832=\"\",B832&\"||\"&B832,C832&\"||\"&B832),Worktags!AR:AV,5,FALSE),\"\")","v":"All"}]
[{"$f":"IF(B833<>\"\",IF(C833<>\"\",B833&\"_\"&C833&\" \"&D833&\"/\"&E833,B833&\" \"&D833),\"\")","v":"6100_SC6120 Materials and Supplies/Other Expense"},{"$f":"Worktags!AS355","v":"6100"},{"$f":"IF(Worktags!AQ355<>Worktags!AS355,Worktags!AQ355,\"\")","v":"SC6120"},{"$f":"IFERROR(VLOOKUP(B833,Worktags!AL:AO,2,FALSE),\"\")","v":"Materials and Supplies"},{"$f":"IFERROR(VLOOKUP(C833,Worktags!O:T,2,FALSE),\"\")","v":"Other Expense"},{"$f":"IFERROR(VLOOKUP(IF(C833=\"\",B833&\"||\"&B833,C833&\"||\"&B833),Worktags!AR:AV,5,FALSE),\"\")","v":"All"}]
["6100_SC6121 Materials and Supplies/Packaging",{"$f":"Worktags!AS359","v":"6100"},{"$f":"IF(Worktags!AQ359<>Worktags!AS359,Worktags!AQ359,\"\")","v":"SC6121"},{"$f":"IFERROR(VLOOKUP(B834,Worktags!AL:AO,2,FALSE),\"\")","v":"Materials and Supplies"},{"$f":"IFERROR(VLOOKUP(C834,Worktags!O:T,2,FALSE),\"\")","v":"Packaging"},{"$f":"IFERROR(VLOOKUP(IF(C834=\"\",B834&\"||\"&B834,C834&\"||\"&B834),Worktags!AR:AV,5,FALSE),\"\")","v":"All"}]
["6100_SC6122 Materials and Supplies/Paper",{"$f":"Worktags!AS361","v":"6100"},{"$f":"IF(Worktags!AQ361<>Worktags!AS361,Worktags!AQ361,\"\")","v":"SC6122"},{"$f":"IFERROR(VLOOKUP(B835,Worktags!AL:AO,2,FALSE),\"\")","v":"Materials and Supplies"},{"$f":"IFERROR(VLOOKUP(C835,Worktags!O:T,2,FALSE),\"\")","v":"Paper"},{"$f":"IFERROR(VLOOKUP(IF(C835=\"\",B835&\"||\"&B835,C835&\"||\"&B835),Worktags!AR:AV,5,FALSE),\"\")","v":"All"}]
["6100_SC6123 Materials and Supplies/Photography Supplies",{"$f":"Worktags!AS363","v":"6100"},{"$f":"IF(Worktags!AQ363<>Worktags!AS363,Worktags!AQ363,\"\")","v":"SC6123"},{"$f":"IFERROR(VLOOKUP(B836,Worktags!AL:AO,2,FALSE),\"\")","v":"Materials and Supplies"},{"$f":"IFERROR(VLOOKUP(C836,Worktags!O:T,2,FALSE),\"\")","v":"Photography Supplies"},{"$f":"IFERROR(VLOOKUP(IF(C836=\"\",B836&\"||\"&B836,C836&\"||\"&B836),Worktags!AR:AV,5,FALSE),\"\")","v":"All"}]
["6100_SC6124 Materials and Supplies/Printed Media",{"$f":"Worktags!AS365","v":"6100"},{"$f":"IF(Worktags!AQ365<>Worktags!AS365,Worktags!AQ365,\"\")","v":"SC6124"},{"$f":"IFERROR(VLOOKUP(B837,Worktags!AL:AO,2,FALSE),\"\")","v":"Materials and Supplies"},{"$f":"IFERROR(VLOOKUP(C837,Worktags!O:T,2,FALSE),\"\")","v":"Printed Media"},{"$f":"IFERROR(VLOOKUP(IF(C837=\"\",B837&\"||\"&B837,C837&\"||\"&B837),Worktags!AR:AV,5,FALSE),\"\")","v":"All"}]
["6100_SC6125 Materials and Supplies/Printing Supplies",{"$f":"Worktags!AS369","v":"6100"},{"$f":"IF(Worktags!AQ369<>Worktags!AS369,Worktags!AQ369,\"\")","v":"SC6125"},{"$f":"IFERROR(VLOOKUP(B838,Worktags!AL:AO,2,FALSE),\"\")","v":"Materials and Supplies"},{"$f":"IFERROR(VLOOKUP(C838,Worktags!O:T,2,FALSE),\"\")","v":"Printing Supplies"},{"$f":"IFERROR(VLOOKUP(IF(C838=\"\",B838&\"||\"&B838,C838&\"||\"&B838),Worktags!AR:AV,5,FALSE),\"\")","v":"All"}]
["6100_SC6126 Materials and Supplies/Scientific and Engineering Supplies",{"$f":"Worktags!AS373","v":"6100"},{"$f":"IF(Worktags!AQ373<>Worktags!AS373,Worktags!AQ373,\"\")","v":"SC6126"},{"$f":"IFERROR(VLOOKUP(B839,Worktags!AL:AO,2,FALSE),\"\")","v":"Materials and Supplies"},{"$f":"IFERROR(VLOOKUP(C839,Worktags!O:T,2,FALSE),\"\")","v":"Scientific and Engineering Supplies"},{"$f":"IFERROR(VLOOKUP(IF(C839=\"\",B839&\"||\"&B839,C839&\"||\"&B839),Worktags!AR:AV,5,FALSE),\"\")","v":"All"}]
["6100_SC6127 Materials and Supplies/Special Collections",{"$f":"Worktags!AS375","v":"6100"},{"$f":"IF(Worktags!AQ375<>Worktags!AS375,Worktags!AQ375,\"\")","v":"SC6127"},{"$f":"IFERROR(VLOOKUP(B840,Worktags!AL:AO,2,FALSE),\"\")","v":"Materials and Supplies"},{"$f":"IFERROR(VLOOKUP(C840,Worktags!O:T,2,FALSE),\"\")","v":"Special Collections"},{"$f":"IFERROR(VLOOKUP(IF(C840=\"\",B840&\"||\"&B840,C840&\"||\"&B840),Worktags!AR:AV,5,FALSE),\"\")","v":"All"}]
["6100_SC6128 Materials and Supplies/Special Collections Sales Proceeds",{"$f":"Worktags!AS376","v":"6100"},{"$f":"IF(Worktags!AQ376<>Worktags!AS376,Worktags!AQ376,\"\")","v":"SC6128"},{"$f":"IFERROR(VLOOKUP(B841,Worktags!AL:AO,2,FALSE),\"\")","v":"Materials and Supplies"},{"$f":"IFERROR(VLOOKUP(C841,Worktags!O:T,2,FALSE),\"\")","v":"Special Collections Sales Proceeds"},{"$f":"IFERROR(VLOOKUP(IF(C841=\"\",B841&\"||\"&B841,C841&\"||\"&B841),Worktags!AR:AV,5,FALSE),\"\")","v":"All"}]
["6100_SC6129 Materials and Supplies/Supplies (not otherwise specified)",{"$f":"Worktags!AS381","v":"6100"},{"$f":"IF(Worktags!AQ381<>Worktags!AS381,Worktags!AQ381,\"\")","v":"SC6129"},{"$f":"IFERROR(VLOOKUP(B842,Worktags!AL:AO,2,FALSE),\"\")","v":"Materials and Supplies"},{"$f":"IFERROR(VLOOKUP(C842,Worktags!O:T,2,FALSE),\"\")","v":"Supplies (not otherwise specified)"},{"$f":"IFERROR(VLOOKUP(IF(C842=\"\",B842&\"||\"&B842,C842&\"||\"&B842),Worktags!AR:AV,5,FALSE),\"\")","v":"All"}]
["6100_SC6130 Materials and Supplies/Teaching Supplies",{"$f":"Worktags!AS383","v":"6100"},{"$f":"IF(Worktags!AQ383<>Worktags!AS383,Worktags!AQ383,\"\")","v":"SC6130"},{"$f":"IFERROR(VLOOKUP(B843,Worktags!AL:AO,2,FALSE),\"\")","v":"Materials and Supplies"},{"$f":"IFERROR(VLOOKUP(C843,Worktags!O:T,2,FALSE),\"\")","v":"Teaching Supplies"},{"$f":"IFERROR(VLOOKUP(IF(C843=\"\",B843&\"||\"&B843,C843&\"||\"&B843),Worktags!AR:AV,5,FALSE),\"\")","v":"All"}]
["6100_SC6131 Materials and Supplies/Telecom Supplies",{"$f":"Worktags!AS388","v":"6100"},{"$f":"IF(Worktags!AQ388<>Worktags!AS388,Worktags!AQ388,\"\")","v":"SC6131"},{"$f":"IFERROR(VLOOKUP(B844,Worktags!AL:AO,2,FALSE),\"\")","v":"Materials and Supplies"},{"$f":"IFERROR(VLOOKUP(C844,Worktags!O:T,2,FALSE),\"\")","v":"Telecom Supplies"},{"$f":"IFERROR(VLOOKUP(IF(C844=\"\",B844&\"||\"&B844,C844&\"||\"&B844),Worktags!AR:AV,5,FALSE),\"\")","v":"All"}]
["6100_SC6132 Materials and Supplies/Vehicle Supplies",{"$f":"Worktags!AS390","v":"6100"},{"$f":"IF(Worktags!AQ390<>Worktags!AS390,Worktags!AQ390,\"\")","v":"SC6132"},{"$f":"IFERROR(VLOOKUP(B845,Worktags!AL:AO,2,FALSE),\"\")","v":"Materials and Supplies"},{"$f":"IFERROR(VLOOKUP(C845,Worktags!O:T,2,FALSE),\"\")","v":"Vehicle Supplies"},{"$f":"IFERROR(VLOOKUP(IF(C845=\"\",B845&\"||\"&B845,C845&\"||\"&B845),Worktags!AR:AV,5,FALSE),\"\")","v":"All"}]
["6100_SC6133 Materials and Supplies/Lab Gases and Cryogenics",{"$f":"Worktags!AS394","v":"6100"},{"$f":"IF(Worktags!AQ394<>Worktags!AS394,Worktags!AQ394,\"\")","v":"SC6133"},{"$f":"IFERROR(VLOOKUP(B846,Worktags!AL:AO,2,FALSE),\"\")","v":"Materials and Supplies"},{"$f":"IFERROR(VLOOKUP(C846,Worktags!O:T,2,FALSE),\"\")","v":"Lab Gases and Cryogenics"},{"$f":"IFERROR(VLOOKUP(IF(C846=\"\",B846&\"||\"&B846,C846&\"||\"&B846),Worktags!AR:AV,5,FALSE),\"\")","v":"All"}]
["6100_SC6199 Materials and Supplies/Materials and Supplies (reclass)",{"$f":"Worktags!AS398","v":"6100"},{"$f":"IF(Worktags!AQ398<>Worktags!AS398,Worktags!AQ398,\"\")","v":"SC6199"},{"$f":"IFERROR(VLOOKUP(B847,Worktags!AL:AO,2,FALSE),\"\")","v":"Materials and Supplies"},{"$f":"IFERROR(VLOOKUP(C847,Worktags!O:T,2,FALSE),\"\")","v":"Materials and Supplies (reclass)"},{"$f":"IFERROR(VLOOKUP(IF(C847=\"\",B847&\"||\"&B847,C847&\"||\"&B847),Worktags!AR:AV,5,FALSE),\"\")","v":"All"}]
["6300 Student Aid",{"$f":"Worktags!AL125","v":"6300"},null,{"$f":"IFERROR(VLOOKUP(B848,Worktags!AL:AO,2,FALSE),\"\")","v":"Student Aid"},null,{"$f":"IFERROR(VLOOKUP(IF(C848=\"\",B848&\"||\"&B848,C848&\"||\"&B848),Worktags!AR:AV,5,FALSE),\"\")","v":""}]
["6300_SC0630 Student Aid/Student Aid (Budget Only)",{"$f":"Worktags!AS202","v":"6300"},{"$f":"IF(Worktags!AQ202<>Worktags!AS202,Worktags!AQ202,\"\")","v":"SC0630"},{"$f":"IFERROR(VLOOKUP(B849,Worktags!AL:AO,2,FALSE),\"\")","v":"Student Aid"},{"$f":"IFERROR(VLOOKUP(C849,Worktags!O:T,2,FALSE),\"\")","v":"Student Aid (Budget Only)"},{"$f":"IFERROR(VLOOKUP(IF(C849=\"\",B849&\"||\"&B849,C849&\"||\"&B849),Worktags!AR:AV,5,FALSE),\"\")","v":"JE_Override"}]
["6300_SC6301 Student Aid/Scholarships",{"$f":"Worktags!AS399","v":"6300"},{"$f":"IF(Worktags!AQ399<>Worktags!AS399,Worktags!AQ399,\"\")","v":"SC6301"},{"$f":"IFERROR(VLOOKUP(B850,Worktags!AL:AO,2,FALSE),\"\")","v":"Student Aid"},{"$f":"IFERROR(VLOOKUP(C850,Worktags!O:T,2,FALSE),\"\")","v":"Scholarships"},{"$f":"IFERROR(VLOOKUP(IF(C850=\"\",B850&\"||\"&B850,C850&\"||\"&B850),Worktags!AR:AV,5,FALSE),\"\")","v":"All"}]
["6300_SC6302 Student Aid/Graduate Fellowship",{"$f":"Worktags!AS400","v":"6300"},{"$f":"IF(Worktags!AQ400<>Worktags!AS400,Worktags!AQ400,\"\")","v":"SC6302"},{"$f":"IFERROR(VLOOKUP(B851,Worktags!AL:AO,2,FALSE),\"\")","v":"Student Aid"},{"$f":"IFERROR(VLOOKUP(C851,Worktags!O:T,2,FALSE),\"\")","v":"Graduate Fellowship"},{"$f":"IFERROR(VLOOKUP(IF(C851=\"\",B851&\"||\"&B851,C851&\"||\"&B851),Worktags!AR:AV,5,FALSE),\"\")","v":"All"}]
["6300_SC6303 Student Aid/Grant",{"$f":"Worktags!AS401","v":"6300"},{"$f":"IF(Worktags!AQ401<>Worktags!AS401,Worktags!AQ401,\"\")","v":"SC6303"},{"$f":"IFERROR(VLOOKUP(B852,Worktags!AL:AO,2,FALSE),\"\")","v":"Student Aid"},{"$f":"IFERROR(VLOOKUP(C852,Worktags!O:T,2,FALSE),\"\")","v":"Grant"},{"$f":"IFERROR(VLOOKUP(IF(C852=\"\",B852&\"||\"&B852,C852&\"||\"&B852),Worktags!AR:AV,5,FALSE),\"\")","v":"All"}]
["6300_SC6304 Student Aid/Leadership Award",{"$f":"Worktags!AS402","v":"6300"},{"$f":"IF(Worktags!AQ402<>Worktags!AS402,Worktags!AQ402,\"\")","v":"SC6304"},{"$f":"IFERROR(VLOOKUP(B853,Worktags!AL:AO,2,FALSE),\"\")","v":"Student Aid"},{"$f":"IFERROR(VLOOKUP(C853,Worktags!O:T,2,FALSE),\"\")","v":"Leadership Award"},{"$f":"IFERROR(VLOOKUP(IF(C853=\"\",B853&\"||\"&B853,C853&\"||\"&B853),Worktags!AR:AV,5,FALSE),\"\")","v":"All"}]
["6300_SC6305 Student Aid/Tuition Assistance NonBYU Student",{"$f":"Worktags!AS403","v":"6300"},{"$f":"IF(Worktags!AQ403<>Worktags!AS403,Worktags!AQ403,\"\")","v":"SC6305"},{"$f":"IFERROR(VLOOKUP(B854,Worktags!AL:AO,2,FALSE),\"\")","v":"Student Aid"},{"$f":"IFERROR(VLOOKUP(C854,Worktags!O:T,2,FALSE),\"\")","v":"Tuition Assistance NonBYU Student"},{"$f":"IFERROR(VLOOKUP(IF(C854=\"\",B854&\"||\"&B854,C854&\"||\"&B854),Worktags!AR:AV,5,FALSE),\"\")","v":"All"}]
["6300_SC6306 Student Aid/Employee Benefit Tuition Assistance",{"$f":"Worktags!AS404","v":"6300"},{"$f":"IF(Worktags!AQ404<>Worktags!AS404,Worktags!AQ404,\"\")","v":"SC6306"},{"$f":"IFERROR(VLOOKUP(B855,Worktags!AL:AO,2,FALSE),\"\")","v":"Student Aid"},{"$f":"IFERROR(VLOOKUP(C855,Worktags!O:T,2,FALSE),\"\")","v":"Employee Benefit Tuition Assistance"},{"$f":"IFERROR(VLOOKUP(IF(C855=\"\",B855&\"||\"&B855,C855&\"||\"&B855),Worktags!AR:AV,5,FALSE),\"\")","v":"All"}]
["6300_SC6307 Student Aid/Other Student Aid",{"$f":"Worktags!AS405","v":"6300"},{"$f":"IF(Worktags!AQ405<>Worktags!AS405,Worktags!AQ405,\"\")","v":"SC6307"},{"$f":"IFERROR(VLOOKUP(B856,Worktags!AL:AO,2,FALSE),\"\")","v":"Student Aid"},{"$f":"IFERROR(VLOOKUP(C856,Worktags!O:T,2,FALSE),\"\")","v":"Other Student Aid"},{"$f":"IFERROR(VLOOKUP(IF(C856=\"\",B856&\"||\"&B856,C856&\"||\"&B856),Worktags!AR:AV,5,FALSE),\"\")","v":"All"}]
["6300_SC6308 Student Aid/Research Fellowships",{"$f":"Worktags!AS406","v":"6300"},{"$f":"IF(Worktags!AQ406<>Worktags!AS406,Worktags!AQ406,\"\")","v":"SC6308"},{"$f":"IFERROR(VLOOKUP(B857,Worktags!AL:AO,2,FALSE),\"\")","v":"Student Aid"},{"$f":"IFERROR(VLOOKUP(C857,Worktags!O:T,2,FALSE),\"\")","v":"Research Fellowships"},{"$f":"IFERROR(VLOOKUP(IF(C857=\"\",B857&\"||\"&B857,C857&\"||\"&B857),Worktags!AR:AV,5,FALSE),\"\")","v":"All"}]
["6300_SC6399 Student Aid/Student Aid (reclass)",{"$f":"Worktags!AS407","v":"6300"},{"$f":"IF(Worktags!AQ407<>Worktags!AS407,Worktags!AQ407,\"\")","v":"SC6399"},{"$f":"IFERROR(VLOOKUP(B858,Worktags!AL:AO,2,FALSE),\"\")","v":"Student Aid"},{"$f":"IFERROR(VLOOKUP(C858,Worktags!O:T,2,FALSE),\"\")","v":"Student Aid (reclass)"},{"$f":"IFERROR(VLOOKUP(IF(C858=\"\",B858&\"||\"&B858,C858&\"||\"&B858),Worktags!AR:AV,5,FALSE),\"\")","v":"All"}]
["6400 General and Administrative",{"$f":"Worktags!AL126","v":"6400"},null,{"$f":"IFERROR(VLOOKUP(B859,Worktags!AL:AO,2,FALSE),\"\")","v":"General and Administrative"},null,{"$f":"IFERROR(VLOOKUP(IF(C859=\"\",B859&\"||\"&B859,C859&\"||\"&B859),Worktags!AR:AV,5,FALSE),\"\")","v":""}]
["6400_RC6402 General and Administrative/",{"$f":"Worktags!AS195","v":"6400"},{"$f":"IF(Worktags!AQ195<>Worktags!AS195,Worktags!AQ195,\"\")","v":"RC6402"},{"$f":"IFERROR(VLOOKUP(B860,Worktags!AL:AO,2,FALSE),\"\")","v":"General and Administrative"},{"$f":"IFERROR(VLOOKUP(C860,Worktags!O:T,2,FALSE),\"\")","v":""},{"$f":"IFERROR(VLOOKUP(IF(C860=\"\",B860&\"||\"&B860,C860&\"||\"&B860),Worktags!AR:AV,5,FALSE),\"\")","v":"All"}]
["6400_RC6403 General and Administrative/Sponsored Program Income",{"$f":"Worktags!AS196","v":"6400"},{"$f":"IF(Worktags!AQ196<>Worktags!AS196,Worktags!AQ196,\"\")","v":"RC6403"},{"$f":"IFERROR(VLOOKUP(B861,Worktags!AL:AO,2,FALSE),\"\")","v":"General and Administrative"},{"$f":"IFERROR(VLOOKUP(C861,Worktags!O:T,2,FALSE),\"\")","v":"Sponsored Program Income"},{"$f":"IFERROR(VLOOKUP(IF(C861=\"\",B861&\"||\"&B861,C861&\"||\"&B861),Worktags!AR:AV,5,FALSE),\"\")","v":"All"}]
["6400_SC0640 General and Administrative/General and Administrative (Budget Only)",{"$f":"Worktags!AS203","v":"6400"},{"$f":"IF(Worktags!AQ203<>Worktags!AS203,Worktags!AQ203,\"\")","v":"SC0640"},{"$f":"IFERROR(VLOOKUP(B862,Worktags!AL:AO,2,FALSE),\"\")","v":"General and Administrative"},{"$f":"IFERROR(VLOOKUP(C862,Worktags!O:T,2,FALSE),\"\")","v":"General and Administrative (Budget Only)"},{"$f":"IFERROR(VLOOKUP(IF(C862=\"\",B862&\"||\"&B862,C862&\"||\"&B862),Worktags!AR:AV,5,FALSE),\"\")","v":"JE_Override"}]
["6400_SC6401 General and Administrative/Advertising",{"$f":"Worktags!AS409","v":"6400"},{"$f":"IF(Worktags!AQ409<>Worktags!AS409,Worktags!AQ409,\"\")","v":"SC6401"},{"$f":"IFERROR(VLOOKUP(B863,Worktags!AL:AO,2,FALSE),\"\")","v":"General and Administrative"},{"$f":"IFERROR(VLOOKUP(C863,Worktags!O:T,2,FALSE),\"\")","v":"Advertising"},{"$f":"IFERROR(VLOOKUP(IF(C863=\"\",B863&\"||\"&B863,C863&\"||\"&B863),Worktags!AR:AV,5,FALSE),\"\")","v":"All"}]
["6400_SC6402 General and Administrative/Allocated Indirect Costs",{"$f":"Worktags!AS410","v":"6400"},{"$f":"IF(Worktags!AQ410<>Worktags!AS410,Worktags!AQ410,\"\")","v":"SC6402"},{"$f":"IFERROR(VLOOKUP(B864,Worktags!AL:AO,2,FALSE),\"\")","v":"General and Administrative"},{"$f":"IFERROR(VLOOKUP(C864,Worktags!O:T,2,FALSE),\"\")","v":"Allocated Indirect Costs"},{"$f":"IFERROR(VLOOKUP(IF(C864=\"\",B864&\"||\"&B864,C864&\"||\"&B864),Worktags!AR:AV,5,FALSE),\"\")","v":"All"}]
["6400_SC6403 General and Administrative/Animal Services",{"$f":"Worktags!AS412","v":"6400"},{"$f":"IF(Worktags!AQ412<>Worktags!AS412,Worktags!AQ412,\"\")","v":"SC6403"},{"$f":"IFERROR(VLOOKUP(B865,Worktags!AL:AO,2,FALSE),\"\")","v":"General and Administrative"},{"$f":"IFERROR(VLOOKUP(C865,Worktags!O:T,2,FALSE),\"\")","v":"Animal Services"},{"$f":"IFERROR(VLOOKUP(IF(C865=\"\",B865&\"||\"&B865,C865&\"||\"&B865),Worktags!AR:AV,5,FALSE),\"\")","v":"All"}]
["6400_SC6404 General and Administrative/Architectural or Engineering Services",{"$f":"Worktags!AS416","v":"6400"},{"$f":"IF(Worktags!AQ416<>Worktags!AS416,Worktags!AQ416,\"\")","v":"SC6404"},{"$f":"IFERROR(VLOOKUP(B866,Worktags!AL:AO,2,FALSE),\"\")","v":"General and Administrative"},{"$f":"IFERROR(VLOOKUP(C866,Worktags!O:T,2,FALSE),\"\")","v":"Architectural or Engineering Services"},{"$f":"IFERROR(VLOOKUP(IF(C866=\"\",B866&\"||\"&B866,C866&\"||\"&B866),Worktags!AR:AV,5,FALSE),\"\")","v":"All"}]
["6400_SC6405 General and Administrative/Art and Design Services",{"$f":"Worktags!AS418","v":"6400"},{"$f":"IF(Worktags!AQ418<>Worktags!AS418,Worktags!AQ418,\"\")","v":"SC6405"},{"$f":"IFERROR(VLOOKUP(B867,Worktags!AL:AO,2,FALSE),\"\")","v":"General and Administrative"},{"$f":"IFERROR(VLOOKUP(C867,Worktags!O:T,2,FALSE),\"\")","v":"Art and Design Services"},{"$f":"IFERROR(VLOOKUP(IF(C867=\"\",B867&\"||\"&B867,C867&\"||\"&B867),Worktags!AR:AV,5,FALSE),\"\")","v":"All"}]
["6400_SC6406 General and Administrative/Athletic Events",{"$f":"Worktags!AS420","v":"6400"},{"$f":"IF(Worktags!AQ420<>Worktags!AS420,Worktags!AQ420,\"\")","v":"SC6406"},{"$f":"IFERROR(VLOOKUP(B868,Worktags!AL:AO,2,FALSE),\"\")","v":"General and Administrative"},{"$f":"IFERROR(VLOOKUP(C868,Worktags!O:T,2,FALSE),\"\")","v":"Athletic Events"},{"$f":"IFERROR(VLOOKUP(IF(C868=\"\",B868&\"||\"&B868,C868&\"||\"&B868),Worktags!AR:AV,5,FALSE),\"\")","v":"All"}]
["6400_SC6407 General and Administrative/Audio Visual Media Duplication",{"$f":"Worktags!AS422","v":"6400"},{"$f":"IF(Worktags!AQ422<>Worktags!AS422,Worktags!AQ422,\"\")","v":"SC6407"},{"$f":"IFERROR(VLOOKUP(B869,Worktags!AL:AO,2,FALSE),\"\")","v":"General and Administrative"},{"$f":"IFERROR(VLOOKUP(C869,Worktags!O:T,2,FALSE),\"\")","v":"Audio Visual Media Duplication"},{"$f":"IFERROR(VLOOKUP(IF(C869=\"\",B869&\"||\"&B869,C869&\"||\"&B869),Worktags!AR:AV,5,FALSE),\"\")","v":"All"}]
["6400_SC6408 General and Administrative/Bank, Trust, Collection Fees",{"$f":"Worktags!AS423","v":"6400"},{"$f":"IF(Worktags!AQ423<>Worktags!AS423,Worktags!AQ423,\"\")","v":"SC6408"},{"$f":"IFERROR(VLOOKUP(B870,Worktags!AL:AO,2,FALSE),\"\")","v":"General and Administrative"},{"$f":"IFERROR(VLOOKUP(C870,Worktags!O:T,2,FALSE),\"\")","v":"Bank, Trust, Collection Fees"},{"$f":"IFERROR(VLOOKUP(IF(C870=\"\",B870&\"||\"&B870,C870&\"||\"&B870),Worktags!AR:AV,5,FALSE),\"\")","v":"All"}]
["6400_SC6409 General and Administrative/Bad Debt Expense",{"$f":"Worktags!AS424","v":"6400"},{"$f":"IF(Worktags!AQ424<>Worktags!AS424,Worktags!AQ424,\"\")","v":"SC6409"},{"$f":"IFERROR(VLOOKUP(B871,Worktags!AL:AO,2,FALSE),\"\")","v":"General and Administrative"},{"$f":"IFERROR(VLOOKUP(C871,Worktags!O:T,2,FALSE),\"\")","v":"Bad Debt Expense"},{"$f":"IFERROR(VLOOKUP(IF(C871=\"\",B871&\"||\"&B871,C871&\"||\"&B871),Worktags!AR:AV,5,FALSE),\"\")","v":"All"}]
["6400_SC6410 General and Administrative/Broadcast Services",{"$f":"Worktags!AS426","v":"6400"},{"$f":"IF(Worktags!AQ426<>Worktags!AS426,Worktags!AQ426,\"\")","v":"SC6410"},{"$f":"IFERROR(VLOOKUP(B872,Worktags!AL:AO,2,FALSE),\"\")","v":"General and Administrative"},{"$f":"IFERROR(VLOOKUP(C872,Worktags!O:T,2,FALSE),\"\")","v":"Broadcast Services"},{"$f":"IFERROR(VLOOKUP(IF(C872=\"\",B872&\"||\"&B872,C872&\"||\"&B872),Worktags!AR:AV,5,FALSE),\"\")","v":"All"}]
["6400_SC6411 General and Administrative/Cash Prizes and Contest Payments",{"$f":"Worktags!AS427","v":"6400"},{"$f":"IF(Worktags!AQ427<>Worktags!AS427,Worktags!AQ427,\"\")","v":"SC6411"},{"$f":"IFERROR(VLOOKUP(B873,Worktags!AL:AO,2,FALSE),\"\")","v":"General and Administrative"},{"$f":"IFERROR(VLOOKUP(C873,Worktags!O:T,2,FALSE),\"\")","v":"Cash Prizes and Contest Payments"},{"$f":"IFERROR(VLOOKUP(IF(C873=\"\",B873&\"||\"&B873,C873&\"||\"&B873),Worktags!AR:AV,5,FALSE),\"\")","v":"All"}]
["6400_SC6412 General and Administrative/Cell Phones and Plans",{"$f":"Worktags!AS429","v":"6400"},{"$f":"IF(Worktags!AQ429<>Worktags!AS429,Worktags!AQ429,\"\")","v":"SC6412"},{"$f":"IFERROR(VLOOKUP(B874,Worktags!AL:AO,2,FALSE),\"\")","v":"General and Administrative"},{"$f":"IFERROR(VLOOKUP(C874,Worktags!O:T,2,FALSE),\"\")","v":"Cell Phones and Plans"},{"$f":"IFERROR(VLOOKUP(IF(C874=\"\",B874&\"||\"&B874,C874&\"||\"&B874),Worktags!AR:AV,5,FALSE),\"\")","v":"All"}]
["6400_SC6413 General and Administrative/Competition Officiating",{"$f":"Worktags!AS431","v":"6400"},{"$f":"IF(Worktags!AQ431<>Worktags!AS431,Worktags!AQ431,\"\")","v":"SC6413"},{"$f":"IFERROR(VLOOKUP(B875,Worktags!AL:AO,2,FALSE),\"\")","v":"General and Administrative"},{"$f":"IFERROR(VLOOKUP(C875,Worktags!O:T,2,FALSE),\"\")","v":"Competition Officiating"},{"$f":"IFERROR(VLOOKUP(IF(C875=\"\",B875&\"||\"&B875,C875&\"||\"&B875),Worktags!AR:AV,5,FALSE),\"\")","v":"All"}]
["6400_SC6414 General and Administrative/Computer Services",{"$f":"Worktags!AS435","v":"6400"},{"$f":"IF(Worktags!AQ435<>Worktags!AS435,Worktags!AQ435,\"\")","v":"SC6414"},{"$f":"IFERROR(VLOOKUP(B876,Worktags!AL:AO,2,FALSE),\"\")","v":"General and Administrative"},{"$f":"IFERROR(VLOOKUP(C876,Worktags!O:T,2,FALSE),\"\")","v":"Computer Services"},{"$f":"IFERROR(VLOOKUP(IF(C876=\"\",B876&\"||\"&B876,C876&\"||\"&B876),Worktags!AR:AV,5,FALSE),\"\")","v":"All"}]
["6400_SC6415 General and Administrative/Conference and Events Hosting",{"$f":"Worktags!AS437","v":"6400"},{"$f":"IF(Worktags!AQ437<>Worktags!AS437,Worktags!AQ437,\"\")","v":"SC6415"},{"$f":"IFERROR(VLOOKUP(B877,Worktags!AL:AO,2,FALSE),\"\")","v":"General and Administrative"},{"$f":"IFERROR(VLOOKUP(C877,Worktags!O:T,2,FALSE),\"\")","v":"Conference and Events Hosting"},{"$f":"IFERROR(VLOOKUP(IF(C877=\"\",B877&\"||\"&B877,C877&\"||\"&B877),Worktags!AR:AV,5,FALSE),\"\")","v":"All"}]
["6400_SC6416 General and Administrative/Conference Registration",{"$f":"Worktags!AS439","v":"6400"},{"$f":"IF(Worktags!AQ439<>Worktags!AS439,Worktags!AQ439,\"\")","v":"SC6416"},{"$f":"IFERROR(VLOOKUP(B878,Worktags!AL:AO,2,FALSE),\"\")","v":"General and Administrative"},{"$f":"IFERROR(VLOOKUP(C878,Worktags!O:T,2,FALSE),\"\")","v":"Conference Registration"},{"$f":"IFERROR(VLOOKUP(IF(C878=\"\",B878&\"||\"&B878,C878&\"||\"&B878),Worktags!AR:AV,5,FALSE),\"\")","v":"All"}]
["6400_SC6417 General and Administrative/Consulting - Financial and Research",{"$f":"Worktags!AS441","v":"6400"},{"$f":"IF(Worktags!AQ441<>Worktags!AS441,Worktags!AQ441,\"\")","v":"SC6417"},{"$f":"IFERROR(VLOOKUP(B879,Worktags!AL:AO,2,FALSE),\"\")","v":"General and Administrative"},{"$f":"IFERROR(VLOOKUP(C879,Worktags!O:T,2,FALSE),\"\")","v":"Consulting - Financial and Research"},{"$f":"IFERROR(VLOOKUP(IF(C879=\"\",B879&\"||\"&B879,C879&\"||\"&B879),Worktags!AR:AV,5,FALSE),\"\")","v":"All"}]
["6400_SC6418 General and Administrative/Credit Card Merchant Fees",{"$f":"Worktags!AS442","v":"6400"},{"$f":"IF(Worktags!AQ442<>Worktags!AS442,Worktags!AQ442,\"\")","v":"SC6418"},{"$f":"IFERROR(VLOOKUP(B880,Worktags!AL:AO,2,FALSE),\"\")","v":"General and Administrative"},{"$f":"IFERROR(VLOOKUP(C880,Worktags!O:T,2,FALSE),\"\")","v":"Credit Card Merchant Fees"},{"$f":"IFERROR(VLOOKUP(IF(C880=\"\",B880&\"||\"&B880,C880&\"||\"&B880),Worktags!AR:AV,5,FALSE),\"\")","v":"All"}]
["6400_SC6419 General and Administrative/Data Connectivity Services",{"$f":"Worktags!AS444","v":"6400"},{"$f":"IF(Worktags!AQ444<>Worktags!AS444,Worktags!AQ444,\"\")","v":"SC6419"},{"$f":"IFERROR(VLOOKUP(B881,Worktags!AL:AO,2,FALSE),\"\")","v":"General and Administrative"},{"$f":"IFERROR(VLOOKUP(C881,Worktags!O:T,2,FALSE),\"\")","v":"Data Connectivity Services"},{"$f":"IFERROR(VLOOKUP(IF(C881=\"\",B881&\"||\"&B881,C881&\"||\"&B881),Worktags!AR:AV,5,FALSE),\"\")","v":"All"}]
["6400_SC6420 General and Administrative/Educational Facilities - Rent/Lease <=1yr",{"$f":"Worktags!AS446","v":"6400"},{"$f":"IF(Worktags!AQ446<>Worktags!AS446,Worktags!AQ446,\"\")","v":"SC6420"},{"$f":"IFERROR(VLOOKUP(B882,Worktags!AL:AO,2,FALSE),\"\")","v":"General and Administrative"},{"$f":"IFERROR(VLOOKUP(C882,Worktags!O:T,2,FALSE),\"\")","v":"Educational Facilities - Rent/Lease <=1yr"},{"$f":"IFERROR(VLOOKUP(IF(C882=\"\",B882&\"||\"&B882,C882&\"||\"&B882),Worktags!AR:AV,5,FALSE),\"\")","v":"All"}]
["6400_SC6421 General and Administrative/Employee Development Services",{"$f":"Worktags!AS448","v":"6400"},{"$f":"IF(Worktags!AQ448<>Worktags!AS448,Worktags!AQ448,\"\")","v":"SC6421"},{"$f":"IFERROR(VLOOKUP(B883,Worktags!AL:AO,2,FALSE),\"\")","v":"General and Administrative"},{"$f":"IFERROR(VLOOKUP(C883,Worktags!O:T,2,FALSE),\"\")","v":"Employee Development Services"},{"$f":"IFERROR(VLOOKUP(IF(C883=\"\",B883&\"||\"&B883,C883&\"||\"&B883),Worktags!AR:AV,5,FALSE),\"\")","v":"All"}]
["6400_SC6422 General and Administrative/Food Services and Caterers",{"$f":"Worktags!AS450","v":"6400"},{"$f":"IF(Worktags!AQ450<>Worktags!AS450,Worktags!AQ450,\"\")","v":"SC6422"},{"$f":"IFERROR(VLOOKUP(B884,Worktags!AL:AO,2,FALSE),\"\")","v":"General and Administrative"},{"$f":"IFERROR(VLOOKUP(C884,Worktags!O:T,2,FALSE),\"\")","v":"Food Services and Caterers"},{"$f":"IFERROR(VLOOKUP(IF(C884=\"\",B884&\"||\"&B884,C884&\"||\"&B884),Worktags!AR:AV,5,FALSE),\"\")","v":"All"}]
["6400_SC6423 General and Administrative/Foreign Exchange Payment Gain/Loss",{"$f":"Worktags!AS451","v":"6400"},{"$f":"IF(Worktags!AQ451<>Worktags!AS451,Worktags!AQ451,\"\")","v":"SC6423"},{"$f":"IFERROR(VLOOKUP(B885,Worktags!AL:AO,2,FALSE),\"\")","v":"General and Administrative"},{"$f":"IFERROR(VLOOKUP(C885,Worktags!O:T,2,FALSE),\"\")","v":"Foreign Exchange Payment Gain/Loss"},{"$f":"IFERROR(VLOOKUP(IF(C885=\"\",B885&\"||\"&B885,C885&\"||\"&B885),Worktags!AR:AV,5,FALSE),\"\")","v":"All"}]
["6400_SC6424 General and Administrative/Franchise Fees",{"$f":"Worktags!AS453","v":"6400"},{"$f":"IF(Worktags!AQ453<>Worktags!AS453,Worktags!AQ453,\"\")","v":"SC6424"},{"$f":"IFERROR(VLOOKUP(B886,Worktags!AL:AO,2,FALSE),\"\")","v":"General and Administrative"},{"$f":"IFERROR(VLOOKUP(C886,Worktags!O:T,2,FALSE),\"\")","v":"Franchise Fees"},{"$f":"IFERROR(VLOOKUP(IF(C886=\"\",B886&\"||\"&B886,C886&\"||\"&B886),Worktags!AR:AV,5,FALSE),\"\")","v":"All"}]
["6400_SC6425 General and Administrative/Government Fees",{"$f":"Worktags!AS455","v":"6400"},{"$f":"IF(Worktags!AQ455<>Worktags!AS455,Worktags!AQ455,\"\")","v":"SC6425"},{"$f":"IFERROR(VLOOKUP(B887,Worktags!AL:AO,2,FALSE),\"\")","v":"General and Administrative"},{"$f":"IFERROR(VLOOKUP(C887,Worktags!O:T,2,FALSE),\"\")","v":"Government Fees"},{"$f":"IFERROR(VLOOKUP(IF(C887=\"\",B887&\"||\"&B887,C887&\"||\"&B887),Worktags!AR:AV,5,FALSE),\"\")","v":"All"}]
["6400_SC6426 General and Administrative/Grants Subawards",{"$f":"Worktags!AS456","v":"6400"},{"$f":"IF(Worktags!AQ456<>Worktags!AS456,Worktags!AQ456,\"\")","v":"SC6426"},{"$f":"IFERROR(VLOOKUP(B888,Worktags!AL:AO,2,FALSE),\"\")","v":"General and Administrative"},{"$f":"IFERROR(VLOOKUP(C888,Worktags!O:T,2,FALSE),\"\")","v":"Grants Subawards"},{"$f":"IFERROR(VLOOKUP(IF(C888=\"\",B888&\"||\"&B888,C888&\"||\"&B888),Worktags!AR:AV,5,FALSE),\"\")","v":"All"}]
["6400_SC6427 General and Administrative/Hosted Entertainment",{"$f":"Worktags!AS458","v":"6400"},{"$f":"IF(Worktags!AQ458<>Worktags!AS458,Worktags!AQ458,\"\")","v":"SC6427"},{"$f":"IFERROR(VLOOKUP(B889,Worktags!AL:AO,2,FALSE),\"\")","v":"General and Administrative"},{"$f":"IFERROR(VLOOKUP(C889,Worktags!O:T,2,FALSE),\"\")","v":"Hosted Entertainment"},{"$f":"IFERROR(VLOOKUP(IF(C889=\"\",B889&\"||\"&B889,C889&\"||\"&B889),Worktags!AR:AV,5,FALSE),\"\")","v":"All"}]
["6400_SC6428 General and Administrative/Hosted Meals",{"$f":"Worktags!AS460","v":"6400"},{"$f":"IF(Worktags!AQ460<>Worktags!AS460,Worktags!AQ460,\"\")","v":"SC6428"},{"$f":"IFERROR(VLOOKUP(B890,Worktags!AL:AO,2,FALSE),\"\")","v":"General and Administrative"},{"$f":"IFERROR(VLOOKUP(C890,Worktags!O:T,2,FALSE),\"\")","v":"Hosted Meals"},{"$f":"IFERROR(VLOOKUP(IF(C890=\"\",B890&\"||\"&B890,C890&\"||\"&B890),Worktags!AR:AV,5,FALSE),\"\")","v":"All"}]
["6400_SC6429 General and Administrative/Insurance",{"$f":"Worktags!AS462","v":"6400"},{"$f":"IF(Worktags!AQ462<>Worktags!AS462,Worktags!AQ462,\"\")","v":"SC6429"},{"$f":"IFERROR(VLOOKUP(B891,Worktags!AL:AO,2,FALSE),\"\")","v":"General and Administrative"},{"$f":"IFERROR(VLOOKUP(C891,Worktags!O:T,2,FALSE),\"\")","v":"Insurance"},{"$f":"IFERROR(VLOOKUP(IF(C891=\"\",B891&\"||\"&B891,C891&\"||\"&B891),Worktags!AR:AV,5,FALSE),\"\")","v":"All"}]
["6400_SC6430 General and Administrative/Janitorial Services",{"$f":"Worktags!AS464","v":"6400"},{"$f":"IF(Worktags!AQ464<>Worktags!AS464,Worktags!AQ464,\"\")","v":"SC6430"},{"$f":"IFERROR(VLOOKUP(B892,Worktags!AL:AO,2,FALSE),\"\")","v":"General and Administrative"},{"$f":"IFERROR(VLOOKUP(C892,Worktags!O:T,2,FALSE),\"\")","v":"Janitorial Services"},{"$f":"IFERROR(VLOOKUP(IF(C892=\"\",B892&\"||\"&B892,C892&\"||\"&B892),Worktags!AR:AV,5,FALSE),\"\")","v":"All"}]
["6400_SC6431 General and Administrative/Laundry Services",{"$f":"Worktags!AS466","v":"6400"},{"$f":"IF(Worktags!AQ466<>Worktags!AS466,Worktags!AQ466,\"\")","v":"SC6431"},{"$f":"IFERROR(VLOOKUP(B893,Worktags!AL:AO,2,FALSE),\"\")","v":"General and Administrative"},{"$f":"IFERROR(VLOOKUP(C893,Worktags!O:T,2,FALSE),\"\")","v":"Laundry Services"},{"$f":"IFERROR(VLOOKUP(IF(C893=\"\",B893&\"||\"&B893,C893&\"||\"&B893),Worktags!AR:AV,5,FALSE),\"\")","v":"All"}]
["6400_SC6432 General and Administrative/Legal Services",{"$f":"Worktags!AS468","v":"6400"},{"$f":"IF(Worktags!AQ468<>Worktags!AS468,Worktags!AQ468,\"\")","v":"SC6432"},{"$f":"IFERROR(VLOOKUP(B894,Worktags!AL:AO,2,FALSE),\"\")","v":"General and Administrative"},{"$f":"IFERROR(VLOOKUP(C894,Worktags!O:T,2,FALSE),\"\")","v":"Legal Services"},{"$f":"IFERROR(VLOOKUP(IF(C894=\"\",B894&\"||\"&B894,C894&\"||\"&B894),Worktags!AR:AV,5,FALSE),\"\")","v":"All"}]
["6400_SC6433 General and Administrative/Medical Services",{"$f":"Worktags!AS470","v":"6400"},{"$f":"IF(Worktags!AQ470<>Worktags!AS470,Worktags!AQ470,\"\")","v":"SC6433"},{"$f":"IFERROR(VLOOKUP(B895,Worktags!AL:AO,2,FALSE),\"\")","v":"General and Administrative"},{"$f":"IFERROR(VLOOKUP(C895,Worktags!O:T,2,FALSE),\"\")","v":"Medical Services"},{"$f":"IFERROR(VLOOKUP(IF(C895=\"\",B895&\"||\"&B895,C895&\"||\"&B895),Worktags!AR:AV,5,FALSE),\"\")","v":"All"}]
["6400_SC6434 General and Administrative/Membership Dues",{"$f":"Worktags!AS472","v":"6400"},{"$f":"IF(Worktags!AQ472<>Worktags!AS472,Worktags!AQ472,\"\")","v":"SC6434"},{"$f":"IFERROR(VLOOKUP(B896,Worktags!AL:AO,2,FALSE),\"\")","v":"General and Administrative"},{"$f":"IFERROR(VLOOKUP(C896,Worktags!O:T,2,FALSE),\"\")","v":"Membership Dues"},{"$f":"IFERROR(VLOOKUP(IF(C896=\"\",B896&\"||\"&B896,C896&\"||\"&B896),Worktags!AR:AV,5,FALSE),\"\")","v":"All"}]
[{"$f":"IF(B897<>\"\",IF(C897<>\"\",B897&\"_\"&C897&\" \"&D897&\"/\"&E897,B897&\" \"&D897),\"\")","v":"6400_SC6435 General and Administrative/Misc Independent Contractors"},{"$f":"Worktags!AS476","v":"6400"},{"$f":"IF(Worktags!AQ476<>Worktags!AS476,Worktags!AQ476,\"\")","v":"SC6435"},{"$f":"IFERROR(VLOOKUP(B897,Worktags!AL:AO,2,FALSE),\"\")","v":"General and Administrative"},{"$f":"IFERROR(VLOOKUP(C897,Worktags!O:T,2,FALSE),\"\")","v":"Misc Independent Contractors"},{"$f":"IFERROR(VLOOKUP(IF(C897=\"\",B897&\"||\"&B897,C897&\"||\"&B897),Worktags!AR:AV,5,FALSE),\"\")","v":"All"}]
["6400_SC6436 General and Administrative/Non-BYU Tuition Payment",{"$f":"Worktags!AS477","v":"6400"},{"$f":"IF(Worktags!AQ477<>Worktags!AS477,Worktags!AQ477,\"\")","v":"SC6436"},{"$f":"IFERROR(VLOOKUP(B898,Worktags!AL:AO,2,FALSE),\"\")","v":"General and Administrative"},{"$f":"IFERROR(VLOOKUP(C898,Worktags!O:T,2,FALSE),\"\")","v":"Non-BYU Tuition Payment"},{"$f":"IFERROR(VLOOKUP(IF(C898=\"\",B898&\"||\"&B898,C898&\"||\"&B898),Worktags!AR:AV,5,FALSE),\"\")","v":"All"}]
["6400_SC6437 General and Administrative/Out of State Worker Contracts",{"$f":"Worktags!AS478","v":"6400"},{"$f":"IF(Worktags!AQ478<>Worktags!AS478,Worktags!AQ478,\"\")","v":"SC6437"},{"$f":"IFERROR(VLOOKUP(B899,Worktags!AL:AO,2,FALSE),\"\")","v":"General and Administrative"},{"$f":"IFERROR(VLOOKUP(C899,Worktags!O:T,2,FALSE),\"\")","v":"Out of State Worker Contracts"},{"$f":"IFERROR(VLOOKUP(IF(C899=\"\",B899&\"||\"&B899,C899&\"||\"&B899),Worktags!AR:AV,5,FALSE),\"\")","v":"All"}]
["6400_SC6438 General and Administrative/Performers/Presenters",{"$f":"Worktags!AS480","v":"6400"},{"$f":"IF(Worktags!AQ480<>Worktags!AS480,Worktags!AQ480,\"\")","v":"SC6438"},{"$f":"IFERROR(VLOOKUP(B900,Worktags!AL:AO,2,FALSE),\"\")","v":"General and Administrative"},{"$f":"IFERROR(VLOOKUP(C900,Worktags!O:T,2,FALSE),\"\")","v":"Performers/Presenters"},{"$f":"IFERROR(VLOOKUP(IF(C900=\"\",B900&\"||\"&B900,C900&\"||\"&B900),Worktags!AR:AV,5,FALSE),\"\")","v":"All"}]
["6400_SC6439 General and Administrative/Pest Control Services",{"$f":"Worktags!AS482","v":"6400"},{"$f":"IF(Worktags!AQ482<>Worktags!AS482,Worktags!AQ482,\"\")","v":"SC6439"},{"$f":"IFERROR(VLOOKUP(B901,Worktags!AL:AO,2,FALSE),\"\")","v":"General and Administrative"},{"$f":"IFERROR(VLOOKUP(C901,Worktags!O:T,2,FALSE),\"\")","v":"Pest Control Services"},{"$f":"IFERROR(VLOOKUP(IF(C901=\"\",B901&\"||\"&B901,C901&\"||\"&B901),Worktags!AR:AV,5,FALSE),\"\")","v":"All"}]
["6400_SC6440 General and Administrative/Portable Structures-Rent/Lease <=1yr",{"$f":"Worktags!AS484","v":"6400"},{"$f":"IF(Worktags!AQ484<>Worktags!AS484,Worktags!AQ484,\"\")","v":"SC6440"},{"$f":"IFERROR(VLOOKUP(B902,Worktags!AL:AO,2,FALSE),\"\")","v":"General and Administrative"},{"$f":"IFERROR(VLOOKUP(C902,Worktags!O:T,2,FALSE),\"\")","v":"Portable Structures-Rent/Lease <=1yr"},{"$f":"IFERROR(VLOOKUP(IF(C902=\"\",B902&\"||\"&B902,C902&\"||\"&B902),Worktags!AR:AV,5,FALSE),\"\")","v":"All"}]
["6400_SC6441 General and Administrative/Postage, Shipping and Freight",{"$f":"Worktags!AS486","v":"6400"},{"$f":"IF(Worktags!AQ486<>Worktags!AS486,Worktags!AQ486,\"\")","v":"SC6441"},{"$f":"IFERROR(VLOOKUP(B903,Worktags!AL:AO,2,FALSE),\"\")","v":"General and Administrative"},{"$f":"IFERROR(VLOOKUP(C903,Worktags!O:T,2,FALSE),\"\")","v":"Postage, Shipping and Freight"},{"$f":"IFERROR(VLOOKUP(IF(C903=\"\",B903&\"||\"&B903,C903&\"||\"&B903),Worktags!AR:AV,5,FALSE),\"\")","v":"All"}]
["6400_SC6442 General and Administrative/Printing Services",{"$f":"Worktags!AS488","v":"6400"},{"$f":"IF(Worktags!AQ488<>Worktags!AS488,Worktags!AQ488,\"\")","v":"SC6442"},{"$f":"IFERROR(VLOOKUP(B904,Worktags!AL:AO,2,FALSE),\"\")","v":"General and Administrative"},{"$f":"IFERROR(VLOOKUP(C904,Worktags!O:T,2,FALSE),\"\")","v":"Printing Services"},{"$f":"IFERROR(VLOOKUP(IF(C904=\"\",B904&\"||\"&B904,C904&\"||\"&B904),Worktags!AR:AV,5,FALSE),\"\")","v":"All"}]
["6400_SC6443 General and Administrative/Production Services",{"$f":"Worktags!AS490","v":"6400"},{"$f":"IF(Worktags!AQ490<>Worktags!AS490,Worktags!AQ490,\"\")","v":"SC6443"},{"$f":"IFERROR(VLOOKUP(B905,Worktags!AL:AO,2,FALSE),\"\")","v":"General and Administrative"},{"$f":"IFERROR(VLOOKUP(C905,Worktags!O:T,2,FALSE),\"\")","v":"Production Services"},{"$f":"IFERROR(VLOOKUP(IF(C905=\"\",B905&\"||\"&B905,C905&\"||\"&B905),Worktags!AR:AV,5,FALSE),\"\")","v":"All"}]
["6400_SC6444 General and Administrative/Promotional and Branded Items",{"$f":"Worktags!AS492","v":"6400"},{"$f":"IF(Worktags!AQ492<>Worktags!AS492,Worktags!AQ492,\"\")","v":"SC6444"},{"$f":"IFERROR(VLOOKUP(B906,Worktags!AL:AO,2,FALSE),\"\")","v":"General and Administrative"},{"$f":"IFERROR(VLOOKUP(C906,Worktags!O:T,2,FALSE),\"\")","v":"Promotional and Branded Items"},{"$f":"IFERROR(VLOOKUP(IF(C906=\"\",B906&\"||\"&B906,C906&\"||\"&B906),Worktags!AR:AV,5,FALSE),\"\")","v":"All"}]
["6400_SC6445 General and Administrative/Public Safety Services",{"$f":"Worktags!AS494","v":"6400"},{"$f":"IF(Worktags!AQ494<>Worktags!AS494,Worktags!AQ494,\"\")","v":"SC6445"},{"$f":"IFERROR(VLOOKUP(B907,Worktags!AL:AO,2,FALSE),\"\")","v":"General and Administrative"},{"$f":"IFERROR(VLOOKUP(C907,Worktags!O:T,2,FALSE),\"\")","v":"Public Safety Services"},{"$f":"IFERROR(VLOOKUP(IF(C907=\"\",B907&\"||\"&B907,C907&\"||\"&B907),Worktags!AR:AV,5,FALSE),\"\")","v":"All"}]
["6400_SC6446 General and Administrative/Publication Services",{"$f":"Worktags!AS496","v":"6400"},{"$f":"IF(Worktags!AQ496<>Worktags!AS496,Worktags!AQ496,\"\")","v":"SC6446"},{"$f":"IFERROR(VLOOKUP(B908,Worktags!AL:AO,2,FALSE),\"\")","v":"General and Administrative"},{"$f":"IFERROR(VLOOKUP(C908,Worktags!O:T,2,FALSE),\"\")","v":"Publication Services"},{"$f":"IFERROR(VLOOKUP(IF(C908=\"\",B908&\"||\"&B908,C908&\"||\"&B908),Worktags!AR:AV,5,FALSE),\"\")","v":"All"}]
["6400_SC6447 General and Administrative/Real Estate - Rent/Lease <=1yr",{"$f":"Worktags!AS498","v":"6400"},{"$f":"IF(Worktags!AQ498<>Worktags!AS498,Worktags!AQ498,\"\")","v":"SC6447"},{"$f":"IFERROR(VLOOKUP(B909,Worktags!AL:AO,2,FALSE),\"\")","v":"General and Administrative"},{"$f":"IFERROR(VLOOKUP(C909,Worktags!O:T,2,FALSE),\"\")","v":"Real Estate - Rent/Lease <=1yr"},{"$f":"IFERROR(VLOOKUP(IF(C909=\"\",B909&\"||\"&B909,C909&\"||\"&B909),Worktags!AR:AV,5,FALSE),\"\")","v":"All"}]
["6400_SC6448 General and Administrative/Real Estate - Rent/Lease >1yr",{"$f":"Worktags!AS500","v":"6400"},{"$f":"IF(Worktags!AQ500<>Worktags!AS500,Worktags!AQ500,\"\")","v":"SC6448"},{"$f":"IFERROR(VLOOKUP(B910,Worktags!AL:AO,2,FALSE),\"\")","v":"General and Administrative"},{"$f":"IFERROR(VLOOKUP(C910,Worktags!O:T,2,FALSE),\"\")","v":"Real Estate - Rent/Lease >1yr"},{"$f":"IFERROR(VLOOKUP(IF(C910=\"\",B910&\"||\"&B910,C910&\"||\"&B910),Worktags!AR:AV,5,FALSE),\"\")","v":"All"}]
["6400_SC6449 General and Administrative/Rent/Lease < = 1 year",{"$f":"Worktags!AS504","v":"6400"},{"$f":"IF(Worktags!AQ504<>Worktags!AS504,Worktags!AQ504,\"\")","v":"SC6449"},{"$f":"IFERROR(VLOOKUP(B911,Worktags!AL:AO,2,FALSE),\"\")","v":"General and Administrative"},{"$f":"IFERROR(VLOOKUP(C911,Worktags!O:T,2,FALSE),\"\")","v":"Rent/Lease < = 1 year"},{"$f":"IFERROR(VLOOKUP(IF(C911=\"\",B911&\"||\"&B911,C911&\"||\"&B911),Worktags!AR:AV,5,FALSE),\"\")","v":"All"}]
["6400_SC6450 General and Administrative/Rent/Lease >1 Year",{"$f":"Worktags!AS508","v":"6400"},{"$f":"IF(Worktags!AQ508<>Worktags!AS508,Worktags!AQ508,\"\")","v":"SC6450"},{"$f":"IFERROR(VLOOKUP(B912,Worktags!AL:AO,2,FALSE),\"\")","v":"General and Administrative"},{"$f":"IFERROR(VLOOKUP(C912,Worktags!O:T,2,FALSE),\"\")","v":"Rent/Lease >1 Year"},{"$f":"IFERROR(VLOOKUP(IF(C912=\"\",B912&\"||\"&B912,C912&\"||\"&B912),Worktags!AR:AV,5,FALSE),\"\")","v":"All"}]
["6400_SC6451 General and Administrative/Research Subjects",{"$f":"Worktags!AS510","v":"6400"},{"$f":"IF(Worktags!AQ510<>Worktags!AS510,Worktags!AQ510,\"\")","v":"SC6451"},{"$f":"IFERROR(VLOOKUP(B913,Worktags!AL:AO,2,FALSE),\"\")","v":"General and Administrative"},{"$f":"IFERROR(VLOOKUP(C913,Worktags!O:T,2,FALSE),\"\")","v":"Research Subjects"},{"$f":"IFERROR(VLOOKUP(IF(C913=\"\",B913&\"||\"&B913,C913&\"||\"&B913),Worktags!AR:AV,5,FALSE),\"\")","v":"All"}]
["6400_SC6452 General and Administrative/Royalties and Licensing Fees",{"$f":"Worktags!AS512","v":"6400"},{"$f":"IF(Worktags!AQ512<>Worktags!AS512,Worktags!AQ512,\"\")","v":"SC6452"},{"$f":"IFERROR(VLOOKUP(B914,Worktags!AL:AO,2,FALSE),\"\")","v":"General and Administrative"},{"$f":"IFERROR(VLOOKUP(C914,Worktags!O:T,2,FALSE),\"\")","v":"Royalties and Licensing Fees"},{"$f":"IFERROR(VLOOKUP(IF(C914=\"\",B914&\"||\"&B914,C914&\"||\"&B914),Worktags!AR:AV,5,FALSE),\"\")","v":"All"}]
["6400_SC6453 General and Administrative/Scientific Services",{"$f":"Worktags!AS514","v":"6400"},{"$f":"IF(Worktags!AQ514<>Worktags!AS514,Worktags!AQ514,\"\")","v":"SC6453"},{"$f":"IFERROR(VLOOKUP(B915,Worktags!AL:AO,2,FALSE),\"\")","v":"General and Administrative"},{"$f":"IFERROR(VLOOKUP(C915,Worktags!O:T,2,FALSE),\"\")","v":"Scientific Services"},{"$f":"IFERROR(VLOOKUP(IF(C915=\"\",B915&\"||\"&B915,C915&\"||\"&B915),Worktags!AR:AV,5,FALSE),\"\")","v":"All"}]
["6400_SC6454 General and Administrative/Screening Services",{"$f":"Worktags!AS516","v":"6400"},{"$f":"IF(Worktags!AQ516<>Worktags!AS516,Worktags!AQ516,\"\")","v":"SC6454"},{"$f":"IFERROR(VLOOKUP(B916,Worktags!AL:AO,2,FALSE),\"\")","v":"General and Administrative"},{"$f":"IFERROR(VLOOKUP(C916,Worktags!O:T,2,FALSE),\"\")","v":"Screening Services"},{"$f":"IFERROR(VLOOKUP(IF(C916=\"\",B916&\"||\"&B916,C916&\"||\"&B916),Worktags!AR:AV,5,FALSE),\"\")","v":"All"}]
["6400_SC6455 General and Administrative/Services (not otherwise specified)",{"$f":"Worktags!AS520","v":"6400"},{"$f":"IF(Worktags!AQ520<>Worktags!AS520,Worktags!AQ520,\"\")","v":"SC6455"},{"$f":"IFERROR(VLOOKUP(B917,Worktags!AL:AO,2,FALSE),\"\")","v":"General and Administrative"},{"$f":"IFERROR(VLOOKUP(C917,Worktags!O:T,2,FALSE),\"\")","v":"Services (not otherwise specified)"},{"$f":"IFERROR(VLOOKUP(IF(C917=\"\",B917&\"||\"&B917,C917&\"||\"&B917),Worktags!AR:AV,5,FALSE),\"\")","v":"All"}]
["6400_SC6456 General and Administrative/Shared Partner Services",{"$f":"Worktags!AS522","v":"6400"},{"$f":"IF(Worktags!AQ522<>Worktags!AS522,Worktags!AQ522,\"\")","v":"SC6456"},{"$f":"IFERROR(VLOOKUP(B918,Worktags!AL:AO,2,FALSE),\"\")","v":"General and Administrative"},{"$f":"IFERROR(VLOOKUP(C918,Worktags!O:T,2,FALSE),\"\")","v":"Shared Partner Services"},{"$f":"IFERROR(VLOOKUP(IF(C918=\"\",B918&\"||\"&B918,C918&\"||\"&B918),Worktags!AR:AV,5,FALSE),\"\")","v":"All"}]
["6400_SC6457 General and Administrative/Student Teacher Supervision",{"$f":"Worktags!AS524","v":"6400"},{"$f":"IF(Worktags!AQ524<>Worktags!AS524,Worktags!AQ524,\"\")","v":"SC6457"},{"$f":"IFERROR(VLOOKUP(B919,Worktags!AL:AO,2,FALSE),\"\")","v":"General and Administrative"},{"$f":"IFERROR(VLOOKUP(C919,Worktags!O:T,2,FALSE),\"\")","v":"Student Teacher Supervision"},{"$f":"IFERROR(VLOOKUP(IF(C919=\"\",B919&\"||\"&B919,C919&\"||\"&B919),Worktags!AR:AV,5,FALSE),\"\")","v":"All"}]
["6400_SC6458 General and Administrative/Subscriptions",{"$f":"Worktags!AS526","v":"6400"},{"$f":"IF(Worktags!AQ526<>Worktags!AS526,Worktags!AQ526,\"\")","v":"SC6458"},{"$f":"IFERROR(VLOOKUP(B920,Worktags!AL:AO,2,FALSE),\"\")","v":"General and Administrative"},{"$f":"IFERROR(VLOOKUP(C920,Worktags!O:T,2,FALSE),\"\")","v":"Subscriptions"},{"$f":"IFERROR(VLOOKUP(IF(C920=\"\",B920&\"||\"&B920,C920&\"||\"&B920),Worktags!AR:AV,5,FALSE),\"\")","v":"All"}]
["6400_SC6459 General and Administrative/Taxes",{"$f":"Worktags!AS528","v":"6400"},{"$f":"IF(Worktags!AQ528<>Worktags!AS528,Worktags!AQ528,\"\")","v":"SC6459"},{"$f":"IFERROR(VLOOKUP(B921,Worktags!AL:AO,2,FALSE),\"\")","v":"General and Administrative"},{"$f":"IFERROR(VLOOKUP(C921,Worktags!O:T,2,FALSE),\"\")","v":"Taxes"},{"$f":"IFERROR(VLOOKUP(IF(C921=\"\",B921&\"||\"&B921,C921&\"||\"&B921),Worktags!AR:AV,5,FALSE),\"\")","v":"All"}]
["6400_SC6460 General and Administrative/Testing Services",{"$f":"Worktags!AS530","v":"6400"},{"$f":"IF(Worktags!AQ530<>Worktags!AS530,Worktags!AQ530,\"\")","v":"SC6460"},{"$f":"IFERROR(VLOOKUP(B922,Worktags!AL:AO,2,FALSE),\"\")","v":"General and Administrative"},{"$f":"IFERROR(VLOOKUP(C922,Worktags!O:T,2,FALSE),\"\")","v":"Testing Services"},{"$f":"IFERROR(VLOOKUP(IF(C922=\"\",B922&\"||\"&B922,C922&\"||\"&B922),Worktags!AR:AV,5,FALSE),\"\")","v":"All"}]
["6400_SC6461 General and Administrative/TV, Media Subscription Services",{"$f":"Worktags!AS532","v":"6400"},{"$f":"IF(Worktags!AQ532<>Worktags!AS532,Worktags!AQ532,\"\")","v":"SC6461"},{"$f":"IFERROR(VLOOKUP(B923,Worktags!AL:AO,2,FALSE),\"\")","v":"General and Administrative"},{"$f":"IFERROR(VLOOKUP(C923,Worktags!O:T,2,FALSE),\"\")","v":"TV, Media Subscription Services"},{"$f":"IFERROR(VLOOKUP(IF(C923=\"\",B923&\"||\"&B923,C923&\"||\"&B923),Worktags!AR:AV,5,FALSE),\"\")","v":"All"}]
["6400_SC6462 General and Administrative/University Donations",{"$f":"Worktags!AS533","v":"6400"},{"$f":"IF(Worktags!AQ533<>Worktags!AS533,Worktags!AQ533,\"\")","v":"SC6462"},{"$f":"IFERROR(VLOOKUP(B924,Worktags!AL:AO,2,FALSE),\"\")","v":"General and Administrative"},{"$f":"IFERROR(VLOOKUP(C924,Worktags!O:T,2,FALSE),\"\")","v":"University Donations"},{"$f":"IFERROR(VLOOKUP(IF(C924=\"\",B924&\"||\"&B924,C924&\"||\"&B924),Worktags!AR:AV,5,FALSE),\"\")","v":"All"}]
["6400_SC6463 General and Administrative/Waste Disposal Services",{"$f":"Worktags!AS535","v":"6400"},{"$f":"IF(Worktags!AQ535<>Worktags!AS535,Worktags!AQ535,\"\")","v":"SC6463"},{"$f":"IFERROR(VLOOKUP(B925,Worktags!AL:AO,2,FALSE),\"\")","v":"General and Administrative"},{"$f":"IFERROR(VLOOKUP(C925,Worktags!O:T,2,FALSE),\"\")","v":"Waste Disposal Services"},{"$f":"IFERROR(VLOOKUP(IF(C925=\"\",B925&\"||\"&B925,C925&\"||\"&B925),Worktags!AR:AV,5,FALSE),\"\")","v":"All"}]
["6400_SC6464 General and Administrative/Facilities and Administration Expense",{"$f":"Worktags!AS536","v":"6400"},{"$f":"IF(Worktags!AQ536<>Worktags!AS536,Worktags!AQ536,\"\")","v":"SC6464"},{"$f":"IFERROR(VLOOKUP(B926,Worktags!AL:AO,2,FALSE),\"\")","v":"General and Administrative"},{"$f":"IFERROR(VLOOKUP(C926,Worktags!O:T,2,FALSE),\"\")","v":"Facilities and Administration Expense"},{"$f":"IFERROR(VLOOKUP(IF(C926=\"\",B926&\"||\"&B926,C926&\"||\"&B926),Worktags!AR:AV,5,FALSE),\"\")","v":"JE_Research|JE_Override"}]
["6400_SC6465 General and Administrative/Facilities and Administration Recovery",{"$f":"Worktags!AS537","v":"6400"},{"$f":"IF(Worktags!AQ537<>Worktags!AS537,Worktags!AQ537,\"\")","v":"SC6465"},{"$f":"IFERROR(VLOOKUP(B927,Worktags!AL:AO,2,FALSE),\"\")","v":"General and Administrative"},{"$f":"IFERROR(VLOOKUP(C927,Worktags!O:T,2,FALSE),\"\")","v":"Facilities and Administration Recovery"},{"$f":"IFERROR(VLOOKUP(IF(C927=\"\",B927&\"||\"&B927,C927&\"||\"&B927),Worktags!AR:AV,5,FALSE),\"\")","v":"JE_Research|JE_Override"}]
["6400_SC6466 General and Administrative/Income Taxes",{"$f":"Worktags!AS539","v":"6400"},{"$f":"IF(Worktags!AQ539<>Worktags!AS539,Worktags!AQ539,\"\")","v":"SC6466"},{"$f":"IFERROR(VLOOKUP(B928,Worktags!AL:AO,2,FALSE),\"\")","v":"General and Administrative"},{"$f":"IFERROR(VLOOKUP(C928,Worktags!O:T,2,FALSE),\"\")","v":"Income Taxes"},{"$f":"IFERROR(VLOOKUP(IF(C928=\"\",B928&\"||\"&B928,C928&\"||\"&B928),Worktags!AR:AV,5,FALSE),\"\")","v":"All"}]
["6400_SC6467 General and Administrative/Donation to Affiliate",{"$f":"Worktags!AS540","v":"6400"},{"$f":"IF(Worktags!AQ540<>Worktags!AS540,Worktags!AQ540,\"\")","v":"SC6467"},{"$f":"IFERROR(VLOOKUP(B929,Worktags!AL:AO,2,FALSE),\"\")","v":"General and Administrative"},{"$f":"IFERROR(VLOOKUP(C929,Worktags!O:T,2,FALSE),\"\")","v":"Donation to Affiliate"},{"$f":"IFERROR(VLOOKUP(IF(C929=\"\",B929&\"||\"&B929,C929&\"||\"&B929),Worktags!AR:AV,5,FALSE),\"\")","v":"JE_Override"}]
["6400_SC6499 General and Administrative/General and Administrative (reclass)",{"$f":"Worktags!AS544","v":"6400"},{"$f":"IF(Worktags!AQ544<>Worktags!AS544,Worktags!AQ544,\"\")","v":"SC6499"},{"$f":"IFERROR(VLOOKUP(B930,Worktags!AL:AO,2,FALSE),\"\")","v":"General and Administrative"},{"$f":"IFERROR(VLOOKUP(C930,Worktags!O:T,2,FALSE),\"\")","v":"General and Administrative (reclass)"},{"$f":"IFERROR(VLOOKUP(IF(C930=\"\",B930&\"||\"&B930,C930&\"||\"&B930),Worktags!AR:AV,5,FALSE),\"\")","v":"All"}]
["6498 General and Administrative (Contra)",{"$f":"Worktags!AL127","v":"6498"},null,{"$f":"IFERROR(VLOOKUP(B931,Worktags!AL:AO,2,FALSE),\"\")","v":"General and Administrative (Contra)"},null,{"$f":"IFERROR(VLOOKUP(IF(C931=\"\",B931&\"||\"&B931,C931&\"||\"&B931),Worktags!AR:AV,5,FALSE),\"\")","v":""}]
["6600 Interest Expense",{"$f":"Worktags!AL128","v":"6600"},null,{"$f":"IFERROR(VLOOKUP(B932,Worktags!AL:AO,2,FALSE),\"\")","v":"Interest Expense"},null,{"$f":"IFERROR(VLOOKUP(IF(C932=\"\",B932&\"||\"&B932,C932&\"||\"&B932),Worktags!AR:AV,5,FALSE),\"\")","v":""}]
["6600_SC6610 Interest Expense/Interest Expense",{"$f":"Worktags!AS545","v":"6600"},{"$f":"IF(Worktags!AQ545<>Worktags!AS545,Worktags!AQ545,\"\")","v":"SC6610"},{"$f":"IFERROR(VLOOKUP(B933,Worktags!AL:AO,2,FALSE),\"\")","v":"Interest Expense"},{"$f":"IFERROR(VLOOKUP(C933,Worktags!O:T,2,FALSE),\"\")","v":"Interest Expense"},{"$f":"IFERROR(VLOOKUP(IF(C933=\"\",B933&\"||\"&B933,C933&\"||\"&B933),Worktags!AR:AV,5,FALSE),\"\")","v":"All"}]
["6700 Physical Facilities",{"$f":"Worktags!AL129","v":"6700"},null,{"$f":"IFERROR(VLOOKUP(B934,Worktags!AL:AO,2,FALSE),\"\")","v":"Physical Facilities"},null,{"$f":"IFERROR(VLOOKUP(IF(C934=\"\",B934&\"||\"&B934,C934&\"||\"&B934),Worktags!AR:AV,5,FALSE),\"\")","v":""}]
["6700_SC0670 Physical Facilities/Physical Facilities (Budget Only)",{"$f":"Worktags!AS204","v":"6700"},{"$f":"IF(Worktags!AQ204<>Worktags!AS204,Worktags!AQ204,\"\")","v":"SC0670"},{"$f":"IFERROR(VLOOKUP(B935,Worktags!AL:AO,2,FALSE),\"\")","v":"Physical Facilities"},{"$f":"IFERROR(VLOOKUP(C935,Worktags!O:T,2,FALSE),\"\")","v":"Physical Facilities (Budget Only)"},{"$f":"IFERROR(VLOOKUP(IF(C935=\"\",B935&\"||\"&B935,C935&\"||\"&B935),Worktags!AR:AV,5,FALSE),\"\")","v":"JE_Override"}]
["6700_SC6701 Physical Facilities/Building Access Supplies",{"$f":"Worktags!AS551","v":"6700"},{"$f":"IF(Worktags!AQ551<>Worktags!AS551,Worktags!AQ551,\"\")","v":"SC6701"},{"$f":"IFERROR(VLOOKUP(B936,Worktags!AL:AO,2,FALSE),\"\")","v":"Physical Facilities"},{"$f":"IFERROR(VLOOKUP(C936,Worktags!O:T,2,FALSE),\"\")","v":"Building Access Supplies"},{"$f":"IFERROR(VLOOKUP(IF(C936=\"\",B936&\"||\"&B936,C936&\"||\"&B936),Worktags!AR:AV,5,FALSE),\"\")","v":"All"}]
["6700_SC6702 Physical Facilities/Building Construction and Improvements",{"$f":"Worktags!AS558","v":"6700"},{"$f":"IF(Worktags!AQ558<>Worktags!AS558,Worktags!AQ558,\"\")","v":"SC6702"},{"$f":"IFERROR(VLOOKUP(B937,Worktags!AL:AO,2,FALSE),\"\")","v":"Physical Facilities"},{"$f":"IFERROR(VLOOKUP(C937,Worktags!O:T,2,FALSE),\"\")","v":"Building Construction and Improvements"},{"$f":"IFERROR(VLOOKUP(IF(C937=\"\",B937&\"||\"&B937,C937&\"||\"&B937),Worktags!AR:AV,5,FALSE),\"\")","v":"All"}]
["6700_SC6703 Physical Facilities/Building Furnishings",{"$f":"Worktags!AS565","v":"6700"},{"$f":"IF(Worktags!AQ565<>Worktags!AS565,Worktags!AQ565,\"\")","v":"SC6703"},{"$f":"IFERROR(VLOOKUP(B938,Worktags!AL:AO,2,FALSE),\"\")","v":"Physical Facilities"},{"$f":"IFERROR(VLOOKUP(C938,Worktags!O:T,2,FALSE),\"\")","v":"Building Furnishings"},{"$f":"IFERROR(VLOOKUP(IF(C938=\"\",B938&\"||\"&B938,C938&\"||\"&B938),Worktags!AR:AV,5,FALSE),\"\")","v":"All"}]
["6700_SC6704 Physical Facilities/Building Materials - Finishing",{"$f":"Worktags!AS572","v":"6700"},{"$f":"IF(Worktags!AQ572<>Worktags!AS572,Worktags!AQ572,\"\")","v":"SC6704"},{"$f":"IFERROR(VLOOKUP(B939,Worktags!AL:AO,2,FALSE),\"\")","v":"Physical Facilities"},{"$f":"IFERROR(VLOOKUP(C939,Worktags!O:T,2,FALSE),\"\")","v":"Building Materials - Finishing"},{"$f":"IFERROR(VLOOKUP(IF(C939=\"\",B939&\"||\"&B939,C939&\"||\"&B939),Worktags!AR:AV,5,FALSE),\"\")","v":"All"}]
["6700_SC6705 Physical Facilities/Building Materials - Raw",{"$f":"Worktags!AS579","v":"6700"},{"$f":"IF(Worktags!AQ579<>Worktags!AS579,Worktags!AQ579,\"\")","v":"SC6705"},{"$f":"IFERROR(VLOOKUP(B940,Worktags!AL:AO,2,FALSE),\"\")","v":"Physical Facilities"},{"$f":"IFERROR(VLOOKUP(C940,Worktags!O:T,2,FALSE),\"\")","v":"Building Materials - Raw"},{"$f":"IFERROR(VLOOKUP(IF(C940=\"\",B940&\"||\"&B940,C940&\"||\"&B940),Worktags!AR:AV,5,FALSE),\"\")","v":"All"}]
["6700_SC6706 Physical Facilities/Electrical Devices",{"$f":"Worktags!AS586","v":"6700"},{"$f":"IF(Worktags!AQ586<>Worktags!AS586,Worktags!AQ586,\"\")","v":"SC6706"},{"$f":"IFERROR(VLOOKUP(B941,Worktags!AL:AO,2,FALSE),\"\")","v":"Physical Facilities"},{"$f":"IFERROR(VLOOKUP(C941,Worktags!O:T,2,FALSE),\"\")","v":"Electrical Devices"},{"$f":"IFERROR(VLOOKUP(IF(C941=\"\",B941&\"||\"&B941,C941&\"||\"&B941),Worktags!AR:AV,5,FALSE),\"\")","v":"All"}]
["6700_SC6707 Physical Facilities/Electrical Supplies",{"$f":"Worktags!AS592","v":"6700"},{"$f":"IF(Worktags!AQ592<>Worktags!AS592,Worktags!AQ592,\"\")","v":"SC6707"},{"$f":"IFERROR(VLOOKUP(B942,Worktags!AL:AO,2,FALSE),\"\")","v":"Physical Facilities"},{"$f":"IFERROR(VLOOKUP(C942,Worktags!O:T,2,FALSE),\"\")","v":"Electrical Supplies"},{"$f":"IFERROR(VLOOKUP(IF(C942=\"\",B942&\"||\"&B942,C942&\"||\"&B942),Worktags!AR:AV,5,FALSE),\"\")","v":"All"}]
["6700_SC6708 Physical Facilities/Fans/Furnaces",{"$f":"Worktags!AS598","v":"6700"},{"$f":"IF(Worktags!AQ598<>Worktags!AS598,Worktags!AQ598,\"\")","v":"SC6708"},{"$f":"IFERROR(VLOOKUP(B943,Worktags!AL:AO,2,FALSE),\"\")","v":"Physical Facilities"},{"$f":"IFERROR(VLOOKUP(C943,Worktags!O:T,2,FALSE),\"\")","v":"Fans/Furnaces"},{"$f":"IFERROR(VLOOKUP(IF(C943=\"\",B943&\"||\"&B943,C943&\"||\"&B943),Worktags!AR:AV,5,FALSE),\"\")","v":"All"}]
["6700_SC6709 Physical Facilities/Flooring Materials",{"$f":"Worktags!AS605","v":"6700"},{"$f":"IF(Worktags!AQ605<>Worktags!AS605,Worktags!AQ605,\"\")","v":"SC6709"},{"$f":"IFERROR(VLOOKUP(B944,Worktags!AL:AO,2,FALSE),\"\")","v":"Physical Facilities"},{"$f":"IFERROR(VLOOKUP(C944,Worktags!O:T,2,FALSE),\"\")","v":"Flooring Materials"},{"$f":"IFERROR(VLOOKUP(IF(C944=\"\",B944&\"||\"&B944,C944&\"||\"&B944),Worktags!AR:AV,5,FALSE),\"\")","v":"All"}]
["6700_SC6710 Physical Facilities/Furnishing Accessories",{"$f":"Worktags!AS612","v":"6700"},{"$f":"IF(Worktags!AQ612<>Worktags!AS612,Worktags!AQ612,\"\")","v":"SC6710"},{"$f":"IFERROR(VLOOKUP(B945,Worktags!AL:AO,2,FALSE),\"\")","v":"Physical Facilities"},{"$f":"IFERROR(VLOOKUP(C945,Worktags!O:T,2,FALSE),\"\")","v":"Furnishing Accessories"},{"$f":"IFERROR(VLOOKUP(IF(C945=\"\",B945&\"||\"&B945,C945&\"||\"&B945),Worktags!AR:AV,5,FALSE),\"\")","v":"All"}]
["6700_SC6711 Physical Facilities/Grounds and Landscaping Supplies",{"$f":"Worktags!AS619","v":"6700"},{"$f":"IF(Worktags!AQ619<>Worktags!AS619,Worktags!AQ619,\"\")","v":"SC6711"},{"$f":"IFERROR(VLOOKUP(B946,Worktags!AL:AO,2,FALSE),\"\")","v":"Physical Facilities"},{"$f":"IFERROR(VLOOKUP(C946,Worktags!O:T,2,FALSE),\"\")","v":"Grounds and Landscaping Supplies"},{"$f":"IFERROR(VLOOKUP(IF(C946=\"\",B946&\"||\"&B946,C946&\"||\"&B946),Worktags!AR:AV,5,FALSE),\"\")","v":"All"}]
["6700_SC6712 Physical Facilities/Grounds Services",{"$f":"Worktags!AS622","v":"6700"},{"$f":"IF(Worktags!AQ622<>Worktags!AS622,Worktags!AQ622,\"\")","v":"SC6712"},{"$f":"IFERROR(VLOOKUP(B947,Worktags!AL:AO,2,FALSE),\"\")","v":"Physical Facilities"},{"$f":"IFERROR(VLOOKUP(C947,Worktags!O:T,2,FALSE),\"\")","v":"Grounds Services"},{"$f":"IFERROR(VLOOKUP(IF(C947=\"\",B947&\"||\"&B947,C947&\"||\"&B947),Worktags!AR:AV,5,FALSE),\"\")","v":"All"}]
["6700_SC6713 Physical Facilities/Industrial Fixtures",{"$f":"Worktags!AS628","v":"6700"},{"$f":"IF(Worktags!AQ628<>Worktags!AS628,Worktags!AQ628,\"\")","v":"SC6713"},{"$f":"IFERROR(VLOOKUP(B948,Worktags!AL:AO,2,FALSE),\"\")","v":"Physical Facilities"},{"$f":"IFERROR(VLOOKUP(C948,Worktags!O:T,2,FALSE),\"\")","v":"Industrial Fixtures"},{"$f":"IFERROR(VLOOKUP(IF(C948=\"\",B948&\"||\"&B948,C948&\"||\"&B948),Worktags!AR:AV,5,FALSE),\"\")","v":"All"}]
["6700_SC6714 Physical Facilities/Lighting Fixtures and Lamps",{"$f":"Worktags!AS635","v":"6700"},{"$f":"IF(Worktags!AQ635<>Worktags!AS635,Worktags!AQ635,\"\")","v":"SC6714"},{"$f":"IFERROR(VLOOKUP(B949,Worktags!AL:AO,2,FALSE),\"\")","v":"Physical Facilities"},{"$f":"IFERROR(VLOOKUP(C949,Worktags!O:T,2,FALSE),\"\")","v":"Lighting Fixtures and Lamps"},{"$f":"IFERROR(VLOOKUP(IF(C949=\"\",B949&\"||\"&B949,C949&\"||\"&B949),Worktags!AR:AV,5,FALSE),\"\")","v":"All"}]
["6700_SC6715 Physical Facilities/Plumbing Fixtures",{"$f":"Worktags!AS642","v":"6700"},{"$f":"IF(Worktags!AQ642<>Worktags!AS642,Worktags!AQ642,\"\")","v":"SC6715"},{"$f":"IFERROR(VLOOKUP(B950,Worktags!AL:AO,2,FALSE),\"\")","v":"Physical Facilities"},{"$f":"IFERROR(VLOOKUP(C950,Worktags!O:T,2,FALSE),\"\")","v":"Plumbing Fixtures"},{"$f":"IFERROR(VLOOKUP(IF(C950=\"\",B950&\"||\"&B950,C950&\"||\"&B950),Worktags!AR:AV,5,FALSE),\"\")","v":"All"}]
["6700_SC6716 Physical Facilities/Retainage",{"$f":"Worktags!AS646","v":"6700"},{"$f":"IF(Worktags!AQ646<>Worktags!AS646,Worktags!AQ646,\"\")","v":"SC6716"},{"$f":"IFERROR(VLOOKUP(B951,Worktags!AL:AO,2,FALSE),\"\")","v":"Physical Facilities"},{"$f":"IFERROR(VLOOKUP(C951,Worktags!O:T,2,FALSE),\"\")","v":"Retainage"},{"$f":"IFERROR(VLOOKUP(IF(C951=\"\",B951&\"||\"&B951,C951&\"||\"&B951),Worktags!AR:AV,5,FALSE),\"\")","v":"All"}]
["6700_SC6717 Physical Facilities/Retainage Interest",{"$f":"Worktags!AS649","v":"6700"},{"$f":"IF(Worktags!AQ649<>Worktags!AS649,Worktags!AQ649,\"\")","v":"SC6717"},{"$f":"IFERROR(VLOOKUP(B952,Worktags!AL:AO,2,FALSE),\"\")","v":"Physical Facilities"},{"$f":"IFERROR(VLOOKUP(C952,Worktags!O:T,2,FALSE),\"\")","v":"Retainage Interest"},{"$f":"IFERROR(VLOOKUP(IF(C952=\"\",B952&\"||\"&B952,C952&\"||\"&B952),Worktags!AR:AV,5,FALSE),\"\")","v":"All"}]
["6700_SC6718 Physical Facilities/Signage, Electronic",{"$f":"Worktags!AS655","v":"6700"},{"$f":"IF(Worktags!AQ655<>Worktags!AS655,Worktags!AQ655,\"\")","v":"SC6718"},{"$f":"IFERROR(VLOOKUP(B953,Worktags!AL:AO,2,FALSE),\"\")","v":"Physical Facilities"},{"$f":"IFERROR(VLOOKUP(C953,Worktags!O:T,2,FALSE),\"\")","v":"Signage, Electronic"},{"$f":"IFERROR(VLOOKUP(IF(C953=\"\",B953&\"||\"&B953,C953&\"||\"&B953),Worktags!AR:AV,5,FALSE),\"\")","v":"All"}]
["6700_SC6719 Physical Facilities/Signage, Non-electronic",{"$f":"Worktags!AS662","v":"6700"},{"$f":"IF(Worktags!AQ662<>Worktags!AS662,Worktags!AQ662,\"\")","v":"SC6719"},{"$f":"IFERROR(VLOOKUP(B954,Worktags!AL:AO,2,FALSE),\"\")","v":"Physical Facilities"},{"$f":"IFERROR(VLOOKUP(C954,Worktags!O:T,2,FALSE),\"\")","v":"Signage, Non-electronic"},{"$f":"IFERROR(VLOOKUP(IF(C954=\"\",B954&\"||\"&B954,C954&\"||\"&B954),Worktags!AR:AV,5,FALSE),\"\")","v":"All"}]
["6700_SC6720 Physical Facilities/Specialized Trade Services - Physical Facilities",{"$f":"Worktags!AS667","v":"6700"},{"$f":"IF(Worktags!AQ667<>Worktags!AS667,Worktags!AQ667,\"\")","v":"SC6720"},{"$f":"IFERROR(VLOOKUP(B955,Worktags!AL:AO,2,FALSE),\"\")","v":"Physical Facilities"},{"$f":"IFERROR(VLOOKUP(C955,Worktags!O:T,2,FALSE),\"\")","v":"Specialized Trade Services - Physical Facilities"},{"$f":"IFERROR(VLOOKUP(IF(C955=\"\",B955&\"||\"&B955,C955&\"||\"&B955),Worktags!AR:AV,5,FALSE),\"\")","v":"All"}]
["6700_SC6721 Physical Facilities/Stage and Studio Lighting (Asset Track)",{"$f":"Worktags!AS673","v":"6700"},{"$f":"IF(Worktags!AQ673<>Worktags!AS673,Worktags!AQ673,\"\")","v":"SC6721"},{"$f":"IFERROR(VLOOKUP(B956,Worktags!AL:AO,2,FALSE),\"\")","v":"Physical Facilities"},{"$f":"IFERROR(VLOOKUP(C956,Worktags!O:T,2,FALSE),\"\")","v":"Stage and Studio Lighting (Asset Track)"},{"$f":"IFERROR(VLOOKUP(IF(C956=\"\",B956&\"||\"&B956,C956&\"||\"&B956),Worktags!AR:AV,5,FALSE),\"\")","v":"All"}]
["6700_SC6722 Physical Facilities/Utilities, Electricity",{"$f":"Worktags!AS676","v":"6700"},{"$f":"IF(Worktags!AQ676<>Worktags!AS676,Worktags!AQ676,\"\")","v":"SC6722"},{"$f":"IFERROR(VLOOKUP(B957,Worktags!AL:AO,2,FALSE),\"\")","v":"Physical Facilities"},{"$f":"IFERROR(VLOOKUP(C957,Worktags!O:T,2,FALSE),\"\")","v":"Utilities, Electricity"},{"$f":"IFERROR(VLOOKUP(IF(C957=\"\",B957&\"||\"&B957,C957&\"||\"&B957),Worktags!AR:AV,5,FALSE),\"\")","v":"All"}]
["6700_SC6723 Physical Facilities/Utilities, Garbage Hauling",{"$f":"Worktags!AS678","v":"6700"},{"$f":"IF(Worktags!AQ678<>Worktags!AS678,Worktags!AQ678,\"\")","v":"SC6723"},{"$f":"IFERROR(VLOOKUP(B958,Worktags!AL:AO,2,FALSE),\"\")","v":"Physical Facilities"},{"$f":"IFERROR(VLOOKUP(C958,Worktags!O:T,2,FALSE),\"\")","v":"Utilities, Garbage Hauling"},{"$f":"IFERROR(VLOOKUP(IF(C958=\"\",B958&\"||\"&B958,C958&\"||\"&B958),Worktags!AR:AV,5,FALSE),\"\")","v":"All"}]
["6700_SC6724 Physical Facilities/Utilities, Heat/Cool Unit",{"$f":"Worktags!AS680","v":"6700"},{"$f":"IF(Worktags!AQ680<>Worktags!AS680,Worktags!AQ680,\"\")","v":"SC6724"},{"$f":"IFERROR(VLOOKUP(B959,Worktags!AL:AO,2,FALSE),\"\")","v":"Physical Facilities"},{"$f":"IFERROR(VLOOKUP(C959,Worktags!O:T,2,FALSE),\"\")","v":"Utilities, Heat/Cool Unit"},{"$f":"IFERROR(VLOOKUP(IF(C959=\"\",B959&\"||\"&B959,C959&\"||\"&B959),Worktags!AR:AV,5,FALSE),\"\")","v":"All"}]
["6700_SC6725 Physical Facilities/Utilities, Natural Gas",{"$f":"Worktags!AS682","v":"6700"},{"$f":"IF(Worktags!AQ682<>Worktags!AS682,Worktags!AQ682,\"\")","v":"SC6725"},{"$f":"IFERROR(VLOOKUP(B960,Worktags!AL:AO,2,FALSE),\"\")","v":"Physical Facilities"},{"$f":"IFERROR(VLOOKUP(C960,Worktags!O:T,2,FALSE),\"\")","v":"Utilities, Natural Gas"},{"$f":"IFERROR(VLOOKUP(IF(C960=\"\",B960&\"||\"&B960,C960&\"||\"&B960),Worktags!AR:AV,5,FALSE),\"\")","v":"All"}]
[{"$f":"IF(B961<>\"\",IF(C961<>\"\",B961&\"_\"&C961&\" \"&D961&\"/\"&E961,B961&\" \"&D961),\"\")","v":"6700_SC6726 Physical Facilities/Utilities, Other"},{"$f":"Worktags!AS684","v":"6700"},{"$f":"IF(Worktags!AQ684<>Worktags!AS684,Worktags!AQ684,\"\")","v":"SC6726"},{"$f":"IFERROR(VLOOKUP(B961,Worktags!AL:AO,2,FALSE),\"\")","v":"Physical Facilities"},{"$f":"IFERROR(VLOOKUP(C961,Worktags!O:T,2,FALSE),\"\")","v":"Utilities, Other"},{"$f":"IFERROR(VLOOKUP(IF(C961=\"\",B961&\"||\"&B961,C961&\"||\"&B961),Worktags!AR:AV,5,FALSE),\"\")","v":"All"}]
["6700_SC6727 Physical Facilities/Utilities, Sewer",{"$f":"Worktags!AS686","v":"6700"},{"$f":"IF(Worktags!AQ686<>Worktags!AS686,Worktags!AQ686,\"\")","v":"SC6727"},{"$f":"IFERROR(VLOOKUP(B962,Worktags!AL:AO,2,FALSE),\"\")","v":"Physical Facilities"},{"$f":"IFERROR(VLOOKUP(C962,Worktags!O:T,2,FALSE),\"\")","v":"Utilities, Sewer"},{"$f":"IFERROR(VLOOKUP(IF(C962=\"\",B962&\"||\"&B962,C962&\"||\"&B962),Worktags!AR:AV,5,FALSE),\"\")","v":"All"}]
["6700_SC6728 Physical Facilities/Utilities, Water",{"$f":"Worktags!AS688","v":"6700"},{"$f":"IF(Worktags!AQ688<>Worktags!AS688,Worktags!AQ688,\"\")","v":"SC6728"},{"$f":"IFERROR(VLOOKUP(B963,Worktags!AL:AO,2,FALSE),\"\")","v":"Physical Facilities"},{"$f":"IFERROR(VLOOKUP(C963,Worktags!O:T,2,FALSE),\"\")","v":"Utilities, Water"},{"$f":"IFERROR(VLOOKUP(IF(C963=\"\",B963&\"||\"&B963,C963&\"||\"&B963),Worktags!AR:AV,5,FALSE),\"\")","v":"All"}]
["6700_SC6729 Physical Facilities/Warehouse Fixtures",{"$f":"Worktags!AS694","v":"6700"},{"$f":"IF(Worktags!AQ694<>Worktags!AS694,Worktags!AQ694,\"\")","v":"SC6729"},{"$f":"IFERROR(VLOOKUP(B964,Worktags!AL:AO,2,FALSE),\"\")","v":"Physical Facilities"},{"$f":"IFERROR(VLOOKUP(C964,Worktags!O:T,2,FALSE),\"\")","v":"Warehouse Fixtures"},{"$f":"IFERROR(VLOOKUP(IF(C964=\"\",B964&\"||\"&B964,C964&\"||\"&B964),Worktags!AR:AV,5,FALSE),\"\")","v":"All"}]
["6700_SC6730 Physical Facilities/Window Treatments",{"$f":"Worktags!AS701","v":"6700"},{"$f":"IF(Worktags!AQ701<>Worktags!AS701,Worktags!AQ701,\"\")","v":"SC6730"},{"$f":"IFERROR(VLOOKUP(B965,Worktags!AL:AO,2,FALSE),\"\")","v":"Physical Facilities"},{"$f":"IFERROR(VLOOKUP(C965,Worktags!O:T,2,FALSE),\"\")","v":"Window Treatments"},{"$f":"IFERROR(VLOOKUP(IF(C965=\"\",B965&\"||\"&B965,C965&\"||\"&B965),Worktags!AR:AV,5,FALSE),\"\")","v":"All"}]
["6700_SC6799 Physical Facilities/Physical Facilities (reclass)",{"$f":"Worktags!AS709","v":"6700"},{"$f":"IF(Worktags!AQ709<>Worktags!AS709,Worktags!AQ709,\"\")","v":"SC6799"},{"$f":"IFERROR(VLOOKUP(B966,Worktags!AL:AO,2,FALSE),\"\")","v":"Physical Facilities"},{"$f":"IFERROR(VLOOKUP(C966,Worktags!O:T,2,FALSE),\"\")","v":"Physical Facilities (reclass)"},{"$f":"IFERROR(VLOOKUP(IF(C966=\"\",B966&\"||\"&B966,C966&\"||\"&B966),Worktags!AR:AV,5,FALSE),\"\")","v":"All"}]
["6900 Equipment, Software, Library",{"$f":"Worktags!AL130","v":"6900"},null,{"$f":"IFERROR(VLOOKUP(B967,Worktags!AL:AO,2,FALSE),\"\")","v":"Equipment, Software, Library"},null,{"$f":"IFERROR(VLOOKUP(IF(C967=\"\",B967&\"||\"&B967,C967&\"||\"&B967),Worktags!AR:AV,5,FALSE),\"\")","v":""}]
["6900_SC0691 Equipment, Software, Library/Equipment (Budget Only)",{"$f":"Worktags!AS205","v":"6900"},{"$f":"IF(Worktags!AQ205<>Worktags!AS205,Worktags!AQ205,\"\")","v":"SC0691"},{"$f":"IFERROR(VLOOKUP(B968,Worktags!AL:AO,2,FALSE),\"\")","v":"Equipment, Software, Library"},{"$f":"IFERROR(VLOOKUP(C968,Worktags!O:T,2,FALSE),\"\")","v":"Equipment (Budget Only)"},{"$f":"IFERROR(VLOOKUP(IF(C968=\"\",B968&\"||\"&B968,C968&\"||\"&B968),Worktags!AR:AV,5,FALSE),\"\")","v":"JE_Override"}]
["6900_SC0692 Equipment, Software, Library/Converted Equipment (Budget Only)",{"$f":"Worktags!AS206","v":"6900"},{"$f":"IF(Worktags!AQ206<>Worktags!AS206,Worktags!AQ206,\"\")","v":"SC0692"},{"$f":"IFERROR(VLOOKUP(B969,Worktags!AL:AO,2,FALSE),\"\")","v":"Equipment, Software, Library"},{"$f":"IFERROR(VLOOKUP(C969,Worktags!O:T,2,FALSE),\"\")","v":"Converted Equipment (Budget Only)"},{"$f":"IFERROR(VLOOKUP(IF(C969=\"\",B969&\"||\"&B969,C969&\"||\"&B969),Worktags!AR:AV,5,FALSE),\"\")","v":"JE_Override"}]
["6900_SC0693 Equipment, Software, Library/Equipment Maintenance (Budget Only)",{"$f":"Worktags!AS207","v":"6900"},{"$f":"IF(Worktags!AQ207<>Worktags!AS207,Worktags!AQ207,\"\")","v":"SC0693"},{"$f":"IFERROR(VLOOKUP(B970,Worktags!AL:AO,2,FALSE),\"\")","v":"Equipment, Software, Library"},{"$f":"IFERROR(VLOOKUP(C970,Worktags!O:T,2,FALSE),\"\")","v":"Equipment Maintenance (Budget Only)"},{"$f":"IFERROR(VLOOKUP(IF(C970=\"\",B970&\"||\"&B970,C970&\"||\"&B970),Worktags!AR:AV,5,FALSE),\"\")","v":"JE_Override"}]
["6900_SC0694 Equipment, Software, Library/Software (Budget Only)",{"$f":"Worktags!AS208","v":"6900"},{"$f":"IF(Worktags!AQ208<>Worktags!AS208,Worktags!AQ208,\"\")","v":"SC0694"},{"$f":"IFERROR(VLOOKUP(B971,Worktags!AL:AO,2,FALSE),\"\")","v":"Equipment, Software, Library"},{"$f":"IFERROR(VLOOKUP(C971,Worktags!O:T,2,FALSE),\"\")","v":"Software (Budget Only)"},{"$f":"IFERROR(VLOOKUP(IF(C971=\"\",B971&\"||\"&B971,C971&\"||\"&B971),Worktags!AR:AV,5,FALSE),\"\")","v":"JE_Override"}]
["6900_SC0695 Equipment, Software, Library/Converted Software (Budget Only)",{"$f":"Worktags!AS209","v":"6900"},{"$f":"IF(Worktags!AQ209<>Worktags!AS209,Worktags!AQ209,\"\")","v":"SC0695"},{"$f":"IFERROR(VLOOKUP(B972,Worktags!AL:AO,2,FALSE),\"\")","v":"Equipment, Software, Library"},{"$f":"IFERROR(VLOOKUP(C972,Worktags!O:T,2,FALSE),\"\")","v":"Converted Software (Budget Only)"},{"$f":"IFERROR(VLOOKUP(IF(C972=\"\",B972&\"||\"&B972,C972&\"||\"&B972),Worktags!AR:AV,5,FALSE),\"\")","v":"JE_Override"}]
["6900_SC0696 Equipment, Software, Library/Library Content (Budget Only)",{"$f":"Worktags!AS210","v":"6900"},{"$f":"IF(Worktags!AQ210<>Worktags!AS210,Worktags!AQ210,\"\")","v":"SC0696"},{"$f":"IFERROR(VLOOKUP(B973,Worktags!AL:AO,2,FALSE),\"\")","v":"Equipment, Software, Library"},{"$f":"IFERROR(VLOOKUP(C973,Worktags!O:T,2,FALSE),\"\")","v":"Library Content (Budget Only)"},{"$f":"IFERROR(VLOOKUP(IF(C973=\"\",B973&\"||\"&B973,C973&\"||\"&B973),Worktags!AR:AV,5,FALSE),\"\")","v":"JE_Override"}]
["6900_SC0697 Equipment, Software, Library/Converted Library Content (Budget Only)",{"$f":"Worktags!AS211","v":"6900"},{"$f":"IF(Worktags!AQ211<>Worktags!AS211,Worktags!AQ211,\"\")","v":"SC0697"},{"$f":"IFERROR(VLOOKUP(B974,Worktags!AL:AO,2,FALSE),\"\")","v":"Equipment, Software, Library"},{"$f":"IFERROR(VLOOKUP(C974,Worktags!O:T,2,FALSE),\"\")","v":"Converted Library Content (Budget Only)"},{"$f":"IFERROR(VLOOKUP(IF(C974=\"\",B974&\"||\"&B974,C974&\"||\"&B974),Worktags!AR:AV,5,FALSE),\"\")","v":"JE_Override"}]
["6900_SC6901 Equipment, Software, Library/Art Equipment",{"$f":"Worktags!AS715","v":"6900"},{"$f":"IF(Worktags!AQ715<>Worktags!AS715,Worktags!AQ715,\"\")","v":"SC6901"},{"$f":"IFERROR(VLOOKUP(B975,Worktags!AL:AO,2,FALSE),\"\")","v":"Equipment, Software, Library"},{"$f":"IFERROR(VLOOKUP(C975,Worktags!O:T,2,FALSE),\"\")","v":"Art Equipment"},{"$f":"IFERROR(VLOOKUP(IF(C975=\"\",B975&\"||\"&B975,C975&\"||\"&B975),Worktags!AR:AV,5,FALSE),\"\")","v":"All"}]
["6900_SC6902 Equipment, Software, Library/Athletic Equipment",{"$f":"Worktags!AS722","v":"6900"},{"$f":"IF(Worktags!AQ722<>Worktags!AS722,Worktags!AQ722,\"\")","v":"SC6902"},{"$f":"IFERROR(VLOOKUP(B976,Worktags!AL:AO,2,FALSE),\"\")","v":"Equipment, Software, Library"},{"$f":"IFERROR(VLOOKUP(C976,Worktags!O:T,2,FALSE),\"\")","v":"Athletic Equipment"},{"$f":"IFERROR(VLOOKUP(IF(C976=\"\",B976&\"||\"&B976,C976&\"||\"&B976),Worktags!AR:AV,5,FALSE),\"\")","v":"All"}]
["6900_SC6903 Equipment, Software, Library/Audio Visual Equipment (Asset Track)",{"$f":"Worktags!AS729","v":"6900"},{"$f":"IF(Worktags!AQ729<>Worktags!AS729,Worktags!AQ729,\"\")","v":"SC6903"},{"$f":"IFERROR(VLOOKUP(B977,Worktags!AL:AO,2,FALSE),\"\")","v":"Equipment, Software, Library"},{"$f":"IFERROR(VLOOKUP(C977,Worktags!O:T,2,FALSE),\"\")","v":"Audio Visual Equipment (Asset Track)"},{"$f":"IFERROR(VLOOKUP(IF(C977=\"\",B977&\"||\"&B977,C977&\"||\"&B977),Worktags!AR:AV,5,FALSE),\"\")","v":"All"}]
["6900_SC6904 Equipment, Software, Library/Communication Devices (Asset Track)",{"$f":"Worktags!AS736","v":"6900"},{"$f":"IF(Worktags!AQ736<>Worktags!AS736,Worktags!AQ736,\"\")","v":"SC6904"},{"$f":"IFERROR(VLOOKUP(B978,Worktags!AL:AO,2,FALSE),\"\")","v":"Equipment, Software, Library"},{"$f":"IFERROR(VLOOKUP(C978,Worktags!O:T,2,FALSE),\"\")","v":"Communication Devices (Asset Track)"},{"$f":"IFERROR(VLOOKUP(IF(C978=\"\",B978&\"||\"&B978,C978&\"||\"&B978),Worktags!AR:AV,5,FALSE),\"\")","v":"All"}]
["6900_SC6905 Equipment, Software, Library/Computer Hardware (Asset Track)",{"$f":"Worktags!AS743","v":"6900"},{"$f":"IF(Worktags!AQ743<>Worktags!AS743,Worktags!AQ743,\"\")","v":"SC6905"},{"$f":"IFERROR(VLOOKUP(B979,Worktags!AL:AO,2,FALSE),\"\")","v":"Equipment, Software, Library"},{"$f":"IFERROR(VLOOKUP(C979,Worktags!O:T,2,FALSE),\"\")","v":"Computer Hardware (Asset Track)"},{"$f":"IFERROR(VLOOKUP(IF(C979=\"\",B979&\"||\"&B979,C979&\"||\"&B979),Worktags!AR:AV,5,FALSE),\"\")","v":"All"}]
["6900_SC6906 Equipment, Software, Library/Data Network Equipment (Asset Track)",{"$f":"Worktags!AS750","v":"6900"},{"$f":"IF(Worktags!AQ750<>Worktags!AS750,Worktags!AQ750,\"\")","v":"SC6906"},{"$f":"IFERROR(VLOOKUP(B980,Worktags!AL:AO,2,FALSE),\"\")","v":"Equipment, Software, Library"},{"$f":"IFERROR(VLOOKUP(C980,Worktags!O:T,2,FALSE),\"\")","v":"Data Network Equipment (Asset Track)"},{"$f":"IFERROR(VLOOKUP(IF(C980=\"\",B980&\"||\"&B980,C980&\"||\"&B980),Worktags!AR:AV,5,FALSE),\"\")","v":"All"}]
["6900_SC6907 Equipment, Software, Library/Equipment (not otherwise specified) (Asset Track)",{"$f":"Worktags!AS757","v":"6900"},{"$f":"IF(Worktags!AQ757<>Worktags!AS757,Worktags!AQ757,\"\")","v":"SC6907"},{"$f":"IFERROR(VLOOKUP(B981,Worktags!AL:AO,2,FALSE),\"\")","v":"Equipment, Software, Library"},{"$f":"IFERROR(VLOOKUP(C981,Worktags!O:T,2,FALSE),\"\")","v":"Equipment (not otherwise specified) (Asset Track)"},{"$f":"IFERROR(VLOOKUP(IF(C981=\"\",B981&\"||\"&B981,C981&\"||\"&B981),Worktags!AR:AV,5,FALSE),\"\")","v":"All"}]
["6900_SC6908 Equipment, Software, Library/Equipment Maintenance (not otherwise specified)",{"$f":"Worktags!AS760","v":"6900"},{"$f":"IF(Worktags!AQ760<>Worktags!AS760,Worktags!AQ760,\"\")","v":"SC6908"},{"$f":"IFERROR(VLOOKUP(B982,Worktags!AL:AO,2,FALSE),\"\")","v":"Equipment, Software, Library"},{"$f":"IFERROR(VLOOKUP(C982,Worktags!O:T,2,FALSE),\"\")","v":"Equipment Maintenance (not otherwise specified)"},{"$f":"IFERROR(VLOOKUP(IF(C982=\"\",B982&\"||\"&B982,C982&\"||\"&B982),Worktags!AR:AV,5,FALSE),\"\")","v":"All"}]
["6900_SC6909 Equipment, Software, Library/Firearms",{"$f":"Worktags!AS764","v":"6900"},{"$f":"IF(Worktags!AQ764<>Worktags!AS764,Worktags!AQ764,\"\")","v":"SC6909"},{"$f":"IFERROR(VLOOKUP(B983,Worktags!AL:AO,2,FALSE),\"\")","v":"Equipment, Software, Library"},{"$f":"IFERROR(VLOOKUP(C983,Worktags!O:T,2,FALSE),\"\")","v":"Firearms"},{"$f":"IFERROR(VLOOKUP(IF(C983=\"\",B983&\"||\"&B983,C983&\"||\"&B983),Worktags!AR:AV,5,FALSE),\"\")","v":"All"}]
["6900_SC6910 Equipment, Software, Library/Food Service Equipment",{"$f":"Worktags!AS771","v":"6900"},{"$f":"IF(Worktags!AQ771<>Worktags!AS771,Worktags!AQ771,\"\")","v":"SC6910"},{"$f":"IFERROR(VLOOKUP(B984,Worktags!AL:AO,2,FALSE),\"\")","v":"Equipment, Software, Library"},{"$f":"IFERROR(VLOOKUP(C984,Worktags!O:T,2,FALSE),\"\")","v":"Food Service Equipment"},{"$f":"IFERROR(VLOOKUP(IF(C984=\"\",B984&\"||\"&B984,C984&\"||\"&B984),Worktags!AR:AV,5,FALSE),\"\")","v":"All"}]
["6900_SC6911 Equipment, Software, Library/Grants Capital Equipment",{"$f":"Worktags!AS776","v":"6900"},{"$f":"IF(Worktags!AQ776<>Worktags!AS776,Worktags!AQ776,\"\")","v":"SC6911"},{"$f":"IFERROR(VLOOKUP(B985,Worktags!AL:AO,2,FALSE),\"\")","v":"Equipment, Software, Library"},{"$f":"IFERROR(VLOOKUP(C985,Worktags!O:T,2,FALSE),\"\")","v":"Grants Capital Equipment"},{"$f":"IFERROR(VLOOKUP(IF(C985=\"\",B985&\"||\"&B985,C985&\"||\"&B985),Worktags!AR:AV,5,FALSE),\"\")","v":"All"}]
["6900_SC6912 Equipment, Software, Library/Grants Non-Capital Equipment",{"$f":"Worktags!AS779","v":"6900"},{"$f":"IF(Worktags!AQ779<>Worktags!AS779,Worktags!AQ779,\"\")","v":"SC6912"},{"$f":"IFERROR(VLOOKUP(B986,Worktags!AL:AO,2,FALSE),\"\")","v":"Equipment, Software, Library"},{"$f":"IFERROR(VLOOKUP(C986,Worktags!O:T,2,FALSE),\"\")","v":"Grants Non-Capital Equipment"},{"$f":"IFERROR(VLOOKUP(IF(C986=\"\",B986&\"||\"&B986,C986&\"||\"&B986),Worktags!AR:AV,5,FALSE),\"\")","v":"All"}]
["6900_SC6913 Equipment, Software, Library/Grounds Equipment",{"$f":"Worktags!AS783","v":"6900"},{"$f":"IF(Worktags!AQ783<>Worktags!AS783,Worktags!AQ783,\"\")","v":"SC6913"},{"$f":"IFERROR(VLOOKUP(B987,Worktags!AL:AO,2,FALSE),\"\")","v":"Equipment, Software, Library"},{"$f":"IFERROR(VLOOKUP(C987,Worktags!O:T,2,FALSE),\"\")","v":"Grounds Equipment"},{"$f":"IFERROR(VLOOKUP(IF(C987=\"\",B987&\"||\"&B987,C987&\"||\"&B987),Worktags!AR:AV,5,FALSE),\"\")","v":"All"}]
["6900_SC6914 Equipment, Software, Library/Industrial Equipment",{"$f":"Worktags!AS790","v":"6900"},{"$f":"IF(Worktags!AQ790<>Worktags!AS790,Worktags!AQ790,\"\")","v":"SC6914"},{"$f":"IFERROR(VLOOKUP(B988,Worktags!AL:AO,2,FALSE),\"\")","v":"Equipment, Software, Library"},{"$f":"IFERROR(VLOOKUP(C988,Worktags!O:T,2,FALSE),\"\")","v":"Industrial Equipment"},{"$f":"IFERROR(VLOOKUP(IF(C988=\"\",B988&\"||\"&B988,C988&\"||\"&B988),Worktags!AR:AV,5,FALSE),\"\")","v":"All"}]
["6900_SC6915 Equipment, Software, Library/Janitorial Equipment",{"$f":"Worktags!AS797","v":"6900"},{"$f":"IF(Worktags!AQ797<>Worktags!AS797,Worktags!AQ797,\"\")","v":"SC6915"},{"$f":"IFERROR(VLOOKUP(B989,Worktags!AL:AO,2,FALSE),\"\")","v":"Equipment, Software, Library"},{"$f":"IFERROR(VLOOKUP(C989,Worktags!O:T,2,FALSE),\"\")","v":"Janitorial Equipment"},{"$f":"IFERROR(VLOOKUP(IF(C989=\"\",B989&\"||\"&B989,C989&\"||\"&B989),Worktags!AR:AV,5,FALSE),\"\")","v":"All"}]
["6900_SC6916 Equipment, Software, Library/Janitorial Equipment Maintenance",{"$f":"Worktags!AS800","v":"6900"},{"$f":"IF(Worktags!AQ800<>Worktags!AS800,Worktags!AQ800,\"\")","v":"SC6916"},{"$f":"IFERROR(VLOOKUP(B990,Worktags!AL:AO,2,FALSE),\"\")","v":"Equipment, Software, Library"},{"$f":"IFERROR(VLOOKUP(C990,Worktags!O:T,2,FALSE),\"\")","v":"Janitorial Equipment Maintenance"},{"$f":"IFERROR(VLOOKUP(IF(C990=\"\",B990&\"||\"&B990,C990&\"||\"&B990),Worktags!AR:AV,5,FALSE),\"\")","v":"All"}]
["6900_SC6917 Equipment, Software, Library/Laundry Equipment",{"$f":"Worktags!AS806","v":"6900"},{"$f":"IF(Worktags!AQ806<>Worktags!AS806,Worktags!AQ806,\"\")","v":"SC6917"},{"$f":"IFERROR(VLOOKUP(B991,Worktags!AL:AO,2,FALSE),\"\")","v":"Equipment, Software, Library"},{"$f":"IFERROR(VLOOKUP(C991,Worktags!O:T,2,FALSE),\"\")","v":"Laundry Equipment"},{"$f":"IFERROR(VLOOKUP(IF(C991=\"\",B991&\"||\"&B991,C991&\"||\"&B991),Worktags!AR:AV,5,FALSE),\"\")","v":"All"}]
["6900_SC6918 Equipment, Software, Library/Library Content",{"$f":"Worktags!AS811","v":"6900"},{"$f":"IF(Worktags!AQ811<>Worktags!AS811,Worktags!AQ811,\"\")","v":"SC6918"},{"$f":"IFERROR(VLOOKUP(B992,Worktags!AL:AO,2,FALSE),\"\")","v":"Equipment, Software, Library"},{"$f":"IFERROR(VLOOKUP(C992,Worktags!O:T,2,FALSE),\"\")","v":"Library Content"},{"$f":"IFERROR(VLOOKUP(IF(C992=\"\",B992&\"||\"&B992,C992&\"||\"&B992),Worktags!AR:AV,5,FALSE),\"\")","v":"All"}]
["6900_SC6919 Equipment, Software, Library/Library Subscriptions",{"$f":"Worktags!AS814","v":"6900"},{"$f":"IF(Worktags!AQ814<>Worktags!AS814,Worktags!AQ814,\"\")","v":"SC6919"},{"$f":"IFERROR(VLOOKUP(B993,Worktags!AL:AO,2,FALSE),\"\")","v":"Equipment, Software, Library"},{"$f":"IFERROR(VLOOKUP(C993,Worktags!O:T,2,FALSE),\"\")","v":"Library Subscriptions"},{"$f":"IFERROR(VLOOKUP(IF(C993=\"\",B993&\"||\"&B993,C993&\"||\"&B993),Worktags!AR:AV,5,FALSE),\"\")","v":"All"}]
["6900_SC6920 Equipment, Software, Library/Media Content",{"$f":"Worktags!AS818","v":"6900"},{"$f":"IF(Worktags!AQ818<>Worktags!AS818,Worktags!AQ818,\"\")","v":"SC6920"},{"$f":"IFERROR(VLOOKUP(B994,Worktags!AL:AO,2,FALSE),\"\")","v":"Equipment, Software, Library"},{"$f":"IFERROR(VLOOKUP(C994,Worktags!O:T,2,FALSE),\"\")","v":"Media Content"},{"$f":"IFERROR(VLOOKUP(IF(C994=\"\",B994&\"||\"&B994,C994&\"||\"&B994),Worktags!AR:AV,5,FALSE),\"\")","v":"All"}]
["6900_SC6921 Equipment, Software, Library/Medical Equipment",{"$f":"Worktags!AS825","v":"6900"},{"$f":"IF(Worktags!AQ825<>Worktags!AS825,Worktags!AQ825,\"\")","v":"SC6921"},{"$f":"IFERROR(VLOOKUP(B995,Worktags!AL:AO,2,FALSE),\"\")","v":"Equipment, Software, Library"},{"$f":"IFERROR(VLOOKUP(C995,Worktags!O:T,2,FALSE),\"\")","v":"Medical Equipment"},{"$f":"IFERROR(VLOOKUP(IF(C995=\"\",B995&\"||\"&B995,C995&\"||\"&B995),Worktags!AR:AV,5,FALSE),\"\")","v":"All"}]
["6900_SC6922 Equipment, Software, Library/Medical Equipment - Maintenance",{"$f":"Worktags!AS828","v":"6900"},{"$f":"IF(Worktags!AQ828<>Worktags!AS828,Worktags!AQ828,\"\")","v":"SC6922"},{"$f":"IFERROR(VLOOKUP(B996,Worktags!AL:AO,2,FALSE),\"\")","v":"Equipment, Software, Library"},{"$f":"IFERROR(VLOOKUP(C996,Worktags!O:T,2,FALSE),\"\")","v":"Medical Equipment - Maintenance"},{"$f":"IFERROR(VLOOKUP(IF(C996=\"\",B996&\"||\"&B996,C996&\"||\"&B996),Worktags!AR:AV,5,FALSE),\"\")","v":"All"}]
["6900_SC6923 Equipment, Software, Library/Musical Instruments",{"$f":"Worktags!AS832","v":"6900"},{"$f":"IF(Worktags!AQ832<>Worktags!AS832,Worktags!AQ832,\"\")","v":"SC6923"},{"$f":"IFERROR(VLOOKUP(B997,Worktags!AL:AO,2,FALSE),\"\")","v":"Equipment, Software, Library"},{"$f":"IFERROR(VLOOKUP(C997,Worktags!O:T,2,FALSE),\"\")","v":"Musical Instruments"},{"$f":"IFERROR(VLOOKUP(IF(C997=\"\",B997&\"||\"&B997,C997&\"||\"&B997),Worktags!AR:AV,5,FALSE),\"\")","v":"All"}]
["6900_SC6924 Equipment, Software, Library/Office Equipment (Asset Track)",{"$f":"Worktags!AS839","v":"6900"},{"$f":"IF(Worktags!AQ839<>Worktags!AS839,Worktags!AQ839,\"\")","v":"SC6924"},{"$f":"IFERROR(VLOOKUP(B998,Worktags!AL:AO,2,FALSE),\"\")","v":"Equipment, Software, Library"},{"$f":"IFERROR(VLOOKUP(C998,Worktags!O:T,2,FALSE),\"\")","v":"Office Equipment (Asset Track)"},{"$f":"IFERROR(VLOOKUP(IF(C998=\"\",B998&\"||\"&B998,C998&\"||\"&B998),Worktags!AR:AV,5,FALSE),\"\")","v":"All"}]
["6900_SC6925 Equipment, Software, Library/Office Equipment - Maintenance",{"$f":"Worktags!AS842","v":"6900"},{"$f":"IF(Worktags!AQ842<>Worktags!AS842,Worktags!AQ842,\"\")","v":"SC6925"},{"$f":"IFERROR(VLOOKUP(B999,Worktags!AL:AO,2,FALSE),\"\")","v":"Equipment, Software, Library"},{"$f":"IFERROR(VLOOKUP(C999,Worktags!O:T,2,FALSE),\"\")","v":"Office Equipment - Maintenance"},{"$f":"IFERROR(VLOOKUP(IF(C999=\"\",B999&\"||\"&B999,C999&\"||\"&B999),Worktags!AR:AV,5,FALSE),\"\")","v":"All"}]
["6900_SC6926 Equipment, Software, Library/Photography Equipment",{"$f":"Worktags!AS846","v":"6900"},{"$f":"IF(Worktags!AQ846<>Worktags!AS846,Worktags!AQ846,\"\")","v":"SC6926"},{"$f":"IFERROR(VLOOKUP(B1000,Worktags!AL:AO,2,FALSE),\"\")","v":"Equipment, Software, Library"},{"$f":"IFERROR(VLOOKUP(C1000,Worktags!O:T,2,FALSE),\"\")","v":"Photography Equipment"},{"$f":"IFERROR(VLOOKUP(IF(C1000=\"\",B1000&\"||\"&B1000,C1000&\"||\"&B1000),Worktags!AR:AV,5,FALSE),\"\")","v":"All"}]
["6900_SC6927 Equipment, Software, Library/Portable Structures",{"$f":"Worktags!AS853","v":"6900"},{"$f":"IF(Worktags!AQ853<>Worktags!AS853,Worktags!AQ853,\"\")","v":"SC6927"},{"$f":"IFERROR(VLOOKUP(B1001,Worktags!AL:AO,2,FALSE),\"\")","v":"Equipment, Software, Library"},{"$f":"IFERROR(VLOOKUP(C1001,Worktags!O:T,2,FALSE),\"\")","v":"Portable Structures"},{"$f":"IFERROR(VLOOKUP(IF(C1001=\"\",B1001&\"||\"&B1001,C1001&\"||\"&B1001),Worktags!AR:AV,5,FALSE),\"\")","v":"All"}]
["6900_SC6928 Equipment, Software, Library/Printing Equipment",{"$f":"Worktags!AS860","v":"6900"},{"$f":"IF(Worktags!AQ860<>Worktags!AS860,Worktags!AQ860,\"\")","v":"SC6928"},{"$f":"IFERROR(VLOOKUP(B1002,Worktags!AL:AO,2,FALSE),\"\")","v":"Equipment, Software, Library"},{"$f":"IFERROR(VLOOKUP(C1002,Worktags!O:T,2,FALSE),\"\")","v":"Printing Equipment"},{"$f":"IFERROR(VLOOKUP(IF(C1002=\"\",B1002&\"||\"&B1002,C1002&\"||\"&B1002),Worktags!AR:AV,5,FALSE),\"\")","v":"All"}]
["6900_SC6929 Equipment, Software, Library/Scientific and Engineering Equipment",{"$f":"Worktags!AS867","v":"6900"},{"$f":"IF(Worktags!AQ867<>Worktags!AS867,Worktags!AQ867,\"\")","v":"SC6929"},{"$f":"IFERROR(VLOOKUP(B1003,Worktags!AL:AO,2,FALSE),\"\")","v":"Equipment, Software, Library"},{"$f":"IFERROR(VLOOKUP(C1003,Worktags!O:T,2,FALSE),\"\")","v":"Scientific and Engineering Equipment"},{"$f":"IFERROR(VLOOKUP(IF(C1003=\"\",B1003&\"||\"&B1003,C1003&\"||\"&B1003),Worktags!AR:AV,5,FALSE),\"\")","v":"All"}]
["6900_SC6930 Equipment, Software, Library/Scientific Equipment - Maintenance",{"$f":"Worktags!AS870","v":"6900"},{"$f":"IF(Worktags!AQ870<>Worktags!AS870,Worktags!AQ870,\"\")","v":"SC6930"},{"$f":"IFERROR(VLOOKUP(B1004,Worktags!AL:AO,2,FALSE),\"\")","v":"Equipment, Software, Library"},{"$f":"IFERROR(VLOOKUP(C1004,Worktags!O:T,2,FALSE),\"\")","v":"Scientific Equipment - Maintenance"},{"$f":"IFERROR(VLOOKUP(IF(C1004=\"\",B1004&\"||\"&B1004,C1004&\"||\"&B1004),Worktags!AR:AV,5,FALSE),\"\")","v":"All"}]
["6900_SC6931 Equipment, Software, Library/Security Equipment (Asset Track)",{"$f":"Worktags!AS876","v":"6900"},{"$f":"IF(Worktags!AQ876<>Worktags!AS876,Worktags!AQ876,\"\")","v":"SC6931"},{"$f":"IFERROR(VLOOKUP(B1005,Worktags!AL:AO,2,FALSE),\"\")","v":"Equipment, Software, Library"},{"$f":"IFERROR(VLOOKUP(C1005,Worktags!O:T,2,FALSE),\"\")","v":"Security Equipment (Asset Track)"},{"$f":"IFERROR(VLOOKUP(IF(C1005=\"\",B1005&\"||\"&B1005,C1005&\"||\"&B1005),Worktags!AR:AV,5,FALSE),\"\")","v":"All"}]
["6900_SC6932 Equipment, Software, Library/Small Appliances",{"$f":"Worktags!AS883","v":"6900"},{"$f":"IF(Worktags!AQ883<>Worktags!AS883,Worktags!AQ883,\"\")","v":"SC6932"},{"$f":"IFERROR(VLOOKUP(B1006,Worktags!AL:AO,2,FALSE),\"\")","v":"Equipment, Software, Library"},{"$f":"IFERROR(VLOOKUP(C1006,Worktags!O:T,2,FALSE),\"\")","v":"Small Appliances"},{"$f":"IFERROR(VLOOKUP(IF(C1006=\"\",B1006&\"||\"&B1006,C1006&\"||\"&B1006),Worktags!AR:AV,5,FALSE),\"\")","v":"All"}]
["6900_SC6933 Equipment, Software, Library/Software",{"$f":"Worktags!AS888","v":"6900"},{"$f":"IF(Worktags!AQ888<>Worktags!AS888,Worktags!AQ888,\"\")","v":"SC6933"},{"$f":"IFERROR(VLOOKUP(B1007,Worktags!AL:AO,2,FALSE),\"\")","v":"Equipment, Software, Library"},{"$f":"IFERROR(VLOOKUP(C1007,Worktags!O:T,2,FALSE),\"\")","v":"Software"},{"$f":"IFERROR(VLOOKUP(IF(C1007=\"\",B1007&\"||\"&B1007,C1007&\"||\"&B1007),Worktags!AR:AV,5,FALSE),\"\")","v":"All"}]
["6900_SC6934 Equipment, Software, Library/Software and Media - Licenses",{"$f":"Worktags!AS891","v":"6900"},{"$f":"IF(Worktags!AQ891<>Worktags!AS891,Worktags!AQ891,\"\")","v":"SC6934"},{"$f":"IFERROR(VLOOKUP(B1008,Worktags!AL:AO,2,FALSE),\"\")","v":"Equipment, Software, Library"},{"$f":"IFERROR(VLOOKUP(C1008,Worktags!O:T,2,FALSE),\"\")","v":"Software and Media - Licenses"},{"$f":"IFERROR(VLOOKUP(IF(C1008=\"\",B1008&\"||\"&B1008,C1008&\"||\"&B1008),Worktags!AR:AV,5,FALSE),\"\")","v":"All"}]
["6900_SC6935 Equipment, Software, Library/Telecom Equipment",{"$f":"Worktags!AS897","v":"6900"},{"$f":"IF(Worktags!AQ897<>Worktags!AS897,Worktags!AQ897,\"\")","v":"SC6935"},{"$f":"IFERROR(VLOOKUP(B1009,Worktags!AL:AO,2,FALSE),\"\")","v":"Equipment, Software, Library"},{"$f":"IFERROR(VLOOKUP(C1009,Worktags!O:T,2,FALSE),\"\")","v":"Telecom Equipment"},{"$f":"IFERROR(VLOOKUP(IF(C1009=\"\",B1009&\"||\"&B1009,C1009&\"||\"&B1009),Worktags!AR:AV,5,FALSE),\"\")","v":"All"}]
["6900_SC6936 Equipment, Software, Library/Vehicles Services",{"$f":"Worktags!AS900","v":"6900"},{"$f":"IF(Worktags!AQ900<>Worktags!AS900,Worktags!AQ900,\"\")","v":"SC6936"},{"$f":"IFERROR(VLOOKUP(B1010,Worktags!AL:AO,2,FALSE),\"\")","v":"Equipment, Software, Library"},{"$f":"IFERROR(VLOOKUP(C1010,Worktags!O:T,2,FALSE),\"\")","v":"Vehicles Services"},{"$f":"IFERROR(VLOOKUP(IF(C1010=\"\",B1010&\"||\"&B1010,C1010&\"||\"&B1010),Worktags!AR:AV,5,FALSE),\"\")","v":"All"}]
["6900_SC6937 Equipment, Software, Library/Vehicles, Motor",{"$f":"Worktags!AS904","v":"6900"},{"$f":"IF(Worktags!AQ904<>Worktags!AS904,Worktags!AQ904,\"\")","v":"SC6937"},{"$f":"IFERROR(VLOOKUP(B1011,Worktags!AL:AO,2,FALSE),\"\")","v":"Equipment, Software, Library"},{"$f":"IFERROR(VLOOKUP(C1011,Worktags!O:T,2,FALSE),\"\")","v":"Vehicles, Motor"},{"$f":"IFERROR(VLOOKUP(IF(C1011=\"\",B1011&\"||\"&B1011,C1011&\"||\"&B1011),Worktags!AR:AV,5,FALSE),\"\")","v":"All"}]
["6900_SC6938 Equipment, Software, Library/Vehicles, Off-Road",{"$f":"Worktags!AS909","v":"6900"},{"$f":"IF(Worktags!AQ909<>Worktags!AS909,Worktags!AQ909,\"\")","v":"SC6938"},{"$f":"IFERROR(VLOOKUP(B1012,Worktags!AL:AO,2,FALSE),\"\")","v":"Equipment, Software, Library"},{"$f":"IFERROR(VLOOKUP(C1012,Worktags!O:T,2,FALSE),\"\")","v":"Vehicles, Off-Road"},{"$f":"IFERROR(VLOOKUP(IF(C1012=\"\",B1012&\"||\"&B1012,C1012&\"||\"&B1012),Worktags!AR:AV,5,FALSE),\"\")","v":"All"}]
["6900_SC6939 Equipment, Software, Library/Warehouse Equipment",{"$f":"Worktags!AS916","v":"6900"},{"$f":"IF(Worktags!AQ916<>Worktags!AS916,Worktags!AQ916,\"\")","v":"SC6939"},{"$f":"IFERROR(VLOOKUP(B1013,Worktags!AL:AO,2,FALSE),\"\")","v":"Equipment, Software, Library"},{"$f":"IFERROR(VLOOKUP(C1013,Worktags!O:T,2,FALSE),\"\")","v":"Warehouse Equipment"},{"$f":"IFERROR(VLOOKUP(IF(C1013=\"\",B1013&\"||\"&B1013,C1013&\"||\"&B1013),Worktags!AR:AV,5,FALSE),\"\")","v":"All"}]
["6900_SC6940 Equipment, Software, Library/Audio Visual Equipment (Only Workday Inventory Module)",{"$f":"Worktags!AS921","v":"6900"},{"$f":"IF(Worktags!AQ921<>Worktags!AS921,Worktags!AQ921,\"\")","v":"SC6940"},{"$f":"IFERROR(VLOOKUP(B1014,Worktags!AL:AO,2,FALSE),\"\")","v":"Equipment, Software, Library"},{"$f":"IFERROR(VLOOKUP(C1014,Worktags!O:T,2,FALSE),\"\")","v":"Audio Visual Equipment (Only Workday Inventory Module)"},{"$f":"IFERROR(VLOOKUP(IF(C1014=\"\",B1014&\"||\"&B1014,C1014&\"||\"&B1014),Worktags!AR:AV,5,FALSE),\"\")","v":"All"}]
["6900_SC6941 Equipment, Software, Library/Communication Devices (Only Workday Inventory Module)",{"$f":"Worktags!AS925","v":"6900"},{"$f":"IF(Worktags!AQ925<>Worktags!AS925,Worktags!AQ925,\"\")","v":"SC6941"},{"$f":"IFERROR(VLOOKUP(B1015,Worktags!AL:AO,2,FALSE),\"\")","v":"Equipment, Software, Library"},{"$f":"IFERROR(VLOOKUP(C1015,Worktags!O:T,2,FALSE),\"\")","v":"Communication Devices (Only Workday Inventory Module)"},{"$f":"IFERROR(VLOOKUP(IF(C1015=\"\",B1015&\"||\"&B1015,C1015&\"||\"&B1015),Worktags!AR:AV,5,FALSE),\"\")","v":"All"}]
["6900_SC6942 Equipment, Software, Library/Computer Hardware (Only Workday Inventory Module)",{"$f":"Worktags!AS929","v":"6900"},{"$f":"IF(Worktags!AQ929<>Worktags!AS929,Worktags!AQ929,\"\")","v":"SC6942"},{"$f":"IFERROR(VLOOKUP(B1016,Worktags!AL:AO,2,FALSE),\"\")","v":"Equipment, Software, Library"},{"$f":"IFERROR(VLOOKUP(C1016,Worktags!O:T,2,FALSE),\"\")","v":"Computer Hardware (Only Workday Inventory Module)"},{"$f":"IFERROR(VLOOKUP(IF(C1016=\"\",B1016&\"||\"&B1016,C1016&\"||\"&B1016),Worktags!AR:AV,5,FALSE),\"\")","v":"All"}]
["6900_SC6943 Equipment, Software, Library/Data Network Equipment (Only Workday Inventory Module)",{"$f":"Worktags!AS933","v":"6900"},{"$f":"IF(Worktags!AQ933<>Worktags!AS933,Worktags!AQ933,\"\")","v":"SC6943"},{"$f":"IFERROR(VLOOKUP(B1017,Worktags!AL:AO,2,FALSE),\"\")","v":"Equipment, Software, Library"},{"$f":"IFERROR(VLOOKUP(C1017,Worktags!O:T,2,FALSE),\"\")","v":"Data Network Equipment (Only Workday Inventory Module)"},{"$f":"IFERROR(VLOOKUP(IF(C1017=\"\",B1017&\"||\"&B1017,C1017&\"||\"&B1017),Worktags!AR:AV,5,FALSE),\"\")","v":"All"}]
["6900_SC6944 Equipment, Software, Library/Equipment (not otherwise specified) (Only Workday Inventory Module)",{"$f":"Worktags!AS937","v":"6900"},{"$f":"IF(Worktags!AQ937<>Worktags!AS937,Worktags!AQ937,\"\")","v":"SC6944"},{"$f":"IFERROR(VLOOKUP(B1018,Worktags!AL:AO,2,FALSE),\"\")","v":"Equipment, Software, Library"},{"$f":"IFERROR(VLOOKUP(C1018,Worktags!O:T,2,FALSE),\"\")","v":"Equipment (not otherwise specified) (Only Workday Inventory Module)"},{"$f":"IFERROR(VLOOKUP(IF(C1018=\"\",B1018&\"||\"&B1018,C1018&\"||\"&B1018),Worktags!AR:AV,5,FALSE),\"\")","v":"All"}]
["6900_SC6945 Equipment, Software, Library/Office Equipment (Only Workday Inventory Module)",{"$f":"Worktags!AS941","v":"6900"},{"$f":"IF(Worktags!AQ941<>Worktags!AS941,Worktags!AQ941,\"\")","v":"SC6945"},{"$f":"IFERROR(VLOOKUP(B1019,Worktags!AL:AO,2,FALSE),\"\")","v":"Equipment, Software, Library"},{"$f":"IFERROR(VLOOKUP(C1019,Worktags!O:T,2,FALSE),\"\")","v":"Office Equipment (Only Workday Inventory Module)"},{"$f":"IFERROR(VLOOKUP(IF(C1019=\"\",B1019&\"||\"&B1019,C1019&\"||\"&B1019),Worktags!AR:AV,5,FALSE),\"\")","v":"All"}]
["6900_SC6946 Equipment, Software, Library/Security Equipment (Only Workday Inventory Module)",{"$f":"Worktags!AS945","v":"6900"},{"$f":"IF(Worktags!AQ945<>Worktags!AS945,Worktags!AQ945,\"\")","v":"SC6946"},{"$f":"IFERROR(VLOOKUP(B1020,Worktags!AL:AO,2,FALSE),\"\")","v":"Equipment, Software, Library"},{"$f":"IFERROR(VLOOKUP(C1020,Worktags!O:T,2,FALSE),\"\")","v":"Security Equipment (Only Workday Inventory Module)"},{"$f":"IFERROR(VLOOKUP(IF(C1020=\"\",B1020&\"||\"&B1020,C1020&\"||\"&B1020),Worktags!AR:AV,5,FALSE),\"\")","v":"All"}]
["6900_SC6999 Equipment, Software, Library/Equipment (reclass)",{"$f":"Worktags!AS949","v":"6900"},{"$f":"IF(Worktags!AQ949<>Worktags!AS949,Worktags!AQ949,\"\")","v":"SC6999"},{"$f":"IFERROR(VLOOKUP(B1021,Worktags!AL:AO,2,FALSE),\"\")","v":"Equipment, Software, Library"},{"$f":"IFERROR(VLOOKUP(C1021,Worktags!O:T,2,FALSE),\"\")","v":"Equipment (reclass)"},{"$f":"IFERROR(VLOOKUP(IF(C1021=\"\",B1021&\"||\"&B1021,C1021&\"||\"&B1021),Worktags!AR:AV,5,FALSE),\"\")","v":"All"}]
["7000 Travel",{"$f":"Worktags!AL131","v":"7000"},null,{"$f":"IFERROR(VLOOKUP(B1022,Worktags!AL:AO,2,FALSE),\"\")","v":"Travel"},null,{"$f":"IFERROR(VLOOKUP(IF(C1022=\"\",B1022&\"||\"&B1022,C1022&\"||\"&B1022),Worktags!AR:AV,5,FALSE),\"\")","v":""}]
["7000_SC7001 Travel/Travel",{"$f":"Worktags!AS951","v":"7000"},{"$f":"IF(Worktags!AQ951<>Worktags!AS951,Worktags!AQ951,\"\")","v":"SC7001"},{"$f":"IFERROR(VLOOKUP(B1023,Worktags!AL:AO,2,FALSE),\"\")","v":"Travel"},{"$f":"IFERROR(VLOOKUP(C1023,Worktags!O:T,2,FALSE),\"\")","v":"Travel"},{"$f":"IFERROR(VLOOKUP(IF(C1023=\"\",B1023&\"||\"&B1023,C1023&\"||\"&B1023),Worktags!AR:AV,5,FALSE),\"\")","v":"All"}]
["7000_SC7002 Travel/Airfare Domestic",{"$f":"Worktags!AS953","v":"7000"},{"$f":"IF(Worktags!AQ953<>Worktags!AS953,Worktags!AQ953,\"\")","v":"SC7002"},{"$f":"IFERROR(VLOOKUP(B1024,Worktags!AL:AO,2,FALSE),\"\")","v":"Travel"},{"$f":"IFERROR(VLOOKUP(C1024,Worktags!O:T,2,FALSE),\"\")","v":"Airfare Domestic"},{"$f":"IFERROR(VLOOKUP(IF(C1024=\"\",B1024&\"||\"&B1024,C1024&\"||\"&B1024),Worktags!AR:AV,5,FALSE),\"\")","v":"All"}]
[{"$f":"IF(B1025<>\"\",IF(C1025<>\"\",B1025&\"_\"&C1025&\" \"&D1025&\"/\"&E1025,B1025&\" \"&D1025),\"\")","v":"7000_SC7003 Travel/Airfare Foreign"},{"$f":"Worktags!AS955","v":"7000"},{"$f":"IF(Worktags!AQ955<>Worktags!AS955,Worktags!AQ955,\"\")","v":"SC7003"},{"$f":"IFERROR(VLOOKUP(B1025,Worktags!AL:AO,2,FALSE),\"\")","v":"Travel"},{"$f":"IFERROR(VLOOKUP(C1025,Worktags!O:T,2,FALSE),\"\")","v":"Airfare Foreign"},{"$f":"IFERROR(VLOOKUP(IF(C1025=\"\",B1025&\"||\"&B1025,C1025&\"||\"&B1025),Worktags!AR:AV,5,FALSE),\"\")","v":"All"}]
["7000_SC7004 Travel/Transportation Services",{"$f":"Worktags!AS957","v":"7000"},{"$f":"IF(Worktags!AQ957<>Worktags!AS957,Worktags!AQ957,\"\")","v":"SC7004"},{"$f":"IFERROR(VLOOKUP(B1026,Worktags!AL:AO,2,FALSE),\"\")","v":"Travel"},{"$f":"IFERROR(VLOOKUP(C1026,Worktags!O:T,2,FALSE),\"\")","v":"Transportation Services"},{"$f":"IFERROR(VLOOKUP(IF(C1026=\"\",B1026&\"||\"&B1026,C1026&\"||\"&B1026),Worktags!AR:AV,5,FALSE),\"\")","v":"All"}]
["7000_SC7005 Travel/Travel - Lodging",{"$f":"Worktags!AS959","v":"7000"},{"$f":"IF(Worktags!AQ959<>Worktags!AS959,Worktags!AQ959,\"\")","v":"SC7005"},{"$f":"IFERROR(VLOOKUP(B1027,Worktags!AL:AO,2,FALSE),\"\")","v":"Travel"},{"$f":"IFERROR(VLOOKUP(C1027,Worktags!O:T,2,FALSE),\"\")","v":"Travel - Lodging"},{"$f":"IFERROR(VLOOKUP(IF(C1027=\"\",B1027&\"||\"&B1027,C1027&\"||\"&B1027),Worktags!AR:AV,5,FALSE),\"\")","v":"All"}]
["7000_SC7006 Travel/Travel - Tour Guide Services",{"$f":"Worktags!AS961","v":"7000"},{"$f":"IF(Worktags!AQ961<>Worktags!AS961,Worktags!AQ961,\"\")","v":"SC7006"},{"$f":"IFERROR(VLOOKUP(B1028,Worktags!AL:AO,2,FALSE),\"\")","v":"Travel"},{"$f":"IFERROR(VLOOKUP(C1028,Worktags!O:T,2,FALSE),\"\")","v":"Travel - Tour Guide Services"},{"$f":"IFERROR(VLOOKUP(IF(C1028=\"\",B1028&\"||\"&B1028,C1028&\"||\"&B1028),Worktags!AR:AV,5,FALSE),\"\")","v":"All"}]
["7000_SC7099 Travel/Travel (reclass)",{"$f":"Worktags!AS963","v":"7000"},{"$f":"IF(Worktags!AQ963<>Worktags!AS963,Worktags!AQ963,\"\")","v":"SC7099"},{"$f":"IFERROR(VLOOKUP(B1029,Worktags!AL:AO,2,FALSE),\"\")","v":"Travel"},{"$f":"IFERROR(VLOOKUP(C1029,Worktags!O:T,2,FALSE),\"\")","v":"Travel (reclass)"},{"$f":"IFERROR(VLOOKUP(IF(C1029=\"\",B1029&\"||\"&B1029,C1029&\"||\"&B1029),Worktags!AR:AV,5,FALSE),\"\")","v":"All"}]
["8000 Depreciation",{"$f":"Worktags!AL132","v":"8000"},null,{"$f":"IFERROR(VLOOKUP(B1030,Worktags!AL:AO,2,FALSE),\"\")","v":"Depreciation"},null,{"$f":"IFERROR(VLOOKUP(IF(C1030=\"\",B1030&\"||\"&B1030,C1030&\"||\"&B1030),Worktags!AR:AV,5,FALSE),\"\")","v":""}]
["8000_SC1605 Depreciation/Buildings",{"$f":"Worktags!AS225","v":"8000"},{"$f":"IF(Worktags!AQ225<>Worktags!AS225,Worktags!AQ225,\"\")","v":"SC1605"},{"$f":"IFERROR(VLOOKUP(B1031,Worktags!AL:AO,2,FALSE),\"\")","v":"Depreciation"},{"$f":"IFERROR(VLOOKUP(C1031,Worktags!O:T,2,FALSE),\"\")","v":"Buildings"},{"$f":"IFERROR(VLOOKUP(IF(C1031=\"\",B1031&\"||\"&B1031,C1031&\"||\"&B1031),Worktags!AR:AV,5,FALSE),\"\")","v":"JE_PPE|JE_Override"}]
["8000_SC1635 Depreciation/Misc Capital Assets",{"$f":"Worktags!AS229","v":"8000"},{"$f":"IF(Worktags!AQ229<>Worktags!AS229,Worktags!AQ229,\"\")","v":"SC1635"},{"$f":"IFERROR(VLOOKUP(B1032,Worktags!AL:AO,2,FALSE),\"\")","v":"Depreciation"},{"$f":"IFERROR(VLOOKUP(C1032,Worktags!O:T,2,FALSE),\"\")","v":"Misc Capital Assets"},{"$f":"IFERROR(VLOOKUP(IF(C1032=\"\",B1032&\"||\"&B1032,C1032&\"||\"&B1032),Worktags!AR:AV,5,FALSE),\"\")","v":"JE_PPE|JE_Override"}]
["8000_SC6701 Depreciation/Building Access Supplies",{"$f":"Worktags!AS552","v":"8000"},{"$f":"IF(Worktags!AQ552<>Worktags!AS552,Worktags!AQ552,\"\")","v":"SC6701"},{"$f":"IFERROR(VLOOKUP(B1033,Worktags!AL:AO,2,FALSE),\"\")","v":"Depreciation"},{"$f":"IFERROR(VLOOKUP(C1033,Worktags!O:T,2,FALSE),\"\")","v":"Building Access Supplies"},{"$f":"IFERROR(VLOOKUP(IF(C1033=\"\",B1033&\"||\"&B1033,C1033&\"||\"&B1033),Worktags!AR:AV,5,FALSE),\"\")","v":"JE_PPE|JE_Override"}]
["8000_SC6702 Depreciation/Building Construction and Improvements",{"$f":"Worktags!AS559","v":"8000"},{"$f":"IF(Worktags!AQ559<>Worktags!AS559,Worktags!AQ559,\"\")","v":"SC6702"},{"$f":"IFERROR(VLOOKUP(B1034,Worktags!AL:AO,2,FALSE),\"\")","v":"Depreciation"},{"$f":"IFERROR(VLOOKUP(C1034,Worktags!O:T,2,FALSE),\"\")","v":"Building Construction and Improvements"},{"$f":"IFERROR(VLOOKUP(IF(C1034=\"\",B1034&\"||\"&B1034,C1034&\"||\"&B1034),Worktags!AR:AV,5,FALSE),\"\")","v":"JE_PPE|JE_Override"}]
["8000_SC6703 Depreciation/Building Furnishings",{"$f":"Worktags!AS566","v":"8000"},{"$f":"IF(Worktags!AQ566<>Worktags!AS566,Worktags!AQ566,\"\")","v":"SC6703"},{"$f":"IFERROR(VLOOKUP(B1035,Worktags!AL:AO,2,FALSE),\"\")","v":"Depreciation"},{"$f":"IFERROR(VLOOKUP(C1035,Worktags!O:T,2,FALSE),\"\")","v":"Building Furnishings"},{"$f":"IFERROR(VLOOKUP(IF(C1035=\"\",B1035&\"||\"&B1035,C1035&\"||\"&B1035),Worktags!AR:AV,5,FALSE),\"\")","v":"JE_PPE|JE_Override"}]
["8000_SC6704 Depreciation/Building Materials - Finishing",{"$f":"Worktags!AS573","v":"8000"},{"$f":"IF(Worktags!AQ573<>Worktags!AS573,Worktags!AQ573,\"\")","v":"SC6704"},{"$f":"IFERROR(VLOOKUP(B1036,Worktags!AL:AO,2,FALSE),\"\")","v":"Depreciation"},{"$f":"IFERROR(VLOOKUP(C1036,Worktags!O:T,2,FALSE),\"\")","v":"Building Materials - Finishing"},{"$f":"IFERROR(VLOOKUP(IF(C1036=\"\",B1036&\"||\"&B1036,C1036&\"||\"&B1036),Worktags!AR:AV,5,FALSE),\"\")","v":"JE_PPE|JE_Override"}]
["8000_SC6705 Depreciation/Building Materials - Raw",{"$f":"Worktags!AS580","v":"8000"},{"$f":"IF(Worktags!AQ580<>Worktags!AS580,Worktags!AQ580,\"\")","v":"SC6705"},{"$f":"IFERROR(VLOOKUP(B1037,Worktags!AL:AO,2,FALSE),\"\")","v":"Depreciation"},{"$f":"IFERROR(VLOOKUP(C1037,Worktags!O:T,2,FALSE),\"\")","v":"Building Materials - Raw"},{"$f":"IFERROR(VLOOKUP(IF(C1037=\"\",B1037&\"||\"&B1037,C1037&\"||\"&B1037),Worktags!AR:AV,5,FALSE),\"\")","v":"JE_PPE|JE_Override"}]
["8000_SC6706 Depreciation/Electrical Devices",{"$f":"Worktags!AS587","v":"8000"},{"$f":"IF(Worktags!AQ587<>Worktags!AS587,Worktags!AQ587,\"\")","v":"SC6706"},{"$f":"IFERROR(VLOOKUP(B1038,Worktags!AL:AO,2,FALSE),\"\")","v":"Depreciation"},{"$f":"IFERROR(VLOOKUP(C1038,Worktags!O:T,2,FALSE),\"\")","v":"Electrical Devices"},{"$f":"IFERROR(VLOOKUP(IF(C1038=\"\",B1038&\"||\"&B1038,C1038&\"||\"&B1038),Worktags!AR:AV,5,FALSE),\"\")","v":"JE_PPE|JE_Override"}]
["8000_SC6708 Depreciation/Fans/Furnaces",{"$f":"Worktags!AS599","v":"8000"},{"$f":"IF(Worktags!AQ599<>Worktags!AS599,Worktags!AQ599,\"\")","v":"SC6708"},{"$f":"IFERROR(VLOOKUP(B1039,Worktags!AL:AO,2,FALSE),\"\")","v":"Depreciation"},{"$f":"IFERROR(VLOOKUP(C1039,Worktags!O:T,2,FALSE),\"\")","v":"Fans/Furnaces"},{"$f":"IFERROR(VLOOKUP(IF(C1039=\"\",B1039&\"||\"&B1039,C1039&\"||\"&B1039),Worktags!AR:AV,5,FALSE),\"\")","v":"JE_PPE|JE_Override"}]
["8000_SC6709 Depreciation/Flooring Materials",{"$f":"Worktags!AS606","v":"8000"},{"$f":"IF(Worktags!AQ606<>Worktags!AS606,Worktags!AQ606,\"\")","v":"SC6709"},{"$f":"IFERROR(VLOOKUP(B1040,Worktags!AL:AO,2,FALSE),\"\")","v":"Depreciation"},{"$f":"IFERROR(VLOOKUP(C1040,Worktags!O:T,2,FALSE),\"\")","v":"Flooring Materials"},{"$f":"IFERROR(VLOOKUP(IF(C1040=\"\",B1040&\"||\"&B1040,C1040&\"||\"&B1040),Worktags!AR:AV,5,FALSE),\"\")","v":"JE_PPE|JE_Override"}]
["8000_SC6710 Depreciation/Furnishing Accessories",{"$f":"Worktags!AS613","v":"8000"},{"$f":"IF(Worktags!AQ613<>Worktags!AS613,Worktags!AQ613,\"\")","v":"SC6710"},{"$f":"IFERROR(VLOOKUP(B1041,Worktags!AL:AO,2,FALSE),\"\")","v":"Depreciation"},{"$f":"IFERROR(VLOOKUP(C1041,Worktags!O:T,2,FALSE),\"\")","v":"Furnishing Accessories"},{"$f":"IFERROR(VLOOKUP(IF(C1041=\"\",B1041&\"||\"&B1041,C1041&\"||\"&B1041),Worktags!AR:AV,5,FALSE),\"\")","v":"JE_PPE|JE_Override"}]
["8000_SC6711 Depreciation/Grounds and Landscaping Supplies",{"$f":"Worktags!AS620","v":"8000"},{"$f":"IF(Worktags!AQ620<>Worktags!AS620,Worktags!AQ620,\"\")","v":"SC6711"},{"$f":"IFERROR(VLOOKUP(B1042,Worktags!AL:AO,2,FALSE),\"\")","v":"Depreciation"},{"$f":"IFERROR(VLOOKUP(C1042,Worktags!O:T,2,FALSE),\"\")","v":"Grounds and Landscaping Supplies"},{"$f":"IFERROR(VLOOKUP(IF(C1042=\"\",B1042&\"||\"&B1042,C1042&\"||\"&B1042),Worktags!AR:AV,5,FALSE),\"\")","v":"JE_PPE|JE_Override"}]
["8000_SC6713 Depreciation/Industrial Fixtures",{"$f":"Worktags!AS629","v":"8000"},{"$f":"IF(Worktags!AQ629<>Worktags!AS629,Worktags!AQ629,\"\")","v":"SC6713"},{"$f":"IFERROR(VLOOKUP(B1043,Worktags!AL:AO,2,FALSE),\"\")","v":"Depreciation"},{"$f":"IFERROR(VLOOKUP(C1043,Worktags!O:T,2,FALSE),\"\")","v":"Industrial Fixtures"},{"$f":"IFERROR(VLOOKUP(IF(C1043=\"\",B1043&\"||\"&B1043,C1043&\"||\"&B1043),Worktags!AR:AV,5,FALSE),\"\")","v":"JE_PPE|JE_Override"}]
["8000_SC6714 Depreciation/Lighting Fixtures and Lamps",{"$f":"Worktags!AS636","v":"8000"},{"$f":"IF(Worktags!AQ636<>Worktags!AS636,Worktags!AQ636,\"\")","v":"SC6714"},{"$f":"IFERROR(VLOOKUP(B1044,Worktags!AL:AO,2,FALSE),\"\")","v":"Depreciation"},{"$f":"IFERROR(VLOOKUP(C1044,Worktags!O:T,2,FALSE),\"\")","v":"Lighting Fixtures and Lamps"},{"$f":"IFERROR(VLOOKUP(IF(C1044=\"\",B1044&\"||\"&B1044,C1044&\"||\"&B1044),Worktags!AR:AV,5,FALSE),\"\")","v":"JE_PPE|JE_Override"}]
["8000_SC6715 Depreciation/Plumbing Fixtures",{"$f":"Worktags!AS643","v":"8000"},{"$f":"IF(Worktags!AQ643<>Worktags!AS643,Worktags!AQ643,\"\")","v":"SC6715"},{"$f":"IFERROR(VLOOKUP(B1045,Worktags!AL:AO,2,FALSE),\"\")","v":"Depreciation"},{"$f":"IFERROR(VLOOKUP(C1045,Worktags!O:T,2,FALSE),\"\")","v":"Plumbing Fixtures"},{"$f":"IFERROR(VLOOKUP(IF(C1045=\"\",B1045&\"||\"&B1045,C1045&\"||\"&B1045),Worktags!AR:AV,5,FALSE),\"\")","v":"JE_PPE|JE_Override"}]
["8000_SC6718 Depreciation/Signage, Electronic",{"$f":"Worktags!AS656","v":"8000"},{"$f":"IF(Worktags!AQ656<>Worktags!AS656,Worktags!AQ656,\"\")","v":"SC6718"},{"$f":"IFERROR(VLOOKUP(B1046,Worktags!AL:AO,2,FALSE),\"\")","v":"Depreciation"},{"$f":"IFERROR(VLOOKUP(C1046,Worktags!O:T,2,FALSE),\"\")","v":"Signage, Electronic"},{"$f":"IFERROR(VLOOKUP(IF(C1046=\"\",B1046&\"||\"&B1046,C1046&\"||\"&B1046),Worktags!AR:AV,5,FALSE),\"\")","v":"JE_PPE|JE_Override"}]
["8000_SC6719 Depreciation/Signage, Non-electronic",{"$f":"Worktags!AS663","v":"8000"},{"$f":"IF(Worktags!AQ663<>Worktags!AS663,Worktags!AQ663,\"\")","v":"SC6719"},{"$f":"IFERROR(VLOOKUP(B1047,Worktags!AL:AO,2,FALSE),\"\")","v":"Depreciation"},{"$f":"IFERROR(VLOOKUP(C1047,Worktags!O:T,2,FALSE),\"\")","v":"Signage, Non-electronic"},{"$f":"IFERROR(VLOOKUP(IF(C1047=\"\",B1047&\"||\"&B1047,C1047&\"||\"&B1047),Worktags!AR:AV,5,FALSE),\"\")","v":"JE_PPE|JE_Override"}]
["8000_SC6721 Depreciation/Stage and Studio Lighting (Asset Track)",{"$f":"Worktags!AS674","v":"8000"},{"$f":"IF(Worktags!AQ674<>Worktags!AS674,Worktags!AQ674,\"\")","v":"SC6721"},{"$f":"IFERROR(VLOOKUP(B1048,Worktags!AL:AO,2,FALSE),\"\")","v":"Depreciation"},{"$f":"IFERROR(VLOOKUP(C1048,Worktags!O:T,2,FALSE),\"\")","v":"Stage and Studio Lighting (Asset Track)"},{"$f":"IFERROR(VLOOKUP(IF(C1048=\"\",B1048&\"||\"&B1048,C1048&\"||\"&B1048),Worktags!AR:AV,5,FALSE),\"\")","v":"JE_PPE|JE_Override"}]
["8000_SC6729 Depreciation/Warehouse Fixtures",{"$f":"Worktags!AS695","v":"8000"},{"$f":"IF(Worktags!AQ695<>Worktags!AS695,Worktags!AQ695,\"\")","v":"SC6729"},{"$f":"IFERROR(VLOOKUP(B1049,Worktags!AL:AO,2,FALSE),\"\")","v":"Depreciation"},{"$f":"IFERROR(VLOOKUP(C1049,Worktags!O:T,2,FALSE),\"\")","v":"Warehouse Fixtures"},{"$f":"IFERROR(VLOOKUP(IF(C1049=\"\",B1049&\"||\"&B1049,C1049&\"||\"&B1049),Worktags!AR:AV,5,FALSE),\"\")","v":"JE_PPE|JE_Override"}]
["8000_SC6730 Depreciation/Window Treatments",{"$f":"Worktags!AS702","v":"8000"},{"$f":"IF(Worktags!AQ702<>Worktags!AS702,Worktags!AQ702,\"\")","v":"SC6730"},{"$f":"IFERROR(VLOOKUP(B1050,Worktags!AL:AO,2,FALSE),\"\")","v":"Depreciation"},{"$f":"IFERROR(VLOOKUP(C1050,Worktags!O:T,2,FALSE),\"\")","v":"Window Treatments"},{"$f":"IFERROR(VLOOKUP(IF(C1050=\"\",B1050&\"||\"&B1050,C1050&\"||\"&B1050),Worktags!AR:AV,5,FALSE),\"\")","v":"JE_PPE|JE_Override"}]
["8000_SC6901 Depreciation/Art Equipment",{"$f":"Worktags!AS716","v":"8000"},{"$f":"IF(Worktags!AQ716<>Worktags!AS716,Worktags!AQ716,\"\")","v":"SC6901"},{"$f":"IFERROR(VLOOKUP(B1051,Worktags!AL:AO,2,FALSE),\"\")","v":"Depreciation"},{"$f":"IFERROR(VLOOKUP(C1051,Worktags!O:T,2,FALSE),\"\")","v":"Art Equipment"},{"$f":"IFERROR(VLOOKUP(IF(C1051=\"\",B1051&\"||\"&B1051,C1051&\"||\"&B1051),Worktags!AR:AV,5,FALSE),\"\")","v":"JE_PPE|JE_Override"}]
["8000_SC6902 Depreciation/Athletic Equipment",{"$f":"Worktags!AS723","v":"8000"},{"$f":"IF(Worktags!AQ723<>Worktags!AS723,Worktags!AQ723,\"\")","v":"SC6902"},{"$f":"IFERROR(VLOOKUP(B1052,Worktags!AL:AO,2,FALSE),\"\")","v":"Depreciation"},{"$f":"IFERROR(VLOOKUP(C1052,Worktags!O:T,2,FALSE),\"\")","v":"Athletic Equipment"},{"$f":"IFERROR(VLOOKUP(IF(C1052=\"\",B1052&\"||\"&B1052,C1052&\"||\"&B1052),Worktags!AR:AV,5,FALSE),\"\")","v":"JE_PPE|JE_Override"}]
["8000_SC6903 Depreciation/Audio Visual Equipment (Asset Track)",{"$f":"Worktags!AS730","v":"8000"},{"$f":"IF(Worktags!AQ730<>Worktags!AS730,Worktags!AQ730,\"\")","v":"SC6903"},{"$f":"IFERROR(VLOOKUP(B1053,Worktags!AL:AO,2,FALSE),\"\")","v":"Depreciation"},{"$f":"IFERROR(VLOOKUP(C1053,Worktags!O:T,2,FALSE),\"\")","v":"Audio Visual Equipment (Asset Track)"},{"$f":"IFERROR(VLOOKUP(IF(C1053=\"\",B1053&\"||\"&B1053,C1053&\"||\"&B1053),Worktags!AR:AV,5,FALSE),\"\")","v":"JE_PPE|JE_Override"}]
["8000_SC6904 Depreciation/Communication Devices (Asset Track)",{"$f":"Worktags!AS737","v":"8000"},{"$f":"IF(Worktags!AQ737<>Worktags!AS737,Worktags!AQ737,\"\")","v":"SC6904"},{"$f":"IFERROR(VLOOKUP(B1054,Worktags!AL:AO,2,FALSE),\"\")","v":"Depreciation"},{"$f":"IFERROR(VLOOKUP(C1054,Worktags!O:T,2,FALSE),\"\")","v":"Communication Devices (Asset Track)"},{"$f":"IFERROR(VLOOKUP(IF(C1054=\"\",B1054&\"||\"&B1054,C1054&\"||\"&B1054),Worktags!AR:AV,5,FALSE),\"\")","v":"JE_PPE|JE_Override"}]
["8000_SC6905 Depreciation/Computer Hardware (Asset Track)",{"$f":"Worktags!AS744","v":"8000"},{"$f":"IF(Worktags!AQ744<>Worktags!AS744,Worktags!AQ744,\"\")","v":"SC6905"},{"$f":"IFERROR(VLOOKUP(B1055,Worktags!AL:AO,2,FALSE),\"\")","v":"Depreciation"},{"$f":"IFERROR(VLOOKUP(C1055,Worktags!O:T,2,FALSE),\"\")","v":"Computer Hardware (Asset Track)"},{"$f":"IFERROR(VLOOKUP(IF(C1055=\"\",B1055&\"||\"&B1055,C1055&\"||\"&B1055),Worktags!AR:AV,5,FALSE),\"\")","v":"JE_PPE|JE_Override"}]
["8000_SC6906 Depreciation/Data Network Equipment (Asset Track)",{"$f":"Worktags!AS751","v":"8000"},{"$f":"IF(Worktags!AQ751<>Worktags!AS751,Worktags!AQ751,\"\")","v":"SC6906"},{"$f":"IFERROR(VLOOKUP(B1056,Worktags!AL:AO,2,FALSE),\"\")","v":"Depreciation"},{"$f":"IFERROR(VLOOKUP(C1056,Worktags!O:T,2,FALSE),\"\")","v":"Data Network Equipment (Asset Track)"},{"$f":"IFERROR(VLOOKUP(IF(C1056=\"\",B1056&\"||\"&B1056,C1056&\"||\"&B1056),Worktags!AR:AV,5,FALSE),\"\")","v":"JE_PPE|JE_Override"}]
["8000_SC6907 Depreciation/Equipment (not otherwise specified) (Asset Track)",{"$f":"Worktags!AS758","v":"8000"},{"$f":"IF(Worktags!AQ758<>Worktags!AS758,Worktags!AQ758,\"\")","v":"SC6907"},{"$f":"IFERROR(VLOOKUP(B1057,Worktags!AL:AO,2,FALSE),\"\")","v":"Depreciation"},{"$f":"IFERROR(VLOOKUP(C1057,Worktags!O:T,2,FALSE),\"\")","v":"Equipment (not otherwise specified) (Asset Track)"},{"$f":"IFERROR(VLOOKUP(IF(C1057=\"\",B1057&\"||\"&B1057,C1057&\"||\"&B1057),Worktags!AR:AV,5,FALSE),\"\")","v":"JE_PPE|JE_Override"}]
["8000_SC6909 Depreciation/Firearms",{"$f":"Worktags!AS765","v":"8000"},{"$f":"IF(Worktags!AQ765<>Worktags!AS765,Worktags!AQ765,\"\")","v":"SC6909"},{"$f":"IFERROR(VLOOKUP(B1058,Worktags!AL:AO,2,FALSE),\"\")","v":"Depreciation"},{"$f":"IFERROR(VLOOKUP(C1058,Worktags!O:T,2,FALSE),\"\")","v":"Firearms"},{"$f":"IFERROR(VLOOKUP(IF(C1058=\"\",B1058&\"||\"&B1058,C1058&\"||\"&B1058),Worktags!AR:AV,5,FALSE),\"\")","v":"JE_PPE|JE_Override"}]
["8000_SC6910 Depreciation/Food Service Equipment",{"$f":"Worktags!AS772","v":"8000"},{"$f":"IF(Worktags!AQ772<>Worktags!AS772,Worktags!AQ772,\"\")","v":"SC6910"},{"$f":"IFERROR(VLOOKUP(B1059,Worktags!AL:AO,2,FALSE),\"\")","v":"Depreciation"},{"$f":"IFERROR(VLOOKUP(C1059,Worktags!O:T,2,FALSE),\"\")","v":"Food Service Equipment"},{"$f":"IFERROR(VLOOKUP(IF(C1059=\"\",B1059&\"||\"&B1059,C1059&\"||\"&B1059),Worktags!AR:AV,5,FALSE),\"\")","v":"JE_PPE|JE_Override"}]
["8000_SC6911 Depreciation/Grants Capital Equipment",{"$f":"Worktags!AS777","v":"8000"},{"$f":"IF(Worktags!AQ777<>Worktags!AS777,Worktags!AQ777,\"\")","v":"SC6911"},{"$f":"IFERROR(VLOOKUP(B1060,Worktags!AL:AO,2,FALSE),\"\")","v":"Depreciation"},{"$f":"IFERROR(VLOOKUP(C1060,Worktags!O:T,2,FALSE),\"\")","v":"Grants Capital Equipment"},{"$f":"IFERROR(VLOOKUP(IF(C1060=\"\",B1060&\"||\"&B1060,C1060&\"||\"&B1060),Worktags!AR:AV,5,FALSE),\"\")","v":"JE_PPE|JE_Override"}]
["8000_SC6913 Depreciation/Grounds Equipment",{"$f":"Worktags!AS784","v":"8000"},{"$f":"IF(Worktags!AQ784<>Worktags!AS784,Worktags!AQ784,\"\")","v":"SC6913"},{"$f":"IFERROR(VLOOKUP(B1061,Worktags!AL:AO,2,FALSE),\"\")","v":"Depreciation"},{"$f":"IFERROR(VLOOKUP(C1061,Worktags!O:T,2,FALSE),\"\")","v":"Grounds Equipment"},{"$f":"IFERROR(VLOOKUP(IF(C1061=\"\",B1061&\"||\"&B1061,C1061&\"||\"&B1061),Worktags!AR:AV,5,FALSE),\"\")","v":"JE_PPE|JE_Override"}]
["8000_SC6914 Depreciation/Industrial Equipment",{"$f":"Worktags!AS791","v":"8000"},{"$f":"IF(Worktags!AQ791<>Worktags!AS791,Worktags!AQ791,\"\")","v":"SC6914"},{"$f":"IFERROR(VLOOKUP(B1062,Worktags!AL:AO,2,FALSE),\"\")","v":"Depreciation"},{"$f":"IFERROR(VLOOKUP(C1062,Worktags!O:T,2,FALSE),\"\")","v":"Industrial Equipment"},{"$f":"IFERROR(VLOOKUP(IF(C1062=\"\",B1062&\"||\"&B1062,C1062&\"||\"&B1062),Worktags!AR:AV,5,FALSE),\"\")","v":"JE_PPE|JE_Override"}]
["8000_SC6915 Depreciation/Janitorial Equipment",{"$f":"Worktags!AS798","v":"8000"},{"$f":"IF(Worktags!AQ798<>Worktags!AS798,Worktags!AQ798,\"\")","v":"SC6915"},{"$f":"IFERROR(VLOOKUP(B1063,Worktags!AL:AO,2,FALSE),\"\")","v":"Depreciation"},{"$f":"IFERROR(VLOOKUP(C1063,Worktags!O:T,2,FALSE),\"\")","v":"Janitorial Equipment"},{"$f":"IFERROR(VLOOKUP(IF(C1063=\"\",B1063&\"||\"&B1063,C1063&\"||\"&B1063),Worktags!AR:AV,5,FALSE),\"\")","v":"JE_PPE|JE_Override"}]
["8000_SC6917 Depreciation/Laundry Equipment",{"$f":"Worktags!AS807","v":"8000"},{"$f":"IF(Worktags!AQ807<>Worktags!AS807,Worktags!AQ807,\"\")","v":"SC6917"},{"$f":"IFERROR(VLOOKUP(B1064,Worktags!AL:AO,2,FALSE),\"\")","v":"Depreciation"},{"$f":"IFERROR(VLOOKUP(C1064,Worktags!O:T,2,FALSE),\"\")","v":"Laundry Equipment"},{"$f":"IFERROR(VLOOKUP(IF(C1064=\"\",B1064&\"||\"&B1064,C1064&\"||\"&B1064),Worktags!AR:AV,5,FALSE),\"\")","v":"JE_PPE|JE_Override"}]
["8000_SC6918 Depreciation/Library Content",{"$f":"Worktags!AS812","v":"8000"},{"$f":"IF(Worktags!AQ812<>Worktags!AS812,Worktags!AQ812,\"\")","v":"SC6918"},{"$f":"IFERROR(VLOOKUP(B1065,Worktags!AL:AO,2,FALSE),\"\")","v":"Depreciation"},{"$f":"IFERROR(VLOOKUP(C1065,Worktags!O:T,2,FALSE),\"\")","v":"Library Content"},{"$f":"IFERROR(VLOOKUP(IF(C1065=\"\",B1065&\"||\"&B1065,C1065&\"||\"&B1065),Worktags!AR:AV,5,FALSE),\"\")","v":"JE_PPE|JE_Override"}]
["8000_SC6920 Depreciation/Media Content",{"$f":"Worktags!AS819","v":"8000"},{"$f":"IF(Worktags!AQ819<>Worktags!AS819,Worktags!AQ819,\"\")","v":"SC6920"},{"$f":"IFERROR(VLOOKUP(B1066,Worktags!AL:AO,2,FALSE),\"\")","v":"Depreciation"},{"$f":"IFERROR(VLOOKUP(C1066,Worktags!O:T,2,FALSE),\"\")","v":"Media Content"},{"$f":"IFERROR(VLOOKUP(IF(C1066=\"\",B1066&\"||\"&B1066,C1066&\"||\"&B1066),Worktags!AR:AV,5,FALSE),\"\")","v":"JE_PPE|JE_Override"}]
["8000_SC6921 Depreciation/Medical Equipment",{"$f":"Worktags!AS826","v":"8000"},{"$f":"IF(Worktags!AQ826<>Worktags!AS826,Worktags!AQ826,\"\")","v":"SC6921"},{"$f":"IFERROR(VLOOKUP(B1067,Worktags!AL:AO,2,FALSE),\"\")","v":"Depreciation"},{"$f":"IFERROR(VLOOKUP(C1067,Worktags!O:T,2,FALSE),\"\")","v":"Medical Equipment"},{"$f":"IFERROR(VLOOKUP(IF(C1067=\"\",B1067&\"||\"&B1067,C1067&\"||\"&B1067),Worktags!AR:AV,5,FALSE),\"\")","v":"JE_PPE|JE_Override"}]
["8000_SC6923 Depreciation/Musical Instruments",{"$f":"Worktags!AS833","v":"8000"},{"$f":"IF(Worktags!AQ833<>Worktags!AS833,Worktags!AQ833,\"\")","v":"SC6923"},{"$f":"IFERROR(VLOOKUP(B1068,Worktags!AL:AO,2,FALSE),\"\")","v":"Depreciation"},{"$f":"IFERROR(VLOOKUP(C1068,Worktags!O:T,2,FALSE),\"\")","v":"Musical Instruments"},{"$f":"IFERROR(VLOOKUP(IF(C1068=\"\",B1068&\"||\"&B1068,C1068&\"||\"&B1068),Worktags!AR:AV,5,FALSE),\"\")","v":"JE_PPE|JE_Override"}]
["8000_SC6924 Depreciation/Office Equipment (Asset Track)",{"$f":"Worktags!AS840","v":"8000"},{"$f":"IF(Worktags!AQ840<>Worktags!AS840,Worktags!AQ840,\"\")","v":"SC6924"},{"$f":"IFERROR(VLOOKUP(B1069,Worktags!AL:AO,2,FALSE),\"\")","v":"Depreciation"},{"$f":"IFERROR(VLOOKUP(C1069,Worktags!O:T,2,FALSE),\"\")","v":"Office Equipment (Asset Track)"},{"$f":"IFERROR(VLOOKUP(IF(C1069=\"\",B1069&\"||\"&B1069,C1069&\"||\"&B1069),Worktags!AR:AV,5,FALSE),\"\")","v":"JE_PPE|JE_Override"}]
["8000_SC6926 Depreciation/Photography Equipment",{"$f":"Worktags!AS847","v":"8000"},{"$f":"IF(Worktags!AQ847<>Worktags!AS847,Worktags!AQ847,\"\")","v":"SC6926"},{"$f":"IFERROR(VLOOKUP(B1070,Worktags!AL:AO,2,FALSE),\"\")","v":"Depreciation"},{"$f":"IFERROR(VLOOKUP(C1070,Worktags!O:T,2,FALSE),\"\")","v":"Photography Equipment"},{"$f":"IFERROR(VLOOKUP(IF(C1070=\"\",B1070&\"||\"&B1070,C1070&\"||\"&B1070),Worktags!AR:AV,5,FALSE),\"\")","v":"JE_PPE|JE_Override"}]
["8000_SC6927 Depreciation/Portable Structures",{"$f":"Worktags!AS854","v":"8000"},{"$f":"IF(Worktags!AQ854<>Worktags!AS854,Worktags!AQ854,\"\")","v":"SC6927"},{"$f":"IFERROR(VLOOKUP(B1071,Worktags!AL:AO,2,FALSE),\"\")","v":"Depreciation"},{"$f":"IFERROR(VLOOKUP(C1071,Worktags!O:T,2,FALSE),\"\")","v":"Portable Structures"},{"$f":"IFERROR(VLOOKUP(IF(C1071=\"\",B1071&\"||\"&B1071,C1071&\"||\"&B1071),Worktags!AR:AV,5,FALSE),\"\")","v":"JE_PPE|JE_Override"}]
["8000_SC6928 Depreciation/Printing Equipment",{"$f":"Worktags!AS861","v":"8000"},{"$f":"IF(Worktags!AQ861<>Worktags!AS861,Worktags!AQ861,\"\")","v":"SC6928"},{"$f":"IFERROR(VLOOKUP(B1072,Worktags!AL:AO,2,FALSE),\"\")","v":"Depreciation"},{"$f":"IFERROR(VLOOKUP(C1072,Worktags!O:T,2,FALSE),\"\")","v":"Printing Equipment"},{"$f":"IFERROR(VLOOKUP(IF(C1072=\"\",B1072&\"||\"&B1072,C1072&\"||\"&B1072),Worktags!AR:AV,5,FALSE),\"\")","v":"JE_PPE|JE_Override"}]
["8000_SC6929 Depreciation/Scientific and Engineering Equipment",{"$f":"Worktags!AS868","v":"8000"},{"$f":"IF(Worktags!AQ868<>Worktags!AS868,Worktags!AQ868,\"\")","v":"SC6929"},{"$f":"IFERROR(VLOOKUP(B1073,Worktags!AL:AO,2,FALSE),\"\")","v":"Depreciation"},{"$f":"IFERROR(VLOOKUP(C1073,Worktags!O:T,2,FALSE),\"\")","v":"Scientific and Engineering Equipment"},{"$f":"IFERROR(VLOOKUP(IF(C1073=\"\",B1073&\"||\"&B1073,C1073&\"||\"&B1073),Worktags!AR:AV,5,FALSE),\"\")","v":"JE_PPE|JE_Override"}]
["8000_SC6931 Depreciation/Security Equipment (Asset Track)",{"$f":"Worktags!AS877","v":"8000"},{"$f":"IF(Worktags!AQ877<>Worktags!AS877,Worktags!AQ877,\"\")","v":"SC6931"},{"$f":"IFERROR(VLOOKUP(B1074,Worktags!AL:AO,2,FALSE),\"\")","v":"Depreciation"},{"$f":"IFERROR(VLOOKUP(C1074,Worktags!O:T,2,FALSE),\"\")","v":"Security Equipment (Asset Track)"},{"$f":"IFERROR(VLOOKUP(IF(C1074=\"\",B1074&\"||\"&B1074,C1074&\"||\"&B1074),Worktags!AR:AV,5,FALSE),\"\")","v":"JE_PPE|JE_Override"}]
["8000_SC6932 Depreciation/Small Appliances",{"$f":"Worktags!AS884","v":"8000"},{"$f":"IF(Worktags!AQ884<>Worktags!AS884,Worktags!AQ884,\"\")","v":"SC6932"},{"$f":"IFERROR(VLOOKUP(B1075,Worktags!AL:AO,2,FALSE),\"\")","v":"Depreciation"},{"$f":"IFERROR(VLOOKUP(C1075,Worktags!O:T,2,FALSE),\"\")","v":"Small Appliances"},{"$f":"IFERROR(VLOOKUP(IF(C1075=\"\",B1075&\"||\"&B1075,C1075&\"||\"&B1075),Worktags!AR:AV,5,FALSE),\"\")","v":"JE_PPE|JE_Override"}]
["8000_SC6933 Depreciation/Software",{"$f":"Worktags!AS889","v":"8000"},{"$f":"IF(Worktags!AQ889<>Worktags!AS889,Worktags!AQ889,\"\")","v":"SC6933"},{"$f":"IFERROR(VLOOKUP(B1076,Worktags!AL:AO,2,FALSE),\"\")","v":"Depreciation"},{"$f":"IFERROR(VLOOKUP(C1076,Worktags!O:T,2,FALSE),\"\")","v":"Software"},{"$f":"IFERROR(VLOOKUP(IF(C1076=\"\",B1076&\"||\"&B1076,C1076&\"||\"&B1076),Worktags!AR:AV,5,FALSE),\"\")","v":"JE_PPE|JE_Override"}]
["8000_SC6935 Depreciation/Telecom Equipment",{"$f":"Worktags!AS898","v":"8000"},{"$f":"IF(Worktags!AQ898<>Worktags!AS898,Worktags!AQ898,\"\")","v":"SC6935"},{"$f":"IFERROR(VLOOKUP(B1077,Worktags!AL:AO,2,FALSE),\"\")","v":"Depreciation"},{"$f":"IFERROR(VLOOKUP(C1077,Worktags!O:T,2,FALSE),\"\")","v":"Telecom Equipment"},{"$f":"IFERROR(VLOOKUP(IF(C1077=\"\",B1077&\"||\"&B1077,C1077&\"||\"&B1077),Worktags!AR:AV,5,FALSE),\"\")","v":"JE_PPE|JE_Override"}]
["8000_SC6937 Depreciation/Vehicles, Motor",{"$f":"Worktags!AS905","v":"8000"},{"$f":"IF(Worktags!AQ905<>Worktags!AS905,Worktags!AQ905,\"\")","v":"SC6937"},{"$f":"IFERROR(VLOOKUP(B1078,Worktags!AL:AO,2,FALSE),\"\")","v":"Depreciation"},{"$f":"IFERROR(VLOOKUP(C1078,Worktags!O:T,2,FALSE),\"\")","v":"Vehicles, Motor"},{"$f":"IFERROR(VLOOKUP(IF(C1078=\"\",B1078&\"||\"&B1078,C1078&\"||\"&B1078),Worktags!AR:AV,5,FALSE),\"\")","v":"JE_PPE|JE_Override"}]
["8000_SC6938 Depreciation/Vehicles, Off-Road",{"$f":"Worktags!AS910","v":"8000"},{"$f":"IF(Worktags!AQ910<>Worktags!AS910,Worktags!AQ910,\"\")","v":"SC6938"},{"$f":"IFERROR(VLOOKUP(B1079,Worktags!AL:AO,2,FALSE),\"\")","v":"Depreciation"},{"$f":"IFERROR(VLOOKUP(C1079,Worktags!O:T,2,FALSE),\"\")","v":"Vehicles, Off-Road"},{"$f":"IFERROR(VLOOKUP(IF(C1079=\"\",B1079&\"||\"&B1079,C1079&\"||\"&B1079),Worktags!AR:AV,5,FALSE),\"\")","v":"JE_PPE|JE_Override"}]
["8000_SC6939 Depreciation/Warehouse Equipment",{"$f":"Worktags!AS917","v":"8000"},{"$f":"IF(Worktags!AQ917<>Worktags!AS917,Worktags!AQ917,\"\")","v":"SC6939"},{"$f":"IFERROR(VLOOKUP(B1080,Worktags!AL:AO,2,FALSE),\"\")","v":"Depreciation"},{"$f":"IFERROR(VLOOKUP(C1080,Worktags!O:T,2,FALSE),\"\")","v":"Warehouse Equipment"},{"$f":"IFERROR(VLOOKUP(IF(C1080=\"\",B1080&\"||\"&B1080,C1080&\"||\"&B1080),Worktags!AR:AV,5,FALSE),\"\")","v":"JE_PPE|JE_Override"}]
["9199 AM Offset Default",{"$f":"Worktags!AL133","v":"9199"},null,{"$f":"IFERROR(VLOOKUP(B1081,Worktags!AL:AO,2,FALSE),\"\")","v":"AM Offset Default"},null,{"$f":"IFERROR(VLOOKUP(IF(C1081=\"\",B1081&\"||\"&B1081,C1081&\"||\"&B1081),Worktags!AR:AV,5,FALSE),\"\")","v":""}]
["9250 Funds Transfer",{"$f":"Worktags!AL134","v":"9250"},null,{"$f":"IFERROR(VLOOKUP(B1082,Worktags!AL:AO,2,FALSE),\"\")","v":"Funds Transfer"},null,{"$f":"IFERROR(VLOOKUP(IF(C1082=\"\",B1082&\"||\"&B1082,C1082&\"||\"&B1082),Worktags!AR:AV,5,FALSE),\"\")","v":"All"}]
["9250 Funds Transfer",{"$f":"Worktags!AS73","v":"9250"},{"$f":"IF(Worktags!AQ73<>Worktags!AS73,Worktags!AQ73,\"\")","v":""},{"$f":"IFERROR(VLOOKUP(B1083,Worktags!AL:AO,2,FALSE),\"\")","v":"Funds Transfer"},{"$f":"IFERROR(VLOOKUP(C1083,Worktags!O:T,2,FALSE),\"\")","v":""},{"$f":"IFERROR(VLOOKUP(IF(C1083=\"\",B1083&\"||\"&B1083,C1083&\"||\"&B1083),Worktags!AR:AV,5,FALSE),\"\")","v":"All"}]
["9780 Inter-Company Donation Expense",{"$f":"Worktags!AL135","v":"9780"},null,{"$f":"IFERROR(VLOOKUP(B1084,Worktags!AL:AO,2,FALSE),\"\")","v":"Inter-Company Donation Expense"},null,{"$f":"IFERROR(VLOOKUP(IF(C1084=\"\",B1084&\"||\"&B1084,C1084&\"||\"&B1084),Worktags!AR:AV,5,FALSE),\"\")","v":"All"}]
["9780 Inter-Company Donation Expense",{"$f":"Worktags!AS74","v":"9780"},{"$f":"IF(Worktags!AQ74<>Worktags!AS74,Worktags!AQ74,\"\")","v":""},{"$f":"IFERROR(VLOOKUP(B1085,Worktags!AL:AO,2,FALSE),\"\")","v":"Inter-Company Donation Expense"},{"$f":"IFERROR(VLOOKUP(C1085,Worktags!O:T,2,FALSE),\"\")","v":""},{"$f":"IFERROR(VLOOKUP(IF(C1085=\"\",B1085&\"||\"&B1085,C1085&\"||\"&B1085),Worktags!AR:AV,5,FALSE),\"\")","v":"All"}]
["9981 Next Year Estimated Payout",{"$f":"Worktags!AL136","v":"9981"},null,{"$f":"IFERROR(VLOOKUP(B1086,Worktags!AL:AO,2,FALSE),\"\")","v":"Next Year Estimated Payout"},null,{"$f":"IFERROR(VLOOKUP(IF(C1086=\"\",B1086&\"||\"&B1086,C1086&\"||\"&B1086),Worktags!AR:AV,5,FALSE),\"\")","v":"JE_Gift|JE_Override"}]
["9981 Next Year Estimated Payout",{"$f":"Worktags!AS75","v":"9981"},{"$f":"IF(Worktags!AQ75<>Worktags!AS75,Worktags!AQ75,\"\")","v":""},{"$f":"IFERROR(VLOOKUP(B1087,Worktags!AL:AO,2,FALSE),\"\")","v":"Next Year Estimated Payout"},{"$f":"IFERROR(VLOOKUP(C1087,Worktags!O:T,2,FALSE),\"\")","v":""},{"$f":"IFERROR(VLOOKUP(IF(C1087=\"\",B1087&\"||\"&B1087,C1087&\"||\"&B1087),Worktags!AR:AV,5,FALSE),\"\")","v":"JE_Gift|JE_Override"}]
["9990 SFAS 158 Annual Pension Adj",{"$f":"Worktags!AL137","v":"9990"},null,{"$f":"IFERROR(VLOOKUP(B1088,Worktags!AL:AO,2,FALSE),\"\")","v":"SFAS 158 Annual Pension Adj"},null,{"$f":"IFERROR(VLOOKUP(IF(C1088=\"\",B1088&\"||\"&B1088,C1088&\"||\"&B1088),Worktags!AR:AV,5,FALSE),\"\")","v":"All"}]
[{"$f":"IF(B1089<>\"\",IF(C1089<>\"\",B1089&\"_\"&C1089&\" \"&D1089&\"/\"&E1089,B1089&\" \"&D1089),\"\")","v":"9990 SFAS 158 Annual Pension Adj"},{"$f":"Worktags!AS76","v":"9990"},{"$f":"IF(Worktags!AQ76<>Worktags!AS76,Worktags!AQ76,\"\")","v":""},{"$f":"IFERROR(VLOOKUP(B1089,Worktags!AL:AO,2,FALSE),\"\")","v":"SFAS 158 Annual Pension Adj"},{"$f":"IFERROR(VLOOKUP(C1089,Worktags!O:T,2,FALSE),\"\")","v":""},{"$f":"IFERROR(VLOOKUP(IF(C1089=\"\",B1089&\"||\"&B1089,C1089&\"||\"&B1089),Worktags!AR:AV,5,FALSE),\"\")","v":"All"}]
["9995 Allocation Clearing",{"$f":"Worktags!AL138","v":"9995"},null,{"$f":"IFERROR(VLOOKUP(B1090,Worktags!AL:AO,2,FALSE),\"\")","v":"Allocation Clearing"},null,{"$f":"IFERROR(VLOOKUP(IF(C1090=\"\",B1090&\"||\"&B1090,C1090&\"||\"&B1090),Worktags!AR:AV,5,FALSE),\"\")","v":""}]
["9996 Cash Conversion (Fin Serv Only)",{"$f":"Worktags!AL139","v":"9996"},null,{"$f":"IFERROR(VLOOKUP(B1091,Worktags!AL:AO,2,FALSE),\"\")","v":"Cash Conversion (Fin Serv Only)"},null,{"$f":"IFERROR(VLOOKUP(IF(C1091=\"\",B1091&\"||\"&B1091,C1091&\"||\"&B1091),Worktags!AR:AV,5,FALSE),\"\")","v":""}]
["9997E Conversion Grant Expense",{"$f":"Worktags!AL140","v":"9997E"},null,{"$f":"IFERROR(VLOOKUP(B1092,Worktags!AL:AO,2,FALSE),\"\")","v":"Conversion Grant Expense"},null,{"$f":"IFERROR(VLOOKUP(IF(C1092=\"\",B1092&\"||\"&B1092,C1092&\"||\"&B1092),Worktags!AR:AV,5,FALSE),\"\")","v":""}]
["9997R Conversion Grant Revenue",{"$f":"Worktags!AL141","v":"9997R"},null,{"$f":"IFERROR(VLOOKUP(B1093,Worktags!AL:AO,2,FALSE),\"\")","v":"Conversion Grant Revenue"},null,{"$f":"IFERROR(VLOOKUP(IF(C1093=\"\",B1093&\"||\"&B1093,C1093&\"||\"&B1093),Worktags!AR:AV,5,FALSE),\"\")","v":""}]
["9998 Inventory Conversion",{"$f":"Worktags!AL142","v":"9998"},null,{"$f":"IFERROR(VLOOKUP(B1094,Worktags!AL:AO,2,FALSE),\"\")","v":"Inventory Conversion"},null,{"$f":"IFERROR(VLOOKUP(IF(C1094=\"\",B1094&\"||\"&B1094,C1094&\"||\"&B1094),Worktags!AR:AV,5,FALSE),\"\")","v":""}]
["9999 Conversion Grant Receviable",{"$f":"Worktags!AL143","v":"9999"},null,{"$f":"IFERROR(VLOOKUP(B1095,Worktags!AL:AO,2,FALSE),\"\")","v":"Conversion Grant Receviable"},null,{"$f":"IFERROR(VLOOKUP(IF(C1095=\"\",B1095&\"||\"&B1095,C1095&\"||\"&B1095),Worktags!AR:AV,5,FALSE),\"\")","v":""}]
[{"$f":"IF(B1096<>\"\",IF(C1096<>\"\",B1096&\"_\"&C1096&\" \"&D1096&\"/\"&E1096,B1096&\" \"&D1096),\"\")","v":""},null,null,null,null,{"$f":"IFERROR(VLOOKUP(IF(C1096=\"\",B1096&\"||\"&B1096,C1096&\"||\"&B1096),Worktags!AR:AV,5,FALSE),\"\")","v":""}]
["",null,null,null,null,{"$f":"IFERROR(VLOOKUP(IF(C1097=\"\",B1097&\"||\"&B1097,C1097&\"||\"&B1097),Worktags!AR:AV,5,FALSE),\"\")","v":""}]
["",null,null,null,null,{"$f":"IFERROR(VLOOKUP(IF(C1098=\"\",B1098&\"||\"&B1098,C1098&\"||\"&B1098),Worktags!AR:AV,5,FALSE),\"\")","v":""}]
["",null,null,null,null,{"$f":"IFERROR(VLOOKUP(IF(C1099=\"\",B1099&\"||\"&B1099,C1099&\"||\"&B1099),Worktags!AR:AV,5,FALSE),\"\")","v":""}]
["",null,null,null,null,{"$f":"IFERROR(VLOOKUP(IF(C1100=\"\",B1100&\"||\"&B1100,C1100&\"||\"&B1100),Worktags!AR:AV,5,FALSE),\"\")","v":""}]
["",null,null,null,null,{"$f":"IFERROR(VLOOKUP(IF(C1101=\"\",B1101&\"||\"&B1101,C1101&\"||\"&B1101),Worktags!AR:AV,5,FALSE),\"\")","v":""}]
["",null,null,null,null,{"$f":"IFERROR(VLOOKUP(IF(C1102=\"\",B1102&\"||\"&B1102,C1102&\"||\"&B1102),Worktags!AR:AV,5,FALSE),\"\")","v":""}]
["",null,null,null,null,{"$f":"IFERROR(VLOOKUP(IF(C1103=\"\",B1103&\"||\"&B1103,C1103&\"||\"&B1103),Worktags!AR:AV,5,FALSE),\"\")","v":""}]
["",null,null,null,null,{"$f":"IFERROR(VLOOKUP(IF(C1104=\"\",B1104&\"||\"&B1104,C1104&\"||\"&B1104),Worktags!AR:AV,5,FALSE),\"\")","v":""}]
["",null,null,null,null,{"$f":"IFERROR(VLOOKUP(IF(C1105=\"\",B1105&\"||\"&B1105,C1105&\"||\"&B1105),Worktags!AR:AV,5,FALSE),\"\")","v":""}]
["",null,null,null,null,{"$f":"IFERROR(VLOOKUP(IF(C1106=\"\",B1106&\"||\"&B1106,C1106&\"||\"&B1106),Worktags!AR:AV,5,FALSE),\"\")","v":""}]
["",null,null,null,null,{"$f":"IFERROR(VLOOKUP(IF(C1107=\"\",B1107&\"||\"&B1107,C1107&\"||\"&B1107),Worktags!AR:AV,5,FALSE),\"\")","v":""}]
["",null,null,null,null,{"$f":"IFERROR(VLOOKUP(IF(C1108=\"\",B1108&\"||\"&B1108,C1108&\"||\"&B1108),Worktags!AR:AV,5,FALSE),\"\")","v":""}]
["",null,null,null,null,{"$f":"IFERROR(VLOOKUP(IF(C1109=\"\",B1109&\"||\"&B1109,C1109&\"||\"&B1109),Worktags!AR:AV,5,FALSE),\"\")","v":""}]
["",null,null,null,null,{"$f":"IFERROR(VLOOKUP(IF(C1110=\"\",B1110&\"||\"&B1110,C1110&\"||\"&B1110),Worktags!AR:AV,5,FALSE),\"\")","v":""}]
["",null,null,null,null,{"$f":"IFERROR(VLOOKUP(IF(C1111=\"\",B1111&\"||\"&B1111,C1111&\"||\"&B1111),Worktags!AR:AV,5,FALSE),\"\")","v":""}]
["",null,null,null,null,{"$f":"IFERROR(VLOOKUP(IF(C1112=\"\",B1112&\"||\"&B1112,C1112&\"||\"&B1112),Worktags!AR:AV,5,FALSE),\"\")","v":""}]
["",null,null,null,null,{"$f":"IFERROR(VLOOKUP(IF(C1113=\"\",B1113&\"||\"&B1113,C1113&\"||\"&B1113),Worktags!AR:AV,5,FALSE),\"\")","v":""}]
["",null,null,null,null,{"$f":"IFERROR(VLOOKUP(IF(C1114=\"\",B1114&\"||\"&B1114,C1114&\"||\"&B1114),Worktags!AR:AV,5,FALSE),\"\")","v":""}]
["",null,null,null,null,{"$f":"IFERROR(VLOOKUP(IF(C1115=\"\",B1115&\"||\"&B1115,C1115&\"||\"&B1115),Worktags!AR:AV,5,FALSE),\"\")","v":""}]
["",null,null,null,null,{"$f":"IFERROR(VLOOKUP(IF(C1116=\"\",B1116&\"||\"&B1116,C1116&\"||\"&B1116),Worktags!AR:AV,5,FALSE),\"\")","v":""}]
["",null,null,null,null,{"$f":"IFERROR(VLOOKUP(IF(C1117=\"\",B1117&\"||\"&B1117,C1117&\"||\"&B1117),Worktags!AR:AV,5,FALSE),\"\")","v":""}]
["",null,null,null,null,{"$f":"IFERROR(VLOOKUP(IF(C1118=\"\",B1118&\"||\"&B1118,C1118&\"||\"&B1118),Worktags!AR:AV,5,FALSE),\"\")","v":""}]
["",null,null,null,null,{"$f":"IFERROR(VLOOKUP(IF(C1119=\"\",B1119&\"||\"&B1119,C1119&\"||\"&B1119),Worktags!AR:AV,5,FALSE),\"\")","v":""}]
["",null,null,null,null,{"$f":"IFERROR(VLOOKUP(IF(C1120=\"\",B1120&\"||\"&B1120,C1120&\"||\"&B1120),Worktags!AR:AV,5,FALSE),\"\")","v":""}]
["",null,null,null,null,{"$f":"IFERROR(VLOOKUP(IF(C1121=\"\",B1121&\"||\"&B1121,C1121&\"||\"&B1121),Worktags!AR:AV,5,FALSE),\"\")","v":""}]
["",null,null,null,null,{"$f":"IFERROR(VLOOKUP(IF(C1122=\"\",B1122&\"||\"&B1122,C1122&\"||\"&B1122),Worktags!AR:AV,5,FALSE),\"\")","v":""}]
["",null,null,null,null,{"$f":"IFERROR(VLOOKUP(IF(C1123=\"\",B1123&\"||\"&B1123,C1123&\"||\"&B1123),Worktags!AR:AV,5,FALSE),\"\")","v":""}]
["",null,null,null,null,{"$f":"IFERROR(VLOOKUP(IF(C1124=\"\",B1124&\"||\"&B1124,C1124&\"||\"&B1124),Worktags!AR:AV,5,FALSE),\"\")","v":""}]
["",null,null,null,null,{"$f":"IFERROR(VLOOKUP(IF(C1125=\"\",B1125&\"||\"&B1125,C1125&\"||\"&B1125),Worktags!AR:AV,5,FALSE),\"\")","v":""}]
["",null,null,null,null,{"$f":"IFERROR(VLOOKUP(IF(C1126=\"\",B1126&\"||\"&B1126,C1126&\"||\"&B1126),Worktags!AR:AV,5,FALSE),\"\")","v":""}]
["",null,null,null,null,{"$f":"IFERROR(VLOOKUP(IF(C1127=\"\",B1127&\"||\"&B1127,C1127&\"||\"&B1127),Worktags!AR:AV,5,FALSE),\"\")","v":""}]
["",null,null,null,null,{"$f":"IFERROR(VLOOKUP(IF(C1128=\"\",B1128&\"||\"&B1128,C1128&\"||\"&B1128),Worktags!AR:AV,5,FALSE),\"\")","v":""}]
["",null,null,null,null,{"$f":"IFERROR(VLOOKUP(IF(C1129=\"\",B1129&\"||\"&B1129,C1129&\"||\"&B1129),Worktags!AR:AV,5,FALSE),\"\")","v":""}]
["",null,null,null,null,{"$f":"IFERROR(VLOOKUP(IF(C1130=\"\",B1130&\"||\"&B1130,C1130&\"||\"&B1130),Worktags!AR:AV,5,FALSE),\"\")","v":""}]
["",null,null,null,null,{"$f":"IFERROR(VLOOKUP(IF(C1131=\"\",B1131&\"||\"&B1131,C1131&\"||\"&B1131),Worktags!AR:AV,5,FALSE),\"\")","v":""}]
["",null,null,null,null,{"$f":"IFERROR(VLOOKUP(IF(C1132=\"\",B1132&\"||\"&B1132,C1132&\"||\"&B1132),Worktags!AR:AV,5,FALSE),\"\")","v":""}]
["",null,null,null,null,{"$f":"IFERROR(VLOOKUP(IF(C1133=\"\",B1133&\"||\"&B1133,C1133&\"||\"&B1133),Worktags!AR:AV,5,FALSE),\"\")","v":""}]
["",null,null,null,null,{"$f":"IFERROR(VLOOKUP(IF(C1134=\"\",B1134&\"||\"&B1134,C1134&\"||\"&B1134),Worktags!AR:AV,5,FALSE),\"\")","v":""}]
["",null,null,null,null,{"$f":"IFERROR(VLOOKUP(IF(C1135=\"\",B1135&\"||\"&B1135,C1135&\"||\"&B1135),Worktags!AR:AV,5,FALSE),\"\")","v":""}]
["",null,null,null,null,{"$f":"IFERROR(VLOOKUP(IF(C1136=\"\",B1136&\"||\"&B1136,C1136&\"||\"&B1136),Worktags!AR:AV,5,FALSE),\"\")","v":""}]
["",null,null,null,null,{"$f":"IFERROR(VLOOKUP(IF(C1137=\"\",B1137&\"||\"&B1137,C1137&\"||\"&B1137),Worktags!AR:AV,5,FALSE),\"\")","v":""}]
["",null,null,null,null,{"$f":"IFERROR(VLOOKUP(IF(C1138=\"\",B1138&\"||\"&B1138,C1138&\"||\"&B1138),Worktags!AR:AV,5,FALSE),\"\")","v":""}]
["",null,null,null,null,{"$f":"IFERROR(VLOOKUP(IF(C1139=\"\",B1139&\"||\"&B1139,C1139&\"||\"&B1139),Worktags!AR:AV,5,FALSE),\"\")","v":""}]
["",null,null,null,null,{"$f":"IFERROR(VLOOKUP(IF(C1140=\"\",B1140&\"||\"&B1140,C1140&\"||\"&B1140),Worktags!AR:AV,5,FALSE),\"\")","v":""}]
["",null,null,null,null,{"$f":"IFERROR(VLOOKUP(IF(C1141=\"\",B1141&\"||\"&B1141,C1141&\"||\"&B1141),Worktags!AR:AV,5,FALSE),\"\")","v":""}]
["",null,null,null,null,{"$f":"IFERROR(VLOOKUP(IF(C1142=\"\",B1142&\"||\"&B1142,C1142&\"||\"&B1142),Worktags!AR:AV,5,FALSE),\"\")","v":""}]
["",null,null,null,null,{"$f":"IFERROR(VLOOKUP(IF(C1143=\"\",B1143&\"||\"&B1143,C1143&\"||\"&B1143),Worktags!AR:AV,5,FALSE),\"\")","v":""}]
["",null,null,null,null,{"$f":"IFERROR(VLOOKUP(IF(C1144=\"\",B1144&\"||\"&B1144,C1144&\"||\"&B1144),Worktags!AR:AV,5,FALSE),\"\")","v":""}]
["",null,null,null,null,{"$f":"IFERROR(VLOOKUP(IF(C1145=\"\",B1145&\"||\"&B1145,C1145&\"||\"&B1145),Worktags!AR:AV,5,FALSE),\"\")","v":""}]
["",null,null,null,null,{"$f":"IFERROR(VLOOKUP(IF(C1146=\"\",B1146&\"||\"&B1146,C1146&\"||\"&B1146),Worktags!AR:AV,5,FALSE),\"\")","v":""}]
["",null,null,null,null,{"$f":"IFERROR(VLOOKUP(IF(C1147=\"\",B1147&\"||\"&B1147,C1147&\"||\"&B1147),Worktags!AR:AV,5,FALSE),\"\")","v":""}]
["",null,null,null,null,{"$f":"IFERROR(VLOOKUP(IF(C1148=\"\",B1148&\"||\"&B1148,C1148&\"||\"&B1148),Worktags!AR:AV,5,FALSE),\"\")","v":""}]
["",null,null,null,null,{"$f":"IFERROR(VLOOKUP(IF(C1149=\"\",B1149&\"||\"&B1149,C1149&\"||\"&B1149),Worktags!AR:AV,5,FALSE),\"\")","v":""}]
["",null,null,null,null,{"$f":"IFERROR(VLOOKUP(IF(C1150=\"\",B1150&\"||\"&B1150,C1150&\"||\"&B1150),Worktags!AR:AV,5,FALSE),\"\")","v":""}]
["",null,null,null,null,{"$f":"IFERROR(VLOOKUP(IF(C1151=\"\",B1151&\"||\"&B1151,C1151&\"||\"&B1151),Worktags!AR:AV,5,FALSE),\"\")","v":""}]
["",null,null,null,null,{"$f":"IFERROR(VLOOKUP(IF(C1152=\"\",B1152&\"||\"&B1152,C1152&\"||\"&B1152),Worktags!AR:AV,5,FALSE),\"\")","v":""}]
["",null,null,null,null,{"$f":"IFERROR(VLOOKUP(IF(C1153=\"\",B1153&\"||\"&B1153,C1153&\"||\"&B1153),Worktags!AR:AV,5,FALSE),\"\")","v":""}]
[{"$f":"IF(B1154<>\"\",IF(C1154<>\"\",B1154&\"_\"&C1154&\" \"&D1154&\"/\"&E1154,B1154&\" \"&D1154),\"\")","v":""},null,null,null,null,{"$f":"IFERROR(VLOOKUP(IF(C1154=\"\",B1154&\"||\"&B1154,C1154&\"||\"&B1154),Worktags!AR:AV,5,FALSE),\"\")","v":""}]
["",null,null,null,null,{"$f":"IFERROR(VLOOKUP(IF(C1155=\"\",B1155&\"||\"&B1155,C1155&\"||\"&B1155),Worktags!AR:AV,5,FALSE),\"\")","v":""}]
["",null,null,null,null,{"$f":"IFERROR(VLOOKUP(IF(C1156=\"\",B1156&\"||\"&B1156,C1156&\"||\"&B1156),Worktags!AR:AV,5,FALSE),\"\")","v":""}]
["",null,null,null,null,{"$f":"IFERROR(VLOOKUP(IF(C1157=\"\",B1157&\"||\"&B1157,C1157&\"||\"&B1157),Worktags!AR:AV,5,FALSE),\"\")","v":""}]
["",null,null,null,null,{"$f":"IFERROR(VLOOKUP(IF(C1158=\"\",B1158&\"||\"&B1158,C1158&\"||\"&B1158),Worktags!AR:AV,5,FALSE),\"\")","v":""}]
["",null,null,null,null,{"$f":"IFERROR(VLOOKUP(IF(C1159=\"\",B1159&\"||\"&B1159,C1159&\"||\"&B1159),Worktags!AR:AV,5,FALSE),\"\")","v":""}]
["",null,null,null,null,{"$f":"IFERROR(VLOOKUP(IF(C1160=\"\",B1160&\"||\"&B1160,C1160&\"||\"&B1160),Worktags!AR:AV,5,FALSE),\"\")","v":""}]
["",null,null,null,null,{"$f":"IFERROR(VLOOKUP(IF(C1161=\"\",B1161&\"||\"&B1161,C1161&\"||\"&B1161),Worktags!AR:AV,5,FALSE),\"\")","v":""}]
["",null,null,null,null,{"$f":"IFERROR(VLOOKUP(IF(C1162=\"\",B1162&\"||\"&B1162,C1162&\"||\"&B1162),Worktags!AR:AV,5,FALSE),\"\")","v":""}]
["",null,null,null,null,{"$f":"IFERROR(VLOOKUP(IF(C1163=\"\",B1163&\"||\"&B1163,C1163&\"||\"&B1163),Worktags!AR:AV,5,FALSE),\"\")","v":""}]
["",null,null,null,null,{"$f":"IFERROR(VLOOKUP(IF(C1164=\"\",B1164&\"||\"&B1164,C1164&\"||\"&B1164),Worktags!AR:AV,5,FALSE),\"\")","v":""}]
["",null,null,null,null,{"$f":"IFERROR(VLOOKUP(IF(C1165=\"\",B1165&\"||\"&B1165,C1165&\"||\"&B1165),Worktags!AR:AV,5,FALSE),\"\")","v":""}]
["",null,null,null,null,{"$f":"IFERROR(VLOOKUP(IF(C1166=\"\",B1166&\"||\"&B1166,C1166&\"||\"&B1166),Worktags!AR:AV,5,FALSE),\"\")","v":""}]
["",null,null,null,null,{"$f":"IFERROR(VLOOKUP(IF(C1167=\"\",B1167&\"||\"&B1167,C1167&\"||\"&B1167),Worktags!AR:AV,5,FALSE),\"\")","v":""}]
["",null,null,null,null,{"$f":"IFERROR(VLOOKUP(IF(C1168=\"\",B1168&\"||\"&B1168,C1168&\"||\"&B1168),Worktags!AR:AV,5,FALSE),\"\")","v":""}]
["",null,null,null,null,{"$f":"IFERROR(VLOOKUP(IF(C1169=\"\",B1169&\"||\"&B1169,C1169&\"||\"&B1169),Worktags!AR:AV,5,FALSE),\"\")","v":""}]
["",null,null,null,null,{"$f":"IFERROR(VLOOKUP(IF(C1170=\"\",B1170&\"||\"&B1170,C1170&\"||\"&B1170),Worktags!AR:AV,5,FALSE),\"\")","v":""}]
["",null,null,null,null,{"$f":"IFERROR(VLOOKUP(IF(C1171=\"\",B1171&\"||\"&B1171,C1171&\"||\"&B1171),Worktags!AR:AV,5,FALSE),\"\")","v":""}]
["",null,null,null,null,{"$f":"IFERROR(VLOOKUP(IF(C1172=\"\",B1172&\"||\"&B1172,C1172&\"||\"&B1172),Worktags!AR:AV,5,FALSE),\"\")","v":""}]
["",null,null,null,null,{"$f":"IFERROR(VLOOKUP(IF(C1173=\"\",B1173&\"||\"&B1173,C1173&\"||\"&B1173),Worktags!AR:AV,5,FALSE),\"\")","v":""}]
["",null,null,null,null,{"$f":"IFERROR(VLOOKUP(IF(C1174=\"\",B1174&\"||\"&B1174,C1174&\"||\"&B1174),Worktags!AR:AV,5,FALSE),\"\")","v":""}]
["",null,null,null,null,{"$f":"IFERROR(VLOOKUP(IF(C1175=\"\",B1175&\"||\"&B1175,C1175&\"||\"&B1175),Worktags!AR:AV,5,FALSE),\"\")","v":""}]
["",null,null,null,null,{"$f":"IFERROR(VLOOKUP(IF(C1176=\"\",B1176&\"||\"&B1176,C1176&\"||\"&B1176),Worktags!AR:AV,5,FALSE),\"\")","v":""}]
["",null,null,null,null,{"$f":"IFERROR(VLOOKUP(IF(C1177=\"\",B1177&\"||\"&B1177,C1177&\"||\"&B1177),Worktags!AR:AV,5,FALSE),\"\")","v":""}]
["",null,null,null,null,{"$f":"IFERROR(VLOOKUP(IF(C1178=\"\",B1178&\"||\"&B1178,C1178&\"||\"&B1178),Worktags!AR:AV,5,FALSE),\"\")","v":""}]
["",null,null,null,null,{"$f":"IFERROR(VLOOKUP(IF(C1179=\"\",B1179&\"||\"&B1179,C1179&\"||\"&B1179),Worktags!AR:AV,5,FALSE),\"\")","v":""}]
["",null,null,null,null,{"$f":"IFERROR(VLOOKUP(IF(C1180=\"\",B1180&\"||\"&B1180,C1180&\"||\"&B1180),Worktags!AR:AV,5,FALSE),\"\")","v":""}]
["",null,null,null,null,{"$f":"IFERROR(VLOOKUP(IF(C1181=\"\",B1181&\"||\"&B1181,C1181&\"||\"&B1181),Worktags!AR:AV,5,FALSE),\"\")","v":""}]
["",null,null,null,null,{"$f":"IFERROR(VLOOKUP(IF(C1182=\"\",B1182&\"||\"&B1182,C1182&\"||\"&B1182),Worktags!AR:AV,5,FALSE),\"\")","v":""}]
["",null,null,null,null,{"$f":"IFERROR(VLOOKUP(IF(C1183=\"\",B1183&\"||\"&B1183,C1183&\"||\"&B1183),Worktags!AR:AV,5,FALSE),\"\")","v":""}]
["",null,null,null,null,{"$f":"IFERROR(VLOOKUP(IF(C1184=\"\",B1184&\"||\"&B1184,C1184&\"||\"&B1184),Worktags!AR:AV,5,FALSE),\"\")","v":""}]
["",null,null,null,null,{"$f":"IFERROR(VLOOKUP(IF(C1185=\"\",B1185&\"||\"&B1185,C1185&\"||\"&B1185),Worktags!AR:AV,5,FALSE),\"\")","v":""}]
["",null,null,null,null,{"$f":"IFERROR(VLOOKUP(IF(C1186=\"\",B1186&\"||\"&B1186,C1186&\"||\"&B1186),Worktags!AR:AV,5,FALSE),\"\")","v":""}]
["",null,null,null,null,{"$f":"IFERROR(VLOOKUP(IF(C1187=\"\",B1187&\"||\"&B1187,C1187&\"||\"&B1187),Worktags!AR:AV,5,FALSE),\"\")","v":""}]
["",null,null,null,null,{"$f":"IFERROR(VLOOKUP(IF(C1188=\"\",B1188&\"||\"&B1188,C1188&\"||\"&B1188),Worktags!AR:AV,5,FALSE),\"\")","v":""}]
["",null,null,null,null,{"$f":"IFERROR(VLOOKUP(IF(C1189=\"\",B1189&\"||\"&B1189,C1189&\"||\"&B1189),Worktags!AR:AV,5,FALSE),\"\")","v":""}]
["",null,null,null,null,{"$f":"IFERROR(VLOOKUP(IF(C1190=\"\",B1190&\"||\"&B1190,C1190&\"||\"&B1190),Worktags!AR:AV,5,FALSE),\"\")","v":""}]
["",null,null,null,null,{"$f":"IFERROR(VLOOKUP(IF(C1191=\"\",B1191&\"||\"&B1191,C1191&\"||\"&B1191),Worktags!AR:AV,5,FALSE),\"\")","v":""}]
["",null,null,null,null,{"$f":"IFERROR(VLOOKUP(IF(C1192=\"\",B1192&\"||\"&B1192,C1192&\"||\"&B1192),Worktags!AR:AV,5,FALSE),\"\")","v":""}]
["",null,null,null,null,{"$f":"IFERROR(VLOOKUP(IF(C1193=\"\",B1193&\"||\"&B1193,C1193&\"||\"&B1193),Worktags!AR:AV,5,FALSE),\"\")","v":""}]
["",null,null,null,null,{"$f":"IFERROR(VLOOKUP(IF(C1194=\"\",B1194&\"||\"&B1194,C1194&\"||\"&B1194),Worktags!AR:AV,5,FALSE),\"\")","v":""}]
["",null,null,null,null,{"$f":"IFERROR(VLOOKUP(IF(C1195=\"\",B1195&\"||\"&B1195,C1195&\"||\"&B1195),Worktags!AR:AV,5,FALSE),\"\")","v":""}]
["",null,null,null,null,{"$f":"IFERROR(VLOOKUP(IF(C1196=\"\",B1196&\"||\"&B1196,C1196&\"||\"&B1196),Worktags!AR:AV,5,FALSE),\"\")","v":""}]
["",null,null,null,null,{"$f":"IFERROR(VLOOKUP(IF(C1197=\"\",B1197&\"||\"&B1197,C1197&\"||\"&B1197),Worktags!AR:AV,5,FALSE),\"\")","v":""}]
["",null,null,null,null,{"$f":"IFERROR(VLOOKUP(IF(C1198=\"\",B1198&\"||\"&B1198,C1198&\"||\"&B1198),Worktags!AR:AV,5,FALSE),\"\")","v":""}]
["",null,null,null,null,{"$f":"IFERROR(VLOOKUP(IF(C1199=\"\",B1199&\"||\"&B1199,C1199&\"||\"&B1199),Worktags!AR:AV,5,FALSE),\"\")","v":""}]
["",null,null,null,null,{"$f":"IFERROR(VLOOKUP(IF(C1200=\"\",B1200&\"||\"&B1200,C1200&\"||\"&B1200),Worktags!AR:AV,5,FALSE),\"\")","v":""}]
["",null,null,null,null,{"$f":"IFERROR(VLOOKUP(IF(C1201=\"\",B1201&\"||\"&B1201,C1201&\"||\"&B1201),Worktags!AR:AV,5,FALSE),\"\")","v":""}]
["",null,null,null,null,{"$f":"IFERROR(VLOOKUP(IF(C1202=\"\",B1202&\"||\"&B1202,C1202&\"||\"&B1202),Worktags!AR:AV,5,FALSE),\"\")","v":""}]
["",null,null,null,null,{"$f":"IFERROR(VLOOKUP(IF(C1203=\"\",B1203&\"||\"&B1203,C1203&\"||\"&B1203),Worktags!AR:AV,5,FALSE),\"\")","v":""}]
["",null,null,null,null,{"$f":"IFERROR(VLOOKUP(IF(C1204=\"\",B1204&\"||\"&B1204,C1204&\"||\"&B1204),Worktags!AR:AV,5,FALSE),\"\")","v":""}]
["",null,null,null,null,{"$f":"IFERROR(VLOOKUP(IF(C1205=\"\",B1205&\"||\"&B1205,C1205&\"||\"&B1205),Worktags!AR:AV,5,FALSE),\"\")","v":""}]
["",null,null,null,null,{"$f":"IFERROR(VLOOKUP(IF(C1206=\"\",B1206&\"||\"&B1206,C1206&\"||\"&B1206),Worktags!AR:AV,5,FALSE),\"\")","v":""}]
["",null,null,null,null,{"$f":"IFERROR(VLOOKUP(IF(C1207=\"\",B1207&\"||\"&B1207,C1207&\"||\"&B1207),Worktags!AR:AV,5,FALSE),\"\")","v":""}]
["",null,null,null,null,{"$f":"IFERROR(VLOOKUP(IF(C1208=\"\",B1208&\"||\"&B1208,C1208&\"||\"&B1208),Worktags!AR:AV,5,FALSE),\"\")","v":""}]
["",null,null,null,null,{"$f":"IFERROR(VLOOKUP(IF(C1209=\"\",B1209&\"||\"&B1209,C1209&\"||\"&B1209),Worktags!AR:AV,5,FALSE),\"\")","v":""}]
["",null,null,null,null,{"$f":"IFERROR(VLOOKUP(IF(C1210=\"\",B1210&\"||\"&B1210,C1210&\"||\"&B1210),Worktags!AR:AV,5,FALSE),\"\")","v":""}]
["",null,null,null,null,{"$f":"IFERROR(VLOOKUP(IF(C1211=\"\",B1211&\"||\"&B1211,C1211&\"||\"&B1211),Worktags!AR:AV,5,FALSE),\"\")","v":""}]
["",null,null,null,null,{"$f":"IFERROR(VLOOKUP(IF(C1212=\"\",B1212&\"||\"&B1212,C1212&\"||\"&B1212),Worktags!AR:AV,5,FALSE),\"\")","v":""}]
["",null,null,null,null,{"$f":"IFERROR(VLOOKUP(IF(C1213=\"\",B1213&\"||\"&B1213,C1213&\"||\"&B1213),Worktags!AR:AV,5,FALSE),\"\")","v":""}]
["",null,null,null,null,{"$f":"IFERROR(VLOOKUP(IF(C1214=\"\",B1214&\"||\"&B1214,C1214&\"||\"&B1214),Worktags!AR:AV,5,FALSE),\"\")","v":""}]
["",null,null,null,null,{"$f":"IFERROR(VLOOKUP(IF(C1215=\"\",B1215&\"||\"&B1215,C1215&\"||\"&B1215),Worktags!AR:AV,5,FALSE),\"\")","v":""}]
["",null,null,null,null,{"$f":"IFERROR(VLOOKUP(IF(C1216=\"\",B1216&\"||\"&B1216,C1216&\"||\"&B1216),Worktags!AR:AV,5,FALSE),\"\")","v":""}]
["",null,null,null,null,{"$f":"IFERROR(VLOOKUP(IF(C1217=\"\",B1217&\"||\"&B1217,C1217&\"||\"&B1217),Worktags!AR:AV,5,FALSE),\"\")","v":""}]
[{"$f":"IF(B1218<>\"\",IF(C1218<>\"\",B1218&\"_\"&C1218&\" \"&D1218&\"/\"&E1218,B1218&\" \"&D1218),\"\")","v":""},null,null,null,null,{"$f":"IFERROR(VLOOKUP(IF(C1218=\"\",B1218&\"||\"&B1218,C1218&\"||\"&B1218),Worktags!AR:AV,5,FALSE),\"\")","v":""}]
["",null,null,null,null,{"$f":"IFERROR(VLOOKUP(IF(C1219=\"\",B1219&\"||\"&B1219,C1219&\"||\"&B1219),Worktags!AR:AV,5,FALSE),\"\")","v":""}]
["",null,null,null,null,{"$f":"IFERROR(VLOOKUP(IF(C1220=\"\",B1220&\"||\"&B1220,C1220&\"||\"&B1220),Worktags!AR:AV,5,FALSE),\"\")","v":""}]
["",null,null,null,null,{"$f":"IFERROR(VLOOKUP(IF(C1221=\"\",B1221&\"||\"&B1221,C1221&\"||\"&B1221),Worktags!AR:AV,5,FALSE),\"\")","v":""}]
["",null,null,null,null,{"$f":"IFERROR(VLOOKUP(IF(C1222=\"\",B1222&\"||\"&B1222,C1222&\"||\"&B1222),Worktags!AR:AV,5,FALSE),\"\")","v":""}]
["",null,null,null,null,{"$f":"IFERROR(VLOOKUP(IF(C1223=\"\",B1223&\"||\"&B1223,C1223&\"||\"&B1223),Worktags!AR:AV,5,FALSE),\"\")","v":""}]
["",null,null,null,null,{"$f":"IFERROR(VLOOKUP(IF(C1224=\"\",B1224&\"||\"&B1224,C1224&\"||\"&B1224),Worktags!AR:AV,5,FALSE),\"\")","v":""}]
["",null,null,null,null,{"$f":"IFERROR(VLOOKUP(IF(C1225=\"\",B1225&\"||\"&B1225,C1225&\"||\"&B1225),Worktags!AR:AV,5,FALSE),\"\")","v":""}]
["",null,null,null,null,{"$f":"IFERROR(VLOOKUP(IF(C1226=\"\",B1226&\"||\"&B1226,C1226&\"||\"&B1226),Worktags!AR:AV,5,FALSE),\"\")","v":""}]
["",null,null,null,null,{"$f":"IFERROR(VLOOKUP(IF(C1227=\"\",B1227&\"||\"&B1227,C1227&\"||\"&B1227),Worktags!AR:AV,5,FALSE),\"\")","v":""}]
["",null,null,null,null,{"$f":"IFERROR(VLOOKUP(IF(C1228=\"\",B1228&\"||\"&B1228,C1228&\"||\"&B1228),Worktags!AR:AV,5,FALSE),\"\")","v":""}]
["",null,null,null,null,{"$f":"IFERROR(VLOOKUP(IF(C1229=\"\",B1229&\"||\"&B1229,C1229&\"||\"&B1229),Worktags!AR:AV,5,FALSE),\"\")","v":""}]
["",null,null,null,null,{"$f":"IFERROR(VLOOKUP(IF(C1230=\"\",B1230&\"||\"&B1230,C1230&\"||\"&B1230),Worktags!AR:AV,5,FALSE),\"\")","v":""}]
["",null,null,null,null,{"$f":"IFERROR(VLOOKUP(IF(C1231=\"\",B1231&\"||\"&B1231,C1231&\"||\"&B1231),Worktags!AR:AV,5,FALSE),\"\")","v":""}]
["",null,null,null,null,{"$f":"IFERROR(VLOOKUP(IF(C1232=\"\",B1232&\"||\"&B1232,C1232&\"||\"&B1232),Worktags!AR:AV,5,FALSE),\"\")","v":""}]
["",null,null,null,null,{"$f":"IFERROR(VLOOKUP(IF(C1233=\"\",B1233&\"||\"&B1233,C1233&\"||\"&B1233),Worktags!AR:AV,5,FALSE),\"\")","v":""}]
["",null,null,null,null,{"$f":"IFERROR(VLOOKUP(IF(C1234=\"\",B1234&\"||\"&B1234,C1234&\"||\"&B1234),Worktags!AR:AV,5,FALSE),\"\")","v":""}]
["",null,null,null,null,{"$f":"IFERROR(VLOOKUP(IF(C1235=\"\",B1235&\"||\"&B1235,C1235&\"||\"&B1235),Worktags!AR:AV,5,FALSE),\"\")","v":""}]
["",null,null,null,null,{"$f":"IFERROR(VLOOKUP(IF(C1236=\"\",B1236&\"||\"&B1236,C1236&\"||\"&B1236),Worktags!AR:AV,5,FALSE),\"\")","v":""}]
["",null,null,null,null,{"$f":"IFERROR(VLOOKUP(IF(C1237=\"\",B1237&\"||\"&B1237,C1237&\"||\"&B1237),Worktags!AR:AV,5,FALSE),\"\")","v":""}]
["",null,null,null,null,{"$f":"IFERROR(VLOOKUP(IF(C1238=\"\",B1238&\"||\"&B1238,C1238&\"||\"&B1238),Worktags!AR:AV,5,FALSE),\"\")","v":""}]
["",null,null,null,null,{"$f":"IFERROR(VLOOKUP(IF(C1239=\"\",B1239&\"||\"&B1239,C1239&\"||\"&B1239),Worktags!AR:AV,5,FALSE),\"\")","v":""}]
["",null,null,null,null,{"$f":"IFERROR(VLOOKUP(IF(C1240=\"\",B1240&\"||\"&B1240,C1240&\"||\"&B1240),Worktags!AR:AV,5,FALSE),\"\")","v":""}]
["",null,null,null,null,{"$f":"IFERROR(VLOOKUP(IF(C1241=\"\",B1241&\"||\"&B1241,C1241&\"||\"&B1241),Worktags!AR:AV,5,FALSE),\"\")","v":""}]
["",null,null,null,null,{"$f":"IFERROR(VLOOKUP(IF(C1242=\"\",B1242&\"||\"&B1242,C1242&\"||\"&B1242),Worktags!AR:AV,5,FALSE),\"\")","v":""}]
["",null,null,null,null,{"$f":"IFERROR(VLOOKUP(IF(C1243=\"\",B1243&\"||\"&B1243,C1243&\"||\"&B1243),Worktags!AR:AV,5,FALSE),\"\")","v":""}]
["",null,null,null,null,{"$f":"IFERROR(VLOOKUP(IF(C1244=\"\",B1244&\"||\"&B1244,C1244&\"||\"&B1244),Worktags!AR:AV,5,FALSE),\"\")","v":""}]
["",null,null,null,null,{"$f":"IFERROR(VLOOKUP(IF(C1245=\"\",B1245&\"||\"&B1245,C1245&\"||\"&B1245),Worktags!AR:AV,5,FALSE),\"\")","v":""}]
["",null,null,null,null,{"$f":"IFERROR(VLOOKUP(IF(C1246=\"\",B1246&\"||\"&B1246,C1246&\"||\"&B1246),Worktags!AR:AV,5,FALSE),\"\")","v":""}]
["",null,null,null,null,{"$f":"IFERROR(VLOOKUP(IF(C1247=\"\",B1247&\"||\"&B1247,C1247&\"||\"&B1247),Worktags!AR:AV,5,FALSE),\"\")","v":""}]
["",null,null,null,null,{"$f":"IFERROR(VLOOKUP(IF(C1248=\"\",B1248&\"||\"&B1248,C1248&\"||\"&B1248),Worktags!AR:AV,5,FALSE),\"\")","v":""}]
["",null,null,null,null,{"$f":"IFERROR(VLOOKUP(IF(C1249=\"\",B1249&\"||\"&B1249,C1249&\"||\"&B1249),Worktags!AR:AV,5,FALSE),\"\")","v":""}]
["",null,null,null,null,{"$f":"IFERROR(VLOOKUP(IF(C1250=\"\",B1250&\"||\"&B1250,C1250&\"||\"&B1250),Worktags!AR:AV,5,FALSE),\"\")","v":""}]
["",null,null,null,null,{"$f":"IFERROR(VLOOKUP(IF(C1251=\"\",B1251&\"||\"&B1251,C1251&\"||\"&B1251),Worktags!AR:AV,5,FALSE),\"\")","v":""}]
["",null,null,null,null,{"$f":"IFERROR(VLOOKUP(IF(C1252=\"\",B1252&\"||\"&B1252,C1252&\"||\"&B1252),Worktags!AR:AV,5,FALSE),\"\")","v":""}]
["",null,null,null,null,{"$f":"IFERROR(VLOOKUP(IF(C1253=\"\",B1253&\"||\"&B1253,C1253&\"||\"&B1253),Worktags!AR:AV,5,FALSE),\"\")","v":""}]
["",null,null,null,null,{"$f":"IFERROR(VLOOKUP(IF(C1254=\"\",B1254&\"||\"&B1254,C1254&\"||\"&B1254),Worktags!AR:AV,5,FALSE),\"\")","v":""}]
["",null,null,null,null,{"$f":"IFERROR(VLOOKUP(IF(C1255=\"\",B1255&\"||\"&B1255,C1255&\"||\"&B1255),Worktags!AR:AV,5,FALSE),\"\")","v":""}]
["",null,null,null,null,{"$f":"IFERROR(VLOOKUP(IF(C1256=\"\",B1256&\"||\"&B1256,C1256&\"||\"&B1256),Worktags!AR:AV,5,FALSE),\"\")","v":""}]
["",null,null,null,null,{"$f":"IFERROR(VLOOKUP(IF(C1257=\"\",B1257&\"||\"&B1257,C1257&\"||\"&B1257),Worktags!AR:AV,5,FALSE),\"\")","v":""}]
["",null,null,null,null,{"$f":"IFERROR(VLOOKUP(IF(C1258=\"\",B1258&\"||\"&B1258,C1258&\"||\"&B1258),Worktags!AR:AV,5,FALSE),\"\")","v":""}]
["",null,null,null,null,{"$f":"IFERROR(VLOOKUP(IF(C1259=\"\",B1259&\"||\"&B1259,C1259&\"||\"&B1259),Worktags!AR:AV,5,FALSE),\"\")","v":""}]
["",null,null,null,null,{"$f":"IFERROR(VLOOKUP(IF(C1260=\"\",B1260&\"||\"&B1260,C1260&\"||\"&B1260),Worktags!AR:AV,5,FALSE),\"\")","v":""}]
["",null,null,null,null,{"$f":"IFERROR(VLOOKUP(IF(C1261=\"\",B1261&\"||\"&B1261,C1261&\"||\"&B1261),Worktags!AR:AV,5,FALSE),\"\")","v":""}]
["",null,null,null,null,{"$f":"IFERROR(VLOOKUP(IF(C1262=\"\",B1262&\"||\"&B1262,C1262&\"||\"&B1262),Worktags!AR:AV,5,FALSE),\"\")","v":""}]
["",null,null,null,null,{"$f":"IFERROR(VLOOKUP(IF(C1263=\"\",B1263&\"||\"&B1263,C1263&\"||\"&B1263),Worktags!AR:AV,5,FALSE),\"\")","v":""}]
["",null,null,null,null,{"$f":"IFERROR(VLOOKUP(IF(C1264=\"\",B1264&\"||\"&B1264,C1264&\"||\"&B1264),Worktags!AR:AV,5,FALSE),\"\")","v":""}]
["",null,null,null,null,{"$f":"IFERROR(VLOOKUP(IF(C1265=\"\",B1265&\"||\"&B1265,C1265&\"||\"&B1265),Worktags!AR:AV,5,FALSE),\"\")","v":""}]
["",null,null,null,null,{"$f":"IFERROR(VLOOKUP(IF(C1266=\"\",B1266&\"||\"&B1266,C1266&\"||\"&B1266),Worktags!AR:AV,5,FALSE),\"\")","v":""}]
["",null,null,null,null,{"$f":"IFERROR(VLOOKUP(IF(C1267=\"\",B1267&\"||\"&B1267,C1267&\"||\"&B1267),Worktags!AR:AV,5,FALSE),\"\")","v":""}]
["",null,null,null,null,{"$f":"IFERROR(VLOOKUP(IF(C1268=\"\",B1268&\"||\"&B1268,C1268&\"||\"&B1268),Worktags!AR:AV,5,FALSE),\"\")","v":""}]
["",null,null,null,null,{"$f":"IFERROR(VLOOKUP(IF(C1269=\"\",B1269&\"||\"&B1269,C1269&\"||\"&B1269),Worktags!AR:AV,5,FALSE),\"\")","v":""}]
["",null,null,null,null,{"$f":"IFERROR(VLOOKUP(IF(C1270=\"\",B1270&\"||\"&B1270,C1270&\"||\"&B1270),Worktags!AR:AV,5,FALSE),\"\")","v":""}]
["",null,null,null,null,{"$f":"IFERROR(VLOOKUP(IF(C1271=\"\",B1271&\"||\"&B1271,C1271&\"||\"&B1271),Worktags!AR:AV,5,FALSE),\"\")","v":""}]
["",null,null,null,null,{"$f":"IFERROR(VLOOKUP(IF(C1272=\"\",B1272&\"||\"&B1272,C1272&\"||\"&B1272),Worktags!AR:AV,5,FALSE),\"\")","v":""}]
["",null,null,null,null,{"$f":"IFERROR(VLOOKUP(IF(C1273=\"\",B1273&\"||\"&B1273,C1273&\"||\"&B1273),Worktags!AR:AV,5,FALSE),\"\")","v":""}]
["",null,null,null,null,{"$f":"IFERROR(VLOOKUP(IF(C1274=\"\",B1274&\"||\"&B1274,C1274&\"||\"&B1274),Worktags!AR:AV,5,FALSE),\"\")","v":""}]
["",null,null,null,null,{"$f":"IFERROR(VLOOKUP(IF(C1275=\"\",B1275&\"||\"&B1275,C1275&\"||\"&B1275),Worktags!AR:AV,5,FALSE),\"\")","v":""}]
["",null,null,null,null,{"$f":"IFERROR(VLOOKUP(IF(C1276=\"\",B1276&\"||\"&B1276,C1276&\"||\"&B1276),Worktags!AR:AV,5,FALSE),\"\")","v":""}]
["",null,null,null,null,{"$f":"IFERROR(VLOOKUP(IF(C1277=\"\",B1277&\"||\"&B1277,C1277&\"||\"&B1277),Worktags!AR:AV,5,FALSE),\"\")","v":""}]
["",null,null,null,null,{"$f":"IFERROR(VLOOKUP(IF(C1278=\"\",B1278&\"||\"&B1278,C1278&\"||\"&B1278),Worktags!AR:AV,5,FALSE),\"\")","v":""}]
["",null,null,null,null,{"$f":"IFERROR(VLOOKUP(IF(C1279=\"\",B1279&\"||\"&B1279,C1279&\"||\"&B1279),Worktags!AR:AV,5,FALSE),\"\")","v":""}]
["",null,null,null,null,{"$f":"IFERROR(VLOOKUP(IF(C1280=\"\",B1280&\"||\"&B1280,C1280&\"||\"&B1280),Worktags!AR:AV,5,FALSE),\"\")","v":""}]
["",null,null,null,null,{"$f":"IFERROR(VLOOKUP(IF(C1281=\"\",B1281&\"||\"&B1281,C1281&\"||\"&B1281),Worktags!AR:AV,5,FALSE),\"\")","v":""}]
[{"$f":"IF(B1282<>\"\",IF(C1282<>\"\",B1282&\"_\"&C1282&\" \"&D1282&\"/\"&E1282,B1282&\" \"&D1282),\"\")","v":""},null,null,null,null,{"$f":"IFERROR(VLOOKUP(IF(C1282=\"\",B1282&\"||\"&B1282,C1282&\"||\"&B1282),Worktags!AR:AV,5,FALSE),\"\")","v":""}]
["",null,null,null,null,{"$f":"IFERROR(VLOOKUP(IF(C1283=\"\",B1283&\"||\"&B1283,C1283&\"||\"&B1283),Worktags!AR:AV,5,FALSE),\"\")","v":""}]
["",null,null,null,null,{"$f":"IFERROR(VLOOKUP(IF(C1284=\"\",B1284&\"||\"&B1284,C1284&\"||\"&B1284),Worktags!AR:AV,5,FALSE),\"\")","v":""}]
["",null,null,null,null,{"$f":"IFERROR(VLOOKUP(IF(C1285=\"\",B1285&\"||\"&B1285,C1285&\"||\"&B1285),Worktags!AR:AV,5,FALSE),\"\")","v":""}]
["",null,null,null,null,{"$f":"IFERROR(VLOOKUP(IF(C1286=\"\",B1286&\"||\"&B1286,C1286&\"||\"&B1286),Worktags!AR:AV,5,FALSE),\"\")","v":""}]
["",null,null,null,null,{"$f":"IFERROR(VLOOKUP(IF(C1287=\"\",B1287&\"||\"&B1287,C1287&\"||\"&B1287),Worktags!AR:AV,5,FALSE),\"\")","v":""}]
["",null,null,null,null,{"$f":"IFERROR(VLOOKUP(IF(C1288=\"\",B1288&\"||\"&B1288,C1288&\"||\"&B1288),Worktags!AR:AV,5,FALSE),\"\")","v":""}]
["",null,null,null,null,{"$f":"IFERROR(VLOOKUP(IF(C1289=\"\",B1289&\"||\"&B1289,C1289&\"||\"&B1289),Worktags!AR:AV,5,FALSE),\"\")","v":""}]
["",null,null,null,null,{"$f":"IFERROR(VLOOKUP(IF(C1290=\"\",B1290&\"||\"&B1290,C1290&\"||\"&B1290),Worktags!AR:AV,5,FALSE),\"\")","v":""}]
["",null,null,null,null,{"$f":"IFERROR(VLOOKUP(IF(C1291=\"\",B1291&\"||\"&B1291,C1291&\"||\"&B1291),Worktags!AR:AV,5,FALSE),\"\")","v":""}]
["",null,null,null,null,{"$f":"IFERROR(VLOOKUP(IF(C1292=\"\",B1292&\"||\"&B1292,C1292&\"||\"&B1292),Worktags!AR:AV,5,FALSE),\"\")","v":""}]
["",null,null,null,null,{"$f":"IFERROR(VLOOKUP(IF(C1293=\"\",B1293&\"||\"&B1293,C1293&\"||\"&B1293),Worktags!AR:AV,5,FALSE),\"\")","v":""}]
["",null,null,null,null,{"$f":"IFERROR(VLOOKUP(IF(C1294=\"\",B1294&\"||\"&B1294,C1294&\"||\"&B1294),Worktags!AR:AV,5,FALSE),\"\")","v":""}]
["",null,null,null,null,{"$f":"IFERROR(VLOOKUP(IF(C1295=\"\",B1295&\"||\"&B1295,C1295&\"||\"&B1295),Worktags!AR:AV,5,FALSE),\"\")","v":""}]
["",null,null,null,null,{"$f":"IFERROR(VLOOKUP(IF(C1296=\"\",B1296&\"||\"&B1296,C1296&\"||\"&B1296),Worktags!AR:AV,5,FALSE),\"\")","v":""}]
["",null,null,null,null,{"$f":"IFERROR(VLOOKUP(IF(C1297=\"\",B1297&\"||\"&B1297,C1297&\"||\"&B1297),Worktags!AR:AV,5,FALSE),\"\")","v":""}]
["",null,null,null,null,{"$f":"IFERROR(VLOOKUP(IF(C1298=\"\",B1298&\"||\"&B1298,C1298&\"||\"&B1298),Worktags!AR:AV,5,FALSE),\"\")","v":""}]
["",null,null,null,null,{"$f":"IFERROR(VLOOKUP(IF(C1299=\"\",B1299&\"||\"&B1299,C1299&\"||\"&B1299),Worktags!AR:AV,5,FALSE),\"\")","v":""}]
["",null,null,null,null,{"$f":"IFERROR(VLOOKUP(IF(C1300=\"\",B1300&\"||\"&B1300,C1300&\"||\"&B1300),Worktags!AR:AV,5,FALSE),\"\")","v":""}]
["",null,null,null,null,{"$f":"IFERROR(VLOOKUP(IF(C1301=\"\",B1301&\"||\"&B1301,C1301&\"||\"&B1301),Worktags!AR:AV,5,FALSE),\"\")","v":""}]
["",null,null,null,null,{"$f":"IFERROR(VLOOKUP(IF(C1302=\"\",B1302&\"||\"&B1302,C1302&\"||\"&B1302),Worktags!AR:AV,5,FALSE),\"\")","v":""}]
["",null,null,null,null,{"$f":"IFERROR(VLOOKUP(IF(C1303=\"\",B1303&\"||\"&B1303,C1303&\"||\"&B1303),Worktags!AR:AV,5,FALSE),\"\")","v":""}]
["",null,null,null,null,{"$f":"IFERROR(VLOOKUP(IF(C1304=\"\",B1304&\"||\"&B1304,C1304&\"||\"&B1304),Worktags!AR:AV,5,FALSE),\"\")","v":""}]
["",null,null,null,null,{"$f":"IFERROR(VLOOKUP(IF(C1305=\"\",B1305&\"||\"&B1305,C1305&\"||\"&B1305),Worktags!AR:AV,5,FALSE),\"\")","v":""}]
["",null,null,null,null,{"$f":"IFERROR(VLOOKUP(IF(C1306=\"\",B1306&\"||\"&B1306,C1306&\"||\"&B1306),Worktags!AR:AV,5,FALSE),\"\")","v":""}]
["",null,null,null,null,{"$f":"IFERROR(VLOOKUP(IF(C1307=\"\",B1307&\"||\"&B1307,C1307&\"||\"&B1307),Worktags!AR:AV,5,FALSE),\"\")","v":""}]
["",null,null,null,null,{"$f":"IFERROR(VLOOKUP(IF(C1308=\"\",B1308&\"||\"&B1308,C1308&\"||\"&B1308),Worktags!AR:AV,5,FALSE),\"\")","v":""}]
["",null,null,null,null,{"$f":"IFERROR(VLOOKUP(IF(C1309=\"\",B1309&\"||\"&B1309,C1309&\"||\"&B1309),Worktags!AR:AV,5,FALSE),\"\")","v":""}]
["",null,null,null,null,{"$f":"IFERROR(VLOOKUP(IF(C1310=\"\",B1310&\"||\"&B1310,C1310&\"||\"&B1310),Worktags!AR:AV,5,FALSE),\"\")","v":""}]
["",null,null,null,null,{"$f":"IFERROR(VLOOKUP(IF(C1311=\"\",B1311&\"||\"&B1311,C1311&\"||\"&B1311),Worktags!AR:AV,5,FALSE),\"\")","v":""}]
["",null,null,null,null,{"$f":"IFERROR(VLOOKUP(IF(C1312=\"\",B1312&\"||\"&B1312,C1312&\"||\"&B1312),Worktags!AR:AV,5,FALSE),\"\")","v":""}]
["",null,null,null,null,{"$f":"IFERROR(VLOOKUP(IF(C1313=\"\",B1313&\"||\"&B1313,C1313&\"||\"&B1313),Worktags!AR:AV,5,FALSE),\"\")","v":""}]
["",null,null,null,null,{"$f":"IFERROR(VLOOKUP(IF(C1314=\"\",B1314&\"||\"&B1314,C1314&\"||\"&B1314),Worktags!AR:AV,5,FALSE),\"\")","v":""}]
["",null,null,null,null,{"$f":"IFERROR(VLOOKUP(IF(C1315=\"\",B1315&\"||\"&B1315,C1315&\"||\"&B1315),Worktags!AR:AV,5,FALSE),\"\")","v":""}]
["",null,null,null,null,{"$f":"IFERROR(VLOOKUP(IF(C1316=\"\",B1316&\"||\"&B1316,C1316&\"||\"&B1316),Worktags!AR:AV,5,FALSE),\"\")","v":""}]
["",null,null,null,null,{"$f":"IFERROR(VLOOKUP(IF(C1317=\"\",B1317&\"||\"&B1317,C1317&\"||\"&B1317),Worktags!AR:AV,5,FALSE),\"\")","v":""}]
["",null,null,null,null,{"$f":"IFERROR(VLOOKUP(IF(C1318=\"\",B1318&\"||\"&B1318,C1318&\"||\"&B1318),Worktags!AR:AV,5,FALSE),\"\")","v":""}]
["",null,null,null,null,{"$f":"IFERROR(VLOOKUP(IF(C1319=\"\",B1319&\"||\"&B1319,C1319&\"||\"&B1319),Worktags!AR:AV,5,FALSE),\"\")","v":""}]
["",null,null,null,null,{"$f":"IFERROR(VLOOKUP(IF(C1320=\"\",B1320&\"||\"&B1320,C1320&\"||\"&B1320),Worktags!AR:AV,5,FALSE),\"\")","v":""}]
["",null,null,null,null,{"$f":"IFERROR(VLOOKUP(IF(C1321=\"\",B1321&\"||\"&B1321,C1321&\"||\"&B1321),Worktags!AR:AV,5,FALSE),\"\")","v":""}]
["",null,null,null,null,{"$f":"IFERROR(VLOOKUP(IF(C1322=\"\",B1322&\"||\"&B1322,C1322&\"||\"&B1322),Worktags!AR:AV,5,FALSE),\"\")","v":""}]
["",null,null,null,null,{"$f":"IFERROR(VLOOKUP(IF(C1323=\"\",B1323&\"||\"&B1323,C1323&\"||\"&B1323),Worktags!AR:AV,5,FALSE),\"\")","v":""}]
["",null,null,null,null,{"$f":"IFERROR(VLOOKUP(IF(C1324=\"\",B1324&\"||\"&B1324,C1324&\"||\"&B1324),Worktags!AR:AV,5,FALSE),\"\")","v":""}]
["",null,null,null,null,{"$f":"IFERROR(VLOOKUP(IF(C1325=\"\",B1325&\"||\"&B1325,C1325&\"||\"&B1325),Worktags!AR:AV,5,FALSE),\"\")","v":""}]
["",null,null,null,null,{"$f":"IFERROR(VLOOKUP(IF(C1326=\"\",B1326&\"||\"&B1326,C1326&\"||\"&B1326),Worktags!AR:AV,5,FALSE),\"\")","v":""}]
["",null,null,null,null,{"$f":"IFERROR(VLOOKUP(IF(C1327=\"\",B1327&\"||\"&B1327,C1327&\"||\"&B1327),Worktags!AR:AV,5,FALSE),\"\")","v":""}]
["",null,null,null,null,{"$f":"IFERROR(VLOOKUP(IF(C1328=\"\",B1328&\"||\"&B1328,C1328&\"||\"&B1328),Worktags!AR:AV,5,FALSE),\"\")","v":""}]
["",null,null,null,null,{"$f":"IFERROR(VLOOKUP(IF(C1329=\"\",B1329&\"||\"&B1329,C1329&\"||\"&B1329),Worktags!AR:AV,5,FALSE),\"\")","v":""}]
["",null,null,null,null,{"$f":"IFERROR(VLOOKUP(IF(C1330=\"\",B1330&\"||\"&B1330,C1330&\"||\"&B1330),Worktags!AR:AV,5,FALSE),\"\")","v":""}]
["",null,null,null,null,{"$f":"IFERROR(VLOOKUP(IF(C1331=\"\",B1331&\"||\"&B1331,C1331&\"||\"&B1331),Worktags!AR:AV,5,FALSE),\"\")","v":""}]
["",null,null,null,null,{"$f":"IFERROR(VLOOKUP(IF(C1332=\"\",B1332&\"||\"&B1332,C1332&\"||\"&B1332),Worktags!AR:AV,5,FALSE),\"\")","v":""}]
["",null,null,null,null,{"$f":"IFERROR(VLOOKUP(IF(C1333=\"\",B1333&\"||\"&B1333,C1333&\"||\"&B1333),Worktags!AR:AV,5,FALSE),\"\")","v":""}]
["",null,null,null,null,{"$f":"IFERROR(VLOOKUP(IF(C1334=\"\",B1334&\"||\"&B1334,C1334&\"||\"&B1334),Worktags!AR:AV,5,FALSE),\"\")","v":""}]
["",null,null,null,null,{"$f":"IFERROR(VLOOKUP(IF(C1335=\"\",B1335&\"||\"&B1335,C1335&\"||\"&B1335),Worktags!AR:AV,5,FALSE),\"\")","v":""}]
["",null,null,null,null,{"$f":"IFERROR(VLOOKUP(IF(C1336=\"\",B1336&\"||\"&B1336,C1336&\"||\"&B1336),Worktags!AR:AV,5,FALSE),\"\")","v":""}]
["",null,null,null,null,{"$f":"IFERROR(VLOOKUP(IF(C1337=\"\",B1337&\"||\"&B1337,C1337&\"||\"&B1337),Worktags!AR:AV,5,FALSE),\"\")","v":""}]
["",null,null,null,null,{"$f":"IFERROR(VLOOKUP(IF(C1338=\"\",B1338&\"||\"&B1338,C1338&\"||\"&B1338),Worktags!AR:AV,5,FALSE),\"\")","v":""}]
["",null,null,null,null,{"$f":"IFERROR(VLOOKUP(IF(C1339=\"\",B1339&\"||\"&B1339,C1339&\"||\"&B1339),Worktags!AR:AV,5,FALSE),\"\")","v":""}]
["",null,null,null,null,{"$f":"IFERROR(VLOOKUP(IF(C1340=\"\",B1340&\"||\"&B1340,C1340&\"||\"&B1340),Worktags!AR:AV,5,FALSE),\"\")","v":""}]
["",null,null,null,null,{"$f":"IFERROR(VLOOKUP(IF(C1341=\"\",B1341&\"||\"&B1341,C1341&\"||\"&B1341),Worktags!AR:AV,5,FALSE),\"\")","v":""}]
["",null,null,null,null,{"$f":"IFERROR(VLOOKUP(IF(C1342=\"\",B1342&\"||\"&B1342,C1342&\"||\"&B1342),Worktags!AR:AV,5,FALSE),\"\")","v":""}]
["",null,null,null,null,{"$f":"IFERROR(VLOOKUP(IF(C1343=\"\",B1343&\"||\"&B1343,C1343&\"||\"&B1343),Worktags!AR:AV,5,FALSE),\"\")","v":""}]
["",null,null,null,null,{"$f":"IFERROR(VLOOKUP(IF(C1344=\"\",B1344&\"||\"&B1344,C1344&\"||\"&B1344),Worktags!AR:AV,5,FALSE),\"\")","v":""}]
["",null,null,null,null,{"$f":"IFERROR(VLOOKUP(IF(C1345=\"\",B1345&\"||\"&B1345,C1345&\"||\"&B1345),Worktags!AR:AV,5,FALSE),\"\")","v":""}]
[{"$f":"IF(B1346<>\"\",IF(C1346<>\"\",B1346&\"_\"&C1346&\" \"&D1346&\"/\"&E1346,B1346&\" \"&D1346),\"\")","v":""},null,null,null,null,{"$f":"IFERROR(VLOOKUP(IF(C1346=\"\",B1346&\"||\"&B1346,C1346&\"||\"&B1346),Worktags!AR:AV,5,FALSE),\"\")","v":""}]
["",null,null,null,null,{"$f":"IFERROR(VLOOKUP(IF(C1347=\"\",B1347&\"||\"&B1347,C1347&\"||\"&B1347),Worktags!AR:AV,5,FALSE),\"\")","v":""}]
["",null,null,null,null,{"$f":"IFERROR(VLOOKUP(IF(C1348=\"\",B1348&\"||\"&B1348,C1348&\"||\"&B1348),Worktags!AR:AV,5,FALSE),\"\")","v":""}]
["",null,null,null,null,{"$f":"IFERROR(VLOOKUP(IF(C1349=\"\",B1349&\"||\"&B1349,C1349&\"||\"&B1349),Worktags!AR:AV,5,FALSE),\"\")","v":""}]
["",null,null,null,null,{"$f":"IFERROR(VLOOKUP(IF(C1350=\"\",B1350&\"||\"&B1350,C1350&\"||\"&B1350),Worktags!AR:AV,5,FALSE),\"\")","v":""}]
["",null,null,null,null,{"$f":"IFERROR(VLOOKUP(IF(C1351=\"\",B1351&\"||\"&B1351,C1351&\"||\"&B1351),Worktags!AR:AV,5,FALSE),\"\")","v":""}]
["",null,null,null,null,{"$f":"IFERROR(VLOOKUP(IF(C1352=\"\",B1352&\"||\"&B1352,C1352&\"||\"&B1352),Worktags!AR:AV,5,FALSE),\"\")","v":""}]
["",null,null,null,null,{"$f":"IFERROR(VLOOKUP(IF(C1353=\"\",B1353&\"||\"&B1353,C1353&\"||\"&B1353),Worktags!AR:AV,5,FALSE),\"\")","v":""}]
["",null,null,null,null,{"$f":"IFERROR(VLOOKUP(IF(C1354=\"\",B1354&\"||\"&B1354,C1354&\"||\"&B1354),Worktags!AR:AV,5,FALSE),\"\")","v":""}]
["",null,null,null,null,{"$f":"IFERROR(VLOOKUP(IF(C1355=\"\",B1355&\"||\"&B1355,C1355&\"||\"&B1355),Worktags!AR:AV,5,FALSE),\"\")","v":""}]
["",null,null,null,null,{"$f":"IFERROR(VLOOKUP(IF(C1356=\"\",B1356&\"||\"&B1356,C1356&\"||\"&B1356),Worktags!AR:AV,5,FALSE),\"\")","v":""}]
["",null,null,null,null,{"$f":"IFERROR(VLOOKUP(IF(C1357=\"\",B1357&\"||\"&B1357,C1357&\"||\"&B1357),Worktags!AR:AV,5,FALSE),\"\")","v":""}]
["",null,null,null,null,{"$f":"IFERROR(VLOOKUP(IF(C1358=\"\",B1358&\"||\"&B1358,C1358&\"||\"&B1358),Worktags!AR:AV,5,FALSE),\"\")","v":""}]
["",null,null,null,null,{"$f":"IFERROR(VLOOKUP(IF(C1359=\"\",B1359&\"||\"&B1359,C1359&\"||\"&B1359),Worktags!AR:AV,5,FALSE),\"\")","v":""}]
["",null,null,null,null,{"$f":"IFERROR(VLOOKUP(IF(C1360=\"\",B1360&\"||\"&B1360,C1360&\"||\"&B1360),Worktags!AR:AV,5,FALSE),\"\")","v":""}]
["",null,null,null,null,{"$f":"IFERROR(VLOOKUP(IF(C1361=\"\",B1361&\"||\"&B1361,C1361&\"||\"&B1361),Worktags!AR:AV,5,FALSE),\"\")","v":""}]
["",null,null,null,null,{"$f":"IFERROR(VLOOKUP(IF(C1362=\"\",B1362&\"||\"&B1362,C1362&\"||\"&B1362),Worktags!AR:AV,5,FALSE),\"\")","v":""}]
["",null,null,null,null,{"$f":"IFERROR(VLOOKUP(IF(C1363=\"\",B1363&\"||\"&B1363,C1363&\"||\"&B1363),Worktags!AR:AV,5,FALSE),\"\")","v":""}]
["",null,null,null,null,{"$f":"IFERROR(VLOOKUP(IF(C1364=\"\",B1364&\"||\"&B1364,C1364&\"||\"&B1364),Worktags!AR:AV,5,FALSE),\"\")","v":""}]
["",null,null,null,null,{"$f":"IFERROR(VLOOKUP(IF(C1365=\"\",B1365&\"||\"&B1365,C1365&\"||\"&B1365),Worktags!AR:AV,5,FALSE),\"\")","v":""}]
["",null,null,null,null,{"$f":"IFERROR(VLOOKUP(IF(C1366=\"\",B1366&\"||\"&B1366,C1366&\"||\"&B1366),Worktags!AR:AV,5,FALSE),\"\")","v":""}]
["",null,null,null,null,{"$f":"IFERROR(VLOOKUP(IF(C1367=\"\",B1367&\"||\"&B1367,C1367&\"||\"&B1367),Worktags!AR:AV,5,FALSE),\"\")","v":""}]
["",null,null,null,null,{"$f":"IFERROR(VLOOKUP(IF(C1368=\"\",B1368&\"||\"&B1368,C1368&\"||\"&B1368),Worktags!AR:AV,5,FALSE),\"\")","v":""}]
["",null,null,null,null,{"$f":"IFERROR(VLOOKUP(IF(C1369=\"\",B1369&\"||\"&B1369,C1369&\"||\"&B1369),Worktags!AR:AV,5,FALSE),\"\")","v":""}]
["",null,null,null,null,{"$f":"IFERROR(VLOOKUP(IF(C1370=\"\",B1370&\"||\"&B1370,C1370&\"||\"&B1370),Worktags!AR:AV,5,FALSE),\"\")","v":""}]
["",null,null,null,null,{"$f":"IFERROR(VLOOKUP(IF(C1371=\"\",B1371&\"||\"&B1371,C1371&\"||\"&B1371),Worktags!AR:AV,5,FALSE),\"\")","v":""}]
["",null,null,null,null,{"$f":"IFERROR(VLOOKUP(IF(C1372=\"\",B1372&\"||\"&B1372,C1372&\"||\"&B1372),Worktags!AR:AV,5,FALSE),\"\")","v":""}]
["",null,null,null,null,{"$f":"IFERROR(VLOOKUP(IF(C1373=\"\",B1373&\"||\"&B1373,C1373&\"||\"&B1373),Worktags!AR:AV,5,FALSE),\"\")","v":""}]
["",null,null,null,null,{"$f":"IFERROR(VLOOKUP(IF(C1374=\"\",B1374&\"||\"&B1374,C1374&\"||\"&B1374),Worktags!AR:AV,5,FALSE),\"\")","v":""}]
["",null,null,null,null,{"$f":"IFERROR(VLOOKUP(IF(C1375=\"\",B1375&\"||\"&B1375,C1375&\"||\"&B1375),Worktags!AR:AV,5,FALSE),\"\")","v":""}]
["",null,null,null,null,{"$f":"IFERROR(VLOOKUP(IF(C1376=\"\",B1376&\"||\"&B1376,C1376&\"||\"&B1376),Worktags!AR:AV,5,FALSE),\"\")","v":""}]
["",null,null,null,null,{"$f":"IFERROR(VLOOKUP(IF(C1377=\"\",B1377&\"||\"&B1377,C1377&\"||\"&B1377),Worktags!AR:AV,5,FALSE),\"\")","v":""}]
["",null,null,null,null,{"$f":"IFERROR(VLOOKUP(IF(C1378=\"\",B1378&\"||\"&B1378,C1378&\"||\"&B1378),Worktags!AR:AV,5,FALSE),\"\")","v":""}]
["",null,null,null,null,{"$f":"IFERROR(VLOOKUP(IF(C1379=\"\",B1379&\"||\"&B1379,C1379&\"||\"&B1379),Worktags!AR:AV,5,FALSE),\"\")","v":""}]
["",null,null,null,null,{"$f":"IFERROR(VLOOKUP(IF(C1380=\"\",B1380&\"||\"&B1380,C1380&\"||\"&B1380),Worktags!AR:AV,5,FALSE),\"\")","v":""}]
["",null,null,null,null,{"$f":"IFERROR(VLOOKUP(IF(C1381=\"\",B1381&\"||\"&B1381,C1381&\"||\"&B1381),Worktags!AR:AV,5,FALSE),\"\")","v":""}]
["",null,null,null,null,{"$f":"IFERROR(VLOOKUP(IF(C1382=\"\",B1382&\"||\"&B1382,C1382&\"||\"&B1382),Worktags!AR:AV,5,FALSE),\"\")","v":""}]
["",null,null,null,null,{"$f":"IFERROR(VLOOKUP(IF(C1383=\"\",B1383&\"||\"&B1383,C1383&\"||\"&B1383),Worktags!AR:AV,5,FALSE),\"\")","v":""}]
["",null,null,null,null,{"$f":"IFERROR(VLOOKUP(IF(C1384=\"\",B1384&\"||\"&B1384,C1384&\"||\"&B1384),Worktags!AR:AV,5,FALSE),\"\")","v":""}]
["",null,null,null,null,{"$f":"IFERROR(VLOOKUP(IF(C1385=\"\",B1385&\"||\"&B1385,C1385&\"||\"&B1385),Worktags!AR:AV,5,FALSE),\"\")","v":""}]
["",null,null,null,null,{"$f":"IFERROR(VLOOKUP(IF(C1386=\"\",B1386&\"||\"&B1386,C1386&\"||\"&B1386),Worktags!AR:AV,5,FALSE),\"\")","v":""}]
["",null,null,null,null,{"$f":"IFERROR(VLOOKUP(IF(C1387=\"\",B1387&\"||\"&B1387,C1387&\"||\"&B1387),Worktags!AR:AV,5,FALSE),\"\")","v":""}]
["",null,null,null,null,{"$f":"IFERROR(VLOOKUP(IF(C1388=\"\",B1388&\"||\"&B1388,C1388&\"||\"&B1388),Worktags!AR:AV,5,FALSE),\"\")","v":""}]
["",null,null,null,null,{"$f":"IFERROR(VLOOKUP(IF(C1389=\"\",B1389&\"||\"&B1389,C1389&\"||\"&B1389),Worktags!AR:AV,5,FALSE),\"\")","v":""}]
["",null,null,null,null,{"$f":"IFERROR(VLOOKUP(IF(C1390=\"\",B1390&\"||\"&B1390,C1390&\"||\"&B1390),Worktags!AR:AV,5,FALSE),\"\")","v":""}]
["",null,null,null,null,{"$f":"IFERROR(VLOOKUP(IF(C1391=\"\",B1391&\"||\"&B1391,C1391&\"||\"&B1391),Worktags!AR:AV,5,FALSE),\"\")","v":""}]
["",null,null,null,null,{"$f":"IFERROR(VLOOKUP(IF(C1392=\"\",B1392&\"||\"&B1392,C1392&\"||\"&B1392),Worktags!AR:AV,5,FALSE),\"\")","v":""}]
["",null,null,null,null,{"$f":"IFERROR(VLOOKUP(IF(C1393=\"\",B1393&\"||\"&B1393,C1393&\"||\"&B1393),Worktags!AR:AV,5,FALSE),\"\")","v":""}]
["",null,null,null,null,{"$f":"IFERROR(VLOOKUP(IF(C1394=\"\",B1394&\"||\"&B1394,C1394&\"||\"&B1394),Worktags!AR:AV,5,FALSE),\"\")","v":""}]
["",null,null,null,null,{"$f":"IFERROR(VLOOKUP(IF(C1395=\"\",B1395&\"||\"&B1395,C1395&\"||\"&B1395),Worktags!AR:AV,5,FALSE),\"\")","v":""}]
["",null,null,null,null,{"$f":"IFERROR(VLOOKUP(IF(C1396=\"\",B1396&\"||\"&B1396,C1396&\"||\"&B1396),Worktags!AR:AV,5,FALSE),\"\")","v":""}]
["",null,null,null,null,{"$f":"IFERROR(VLOOKUP(IF(C1397=\"\",B1397&\"||\"&B1397,C1397&\"||\"&B1397),Worktags!AR:AV,5,FALSE),\"\")","v":""}]
["",null,null,null,null,{"$f":"IFERROR(VLOOKUP(IF(C1398=\"\",B1398&\"||\"&B1398,C1398&\"||\"&B1398),Worktags!AR:AV,5,FALSE),\"\")","v":""}]
["",null,null,null,null,{"$f":"IFERROR(VLOOKUP(IF(C1399=\"\",B1399&\"||\"&B1399,C1399&\"||\"&B1399),Worktags!AR:AV,5,FALSE),\"\")","v":""}]
["",null,null,null,null,{"$f":"IFERROR(VLOOKUP(IF(C1400=\"\",B1400&\"||\"&B1400,C1400&\"||\"&B1400),Worktags!AR:AV,5,FALSE),\"\")","v":""}]
["",null,null,null,null,{"$f":"IFERROR(VLOOKUP(IF(C1401=\"\",B1401&\"||\"&B1401,C1401&\"||\"&B1401),Worktags!AR:AV,5,FALSE),\"\")","v":""}]
["",null,null,null,null,{"$f":"IFERROR(VLOOKUP(IF(C1402=\"\",B1402&\"||\"&B1402,C1402&\"||\"&B1402),Worktags!AR:AV,5,FALSE),\"\")","v":""}]
["",null,null,null,null,{"$f":"IFERROR(VLOOKUP(IF(C1403=\"\",B1403&\"||\"&B1403,C1403&\"||\"&B1403),Worktags!AR:AV,5,FALSE),\"\")","v":""}]
["",null,null,null,null,{"$f":"IFERROR(VLOOKUP(IF(C1404=\"\",B1404&\"||\"&B1404,C1404&\"||\"&B1404),Worktags!AR:AV,5,FALSE),\"\")","v":""}]
["",null,null,null,null,{"$f":"IFERROR(VLOOKUP(IF(C1405=\"\",B1405&\"||\"&B1405,C1405&\"||\"&B1405),Worktags!AR:AV,5,FALSE),\"\")","v":""}]
["",null,null,null,null,{"$f":"IFERROR(VLOOKUP(IF(C1406=\"\",B1406&\"||\"&B1406,C1406&\"||\"&B1406),Worktags!AR:AV,5,FALSE),\"\")","v":""}]
["",null,null,null,null,{"$f":"IFERROR(VLOOKUP(IF(C1407=\"\",B1407&\"||\"&B1407,C1407&\"||\"&B1407),Worktags!AR:AV,5,FALSE),\"\")","v":""}]
["",null,null,null,null,{"$f":"IFERROR(VLOOKUP(IF(C1408=\"\",B1408&\"||\"&B1408,C1408&\"||\"&B1408),Worktags!AR:AV,5,FALSE),\"\")","v":""}]
["",null,null,null,null,{"$f":"IFERROR(VLOOKUP(IF(C1409=\"\",B1409&\"||\"&B1409,C1409&\"||\"&B1409),Worktags!AR:AV,5,FALSE),\"\")","v":""}]
[{"$f":"IF(B1410<>\"\",IF(C1410<>\"\",B1410&\"_\"&C1410&\" \"&D1410&\"/\"&E1410,B1410&\" \"&D1410),\"\")","v":""},null,null,null,null,{"$f":"IFERROR(VLOOKUP(IF(C1410=\"\",B1410&\"||\"&B1410,C1410&\"||\"&B1410),Worktags!AR:AV,5,FALSE),\"\")","v":""}]
["",null,null,null,null,{"$f":"IFERROR(VLOOKUP(IF(C1411=\"\",B1411&\"||\"&B1411,C1411&\"||\"&B1411),Worktags!AR:AV,5,FALSE),\"\")","v":""}]
["",null,null,null,null,{"$f":"IFERROR(VLOOKUP(IF(C1412=\"\",B1412&\"||\"&B1412,C1412&\"||\"&B1412),Worktags!AR:AV,5,FALSE),\"\")","v":""}]
["",null,null,null,null,{"$f":"IFERROR(VLOOKUP(IF(C1413=\"\",B1413&\"||\"&B1413,C1413&\"||\"&B1413),Worktags!AR:AV,5,FALSE),\"\")","v":""}]
["",null,null,null,null,{"$f":"IFERROR(VLOOKUP(IF(C1414=\"\",B1414&\"||\"&B1414,C1414&\"||\"&B1414),Worktags!AR:AV,5,FALSE),\"\")","v":""}]
["",null,null,null,null,{"$f":"IFERROR(VLOOKUP(IF(C1415=\"\",B1415&\"||\"&B1415,C1415&\"||\"&B1415),Worktags!AR:AV,5,FALSE),\"\")","v":""}]
["",null,null,null,null,{"$f":"IFERROR(VLOOKUP(IF(C1416=\"\",B1416&\"||\"&B1416,C1416&\"||\"&B1416),Worktags!AR:AV,5,FALSE),\"\")","v":""}]
["",null,null,null,null,{"$f":"IFERROR(VLOOKUP(IF(C1417=\"\",B1417&\"||\"&B1417,C1417&\"||\"&B1417),Worktags!AR:AV,5,FALSE),\"\")","v":""}]
["",null,null,null,null,{"$f":"IFERROR(VLOOKUP(IF(C1418=\"\",B1418&\"||\"&B1418,C1418&\"||\"&B1418),Worktags!AR:AV,5,FALSE),\"\")","v":""}]
["",null,null,null,null,{"$f":"IFERROR(VLOOKUP(IF(C1419=\"\",B1419&\"||\"&B1419,C1419&\"||\"&B1419),Worktags!AR:AV,5,FALSE),\"\")","v":""}]
["",null,null,null,null,{"$f":"IFERROR(VLOOKUP(IF(C1420=\"\",B1420&\"||\"&B1420,C1420&\"||\"&B1420),Worktags!AR:AV,5,FALSE),\"\")","v":""}]
["",null,null,null,null,{"$f":"IFERROR(VLOOKUP(IF(C1421=\"\",B1421&\"||\"&B1421,C1421&\"||\"&B1421),Worktags!AR:AV,5,FALSE),\"\")","v":""}]
["",null,null,null,null,{"$f":"IFERROR(VLOOKUP(IF(C1422=\"\",B1422&\"||\"&B1422,C1422&\"||\"&B1422),Worktags!AR:AV,5,FALSE),\"\")","v":""}]
["",null,null,null,null,{"$f":"IFERROR(VLOOKUP(IF(C1423=\"\",B1423&\"||\"&B1423,C1423&\"||\"&B1423),Worktags!AR:AV,5,FALSE),\"\")","v":""}]
["",null,null,null,null,{"$f":"IFERROR(VLOOKUP(IF(C1424=\"\",B1424&\"||\"&B1424,C1424&\"||\"&B1424),Worktags!AR:AV,5,FALSE),\"\")","v":""}]
["",null,null,null,null,{"$f":"IFERROR(VLOOKUP(IF(C1425=\"\",B1425&\"||\"&B1425,C1425&\"||\"&B1425),Worktags!AR:AV,5,FALSE),\"\")","v":""}]
["",null,null,null,null,{"$f":"IFERROR(VLOOKUP(IF(C1426=\"\",B1426&\"||\"&B1426,C1426&\"||\"&B1426),Worktags!AR:AV,5,FALSE),\"\")","v":""}]
["",null,null,null,null,{"$f":"IFERROR(VLOOKUP(IF(C1427=\"\",B1427&\"||\"&B1427,C1427&\"||\"&B1427),Worktags!AR:AV,5,FALSE),\"\")","v":""}]
["",null,null,null,null,{"$f":"IFERROR(VLOOKUP(IF(C1428=\"\",B1428&\"||\"&B1428,C1428&\"||\"&B1428),Worktags!AR:AV,5,FALSE),\"\")","v":""}]
["",null,null,null,null,{"$f":"IFERROR(VLOOKUP(IF(C1429=\"\",B1429&\"||\"&B1429,C1429&\"||\"&B1429),Worktags!AR:AV,5,FALSE),\"\")","v":""}]
["",null,null,null,null,{"$f":"IFERROR(VLOOKUP(IF(C1430=\"\",B1430&\"||\"&B1430,C1430&\"||\"&B1430),Worktags!AR:AV,5,FALSE),\"\")","v":""}]
["",null,null,null,null,{"$f":"IFERROR(VLOOKUP(IF(C1431=\"\",B1431&\"||\"&B1431,C1431&\"||\"&B1431),Worktags!AR:AV,5,FALSE),\"\")","v":""}]
["",null,null,null,null,{"$f":"IFERROR(VLOOKUP(IF(C1432=\"\",B1432&\"||\"&B1432,C1432&\"||\"&B1432),Worktags!AR:AV,5,FALSE),\"\")","v":""}]
["",null,null,null,null,{"$f":"IFERROR(VLOOKUP(IF(C1433=\"\",B1433&\"||\"&B1433,C1433&\"||\"&B1433),Worktags!AR:AV,5,FALSE),\"\")","v":""}]
["",null,null,null,null,{"$f":"IFERROR(VLOOKUP(IF(C1434=\"\",B1434&\"||\"&B1434,C1434&\"||\"&B1434),Worktags!AR:AV,5,FALSE),\"\")","v":""}]
["",null,null,null,null,{"$f":"IFERROR(VLOOKUP(IF(C1435=\"\",B1435&\"||\"&B1435,C1435&\"||\"&B1435),Worktags!AR:AV,5,FALSE),\"\")","v":""}]
["",null,null,null,null,{"$f":"IFERROR(VLOOKUP(IF(C1436=\"\",B1436&\"||\"&B1436,C1436&\"||\"&B1436),Worktags!AR:AV,5,FALSE),\"\")","v":""}]
["",null,null,null,null,{"$f":"IFERROR(VLOOKUP(IF(C1437=\"\",B1437&\"||\"&B1437,C1437&\"||\"&B1437),Worktags!AR:AV,5,FALSE),\"\")","v":""}]
["",null,null,null,null,{"$f":"IFERROR(VLOOKUP(IF(C1438=\"\",B1438&\"||\"&B1438,C1438&\"||\"&B1438),Worktags!AR:AV,5,FALSE),\"\")","v":""}]
["",null,null,null,null,{"$f":"IFERROR(VLOOKUP(IF(C1439=\"\",B1439&\"||\"&B1439,C1439&\"||\"&B1439),Worktags!AR:AV,5,FALSE),\"\")","v":""}]
["",null,null,null,null,{"$f":"IFERROR(VLOOKUP(IF(C1440=\"\",B1440&\"||\"&B1440,C1440&\"||\"&B1440),Worktags!AR:AV,5,FALSE),\"\")","v":""}]
["",null,null,null,null,{"$f":"IFERROR(VLOOKUP(IF(C1441=\"\",B1441&\"||\"&B1441,C1441&\"||\"&B1441),Worktags!AR:AV,5,FALSE),\"\")","v":""}]
["",null,null,null,null,{"$f":"IFERROR(VLOOKUP(IF(C1442=\"\",B1442&\"||\"&B1442,C1442&\"||\"&B1442),Worktags!AR:AV,5,FALSE),\"\")","v":""}]
["",null,null,null,null,{"$f":"IFERROR(VLOOKUP(IF(C1443=\"\",B1443&\"||\"&B1443,C1443&\"||\"&B1443),Worktags!AR:AV,5,FALSE),\"\")","v":""}]
["",null,null,null,null,{"$f":"IFERROR(VLOOKUP(IF(C1444=\"\",B1444&\"||\"&B1444,C1444&\"||\"&B1444),Worktags!AR:AV,5,FALSE),\"\")","v":""}]
["",null,null,null,null,{"$f":"IFERROR(VLOOKUP(IF(C1445=\"\",B1445&\"||\"&B1445,C1445&\"||\"&B1445),Worktags!AR:AV,5,FALSE),\"\")","v":""}]
["",null,null,null,null,{"$f":"IFERROR(VLOOKUP(IF(C1446=\"\",B1446&\"||\"&B1446,C1446&\"||\"&B1446),Worktags!AR:AV,5,FALSE),\"\")","v":""}]
["",null,null,null,null,{"$f":"IFERROR(VLOOKUP(IF(C1447=\"\",B1447&\"||\"&B1447,C1447&\"||\"&B1447),Worktags!AR:AV,5,FALSE),\"\")","v":""}]
["",null,null,null,null,{"$f":"IFERROR(VLOOKUP(IF(C1448=\"\",B1448&\"||\"&B1448,C1448&\"||\"&B1448),Worktags!AR:AV,5,FALSE),\"\")","v":""}]
["",null,null,null,null,{"$f":"IFERROR(VLOOKUP(IF(C1449=\"\",B1449&\"||\"&B1449,C1449&\"||\"&B1449),Worktags!AR:AV,5,FALSE),\"\")","v":""}]
["",null,null,null,null,{"$f":"IFERROR(VLOOKUP(IF(C1450=\"\",B1450&\"||\"&B1450,C1450&\"||\"&B1450),Worktags!AR:AV,5,FALSE),\"\")","v":""}]
["",null,null,null,null,{"$f":"IFERROR(VLOOKUP(IF(C1451=\"\",B1451&\"||\"&B1451,C1451&\"||\"&B1451),Worktags!AR:AV,5,FALSE),\"\")","v":""}]
["",null,null,null,null,{"$f":"IFERROR(VLOOKUP(IF(C1452=\"\",B1452&\"||\"&B1452,C1452&\"||\"&B1452),Worktags!AR:AV,5,FALSE),\"\")","v":""}]
["",null,null,null,null,{"$f":"IFERROR(VLOOKUP(IF(C1453=\"\",B1453&\"||\"&B1453,C1453&\"||\"&B1453),Worktags!AR:AV,5,FALSE),\"\")","v":""}]
["",null,null,null,null,{"$f":"IFERROR(VLOOKUP(IF(C1454=\"\",B1454&\"||\"&B1454,C1454&\"||\"&B1454),Worktags!AR:AV,5,FALSE),\"\")","v":""}]
["",null,null,null,null,{"$f":"IFERROR(VLOOKUP(IF(C1455=\"\",B1455&\"||\"&B1455,C1455&\"||\"&B1455),Worktags!AR:AV,5,FALSE),\"\")","v":""}]
["",null,null,null,null,{"$f":"IFERROR(VLOOKUP(IF(C1456=\"\",B1456&\"||\"&B1456,C1456&\"||\"&B1456),Worktags!AR:AV,5,FALSE),\"\")","v":""}]
["",null,null,null,null,{"$f":"IFERROR(VLOOKUP(IF(C1457=\"\",B1457&\"||\"&B1457,C1457&\"||\"&B1457),Worktags!AR:AV,5,FALSE),\"\")","v":""}]
["",null,null,null,null,{"$f":"IFERROR(VLOOKUP(IF(C1458=\"\",B1458&\"||\"&B1458,C1458&\"||\"&B1458),Worktags!AR:AV,5,FALSE),\"\")","v":""}]
["",null,null,null,null,{"$f":"IFERROR(VLOOKUP(IF(C1459=\"\",B1459&\"||\"&B1459,C1459&\"||\"&B1459),Worktags!AR:AV,5,FALSE),\"\")","v":""}]
["",null,null,null,null,{"$f":"IFERROR(VLOOKUP(IF(C1460=\"\",B1460&\"||\"&B1460,C1460&\"||\"&B1460),Worktags!AR:AV,5,FALSE),\"\")","v":""}]
["",null,null,null,null,{"$f":"IFERROR(VLOOKUP(IF(C1461=\"\",B1461&\"||\"&B1461,C1461&\"||\"&B1461),Worktags!AR:AV,5,FALSE),\"\")","v":""}]
["",null,null,null,null,{"$f":"IFERROR(VLOOKUP(IF(C1462=\"\",B1462&\"||\"&B1462,C1462&\"||\"&B1462),Worktags!AR:AV,5,FALSE),\"\")","v":""}]
["",null,null,null,null,{"$f":"IFERROR(VLOOKUP(IF(C1463=\"\",B1463&\"||\"&B1463,C1463&\"||\"&B1463),Worktags!AR:AV,5,FALSE),\"\")","v":""}]
["",null,null,null,null,{"$f":"IFERROR(VLOOKUP(IF(C1464=\"\",B1464&\"||\"&B1464,C1464&\"||\"&B1464),Worktags!AR:AV,5,FALSE),\"\")","v":""}]
["",null,null,null,null,{"$f":"IFERROR(VLOOKUP(IF(C1465=\"\",B1465&\"||\"&B1465,C1465&\"||\"&B1465),Worktags!AR:AV,5,FALSE),\"\")","v":""}]
["",null,null,null,null,{"$f":"IFERROR(VLOOKUP(IF(C1466=\"\",B1466&\"||\"&B1466,C1466&\"||\"&B1466),Worktags!AR:AV,5,FALSE),\"\")","v":""}]
["",null,null,null,null,{"$f":"IFERROR(VLOOKUP(IF(C1467=\"\",B1467&\"||\"&B1467,C1467&\"||\"&B1467),Worktags!AR:AV,5,FALSE),\"\")","v":""}]
["",null,null,null,null,{"$f":"IFERROR(VLOOKUP(IF(C1468=\"\",B1468&\"||\"&B1468,C1468&\"||\"&B1468),Worktags!AR:AV,5,FALSE),\"\")","v":""}]
["",null,null,null,null,{"$f":"IFERROR(VLOOKUP(IF(C1469=\"\",B1469&\"||\"&B1469,C1469&\"||\"&B1469),Worktags!AR:AV,5,FALSE),\"\")","v":""}]
["",null,null,null,null,{"$f":"IFERROR(VLOOKUP(IF(C1470=\"\",B1470&\"||\"&B1470,C1470&\"||\"&B1470),Worktags!AR:AV,5,FALSE),\"\")","v":""}]
["",null,null,null,null,{"$f":"IFERROR(VLOOKUP(IF(C1471=\"\",B1471&\"||\"&B1471,C1471&\"||\"&B1471),Worktags!AR:AV,5,FALSE),\"\")","v":""}]
["",null,null,null,null,{"$f":"IFERROR(VLOOKUP(IF(C1472=\"\",B1472&\"||\"&B1472,C1472&\"||\"&B1472),Worktags!AR:AV,5,FALSE),\"\")","v":""}]
["",null,null,null,null,{"$f":"IFERROR(VLOOKUP(IF(C1473=\"\",B1473&\"||\"&B1473,C1473&\"||\"&B1473),Worktags!AR:AV,5,FALSE),\"\")","v":""}]
[{"$f":"IF(B1474<>\"\",IF(C1474<>\"\",B1474&\"_\"&C1474&\" \"&D1474&\"/\"&E1474,B1474&\" \"&D1474),\"\")","v":""},null,null,null,null,{"$f":"IFERROR(VLOOKUP(IF(C1474=\"\",B1474&\"||\"&B1474,C1474&\"||\"&B1474),Worktags!AR:AV,5,FALSE),\"\")","v":""}]
["",null,null,null,null,{"$f":"IFERROR(VLOOKUP(IF(C1475=\"\",B1475&\"||\"&B1475,C1475&\"||\"&B1475),Worktags!AR:AV,5,FALSE),\"\")","v":""}]
["",null,null,null,null,{"$f":"IFERROR(VLOOKUP(IF(C1476=\"\",B1476&\"||\"&B1476,C1476&\"||\"&B1476),Worktags!AR:AV,5,FALSE),\"\")","v":""}]
["",null,null,null,null,{"$f":"IFERROR(VLOOKUP(IF(C1477=\"\",B1477&\"||\"&B1477,C1477&\"||\"&B1477),Worktags!AR:AV,5,FALSE),\"\")","v":""}]
["",null,null,null,null,{"$f":"IFERROR(VLOOKUP(IF(C1478=\"\",B1478&\"||\"&B1478,C1478&\"||\"&B1478),Worktags!AR:AV,5,FALSE),\"\")","v":""}]
["",null,null,null,null,{"$f":"IFERROR(VLOOKUP(IF(C1479=\"\",B1479&\"||\"&B1479,C1479&\"||\"&B1479),Worktags!AR:AV,5,FALSE),\"\")","v":""}]
["",null,null,null,null,{"$f":"IFERROR(VLOOKUP(IF(C1480=\"\",B1480&\"||\"&B1480,C1480&\"||\"&B1480),Worktags!AR:AV,5,FALSE),\"\")","v":""}]
["",null,null,null,null,{"$f":"IFERROR(VLOOKUP(IF(C1481=\"\",B1481&\"||\"&B1481,C1481&\"||\"&B1481),Worktags!AR:AV,5,FALSE),\"\")","v":""}]
["",null,null,null,null,{"$f":"IFERROR(VLOOKUP(IF(C1482=\"\",B1482&\"||\"&B1482,C1482&\"||\"&B1482),Worktags!AR:AV,5,FALSE),\"\")","v":""}]
["",null,null,null,null,{"$f":"IFERROR(VLOOKUP(IF(C1483=\"\",B1483&\"||\"&B1483,C1483&\"||\"&B1483),Worktags!AR:AV,5,FALSE),\"\")","v":""}]
["",null,null,null,null,{"$f":"IFERROR(VLOOKUP(IF(C1484=\"\",B1484&\"||\"&B1484,C1484&\"||\"&B1484),Worktags!AR:AV,5,FALSE),\"\")","v":""}]
["",null,null,null,null,{"$f":"IFERROR(VLOOKUP(IF(C1485=\"\",B1485&\"||\"&B1485,C1485&\"||\"&B1485),Worktags!AR:AV,5,FALSE),\"\")","v":""}]
["",null,null,null,null,{"$f":"IFERROR(VLOOKUP(IF(C1486=\"\",B1486&\"||\"&B1486,C1486&\"||\"&B1486),Worktags!AR:AV,5,FALSE),\"\")","v":""}]
["",null,null,null,null,{"$f":"IFERROR(VLOOKUP(IF(C1487=\"\",B1487&\"||\"&B1487,C1487&\"||\"&B1487),Worktags!AR:AV,5,FALSE),\"\")","v":""}]
["",null,null,null,null,{"$f":"IFERROR(VLOOKUP(IF(C1488=\"\",B1488&\"||\"&B1488,C1488&\"||\"&B1488),Worktags!AR:AV,5,FALSE),\"\")","v":""}]
["",null,null,null,null,{"$f":"IFERROR(VLOOKUP(IF(C1489=\"\",B1489&\"||\"&B1489,C1489&\"||\"&B1489),Worktags!AR:AV,5,FALSE),\"\")","v":""}]
["",null,null,null,null,{"$f":"IFERROR(VLOOKUP(IF(C1490=\"\",B1490&\"||\"&B1490,C1490&\"||\"&B1490),Worktags!AR:AV,5,FALSE),\"\")","v":""}]
["",null,null,null,null,{"$f":"IFERROR(VLOOKUP(IF(C1491=\"\",B1491&\"||\"&B1491,C1491&\"||\"&B1491),Worktags!AR:AV,5,FALSE),\"\")","v":""}]
["",null,null,null,null,{"$f":"IFERROR(VLOOKUP(IF(C1492=\"\",B1492&\"||\"&B1492,C1492&\"||\"&B1492),Worktags!AR:AV,5,FALSE),\"\")","v":""}]
["",null,null,null,null,{"$f":"IFERROR(VLOOKUP(IF(C1493=\"\",B1493&\"||\"&B1493,C1493&\"||\"&B1493),Worktags!AR:AV,5,FALSE),\"\")","v":""}]
["",null,null,null,null,{"$f":"IFERROR(VLOOKUP(IF(C1494=\"\",B1494&\"||\"&B1494,C1494&\"||\"&B1494),Worktags!AR:AV,5,FALSE),\"\")","v":""}]
["",null,null,null,null,{"$f":"IFERROR(VLOOKUP(IF(C1495=\"\",B1495&\"||\"&B1495,C1495&\"||\"&B1495),Worktags!AR:AV,5,FALSE),\"\")","v":""}]
["",null,null,null,null,{"$f":"IFERROR(VLOOKUP(IF(C1496=\"\",B1496&\"||\"&B1496,C1496&\"||\"&B1496),Worktags!AR:AV,5,FALSE),\"\")","v":""}]
["",null,null,null,null,{"$f":"IFERROR(VLOOKUP(IF(C1497=\"\",B1497&\"||\"&B1497,C1497&\"||\"&B1497),Worktags!AR:AV,5,FALSE),\"\")","v":""}]
["",null,null,null,null,{"$f":"IFERROR(VLOOKUP(IF(C1498=\"\",B1498&\"||\"&B1498,C1498&\"||\"&B1498),Worktags!AR:AV,5,FALSE),\"\")","v":""}]
["",null,null,null,null,{"$f":"IFERROR(VLOOKUP(IF(C1499=\"\",B1499&\"||\"&B1499,C1499&\"||\"&B1499),Worktags!AR:AV,5,FALSE),\"\")","v":""}]
["",null,null,null,null,{"$f":"IFERROR(VLOOKUP(IF(C1500=\"\",B1500&\"||\"&B1500,C1500&\"||\"&B1500),Worktags!AR:AV,5,FALSE),\"\")","v":""}]
["",null,null,null,null,{"$f":"IFERROR(VLOOKUP(IF(C1501=\"\",B1501&\"||\"&B1501,C1501&\"||\"&B1501),Worktags!AR:AV,5,FALSE),\"\")","v":""}]
["",null,null,null,null,{"$f":"IFERROR(VLOOKUP(IF(C1502=\"\",B1502&\"||\"&B1502,C1502&\"||\"&B1502),Worktags!AR:AV,5,FALSE),\"\")","v":""}]
["",null,null,null,null,{"$f":"IFERROR(VLOOKUP(IF(C1503=\"\",B1503&\"||\"&B1503,C1503&\"||\"&B1503),Worktags!AR:AV,5,FALSE),\"\")","v":""}]
["",null,null,null,null,{"$f":"IFERROR(VLOOKUP(IF(C1504=\"\",B1504&\"||\"&B1504,C1504&\"||\"&B1504),Worktags!AR:AV,5,FALSE),\"\")","v":""}]
["",null,null,null,null,{"$f":"IFERROR(VLOOKUP(IF(C1505=\"\",B1505&\"||\"&B1505,C1505&\"||\"&B1505),Worktags!AR:AV,5,FALSE),\"\")","v":""}]
["",null,null,null,null,{"$f":"IFERROR(VLOOKUP(IF(C1506=\"\",B1506&\"||\"&B1506,C1506&\"||\"&B1506),Worktags!AR:AV,5,FALSE),\"\")","v":""}]
["",null,null,null,null,{"$f":"IFERROR(VLOOKUP(IF(C1507=\"\",B1507&\"||\"&B1507,C1507&\"||\"&B1507),Worktags!AR:AV,5,FALSE),\"\")","v":""}]
["",null,null,null,null,{"$f":"IFERROR(VLOOKUP(IF(C1508=\"\",B1508&\"||\"&B1508,C1508&\"||\"&B1508),Worktags!AR:AV,5,FALSE),\"\")","v":""}]
["",null,null,null,null,{"$f":"IFERROR(VLOOKUP(IF(C1509=\"\",B1509&\"||\"&B1509,C1509&\"||\"&B1509),Worktags!AR:AV,5,FALSE),\"\")","v":""}]
["",null,null,null,null,{"$f":"IFERROR(VLOOKUP(IF(C1510=\"\",B1510&\"||\"&B1510,C1510&\"||\"&B1510),Worktags!AR:AV,5,FALSE),\"\")","v":""}]
["",null,null,null,null,{"$f":"IFERROR(VLOOKUP(IF(C1511=\"\",B1511&\"||\"&B1511,C1511&\"||\"&B1511),Worktags!AR:AV,5,FALSE),\"\")","v":""}]
["",null,null,null,null,{"$f":"IFERROR(VLOOKUP(IF(C1512=\"\",B1512&\"||\"&B1512,C1512&\"||\"&B1512),Worktags!AR:AV,5,FALSE),\"\")","v":""}]
["",null,null,null,null,{"$f":"IFERROR(VLOOKUP(IF(C1513=\"\",B1513&\"||\"&B1513,C1513&\"||\"&B1513),Worktags!AR:AV,5,FALSE),\"\")","v":""}]
["",null,null,null,null,{"$f":"IFERROR(VLOOKUP(IF(C1514=\"\",B1514&\"||\"&B1514,C1514&\"||\"&B1514),Worktags!AR:AV,5,FALSE),\"\")","v":""}]
["",null,null,null,null,{"$f":"IFERROR(VLOOKUP(IF(C1515=\"\",B1515&\"||\"&B1515,C1515&\"||\"&B1515),Worktags!AR:AV,5,FALSE),\"\")","v":""}]
["",null,null,null,null,{"$f":"IFERROR(VLOOKUP(IF(C1516=\"\",B1516&\"||\"&B1516,C1516&\"||\"&B1516),Worktags!AR:AV,5,FALSE),\"\")","v":""}]
["",null,null,null,null,{"$f":"IFERROR(VLOOKUP(IF(C1517=\"\",B1517&\"||\"&B1517,C1517&\"||\"&B1517),Worktags!AR:AV,5,FALSE),\"\")","v":""}]
["",null,null,null,null,{"$f":"IFERROR(VLOOKUP(IF(C1518=\"\",B1518&\"||\"&B1518,C1518&\"||\"&B1518),Worktags!AR:AV,5,FALSE),\"\")","v":""}]
["",null,null,null,null,{"$f":"IFERROR(VLOOKUP(IF(C1519=\"\",B1519&\"||\"&B1519,C1519&\"||\"&B1519),Worktags!AR:AV,5,FALSE),\"\")","v":""}]
["",null,null,null,null,{"$f":"IFERROR(VLOOKUP(IF(C1520=\"\",B1520&\"||\"&B1520,C1520&\"||\"&B1520),Worktags!AR:AV,5,FALSE),\"\")","v":""}]
["",null,null,null,null,{"$f":"IFERROR(VLOOKUP(IF(C1521=\"\",B1521&\"||\"&B1521,C1521&\"||\"&B1521),Worktags!AR:AV,5,FALSE),\"\")","v":""}]
["",null,null,null,null,{"$f":"IFERROR(VLOOKUP(IF(C1522=\"\",B1522&\"||\"&B1522,C1522&\"||\"&B1522),Worktags!AR:AV,5,FALSE),\"\")","v":""}]
["",null,null,null,null,{"$f":"IFERROR(VLOOKUP(IF(C1523=\"\",B1523&\"||\"&B1523,C1523&\"||\"&B1523),Worktags!AR:AV,5,FALSE),\"\")","v":""}]
["",null,null,null,null,{"$f":"IFERROR(VLOOKUP(IF(C1524=\"\",B1524&\"||\"&B1524,C1524&\"||\"&B1524),Worktags!AR:AV,5,FALSE),\"\")","v":""}]
["",null,null,null,null,{"$f":"IFERROR(VLOOKUP(IF(C1525=\"\",B1525&\"||\"&B1525,C1525&\"||\"&B1525),Worktags!AR:AV,5,FALSE),\"\")","v":""}]
["",null,null,null,null,{"$f":"IFERROR(VLOOKUP(IF(C1526=\"\",B1526&\"||\"&B1526,C1526&\"||\"&B1526),Worktags!AR:AV,5,FALSE),\"\")","v":""}]
["",null,null,null,null,{"$f":"IFERROR(VLOOKUP(IF(C1527=\"\",B1527&\"||\"&B1527,C1527&\"||\"&B1527),Worktags!AR:AV,5,FALSE),\"\")","v":""}]
["",null,null,null,null,{"$f":"IFERROR(VLOOKUP(IF(C1528=\"\",B1528&\"||\"&B1528,C1528&\"||\"&B1528),Worktags!AR:AV,5,FALSE),\"\")","v":""}]
["",null,null,null,null,{"$f":"IFERROR(VLOOKUP(IF(C1529=\"\",B1529&\"||\"&B1529,C1529&\"||\"&B1529),Worktags!AR:AV,5,FALSE),\"\")","v":""}]
["",null,null,null,null,{"$f":"IFERROR(VLOOKUP(IF(C1530=\"\",B1530&\"||\"&B1530,C1530&\"||\"&B1530),Worktags!AR:AV,5,FALSE),\"\")","v":""}]
["",null,null,null,null,{"$f":"IFERROR(VLOOKUP(IF(C1531=\"\",B1531&\"||\"&B1531,C1531&\"||\"&B1531),Worktags!AR:AV,5,FALSE),\"\")","v":""}]
["",null,null,null,null,{"$f":"IFERROR(VLOOKUP(IF(C1532=\"\",B1532&\"||\"&B1532,C1532&\"||\"&B1532),Worktags!AR:AV,5,FALSE),\"\")","v":""}]
["",null,null,null,null,{"$f":"IFERROR(VLOOKUP(IF(C1533=\"\",B1533&\"||\"&B1533,C1533&\"||\"&B1533),Worktags!AR:AV,5,FALSE),\"\")","v":""}]
["",null,null,null,null,{"$f":"IFERROR(VLOOKUP(IF(C1534=\"\",B1534&\"||\"&B1534,C1534&\"||\"&B1534),Worktags!AR:AV,5,FALSE),\"\")","v":""}]
["",null,null,null,null,{"$f":"IFERROR(VLOOKUP(IF(C1535=\"\",B1535&\"||\"&B1535,C1535&\"||\"&B1535),Worktags!AR:AV,5,FALSE),\"\")","v":""}]
["",null,null,null,null,{"$f":"IFERROR(VLOOKUP(IF(C1536=\"\",B1536&\"||\"&B1536,C1536&\"||\"&B1536),Worktags!AR:AV,5,FALSE),\"\")","v":""}]
["",null,null,null,null,{"$f":"IFERROR(VLOOKUP(IF(C1537=\"\",B1537&\"||\"&B1537,C1537&\"||\"&B1537),Worktags!AR:AV,5,FALSE),\"\")","v":""}]
[{"$f":"IF(B1538<>\"\",IF(C1538<>\"\",B1538&\"_\"&C1538&\" \"&D1538&\"/\"&E1538,B1538&\" \"&D1538),\"\")","v":""},null,null,null,null,{"$f":"IFERROR(VLOOKUP(IF(C1538=\"\",B1538&\"||\"&B1538,C1538&\"||\"&B1538),Worktags!AR:AV,5,FALSE),\"\")","v":""}]
["",null,null,null,null,{"$f":"IFERROR(VLOOKUP(IF(C1539=\"\",B1539&\"||\"&B1539,C1539&\"||\"&B1539),Worktags!AR:AV,5,FALSE),\"\")","v":""}]
["",null,null,null,null,{"$f":"IFERROR(VLOOKUP(IF(C1540=\"\",B1540&\"||\"&B1540,C1540&\"||\"&B1540),Worktags!AR:AV,5,FALSE),\"\")","v":""}]
["",null,null,null,null,{"$f":"IFERROR(VLOOKUP(IF(C1541=\"\",B1541&\"||\"&B1541,C1541&\"||\"&B1541),Worktags!AR:AV,5,FALSE),\"\")","v":""}]
["",null,null,null,null,{"$f":"IFERROR(VLOOKUP(IF(C1542=\"\",B1542&\"||\"&B1542,C1542&\"||\"&B1542),Worktags!AR:AV,5,FALSE),\"\")","v":""}]
["",null,null,null,null,{"$f":"IFERROR(VLOOKUP(IF(C1543=\"\",B1543&\"||\"&B1543,C1543&\"||\"&B1543),Worktags!AR:AV,5,FALSE),\"\")","v":""}]
["",null,null,null,null,{"$f":"IFERROR(VLOOKUP(IF(C1544=\"\",B1544&\"||\"&B1544,C1544&\"||\"&B1544),Worktags!AR:AV,5,FALSE),\"\")","v":""}]
["",null,null,null,null,{"$f":"IFERROR(VLOOKUP(IF(C1545=\"\",B1545&\"||\"&B1545,C1545&\"||\"&B1545),Worktags!AR:AV,5,FALSE),\"\")","v":""}]
["",null,null,null,null,{"$f":"IFERROR(VLOOKUP(IF(C1546=\"\",B1546&\"||\"&B1546,C1546&\"||\"&B1546),Worktags!AR:AV,5,FALSE),\"\")","v":""}]
["",null,null,null,null,{"$f":"IFERROR(VLOOKUP(IF(C1547=\"\",B1547&\"||\"&B1547,C1547&\"||\"&B1547),Worktags!AR:AV,5,FALSE),\"\")","v":""}]
["",null,null,null,null,{"$f":"IFERROR(VLOOKUP(IF(C1548=\"\",B1548&\"||\"&B1548,C1548&\"||\"&B1548),Worktags!AR:AV,5,FALSE),\"\")","v":""}]
["",null,null,null,null,{"$f":"IFERROR(VLOOKUP(IF(C1549=\"\",B1549&\"||\"&B1549,C1549&\"||\"&B1549),Worktags!AR:AV,5,FALSE),\"\")","v":""}]
["",null,null,null,null,{"$f":"IFERROR(VLOOKUP(IF(C1550=\"\",B1550&\"||\"&B1550,C1550&\"||\"&B1550),Worktags!AR:AV,5,FALSE),\"\")","v":""}]
["",null,null,null,null,{"$f":"IFERROR(VLOOKUP(IF(C1551=\"\",B1551&\"||\"&B1551,C1551&\"||\"&B1551),Worktags!AR:AV,5,FALSE),\"\")","v":""}]
["",null,null,null,null,{"$f":"IFERROR(VLOOKUP(IF(C1552=\"\",B1552&\"||\"&B1552,C1552&\"||\"&B1552),Worktags!AR:AV,5,FALSE),\"\")","v":""}]
["",null,null,null,null,{"$f":"IFERROR(VLOOKUP(IF(C1553=\"\",B1553&\"||\"&B1553,C1553&\"||\"&B1553),Worktags!AR:AV,5,FALSE),\"\")","v":""}]
["",null,null,null,null,{"$f":"IFERROR(VLOOKUP(IF(C1554=\"\",B1554&\"||\"&B1554,C1554&\"||\"&B1554),Worktags!AR:AV,5,FALSE),\"\")","v":""}]
["",null,null,null,null,{"$f":"IFERROR(VLOOKUP(IF(C1555=\"\",B1555&\"||\"&B1555,C1555&\"||\"&B1555),Worktags!AR:AV,5,FALSE),\"\")","v":""}]
["",null,null,null,null,{"$f":"IFERROR(VLOOKUP(IF(C1556=\"\",B1556&\"||\"&B1556,C1556&\"||\"&B1556),Worktags!AR:AV,5,FALSE),\"\")","v":""}]
["",null,null,null,null,{"$f":"IFERROR(VLOOKUP(IF(C1557=\"\",B1557&\"||\"&B1557,C1557&\"||\"&B1557),Worktags!AR:AV,5,FALSE),\"\")","v":""}]
["",null,null,null,null,{"$f":"IFERROR(VLOOKUP(IF(C1558=\"\",B1558&\"||\"&B1558,C1558&\"||\"&B1558),Worktags!AR:AV,5,FALSE),\"\")","v":""}]
["",null,null,null,null,{"$f":"IFERROR(VLOOKUP(IF(C1559=\"\",B1559&\"||\"&B1559,C1559&\"||\"&B1559),Worktags!AR:AV,5,FALSE),\"\")","v":""}]
["",null,null,null,null,{"$f":"IFERROR(VLOOKUP(IF(C1560=\"\",B1560&\"||\"&B1560,C1560&\"||\"&B1560),Worktags!AR:AV,5,FALSE),\"\")","v":""}]
["",null,null,null,null,{"$f":"IFERROR(VLOOKUP(IF(C1561=\"\",B1561&\"||\"&B1561,C1561&\"||\"&B1561),Worktags!AR:AV,5,FALSE),\"\")","v":""}]
["",null,null,null,null,{"$f":"IFERROR(VLOOKUP(IF(C1562=\"\",B1562&\"||\"&B1562,C1562&\"||\"&B1562),Worktags!AR:AV,5,FALSE),\"\")","v":""}]
["",null,null,null,null,{"$f":"IFERROR(VLOOKUP(IF(C1563=\"\",B1563&\"||\"&B1563,C1563&\"||\"&B1563),Worktags!AR:AV,5,FALSE),\"\")","v":""}]
["",null,null,null,null,{"$f":"IFERROR(VLOOKUP(IF(C1564=\"\",B1564&\"||\"&B1564,C1564&\"||\"&B1564),Worktags!AR:AV,5,FALSE),\"\")","v":""}]
["",null,null,null,null,{"$f":"IFERROR(VLOOKUP(IF(C1565=\"\",B1565&\"||\"&B1565,C1565&\"||\"&B1565),Worktags!AR:AV,5,FALSE),\"\")","v":""}]
["",null,null,null,null,{"$f":"IFERROR(VLOOKUP(IF(C1566=\"\",B1566&\"||\"&B1566,C1566&\"||\"&B1566),Worktags!AR:AV,5,FALSE),\"\")","v":""}]
["",null,null,null,null,{"$f":"IFERROR(VLOOKUP(IF(C1567=\"\",B1567&\"||\"&B1567,C1567&\"||\"&B1567),Worktags!AR:AV,5,FALSE),\"\")","v":""}]
["",null,null,null,null,{"$f":"IFERROR(VLOOKUP(IF(C1568=\"\",B1568&\"||\"&B1568,C1568&\"||\"&B1568),Worktags!AR:AV,5,FALSE),\"\")","v":""}]
["",null,null,null,null,{"$f":"IFERROR(VLOOKUP(IF(C1569=\"\",B1569&\"||\"&B1569,C1569&\"||\"&B1569),Worktags!AR:AV,5,FALSE),\"\")","v":""}]
["",null,null,null,null,{"$f":"IFERROR(VLOOKUP(IF(C1570=\"\",B1570&\"||\"&B1570,C1570&\"||\"&B1570),Worktags!AR:AV,5,FALSE),\"\")","v":""}]
["",null,null,null,null,{"$f":"IFERROR(VLOOKUP(IF(C1571=\"\",B1571&\"||\"&B1571,C1571&\"||\"&B1571),Worktags!AR:AV,5,FALSE),\"\")","v":""}]
["",null,null,null,null,{"$f":"IFERROR(VLOOKUP(IF(C1572=\"\",B1572&\"||\"&B1572,C1572&\"||\"&B1572),Worktags!AR:AV,5,FALSE),\"\")","v":""}]
["",null,null,null,null,{"$f":"IFERROR(VLOOKUP(IF(C1573=\"\",B1573&\"||\"&B1573,C1573&\"||\"&B1573),Worktags!AR:AV,5,FALSE),\"\")","v":""}]
["",null,null,null,null,{"$f":"IFERROR(VLOOKUP(IF(C1574=\"\",B1574&\"||\"&B1574,C1574&\"||\"&B1574),Worktags!AR:AV,5,FALSE),\"\")","v":""}]
["",null,null,null,null,{"$f":"IFERROR(VLOOKUP(IF(C1575=\"\",B1575&\"||\"&B1575,C1575&\"||\"&B1575),Worktags!AR:AV,5,FALSE),\"\")","v":""}]
["",null,null,null,null,{"$f":"IFERROR(VLOOKUP(IF(C1576=\"\",B1576&\"||\"&B1576,C1576&\"||\"&B1576),Worktags!AR:AV,5,FALSE),\"\")","v":""}]
["",null,null,null,null,{"$f":"IFERROR(VLOOKUP(IF(C1577=\"\",B1577&\"||\"&B1577,C1577&\"||\"&B1577),Worktags!AR:AV,5,FALSE),\"\")","v":""}]
["",null,null,null,null,{"$f":"IFERROR(VLOOKUP(IF(C1578=\"\",B1578&\"||\"&B1578,C1578&\"||\"&B1578),Worktags!AR:AV,5,FALSE),\"\")","v":""}]
["",null,null,null,null,{"$f":"IFERROR(VLOOKUP(IF(C1579=\"\",B1579&\"||\"&B1579,C1579&\"||\"&B1579),Worktags!AR:AV,5,FALSE),\"\")","v":""}]
["",null,null,null,null,{"$f":"IFERROR(VLOOKUP(IF(C1580=\"\",B1580&\"||\"&B1580,C1580&\"||\"&B1580),Worktags!AR:AV,5,FALSE),\"\")","v":""}]
["",null,null,null,null,{"$f":"IFERROR(VLOOKUP(IF(C1581=\"\",B1581&\"||\"&B1581,C1581&\"||\"&B1581),Worktags!AR:AV,5,FALSE),\"\")","v":""}]
["",null,null,null,null,{"$f":"IFERROR(VLOOKUP(IF(C1582=\"\",B1582&\"||\"&B1582,C1582&\"||\"&B1582),Worktags!AR:AV,5,FALSE),\"\")","v":""}]
["",null,null,null,null,{"$f":"IFERROR(VLOOKUP(IF(C1583=\"\",B1583&\"||\"&B1583,C1583&\"||\"&B1583),Worktags!AR:AV,5,FALSE),\"\")","v":""}]
["",null,null,null,null,{"$f":"IFERROR(VLOOKUP(IF(C1584=\"\",B1584&\"||\"&B1584,C1584&\"||\"&B1584),Worktags!AR:AV,5,FALSE),\"\")","v":""}]
["",null,null,null,null,{"$f":"IFERROR(VLOOKUP(IF(C1585=\"\",B1585&\"||\"&B1585,C1585&\"||\"&B1585),Worktags!AR:AV,5,FALSE),\"\")","v":""}]
["",null,null,null,null,{"$f":"IFERROR(VLOOKUP(IF(C1586=\"\",B1586&\"||\"&B1586,C1586&\"||\"&B1586),Worktags!AR:AV,5,FALSE),\"\")","v":""}]
["",null,null,null,null,{"$f":"IFERROR(VLOOKUP(IF(C1587=\"\",B1587&\"||\"&B1587,C1587&\"||\"&B1587),Worktags!AR:AV,5,FALSE),\"\")","v":""}]
["",null,null,null,null,{"$f":"IFERROR(VLOOKUP(IF(C1588=\"\",B1588&\"||\"&B1588,C1588&\"||\"&B1588),Worktags!AR:AV,5,FALSE),\"\")","v":""}]
["",null,null,null,null,{"$f":"IFERROR(VLOOKUP(IF(C1589=\"\",B1589&\"||\"&B1589,C1589&\"||\"&B1589),Worktags!AR:AV,5,FALSE),\"\")","v":""}]
["",null,null,null,null,{"$f":"IFERROR(VLOOKUP(IF(C1590=\"\",B1590&\"||\"&B1590,C1590&\"||\"&B1590),Worktags!AR:AV,5,FALSE),\"\")","v":""}]
["",null,null,null,null,{"$f":"IFERROR(VLOOKUP(IF(C1591=\"\",B1591&\"||\"&B1591,C1591&\"||\"&B1591),Worktags!AR:AV,5,FALSE),\"\")","v":""}]
["",null,null,null,null,{"$f":"IFERROR(VLOOKUP(IF(C1592=\"\",B1592&\"||\"&B1592,C1592&\"||\"&B1592),Worktags!AR:AV,5,FALSE),\"\")","v":""}]
["",null,null,null,null,{"$f":"IFERROR(VLOOKUP(IF(C1593=\"\",B1593&\"||\"&B1593,C1593&\"||\"&B1593),Worktags!AR:AV,5,FALSE),\"\")","v":""}]
["",null,null,null,null,{"$f":"IFERROR(VLOOKUP(IF(C1594=\"\",B1594&\"||\"&B1594,C1594&\"||\"&B1594),Worktags!AR:AV,5,FALSE),\"\")","v":""}]
["",null,null,null,null,{"$f":"IFERROR(VLOOKUP(IF(C1595=\"\",B1595&\"||\"&B1595,C1595&\"||\"&B1595),Worktags!AR:AV,5,FALSE),\"\")","v":""}]
["",null,null,null,null,{"$f":"IFERROR(VLOOKUP(IF(C1596=\"\",B1596&\"||\"&B1596,C1596&\"||\"&B1596),Worktags!AR:AV,5,FALSE),\"\")","v":""}]
["",null,null,null,null,{"$f":"IFERROR(VLOOKUP(IF(C1597=\"\",B1597&\"||\"&B1597,C1597&\"||\"&B1597),Worktags!AR:AV,5,FALSE),\"\")","v":""}]
["",null,null,null,null,{"$f":"IFERROR(VLOOKUP(IF(C1598=\"\",B1598&\"||\"&B1598,C1598&\"||\"&B1598),Worktags!AR:AV,5,FALSE),\"\")","v":""}]
["",null,null,null,null,{"$f":"IFERROR(VLOOKUP(IF(C1599=\"\",B1599&\"||\"&B1599,C1599&\"||\"&B1599),Worktags!AR:AV,5,FALSE),\"\")","v":""}]
["",null,null,null,null,{"$f":"IFERROR(VLOOKUP(IF(C1600=\"\",B1600&\"||\"&B1600,C1600&\"||\"&B1600),Worktags!AR:AV,5,FALSE),\"\")","v":""}]
["",null,null,null,null,{"$f":"IFERROR(VLOOKUP(IF(C1601=\"\",B1601&\"||\"&B1601,C1601&\"||\"&B1601),Worktags!AR:AV,5,FALSE),\"\")","v":""}]
[{"$f":"IF(B1602<>\"\",IF(C1602<>\"\",B1602&\"_\"&C1602&\" \"&D1602&\"/\"&E1602,B1602&\" \"&D1602),\"\")","v":""},null,null,null,null,{"$f":"IFERROR(VLOOKUP(IF(C1602=\"\",B1602&\"||\"&B1602,C1602&\"||\"&B1602),Worktags!AR:AV,5,FALSE),\"\")","v":""}]
["",null,null,null,null,{"$f":"IFERROR(VLOOKUP(IF(C1603=\"\",B1603&\"||\"&B1603,C1603&\"||\"&B1603),Worktags!AR:AV,5,FALSE),\"\")","v":""}]
["",null,null,null,null,{"$f":"IFERROR(VLOOKUP(IF(C1604=\"\",B1604&\"||\"&B1604,C1604&\"||\"&B1604),Worktags!AR:AV,5,FALSE),\"\")","v":""}]
["",null,null,null,null,{"$f":"IFERROR(VLOOKUP(IF(C1605=\"\",B1605&\"||\"&B1605,C1605&\"||\"&B1605),Worktags!AR:AV,5,FALSE),\"\")","v":""}]
["",null,null,null,null,{"$f":"IFERROR(VLOOKUP(IF(C1606=\"\",B1606&\"||\"&B1606,C1606&\"||\"&B1606),Worktags!AR:AV,5,FALSE),\"\")","v":""}]
["",null,null,null,null,{"$f":"IFERROR(VLOOKUP(IF(C1607=\"\",B1607&\"||\"&B1607,C1607&\"||\"&B1607),Worktags!AR:AV,5,FALSE),\"\")","v":""}]
["",null,null,null,null,{"$f":"IFERROR(VLOOKUP(IF(C1608=\"\",B1608&\"||\"&B1608,C1608&\"||\"&B1608),Worktags!AR:AV,5,FALSE),\"\")","v":""}]
["",null,null,null,null,{"$f":"IFERROR(VLOOKUP(IF(C1609=\"\",B1609&\"||\"&B1609,C1609&\"||\"&B1609),Worktags!AR:AV,5,FALSE),\"\")","v":""}]
["",null,null,null,null,{"$f":"IFERROR(VLOOKUP(IF(C1610=\"\",B1610&\"||\"&B1610,C1610&\"||\"&B1610),Worktags!AR:AV,5,FALSE),\"\")","v":""}]
["",null,null,null,null,{"$f":"IFERROR(VLOOKUP(IF(C1611=\"\",B1611&\"||\"&B1611,C1611&\"||\"&B1611),Worktags!AR:AV,5,FALSE),\"\")","v":""}]
["",null,null,null,null,{"$f":"IFERROR(VLOOKUP(IF(C1612=\"\",B1612&\"||\"&B1612,C1612&\"||\"&B1612),Worktags!AR:AV,5,FALSE),\"\")","v":""}]
["",null,null,null,null,{"$f":"IFERROR(VLOOKUP(IF(C1613=\"\",B1613&\"||\"&B1613,C1613&\"||\"&B1613),Worktags!AR:AV,5,FALSE),\"\")","v":""}]
["",null,null,null,null,{"$f":"IFERROR(VLOOKUP(IF(C1614=\"\",B1614&\"||\"&B1614,C1614&\"||\"&B1614),Worktags!AR:AV,5,FALSE),\"\")","v":""}]
["",null,null,null,null,{"$f":"IFERROR(VLOOKUP(IF(C1615=\"\",B1615&\"||\"&B1615,C1615&\"||\"&B1615),Worktags!AR:AV,5,FALSE),\"\")","v":""}]
["",null,null,null,null,{"$f":"IFERROR(VLOOKUP(IF(C1616=\"\",B1616&\"||\"&B1616,C1616&\"||\"&B1616),Worktags!AR:AV,5,FALSE),\"\")","v":""}]
["",null,null,null,null,{"$f":"IFERROR(VLOOKUP(IF(C1617=\"\",B1617&\"||\"&B1617,C1617&\"||\"&B1617),Worktags!AR:AV,5,FALSE),\"\")","v":""}]
["",null,null,null,null,{"$f":"IFERROR(VLOOKUP(IF(C1618=\"\",B1618&\"||\"&B1618,C1618&\"||\"&B1618),Worktags!AR:AV,5,FALSE),\"\")","v":""}]
["",null,null,null,null,{"$f":"IFERROR(VLOOKUP(IF(C1619=\"\",B1619&\"||\"&B1619,C1619&\"||\"&B1619),Worktags!AR:AV,5,FALSE),\"\")","v":""}]
["",null,null,null,null,{"$f":"IFERROR(VLOOKUP(IF(C1620=\"\",B1620&\"||\"&B1620,C1620&\"||\"&B1620),Worktags!AR:AV,5,FALSE),\"\")","v":""}]
["",null,null,null,null,{"$f":"IFERROR(VLOOKUP(IF(C1621=\"\",B1621&\"||\"&B1621,C1621&\"||\"&B1621),Worktags!AR:AV,5,FALSE),\"\")","v":""}]
["",null,null,null,null,{"$f":"IFERROR(VLOOKUP(IF(C1622=\"\",B1622&\"||\"&B1622,C1622&\"||\"&B1622),Worktags!AR:AV,5,FALSE),\"\")","v":""}]
["",null,null,null,null,{"$f":"IFERROR(VLOOKUP(IF(C1623=\"\",B1623&\"||\"&B1623,C1623&\"||\"&B1623),Worktags!AR:AV,5,FALSE),\"\")","v":""}]
["",null,null,null,null,{"$f":"IFERROR(VLOOKUP(IF(C1624=\"\",B1624&\"||\"&B1624,C1624&\"||\"&B1624),Worktags!AR:AV,5,FALSE),\"\")","v":""}]
["",null,null,null,null,{"$f":"IFERROR(VLOOKUP(IF(C1625=\"\",B1625&\"||\"&B1625,C1625&\"||\"&B1625),Worktags!AR:AV,5,FALSE),\"\")","v":""}]
["",null,null,null,null,{"$f":"IFERROR(VLOOKUP(IF(C1626=\"\",B1626&\"||\"&B1626,C1626&\"||\"&B1626),Worktags!AR:AV,5,FALSE),\"\")","v":""}]
["",null,null,null,null,{"$f":"IFERROR(VLOOKUP(IF(C1627=\"\",B1627&\"||\"&B1627,C1627&\"||\"&B1627),Worktags!AR:AV,5,FALSE),\"\")","v":""}]
["",null,null,null,null,{"$f":"IFERROR(VLOOKUP(IF(C1628=\"\",B1628&\"||\"&B1628,C1628&\"||\"&B1628),Worktags!AR:AV,5,FALSE),\"\")","v":""}]
["",null,null,null,null,{"$f":"IFERROR(VLOOKUP(IF(C1629=\"\",B1629&\"||\"&B1629,C1629&\"||\"&B1629),Worktags!AR:AV,5,FALSE),\"\")","v":""}]
["",null,null,null,null,{"$f":"IFERROR(VLOOKUP(IF(C1630=\"\",B1630&\"||\"&B1630,C1630&\"||\"&B1630),Worktags!AR:AV,5,FALSE),\"\")","v":""}]
["",null,null,null,null,{"$f":"IFERROR(VLOOKUP(IF(C1631=\"\",B1631&\"||\"&B1631,C1631&\"||\"&B1631),Worktags!AR:AV,5,FALSE),\"\")","v":""}]
["",null,null,null,null,{"$f":"IFERROR(VLOOKUP(IF(C1632=\"\",B1632&\"||\"&B1632,C1632&\"||\"&B1632),Worktags!AR:AV,5,FALSE),\"\")","v":""}]
["",null,null,null,null,{"$f":"IFERROR(VLOOKUP(IF(C1633=\"\",B1633&\"||\"&B1633,C1633&\"||\"&B1633),Worktags!AR:AV,5,FALSE),\"\")","v":""}]
["",null,null,null,null,{"$f":"IFERROR(VLOOKUP(IF(C1634=\"\",B1634&\"||\"&B1634,C1634&\"||\"&B1634),Worktags!AR:AV,5,FALSE),\"\")","v":""}]
["",null,null,null,null,{"$f":"IFERROR(VLOOKUP(IF(C1635=\"\",B1635&\"||\"&B1635,C1635&\"||\"&B1635),Worktags!AR:AV,5,FALSE),\"\")","v":""}]
["",null,null,null,null,{"$f":"IFERROR(VLOOKUP(IF(C1636=\"\",B1636&\"||\"&B1636,C1636&\"||\"&B1636),Worktags!AR:AV,5,FALSE),\"\")","v":""}]
["",null,null,null,null,{"$f":"IFERROR(VLOOKUP(IF(C1637=\"\",B1637&\"||\"&B1637,C1637&\"||\"&B1637),Worktags!AR:AV,5,FALSE),\"\")","v":""}]
["",null,null,null,null,{"$f":"IFERROR(VLOOKUP(IF(C1638=\"\",B1638&\"||\"&B1638,C1638&\"||\"&B1638),Worktags!AR:AV,5,FALSE),\"\")","v":""}]
["",null,null,null,null,{"$f":"IFERROR(VLOOKUP(IF(C1639=\"\",B1639&\"||\"&B1639,C1639&\"||\"&B1639),Worktags!AR:AV,5,FALSE),\"\")","v":""}]
["",null,null,null,null,{"$f":"IFERROR(VLOOKUP(IF(C1640=\"\",B1640&\"||\"&B1640,C1640&\"||\"&B1640),Worktags!AR:AV,5,FALSE),\"\")","v":""}]
["",null,null,null,null,{"$f":"IFERROR(VLOOKUP(IF(C1641=\"\",B1641&\"||\"&B1641,C1641&\"||\"&B1641),Worktags!AR:AV,5,FALSE),\"\")","v":""}]
["",null,null,null,null,{"$f":"IFERROR(VLOOKUP(IF(C1642=\"\",B1642&\"||\"&B1642,C1642&\"||\"&B1642),Worktags!AR:AV,5,FALSE),\"\")","v":""}]
["",null,null,null,null,{"$f":"IFERROR(VLOOKUP(IF(C1643=\"\",B1643&\"||\"&B1643,C1643&\"||\"&B1643),Worktags!AR:AV,5,FALSE),\"\")","v":""}]
["",null,null,null,null,{"$f":"IFERROR(VLOOKUP(IF(C1644=\"\",B1644&\"||\"&B1644,C1644&\"||\"&B1644),Worktags!AR:AV,5,FALSE),\"\")","v":""}]
["",null,null,null,null,{"$f":"IFERROR(VLOOKUP(IF(C1645=\"\",B1645&\"||\"&B1645,C1645&\"||\"&B1645),Worktags!AR:AV,5,FALSE),\"\")","v":""}]
["",null,null,null,null,{"$f":"IFERROR(VLOOKUP(IF(C1646=\"\",B1646&\"||\"&B1646,C1646&\"||\"&B1646),Worktags!AR:AV,5,FALSE),\"\")","v":""}]
["",null,null,null,null,{"$f":"IFERROR(VLOOKUP(IF(C1647=\"\",B1647&\"||\"&B1647,C1647&\"||\"&B1647),Worktags!AR:AV,5,FALSE),\"\")","v":""}]
["",null,null,null,null,{"$f":"IFERROR(VLOOKUP(IF(C1648=\"\",B1648&\"||\"&B1648,C1648&\"||\"&B1648),Worktags!AR:AV,5,FALSE),\"\")","v":""}]
["",null,null,null,null,{"$f":"IFERROR(VLOOKUP(IF(C1649=\"\",B1649&\"||\"&B1649,C1649&\"||\"&B1649),Worktags!AR:AV,5,FALSE),\"\")","v":""}]
["",null,null,null,null,{"$f":"IFERROR(VLOOKUP(IF(C1650=\"\",B1650&\"||\"&B1650,C1650&\"||\"&B1650),Worktags!AR:AV,5,FALSE),\"\")","v":""}]
["",null,null,null,null,{"$f":"IFERROR(VLOOKUP(IF(C1651=\"\",B1651&\"||\"&B1651,C1651&\"||\"&B1651),Worktags!AR:AV,5,FALSE),\"\")","v":""}]
["",null,null,null,null,{"$f":"IFERROR(VLOOKUP(IF(C1652=\"\",B1652&\"||\"&B1652,C1652&\"||\"&B1652),Worktags!AR:AV,5,FALSE),\"\")","v":""}]
["",null,null,null,null,{"$f":"IFERROR(VLOOKUP(IF(C1653=\"\",B1653&\"||\"&B1653,C1653&\"||\"&B1653),Worktags!AR:AV,5,FALSE),\"\")","v":""}]
["",null,null,null,null,{"$f":"IFERROR(VLOOKUP(IF(C1654=\"\",B1654&\"||\"&B1654,C1654&\"||\"&B1654),Worktags!AR:AV,5,FALSE),\"\")","v":""}]
["",null,null,null,null,{"$f":"IFERROR(VLOOKUP(IF(C1655=\"\",B1655&\"||\"&B1655,C1655&\"||\"&B1655),Worktags!AR:AV,5,FALSE),\"\")","v":""}]
["",null,null,null,null,{"$f":"IFERROR(VLOOKUP(IF(C1656=\"\",B1656&\"||\"&B1656,C1656&\"||\"&B1656),Worktags!AR:AV,5,FALSE),\"\")","v":""}]
["",null,null,null,null,{"$f":"IFERROR(VLOOKUP(IF(C1657=\"\",B1657&\"||\"&B1657,C1657&\"||\"&B1657),Worktags!AR:AV,5,FALSE),\"\")","v":""}]
["",null,null,null,null,{"$f":"IFERROR(VLOOKUP(IF(C1658=\"\",B1658&\"||\"&B1658,C1658&\"||\"&B1658),Worktags!AR:AV,5,FALSE),\"\")","v":""}]
["",null,null,null,null,{"$f":"IFERROR(VLOOKUP(IF(C1659=\"\",B1659&\"||\"&B1659,C1659&\"||\"&B1659),Worktags!AR:AV,5,FALSE),\"\")","v":""}]
["",null,null,null,null,{"$f":"IFERROR(VLOOKUP(IF(C1660=\"\",B1660&\"||\"&B1660,C1660&\"||\"&B1660),Worktags!AR:AV,5,FALSE),\"\")","v":""}]
["",null,null,null,null,{"$f":"IFERROR(VLOOKUP(IF(C1661=\"\",B1661&\"||\"&B1661,C1661&\"||\"&B1661),Worktags!AR:AV,5,FALSE),\"\")","v":""}]
["",null,null,null,null,{"$f":"IFERROR(VLOOKUP(IF(C1662=\"\",B1662&\"||\"&B1662,C1662&\"||\"&B1662),Worktags!AR:AV,5,FALSE),\"\")","v":""}]
["",null,null,null,null,{"$f":"IFERROR(VLOOKUP(IF(C1663=\"\",B1663&\"||\"&B1663,C1663&\"||\"&B1663),Worktags!AR:AV,5,FALSE),\"\")","v":""}]
["",null,null,null,null,{"$f":"IFERROR(VLOOKUP(IF(C1664=\"\",B1664&\"||\"&B1664,C1664&\"||\"&B1664),Worktags!AR:AV,5,FALSE),\"\")","v":""}]
["",null,null,null,null,{"$f":"IFERROR(VLOOKUP(IF(C1665=\"\",B1665&\"||\"&B1665,C1665&\"||\"&B1665),Worktags!AR:AV,5,FALSE),\"\")","v":""}]
[{"$f":"IF(B1666<>\"\",IF(C1666<>\"\",B1666&\"_\"&C1666&\" \"&D1666&\"/\"&E1666,B1666&\" \"&D1666),\"\")","v":""},null,null,null,null,{"$f":"IFERROR(VLOOKUP(IF(C1666=\"\",B1666&\"||\"&B1666,C1666&\"||\"&B1666),Worktags!AR:AV,5,FALSE),\"\")","v":""}]
["",null,null,null,null,{"$f":"IFERROR(VLOOKUP(IF(C1667=\"\",B1667&\"||\"&B1667,C1667&\"||\"&B1667),Worktags!AR:AV,5,FALSE),\"\")","v":""}]
["",null,null,null,null,{"$f":"IFERROR(VLOOKUP(IF(C1668=\"\",B1668&\"||\"&B1668,C1668&\"||\"&B1668),Worktags!AR:AV,5,FALSE),\"\")","v":""}]
["",null,null,null,null,{"$f":"IFERROR(VLOOKUP(IF(C1669=\"\",B1669&\"||\"&B1669,C1669&\"||\"&B1669),Worktags!AR:AV,5,FALSE),\"\")","v":""}]
["",null,null,null,null,{"$f":"IFERROR(VLOOKUP(IF(C1670=\"\",B1670&\"||\"&B1670,C1670&\"||\"&B1670),Worktags!AR:AV,5,FALSE),\"\")","v":""}]
["",null,null,null,null,{"$f":"IFERROR(VLOOKUP(IF(C1671=\"\",B1671&\"||\"&B1671,C1671&\"||\"&B1671),Worktags!AR:AV,5,FALSE),\"\")","v":""}]
["",null,null,null,null,{"$f":"IFERROR(VLOOKUP(IF(C1672=\"\",B1672&\"||\"&B1672,C1672&\"||\"&B1672),Worktags!AR:AV,5,FALSE),\"\")","v":""}]
["",null,null,null,null,{"$f":"IFERROR(VLOOKUP(IF(C1673=\"\",B1673&\"||\"&B1673,C1673&\"||\"&B1673),Worktags!AR:AV,5,FALSE),\"\")","v":""}]
["",null,null,null,null,{"$f":"IFERROR(VLOOKUP(IF(C1674=\"\",B1674&\"||\"&B1674,C1674&\"||\"&B1674),Worktags!AR:AV,5,FALSE),\"\")","v":""}]
["",null,null,null,null,{"$f":"IFERROR(VLOOKUP(IF(C1675=\"\",B1675&\"||\"&B1675,C1675&\"||\"&B1675),Worktags!AR:AV,5,FALSE),\"\")","v":""}]
["",null,null,null,null,{"$f":"IFERROR(VLOOKUP(IF(C1676=\"\",B1676&\"||\"&B1676,C1676&\"||\"&B1676),Worktags!AR:AV,5,FALSE),\"\")","v":""}]
["",null,null,null,null,{"$f":"IFERROR(VLOOKUP(IF(C1677=\"\",B1677&\"||\"&B1677,C1677&\"||\"&B1677),Worktags!AR:AV,5,FALSE),\"\")","v":""}]
["",null,null,null,null,{"$f":"IFERROR(VLOOKUP(IF(C1678=\"\",B1678&\"||\"&B1678,C1678&\"||\"&B1678),Worktags!AR:AV,5,FALSE),\"\")","v":""}]
["",null,null,null,null,{"$f":"IFERROR(VLOOKUP(IF(C1679=\"\",B1679&\"||\"&B1679,C1679&\"||\"&B1679),Worktags!AR:AV,5,FALSE),\"\")","v":""}]
["",null,null,null,null,{"$f":"IFERROR(VLOOKUP(IF(C1680=\"\",B1680&\"||\"&B1680,C1680&\"||\"&B1680),Worktags!AR:AV,5,FALSE),\"\")","v":""}]
["",null,null,null,null,{"$f":"IFERROR(VLOOKUP(IF(C1681=\"\",B1681&\"||\"&B1681,C1681&\"||\"&B1681),Worktags!AR:AV,5,FALSE),\"\")","v":""}]
["",null,null,null,null,{"$f":"IFERROR(VLOOKUP(IF(C1682=\"\",B1682&\"||\"&B1682,C1682&\"||\"&B1682),Worktags!AR:AV,5,FALSE),\"\")","v":""}]
["",null,null,null,null,{"$f":"IFERROR(VLOOKUP(IF(C1683=\"\",B1683&\"||\"&B1683,C1683&\"||\"&B1683),Worktags!AR:AV,5,FALSE),\"\")","v":""}]
["",null,null,null,null,{"$f":"IFERROR(VLOOKUP(IF(C1684=\"\",B1684&\"||\"&B1684,C1684&\"||\"&B1684),Worktags!AR:AV,5,FALSE),\"\")","v":""}]
["",null,null,null,null,{"$f":"IFERROR(VLOOKUP(IF(C1685=\"\",B1685&\"||\"&B1685,C1685&\"||\"&B1685),Worktags!AR:AV,5,FALSE),\"\")","v":""}]
["",null,null,null,null,{"$f":"IFERROR(VLOOKUP(IF(C1686=\"\",B1686&\"||\"&B1686,C1686&\"||\"&B1686),Worktags!AR:AV,5,FALSE),\"\")","v":""}]
["",null,null,null,null,{"$f":"IFERROR(VLOOKUP(IF(C1687=\"\",B1687&\"||\"&B1687,C1687&\"||\"&B1687),Worktags!AR:AV,5,FALSE),\"\")","v":""}]
["",null,null,null,null,{"$f":"IFERROR(VLOOKUP(IF(C1688=\"\",B1688&\"||\"&B1688,C1688&\"||\"&B1688),Worktags!AR:AV,5,FALSE),\"\")","v":""}]
["",null,null,null,null,{"$f":"IFERROR(VLOOKUP(IF(C1689=\"\",B1689&\"||\"&B1689,C1689&\"||\"&B1689),Worktags!AR:AV,5,FALSE),\"\")","v":""}]
["",null,null,null,null,{"$f":"IFERROR(VLOOKUP(IF(C1690=\"\",B1690&\"||\"&B1690,C1690&\"||\"&B1690),Worktags!AR:AV,5,FALSE),\"\")","v":""}]
["",null,null,null,null,{"$f":"IFERROR(VLOOKUP(IF(C1691=\"\",B1691&\"||\"&B1691,C1691&\"||\"&B1691),Worktags!AR:AV,5,FALSE),\"\")","v":""}]
["",null,null,null,null,{"$f":"IFERROR(VLOOKUP(IF(C1692=\"\",B1692&\"||\"&B1692,C1692&\"||\"&B1692),Worktags!AR:AV,5,FALSE),\"\")","v":""}]
["",null,null,null,null,{"$f":"IFERROR(VLOOKUP(IF(C1693=\"\",B1693&\"||\"&B1693,C1693&\"||\"&B1693),Worktags!AR:AV,5,FALSE),\"\")","v":""}]
["",null,null,null,null,{"$f":"IFERROR(VLOOKUP(IF(C1694=\"\",B1694&\"||\"&B1694,C1694&\"||\"&B1694),Worktags!AR:AV,5,FALSE),\"\")","v":""}]
["",null,null,null,null,{"$f":"IFERROR(VLOOKUP(IF(C1695=\"\",B1695&\"||\"&B1695,C1695&\"||\"&B1695),Worktags!AR:AV,5,FALSE),\"\")","v":""}]
["",null,null,null,null,{"$f":"IFERROR(VLOOKUP(IF(C1696=\"\",B1696&\"||\"&B1696,C1696&\"||\"&B1696),Worktags!AR:AV,5,FALSE),\"\")","v":""}]
["",null,null,null,null,{"$f":"IFERROR(VLOOKUP(IF(C1697=\"\",B1697&\"||\"&B1697,C1697&\"||\"&B1697),Worktags!AR:AV,5,FALSE),\"\")","v":""}]
["",null,null,null,null,{"$f":"IFERROR(VLOOKUP(IF(C1698=\"\",B1698&\"||\"&B1698,C1698&\"||\"&B1698),Worktags!AR:AV,5,FALSE),\"\")","v":""}]
["",null,null,null,null,{"$f":"IFERROR(VLOOKUP(IF(C1699=\"\",B1699&\"||\"&B1699,C1699&\"||\"&B1699),Worktags!AR:AV,5,FALSE),\"\")","v":""}]
["",null,null,null,null,{"$f":"IFERROR(VLOOKUP(IF(C1700=\"\",B1700&\"||\"&B1700,C1700&\"||\"&B1700),Worktags!AR:AV,5,FALSE),\"\")","v":""}]
["",null,null,null,null,{"$f":"IFERROR(VLOOKUP(IF(C1701=\"\",B1701&\"||\"&B1701,C1701&\"||\"&B1701),Worktags!AR:AV,5,FALSE),\"\")","v":""}]
["",null,null,null,null,{"$f":"IFERROR(VLOOKUP(IF(C1702=\"\",B1702&\"||\"&B1702,C1702&\"||\"&B1702),Worktags!AR:AV,5,FALSE),\"\")","v":""}]
["",null,null,null,null,{"$f":"IFERROR(VLOOKUP(IF(C1703=\"\",B1703&\"||\"&B1703,C1703&\"||\"&B1703),Worktags!AR:AV,5,FALSE),\"\")","v":""}]
["",null,null,null,null,{"$f":"IFERROR(VLOOKUP(IF(C1704=\"\",B1704&\"||\"&B1704,C1704&\"||\"&B1704),Worktags!AR:AV,5,FALSE),\"\")","v":""}]
["",null,null,null,null,{"$f":"IFERROR(VLOOKUP(IF(C1705=\"\",B1705&\"||\"&B1705,C1705&\"||\"&B1705),Worktags!AR:AV,5,FALSE),\"\")","v":""}]
["",null,null,null,null,{"$f":"IFERROR(VLOOKUP(IF(C1706=\"\",B1706&\"||\"&B1706,C1706&\"||\"&B1706),Worktags!AR:AV,5,FALSE),\"\")","v":""}]
["",null,null,null,null,{"$f":"IFERROR(VLOOKUP(IF(C1707=\"\",B1707&\"||\"&B1707,C1707&\"||\"&B1707),Worktags!AR:AV,5,FALSE),\"\")","v":""}]
["",null,null,null,null,{"$f":"IFERROR(VLOOKUP(IF(C1708=\"\",B1708&\"||\"&B1708,C1708&\"||\"&B1708),Worktags!AR:AV,5,FALSE),\"\")","v":""}]
["",null,null,null,null,{"$f":"IFERROR(VLOOKUP(IF(C1709=\"\",B1709&\"||\"&B1709,C1709&\"||\"&B1709),Worktags!AR:AV,5,FALSE),\"\")","v":""}]
["",null,null,null,null,{"$f":"IFERROR(VLOOKUP(IF(C1710=\"\",B1710&\"||\"&B1710,C1710&\"||\"&B1710),Worktags!AR:AV,5,FALSE),\"\")","v":""}]
["",null,null,null,null,{"$f":"IFERROR(VLOOKUP(IF(C1711=\"\",B1711&\"||\"&B1711,C1711&\"||\"&B1711),Worktags!AR:AV,5,FALSE),\"\")","v":""}]
["",null,null,null,null,{"$f":"IFERROR(VLOOKUP(IF(C1712=\"\",B1712&\"||\"&B1712,C1712&\"||\"&B1712),Worktags!AR:AV,5,FALSE),\"\")","v":""}]
["",null,null,null,null,{"$f":"IFERROR(VLOOKUP(IF(C1713=\"\",B1713&\"||\"&B1713,C1713&\"||\"&B1713),Worktags!AR:AV,5,FALSE),\"\")","v":""}]
["",null,null,null,null,{"$f":"IFERROR(VLOOKUP(IF(C1714=\"\",B1714&\"||\"&B1714,C1714&\"||\"&B1714),Worktags!AR:AV,5,FALSE),\"\")","v":""}]
["",null,null,null,null,{"$f":"IFERROR(VLOOKUP(IF(C1715=\"\",B1715&\"||\"&B1715,C1715&\"||\"&B1715),Worktags!AR:AV,5,FALSE),\"\")","v":""}]
["",null,null,null,null,{"$f":"IFERROR(VLOOKUP(IF(C1716=\"\",B1716&\"||\"&B1716,C1716&\"||\"&B1716),Worktags!AR:AV,5,FALSE),\"\")","v":""}]
["",null,null,null,null,{"$f":"IFERROR(VLOOKUP(IF(C1717=\"\",B1717&\"||\"&B1717,C1717&\"||\"&B1717),Worktags!AR:AV,5,FALSE),\"\")","v":""}]
["",null,null,null,null,{"$f":"IFERROR(VLOOKUP(IF(C1718=\"\",B1718&\"||\"&B1718,C1718&\"||\"&B1718),Worktags!AR:AV,5,FALSE),\"\")","v":""}]
["",null,null,null,null,{"$f":"IFERROR(VLOOKUP(IF(C1719=\"\",B1719&\"||\"&B1719,C1719&\"||\"&B1719),Worktags!AR:AV,5,FALSE),\"\")","v":""}]
["",null,null,null,null,{"$f":"IFERROR(VLOOKUP(IF(C1720=\"\",B1720&\"||\"&B1720,C1720&\"||\"&B1720),Worktags!AR:AV,5,FALSE),\"\")","v":""}]
["",null,null,null,null,{"$f":"IFERROR(VLOOKUP(IF(C1721=\"\",B1721&\"||\"&B1721,C1721&\"||\"&B1721),Worktags!AR:AV,5,FALSE),\"\")","v":""}]
["",null,null,null,null,{"$f":"IFERROR(VLOOKUP(IF(C1722=\"\",B1722&\"||\"&B1722,C1722&\"||\"&B1722),Worktags!AR:AV,5,FALSE),\"\")","v":""}]
["",null,null,null,null,{"$f":"IFERROR(VLOOKUP(IF(C1723=\"\",B1723&\"||\"&B1723,C1723&\"||\"&B1723),Worktags!AR:AV,5,FALSE),\"\")","v":""}]
["",null,null,null,null,{"$f":"IFERROR(VLOOKUP(IF(C1724=\"\",B1724&\"||\"&B1724,C1724&\"||\"&B1724),Worktags!AR:AV,5,FALSE),\"\")","v":""}]
["",null,null,null,null,{"$f":"IFERROR(VLOOKUP(IF(C1725=\"\",B1725&\"||\"&B1725,C1725&\"||\"&B1725),Worktags!AR:AV,5,FALSE),\"\")","v":""}]
["",null,null,null,null,{"$f":"IFERROR(VLOOKUP(IF(C1726=\"\",B1726&\"||\"&B1726,C1726&\"||\"&B1726),Worktags!AR:AV,5,FALSE),\"\")","v":""}]
["",null,null,null,null,{"$f":"IFERROR(VLOOKUP(IF(C1727=\"\",B1727&\"||\"&B1727,C1727&\"||\"&B1727),Worktags!AR:AV,5,FALSE),\"\")","v":""}]
["",null,null,null,null,{"$f":"IFERROR(VLOOKUP(IF(C1728=\"\",B1728&\"||\"&B1728,C1728&\"||\"&B1728),Worktags!AR:AV,5,FALSE),\"\")","v":""}]
["",null,null,null,null,{"$f":"IFERROR(VLOOKUP(IF(C1729=\"\",B1729&\"||\"&B1729,C1729&\"||\"&B1729),Worktags!AR:AV,5,FALSE),\"\")","v":""}]
[{"$f":"IF(B1730<>\"\",IF(C1730<>\"\",B1730&\"_\"&C1730&\" \"&D1730&\"/\"&E1730,B1730&\" \"&D1730),\"\")","v":""},null,null,null,null,{"$f":"IFERROR(VLOOKUP(IF(C1730=\"\",B1730&\"||\"&B1730,C1730&\"||\"&B1730),Worktags!AR:AV,5,FALSE),\"\")","v":""}]
["",null,null,null,null,{"$f":"IFERROR(VLOOKUP(IF(C1731=\"\",B1731&\"||\"&B1731,C1731&\"||\"&B1731),Worktags!AR:AV,5,FALSE),\"\")","v":""}]
["",null,null,null,null,{"$f":"IFERROR(VLOOKUP(IF(C1732=\"\",B1732&\"||\"&B1732,C1732&\"||\"&B1732),Worktags!AR:AV,5,FALSE),\"\")","v":""}]
["",null,null,null,null,{"$f":"IFERROR(VLOOKUP(IF(C1733=\"\",B1733&\"||\"&B1733,C1733&\"||\"&B1733),Worktags!AR:AV,5,FALSE),\"\")","v":""}]
["",null,null,null,null,{"$f":"IFERROR(VLOOKUP(IF(C1734=\"\",B1734&\"||\"&B1734,C1734&\"||\"&B1734),Worktags!AR:AV,5,FALSE),\"\")","v":""}]
["",null,null,null,null,{"$f":"IFERROR(VLOOKUP(IF(C1735=\"\",B1735&\"||\"&B1735,C1735&\"||\"&B1735),Worktags!AR:AV,5,FALSE),\"\")","v":""}]
["",null,null,null,null,{"$f":"IFERROR(VLOOKUP(IF(C1736=\"\",B1736&\"||\"&B1736,C1736&\"||\"&B1736),Worktags!AR:AV,5,FALSE),\"\")","v":""}]
["",null,null,null,null,{"$f":"IFERROR(VLOOKUP(IF(C1737=\"\",B1737&\"||\"&B1737,C1737&\"||\"&B1737),Worktags!AR:AV,5,FALSE),\"\")","v":""}]
["",null,null,null,null,{"$f":"IFERROR(VLOOKUP(IF(C1738=\"\",B1738&\"||\"&B1738,C1738&\"||\"&B1738),Worktags!AR:AV,5,FALSE),\"\")","v":""}]
["",null,null,null,null,{"$f":"IFERROR(VLOOKUP(IF(C1739=\"\",B1739&\"||\"&B1739,C1739&\"||\"&B1739),Worktags!AR:AV,5,FALSE),\"\")","v":""}]
["",null,null,null,null,{"$f":"IFERROR(VLOOKUP(IF(C1740=\"\",B1740&\"||\"&B1740,C1740&\"||\"&B1740),Worktags!AR:AV,5,FALSE),\"\")","v":""}]
["",null,null,null,null,{"$f":"IFERROR(VLOOKUP(IF(C1741=\"\",B1741&\"||\"&B1741,C1741&\"||\"&B1741),Worktags!AR:AV,5,FALSE),\"\")","v":""}]
["",null,null,null,null,{"$f":"IFERROR(VLOOKUP(IF(C1742=\"\",B1742&\"||\"&B1742,C1742&\"||\"&B1742),Worktags!AR:AV,5,FALSE),\"\")","v":""}]
["",null,null,null,null,{"$f":"IFERROR(VLOOKUP(IF(C1743=\"\",B1743&\"||\"&B1743,C1743&\"||\"&B1743),Worktags!AR:AV,5,FALSE),\"\")","v":""}]
["",null,null,null,null,{"$f":"IFERROR(VLOOKUP(IF(C1744=\"\",B1744&\"||\"&B1744,C1744&\"||\"&B1744),Worktags!AR:AV,5,FALSE),\"\")","v":""}]
["",null,null,null,null,{"$f":"IFERROR(VLOOKUP(IF(C1745=\"\",B1745&\"||\"&B1745,C1745&\"||\"&B1745),Worktags!AR:AV,5,FALSE),\"\")","v":""}]
["",null,null,null,null,{"$f":"IFERROR(VLOOKUP(IF(C1746=\"\",B1746&\"||\"&B1746,C1746&\"||\"&B1746),Worktags!AR:AV,5,FALSE),\"\")","v":""}]
["",null,null,null,null,{"$f":"IFERROR(VLOOKUP(IF(C1747=\"\",B1747&\"||\"&B1747,C1747&\"||\"&B1747),Worktags!AR:AV,5,FALSE),\"\")","v":""}]
["",null,null,null,null,{"$f":"IFERROR(VLOOKUP(IF(C1748=\"\",B1748&\"||\"&B1748,C1748&\"||\"&B1748),Worktags!AR:AV,5,FALSE),\"\")","v":""}]
["",null,null,null,null,{"$f":"IFERROR(VLOOKUP(IF(C1749=\"\",B1749&\"||\"&B1749,C1749&\"||\"&B1749),Worktags!AR:AV,5,FALSE),\"\")","v":""}]
["",null,null,null,null,{"$f":"IFERROR(VLOOKUP(IF(C1750=\"\",B1750&\"||\"&B1750,C1750&\"||\"&B1750),Worktags!AR:AV,5,FALSE),\"\")","v":""}]
["",null,null,null,null,{"$f":"IFERROR(VLOOKUP(IF(C1751=\"\",B1751&\"||\"&B1751,C1751&\"||\"&B1751),Worktags!AR:AV,5,FALSE),\"\")","v":""}]
["",null,null,null,null,{"$f":"IFERROR(VLOOKUP(IF(C1752=\"\",B1752&\"||\"&B1752,C1752&\"||\"&B1752),Worktags!AR:AV,5,FALSE),\"\")","v":""}]
["",null,null,null,null,{"$f":"IFERROR(VLOOKUP(IF(C1753=\"\",B1753&\"||\"&B1753,C1753&\"||\"&B1753),Worktags!AR:AV,5,FALSE),\"\")","v":""}]
["",null,null,null,null,{"$f":"IFERROR(VLOOKUP(IF(C1754=\"\",B1754&\"||\"&B1754,C1754&\"||\"&B1754),Worktags!AR:AV,5,FALSE),\"\")","v":""}]
["",null,null,null,null,{"$f":"IFERROR(VLOOKUP(IF(C1755=\"\",B1755&\"||\"&B1755,C1755&\"||\"&B1755),Worktags!AR:AV,5,FALSE),\"\")","v":""}]
["",null,null,null,null,{"$f":"IFERROR(VLOOKUP(IF(C1756=\"\",B1756&\"||\"&B1756,C1756&\"||\"&B1756),Worktags!AR:AV,5,FALSE),\"\")","v":""}]
["",null,null,null,null,{"$f":"IFERROR(VLOOKUP(IF(C1757=\"\",B1757&\"||\"&B1757,C1757&\"||\"&B1757),Worktags!AR:AV,5,FALSE),\"\")","v":""}]
["",null,null,null,null,{"$f":"IFERROR(VLOOKUP(IF(C1758=\"\",B1758&\"||\"&B1758,C1758&\"||\"&B1758),Worktags!AR:AV,5,FALSE),\"\")","v":""}]
["",null,null,null,null,{"$f":"IFERROR(VLOOKUP(IF(C1759=\"\",B1759&\"||\"&B1759,C1759&\"||\"&B1759),Worktags!AR:AV,5,FALSE),\"\")","v":""}]
["",null,null,null,null,{"$f":"IFERROR(VLOOKUP(IF(C1760=\"\",B1760&\"||\"&B1760,C1760&\"||\"&B1760),Worktags!AR:AV,5,FALSE),\"\")","v":""}]
["",null,null,null,null,{"$f":"IFERROR(VLOOKUP(IF(C1761=\"\",B1761&\"||\"&B1761,C1761&\"||\"&B1761),Worktags!AR:AV,5,FALSE),\"\")","v":""}]
["",null,null,null,null,{"$f":"IFERROR(VLOOKUP(IF(C1762=\"\",B1762&\"||\"&B1762,C1762&\"||\"&B1762),Worktags!AR:AV,5,FALSE),\"\")","v":""}]
["",null,null,null,null,{"$f":"IFERROR(VLOOKUP(IF(C1763=\"\",B1763&\"||\"&B1763,C1763&\"||\"&B1763),Worktags!AR:AV,5,FALSE),\"\")","v":""}]
["",null,null,null,null,{"$f":"IFERROR(VLOOKUP(IF(C1764=\"\",B1764&\"||\"&B1764,C1764&\"||\"&B1764),Worktags!AR:AV,5,FALSE),\"\")","v":""}]
["",null,null,null,null,{"$f":"IFERROR(VLOOKUP(IF(C1765=\"\",B1765&\"||\"&B1765,C1765&\"||\"&B1765),Worktags!AR:AV,5,FALSE),\"\")","v":""}]
["",null,null,null,null,{"$f":"IFERROR(VLOOKUP(IF(C1766=\"\",B1766&\"||\"&B1766,C1766&\"||\"&B1766),Worktags!AR:AV,5,FALSE),\"\")","v":""}]
["",null,null,null,null,{"$f":"IFERROR(VLOOKUP(IF(C1767=\"\",B1767&\"||\"&B1767,C1767&\"||\"&B1767),Worktags!AR:AV,5,FALSE),\"\")","v":""}]
["",null,null,null,null,{"$f":"IFERROR(VLOOKUP(IF(C1768=\"\",B1768&\"||\"&B1768,C1768&\"||\"&B1768),Worktags!AR:AV,5,FALSE),\"\")","v":""}]
["",null,null,null,null,{"$f":"IFERROR(VLOOKUP(IF(C1769=\"\",B1769&\"||\"&B1769,C1769&\"||\"&B1769),Worktags!AR:AV,5,FALSE),\"\")","v":""}]
["",null,null,null,null,{"$f":"IFERROR(VLOOKUP(IF(C1770=\"\",B1770&\"||\"&B1770,C1770&\"||\"&B1770),Worktags!AR:AV,5,FALSE),\"\")","v":""}]
["",null,null,null,null,{"$f":"IFERROR(VLOOKUP(IF(C1771=\"\",B1771&\"||\"&B1771,C1771&\"||\"&B1771),Worktags!AR:AV,5,FALSE),\"\")","v":""}]
["",null,null,null,null,{"$f":"IFERROR(VLOOKUP(IF(C1772=\"\",B1772&\"||\"&B1772,C1772&\"||\"&B1772),Worktags!AR:AV,5,FALSE),\"\")","v":""}]
["",null,null,null,null,{"$f":"IFERROR(VLOOKUP(IF(C1773=\"\",B1773&\"||\"&B1773,C1773&\"||\"&B1773),Worktags!AR:AV,5,FALSE),\"\")","v":""}]
["",null,null,null,null,{"$f":"IFERROR(VLOOKUP(IF(C1774=\"\",B1774&\"||\"&B1774,C1774&\"||\"&B1774),Worktags!AR:AV,5,FALSE),\"\")","v":""}]
["",null,null,null,null,{"$f":"IFERROR(VLOOKUP(IF(C1775=\"\",B1775&\"||\"&B1775,C1775&\"||\"&B1775),Worktags!AR:AV,5,FALSE),\"\")","v":""}]
["",null,null,null,null,{"$f":"IFERROR(VLOOKUP(IF(C1776=\"\",B1776&\"||\"&B1776,C1776&\"||\"&B1776),Worktags!AR:AV,5,FALSE),\"\")","v":""}]
["",null,null,null,null,{"$f":"IFERROR(VLOOKUP(IF(C1777=\"\",B1777&\"||\"&B1777,C1777&\"||\"&B1777),Worktags!AR:AV,5,FALSE),\"\")","v":""}]
["",null,null,null,null,{"$f":"IFERROR(VLOOKUP(IF(C1778=\"\",B1778&\"||\"&B1778,C1778&\"||\"&B1778),Worktags!AR:AV,5,FALSE),\"\")","v":""}]
["",null,null,null,null,{"$f":"IFERROR(VLOOKUP(IF(C1779=\"\",B1779&\"||\"&B1779,C1779&\"||\"&B1779),Worktags!AR:AV,5,FALSE),\"\")","v":""}]
["",null,null,null,null,{"$f":"IFERROR(VLOOKUP(IF(C1780=\"\",B1780&\"||\"&B1780,C1780&\"||\"&B1780),Worktags!AR:AV,5,FALSE),\"\")","v":""}]
["",null,null,null,null,{"$f":"IFERROR(VLOOKUP(IF(C1781=\"\",B1781&\"||\"&B1781,C1781&\"||\"&B1781),Worktags!AR:AV,5,FALSE),\"\")","v":""}]
["",null,null,null,null,{"$f":"IFERROR(VLOOKUP(IF(C1782=\"\",B1782&\"||\"&B1782,C1782&\"||\"&B1782),Worktags!AR:AV,5,FALSE),\"\")","v":""}]
["",null,null,null,null,{"$f":"IFERROR(VLOOKUP(IF(C1783=\"\",B1783&\"||\"&B1783,C1783&\"||\"&B1783),Worktags!AR:AV,5,FALSE),\"\")","v":""}]
["",null,null,null,null,{"$f":"IFERROR(VLOOKUP(IF(C1784=\"\",B1784&\"||\"&B1784,C1784&\"||\"&B1784),Worktags!AR:AV,5,FALSE),\"\")","v":""}]
["",null,null,null,null,{"$f":"IFERROR(VLOOKUP(IF(C1785=\"\",B1785&\"||\"&B1785,C1785&\"||\"&B1785),Worktags!AR:AV,5,FALSE),\"\")","v":""}]
["",null,null,null,null,{"$f":"IFERROR(VLOOKUP(IF(C1786=\"\",B1786&\"||\"&B1786,C1786&\"||\"&B1786),Worktags!AR:AV,5,FALSE),\"\")","v":""}]
["",null,null,null,null,{"$f":"IFERROR(VLOOKUP(IF(C1787=\"\",B1787&\"||\"&B1787,C1787&\"||\"&B1787),Worktags!AR:AV,5,FALSE),\"\")","v":""}]
["",null,null,null,null,{"$f":"IFERROR(VLOOKUP(IF(C1788=\"\",B1788&\"||\"&B1788,C1788&\"||\"&B1788),Worktags!AR:AV,5,FALSE),\"\")","v":""}]
["",null,null,null,null,{"$f":"IFERROR(VLOOKUP(IF(C1789=\"\",B1789&\"||\"&B1789,C1789&\"||\"&B1789),Worktags!AR:AV,5,FALSE),\"\")","v":""}]
["",null,null,null,null,{"$f":"IFERROR(VLOOKUP(IF(C1790=\"\",B1790&\"||\"&B1790,C1790&\"||\"&B1790),Worktags!AR:AV,5,FALSE),\"\")","v":""}]
["",null,null,null,null,{"$f":"IFERROR(VLOOKUP(IF(C1791=\"\",B1791&\"||\"&B1791,C1791&\"||\"&B1791),Worktags!AR:AV,5,FALSE),\"\")","v":""}]
["",null,null,null,null,{"$f":"IFERROR(VLOOKUP(IF(C1792=\"\",B1792&\"||\"&B1792,C1792&\"||\"&B1792),Worktags!AR:AV,5,FALSE),\"\")","v":""}]
["",null,null,null,null,{"$f":"IFERROR(VLOOKUP(IF(C1793=\"\",B1793&\"||\"&B1793,C1793&\"||\"&B1793),Worktags!AR:AV,5,FALSE),\"\")","v":""}]
[{"$f":"IF(B1794<>\"\",IF(C1794<>\"\",B1794&\"_\"&C1794&\" \"&D1794&\"/\"&E1794,B1794&\" \"&D1794),\"\")","v":""},null,null,null,null,{"$f":"IFERROR(VLOOKUP(IF(C1794=\"\",B1794&\"||\"&B1794,C1794&\"||\"&B1794),Worktags!AR:AV,5,FALSE),\"\")","v":""}]
["",null,null,null,null,{"$f":"IFERROR(VLOOKUP(IF(C1795=\"\",B1795&\"||\"&B1795,C1795&\"||\"&B1795),Worktags!AR:AV,5,FALSE),\"\")","v":""}]
["",null,null,null,null,{"$f":"IFERROR(VLOOKUP(IF(C1796=\"\",B1796&\"||\"&B1796,C1796&\"||\"&B1796),Worktags!AR:AV,5,FALSE),\"\")","v":""}]
["",null,null,null,null,{"$f":"IFERROR(VLOOKUP(IF(C1797=\"\",B1797&\"||\"&B1797,C1797&\"||\"&B1797),Worktags!AR:AV,5,FALSE),\"\")","v":""}]
["",null,null,null,null,{"$f":"IFERROR(VLOOKUP(IF(C1798=\"\",B1798&\"||\"&B1798,C1798&\"||\"&B1798),Worktags!AR:AV,5,FALSE),\"\")","v":""}]
["",null,null,null,null,{"$f":"IFERROR(VLOOKUP(IF(C1799=\"\",B1799&\"||\"&B1799,C1799&\"||\"&B1799),Worktags!AR:AV,5,FALSE),\"\")","v":""}]
["",null,null,null,null,{"$f":"IFERROR(VLOOKUP(IF(C1800=\"\",B1800&\"||\"&B1800,C1800&\"||\"&B1800),Worktags!AR:AV,5,FALSE),\"\")","v":""}]
["",null,null,null,null,{"$f":"IFERROR(VLOOKUP(IF(C1801=\"\",B1801&\"||\"&B1801,C1801&\"||\"&B1801),Worktags!AR:AV,5,FALSE),\"\")","v":""}]
["",null,null,null,null,{"$f":"IFERROR(VLOOKUP(IF(C1802=\"\",B1802&\"||\"&B1802,C1802&\"||\"&B1802),Worktags!AR:AV,5,FALSE),\"\")","v":""}]
["",null,null,null,null,{"$f":"IFERROR(VLOOKUP(IF(C1803=\"\",B1803&\"||\"&B1803,C1803&\"||\"&B1803),Worktags!AR:AV,5,FALSE),\"\")","v":""}]
["",null,null,null,null,{"$f":"IFERROR(VLOOKUP(IF(C1804=\"\",B1804&\"||\"&B1804,C1804&\"||\"&B1804),Worktags!AR:AV,5,FALSE),\"\")","v":""}]
["",null,null,null,null,{"$f":"IFERROR(VLOOKUP(IF(C1805=\"\",B1805&\"||\"&B1805,C1805&\"||\"&B1805),Worktags!AR:AV,5,FALSE),\"\")","v":""}]
["",null,null,null,null,{"$f":"IFERROR(VLOOKUP(IF(C1806=\"\",B1806&\"||\"&B1806,C1806&\"||\"&B1806),Worktags!AR:AV,5,FALSE),\"\")","v":""}]
["",null,null,null,null,{"$f":"IFERROR(VLOOKUP(IF(C1807=\"\",B1807&\"||\"&B1807,C1807&\"||\"&B1807),Worktags!AR:AV,5,FALSE),\"\")","v":""}]
["",null,null,null,null,{"$f":"IFERROR(VLOOKUP(IF(C1808=\"\",B1808&\"||\"&B1808,C1808&\"||\"&B1808),Worktags!AR:AV,5,FALSE),\"\")","v":""}]
["",null,null,null,null,{"$f":"IFERROR(VLOOKUP(IF(C1809=\"\",B1809&\"||\"&B1809,C1809&\"||\"&B1809),Worktags!AR:AV,5,FALSE),\"\")","v":""}]
["",null,null,null,null,{"$f":"IFERROR(VLOOKUP(IF(C1810=\"\",B1810&\"||\"&B1810,C1810&\"||\"&B1810),Worktags!AR:AV,5,FALSE),\"\")","v":""}]
["",null,null,null,null,{"$f":"IFERROR(VLOOKUP(IF(C1811=\"\",B1811&\"||\"&B1811,C1811&\"||\"&B1811),Worktags!AR:AV,5,FALSE),\"\")","v":""}]
["",null,null,null,null,{"$f":"IFERROR(VLOOKUP(IF(C1812=\"\",B1812&\"||\"&B1812,C1812&\"||\"&B1812),Worktags!AR:AV,5,FALSE),\"\")","v":""}]
["",null,null,null,null,{"$f":"IFERROR(VLOOKUP(IF(C1813=\"\",B1813&\"||\"&B1813,C1813&\"||\"&B1813),Worktags!AR:AV,5,FALSE),\"\")","v":""}]
["",null,null,null,null,{"$f":"IFERROR(VLOOKUP(IF(C1814=\"\",B1814&\"||\"&B1814,C1814&\"||\"&B1814),Worktags!AR:AV,5,FALSE),\"\")","v":""}]
["",null,null,null,null,{"$f":"IFERROR(VLOOKUP(IF(C1815=\"\",B1815&\"||\"&B1815,C1815&\"||\"&B1815),Worktags!AR:AV,5,FALSE),\"\")","v":""}]
["",null,null,null,null,{"$f":"IFERROR(VLOOKUP(IF(C1816=\"\",B1816&\"||\"&B1816,C1816&\"||\"&B1816),Worktags!AR:AV,5,FALSE),\"\")","v":""}]
["",null,null,null,null,{"$f":"IFERROR(VLOOKUP(IF(C1817=\"\",B1817&\"||\"&B1817,C1817&\"||\"&B1817),Worktags!AR:AV,5,FALSE),\"\")","v":""}]
["",null,null,null,null,{"$f":"IFERROR(VLOOKUP(IF(C1818=\"\",B1818&\"||\"&B1818,C1818&\"||\"&B1818),Worktags!AR:AV,5,FALSE),\"\")","v":""}]
["",null,null,null,null,{"$f":"IFERROR(VLOOKUP(IF(C1819=\"\",B1819&\"||\"&B1819,C1819&\"||\"&B1819),Worktags!AR:AV,5,FALSE),\"\")","v":""}]
["",null,null,null,null,{"$f":"IFERROR(VLOOKUP(IF(C1820=\"\",B1820&\"||\"&B1820,C1820&\"||\"&B1820),Worktags!AR:AV,5,FALSE),\"\")","v":""}]
["",null,null,null,null,{"$f":"IFERROR(VLOOKUP(IF(C1821=\"\",B1821&\"||\"&B1821,C1821&\"||\"&B1821),Worktags!AR:AV,5,FALSE),\"\")","v":""}]
["",null,null,null,null,{"$f":"IFERROR(VLOOKUP(IF(C1822=\"\",B1822&\"||\"&B1822,C1822&\"||\"&B1822),Worktags!AR:AV,5,FALSE),\"\")","v":""}]
["",null,null,null,null,{"$f":"IFERROR(VLOOKUP(IF(C1823=\"\",B1823&\"||\"&B1823,C1823&\"||\"&B1823),Worktags!AR:AV,5,FALSE),\"\")","v":""}]
["",null,null,null,null,{"$f":"IFERROR(VLOOKUP(IF(C1824=\"\",B1824&\"||\"&B1824,C1824&\"||\"&B1824),Worktags!AR:AV,5,FALSE),\"\")","v":""}]
["",null,null,null,null,{"$f":"IFERROR(VLOOKUP(IF(C1825=\"\",B1825&\"||\"&B1825,C1825&\"||\"&B1825),Worktags!AR:AV,5,FALSE),\"\")","v":""}]
["",null,null,null,null,{"$f":"IFERROR(VLOOKUP(IF(C1826=\"\",B1826&\"||\"&B1826,C1826&\"||\"&B1826),Worktags!AR:AV,5,FALSE),\"\")","v":""}]
["",null,null,null,null,{"$f":"IFERROR(VLOOKUP(IF(C1827=\"\",B1827&\"||\"&B1827,C1827&\"||\"&B1827),Worktags!AR:AV,5,FALSE),\"\")","v":""}]
["",null,null,null,null,{"$f":"IFERROR(VLOOKUP(IF(C1828=\"\",B1828&\"||\"&B1828,C1828&\"||\"&B1828),Worktags!AR:AV,5,FALSE),\"\")","v":""}]
["",null,null,null,null,{"$f":"IFERROR(VLOOKUP(IF(C1829=\"\",B1829&\"||\"&B1829,C1829&\"||\"&B1829),Worktags!AR:AV,5,FALSE),\"\")","v":""}]
["",null,null,null,null,{"$f":"IFERROR(VLOOKUP(IF(C1830=\"\",B1830&\"||\"&B1830,C1830&\"||\"&B1830),Worktags!AR:AV,5,FALSE),\"\")","v":""}]
["",null,null,null,null,{"$f":"IFERROR(VLOOKUP(IF(C1831=\"\",B1831&\"||\"&B1831,C1831&\"||\"&B1831),Worktags!AR:AV,5,FALSE),\"\")","v":""}]
["",null,null,null,null,{"$f":"IFERROR(VLOOKUP(IF(C1832=\"\",B1832&\"||\"&B1832,C1832&\"||\"&B1832),Worktags!AR:AV,5,FALSE),\"\")","v":""}]
["",null,null,null,null,{"$f":"IFERROR(VLOOKUP(IF(C1833=\"\",B1833&\"||\"&B1833,C1833&\"||\"&B1833),Worktags!AR:AV,5,FALSE),\"\")","v":""}]
["",null,null,null,null,{"$f":"IFERROR(VLOOKUP(IF(C1834=\"\",B1834&\"||\"&B1834,C1834&\"||\"&B1834),Worktags!AR:AV,5,FALSE),\"\")","v":""}]
["",null,null,null,null,{"$f":"IFERROR(VLOOKUP(IF(C1835=\"\",B1835&\"||\"&B1835,C1835&\"||\"&B1835),Worktags!AR:AV,5,FALSE),\"\")","v":""}]
["",null,null,null,null,{"$f":"IFERROR(VLOOKUP(IF(C1836=\"\",B1836&\"||\"&B1836,C1836&\"||\"&B1836),Worktags!AR:AV,5,FALSE),\"\")","v":""}]
["",null,null,null,null,{"$f":"IFERROR(VLOOKUP(IF(C1837=\"\",B1837&\"||\"&B1837,C1837&\"||\"&B1837),Worktags!AR:AV,5,FALSE),\"\")","v":""}]
["",null,null,null,null,{"$f":"IFERROR(VLOOKUP(IF(C1838=\"\",B1838&\"||\"&B1838,C1838&\"||\"&B1838),Worktags!AR:AV,5,FALSE),\"\")","v":""}]
["",null,null,null,null,{"$f":"IFERROR(VLOOKUP(IF(C1839=\"\",B1839&\"||\"&B1839,C1839&\"||\"&B1839),Worktags!AR:AV,5,FALSE),\"\")","v":""}]
["",null,null,null,null,{"$f":"IFERROR(VLOOKUP(IF(C1840=\"\",B1840&\"||\"&B1840,C1840&\"||\"&B1840),Worktags!AR:AV,5,FALSE),\"\")","v":""}]
["",null,null,null,null,{"$f":"IFERROR(VLOOKUP(IF(C1841=\"\",B1841&\"||\"&B1841,C1841&\"||\"&B1841),Worktags!AR:AV,5,FALSE),\"\")","v":""}]
["",null,null,null,null,{"$f":"IFERROR(VLOOKUP(IF(C1842=\"\",B1842&\"||\"&B1842,C1842&\"||\"&B1842),Worktags!AR:AV,5,FALSE),\"\")","v":""}]
["",null,null,null,null,{"$f":"IFERROR(VLOOKUP(IF(C1843=\"\",B1843&\"||\"&B1843,C1843&\"||\"&B1843),Worktags!AR:AV,5,FALSE),\"\")","v":""}]
["",null,null,null,null,{"$f":"IFERROR(VLOOKUP(IF(C1844=\"\",B1844&\"||\"&B1844,C1844&\"||\"&B1844),Worktags!AR:AV,5,FALSE),\"\")","v":""}]
["",null,null,null,null,{"$f":"IFERROR(VLOOKUP(IF(C1845=\"\",B1845&\"||\"&B1845,C1845&\"||\"&B1845),Worktags!AR:AV,5,FALSE),\"\")","v":""}]
["",null,null,null,null,{"$f":"IFERROR(VLOOKUP(IF(C1846=\"\",B1846&\"||\"&B1846,C1846&\"||\"&B1846),Worktags!AR:AV,5,FALSE),\"\")","v":""}]
["",null,null,null,null,{"$f":"IFERROR(VLOOKUP(IF(C1847=\"\",B1847&\"||\"&B1847,C1847&\"||\"&B1847),Worktags!AR:AV,5,FALSE),\"\")","v":""}]
["",null,null,null,null,{"$f":"IFERROR(VLOOKUP(IF(C1848=\"\",B1848&\"||\"&B1848,C1848&\"||\"&B1848),Worktags!AR:AV,5,FALSE),\"\")","v":""}]
["",null,null,null,null,{"$f":"IFERROR(VLOOKUP(IF(C1849=\"\",B1849&\"||\"&B1849,C1849&\"||\"&B1849),Worktags!AR:AV,5,FALSE),\"\")","v":""}]
["",null,null,null,null,{"$f":"IFERROR(VLOOKUP(IF(C1850=\"\",B1850&\"||\"&B1850,C1850&\"||\"&B1850),Worktags!AR:AV,5,FALSE),\"\")","v":""}]
["",null,null,null,null,{"$f":"IFERROR(VLOOKUP(IF(C1851=\"\",B1851&\"||\"&B1851,C1851&\"||\"&B1851),Worktags!AR:AV,5,FALSE),\"\")","v":""}]
["",null,null,null,null,{"$f":"IFERROR(VLOOKUP(IF(C1852=\"\",B1852&\"||\"&B1852,C1852&\"||\"&B1852),Worktags!AR:AV,5,FALSE),\"\")","v":""}]
["",null,null,null,null,{"$f":"IFERROR(VLOOKUP(IF(C1853=\"\",B1853&\"||\"&B1853,C1853&\"||\"&B1853),Worktags!AR:AV,5,FALSE),\"\")","v":""}]
["",null,null,null,null,{"$f":"IFERROR(VLOOKUP(IF(C1854=\"\",B1854&\"||\"&B1854,C1854&\"||\"&B1854),Worktags!AR:AV,5,FALSE),\"\")","v":""}]
["",null,null,null,null,{"$f":"IFERROR(VLOOKUP(IF(C1855=\"\",B1855&\"||\"&B1855,C1855&\"||\"&B1855),Worktags!AR:AV,5,FALSE),\"\")","v":""}]
["",null,null,null,null,{"$f":"IFERROR(VLOOKUP(IF(C1856=\"\",B1856&\"||\"&B1856,C1856&\"||\"&B1856),Worktags!AR:AV,5,FALSE),\"\")","v":""}]
["",null,null,null,null,{"$f":"IFERROR(VLOOKUP(IF(C1857=\"\",B1857&\"||\"&B1857,C1857&\"||\"&B1857),Worktags!AR:AV,5,FALSE),\"\")","v":""}]
[{"$f":"IF(B1858<>\"\",IF(C1858<>\"\",B1858&\"_\"&C1858&\" \"&D1858&\"/\"&E1858,B1858&\" \"&D1858),\"\")","v":""},null,null,null,null,{"$f":"IFERROR(VLOOKUP(IF(C1858=\"\",B1858&\"||\"&B1858,C1858&\"||\"&B1858),Worktags!AR:AV,5,FALSE),\"\")","v":""}]
["",null,null,null,null,{"$f":"IFERROR(VLOOKUP(IF(C1859=\"\",B1859&\"||\"&B1859,C1859&\"||\"&B1859),Worktags!AR:AV,5,FALSE),\"\")","v":""}]
["",null,null,null,null,{"$f":"IFERROR(VLOOKUP(IF(C1860=\"\",B1860&\"||\"&B1860,C1860&\"||\"&B1860),Worktags!AR:AV,5,FALSE),\"\")","v":""}]
["",null,null,null,null,{"$f":"IFERROR(VLOOKUP(IF(C1861=\"\",B1861&\"||\"&B1861,C1861&\"||\"&B1861),Worktags!AR:AV,5,FALSE),\"\")","v":""}]
["",null,null,null,null,{"$f":"IFERROR(VLOOKUP(IF(C1862=\"\",B1862&\"||\"&B1862,C1862&\"||\"&B1862),Worktags!AR:AV,5,FALSE),\"\")","v":""}]
["",null,null,null,null,{"$f":"IFERROR(VLOOKUP(IF(C1863=\"\",B1863&\"||\"&B1863,C1863&\"||\"&B1863),Worktags!AR:AV,5,FALSE),\"\")","v":""}]
["",null,null,null,null,{"$f":"IFERROR(VLOOKUP(IF(C1864=\"\",B1864&\"||\"&B1864,C1864&\"||\"&B1864),Worktags!AR:AV,5,FALSE),\"\")","v":""}]
["",null,null,null,null,{"$f":"IFERROR(VLOOKUP(IF(C1865=\"\",B1865&\"||\"&B1865,C1865&\"||\"&B1865),Worktags!AR:AV,5,FALSE),\"\")","v":""}]
["",null,null,null,null,{"$f":"IFERROR(VLOOKUP(IF(C1866=\"\",B1866&\"||\"&B1866,C1866&\"||\"&B1866),Worktags!AR:AV,5,FALSE),\"\")","v":""}]
["",null,null,null,null,{"$f":"IFERROR(VLOOKUP(IF(C1867=\"\",B1867&\"||\"&B1867,C1867&\"||\"&B1867),Worktags!AR:AV,5,FALSE),\"\")","v":""}]
["",null,null,null,null,{"$f":"IFERROR(VLOOKUP(IF(C1868=\"\",B1868&\"||\"&B1868,C1868&\"||\"&B1868),Worktags!AR:AV,5,FALSE),\"\")","v":""}]
["",null,null,null,null,{"$f":"IFERROR(VLOOKUP(IF(C1869=\"\",B1869&\"||\"&B1869,C1869&\"||\"&B1869),Worktags!AR:AV,5,FALSE),\"\")","v":""}]
["",null,null,null,null,{"$f":"IFERROR(VLOOKUP(IF(C1870=\"\",B1870&\"||\"&B1870,C1870&\"||\"&B1870),Worktags!AR:AV,5,FALSE),\"\")","v":""}]
["",null,null,null,null,{"$f":"IFERROR(VLOOKUP(IF(C1871=\"\",B1871&\"||\"&B1871,C1871&\"||\"&B1871),Worktags!AR:AV,5,FALSE),\"\")","v":""}]
["",null,null,null,null,{"$f":"IFERROR(VLOOKUP(IF(C1872=\"\",B1872&\"||\"&B1872,C1872&\"||\"&B1872),Worktags!AR:AV,5,FALSE),\"\")","v":""}]
["",null,null,null,null,{"$f":"IFERROR(VLOOKUP(IF(C1873=\"\",B1873&\"||\"&B1873,C1873&\"||\"&B1873),Worktags!AR:AV,5,FALSE),\"\")","v":""}]
["",null,null,null,null,{"$f":"IFERROR(VLOOKUP(IF(C1874=\"\",B1874&\"||\"&B1874,C1874&\"||\"&B1874),Worktags!AR:AV,5,FALSE),\"\")","v":""}]
["",null,null,null,null,{"$f":"IFERROR(VLOOKUP(IF(C1875=\"\",B1875&\"||\"&B1875,C1875&\"||\"&B1875),Worktags!AR:AV,5,FALSE),\"\")","v":""}]
["",null,null,null,null,{"$f":"IFERROR(VLOOKUP(IF(C1876=\"\",B1876&\"||\"&B1876,C1876&\"||\"&B1876),Worktags!AR:AV,5,FALSE),\"\")","v":""}]
["",null,null,null,null,{"$f":"IFERROR(VLOOKUP(IF(C1877=\"\",B1877&\"||\"&B1877,C1877&\"||\"&B1877),Worktags!AR:AV,5,FALSE),\"\")","v":""}]
["",null,null,null,null,{"$f":"IFERROR(VLOOKUP(IF(C1878=\"\",B1878&\"||\"&B1878,C1878&\"||\"&B1878),Worktags!AR:AV,5,FALSE),\"\")","v":""}]
["",null,null,null,null,{"$f":"IFERROR(VLOOKUP(IF(C1879=\"\",B1879&\"||\"&B1879,C1879&\"||\"&B1879),Worktags!AR:AV,5,FALSE),\"\")","v":""}]
["",null,null,null,null,{"$f":"IFERROR(VLOOKUP(IF(C1880=\"\",B1880&\"||\"&B1880,C1880&\"||\"&B1880),Worktags!AR:AV,5,FALSE),\"\")","v":""}]
["",null,null,null,null,{"$f":"IFERROR(VLOOKUP(IF(C1881=\"\",B1881&\"||\"&B1881,C1881&\"||\"&B1881),Worktags!AR:AV,5,FALSE),\"\")","v":""}]
["",null,null,null,null,{"$f":"IFERROR(VLOOKUP(IF(C1882=\"\",B1882&\"||\"&B1882,C1882&\"||\"&B1882),Worktags!AR:AV,5,FALSE),\"\")","v":""}]
["",null,null,null,null,{"$f":"IFERROR(VLOOKUP(IF(C1883=\"\",B1883&\"||\"&B1883,C1883&\"||\"&B1883),Worktags!AR:AV,5,FALSE),\"\")","v":""}]
["",null,null,null,null,{"$f":"IFERROR(VLOOKUP(IF(C1884=\"\",B1884&\"||\"&B1884,C1884&\"||\"&B1884),Worktags!AR:AV,5,FALSE),\"\")","v":""}]
["",null,null,null,null,{"$f":"IFERROR(VLOOKUP(IF(C1885=\"\",B1885&\"||\"&B1885,C1885&\"||\"&B1885),Worktags!AR:AV,5,FALSE),\"\")","v":""}]
["",null,null,null,null,{"$f":"IFERROR(VLOOKUP(IF(C1886=\"\",B1886&\"||\"&B1886,C1886&\"||\"&B1886),Worktags!AR:AV,5,FALSE),\"\")","v":""}]
["",null,null,null,null,{"$f":"IFERROR(VLOOKUP(IF(C1887=\"\",B1887&\"||\"&B1887,C1887&\"||\"&B1887),Worktags!AR:AV,5,FALSE),\"\")","v":""}]
["",null,null,null,null,{"$f":"IFERROR(VLOOKUP(IF(C1888=\"\",B1888&\"||\"&B1888,C1888&\"||\"&B1888),Worktags!AR:AV,5,FALSE),\"\")","v":""}]
["",null,null,null,null,{"$f":"IFERROR(VLOOKUP(IF(C1889=\"\",B1889&\"||\"&B1889,C1889&\"||\"&B1889),Worktags!AR:AV,5,FALSE),\"\")","v":""}]
["",null,null,null,null,{"$f":"IFERROR(VLOOKUP(IF(C1890=\"\",B1890&\"||\"&B1890,C1890&\"||\"&B1890),Worktags!AR:AV,5,FALSE),\"\")","v":""}]
["",null,null,null,null,{"$f":"IFERROR(VLOOKUP(IF(C1891=\"\",B1891&\"||\"&B1891,C1891&\"||\"&B1891),Worktags!AR:AV,5,FALSE),\"\")","v":""}]
["",null,null,null,null,{"$f":"IFERROR(VLOOKUP(IF(C1892=\"\",B1892&\"||\"&B1892,C1892&\"||\"&B1892),Worktags!AR:AV,5,FALSE),\"\")","v":""}]
["",null,null,null,null,{"$f":"IFERROR(VLOOKUP(IF(C1893=\"\",B1893&\"||\"&B1893,C1893&\"||\"&B1893),Worktags!AR:AV,5,FALSE),\"\")","v":""}]
["",null,null,null,null,{"$f":"IFERROR(VLOOKUP(IF(C1894=\"\",B1894&\"||\"&B1894,C1894&\"||\"&B1894),Worktags!AR:AV,5,FALSE),\"\")","v":""}]
["",null,null,null,null,{"$f":"IFERROR(VLOOKUP(IF(C1895=\"\",B1895&\"||\"&B1895,C1895&\"||\"&B1895),Worktags!AR:AV,5,FALSE),\"\")","v":""}]
["",null,null,null,null,{"$f":"IFERROR(VLOOKUP(IF(C1896=\"\",B1896&\"||\"&B1896,C1896&\"||\"&B1896),Worktags!AR:AV,5,FALSE),\"\")","v":""}]
["",null,null,null,null,{"$f":"IFERROR(VLOOKUP(IF(C1897=\"\",B1897&\"||\"&B1897,C1897&\"||\"&B1897),Worktags!AR:AV,5,FALSE),\"\")","v":""}]
["",null,null,null,null,{"$f":"IFERROR(VLOOKUP(IF(C1898=\"\",B1898&\"||\"&B1898,C1898&\"||\"&B1898),Worktags!AR:AV,5,FALSE),\"\")","v":""}]
["",null,null,null,null,{"$f":"IFERROR(VLOOKUP(IF(C1899=\"\",B1899&\"||\"&B1899,C1899&\"||\"&B1899),Worktags!AR:AV,5,FALSE),\"\")","v":""}]
["",null,null,null,null,{"$f":"IFERROR(VLOOKUP(IF(C1900=\"\",B1900&\"||\"&B1900,C1900&\"||\"&B1900),Worktags!AR:AV,5,FALSE),\"\")","v":""}]
["",null,null,null,null,{"$f":"IFERROR(VLOOKUP(IF(C1901=\"\",B1901&\"||\"&B1901,C1901&\"||\"&B1901),Worktags!AR:AV,5,FALSE),\"\")","v":""}]
["",null,null,null,null,{"$f":"IFERROR(VLOOKUP(IF(C1902=\"\",B1902&\"||\"&B1902,C1902&\"||\"&B1902),Worktags!AR:AV,5,FALSE),\"\")","v":""}]
["",null,null,null,null,{"$f":"IFERROR(VLOOKUP(IF(C1903=\"\",B1903&\"||\"&B1903,C1903&\"||\"&B1903),Worktags!AR:AV,5,FALSE),\"\")","v":""}]
["",null,null,null,null,{"$f":"IFERROR(VLOOKUP(IF(C1904=\"\",B1904&\"||\"&B1904,C1904&\"||\"&B1904),Worktags!AR:AV,5,FALSE),\"\")","v":""}]
["",null,null,null,null,{"$f":"IFERROR(VLOOKUP(IF(C1905=\"\",B1905&\"||\"&B1905,C1905&\"||\"&B1905),Worktags!AR:AV,5,FALSE),\"\")","v":""}]
["",null,null,null,null,{"$f":"IFERROR(VLOOKUP(IF(C1906=\"\",B1906&\"||\"&B1906,C1906&\"||\"&B1906),Worktags!AR:AV,5,FALSE),\"\")","v":""}]
["",null,null,null,null,{"$f":"IFERROR(VLOOKUP(IF(C1907=\"\",B1907&\"||\"&B1907,C1907&\"||\"&B1907),Worktags!AR:AV,5,FALSE),\"\")","v":""}]
["",null,null,null,null,{"$f":"IFERROR(VLOOKUP(IF(C1908=\"\",B1908&\"||\"&B1908,C1908&\"||\"&B1908),Worktags!AR:AV,5,FALSE),\"\")","v":""}]
["",null,null,null,null,{"$f":"IFERROR(VLOOKUP(IF(C1909=\"\",B1909&\"||\"&B1909,C1909&\"||\"&B1909),Worktags!AR:AV,5,FALSE),\"\")","v":""}]
["",null,null,null,null,{"$f":"IFERROR(VLOOKUP(IF(C1910=\"\",B1910&\"||\"&B1910,C1910&\"||\"&B1910),Worktags!AR:AV,5,FALSE),\"\")","v":""}]
["",null,null,null,null,{"$f":"IFERROR(VLOOKUP(IF(C1911=\"\",B1911&\"||\"&B1911,C1911&\"||\"&B1911),Worktags!AR:AV,5,FALSE),\"\")","v":""}]
["",null,null,null,null,{"$f":"IFERROR(VLOOKUP(IF(C1912=\"\",B1912&\"||\"&B1912,C1912&\"||\"&B1912),Worktags!AR:AV,5,FALSE),\"\")","v":""}]
["",null,null,null,null,{"$f":"IFERROR(VLOOKUP(IF(C1913=\"\",B1913&\"||\"&B1913,C1913&\"||\"&B1913),Worktags!AR:AV,5,FALSE),\"\")","v":""}]
["",null,null,null,null,{"$f":"IFERROR(VLOOKUP(IF(C1914=\"\",B1914&\"||\"&B1914,C1914&\"||\"&B1914),Worktags!AR:AV,5,FALSE),\"\")","v":""}]
["",null,null,null,null,{"$f":"IFERROR(VLOOKUP(IF(C1915=\"\",B1915&\"||\"&B1915,C1915&\"||\"&B1915),Worktags!AR:AV,5,FALSE),\"\")","v":""}]
["",null,null,null,null,{"$f":"IFERROR(VLOOKUP(IF(C1916=\"\",B1916&\"||\"&B1916,C1916&\"||\"&B1916),Worktags!AR:AV,5,FALSE),\"\")","v":""}]
["",null,null,null,null,{"$f":"IFERROR(VLOOKUP(IF(C1917=\"\",B1917&\"||\"&B1917,C1917&\"||\"&B1917),Worktags!AR:AV,5,FALSE),\"\")","v":""}]
["",null,null,null,null,{"$f":"IFERROR(VLOOKUP(IF(C1918=\"\",B1918&\"||\"&B1918,C1918&\"||\"&B1918),Worktags!AR:AV,5,FALSE),\"\")","v":""}]
["",null,null,null,null,{"$f":"IFERROR(VLOOKUP(IF(C1919=\"\",B1919&\"||\"&B1919,C1919&\"||\"&B1919),Worktags!AR:AV,5,FALSE),\"\")","v":""}]
["",null,null,null,null,{"$f":"IFERROR(VLOOKUP(IF(C1920=\"\",B1920&\"||\"&B1920,C1920&\"||\"&B1920),Worktags!AR:AV,5,FALSE),\"\")","v":""}]
["",null,null,null,null,{"$f":"IFERROR(VLOOKUP(IF(C1921=\"\",B1921&\"||\"&B1921,C1921&\"||\"&B1921),Worktags!AR:AV,5,FALSE),\"\")","v":""}]
[{"$f":"IF(B1922<>\"\",IF(C1922<>\"\",B1922&\"_\"&C1922&\" \"&D1922&\"/\"&E1922,B1922&\" \"&D1922),\"\")","v":""},null,null,null,null,{"$f":"IFERROR(VLOOKUP(IF(C1922=\"\",B1922&\"||\"&B1922,C1922&\"||\"&B1922),Worktags!AR:AV,5,FALSE),\"\")","v":""}]
["",null,null,null,null,{"$f":"IFERROR(VLOOKUP(IF(C1923=\"\",B1923&\"||\"&B1923,C1923&\"||\"&B1923),Worktags!AR:AV,5,FALSE),\"\")","v":""}]
["",null,null,null,null,{"$f":"IFERROR(VLOOKUP(IF(C1924=\"\",B1924&\"||\"&B1924,C1924&\"||\"&B1924),Worktags!AR:AV,5,FALSE),\"\")","v":""}]
["",null,null,null,null,{"$f":"IFERROR(VLOOKUP(IF(C1925=\"\",B1925&\"||\"&B1925,C1925&\"||\"&B1925),Worktags!AR:AV,5,FALSE),\"\")","v":""}]
["",null,null,null,null,{"$f":"IFERROR(VLOOKUP(IF(C1926=\"\",B1926&\"||\"&B1926,C1926&\"||\"&B1926),Worktags!AR:AV,5,FALSE),\"\")","v":""}]
["",null,null,null,null,{"$f":"IFERROR(VLOOKUP(IF(C1927=\"\",B1927&\"||\"&B1927,C1927&\"||\"&B1927),Worktags!AR:AV,5,FALSE),\"\")","v":""}]
["",null,null,null,null,{"$f":"IFERROR(VLOOKUP(IF(C1928=\"\",B1928&\"||\"&B1928,C1928&\"||\"&B1928),Worktags!AR:AV,5,FALSE),\"\")","v":""}]
["",null,null,null,null,{"$f":"IFERROR(VLOOKUP(IF(C1929=\"\",B1929&\"||\"&B1929,C1929&\"||\"&B1929),Worktags!AR:AV,5,FALSE),\"\")","v":""}]
["",null,null,null,null,{"$f":"IFERROR(VLOOKUP(IF(C1930=\"\",B1930&\"||\"&B1930,C1930&\"||\"&B1930),Worktags!AR:AV,5,FALSE),\"\")","v":""}]
["",null,null,null,null,{"$f":"IFERROR(VLOOKUP(IF(C1931=\"\",B1931&\"||\"&B1931,C1931&\"||\"&B1931),Worktags!AR:AV,5,FALSE),\"\")","v":""}]
["",null,null,null,null,{"$f":"IFERROR(VLOOKUP(IF(C1932=\"\",B1932&\"||\"&B1932,C1932&\"||\"&B1932),Worktags!AR:AV,5,FALSE),\"\")","v":""}]
["",null,null,null,null,{"$f":"IFERROR(VLOOKUP(IF(C1933=\"\",B1933&\"||\"&B1933,C1933&\"||\"&B1933),Worktags!AR:AV,5,FALSE),\"\")","v":""}]
["",null,null,null,null,{"$f":"IFERROR(VLOOKUP(IF(C1934=\"\",B1934&\"||\"&B1934,C1934&\"||\"&B1934),Worktags!AR:AV,5,FALSE),\"\")","v":""}]
["",null,null,null,null,{"$f":"IFERROR(VLOOKUP(IF(C1935=\"\",B1935&\"||\"&B1935,C1935&\"||\"&B1935),Worktags!AR:AV,5,FALSE),\"\")","v":""}]
["",null,null,null,null,{"$f":"IFERROR(VLOOKUP(IF(C1936=\"\",B1936&\"||\"&B1936,C1936&\"||\"&B1936),Worktags!AR:AV,5,FALSE),\"\")","v":""}]
["",null,null,null,null,{"$f":"IFERROR(VLOOKUP(IF(C1937=\"\",B1937&\"||\"&B1937,C1937&\"||\"&B1937),Worktags!AR:AV,5,FALSE),\"\")","v":""}]
["",null,null,null,null,{"$f":"IFERROR(VLOOKUP(IF(C1938=\"\",B1938&\"||\"&B1938,C1938&\"||\"&B1938),Worktags!AR:AV,5,FALSE),\"\")","v":""}]
["",null,null,null,null,{"$f":"IFERROR(VLOOKUP(IF(C1939=\"\",B1939&\"||\"&B1939,C1939&\"||\"&B1939),Worktags!AR:AV,5,FALSE),\"\")","v":""}]
["",null,null,null,null,{"$f":"IFERROR(VLOOKUP(IF(C1940=\"\",B1940&\"||\"&B1940,C1940&\"||\"&B1940),Worktags!AR:AV,5,FALSE),\"\")","v":""}]
["",null,null,null,null,{"$f":"IFERROR(VLOOKUP(IF(C1941=\"\",B1941&\"||\"&B1941,C1941&\"||\"&B1941),Worktags!AR:AV,5,FALSE),\"\")","v":""}]
["",null,null,null,null,{"$f":"IFERROR(VLOOKUP(IF(C1942=\"\",B1942&\"||\"&B1942,C1942&\"||\"&B1942),Worktags!AR:AV,5,FALSE),\"\")","v":""}]
["",null,null,null,null,{"$f":"IFERROR(VLOOKUP(IF(C1943=\"\",B1943&\"||\"&B1943,C1943&\"||\"&B1943),Worktags!AR:AV,5,FALSE),\"\")","v":""}]
["",null,null,null,null,{"$f":"IFERROR(VLOOKUP(IF(C1944=\"\",B1944&\"||\"&B1944,C1944&\"||\"&B1944),Worktags!AR:AV,5,FALSE),\"\")","v":""}]
["",null,null,null,null,{"$f":"IFERROR(VLOOKUP(IF(C1945=\"\",B1945&\"||\"&B1945,C1945&\"||\"&B1945),Worktags!AR:AV,5,FALSE),\"\")","v":""}]
["",null,null,null,null,{"$f":"IFERROR(VLOOKUP(IF(C1946=\"\",B1946&\"||\"&B1946,C1946&\"||\"&B1946),Worktags!AR:AV,5,FALSE),\"\")","v":""}]
["",null,null,null,null,{"$f":"IFERROR(VLOOKUP(IF(C1947=\"\",B1947&\"||\"&B1947,C1947&\"||\"&B1947),Worktags!AR:AV,5,FALSE),\"\")","v":""}]
["",null,null,null,null,{"$f":"IFERROR(VLOOKUP(IF(C1948=\"\",B1948&\"||\"&B1948,C1948&\"||\"&B1948),Worktags!AR:AV,5,FALSE),\"\")","v":""}]
["",null,null,null,null,{"$f":"IFERROR(VLOOKUP(IF(C1949=\"\",B1949&\"||\"&B1949,C1949&\"||\"&B1949),Worktags!AR:AV,5,FALSE),\"\")","v":""}]
["",null,null,null,null,{"$f":"IFERROR(VLOOKUP(IF(C1950=\"\",B1950&\"||\"&B1950,C1950&\"||\"&B1950),Worktags!AR:AV,5,FALSE),\"\")","v":""}]
["",null,null,null,null,{"$f":"IFERROR(VLOOKUP(IF(C1951=\"\",B1951&\"||\"&B1951,C1951&\"||\"&B1951),Worktags!AR:AV,5,FALSE),\"\")","v":""}]
["",null,null,null,null,{"$f":"IFERROR(VLOOKUP(IF(C1952=\"\",B1952&\"||\"&B1952,C1952&\"||\"&B1952),Worktags!AR:AV,5,FALSE),\"\")","v":""}]
["",null,null,null,null,{"$f":"IFERROR(VLOOKUP(IF(C1953=\"\",B1953&\"||\"&B1953,C1953&\"||\"&B1953),Worktags!AR:AV,5,FALSE),\"\")","v":""}]
["",null,null,null,null,{"$f":"IFERROR(VLOOKUP(IF(C1954=\"\",B1954&\"||\"&B1954,C1954&\"||\"&B1954),Worktags!AR:AV,5,FALSE),\"\")","v":""}]
["",null,null,null,null,{"$f":"IFERROR(VLOOKUP(IF(C1955=\"\",B1955&\"||\"&B1955,C1955&\"||\"&B1955),Worktags!AR:AV,5,FALSE),\"\")","v":""}]
["",null,null,null,null,{"$f":"IFERROR(VLOOKUP(IF(C1956=\"\",B1956&\"||\"&B1956,C1956&\"||\"&B1956),Worktags!AR:AV,5,FALSE),\"\")","v":""}]
["",null,null,null,null,{"$f":"IFERROR(VLOOKUP(IF(C1957=\"\",B1957&\"||\"&B1957,C1957&\"||\"&B1957),Worktags!AR:AV,5,FALSE),\"\")","v":""}]
["",null,null,null,null,{"$f":"IFERROR(VLOOKUP(IF(C1958=\"\",B1958&\"||\"&B1958,C1958&\"||\"&B1958),Worktags!AR:AV,5,FALSE),\"\")","v":""}]
["",null,null,null,null,{"$f":"IFERROR(VLOOKUP(IF(C1959=\"\",B1959&\"||\"&B1959,C1959&\"||\"&B1959),Worktags!AR:AV,5,FALSE),\"\")","v":""}]
["",null,null,null,null,{"$f":"IFERROR(VLOOKUP(IF(C1960=\"\",B1960&\"||\"&B1960,C1960&\"||\"&B1960),Worktags!AR:AV,5,FALSE),\"\")","v":""}]
["",null,null,null,null,{"$f":"IFERROR(VLOOKUP(IF(C1961=\"\",B1961&\"||\"&B1961,C1961&\"||\"&B1961),Worktags!AR:AV,5,FALSE),\"\")","v":""}]
["",null,null,null,null,{"$f":"IFERROR(VLOOKUP(IF(C1962=\"\",B1962&\"||\"&B1962,C1962&\"||\"&B1962),Worktags!AR:AV,5,FALSE),\"\")","v":""}]
["",null,null,null,null,{"$f":"IFERROR(VLOOKUP(IF(C1963=\"\",B1963&\"||\"&B1963,C1963&\"||\"&B1963),Worktags!AR:AV,5,FALSE),\"\")","v":""}]
["",null,null,null,null,{"$f":"IFERROR(VLOOKUP(IF(C1964=\"\",B1964&\"||\"&B1964,C1964&\"||\"&B1964),Worktags!AR:AV,5,FALSE),\"\")","v":""}]
["",null,null,null,null,{"$f":"IFERROR(VLOOKUP(IF(C1965=\"\",B1965&\"||\"&B1965,C1965&\"||\"&B1965),Worktags!AR:AV,5,FALSE),\"\")","v":""}]
["",null,null,null,null,{"$f":"IFERROR(VLOOKUP(IF(C1966=\"\",B1966&\"||\"&B1966,C1966&\"||\"&B1966),Worktags!AR:AV,5,FALSE),\"\")","v":""}]
["",null,null,null,null,{"$f":"IFERROR(VLOOKUP(IF(C1967=\"\",B1967&\"||\"&B1967,C1967&\"||\"&B1967),Worktags!AR:AV,5,FALSE),\"\")","v":""}]
["",null,null,null,null,{"$f":"IFERROR(VLOOKUP(IF(C1968=\"\",B1968&\"||\"&B1968,C1968&\"||\"&B1968),Worktags!AR:AV,5,FALSE),\"\")","v":""}]
["",null,null,null,null,{"$f":"IFERROR(VLOOKUP(IF(C1969=\"\",B1969&\"||\"&B1969,C1969&\"||\"&B1969),Worktags!AR:AV,5,FALSE),\"\")","v":""}]
["",null,null,null,null,{"$f":"IFERROR(VLOOKUP(IF(C1970=\"\",B1970&\"||\"&B1970,C1970&\"||\"&B1970),Worktags!AR:AV,5,FALSE),\"\")","v":""}]
["",null,null,null,null,{"$f":"IFERROR(VLOOKUP(IF(C1971=\"\",B1971&\"||\"&B1971,C1971&\"||\"&B1971),Worktags!AR:AV,5,FALSE),\"\")","v":""}]
["",null,null,null,null,{"$f":"IFERROR(VLOOKUP(IF(C1972=\"\",B1972&\"||\"&B1972,C1972&\"||\"&B1972),Worktags!AR:AV,5,FALSE),\"\")","v":""}]
["",null,null,null,null,{"$f":"IFERROR(VLOOKUP(IF(C1973=\"\",B1973&\"||\"&B1973,C1973&\"||\"&B1973),Worktags!AR:AV,5,FALSE),\"\")","v":""}]
["",null,null,null,null,{"$f":"IFERROR(VLOOKUP(IF(C1974=\"\",B1974&\"||\"&B1974,C1974&\"||\"&B1974),Worktags!AR:AV,5,FALSE),\"\")","v":""}]
["",null,null,null,null,{"$f":"IFERROR(VLOOKUP(IF(C1975=\"\",B1975&\"||\"&B1975,C1975&\"||\"&B1975),Worktags!AR:AV,5,FALSE),\"\")","v":""}]
["",null,null,null,null,{"$f":"IFERROR(VLOOKUP(IF(C1976=\"\",B1976&\"||\"&B1976,C1976&\"||\"&B1976),Worktags!AR:AV,5,FALSE),\"\")","v":""}]
["",null,null,null,null,{"$f":"IFERROR(VLOOKUP(IF(C1977=\"\",B1977&\"||\"&B1977,C1977&\"||\"&B1977),Worktags!AR:AV,5,FALSE),\"\")","v":""}]
["",null,null,null,null,{"$f":"IFERROR(VLOOKUP(IF(C1978=\"\",B1978&\"||\"&B1978,C1978&\"||\"&B1978),Worktags!AR:AV,5,FALSE),\"\")","v":""}]
["",null,null,null,null,{"$f":"IFERROR(VLOOKUP(IF(C1979=\"\",B1979&\"||\"&B1979,C1979&\"||\"&B1979),Worktags!AR:AV,5,FALSE),\"\")","v":""}]
["",null,null,null,null,{"$f":"IFERROR(VLOOKUP(IF(C1980=\"\",B1980&\"||\"&B1980,C1980&\"||\"&B1980),Worktags!AR:AV,5,FALSE),\"\")","v":""}]
["",null,null,null,null,{"$f":"IFERROR(VLOOKUP(IF(C1981=\"\",B1981&\"||\"&B1981,C1981&\"||\"&B1981),Worktags!AR:AV,5,FALSE),\"\")","v":""}]
["",null,null,null,null,{"$f":"IFERROR(VLOOKUP(IF(C1982=\"\",B1982&\"||\"&B1982,C1982&\"||\"&B1982),Worktags!AR:AV,5,FALSE),\"\")","v":""}]
["",null,null,null,null,{"$f":"IFERROR(VLOOKUP(IF(C1983=\"\",B1983&\"||\"&B1983,C1983&\"||\"&B1983),Worktags!AR:AV,5,FALSE),\"\")","v":""}]
["",null,null,null,null,{"$f":"IFERROR(VLOOKUP(IF(C1984=\"\",B1984&\"||\"&B1984,C1984&\"||\"&B1984),Worktags!AR:AV,5,FALSE),\"\")","v":""}]
["",null,null,null,null,{"$f":"IFERROR(VLOOKUP(IF(C1985=\"\",B1985&\"||\"&B1985,C1985&\"||\"&B1985),Worktags!AR:AV,5,FALSE),\"\")","v":""}]
[{"$f":"IF(B1986<>\"\",IF(C1986<>\"\",B1986&\"_\"&C1986&\" \"&D1986&\"/\"&E1986,B1986&\" \"&D1986),\"\")","v":""},null,null,null,null,{"$f":"IFERROR(VLOOKUP(IF(C1986=\"\",B1986&\"||\"&B1986,C1986&\"||\"&B1986),Worktags!AR:AV,5,FALSE),\"\")","v":""}]
["",null,null,null,null,{"$f":"IFERROR(VLOOKUP(IF(C1987=\"\",B1987&\"||\"&B1987,C1987&\"||\"&B1987),Worktags!AR:AV,5,FALSE),\"\")","v":""}]
["",null,null,null,null,{"$f":"IFERROR(VLOOKUP(IF(C1988=\"\",B1988&\"||\"&B1988,C1988&\"||\"&B1988),Worktags!AR:AV,5,FALSE),\"\")","v":""}]
["",null,null,null,null,{"$f":"IFERROR(VLOOKUP(IF(C1989=\"\",B1989&\"||\"&B1989,C1989&\"||\"&B1989),Worktags!AR:AV,5,FALSE),\"\")","v":""}]
["",null,null,null,null,{"$f":"IFERROR(VLOOKUP(IF(C1990=\"\",B1990&\"||\"&B1990,C1990&\"||\"&B1990),Worktags!AR:AV,5,FALSE),\"\")","v":""}]
["",null,null,null,null,{"$f":"IFERROR(VLOOKUP(IF(C1991=\"\",B1991&\"||\"&B1991,C1991&\"||\"&B1991),Worktags!AR:AV,5,FALSE),\"\")","v":""}]
["",null,null,null,null,{"$f":"IFERROR(VLOOKUP(IF(C1992=\"\",B1992&\"||\"&B1992,C1992&\"||\"&B1992),Worktags!AR:AV,5,FALSE),\"\")","v":""}]
["",null,null,null,null,{"$f":"IFERROR(VLOOKUP(IF(C1993=\"\",B1993&\"||\"&B1993,C1993&\"||\"&B1993),Worktags!AR:AV,5,FALSE),\"\")","v":""}]
["",null,null,null,null,{"$f":"IFERROR(VLOOKUP(IF(C1994=\"\",B1994&\"||\"&B1994,C1994&\"||\"&B1994),Worktags!AR:AV,5,FALSE),\"\")","v":""}]
["",null,null,null,null,{"$f":"IFERROR(VLOOKUP(IF(C1995=\"\",B1995&\"||\"&B1995,C1995&\"||\"&B1995),Worktags!AR:AV,5,FALSE),\"\")","v":""}]
["",null,null,null,null,{"$f":"IFERROR(VLOOKUP(IF(C1996=\"\",B1996&\"||\"&B1996,C1996&\"||\"&B1996),Worktags!AR:AV,5,FALSE),\"\")","v":""}]
["",null,null,null,null,{"$f":"IFERROR(VLOOKUP(IF(C1997=\"\",B1997&\"||\"&B1997,C1997&\"||\"&B1997),Worktags!AR:AV,5,FALSE),\"\")","v":""}]
["",null,null,null,null,{"$f":"IFERROR(VLOOKUP(IF(C1998=\"\",B1998&\"||\"&B1998,C1998&\"||\"&B1998),Worktags!AR:AV,5,FALSE),\"\")","v":""}]
["",null,null,null,null,{"$f":"IFERROR(VLOOKUP(IF(C1999=\"\",B1999&\"||\"&B1999,C1999&\"||\"&B1999),Worktags!AR:AV,5,FALSE),\"\")","v":""}]
["",null,null,null,null,{"$f":"IFERROR(VLOOKUP(IF(C2000=\"\",B2000&\"||\"&B2000,C2000&\"||\"&B2000),Worktags!AR:AV,5,FALSE),\"\")","v":""}]
["",null,null,null,null,{"$f":"IFERROR(VLOOKUP(IF(C2001=\"\",B2001&\"||\"&B2001,C2001&\"||\"&B2001),Worktags!AR:AV,5,FALSE),\"\")","v":""}]
["",null,null,null,null,{"$f":"IFERROR(VLOOKUP(IF(C2002=\"\",B2002&\"||\"&B2002,C2002&\"||\"&B2002),Worktags!AR:AV,5,FALSE),\"\")","v":""}]
["",null,null,null,null,{"$f":"IFERROR(VLOOKUP(IF(C2003=\"\",B2003&\"||\"&B2003,C2003&\"||\"&B2003),Worktags!AR:AV,5,FALSE),\"\")","v":""}]
["",null,null,null,null,{"$f":"IFERROR(VLOOKUP(IF(C2004=\"\",B2004&\"||\"&B2004,C2004&\"||\"&B2004),Worktags!AR:AV,5,FALSE),\"\")","v":""}]
["",null,null,null,null,{"$f":"IFERROR(VLOOKUP(IF(C2005=\"\",B2005&\"||\"&B2005,C2005&\"||\"&B2005),Worktags!AR:AV,5,FALSE),\"\")","v":""}]
["",null,null,null,null,{"$f":"IFERROR(VLOOKUP(IF(C2006=\"\",B2006&\"||\"&B2006,C2006&\"||\"&B2006),Worktags!AR:AV,5,FALSE),\"\")","v":""}]
["",null,null,null,null,{"$f":"IFERROR(VLOOKUP(IF(C2007=\"\",B2007&\"||\"&B2007,C2007&\"||\"&B2007),Worktags!AR:AV,5,FALSE),\"\")","v":""}]
["",null,null,null,null,{"$f":"IFERROR(VLOOKUP(IF(C2008=\"\",B2008&\"||\"&B2008,C2008&\"||\"&B2008),Worktags!AR:AV,5,FALSE),\"\")","v":""}]
["",null,null,null,null,{"$f":"IFERROR(VLOOKUP(IF(C2009=\"\",B2009&\"||\"&B2009,C2009&\"||\"&B2009),Worktags!AR:AV,5,FALSE),\"\")","v":""}]
["",null,null,null,null,{"$f":"IFERROR(VLOOKUP(IF(C2010=\"\",B2010&\"||\"&B2010,C2010&\"||\"&B2010),Worktags!AR:AV,5,FALSE),\"\")","v":""}]
["",null,null,null,null,{"$f":"IFERROR(VLOOKUP(IF(C2011=\"\",B2011&\"||\"&B2011,C2011&\"||\"&B2011),Worktags!AR:AV,5,FALSE),\"\")","v":""}]
["",null,null,null,null,{"$f":"IFERROR(VLOOKUP(IF(C2012=\"\",B2012&\"||\"&B2012,C2012&\"||\"&B2012),Worktags!AR:AV,5,FALSE),\"\")","v":""}]
["",null,null,null,null,{"$f":"IFERROR(VLOOKUP(IF(C2013=\"\",B2013&\"||\"&B2013,C2013&\"||\"&B2013),Worktags!AR:AV,5,FALSE),\"\")","v":""}]
["",null,null,null,null,{"$f":"IFERROR(VLOOKUP(IF(C2014=\"\",B2014&\"||\"&B2014,C2014&\"||\"&B2014),Worktags!AR:AV,5,FALSE),\"\")","v":""}]
["",null,null,null,null,{"$f":"IFERROR(VLOOKUP(IF(C2015=\"\",B2015&\"||\"&B2015,C2015&\"||\"&B2015),Worktags!AR:AV,5,FALSE),\"\")","v":""}]
["",null,null,null,null,{"$f":"IFERROR(VLOOKUP(IF(C2016=\"\",B2016&\"||\"&B2016,C2016&\"||\"&B2016),Worktags!AR:AV,5,FALSE),\"\")","v":""}]
["",null,null,null,null,{"$f":"IFERROR(VLOOKUP(IF(C2017=\"\",B2017&\"||\"&B2017,C2017&\"||\"&B2017),Worktags!AR:AV,5,FALSE),\"\")","v":""}]
["",null,null,null,null,{"$f":"IFERROR(VLOOKUP(IF(C2018=\"\",B2018&\"||\"&B2018,C2018&\"||\"&B2018),Worktags!AR:AV,5,FALSE),\"\")","v":""}]
["",null,null,null,null,{"$f":"IFERROR(VLOOKUP(IF(C2019=\"\",B2019&\"||\"&B2019,C2019&\"||\"&B2019),Worktags!AR:AV,5,FALSE),\"\")","v":""}]
["",null,null,null,null,{"$f":"IFERROR(VLOOKUP(IF(C2020=\"\",B2020&\"||\"&B2020,C2020&\"||\"&B2020),Worktags!AR:AV,5,FALSE),\"\")","v":""}]
["",null,null,null,null,{"$f":"IFERROR(VLOOKUP(IF(C2021=\"\",B2021&\"||\"&B2021,C2021&\"||\"&B2021),Worktags!AR:AV,5,FALSE),\"\")","v":""}]
["",null,null,null,null,{"$f":"IFERROR(VLOOKUP(IF(C2022=\"\",B2022&\"||\"&B2022,C2022&\"||\"&B2022),Worktags!AR:AV,5,FALSE),\"\")","v":""}]
["",null,null,null,null,{"$f":"IFERROR(VLOOKUP(IF(C2023=\"\",B2023&\"||\"&B2023,C2023&\"||\"&B2023),Worktags!AR:AV,5,FALSE),\"\")","v":""}]
["",null,null,null,null,{"$f":"IFERROR(VLOOKUP(IF(C2024=\"\",B2024&\"||\"&B2024,C2024&\"||\"&B2024),Worktags!AR:AV,5,FALSE),\"\")","v":""}]
["",null,null,null,null,{"$f":"IFERROR(VLOOKUP(IF(C2025=\"\",B2025&\"||\"&B2025,C2025&\"||\"&B2025),Worktags!AR:AV,5,FALSE),\"\")","v":""}]
["",null,null,null,null,{"$f":"IFERROR(VLOOKUP(IF(C2026=\"\",B2026&\"||\"&B2026,C2026&\"||\"&B2026),Worktags!AR:AV,5,FALSE),\"\")","v":""}]
["",null,null,null,null,{"$f":"IFERROR(VLOOKUP(IF(C2027=\"\",B2027&\"||\"&B2027,C2027&\"||\"&B2027),Worktags!AR:AV,5,FALSE),\"\")","v":""}]
["",null,null,null,null,{"$f":"IFERROR(VLOOKUP(IF(C2028=\"\",B2028&\"||\"&B2028,C2028&\"||\"&B2028),Worktags!AR:AV,5,FALSE),\"\")","v":""}]
["",null,null,null,null,{"$f":"IFERROR(VLOOKUP(IF(C2029=\"\",B2029&\"||\"&B2029,C2029&\"||\"&B2029),Worktags!AR:AV,5,FALSE),\"\")","v":""}]
["",null,null,null,null,{"$f":"IFERROR(VLOOKUP(IF(C2030=\"\",B2030&\"||\"&B2030,C2030&\"||\"&B2030),Worktags!AR:AV,5,FALSE),\"\")","v":""}]
["",null,null,null,null,{"$f":"IFERROR(VLOOKUP(IF(C2031=\"\",B2031&\"||\"&B2031,C2031&\"||\"&B2031),Worktags!AR:AV,5,FALSE),\"\")","v":""}]
["",null,null,null,null,{"$f":"IFERROR(VLOOKUP(IF(C2032=\"\",B2032&\"||\"&B2032,C2032&\"||\"&B2032),Worktags!AR:AV,5,FALSE),\"\")","v":""}]
["",null,null,null,null,{"$f":"IFERROR(VLOOKUP(IF(C2033=\"\",B2033&\"||\"&B2033,C2033&\"||\"&B2033),Worktags!AR:AV,5,FALSE),\"\")","v":""}]
["",null,null,null,null,{"$f":"IFERROR(VLOOKUP(IF(C2034=\"\",B2034&\"||\"&B2034,C2034&\"||\"&B2034),Worktags!AR:AV,5,FALSE),\"\")","v":""}]
["",null,null,null,null,{"$f":"IFERROR(VLOOKUP(IF(C2035=\"\",B2035&\"||\"&B2035,C2035&\"||\"&B2035),Worktags!AR:AV,5,FALSE),\"\")","v":""}]
["",null,null,null,null,{"$f":"IFERROR(VLOOKUP(IF(C2036=\"\",B2036&\"||\"&B2036,C2036&\"||\"&B2036),Worktags!AR:AV,5,FALSE),\"\")","v":""}]
["",null,null,null,null,{"$f":"IFERROR(VLOOKUP(IF(C2037=\"\",B2037&\"||\"&B2037,C2037&\"||\"&B2037),Worktags!AR:AV,5,FALSE),\"\")","v":""}]
["",null,null,null,null,{"$f":"IFERROR(VLOOKUP(IF(C2038=\"\",B2038&\"||\"&B2038,C2038&\"||\"&B2038),Worktags!AR:AV,5,FALSE),\"\")","v":""}]
["",null,null,null,null,{"$f":"IFERROR(VLOOKUP(IF(C2039=\"\",B2039&\"||\"&B2039,C2039&\"||\"&B2039),Worktags!AR:AV,5,FALSE),\"\")","v":""}]
["",null,null,null,null,{"$f":"IFERROR(VLOOKUP(IF(C2040=\"\",B2040&\"||\"&B2040,C2040&\"||\"&B2040),Worktags!AR:AV,5,FALSE),\"\")","v":""}]
["",null,null,null,null,{"$f":"IFERROR(VLOOKUP(IF(C2041=\"\",B2041&\"||\"&B2041,C2041&\"||\"&B2041),Worktags!AR:AV,5,FALSE),\"\")","v":""}]
["",null,null,null,null,{"$f":"IFERROR(VLOOKUP(IF(C2042=\"\",B2042&\"||\"&B2042,C2042&\"||\"&B2042),Worktags!AR:AV,5,FALSE),\"\")","v":""}]
["",null,null,null,null,{"$f":"IFERROR(VLOOKUP(IF(C2043=\"\",B2043&\"||\"&B2043,C2043&\"||\"&B2043),Worktags!AR:AV,5,FALSE),\"\")","v":""}]
["",null,null,null,null,{"$f":"IFERROR(VLOOKUP(IF(C2044=\"\",B2044&\"||\"&B2044,C2044&\"||\"&B2044),Worktags!AR:AV,5,FALSE),\"\")","v":""}]
["",null,null,null,null,{"$f":"IFERROR(VLOOKUP(IF(C2045=\"\",B2045&\"||\"&B2045,C2045&\"||\"&B2045),Worktags!AR:AV,5,FALSE),\"\")","v":""}]
["",null,null,null,null,{"$f":"IFERROR(VLOOKUP(IF(C2046=\"\",B2046&\"||\"&B2046,C2046&\"||\"&B2046),Worktags!AR:AV,5,FALSE),\"\")","v":""}]
["",null,null,null,null,{"$f":"IFERROR(VLOOKUP(IF(C2047=\"\",B2047&\"||\"&B2047,C2047&\"||\"&B2047),Worktags!AR:AV,5,FALSE),\"\")","v":""}]
["",null,null,null,null,{"$f":"IFERROR(VLOOKUP(IF(C2048=\"\",B2048&\"||\"&B2048,C2048&\"||\"&B2048),Worktags!AR:AV,5,FALSE),\"\")","v":""}]
["",null,null,null,null,{"$f":"IFERROR(VLOOKUP(IF(C2049=\"\",B2049&\"||\"&B2049,C2049&\"||\"&B2049),Worktags!AR:AV,5,FALSE),\"\")","v":""}]
[{"$f":"IF(B2050<>\"\",IF(C2050<>\"\",B2050&\"_\"&C2050&\" \"&D2050&\"/\"&E2050,B2050&\" \"&D2050),\"\")","v":""},null,null,null,null,{"$f":"IFERROR(VLOOKUP(IF(C2050=\"\",B2050&\"||\"&B2050,C2050&\"||\"&B2050),Worktags!AR:AV,5,FALSE),\"\")","v":""}]
["",null,null,null,null,{"$f":"IFERROR(VLOOKUP(IF(C2051=\"\",B2051&\"||\"&B2051,C2051&\"||\"&B2051),Worktags!AR:AV,5,FALSE),\"\")","v":""}]
["",null,null,null,null,{"$f":"IFERROR(VLOOKUP(IF(C2052=\"\",B2052&\"||\"&B2052,C2052&\"||\"&B2052),Worktags!AR:AV,5,FALSE),\"\")","v":""}]
["",null,null,null,null,{"$f":"IFERROR(VLOOKUP(IF(C2053=\"\",B2053&\"||\"&B2053,C2053&\"||\"&B2053),Worktags!AR:AV,5,FALSE),\"\")","v":""}]
["",null,null,null,null,{"$f":"IFERROR(VLOOKUP(IF(C2054=\"\",B2054&\"||\"&B2054,C2054&\"||\"&B2054),Worktags!AR:AV,5,FALSE),\"\")","v":""}]
["",null,null,null,null,{"$f":"IFERROR(VLOOKUP(IF(C2055=\"\",B2055&\"||\"&B2055,C2055&\"||\"&B2055),Worktags!AR:AV,5,FALSE),\"\")","v":""}]
["",null,null,null,null,{"$f":"IFERROR(VLOOKUP(IF(C2056=\"\",B2056&\"||\"&B2056,C2056&\"||\"&B2056),Worktags!AR:AV,5,FALSE),\"\")","v":""}]
["",null,null,null,null,{"$f":"IFERROR(VLOOKUP(IF(C2057=\"\",B2057&\"||\"&B2057,C2057&\"||\"&B2057),Worktags!AR:AV,5,FALSE),\"\")","v":""}]
["",null,null,null,null,{"$f":"IFERROR(VLOOKUP(IF(C2058=\"\",B2058&\"||\"&B2058,C2058&\"||\"&B2058),Worktags!AR:AV,5,FALSE),\"\")","v":""}]
["",null,null,null,null,{"$f":"IFERROR(VLOOKUP(IF(C2059=\"\",B2059&\"||\"&B2059,C2059&\"||\"&B2059),Worktags!AR:AV,5,FALSE),\"\")","v":""}]
["",null,null,null,null,{"$f":"IFERROR(VLOOKUP(IF(C2060=\"\",B2060&\"||\"&B2060,C2060&\"||\"&B2060),Worktags!AR:AV,5,FALSE),\"\")","v":""}]
["",null,null,null,null,{"$f":"IFERROR(VLOOKUP(IF(C2061=\"\",B2061&\"||\"&B2061,C2061&\"||\"&B2061),Worktags!AR:AV,5,FALSE),\"\")","v":""}]
["",null,null,null,null,{"$f":"IFERROR(VLOOKUP(IF(C2062=\"\",B2062&\"||\"&B2062,C2062&\"||\"&B2062),Worktags!AR:AV,5,FALSE),\"\")","v":""}]
["",null,null,null,null,{"$f":"IFERROR(VLOOKUP(IF(C2063=\"\",B2063&\"||\"&B2063,C2063&\"||\"&B2063),Worktags!AR:AV,5,FALSE),\"\")","v":""}]
["",null,null,null,null,{"$f":"IFERROR(VLOOKUP(IF(C2064=\"\",B2064&\"||\"&B2064,C2064&\"||\"&B2064),Worktags!AR:AV,5,FALSE),\"\")","v":""}]
["",null,null,null,null,{"$f":"IFERROR(VLOOKUP(IF(C2065=\"\",B2065&\"||\"&B2065,C2065&\"||\"&B2065),Worktags!AR:AV,5,FALSE),\"\")","v":""}]
["",null,null,null,null,{"$f":"IFERROR(VLOOKUP(IF(C2066=\"\",B2066&\"||\"&B2066,C2066&\"||\"&B2066),Worktags!AR:AV,5,FALSE),\"\")","v":""}]
["",null,null,null,null,{"$f":"IFERROR(VLOOKUP(IF(C2067=\"\",B2067&\"||\"&B2067,C2067&\"||\"&B2067),Worktags!AR:AV,5,FALSE),\"\")","v":""}]
["",null,null,null,null,{"$f":"IFERROR(VLOOKUP(IF(C2068=\"\",B2068&\"||\"&B2068,C2068&\"||\"&B2068),Worktags!AR:AV,5,FALSE),\"\")","v":""}]
["",null,null,null,null,{"$f":"IFERROR(VLOOKUP(IF(C2069=\"\",B2069&\"||\"&B2069,C2069&\"||\"&B2069),Worktags!AR:AV,5,FALSE),\"\")","v":""}]
["",null,null,null,null,{"$f":"IFERROR(VLOOKUP(IF(C2070=\"\",B2070&\"||\"&B2070,C2070&\"||\"&B2070),Worktags!AR:AV,5,FALSE),\"\")","v":""}]
["",null,null,null,null,{"$f":"IFERROR(VLOOKUP(IF(C2071=\"\",B2071&\"||\"&B2071,C2071&\"||\"&B2071),Worktags!AR:AV,5,FALSE),\"\")","v":""}]
["",null,null,null,null,{"$f":"IFERROR(VLOOKUP(IF(C2072=\"\",B2072&\"||\"&B2072,C2072&\"||\"&B2072),Worktags!AR:AV,5,FALSE),\"\")","v":""}]
["",null,null,null,null,{"$f":"IFERROR(VLOOKUP(IF(C2073=\"\",B2073&\"||\"&B2073,C2073&\"||\"&B2073),Worktags!AR:AV,5,FALSE),\"\")","v":""}]
["",null,null,null,null,{"$f":"IFERROR(VLOOKUP(IF(C2074=\"\",B2074&\"||\"&B2074,C2074&\"||\"&B2074),Worktags!AR:AV,5,FALSE),\"\")","v":""}]
["",null,null,null,null,{"$f":"IFERROR(VLOOKUP(IF(C2075=\"\",B2075&\"||\"&B2075,C2075&\"||\"&B2075),Worktags!AR:AV,5,FALSE),\"\")","v":""}]
["",null,null,null,null,{"$f":"IFERROR(VLOOKUP(IF(C2076=\"\",B2076&\"||\"&B2076,C2076&\"||\"&B2076),Worktags!AR:AV,5,FALSE),\"\")","v":""}]
["",null,null,null,null,{"$f":"IFERROR(VLOOKUP(IF(C2077=\"\",B2077&\"||\"&B2077,C2077&\"||\"&B2077),Worktags!AR:AV,5,FALSE),\"\")","v":""}]
["",null,null,null,null,{"$f":"IFERROR(VLOOKUP(IF(C2078=\"\",B2078&\"||\"&B2078,C2078&\"||\"&B2078),Worktags!AR:AV,5,FALSE),\"\")","v":""}]
["",null,null,null,null,{"$f":"IFERROR(VLOOKUP(IF(C2079=\"\",B2079&\"||\"&B2079,C2079&\"||\"&B2079),Worktags!AR:AV,5,FALSE),\"\")","v":""}]
["",null,null,null,null,{"$f":"IFERROR(VLOOKUP(IF(C2080=\"\",B2080&\"||\"&B2080,C2080&\"||\"&B2080),Worktags!AR:AV,5,FALSE),\"\")","v":""}]
["",null,null,null,null,{"$f":"IFERROR(VLOOKUP(IF(C2081=\"\",B2081&\"||\"&B2081,C2081&\"||\"&B2081),Worktags!AR:AV,5,FALSE),\"\")","v":""}]
["",null,null,null,null,{"$f":"IFERROR(VLOOKUP(IF(C2082=\"\",B2082&\"||\"&B2082,C2082&\"||\"&B2082),Worktags!AR:AV,5,FALSE),\"\")","v":""}]
["",null,null,null,null,{"$f":"IFERROR(VLOOKUP(IF(C2083=\"\",B2083&\"||\"&B2083,C2083&\"||\"&B2083),Worktags!AR:AV,5,FALSE),\"\")","v":""}]
["",null,null,null,null,{"$f":"IFERROR(VLOOKUP(IF(C2084=\"\",B2084&\"||\"&B2084,C2084&\"||\"&B2084),Worktags!AR:AV,5,FALSE),\"\")","v":""}]
["",null,null,null,null,{"$f":"IFERROR(VLOOKUP(IF(C2085=\"\",B2085&\"||\"&B2085,C2085&\"||\"&B2085),Worktags!AR:AV,5,FALSE),\"\")","v":""}]
["",null,null,null,null,{"$f":"IFERROR(VLOOKUP(IF(C2086=\"\",B2086&\"||\"&B2086,C2086&\"||\"&B2086),Worktags!AR:AV,5,FALSE),\"\")","v":""}]
["",null,null,null,null,{"$f":"IFERROR(VLOOKUP(IF(C2087=\"\",B2087&\"||\"&B2087,C2087&\"||\"&B2087),Worktags!AR:AV,5,FALSE),\"\")","v":""}]
["",null,null,null,null,{"$f":"IFERROR(VLOOKUP(IF(C2088=\"\",B2088&\"||\"&B2088,C2088&\"||\"&B2088),Worktags!AR:AV,5,FALSE),\"\")","v":""}]
["",null,null,null,null,{"$f":"IFERROR(VLOOKUP(IF(C2089=\"\",B2089&\"||\"&B2089,C2089&\"||\"&B2089),Worktags!AR:AV,5,FALSE),\"\")","v":""}]
["",null,null,null,null,{"$f":"IFERROR(VLOOKUP(IF(C2090=\"\",B2090&\"||\"&B2090,C2090&\"||\"&B2090),Worktags!AR:AV,5,FALSE),\"\")","v":""}]
["",null,null,null,null,{"$f":"IFERROR(VLOOKUP(IF(C2091=\"\",B2091&\"||\"&B2091,C2091&\"||\"&B2091),Worktags!AR:AV,5,FALSE),\"\")","v":""}]
["",null,null,null,null,{"$f":"IFERROR(VLOOKUP(IF(C2092=\"\",B2092&\"||\"&B2092,C2092&\"||\"&B2092),Worktags!AR:AV,5,FALSE),\"\")","v":""}]
["",null,null,null,null,{"$f":"IFERROR(VLOOKUP(IF(C2093=\"\",B2093&\"||\"&B2093,C2093&\"||\"&B2093),Worktags!AR:AV,5,FALSE),\"\")","v":""}]
["",null,null,null,null,{"$f":"IFERROR(VLOOKUP(IF(C2094=\"\",B2094&\"||\"&B2094,C2094&\"||\"&B2094),Worktags!AR:AV,5,FALSE),\"\")","v":""}]
["",null,null,null,null,{"$f":"IFERROR(VLOOKUP(IF(C2095=\"\",B2095&\"||\"&B2095,C2095&\"||\"&B2095),Worktags!AR:AV,5,FALSE),\"\")","v":""}]
["",null,null,null,null,{"$f":"IFERROR(VLOOKUP(IF(C2096=\"\",B2096&\"||\"&B2096,C2096&\"||\"&B2096),Worktags!AR:AV,5,FALSE),\"\")","v":""}]
["",null,null,null,null,{"$f":"IFERROR(VLOOKUP(IF(C2097=\"\",B2097&\"||\"&B2097,C2097&\"||\"&B2097),Worktags!AR:AV,5,FALSE),\"\")","v":""}]
["",null,null,null,null,{"$f":"IFERROR(VLOOKUP(IF(C2098=\"\",B2098&\"||\"&B2098,C2098&\"||\"&B2098),Worktags!AR:AV,5,FALSE),\"\")","v":""}]
["",null,null,null,null,{"$f":"IFERROR(VLOOKUP(IF(C2099=\"\",B2099&\"||\"&B2099,C2099&\"||\"&B2099),Worktags!AR:AV,5,FALSE),\"\")","v":""}]
["",null,null,null,null,{"$f":"IFERROR(VLOOKUP(IF(C2100=\"\",B2100&\"||\"&B2100,C2100&\"||\"&B2100),Worktags!AR:AV,5,FALSE),\"\")","v":""}]
["",null,null,null,null,{"$f":"IFERROR(VLOOKUP(IF(C2101=\"\",B2101&\"||\"&B2101,C2101&\"||\"&B2101),Worktags!AR:AV,5,FALSE),\"\")","v":""}]
["",null,null,null,null,{"$f":"IFERROR(VLOOKUP(IF(C2102=\"\",B2102&\"||\"&B2102,C2102&\"||\"&B2102),Worktags!AR:AV,5,FALSE),\"\")","v":""}]
["",null,null,null,null,{"$f":"IFERROR(VLOOKUP(IF(C2103=\"\",B2103&\"||\"&B2103,C2103&\"||\"&B2103),Worktags!AR:AV,5,FALSE),\"\")","v":""}]
["",null,null,null,null,{"$f":"IFERROR(VLOOKUP(IF(C2104=\"\",B2104&\"||\"&B2104,C2104&\"||\"&B2104),Worktags!AR:AV,5,FALSE),\"\")","v":""}]
["",null,null,null,null,{"$f":"IFERROR(VLOOKUP(IF(C2105=\"\",B2105&\"||\"&B2105,C2105&\"||\"&B2105),Worktags!AR:AV,5,FALSE),\"\")","v":""}]
["",null,null,null,null,{"$f":"IFERROR(VLOOKUP(IF(C2106=\"\",B2106&\"||\"&B2106,C2106&\"||\"&B2106),Worktags!AR:AV,5,FALSE),\"\")","v":""}]
["",null,null,null,null,{"$f":"IFERROR(VLOOKUP(IF(C2107=\"\",B2107&\"||\"&B2107,C2107&\"||\"&B2107),Worktags!AR:AV,5,FALSE),\"\")","v":""}]
["",null,null,null,null,{"$f":"IFERROR(VLOOKUP(IF(C2108=\"\",B2108&\"||\"&B2108,C2108&\"||\"&B2108),Worktags!AR:AV,5,FALSE),\"\")","v":""}]
["",null,null,null,null,{"$f":"IFERROR(VLOOKUP(IF(C2109=\"\",B2109&\"||\"&B2109,C2109&\"||\"&B2109),Worktags!AR:AV,5,FALSE),\"\")","v":""}]
["",null,null,null,null,{"$f":"IFERROR(VLOOKUP(IF(C2110=\"\",B2110&\"||\"&B2110,C2110&\"||\"&B2110),Worktags!AR:AV,5,FALSE),\"\")","v":""}]
["",null,null,null,null,{"$f":"IFERROR(VLOOKUP(IF(C2111=\"\",B2111&\"||\"&B2111,C2111&\"||\"&B2111),Worktags!AR:AV,5,FALSE),\"\")","v":""}]
["",null,null,null,null,{"$f":"IFERROR(VLOOKUP(IF(C2112=\"\",B2112&\"||\"&B2112,C2112&\"||\"&B2112),Worktags!AR:AV,5,FALSE),\"\")","v":""}]
["",null,null,null,null,{"$f":"IFERROR(VLOOKUP(IF(C2113=\"\",B2113&\"||\"&B2113,C2113&\"||\"&B2113),Worktags!AR:AV,5,FALSE),\"\")","v":""}]
[{"$f":"IF(B2114<>\"\",IF(C2114<>\"\",B2114&\"_\"&C2114&\" \"&D2114&\"/\"&E2114,B2114&\" \"&D2114),\"\")","v":""},null,null,null,null,{"$f":"IFERROR(VLOOKUP(IF(C2114=\"\",B2114&\"||\"&B2114,C2114&\"||\"&B2114),Worktags!AR:AV,5,FALSE),\"\")","v":""}]
["",null,null,null,null,{"$f":"IFERROR(VLOOKUP(IF(C2115=\"\",B2115&\"||\"&B2115,C2115&\"||\"&B2115),Worktags!AR:AV,5,FALSE),\"\")","v":""}]
["",null,null,null,null,{"$f":"IFERROR(VLOOKUP(IF(C2116=\"\",B2116&\"||\"&B2116,C2116&\"||\"&B2116),Worktags!AR:AV,5,FALSE),\"\")","v":""}]
["",null,null,null,null,{"$f":"IFERROR(VLOOKUP(IF(C2117=\"\",B2117&\"||\"&B2117,C2117&\"||\"&B2117),Worktags!AR:AV,5,FALSE),\"\")","v":""}]
["",null,null,null,null,{"$f":"IFERROR(VLOOKUP(IF(C2118=\"\",B2118&\"||\"&B2118,C2118&\"||\"&B2118),Worktags!AR:AV,5,FALSE),\"\")","v":""}]
["",null,null,null,null,{"$f":"IFERROR(VLOOKUP(IF(C2119=\"\",B2119&\"||\"&B2119,C2119&\"||\"&B2119),Worktags!AR:AV,5,FALSE),\"\")","v":""}]
["",null,null,null,null,{"$f":"IFERROR(VLOOKUP(IF(C2120=\"\",B2120&\"||\"&B2120,C2120&\"||\"&B2120),Worktags!AR:AV,5,FALSE),\"\")","v":""}]
["",null,null,null,null,{"$f":"IFERROR(VLOOKUP(IF(C2121=\"\",B2121&\"||\"&B2121,C2121&\"||\"&B2121),Worktags!AR:AV,5,FALSE),\"\")","v":""}]
["",null,null,null,null,{"$f":"IFERROR(VLOOKUP(IF(C2122=\"\",B2122&\"||\"&B2122,C2122&\"||\"&B2122),Worktags!AR:AV,5,FALSE),\"\")","v":""}]
["",null,null,null,null,{"$f":"IFERROR(VLOOKUP(IF(C2123=\"\",B2123&\"||\"&B2123,C2123&\"||\"&B2123),Worktags!AR:AV,5,FALSE),\"\")","v":""}]
["",null,null,null,null,{"$f":"IFERROR(VLOOKUP(IF(C2124=\"\",B2124&\"||\"&B2124,C2124&\"||\"&B2124),Worktags!AR:AV,5,FALSE),\"\")","v":""}]
["",null,null,null,null,{"$f":"IFERROR(VLOOKUP(IF(C2125=\"\",B2125&\"||\"&B2125,C2125&\"||\"&B2125),Worktags!AR:AV,5,FALSE),\"\")","v":""}]
["",null,null,null,null,{"$f":"IFERROR(VLOOKUP(IF(C2126=\"\",B2126&\"||\"&B2126,C2126&\"||\"&B2126),Worktags!AR:AV,5,FALSE),\"\")","v":""}]
["",null,null,null,null,{"$f":"IFERROR(VLOOKUP(IF(C2127=\"\",B2127&\"||\"&B2127,C2127&\"||\"&B2127),Worktags!AR:AV,5,FALSE),\"\")","v":""}]
["",null,null,null,null,{"$f":"IFERROR(VLOOKUP(IF(C2128=\"\",B2128&\"||\"&B2128,C2128&\"||\"&B2128),Worktags!AR:AV,5,FALSE),\"\")","v":""}]
["",null,null,null,null,{"$f":"IFERROR(VLOOKUP(IF(C2129=\"\",B2129&\"||\"&B2129,C2129&\"||\"&B2129),Worktags!AR:AV,5,FALSE),\"\")","v":""}]
["",null,null,null,null,{"$f":"IFERROR(VLOOKUP(IF(C2130=\"\",B2130&\"||\"&B2130,C2130&\"||\"&B2130),Worktags!AR:AV,5,FALSE),\"\")","v":""}]
["",null,null,null,null,{"$f":"IFERROR(VLOOKUP(IF(C2131=\"\",B2131&\"||\"&B2131,C2131&\"||\"&B2131),Worktags!AR:AV,5,FALSE),\"\")","v":""}]
["",null,null,null,null,{"$f":"IFERROR(VLOOKUP(IF(C2132=\"\",B2132&\"||\"&B2132,C2132&\"||\"&B2132),Worktags!AR:AV,5,FALSE),\"\")","v":""}]
["",null,null,null,null,{"$f":"IFERROR(VLOOKUP(IF(C2133=\"\",B2133&\"||\"&B2133,C2133&\"||\"&B2133),Worktags!AR:AV,5,FALSE),\"\")","v":""}]
["",null,null,null,null,{"$f":"IFERROR(VLOOKUP(IF(C2134=\"\",B2134&\"||\"&B2134,C2134&\"||\"&B2134),Worktags!AR:AV,5,FALSE),\"\")","v":""}]
["",null,null,null,null,{"$f":"IFERROR(VLOOKUP(IF(C2135=\"\",B2135&\"||\"&B2135,C2135&\"||\"&B2135),Worktags!AR:AV,5,FALSE),\"\")","v":""}]
["",null,null,null,null,{"$f":"IFERROR(VLOOKUP(IF(C2136=\"\",B2136&\"||\"&B2136,C2136&\"||\"&B2136),Worktags!AR:AV,5,FALSE),\"\")","v":""}]
["",null,null,null,null,{"$f":"IFERROR(VLOOKUP(IF(C2137=\"\",B2137&\"||\"&B2137,C2137&\"||\"&B2137),Worktags!AR:AV,5,FALSE),\"\")","v":""}]
["",null,null,null,null,{"$f":"IFERROR(VLOOKUP(IF(C2138=\"\",B2138&\"||\"&B2138,C2138&\"||\"&B2138),Worktags!AR:AV,5,FALSE),\"\")","v":""}]
["",null,null,null,null,{"$f":"IFERROR(VLOOKUP(IF(C2139=\"\",B2139&\"||\"&B2139,C2139&\"||\"&B2139),Worktags!AR:AV,5,FALSE),\"\")","v":""}]
["",null,null,null,null,{"$f":"IFERROR(VLOOKUP(IF(C2140=\"\",B2140&\"||\"&B2140,C2140&\"||\"&B2140),Worktags!AR:AV,5,FALSE),\"\")","v":""}]
["",null,null,null,null,{"$f":"IFERROR(VLOOKUP(IF(C2141=\"\",B2141&\"||\"&B2141,C2141&\"||\"&B2141),Worktags!AR:AV,5,FALSE),\"\")","v":""}]
["",null,null,null,null,{"$f":"IFERROR(VLOOKUP(IF(C2142=\"\",B2142&\"||\"&B2142,C2142&\"||\"&B2142),Worktags!AR:AV,5,FALSE),\"\")","v":""}]
["",null,null,null,null,{"$f":"IFERROR(VLOOKUP(IF(C2143=\"\",B2143&\"||\"&B2143,C2143&\"||\"&B2143),Worktags!AR:AV,5,FALSE),\"\")","v":""}]
["",null,null,null,null,{"$f":"IFERROR(VLOOKUP(IF(C2144=\"\",B2144&\"||\"&B2144,C2144&\"||\"&B2144),Worktags!AR:AV,5,FALSE),\"\")","v":""}]
["",null,null,null,null,{"$f":"IFERROR(VLOOKUP(IF(C2145=\"\",B2145&\"||\"&B2145,C2145&\"||\"&B2145),Worktags!AR:AV,5,FALSE),\"\")","v":""}]
["",null,null,null,null,{"$f":"IFERROR(VLOOKUP(IF(C2146=\"\",B2146&\"||\"&B2146,C2146&\"||\"&B2146),Worktags!AR:AV,5,FALSE),\"\")","v":""}]
["",null,null,null,null,{"$f":"IFERROR(VLOOKUP(IF(C2147=\"\",B2147&\"||\"&B2147,C2147&\"||\"&B2147),Worktags!AR:AV,5,FALSE),\"\")","v":""}]
["",null,null,null,null,{"$f":"IFERROR(VLOOKUP(IF(C2148=\"\",B2148&\"||\"&B2148,C2148&\"||\"&B2148),Worktags!AR:AV,5,FALSE),\"\")","v":""}]
["",null,null,null,null,{"$f":"IFERROR(VLOOKUP(IF(C2149=\"\",B2149&\"||\"&B2149,C2149&\"||\"&B2149),Worktags!AR:AV,5,FALSE),\"\")","v":""}]
["",null,null,null,null,{"$f":"IFERROR(VLOOKUP(IF(C2150=\"\",B2150&\"||\"&B2150,C2150&\"||\"&B2150),Worktags!AR:AV,5,FALSE),\"\")","v":""}]
["",null,null,null,null,{"$f":"IFERROR(VLOOKUP(IF(C2151=\"\",B2151&\"||\"&B2151,C2151&\"||\"&B2151),Worktags!AR:AV,5,FALSE),\"\")","v":""}]
["",null,null,null,null,{"$f":"IFERROR(VLOOKUP(IF(C2152=\"\",B2152&\"||\"&B2152,C2152&\"||\"&B2152),Worktags!AR:AV,5,FALSE),\"\")","v":""}]
["",null,null,null,null,{"$f":"IFERROR(VLOOKUP(IF(C2153=\"\",B2153&\"||\"&B2153,C2153&\"||\"&B2153),Worktags!AR:AV,5,FALSE),\"\")","v":""}]
["",null,null,null,null,{"$f":"IFERROR(VLOOKUP(IF(C2154=\"\",B2154&\"||\"&B2154,C2154&\"||\"&B2154),Worktags!AR:AV,5,FALSE),\"\")","v":""}]
["",null,null,null,null,{"$f":"IFERROR(VLOOKUP(IF(C2155=\"\",B2155&\"||\"&B2155,C2155&\"||\"&B2155),Worktags!AR:AV,5,FALSE),\"\")","v":""}]
["",null,null,null,null,{"$f":"IFERROR(VLOOKUP(IF(C2156=\"\",B2156&\"||\"&B2156,C2156&\"||\"&B2156),Worktags!AR:AV,5,FALSE),\"\")","v":""}]
["",null,null,null,null,{"$f":"IFERROR(VLOOKUP(IF(C2157=\"\",B2157&\"||\"&B2157,C2157&\"||\"&B2157),Worktags!AR:AV,5,FALSE),\"\")","v":""}]
["",null,null,null,null,{"$f":"IFERROR(VLOOKUP(IF(C2158=\"\",B2158&\"||\"&B2158,C2158&\"||\"&B2158),Worktags!AR:AV,5,FALSE),\"\")","v":""}]
["",null,null,null,null,{"$f":"IFERROR(VLOOKUP(IF(C2159=\"\",B2159&\"||\"&B2159,C2159&\"||\"&B2159),Worktags!AR:AV,5,FALSE),\"\")","v":""}]
["",null,null,null,null,{"$f":"IFERROR(VLOOKUP(IF(C2160=\"\",B2160&\"||\"&B2160,C2160&\"||\"&B2160),Worktags!AR:AV,5,FALSE),\"\")","v":""}]
["",null,null,null,null,{"$f":"IFERROR(VLOOKUP(IF(C2161=\"\",B2161&\"||\"&B2161,C2161&\"||\"&B2161),Worktags!AR:AV,5,FALSE),\"\")","v":""}]
["",null,null,null,null,{"$f":"IFERROR(VLOOKUP(IF(C2162=\"\",B2162&\"||\"&B2162,C2162&\"||\"&B2162),Worktags!AR:AV,5,FALSE),\"\")","v":""}]
["",null,null,null,null,{"$f":"IFERROR(VLOOKUP(IF(C2163=\"\",B2163&\"||\"&B2163,C2163&\"||\"&B2163),Worktags!AR:AV,5,FALSE),\"\")","v":""}]
["",null,null,null,null,{"$f":"IFERROR(VLOOKUP(IF(C2164=\"\",B2164&\"||\"&B2164,C2164&\"||\"&B2164),Worktags!AR:AV,5,FALSE),\"\")","v":""}]
["",null,null,null,null,{"$f":"IFERROR(VLOOKUP(IF(C2165=\"\",B2165&\"||\"&B2165,C2165&\"||\"&B2165),Worktags!AR:AV,5,FALSE),\"\")","v":""}]
["",null,null,null,null,{"$f":"IFERROR(VLOOKUP(IF(C2166=\"\",B2166&\"||\"&B2166,C2166&\"||\"&B2166),Worktags!AR:AV,5,FALSE),\"\")","v":""}]
["",null,null,null,null,{"$f":"IFERROR(VLOOKUP(IF(C2167=\"\",B2167&\"||\"&B2167,C2167&\"||\"&B2167),Worktags!AR:AV,5,FALSE),\"\")","v":""}]
["",null,null,null,null,{"$f":"IFERROR(VLOOKUP(IF(C2168=\"\",B2168&\"||\"&B2168,C2168&\"||\"&B2168),Worktags!AR:AV,5,FALSE),\"\")","v":""}]
["",null,null,null,null,{"$f":"IFERROR(VLOOKUP(IF(C2169=\"\",B2169&\"||\"&B2169,C2169&\"||\"&B2169),Worktags!AR:AV,5,FALSE),\"\")","v":""}]
["",null,null,null,null,{"$f":"IFERROR(VLOOKUP(IF(C2170=\"\",B2170&\"||\"&B2170,C2170&\"||\"&B2170),Worktags!AR:AV,5,FALSE),\"\")","v":""}]
["",null,null,null,null,{"$f":"IFERROR(VLOOKUP(IF(C2171=\"\",B2171&\"||\"&B2171,C2171&\"||\"&B2171),Worktags!AR:AV,5,FALSE),\"\")","v":""}]
["",null,null,null,null,{"$f":"IFERROR(VLOOKUP(IF(C2172=\"\",B2172&\"||\"&B2172,C2172&\"||\"&B2172),Worktags!AR:AV,5,FALSE),\"\")","v":""}]
["",null,null,null,null,{"$f":"IFERROR(VLOOKUP(IF(C2173=\"\",B2173&\"||\"&B2173,C2173&\"||\"&B2173),Worktags!AR:AV,5,FALSE),\"\")","v":""}]
["",null,null,null,null,{"$f":"IFERROR(VLOOKUP(IF(C2174=\"\",B2174&\"||\"&B2174,C2174&\"||\"&B2174),Worktags!AR:AV,5,FALSE),\"\")","v":""}]
["",null,null,null,null,{"$f":"IFERROR(VLOOKUP(IF(C2175=\"\",B2175&\"||\"&B2175,C2175&\"||\"&B2175),Worktags!AR:AV,5,FALSE),\"\")","v":""}]
["",null,null,null,null,{"$f":"IFERROR(VLOOKUP(IF(C2176=\"\",B2176&\"||\"&B2176,C2176&\"||\"&B2176),Worktags!AR:AV,5,FALSE),\"\")","v":""}]
["",null,null,null,null,{"$f":"IFERROR(VLOOKUP(IF(C2177=\"\",B2177&\"||\"&B2177,C2177&\"||\"&B2177),Worktags!AR:AV,5,FALSE),\"\")","v":""}]
[{"$f":"IF(B2178<>\"\",IF(C2178<>\"\",B2178&\"_\"&C2178&\" \"&D2178&\"/\"&E2178,B2178&\" \"&D2178),\"\")","v":""},null,null,null,null,{"$f":"IFERROR(VLOOKUP(IF(C2178=\"\",B2178&\"||\"&B2178,C2178&\"||\"&B2178),Worktags!AR:AV,5,FALSE),\"\")","v":""}]
["",null,null,null,null,{"$f":"IFERROR(VLOOKUP(IF(C2179=\"\",B2179&\"||\"&B2179,C2179&\"||\"&B2179),Worktags!AR:AV,5,FALSE),\"\")","v":""}]
["",null,null,null,null,{"$f":"IFERROR(VLOOKUP(IF(C2180=\"\",B2180&\"||\"&B2180,C2180&\"||\"&B2180),Worktags!AR:AV,5,FALSE),\"\")","v":""}]
["",null,null,null,null,{"$f":"IFERROR(VLOOKUP(IF(C2181=\"\",B2181&\"||\"&B2181,C2181&\"||\"&B2181),Worktags!AR:AV,5,FALSE),\"\")","v":""}]
["",null,null,null,null,{"$f":"IFERROR(VLOOKUP(IF(C2182=\"\",B2182&\"||\"&B2182,C2182&\"||\"&B2182),Worktags!AR:AV,5,FALSE),\"\")","v":""}]
["",null,null,null,null,{"$f":"IFERROR(VLOOKUP(IF(C2183=\"\",B2183&\"||\"&B2183,C2183&\"||\"&B2183),Worktags!AR:AV,5,FALSE),\"\")","v":""}]
["",null,null,null,null,{"$f":"IFERROR(VLOOKUP(IF(C2184=\"\",B2184&\"||\"&B2184,C2184&\"||\"&B2184),Worktags!AR:AV,5,FALSE),\"\")","v":""}]
["",null,null,null,null,{"$f":"IFERROR(VLOOKUP(IF(C2185=\"\",B2185&\"||\"&B2185,C2185&\"||\"&B2185),Worktags!AR:AV,5,FALSE),\"\")","v":""}]
["",null,null,null,null,{"$f":"IFERROR(VLOOKUP(IF(C2186=\"\",B2186&\"||\"&B2186,C2186&\"||\"&B2186),Worktags!AR:AV,5,FALSE),\"\")","v":""}]
["",null,null,null,null,{"$f":"IFERROR(VLOOKUP(IF(C2187=\"\",B2187&\"||\"&B2187,C2187&\"||\"&B2187),Worktags!AR:AV,5,FALSE),\"\")","v":""}]
["",null,null,null,null,{"$f":"IFERROR(VLOOKUP(IF(C2188=\"\",B2188&\"||\"&B2188,C2188&\"||\"&B2188),Worktags!AR:AV,5,FALSE),\"\")","v":""}]
["",null,null,null,null,{"$f":"IFERROR(VLOOKUP(IF(C2189=\"\",B2189&\"||\"&B2189,C2189&\"||\"&B2189),Worktags!AR:AV,5,FALSE),\"\")","v":""}]
["",null,null,null,null,{"$f":"IFERROR(VLOOKUP(IF(C2190=\"\",B2190&\"||\"&B2190,C2190&\"||\"&B2190),Worktags!AR:AV,5,FALSE),\"\")","v":""}]
["",null,null,null,null,{"$f":"IFERROR(VLOOKUP(IF(C2191=\"\",B2191&\"||\"&B2191,C2191&\"||\"&B2191),Worktags!AR:AV,5,FALSE),\"\")","v":""}]
["",null,null,null,null,{"$f":"IFERROR(VLOOKUP(IF(C2192=\"\",B2192&\"||\"&B2192,C2192&\"||\"&B2192),Worktags!AR:AV,5,FALSE),\"\")","v":""}]
["",null,null,null,null,{"$f":"IFERROR(VLOOKUP(IF(C2193=\"\",B2193&\"||\"&B2193,C2193&\"||\"&B2193),Worktags!AR:AV,5,FALSE),\"\")","v":""}]
["",null,null,null,null,{"$f":"IFERROR(VLOOKUP(IF(C2194=\"\",B2194&\"||\"&B2194,C2194&\"||\"&B2194),Worktags!AR:AV,5,FALSE),\"\")","v":""}]
["",null,null,null,null,{"$f":"IFERROR(VLOOKUP(IF(C2195=\"\",B2195&\"||\"&B2195,C2195&\"||\"&B2195),Worktags!AR:AV,5,FALSE),\"\")","v":""}]
["",null,null,null,null,{"$f":"IFERROR(VLOOKUP(IF(C2196=\"\",B2196&\"||\"&B2196,C2196&\"||\"&B2196),Worktags!AR:AV,5,FALSE),\"\")","v":""}]
["",null,null,null,null,{"$f":"IFERROR(VLOOKUP(IF(C2197=\"\",B2197&\"||\"&B2197,C2197&\"||\"&B2197),Worktags!AR:AV,5,FALSE),\"\")","v":""}]
["",null,null,null,null,{"$f":"IFERROR(VLOOKUP(IF(C2198=\"\",B2198&\"||\"&B2198,C2198&\"||\"&B2198),Worktags!AR:AV,5,FALSE),\"\")","v":""}]
["",null,null,null,null,{"$f":"IFERROR(VLOOKUP(IF(C2199=\"\",B2199&\"||\"&B2199,C2199&\"||\"&B2199),Worktags!AR:AV,5,FALSE),\"\")","v":""}]
["",null,null,null,null,{"$f":"IFERROR(VLOOKUP(IF(C2200=\"\",B2200&\"||\"&B2200,C2200&\"||\"&B2200),Worktags!AR:AV,5,FALSE),\"\")","v":""}]
["",null,null,null,null,{"$f":"IFERROR(VLOOKUP(IF(C2201=\"\",B2201&\"||\"&B2201,C2201&\"||\"&B2201),Worktags!AR:AV,5,FALSE),\"\")","v":""}]
["",null,null,null,null,{"$f":"IFERROR(VLOOKUP(IF(C2202=\"\",B2202&\"||\"&B2202,C2202&\"||\"&B2202),Worktags!AR:AV,5,FALSE),\"\")","v":""}]
["",null,null,null,null,{"$f":"IFERROR(VLOOKUP(IF(C2203=\"\",B2203&\"||\"&B2203,C2203&\"||\"&B2203),Worktags!AR:AV,5,FALSE),\"\")","v":""}]
["",null,null,null,null,{"$f":"IFERROR(VLOOKUP(IF(C2204=\"\",B2204&\"||\"&B2204,C2204&\"||\"&B2204),Worktags!AR:AV,5,FALSE),\"\")","v":""}]
["",null,null,null,null,{"$f":"IFERROR(VLOOKUP(IF(C2205=\"\",B2205&\"||\"&B2205,C2205&\"||\"&B2205),Worktags!AR:AV,5,FALSE),\"\")","v":""}]
["",null,null,null,null,{"$f":"IFERROR(VLOOKUP(IF(C2206=\"\",B2206&\"||\"&B2206,C2206&\"||\"&B2206),Worktags!AR:AV,5,FALSE),\"\")","v":""}]
["",null,null,null,null,{"$f":"IFERROR(VLOOKUP(IF(C2207=\"\",B2207&\"||\"&B2207,C2207&\"||\"&B2207),Worktags!AR:AV,5,FALSE),\"\")","v":""}]
["",null,null,null,null,{"$f":"IFERROR(VLOOKUP(IF(C2208=\"\",B2208&\"||\"&B2208,C2208&\"||\"&B2208),Worktags!AR:AV,5,FALSE),\"\")","v":""}]
["",null,null,null,null,{"$f":"IFERROR(VLOOKUP(IF(C2209=\"\",B2209&\"||\"&B2209,C2209&\"||\"&B2209),Worktags!AR:AV,5,FALSE),\"\")","v":""}]
["",null,null,null,null,{"$f":"IFERROR(VLOOKUP(IF(C2210=\"\",B2210&\"||\"&B2210,C2210&\"||\"&B2210),Worktags!AR:AV,5,FALSE),\"\")","v":""}]
["",null,null,null,null,{"$f":"IFERROR(VLOOKUP(IF(C2211=\"\",B2211&\"||\"&B2211,C2211&\"||\"&B2211),Worktags!AR:AV,5,FALSE),\"\")","v":""}]
["",null,null,null,null,{"$f":"IFERROR(VLOOKUP(IF(C2212=\"\",B2212&\"||\"&B2212,C2212&\"||\"&B2212),Worktags!AR:AV,5,FALSE),\"\")","v":""}]
["",null,null,null,null,{"$f":"IFERROR(VLOOKUP(IF(C2213=\"\",B2213&\"||\"&B2213,C2213&\"||\"&B2213),Worktags!AR:AV,5,FALSE),\"\")","v":""}]
["",null,null,null,null,{"$f":"IFERROR(VLOOKUP(IF(C2214=\"\",B2214&\"||\"&B2214,C2214&\"||\"&B2214),Worktags!AR:AV,5,FALSE),\"\")","v":""}]
["",null,null,null,null,{"$f":"IFERROR(VLOOKUP(IF(C2215=\"\",B2215&\"||\"&B2215,C2215&\"||\"&B2215),Worktags!AR:AV,5,FALSE),\"\")","v":""}]
["",null,null,null,null,{"$f":"IFERROR(VLOOKUP(IF(C2216=\"\",B2216&\"||\"&B2216,C2216&\"||\"&B2216),Worktags!AR:AV,5,FALSE),\"\")","v":""}]
["",null,null,null,null,{"$f":"IFERROR(VLOOKUP(IF(C2217=\"\",B2217&\"||\"&B2217,C2217&\"||\"&B2217),Worktags!AR:AV,5,FALSE),\"\")","v":""}]
["",null,null,null,null,{"$f":"IFERROR(VLOOKUP(IF(C2218=\"\",B2218&\"||\"&B2218,C2218&\"||\"&B2218),Worktags!AR:AV,5,FALSE),\"\")","v":""}]
["",null,null,null,null,{"$f":"IFERROR(VLOOKUP(IF(C2219=\"\",B2219&\"||\"&B2219,C2219&\"||\"&B2219),Worktags!AR:AV,5,FALSE),\"\")","v":""}]
["",null,null,null,null,{"$f":"IFERROR(VLOOKUP(IF(C2220=\"\",B2220&\"||\"&B2220,C2220&\"||\"&B2220),Worktags!AR:AV,5,FALSE),\"\")","v":""}]
["",null,null,null,null,{"$f":"IFERROR(VLOOKUP(IF(C2221=\"\",B2221&\"||\"&B2221,C2221&\"||\"&B2221),Worktags!AR:AV,5,FALSE),\"\")","v":""}]
["",null,null,null,null,{"$f":"IFERROR(VLOOKUP(IF(C2222=\"\",B2222&\"||\"&B2222,C2222&\"||\"&B2222),Worktags!AR:AV,5,FALSE),\"\")","v":""}]
["",null,null,null,null,{"$f":"IFERROR(VLOOKUP(IF(C2223=\"\",B2223&\"||\"&B2223,C2223&\"||\"&B2223),Worktags!AR:AV,5,FALSE),\"\")","v":""}]
["",null,null,null,null,{"$f":"IFERROR(VLOOKUP(IF(C2224=\"\",B2224&\"||\"&B2224,C2224&\"||\"&B2224),Worktags!AR:AV,5,FALSE),\"\")","v":""}]
["",null,null,null,null,{"$f":"IFERROR(VLOOKUP(IF(C2225=\"\",B2225&\"||\"&B2225,C2225&\"||\"&B2225),Worktags!AR:AV,5,FALSE),\"\")","v":""}]
["",null,null,null,null,{"$f":"IFERROR(VLOOKUP(IF(C2226=\"\",B2226&\"||\"&B2226,C2226&\"||\"&B2226),Worktags!AR:AV,5,FALSE),\"\")","v":""}]
["",null,null,null,null,{"$f":"IFERROR(VLOOKUP(IF(C2227=\"\",B2227&\"||\"&B2227,C2227&\"||\"&B2227),Worktags!AR:AV,5,FALSE),\"\")","v":""}]
["",null,null,null,null,{"$f":"IFERROR(VLOOKUP(IF(C2228=\"\",B2228&\"||\"&B2228,C2228&\"||\"&B2228),Worktags!AR:AV,5,FALSE),\"\")","v":""}]
["",null,null,null,null,{"$f":"IFERROR(VLOOKUP(IF(C2229=\"\",B2229&\"||\"&B2229,C2229&\"||\"&B2229),Worktags!AR:AV,5,FALSE),\"\")","v":""}]
["",null,null,null,null,{"$f":"IFERROR(VLOOKUP(IF(C2230=\"\",B2230&\"||\"&B2230,C2230&\"||\"&B2230),Worktags!AR:AV,5,FALSE),\"\")","v":""}]
["",null,null,null,null,{"$f":"IFERROR(VLOOKUP(IF(C2231=\"\",B2231&\"||\"&B2231,C2231&\"||\"&B2231),Worktags!AR:AV,5,FALSE),\"\")","v":""}]
["",null,null,null,null,{"$f":"IFERROR(VLOOKUP(IF(C2232=\"\",B2232&\"||\"&B2232,C2232&\"||\"&B2232),Worktags!AR:AV,5,FALSE),\"\")","v":""}]
["",null,null,null,null,{"$f":"IFERROR(VLOOKUP(IF(C2233=\"\",B2233&\"||\"&B2233,C2233&\"||\"&B2233),Worktags!AR:AV,5,FALSE),\"\")","v":""}]
["",null,null,null,null,{"$f":"IFERROR(VLOOKUP(IF(C2234=\"\",B2234&\"||\"&B2234,C2234&\"||\"&B2234),Worktags!AR:AV,5,FALSE),\"\")","v":""}]
["",null,null,null,null,{"$f":"IFERROR(VLOOKUP(IF(C2235=\"\",B2235&\"||\"&B2235,C2235&\"||\"&B2235),Worktags!AR:AV,5,FALSE),\"\")","v":""}]
["",null,null,null,null,{"$f":"IFERROR(VLOOKUP(IF(C2236=\"\",B2236&\"||\"&B2236,C2236&\"||\"&B2236),Worktags!AR:AV,5,FALSE),\"\")","v":""}]
["",null,null,null,null,{"$f":"IFERROR(VLOOKUP(IF(C2237=\"\",B2237&\"||\"&B2237,C2237&\"||\"&B2237),Worktags!AR:AV,5,FALSE),\"\")","v":""}]
["",null,null,null,null,{"$f":"IFERROR(VLOOKUP(IF(C2238=\"\",B2238&\"||\"&B2238,C2238&\"||\"&B2238),Worktags!AR:AV,5,FALSE),\"\")","v":""}]
["",null,null,null,null,{"$f":"IFERROR(VLOOKUP(IF(C2239=\"\",B2239&\"||\"&B2239,C2239&\"||\"&B2239),Worktags!AR:AV,5,FALSE),\"\")","v":""}]
["",null,null,null,null,{"$f":"IFERROR(VLOOKUP(IF(C2240=\"\",B2240&\"||\"&B2240,C2240&\"||\"&B2240),Worktags!AR:AV,5,FALSE),\"\")","v":""}]
["",null,null,null,null,{"$f":"IFERROR(VLOOKUP(IF(C2241=\"\",B2241&\"||\"&B2241,C2241&\"||\"&B2241),Worktags!AR:AV,5,FALSE),\"\")","v":""}]
[{"$f":"IF(B2242<>\"\",IF(C2242<>\"\",B2242&\"_\"&C2242&\" \"&D2242&\"/\"&E2242,B2242&\" \"&D2242),\"\")","v":""},null,null,null,null,{"$f":"IFERROR(VLOOKUP(IF(C2242=\"\",B2242&\"||\"&B2242,C2242&\"||\"&B2242),Worktags!AR:AV,5,FALSE),\"\")","v":""}]
["",null,null,null,null,{"$f":"IFERROR(VLOOKUP(IF(C2243=\"\",B2243&\"||\"&B2243,C2243&\"||\"&B2243),Worktags!AR:AV,5,FALSE),\"\")","v":""}]
["",null,null,null,null,{"$f":"IFERROR(VLOOKUP(IF(C2244=\"\",B2244&\"||\"&B2244,C2244&\"||\"&B2244),Worktags!AR:AV,5,FALSE),\"\")","v":""}]
["",null,null,null,null,{"$f":"IFERROR(VLOOKUP(IF(C2245=\"\",B2245&\"||\"&B2245,C2245&\"||\"&B2245),Worktags!AR:AV,5,FALSE),\"\")","v":""}]
["",null,null,null,null,{"$f":"IFERROR(VLOOKUP(IF(C2246=\"\",B2246&\"||\"&B2246,C2246&\"||\"&B2246),Worktags!AR:AV,5,FALSE),\"\")","v":""}]
["",null,null,null,null,{"$f":"IFERROR(VLOOKUP(IF(C2247=\"\",B2247&\"||\"&B2247,C2247&\"||\"&B2247),Worktags!AR:AV,5,FALSE),\"\")","v":""}]
["",null,null,null,null,{"$f":"IFERROR(VLOOKUP(IF(C2248=\"\",B2248&\"||\"&B2248,C2248&\"||\"&B2248),Worktags!AR:AV,5,FALSE),\"\")","v":""}]
["",null,null,null,null,{"$f":"IFERROR(VLOOKUP(IF(C2249=\"\",B2249&\"||\"&B2249,C2249&\"||\"&B2249),Worktags!AR:AV,5,FALSE),\"\")","v":""}]
["",null,null,null,null,{"$f":"IFERROR(VLOOKUP(IF(C2250=\"\",B2250&\"||\"&B2250,C2250&\"||\"&B2250),Worktags!AR:AV,5,FALSE),\"\")","v":""}]
["",null,null,null,null,{"$f":"IFERROR(VLOOKUP(IF(C2251=\"\",B2251&\"||\"&B2251,C2251&\"||\"&B2251),Worktags!AR:AV,5,FALSE),\"\")","v":""}]
["",null,null,null,null,{"$f":"IFERROR(VLOOKUP(IF(C2252=\"\",B2252&\"||\"&B2252,C2252&\"||\"&B2252),Worktags!AR:AV,5,FALSE),\"\")","v":""}]
["",null,null,null,null,{"$f":"IFERROR(VLOOKUP(IF(C2253=\"\",B2253&\"||\"&B2253,C2253&\"||\"&B2253),Worktags!AR:AV,5,FALSE),\"\")","v":""}]
["",null,null,null,null,{"$f":"IFERROR(VLOOKUP(IF(C2254=\"\",B2254&\"||\"&B2254,C2254&\"||\"&B2254),Worktags!AR:AV,5,FALSE),\"\")","v":""}]
["",null,null,null,null,{"$f":"IFERROR(VLOOKUP(IF(C2255=\"\",B2255&\"||\"&B2255,C2255&\"||\"&B2255),Worktags!AR:AV,5,FALSE),\"\")","v":""}]
["",null,null,null,null,{"$f":"IFERROR(VLOOKUP(IF(C2256=\"\",B2256&\"||\"&B2256,C2256&\"||\"&B2256),Worktags!AR:AV,5,FALSE),\"\")","v":""}]
["",null,null,null,null,{"$f":"IFERROR(VLOOKUP(IF(C2257=\"\",B2257&\"||\"&B2257,C2257&\"||\"&B2257),Worktags!AR:AV,5,FALSE),\"\")","v":""}]
["",null,null,null,null,{"$f":"IFERROR(VLOOKUP(IF(C2258=\"\",B2258&\"||\"&B2258,C2258&\"||\"&B2258),Worktags!AR:AV,5,FALSE),\"\")","v":""}]
["",null,null,null,null,{"$f":"IFERROR(VLOOKUP(IF(C2259=\"\",B2259&\"||\"&B2259,C2259&\"||\"&B2259),Worktags!AR:AV,5,FALSE),\"\")","v":""}]
["",null,null,null,null,{"$f":"IFERROR(VLOOKUP(IF(C2260=\"\",B2260&\"||\"&B2260,C2260&\"||\"&B2260),Worktags!AR:AV,5,FALSE),\"\")","v":""}]
["",null,null,null,null,{"$f":"IFERROR(VLOOKUP(IF(C2261=\"\",B2261&\"||\"&B2261,C2261&\"||\"&B2261),Worktags!AR:AV,5,FALSE),\"\")","v":""}]
["",null,null,null,null,{"$f":"IFERROR(VLOOKUP(IF(C2262=\"\",B2262&\"||\"&B2262,C2262&\"||\"&B2262),Worktags!AR:AV,5,FALSE),\"\")","v":""}]
["",null,null,null,null,{"$f":"IFERROR(VLOOKUP(IF(C2263=\"\",B2263&\"||\"&B2263,C2263&\"||\"&B2263),Worktags!AR:AV,5,FALSE),\"\")","v":""}]
["",null,null,null,null,{"$f":"IFERROR(VLOOKUP(IF(C2264=\"\",B2264&\"||\"&B2264,C2264&\"||\"&B2264),Worktags!AR:AV,5,FALSE),\"\")","v":""}]
["",null,null,null,null,{"$f":"IFERROR(VLOOKUP(IF(C2265=\"\",B2265&\"||\"&B2265,C2265&\"||\"&B2265),Worktags!AR:AV,5,FALSE),\"\")","v":""}]
["",null,null,null,null,{"$f":"IFERROR(VLOOKUP(IF(C2266=\"\",B2266&\"||\"&B2266,C2266&\"||\"&B2266),Worktags!AR:AV,5,FALSE),\"\")","v":""}]
["",null,null,null,null,{"$f":"IFERROR(VLOOKUP(IF(C2267=\"\",B2267&\"||\"&B2267,C2267&\"||\"&B2267),Worktags!AR:AV,5,FALSE),\"\")","v":""}]
["",null,null,null,null,{"$f":"IFERROR(VLOOKUP(IF(C2268=\"\",B2268&\"||\"&B2268,C2268&\"||\"&B2268),Worktags!AR:AV,5,FALSE),\"\")","v":""}]
["",null,null,null,null,{"$f":"IFERROR(VLOOKUP(IF(C2269=\"\",B2269&\"||\"&B2269,C2269&\"||\"&B2269),Worktags!AR:AV,5,FALSE),\"\")","v":""}]
["",null,null,null,null,{"$f":"IFERROR(VLOOKUP(IF(C2270=\"\",B2270&\"||\"&B2270,C2270&\"||\"&B2270),Worktags!AR:AV,5,FALSE),\"\")","v":""}]
["",null,null,null,null,{"$f":"IFERROR(VLOOKUP(IF(C2271=\"\",B2271&\"||\"&B2271,C2271&\"||\"&B2271),Worktags!AR:AV,5,FALSE),\"\")","v":""}]
["",null,null,null,null,{"$f":"IFERROR(VLOOKUP(IF(C2272=\"\",B2272&\"||\"&B2272,C2272&\"||\"&B2272),Worktags!AR:AV,5,FALSE),\"\")","v":""}]
["",null,null,null,null,{"$f":"IFERROR(VLOOKUP(IF(C2273=\"\",B2273&\"||\"&B2273,C2273&\"||\"&B2273),Worktags!AR:AV,5,FALSE),\"\")","v":""}]
["",null,null,null,null,{"$f":"IFERROR(VLOOKUP(IF(C2274=\"\",B2274&\"||\"&B2274,C2274&\"||\"&B2274),Worktags!AR:AV,5,FALSE),\"\")","v":""}]
["",null,null,null,null,{"$f":"IFERROR(VLOOKUP(IF(C2275=\"\",B2275&\"||\"&B2275,C2275&\"||\"&B2275),Worktags!AR:AV,5,FALSE),\"\")","v":""}]
["",null,null,null,null,{"$f":"IFERROR(VLOOKUP(IF(C2276=\"\",B2276&\"||\"&B2276,C2276&\"||\"&B2276),Worktags!AR:AV,5,FALSE),\"\")","v":""}]
["",null,null,null,null,{"$f":"IFERROR(VLOOKUP(IF(C2277=\"\",B2277&\"||\"&B2277,C2277&\"||\"&B2277),Worktags!AR:AV,5,FALSE),\"\")","v":""}]
["",null,null,null,null,{"$f":"IFERROR(VLOOKUP(IF(C2278=\"\",B2278&\"||\"&B2278,C2278&\"||\"&B2278),Worktags!AR:AV,5,FALSE),\"\")","v":""}]
["",null,null,null,null,{"$f":"IFERROR(VLOOKUP(IF(C2279=\"\",B2279&\"||\"&B2279,C2279&\"||\"&B2279),Worktags!AR:AV,5,FALSE),\"\")","v":""}]
["",null,null,null,null,{"$f":"IFERROR(VLOOKUP(IF(C2280=\"\",B2280&\"||\"&B2280,C2280&\"||\"&B2280),Worktags!AR:AV,5,FALSE),\"\")","v":""}]
["",null,null,null,null,{"$f":"IFERROR(VLOOKUP(IF(C2281=\"\",B2281&\"||\"&B2281,C2281&\"||\"&B2281),Worktags!AR:AV,5,FALSE),\"\")","v":""}]
["",null,null,null,null,{"$f":"IFERROR(VLOOKUP(IF(C2282=\"\",B2282&\"||\"&B2282,C2282&\"||\"&B2282),Worktags!AR:AV,5,FALSE),\"\")","v":""}]
["",null,null,null,null,{"$f":"IFERROR(VLOOKUP(IF(C2283=\"\",B2283&\"||\"&B2283,C2283&\"||\"&B2283),Worktags!AR:AV,5,FALSE),\"\")","v":""}]
["",null,null,null,null,{"$f":"IFERROR(VLOOKUP(IF(C2284=\"\",B2284&\"||\"&B2284,C2284&\"||\"&B2284),Worktags!AR:AV,5,FALSE),\"\")","v":""}]
["",null,null,null,null,{"$f":"IFERROR(VLOOKUP(IF(C2285=\"\",B2285&\"||\"&B2285,C2285&\"||\"&B2285),Worktags!AR:AV,5,FALSE),\"\")","v":""}]
["",null,null,null,null,{"$f":"IFERROR(VLOOKUP(IF(C2286=\"\",B2286&\"||\"&B2286,C2286&\"||\"&B2286),Worktags!AR:AV,5,FALSE),\"\")","v":""}]
["",null,null,null,null,{"$f":"IFERROR(VLOOKUP(IF(C2287=\"\",B2287&\"||\"&B2287,C2287&\"||\"&B2287),Worktags!AR:AV,5,FALSE),\"\")","v":""}]
["",null,null,null,null,{"$f":"IFERROR(VLOOKUP(IF(C2288=\"\",B2288&\"||\"&B2288,C2288&\"||\"&B2288),Worktags!AR:AV,5,FALSE),\"\")","v":""}]
["",null,null,null,null,{"$f":"IFERROR(VLOOKUP(IF(C2289=\"\",B2289&\"||\"&B2289,C2289&\"||\"&B2289),Worktags!AR:AV,5,FALSE),\"\")","v":""}]
["",null,null,null,null,{"$f":"IFERROR(VLOOKUP(IF(C2290=\"\",B2290&\"||\"&B2290,C2290&\"||\"&B2290),Worktags!AR:AV,5,FALSE),\"\")","v":""}]
["",null,null,null,null,{"$f":"IFERROR(VLOOKUP(IF(C2291=\"\",B2291&\"||\"&B2291,C2291&\"||\"&B2291),Worktags!AR:AV,5,FALSE),\"\")","v":""}]
["",null,null,null,null,{"$f":"IFERROR(VLOOKUP(IF(C2292=\"\",B2292&\"||\"&B2292,C2292&\"||\"&B2292),Worktags!AR:AV,5,FALSE),\"\")","v":""}]
["",null,null,null,null,{"$f":"IFERROR(VLOOKUP(IF(C2293=\"\",B2293&\"||\"&B2293,C2293&\"||\"&B2293),Worktags!AR:AV,5,FALSE),\"\")","v":""}]
["",null,null,null,null,{"$f":"IFERROR(VLOOKUP(IF(C2294=\"\",B2294&\"||\"&B2294,C2294&\"||\"&B2294),Worktags!AR:AV,5,FALSE),\"\")","v":""}]
["",null,null,null,null,{"$f":"IFERROR(VLOOKUP(IF(C2295=\"\",B2295&\"||\"&B2295,C2295&\"||\"&B2295),Worktags!AR:AV,5,FALSE),\"\")","v":""}]
["",null,null,null,null,{"$f":"IFERROR(VLOOKUP(IF(C2296=\"\",B2296&\"||\"&B2296,C2296&\"||\"&B2296),Worktags!AR:AV,5,FALSE),\"\")","v":""}]
["",null,null,null,null,{"$f":"IFERROR(VLOOKUP(IF(C2297=\"\",B2297&\"||\"&B2297,C2297&\"||\"&B2297),Worktags!AR:AV,5,FALSE),\"\")","v":""}]
["",null,null,null,null,{"$f":"IFERROR(VLOOKUP(IF(C2298=\"\",B2298&\"||\"&B2298,C2298&\"||\"&B2298),Worktags!AR:AV,5,FALSE),\"\")","v":""}]
["",null,null,null,null,{"$f":"IFERROR(VLOOKUP(IF(C2299=\"\",B2299&\"||\"&B2299,C2299&\"||\"&B2299),Worktags!AR:AV,5,FALSE),\"\")","v":""}]
["",null,null,null,null,{"$f":"IFERROR(VLOOKUP(IF(C2300=\"\",B2300&\"||\"&B2300,C2300&\"||\"&B2300),Worktags!AR:AV,5,FALSE),\"\")","v":""}]
["",null,null,null,null,{"$f":"IFERROR(VLOOKUP(IF(C2301=\"\",B2301&\"||\"&B2301,C2301&\"||\"&B2301),Worktags!AR:AV,5,FALSE),\"\")","v":""}]
["",null,null,null,null,{"$f":"IFERROR(VLOOKUP(IF(C2302=\"\",B2302&\"||\"&B2302,C2302&\"||\"&B2302),Worktags!AR:AV,5,FALSE),\"\")","v":""}]
["",null,null,null,null,{"$f":"IFERROR(VLOOKUP(IF(C2303=\"\",B2303&\"||\"&B2303,C2303&\"||\"&B2303),Worktags!AR:AV,5,FALSE),\"\")","v":""}]
["",null,null,null,null,{"$f":"IFERROR(VLOOKUP(IF(C2304=\"\",B2304&\"||\"&B2304,C2304&\"||\"&B2304),Worktags!AR:AV,5,FALSE),\"\")","v":""}]
["",null,null,null,null,{"$f":"IFERROR(VLOOKUP(IF(C2305=\"\",B2305&\"||\"&B2305,C2305&\"||\"&B2305),Worktags!AR:AV,5,FALSE),\"\")","v":""}]
[{"$f":"IF(B2306<>\"\",IF(C2306<>\"\",B2306&\"_\"&C2306&\" \"&D2306&\"/\"&E2306,B2306&\" \"&D2306),\"\")","v":""},null,null,null,null,{"$f":"IFERROR(VLOOKUP(IF(C2306=\"\",B2306&\"||\"&B2306,C2306&\"||\"&B2306),Worktags!AR:AV,5,FALSE),\"\")","v":""}]
["",null,null,null,null,{"$f":"IFERROR(VLOOKUP(IF(C2307=\"\",B2307&\"||\"&B2307,C2307&\"||\"&B2307),Worktags!AR:AV,5,FALSE),\"\")","v":""}]
["",null,null,null,null,{"$f":"IFERROR(VLOOKUP(IF(C2308=\"\",B2308&\"||\"&B2308,C2308&\"||\"&B2308),Worktags!AR:AV,5,FALSE),\"\")","v":""}]
["",null,null,null,null,{"$f":"IFERROR(VLOOKUP(IF(C2309=\"\",B2309&\"||\"&B2309,C2309&\"||\"&B2309),Worktags!AR:AV,5,FALSE),\"\")","v":""}]
["",null,null,null,null,{"$f":"IFERROR(VLOOKUP(IF(C2310=\"\",B2310&\"||\"&B2310,C2310&\"||\"&B2310),Worktags!AR:AV,5,FALSE),\"\")","v":""}]
["",null,null,null,null,{"$f":"IFERROR(VLOOKUP(IF(C2311=\"\",B2311&\"||\"&B2311,C2311&\"||\"&B2311),Worktags!AR:AV,5,FALSE),\"\")","v":""}]
["",null,null,null,null,{"$f":"IFERROR(VLOOKUP(IF(C2312=\"\",B2312&\"||\"&B2312,C2312&\"||\"&B2312),Worktags!AR:AV,5,FALSE),\"\")","v":""}]
["",null,null,null,null,{"$f":"IFERROR(VLOOKUP(IF(C2313=\"\",B2313&\"||\"&B2313,C2313&\"||\"&B2313),Worktags!AR:AV,5,FALSE),\"\")","v":""}]
["",null,null,null,null,{"$f":"IFERROR(VLOOKUP(IF(C2314=\"\",B2314&\"||\"&B2314,C2314&\"||\"&B2314),Worktags!AR:AV,5,FALSE),\"\")","v":""}]
["",null,null,null,null,{"$f":"IFERROR(VLOOKUP(IF(C2315=\"\",B2315&\"||\"&B2315,C2315&\"||\"&B2315),Worktags!AR:AV,5,FALSE),\"\")","v":""}]
["",null,null,null,null,{"$f":"IFERROR(VLOOKUP(IF(C2316=\"\",B2316&\"||\"&B2316,C2316&\"||\"&B2316),Worktags!AR:AV,5,FALSE),\"\")","v":""}]
["",null,null,null,null,{"$f":"IFERROR(VLOOKUP(IF(C2317=\"\",B2317&\"||\"&B2317,C2317&\"||\"&B2317),Worktags!AR:AV,5,FALSE),\"\")","v":""}]
["",null,null,null,null,{"$f":"IFERROR(VLOOKUP(IF(C2318=\"\",B2318&\"||\"&B2318,C2318&\"||\"&B2318),Worktags!AR:AV,5,FALSE),\"\")","v":""}]
["",null,null,null,null,{"$f":"IFERROR(VLOOKUP(IF(C2319=\"\",B2319&\"||\"&B2319,C2319&\"||\"&B2319),Worktags!AR:AV,5,FALSE),\"\")","v":""}]
["",null,null,null,null,{"$f":"IFERROR(VLOOKUP(IF(C2320=\"\",B2320&\"||\"&B2320,C2320&\"||\"&B2320),Worktags!AR:AV,5,FALSE),\"\")","v":""}]
["",null,null,null,null,{"$f":"IFERROR(VLOOKUP(IF(C2321=\"\",B2321&\"||\"&B2321,C2321&\"||\"&B2321),Worktags!AR:AV,5,FALSE),\"\")","v":""}]
["",null,null,null,null,{"$f":"IFERROR(VLOOKUP(IF(C2322=\"\",B2322&\"||\"&B2322,C2322&\"||\"&B2322),Worktags!AR:AV,5,FALSE),\"\")","v":""}]
["",null,null,null,null,{"$f":"IFERROR(VLOOKUP(IF(C2323=\"\",B2323&\"||\"&B2323,C2323&\"||\"&B2323),Worktags!AR:AV,5,FALSE),\"\")","v":""}]
["",null,null,null,null,{"$f":"IFERROR(VLOOKUP(IF(C2324=\"\",B2324&\"||\"&B2324,C2324&\"||\"&B2324),Worktags!AR:AV,5,FALSE),\"\")","v":""}]
["",null,null,null,null,{"$f":"IFERROR(VLOOKUP(IF(C2325=\"\",B2325&\"||\"&B2325,C2325&\"||\"&B2325),Worktags!AR:AV,5,FALSE),\"\")","v":""}]
["",null,null,null,null,{"$f":"IFERROR(VLOOKUP(IF(C2326=\"\",B2326&\"||\"&B2326,C2326&\"||\"&B2326),Worktags!AR:AV,5,FALSE),\"\")","v":""}]
["",null,null,null,null,{"$f":"IFERROR(VLOOKUP(IF(C2327=\"\",B2327&\"||\"&B2327,C2327&\"||\"&B2327),Worktags!AR:AV,5,FALSE),\"\")","v":""}]
["",null,null,null,null,{"$f":"IFERROR(VLOOKUP(IF(C2328=\"\",B2328&\"||\"&B2328,C2328&\"||\"&B2328),Worktags!AR:AV,5,FALSE),\"\")","v":""}]
["",null,null,null,null,{"$f":"IFERROR(VLOOKUP(IF(C2329=\"\",B2329&\"||\"&B2329,C2329&\"||\"&B2329),Worktags!AR:AV,5,FALSE),\"\")","v":""}]
["",null,null,null,null,{"$f":"IFERROR(VLOOKUP(IF(C2330=\"\",B2330&\"||\"&B2330,C2330&\"||\"&B2330),Worktags!AR:AV,5,FALSE),\"\")","v":""}]
["",null,null,null,null,{"$f":"IFERROR(VLOOKUP(IF(C2331=\"\",B2331&\"||\"&B2331,C2331&\"||\"&B2331),Worktags!AR:AV,5,FALSE),\"\")","v":""}]
["",null,null,null,null,{"$f":"IFERROR(VLOOKUP(IF(C2332=\"\",B2332&\"||\"&B2332,C2332&\"||\"&B2332),Worktags!AR:AV,5,FALSE),\"\")","v":""}]
["",null,null,null,null,{"$f":"IFERROR(VLOOKUP(IF(C2333=\"\",B2333&\"||\"&B2333,C2333&\"||\"&B2333),Worktags!AR:AV,5,FALSE),\"\")","v":""}]
["",null,null,null,null,{"$f":"IFERROR(VLOOKUP(IF(C2334=\"\",B2334&\"||\"&B2334,C2334&\"||\"&B2334),Worktags!AR:AV,5,FALSE),\"\")","v":""}]
["",null,null,null,null,{"$f":"IFERROR(VLOOKUP(IF(C2335=\"\",B2335&\"||\"&B2335,C2335&\"||\"&B2335),Worktags!AR:AV,5,FALSE),\"\")","v":""}]
["",null,null,null,null,{"$f":"IFERROR(VLOOKUP(IF(C2336=\"\",B2336&\"||\"&B2336,C2336&\"||\"&B2336),Worktags!AR:AV,5,FALSE),\"\")","v":""}]
["",null,null,null,null,{"$f":"IFERROR(VLOOKUP(IF(C2337=\"\",B2337&\"||\"&B2337,C2337&\"||\"&B2337),Worktags!AR:AV,5,FALSE),\"\")","v":""}]
["",null,null,null,null,{"$f":"IFERROR(VLOOKUP(IF(C2338=\"\",B2338&\"||\"&B2338,C2338&\"||\"&B2338),Worktags!AR:AV,5,FALSE),\"\")","v":""}]
["",null,null,null,null,{"$f":"IFERROR(VLOOKUP(IF(C2339=\"\",B2339&\"||\"&B2339,C2339&\"||\"&B2339),Worktags!AR:AV,5,FALSE),\"\")","v":""}]
["",null,null,null,null,{"$f":"IFERROR(VLOOKUP(IF(C2340=\"\",B2340&\"||\"&B2340,C2340&\"||\"&B2340),Worktags!AR:AV,5,FALSE),\"\")","v":""}]
["",null,null,null,null,{"$f":"IFERROR(VLOOKUP(IF(C2341=\"\",B2341&\"||\"&B2341,C2341&\"||\"&B2341),Worktags!AR:AV,5,FALSE),\"\")","v":""}]
["",null,null,null,null,{"$f":"IFERROR(VLOOKUP(IF(C2342=\"\",B2342&\"||\"&B2342,C2342&\"||\"&B2342),Worktags!AR:AV,5,FALSE),\"\")","v":""}]
["",null,null,null,null,{"$f":"IFERROR(VLOOKUP(IF(C2343=\"\",B2343&\"||\"&B2343,C2343&\"||\"&B2343),Worktags!AR:AV,5,FALSE),\"\")","v":""}]
["",null,null,null,null,{"$f":"IFERROR(VLOOKUP(IF(C2344=\"\",B2344&\"||\"&B2344,C2344&\"||\"&B2344),Worktags!AR:AV,5,FALSE),\"\")","v":""}]
["",null,null,null,null,{"$f":"IFERROR(VLOOKUP(IF(C2345=\"\",B2345&\"||\"&B2345,C2345&\"||\"&B2345),Worktags!AR:AV,5,FALSE),\"\")","v":""}]
["",null,null,null,null,{"$f":"IFERROR(VLOOKUP(IF(C2346=\"\",B2346&\"||\"&B2346,C2346&\"||\"&B2346),Worktags!AR:AV,5,FALSE),\"\")","v":""}]
["",null,null,null,null,{"$f":"IFERROR(VLOOKUP(IF(C2347=\"\",B2347&\"||\"&B2347,C2347&\"||\"&B2347),Worktags!AR:AV,5,FALSE),\"\")","v":""}]
["",null,null,null,null,{"$f":"IFERROR(VLOOKUP(IF(C2348=\"\",B2348&\"||\"&B2348,C2348&\"||\"&B2348),Worktags!AR:AV,5,FALSE),\"\")","v":""}]
["",null,null,null,null,{"$f":"IFERROR(VLOOKUP(IF(C2349=\"\",B2349&\"||\"&B2349,C2349&\"||\"&B2349),Worktags!AR:AV,5,FALSE),\"\")","v":""}]
["",null,null,null,null,{"$f":"IFERROR(VLOOKUP(IF(C2350=\"\",B2350&\"||\"&B2350,C2350&\"||\"&B2350),Worktags!AR:AV,5,FALSE),\"\")","v":""}]
["",null,null,null,null,{"$f":"IFERROR(VLOOKUP(IF(C2351=\"\",B2351&\"||\"&B2351,C2351&\"||\"&B2351),Worktags!AR:AV,5,FALSE),\"\")","v":""}]
["",null,null,null,null,{"$f":"IFERROR(VLOOKUP(IF(C2352=\"\",B2352&\"||\"&B2352,C2352&\"||\"&B2352),Worktags!AR:AV,5,FALSE),\"\")","v":""}]
["",null,null,null,null,{"$f":"IFERROR(VLOOKUP(IF(C2353=\"\",B2353&\"||\"&B2353,C2353&\"||\"&B2353),Worktags!AR:AV,5,FALSE),\"\")","v":""}]
["",null,null,null,null,{"$f":"IFERROR(VLOOKUP(IF(C2354=\"\",B2354&\"||\"&B2354,C2354&\"||\"&B2354),Worktags!AR:AV,5,FALSE),\"\")","v":""}]
["",null,null,null,null,{"$f":"IFERROR(VLOOKUP(IF(C2355=\"\",B2355&\"||\"&B2355,C2355&\"||\"&B2355),Worktags!AR:AV,5,FALSE),\"\")","v":""}]
["",null,null,null,null,{"$f":"IFERROR(VLOOKUP(IF(C2356=\"\",B2356&\"||\"&B2356,C2356&\"||\"&B2356),Worktags!AR:AV,5,FALSE),\"\")","v":""}]
["",null,null,null,null,{"$f":"IFERROR(VLOOKUP(IF(C2357=\"\",B2357&\"||\"&B2357,C2357&\"||\"&B2357),Worktags!AR:AV,5,FALSE),\"\")","v":""}]
["",null,null,null,null,{"$f":"IFERROR(VLOOKUP(IF(C2358=\"\",B2358&\"||\"&B2358,C2358&\"||\"&B2358),Worktags!AR:AV,5,FALSE),\"\")","v":""}]
["",null,null,null,null,{"$f":"IFERROR(VLOOKUP(IF(C2359=\"\",B2359&\"||\"&B2359,C2359&\"||\"&B2359),Worktags!AR:AV,5,FALSE),\"\")","v":""}]
["",null,null,null,null,{"$f":"IFERROR(VLOOKUP(IF(C2360=\"\",B2360&\"||\"&B2360,C2360&\"||\"&B2360),Worktags!AR:AV,5,FALSE),\"\")","v":""}]
["",null,null,null,null,{"$f":"IFERROR(VLOOKUP(IF(C2361=\"\",B2361&\"||\"&B2361,C2361&\"||\"&B2361),Worktags!AR:AV,5,FALSE),\"\")","v":""}]
["",null,null,null,null,{"$f":"IFERROR(VLOOKUP(IF(C2362=\"\",B2362&\"||\"&B2362,C2362&\"||\"&B2362),Worktags!AR:AV,5,FALSE),\"\")","v":""}]
["",null,null,null,null,{"$f":"IFERROR(VLOOKUP(IF(C2363=\"\",B2363&\"||\"&B2363,C2363&\"||\"&B2363),Worktags!AR:AV,5,FALSE),\"\")","v":""}]
["",null,null,null,null,{"$f":"IFERROR(VLOOKUP(IF(C2364=\"\",B2364&\"||\"&B2364,C2364&\"||\"&B2364),Worktags!AR:AV,5,FALSE),\"\")","v":""}]
["",null,null,null,null,{"$f":"IFERROR(VLOOKUP(IF(C2365=\"\",B2365&\"||\"&B2365,C2365&\"||\"&B2365),Worktags!AR:AV,5,FALSE),\"\")","v":""}]
["",null,null,null,null,{"$f":"IFERROR(VLOOKUP(IF(C2366=\"\",B2366&\"||\"&B2366,C2366&\"||\"&B2366),Worktags!AR:AV,5,FALSE),\"\")","v":""}]
["",null,null,null,null,{"$f":"IFERROR(VLOOKUP(IF(C2367=\"\",B2367&\"||\"&B2367,C2367&\"||\"&B2367),Worktags!AR:AV,5,FALSE),\"\")","v":""}]
["",null,null,null,null,{"$f":"IFERROR(VLOOKUP(IF(C2368=\"\",B2368&\"||\"&B2368,C2368&\"||\"&B2368),Worktags!AR:AV,5,FALSE),\"\")","v":""}]
["",null,null,null,null,{"$f":"IFERROR(VLOOKUP(IF(C2369=\"\",B2369&\"||\"&B2369,C2369&\"||\"&B2369),Worktags!AR:AV,5,FALSE),\"\")","v":""}]
[{"$f":"IF(B2370<>\"\",IF(C2370<>\"\",B2370&\"_\"&C2370&\" \"&D2370&\"/\"&E2370,B2370&\" \"&D2370),\"\")","v":""},null,null,null,null,{"$f":"IFERROR(VLOOKUP(IF(C2370=\"\",B2370&\"||\"&B2370,C2370&\"||\"&B2370),Worktags!AR:AV,5,FALSE),\"\")","v":""}]
["",null,null,null,null,{"$f":"IFERROR(VLOOKUP(IF(C2371=\"\",B2371&\"||\"&B2371,C2371&\"||\"&B2371),Worktags!AR:AV,5,FALSE),\"\")","v":""}]
["",null,null,null,null,{"$f":"IFERROR(VLOOKUP(IF(C2372=\"\",B2372&\"||\"&B2372,C2372&\"||\"&B2372),Worktags!AR:AV,5,FALSE),\"\")","v":""}]
["",null,null,null,null,{"$f":"IFERROR(VLOOKUP(IF(C2373=\"\",B2373&\"||\"&B2373,C2373&\"||\"&B2373),Worktags!AR:AV,5,FALSE),\"\")","v":""}]
["",null,null,null,null,{"$f":"IFERROR(VLOOKUP(IF(C2374=\"\",B2374&\"||\"&B2374,C2374&\"||\"&B2374),Worktags!AR:AV,5,FALSE),\"\")","v":""}]
["",null,null,null,null,{"$f":"IFERROR(VLOOKUP(IF(C2375=\"\",B2375&\"||\"&B2375,C2375&\"||\"&B2375),Worktags!AR:AV,5,FALSE),\"\")","v":""}]
["",null,null,null,null,{"$f":"IFERROR(VLOOKUP(IF(C2376=\"\",B2376&\"||\"&B2376,C2376&\"||\"&B2376),Worktags!AR:AV,5,FALSE),\"\")","v":""}]
["",null,null,null,null,{"$f":"IFERROR(VLOOKUP(IF(C2377=\"\",B2377&\"||\"&B2377,C2377&\"||\"&B2377),Worktags!AR:AV,5,FALSE),\"\")","v":""}]
["",null,null,null,null,{"$f":"IFERROR(VLOOKUP(IF(C2378=\"\",B2378&\"||\"&B2378,C2378&\"||\"&B2378),Worktags!AR:AV,5,FALSE),\"\")","v":""}]
["",null,null,null,null,{"$f":"IFERROR(VLOOKUP(IF(C2379=\"\",B2379&\"||\"&B2379,C2379&\"||\"&B2379),Worktags!AR:AV,5,FALSE),\"\")","v":""}]
["",null,null,null,null,{"$f":"IFERROR(VLOOKUP(IF(C2380=\"\",B2380&\"||\"&B2380,C2380&\"||\"&B2380),Worktags!AR:AV,5,FALSE),\"\")","v":""}]
["",null,null,null,null,{"$f":"IFERROR(VLOOKUP(IF(C2381=\"\",B2381&\"||\"&B2381,C2381&\"||\"&B2381),Worktags!AR:AV,5,FALSE),\"\")","v":""}]
["",null,null,null,null,{"$f":"IFERROR(VLOOKUP(IF(C2382=\"\",B2382&\"||\"&B2382,C2382&\"||\"&B2382),Worktags!AR:AV,5,FALSE),\"\")","v":""}]
["",null,null,null,null,{"$f":"IFERROR(VLOOKUP(IF(C2383=\"\",B2383&\"||\"&B2383,C2383&\"||\"&B2383),Worktags!AR:AV,5,FALSE),\"\")","v":""}]
["",null,null,null,null,{"$f":"IFERROR(VLOOKUP(IF(C2384=\"\",B2384&\"||\"&B2384,C2384&\"||\"&B2384),Worktags!AR:AV,5,FALSE),\"\")","v":""}]
["",null,null,null,null,{"$f":"IFERROR(VLOOKUP(IF(C2385=\"\",B2385&\"||\"&B2385,C2385&\"||\"&B2385),Worktags!AR:AV,5,FALSE),\"\")","v":""}]
["",null,null,null,null,{"$f":"IFERROR(VLOOKUP(IF(C2386=\"\",B2386&\"||\"&B2386,C2386&\"||\"&B2386),Worktags!AR:AV,5,FALSE),\"\")","v":""}]
["",null,null,null,null,{"$f":"IFERROR(VLOOKUP(IF(C2387=\"\",B2387&\"||\"&B2387,C2387&\"||\"&B2387),Worktags!AR:AV,5,FALSE),\"\")","v":""}]
["",null,null,null,null,{"$f":"IFERROR(VLOOKUP(IF(C2388=\"\",B2388&\"||\"&B2388,C2388&\"||\"&B2388),Worktags!AR:AV,5,FALSE),\"\")","v":""}]
["",null,null,null,null,{"$f":"IFERROR(VLOOKUP(IF(C2389=\"\",B2389&\"||\"&B2389,C2389&\"||\"&B2389),Worktags!AR:AV,5,FALSE),\"\")","v":""}]
["",null,null,null,null,{"$f":"IFERROR(VLOOKUP(IF(C2390=\"\",B2390&\"||\"&B2390,C2390&\"||\"&B2390),Worktags!AR:AV,5,FALSE),\"\")","v":""}]
["",null,null,null,null,{"$f":"IFERROR(VLOOKUP(IF(C2391=\"\",B2391&\"||\"&B2391,C2391&\"||\"&B2391),Worktags!AR:AV,5,FALSE),\"\")","v":""}]
["",null,null,null,null,{"$f":"IFERROR(VLOOKUP(IF(C2392=\"\",B2392&\"||\"&B2392,C2392&\"||\"&B2392),Worktags!AR:AV,5,FALSE),\"\")","v":""}]
["",null,null,null,null,{"$f":"IFERROR(VLOOKUP(IF(C2393=\"\",B2393&\"||\"&B2393,C2393&\"||\"&B2393),Worktags!AR:AV,5,FALSE),\"\")","v":""}]
["",null,null,null,null,{"$f":"IFERROR(VLOOKUP(IF(C2394=\"\",B2394&\"||\"&B2394,C2394&\"||\"&B2394),Worktags!AR:AV,5,FALSE),\"\")","v":""}]
["",null,null,null,null,{"$f":"IFERROR(VLOOKUP(IF(C2395=\"\",B2395&\"||\"&B2395,C2395&\"||\"&B2395),Worktags!AR:AV,5,FALSE),\"\")","v":""}]
["",null,null,null,null,{"$f":"IFERROR(VLOOKUP(IF(C2396=\"\",B2396&\"||\"&B2396,C2396&\"||\"&B2396),Worktags!AR:AV,5,FALSE),\"\")","v":""}]
["",null,null,null,null,{"$f":"IFERROR(VLOOKUP(IF(C2397=\"\",B2397&\"||\"&B2397,C2397&\"||\"&B2397),Worktags!AR:AV,5,FALSE),\"\")","v":""}]
["",null,null,null,null,{"$f":"IFERROR(VLOOKUP(IF(C2398=\"\",B2398&\"||\"&B2398,C2398&\"||\"&B2398),Worktags!AR:AV,5,FALSE),\"\")","v":""}]
["",null,null,null,null,{"$f":"IFERROR(VLOOKUP(IF(C2399=\"\",B2399&\"||\"&B2399,C2399&\"||\"&B2399),Worktags!AR:AV,5,FALSE),\"\")","v":""}]
["",null,null,null,null,{"$f":"IFERROR(VLOOKUP(IF(C2400=\"\",B2400&\"||\"&B2400,C2400&\"||\"&B2400),Worktags!AR:AV,5,FALSE),\"\")","v":""}]
["",null,null,null,null,{"$f":"IFERROR(VLOOKUP(IF(C2401=\"\",B2401&\"||\"&B2401,C2401&\"||\"&B2401),Worktags!AR:AV,5,FALSE),\"\")","v":""}]
["",null,null,null,null,{"$f":"IFERROR(VLOOKUP(IF(C2402=\"\",B2402&\"||\"&B2402,C2402&\"||\"&B2402),Worktags!AR:AV,5,FALSE),\"\")","v":""}]
["",null,null,null,null,{"$f":"IFERROR(VLOOKUP(IF(C2403=\"\",B2403&\"||\"&B2403,C2403&\"||\"&B2403),Worktags!AR:AV,5,FALSE),\"\")","v":""}]
["",null,null,null,null,{"$f":"IFERROR(VLOOKUP(IF(C2404=\"\",B2404&\"||\"&B2404,C2404&\"||\"&B2404),Worktags!AR:AV,5,FALSE),\"\")","v":""}]
["",null,null,null,null,{"$f":"IFERROR(VLOOKUP(IF(C2405=\"\",B2405&\"||\"&B2405,C2405&\"||\"&B2405),Worktags!AR:AV,5,FALSE),\"\")","v":""}]
["",null,null,null,null,{"$f":"IFERROR(VLOOKUP(IF(C2406=\"\",B2406&\"||\"&B2406,C2406&\"||\"&B2406),Worktags!AR:AV,5,FALSE),\"\")","v":""}]
["",null,null,null,null,{"$f":"IFERROR(VLOOKUP(IF(C2407=\"\",B2407&\"||\"&B2407,C2407&\"||\"&B2407),Worktags!AR:AV,5,FALSE),\"\")","v":""}]
["",null,null,null,null,{"$f":"IFERROR(VLOOKUP(IF(C2408=\"\",B2408&\"||\"&B2408,C2408&\"||\"&B2408),Worktags!AR:AV,5,FALSE),\"\")","v":""}]
["",null,null,null,null,{"$f":"IFERROR(VLOOKUP(IF(C2409=\"\",B2409&\"||\"&B2409,C2409&\"||\"&B2409),Worktags!AR:AV,5,FALSE),\"\")","v":""}]
["",null,null,null,null,{"$f":"IFERROR(VLOOKUP(IF(C2410=\"\",B2410&\"||\"&B2410,C2410&\"||\"&B2410),Worktags!AR:AV,5,FALSE),\"\")","v":""}]
["",null,null,null,null,{"$f":"IFERROR(VLOOKUP(IF(C2411=\"\",B2411&\"||\"&B2411,C2411&\"||\"&B2411),Worktags!AR:AV,5,FALSE),\"\")","v":""}]
["",null,null,null,null,{"$f":"IFERROR(VLOOKUP(IF(C2412=\"\",B2412&\"||\"&B2412,C2412&\"||\"&B2412),Worktags!AR:AV,5,FALSE),\"\")","v":""}]
["",null,null,null,null,{"$f":"IFERROR(VLOOKUP(IF(C2413=\"\",B2413&\"||\"&B2413,C2413&\"||\"&B2413),Worktags!AR:AV,5,FALSE),\"\")","v":""}]
["",null,null,null,null,{"$f":"IFERROR(VLOOKUP(IF(C2414=\"\",B2414&\"||\"&B2414,C2414&\"||\"&B2414),Worktags!AR:AV,5,FALSE),\"\")","v":""}]
["",null,null,null,null,{"$f":"IFERROR(VLOOKUP(IF(C2415=\"\",B2415&\"||\"&B2415,C2415&\"||\"&B2415),Worktags!AR:AV,5,FALSE),\"\")","v":""}]
["",null,null,null,null,{"$f":"IFERROR(VLOOKUP(IF(C2416=\"\",B2416&\"||\"&B2416,C2416&\"||\"&B2416),Worktags!AR:AV,5,FALSE),\"\")","v":""}]
["",null,null,null,null,{"$f":"IFERROR(VLOOKUP(IF(C2417=\"\",B2417&\"||\"&B2417,C2417&\"||\"&B2417),Worktags!AR:AV,5,FALSE),\"\")","v":""}]
["",null,null,null,null,{"$f":"IFERROR(VLOOKUP(IF(C2418=\"\",B2418&\"||\"&B2418,C2418&\"||\"&B2418),Worktags!AR:AV,5,FALSE),\"\")","v":""}]
["",null,null,null,null,{"$f":"IFERROR(VLOOKUP(IF(C2419=\"\",B2419&\"||\"&B2419,C2419&\"||\"&B2419),Worktags!AR:AV,5,FALSE),\"\")","v":""}]
["",null,null,null,null,{"$f":"IFERROR(VLOOKUP(IF(C2420=\"\",B2420&\"||\"&B2420,C2420&\"||\"&B2420),Worktags!AR:AV,5,FALSE),\"\")","v":""}]
["",null,null,null,null,{"$f":"IFERROR(VLOOKUP(IF(C2421=\"\",B2421&\"||\"&B2421,C2421&\"||\"&B2421),Worktags!AR:AV,5,FALSE),\"\")","v":""}]
["",null,null,null,null,{"$f":"IFERROR(VLOOKUP(IF(C2422=\"\",B2422&\"||\"&B2422,C2422&\"||\"&B2422),Worktags!AR:AV,5,FALSE),\"\")","v":""}]
["",null,null,null,null,{"$f":"IFERROR(VLOOKUP(IF(C2423=\"\",B2423&\"||\"&B2423,C2423&\"||\"&B2423),Worktags!AR:AV,5,FALSE),\"\")","v":""}]
["",null,null,null,null,{"$f":"IFERROR(VLOOKUP(IF(C2424=\"\",B2424&\"||\"&B2424,C2424&\"||\"&B2424),Worktags!AR:AV,5,FALSE),\"\")","v":""}]
["",null,null,null,null,{"$f":"IFERROR(VLOOKUP(IF(C2425=\"\",B2425&\"||\"&B2425,C2425&\"||\"&B2425),Worktags!AR:AV,5,FALSE),\"\")","v":""}]
["",null,null,null,null,{"$f":"IFERROR(VLOOKUP(IF(C2426=\"\",B2426&\"||\"&B2426,C2426&\"||\"&B2426),Worktags!AR:AV,5,FALSE),\"\")","v":""}]
["",null,null,null,null,{"$f":"IFERROR(VLOOKUP(IF(C2427=\"\",B2427&\"||\"&B2427,C2427&\"||\"&B2427),Worktags!AR:AV,5,FALSE),\"\")","v":""}]
["",null,null,null,null,{"$f":"IFERROR(VLOOKUP(IF(C2428=\"\",B2428&\"||\"&B2428,C2428&\"||\"&B2428),Worktags!AR:AV,5,FALSE),\"\")","v":""}]
["",null,null,null,null,{"$f":"IFERROR(VLOOKUP(IF(C2429=\"\",B2429&\"||\"&B2429,C2429&\"||\"&B2429),Worktags!AR:AV,5,FALSE),\"\")","v":""}]
["",null,null,null,null,{"$f":"IFERROR(VLOOKUP(IF(C2430=\"\",B2430&\"||\"&B2430,C2430&\"||\"&B2430),Worktags!AR:AV,5,FALSE),\"\")","v":""}]
["",null,null,null,null,{"$f":"IFERROR(VLOOKUP(IF(C2431=\"\",B2431&\"||\"&B2431,C2431&\"||\"&B2431),Worktags!AR:AV,5,FALSE),\"\")","v":""}]
["",null,null,null,null,{"$f":"IFERROR(VLOOKUP(IF(C2432=\"\",B2432&\"||\"&B2432,C2432&\"||\"&B2432),Worktags!AR:AV,5,FALSE),\"\")","v":""}]
["",null,null,null,null,{"$f":"IFERROR(VLOOKUP(IF(C2433=\"\",B2433&\"||\"&B2433,C2433&\"||\"&B2433),Worktags!AR:AV,5,FALSE),\"\")","v":""}]
[{"$f":"IF(B2434<>\"\",IF(C2434<>\"\",B2434&\"_\"&C2434&\" \"&D2434&\"/\"&E2434,B2434&\" \"&D2434),\"\")","v":""},null,null,null,null,{"$f":"IFERROR(VLOOKUP(IF(C2434=\"\",B2434&\"||\"&B2434,C2434&\"||\"&B2434),Worktags!AR:AV,5,FALSE),\"\")","v":""}]
["",null,null,null,null,{"$f":"IFERROR(VLOOKUP(IF(C2435=\"\",B2435&\"||\"&B2435,C2435&\"||\"&B2435),Worktags!AR:AV,5,FALSE),\"\")","v":""}]
["",null,null,null,null,{"$f":"IFERROR(VLOOKUP(IF(C2436=\"\",B2436&\"||\"&B2436,C2436&\"||\"&B2436),Worktags!AR:AV,5,FALSE),\"\")","v":""}]
["",null,null,null,null,{"$f":"IFERROR(VLOOKUP(IF(C2437=\"\",B2437&\"||\"&B2437,C2437&\"||\"&B2437),Worktags!AR:AV,5,FALSE),\"\")","v":""}]
["",null,null,null,null,{"$f":"IFERROR(VLOOKUP(IF(C2438=\"\",B2438&\"||\"&B2438,C2438&\"||\"&B2438),Worktags!AR:AV,5,FALSE),\"\")","v":""}]
["",null,null,null,null,{"$f":"IFERROR(VLOOKUP(IF(C2439=\"\",B2439&\"||\"&B2439,C2439&\"||\"&B2439),Worktags!AR:AV,5,FALSE),\"\")","v":""}]
["",null,null,null,null,{"$f":"IFERROR(VLOOKUP(IF(C2440=\"\",B2440&\"||\"&B2440,C2440&\"||\"&B2440),Worktags!AR:AV,5,FALSE),\"\")","v":""}]
["",null,null,null,null,{"$f":"IFERROR(VLOOKUP(IF(C2441=\"\",B2441&\"||\"&B2441,C2441&\"||\"&B2441),Worktags!AR:AV,5,FALSE),\"\")","v":""}]
["",null,null,null,null,{"$f":"IFERROR(VLOOKUP(IF(C2442=\"\",B2442&\"||\"&B2442,C2442&\"||\"&B2442),Worktags!AR:AV,5,FALSE),\"\")","v":""}]
["",null,null,null,null,{"$f":"IFERROR(VLOOKUP(IF(C2443=\"\",B2443&\"||\"&B2443,C2443&\"||\"&B2443),Worktags!AR:AV,5,FALSE),\"\")","v":""}]
["",null,null,null,null,{"$f":"IFERROR(VLOOKUP(IF(C2444=\"\",B2444&\"||\"&B2444,C2444&\"||\"&B2444),Worktags!AR:AV,5,FALSE),\"\")","v":""}]
["",null,null,null,null,{"$f":"IFERROR(VLOOKUP(IF(C2445=\"\",B2445&\"||\"&B2445,C2445&\"||\"&B2445),Worktags!AR:AV,5,FALSE),\"\")","v":""}]
["",null,null,null,null,{"$f":"IFERROR(VLOOKUP(IF(C2446=\"\",B2446&\"||\"&B2446,C2446&\"||\"&B2446),Worktags!AR:AV,5,FALSE),\"\")","v":""}]
["",null,null,null,null,{"$f":"IFERROR(VLOOKUP(IF(C2447=\"\",B2447&\"||\"&B2447,C2447&\"||\"&B2447),Worktags!AR:AV,5,FALSE),\"\")","v":""}]
["",null,null,null,null,{"$f":"IFERROR(VLOOKUP(IF(C2448=\"\",B2448&\"||\"&B2448,C2448&\"||\"&B2448),Worktags!AR:AV,5,FALSE),\"\")","v":""}]
["",null,null,null,null,{"$f":"IFERROR(VLOOKUP(IF(C2449=\"\",B2449&\"||\"&B2449,C2449&\"||\"&B2449),Worktags!AR:AV,5,FALSE),\"\")","v":""}]
["",null,null,null,null,{"$f":"IFERROR(VLOOKUP(IF(C2450=\"\",B2450&\"||\"&B2450,C2450&\"||\"&B2450),Worktags!AR:AV,5,FALSE),\"\")","v":""}]
["",null,null,null,null,{"$f":"IFERROR(VLOOKUP(IF(C2451=\"\",B2451&\"||\"&B2451,C2451&\"||\"&B2451),Worktags!AR:AV,5,FALSE),\"\")","v":""}]
["",null,null,null,null,{"$f":"IFERROR(VLOOKUP(IF(C2452=\"\",B2452&\"||\"&B2452,C2452&\"||\"&B2452),Worktags!AR:AV,5,FALSE),\"\")","v":""}]
["",null,null,null,null,{"$f":"IFERROR(VLOOKUP(IF(C2453=\"\",B2453&\"||\"&B2453,C2453&\"||\"&B2453),Worktags!AR:AV,5,FALSE),\"\")","v":""}]
["",null,null,null,null,{"$f":"IFERROR(VLOOKUP(IF(C2454=\"\",B2454&\"||\"&B2454,C2454&\"||\"&B2454),Worktags!AR:AV,5,FALSE),\"\")","v":""}]
["",null,null,null,null,{"$f":"IFERROR(VLOOKUP(IF(C2455=\"\",B2455&\"||\"&B2455,C2455&\"||\"&B2455),Worktags!AR:AV,5,FALSE),\"\")","v":""}]
["",null,null,null,null,{"$f":"IFERROR(VLOOKUP(IF(C2456=\"\",B2456&\"||\"&B2456,C2456&\"||\"&B2456),Worktags!AR:AV,5,FALSE),\"\")","v":""}]
["",null,null,null,null,{"$f":"IFERROR(VLOOKUP(IF(C2457=\"\",B2457&\"||\"&B2457,C2457&\"||\"&B2457),Worktags!AR:AV,5,FALSE),\"\")","v":""}]
["",null,null,null,null,{"$f":"IFERROR(VLOOKUP(IF(C2458=\"\",B2458&\"||\"&B2458,C2458&\"||\"&B2458),Worktags!AR:AV,5,FALSE),\"\")","v":""}]
["",null,null,null,null,{"$f":"IFERROR(VLOOKUP(IF(C2459=\"\",B2459&\"||\"&B2459,C2459&\"||\"&B2459),Worktags!AR:AV,5,FALSE),\"\")","v":""}]
["",null,null,null,null,{"$f":"IFERROR(VLOOKUP(IF(C2460=\"\",B2460&\"||\"&B2460,C2460&\"||\"&B2460),Worktags!AR:AV,5,FALSE),\"\")","v":""}]
["",null,null,null,null,{"$f":"IFERROR(VLOOKUP(IF(C2461=\"\",B2461&\"||\"&B2461,C2461&\"||\"&B2461),Worktags!AR:AV,5,FALSE),\"\")","v":""}]
["",null,null,null,null,{"$f":"IFERROR(VLOOKUP(IF(C2462=\"\",B2462&\"||\"&B2462,C2462&\"||\"&B2462),Worktags!AR:AV,5,FALSE),\"\")","v":""}]
["",null,null,null,null,{"$f":"IFERROR(VLOOKUP(IF(C2463=\"\",B2463&\"||\"&B2463,C2463&\"||\"&B2463),Worktags!AR:AV,5,FALSE),\"\")","v":""}]
["",null,null,null,null,{"$f":"IFERROR(VLOOKUP(IF(C2464=\"\",B2464&\"||\"&B2464,C2464&\"||\"&B2464),Worktags!AR:AV,5,FALSE),\"\")","v":""}]
["",null,null,null,null,{"$f":"IFERROR(VLOOKUP(IF(C2465=\"\",B2465&\"||\"&B2465,C2465&\"||\"&B2465),Worktags!AR:AV,5,FALSE),\"\")","v":""}]
["",null,null,null,null,{"$f":"IFERROR(VLOOKUP(IF(C2466=\"\",B2466&\"||\"&B2466,C2466&\"||\"&B2466),Worktags!AR:AV,5,FALSE),\"\")","v":""}]
["",null,null,null,null,{"$f":"IFERROR(VLOOKUP(IF(C2467=\"\",B2467&\"||\"&B2467,C2467&\"||\"&B2467),Worktags!AR:AV,5,FALSE),\"\")","v":""}]
["",null,null,null,null,{"$f":"IFERROR(VLOOKUP(IF(C2468=\"\",B2468&\"||\"&B2468,C2468&\"||\"&B2468),Worktags!AR:AV,5,FALSE),\"\")","v":""}]
["",null,null,null,null,{"$f":"IFERROR(VLOOKUP(IF(C2469=\"\",B2469&\"||\"&B2469,C2469&\"||\"&B2469),Worktags!AR:AV,5,FALSE),\"\")","v":""}]
["",null,null,null,null,{"$f":"IFERROR(VLOOKUP(IF(C2470=\"\",B2470&\"||\"&B2470,C2470&\"||\"&B2470),Worktags!AR:AV,5,FALSE),\"\")","v":""}]
["",null,null,null,null,{"$f":"IFERROR(VLOOKUP(IF(C2471=\"\",B2471&\"||\"&B2471,C2471&\"||\"&B2471),Worktags!AR:AV,5,FALSE),\"\")","v":""}]
["",null,null,null,null,{"$f":"IFERROR(VLOOKUP(IF(C2472=\"\",B2472&\"||\"&B2472,C2472&\"||\"&B2472),Worktags!AR:AV,5,FALSE),\"\")","v":""}]
["",null,null,null,null,{"$f":"IFERROR(VLOOKUP(IF(C2473=\"\",B2473&\"||\"&B2473,C2473&\"||\"&B2473),Worktags!AR:AV,5,FALSE),\"\")","v":""}]
["",null,null,null,null,{"$f":"IFERROR(VLOOKUP(IF(C2474=\"\",B2474&\"||\"&B2474,C2474&\"||\"&B2474),Worktags!AR:AV,5,FALSE),\"\")","v":""}]
["",null,null,null,null,{"$f":"IFERROR(VLOOKUP(IF(C2475=\"\",B2475&\"||\"&B2475,C2475&\"||\"&B2475),Worktags!AR:AV,5,FALSE),\"\")","v":""}]
["",null,null,null,null,{"$f":"IFERROR(VLOOKUP(IF(C2476=\"\",B2476&\"||\"&B2476,C2476&\"||\"&B2476),Worktags!AR:AV,5,FALSE),\"\")","v":""}]
["",null,null,null,null,{"$f":"IFERROR(VLOOKUP(IF(C2477=\"\",B2477&\"||\"&B2477,C2477&\"||\"&B2477),Worktags!AR:AV,5,FALSE),\"\")","v":""}]
["",null,null,null,null,{"$f":"IFERROR(VLOOKUP(IF(C2478=\"\",B2478&\"||\"&B2478,C2478&\"||\"&B2478),Worktags!AR:AV,5,FALSE),\"\")","v":""}]
["",null,null,null,null,{"$f":"IFERROR(VLOOKUP(IF(C2479=\"\",B2479&\"||\"&B2479,C2479&\"||\"&B2479),Worktags!AR:AV,5,FALSE),\"\")","v":""}]
["",null,null,null,null,{"$f":"IFERROR(VLOOKUP(IF(C2480=\"\",B2480&\"||\"&B2480,C2480&\"||\"&B2480),Worktags!AR:AV,5,FALSE),\"\")","v":""}]
["",null,null,null,null,{"$f":"IFERROR(VLOOKUP(IF(C2481=\"\",B2481&\"||\"&B2481,C2481&\"||\"&B2481),Worktags!AR:AV,5,FALSE),\"\")","v":""}]
["",null,null,null,null,{"$f":"IFERROR(VLOOKUP(IF(C2482=\"\",B2482&\"||\"&B2482,C2482&\"||\"&B2482),Worktags!AR:AV,5,FALSE),\"\")","v":""}]
["",null,null,null,null,{"$f":"IFERROR(VLOOKUP(IF(C2483=\"\",B2483&\"||\"&B2483,C2483&\"||\"&B2483),Worktags!AR:AV,5,FALSE),\"\")","v":""}]
["",null,null,null,null,{"$f":"IFERROR(VLOOKUP(IF(C2484=\"\",B2484&\"||\"&B2484,C2484&\"||\"&B2484),Worktags!AR:AV,5,FALSE),\"\")","v":""}]
["",null,null,null,null,{"$f":"IFERROR(VLOOKUP(IF(C2485=\"\",B2485&\"||\"&B2485,C2485&\"||\"&B2485),Worktags!AR:AV,5,FALSE),\"\")","v":""}]
["",null,null,null,null,{"$f":"IFERROR(VLOOKUP(IF(C2486=\"\",B2486&\"||\"&B2486,C2486&\"||\"&B2486),Worktags!AR:AV,5,FALSE),\"\")","v":""}]
["",null,null,null,null,{"$f":"IFERROR(VLOOKUP(IF(C2487=\"\",B2487&\"||\"&B2487,C2487&\"||\"&B2487),Worktags!AR:AV,5,FALSE),\"\")","v":""}]
["",null,null,null,null,{"$f":"IFERROR(VLOOKUP(IF(C2488=\"\",B2488&\"||\"&B2488,C2488&\"||\"&B2488),Worktags!AR:AV,5,FALSE),\"\")","v":""}]
["",null,null,null,null,{"$f":"IFERROR(VLOOKUP(IF(C2489=\"\",B2489&\"||\"&B2489,C2489&\"||\"&B2489),Worktags!AR:AV,5,FALSE),\"\")","v":""}]
["",null,null,null,null,{"$f":"IFERROR(VLOOKUP(IF(C2490=\"\",B2490&\"||\"&B2490,C2490&\"||\"&B2490),Worktags!AR:AV,5,FALSE),\"\")","v":""}]
["",null,null,null,null,{"$f":"IFERROR(VLOOKUP(IF(C2491=\"\",B2491&\"||\"&B2491,C2491&\"||\"&B2491),Worktags!AR:AV,5,FALSE),\"\")","v":""}]
["",null,null,null,null,{"$f":"IFERROR(VLOOKUP(IF(C2492=\"\",B2492&\"||\"&B2492,C2492&\"||\"&B2492),Worktags!AR:AV,5,FALSE),\"\")","v":""}]
["",null,null,null,null,{"$f":"IFERROR(VLOOKUP(IF(C2493=\"\",B2493&\"||\"&B2493,C2493&\"||\"&B2493),Worktags!AR:AV,5,FALSE),\"\")","v":""}]
["",null,null,null,null,{"$f":"IFERROR(VLOOKUP(IF(C2494=\"\",B2494&\"||\"&B2494,C2494&\"||\"&B2494),Worktags!AR:AV,5,FALSE),\"\")","v":""}]
["",null,null,null,null,{"$f":"IFERROR(VLOOKUP(IF(C2495=\"\",B2495&\"||\"&B2495,C2495&\"||\"&B2495),Worktags!AR:AV,5,FALSE),\"\")","v":""}]
["",null,null,null,null,{"$f":"IFERROR(VLOOKUP(IF(C2496=\"\",B2496&\"||\"&B2496,C2496&\"||\"&B2496),Worktags!AR:AV,5,FALSE),\"\")","v":""}]
["",null,null,null,null,{"$f":"IFERROR(VLOOKUP(IF(C2497=\"\",B2497&\"||\"&B2497,C2497&\"||\"&B2497),Worktags!AR:AV,5,FALSE),\"\")","v":""}]
[{"$f":"IF(B2498<>\"\",IF(C2498<>\"\",B2498&\"_\"&C2498&\" \"&D2498&\"/\"&E2498,B2498&\" \"&D2498),\"\")","v":""},null,null,null,null,{"$f":"IFERROR(VLOOKUP(IF(C2498=\"\",B2498&\"||\"&B2498,C2498&\"||\"&B2498),Worktags!AR:AV,5,FALSE),\"\")","v":""}]
["",null,null,null,null,{"$f":"IFERROR(VLOOKUP(IF(C2499=\"\",B2499&\"||\"&B2499,C2499&\"||\"&B2499),Worktags!AR:AV,5,FALSE),\"\")","v":""}]
["",null,null,null,null,{"$f":"IFERROR(VLOOKUP(IF(C2500=\"\",B2500&\"||\"&B2500,C2500&\"||\"&B2500),Worktags!AR:AV,5,FALSE),\"\")","v":""}]
["",null,null,null,null,{"$f":"IFERROR(VLOOKUP(IF(C2501=\"\",B2501&\"||\"&B2501,C2501&\"||\"&B2501),Worktags!AR:AV,5,FALSE),\"\")","v":""}]
["",null,null,null,null,{"$f":"IFERROR(VLOOKUP(IF(C2502=\"\",B2502&\"||\"&B2502,C2502&\"||\"&B2502),Worktags!AR:AV,5,FALSE),\"\")","v":""}]
["",null,null,null,null,{"$f":"IFERROR(VLOOKUP(IF(C2503=\"\",B2503&\"||\"&B2503,C2503&\"||\"&B2503),Worktags!AR:AV,5,FALSE),\"\")","v":""}]
["",null,null,null,null,{"$f":"IFERROR(VLOOKUP(IF(C2504=\"\",B2504&\"||\"&B2504,C2504&\"||\"&B2504),Worktags!AR:AV,5,FALSE),\"\")","v":""}]
["",null,null,null,null,{"$f":"IFERROR(VLOOKUP(IF(C2505=\"\",B2505&\"||\"&B2505,C2505&\"||\"&B2505),Worktags!AR:AV,5,FALSE),\"\")","v":""}]
["",null,null,null,null,{"$f":"IFERROR(VLOOKUP(IF(C2506=\"\",B2506&\"||\"&B2506,C2506&\"||\"&B2506),Worktags!AR:AV,5,FALSE),\"\")","v":""}]
["",null,null,null,null,{"$f":"IFERROR(VLOOKUP(IF(C2507=\"\",B2507&\"||\"&B2507,C2507&\"||\"&B2507),Worktags!AR:AV,5,FALSE),\"\")","v":""}]
["",null,null,null,null,{"$f":"IFERROR(VLOOKUP(IF(C2508=\"\",B2508&\"||\"&B2508,C2508&\"||\"&B2508),Worktags!AR:AV,5,FALSE),\"\")","v":""}]
["",null,null,null,null,{"$f":"IFERROR(VLOOKUP(IF(C2509=\"\",B2509&\"||\"&B2509,C2509&\"||\"&B2509),Worktags!AR:AV,5,FALSE),\"\")","v":""}]
["",null,null,null,null,{"$f":"IFERROR(VLOOKUP(IF(C2510=\"\",B2510&\"||\"&B2510,C2510&\"||\"&B2510),Worktags!AR:AV,5,FALSE),\"\")","v":""}]
["",null,null,null,null,{"$f":"IFERROR(VLOOKUP(IF(C2511=\"\",B2511&\"||\"&B2511,C2511&\"||\"&B2511),Worktags!AR:AV,5,FALSE),\"\")","v":""}]
["",null,null,null,null,{"$f":"IFERROR(VLOOKUP(IF(C2512=\"\",B2512&\"||\"&B2512,C2512&\"||\"&B2512),Worktags!AR:AV,5,FALSE),\"\")","v":""}]
["",null,null,null,null,{"$f":"IFERROR(VLOOKUP(IF(C2513=\"\",B2513&\"||\"&B2513,C2513&\"||\"&B2513),Worktags!AR:AV,5,FALSE),\"\")","v":""}]
["",null,null,null,null,{"$f":"IFERROR(VLOOKUP(IF(C2514=\"\",B2514&\"||\"&B2514,C2514&\"||\"&B2514),Worktags!AR:AV,5,FALSE),\"\")","v":""}]
["",null,null,null,null,{"$f":"IFERROR(VLOOKUP(IF(C2515=\"\",B2515&\"||\"&B2515,C2515&\"||\"&B2515),Worktags!AR:AV,5,FALSE),\"\")","v":""}]
["",null,null,null,null,{"$f":"IFERROR(VLOOKUP(IF(C2516=\"\",B2516&\"||\"&B2516,C2516&\"||\"&B2516),Worktags!AR:AV,5,FALSE),\"\")","v":""}]
["",null,null,null,null,{"$f":"IFERROR(VLOOKUP(IF(C2517=\"\",B2517&\"||\"&B2517,C2517&\"||\"&B2517),Worktags!AR:AV,5,FALSE),\"\")","v":""}]
["",null,null,null,null,{"$f":"IFERROR(VLOOKUP(IF(C2518=\"\",B2518&\"||\"&B2518,C2518&\"||\"&B2518),Worktags!AR:AV,5,FALSE),\"\")","v":""}]
["",null,null,null,null,{"$f":"IFERROR(VLOOKUP(IF(C2519=\"\",B2519&\"||\"&B2519,C2519&\"||\"&B2519),Worktags!AR:AV,5,FALSE),\"\")","v":""}]
["",null,null,null,null,{"$f":"IFERROR(VLOOKUP(IF(C2520=\"\",B2520&\"||\"&B2520,C2520&\"||\"&B2520),Worktags!AR:AV,5,FALSE),\"\")","v":""}]
["",null,null,null,null,{"$f":"IFERROR(VLOOKUP(IF(C2521=\"\",B2521&\"||\"&B2521,C2521&\"||\"&B2521),Worktags!AR:AV,5,FALSE),\"\")","v":""}]
["",null,null,null,null,{"$f":"IFERROR(VLOOKUP(IF(C2522=\"\",B2522&\"||\"&B2522,C2522&\"||\"&B2522),Worktags!AR:AV,5,FALSE),\"\")","v":""}]
["",null,null,null,null,{"$f":"IFERROR(VLOOKUP(IF(C2523=\"\",B2523&\"||\"&B2523,C2523&\"||\"&B2523),Worktags!AR:AV,5,FALSE),\"\")","v":""}]
["",null,null,null,null,{"$f":"IFERROR(VLOOKUP(IF(C2524=\"\",B2524&\"||\"&B2524,C2524&\"||\"&B2524),Worktags!AR:AV,5,FALSE),\"\")","v":""}]
["",null,null,null,null,{"$f":"IFERROR(VLOOKUP(IF(C2525=\"\",B2525&\"||\"&B2525,C2525&\"||\"&B2525),Worktags!AR:AV,5,FALSE),\"\")","v":""}]
["",null,null,null,null,{"$f":"IFERROR(VLOOKUP(IF(C2526=\"\",B2526&\"||\"&B2526,C2526&\"||\"&B2526),Worktags!AR:AV,5,FALSE),\"\")","v":""}]
["",null,null,null,null,{"$f":"IFERROR(VLOOKUP(IF(C2527=\"\",B2527&\"||\"&B2527,C2527&\"||\"&B2527),Worktags!AR:AV,5,FALSE),\"\")","v":""}]
["",null,null,null,null,{"$f":"IFERROR(VLOOKUP(IF(C2528=\"\",B2528&\"||\"&B2528,C2528&\"||\"&B2528),Worktags!AR:AV,5,FALSE),\"\")","v":""}]
["",null,null,null,null,{"$f":"IFERROR(VLOOKUP(IF(C2529=\"\",B2529&\"||\"&B2529,C2529&\"||\"&B2529),Worktags!AR:AV,5,FALSE),\"\")","v":""}]
["",null,null,null,null,{"$f":"IFERROR(VLOOKUP(IF(C2530=\"\",B2530&\"||\"&B2530,C2530&\"||\"&B2530),Worktags!AR:AV,5,FALSE),\"\")","v":""}]
["",null,null,null,null,{"$f":"IFERROR(VLOOKUP(IF(C2531=\"\",B2531&\"||\"&B2531,C2531&\"||\"&B2531),Worktags!AR:AV,5,FALSE),\"\")","v":""}]
["",null,null,null,null,{"$f":"IFERROR(VLOOKUP(IF(C2532=\"\",B2532&\"||\"&B2532,C2532&\"||\"&B2532),Worktags!AR:AV,5,FALSE),\"\")","v":""}]
["",null,null,null,null,{"$f":"IFERROR(VLOOKUP(IF(C2533=\"\",B2533&\"||\"&B2533,C2533&\"||\"&B2533),Worktags!AR:AV,5,FALSE),\"\")","v":""}]
["",null,null,null,null,{"$f":"IFERROR(VLOOKUP(IF(C2534=\"\",B2534&\"||\"&B2534,C2534&\"||\"&B2534),Worktags!AR:AV,5,FALSE),\"\")","v":""}]
["",null,null,null,null,{"$f":"IFERROR(VLOOKUP(IF(C2535=\"\",B2535&\"||\"&B2535,C2535&\"||\"&B2535),Worktags!AR:AV,5,FALSE),\"\")","v":""}]
["",null,null,null,null,{"$f":"IFERROR(VLOOKUP(IF(C2536=\"\",B2536&\"||\"&B2536,C2536&\"||\"&B2536),Worktags!AR:AV,5,FALSE),\"\")","v":""}]
["",null,null,null,null,{"$f":"IFERROR(VLOOKUP(IF(C2537=\"\",B2537&\"||\"&B2537,C2537&\"||\"&B2537),Worktags!AR:AV,5,FALSE),\"\")","v":""}]
["",null,null,null,null,{"$f":"IFERROR(VLOOKUP(IF(C2538=\"\",B2538&\"||\"&B2538,C2538&\"||\"&B2538),Worktags!AR:AV,5,FALSE),\"\")","v":""}]
["",null,null,null,null,{"$f":"IFERROR(VLOOKUP(IF(C2539=\"\",B2539&\"||\"&B2539,C2539&\"||\"&B2539),Worktags!AR:AV,5,FALSE),\"\")","v":""}]
["",null,null,null,null,{"$f":"IFERROR(VLOOKUP(IF(C2540=\"\",B2540&\"||\"&B2540,C2540&\"||\"&B2540),Worktags!AR:AV,5,FALSE),\"\")","v":""}]
["",null,null,null,null,{"$f":"IFERROR(VLOOKUP(IF(C2541=\"\",B2541&\"||\"&B2541,C2541&\"||\"&B2541),Worktags!AR:AV,5,FALSE),\"\")","v":""}]
["",null,null,null,null,{"$f":"IFERROR(VLOOKUP(IF(C2542=\"\",B2542&\"||\"&B2542,C2542&\"||\"&B2542),Worktags!AR:AV,5,FALSE),\"\")","v":""}]
["",null,null,null,null,{"$f":"IFERROR(VLOOKUP(IF(C2543=\"\",B2543&\"||\"&B2543,C2543&\"||\"&B2543),Worktags!AR:AV,5,FALSE),\"\")","v":""}]
["",null,null,null,null,{"$f":"IFERROR(VLOOKUP(IF(C2544=\"\",B2544&\"||\"&B2544,C2544&\"||\"&B2544),Worktags!AR:AV,5,FALSE),\"\")","v":""}]
["",null,null,null,null,{"$f":"IFERROR(VLOOKUP(IF(C2545=\"\",B2545&\"||\"&B2545,C2545&\"||\"&B2545),Worktags!AR:AV,5,FALSE),\"\")","v":""}]
["",null,null,null,null,{"$f":"IFERROR(VLOOKUP(IF(C2546=\"\",B2546&\"||\"&B2546,C2546&\"||\"&B2546),Worktags!AR:AV,5,FALSE),\"\")","v":""}]
["",null,null,null,null,{"$f":"IFERROR(VLOOKUP(IF(C2547=\"\",B2547&\"||\"&B2547,C2547&\"||\"&B2547),Worktags!AR:AV,5,FALSE),\"\")","v":""}]
["",null,null,null,null,{"$f":"IFERROR(VLOOKUP(IF(C2548=\"\",B2548&\"||\"&B2548,C2548&\"||\"&B2548),Worktags!AR:AV,5,FALSE),\"\")","v":""}]
["",null,null,null,null,{"$f":"IFERROR(VLOOKUP(IF(C2549=\"\",B2549&\"||\"&B2549,C2549&\"||\"&B2549),Worktags!AR:AV,5,FALSE),\"\")","v":""}]
["",null,null,null,null,{"$f":"IFERROR(VLOOKUP(IF(C2550=\"\",B2550&\"||\"&B2550,C2550&\"||\"&B2550),Worktags!AR:AV,5,FALSE),\"\")","v":""}]
["",null,null,null,null,{"$f":"IFERROR(VLOOKUP(IF(C2551=\"\",B2551&\"||\"&B2551,C2551&\"||\"&B2551),Worktags!AR:AV,5,FALSE),\"\")","v":""}]
["",null,null,null,null,{"$f":"IFERROR(VLOOKUP(IF(C2552=\"\",B2552&\"||\"&B2552,C2552&\"||\"&B2552),Worktags!AR:AV,5,FALSE),\"\")","v":""}]
["",null,null,null,null,{"$f":"IFERROR(VLOOKUP(IF(C2553=\"\",B2553&\"||\"&B2553,C2553&\"||\"&B2553),Worktags!AR:AV,5,FALSE),\"\")","v":""}]
["",null,null,null,null,{"$f":"IFERROR(VLOOKUP(IF(C2554=\"\",B2554&\"||\"&B2554,C2554&\"||\"&B2554),Worktags!AR:AV,5,FALSE),\"\")","v":""}]
["",null,null,null,null,{"$f":"IFERROR(VLOOKUP(IF(C2555=\"\",B2555&\"||\"&B2555,C2555&\"||\"&B2555),Worktags!AR:AV,5,FALSE),\"\")","v":""}]
["",null,null,null,null,{"$f":"IFERROR(VLOOKUP(IF(C2556=\"\",B2556&\"||\"&B2556,C2556&\"||\"&B2556),Worktags!AR:AV,5,FALSE),\"\")","v":""}]
["",null,null,null,null,{"$f":"IFERROR(VLOOKUP(IF(C2557=\"\",B2557&\"||\"&B2557,C2557&\"||\"&B2557),Worktags!AR:AV,5,FALSE),\"\")","v":""}]
["",null,null,null,null,{"$f":"IFERROR(VLOOKUP(IF(C2558=\"\",B2558&\"||\"&B2558,C2558&\"||\"&B2558),Worktags!AR:AV,5,FALSE),\"\")","v":""}]
["",null,null,null,null,{"$f":"IFERROR(VLOOKUP(IF(C2559=\"\",B2559&\"||\"&B2559,C2559&\"||\"&B2559),Worktags!AR:AV,5,FALSE),\"\")","v":""}]
["",null,null,null,null,{"$f":"IFERROR(VLOOKUP(IF(C2560=\"\",B2560&\"||\"&B2560,C2560&\"||\"&B2560),Worktags!AR:AV,5,FALSE),\"\")","v":""}]
["",null,null,null,null,{"$f":"IFERROR(VLOOKUP(IF(C2561=\"\",B2561&\"||\"&B2561,C2561&\"||\"&B2561),Worktags!AR:AV,5,FALSE),\"\")","v":""}]
[{"$f":"IF(B2562<>\"\",IF(C2562<>\"\",B2562&\"_\"&C2562&\" \"&D2562&\"/\"&E2562,B2562&\" \"&D2562),\"\")","v":""},null,null,null,null,{"$f":"IFERROR(VLOOKUP(IF(C2562=\"\",B2562&\"||\"&B2562,C2562&\"||\"&B2562),Worktags!AR:AV,5,FALSE),\"\")","v":""}]
["",null,null,null,null,{"$f":"IFERROR(VLOOKUP(IF(C2563=\"\",B2563&\"||\"&B2563,C2563&\"||\"&B2563),Worktags!AR:AV,5,FALSE),\"\")","v":""}]
["",null,null,null,null,{"$f":"IFERROR(VLOOKUP(IF(C2564=\"\",B2564&\"||\"&B2564,C2564&\"||\"&B2564),Worktags!AR:AV,5,FALSE),\"\")","v":""}]
["",null,null,null,null,{"$f":"IFERROR(VLOOKUP(IF(C2565=\"\",B2565&\"||\"&B2565,C2565&\"||\"&B2565),Worktags!AR:AV,5,FALSE),\"\")","v":""}]
["",null,null,null,null,{"$f":"IFERROR(VLOOKUP(IF(C2566=\"\",B2566&\"||\"&B2566,C2566&\"||\"&B2566),Worktags!AR:AV,5,FALSE),\"\")","v":""}]
["",null,null,null,null,{"$f":"IFERROR(VLOOKUP(IF(C2567=\"\",B2567&\"||\"&B2567,C2567&\"||\"&B2567),Worktags!AR:AV,5,FALSE),\"\")","v":""}]
["",null,null,null,null,{"$f":"IFERROR(VLOOKUP(IF(C2568=\"\",B2568&\"||\"&B2568,C2568&\"||\"&B2568),Worktags!AR:AV,5,FALSE),\"\")","v":""}]
["",null,null,null,null,{"$f":"IFERROR(VLOOKUP(IF(C2569=\"\",B2569&\"||\"&B2569,C2569&\"||\"&B2569),Worktags!AR:AV,5,FALSE),\"\")","v":""}]
["",null,null,null,null,{"$f":"IFERROR(VLOOKUP(IF(C2570=\"\",B2570&\"||\"&B2570,C2570&\"||\"&B2570),Worktags!AR:AV,5,FALSE),\"\")","v":""}]
["",null,null,null,null,{"$f":"IFERROR(VLOOKUP(IF(C2571=\"\",B2571&\"||\"&B2571,C2571&\"||\"&B2571),Worktags!AR:AV,5,FALSE),\"\")","v":""}]
["",null,null,null,null,{"$f":"IFERROR(VLOOKUP(IF(C2572=\"\",B2572&\"||\"&B2572,C2572&\"||\"&B2572),Worktags!AR:AV,5,FALSE),\"\")","v":""}]
["",null,null,null,null,{"$f":"IFERROR(VLOOKUP(IF(C2573=\"\",B2573&\"||\"&B2573,C2573&\"||\"&B2573),Worktags!AR:AV,5,FALSE),\"\")","v":""}]
["",null,null,null,null,{"$f":"IFERROR(VLOOKUP(IF(C2574=\"\",B2574&\"||\"&B2574,C2574&\"||\"&B2574),Worktags!AR:AV,5,FALSE),\"\")","v":""}]
["",null,null,null,null,{"$f":"IFERROR(VLOOKUP(IF(C2575=\"\",B2575&\"||\"&B2575,C2575&\"||\"&B2575),Worktags!AR:AV,5,FALSE),\"\")","v":""}]
["",null,null,null,null,{"$f":"IFERROR(VLOOKUP(IF(C2576=\"\",B2576&\"||\"&B2576,C2576&\"||\"&B2576),Worktags!AR:AV,5,FALSE),\"\")","v":""}]
["",null,null,null,null,{"$f":"IFERROR(VLOOKUP(IF(C2577=\"\",B2577&\"||\"&B2577,C2577&\"||\"&B2577),Worktags!AR:AV,5,FALSE),\"\")","v":""}]
["",null,null,null,null,{"$f":"IFERROR(VLOOKUP(IF(C2578=\"\",B2578&\"||\"&B2578,C2578&\"||\"&B2578),Worktags!AR:AV,5,FALSE),\"\")","v":""}]
["",null,null,null,null,{"$f":"IFERROR(VLOOKUP(IF(C2579=\"\",B2579&\"||\"&B2579,C2579&\"||\"&B2579),Worktags!AR:AV,5,FALSE),\"\")","v":""}]
["",null,null,null,null,{"$f":"IFERROR(VLOOKUP(IF(C2580=\"\",B2580&\"||\"&B2580,C2580&\"||\"&B2580),Worktags!AR:AV,5,FALSE),\"\")","v":""}]
["",null,null,null,null,{"$f":"IFERROR(VLOOKUP(IF(C2581=\"\",B2581&\"||\"&B2581,C2581&\"||\"&B2581),Worktags!AR:AV,5,FALSE),\"\")","v":""}]
["",null,null,null,null,{"$f":"IFERROR(VLOOKUP(IF(C2582=\"\",B2582&\"||\"&B2582,C2582&\"||\"&B2582),Worktags!AR:AV,5,FALSE),\"\")","v":""}]
["",null,null,null,null,{"$f":"IFERROR(VLOOKUP(IF(C2583=\"\",B2583&\"||\"&B2583,C2583&\"||\"&B2583),Worktags!AR:AV,5,FALSE),\"\")","v":""}]
["",null,null,null,null,{"$f":"IFERROR(VLOOKUP(IF(C2584=\"\",B2584&\"||\"&B2584,C2584&\"||\"&B2584),Worktags!AR:AV,5,FALSE),\"\")","v":""}]
["",null,null,null,null,{"$f":"IFERROR(VLOOKUP(IF(C2585=\"\",B2585&\"||\"&B2585,C2585&\"||\"&B2585),Worktags!AR:AV,5,FALSE),\"\")","v":""}]
["",null,null,null,null,{"$f":"IFERROR(VLOOKUP(IF(C2586=\"\",B2586&\"||\"&B2586,C2586&\"||\"&B2586),Worktags!AR:AV,5,FALSE),\"\")","v":""}]
["",null,null,null,null,{"$f":"IFERROR(VLOOKUP(IF(C2587=\"\",B2587&\"||\"&B2587,C2587&\"||\"&B2587),Worktags!AR:AV,5,FALSE),\"\")","v":""}]
["",null,null,null,null,{"$f":"IFERROR(VLOOKUP(IF(C2588=\"\",B2588&\"||\"&B2588,C2588&\"||\"&B2588),Worktags!AR:AV,5,FALSE),\"\")","v":""}]
["",null,null,null,null,{"$f":"IFERROR(VLOOKUP(IF(C2589=\"\",B2589&\"||\"&B2589,C2589&\"||\"&B2589),Worktags!AR:AV,5,FALSE),\"\")","v":""}]
["",null,null,null,null,{"$f":"IFERROR(VLOOKUP(IF(C2590=\"\",B2590&\"||\"&B2590,C2590&\"||\"&B2590),Worktags!AR:AV,5,FALSE),\"\")","v":""}]
["",null,null,null,null,{"$f":"IFERROR(VLOOKUP(IF(C2591=\"\",B2591&\"||\"&B2591,C2591&\"||\"&B2591),Worktags!AR:AV,5,FALSE),\"\")","v":""}]
["",null,null,null,null,{"$f":"IFERROR(VLOOKUP(IF(C2592=\"\",B2592&\"||\"&B2592,C2592&\"||\"&B2592),Worktags!AR:AV,5,FALSE),\"\")","v":""}]
["",null,null,null,null,{"$f":"IFERROR(VLOOKUP(IF(C2593=\"\",B2593&\"||\"&B2593,C2593&\"||\"&B2593),Worktags!AR:AV,5,FALSE),\"\")","v":""}]
["",null,null,null,null,{"$f":"IFERROR(VLOOKUP(IF(C2594=\"\",B2594&\"||\"&B2594,C2594&\"||\"&B2594),Worktags!AR:AV,5,FALSE),\"\")","v":""}]
["",null,null,null,null,{"$f":"IFERROR(VLOOKUP(IF(C2595=\"\",B2595&\"||\"&B2595,C2595&\"||\"&B2595),Worktags!AR:AV,5,FALSE),\"\")","v":""}]
["",null,null,null,null,{"$f":"IFERROR(VLOOKUP(IF(C2596=\"\",B2596&\"||\"&B2596,C2596&\"||\"&B2596),Worktags!AR:AV,5,FALSE),\"\")","v":""}]
["",null,null,null,null,{"$f":"IFERROR(VLOOKUP(IF(C2597=\"\",B2597&\"||\"&B2597,C2597&\"||\"&B2597),Worktags!AR:AV,5,FALSE),\"\")","v":""}]
["",null,null,null,null,{"$f":"IFERROR(VLOOKUP(IF(C2598=\"\",B2598&\"||\"&B2598,C2598&\"||\"&B2598),Worktags!AR:AV,5,FALSE),\"\")","v":""}]
["",null,null,null,null,{"$f":"IFERROR(VLOOKUP(IF(C2599=\"\",B2599&\"||\"&B2599,C2599&\"||\"&B2599),Worktags!AR:AV,5,FALSE),\"\")","v":""}]
["",null,null,null,null,{"$f":"IFERROR(VLOOKUP(IF(C2600=\"\",B2600&\"||\"&B2600,C2600&\"||\"&B2600),Worktags!AR:AV,5,FALSE),\"\")","v":""}]
["",null,null,null,null,{"$f":"IFERROR(VLOOKUP(IF(C2601=\"\",B2601&\"||\"&B2601,C2601&\"||\"&B2601),Worktags!AR:AV,5,FALSE),\"\")","v":""}]
["",null,null,null,null,{"$f":"IFERROR(VLOOKUP(IF(C2602=\"\",B2602&\"||\"&B2602,C2602&\"||\"&B2602),Worktags!AR:AV,5,FALSE),\"\")","v":""}]
["",null,null,null,null,{"$f":"IFERROR(VLOOKUP(IF(C2603=\"\",B2603&\"||\"&B2603,C2603&\"||\"&B2603),Worktags!AR:AV,5,FALSE),\"\")","v":""}]
["",null,null,null,null,{"$f":"IFERROR(VLOOKUP(IF(C2604=\"\",B2604&\"||\"&B2604,C2604&\"||\"&B2604),Worktags!AR:AV,5,FALSE),\"\")","v":""}]
["",null,null,null,null,{"$f":"IFERROR(VLOOKUP(IF(C2605=\"\",B2605&\"||\"&B2605,C2605&\"||\"&B2605),Worktags!AR:AV,5,FALSE),\"\")","v":""}]
["",null,null,null,null,{"$f":"IFERROR(VLOOKUP(IF(C2606=\"\",B2606&\"||\"&B2606,C2606&\"||\"&B2606),Worktags!AR:AV,5,FALSE),\"\")","v":""}]
["",null,null,null,null,{"$f":"IFERROR(VLOOKUP(IF(C2607=\"\",B2607&\"||\"&B2607,C2607&\"||\"&B2607),Worktags!AR:AV,5,FALSE),\"\")","v":""}]
["",null,null,null,null,{"$f":"IFERROR(VLOOKUP(IF(C2608=\"\",B2608&\"||\"&B2608,C2608&\"||\"&B2608),Worktags!AR:AV,5,FALSE),\"\")","v":""}]
["",null,null,null,null,{"$f":"IFERROR(VLOOKUP(IF(C2609=\"\",B2609&\"||\"&B2609,C2609&\"||\"&B2609),Worktags!AR:AV,5,FALSE),\"\")","v":""}]
["",null,null,null,null,{"$f":"IFERROR(VLOOKUP(IF(C2610=\"\",B2610&\"||\"&B2610,C2610&\"||\"&B2610),Worktags!AR:AV,5,FALSE),\"\")","v":""}]
["",null,null,null,null,{"$f":"IFERROR(VLOOKUP(IF(C2611=\"\",B2611&\"||\"&B2611,C2611&\"||\"&B2611),Worktags!AR:AV,5,FALSE),\"\")","v":""}]
["",null,null,null,null,{"$f":"IFERROR(VLOOKUP(IF(C2612=\"\",B2612&\"||\"&B2612,C2612&\"||\"&B2612),Worktags!AR:AV,5,FALSE),\"\")","v":""}]
["",null,null,null,null,{"$f":"IFERROR(VLOOKUP(IF(C2613=\"\",B2613&\"||\"&B2613,C2613&\"||\"&B2613),Worktags!AR:AV,5,FALSE),\"\")","v":""}]
["",null,null,null,null,{"$f":"IFERROR(VLOOKUP(IF(C2614=\"\",B2614&\"||\"&B2614,C2614&\"||\"&B2614),Worktags!AR:AV,5,FALSE),\"\")","v":""}]
["",null,null,null,null,{"$f":"IFERROR(VLOOKUP(IF(C2615=\"\",B2615&\"||\"&B2615,C2615&\"||\"&B2615),Worktags!AR:AV,5,FALSE),\"\")","v":""}]
["",null,null,null,null,{"$f":"IFERROR(VLOOKUP(IF(C2616=\"\",B2616&\"||\"&B2616,C2616&\"||\"&B2616),Worktags!AR:AV,5,FALSE),\"\")","v":""}]
["",null,null,null,null,{"$f":"IFERROR(VLOOKUP(IF(C2617=\"\",B2617&\"||\"&B2617,C2617&\"||\"&B2617),Worktags!AR:AV,5,FALSE),\"\")","v":""}]
["",null,null,null,null,{"$f":"IFERROR(VLOOKUP(IF(C2618=\"\",B2618&\"||\"&B2618,C2618&\"||\"&B2618),Worktags!AR:AV,5,FALSE),\"\")","v":""}]
["",null,null,null,null,{"$f":"IFERROR(VLOOKUP(IF(C2619=\"\",B2619&\"||\"&B2619,C2619&\"||\"&B2619),Worktags!AR:AV,5,FALSE),\"\")","v":""}]
["",null,null,null,null,{"$f":"IFERROR(VLOOKUP(IF(C2620=\"\",B2620&\"||\"&B2620,C2620&\"||\"&B2620),Worktags!AR:AV,5,FALSE),\"\")","v":""}]
["",null,null,null,null,{"$f":"IFERROR(VLOOKUP(IF(C2621=\"\",B2621&\"||\"&B2621,C2621&\"||\"&B2621),Worktags!AR:AV,5,FALSE),\"\")","v":""}]
["",null,null,null,null,{"$f":"IFERROR(VLOOKUP(IF(C2622=\"\",B2622&\"||\"&B2622,C2622&\"||\"&B2622),Worktags!AR:AV,5,FALSE),\"\")","v":""}]
["",null,null,null,null,{"$f":"IFERROR(VLOOKUP(IF(C2623=\"\",B2623&\"||\"&B2623,C2623&\"||\"&B2623),Worktags!AR:AV,5,FALSE),\"\")","v":""}]
["",null,null,null,null,{"$f":"IFERROR(VLOOKUP(IF(C2624=\"\",B2624&\"||\"&B2624,C2624&\"||\"&B2624),Worktags!AR:AV,5,FALSE),\"\")","v":""}]
["",null,null,null,null,{"$f":"IFERROR(VLOOKUP(IF(C2625=\"\",B2625&\"||\"&B2625,C2625&\"||\"&B2625),Worktags!AR:AV,5,FALSE),\"\")","v":""}]
[{"$f":"IF(B2626<>\"\",IF(C2626<>\"\",B2626&\"_\"&C2626&\" \"&D2626&\"/\"&E2626,B2626&\" \"&D2626),\"\")","v":""},null,null,null,null,{"$f":"IFERROR(VLOOKUP(IF(C2626=\"\",B2626&\"||\"&B2626,C2626&\"||\"&B2626),Worktags!AR:AV,5,FALSE),\"\")","v":""}]
["",null,null,null,null,{"$f":"IFERROR(VLOOKUP(IF(C2627=\"\",B2627&\"||\"&B2627,C2627&\"||\"&B2627),Worktags!AR:AV,5,FALSE),\"\")","v":""}]
["",null,null,null,null,{"$f":"IFERROR(VLOOKUP(IF(C2628=\"\",B2628&\"||\"&B2628,C2628&\"||\"&B2628),Worktags!AR:AV,5,FALSE),\"\")","v":""}]
["",null,null,null,null,{"$f":"IFERROR(VLOOKUP(IF(C2629=\"\",B2629&\"||\"&B2629,C2629&\"||\"&B2629),Worktags!AR:AV,5,FALSE),\"\")","v":""}]
["",null,null,null,null,{"$f":"IFERROR(VLOOKUP(IF(C2630=\"\",B2630&\"||\"&B2630,C2630&\"||\"&B2630),Worktags!AR:AV,5,FALSE),\"\")","v":""}]
["",null,null,null,null,{"$f":"IFERROR(VLOOKUP(IF(C2631=\"\",B2631&\"||\"&B2631,C2631&\"||\"&B2631),Worktags!AR:AV,5,FALSE),\"\")","v":""}]
["",null,null,null,null,{"$f":"IFERROR(VLOOKUP(IF(C2632=\"\",B2632&\"||\"&B2632,C2632&\"||\"&B2632),Worktags!AR:AV,5,FALSE),\"\")","v":""}]
["",null,null,null,null,{"$f":"IFERROR(VLOOKUP(IF(C2633=\"\",B2633&\"||\"&B2633,C2633&\"||\"&B2633),Worktags!AR:AV,5,FALSE),\"\")","v":""}]
["",null,null,null,null,{"$f":"IFERROR(VLOOKUP(IF(C2634=\"\",B2634&\"||\"&B2634,C2634&\"||\"&B2634),Worktags!AR:AV,5,FALSE),\"\")","v":""}]
["",null,null,null,null,{"$f":"IFERROR(VLOOKUP(IF(C2635=\"\",B2635&\"||\"&B2635,C2635&\"||\"&B2635),Worktags!AR:AV,5,FALSE),\"\")","v":""}]
["",null,null,null,null,{"$f":"IFERROR(VLOOKUP(IF(C2636=\"\",B2636&\"||\"&B2636,C2636&\"||\"&B2636),Worktags!AR:AV,5,FALSE),\"\")","v":""}]
["",null,null,null,null,{"$f":"IFERROR(VLOOKUP(IF(C2637=\"\",B2637&\"||\"&B2637,C2637&\"||\"&B2637),Worktags!AR:AV,5,FALSE),\"\")","v":""}]
["",null,null,null,null,{"$f":"IFERROR(VLOOKUP(IF(C2638=\"\",B2638&\"||\"&B2638,C2638&\"||\"&B2638),Worktags!AR:AV,5,FALSE),\"\")","v":""}]
["",null,null,null,null,{"$f":"IFERROR(VLOOKUP(IF(C2639=\"\",B2639&\"||\"&B2639,C2639&\"||\"&B2639),Worktags!AR:AV,5,FALSE),\"\")","v":""}]
["",null,null,null,null,{"$f":"IFERROR(VLOOKUP(IF(C2640=\"\",B2640&\"||\"&B2640,C2640&\"||\"&B2640),Worktags!AR:AV,5,FALSE),\"\")","v":""}]
["",null,null,null,null,{"$f":"IFERROR(VLOOKUP(IF(C2641=\"\",B2641&\"||\"&B2641,C2641&\"||\"&B2641),Worktags!AR:AV,5,FALSE),\"\")","v":""}]
["",null,null,null,null,{"$f":"IFERROR(VLOOKUP(IF(C2642=\"\",B2642&\"||\"&B2642,C2642&\"||\"&B2642),Worktags!AR:AV,5,FALSE),\"\")","v":""}]
["",null,null,null,null,{"$f":"IFERROR(VLOOKUP(IF(C2643=\"\",B2643&\"||\"&B2643,C2643&\"||\"&B2643),Worktags!AR:AV,5,FALSE),\"\")","v":""}]
["",null,null,null,null,{"$f":"IFERROR(VLOOKUP(IF(C2644=\"\",B2644&\"||\"&B2644,C2644&\"||\"&B2644),Worktags!AR:AV,5,FALSE),\"\")","v":""}]
["",null,null,null,null,{"$f":"IFERROR(VLOOKUP(IF(C2645=\"\",B2645&\"||\"&B2645,C2645&\"||\"&B2645),Worktags!AR:AV,5,FALSE),\"\")","v":""}]
["",null,null,null,null,{"$f":"IFERROR(VLOOKUP(IF(C2646=\"\",B2646&\"||\"&B2646,C2646&\"||\"&B2646),Worktags!AR:AV,5,FALSE),\"\")","v":""}]
["",null,null,null,null,{"$f":"IFERROR(VLOOKUP(IF(C2647=\"\",B2647&\"||\"&B2647,C2647&\"||\"&B2647),Worktags!AR:AV,5,FALSE),\"\")","v":""}]
["",null,null,null,null,{"$f":"IFERROR(VLOOKUP(IF(C2648=\"\",B2648&\"||\"&B2648,C2648&\"||\"&B2648),Worktags!AR:AV,5,FALSE),\"\")","v":""}]
["",null,null,null,null,{"$f":"IFERROR(VLOOKUP(IF(C2649=\"\",B2649&\"||\"&B2649,C2649&\"||\"&B2649),Worktags!AR:AV,5,FALSE),\"\")","v":""}]
["",null,null,null,null,{"$f":"IFERROR(VLOOKUP(IF(C2650=\"\",B2650&\"||\"&B2650,C2650&\"||\"&B2650),Worktags!AR:AV,5,FALSE),\"\")","v":""}]
["",null,null,null,null,{"$f":"IFERROR(VLOOKUP(IF(C2651=\"\",B2651&\"||\"&B2651,C2651&\"||\"&B2651),Worktags!AR:AV,5,FALSE),\"\")","v":""}]
["",null,null,null,null,{"$f":"IFERROR(VLOOKUP(IF(C2652=\"\",B2652&\"||\"&B2652,C2652&\"||\"&B2652),Worktags!AR:AV,5,FALSE),\"\")","v":""}]
["",null,null,null,null,{"$f":"IFERROR(VLOOKUP(IF(C2653=\"\",B2653&\"||\"&B2653,C2653&\"||\"&B2653),Worktags!AR:AV,5,FALSE),\"\")","v":""}]
["",null,null,null,null,{"$f":"IFERROR(VLOOKUP(IF(C2654=\"\",B2654&\"||\"&B2654,C2654&\"||\"&B2654),Worktags!AR:AV,5,FALSE),\"\")","v":""}]
["",null,null,null,null,{"$f":"IFERROR(VLOOKUP(IF(C2655=\"\",B2655&\"||\"&B2655,C2655&\"||\"&B2655),Worktags!AR:AV,5,FALSE),\"\")","v":""}]
["",null,null,null,null,{"$f":"IFERROR(VLOOKUP(IF(C2656=\"\",B2656&\"||\"&B2656,C2656&\"||\"&B2656),Worktags!AR:AV,5,FALSE),\"\")","v":""}]
["",null,null,null,null,{"$f":"IFERROR(VLOOKUP(IF(C2657=\"\",B2657&\"||\"&B2657,C2657&\"||\"&B2657),Worktags!AR:AV,5,FALSE),\"\")","v":""}]
["",null,null,null,null,{"$f":"IFERROR(VLOOKUP(IF(C2658=\"\",B2658&\"||\"&B2658,C2658&\"||\"&B2658),Worktags!AR:AV,5,FALSE),\"\")","v":""}]
["",null,null,null,null,{"$f":"IFERROR(VLOOKUP(IF(C2659=\"\",B2659&\"||\"&B2659,C2659&\"||\"&B2659),Worktags!AR:AV,5,FALSE),\"\")","v":""}]
["",null,null,null,null,{"$f":"IFERROR(VLOOKUP(IF(C2660=\"\",B2660&\"||\"&B2660,C2660&\"||\"&B2660),Worktags!AR:AV,5,FALSE),\"\")","v":""}]
["",null,null,null,null,{"$f":"IFERROR(VLOOKUP(IF(C2661=\"\",B2661&\"||\"&B2661,C2661&\"||\"&B2661),Worktags!AR:AV,5,FALSE),\"\")","v":""}]
["",null,null,null,null,{"$f":"IFERROR(VLOOKUP(IF(C2662=\"\",B2662&\"||\"&B2662,C2662&\"||\"&B2662),Worktags!AR:AV,5,FALSE),\"\")","v":""}]
["",null,null,null,null,{"$f":"IFERROR(VLOOKUP(IF(C2663=\"\",B2663&\"||\"&B2663,C2663&\"||\"&B2663),Worktags!AR:AV,5,FALSE),\"\")","v":""}]
["",null,null,null,null,{"$f":"IFERROR(VLOOKUP(IF(C2664=\"\",B2664&\"||\"&B2664,C2664&\"||\"&B2664),Worktags!AR:AV,5,FALSE),\"\")","v":""}]
["",null,null,null,null,{"$f":"IFERROR(VLOOKUP(IF(C2665=\"\",B2665&\"||\"&B2665,C2665&\"||\"&B2665),Worktags!AR:AV,5,FALSE),\"\")","v":""}]
["",null,null,null,null,{"$f":"IFERROR(VLOOKUP(IF(C2666=\"\",B2666&\"||\"&B2666,C2666&\"||\"&B2666),Worktags!AR:AV,5,FALSE),\"\")","v":""}]
["",null,null,null,null,{"$f":"IFERROR(VLOOKUP(IF(C2667=\"\",B2667&\"||\"&B2667,C2667&\"||\"&B2667),Worktags!AR:AV,5,FALSE),\"\")","v":""}]
["",null,null,null,null,{"$f":"IFERROR(VLOOKUP(IF(C2668=\"\",B2668&\"||\"&B2668,C2668&\"||\"&B2668),Worktags!AR:AV,5,FALSE),\"\")","v":""}]
["",null,null,null,null,{"$f":"IFERROR(VLOOKUP(IF(C2669=\"\",B2669&\"||\"&B2669,C2669&\"||\"&B2669),Worktags!AR:AV,5,FALSE),\"\")","v":""}]
["",null,null,null,null,{"$f":"IFERROR(VLOOKUP(IF(C2670=\"\",B2670&\"||\"&B2670,C2670&\"||\"&B2670),Worktags!AR:AV,5,FALSE),\"\")","v":""}]
["",null,null,null,null,{"$f":"IFERROR(VLOOKUP(IF(C2671=\"\",B2671&\"||\"&B2671,C2671&\"||\"&B2671),Worktags!AR:AV,5,FALSE),\"\")","v":""}]
["",null,null,null,null,{"$f":"IFERROR(VLOOKUP(IF(C2672=\"\",B2672&\"||\"&B2672,C2672&\"||\"&B2672),Worktags!AR:AV,5,FALSE),\"\")","v":""}]
["",null,null,null,null,{"$f":"IFERROR(VLOOKUP(IF(C2673=\"\",B2673&\"||\"&B2673,C2673&\"||\"&B2673),Worktags!AR:AV,5,FALSE),\"\")","v":""}]
["",null,null,null,null,{"$f":"IFERROR(VLOOKUP(IF(C2674=\"\",B2674&\"||\"&B2674,C2674&\"||\"&B2674),Worktags!AR:AV,5,FALSE),\"\")","v":""}]
["",null,null,null,null,{"$f":"IFERROR(VLOOKUP(IF(C2675=\"\",B2675&\"||\"&B2675,C2675&\"||\"&B2675),Worktags!AR:AV,5,FALSE),\"\")","v":""}]
["",null,null,null,null,{"$f":"IFERROR(VLOOKUP(IF(C2676=\"\",B2676&\"||\"&B2676,C2676&\"||\"&B2676),Worktags!AR:AV,5,FALSE),\"\")","v":""}]
["",null,null,null,null,{"$f":"IFERROR(VLOOKUP(IF(C2677=\"\",B2677&\"||\"&B2677,C2677&\"||\"&B2677),Worktags!AR:AV,5,FALSE),\"\")","v":""}]
["",null,null,null,null,{"$f":"IFERROR(VLOOKUP(IF(C2678=\"\",B2678&\"||\"&B2678,C2678&\"||\"&B2678),Worktags!AR:AV,5,FALSE),\"\")","v":""}]
["",null,null,null,null,{"$f":"IFERROR(VLOOKUP(IF(C2679=\"\",B2679&\"||\"&B2679,C2679&\"||\"&B2679),Worktags!AR:AV,5,FALSE),\"\")","v":""}]
["",null,null,null,null,{"$f":"IFERROR(VLOOKUP(IF(C2680=\"\",B2680&\"||\"&B2680,C2680&\"||\"&B2680),Worktags!AR:AV,5,FALSE),\"\")","v":""}]
["",null,null,null,null,{"$f":"IFERROR(VLOOKUP(IF(C2681=\"\",B2681&\"||\"&B2681,C2681&\"||\"&B2681),Worktags!AR:AV,5,FALSE),\"\")","v":""}]
["",null,null,null,null,{"$f":"IFERROR(VLOOKUP(IF(C2682=\"\",B2682&\"||\"&B2682,C2682&\"||\"&B2682),Worktags!AR:AV,5,FALSE),\"\")","v":""}]
["",null,null,null,null,{"$f":"IFERROR(VLOOKUP(IF(C2683=\"\",B2683&\"||\"&B2683,C2683&\"||\"&B2683),Worktags!AR:AV,5,FALSE),\"\")","v":""}]
["",null,null,null,null,{"$f":"IFERROR(VLOOKUP(IF(C2684=\"\",B2684&\"||\"&B2684,C2684&\"||\"&B2684),Worktags!AR:AV,5,FALSE),\"\")","v":""}]
["",null,null,null,null,{"$f":"IFERROR(VLOOKUP(IF(C2685=\"\",B2685&\"||\"&B2685,C2685&\"||\"&B2685),Worktags!AR:AV,5,FALSE),\"\")","v":""}]
["",null,null,null,null,{"$f":"IFERROR(VLOOKUP(IF(C2686=\"\",B2686&\"||\"&B2686,C2686&\"||\"&B2686),Worktags!AR:AV,5,FALSE),\"\")","v":""}]
["",null,null,null,null,{"$f":"IFERROR(VLOOKUP(IF(C2687=\"\",B2687&\"||\"&B2687,C2687&\"||\"&B2687),Worktags!AR:AV,5,FALSE),\"\")","v":""}]
["",null,null,null,null,{"$f":"IFERROR(VLOOKUP(IF(C2688=\"\",B2688&\"||\"&B2688,C2688&\"||\"&B2688),Worktags!AR:AV,5,FALSE),\"\")","v":""}]
["",null,null,null,null,{"$f":"IFERROR(VLOOKUP(IF(C2689=\"\",B2689&\"||\"&B2689,C2689&\"||\"&B2689),Worktags!AR:AV,5,FALSE),\"\")","v":""}]
[{"$f":"IF(B2690<>\"\",IF(C2690<>\"\",B2690&\"_\"&C2690&\" \"&D2690&\"/\"&E2690,B2690&\" \"&D2690),\"\")","v":""},null,null,null,null,{"$f":"IFERROR(VLOOKUP(IF(C2690=\"\",B2690&\"||\"&B2690,C2690&\"||\"&B2690),Worktags!AR:AV,5,FALSE),\"\")","v":""}]
["",null,null,null,null,{"$f":"IFERROR(VLOOKUP(IF(C2691=\"\",B2691&\"||\"&B2691,C2691&\"||\"&B2691),Worktags!AR:AV,5,FALSE),\"\")","v":""}]
["",null,null,null,null,{"$f":"IFERROR(VLOOKUP(IF(C2692=\"\",B2692&\"||\"&B2692,C2692&\"||\"&B2692),Worktags!AR:AV,5,FALSE),\"\")","v":""}]
["",null,null,null,null,{"$f":"IFERROR(VLOOKUP(IF(C2693=\"\",B2693&\"||\"&B2693,C2693&\"||\"&B2693),Worktags!AR:AV,5,FALSE),\"\")","v":""}]
["",null,null,null,null,{"$f":"IFERROR(VLOOKUP(IF(C2694=\"\",B2694&\"||\"&B2694,C2694&\"||\"&B2694),Worktags!AR:AV,5,FALSE),\"\")","v":""}]
["",null,null,null,null,{"$f":"IFERROR(VLOOKUP(IF(C2695=\"\",B2695&\"||\"&B2695,C2695&\"||\"&B2695),Worktags!AR:AV,5,FALSE),\"\")","v":""}]
["",null,null,null,null,{"$f":"IFERROR(VLOOKUP(IF(C2696=\"\",B2696&\"||\"&B2696,C2696&\"||\"&B2696),Worktags!AR:AV,5,FALSE),\"\")","v":""}]
["",null,null,null,null,{"$f":"IFERROR(VLOOKUP(IF(C2697=\"\",B2697&\"||\"&B2697,C2697&\"||\"&B2697),Worktags!AR:AV,5,FALSE),\"\")","v":""}]
["",null,null,null,null,{"$f":"IFERROR(VLOOKUP(IF(C2698=\"\",B2698&\"||\"&B2698,C2698&\"||\"&B2698),Worktags!AR:AV,5,FALSE),\"\")","v":""}]
["",null,null,null,null,{"$f":"IFERROR(VLOOKUP(IF(C2699=\"\",B2699&\"||\"&B2699,C2699&\"||\"&B2699),Worktags!AR:AV,5,FALSE),\"\")","v":""}]
["",null,null,null,null,{"$f":"IFERROR(VLOOKUP(IF(C2700=\"\",B2700&\"||\"&B2700,C2700&\"||\"&B2700),Worktags!AR:AV,5,FALSE),\"\")","v":""}]
["",null,null,null,null,{"$f":"IFERROR(VLOOKUP(IF(C2701=\"\",B2701&\"||\"&B2701,C2701&\"||\"&B2701),Worktags!AR:AV,5,FALSE),\"\")","v":""}]
["",null,null,null,null,{"$f":"IFERROR(VLOOKUP(IF(C2702=\"\",B2702&\"||\"&B2702,C2702&\"||\"&B2702),Worktags!AR:AV,5,FALSE),\"\")","v":""}]
["",null,null,null,null,{"$f":"IFERROR(VLOOKUP(IF(C2703=\"\",B2703&\"||\"&B2703,C2703&\"||\"&B2703),Worktags!AR:AV,5,FALSE),\"\")","v":""}]
["",null,null,null,null,{"$f":"IFERROR(VLOOKUP(IF(C2704=\"\",B2704&\"||\"&B2704,C2704&\"||\"&B2704),Worktags!AR:AV,5,FALSE),\"\")","v":""}]
["",null,null,null,null,{"$f":"IFERROR(VLOOKUP(IF(C2705=\"\",B2705&\"||\"&B2705,C2705&\"||\"&B2705),Worktags!AR:AV,5,FALSE),\"\")","v":""}]
["",null,null,null,null,{"$f":"IFERROR(VLOOKUP(IF(C2706=\"\",B2706&\"||\"&B2706,C2706&\"||\"&B2706),Worktags!AR:AV,5,FALSE),\"\")","v":""}]
["",null,null,null,null,{"$f":"IFERROR(VLOOKUP(IF(C2707=\"\",B2707&\"||\"&B2707,C2707&\"||\"&B2707),Worktags!AR:AV,5,FALSE),\"\")","v":""}]
["",null,null,null,null,{"$f":"IFERROR(VLOOKUP(IF(C2708=\"\",B2708&\"||\"&B2708,C2708&\"||\"&B2708),Worktags!AR:AV,5,FALSE),\"\")","v":""}]
["",null,null,null,null,{"$f":"IFERROR(VLOOKUP(IF(C2709=\"\",B2709&\"||\"&B2709,C2709&\"||\"&B2709),Worktags!AR:AV,5,FALSE),\"\")","v":""}]
["",null,null,null,null,{"$f":"IFERROR(VLOOKUP(IF(C2710=\"\",B2710&\"||\"&B2710,C2710&\"||\"&B2710),Worktags!AR:AV,5,FALSE),\"\")","v":""}]
["",null,null,null,null,{"$f":"IFERROR(VLOOKUP(IF(C2711=\"\",B2711&\"||\"&B2711,C2711&\"||\"&B2711),Worktags!AR:AV,5,FALSE),\"\")","v":""}]
["",null,null,null,null,{"$f":"IFERROR(VLOOKUP(IF(C2712=\"\",B2712&\"||\"&B2712,C2712&\"||\"&B2712),Worktags!AR:AV,5,FALSE),\"\")","v":""}]
["",null,null,null,null,{"$f":"IFERROR(VLOOKUP(IF(C2713=\"\",B2713&\"||\"&B2713,C2713&\"||\"&B2713),Worktags!AR:AV,5,FALSE),\"\")","v":""}]
["",null,null,null,null,{"$f":"IFERROR(VLOOKUP(IF(C2714=\"\",B2714&\"||\"&B2714,C2714&\"||\"&B2714),Worktags!AR:AV,5,FALSE),\"\")","v":""}]
["",null,null,null,null,{"$f":"IFERROR(VLOOKUP(IF(C2715=\"\",B2715&\"||\"&B2715,C2715&\"||\"&B2715),Worktags!AR:AV,5,FALSE),\"\")","v":""}]
["",null,null,null,null,{"$f":"IFERROR(VLOOKUP(IF(C2716=\"\",B2716&\"||\"&B2716,C2716&\"||\"&B2716),Worktags!AR:AV,5,FALSE),\"\")","v":""}]
["",null,null,null,null,{"$f":"IFERROR(VLOOKUP(IF(C2717=\"\",B2717&\"||\"&B2717,C2717&\"||\"&B2717),Worktags!AR:AV,5,FALSE),\"\")","v":""}]
["",null,null,null,null,{"$f":"IFERROR(VLOOKUP(IF(C2718=\"\",B2718&\"||\"&B2718,C2718&\"||\"&B2718),Worktags!AR:AV,5,FALSE),\"\")","v":""}]
["",null,null,null,null,{"$f":"IFERROR(VLOOKUP(IF(C2719=\"\",B2719&\"||\"&B2719,C2719&\"||\"&B2719),Worktags!AR:AV,5,FALSE),\"\")","v":""}]
["",null,null,null,null,{"$f":"IFERROR(VLOOKUP(IF(C2720=\"\",B2720&\"||\"&B2720,C2720&\"||\"&B2720),Worktags!AR:AV,5,FALSE),\"\")","v":""}]
["",null,null,null,null,{"$f":"IFERROR(VLOOKUP(IF(C2721=\"\",B2721&\"||\"&B2721,C2721&\"||\"&B2721),Worktags!AR:AV,5,FALSE),\"\")","v":""}]
["",null,null,null,null,{"$f":"IFERROR(VLOOKUP(IF(C2722=\"\",B2722&\"||\"&B2722,C2722&\"||\"&B2722),Worktags!AR:AV,5,FALSE),\"\")","v":""}]
["",null,null,null,null,{"$f":"IFERROR(VLOOKUP(IF(C2723=\"\",B2723&\"||\"&B2723,C2723&\"||\"&B2723),Worktags!AR:AV,5,FALSE),\"\")","v":""}]
["",null,null,null,null,{"$f":"IFERROR(VLOOKUP(IF(C2724=\"\",B2724&\"||\"&B2724,C2724&\"||\"&B2724),Worktags!AR:AV,5,FALSE),\"\")","v":""}]
["",null,null,null,null,{"$f":"IFERROR(VLOOKUP(IF(C2725=\"\",B2725&\"||\"&B2725,C2725&\"||\"&B2725),Worktags!AR:AV,5,FALSE),\"\")","v":""}]
["",null,null,null,null,{"$f":"IFERROR(VLOOKUP(IF(C2726=\"\",B2726&\"||\"&B2726,C2726&\"||\"&B2726),Worktags!AR:AV,5,FALSE),\"\")","v":""}]
["",null,null,null,null,{"$f":"IFERROR(VLOOKUP(IF(C2727=\"\",B2727&\"||\"&B2727,C2727&\"||\"&B2727),Worktags!AR:AV,5,FALSE),\"\")","v":""}]
["",null,null,null,null,{"$f":"IFERROR(VLOOKUP(IF(C2728=\"\",B2728&\"||\"&B2728,C2728&\"||\"&B2728),Worktags!AR:AV,5,FALSE),\"\")","v":""}]
["",null,null,null,null,{"$f":"IFERROR(VLOOKUP(IF(C2729=\"\",B2729&\"||\"&B2729,C2729&\"||\"&B2729),Worktags!AR:AV,5,FALSE),\"\")","v":""}]
["",null,null,null,null,{"$f":"IFERROR(VLOOKUP(IF(C2730=\"\",B2730&\"||\"&B2730,C2730&\"||\"&B2730),Worktags!AR:AV,5,FALSE),\"\")","v":""}]
["",null,null,null,null,{"$f":"IFERROR(VLOOKUP(IF(C2731=\"\",B2731&\"||\"&B2731,C2731&\"||\"&B2731),Worktags!AR:AV,5,FALSE),\"\")","v":""}]
["",null,null,null,null,{"$f":"IFERROR(VLOOKUP(IF(C2732=\"\",B2732&\"||\"&B2732,C2732&\"||\"&B2732),Worktags!AR:AV,5,FALSE),\"\")","v":""}]
["",null,null,null,null,{"$f":"IFERROR(VLOOKUP(IF(C2733=\"\",B2733&\"||\"&B2733,C2733&\"||\"&B2733),Worktags!AR:AV,5,FALSE),\"\")","v":""}]
["",null,null,null,null,{"$f":"IFERROR(VLOOKUP(IF(C2734=\"\",B2734&\"||\"&B2734,C2734&\"||\"&B2734),Worktags!AR:AV,5,FALSE),\"\")","v":""}]
["",null,null,null,null,{"$f":"IFERROR(VLOOKUP(IF(C2735=\"\",B2735&\"||\"&B2735,C2735&\"||\"&B2735),Worktags!AR:AV,5,FALSE),\"\")","v":""}]
["",null,null,null,null,{"$f":"IFERROR(VLOOKUP(IF(C2736=\"\",B2736&\"||\"&B2736,C2736&\"||\"&B2736),Worktags!AR:AV,5,FALSE),\"\")","v":""}]
["",null,null,null,null,{"$f":"IFERROR(VLOOKUP(IF(C2737=\"\",B2737&\"||\"&B2737,C2737&\"||\"&B2737),Worktags!AR:AV,5,FALSE),\"\")","v":""}]
["",null,null,null,null,{"$f":"IFERROR(VLOOKUP(IF(C2738=\"\",B2738&\"||\"&B2738,C2738&\"||\"&B2738),Worktags!AR:AV,5,FALSE),\"\")","v":""}]
["",null,null,null,null,{"$f":"IFERROR(VLOOKUP(IF(C2739=\"\",B2739&\"||\"&B2739,C2739&\"||\"&B2739),Worktags!AR:AV,5,FALSE),\"\")","v":""}]
["",null,null,null,null,{"$f":"IFERROR(VLOOKUP(IF(C2740=\"\",B2740&\"||\"&B2740,C2740&\"||\"&B2740),Worktags!AR:AV,5,FALSE),\"\")","v":""}]
["",null,null,null,null,{"$f":"IFERROR(VLOOKUP(IF(C2741=\"\",B2741&\"||\"&B2741,C2741&\"||\"&B2741),Worktags!AR:AV,5,FALSE),\"\")","v":""}]
["",null,null,null,null,{"$f":"IFERROR(VLOOKUP(IF(C2742=\"\",B2742&\"||\"&B2742,C2742&\"||\"&B2742),Worktags!AR:AV,5,FALSE),\"\")","v":""}]
["",null,null,null,null,{"$f":"IFERROR(VLOOKUP(IF(C2743=\"\",B2743&\"||\"&B2743,C2743&\"||\"&B2743),Worktags!AR:AV,5,FALSE),\"\")","v":""}]
["",null,null,null,null,{"$f":"IFERROR(VLOOKUP(IF(C2744=\"\",B2744&\"||\"&B2744,C2744&\"||\"&B2744),Worktags!AR:AV,5,FALSE),\"\")","v":""}]
["",null,null,null,null,{"$f":"IFERROR(VLOOKUP(IF(C2745=\"\",B2745&\"||\"&B2745,C2745&\"||\"&B2745),Worktags!AR:AV,5,FALSE),\"\")","v":""}]
["",null,null,null,null,{"$f":"IFERROR(VLOOKUP(IF(C2746=\"\",B2746&\"||\"&B2746,C2746&\"||\"&B2746),Worktags!AR:AV,5,FALSE),\"\")","v":""}]
["",null,null,null,null,{"$f":"IFERROR(VLOOKUP(IF(C2747=\"\",B2747&\"||\"&B2747,C2747&\"||\"&B2747),Worktags!AR:AV,5,FALSE),\"\")","v":""}]
["",null,null,null,null,{"$f":"IFERROR(VLOOKUP(IF(C2748=\"\",B2748&\"||\"&B2748,C2748&\"||\"&B2748),Worktags!AR:AV,5,FALSE),\"\")","v":""}]
["",null,null,null,null,{"$f":"IFERROR(VLOOKUP(IF(C2749=\"\",B2749&\"||\"&B2749,C2749&\"||\"&B2749),Worktags!AR:AV,5,FALSE),\"\")","v":""}]
["",null,null,null,null,{"$f":"IFERROR(VLOOKUP(IF(C2750=\"\",B2750&\"||\"&B2750,C2750&\"||\"&B2750),Worktags!AR:AV,5,FALSE),\"\")","v":""}]
["",null,null,null,null,{"$f":"IFERROR(VLOOKUP(IF(C2751=\"\",B2751&\"||\"&B2751,C2751&\"||\"&B2751),Worktags!AR:AV,5,FALSE),\"\")","v":""}]
["",null,null,null,null,{"$f":"IFERROR(VLOOKUP(IF(C2752=\"\",B2752&\"||\"&B2752,C2752&\"||\"&B2752),Worktags!AR:AV,5,FALSE),\"\")","v":""}]
["",null,null,null,null,{"$f":"IFERROR(VLOOKUP(IF(C2753=\"\",B2753&\"||\"&B2753,C2753&\"||\"&B2753),Worktags!AR:AV,5,FALSE),\"\")","v":""}]
[{"$f":"IF(B2754<>\"\",IF(C2754<>\"\",B2754&\"_\"&C2754&\" \"&D2754&\"/\"&E2754,B2754&\" \"&D2754),\"\")","v":""},null,null,null,null,{"$f":"IFERROR(VLOOKUP(IF(C2754=\"\",B2754&\"||\"&B2754,C2754&\"||\"&B2754),Worktags!AR:AV,5,FALSE),\"\")","v":""}]
["",null,null,null,null,{"$f":"IFERROR(VLOOKUP(IF(C2755=\"\",B2755&\"||\"&B2755,C2755&\"||\"&B2755),Worktags!AR:AV,5,FALSE),\"\")","v":""}]
["",null,null,null,null,{"$f":"IFERROR(VLOOKUP(IF(C2756=\"\",B2756&\"||\"&B2756,C2756&\"||\"&B2756),Worktags!AR:AV,5,FALSE),\"\")","v":""}]
["",null,null,null,null,{"$f":"IFERROR(VLOOKUP(IF(C2757=\"\",B2757&\"||\"&B2757,C2757&\"||\"&B2757),Worktags!AR:AV,5,FALSE),\"\")","v":""}]
["",null,null,null,null,{"$f":"IFERROR(VLOOKUP(IF(C2758=\"\",B2758&\"||\"&B2758,C2758&\"||\"&B2758),Worktags!AR:AV,5,FALSE),\"\")","v":""}]
["",null,null,null,null,{"$f":"IFERROR(VLOOKUP(IF(C2759=\"\",B2759&\"||\"&B2759,C2759&\"||\"&B2759),Worktags!AR:AV,5,FALSE),\"\")","v":""}]
["",null,null,null,null,{"$f":"IFERROR(VLOOKUP(IF(C2760=\"\",B2760&\"||\"&B2760,C2760&\"||\"&B2760),Worktags!AR:AV,5,FALSE),\"\")","v":""}]
["",null,null,null,null,{"$f":"IFERROR(VLOOKUP(IF(C2761=\"\",B2761&\"||\"&B2761,C2761&\"||\"&B2761),Worktags!AR:AV,5,FALSE),\"\")","v":""}]
["",null,null,null,null,{"$f":"IFERROR(VLOOKUP(IF(C2762=\"\",B2762&\"||\"&B2762,C2762&\"||\"&B2762),Worktags!AR:AV,5,FALSE),\"\")","v":""}]
["",null,null,null,null,{"$f":"IFERROR(VLOOKUP(IF(C2763=\"\",B2763&\"||\"&B2763,C2763&\"||\"&B2763),Worktags!AR:AV,5,FALSE),\"\")","v":""}]
["",null,null,null,null,{"$f":"IFERROR(VLOOKUP(IF(C2764=\"\",B2764&\"||\"&B2764,C2764&\"||\"&B2764),Worktags!AR:AV,5,FALSE),\"\")","v":""}]
["",null,null,null,null,{"$f":"IFERROR(VLOOKUP(IF(C2765=\"\",B2765&\"||\"&B2765,C2765&\"||\"&B2765),Worktags!AR:AV,5,FALSE),\"\")","v":""}]
["",null,null,null,null,{"$f":"IFERROR(VLOOKUP(IF(C2766=\"\",B2766&\"||\"&B2766,C2766&\"||\"&B2766),Worktags!AR:AV,5,FALSE),\"\")","v":""}]
["",null,null,null,null,{"$f":"IFERROR(VLOOKUP(IF(C2767=\"\",B2767&\"||\"&B2767,C2767&\"||\"&B2767),Worktags!AR:AV,5,FALSE),\"\")","v":""}]
["",null,null,null,null,{"$f":"IFERROR(VLOOKUP(IF(C2768=\"\",B2768&\"||\"&B2768,C2768&\"||\"&B2768),Worktags!AR:AV,5,FALSE),\"\")","v":""}]
["",null,null,null,null,{"$f":"IFERROR(VLOOKUP(IF(C2769=\"\",B2769&\"||\"&B2769,C2769&\"||\"&B2769),Worktags!AR:AV,5,FALSE),\"\")","v":""}]
["",null,null,null,null,{"$f":"IFERROR(VLOOKUP(IF(C2770=\"\",B2770&\"||\"&B2770,C2770&\"||\"&B2770),Worktags!AR:AV,5,FALSE),\"\")","v":""}]
["",null,null,null,null,{"$f":"IFERROR(VLOOKUP(IF(C2771=\"\",B2771&\"||\"&B2771,C2771&\"||\"&B2771),Worktags!AR:AV,5,FALSE),\"\")","v":""}]
["",null,null,null,null,{"$f":"IFERROR(VLOOKUP(IF(C2772=\"\",B2772&\"||\"&B2772,C2772&\"||\"&B2772),Worktags!AR:AV,5,FALSE),\"\")","v":""}]
["",null,null,null,null,{"$f":"IFERROR(VLOOKUP(IF(C2773=\"\",B2773&\"||\"&B2773,C2773&\"||\"&B2773),Worktags!AR:AV,5,FALSE),\"\")","v":""}]
["",null,null,null,null,{"$f":"IFERROR(VLOOKUP(IF(C2774=\"\",B2774&\"||\"&B2774,C2774&\"||\"&B2774),Worktags!AR:AV,5,FALSE),\"\")","v":""}]
["",null,null,null,null,{"$f":"IFERROR(VLOOKUP(IF(C2775=\"\",B2775&\"||\"&B2775,C2775&\"||\"&B2775),Worktags!AR:AV,5,FALSE),\"\")","v":""}]
["",null,null,null,null,{"$f":"IFERROR(VLOOKUP(IF(C2776=\"\",B2776&\"||\"&B2776,C2776&\"||\"&B2776),Worktags!AR:AV,5,FALSE),\"\")","v":""}]
["",null,null,null,null,{"$f":"IFERROR(VLOOKUP(IF(C2777=\"\",B2777&\"||\"&B2777,C2777&\"||\"&B2777),Worktags!AR:AV,5,FALSE),\"\")","v":""}]
["",null,null,null,null,{"$f":"IFERROR(VLOOKUP(IF(C2778=\"\",B2778&\"||\"&B2778,C2778&\"||\"&B2778),Worktags!AR:AV,5,FALSE),\"\")","v":""}]
["",null,null,null,null,{"$f":"IFERROR(VLOOKUP(IF(C2779=\"\",B2779&\"||\"&B2779,C2779&\"||\"&B2779),Worktags!AR:AV,5,FALSE),\"\")","v":""}]
["",null,null,null,null,{"$f":"IFERROR(VLOOKUP(IF(C2780=\"\",B2780&\"||\"&B2780,C2780&\"||\"&B2780),Worktags!AR:AV,5,FALSE),\"\")","v":""}]
["",null,null,null,null,{"$f":"IFERROR(VLOOKUP(IF(C2781=\"\",B2781&\"||\"&B2781,C2781&\"||\"&B2781),Worktags!AR:AV,5,FALSE),\"\")","v":""}]
["",null,null,null,null,{"$f":"IFERROR(VLOOKUP(IF(C2782=\"\",B2782&\"||\"&B2782,C2782&\"||\"&B2782),Worktags!AR:AV,5,FALSE),\"\")","v":""}]
["",null,null,null,null,{"$f":"IFERROR(VLOOKUP(IF(C2783=\"\",B2783&\"||\"&B2783,C2783&\"||\"&B2783),Worktags!AR:AV,5,FALSE),\"\")","v":""}]
["",null,null,null,null,{"$f":"IFERROR(VLOOKUP(IF(C2784=\"\",B2784&\"||\"&B2784,C2784&\"||\"&B2784),Worktags!AR:AV,5,FALSE),\"\")","v":""}]
["",null,null,null,null,{"$f":"IFERROR(VLOOKUP(IF(C2785=\"\",B2785&\"||\"&B2785,C2785&\"||\"&B2785),Worktags!AR:AV,5,FALSE),\"\")","v":""}]
["",null,null,null,null,{"$f":"IFERROR(VLOOKUP(IF(C2786=\"\",B2786&\"||\"&B2786,C2786&\"||\"&B2786),Worktags!AR:AV,5,FALSE),\"\")","v":""}]
["",null,null,null,null,{"$f":"IFERROR(VLOOKUP(IF(C2787=\"\",B2787&\"||\"&B2787,C2787&\"||\"&B2787),Worktags!AR:AV,5,FALSE),\"\")","v":""}]
["",null,null,null,null,{"$f":"IFERROR(VLOOKUP(IF(C2788=\"\",B2788&\"||\"&B2788,C2788&\"||\"&B2788),Worktags!AR:AV,5,FALSE),\"\")","v":""}]
["",null,null,null,null,{"$f":"IFERROR(VLOOKUP(IF(C2789=\"\",B2789&\"||\"&B2789,C2789&\"||\"&B2789),Worktags!AR:AV,5,FALSE),\"\")","v":""}]
["",null,null,null,null,{"$f":"IFERROR(VLOOKUP(IF(C2790=\"\",B2790&\"||\"&B2790,C2790&\"||\"&B2790),Worktags!AR:AV,5,FALSE),\"\")","v":""}]
["",null,null,null,null,{"$f":"IFERROR(VLOOKUP(IF(C2791=\"\",B2791&\"||\"&B2791,C2791&\"||\"&B2791),Worktags!AR:AV,5,FALSE),\"\")","v":""}]
["",null,null,null,null,{"$f":"IFERROR(VLOOKUP(IF(C2792=\"\",B2792&\"||\"&B2792,C2792&\"||\"&B2792),Worktags!AR:AV,5,FALSE),\"\")","v":""}]
["",null,null,null,null,{"$f":"IFERROR(VLOOKUP(IF(C2793=\"\",B2793&\"||\"&B2793,C2793&\"||\"&B2793),Worktags!AR:AV,5,FALSE),\"\")","v":""}]
["",null,null,null,null,{"$f":"IFERROR(VLOOKUP(IF(C2794=\"\",B2794&\"||\"&B2794,C2794&\"||\"&B2794),Worktags!AR:AV,5,FALSE),\"\")","v":""}]
["",null,null,null,null,{"$f":"IFERROR(VLOOKUP(IF(C2795=\"\",B2795&\"||\"&B2795,C2795&\"||\"&B2795),Worktags!AR:AV,5,FALSE),\"\")","v":""}]
["",null,null,null,null,{"$f":"IFERROR(VLOOKUP(IF(C2796=\"\",B2796&\"||\"&B2796,C2796&\"||\"&B2796),Worktags!AR:AV,5,FALSE),\"\")","v":""}]
["",null,null,null,null,{"$f":"IFERROR(VLOOKUP(IF(C2797=\"\",B2797&\"||\"&B2797,C2797&\"||\"&B2797),Worktags!AR:AV,5,FALSE),\"\")","v":""}]
["",null,null,null,null,{"$f":"IFERROR(VLOOKUP(IF(C2798=\"\",B2798&\"||\"&B2798,C2798&\"||\"&B2798),Worktags!AR:AV,5,FALSE),\"\")","v":""}]
["",null,null,null,null,{"$f":"IFERROR(VLOOKUP(IF(C2799=\"\",B2799&\"||\"&B2799,C2799&\"||\"&B2799),Worktags!AR:AV,5,FALSE),\"\")","v":""}]
["",null,null,null,null,{"$f":"IFERROR(VLOOKUP(IF(C2800=\"\",B2800&\"||\"&B2800,C2800&\"||\"&B2800),Worktags!AR:AV,5,FALSE),\"\")","v":""}]
["",null,null,null,null,{"$f":"IFERROR(VLOOKUP(IF(C2801=\"\",B2801&\"||\"&B2801,C2801&\"||\"&B2801),Worktags!AR:AV,5,FALSE),\"\")","v":""}]
["",null,null,null,null,{"$f":"IFERROR(VLOOKUP(IF(C2802=\"\",B2802&\"||\"&B2802,C2802&\"||\"&B2802),Worktags!AR:AV,5,FALSE),\"\")","v":""}]
["",null,null,null,null,{"$f":"IFERROR(VLOOKUP(IF(C2803=\"\",B2803&\"||\"&B2803,C2803&\"||\"&B2803),Worktags!AR:AV,5,FALSE),\"\")","v":""}]
["",null,null,null,null,{"$f":"IFERROR(VLOOKUP(IF(C2804=\"\",B2804&\"||\"&B2804,C2804&\"||\"&B2804),Worktags!AR:AV,5,FALSE),\"\")","v":""}]
["",null,null,null,null,{"$f":"IFERROR(VLOOKUP(IF(C2805=\"\",B2805&\"||\"&B2805,C2805&\"||\"&B2805),Worktags!AR:AV,5,FALSE),\"\")","v":""}]
["",null,null,null,null,{"$f":"IFERROR(VLOOKUP(IF(C2806=\"\",B2806&\"||\"&B2806,C2806&\"||\"&B2806),Worktags!AR:AV,5,FALSE),\"\")","v":""}]
["",null,null,null,null,{"$f":"IFERROR(VLOOKUP(IF(C2807=\"\",B2807&\"||\"&B2807,C2807&\"||\"&B2807),Worktags!AR:AV,5,FALSE),\"\")","v":""}]
["",null,null,null,null,{"$f":"IFERROR(VLOOKUP(IF(C2808=\"\",B2808&\"||\"&B2808,C2808&\"||\"&B2808),Worktags!AR:AV,5,FALSE),\"\")","v":""}]
["",null,null,null,null,{"$f":"IFERROR(VLOOKUP(IF(C2809=\"\",B2809&\"||\"&B2809,C2809&\"||\"&B2809),Worktags!AR:AV,5,FALSE),\"\")","v":""}]
["",null,null,null,null,{"$f":"IFERROR(VLOOKUP(IF(C2810=\"\",B2810&\"||\"&B2810,C2810&\"||\"&B2810),Worktags!AR:AV,5,FALSE),\"\")","v":""}]
["",null,null,null,null,{"$f":"IFERROR(VLOOKUP(IF(C2811=\"\",B2811&\"||\"&B2811,C2811&\"||\"&B2811),Worktags!AR:AV,5,FALSE),\"\")","v":""}]
["",null,null,null,null,{"$f":"IFERROR(VLOOKUP(IF(C2812=\"\",B2812&\"||\"&B2812,C2812&\"||\"&B2812),Worktags!AR:AV,5,FALSE),\"\")","v":""}]
["",null,null,null,null,{"$f":"IFERROR(VLOOKUP(IF(C2813=\"\",B2813&\"||\"&B2813,C2813&\"||\"&B2813),Worktags!AR:AV,5,FALSE),\"\")","v":""}]
["",null,null,null,null,{"$f":"IFERROR(VLOOKUP(IF(C2814=\"\",B2814&\"||\"&B2814,C2814&\"||\"&B2814),Worktags!AR:AV,5,FALSE),\"\")","v":""}]
["",null,null,null,null,{"$f":"IFERROR(VLOOKUP(IF(C2815=\"\",B2815&\"||\"&B2815,C2815&\"||\"&B2815),Worktags!AR:AV,5,FALSE),\"\")","v":""}]
["",null,null,null,null,{"$f":"IFERROR(VLOOKUP(IF(C2816=\"\",B2816&\"||\"&B2816,C2816&\"||\"&B2816),Worktags!AR:AV,5,FALSE),\"\")","v":""}]
["",null,null,null,null,{"$f":"IFERROR(VLOOKUP(IF(C2817=\"\",B2817&\"||\"&B2817,C2817&\"||\"&B2817),Worktags!AR:AV,5,FALSE),\"\")","v":""}]
[{"$f":"IF(B2818<>\"\",IF(C2818<>\"\",B2818&\"_\"&C2818&\" \"&D2818&\"/\"&E2818,B2818&\" \"&D2818),\"\")","v":""},null,null,null,null,{"$f":"IFERROR(VLOOKUP(IF(C2818=\"\",B2818&\"||\"&B2818,C2818&\"||\"&B2818),Worktags!AR:AV,5,FALSE),\"\")","v":""}]
["",null,null,null,null,{"$f":"IFERROR(VLOOKUP(IF(C2819=\"\",B2819&\"||\"&B2819,C2819&\"||\"&B2819),Worktags!AR:AV,5,FALSE),\"\")","v":""}]
["",null,null,null,null,{"$f":"IFERROR(VLOOKUP(IF(C2820=\"\",B2820&\"||\"&B2820,C2820&\"||\"&B2820),Worktags!AR:AV,5,FALSE),\"\")","v":""}]
["",null,null,null,null,{"$f":"IFERROR(VLOOKUP(IF(C2821=\"\",B2821&\"||\"&B2821,C2821&\"||\"&B2821),Worktags!AR:AV,5,FALSE),\"\")","v":""}]
["",null,null,null,null,{"$f":"IFERROR(VLOOKUP(IF(C2822=\"\",B2822&\"||\"&B2822,C2822&\"||\"&B2822),Worktags!AR:AV,5,FALSE),\"\")","v":""}]
["",null,null,null,null,{"$f":"IFERROR(VLOOKUP(IF(C2823=\"\",B2823&\"||\"&B2823,C2823&\"||\"&B2823),Worktags!AR:AV,5,FALSE),\"\")","v":""}]
["",null,null,null,null,{"$f":"IFERROR(VLOOKUP(IF(C2824=\"\",B2824&\"||\"&B2824,C2824&\"||\"&B2824),Worktags!AR:AV,5,FALSE),\"\")","v":""}]
["",null,null,null,null,{"$f":"IFERROR(VLOOKUP(IF(C2825=\"\",B2825&\"||\"&B2825,C2825&\"||\"&B2825),Worktags!AR:AV,5,FALSE),\"\")","v":""}]
["",null,null,null,null,{"$f":"IFERROR(VLOOKUP(IF(C2826=\"\",B2826&\"||\"&B2826,C2826&\"||\"&B2826),Worktags!AR:AV,5,FALSE),\"\")","v":""}]
["",null,null,null,null,{"$f":"IFERROR(VLOOKUP(IF(C2827=\"\",B2827&\"||\"&B2827,C2827&\"||\"&B2827),Worktags!AR:AV,5,FALSE),\"\")","v":""}]
["",null,null,null,null,{"$f":"IFERROR(VLOOKUP(IF(C2828=\"\",B2828&\"||\"&B2828,C2828&\"||\"&B2828),Worktags!AR:AV,5,FALSE),\"\")","v":""}]
["",null,null,null,null,{"$f":"IFERROR(VLOOKUP(IF(C2829=\"\",B2829&\"||\"&B2829,C2829&\"||\"&B2829),Worktags!AR:AV,5,FALSE),\"\")","v":""}]
["",null,null,null,null,{"$f":"IFERROR(VLOOKUP(IF(C2830=\"\",B2830&\"||\"&B2830,C2830&\"||\"&B2830),Worktags!AR:AV,5,FALSE),\"\")","v":""}]
["",null,null,null,null,{"$f":"IFERROR(VLOOKUP(IF(C2831=\"\",B2831&\"||\"&B2831,C2831&\"||\"&B2831),Worktags!AR:AV,5,FALSE),\"\")","v":""}]
["",null,null,null,null,{"$f":"IFERROR(VLOOKUP(IF(C2832=\"\",B2832&\"||\"&B2832,C2832&\"||\"&B2832),Worktags!AR:AV,5,FALSE),\"\")","v":""}]
["",null,null,null,null,{"$f":"IFERROR(VLOOKUP(IF(C2833=\"\",B2833&\"||\"&B2833,C2833&\"||\"&B2833),Worktags!AR:AV,5,FALSE),\"\")","v":""}]
["",null,null,null,null,{"$f":"IFERROR(VLOOKUP(IF(C2834=\"\",B2834&\"||\"&B2834,C2834&\"||\"&B2834),Worktags!AR:AV,5,FALSE),\"\")","v":""}]
["",null,null,null,null,{"$f":"IFERROR(VLOOKUP(IF(C2835=\"\",B2835&\"||\"&B2835,C2835&\"||\"&B2835),Worktags!AR:AV,5,FALSE),\"\")","v":""}]
["",null,null,null,null,{"$f":"IFERROR(VLOOKUP(IF(C2836=\"\",B2836&\"||\"&B2836,C2836&\"||\"&B2836),Worktags!AR:AV,5,FALSE),\"\")","v":""}]
["",null,null,null,null,{"$f":"IFERROR(VLOOKUP(IF(C2837=\"\",B2837&\"||\"&B2837,C2837&\"||\"&B2837),Worktags!AR:AV,5,FALSE),\"\")","v":""}]
["",null,null,null,null,{"$f":"IFERROR(VLOOKUP(IF(C2838=\"\",B2838&\"||\"&B2838,C2838&\"||\"&B2838),Worktags!AR:AV,5,FALSE),\"\")","v":""}]
["",null,null,null,null,{"$f":"IFERROR(VLOOKUP(IF(C2839=\"\",B2839&\"||\"&B2839,C2839&\"||\"&B2839),Worktags!AR:AV,5,FALSE),\"\")","v":""}]
["",null,null,null,null,{"$f":"IFERROR(VLOOKUP(IF(C2840=\"\",B2840&\"||\"&B2840,C2840&\"||\"&B2840),Worktags!AR:AV,5,FALSE),\"\")","v":""}]
["",null,null,null,null,{"$f":"IFERROR(VLOOKUP(IF(C2841=\"\",B2841&\"||\"&B2841,C2841&\"||\"&B2841),Worktags!AR:AV,5,FALSE),\"\")","v":""}]
["",null,null,null,null,{"$f":"IFERROR(VLOOKUP(IF(C2842=\"\",B2842&\"||\"&B2842,C2842&\"||\"&B2842),Worktags!AR:AV,5,FALSE),\"\")","v":""}]
["",null,null,null,null,{"$f":"IFERROR(VLOOKUP(IF(C2843=\"\",B2843&\"||\"&B2843,C2843&\"||\"&B2843),Worktags!AR:AV,5,FALSE),\"\")","v":""}]
["",null,null,null,null,{"$f":"IFERROR(VLOOKUP(IF(C2844=\"\",B2844&\"||\"&B2844,C2844&\"||\"&B2844),Worktags!AR:AV,5,FALSE),\"\")","v":""}]
["",null,null,null,null,{"$f":"IFERROR(VLOOKUP(IF(C2845=\"\",B2845&\"||\"&B2845,C2845&\"||\"&B2845),Worktags!AR:AV,5,FALSE),\"\")","v":""}]
["",null,null,null,null,{"$f":"IFERROR(VLOOKUP(IF(C2846=\"\",B2846&\"||\"&B2846,C2846&\"||\"&B2846),Worktags!AR:AV,5,FALSE),\"\")","v":""}]
["",null,null,null,null,{"$f":"IFERROR(VLOOKUP(IF(C2847=\"\",B2847&\"||\"&B2847,C2847&\"||\"&B2847),Worktags!AR:AV,5,FALSE),\"\")","v":""}]
["",null,null,null,null,{"$f":"IFERROR(VLOOKUP(IF(C2848=\"\",B2848&\"||\"&B2848,C2848&\"||\"&B2848),Worktags!AR:AV,5,FALSE),\"\")","v":""}]
["",null,null,null,null,{"$f":"IFERROR(VLOOKUP(IF(C2849=\"\",B2849&\"||\"&B2849,C2849&\"||\"&B2849),Worktags!AR:AV,5,FALSE),\"\")","v":""}]
["",null,null,null,null,{"$f":"IFERROR(VLOOKUP(IF(C2850=\"\",B2850&\"||\"&B2850,C2850&\"||\"&B2850),Worktags!AR:AV,5,FALSE),\"\")","v":""}]
["",null,null,null,null,{"$f":"IFERROR(VLOOKUP(IF(C2851=\"\",B2851&\"||\"&B2851,C2851&\"||\"&B2851),Worktags!AR:AV,5,FALSE),\"\")","v":""}]
["",null,null,null,null,{"$f":"IFERROR(VLOOKUP(IF(C2852=\"\",B2852&\"||\"&B2852,C2852&\"||\"&B2852),Worktags!AR:AV,5,FALSE),\"\")","v":""}]
["",null,null,null,null,{"$f":"IFERROR(VLOOKUP(IF(C2853=\"\",B2853&\"||\"&B2853,C2853&\"||\"&B2853),Worktags!AR:AV,5,FALSE),\"\")","v":""}]
["",null,null,null,null,{"$f":"IFERROR(VLOOKUP(IF(C2854=\"\",B2854&\"||\"&B2854,C2854&\"||\"&B2854),Worktags!AR:AV,5,FALSE),\"\")","v":""}]
["",null,null,null,null,{"$f":"IFERROR(VLOOKUP(IF(C2855=\"\",B2855&\"||\"&B2855,C2855&\"||\"&B2855),Worktags!AR:AV,5,FALSE),\"\")","v":""}]
["",null,null,null,null,{"$f":"IFERROR(VLOOKUP(IF(C2856=\"\",B2856&\"||\"&B2856,C2856&\"||\"&B2856),Worktags!AR:AV,5,FALSE),\"\")","v":""}]
["",null,null,null,null,{"$f":"IFERROR(VLOOKUP(IF(C2857=\"\",B2857&\"||\"&B2857,C2857&\"||\"&B2857),Worktags!AR:AV,5,FALSE),\"\")","v":""}]
["",null,null,null,null,{"$f":"IFERROR(VLOOKUP(IF(C2858=\"\",B2858&\"||\"&B2858,C2858&\"||\"&B2858),Worktags!AR:AV,5,FALSE),\"\")","v":""}]
["",null,null,null,null,{"$f":"IFERROR(VLOOKUP(IF(C2859=\"\",B2859&\"||\"&B2859,C2859&\"||\"&B2859),Worktags!AR:AV,5,FALSE),\"\")","v":""}]
["",null,null,null,null,{"$f":"IFERROR(VLOOKUP(IF(C2860=\"\",B2860&\"||\"&B2860,C2860&\"||\"&B2860),Worktags!AR:AV,5,FALSE),\"\")","v":""}]
["",null,null,null,null,{"$f":"IFERROR(VLOOKUP(IF(C2861=\"\",B2861&\"||\"&B2861,C2861&\"||\"&B2861),Worktags!AR:AV,5,FALSE),\"\")","v":""}]
["",null,null,null,null,{"$f":"IFERROR(VLOOKUP(IF(C2862=\"\",B2862&\"||\"&B2862,C2862&\"||\"&B2862),Worktags!AR:AV,5,FALSE),\"\")","v":""}]
["",null,null,null,null,{"$f":"IFERROR(VLOOKUP(IF(C2863=\"\",B2863&\"||\"&B2863,C2863&\"||\"&B2863),Worktags!AR:AV,5,FALSE),\"\")","v":""}]
["",null,null,null,null,{"$f":"IFERROR(VLOOKUP(IF(C2864=\"\",B2864&\"||\"&B2864,C2864&\"||\"&B2864),Worktags!AR:AV,5,FALSE),\"\")","v":""}]
["",null,null,null,null,{"$f":"IFERROR(VLOOKUP(IF(C2865=\"\",B2865&\"||\"&B2865,C2865&\"||\"&B2865),Worktags!AR:AV,5,FALSE),\"\")","v":""}]
["",null,null,null,null,{"$f":"IFERROR(VLOOKUP(IF(C2866=\"\",B2866&\"||\"&B2866,C2866&\"||\"&B2866),Worktags!AR:AV,5,FALSE),\"\")","v":""}]
["",null,null,null,null,{"$f":"IFERROR(VLOOKUP(IF(C2867=\"\",B2867&\"||\"&B2867,C2867&\"||\"&B2867),Worktags!AR:AV,5,FALSE),\"\")","v":""}]
["",null,null,null,null,{"$f":"IFERROR(VLOOKUP(IF(C2868=\"\",B2868&\"||\"&B2868,C2868&\"||\"&B2868),Worktags!AR:AV,5,FALSE),\"\")","v":""}]
["",null,null,null,null,{"$f":"IFERROR(VLOOKUP(IF(C2869=\"\",B2869&\"||\"&B2869,C2869&\"||\"&B2869),Worktags!AR:AV,5,FALSE),\"\")","v":""}]
["",null,null,null,null,{"$f":"IFERROR(VLOOKUP(IF(C2870=\"\",B2870&\"||\"&B2870,C2870&\"||\"&B2870),Worktags!AR:AV,5,FALSE),\"\")","v":""}]
["",null,null,null,null,{"$f":"IFERROR(VLOOKUP(IF(C2871=\"\",B2871&\"||\"&B2871,C2871&\"||\"&B2871),Worktags!AR:AV,5,FALSE),\"\")","v":""}]
["",null,null,null,null,{"$f":"IFERROR(VLOOKUP(IF(C2872=\"\",B2872&\"||\"&B2872,C2872&\"||\"&B2872),Worktags!AR:AV,5,FALSE),\"\")","v":""}]
["",null,null,null,null,{"$f":"IFERROR(VLOOKUP(IF(C2873=\"\",B2873&\"||\"&B2873,C2873&\"||\"&B2873),Worktags!AR:AV,5,FALSE),\"\")","v":""}]
["",null,null,null,null,{"$f":"IFERROR(VLOOKUP(IF(C2874=\"\",B2874&\"||\"&B2874,C2874&\"||\"&B2874),Worktags!AR:AV,5,FALSE),\"\")","v":""}]
["",null,null,null,null,{"$f":"IFERROR(VLOOKUP(IF(C2875=\"\",B2875&\"||\"&B2875,C2875&\"||\"&B2875),Worktags!AR:AV,5,FALSE),\"\")","v":""}]
["",null,null,null,null,{"$f":"IFERROR(VLOOKUP(IF(C2876=\"\",B2876&\"||\"&B2876,C2876&\"||\"&B2876),Worktags!AR:AV,5,FALSE),\"\")","v":""}]
["",null,null,null,null,{"$f":"IFERROR(VLOOKUP(IF(C2877=\"\",B2877&\"||\"&B2877,C2877&\"||\"&B2877),Worktags!AR:AV,5,FALSE),\"\")","v":""}]
["",null,null,null,null,{"$f":"IFERROR(VLOOKUP(IF(C2878=\"\",B2878&\"||\"&B2878,C2878&\"||\"&B2878),Worktags!AR:AV,5,FALSE),\"\")","v":""}]
["",null,null,null,null,{"$f":"IFERROR(VLOOKUP(IF(C2879=\"\",B2879&\"||\"&B2879,C2879&\"||\"&B2879),Worktags!AR:AV,5,FALSE),\"\")","v":""}]
["",null,null,null,null,{"$f":"IFERROR(VLOOKUP(IF(C2880=\"\",B2880&\"||\"&B2880,C2880&\"||\"&B2880),Worktags!AR:AV,5,FALSE),\"\")","v":""}]
["",null,null,null,null,{"$f":"IFERROR(VLOOKUP(IF(C2881=\"\",B2881&\"||\"&B2881,C2881&\"||\"&B2881),Worktags!AR:AV,5,FALSE),\"\")","v":""}]
[{"$f":"IF(B2882<>\"\",IF(C2882<>\"\",B2882&\"_\"&C2882&\" \"&D2882&\"/\"&E2882,B2882&\" \"&D2882),\"\")","v":""},null,null,null,null,{"$f":"IFERROR(VLOOKUP(IF(C2882=\"\",B2882&\"||\"&B2882,C2882&\"||\"&B2882),Worktags!AR:AV,5,FALSE),\"\")","v":""}]
["",null,null,null,null,{"$f":"IFERROR(VLOOKUP(IF(C2883=\"\",B2883&\"||\"&B2883,C2883&\"||\"&B2883),Worktags!AR:AV,5,FALSE),\"\")","v":""}]
["",null,null,null,null,{"$f":"IFERROR(VLOOKUP(IF(C2884=\"\",B2884&\"||\"&B2884,C2884&\"||\"&B2884),Worktags!AR:AV,5,FALSE),\"\")","v":""}]
["",null,null,null,null,{"$f":"IFERROR(VLOOKUP(IF(C2885=\"\",B2885&\"||\"&B2885,C2885&\"||\"&B2885),Worktags!AR:AV,5,FALSE),\"\")","v":""}]
["",null,null,null,null,{"$f":"IFERROR(VLOOKUP(IF(C2886=\"\",B2886&\"||\"&B2886,C2886&\"||\"&B2886),Worktags!AR:AV,5,FALSE),\"\")","v":""}]
["",null,null,null,null,{"$f":"IFERROR(VLOOKUP(IF(C2887=\"\",B2887&\"||\"&B2887,C2887&\"||\"&B2887),Worktags!AR:AV,5,FALSE),\"\")","v":""}]
["",null,null,null,null,{"$f":"IFERROR(VLOOKUP(IF(C2888=\"\",B2888&\"||\"&B2888,C2888&\"||\"&B2888),Worktags!AR:AV,5,FALSE),\"\")","v":""}]
["",null,null,null,null,{"$f":"IFERROR(VLOOKUP(IF(C2889=\"\",B2889&\"||\"&B2889,C2889&\"||\"&B2889),Worktags!AR:AV,5,FALSE),\"\")","v":""}]
["",null,null,null,null,{"$f":"IFERROR(VLOOKUP(IF(C2890=\"\",B2890&\"||\"&B2890,C2890&\"||\"&B2890),Worktags!AR:AV,5,FALSE),\"\")","v":""}]
["",null,null,null,null,{"$f":"IFERROR(VLOOKUP(IF(C2891=\"\",B2891&\"||\"&B2891,C2891&\"||\"&B2891),Worktags!AR:AV,5,FALSE),\"\")","v":""}]
["",null,null,null,null,{"$f":"IFERROR(VLOOKUP(IF(C2892=\"\",B2892&\"||\"&B2892,C2892&\"||\"&B2892),Worktags!AR:AV,5,FALSE),\"\")","v":""}]
["",null,null,null,null,{"$f":"IFERROR(VLOOKUP(IF(C2893=\"\",B2893&\"||\"&B2893,C2893&\"||\"&B2893),Worktags!AR:AV,5,FALSE),\"\")","v":""}]
["",null,null,null,null,{"$f":"IFERROR(VLOOKUP(IF(C2894=\"\",B2894&\"||\"&B2894,C2894&\"||\"&B2894),Worktags!AR:AV,5,FALSE),\"\")","v":""}]
["",null,null,null,null,{"$f":"IFERROR(VLOOKUP(IF(C2895=\"\",B2895&\"||\"&B2895,C2895&\"||\"&B2895),Worktags!AR:AV,5,FALSE),\"\")","v":""}]
["",null,null,null,null,{"$f":"IFERROR(VLOOKUP(IF(C2896=\"\",B2896&\"||\"&B2896,C2896&\"||\"&B2896),Worktags!AR:AV,5,FALSE),\"\")","v":""}]
["",null,null,null,null,{"$f":"IFERROR(VLOOKUP(IF(C2897=\"\",B2897&\"||\"&B2897,C2897&\"||\"&B2897),Worktags!AR:AV,5,FALSE),\"\")","v":""}]
["",null,null,null,null,{"$f":"IFERROR(VLOOKUP(IF(C2898=\"\",B2898&\"||\"&B2898,C2898&\"||\"&B2898),Worktags!AR:AV,5,FALSE),\"\")","v":""}]
["",null,null,null,null,{"$f":"IFERROR(VLOOKUP(IF(C2899=\"\",B2899&\"||\"&B2899,C2899&\"||\"&B2899),Worktags!AR:AV,5,FALSE),\"\")","v":""}]
["",null,null,null,null,{"$f":"IFERROR(VLOOKUP(IF(C2900=\"\",B2900&\"||\"&B2900,C2900&\"||\"&B2900),Worktags!AR:AV,5,FALSE),\"\")","v":""}]
["",null,null,null,null,{"$f":"IFERROR(VLOOKUP(IF(C2901=\"\",B2901&\"||\"&B2901,C2901&\"||\"&B2901),Worktags!AR:AV,5,FALSE),\"\")","v":""}]
["",null,null,null,null,{"$f":"IFERROR(VLOOKUP(IF(C2902=\"\",B2902&\"||\"&B2902,C2902&\"||\"&B2902),Worktags!AR:AV,5,FALSE),\"\")","v":""}]
["",null,null,null,null,{"$f":"IFERROR(VLOOKUP(IF(C2903=\"\",B2903&\"||\"&B2903,C2903&\"||\"&B2903),Worktags!AR:AV,5,FALSE),\"\")","v":""}]
["",null,null,null,null,{"$f":"IFERROR(VLOOKUP(IF(C2904=\"\",B2904&\"||\"&B2904,C2904&\"||\"&B2904),Worktags!AR:AV,5,FALSE),\"\")","v":""}]
["",null,null,null,null,{"$f":"IFERROR(VLOOKUP(IF(C2905=\"\",B2905&\"||\"&B2905,C2905&\"||\"&B2905),Worktags!AR:AV,5,FALSE),\"\")","v":""}]
["",null,null,null,null,{"$f":"IFERROR(VLOOKUP(IF(C2906=\"\",B2906&\"||\"&B2906,C2906&\"||\"&B2906),Worktags!AR:AV,5,FALSE),\"\")","v":""}]
["",null,null,null,null,{"$f":"IFERROR(VLOOKUP(IF(C2907=\"\",B2907&\"||\"&B2907,C2907&\"||\"&B2907),Worktags!AR:AV,5,FALSE),\"\")","v":""}]
["",null,null,null,null,{"$f":"IFERROR(VLOOKUP(IF(C2908=\"\",B2908&\"||\"&B2908,C2908&\"||\"&B2908),Worktags!AR:AV,5,FALSE),\"\")","v":""}]
["",null,null,null,null,{"$f":"IFERROR(VLOOKUP(IF(C2909=\"\",B2909&\"||\"&B2909,C2909&\"||\"&B2909),Worktags!AR:AV,5,FALSE),\"\")","v":""}]
["",null,null,null,null,{"$f":"IFERROR(VLOOKUP(IF(C2910=\"\",B2910&\"||\"&B2910,C2910&\"||\"&B2910),Worktags!AR:AV,5,FALSE),\"\")","v":""}]
["",null,null,null,null,{"$f":"IFERROR(VLOOKUP(IF(C2911=\"\",B2911&\"||\"&B2911,C2911&\"||\"&B2911),Worktags!AR:AV,5,FALSE),\"\")","v":""}]
["",null,null,null,null,{"$f":"IFERROR(VLOOKUP(IF(C2912=\"\",B2912&\"||\"&B2912,C2912&\"||\"&B2912),Worktags!AR:AV,5,FALSE),\"\")","v":""}]
["",null,null,null,null,{"$f":"IFERROR(VLOOKUP(IF(C2913=\"\",B2913&\"||\"&B2913,C2913&\"||\"&B2913),Worktags!AR:AV,5,FALSE),\"\")","v":""}]
["",null,null,null,null,{"$f":"IFERROR(VLOOKUP(IF(C2914=\"\",B2914&\"||\"&B2914,C2914&\"||\"&B2914),Worktags!AR:AV,5,FALSE),\"\")","v":""}]
["",null,null,null,null,{"$f":"IFERROR(VLOOKUP(IF(C2915=\"\",B2915&\"||\"&B2915,C2915&\"||\"&B2915),Worktags!AR:AV,5,FALSE),\"\")","v":""}]
["",null,null,null,null,{"$f":"IFERROR(VLOOKUP(IF(C2916=\"\",B2916&\"||\"&B2916,C2916&\"||\"&B2916),Worktags!AR:AV,5,FALSE),\"\")","v":""}]
["",null,null,null,null,{"$f":"IFERROR(VLOOKUP(IF(C2917=\"\",B2917&\"||\"&B2917,C2917&\"||\"&B2917),Worktags!AR:AV,5,FALSE),\"\")","v":""}]
["",null,null,null,null,{"$f":"IFERROR(VLOOKUP(IF(C2918=\"\",B2918&\"||\"&B2918,C2918&\"||\"&B2918),Worktags!AR:AV,5,FALSE),\"\")","v":""}]
["",null,null,null,null,{"$f":"IFERROR(VLOOKUP(IF(C2919=\"\",B2919&\"||\"&B2919,C2919&\"||\"&B2919),Worktags!AR:AV,5,FALSE),\"\")","v":""}]
["",null,null,null,null,{"$f":"IFERROR(VLOOKUP(IF(C2920=\"\",B2920&\"||\"&B2920,C2920&\"||\"&B2920),Worktags!AR:AV,5,FALSE),\"\")","v":""}]
["",null,null,null,null,{"$f":"IFERROR(VLOOKUP(IF(C2921=\"\",B2921&\"||\"&B2921,C2921&\"||\"&B2921),Worktags!AR:AV,5,FALSE),\"\")","v":""}]
["",null,null,null,null,{"$f":"IFERROR(VLOOKUP(IF(C2922=\"\",B2922&\"||\"&B2922,C2922&\"||\"&B2922),Worktags!AR:AV,5,FALSE),\"\")","v":""}]
["",null,null,null,null,{"$f":"IFERROR(VLOOKUP(IF(C2923=\"\",B2923&\"||\"&B2923,C2923&\"||\"&B2923),Worktags!AR:AV,5,FALSE),\"\")","v":""}]
["",null,null,null,null,{"$f":"IFERROR(VLOOKUP(IF(C2924=\"\",B2924&\"||\"&B2924,C2924&\"||\"&B2924),Worktags!AR:AV,5,FALSE),\"\")","v":""}]
["",null,null,null,null,{"$f":"IFERROR(VLOOKUP(IF(C2925=\"\",B2925&\"||\"&B2925,C2925&\"||\"&B2925),Worktags!AR:AV,5,FALSE),\"\")","v":""}]
["",null,null,null,null,{"$f":"IFERROR(VLOOKUP(IF(C2926=\"\",B2926&\"||\"&B2926,C2926&\"||\"&B2926),Worktags!AR:AV,5,FALSE),\"\")","v":""}]
["",null,null,null,null,{"$f":"IFERROR(VLOOKUP(IF(C2927=\"\",B2927&\"||\"&B2927,C2927&\"||\"&B2927),Worktags!AR:AV,5,FALSE),\"\")","v":""}]
["",null,null,null,null,{"$f":"IFERROR(VLOOKUP(IF(C2928=\"\",B2928&\"||\"&B2928,C2928&\"||\"&B2928),Worktags!AR:AV,5,FALSE),\"\")","v":""}]
["",null,null,null,null,{"$f":"IFERROR(VLOOKUP(IF(C2929=\"\",B2929&\"||\"&B2929,C2929&\"||\"&B2929),Worktags!AR:AV,5,FALSE),\"\")","v":""}]
["",null,null,null,null,{"$f":"IFERROR(VLOOKUP(IF(C2930=\"\",B2930&\"||\"&B2930,C2930&\"||\"&B2930),Worktags!AR:AV,5,FALSE),\"\")","v":""}]
["",null,null,null,null,{"$f":"IFERROR(VLOOKUP(IF(C2931=\"\",B2931&\"||\"&B2931,C2931&\"||\"&B2931),Worktags!AR:AV,5,FALSE),\"\")","v":""}]
["",null,null,null,null,{"$f":"IFERROR(VLOOKUP(IF(C2932=\"\",B2932&\"||\"&B2932,C2932&\"||\"&B2932),Worktags!AR:AV,5,FALSE),\"\")","v":""}]
["",null,null,null,null,{"$f":"IFERROR(VLOOKUP(IF(C2933=\"\",B2933&\"||\"&B2933,C2933&\"||\"&B2933),Worktags!AR:AV,5,FALSE),\"\")","v":""}]
["",null,null,null,null,{"$f":"IFERROR(VLOOKUP(IF(C2934=\"\",B2934&\"||\"&B2934,C2934&\"||\"&B2934),Worktags!AR:AV,5,FALSE),\"\")","v":""}]
["",null,null,null,null,{"$f":"IFERROR(VLOOKUP(IF(C2935=\"\",B2935&\"||\"&B2935,C2935&\"||\"&B2935),Worktags!AR:AV,5,FALSE),\"\")","v":""}]
["",null,null,null,null,{"$f":"IFERROR(VLOOKUP(IF(C2936=\"\",B2936&\"||\"&B2936,C2936&\"||\"&B2936),Worktags!AR:AV,5,FALSE),\"\")","v":""}]
["",null,null,null,null,{"$f":"IFERROR(VLOOKUP(IF(C2937=\"\",B2937&\"||\"&B2937,C2937&\"||\"&B2937),Worktags!AR:AV,5,FALSE),\"\")","v":""}]
["",null,null,null,null,{"$f":"IFERROR(VLOOKUP(IF(C2938=\"\",B2938&\"||\"&B2938,C2938&\"||\"&B2938),Worktags!AR:AV,5,FALSE),\"\")","v":""}]
["",null,null,null,null,{"$f":"IFERROR(VLOOKUP(IF(C2939=\"\",B2939&\"||\"&B2939,C2939&\"||\"&B2939),Worktags!AR:AV,5,FALSE),\"\")","v":""}]
["",null,null,null,null,{"$f":"IFERROR(VLOOKUP(IF(C2940=\"\",B2940&\"||\"&B2940,C2940&\"||\"&B2940),Worktags!AR:AV,5,FALSE),\"\")","v":""}]
["",null,null,null,null,{"$f":"IFERROR(VLOOKUP(IF(C2941=\"\",B2941&\"||\"&B2941,C2941&\"||\"&B2941),Worktags!AR:AV,5,FALSE),\"\")","v":""}]
["",null,null,null,null,{"$f":"IFERROR(VLOOKUP(IF(C2942=\"\",B2942&\"||\"&B2942,C2942&\"||\"&B2942),Worktags!AR:AV,5,FALSE),\"\")","v":""}]
["",null,null,null,null,{"$f":"IFERROR(VLOOKUP(IF(C2943=\"\",B2943&\"||\"&B2943,C2943&\"||\"&B2943),Worktags!AR:AV,5,FALSE),\"\")","v":""}]
["",null,null,null,null,{"$f":"IFERROR(VLOOKUP(IF(C2944=\"\",B2944&\"||\"&B2944,C2944&\"||\"&B2944),Worktags!AR:AV,5,FALSE),\"\")","v":""}]
["",null,null,null,null,{"$f":"IFERROR(VLOOKUP(IF(C2945=\"\",B2945&\"||\"&B2945,C2945&\"||\"&B2945),Worktags!AR:AV,5,FALSE),\"\")","v":""}]
[{"$f":"IF(B2946<>\"\",IF(C2946<>\"\",B2946&\"_\"&C2946&\" \"&D2946&\"/\"&E2946,B2946&\" \"&D2946),\"\")","v":""},null,null,null,null,{"$f":"IFERROR(VLOOKUP(IF(C2946=\"\",B2946&\"||\"&B2946,C2946&\"||\"&B2946),Worktags!AR:AV,5,FALSE),\"\")","v":""}]
["",null,null,null,null,{"$f":"IFERROR(VLOOKUP(IF(C2947=\"\",B2947&\"||\"&B2947,C2947&\"||\"&B2947),Worktags!AR:AV,5,FALSE),\"\")","v":""}]
["",null,null,null,null,{"$f":"IFERROR(VLOOKUP(IF(C2948=\"\",B2948&\"||\"&B2948,C2948&\"||\"&B2948),Worktags!AR:AV,5,FALSE),\"\")","v":""}]
["",null,null,null,null,{"$f":"IFERROR(VLOOKUP(IF(C2949=\"\",B2949&\"||\"&B2949,C2949&\"||\"&B2949),Worktags!AR:AV,5,FALSE),\"\")","v":""}]
["",null,null,null,null,{"$f":"IFERROR(VLOOKUP(IF(C2950=\"\",B2950&\"||\"&B2950,C2950&\"||\"&B2950),Worktags!AR:AV,5,FALSE),\"\")","v":""}]
["",null,null,null,null,{"$f":"IFERROR(VLOOKUP(IF(C2951=\"\",B2951&\"||\"&B2951,C2951&\"||\"&B2951),Worktags!AR:AV,5,FALSE),\"\")","v":""}]
["",null,null,null,null,{"$f":"IFERROR(VLOOKUP(IF(C2952=\"\",B2952&\"||\"&B2952,C2952&\"||\"&B2952),Worktags!AR:AV,5,FALSE),\"\")","v":""}]
["",null,null,null,null,{"$f":"IFERROR(VLOOKUP(IF(C2953=\"\",B2953&\"||\"&B2953,C2953&\"||\"&B2953),Worktags!AR:AV,5,FALSE),\"\")","v":""}]
["",null,null,null,null,{"$f":"IFERROR(VLOOKUP(IF(C2954=\"\",B2954&\"||\"&B2954,C2954&\"||\"&B2954),Worktags!AR:AV,5,FALSE),\"\")","v":""}]
["",null,null,null,null,{"$f":"IFERROR(VLOOKUP(IF(C2955=\"\",B2955&\"||\"&B2955,C2955&\"||\"&B2955),Worktags!AR:AV,5,FALSE),\"\")","v":""}]
["",null,null,null,null,{"$f":"IFERROR(VLOOKUP(IF(C2956=\"\",B2956&\"||\"&B2956,C2956&\"||\"&B2956),Worktags!AR:AV,5,FALSE),\"\")","v":""}]
["",null,null,null,null,{"$f":"IFERROR(VLOOKUP(IF(C2957=\"\",B2957&\"||\"&B2957,C2957&\"||\"&B2957),Worktags!AR:AV,5,FALSE),\"\")","v":""}]
["",null,null,null,null,{"$f":"IFERROR(VLOOKUP(IF(C2958=\"\",B2958&\"||\"&B2958,C2958&\"||\"&B2958),Worktags!AR:AV,5,FALSE),\"\")","v":""}]
["",null,null,null,null,{"$f":"IFERROR(VLOOKUP(IF(C2959=\"\",B2959&\"||\"&B2959,C2959&\"||\"&B2959),Worktags!AR:AV,5,FALSE),\"\")","v":""}]
["",null,null,null,null,{"$f":"IFERROR(VLOOKUP(IF(C2960=\"\",B2960&\"||\"&B2960,C2960&\"||\"&B2960),Worktags!AR:AV,5,FALSE),\"\")","v":""}]
["",null,null,null,null,{"$f":"IFERROR(VLOOKUP(IF(C2961=\"\",B2961&\"||\"&B2961,C2961&\"||\"&B2961),Worktags!AR:AV,5,FALSE),\"\")","v":""}]
["",null,null,null,null,{"$f":"IFERROR(VLOOKUP(IF(C2962=\"\",B2962&\"||\"&B2962,C2962&\"||\"&B2962),Worktags!AR:AV,5,FALSE),\"\")","v":""}]
["",null,null,null,null,{"$f":"IFERROR(VLOOKUP(IF(C2963=\"\",B2963&\"||\"&B2963,C2963&\"||\"&B2963),Worktags!AR:AV,5,FALSE),\"\")","v":""}]
["",null,null,null,null,{"$f":"IFERROR(VLOOKUP(IF(C2964=\"\",B2964&\"||\"&B2964,C2964&\"||\"&B2964),Worktags!AR:AV,5,FALSE),\"\")","v":""}]
["",null,null,null,null,{"$f":"IFERROR(VLOOKUP(IF(C2965=\"\",B2965&\"||\"&B2965,C2965&\"||\"&B2965),Worktags!AR:AV,5,FALSE),\"\")","v":""}]
["",null,null,null,null,{"$f":"IFERROR(VLOOKUP(IF(C2966=\"\",B2966&\"||\"&B2966,C2966&\"||\"&B2966),Worktags!AR:AV,5,FALSE),\"\")","v":""}]
["",null,null,null,null,{"$f":"IFERROR(VLOOKUP(IF(C2967=\"\",B2967&\"||\"&B2967,C2967&\"||\"&B2967),Worktags!AR:AV,5,FALSE),\"\")","v":""}]
["",null,null,null,null,{"$f":"IFERROR(VLOOKUP(IF(C2968=\"\",B2968&\"||\"&B2968,C2968&\"||\"&B2968),Worktags!AR:AV,5,FALSE),\"\")","v":""}]
["",null,null,null,null,{"$f":"IFERROR(VLOOKUP(IF(C2969=\"\",B2969&\"||\"&B2969,C2969&\"||\"&B2969),Worktags!AR:AV,5,FALSE),\"\")","v":""}]
["",null,null,null,null,{"$f":"IFERROR(VLOOKUP(IF(C2970=\"\",B2970&\"||\"&B2970,C2970&\"||\"&B2970),Worktags!AR:AV,5,FALSE),\"\")","v":""}]
["",null,null,null,null,{"$f":"IFERROR(VLOOKUP(IF(C2971=\"\",B2971&\"||\"&B2971,C2971&\"||\"&B2971),Worktags!AR:AV,5,FALSE),\"\")","v":""}]
["",null,null,null,null,{"$f":"IFERROR(VLOOKUP(IF(C2972=\"\",B2972&\"||\"&B2972,C2972&\"||\"&B2972),Worktags!AR:AV,5,FALSE),\"\")","v":""}]
["",null,null,null,null,{"$f":"IFERROR(VLOOKUP(IF(C2973=\"\",B2973&\"||\"&B2973,C2973&\"||\"&B2973),Worktags!AR:AV,5,FALSE),\"\")","v":""}]
["",null,null,null,null,{"$f":"IFERROR(VLOOKUP(IF(C2974=\"\",B2974&\"||\"&B2974,C2974&\"||\"&B2974),Worktags!AR:AV,5,FALSE),\"\")","v":""}]
["",null,null,null,null,{"$f":"IFERROR(VLOOKUP(IF(C2975=\"\",B2975&\"||\"&B2975,C2975&\"||\"&B2975),Worktags!AR:AV,5,FALSE),\"\")","v":""}]
["",null,null,null,null,{"$f":"IFERROR(VLOOKUP(IF(C2976=\"\",B2976&\"||\"&B2976,C2976&\"||\"&B2976),Worktags!AR:AV,5,FALSE),\"\")","v":""}]
["",null,null,null,null,{"$f":"IFERROR(VLOOKUP(IF(C2977=\"\",B2977&\"||\"&B2977,C2977&\"||\"&B2977),Worktags!AR:AV,5,FALSE),\"\")","v":""}]
["",null,null,null,null,{"$f":"IFERROR(VLOOKUP(IF(C2978=\"\",B2978&\"||\"&B2978,C2978&\"||\"&B2978),Worktags!AR:AV,5,FALSE),\"\")","v":""}]
["",null,null,null,null,{"$f":"IFERROR(VLOOKUP(IF(C2979=\"\",B2979&\"||\"&B2979,C2979&\"||\"&B2979),Worktags!AR:AV,5,FALSE),\"\")","v":""}]
["",null,null,null,null,{"$f":"IFERROR(VLOOKUP(IF(C2980=\"\",B2980&\"||\"&B2980,C2980&\"||\"&B2980),Worktags!AR:AV,5,FALSE),\"\")","v":""}]
["",null,null,null,null,{"$f":"IFERROR(VLOOKUP(IF(C2981=\"\",B2981&\"||\"&B2981,C2981&\"||\"&B2981),Worktags!AR:AV,5,FALSE),\"\")","v":""}]
["",null,null,null,null,{"$f":"IFERROR(VLOOKUP(IF(C2982=\"\",B2982&\"||\"&B2982,C2982&\"||\"&B2982),Worktags!AR:AV,5,FALSE),\"\")","v":""}]
["",null,null,null,null,{"$f":"IFERROR(VLOOKUP(IF(C2983=\"\",B2983&\"||\"&B2983,C2983&\"||\"&B2983),Worktags!AR:AV,5,FALSE),\"\")","v":""}]
["",null,null,null,null,{"$f":"IFERROR(VLOOKUP(IF(C2984=\"\",B2984&\"||\"&B2984,C2984&\"||\"&B2984),Worktags!AR:AV,5,FALSE),\"\")","v":""}]
["",null,null,null,null,{"$f":"IFERROR(VLOOKUP(IF(C2985=\"\",B2985&\"||\"&B2985,C2985&\"||\"&B2985),Worktags!AR:AV,5,FALSE),\"\")","v":""}]
["",null,null,null,null,{"$f":"IFERROR(VLOOKUP(IF(C2986=\"\",B2986&\"||\"&B2986,C2986&\"||\"&B2986),Worktags!AR:AV,5,FALSE),\"\")","v":""}]
["",null,null,null,null,{"$f":"IFERROR(VLOOKUP(IF(C2987=\"\",B2987&\"||\"&B2987,C2987&\"||\"&B2987),Worktags!AR:AV,5,FALSE),\"\")","v":""}]
["",null,null,null,null,{"$f":"IFERROR(VLOOKUP(IF(C2988=\"\",B2988&\"||\"&B2988,C2988&\"||\"&B2988),Worktags!AR:AV,5,FALSE),\"\")","v":""}]
["",null,null,null,null,{"$f":"IFERROR(VLOOKUP(IF(C2989=\"\",B2989&\"||\"&B2989,C2989&\"||\"&B2989),Worktags!AR:AV,5,FALSE),\"\")","v":""}]
["",null,null,null,null,{"$f":"IFERROR(VLOOKUP(IF(C2990=\"\",B2990&\"||\"&B2990,C2990&\"||\"&B2990),Worktags!AR:AV,5,FALSE),\"\")","v":""}]
["",null,null,null,null,{"$f":"IFERROR(VLOOKUP(IF(C2991=\"\",B2991&\"||\"&B2991,C2991&\"||\"&B2991),Worktags!AR:AV,5,FALSE),\"\")","v":""}]
["",null,null,null,null,{"$f":"IFERROR(VLOOKUP(IF(C2992=\"\",B2992&\"||\"&B2992,C2992&\"||\"&B2992),Worktags!AR:AV,5,FALSE),\"\")","v":""}]
["",null,null,null,null,{"$f":"IFERROR(VLOOKUP(IF(C2993=\"\",B2993&\"||\"&B2993,C2993&\"||\"&B2993),Worktags!AR:AV,5,FALSE),\"\")","v":""}]
["",null,null,null,null,{"$f":"IFERROR(VLOOKUP(IF(C2994=\"\",B2994&\"||\"&B2994,C2994&\"||\"&B2994),Worktags!AR:AV,5,FALSE),\"\")","v":""}]
["",null,null,null,null,{"$f":"IFERROR(VLOOKUP(IF(C2995=\"\",B2995&\"||\"&B2995,C2995&\"||\"&B2995),Worktags!AR:AV,5,FALSE),\"\")","v":""}]
["",null,null,null,null,{"$f":"IFERROR(VLOOKUP(IF(C2996=\"\",B2996&\"||\"&B2996,C2996&\"||\"&B2996),Worktags!AR:AV,5,FALSE),\"\")","v":""}]
["",null,null,null,null,{"$f":"IFERROR(VLOOKUP(IF(C2997=\"\",B2997&\"||\"&B2997,C2997&\"||\"&B2997),Worktags!AR:AV,5,FALSE),\"\")","v":""}]
["",null,null,null,null,{"$f":"IFERROR(VLOOKUP(IF(C2998=\"\",B2998&\"||\"&B2998,C2998&\"||\"&B2998),Worktags!AR:AV,5,FALSE),\"\")","v":""}]
["",null,null,null,null,{"$f":"IFERROR(VLOOKUP(IF(C2999=\"\",B2999&\"||\"&B2999,C2999&\"||\"&B2999),Worktags!AR:AV,5,FALSE),\"\")","v":""}]
["",null,null,null,null,{"$f":"IFERROR(VLOOKUP(IF(C3000=\"\",B3000&\"||\"&B3000,C3000&\"||\"&B3000),Worktags!AR:AV,5,FALSE),\"\")","v":""}]
["",null,null,null,null,{"$f":"IFERROR(VLOOKUP(IF(C3001=\"\",B3001&\"||\"&B3001,C3001&\"||\"&B3001),Worktags!AR:AV,5,FALSE),\"\")","v":""}]
["",null,null,null,null,{"$f":"IFERROR(VLOOKUP(IF(C3002=\"\",B3002&\"||\"&B3002,C3002&\"||\"&B3002),Worktags!AR:AV,5,FALSE),\"\")","v":""}]
["",null,null,null,null,{"$f":"IFERROR(VLOOKUP(IF(C3003=\"\",B3003&\"||\"&B3003,C3003&\"||\"&B3003),Worktags!AR:AV,5,FALSE),\"\")","v":""}]
["",null,null,null,null,{"$f":"IFERROR(VLOOKUP(IF(C3004=\"\",B3004&\"||\"&B3004,C3004&\"||\"&B3004),Worktags!AR:AV,5,FALSE),\"\")","v":""}]
["",null,null,null,null,{"$f":"IFERROR(VLOOKUP(IF(C3005=\"\",B3005&\"||\"&B3005,C3005&\"||\"&B3005),Worktags!AR:AV,5,FALSE),\"\")","v":""}]
["",null,null,null,null,{"$f":"IFERROR(VLOOKUP(IF(C3006=\"\",B3006&\"||\"&B3006,C3006&\"||\"&B3006),Worktags!AR:AV,5,FALSE),\"\")","v":""}]
["",null,null,null,null,{"$f":"IFERROR(VLOOKUP(IF(C3007=\"\",B3007&\"||\"&B3007,C3007&\"||\"&B3007),Worktags!AR:AV,5,FALSE),\"\")","v":""}]
["",null,null,null,null,{"$f":"IFERROR(VLOOKUP(IF(C3008=\"\",B3008&\"||\"&B3008,C3008&\"||\"&B3008),Worktags!AR:AV,5,FALSE),\"\")","v":""}]
["",null,null,null,null,{"$f":"IFERROR(VLOOKUP(IF(C3009=\"\",B3009&\"||\"&B3009,C3009&\"||\"&B3009),Worktags!AR:AV,5,FALSE),\"\")","v":""}]
[{"$f":"IF(B3010<>\"\",IF(C3010<>\"\",B3010&\"_\"&C3010&\" \"&D3010&\"/\"&E3010,B3010&\" \"&D3010),\"\")","v":""},null,null,null,null,{"$f":"IFERROR(VLOOKUP(IF(C3010=\"\",B3010&\"||\"&B3010,C3010&\"||\"&B3010),Worktags!AR:AV,5,FALSE),\"\")","v":""}]
["",null,null,null,null,{"$f":"IFERROR(VLOOKUP(IF(C3011=\"\",B3011&\"||\"&B3011,C3011&\"||\"&B3011),Worktags!AR:AV,5,FALSE),\"\")","v":""}]
["",null,null,null,null,{"$f":"IFERROR(VLOOKUP(IF(C3012=\"\",B3012&\"||\"&B3012,C3012&\"||\"&B3012),Worktags!AR:AV,5,FALSE),\"\")","v":""}]
["",null,null,null,null,{"$f":"IFERROR(VLOOKUP(IF(C3013=\"\",B3013&\"||\"&B3013,C3013&\"||\"&B3013),Worktags!AR:AV,5,FALSE),\"\")","v":""}]
["",null,null,null,null,{"$f":"IFERROR(VLOOKUP(IF(C3014=\"\",B3014&\"||\"&B3014,C3014&\"||\"&B3014),Worktags!AR:AV,5,FALSE),\"\")","v":""}]
["",null,null,null,null,{"$f":"IFERROR(VLOOKUP(IF(C3015=\"\",B3015&\"||\"&B3015,C3015&\"||\"&B3015),Worktags!AR:AV,5,FALSE),\"\")","v":""}]
["",null,null,null,null,{"$f":"IFERROR(VLOOKUP(IF(C3016=\"\",B3016&\"||\"&B3016,C3016&\"||\"&B3016),Worktags!AR:AV,5,FALSE),\"\")","v":""}]
["",null,null,null,null,{"$f":"IFERROR(VLOOKUP(IF(C3017=\"\",B3017&\"||\"&B3017,C3017&\"||\"&B3017),Worktags!AR:AV,5,FALSE),\"\")","v":""}]
["",null,null,null,null,{"$f":"IFERROR(VLOOKUP(IF(C3018=\"\",B3018&\"||\"&B3018,C3018&\"||\"&B3018),Worktags!AR:AV,5,FALSE),\"\")","v":""}]
["",null,null,null,null,{"$f":"IFERROR(VLOOKUP(IF(C3019=\"\",B3019&\"||\"&B3019,C3019&\"||\"&B3019),Worktags!AR:AV,5,FALSE),\"\")","v":""}]
["",null,null,null,null,{"$f":"IFERROR(VLOOKUP(IF(C3020=\"\",B3020&\"||\"&B3020,C3020&\"||\"&B3020),Worktags!AR:AV,5,FALSE),\"\")","v":""}]
["",null,null,null,null,{"$f":"IFERROR(VLOOKUP(IF(C3021=\"\",B3021&\"||\"&B3021,C3021&\"||\"&B3021),Worktags!AR:AV,5,FALSE),\"\")","v":""}]
["",null,null,null,null,{"$f":"IFERROR(VLOOKUP(IF(C3022=\"\",B3022&\"||\"&B3022,C3022&\"||\"&B3022),Worktags!AR:AV,5,FALSE),\"\")","v":""}]
["",null,null,null,null,{"$f":"IFERROR(VLOOKUP(IF(C3023=\"\",B3023&\"||\"&B3023,C3023&\"||\"&B3023),Worktags!AR:AV,5,FALSE),\"\")","v":""}]
["",null,null,null,null,{"$f":"IFERROR(VLOOKUP(IF(C3024=\"\",B3024&\"||\"&B3024,C3024&\"||\"&B3024),Worktags!AR:AV,5,FALSE),\"\")","v":""}]
["",null,null,null,null,{"$f":"IFERROR(VLOOKUP(IF(C3025=\"\",B3025&\"||\"&B3025,C3025&\"||\"&B3025),Worktags!AR:AV,5,FALSE),\"\")","v":""}]
["",null,null,null,null,{"$f":"IFERROR(VLOOKUP(IF(C3026=\"\",B3026&\"||\"&B3026,C3026&\"||\"&B3026),Worktags!AR:AV,5,FALSE),\"\")","v":""}]
["",null,null,null,null,{"$f":"IFERROR(VLOOKUP(IF(C3027=\"\",B3027&\"||\"&B3027,C3027&\"||\"&B3027),Worktags!AR:AV,5,FALSE),\"\")","v":""}]
["",null,null,null,null,{"$f":"IFERROR(VLOOKUP(IF(C3028=\"\",B3028&\"||\"&B3028,C3028&\"||\"&B3028),Worktags!AR:AV,5,FALSE),\"\")","v":""}]
["",null,null,null,null,{"$f":"IFERROR(VLOOKUP(IF(C3029=\"\",B3029&\"||\"&B3029,C3029&\"||\"&B3029),Worktags!AR:AV,5,FALSE),\"\")","v":""}]
["",null,null,null,null,{"$f":"IFERROR(VLOOKUP(IF(C3030=\"\",B3030&\"||\"&B3030,C3030&\"||\"&B3030),Worktags!AR:AV,5,FALSE),\"\")","v":""}]
["",null,null,null,null,{"$f":"IFERROR(VLOOKUP(IF(C3031=\"\",B3031&\"||\"&B3031,C3031&\"||\"&B3031),Worktags!AR:AV,5,FALSE),\"\")","v":""}]
["",null,null,null,null,{"$f":"IFERROR(VLOOKUP(IF(C3032=\"\",B3032&\"||\"&B3032,C3032&\"||\"&B3032),Worktags!AR:AV,5,FALSE),\"\")","v":""}]
["",null,null,null,null,{"$f":"IFERROR(VLOOKUP(IF(C3033=\"\",B3033&\"||\"&B3033,C3033&\"||\"&B3033),Worktags!AR:AV,5,FALSE),\"\")","v":""}]
["",null,null,null,null,{"$f":"IFERROR(VLOOKUP(IF(C3034=\"\",B3034&\"||\"&B3034,C3034&\"||\"&B3034),Worktags!AR:AV,5,FALSE),\"\")","v":""}]
["",null,null,null,null,{"$f":"IFERROR(VLOOKUP(IF(C3035=\"\",B3035&\"||\"&B3035,C3035&\"||\"&B3035),Worktags!AR:AV,5,FALSE),\"\")","v":""}]
["",null,null,null,null,{"$f":"IFERROR(VLOOKUP(IF(C3036=\"\",B3036&\"||\"&B3036,C3036&\"||\"&B3036),Worktags!AR:AV,5,FALSE),\"\")","v":""}]
["",null,null,null,null,{"$f":"IFERROR(VLOOKUP(IF(C3037=\"\",B3037&\"||\"&B3037,C3037&\"||\"&B3037),Worktags!AR:AV,5,FALSE),\"\")","v":""}]
["",null,null,null,null,{"$f":"IFERROR(VLOOKUP(IF(C3038=\"\",B3038&\"||\"&B3038,C3038&\"||\"&B3038),Worktags!AR:AV,5,FALSE),\"\")","v":""}]
["",null,null,null,null,{"$f":"IFERROR(VLOOKUP(IF(C3039=\"\",B3039&\"||\"&B3039,C3039&\"||\"&B3039),Worktags!AR:AV,5,FALSE),\"\")","v":""}]
["",null,null,null,null,{"$f":"IFERROR(VLOOKUP(IF(C3040=\"\",B3040&\"||\"&B3040,C3040&\"||\"&B3040),Worktags!AR:AV,5,FALSE),\"\")","v":""}]
["",null,null,null,null,{"$f":"IFERROR(VLOOKUP(IF(C3041=\"\",B3041&\"||\"&B3041,C3041&\"||\"&B3041),Worktags!AR:AV,5,FALSE),\"\")","v":""}]
["",null,null,null,null,{"$f":"IFERROR(VLOOKUP(IF(C3042=\"\",B3042&\"||\"&B3042,C3042&\"||\"&B3042),Worktags!AR:AV,5,FALSE),\"\")","v":""}]
["",null,null,null,null,{"$f":"IFERROR(VLOOKUP(IF(C3043=\"\",B3043&\"||\"&B3043,C3043&\"||\"&B3043),Worktags!AR:AV,5,FALSE),\"\")","v":""}]
["",null,null,null,null,{"$f":"IFERROR(VLOOKUP(IF(C3044=\"\",B3044&\"||\"&B3044,C3044&\"||\"&B3044),Worktags!AR:AV,5,FALSE),\"\")","v":""}]
["",null,null,null,null,{"$f":"IFERROR(VLOOKUP(IF(C3045=\"\",B3045&\"||\"&B3045,C3045&\"||\"&B3045),Worktags!AR:AV,5,FALSE),\"\")","v":""}]
["",null,null,null,null,{"$f":"IFERROR(VLOOKUP(IF(C3046=\"\",B3046&\"||\"&B3046,C3046&\"||\"&B3046),Worktags!AR:AV,5,FALSE),\"\")","v":""}]
["",null,null,null,null,{"$f":"IFERROR(VLOOKUP(IF(C3047=\"\",B3047&\"||\"&B3047,C3047&\"||\"&B3047),Worktags!AR:AV,5,FALSE),\"\")","v":""}]
["",null,null,null,null,{"$f":"IFERROR(VLOOKUP(IF(C3048=\"\",B3048&\"||\"&B3048,C3048&\"||\"&B3048),Worktags!AR:AV,5,FALSE),\"\")","v":""}]
["",null,null,null,null,{"$f":"IFERROR(VLOOKUP(IF(C3049=\"\",B3049&\"||\"&B3049,C3049&\"||\"&B3049),Worktags!AR:AV,5,FALSE),\"\")","v":""}]
["",null,null,null,null,{"$f":"IFERROR(VLOOKUP(IF(C3050=\"\",B3050&\"||\"&B3050,C3050&\"||\"&B3050),Worktags!AR:AV,5,FALSE),\"\")","v":""}]
["",null,null,null,null,{"$f":"IFERROR(VLOOKUP(IF(C3051=\"\",B3051&\"||\"&B3051,C3051&\"||\"&B3051),Worktags!AR:AV,5,FALSE),\"\")","v":""}]
["",null,null,null,null,{"$f":"IFERROR(VLOOKUP(IF(C3052=\"\",B3052&\"||\"&B3052,C3052&\"||\"&B3052),Worktags!AR:AV,5,FALSE),\"\")","v":""}]
["",null,null,null,null,{"$f":"IFERROR(VLOOKUP(IF(C3053=\"\",B3053&\"||\"&B3053,C3053&\"||\"&B3053),Worktags!AR:AV,5,FALSE),\"\")","v":""}]
["",null,null,null,null,{"$f":"IFERROR(VLOOKUP(IF(C3054=\"\",B3054&\"||\"&B3054,C3054&\"||\"&B3054),Worktags!AR:AV,5,FALSE),\"\")","v":""}]
["",null,null,null,null,{"$f":"IFERROR(VLOOKUP(IF(C3055=\"\",B3055&\"||\"&B3055,C3055&\"||\"&B3055),Worktags!AR:AV,5,FALSE),\"\")","v":""}]
["",null,null,null,null,{"$f":"IFERROR(VLOOKUP(IF(C3056=\"\",B3056&\"||\"&B3056,C3056&\"||\"&B3056),Worktags!AR:AV,5,FALSE),\"\")","v":""}]
["",null,null,null,null,{"$f":"IFERROR(VLOOKUP(IF(C3057=\"\",B3057&\"||\"&B3057,C3057&\"||\"&B3057),Worktags!AR:AV,5,FALSE),\"\")","v":""}]
["",null,null,null,null,{"$f":"IFERROR(VLOOKUP(IF(C3058=\"\",B3058&\"||\"&B3058,C3058&\"||\"&B3058),Worktags!AR:AV,5,FALSE),\"\")","v":""}]
["",null,null,null,null,{"$f":"IFERROR(VLOOKUP(IF(C3059=\"\",B3059&\"||\"&B3059,C3059&\"||\"&B3059),Worktags!AR:AV,5,FALSE),\"\")","v":""}]
["",null,null,null,null,{"$f":"IFERROR(VLOOKUP(IF(C3060=\"\",B3060&\"||\"&B3060,C3060&\"||\"&B3060),Worktags!AR:AV,5,FALSE),\"\")","v":""}]
["",null,null,null,null,{"$f":"IFERROR(VLOOKUP(IF(C3061=\"\",B3061&\"||\"&B3061,C3061&\"||\"&B3061),Worktags!AR:AV,5,FALSE),\"\")","v":""}]
["",null,null,null,null,{"$f":"IFERROR(VLOOKUP(IF(C3062=\"\",B3062&\"||\"&B3062,C3062&\"||\"&B3062),Worktags!AR:AV,5,FALSE),\"\")","v":""}]
["",null,null,null,null,{"$f":"IFERROR(VLOOKUP(IF(C3063=\"\",B3063&\"||\"&B3063,C3063&\"||\"&B3063),Worktags!AR:AV,5,FALSE),\"\")","v":""}]
["",null,null,null,null,{"$f":"IFERROR(VLOOKUP(IF(C3064=\"\",B3064&\"||\"&B3064,C3064&\"||\"&B3064),Worktags!AR:AV,5,FALSE),\"\")","v":""}]
["",null,null,null,null,{"$f":"IFERROR(VLOOKUP(IF(C3065=\"\",B3065&\"||\"&B3065,C3065&\"||\"&B3065),Worktags!AR:AV,5,FALSE),\"\")","v":""}]
["",null,null,null,null,{"$f":"IFERROR(VLOOKUP(IF(C3066=\"\",B3066&\"||\"&B3066,C3066&\"||\"&B3066),Worktags!AR:AV,5,FALSE),\"\")","v":""}]
["",null,null,null,null,{"$f":"IFERROR(VLOOKUP(IF(C3067=\"\",B3067&\"||\"&B3067,C3067&\"||\"&B3067),Worktags!AR:AV,5,FALSE),\"\")","v":""}]
["",null,null,null,null,{"$f":"IFERROR(VLOOKUP(IF(C3068=\"\",B3068&\"||\"&B3068,C3068&\"||\"&B3068),Worktags!AR:AV,5,FALSE),\"\")","v":""}]
["",null,null,null,null,{"$f":"IFERROR(VLOOKUP(IF(C3069=\"\",B3069&\"||\"&B3069,C3069&\"||\"&B3069),Worktags!AR:AV,5,FALSE),\"\")","v":""}]
["",null,null,null,null,{"$f":"IFERROR(VLOOKUP(IF(C3070=\"\",B3070&\"||\"&B3070,C3070&\"||\"&B3070),Worktags!AR:AV,5,FALSE),\"\")","v":""}]
["",null,null,null,null,{"$f":"IFERROR(VLOOKUP(IF(C3071=\"\",B3071&\"||\"&B3071,C3071&\"||\"&B3071),Worktags!AR:AV,5,FALSE),\"\")","v":""}]
["",null,null,null,null,{"$f":"IFERROR(VLOOKUP(IF(C3072=\"\",B3072&\"||\"&B3072,C3072&\"||\"&B3072),Worktags!AR:AV,5,FALSE),\"\")","v":""}]
["",null,null,null,null,{"$f":"IFERROR(VLOOKUP(IF(C3073=\"\",B3073&\"||\"&B3073,C3073&\"||\"&B3073),Worktags!AR:AV,5,FALSE),\"\")","v":""}]
[{"$f":"IF(B3074<>\"\",IF(C3074<>\"\",B3074&\"_\"&C3074&\" \"&D3074&\"/\"&E3074,B3074&\" \"&D3074),\"\")","v":""},null,null,null,null,{"$f":"IFERROR(VLOOKUP(IF(C3074=\"\",B3074&\"||\"&B3074,C3074&\"||\"&B3074),Worktags!AR:AV,5,FALSE),\"\")","v":""}]
["",null,null,null,null,{"$f":"IFERROR(VLOOKUP(IF(C3075=\"\",B3075&\"||\"&B3075,C3075&\"||\"&B3075),Worktags!AR:AV,5,FALSE),\"\")","v":""}]
["",null,null,null,null,{"$f":"IFERROR(VLOOKUP(IF(C3076=\"\",B3076&\"||\"&B3076,C3076&\"||\"&B3076),Worktags!AR:AV,5,FALSE),\"\")","v":""}]
["",null,null,null,null,{"$f":"IFERROR(VLOOKUP(IF(C3077=\"\",B3077&\"||\"&B3077,C3077&\"||\"&B3077),Worktags!AR:AV,5,FALSE),\"\")","v":""}]
["",null,null,null,null,{"$f":"IFERROR(VLOOKUP(IF(C3078=\"\",B3078&\"||\"&B3078,C3078&\"||\"&B3078),Worktags!AR:AV,5,FALSE),\"\")","v":""}]
["",null,null,null,null,{"$f":"IFERROR(VLOOKUP(IF(C3079=\"\",B3079&\"||\"&B3079,C3079&\"||\"&B3079),Worktags!AR:AV,5,FALSE),\"\")","v":""}]
["",null,null,null,null,{"$f":"IFERROR(VLOOKUP(IF(C3080=\"\",B3080&\"||\"&B3080,C3080&\"||\"&B3080),Worktags!AR:AV,5,FALSE),\"\")","v":""}]
["",null,null,null,null,{"$f":"IFERROR(VLOOKUP(IF(C3081=\"\",B3081&\"||\"&B3081,C3081&\"||\"&B3081),Worktags!AR:AV,5,FALSE),\"\")","v":""}]
["",null,null,null,null,{"$f":"IFERROR(VLOOKUP(IF(C3082=\"\",B3082&\"||\"&B3082,C3082&\"||\"&B3082),Worktags!AR:AV,5,FALSE),\"\")","v":""}]
["",null,null,null,null,{"$f":"IFERROR(VLOOKUP(IF(C3083=\"\",B3083&\"||\"&B3083,C3083&\"||\"&B3083),Worktags!AR:AV,5,FALSE),\"\")","v":""}]
["",null,null,null,null,{"$f":"IFERROR(VLOOKUP(IF(C3084=\"\",B3084&\"||\"&B3084,C3084&\"||\"&B3084),Worktags!AR:AV,5,FALSE),\"\")","v":""}]
["",null,null,null,null,{"$f":"IFERROR(VLOOKUP(IF(C3085=\"\",B3085&\"||\"&B3085,C3085&\"||\"&B3085),Worktags!AR:AV,5,FALSE),\"\")","v":""}]
["",null,null,null,null,{"$f":"IFERROR(VLOOKUP(IF(C3086=\"\",B3086&\"||\"&B3086,C3086&\"||\"&B3086),Worktags!AR:AV,5,FALSE),\"\")","v":""}]
["",null,null,null,null,{"$f":"IFERROR(VLOOKUP(IF(C3087=\"\",B3087&\"||\"&B3087,C3087&\"||\"&B3087),Worktags!AR:AV,5,FALSE),\"\")","v":""}]
["",null,null,null,null,{"$f":"IFERROR(VLOOKUP(IF(C3088=\"\",B3088&\"||\"&B3088,C3088&\"||\"&B3088),Worktags!AR:AV,5,FALSE),\"\")","v":""}]
["",null,null,null,null,{"$f":"IFERROR(VLOOKUP(IF(C3089=\"\",B3089&\"||\"&B3089,C3089&\"||\"&B3089),Worktags!AR:AV,5,FALSE),\"\")","v":""}]
["",null,null,null,null,{"$f":"IFERROR(VLOOKUP(IF(C3090=\"\",B3090&\"||\"&B3090,C3090&\"||\"&B3090),Worktags!AR:AV,5,FALSE),\"\")","v":""}]
["",null,null,null,null,{"$f":"IFERROR(VLOOKUP(IF(C3091=\"\",B3091&\"||\"&B3091,C3091&\"||\"&B3091),Worktags!AR:AV,5,FALSE),\"\")","v":""}]
["",null,null,null,null,{"$f":"IFERROR(VLOOKUP(IF(C3092=\"\",B3092&\"||\"&B3092,C3092&\"||\"&B3092),Worktags!AR:AV,5,FALSE),\"\")","v":""}]
["",null,null,null,null,{"$f":"IFERROR(VLOOKUP(IF(C3093=\"\",B3093&\"||\"&B3093,C3093&\"||\"&B3093),Worktags!AR:AV,5,FALSE),\"\")","v":""}]
["",null,null,null,null,{"$f":"IFERROR(VLOOKUP(IF(C3094=\"\",B3094&\"||\"&B3094,C3094&\"||\"&B3094),Worktags!AR:AV,5,FALSE),\"\")","v":""}]
["",null,null,null,null,{"$f":"IFERROR(VLOOKUP(IF(C3095=\"\",B3095&\"||\"&B3095,C3095&\"||\"&B3095),Worktags!AR:AV,5,FALSE),\"\")","v":""}]
["",null,null,null,null,{"$f":"IFERROR(VLOOKUP(IF(C3096=\"\",B3096&\"||\"&B3096,C3096&\"||\"&B3096),Worktags!AR:AV,5,FALSE),\"\")","v":""}]
["",null,null,null,null,{"$f":"IFERROR(VLOOKUP(IF(C3097=\"\",B3097&\"||\"&B3097,C3097&\"||\"&B3097),Worktags!AR:AV,5,FALSE),\"\")","v":""}]
["",null,null,null,null,{"$f":"IFERROR(VLOOKUP(IF(C3098=\"\",B3098&\"||\"&B3098,C3098&\"||\"&B3098),Worktags!AR:AV,5,FALSE),\"\")","v":""}]
["",null,null,null,null,{"$f":"IFERROR(VLOOKUP(IF(C3099=\"\",B3099&\"||\"&B3099,C3099&\"||\"&B3099),Worktags!AR:AV,5,FALSE),\"\")","v":""}]
["",null,null,null,null,{"$f":"IFERROR(VLOOKUP(IF(C3100=\"\",B3100&\"||\"&B3100,C3100&\"||\"&B3100),Worktags!AR:AV,5,FALSE),\"\")","v":""}]
["",null,null,null,null,{"$f":"IFERROR(VLOOKUP(IF(C3101=\"\",B3101&\"||\"&B3101,C3101&\"||\"&B3101),Worktags!AR:AV,5,FALSE),\"\")","v":""}]
["",null,null,null,null,{"$f":"IFERROR(VLOOKUP(IF(C3102=\"\",B3102&\"||\"&B3102,C3102&\"||\"&B3102),Worktags!AR:AV,5,FALSE),\"\")","v":""}]
["",null,null,null,null,{"$f":"IFERROR(VLOOKUP(IF(C3103=\"\",B3103&\"||\"&B3103,C3103&\"||\"&B3103),Worktags!AR:AV,5,FALSE),\"\")","v":""}]
["",null,null,null,null,{"$f":"IFERROR(VLOOKUP(IF(C3104=\"\",B3104&\"||\"&B3104,C3104&\"||\"&B3104),Worktags!AR:AV,5,FALSE),\"\")","v":""}]
["",null,null,null,null,{"$f":"IFERROR(VLOOKUP(IF(C3105=\"\",B3105&\"||\"&B3105,C3105&\"||\"&B3105),Worktags!AR:AV,5,FALSE),\"\")","v":""}]
["",null,null,null,null,{"$f":"IFERROR(VLOOKUP(IF(C3106=\"\",B3106&\"||\"&B3106,C3106&\"||\"&B3106),Worktags!AR:AV,5,FALSE),\"\")","v":""}]
[null,null,null,null,null,{"$f":"IFERROR(VLOOKUP(IF(C3107=\"\",B3107&\"||\"&B3107,C3107&\"||\"&B3107),Worktags!AR:AV,5,FALSE),\"\")","v":""}]
[null,null,null,null,null,{"$f":"IFERROR(VLOOKUP(IF(C3108=\"\",B3108&\"||\"&B3108,C3108&\"||\"&B3108),Worktags!AR:AV,5,FALSE),\"\")","v":""}]
[null,null,null,null,null,{"$f":"IFERROR(VLOOKUP(IF(C3109=\"\",B3109&\"||\"&B3109,C3109&\"||\"&B3109),Worktags!AR:AV,5,FALSE),\"\")","v":""}]
[null,null,null,null,null,{"$f":"IFERROR(VLOOKUP(IF(C3110=\"\",B3110&\"||\"&B3110,C3110&\"||\"&B3110),Worktags!AR:AV,5,FALSE),\"\")","v":""}]
[null,null,null,null,null,{"$f":"IFERROR(VLOOKUP(IF(C3111=\"\",B3111&\"||\"&B3111,C3111&\"||\"&B3111),Worktags!AR:AV,5,FALSE),\"\")","v":""}]
[null,null,null,null,null,{"$f":"IFERROR(VLOOKUP(IF(C3112=\"\",B3112&\"||\"&B3112,C3112&\"||\"&B3112),Worktags!AR:AV,5,FALSE),\"\")","v":""}]
[null,null,null,null,null,{"$f":"IFERROR(VLOOKUP(IF(C3113=\"\",B3113&\"||\"&B3113,C3113&\"||\"&B3113),Worktags!AR:AV,5,FALSE),\"\")","v":""}]
[null,null,null,null,null,{"$f":"IFERROR(VLOOKUP(IF(C3114=\"\",B3114&\"||\"&B3114,C3114&\"||\"&B3114),Worktags!AR:AV,5,FALSE),\"\")","v":""}]
[null,null,null,null,null,{"$f":"IFERROR(VLOOKUP(IF(C3115=\"\",B3115&\"||\"&B3115,C3115&\"||\"&B3115),Worktags!AR:AV,5,FALSE),\"\")","v":""}]
[null,null,null,null,null,{"$f":"IFERROR(VLOOKUP(IF(C3116=\"\",B3116&\"||\"&B3116,C3116&\"||\"&B3116),Worktags!AR:AV,5,FALSE),\"\")","v":""}]
[null,null,null,null,null,{"$f":"IFERROR(VLOOKUP(IF(C3117=\"\",B3117&\"||\"&B3117,C3117&\"||\"&B3117),Worktags!AR:AV,5,FALSE),\"\")","v":""}]
[null,null,null,null,null,{"$f":"IFERROR(VLOOKUP(IF(C3118=\"\",B3118&\"||\"&B3118,C3118&\"||\"&B3118),Worktags!AR:AV,5,FALSE),\"\")","v":""}]
[null,null,null,null,null,{"$f":"IFERROR(VLOOKUP(IF(C3119=\"\",B3119&\"||\"&B3119,C3119&\"||\"&B3119),Worktags!AR:AV,5,FALSE),\"\")","v":""}]
[null,null,null,null,null,{"$f":"IFERROR(VLOOKUP(IF(C3120=\"\",B3120&\"||\"&B3120,C3120&\"||\"&B3120),Worktags!AR:AV,5,FALSE),\"\")","v":""}]
[null,null,null,null,null,{"$f":"IFERROR(VLOOKUP(IF(C3121=\"\",B3121&\"||\"&B3121,C3121&\"||\"&B3121),Worktags!AR:AV,5,FALSE),\"\")","v":""}]
[null,null,null,null,null,{"$f":"IFERROR(VLOOKUP(IF(C3122=\"\",B3122&\"||\"&B3122,C3122&\"||\"&B3122),Worktags!AR:AV,5,FALSE),\"\")","v":""}]
[null,null,null,null,null,{"$f":"IFERROR(VLOOKUP(IF(C3123=\"\",B3123&\"||\"&B3123,C3123&\"||\"&B3123),Worktags!AR:AV,5,FALSE),\"\")","v":""}]
[null,null,null,null,null,{"$f":"IFERROR(VLOOKUP(IF(C3124=\"\",B3124&\"||\"&B3124,C3124&\"||\"&B3124),Worktags!AR:AV,5,FALSE),\"\")","v":""}]
[null,null,null,null,null,{"$f":"IFERROR(VLOOKUP(IF(C3125=\"\",B3125&\"||\"&B3125,C3125&\"||\"&B3125),Worktags!AR:AV,5,FALSE),\"\")","v":""}]
[null,null,null,null,null,{"$f":"IFERROR(VLOOKUP(IF(C3126=\"\",B3126&\"||\"&B3126,C3126&\"||\"&B3126),Worktags!AR:AV,5,FALSE),\"\")","v":""}]
[null,null,null,null,null,{"$f":"IFERROR(VLOOKUP(IF(C3127=\"\",B3127&\"||\"&B3127,C3127&\"||\"&B3127),Worktags!AR:AV,5,FALSE),\"\")","v":""}]
[null,null,null,null,null,{"$f":"IFERROR(VLOOKUP(IF(C3128=\"\",B3128&\"||\"&B3128,C3128&\"||\"&B3128),Worktags!AR:AV,5,FALSE),\"\")","v":""}]
[null,null,null,null,null,{"$f":"IFERROR(VLOOKUP(IF(C3129=\"\",B3129&\"||\"&B3129,C3129&\"||\"&B3129),Worktags!AR:AV,5,FALSE),\"\")","v":""}]
[null,null,null,null,null,{"$f":"IFERROR(VLOOKUP(IF(C3130=\"\",B3130&\"||\"&B3130,C3130&\"||\"&B3130),Worktags!AR:AV,5,FALSE),\"\")","v":""}]
[null,null,null,null,null,{"$f":"IFERROR(VLOOKUP(IF(C3131=\"\",B3131&\"||\"&B3131,C3131&\"||\"&B3131),Worktags!AR:AV,5,FALSE),\"\")","v":""}]
[null,null,null,null,null,{"$f":"IFERROR(VLOOKUP(IF(C3132=\"\",B3132&\"||\"&B3132,C3132&\"||\"&B3132),Worktags!AR:AV,5,FALSE),\"\")","v":""}]
[null,null,null,null,null,{"$f":"IFERROR(VLOOKUP(IF(C3133=\"\",B3133&\"||\"&B3133,C3133&\"||\"&B3133),Worktags!AR:AV,5,FALSE),\"\")","v":""}]
[null,null,null,null,null,{"$f":"IFERROR(VLOOKUP(IF(C3134=\"\",B3134&\"||\"&B3134,C3134&\"||\"&B3134),Worktags!AR:AV,5,FALSE),\"\")","v":""}]
[null,null,null,null,null,{"$f":"IFERROR(VLOOKUP(IF(C3135=\"\",B3135&\"||\"&B3135,C3135&\"||\"&B3135),Worktags!AR:AV,5,FALSE),\"\")","v":""}]
[null,null,null,null,null,{"$f":"IFERROR(VLOOKUP(IF(C3136=\"\",B3136&\"||\"&B3136,C3136&\"||\"&B3136),Worktags!AR:AV,5,FALSE),\"\")","v":""}]
[null,null,null,null,null,{"$f":"IFERROR(VLOOKUP(IF(C3137=\"\",B3137&\"||\"&B3137,C3137&\"||\"&B3137),Worktags!AR:AV,5,FALSE),\"\")","v":""}]
[null,null,null,null,null,{"$f":"IFERROR(VLOOKUP(IF(C3138=\"\",B3138&\"||\"&B3138,C3138&\"||\"&B3138),Worktags!AR:AV,5,FALSE),\"\")","v":""}]
[null,null,null,null,null,{"$f":"IFERROR(VLOOKUP(IF(C3139=\"\",B3139&\"||\"&B3139,C3139&\"||\"&B3139),Worktags!AR:AV,5,FALSE),\"\")","v":""}]
[null,null,null,null,null,{"$f":"IFERROR(VLOOKUP(IF(C3140=\"\",B3140&\"||\"&B3140,C3140&\"||\"&B3140),Worktags!AR:AV,5,FALSE),\"\")","v":""}]
[null,null,null,null,null,{"$f":"IFERROR(VLOOKUP(IF(C3141=\"\",B3141&\"||\"&B3141,C3141&\"||\"&B3141),Worktags!AR:AV,5,FALSE),\"\")","v":""}]
[null,null,null,null,null,{"$f":"IFERROR(VLOOKUP(IF(C3142=\"\",B3142&\"||\"&B3142,C3142&\"||\"&B3142),Worktags!AR:AV,5,FALSE),\"\")","v":""}]
[null,null,null,null,null,{"$f":"IFERROR(VLOOKUP(IF(C3143=\"\",B3143&\"||\"&B3143,C3143&\"||\"&B3143),Worktags!AR:AV,5,FALSE),\"\")","v":""}]
[null,null,null,null,null,{"$f":"IFERROR(VLOOKUP(IF(C3144=\"\",B3144&\"||\"&B3144,C3144&\"||\"&B3144),Worktags!AR:AV,5,FALSE),\"\")","v":""}]
[null,null,null,null,null,{"$f":"IFERROR(VLOOKUP(IF(C3145=\"\",B3145&\"||\"&B3145,C3145&\"||\"&B3145),Worktags!AR:AV,5,FALSE),\"\")","v":""}]
[null,null,null,null,null,{"$f":"IFERROR(VLOOKUP(IF(C3146=\"\",B3146&\"||\"&B3146,C3146&\"||\"&B3146),Worktags!AR:AV,5,FALSE),\"\")","v":""}]
[null,null,null,null,null,{"$f":"IFERROR(VLOOKUP(IF(C3147=\"\",B3147&\"||\"&B3147,C3147&\"||\"&B3147),Worktags!AR:AV,5,FALSE),\"\")","v":""}]
[null,null,null,null,null,{"$f":"IFERROR(VLOOKUP(IF(C3148=\"\",B3148&\"||\"&B3148,C3148&\"||\"&B3148),Worktags!AR:AV,5,FALSE),\"\")","v":""}]
[null,null,null,null,null,{"$f":"IFERROR(VLOOKUP(IF(C3149=\"\",B3149&\"||\"&B3149,C3149&\"||\"&B3149),Worktags!AR:AV,5,FALSE),\"\")","v":""}]
[null,null,null,null,null,{"$f":"IFERROR(VLOOKUP(IF(C3150=\"\",B3150&\"||\"&B3150,C3150&\"||\"&B3150),Worktags!AR:AV,5,FALSE),\"\")","v":""}]
[null,null,null,null,null,{"$f":"IFERROR(VLOOKUP(IF(C3151=\"\",B3151&\"||\"&B3151,C3151&\"||\"&B3151),Worktags!AR:AV,5,FALSE),\"\")","v":""}]
[null,null,null,null,null,{"$f":"IFERROR(VLOOKUP(IF(C3152=\"\",B3152&\"||\"&B3152,C3152&\"||\"&B3152),Worktags!AR:AV,5,FALSE),\"\")","v":""}]
[null,null,null,null,null,{"$f":"IFERROR(VLOOKUP(IF(C3153=\"\",B3153&\"||\"&B3153,C3153&\"||\"&B3153),Worktags!AR:AV,5,FALSE),\"\")","v":""}]
[null,null,null,null,null,{"$f":"IFERROR(VLOOKUP(IF(C3154=\"\",B3154&\"||\"&B3154,C3154&\"||\"&B3154),Worktags!AR:AV,5,FALSE),\"\")","v":""}]
[null,null,null,null,null,{"$f":"IFERROR(VLOOKUP(IF(C3155=\"\",B3155&\"||\"&B3155,C3155&\"||\"&B3155),Worktags!AR:AV,5,FALSE),\"\")","v":""}]
[null,null,null,null,null,{"$f":"IFERROR(VLOOKUP(IF(C3156=\"\",B3156&\"||\"&B3156,C3156&\"||\"&B3156),Worktags!AR:AV,5,FALSE),\"\")","v":""}]
[null,null,null,null,null,{"$f":"IFERROR(VLOOKUP(IF(C3157=\"\",B3157&\"||\"&B3157,C3157&\"||\"&B3157),Worktags!AR:AV,5,FALSE),\"\")","v":""}]
[null,null,null,null,null,{"$f":"IFERROR(VLOOKUP(IF(C3158=\"\",B3158&\"||\"&B3158,C3158&\"||\"&B3158),Worktags!AR:AV,5,FALSE),\"\")","v":""}]
[null,null,null,null,null,{"$f":"IFERROR(VLOOKUP(IF(C3159=\"\",B3159&\"||\"&B3159,C3159&\"||\"&B3159),Worktags!AR:AV,5,FALSE),\"\")","v":""}]
[null,null,null,null,null,{"$f":"IFERROR(VLOOKUP(IF(C3160=\"\",B3160&\"||\"&B3160,C3160&\"||\"&B3160),Worktags!AR:AV,5,FALSE),\"\")","v":""}]
[null,null,null,null,null,{"$f":"IFERROR(VLOOKUP(IF(C3161=\"\",B3161&\"||\"&B3161,C3161&\"||\"&B3161),Worktags!AR:AV,5,FALSE),\"\")","v":""}]
[null,null,null,null,null,{"$f":"IFERROR(VLOOKUP(IF(C3162=\"\",B3162&\"||\"&B3162,C3162&\"||\"&B3162),Worktags!AR:AV,5,FALSE),\"\")","v":""}]
[null,null,null,null,null,{"$f":"IFERROR(VLOOKUP(IF(C3163=\"\",B3163&\"||\"&B3163,C3163&\"||\"&B3163),Worktags!AR:AV,5,FALSE),\"\")","v":""}]
[null,null,null,null,null,{"$f":"IFERROR(VLOOKUP(IF(C3164=\"\",B3164&\"||\"&B3164,C3164&\"||\"&B3164),Worktags!AR:AV,5,FALSE),\"\")","v":""}]
[null,null,null,null,null,{"$f":"IFERROR(VLOOKUP(IF(C3165=\"\",B3165&\"||\"&B3165,C3165&\"||\"&B3165),Worktags!AR:AV,5,FALSE),\"\")","v":""}]
[null,null,null,null,null,{"$f":"IFERROR(VLOOKUP(IF(C3166=\"\",B3166&\"||\"&B3166,C3166&\"||\"&B3166),Worktags!AR:AV,5,FALSE),\"\")","v":""}]
[null,null,null,null,null,{"$f":"IFERROR(VLOOKUP(IF(C3167=\"\",B3167&\"||\"&B3167,C3167&\"||\"&B3167),Worktags!AR:AV,5,FALSE),\"\")","v":""}]
[null,null,null,null,null,{"$f":"IFERROR(VLOOKUP(IF(C3168=\"\",B3168&\"||\"&B3168,C3168&\"||\"&B3168),Worktags!AR:AV,5,FALSE),\"\")","v":""}]
[null,null,null,null,null,{"$f":"IFERROR(VLOOKUP(IF(C3169=\"\",B3169&\"||\"&B3169,C3169&\"||\"&B3169),Worktags!AR:AV,5,FALSE),\"\")","v":""}]
[null,null,null,null,null,{"$f":"IFERROR(VLOOKUP(IF(C3170=\"\",B3170&\"||\"&B3170,C3170&\"||\"&B3170),Worktags!AR:AV,5,FALSE),\"\")","v":""}]
[null,null,null,null,null,{"$f":"IFERROR(VLOOKUP(IF(C3171=\"\",B3171&\"||\"&B3171,C3171&\"||\"&B3171),Worktags!AR:AV,5,FALSE),\"\")","v":""}]
[null,null,null,null,null,{"$f":"IFERROR(VLOOKUP(IF(C3172=\"\",B3172&\"||\"&B3172,C3172&\"||\"&B3172),Worktags!AR:AV,5,FALSE),\"\")","v":""}]
[null,null,null,null,null,{"$f":"IFERROR(VLOOKUP(IF(C3173=\"\",B3173&\"||\"&B3173,C3173&\"||\"&B3173),Worktags!AR:AV,5,FALSE),\"\")","v":""}]
[null,null,null,null,null,{"$f":"IFERROR(VLOOKUP(IF(C3174=\"\",B3174&\"||\"&B3174,C3174&\"||\"&B3174),Worktags!AR:AV,5,FALSE),\"\")","v":""}]
[null,null,null,null,null,{"$f":"IFERROR(VLOOKUP(IF(C3175=\"\",B3175&\"||\"&B3175,C3175&\"||\"&B3175),Worktags!AR:AV,5,FALSE),\"\")","v":""}]
[null,null,null,null,null,{"$f":"IFERROR(VLOOKUP(IF(C3176=\"\",B3176&\"||\"&B3176,C3176&\"||\"&B3176),Worktags!AR:AV,5,FALSE),\"\")","v":""}]
[null,null,null,null,null,{"$f":"IFERROR(VLOOKUP(IF(C3177=\"\",B3177&\"||\"&B3177,C3177&\"||\"&B3177),Worktags!AR:AV,5,FALSE),\"\")","v":""}]
[null,null,null,null,null,{"$f":"IFERROR(VLOOKUP(IF(C3178=\"\",B3178&\"||\"&B3178,C3178&\"||\"&B3178),Worktags!AR:AV,5,FALSE),\"\")","v":""}]
[null,null,null,null,null,{"$f":"IFERROR(VLOOKUP(IF(C3179=\"\",B3179&\"||\"&B3179,C3179&\"||\"&B3179),Worktags!AR:AV,5,FALSE),\"\")","v":""}]
[null,null,null,null,null,{"$f":"IFERROR(VLOOKUP(IF(C3180=\"\",B3180&\"||\"&B3180,C3180&\"||\"&B3180),Worktags!AR:AV,5,FALSE),\"\")","v":""}]
[null,null,null,null,null,{"$f":"IFERROR(VLOOKUP(IF(C3181=\"\",B3181&\"||\"&B3181,C3181&\"||\"&B3181),Worktags!AR:AV,5,FALSE),\"\")","v":""}]
[null,null,null,null,null,{"$f":"IFERROR(VLOOKUP(IF(C3182=\"\",B3182&\"||\"&B3182,C3182&\"||\"&B3182),Worktags!AR:AV,5,FALSE),\"\")","v":""}]
[null,null,null,null,null,{"$f":"IFERROR(VLOOKUP(IF(C3183=\"\",B3183&\"||\"&B3183,C3183&\"||\"&B3183),Worktags!AR:AV,5,FALSE),\"\")","v":""}]
[null,null,null,null,null,{"$f":"IFERROR(VLOOKUP(IF(C3184=\"\",B3184&\"||\"&B3184,C3184&\"||\"&B3184),Worktags!AR:AV,5,FALSE),\"\")","v":""}]
[null,null,null,null,null,{"$f":"IFERROR(VLOOKUP(IF(C3185=\"\",B3185&\"||\"&B3185,C3185&\"||\"&B3185),Worktags!AR:AV,5,FALSE),\"\")","v":""}]
[null,null,null,null,null,{"$f":"IFERROR(VLOOKUP(IF(C3186=\"\",B3186&\"||\"&B3186,C3186&\"||\"&B3186),Worktags!AR:AV,5,FALSE),\"\")","v":""}]
[null,null,null,null,null,{"$f":"IFERROR(VLOOKUP(IF(C3187=\"\",B3187&\"||\"&B3187,C3187&\"||\"&B3187),Worktags!AR:AV,5,FALSE),\"\")","v":""}]
[null,null,null,null,null,{"$f":"IFERROR(VLOOKUP(IF(C3188=\"\",B3188&\"||\"&B3188,C3188&\"||\"&B3188),Worktags!AR:AV,5,FALSE),\"\")","v":""}]
[null,null,null,null,null,{"$f":"IFERROR(VLOOKUP(IF(C3189=\"\",B3189&\"||\"&B3189,C3189&\"||\"&B3189),Worktags!AR:AV,5,FALSE),\"\")","v":""}]
[null,null,null,null,null,{"$f":"IFERROR(VLOOKUP(IF(C3190=\"\",B3190&\"||\"&B3190,C3190&\"||\"&B3190),Worktags!AR:AV,5,FALSE),\"\")","v":""}]
[null,null,null,null,null,{"$f":"IFERROR(VLOOKUP(IF(C3191=\"\",B3191&\"||\"&B3191,C3191&\"||\"&B3191),Worktags!AR:AV,5,FALSE),\"\")","v":""}]
[null,null,null,null,null,{"$f":"IFERROR(VLOOKUP(IF(C3192=\"\",B3192&\"||\"&B3192,C3192&\"||\"&B3192),Worktags!AR:AV,5,FALSE),\"\")","v":""}]
[null,null,null,null,null,{"$f":"IFERROR(VLOOKUP(IF(C3193=\"\",B3193&\"||\"&B3193,C3193&\"||\"&B3193),Worktags!AR:AV,5,FALSE),\"\")","v":""}]
[null,null,null,null,null,{"$f":"IFERROR(VLOOKUP(IF(C3194=\"\",B3194&\"||\"&B3194,C3194&\"||\"&B3194),Worktags!AR:AV,5,FALSE),\"\")","v":""}]
[null,null,null,null,null,{"$f":"IFERROR(VLOOKUP(IF(C3195=\"\",B3195&\"||\"&B3195,C3195&\"||\"&B3195),Worktags!AR:AV,5,FALSE),\"\")","v":""}]
[null,null,null,null,null,{"$f":"IFERROR(VLOOKUP(IF(C3196=\"\",B3196&\"||\"&B3196,C3196&\"||\"&B3196),Worktags!AR:AV,5,FALSE),\"\")","v":""}]
[null,null,null,null,null,{"$f":"IFERROR(VLOOKUP(IF(C3197=\"\",B3197&\"||\"&B3197,C3197&\"||\"&B3197),Worktags!AR:AV,5,FALSE),\"\")","v":""}]
[null,null,null,null,null,{"$f":"IFERROR(VLOOKUP(IF(C3198=\"\",B3198&\"||\"&B3198,C3198&\"||\"&B3198),Worktags!AR:AV,5,FALSE),\"\")","v":""}]
[null,null,null,null,null,{"$f":"IFERROR(VLOOKUP(IF(C3199=\"\",B3199&\"||\"&B3199,C3199&\"||\"&B3199),Worktags!AR:AV,5,FALSE),\"\")","v":""}]
[null,null,null,null,null,{"$f":"IFERROR(VLOOKUP(IF(C3200=\"\",B3200&\"||\"&B3200,C3200&\"||\"&B3200),Worktags!AR:AV,5,FALSE),\"\")","v":""}]
[null,null,null,null,null,{"$f":"IFERROR(VLOOKUP(IF(C3201=\"\",B3201&\"||\"&B3201,C3201&\"||\"&B3201),Worktags!AR:AV,5,FALSE),\"\")","v":""}]
[null,null,null,null,null,{"$f":"IFERROR(VLOOKUP(IF(C3202=\"\",B3202&\"||\"&B3202,C3202&\"||\"&B3202),Worktags!AR:AV,5,FALSE),\"\")","v":""}]
[null,null,null,null,null,{"$f":"IFERROR(VLOOKUP(IF(C3203=\"\",B3203&\"||\"&B3203,C3203&\"||\"&B3203),Worktags!AR:AV,5,FALSE),\"\")","v":""}]
[null,null,null,null,null,{"$f":"IFERROR(VLOOKUP(IF(C3204=\"\",B3204&\"||\"&B3204,C3204&\"||\"&B3204),Worktags!AR:AV,5,FALSE),\"\")","v":""}]
[null,null,null,null,null,{"$f":"IFERROR(VLOOKUP(IF(C3205=\"\",B3205&\"||\"&B3205,C3205&\"||\"&B3205),Worktags!AR:AV,5,FALSE),\"\")","v":""}]
[null,null,null,null,null,{"$f":"IFERROR(VLOOKUP(IF(C3206=\"\",B3206&\"||\"&B3206,C3206&\"||\"&B3206),Worktags!AR:AV,5,FALSE),\"\")","v":""}]
[null,null,null,null,null,{"$f":"IFERROR(VLOOKUP(IF(C3207=\"\",B3207&\"||\"&B3207,C3207&\"||\"&B3207),Worktags!AR:AV,5,FALSE),\"\")","v":""}]
[null,null,null,null,null,{"$f":"IFERROR(VLOOKUP(IF(C3208=\"\",B3208&\"||\"&B3208,C3208&\"||\"&B3208),Worktags!AR:AV,5,FALSE),\"\")","v":""}]
[null,null,null,null,null,{"$f":"IFERROR(VLOOKUP(IF(C3209=\"\",B3209&\"||\"&B3209,C3209&\"||\"&B3209),Worktags!AR:AV,5,FALSE),\"\")","v":""}]
[null,null,null,null,null,{"$f":"IFERROR(VLOOKUP(IF(C3210=\"\",B3210&\"||\"&B3210,C3210&\"||\"&B3210),Worktags!AR:AV,5,FALSE),\"\")","v":""}]
[null,null,null,null,null,{"$f":"IFERROR(VLOOKUP(IF(C3211=\"\",B3211&\"||\"&B3211,C3211&\"||\"&B3211),Worktags!AR:AV,5,FALSE),\"\")","v":""}]
[null,null,null,null,null,{"$f":"IFERROR(VLOOKUP(IF(C3212=\"\",B3212&\"||\"&B3212,C3212&\"||\"&B3212),Worktags!AR:AV,5,FALSE),\"\")","v":""}]
[null,null,null,null,null,{"$f":"IFERROR(VLOOKUP(IF(C3213=\"\",B3213&\"||\"&B3213,C3213&\"||\"&B3213),Worktags!AR:AV,5,FALSE),\"\")","v":""}]
[null,null,null,null,null,{"$f":"IFERROR(VLOOKUP(IF(C3214=\"\",B3214&\"||\"&B3214,C3214&\"||\"&B3214),Worktags!AR:AV,5,FALSE),\"\")","v":""}]
[null,null,null,null,null,{"$f":"IFERROR(VLOOKUP(IF(C3215=\"\",B3215&\"||\"&B3215,C3215&\"||\"&B3215),Worktags!AR:AV,5,FALSE),\"\")","v":""}]
[null,null,null,null,null,{"$f":"IFERROR(VLOOKUP(IF(C3216=\"\",B3216&\"||\"&B3216,C3216&\"||\"&B3216),Worktags!AR:AV,5,FALSE),\"\")","v":""}]
[null,null,null,null,null,{"$f":"IFERROR(VLOOKUP(IF(C3217=\"\",B3217&\"||\"&B3217,C3217&\"||\"&B3217),Worktags!AR:AV,5,FALSE),\"\")","v":""}]
[null,null,null,null,null,{"$f":"IFERROR(VLOOKUP(IF(C3218=\"\",B3218&\"||\"&B3218,C3218&\"||\"&B3218),Worktags!AR:AV,5,FALSE),\"\")","v":""}]
[null,null,null,null,null,{"$f":"IFERROR(VLOOKUP(IF(C3219=\"\",B3219&\"||\"&B3219,C3219&\"||\"&B3219),Worktags!AR:AV,5,FALSE),\"\")","v":""}]
[null,null,null,null,null,{"$f":"IFERROR(VLOOKUP(IF(C3220=\"\",B3220&\"||\"&B3220,C3220&\"||\"&B3220),Worktags!AR:AV,5,FALSE),\"\")","v":""}]
[null,null,null,null,null,{"$f":"IFERROR(VLOOKUP(IF(C3221=\"\",B3221&\"||\"&B3221,C3221&\"||\"&B3221),Worktags!AR:AV,5,FALSE),\"\")","v":""}]

{"sheet":"Import Accounting Journal","index":6,"n_rows":6,"n_cols":28,"rows_kept":6,"cut":false,"hidden":true,"merged":[[0,0,0,27],[1,1,1,5],[1,6,1,27]]}
["Import Accounting Journal - v41.2"]
["Area","All",null,null,null,null,"Accounting Journal Data (All)"]
["Restrictions","Required","Optional","Optional","Optional","Optional","Optional","Optional","Optional","Optional","Optional","Required","Required","Required","Optional","Required","Required","Optional","Optional. May have multiples","Optional","Optional","Optional","Optional","Optional","Optional","Optional","Optional","Optional"]
["Format","Text","Y/N","Y/N","Accounting_Journal_ID","Y/N","Text","Y/N","Y/N","Y/N","Text","Company_Reference_ID","Currency_ID","Ledger_Type_ID","Book_Code_ID","YYYY-MM-DD","Journal_Source_ID","Fund_ID","Academic_Level_ID","Text","Text","Y/N","Y/N","YYYY-MM-DD","Number (26,6)","Currency_Rate_Type_ID","Currency_Rate_Type_ID","Y/N"]
["Fields","Header Key*","Add Only","Create Journal with Errors","Existing Accounting Journal Ref ID","Auto Complete","Accounting Journal Ref ID","Submit","Disable Optional Worktag Balancing","Journal for All Ledgers","Journal Number","Company*","Currency*","Ledger Type*","Book Code","Accounting Date*","Journal Source*","Balancing Worktag","Optional Balancing Worktags+","Journal Entry Memo","External Reference ID","Adjustment Journal","Create Reversal","Reversal Date","Control Total Amount","Currency Rate Type","Alternate Ledger Currency Rate Type","Discard On Exit Validation Error"]
[null,{"$f":"IF(Template!$A$8<>\"\",Template!$A$8,\"\")","v":""},{"$f":"IF($B$6<>\"\",\"N\",\"\")","v":""},null,null,null,null,{"$f":"IF($B$6<>\"\",\"Y\",\"\")","v":""},null,null,null,{"$f":"IF($B$6<>\"\",INDEX(Worktags!$B$4:$D$36,MATCH(Template!$D$8,Worktags!$C$4:$C$36,0),1),\"\")","v":""},{"$f":"IF($B$6<>\"\",Template!$G$8,\"\")","v":""},{"$f":"IF($B$6<>\"\",Template!$E$8,\"\")","v":""},{"$f":"IF($B$6<>\"\",VLOOKUP(Template!$F$8,Tenant!$T:$U,2,FALSE),\"\")","v":""},{"$f":"IF($B$6<>\"\",TEXT(Template!$B$8,\"yyyy-mm-dd\"),\"\")","v":""},{"$f":"IF($B$6<>\"\",VLOOKUP(Template!$C$8,Tenant!$P:$Q,2,FALSE),\"\")","v":""},{"$f":"IF($B$6<>\"\",\"FD01\")","v":false},null,{"$f":"IF($B$6<>\"\",Template!$I$8,\"\")","v":""},{"$f":"IF($B$6<>\"\",Template!$H$8,\"\")","v":""}]

{"sheet":"Journal Entry Line Replacement","index":7,"n_rows":7,"n_cols":32,"rows_kept":7,"cut":false,"hidden":true,"merged":[[0,0,0,29],[1,1,1,31]]}
["Journal Entry Line Replacement Data"]
["Area","All"]
["Restrictions","Required","Required","Optional","Optional","Optional","Optional","Optional","Optional","Optional","Optional","Optional","Optional","Optional","Optional","Optional","Optional","Optional","Optional","Optional","Optional","Optional","Optional","Optional","Optional","Optional","Optional","Optional","Optional","Optional","Optional","Optional"]
["Format","Text","Text","Company_Reference_ID","Ledger_Account_ID","Account_Set_ID","Number (26,6)","Number (26,6)","Currency_ID","Number (24,12)","Number (18,3)","Number (18,3)","Text","Text","Spend_Category_ID","Revenue_Category_ID","Cost_Center_Reference_ID","Custom_Organization_Reference_ID","Gift_Reference_ID","Grant_ID","Project_ID","Project_Plan_ID","Fund_ID","Program_ID","Custom_Organization_Reference_ID","Custom_Organization_Reference_ID","Custom_Organization_Reference_ID","Custom_Worktag_06_ID","Donor_ID","Location_ID","Custom_Worktag_3_ID","Bank_Account_ID"]
["Fields","Header Key","Line Key","Line Company","Ledger Account","Account Set","Debit Amount","Credit Amount","Currency","Currency Rate","Ledger Debit Amount","Ledger Credit Amount","Memo","External Reference ID","Spend Category","Revenue Category","Cost Center","Activity","Gift","Grant","Project","Project Plan","Fund","Program","Class","Assignee","Student Experience","Intra Campus Transactions","Donor","Location","External Payment Type","Bank Account"]
[null,{"$f":"Template!$L$8","v":0},1,{"$f":"IF(Template!$AB$8<>\"\",INDEX(Worktags!$B$4:$D$36,MATCH(Template!$AB$8,Worktags!$C$4:$C$36,0),1),\"\")","v":""},{"$f":"IF(Template!$P$8<>\"\",Template!$P$8,\"\")","v":""},"BYU_Child",50,null,null,null,null,null,{"$f":"IF(Template!$R$8<>\"\",Template!$R$8,\"\")","v":""},{"$f":"IF(Template!$AE$8<>\"\",Template!$AE$8,\"\")","v":""},{"$f":"IF(LEFT(Template!$Q$8,2)=\"SC\",Template!$Q$8,\"\")","v":""},{"$f":"IF(LEFT(Template!$Q$8,2)=\"RC\",Template!$Q$8,\"\")","v":""},{"$f":"IF(LEFT(Template!$O$8,2)=\"CC\",Template!$O$8,\"\")","v":""},{"$f":"IF(LEFT(Template!$O$8,2)=\"AC\",Template!$O$8,\"\")","v":""},{"$f":"IF(LEFT(Template!$O$8,2)=\"GF\",Template!$O$8,\"\")","v":""},{"$f":"IF(LEFT(Template!$O$8,2)=\"GR\",Template!$O$8,\"\")","v":""},null,null,{"$f":"IF(Template!$AC$8<>\"\",Template!$AC$8,\"\")","v":""},null,{"$f":"IF(Template!$Y$8<>\"\",Template!$Y$8,\"\")","v":""},{"$f":"IF(Template!$Z$8<>\"\",Template!$Z$8,\"\")","v":""},{"$f":"IF(Template!$AA$8<>\"\",Template!$AA$8,\"\")","v":""},{"$f":"IF(Template!$AD$8=\"Yes\",Template!$AD$8,\"\")","v":""},null,null,null,{"$f":"IF(LEFT(Template!$Q$8,2)=\"BK\",Template!$Q$8,\"\")","v":""}]
[null,{"$f":"Template!#REF!","v":{"$error":"#REF!"}},{"$f":"IF(B7=B6,C6+1,1)","v":{"$error":"#REF!"}},{"$f":"IF(Template!#REF!<>\"\",INDEX(Worktags!$B$4:$D$36,MATCH(Template!#REF!,Worktags!$C$4:$C$36,0),1),\"\")","v":{"$error":"#REF!"}},{"$f":"IF(Template!#REF!<>\"\",Template!#REF!,\"\")","v":{"$error":"#REF!"}},"BYU_Child",null,50,null,null,null,null,{"$f":"IF(Template!#REF!<>\"\",Template!#REF!,\"\")","v":{"$error":"#REF!"}},{"$f":"IF(Template!#REF!<>\"\",Template!#REF!,\"\")","v":{"$error":"#REF!"}},{"$f":"IF(LEFT(Template!#REF!,2)=\"SC\",Template!#REF!,\"\")","v":{"$error":"#REF!"}},{"$f":"IF(LEFT(Template!#REF!,2)=\"RC\",Template!#REF!,\"\")","v":{"$error":"#REF!"}},{"$f":"IF(LEFT(Template!#REF!,2)=\"CC\",Template!#REF!,\"\")","v":{"$error":"#REF!"}},{"$f":"IF(LEFT(Template!#REF!,2)=\"AC\",Template!#REF!,\"\")","v":{"$error":"#REF!"}},{"$f":"IF(LEFT(Template!#REF!,2)=\"GF\",Template!#REF!,\"\")","v":{"$error":"#REF!"}},{"$f":"IF(LEFT(Template!#REF!,2)=\"GR\",Template!#REF!,\"\")","v":{"$error":"#REF!"}},null,null,{"$f":"IF(Template!#REF!<>\"\",Template!#REF!,\"\")","v":{"$error":"#REF!"}},null,{"$f":"IF(Template!#REF!<>\"\",Template!#REF!,\"\")","v":{"$error":"#REF!"}},{"$f":"IF(Template!#REF!<>\"\",Template!#REF!,\"\")","v":{"$error":"#REF!"}},{"$f":"IF(Template!#REF!<>\"\",Template!#REF!,\"\")","v":{"$error":"#REF!"}},{"$f":"IF(Template!#REF!=\"Yes\",Template!#REF!,\"\")","v":{"$error":"#REF!"}},null,null,null,{"$f":"IF(LEFT(Template!#REF!,2)=\"BK\",Template!#REF!,\"\")","v":{"$error":"#REF!"}}]