{"text_format":"1","workbook":"xlsx","n_sheets":7,"sheets":["Template","Error Log","Worktags","Tenant","AccountSCRC_Concat","Import Accounting Journal","Journal Entry Line Replacement"],"not_rendered":{"charts":0,"images":0,"macros":1,"external_links":0,"defined_names":66,"comments":2,"pivot_tables":0},"unopened":[],"bounds":{"document_bytes":16777216,"sheet_cells":100000,"rows_first":2000,"rows_last":500,"rows_between":2000,"halvings":0,"cell_chars":16384,"cell_head_chars":4096},"cells_cut":0,"cells_raw":0,"read":"whole","date_system":"1900"}

{"sheet":"Template","index":0,"n_rows":57,"n_cols":32,"rows_kept":57,"cut":false,"hidden":false,"merged":[]}
["Journal Entry",null,null,null,null,null,null,null,null,null,null,null,null,null,null,null,null,null,null,null,null,null,null,null,null,null,null,null,null,null,false,true]
["Prepared by:",null,null,null,null,null,null,null,null,null,null,null,null,null,null,null,null,null,null,null,null,null,null,null,null,null,null,null,null,null,"Tenant",false]
[null,null,null,null,null,null,null,null,null,null,null,null,null,null,null,null,null,null,null,null,null,null,null,null,null,null,null,null,null,null,"PROD",true]
[null,null,null,null,null,null,null,null,null,null,null,null,null,null,null,null,null,null,null,null,null,null,null,null,null,null,null,null,null,null,null,5000]
[]
["Journal Entry Header Information",null,null,null,null,null,null,null,null,null,null,"Journal Entry Lines"]
["JE #","Journal Date","JE Source","Company","Ledger","Book","Currency","External Ref ID","Header Memo","Total JE Amount",null,"JE #","Driver Worktag-Description","Account-Spend/Revenue Category-Description","Driver Worktag","Account","Spend/Revenue Category","Line Memo","Debit","Credit","Class-Description","Assignee-Description","Exp Learning & Research","Fund-Description","Class","Assignee","Exp Learning & Research","Company","Fund","Intracampus","Reference",1]
[null,null,null,null,null,null,null,null,null,{"$f":"IF(A8<>\"\",ROUND(SUMIFS($S$8:$S$5000,$L$8:$L$5000,A8),2)-ROUND(SUMIFS($T$8:$T$5000,$L$8:$L$5000,A8),2),\"\")","v":""},null,null,null,null,null,null,null,null,null,null,null,null,null,null,null,null,null,null,null,null,null,"Y"]
[null,null,null,null,null,null,null,null,null,{"$f":"IF(A9<>\"\",ROUND(SUMIFS($S$8:$S$5000,$L$8:$L$5000,A9),2)-ROUND(SUMIFS($T$8:$T$5000,$L$8:$L$5000,A9),2),\"\")","v":""}]
[null,null,null,null,null,null,null,null,null,""]
[null,null,null,null,null,null,null,null,null,""]
[null,null,null,null,null,null,null,null,null,""]
[null,null,null,null,null,null,null,null,null,""]
[null,null,null,null,null,null,null,null,null,""]
[null,null,null,null,null,null,null,null,null,""]
[null,null,null,null,null,null,null,null,null,""]
[null,null,null,null,null,null,null,null,null,""]
[null,null,null,null,null,null,null,null,null,""]
[null,null,null,null,null,null,null,null,null,""]
[null,null,null,null,null,null,null,null,null,""]
[null,null,null,null,null,null,null,null,null,""]
[null,null,null,null,null,null,null,null,null,""]
[null,null,null,null,null,null,null,null,null,""]
[null,null,null,null,null,null,null,null,null,""]
[null,null,null,null,null,null,null,null,null,""]
[null,null,null,null,null,null,null,null,null,""]
[null,null,null,null,null,null,null,null,null,""]
[null,null,null,null,null,null,null,null,null,""]
[null,null,null,null,null,null,null,null,null,""]
[null,null,null,null,null,null,null,null,null,""]
[null,null,null,null,null,null,null,null,null,""]
[null,null,null,null,null,null,null,null,null,""]
[null,null,null,null,null,null,null,null,null,""]
[null,null,null,null,null,null,null,null,null,""]
[null,null,null,null,null,null,null,null,null,""]
[null,null,null,null,null,null,null,null,null,""]
[null,null,null,null,null,null,null,null,null,""]
[null,null,null,null,null,null,null,null,null,""]
[null,null,null,null,null,null,null,null,null,""]
[null,null,null,null,null,null,null,null,null,""]
[null,null,null,null,null,null,null,null,null,""]
[null,null,null,null,null,null,null,null,null,""]
[null,null,null,null,null,null,null,null,null,""]
[null,null,null,null,null,null,null,null,null,""]
[null,null,null,null,null,null,null,null,null,""]
[null,null,null,null,null,null,null,null,null,""]
[null,null,null,null,null,null,null,null,null,""]
[null,null,null,null,null,null,null,null,null,""]
[null,null,null,null,null,null,null,null,null,""]
[null,null,null,null,null,null,null,null,null,""]
[null,null,null,null,null,null,null,null,null,""]
[null,null,null,null,null,null,null,null,null,""]
[null,null,null,null,null,null,null,null,null,""]
[null,null,null,null,null,null,null,null,null,""]
[null,null,null,null,null,null,null,null,null,""]
[null,null,null,null,null,null,null,null,null,""]
[null,null,null,null,null,null,null,null,null,""]

{"sheet":"Error Log","index":1,"n_rows":2,"n_cols":4,"rows_kept":2,"cut":false,"hidden":false,"merged":[[0,0,0,3]]}
["DO NOT delete this sheet                                           -  Error Log  -                                                 DO NOT delete this sheet"]
["Journal Header","Journal Line","Excel Row #","Error Message"]

{"sheet":"Worktags","index":2,"n_rows":96193,"n_cols":68,"rows_kept":2250,"cut":true,"hidden":true,"merged":[[1,54,1,57],[1,59,1,62],[1,66,1,67],[1,42,1,47],[1,49,1,52],[1,37,1,40],[1,1,1,4],[1,14,1,19],[1,27,1,30],[1,32,1,35],[1,6,1,12],[1,21,1,25]],"bounds":{"rows_first":1000,"rows_last":250,"rows_between":1000,"halvings":1}}
[]
[null,"Company",null,null,null,null,"Driver",null,null,null,null,null,null,null,"Category",null,null,null,null,null,null,"Class",null,null,null,null,null,"Assignee",null,null,null,null,"Student Experience",null,null,null,null,"Account",null,null,null,null,"Account Validation",null,null,null,null,null,null,"Account",null,null,null,null,"Fund",null,null,null,null,"Plan Name",null,null,null,null,"Amendment Type",null,"Plan Structure"]
[null,null,null,null,null,null,"DRIVER_ID",null,"DRIVER","DRIVER_TYPE","DRIVER_REQUIREMENT","STATUS","UPDATED_AT",null,"CATEGORY_ID","CATEGORY_NAME","CATEGORY","CATEGORY_TYPE","STATUS","CAT_REQUIREMENT",null,"CLASS_ID","CLASS_NAME","CLASS","STATUS","UPDATED_AT",null,"ASSIGNEE_ID","ASSIGNEE_NAME","ASSIGNEE","STATUS",null,"STUDENT_EXPERIENCE_ID","STUDENT_EXPERIENCE_NAME","STU_EXP","STATUS",null,"ACCOUNT_ID","ACCOUNT_NAME","ACCOUNT","TYPE",null,"CATEGORY_ID","VALID_COMBO","ACCOUNT_ID","ACCOUNT_NAME","PRIMARY","AUTHORIZED_JOURNAL_SOURCES"," ","ACCOUNT_ID","ACCOUNT_NAME","ACCOUNT","CATEGORY",null,"Fund","Description","Hierarchy","Name",null,"Plan ID","Plan Name","STRUCTURE","COMPANY",null,null,null,"STRUCTURE","STRUCTURE_ID"]
[null,"ALU","Brigham Young University Alumni, LLC","ALU-Brigham Young University Alumni, LLC","Active",null,"AC00001","Jerusalem Center Support","AC00001-Jerusalem Center Support","Activity","FD01","Active","2025-01-02T03:05:29.866",null,"BK1001","Wells Fargo Concentration 2494","BK1001-Wells Fargo Concentration 2494","Bank Account","Active",null,null,"00001","Invalid","00001-Invalid",null,null,null,"AS000045543","Sharon Offley (000045543) Culinary Support Center","AS000045543-Sharon Offley (000045543) Culinary Support Center","Active",null,"SE000","Not applicable","SE000-Not applicable","Active",null,"0100","Budget Carryover/Unallocated","0100-Budget Carryover/Unallocated","Expense",null,"","1001||1001","1001","Cash ILS","Primary","All",null,100,"Budget Carryover/Unallocated","0100-Budget Carryover/Unallocated","Expense",null,"FD01","Appropriated","Unrestricted","FD01-Appropriated",null,"ALU Capital FY23","ALU Capital FY23","Consolidated_Budget_Structure_Capital","ALU",null,"Allocations Amendment",null,"Consolidated Budget Capital","Consolidated_Budget_Structure_Capital"]
[null,"BYU","Brigham Young University","BYU-Brigham Young University","Active",null,"AC00002","Presidential Inauguration","AC00002-Presidential Inauguration","Activity","FD01","Active","2025-01-02T03:05:29.866",null,"BK1002","Wells Fargo Depository 0001","BK1002-Wells Fargo Depository 0001","Bank Account","Active",null,null,"00051","Winter","00051-Winter",null,null,null,"AS000419700","LaVay Talk (000419700) Multicultural","AS000419700-LaVay Talk (000419700) Multicultural","Active",null,"SE001","Experiential Learning","SE001-Experiential Learning","Active",null,"1000","Cash USD","1000-Cash USD","Asset",null,"","1002||1002","1002","Cash GBP","Primary","All",null,1000,"Cash USD","1000-Cash USD","Asset",null,"FD02","Self Supporting","Unrestricted","FD02-Self Supporting",null,"ALU Capital FY24","ALU Capital FY24","Consolidated_Budget_Structure_Capital","ALU",null,"Current Year Amendment",null,"Consolidated Budget Operating","Consolidated_Budget_Structure_Operating"]
[null,"CAN","EFY-Canada Foundation","CAN-EFY-Canada Foundation","Active",null,"AC00003","President's Home","AC00003-President's Home","Activity","FD01","Active","2025-01-02T03:05:29.866",null,"BK1003","Wells Fargo Disbursement 0217","BK1003-Wells Fargo Disbursement 0217","Bank Account","Active",null,null,"00053","Spring","00053-Spring",null,null,null,"AS000449989","Jenn Price (000449989) Retail Services - General Administration","AS000449989-Jenn Price (000449989) Retail Services - General Administration","Active",null,"SE002","Research - Basic","SE002-Research - Basic","Active",null,"1001","Cash ILS","1001-Cash ILS","Asset",null,"","1004||1004","1004","CASH CAD","Primary","All",null,1001,"Cash ILS","1001-Cash ILS","Asset",null,"FD03","Designated","Unrestricted","FD03-Designated",null,"ALU Operating FY23","ALU Operating FY23","Consolidated_Budget_Structure_Operating","ALU",null,"Original Amendment (Budget Office use only)"]
[null,"CEE","CE Events, LLC","CEE-CE Events, LLC","Active",null,"AC00004","President's Remembrances","AC00004-President's Remembrances","Activity","FD01","Active","2025-01-02T03:05:29.866",null,"BK1004","Wells Fargo Payroll 0118","BK1004-Wells Fargo Payroll 0118","Bank Account","Active",null,null,"00054","Summer","00054-Summer",null,null,null,"AS000712079","Gary Rex (000712079) BYUB Administration","AS000712079-Gary Rex (000712079) BYUB Administration","Active",null,"SE003","Research - Applied","SE003-Research - Applied","Active",null,"1002","Cash GBP","1002-Cash GBP","Asset",null,"","1040||1040","1040","Petty Cash","Primary","All",null,1002,"Cash GBP","1002-Cash GBP","Asset",null,"FD04","Faculty Consolidation","Unrestricted","FD04-Faculty Consolidation",null,"ALU Operating FY24","ALU Operating FY24","Consolidated_Budget_Structure_Operating","ALU",null,"Permanent Amendment"]
[null,"FSY","FSY, LLC","FSY-FSY, LLC","Active",null,"AC00005","Legal Fees","AC00005-Legal Fees","Activity","FD01","Active","2025-01-02T03:05:29.866",null,"BK1005","Wells Fargo Agency 3757","BK1005-Wells Fargo Agency 3757","Bank Account","Active",null,null,"00055","Fall","00055-Fall",null,null,null,"AS000858151","Michael Miles (000858151) College of Engineering - Dean's Office","AS000858151-Michael Miles (000858151) College of Engineering - Dean's Office","Active",null,"SE004","Research - Development","SE004-Research - Development","Active",null,"1003","Cash EUR","1003-Cash EUR","Asset",null,"","1050||1050","1050","Change Funds","Primary","All",null,1003,"Cash EUR","1003-Cash EUR","Asset",null,"FD05","Sponsored Awards","Sponsor Fund","FD05-Sponsored Awards",null,"BYU Capital FY23","BYU Capital FY23","Consolidated_Budget_Structure_Capital","BYU",null,"Project Amendment"]
[null,"HED","HEDL, LLC","HED-HEDL, LLC","Active",null,"AC00006","Risk-Loss Control Training","AC00006-Risk-Loss Control Training","Activity","FD03","Active","2025-01-02T03:05:29.866",null,"BK1006","Wells Fargo Fed Funds 2462","BK1006-Wells Fargo Fed Funds 2462","Bank Account","Active",null,null,"00060","Invoiced","00060-Invoiced",null,null,null,"AS000925729","Todd Blickenstaff (000925729) Athletics - Corporate Sponsorships","AS000925729-Todd Blickenstaff (000925729) Athletics - Corporate Sponsorships","Active",null,"SE005","Both Research Basic & Experiential Learning","SE005-Both Research Basic & Experiential Learning","Active",null,"1004","Cash CAD","1004-Cash CAD","Asset",null,"","1090||1090","1090","Clearing-Cash","Primary","All",null,1004,"Cash CAD","1004-Cash CAD","Asset",null,"FD06","Plant Fund","Unrestricted","FD06-Plant Fund",null,"BYU Capital FY24","BYU Capital FY24","Consolidated_Budget_Structure_Capital","BYU",null,"Sponsored Award Amendment"]
[null,"IHS","HSDL, LLC","IHS-HSDL, LLC","Active",null,"AC00007","Insurance and Claims Reserve","AC00007-Insurance and Claims Reserve","Activity","FD03","Active","2025-01-02T03:05:29.866",null,"BK1020","JPMorgan Per Diem 5898","BK1020-JPMorgan Per Diem 5898","Bank Account","Active",null,null,"00061","Cash Received","00061-Cash Received",null,null,null,"AS001501244","Katelyn Williams (001501244) Athletics - Marketing and Fan Experience","AS001501244-Katelyn Williams (001501244) Athletics - Marketing and Fan Experience","Active",null,"SE006","Both Research Applied & Experiential Learning","SE006-Both Research Applied & Experiential Learning","Active",null,"1040","Petty Cash","1040-Petty Cash","Asset",null,"","1120||1120","1120","Investment Pool","Primary","JE_Gift|JE_Override",null,1040,"Petty Cash","1040-Petty Cash","Asset",null,"FD07","Agency","Unrestricted","FD07-Agency",null,"BYU Operating FY23","BYU Operating FY23","Consolidated_Budget_Structure_Operating","BYU"]
[null,"INT","BYU International, LLC","INT-BYU International, LLC","Active",null,"AC00008","Alumni Questionnaire","AC00008-Alumni Questionnaire","Activity","FD03","Active","2025-01-02T03:05:29.866",null,"BK1021","JPMorgan SUA Account","BK1021-JPMorgan SUA Account","Bank Account","Active",null,null,"00062","Unbilled","00062-Unbilled",null,null,null,"AS001687233","Chris Johnson (001687233) OIT Core - Tech Operations & Support","AS001687233-Chris Johnson (001687233) OIT Core - Tech Operations & Support","Active",null,"SE007","Both Research Development & Experiential Learning","SE007-Both Research Development & Experiential Learning","Active",null,"1050","Change Funds","1050-Change Funds","Asset",null,"","1121||1121","1121","Investments - Book Value","Primary","JE_Gift|JE_Override",null,1050,"Change Funds","1050-Change Funds","Asset",null,"FD20","Gift Unrestricted","Unrestricted","FD20-Gift Unrestricted",null,"BYU Operating FY24","BYU Operating FY24","Consolidated_Budget_Structure_Operating","BYU"]
[null,"JER","The Jerusalem Centre for Near Eastern Studies","JER-The Jerusalem Centre for Near Eastern Studies","Active",null,"AC00009","University Accreditation","AC00009-University Accreditation","Activity","FD01","Active","2025-01-02T03:05:29.866",null,"BK1030","CUBS BYU 3920","BK1030-CUBS BYU 3920","Bank Account","Active",null,null,"00098","Fixed Price Closeout F&A","00098-Fixed Price Closeout F&A",null,null,null,"AS001823663","Sherie Rogde (001823663) Clark Law School - Dean's Office","AS001823663-Sherie Rogde (001823663) Clark Law School - Dean's Office","Active",null,null,null,null,null,null,"1055","Gift Cards","1055-Gift Cards","Asset",null,"","1122||1122","1122","Investments - Fair Market Value","Primary","JE_Gift|JE_Override",null,1055,"Gift Cards","1055-Gift Cards","Asset",null,"FD21","Gift Temporarily Restricted","Temporarily Restricted","FD21-Gift Temporarily Restricted",null,"CAN Capital FY23","CAN Capital FY23","Consolidated_Budget_Structure_Capital","CAN"]
[null,"LDN","Brigham Young University, Ltd.","LDN-Brigham Young University, Ltd.","Active",null,"AC00010","Academic Support Unit Reviews","AC00010-Academic Support Unit Reviews","Activity","FD01","Active","2025-01-02T03:05:29.866",null,"BK1032","Ensign Peak BYU","BK1032-Ensign Peak BYU","Bank Account","Active",null,null,"00099","Project Overrun","00099-Project Overrun",null,null,null,"AS001862197","Shea Owens (001862197) Fine Arts & Communications - Dean's Office","AS001862197-Shea Owens (001862197) Fine Arts & Communications - Dean's Office","Active",null,null,null,null,null,null,"1090","Clearing-Cash","1090-Clearing-Cash","Asset",null,"","1150||1150","1150","Other Equity Securities","Primary","JE_Gift|JE_Override",null,1090,"Clearing-Cash","1090-Clearing-Cash","Asset",null,"FD22","Endowment Payout","Temporarily Restricted","FD22-Endowment Payout",null,"CAN Capital FY24","CAN Capital FY24","Consolidated_Budget_Structure_Capital","CAN"]
[null,"USD_CAN","USD EFY-Canada Foundation","USD_CAN-USD EFY-Canada Foundation","Active",null,"AC00011","Unit Reviews- Academic","AC00011-Unit Reviews- Academic","Activity","FD01","Active","2025-01-02T03:05:29.866",null,"BK1040","Jerusalem Payroll ILS 0039","BK1040-Jerusalem Payroll ILS 0039","Bank Account","Active",null,null,"00100","Land","00100-Land",null,null,null,"AS002029145","Jackelyn Knight (002029145) Athletics - Football Sport Performance","AS002029145-Jackelyn Knight (002029145) Athletics - Football Sport Performance","Active",null,null,null,null,null,null,"1120","Investment Pool","1120-Investment Pool","Asset",null,"","1160||1160","1160","Other Fixed Income Securities","Primary","JE_Gift|JE_Override",null,1120,"Investment Pool","1120-Investment Pool","Asset",null,"FD23","Endowment Spending","Unrestricted","FD23-Endowment Spending",null,"CAN Operating FY23","CAN Operating FY23","Consolidated_Budget_Structure_Operating","CAN"]
[null,"USD_JER","USD The Jerusalem Center for Near Eastern Studies","USD_JER-USD The Jerusalem Center for Near Eastern Studies","Active",null,"AC00012","Honorarium","AC00012-Honorarium","Activity","FD03","Active","2025-01-02T03:05:29.866",null,"BK1041","Jerusalem Operations USD 7144","BK1041-Jerusalem Operations USD 7144","Bank Account","Active",null,null,"00101","Water Rights","00101-Water Rights",null,null,null,"AS002313328","Ben Ward (002313328) PF AVP Office","AS002313328-Ben Ward (002313328) PF AVP Office","Active",null,null,null,null,null,null,"1121","Investments - Book Value","1121-Investments - Book Value","Asset",null,"","1170||1170","1170","Other Investments","Primary","JE_Gift|JE_Override",null,1121,"Investments - Book Value","1121-Investments - Book Value","Asset",null,"FD24","Endowment Temporarily Restricted","Temporarily Restricted","FD24-Endowment Temporarily Restricted",null,"CAN Operating FY24","CAN Operating FY24","Consolidated_Budget_Structure_Operating","CAN"]
[null,"USD_LDN","USD Brigham Young University, Ltd.","USD_LDN-USD Brigham Young University, Ltd.","Active",null,"AC00013","Stdnt Success & Inclusion","AC00013-Stdnt Success & Inclusion","Activity","FD01","Active","2025-01-02T03:05:29.866",null,"BK1042","Jerusalem Operations ILS 3566","BK1042-Jerusalem Operations ILS 3566","Bank Account","Active",null,null,"00110","University Building","00110-University Building",null,null,null,"AS002544665","Brent Anderson (002544665) Athletics - Women's Soccer","AS002544665-Brent Anderson (002544665) Athletics - Women's Soccer","Active",null,null,null,null,null,null,"1122","Investments - Fair Market Value","1122-Investments - Fair Market Value","Asset",null,"","1200||1200","1200","Department Receivable","Primary","All",null,1122,"Investments - Fair Market Value","1122-Investments - Fair Market Value","Asset",null,"FD25","True Endowment","Permanently Restricted","FD25-True Endowment",null,"CEE Capital FY23","CEE Capital FY23","Consolidated_Budget_Structure_Capital","CEE"]
[null,null,null,null,null,null,"AC00014","JC - Jerusalem Administration","AC00014-JC - Jerusalem Administration","Activity","FD01","Active","2025-01-02T03:05:29.866",null,"BK1050","BNP Paris Study Abroad 0376","BK1050-BNP Paris Study Abroad 0376","Bank Account","Active",null,null,"00111","University Residences","00111-University Residences",null,null,null,"AS002736935","Stacie Conrad (002736935) Dining Administration","AS002736935-Stacie Conrad (002736935) Dining Administration","Active",null,null,null,null,null,null,"1150","Other Equity Securities","1150-Other Equity Securities","Asset",null,"","1210||1210","1210","Off Campus Receivable","Primary","All",null,1150,"Other Equity Securities","1150-Other Equity Securities","Asset",null,"FD26","Quasi Endowment","Unrestricted","FD26-Quasi Endowment",null,"CEE Capital FY24","CEE Capital FY24","Consolidated_Budget_Structure_Capital","CEE"]
[null,null,null,null,null,null,"AC00015","JC - Jerusalem Library","AC00015-JC - Jerusalem Library","Activity","FD01","Active","2025-01-02T03:05:29.866",null,"BK1051","Unicredit Bank of Austria Study Abroad 1501","BK1051-Unicredit Bank of Austria Study Abroad 1501","Bank Account","Active",null,null,"00120","Building Improvements","00120-Building Improvements",null,null,null,"AS003040913","Jake Styer (003040913) BYU Police Operations - Patrol","AS003040913-Jake Styer (003040913) BYU Police Operations - Patrol","Active",null,null,null,null,null,null,"1160","Other Fixed Income Securities","1160-Other Fixed Income Securities","Asset",null,"","1220||1220","1220","Student Receivable","Primary","All",null,1160,"Other Fixed Income Securities","1160-Other Fixed Income Securities","Asset",null,"FD27","Permanently Restricted - Other","Permanently Restricted","FD27-Permanently Restricted - Other",null,"CEE Operating FY23","CEE Operating FY23","Consolidated_Budget_Structure_Operating","CEE"]
[null,null,null,null,null,null,"AC00016","JC - Jerusalem Academic","AC00016-JC - Jerusalem Academic","Activity","FD01","Active","2025-01-02T03:05:29.866",null,"BK1052","La Caixa Bank Madrid-Study Abroad 3299","BK1052-La Caixa Bank Madrid-Study Abroad 3299","Bank Account","Active",null,null,"00121","Building Exterior Imprvmnts","00121-Building Exterior Imprvmnts",null,null,null,"AS003283501","Kyle Stapley (003283501) Fine Arts & Communications - Dean's Office","AS003283501-Kyle Stapley (003283501) Fine Arts & Communications - Dean's Office","Active",null,null,null,null,null,null,"1170","Other Investments","1170-Other Investments","Asset",null,"","1230||1230","1230","Church Receivable","Primary","All",null,1170,"Other Investments","1170-Other Investments","Asset",null,"FD28","Restricted Gifts Spending","Unrestricted","FD28-Restricted Gifts Spending",null,"CEE Operating FY24","CEE Operating FY24","Consolidated_Budget_Structure_Operating","CEE"]
[null,null,null,null,null,null,"AC00017","JC - Jerusalem Utilities","AC00017-JC - Jerusalem Utilities","Activity","FD01","Active","2025-01-02T03:05:29.866",null,"RC1230","Church Receivable","RC1230-Church Receivable","Revenue Category","Active",null,null,"00122","General Campus Imprvmnts","00122-General Campus Imprvmnts",null,null,null,"AS003300518","Trevor Thiriot (003300518) OIT Leadership - Data and Finance","AS003300518-Trevor Thiriot (003300518) OIT Leadership - Data and Finance","Active",null,null,null,null,null,null,"1200","Department Receivable","1200-Department Receivable","Asset",null,"","1235||1235","1235","Sponsored Programs Receivable","Primary","JE_Research|JE_Override",null,1200,"Department Receivable","1200-Department Receivable","Asset",null,"FD29","Quasi Endowment Spending","Unrestricted","FD29-Quasi Endowment Spending",null,"FSY Capital FY23","FSY Capital FY23","Consolidated_Budget_Structure_Capital","FSY"]
[null,null,null,null,null,null,"AC00018","JC - Jerusalem Mechanical","AC00018-JC - Jerusalem Mechanical","Activity","FD01","Active","2025-01-02T03:05:29.866",null,"RC1290","Clearing-Receivable","RC1290-Clearing-Receivable","Revenue Category","Active",null,null,"00123","Building Campus Improvements","00123-Building Campus Improvements",null,null,null,"AS003333348","Mark Christensen (003333348) PF Central Heating Plant","AS003333348-Mark Christensen (003333348) PF Central Heating Plant","Active",null,null,null,null,null,null,"1210","Off Campus Receivable","1210-Off Campus Receivable","Asset",null,"","1236||1236","1236","Unbilled Sponsored Programs Receivable","Primary","JE_Research|JE_Override",null,1210,"Off Campus Receivable","1210-Off Campus Receivable","Asset",null,null,null,null,null,null,"FSY Capital FY24","FSY Capital FY24","Consolidated_Budget_Structure_Capital","FSY"]
[null,null,null,null,null,null,"AC00019","JC - Jerusalem Custodial","AC00019-JC - Jerusalem Custodial","Activity","FD01","Active","2025-01-02T03:05:29.866",null,"RC1298","Special Recovery","RC1298-Special Recovery","Revenue Category","Active",null,null,"00124","Technical Electronic Systems","00124-Technical Electronic Systems",null,null,null,"AS003482207","Connor Stokes (003482207) CE EFY","AS003482207-Connor Stokes (003482207) CE EFY","Active",null,null,null,null,null,null,"1220","Student Receivable","1220-Student Receivable","Asset",null,"","1240||1240","1240","Advances Receivable","Primary","All",null,1220,"Student Receivable","1220-Student Receivable","Asset",null,null,null,null,null,null,"FSY Operating FY23","FSY Operating FY23","Consolidated_Budget_Structure_Operating","FSY"]
[null,null,null,null,null,null,"AC00020","JC - Jerusalem Grounds","AC00020-JC - Jerusalem Grounds","Activity","FD01","Active","2025-01-02T03:05:29.866",null,"RC4001","Church Appropriation","RC4001-Church Appropriation","Revenue Category","Active",null,null,"00130","Furnishings","00130-Furnishings",null,null,null,"AS003697782","Rob Eaton (003697782) Academic VP Office, Deans","AS003697782-Rob Eaton (003697782) Academic VP Office, Deans","Active",null,null,null,null,null,null,"1230","Church Receivable","1230-Church Receivable","Asset",null,"","1241||1241","1241","Employee Receivable","Primary","All",null,1230,"Church Receivable","1230-Church Receivable","Asset",null,null,null,null,null,null,"FSY Operating FY24","FSY Operating FY24","Consolidated_Budget_Structure_Operating","FSY"]
[null,null,null,null,null,null,"AC00021","JC - Jerusalem Security","AC00021-JC - Jerusalem Security","Activity","FD01","Active","2025-01-02T03:05:29.866",null,"RC4002","University Allocation","RC4002-University Allocation","Revenue Category","Active",null,null,"00131","Fixtures","00131-Fixtures",null,null,null,"AS003861576","Paul Adams (003861576) Fine Arts & Communications - Dean's Office","AS003861576-Paul Adams (003861576) Fine Arts & Communications - Dean's Office","Active",null,null,null,null,null,null,"1235","Sponsored Programs Receivable","1235-Sponsored Programs Receivable","Asset",null,"","1260||1260","1260","Notes Receivable","Primary","All",null,1235,"Sponsored Programs Receivable","1235-Sponsored Programs Receivable","Asset",null,null,null,null,null,null,"HED Capital FY23","HED Capital FY23","Consolidated_Budget_Structure_Capital","HED"]
[null,null,null,null,null,null,"AC00022","JC - Jerusalem Mor Co Admin","AC00022-JC - Jerusalem Mor Co Admin","Activity","FD01","Active","2025-01-02T03:05:29.866",null,"RC4101","Tuition","RC4101-Tuition","Revenue Category","Active",null,null,"00140","Software","00140-Software",null,null,null,"AS003962074","Brian Tanner (003962074) BYU Broadcasting - BYUradio","AS003962074-Brian Tanner (003962074) BYU Broadcasting - BYUradio","Active",null,null,null,null,null,null,"1236","Unbilled Sponsored Programs Receivable","1236-Unbilled Sponsored Programs Receivable","Asset",null,"","1270||1270","1270","Student Loan Receivable-Short Term","Primary","All",null,1236,"Unbilled Sponsored Programs Receivable","1236-Unbilled Sponsored Programs Receivable","Asset",null,null,null,null,null,null,"HED Capital FY24","HED Capital FY24","Consolidated_Budget_Structure_Capital","HED"]
[null,null,null,null,null,null,"AC00023","JC-Housing","AC00023-JC-Housing","Activity","FD02","Active","2025-01-02T03:05:29.866",null,"RC4102","Student Fee Distribution","RC4102-Student Fee Distribution","Revenue Category","Active",null,null,"00160","Lee Library Books","00160-Lee Library Books",null,null,null,"AS004054734","Trisha Peay (004054734) PF Building Operations","AS004054734-Trisha Peay (004054734) PF Building Operations","Active",null,null,null,null,null,null,"1240","Advances Receivable","1240-Advances Receivable","Asset",null,"","1275||1275","1275","Student Loan Receivable-Long Term","Primary","All",null,1240,"Advances Receivable","1240-Advances Receivable","Asset",null,null,null,null,null,null,"HED Operating FY23","HED Operating FY23","Consolidated_Budget_Structure_Operating","HED"]
[null,null,null,null,null,null,"AC00024","JC-Food Services","AC00024-JC-Food Services","Activity","FD02","Active","2025-01-02T03:05:29.866",null,"RC4103","Non-Credit Income","RC4103-Non-Credit Income","Revenue Category","Active",null,null,"00161","Law Library Books","00161-Law Library Books",null,null,null,"AS004239108","Darren Chipman (004239108) PF Building Operations","AS004239108-Darren Chipman (004239108) PF Building Operations","Active",null,null,null,null,null,null,"1241","Employee Receivable","1241-Employee Receivable","Asset",null,"","1280||1280","1280","Pledges Receivable","Primary","All",null,1241,"Employee Receivable","1241-Employee Receivable","Asset",null,null,null,null,null,null,"HED Operating FY24","HED Operating FY24","Consolidated_Budget_Structure_Operating","HED"]
[null,null,null,null,null,null,"AC00025","JC-Motorpool","AC00025-JC-Motorpool","Activity","FD02","Active","2025-01-02T03:05:29.866",null,"RC4104","Student Fees","RC4104-Student Fees","Revenue Category","Active",null,null,"00201","Computer Lab Equipment","00201-Computer Lab Equipment",null,null,null,"AS004391937","John Alius (004391937) PF Building Operations","AS004391937-John Alius (004391937) PF Building Operations","Active",null,null,null,null,null,null,"1260","Notes Receivable","1260-Notes Receivable","Asset",null,"","1285||1285","1285","Deferred Gifts","Primary","All",null,1260,"Notes Receivable","1260-Notes Receivable","Asset",null,null,null,null,null,null,"IHS Capital FY23","IHS Capital FY23","Consolidated_Budget_Structure_Capital","IHS"]
[null,null,null,null,null,null,"AC00026","JC-Book & Supply","AC00026-JC-Book & Supply","Activity","FD02","Active","2025-01-02T03:05:29.866",null,"RC4110","Grad Service Fee","RC4110-Grad Service Fee","Revenue Category","Active",null,null,"00202","Research Equipment","00202-Research Equipment",null,null,null,"AS004531494","Bart Robbins (004531494) University Accessibility Center","AS004531494-Bart Robbins (004531494) University Accessibility Center","Active",null,null,null,null,null,null,"1270","Student Loan Receivable-Short Term","1270-Student Loan Receivable-Short Term","Asset",null,"","1289||1289","1289","Pledges/Def Gifts Rec Reserve","Primary","All",null,1270,"Student Loan Receivable-Short Term","1270-Student Loan Receivable-Short Term","Asset",null,null,null,null,null,null,"IHS Capital FY24","IHS Capital FY24","Consolidated_Budget_Structure_Capital","IHS"]
[null,null,null,null,null,null,"AC00027","JC-Laundry","AC00027-JC-Laundry","Activity","FD02","Active","2025-01-02T03:05:29.866",null,"RC4111","Admission Fees","RC4111-Admission Fees","Revenue Category","Active",null,null,"00218","CIP Transfer to Asset","00218-CIP Transfer to Asset",null,null,null,"AS004583304","JoNell Stoddard (004583304) Special Events","AS004583304-JoNell Stoddard (004583304) Special Events","Active",null,null,null,null,null,null,"1275","Student Loan Receivable-Long Term","1275-Student Loan Receivable-Long Term","Asset",null,"","1290||1290","1290","Clearing-Receivable","Primary","All",null,1275,"Student Loan Receivable-Long Term","1275-Student Loan Receivable-Long Term","Asset",null,null,null,null,null,null,"IHS Operating FY23","IHS Operating FY23","Consolidated_Budget_Structure_Operating","IHS"]
[null,null,null,null,null,null,"AC00028","JC-Field Trip","AC00028-JC-Field Trip","Activity","FD02","Active","2025-01-02T03:05:29.866",null,"RC4112","Graduation Fees","RC4112-Graduation Fees","Revenue Category","Active",null,null,"00219","CIP Disposal","00219-CIP Disposal",null,null,null,"AS004792646","Lamar Howarth (004792646) PF AVP Office","AS004792646-Lamar Howarth (004792646) PF AVP Office","Active",null,null,null,null,null,null,"1280","Pledges Receivable","1280-Pledges Receivable","Asset",null,"","1291||1291","1291","Clearing-Receivable Bank Cards","Primary","All",null,1280,"Pledges Receivable","1280-Pledges Receivable","Asset",null,null,null,null,null,null,"IHS Operating FY24","IHS Operating FY24","Consolidated_Budget_Structure_Operating","IHS"]
[null,null,null,null,null,null,"AC00029","JC - Provo Administration","AC00029-JC - Provo Administration","Activity","FD01","Active","2025-01-02T03:05:29.866",null,"RC4113","Transcript Fees","RC4113-Transcript Fees","Revenue Category","Active",null,null,"00230","Church-21Y's","00230-Church-21Y's",null,null,null,"AS004801072","Scott Kavanaugh (004801072) Special Events","AS004801072-Scott Kavanaugh (004801072) Special Events","Active",null,null,null,null,null,null,"1285","Deferred Gifts","1285-Deferred Gifts","Asset",null,"","1299||1299","1299","Account/Note Rec Reserve","Primary","All",null,1285,"Deferred Gifts","1285-Deferred Gifts","Asset",null,null,null,null,null,null,"INT Capital FY23","INT Capital FY23","Consolidated_Budget_Structure_Capital","INT"]
[null,null,null,null,null,null,"AC00030","JC - Provo Library","AC00030-JC - Provo Library","Activity","FD01","Active","2025-01-02T03:05:29.866",null,"RC4114","Special Exam Fees","RC4114-Special Exam Fees","Revenue Category","Active",null,null,"00231","Church-CNA Projects","00231-Church-CNA Projects",null,null,null,"AS004801171","Daniel Jones (004801171) Athletics - Women's Volleyball","AS004801171-Daniel Jones (004801171) Athletics - Women's Volleyball","Active",null,null,null,null,null,null,"1289","Pledges/Def Gifts Rec Reserve","1289-Pledges/Def Gifts Rec Reserve","Asset",null,"","1350||1350","1350","Inventory-Work in Process","Primary","All",null,1289,"Pledges/Def Gifts Rec Reserve","1289-Pledges/Def Gifts Rec Reserve","Asset",null,null,null,null,null,null,"INT Capital FY24","INT Capital FY24","Consolidated_Budget_Structure_Capital","INT"]
[null,null,null,null,null,null,"AC00031","JC - Provo Academic","AC00031-JC - Provo Academic","Activity","FD01","Active","2025-01-02T03:05:29.866",null,"RC4115","ACT Test Fees","RC4115-ACT Test Fees","Revenue Category","Active",null,null,"00232","Church-MTC Projects","00232-Church-MTC Projects",null,null,null,"AS004845810","KrisTina Carlston (004845810) Student Life VP","AS004845810-KrisTina Carlston (004845810) Student Life VP","Active",null,null,null,null,null,null,"1290","Clearing-Receivable","1290-Clearing-Receivable","Asset",null,"","1390||1390","1390","Clearing-Inventory","Primary","All",null,1290,"Clearing-Receivable","1290-Clearing-Receivable","Asset",null,null,null,null,null,null,"INT Operating FY23","INT Operating FY23","Consolidated_Budget_Structure_Operating","INT"]
[null,null,null,null,null,null,"AC00032","JC - Provo Office","AC00032-JC - Provo Office","Activity","FD01","Active","2025-01-02T03:05:29.866",null,"RC4116","Library Fines","RC4116-Library Fines","Revenue Category","Active",null,null,"00234","Church-Jerusalem Center Proj's","00234-Church-Jerusalem Center Proj's",null,null,null,"AS004874370","Brian Felt (004874370) Humanities - Dean's Office","AS004874370-Brian Felt (004874370) Humanities - Dean's Office","Active",null,null,null,null,null,null,"1291","Clearing-Receivable Bank Cards","1291-Clearing-Receivable Bank Cards","Asset",null,"","1399||1399","1399","Inventory Reserve","Primary","All",null,1291,"Clearing-Receivable Bank Cards","1291-Clearing-Receivable Bank Cards","Asset",null,null,null,null,null,null,"INT Operating FY24","INT Operating FY24","Consolidated_Budget_Structure_Operating","INT"]
[null,null,null,null,null,null,"AC00033","Jerusalem Center-Provo","AC00033-Jerusalem Center-Provo","Activity","FD02","Active","2025-01-02T03:05:29.866",null,"RC4117","Locker Rentals","RC4117-Locker Rentals","Revenue Category","Active",null,null,"00235","Church-Retainages","00235-Church-Retainages",null,null,null,"AS004923619","Stephen Yanchar (004923619) MSE - Dean's Office, McKay School of Education","AS004923619-Stephen Yanchar (004923619) MSE - Dean's Office, McKay School of Education","Active",null,null,null,null,null,null,"1299","Account/Note Rec Reserve","1299-Account/Note Rec Reserve","Asset",null,"","1400||1400","1400","Prepaid Expenses","Primary","All",null,1299,"Account/Note Rec Reserve","1299-Account/Note Rec Reserve","Asset",null,null,null,null,null,null,"JER Capital FY23","JER Capital FY23","Consolidated_Budget_Structure_Capital","JER"]
[null,null,null,null,null,null,"AC00034","Deans Salaries","AC00034-Deans Salaries","Activity","FD01","Active","2025-01-02T03:05:29.866",null,"RC4199","Tuition and Fees (reclass)","RC4199-Tuition and Fees (reclass)","Revenue Category","Active",null,null,"00241","Church ITI Projects","00241-Church ITI Projects",null,null,null,"AS004930048","Heidi Chewning (004930048) AVP - Associate AVP, Research and Graduate Studies","AS004930048-Heidi Chewning (004930048) AVP - Associate AVP, Research and Graduate Studies","Active",null,null,null,null,null,null,"1300","Inventory - Workday","1300-Inventory - Workday","Asset",null,"","1410||1410","1410","Deposits","Primary","All",null,1300,"Inventory - Workday","1300-Inventory - Workday","Asset",null,null,null,null,null,null,"JER Capital FY24","JER Capital FY24","Consolidated_Budget_Structure_Capital","JER"]
[null,null,null,null,null,null,"AC00035","University Programs","AC00035-University Programs","Activity","FD01","Active","2025-01-02T03:05:29.866",null,"RC4201","Gift Revenue-Cash","RC4201-Gift Revenue-Cash","Revenue Category","Active",null,null,"00243","Info Sys Development Projects","00243-Info Sys Development Projects",null,null,null,"AS005075133","Aaron Rose (005075133) ISP Programs Ward","AS005075133-Aaron Rose (005075133) ISP Programs Ward","Active",null,null,null,null,null,null,"1310","Inventory - Campus Subsystems","1310-Inventory - Campus Subsystems","Asset",null,"","1429||1429","1429","Other Assets Reserve","Primary","All",null,1310,"Inventory - Campus Subsystems","1310-Inventory - Campus Subsystems","Asset",null,null,null,null,null,null,"JER Operating FY23","JER Operating FY23","Consolidated_Budget_Structure_Operating","JER"]
[null,null,null,null,null,null,"AC00036","Faculty Advisory Council","AC00036-Faculty Advisory Council","Activity","FD01","Active","2025-01-02T03:05:29.866",null,"RC4202","Gift Revenue-Securities","RC4202-Gift Revenue-Securities","Revenue Category","Active",null,null,"00244","IT SOFTWARE PROJECTS","00244-IT SOFTWARE PROJECTS",null,null,null,"AS005098540","Jared Morris (005098540) MSE - Dean's Office, McKay School of Education","AS005098540-Jared Morris (005098540) MSE - Dean's Office, McKay School of Education","Active",null,null,null,null,null,null,"1350","Inventory-Work in Process","1350-Inventory-Work in Process","Asset",null,"","1430||1430","1430","Right of Use Asset","Primary","All",null,1350,"Inventory-Work in Process","1350-Inventory-Work in Process","Asset",null,null,null,null,null,null,"JER Operating FY24","JER Operating FY24","Consolidated_Budget_Structure_Operating","JER"]
[null,null,null,null,null,null,"AC00037","Summer Inservice Trn","AC00037-Summer Inservice Trn","Activity","FD01","Active","2025-01-02T03:05:29.866",null,"RC4203","Gift Revenue - Tangible Property","RC4203-Gift Revenue - Tangible Property","Revenue Category","Active",null,null,"00246","BYUB Content Development","00246-BYUB Content Development",null,null,null,"AS005680969","Rachael Cardon (005680969) CE Customer Support","AS005680969-Rachael Cardon (005680969) CE Customer Support","Active",null,null,null,null,null,null,"1390","Clearing-Inventory","1390-Clearing-Inventory","Asset",null,"","1435||1435","1435","Deferred Tax Asset","Primary","All",null,1390,"Clearing-Inventory","1390-Clearing-Inventory","Asset",null,null,null,null,null,null,"LDN Capital FY23","LDN Capital FY23","Consolidated_Budget_Structure_Capital","LDN"]
[null,null,null,null,null,null,"AC00038","Expansion","AC00038-Expansion","Activity","FD01","Active","2025-01-02T03:05:29.866",null,"RC4204","Sponsored Program Revenue","RC4204-Sponsored Program Revenue","Revenue Category","Active",null,null,"00250","Capital Gifts in Kind","00250-Capital Gifts in Kind",null,null,null,"AS005769310","Greg Danklef (005769310) AVP Human Resources Office","AS005769310-Greg Danklef (005769310) AVP Human Resources Office","Active",null,null,null,null,null,null,"1399","Inventory Reserve","1399-Inventory Reserve","Asset",null,"","1440||1440","1440","Valuation Allowance - DTA","Primary","All",null,1399,"Inventory Reserve","1399-Inventory Reserve","Asset",null,null,null,null,null,null,"LDN Capital FY24","LDN Capital FY24","Consolidated_Budget_Structure_Capital","LDN"]
[null,null,null,null,null,null,"AC00039","Sp-Su Experience","AC00039-Sp-Su Experience","Activity","FD01","Active","2025-01-02T03:05:29.866",null,"RC4299","Gift Revenue (reclass)","RC4299-Gift Revenue (reclass)","Revenue Category","Active",null,null,"00251","Non-Capital Gifts in Kind","00251-Non-Capital Gifts in Kind",null,null,null,"AS005924088","Sarah Whitaker (005924088) CE IS Course Dev - Victor's Students","AS005924088-Sarah Whitaker (005924088) CE IS Course Dev - Victor's Students","Active",null,null,null,null,null,null,"1400","Prepaid Expenses","1400-Prepaid Expenses","Asset",null,"","1450||1450","1450","Retire Postretire Benefit Asset","Primary","All",null,1400,"Prepaid Expenses","1400-Prepaid Expenses","Asset",null,null,null,null,null,null,"LDN Operating FY23","LDN Operating FY23","Consolidated_Budget_Structure_Operating","LDN"]
[null,null,null,null,null,null,"AC00040","AVP Bottleneck","AC00040-AVP Bottleneck","Activity","FD01","Active","2025-01-02T03:05:29.866",null,"RC4301","Investment Dividend Income","RC4301-Investment Dividend Income","Revenue Category","Active",null,null,"00252","Gifts-Art/Artifacts","00252-Gifts-Art/Artifacts",null,null,null,"AS005946921","Kenny Baldwin (005946921) Copyright Licensing Office","AS005946921-Kenny Baldwin (005946921) Copyright Licensing Office","Active",null,null,null,null,null,null,"1410","Deposits","1410-Deposits","Asset",null,"","1490||1490","1490","Clearing-Prepaid and Other","Primary","All",null,1410,"Deposits","1410-Deposits","Asset",null,null,null,null,null,null,"LDN Operating FY24","LDN Operating FY24","Consolidated_Budget_Structure_Operating","LDN"]
[null,null,null,null,null,null,"AC00041","Teaching and Learning","AC00041-Teaching and Learning","Activity","FD01","Active","2025-01-02T03:05:29.866",null,"RC4302","Investment Interest Income","RC4302-Investment Interest Income","Revenue Category","Active",null,null,"00259","Other Gifts in Kind","00259-Other Gifts in Kind",null,null,null,"AS006045488","Bryce Isaacson (006045488) Fine Arts & Communications - Dean's Office","AS006045488-Bryce Isaacson (006045488) Fine Arts & Communications - Dean's Office","Active",null,null,null,null,null,null,"1420","Other Assets","1420-Other Assets","Asset",null,"","1500||1500","1500","Securities Held/Liquidation","Primary","JE_Gift|JE_Override",null,1420,"Other Assets","1420-Other Assets","Asset"]
[null,null,null,null,null,null,"AC00042","Rank & Status Replenishment","AC00042-Rank & Status Replenishment","Activity","FD01","Active","2025-01-02T03:05:29.866",null,"RC4311","Investment Gains/Losses","RC4311-Investment Gains/Losses","Revenue Category","Active",null,null,"00293","Super Computer Eng/Tech","00293-Super Computer Eng/Tech",null,null,null,"AS006852006","Kerry Muhlestein (006852006) Religious Educcation - Dean's Office","AS006852006-Kerry Muhlestein (006852006) Religious Educcation - Dean's Office","Active",null,null,null,null,null,null,"1429","Other Assets Reserve","1429-Other Assets Reserve","Asset",null,"","1510||1510","1510","Real Estate Held/Liquidation","Primary","JE_Gift|JE_Override",null,1429,"Other Assets Reserve","1429-Other Assets Reserve","Asset"]
[null,null,null,null,null,null,"AC00043","AVP Personnel","AC00043-AVP Personnel","Activity","FD01","Active","2025-01-02T03:05:29.866",null,"RC4312","Investment Income Assets Held for Liquidation","RC4312-Investment Income Assets Held for Liquidation","Revenue Category","Active",null,null,"00297","Washington Center","00297-Washington Center",null,null,null,"AS007243247","Deren Hansen (007243247) OIT Portfolio - Campus & Student Life","AS007243247-Deren Hansen (007243247) OIT Portfolio - Campus & Student Life","Active",null,null,null,null,null,null,"1430","Right of Use Asset","1430-Right of Use Asset","Asset",null,"","1520||1520","1520","Other Assets Held/Liquidation","Primary","JE_Gift|JE_Override",null,1430,"Right of Use Asset","1430-Right of Use Asset","Asset"]
[null,null,null,null,null,null,"AC00044","Matching Funds","AC00044-Matching Funds","Activity","FD01","Active","2025-01-02T03:05:29.866",null,"RC4313","Unrealized Investment Gains/Losses","RC4313-Unrealized Investment Gains/Losses","Revenue Category","Active",null,null,"00300","New Facilities Construction","00300-New Facilities Construction",null,null,null,"AS007399155","Scott Weber (007399155) Academic VP Office, Deans","AS007399155-Scott Weber (007399155) Academic VP Office, Deans","Active",null,null,null,null,null,null,"1435","Deferred Tax Asset","1435-Deferred Tax Asset","Asset",null,"","1590||1590","1590","Clearing-Assets Held/Liquidation","Primary","JE_Gift|JE_Override",null,1435,"Deferred Tax Asset","1435-Deferred Tax Asset","Asset"]
[null,null,null,null,null,null,"AC00045","AVP - Graduation","AC00045-AVP - Graduation","Activity","FD01","Active","2025-01-02T03:05:29.866",null,"RC4401","Sale of Services","RC4401-Sale of Services","Revenue Category","Active",null,null,"00310","Shop Time/Materials","00310-Shop Time/Materials",null,null,null,"AS007456124","Riley Nelson (007456124) Life Sciences - Dean's Office","AS007456124-Riley Nelson (007456124) Life Sciences - Dean's Office","Active",null,null,null,null,null,null,"1440","Valuation Allowance - DTA","1440-Valuation Allowance - DTA","Asset",null,"","1599||1599","1599","Assets Held/Liquidation Reserve","Primary","JE_Gift|JE_Override",null,1440,"Valuation Allowance - DTA","1440-Valuation Allowance - DTA","Asset"]
[null,null,null,null,null,null,"AC00046","College of Health & Human Perf","AC00046-College of Health & Human Perf","Activity","FD01","Active","2025-01-02T03:05:29.866",null,"RC4402","Sale of Services-Campus Appropriation","RC4402-Sale of Services-Campus Appropriation","Revenue Category","Active",null,null,"00320","Architectural Fees","00320-Architectural Fees",null,null,null,"AS007521659","David Pendlebury (007521659) Wilkinson Center","AS007521659-David Pendlebury (007521659) Wilkinson Center","Active",null,null,null,null,null,null,"1450","Retire Postretire Benefit Asset","1450-Retire Postretire Benefit Asset","Asset",null,"","1650||1650","1650","Construction in Progress","Primary","JE_PPE|JE_Override",null,1450,"Retire Postretire Benefit Asset","1450-Retire Postretire Benefit Asset","Asset"]
[null,null,null,null,null,null,"AC00047","Smith Institute","AC00047-Smith Institute","Activity","FD01","Active","2025-01-02T03:05:29.866",null,"RC4403","Sale of Services-Campus Other","RC4403-Sale of Services-Campus Other","Revenue Category","Active",null,null,"00330","Capital Equipment","00330-Capital Equipment",null,null,null,"AS007590304","Angela Baxter (007590304) Academic Advisement Center","AS007590304-Angela Baxter (007590304) Academic Advisement Center","Active",null,null,null,null,null,null,"1490","Clearing-Prepaid and Other","1490-Clearing-Prepaid and Other","Asset",null,"","1651||1651","1651","Construction in Progress (Non-Workday Projects)","Primary","All",null,1490,"Clearing-Prepaid and Other","1490-Clearing-Prepaid and Other","Asset"]
[null,null,null,null,null,null,"AC00048","Faculty Women's Association","AC00048-Faculty Women's Association","Activity","FD02","Active","2025-01-02T03:05:29.866",null,"RC4404","Sale of Services-Taxable","RC4404-Sale of Services-Taxable","Revenue Category","Active",null,null,"00350","Repairs and Maintenance","00350-Repairs and Maintenance",null,null,null,"AS007630468","Margaret McCabe (007630468) FHSS - Dean's Office","AS007630468-Margaret McCabe (007630468) FHSS - Dean's Office","Active",null,null,null,null,null,null,"1500","Securities Held/Liquidation","1500-Securities Held/Liquidation","Asset",null,"","2000||2000","2000","Accounts Payable","Primary","JE_Override",null,1500,"Securities Held/Liquidation","1500-Securities Held/Liquidation","Asset"]
[null,null,null,null,null,null,"AC00049","CID-ERG","AC00049-CID-ERG","Activity","FD02","Active","2025-01-02T03:05:29.866",null,"RC4405","Sale of Services-Refunds","RC4405-Sale of Services-Refunds","Revenue Category","Active",null,null,"00360","Media Services","00360-Media Services",null,null,null,"AS007713057","Chao Pang (007713057) CMS - Dean's Office Computational, Mathematical, & Phsical","AS007713057-Chao Pang (007713057) CMS - Dean's Office Computational, Mathematical, & Phsical","Active",null,null,null,null,null,null,"1510","Real Estate Held/Liquidation","1510-Real Estate Held/Liquidation","Asset",null,"","2090||2090","2090","Clearing-Accounts Payable","Primary","All",null,1510,"Real Estate Held/Liquidation","1510-Real Estate Held/Liquidation","Asset"]
[null,null,null,null,null,null,"AC00050","College Initatives/Univ Object","AC00050-College Initatives/Univ Object","Activity","FD03","Active","2025-01-02T03:05:29.866",null,"RC4406","Sponsorship Revenue","RC4406-Sponsorship Revenue","Revenue Category","Active",null,null,"00390","Administrative Costs","00390-Administrative Costs",null,null,null,"AS007713662","Amy Bernards (007713662) CE SLC - Administration","AS007713662-Amy Bernards (007713662) CE SLC - Administration","Active",null,null,null,null,null,null,"1520","Other Assets Held/Liquidation","1520-Other Assets Held/Liquidation","Asset",null,"","2200||2200","2200","Accrued Liabilities","Primary","All",null,1520,"Other Assets Held/Liquidation","1520-Other Assets Held/Liquidation","Asset"]
[null,null,null,null,null,null,"AC00051","AVP Internships/SALT","AC00051-AVP Internships/SALT","Activity","FD03","Active","2025-01-02T03:05:29.866",null,"RC4499","Sale of Services (reclass)","RC4499-Sale of Services (reclass)","Revenue Category","Active",null,null,"00391","Retainage Interest","00391-Retainage Interest",null,null,null,"AS008098758","Mark Longhurst (008098758) OIT Portfolio - CES Network Center (CNC)","AS008098758-Mark Longhurst (008098758) OIT Portfolio - CES Network Center (CNC)","Active",null,null,null,null,null,null,"1590","Clearing-Assets Held/Liquidation","1590-Clearing-Assets Held/Liquidation","Asset",null,"","2210||2210","2210","Accrued Payroll-Biweekly","Primary","All",null,1590,"Clearing-Assets Held/Liquidation","1590-Clearing-Assets Held/Liquidation","Asset"]
[null,null,null,null,null,null,"AC00052","Semester Away","AC00052-Semester Away","Activity","FD03","Active","2025-01-02T03:05:29.866",null,"RC4501","Sale of Goods","RC4501-Sale of Goods","Revenue Category","Active",null,null,"00473","Payout Income to Principal","00473-Payout Income to Principal",null,null,null,"AS008585696","Nate Walton (008585696) OIT Portfolio - Teaching, Learning, & Research / Dev Tools","AS008585696-Nate Walton (008585696) OIT Portfolio - Teaching, Learning, & Research / Dev Tools","Active",null,null,null,null,null,null,"1599","Assets Held/Liquidation Reserve","1599-Assets Held/Liquidation Reserve","Asset",null,"","2215||2215","2215","Accrued Payroll-Faculty","Primary","All",null,1599,"Assets Held/Liquidation Reserve","1599-Assets Held/Liquidation Reserve","Asset"]
[null,null,null,null,null,null,"AC00053","Meg/Orca Grants Fund","AC00053-Meg/Orca Grants Fund","Activity","FD03","Active","2025-01-02T03:05:29.866",null,"RC4502","Sale of Goods-Taxable","RC4502-Sale of Goods-Taxable","Revenue Category","Active",null,null,"00501","Sales Tax-Misc","00501-Sales Tax-Misc",null,null,null,"AS008743277","Abigail Nelson (008743277) HS General Medicine - Nursing","AS008743277-Abigail Nelson (008743277) HS General Medicine - Nursing","Active",null,null,null,null,null,null,"1600","Land","1600-Land","Asset",null,"","2220||2220","2220","Accrued Payroll Benefits","Primary","All",null,1600,"Land","1600-Land","Asset"]
[null,null,null,null,null,null,"AC00054","University Support Funds (USF)","AC00054-University Support Funds (USF)","Activity","FD03","Active","2025-01-02T03:05:29.866",null,"RC4503","Sale of Goods-Discount/Returns","RC4503-Sale of Goods-Discount/Returns","Revenue Category","Active",null,null,"00541","Accumulated Earnings","00541-Accumulated Earnings",null,null,null,"AS008978398","Patricia Ware (008978398) Admissions Office","AS008978398-Patricia Ware (008978398) Admissions Office","Active",null,null,null,null,null,null,"1605","Buildings","1605-Buildings","Asset",null,"","2230||2230","2230","Accrued Vacation","Primary","All",null,1605,"Buildings","1605-Buildings","Asset"]
[null,null,null,null,null,null,"AC00055","Mentoring Grants Donations","AC00055-Mentoring Grants Donations","Activity","FD03","Active","2025-01-02T03:05:29.866",null,"RC4504","Sales - Online and Out of State","RC4504-Sales - Online and Out of State","Revenue Category","Active",null,null,"00543","Accum Transfers","00543-Accum Transfers",null,null,null,"AS009052786","James Woods (009052786) Athletics - Football","AS009052786-James Woods (009052786) Athletics - Football","Active",null,null,null,null,null,null,"1610","Building Improvements","1610-Building Improvements","Asset",null,"","2491||2491","2491","Inter-Company Receivable/Payable","Primary","JE_Override",null,1610,"Building Improvements","1610-Building Improvements","Asset"]
[null,null,null,null,null,null,"AC00057","General Endowment AVP","AC00057-General Endowment AVP","Activity","FD03","Active","2025-01-02T03:05:29.866",null,"RC4505","Ticket Sales","RC4505-Ticket Sales","Revenue Category","Active",null,null,"00700","Student Fee Distribution","00700-Student Fee Distribution",null,null,null,"AS009167987","John Hilton (009167987) Religious Educcation - Dean's Office","AS009167987-John Hilton (009167987) Religious Educcation - Dean's Office","Active",null,null,null,null,null,null,"1615","Other Improvements","1615-Other Improvements","Asset",null,"","2492||2492","2492","Inter-Worktag Receivable/Payable","Primary","JE_Override",null,1615,"Other Improvements","1615-Other Improvements","Asset"]
[null,null,null,null,null,null,"AC00058","College Initatives/Univ Object","AC00058-College Initatives/Univ Object","Activity","FD03","Active","2025-01-02T03:05:29.866",null,"RC4506","Ticket Sales-Taxable","RC4506-Ticket Sales-Taxable","Revenue Category","Active",null,null,"00701","Evening School","00701-Evening School",null,null,null,"AS009495064","Monte Marshall (009495064) Academic VP Office, Deans","AS009495064-Monte Marshall (009495064) Academic VP Office, Deans","Active",null,null,null,null,null,null,"1620","Furnishings and Fixtures","1620-Furnishings and Fixtures","Asset",null,"","2550||2550","2550","Lease Liability","Primary","All",null,1620,"Furnishings and Fixtures","1620-Furnishings and Fixtures","Asset"]
[null,null,null,null,null,null,"AC00059","Mentored Learning","AC00059-Mentored Learning","Activity","FD03","Active","2025-01-02T03:05:29.866",null,"RC4507","Ticket Sales-Refunds","RC4507-Ticket Sales-Refunds","Revenue Category","Active",null,null,"00702","Salt Lake Center","00702-Salt Lake Center",null,null,null,"AS009633151","Marden Clark (009633151) Benefits, Human Resources Operations, Recruiting","AS009633151-Marden Clark (009633151) Benefits, Human Resources Operations, Recruiting","Active",null,null,null,null,null,null,"1625","Capital Equipment","1625-Capital Equipment","Asset",null,"","2600||2600","2600","Deferred Revenue","Primary","All",null,1625,"Capital Equipment","1625-Capital Equipment","Asset"]
[null,null,null,null,null,null,"AC00060","Experiential Learning","AC00060-Experiential Learning","Activity","FD03","Active","2025-01-02T03:05:29.866",null,"RC4599","Sale of Goods (reclass)","RC4599-Sale of Goods (reclass)","Revenue Category","Active",null,null,"00706","International Studies Program","00706-International Studies Program",null,null,null,"AS009674234","Richard Williams (009674234) FHSS - Dean's Office","AS009674234-Richard Williams (009674234) FHSS - Dean's Office","Active",null,null,null,null,null,null,"1630","Vehicles","1630-Vehicles","Asset",null,"","2700||2700","2700","Retire Postretire Benefit Obligation","Primary","All",null,1630,"Vehicles","1630-Vehicles","Asset"]
[null,null,null,null,null,null,"AC00061","Insp Learn Spec Proj","AC00061-Insp Learn Spec Proj","Activity","FD03","Active","2025-01-02T03:05:29.866",null,"RC4701","Non-Investment-Dividend Income","RC4701-Non-Investment-Dividend Income","Revenue Category","Active",null,null,"00710","Wooley Allocations","00710-Wooley Allocations",null,null,null,"AS009694795","Caroline Thorne (009694795) MSB - Dean's Office, Marriott School of Business","AS009694795-Caroline Thorne (009694795) MSB - Dean's Office, Marriott School of Business","Active",null,null,null,null,null,null,"1632","Library Content","1632-Library Content","Asset",null,"","2710||2710","2710","Deferred Tax Liability","Primary","All",null,1632,"Library Content","1632-Library Content","Asset"]
[null,null,null,null,null,null,"AC00062","External Review","AC00062-External Review","Activity","FD03","Active","2025-01-02T03:05:29.866",null,"RC4702","Non-Investment-Interest Income","RC4702-Non-Investment-Interest Income","Revenue Category","Active",null,null,"00713","Jerusalem Center","00713-Jerusalem Center",null,null,null,"AS009829922","Scott Hart (009829922) Alumni Aspen Grove","AS009829922-Scott Hart (009829922) Alumni Aspen Grove","Active",null,null,null,null,null,null,"1635","Misc Capital Assets","1635-Misc Capital Assets","Asset",null,"","3400||3400","3400","Net Assets (prior year)","Primary","JE_Override",null,1635,"Misc Capital Assets","1635-Misc Capital Assets","Asset"]
[null,null,null,null,null,null,"AC00063","Award Stipends","AC00063-Award Stipends","Activity","FD03","Active","2025-01-02T03:05:29.866",null,"RC4703","Non-Investment-Gains/Losses","RC4703-Non-Investment-Gains/Losses","Revenue Category","Active",null,null,"00750","Administrative Vacation Accrua","00750-Administrative Vacation Accrua",null,null,null,"AS009898189","Tanya Harmon (009898189) Business Career Center","AS009898189-Tanya Harmon (009898189) Business Career Center","Active",null,null,null,null,null,null,"1637","Software","1637-Software","Asset",null,"","3500||3500","3500","Net Assets","Primary","JE_Override",null,1637,"Software","1637-Software","Asset"]
[null,null,null,null,null,null,"AC00064","In-Service Training","AC00064-In-Service Training","Activity","FD03","Active","2025-01-02T03:05:29.866",null,"RC4704","Rental Income","RC4704-Rental Income","Revenue Category","Active",null,null,"00754","Staff Vacation Accrual","00754-Staff Vacation Accrual",null,null,null,"AS010112196","Jenny Tooke (010112196) AVP Human Resources Office","AS010112196-Jenny Tooke (010112196) AVP Human Resources Office","Active",null,null,null,null,null,null,"1638","Media","1638-Media","Asset",null,"","3600||3600","3600","Net Assets-Reserve","Primary","All",null,1638,"Media","1638-Media","Asset"]
[null,null,null,null,null,null,"AC00065","Maxwell Institute","AC00065-Maxwell Institute","Activity","FD01","Active","2025-01-02T03:05:29.866",null,"RC4705","Agency Deposits","RC4705-Agency Deposits","Revenue Category","Active",null,null,"0075E","Executive Vacation Accrual","0075E-Executive Vacation Accrual",null,null,null,"AS010616464","Rick Patterson (010616464) Business Career Center","AS010616464-Rick Patterson (010616464) Business Career Center","Active",null,null,null,null,null,null,"1650","Construction in Progress","1650-Construction in Progress","Asset",null,"","3609||3609","3609","Net Assets (Reserve Offset)","Primary","All",null,1650,"Construction in Progress","1650-Construction in Progress","Asset"]
[null,null,null,null,null,null,"AC00066","Maxwell Institute","AC00066-Maxwell Institute","Activity","FD02","Active","2025-01-02T03:05:29.866",null,"RC4706","Club Association Dues and Fees","RC4706-Club Association Dues and Fees","Revenue Category","Active",null,null,"00812","Heritage Housing Phase I Note","00812-Heritage Housing Phase I Note",null,null,null,"AS010648601","Bret Rowley (010648601) PF Electrical Shop","AS010648601-Bret Rowley (010648601) PF Electrical Shop","Active",null,null,null,null,null,null,"1651","Construction In Progress (Non-Workday Projects)","1651-Construction In Progress (Non-Workday Projects)","Asset",null,"","3670||3670","3670","Retirement Beneifts Adjustment","Primary","JE_Override",null,1651,"Construction In Progress (Non-Workday Projects)","1651-Construction In Progress (Non-Workday Projects)","Asset"]
[null,null,null,null,null,null,"AC00067","Vatican Manuscripts","AC00067-Vatican Manuscripts","Activity","FD03","Active","2025-01-02T03:05:29.866",null,"RC4707","Royalty Income","RC4707-Royalty Income","Revenue Category","Active",null,null,"00813","Heritage Housing Phase II Note","00813-Heritage Housing Phase II Note",null,null,null,"AS010703821","Alison Bawden (010703821) Aerospace Studies","AS010703821-Alison Bawden (010703821) Aerospace Studies","Active",null,null,null,null,null,null,"1700","Accumulated Depreciation","1700-Accumulated Depreciation","Asset",null,"","3680||3680","3680","Cumulative Translation Adjustment","Primary","JE_Override",null,1700,"Accumulated Depreciation","1700-Accumulated Depreciation","Asset"]
[null,null,null,null,null,null,"AC00069","Maxwell Experiential Learning","AC00069-Maxwell Experiential Learning","Activity","FD03","Active","2025-01-02T03:05:29.866",null,"RC4708","Distributed Royalty Income","RC4708-Distributed Royalty Income","Revenue Category","Active",null,null,"00814","Heritage Housing Phas III Note","00814-Heritage Housing Phas III Note",null,null,null,"AS011324388","Lisa Argyle (011324388) FHSS - Dean's Office","AS011324388-Lisa Argyle (011324388) FHSS - Dean's Office","Active",null,null,null,null,null,null,"2000","Accounts Payable","2000-Accounts Payable","Liability",null,"","3690||3690","3690","Net Assets (Proj Conv P&L)","Primary","JE_Override",null,2000,"Accounts Payable","2000-Accounts Payable","Liability"]
[null,null,null,null,null,null,"AC00070","Ancient Studies","AC00070-Ancient Studies","Activity","FD01","Active","2025-01-02T03:05:29.866",null,"RC4709","Over/Short","RC4709-Over/Short","Revenue Category","Active",null,null,"00815","Heritage Housing Phas IV Note","00815-Heritage Housing Phas IV Note",null,null,null,"AS011619868","Heather Erwin (011619868) Retail Services - Product Acquisition","AS011619868-Heather Erwin (011619868) Retail Services - Product Acquisition","Active",null,null,null,null,null,null,"2010","Procurement Card Payable","2010-Procurement Card Payable","Liability",null,"","4780||4780","4780","Inter-Company Contribution Revenue","Primary","All",null,2010,"Procurement Card Payable","2010-Procurement Card Payable","Liability"]
[null,null,null,null,null,null,"AC00071","BYU STUDIES","AC00071-BYU STUDIES","Activity","FD02","Active","2025-01-02T03:05:29.866",null,"RC4710","Other Income","RC4710-Other Income","Revenue Category","Active",null,null,"00816","Heritage Housing Phas V Note","00816-Heritage Housing Phas V Note",null,null,null,"AS011820551","Deborah Hall (011820551) Undergraduate Education - Dean's Office","AS011820551-Deborah Hall (011820551) Undergraduate Education - Dean's Office","Active",null,null,null,null,null,null,"2020","Other and Retainages Payable","2020-Other and Retainages Payable","Liability",null,"","9250||9250","9250","Funds Transfer","Primary","All",null,2020,"Other and Retainages Payable","2020-Other and Retainages Payable","Liability"]
[null,null,null,null,null,null,"AC00072","College Support Funds (CSF)","AC00072-College Support Funds (CSF)","Activity","FD01","Active","2025-01-02T03:05:29.866",null,"RC4711","Restricted Transfers (UFSonly)","RC4711-Restricted Transfers (UFSonly)","Revenue Category","Active",null,null,"00902","Amanda Rees","00902-Amanda Rees",null,null,null,"AS011887947","Timothy Davis (011887947) Lee Library - Research & Learning","AS011887947-Timothy Davis (011887947) Lee Library - Research & Learning","Active",null,null,null,null,null,null,"2025","Payroll Net Pay Clearing","2025-Payroll Net Pay Clearing","Liability",null,"","9780||9780","9780","Inter-Company Donation Expense","Primary","All",null,2025,"Payroll Net Pay Clearing","2025-Payroll Net Pay Clearing","Liability"]
[null,null,null,null,null,null,"AC00073","WRI Grants","AC00073-WRI Grants","Activity","FD01","Active","2025-01-02T03:05:29.866",null,"RC4712","Interest Alloc-Claim on Cash","RC4712-Interest Alloc-Claim on Cash","Revenue Category","Active",null,null,"00909","Jenny Wheeler","00909-Jenny Wheeler",null,null,null,"AS012664224","Ben Harry (012664224) Lee Library - Research & Learning","AS012664224-Ben Harry (012664224) Lee Library - Research & Learning","Active",null,null,null,null,null,null,"2030","Other Payroll Deducts Payable","2030-Other Payroll Deducts Payable","Liability",null,"","9981||9981","9981","Next Year Estimated Payout","Primary","JE_Gift|JE_Override",null,2030,"Other Payroll Deducts Payable","2030-Other Payroll Deducts Payable","Liability"]
[null,null,null,null,null,null,"AC00074","AAVP Research Fixed-Prc Rsdls","AC00074-AAVP Research Fixed-Prc Rsdls","Activity","FD03","Active","2025-01-02T03:05:29.866",null,"RC4713","Gain/Loss Sale of Asset","RC4713-Gain/Loss Sale of Asset","Revenue Category","Active",null,null,"00910","Janalee Davis","00910-Janalee Davis",null,null,null,"AS012823792","Jason Stucki (012823792) CMS - Dean's Office Computational, Mathematical, & Physical","AS012823792-Jason Stucki (012823792) CMS - Dean's Office Computational, Mathematical, & Physical","Active",null,null,null,null,null,null,"2090","Clearing-Accounts Payable","2090-Clearing-Accounts Payable","Liability",null,"","9990||9990","9990","SFAS 158 Annual Pension Adj","Primary","All",null,2090,"Clearing-Accounts Payable","2090-Clearing-Accounts Payable","Liability"]
[null,null,null,null,null,null,"AC00075","Waived Indirect Cost","AC00075-Waived Indirect Cost","Activity","FD01","Active","2025-01-02T03:05:29.866",null,"RC4714","Legal Fees Reimbursement","RC4714-Legal Fees Reimbursement","Revenue Category","Active",null,null,"00914","Ben Fales","00914-Ben Fales",null,null,null,"AS013125210","Kevin Bauer (013125210) BYU Broadcasting - Digital Media","AS013125210-Kevin Bauer (013125210) BYU Broadcasting - Digital Media","Active",null,null,null,null,null,null,"2100","FICA Payable","2100-FICA Payable","Liability",null,"BK1001","BK1001||1000","1000","Cash USD","Primary","JE_Override",null,2100,"FICA Payable","2100-FICA Payable","Liability"]
[null,null,null,null,null,null,"AC00076","Microscopy Lab","AC00076-Microscopy Lab","Activity","FD02","Active","2025-01-02T03:05:29.866",null,"RC4715","Realized Currency Gain/Loss","RC4715-Realized Currency Gain/Loss","Revenue Category","Active",null,null,"00916","Annalaura Solomon","00916-Annalaura Solomon",null,null,null,"AS013153304","Brad Taylor (013153304) OIT Portfolio - Business, Finance, & HR","AS013153304-Brad Taylor (013153304) OIT Portfolio - Business, Finance, & HR","Active",null,null,null,null,null,null,"2105","Federal Withholding Payable","2105-Federal Withholding Payable","Liability",null,"BK1002","BK1002||1000","1000","Cash USD","Primary","JE_Override",null,2105,"Federal Withholding Payable","2105-Federal Withholding Payable","Liability"]
[null,null,null,null,null,null,"AC00077","Graduate Studies","AC00077-Graduate Studies","Activity","FD01","Active","2025-01-02T03:05:29.866",null,"RC4716","Unrealized Currency Gain/Loss","RC4716-Unrealized Currency Gain/Loss","Revenue Category","Active",null,null,"00918","Karren Williamson","00918-Karren Williamson",null,null,null,"AS013277357","Wendy Williamson (013277357) PF Building Operations","AS013277357-Wendy Williamson (013277357) PF Building Operations","Active",null,null,null,null,null,null,"2110","State Payroll Taxes Payable","2110-State Payroll Taxes Payable","Liability",null,"BK1003","BK1003||1000","1000","Cash USD","Primary","JE_Override",null,2110,"State Payroll Taxes Payable","2110-State Payroll Taxes Payable","Liability"]
[null,null,null,null,null,null,"AC00078","Graduate Studies Dean","AC00078-Graduate Studies Dean","Activity","FD01","Active","2025-01-02T03:05:29.866",null,"RC4799","Other Income (reclass)","RC4799-Other Income (reclass)","Revenue Category","Active",null,null,"00921","Heather Adams (Jeanine Bell)","00921-Heather Adams (Jeanine Bell)",null,null,null,"AS013404757","Bryan Howell (013404757) Fine Arts & Communications - Dean's Office","AS013404757-Bryan Howell (013404757) Fine Arts & Communications - Dean's Office","Active",null,null,null,null,null,null,"2130","Sales Tax Payable - Utah","2130-Sales Tax Payable - Utah","Liability",null,"BK1004","BK1004||1000","1000","Cash USD","Primary","JE_Override",null,2130,"Sales Tax Payable - Utah","2130-Sales Tax Payable - Utah","Liability"]
[null,null,null,null,null,null,"AC00079","Graduate Student Society","AC00079-Graduate Student Society","Activity","FD01","Active","2025-01-02T03:05:29.866",null,"RC4800","Intra-Division Sales","RC4800-Intra-Division Sales","Revenue Category","Active",null,null,"00923","David Nelson","00923-David Nelson",null,null,null,"AS013464292","Tony Grover (013464292) Academic VP Office, Deans","AS013464292-Tony Grover (013464292) Academic VP Office, Deans","Active",null,null,null,null,null,null,"2132","Sales Tax Payable - Other States","2132-Sales Tax Payable - Other States","Liability",null,"BK1005","BK1005||1000","1000","Cash USD","Primary","JE_Override",null,2132,"Sales Tax Payable - Other States","2132-Sales Tax Payable - Other States","Liability"]
[null,null,null,null,null,null,"AC00080","Annual Fund Scholarships","AC00080-Annual Fund Scholarships","Activity","FD01","Active","2025-01-02T03:05:29.866",null,"RC4850","Intra-Division Purchases","RC4850-Intra-Division Purchases","Revenue Category","Active",null,null,"00924","Allen Arnoldsen","00924-Allen Arnoldsen",null,null,null,"AS013542053","Isaac Smith (013542053) MSB - Dean's Office, Marriott School of Business","AS013542053-Isaac Smith (013542053) MSB - Dean's Office, Marriott School of Business","Active",null,null,null,null,null,null,"2140","Property Tax Payable","2140-Property Tax Payable","Liability",null,"BK1006","BK1006||1000","1000","Cash USD","Primary","JE_Override",null,2140,"Property Tax Payable","2140-Property Tax Payable","Liability"]
[null,null,null,null,null,null,"AC00081","Graduate Financial Aids","AC00081-Graduate Financial Aids","Activity","FD01","Active","2025-01-02T03:05:29.866",null,"RC4890","Release Restrictions (UFSonly)","RC4890-Release Restrictions (UFSonly)","Revenue Category","Active",null,null,"00926","Ellen Hernandez","00926-Ellen Hernandez",null,null,null,"AS013584809","Deena Hastings (013584809) Retail Services - Product Acquisition","AS013584809-Deena Hastings (013584809) Retail Services - Product Acquisition","Active",null,null,null,null,null,null,"2150","UBIT Payable","2150-UBIT Payable","Liability",null,"BK1008","BK1008||1000","1000","Cash USD","Primary","JE_Override",null,2150,"UBIT Payable","2150-UBIT Payable","Liability"]
[null,null,null,null,null,null,"AC00082","Dean's Research","AC00082-Dean's Research","Activity","FD01","Active","2025-01-02T03:05:29.866",null,"RC4891","Endowment Payout Distribution","RC4891-Endowment Payout Distribution","Revenue Category","Active",null,null,"00927","Katrina Bricker","00927-Katrina Bricker",null,null,null,"AS013664321","Taylor Morris (013664321) Performing Arts Management - Artist Management","AS013664321-Taylor Morris (013664321) Performing Arts Management - Artist Management","Active",null,null,null,null,null,null,"2160","Other Taxes Payable","2160-Other Taxes Payable","Liability",null,"BK1020","BK1020||1000","1000","Cash USD","Primary","JE_Override",null,2160,"Other Taxes Payable","2160-Other Taxes Payable","Liability"]
[null,null,null,null,null,null,"AC00083","Annual Fund Scholarships","AC00083-Annual Fund Scholarships","Activity","FD03","Active","2025-01-02T03:05:29.866",null,"RC4892","Endowment Payout Spendable Available","RC4892-Endowment Payout Spendable Available","Revenue Category","Active",null,null,"00931","Greg Burton","00931-Greg Burton",null,null,null,"AS013758513","Megan Goodman (013758513) Purchasing and Travel - Continuing Education Operations","AS013758513-Megan Goodman (013758513) Purchasing and Travel - Continuing Education Operations","Active",null,null,null,null,null,null,"2200","Accrued Liabilities","2200-Accrued Liabilities","Liability",null,"BK1030","BK1030||1000","1000","Cash USD","Primary","JE_Override",null,2200,"Accrued Liabilities","2200-Accrued Liabilities","Liability"]
[null,null,null,null,null,null,"AC00084","Graduate Tuition Scholarship","AC00084-Graduate Tuition Scholarship","Activity","FD03","Active","2025-01-02T03:05:29.866",null,"RC4893","Reinvestment","RC4893-Reinvestment","Revenue Category","Active",null,null,"00932","Joseph Hall","00932-Joseph Hall",null,null,null,"AS013951239","Roger Dean (013951239) Retail Services - General Administration","AS013951239-Roger Dean (013951239) Retail Services - General Administration","Active",null,null,null,null,null,null,"2210","Accrued Payroll-Biweekly","2210-Accrued Payroll-Biweekly","Liability",null,"BK1040","BK1040||1001","1001","Cash ILS","Primary","JE_Override",null,2210,"Accrued Payroll-Biweekly","2210-Accrued Payroll-Biweekly","Liability"]
[null,null,null,null,null,null,"AC00085","Graduate Studies Applications","AC00085-Graduate Studies Applications","Activity","FD03","Active","2025-01-02T03:05:29.866",null,"RC4897","Investment Transfer In/Out (FS only)","RC4897-Investment Transfer In/Out (FS only)","Revenue Category","Active",null,null,"00933","Matthew Allen","00933-Matthew Allen",null,null,null,"AS013974932","Tevita Hola (013974932) Honor Code Office","AS013974932-Tevita Hola (013974932) Honor Code Office","Active",null,null,null,null,null,null,"2215","Accrued Payroll-Faculty","2215-Accrued Payroll-Faculty","Liability",null,"BK1041","BK1041||1000","1000","Cash USD","Primary","JE_Override",null,2215,"Accrued Payroll-Faculty","2215-Accrued Payroll-Faculty","Liability"]
[null,null,null,null,null,null,"AC00086","Sunshine Fund - Grad Studies","AC00086-Sunshine Fund - Grad Studies","Activity","FD07","Active","2025-01-02T03:05:29.866",null,"RC6403","Sponsored Program Income","RC6403-Sponsored Program Income","Revenue Category","Active",null,null,"00935","Russell Hansen","00935-Russell Hansen",null,null,null,"AS013983916","Ray Bernier (013983916) PF AVP Office","AS013983916-Ray Bernier (013983916) PF AVP Office","Active",null,null,null,null,null,null,"2220","Accrued Payroll Benefits","2220-Accrued Payroll Benefits","Liability",null,"BK1042","BK1042||1001","1001","Cash ILS","Primary","JE_Override",null,2220,"Accrued Payroll Benefits","2220-Accrued Payroll Benefits","Liability"]
[null,null,null,null,null,null,"AC00087","Copyright Services","AC00087-Copyright Services","Activity","FD02","Active","2025-01-02T03:05:29.866",null,"SC0101","Forward Balance (Budget Only)","SC0101-Forward Balance (Budget Only)","Spend Category","Active",null,null,"00937","Michelle Hirsche","00937-Michelle Hirsche",null,null,null,"AS014079663","Keri Elmer (014079663) Life Sciences - Dean's Office","AS014079663-Keri Elmer (014079663) Life Sciences - Dean's Office","Active",null,null,null,null,null,null,"2230","Accrued Vacation","2230-Accrued Vacation","Liability",null,"BK1053","BK1053||1003","1003","Cash EUR","Primary","JE_Override",null,2230,"Accrued Vacation","2230-Accrued Vacation","Liability"]
[null,null,null,null,null,null,"AC00088","Copyright Services Sal Support","AC00088-Copyright Services Sal Support","Activity","FD03","Active","2025-01-02T03:05:29.866",null,"SC0102","Annual Flexible Budget (Budget Only)","SC0102-Annual Flexible Budget (Budget Only)","Spend Category","Active",null,null,"00940","Matt Imbler","00940-Matt Imbler",null,null,null,"AS014451246","Tim Smith (014451246) Athletics - Sports Camps","AS014451246-Tim Smith (014451246) Athletics - Sports Camps","Active",null,null,null,null,null,null,"2300","Deposits Payable","2300-Deposits Payable","Liability",null,"BK1054","BK1054||1003","1003","Cash EUR","Primary","JE_Override",null,2300,"Deposits Payable","2300-Deposits Payable","Liability"]
[null,null,null,null,null,null,"AC00089","Creative Works","AC00089-Creative Works","Activity","FD03","Active","2025-01-02T03:05:29.866",null,"SC0103","Budget Unallocated (Budget Only)","SC0103-Budget Unallocated (Budget Only)","Spend Category","Active",null,null,"00942","Jeff Wilks","00942-Jeff Wilks",null,null,null,"AS014567267","Darcy Christensen (014567267) Retail Services - Product Acquisition","AS014567267-Darcy Christensen (014567267) Retail Services - Product Acquisition","Active",null,null,null,null,null,null,"2400","Annuities Payable","2400-Annuities Payable","Liability",null,"BK1055","BK1055||1003","1003","Cash EUR","Primary","JE_Override",null,2400,"Annuities Payable","2400-Annuities Payable","Liability"]
[null,null,null,null,null,null,"AC00090","CW Catalog","AC00090-CW Catalog","Activity","FD03","Active","2025-01-02T03:05:29.866",null,"SC0104","Research Carryover (Budget Only)","SC0104-Research Carryover (Budget Only)","Spend Category","Active",null,null,"00943","Michael Searcy","00943-Michael Searcy",null,null,null,"AS014746000","David Morgan (014746000) Fine Arts & Communications - Dean's Office","AS014746000-David Morgan (014746000) Fine Arts & Communications - Dean's Office","Active",null,null,null,null,null,null,"2491","Inter-Company Receivable/Payable","2491-Inter-Company Receivable/Payable","Liability",null,"RC1230","RC1230||1230","1230","Church Receivable",null,"All",null,2491,"Inter-Company Receivable/Payable","2491-Inter-Company Receivable/Payable","Liability"]
[null,null,null,null,null,null,"AC00091","BYU Store Catalog Sales","AC00091-BYU Store Catalog Sales","Activity","FD03","Active","2025-01-02T03:05:29.866",null,"SC0610","Materials and Supplies (Budget Only)","SC0610-Materials and Supplies (Budget Only)","Spend Category","Active",null,null,"00945","Melanie von Bose","00945-Melanie von Bose",null,null,null,"AS014924130","Katie Gneiting (014924130) Computer Science","AS014924130-Katie Gneiting (014924130) Computer Science","Active",null,null,null,null,null,null,"2492","Inter-Worktag Receivable/Payable","2492-Inter-Worktag Receivable/Payable","Liability",null,"RC1290","RC1290||1290","1290","Clearing-Receivable","Primary","All",null,2492,"Inter-Worktag Receivable/Payable","2492-Inter-Worktag Receivable/Payable","Liability"]
[null,null,null,null,null,null,"AC00092","CW Clearance","AC00092-CW Clearance","Activity","FD03","Active","2025-01-02T03:05:29.866",null,"SC0630","Student Aid (Budget Only)","SC0630-Student Aid (Budget Only)","Spend Category","Active",null,null,"00950","Holly Madsen","00950-Holly Madsen",null,null,null,"AS014932898","Patty Jones (014932898) School of Music - Financial Support","AS014932898-Patty Jones (014932898) School of Music - Financial Support","Active",null,null,null,null,null,null,"2500","Notes Payable","2500-Notes Payable","Liability",null,"RC1298","RC1298||1299","1299","Account/Note Rec Reserve","Primary","All",null,2500,"Notes Payable","2500-Notes Payable","Liability"]
[null,null,null,null,null,null,"AC00093","Tech Transfer Operations","AC00093-Tech Transfer Operations","Activity","FD03","Active","2025-01-02T03:05:29.866",null,"SC0640","General and Administrative (Budget Only)","SC0640-General and Administrative (Budget Only)","Spend Category","Active",null,null,"00959","Paul Stavast","00959-Paul Stavast",null,null,null,"AS014999341","Darren Hawkins (014999341) FHSS - Dean's Office","AS014999341-Darren Hawkins (014999341) FHSS - Dean's Office","Active",null,null,null,null,null,null,"2510","Notes Payable - Church","2510-Notes Payable - Church","Liability",null,"RC4001","RC4001||2600","2600","Deferred Revenue",null,"All",null,2510,"Notes Payable - Church","2510-Notes Payable - Church","Liability"]
[null,null,null,null,null,null,"AC00094","Royalties-Administration","AC00094-Royalties-Administration","Activity","FD03","Active","2025-01-02T03:05:29.866",null,"SC0670","Physical Facilities (Budget Only)","SC0670-Physical Facilities (Budget Only)","Spend Category","Active",null,null,"00961","Cindy Brightenburg","00961-Cindy Brightenburg",null,null,null,"AS015304960","Lorelie Sander (015304960) CE Large Programs","AS015304960-Lorelie Sander (015304960) CE Large Programs","Active",null,null,null,null,null,null,"2550","Lease Liability","2550-Lease Liability","Liability",null,"RC4001","RC4001||4000","4000","Appropriations","Primary","All",null,2550,"Lease Liability","2550-Lease Liability","Liability"]
[null,null,null,null,null,null,"AC00095","Technology Transfer","AC00095-Technology Transfer","Activity","FD03","Active","2025-01-02T03:05:29.866",null,"SC0691","Equipment (Budget Only)","SC0691-Equipment (Budget Only)","Spend Category","Active",null,null,"00966","Curtis Isaak","00966-Curtis Isaak",null,null,null,"AS015995395","Tim Barlow (015995395) Concessions","AS015995395-Tim Barlow (015995395) Concessions","Active",null,null,null,null,null,null,"2600","Deferred Revenue","2600-Deferred Revenue","Liability",null,"RC4002","RC4002||2600","2600","Deferred Revenue",null,"All",null,2600,"Deferred Revenue","2600-Deferred Revenue","Liability"]
[null,null,null,null,null,null,"AC00096","[AVP] Centralized Animal Care","AC00096-[AVP] Centralized Animal Care","Activity","FD02","Active","2025-01-08T03:04:37.01015+00:00",null,"SC0692","Converted Equipment (Budget Only)","SC0692-Converted Equipment (Budget Only)","Spend Category","Active",null,null,"00969","Arlene Cleverley","00969-Arlene Cleverley",null,null,null,"AS015996884","Jacob Gibb (015996884) Athletics - Creative Strategy - Graphic Design","AS015996884-Jacob Gibb (015996884) Athletics - Creative Strategy - Graphic Design","Active",null,null,null,null,null,null,"2700","Retire Postretire Benefit Obligation","2700-Retire Postretire Benefit Obligation","Liability",null,"RC4002","RC4002||4000","4000","Appropriations","Primary","All",null,2700,"Retire Postretire Benefit Obligation","2700-Retire Postretire Benefit Obligation","Liability"]
[null,null,null,null,null,null,"AC00097","Faculty Moving","AC00097-Faculty Moving","Activity","FD01","Active","2025-01-02T03:05:29.866",null,"SC0693","Equipment Maintenance (Budget Only)","SC0693-Equipment Maintenance (Budget Only)","Spend Category","Active",null,null,"00974","Tammy Miner","00974-Tammy Miner",null,null,null,"AS016014282","Mary Chapman (016014282) Lee Library Administration - Research & Learning","AS016014282-Mary Chapman (016014282) Lee Library Administration - Research & Learning","Active",null,null,null,null,null,null,"2710","Deferred Tax Liability","2710-Deferred Tax Liability","Liability",null,"RC4101","RC4101||2600","2600","Deferred Revenue",null,"All",null,2710,"Deferred Tax Liability","2710-Deferred Tax Liability","Liability"]
[null,null,null,null,null,null,"AC00098","Faculty Recruitment","AC00098-Faculty Recruitment","Activity","FD01","Active","2025-01-02T03:05:29.866",null,"SC0694","Software (Budget Only)","SC0694-Software (Budget Only)","Spend Category","Active",null,null,"00975","Cheri Koford","00975-Cheri Koford",null,null,null,"AS016499569","Cecilia Peek (016499569) Kennedy International Center","AS016499569-Cecilia Peek (016499569) Kennedy International Center","Active",null,null,null,null,null,null,"3400","Net Assets (prior year)","3400-Net Assets (prior year)","Equity",null,"RC4101","RC4101||4100","4100","Tuition and Fees","Primary","All",null,3400,"Net Assets (prior year)","3400-Net Assets (prior year)","Equity"]
[null,null,null,null,null,null,"AC00099","Forums","AC00099-Forums","Activity","FD01","Active","2025-01-02T03:05:29.866",null,"SC0695","Converted Software (Budget Only)","SC0695-Converted Software (Budget Only)","Spend Category","Active",null,null,"00979","Erin Rowan","00979-Erin Rowan",null,null,null,"AS016528162","Craig Cozzens (016528162) PF Grounds - Site & Landscape Construction","AS016528162-Craig Cozzens (016528162) PF Grounds - Site & Landscape Construction","Active",null,null,null,null,null,null,"3500","Net Assets","3500-Net Assets","Equity",null,"RC4102","RC4102||2600","2600","Deferred Revenue",null,"All",null,3500,"Net Assets","3500-Net Assets","Equity"]
[null,null,null,null,null,null,"AC00100","Advisor Prof Dev Committee","AC00100-Advisor Prof Dev Committee","Activity","FD01","Active","2025-01-02T03:05:29.866",null,"SC0696","Library Content (Budget Only)","SC0696-Library Content (Budget Only)","Spend Category","Active",null,null,"00986","Rob Holcombe","00986-Rob Holcombe",null,null,null,"AS016720648","Lemikki Westlund (016720648) OIT Core - Finance","AS016720648-Lemikki Westlund (016720648) OIT Core - Finance","Active",null,null,null,null,null,null,"3600","Net Assets-Reserve","3600-Net Assets-Reserve","Equity",null,"RC4102","RC4102||4100","4100","Tuition and Fees","Primary","All",null,3600,"Net Assets-Reserve","3600-Net Assets-Reserve","Equity"]
[null,null,null,null,null,null,"AC00101","Center for Teaching & Learning","AC00101-Center for Teaching & Learning","Activity","FD02","Active","2025-01-02T03:05:29.866",null,"SC0697","Converted Library Content (Budget Only)","SC0697-Converted Library Content (Budget Only)","Spend Category","Active",null,null,"00987","Jennefer Johnson","00987-Jennefer Johnson",null,null,null,"AS017093289","Patti Freeman (017093289) MSB - Dean's Office, Marriott School of Business","AS017093289-Patti Freeman (017093289) MSB - Dean's Office, Marriott School of Business","Active",null,null,null,null,null,null,"3609","Net Assets (Reserve Offset)","3609-Net Assets (Reserve Offset)","Equity",null,"RC4103","RC4103||2600","2600","Deferred Revenue",null,"All",null,3609,"Net Assets (Reserve Offset)","3609-Net Assets (Reserve Offset)","Equity"]
[null,null,null,null,null,null,"AC00102","Testing Services","AC00102-Testing Services","Activity","FD01","Active","2025-01-02T03:05:29.866",null,"SC1055","Gift Cards","SC1055-Gift Cards","Spend Category","Active",null,null,"00989","Ben McKinnon","00989-Ben McKinnon",null,null,null,"AS017161511","Luke Penrod (017161511) Concessions","AS017161511-Luke Penrod (017161511) Concessions","Active",null,null,null,null,null,null,"3670","Retirement Benefits Adjustment","3670-Retirement Benefits Adjustment","Equity",null,"RC4103","RC4103||4100","4100","Tuition and Fees","Primary","All",null,3670,"Retirement Benefits Adjustment","3670-Retirement Benefits Adjustment","Equity"]
[null,null,null,null,null,null,"AC00103","Exp Learning and Intern","AC00103-Exp Learning and Intern","Activity","FD01","Active","2025-01-02T03:05:29.866",null,"SC1218","Utah Sales Tax","SC1218-Utah Sales Tax","Spend Category","Active",null,null,"00990","Jessica Roberts","00990-Jessica Roberts",null,null,null,"AS017418640","Jamie Hansen (017418640) Lee Library - Research & Learning","AS017418640-Jamie Hansen (017418640) Lee Library - Research & Learning","Active",null,null,null,null,null,null,"3680","Cumulative Translation Adjustment","3680-Cumulative Translation Adjustment","Equity",null,"RC4104","RC4104||2600","2600","Deferred Revenue",null,"All",null,3680,"Cumulative Translation Adjustment","3680-Cumulative Translation Adjustment","Equity"]
[null,null,null,null,null,null,"AC00104","STEM Fair","AC00104-STEM Fair","Activity","FD02","Active","2025-01-02T03:05:29.866",null,"SC1290","MFC Refunds","SC1290-MFC Refunds","Spend Category","Active",null,null,"00992","Becky Lueck/SL Center","00992-Becky Lueck/SL Center",null,null,null,"AS017661858","Brandon Mitchell (017661858) HS General Medicine","AS017661858-Brandon Mitchell (017661858) HS General Medicine","Active",null,null,null,null,null,null,"3690","Net Assets (Proj Conv P&L)","3690-Net Assets (Proj Conv P&L)","Equity",null,"RC4104","RC4104||4100","4100","Tuition and Fees","Primary","All",null,3690,"Net Assets (Proj Conv P&L)","3690-Net Assets (Proj Conv P&L)","Equity"]
[null,null,null,null,null,null,"AC00105","Career Fair","AC00105-Career Fair","Activity","FD02","Active","2025-01-02T03:05:29.866",null,"SC1300","Inventory - Workday","SC1300-Inventory - Workday","Spend Category","Active",null,null,"00ESA","Economic Student Association","00ESA-Economic Student Association",null,null,null,"AS017918284","Zack Beddoes (017918284) MSE - Dean's Office, McKay School of Education","AS017918284-Zack Beddoes (017918284) MSE - Dean's Office, McKay School of Education","Active",null,null,null,null,null,null,"4000","Appropriations","4000-Appropriations","Income",null,"RC4110","RC4110||2600","2600","Deferred Revenue",null,"All",null,4000,"Appropriations","4000-Appropriations","Income"]
[null,null,null,null,null,null,"AC00106","Career  Programs","AC00106-Career  Programs","Activity","FD03","Active","2025-01-02T03:05:29.942",null,"SC1310","Inventory - Campus Subsystems","SC1310-Inventory - Campus Subsystems","Spend Category","Active",null,null,"00GAS","Gas Cylinders","00GAS-Gas Cylinders",null,null,null,"AS018009477","Anthony Schaefer (018009477) CMS - Dean's Office Computational, Mathematical, & Phsical","AS018009477-Anthony Schaefer (018009477) CMS - Dean's Office Computational, Mathematical, & Phsical","Active",null,null,null,null,null,null,"4100","Tuition and Fees","4100-Tuition and Fees","Income",null,"RC4110","RC4110||4100","4100","Tuition and Fees","Primary","All",null,4100,"Tuition and Fees","4100-Tuition and Fees","Income"]
[null,null,null,null,null,null,"AC00107","Alcuin Awards","AC00107-Alcuin Awards","Activity","FD01","Active","2025-01-02T03:05:29.942",null,"SC1420","Other Assets","SC1420-Other Assets","Spend Category","Active",null,null,"00I20","I-20 International Students","00I20-I-20 International Students",null,null,null,"AS018010965","Val Anderson (018010965) Life Sciences - Dean's Office","AS018010965-Val Anderson (018010965) Life Sciences - Dean's Office","Active",null,null,null,null,null,null,"4198","Tuition and Fees (Contra)","4198-Tuition and Fees (Contra)","Income",null,"RC4111","RC4111||2600","2600","Deferred Revenue",null,"All",null,4198,"Tuition and Fees (Contra)","4198-Tuition and Fees (Contra)","Income"]
[null,null,null,null,null,null,"AC00108","Natl Scholar Fellow & Progs","AC00108-Natl Scholar Fellow & Progs","Activity","FD01","Active","2025-01-02T03:05:29.942",null,"SC1600","Land","SC1600-Land","Spend Category","Active",null,null,"01001","Vending Room","01001-Vending Room",null,null,null,"AS018019821","Taylor Nadauld (018019821) Academic VP Office, Deans","AS018019821-Taylor Nadauld (018019821) Academic VP Office, Deans","Active",null,null,null,null,null,null,"4200","Gifts and Grants","4200-Gifts and Grants","Income",null,"RC4111","RC4111||4100","4100","Tuition and Fees","Primary","All",null,4200,"Gifts and Grants","4200-Gifts and Grants","Income"]
[null,null,null,null,null,null,"AC00109","UE Communications","AC00109-UE Communications","Activity","FD01","Active","2025-01-02T03:05:29.942",null,"SC1605","Buildings","SC1605-Buildings","Spend Category","Active",null,null,"01003","Vending Machines","01003-Vending Machines",null,null,null,"AS018372900","Haley Dunkley (018372900) IT Services","AS018372900-Haley Dunkley (018372900) IT Services","Active",null,null,null,null,null,null,"4300","Investment Income","4300-Investment Income","Income",null,"RC4112","RC4112||2600","2600","Deferred Revenue",null,"All",null,4300,"Investment Income","4300-Investment Income","Income"]
[null,null,null,null,null,null,"AC00110","PES Phi Eta Sigma","AC00110-PES Phi Eta Sigma","Activity","FD02","Active","2025-01-02T03:05:29.942",null,"SC1615","Other Improvments","SC1615-Other Improvments","Spend Category","Active",null,null,"01004","Shannon Sanders","01004-Shannon Sanders",null,null,null,"AS018408225","Tegwyn Ellingson (018408225) PF Grounds & Landscape Management","AS018408225-Tegwyn Ellingson (018408225) PF Grounds & Landscape Management","Active",null,null,null,null,null,null,"4310","Investment Gains and Losses","4310-Investment Gains and Losses","Income",null,"RC4112","RC4112||4100","4100","Tuition and Fees","Primary","All",null,4310,"Investment Gains and Losses","4310-Investment Gains and Losses","Income"]
[null,null,null,null,null,null,"AC00111","Phi Kappa Phi","AC00111-Phi Kappa Phi","Activity","FD02","Active","2025-01-02T03:05:29.942",null,"SC1635","Misc Capital Assets","SC1635-Misc Capital Assets","Spend Category","Active",null,null,"01005","Roma Hardy","01005-Roma Hardy",null,null,null,"AS018542884","Melissa Larson (018542884) MSB - Dean's Office, Marriott School of Business","AS018542884-Melissa Larson (018542884) MSB - Dean's Office, Marriott School of Business","Active",null,null,null,null,null,null,"4400","Sale of Services","4400-Sale of Services","Income",null,"RC4113","RC4113||2600","2600","Deferred Revenue",null,"All",null,4400,"Sale of Services","4400-Sale of Services","Income"]
[null,null,null,null,null,null,"AC00112","Golden Key Intl Honor Society","AC00112-Golden Key Intl Honor Society","Activity","FD02","Active","2025-01-02T03:05:29.942",null,"SC2010","Procurement Card Payable","SC2010-Procurement Card Payable","Spend Category","Active",null,null,"01016","Daniel Niu","01016-Daniel Niu",null,null,null,"AS018545473","John Adams (018545473) Museum of Art - Financial Support","AS018545473-John Adams (018545473) Museum of Art - Financial Support","Active",null,null,null,null,null,null,"4500","Sale of Goods","4500-Sale of Goods","Income",null,"RC4113","RC4113||4100","4100","Tuition and Fees","Primary","All",null,4500,"Sale of Goods","4500-Sale of Goods","Income"]
[null,null,null,null,null,null,"AC00113","Student/Faculty Mentoring","AC00113-Student/Faculty Mentoring","Activity","FD03","Active","2025-01-02T03:05:29.942",null,"SC2011","Virtual Card Payable","SC2011-Virtual Card Payable","Spend Category","Active",null,null,"01032","Jolene Johnson","01032-Jolene Johnson",null,null,null,"AS018613633","Veeren Chengalaram (018613633) Catering Services","AS018613633-Veeren Chengalaram (018613633) Catering Services","Active",null,null,null,null,null,null,"4700","Other Income","4700-Other Income","Income",null,"RC4114","RC4114||2600","2600","Deferred Revenue",null,"All",null,4700,"Other Income","4700-Other Income","Income"]
[null,null,null,null,null,null,"AC00114","First Year Experience","AC00114-First Year Experience","Activity","FD01","Active","2025-01-02T03:05:29.942",null,"SC2020","Other and Retainages Payable","SC2020-Other and Retainages Payable","Spend Category","Active",null,null,"01055","Carrie Scoresby","01055-Carrie Scoresby",null,null,null,"AS018757946","Cindy Brewer (018757946) Humanities - Dean's Office","AS018757946-Cindy Brewer (018757946) Humanities - Dean's Office","Active",null,null,null,null,null,null,"4780","Inter-Company Contribution Revenue","4780-Inter-Company Contribution Revenue","Income",null,"RC4114","RC4114||4100","4100","Tuition and Fees","Primary","All",null,4780,"Inter-Company Contribution Revenue","4780-Inter-Company Contribution Revenue","Income"]
[null,null,null,null,null,null,"AC00115","Freshman Year NSO","AC00115-Freshman Year NSO","Activity","FD02","Active","2025-01-02T03:05:29.942",null,"SC2021","Escheatment Expense","SC2021-Escheatment Expense","Spend Category","Active",null,null,"01058","Nick Hawkins","01058-Nick Hawkins",null,null,null,"AS018762637","Ransford Sorensen (018762637) PF Moving, Receiving, & Office Furniture","AS018762637-Ransford Sorensen (018762637) PF Moving, Receiving, & Office Furniture","Active",null,null,null,null,null,null,"4800","Intra-Division Sales","4800-Intra-Division Sales","Income",null,"RC4115","RC4115||2600","2600","Deferred Revenue",null,"All",null,4800,"Intra-Division Sales","4800-Intra-Division Sales","Income"]
[null,null,null,null,null,null,"AC00116","New Student Orientation - All","AC00116-New Student Orientation - All","Activity","FD03","Active","2025-01-02T03:05:29.942",null,"SC2030","Other Payroll Deducts Payable","SC2030-Other Payroll Deducts Payable","Spend Category","Active",null,null,"01059","Mark Ormsby","01059-Mark Ormsby",null,null,null,"AS018943446","Pedro Fernandez (018943446) Culinary Support Center","AS018943446-Pedro Fernandez (018943446) Culinary Support Center","Active",null,null,null,null,null,null,"4850","Intra-Division Purchases","4850-Intra-Division Purchases","Income",null,"RC4115","RC4115||4100","4100","Tuition and Fees","Primary","All",null,4850,"Intra-Division Purchases","4850-Intra-Division Purchases","Income"]
[null,null,null,null,null,null,"AC00118","General Education","AC00118-General Education","Activity","FD01","Active","2025-01-02T03:05:29.942",null,"SC2031","Garnishments","SC2031-Garnishments","Spend Category","Active",null,null,"01061","Mandi Johnson","01061-Mandi Johnson",null,null,null,"AS018999930","Kelly Taylor (018999930) OIT Portfolio - Business, Finance, & HR","AS018999930-Kelly Taylor (018999930) OIT Portfolio - Business, Finance, & HR","Active",null,null,null,null,null,null,"4890","Release of Restrictions","4890-Release of Restrictions","Income",null,"RC4116","RC4116||4100","4100","Tuition and Fees","Primary","All",null,4890,"Release of Restrictions","4890-Release of Restrictions","Income"]
[null,null,null,null,null,null,"AC00119","Honors","AC00119-Honors","Activity","FD01","Active","2025-01-02T03:05:29.942",null,"SC2032","Employee Passthrough Donations","SC2032-Employee Passthrough Donations","Spend Category","Active",null,null,"01076","Nieves Knapp","01076-Nieves Knapp",null,null,null,"AS019164465","Blake Peterson (019164465) CMS - Dean's Office Computational, Mathematical, & Phsical","AS019164465-Blake Peterson (019164465) CMS - Dean's Office Computational, Mathematical, & Phsical","Active",null,null,null,null,null,null,"4900","Cost of Sales","4900-Cost of Sales","Expense",null,"RC4117","RC4117||2600","2600","Deferred Revenue",null,"All",null,4900,"Cost of Sales","4900-Cost of Sales","Expense"]
[null,null,null,null,null,null,"AC00120","Honors Advisement","AC00120-Honors Advisement","Activity","FD01","Active","2025-01-02T03:05:29.942",null,"SC2033","FICA Offset/Recollect","SC2033-FICA Offset/Recollect","Spend Category","Active",null,null,"01089","Rick Miller","01089-Rick Miller",null,null,null,"AS019343441","Heidi Engh (019343441) Academic Advisement Center","AS019343441-Heidi Engh (019343441) Academic Advisement Center","Active",null,null,null,null,null,null,"5000","Salaries and Wages","5000-Salaries and Wages","Expense",null,"RC4117","RC4117||4100","4100","Tuition and Fees","Primary","All",null,5000,"Salaries and Wages","5000-Salaries and Wages","Expense"]
[null,null,null,null,null,null,"AC00121","Library Departments","AC00121-Library Departments","Activity","FD01","Active","2025-01-02T03:05:29.942",null,"SC2090","Clearing-Accounts Payable","SC2090-Clearing-Accounts Payable","Spend Category","Active",null,null,"01102","Renata Forste","01102-Renata Forste",null,null,null,"AS019488149","Anna Khorenko (019488149) Wilkinson Center","AS019488149-Anna Khorenko (019488149) Wilkinson Center","Active",null,null,null,null,null,null,"5800","Project Labor Cost","5800-Project Labor Cost","Expense",null,"RC4199","RC4199||2600","2600","Deferred Revenue",null,"All",null,5800,"Project Labor Cost","5800-Project Labor Cost","Expense"]
[null,null,null,null,null,null,"AC00122","Business Office","AC00122-Business Office","Activity","FD01","Active","2025-01-02T03:05:29.942",null,"SC2100","FICA Payable","SC2100-FICA Payable","Spend Category","Active",null,null,"01116","Judy Stoudt","01116-Judy Stoudt",null,null,null,"AS019681629","Ben Beck (019681629) MSB - Dean's Office, Marriott School of Business","AS019681629-Ben Beck (019681629) MSB - Dean's Office, Marriott School of Business","Active",null,null,null,null,null,null,"5801","Project Labor Cost Recovery","5801-Project Labor Cost Recovery","Expense",null,"RC4199","RC4199||4100","4100","Tuition and Fees","Primary","All",null,5801,"Project Labor Cost Recovery","5801-Project Labor Cost Recovery","Expense"]
[null,null,null,null,null,null,"AC00123","LAO Secretaries/Events","AC00123-LAO Secretaries/Events","Activity","FD01","Active","2025-01-02T03:05:29.942",null,"SC2105","Federal Withholding Payable","SC2105-Federal Withholding Payable","Spend Category","Active",null,null,"01122","David A. Wood","01122-David A. Wood",null,null,null,"AS019738012","Timothy Gubler (019738012) MSB - Dean's Office, Marriott School of Business","AS019738012-Timothy Gubler (019738012) MSB - Dean's Office, Marriott School of Business","Active",null,null,null,null,null,null,"5900","Benefits","5900-Benefits","Expense",null,"RC4201","RC4201||4200","4200","Gifts and Grants","Primary","JE_Gift|JE_Override",null,5900,"Benefits","5900-Benefits","Expense"]
[null,null,null,null,null,null,"AC00124","Student Library Association","AC00124-Student Library Association","Activity","FD02","Active","2025-01-02T03:05:29.942",null,"SC2110","State Payroll Taxes Payable","SC2110-State Payroll Taxes Payable","Spend Category","Active",null,null,"01124","Michael Larson","01124-Michael Larson",null,null,null,"AS019877473","Jonathan Pike (019877473) Wheatley Institute - Student Programs","AS019877473-Jonathan Pike (019877473) Wheatley Institute - Student Programs","Active",null,null,null,null,null,null,"6100","Materials and Supplies","6100-Materials and Supplies","Expense",null,"RC4202","RC4202||4200","4200","Gifts and Grants","Primary","JE_Gift|JE_Override",null,6100,"Materials and Supplies","6100-Materials and Supplies","Expense"]
[null,null,null,null,null,null,"AC00125","NDLTD","AC00125-NDLTD","Activity","FD02","Active","2025-01-02T03:05:29.942",null,"SC2130","Sales Tax Payable - Utah","SC2130-Sales Tax Payable - Utah","Spend Category","Active",null,null,"01128","Jennifer Johnson","01128-Jennifer Johnson",null,null,null,"AS019877600","Brandt Redd (019877600) College of Engineering - Dean's Office","AS019877600-Brandt Redd (019877600) College of Engineering - Dean's Office","Active",null,null,null,null,null,null,"6300","Student Aid","6300-Student Aid","Expense",null,"RC4203","RC4203||4200","4200","Gifts and Grants","Primary","JE_Gift|JE_Override",null,6300,"Student Aid","6300-Student Aid","Expense"]
[null,null,null,null,null,null,"AC00126","Library Royalties","AC00126-Library Royalties","Activity","FD03","Active","2025-01-02T03:05:29.942",null,"SC2132","Sales Tax Payable - Other States","SC2132-Sales Tax Payable - Other States","Spend Category","Active",null,null,"01139","Ty Hopkins","01139-Ty Hopkins",null,null,null,"AS019967479","Laura Hinton (019967479) Registrar's Office","AS019967479-Laura Hinton (019967479) Registrar's Office","Active",null,null,null,null,null,null,"6400","General and Administrative","6400-General and Administrative","Expense",null,"RC4204","RC4204||4200","4200","Gifts and Grants","Primary","All",null,6400,"General and Administrative","6400-General and Administrative","Expense"]
[null,null,null,null,null,null,"AC00128","Library Experiental Learning","AC00128-Library Experiental Learning","Activity","FD03","Active","2025-01-02T03:05:29.942",null,"SC2140","Property Tax Payable","SC2140-Property Tax Payable","Spend Category","Active",null,null,"01150","Julianne Holt-Lunstad","01150-Julianne Holt-Lunstad",null,null,null,"AS019990215","Rachel Friel (019990215) Athletics - Men's and Women's Swimming","AS019990215-Rachel Friel (019990215) Athletics - Men's and Women's Swimming","Active",null,null,null,null,null,null,"6498","General and Administrative (Contra)","6498-General and Administrative (Contra)","Expense",null,"RC4299","RC4299||4200","4200","Gifts and Grants","Primary","All",null,6498,"General and Administrative (Contra)","6498-General and Administrative (Contra)","Expense"]
[null,null,null,null,null,null,"AC00129","Exhibits","AC00129-Exhibits","Activity","FD01","Active","2025-01-02T03:05:29.942",null,"SC2150","UBIT Payable","SC2150-UBIT Payable","Spend Category","Active",null,null,"01168","David Nelson/Malaysia","01168-David Nelson/Malaysia",null,null,null,"AS020236009","Rick Johnson (020236009) Office of Research Computing","AS020236009-Rick Johnson (020236009) Office of Research Computing","Active",null,null,null,null,null,null,"6600","Interest Expense","6600-Interest Expense","Expense",null,"RC4301","RC4301||4300","4300","Investment Income","Primary","All",null,6600,"Interest Expense","6600-Interest Expense","Expense"]
[null,null,null,null,null,null,"AC00130","Cataloging Spec. Collections","AC00130-Cataloging Spec. Collections","Activity","FD01","Active","2025-01-02T03:05:29.942",null,"SC2160","Other Taxes Payable","SC2160-Other Taxes Payable","Spend Category","Active",null,null,"01172","Jared Warren","01172-Jared Warren",null,null,null,"AS020370344","Melissa Puente (020370344) BYU Broadcasting - Producers Group","AS020370344-Melissa Puente (020370344) BYU Broadcasting - Producers Group","Active",null,null,null,null,null,null,"6700","Physical Facilities","6700-Physical Facilities","Expense",null,"RC4302","RC4302||4300","4300","Investment Income","Primary","All",null,6700,"Physical Facilities","6700-Physical Facilities","Expense"]
[null,null,null,null,null,null,"AC00131","Archival Processing Section","AC00131-Archival Processing Section","Activity","FD01","Active","2025-01-02T03:05:29.942",null,"SC2200","Accrued Liabilities (Conversion Only)","SC2200-Accrued Liabilities (Conversion Only)","Spend Category","Active",null,null,"01176","Monte Swain","01176-Monte Swain",null,null,null,"AS020525807","Bonnie Anderson (020525807) Academic VP Office, Deans","AS020525807-Bonnie Anderson (020525807) Academic VP Office, Deans","Active",null,null,null,null,null,null,"6900","Equipment, Software, Library","6900-Equipment, Software, Library","Expense",null,"RC4311","RC4311||4310","4310","Investment Gains and Losses","Primary","All",null,6900,"Equipment, Software, Library","6900-Equipment, Software, Library","Expense"]
[null,null,null,null,null,null,"AC00133","Tech.Supplies & Access Devices","AC00133-Tech.Supplies & Access Devices","Activity","FD01","Active","2025-01-02T03:05:29.942",null,"SC2300","Deposits Payable","SC2300-Deposits Payable","Spend Category","Active",null,null,"01189","Benjamin Gibbs","01189-Benjamin Gibbs",null,null,null,"AS020644133","Mike Montague (020644133) PF Building Operations","AS020644133-Mike Montague (020644133) PF Building Operations","Active",null,null,null,null,null,null,"7000","Travel","7000-Travel","Expense",null,"RC4312","RC4312||4310","4310","Investment Gains and Losses","Primary","All",null,7000,"Travel","7000-Travel","Expense"]
[null,null,null,null,null,null,"AC00134","Library Printing","AC00134-Library Printing","Activity","FD02","Active","2025-01-02T03:05:29.942",null,"SC2400","Annuities Payable","SC2400-Annuities Payable","Spend Category","Active",null,null,"01194","Andrew Ludlow","01194-Andrew Ludlow",null,null,null,"AS020830771","Christopher Blythe (020830771) Humanities - Dean's Office","AS020830771-Christopher Blythe (020830771) Humanities - Dean's Office","Active",null,null,null,null,null,null,"8000","Depreciation","8000-Depreciation","Expense",null,"RC4313","RC4313||4310","4310","Investment Gains and Losses","Primary","All",null,8000,"Depreciation","8000-Depreciation","Expense"]
[null,null,null,null,null,null,"AC00135","Journal of Western Archives","AC00135-Journal of Western Archives","Activity","FD02","Active","2025-01-02T03:05:29.942",null,"SC2500","Notes Payable","SC2500-Notes Payable","Spend Category","Active",null,null,"01195","Cami Cornia","01195-Cami Cornia",null,null,null,"AS021068280","Alana Tilley (021068280) BYU Broadcasting - Unit Production Manager Group","AS021068280-Alana Tilley (021068280) BYU Broadcasting - Unit Production Manager Group","Active",null,null,null,null,null,null,"9199","AM Offset Default","9199-AM Offset Default","Expense",null,"RC4401","RC4401||2600","2600","Deferred Revenue",null,"All",null,9199,"AM Offset Default","9199-AM Offset Default","Expense"]
[null,null,null,null,null,null,"AC00136","Music Book Sales","AC00136-Music Book Sales","Activity","FD02","Active","2025-01-02T03:05:29.942",null,"SC2510","Notes Payable - Church","SC2510-Notes Payable - Church","Spend Category","Active",null,null,"01197","Leslie Miles","01197-Leslie Miles",null,null,null,"AS021468034","Erika Price (021468034) BYU Broadcasting - BYUradio","AS021468034-Erika Price (021468034) BYU Broadcasting - BYUradio","Active",null,null,null,null,null,null,"9250","Funds Transfer","9250-Funds Transfer","Expense",null,"RC4401","RC4401||4400","4400","Sale of Services","Primary","All",null,9250,"Funds Transfer","9250-Funds Transfer","Expense"]
[null,null,null,null,null,null,"AC00137","Special Collections Income","AC00137-Special Collections Income","Activity","FD02","Active","2025-01-02T03:05:29.942",null,"SC4100","Tuition and Fees Refunds","SC4100-Tuition and Fees Refunds","Spend Category","Active",null,null,"01198","Kathryn Tucker[Kris Moretnsen]","01198-Kathryn Tucker[Kris Moretnsen]",null,null,null,"AS021523180","Bruce Patrick (021523180) Brand & Creative","AS021523180-Bruce Patrick (021523180) Brand & Creative","Active",null,null,null,null,null,null,"9780","Inter-Company Donation Expense","9780-Inter-Company Donation Expense","Expense",null,"RC4402","RC4402||4400","4400","Sale of Services","Primary","All",null,9780,"Inter-Company Donation Expense","9780-Inter-Company Donation Expense","Expense"]
[null,null,null,null,null,null,"AC00138","FMA - CD Series","AC00138-FMA - CD Series","Activity","FD02","Active","2025-01-02T03:05:29.942",null,"SC4901","Cost of Goods Sold","SC4901-Cost of Goods Sold","Spend Category","Active",null,null,"01200","Justin Harper","01200-Justin Harper",null,null,null,"AS021557994","Preston Manwaring (021557994) College of Engineering - Dean's Office","AS021557994-Preston Manwaring (021557994) College of Engineering - Dean's Office","Active",null,null,null,null,null,null,"9981","Next Year Estimated Payout","9981-Next Year Estimated Payout","Expense",null,"RC4403","RC4403||4400","4400","Sale of Services","Primary","All",null,9981,"Next Year Estimated Payout","9981-Next Year Estimated Payout","Expense"]
[null,null,null,null,null,null,"AC00139","FMA - Publisher Royalty Paymnt","AC00139-FMA - Publisher Royalty Paymnt","Activity","FD02","Active","2025-01-02T03:05:29.942",null,"SC4902","Inventory Adjustment","SC4902-Inventory Adjustment","Spend Category","Active",null,null,"01205","Jacob Hickman","01205-Jacob Hickman",null,null,null,"AS021718504","John Newman (021718504) Executive Chef","AS021718504-John Newman (021718504) Executive Chef","Active",null,null,null,null,null,null,"9990","SFAS 158 Annual Pension Adj","9990-SFAS 158 Annual Pension Adj","Expense",null,"RC4404","RC4404||2600","2600","Deferred Revenue",null,"All",null,9990,"SFAS 158 Annual Pension Adj","9990-SFAS 158 Annual Pension Adj","Expense"]
[null,null,null,null,null,null,"AC00143","Family History","AC00143-Family History","Activity","FD02","Active","2025-01-02T03:05:29.942",null,"SC4903","Freight-In","SC4903-Freight-In","Spend Category","Active",null,null,"01230","Doug Prawitt","01230-Doug Prawitt",null,null,null,"AS021769172","Andrew Roberts (021769172) Humanities Advisement & Careers","AS021769172-Andrew Roberts (021769172) Humanities Advisement & Careers","Active",null,null,null,null,null,null,"9996","Cash Conversion","9996-Cash Conversion","Expense",null,"RC4404","RC4404||4400","4400","Sale of Services","Primary","All",null,9996,"Cash Conversion","9996-Cash Conversion","Expense"]
[null,null,null,null,null,null,"AC00144","Children's Book Rev","AC00144-Children's Book Rev","Activity","FD02","Active","2025-01-02T03:05:29.942",null,"SC4904","Purchase Discounts Earned","SC4904-Purchase Discounts Earned","Spend Category","Active",null,null,"01233","Scott R Braithwaite","01233-Scott R Braithwaite",null,null,null,"AS022295621","Jared Parrotti (022295621) PF Central Heating Plant","AS022295621-Jared Parrotti (022295621) PF Central Heating Plant","Active",null,null,null,null,null,null,"9998","Inventory Conversion","9998-Inventory Conversion","Asset",null,"RC4405","RC4405||2600","2600","Deferred Revenue",null,"All",null,9998,"Inventory Conversion","9998-Inventory Conversion","Asset"]
[null,null,null,null,null,null,"AC00146","Information Literacy Award","AC00146-Information Literacy Award","Activity","FD03","Active","2025-01-02T03:05:29.942",null,"SC5000","Staff Exempt Salaries","SC5000-Staff Exempt Salaries","Spend Category","Active",null,null,"01238","William Tayler","01238-William Tayler",null,null,null,"AS022317019","Terryl Givens (022317019) AAVP, Faculty Development - Maxwell Institute","AS022317019-Terryl Givens (022317019) AAVP, Faculty Development - Maxwell Institute","Active",null,null,null,null,null,null,null,null,null,null,null,"RC4405","RC4405||4400","4400","Sale of Services","Primary","All"]
[null,null,null,null,null,null,"AC00149","Software Training","AC00149-Software Training","Activity","FD01","Active","2025-01-02T03:05:29.942",null,"SC5009","Staff Exempt Salaries (reclass)","SC5009-Staff Exempt Salaries (reclass)","Spend Category","Active",null,null,"01246","Petty Cash Broadcasting Expens","01246-Petty Cash Broadcasting Expens",null,null,null,"AS022937338","Albert Tay (022937338) College of Engineering - Dean's Office","AS022937338-Albert Tay (022937338) College of Engineering - Dean's Office","Active",null,null,null,null,null,null,null,null,null,null,null,"RC4406","RC4406||2600","2600","Deferred Revenue",null,"All"]
[null,null,null,null,null,null,"AC00150","Maker Space","AC00150-Maker Space","Activity","FD01","Active","2025-01-02T03:05:29.942",null,"SC5030","Staff Exempt Salaries (Overload)","SC5030-Staff Exempt Salaries (Overload)","Spend Category","Active",null,null,"01255","Craig Hart","01255-Craig Hart",null,null,null,"AS022988593","Osiris Buelvas Morelos (022988593) PF Building Operations","AS022988593-Osiris Buelvas Morelos (022988593) PF Building Operations","Active",null,null,null,null,null,null,null,null,null,null,null,"RC4406","RC4406||4400","4400","Sale of Services","Primary","All"]
[null,null,null,null,null,null,"AC00151","Media Production & Equip. Room","AC00151-Media Production & Equip. Room","Activity","FD01","Active","2025-01-02T03:05:29.942",null,"SC5100","Faculty Salaries","SC5100-Faculty Salaries","Spend Category","Active",null,null,"01256","Rebecca Lundwall","01256-Rebecca Lundwall",null,null,null,"AS023224089","Scott Lee (023224089) Meat Shop","AS023224089-Scott Lee (023224089) Meat Shop","Active",null,null,null,null,null,null,null,null,null,null,null,"RC4499","RC4499||2600","2600","Deferred Revenue",null,"All"]
[null,null,null,null,null,null,"AC00152","Media Production & Equip. Room","AC00152-Media Production & Equip. Room","Activity","FD02","Active","2025-01-02T03:05:29.942",null,"SC5109","Faculty Salaries (reclass)","SC5109-Faculty Salaries (reclass)","Spend Category","Active",null,null,"01262","Lora Cook","01262-Lora Cook",null,null,null,"AS023225392","Preston Back (023225392) University Tax Office","AS023225392-Preston Back (023225392) University Tax Office","Active",null,null,null,null,null,null,null,null,null,null,null,"RC4499","RC4499||4400","4400","Sale of Services","Primary","All"]
[null,null,null,null,null,null,"AC00154","Library Remodeling","AC00154-Library Remodeling","Activity","FD01","Active","2025-01-02T03:05:29.942",null,"SC5120","Faculty Spring Summer Salaries","SC5120-Faculty Spring Summer Salaries","Spend Category","Active",null,null,"01264","Richard West","01264-Richard West",null,null,null,"AS023429296","Kristene Gillum (023429296) Retail Services - General Administration","AS023429296-Kristene Gillum (023429296) Retail Services - General Administration","Active",null,null,null,null,null,null,null,null,null,null,null,"RC4501","RC4501||2600","2600","Deferred Revenue",null,"All"]
[null,null,null,null,null,null,"AC00156","Conservation","AC00156-Conservation","Activity","FD01","Active","2025-01-02T03:05:29.942",null,"SC5130","Faculty Salaries (Supplemental/Overload)","SC5130-Faculty Salaries (Supplemental/Overload)","Spend Category","Active",null,null,"01284","Anton Bowden","01284-Anton Bowden",null,null,null,"AS023653877","Brian Blumer (023653877) Academic VP Office, Deans","AS023653877-Brian Blumer (023653877) Academic VP Office, Deans","Active",null,null,null,null,null,null,null,null,null,null,null,"RC4501","RC4501||4500","4500","Sale of Goods","Primary","All"]
[null,null,null,null,null,null,"AC00157","Collections Mgmt-General","AC00157-Collections Mgmt-General","Activity","FD01","Active","2025-01-02T03:05:29.942",null,"SC5190","Post Doc Research Associate","SC5190-Post Doc Research Associate","Spend Category","Active",null,null,"01298","Ben Jenkins","01298-Ben Jenkins",null,null,null,"AS023754042","Korianne Johnson (023754042) Fine Arts & Communications - Dean's Office","AS023754042-Korianne Johnson (023754042) Fine Arts & Communications - Dean's Office","Active",null,null,null,null,null,null,null,null,null,null,null,"RC4502","RC4502||2600","2600","Deferred Revenue",null,"All"]
[null,null,null,null,null,null,"AC00158","Collections Mgmt-Special","AC00158-Collections Mgmt-Special","Activity","FD01","Active","2025-01-02T03:05:29.942",null,"SC5300","Faculty Adjunct Salaries","SC5300-Faculty Adjunct Salaries","Spend Category","Active",null,null,"01301","Teresa Harper","01301-Teresa Harper",null,null,null,"AS024217202","Jose Salmeron (024217202) Bindery Total","AS024217202-Jose Salmeron (024217202) Bindery Total","Active",null,null,null,null,null,null,null,null,null,null,null,"RC4502","RC4502||4500","4500","Sale of Goods","Primary","All"]
[null,null,null,null,null,null,"AC00159","Collections Mgmt-Auxiliary","AC00159-Collections Mgmt-Auxiliary","Activity","FD01","Active","2025-01-02T03:05:29.942",null,"SC5309","Faculty Adjunct Salaries (reclass)","SC5309-Faculty Adjunct Salaries (reclass)","Spend Category","Active",null,null,"01302","Terisa P Gabrielsen","01302-Terisa P Gabrielsen",null,null,null,"AS024233410","Jake Peterson (024233410) BYU Broadcasting - Unit Production Manager Group","AS024233410-Jake Peterson (024233410) BYU Broadcasting - Unit Production Manager Group","Active",null,null,null,null,null,null,null,null,null,null,null,"RC4503","RC4503||2600","2600","Deferred Revenue",null,"All"]
[null,null,null,null,null,null,"AC00160","Interlibrary Loan","AC00160-Interlibrary Loan","Activity","FD02","Active","2025-01-02T03:05:29.942",null,"SC5320","Faculty Adjunct Salaries - Part Benefits","SC5320-Faculty Adjunct Salaries - Part Benefits","Spend Category","Active",null,null,"01306","Kelly Bready","01306-Kelly Bready",null,null,null,"AS024253975","Kathryn Blair (024253975) Academic VP Office, Deans","AS024253975-Kathryn Blair (024253975) Academic VP Office, Deans","Active",null,null,null,null,null,null,null,null,null,null,null,"RC4503","RC4503||4500","4500","Sale of Goods","Primary","All"]
[null,null,null,null,null,null,"AC00162","Library Collections","AC00162-Library Collections","Activity","FD01","Active","2025-01-02T03:05:29.942",null,"SC5400","Staff Non-Exempt Wages","SC5400-Staff Non-Exempt Wages","Spend Category","Active",null,null,"01307","Marc Killpack","01307-Marc Killpack",null,null,null,"AS024362791","James Gaskin (024362791) MSB - Dean's Office, Marriott School of Business","AS024362791-James Gaskin (024362791) MSB - Dean's Office, Marriott School of Business","Active",null,null,null,null,null,null,null,null,null,null,null,"RC4504","RC4504||2600","2600","Deferred Revenue",null,"All"]
[null,null,null,null,null,null,"AC00163","Monographs","AC00163-Monographs","Activity","FD01","Active","2025-01-02T03:05:29.942",null,"SC5409","Staff Non-Exempt Wages (reclass)","SC5409-Staff Non-Exempt Wages (reclass)","Spend Category","Active",null,null,"01327","Lance Erickson","01327-Lance Erickson",null,null,null,"AS024539682","Chitral Chatterjee (024539682) CMS - Dean's Office Computational, Mathematical, & Phsical","AS024539682-Chitral Chatterjee (024539682) CMS - Dean's Office Computational, Mathematical, & Phsical","Active",null,null,null,null,null,null,null,null,null,null,null,"RC4504","RC4504||4500","4500","Sale of Goods","Primary","All"]
[null,null,null,null,null,null,"AC00164","Access Fees","AC00164-Access Fees","Activity","FD01","Active","2025-01-02T03:05:29.942",null,"SC5430","Staff Non-Exempt Wages (Overtime/Premium)","SC5430-Staff Non-Exempt Wages (Overtime/Premium)","Spend Category","Active",null,null,"01330","Amy Gabbitas","01330-Amy Gabbitas",null,null,null,"AS024690920","Amy Easton-Flake (024690920) Religious Educcation - Dean's Office","AS024690920-Amy Easton-Flake (024690920) Religious Educcation - Dean's Office","Active",null,null,null,null,null,null,null,null,null,null,null,"RC4505","RC4505||2600","2600","Deferred Revenue",null,"All"]
[null,null,null,null,null,null,"AC00165","E-Books","AC00165-E-Books","Activity","FD01","Active","2025-01-02T03:05:29.942",null,"SC5500","Student Contract Salaries","SC5500-Student Contract Salaries","Spend Category","Active",null,null,"01341","Chien-Ti Lee","01341-Chien-Ti Lee",null,null,null,"AS025101628","Corbin Emerick (025101628) Grants & Contracts Accounting","AS025101628-Corbin Emerick (025101628) Grants & Contracts Accounting","Active",null,null,null,null,null,null,null,null,null,null,null,"RC4505","RC4505||4500","4500","Sale of Goods","Primary","All"]
[null,null,null,null,null,null,"AC00166","Spec Coll.-Approval","AC00166-Spec Coll.-Approval","Activity","FD01","Active","2025-01-02T03:05:29.942",null,"SC5502","Student Contract Salaries-FICA","SC5502-Student Contract Salaries-FICA","Spend Category","Active",null,null,"01344","Daniel Kay","01344-Daniel Kay",null,null,null,"AS025389540","Jared Wilkey (025389540) Culinary Support Center","AS025389540-Jared Wilkey (025389540) Culinary Support Center","Active",null,null,null,null,null,null,null,null,null,null,null,"RC4506","RC4506||2600","2600","Deferred Revenue",null,"All"]
[null,null,null,null,null,null,"AC00167","Spec. Coll.-Standing Order","AC00167-Spec. Coll.-Standing Order","Activity","FD01","Active","2025-01-02T03:05:29.942",null,"SC5509","Student Contract Salaries (reclass)","SC5509-Student Contract Salaries (reclass)","Spend Category","Active",null,null,"01346","Scott Sanders","01346-Scott Sanders",null,null,null,"AS025510924","Jeff Hill (025510924) College of Engineering - Dean's Office","AS025510924-Jeff Hill (025510924) College of Engineering - Dean's Office","Active",null,null,null,null,null,null,null,null,null,null,null,"RC4506","RC4506||4500","4500","Sale of Goods","Primary","All"]
[null,null,null,null,null,null,"AC00168","Databases One-Time","AC00168-Databases One-Time","Activity","FD01","Active","2025-01-02T03:05:29.942",null,"SC5600","Student Hourly Wages","SC5600-Student Hourly Wages","Spend Category","Active",null,null,"01354","Aaron Miller","01354-Aaron Miller",null,null,null,"AS025583430","Douglas Walker (025583430) Dining Finance","AS025583430-Douglas Walker (025583430) Dining Finance","Active",null,null,null,null,null,null,null,null,null,null,null,"RC4507","RC4507||2600","2600","Deferred Revenue",null,"All"]
[null,null,null,null,null,null,"AC00169","Databases","AC00169-Databases","Activity","FD01","Active","2025-01-02T03:05:29.942",null,"SC5602","Student Hourly Wages-FICA","SC5602-Student Hourly Wages-FICA","Spend Category","Active",null,null,"01356","Alexis Davis","01356-Alexis Davis",null,null,null,"AS025767806","Peter Gardner (025767806) Brand & Creative","AS025767806-Peter Gardner (025767806) Brand & Creative","Active",null,null,null,null,null,null,null,null,null,null,null,"RC4507","RC4507||4500","4500","Sale of Goods","Primary","All"]
[null,null,null,null,null,null,"AC00170","Commercial Binding/Travel","AC00170-Commercial Binding/Travel","Activity","FD01","Active","2025-01-02T03:05:29.942",null,"SC5609","Student Hourly Wages (Reclass)","SC5609-Student Hourly Wages (Reclass)","Spend Category","Active",null,null,"01357","Shiegrid Hernandez","01357-Shiegrid Hernandez",null,null,null,"AS025827379","Brian Olson (025827379) Fine Arts & Communications - Dean's Office","AS025827379-Brian Olson (025827379) Fine Arts & Communications - Dean's Office","Active",null,null,null,null,null,null,null,null,null,null,null,"RC4599","RC4599||2600","2600","Deferred Revenue",null,"All"]
[null,null,null,null,null,null,"AC00171","Approval","AC00171-Approval","Activity","FD01","Active","2025-01-02T03:05:29.942",null,"SC5700","Part-time Wages - No Benefits","SC5700-Part-time Wages - No Benefits","Spend Category","Active",null,null,"01359","Karla Ward","01359-Karla Ward",null,null,null,"AS026423163","Andrea Richards (026423163) Dining Finance","AS026423163-Andrea Richards (026423163) Dining Finance","Active",null,null,null,null,null,null,null,null,null,null,null,"RC4599","RC4599||4500","4500","Sale of Goods","Primary","All"]
[null,null,null,null,null,null,"AC00172","Serials-Print","AC00172-Serials-Print","Activity","FD01","Active","2025-01-02T03:05:29.942",null,"SC5709","Part-time Wages (reclass)","SC5709-Part-time Wages (reclass)","Spend Category","Active",null,null,"01364","Christensen, McKay Scienc Fair","01364-Christensen, McKay Scienc Fair",null,null,null,"AS026681880","Kevin Worthen (026681880) Academic VP Office, Deans","AS026681880-Kevin Worthen (026681880) Academic VP Office, Deans","Active",null,null,null,null,null,null,null,null,null,null,null,"RC4701","RC4701||4700","4700","Other Income","Primary","All"]
[null,null,null,null,null,null,"AC00173","Serials-Electronic","AC00173-Serials-Electronic","Activity","FD01","Active","2025-01-02T03:05:29.942",null,"SC5730","Part-time Wages - Part Benefits","SC5730-Part-time Wages - Part Benefits","Spend Category","Active",null,null,"01366","Craig Hart/Toronto, FHSS","01366-Craig Hart/Toronto, FHSS",null,null,null,"AS026852607","Clint Payne (026852607) CE Classroom Programs","AS026852607-Clint Payne (026852607) CE Classroom Programs","Active",null,null,null,null,null,null,null,null,null,null,null,"RC4702","RC4702||4700","4700","Other Income","Primary","All"]
[null,null,null,null,null,null,"AC00174","[LIB] Memberships","AC00174-[LIB] Memberships","Activity","FD01","Active","2025-01-08T03:04:37.01015+00:00",null,"SC5800","Taxable Payroll Additions","SC5800-Taxable Payroll Additions","Spend Category","Active",null,null,"01367","Sherina Saasa","01367-Sherina Saasa",null,null,null,"AS026968306","Kara Stephenson (026968306) Special Events","AS026968306-Kara Stephenson (026968306) Special Events","Active",null,null,null,null,null,null,null,null,null,null,null,"RC4703","RC4703||4700","4700","Other Income","Primary","All"]
[null,null,null,null,null,null,"AC00175","Standing Order - Open","AC00175-Standing Order - Open","Activity","FD01","Active","2025-01-02T03:05:29.942",null,"SC5860","Moving Reimbursement","SC5860-Moving Reimbursement","Spend Category","Active",null,null,"01368","Michael J Larson, FHSS-Psychol","01368-Michael J Larson, FHSS-Psychol",null,null,null,"AS027018184","Cougar Hall (027018184) Life Sciences - Dean's Office","AS027018184-Cougar Hall (027018184) Life Sciences - Dean's Office","Active",null,null,null,null,null,null,null,null,null,null,null,"RC4704","RC4704||2600","2600","Deferred Revenue",null,"All"]
[null,null,null,null,null,null,"AC00176","Coll. Dev.-Strategic","AC00176-Coll. Dev.-Strategic","Activity","FD01","Active","2025-01-02T03:05:29.942",null,"SC5890","Project Labor Cost","SC5890-Project Labor Cost","Spend Category","Active",null,null,"01369","Rich Christianson","01369-Rich Christianson",null,null,null,"AS027184603","Tim Law (027184603) BYU Broadcasting - Digital Media","AS027184603-Tim Law (027184603) BYU Broadcasting - Digital Media","Active",null,null,null,null,null,null,null,null,null,null,null,"RC4704","RC4704||4700","4700","Other Income","Primary","All"]
[null,null,null,null,null,null,"AC00177","CCLA One-Time","AC00177-CCLA One-Time","Activity","FD01","Active","2025-01-02T03:05:29.942",null,"SC5891","Project Labor Cost Recovery","SC5891-Project Labor Cost Recovery","Spend Category","Active",null,null,"01370","Melissa Kagi","01370-Melissa Kagi",null,null,null,"AS027211109","Chris Grant (027211109) CMS - Dean's Office Computational, Mathematical, & Phsical","AS027211109-Chris Grant (027211109) CMS - Dean's Office Computational, Mathematical, & Phsical","Active",null,null,null,null,null,null,null,null,null,null,null,"RC4705","RC4705||4700","4700","Other Income","Primary","All"]
[null,null,null,null,null,null,"AC00178","CES Shared Resources","AC00178-CES Shared Resources","Activity","FD01","Active","2025-01-02T03:05:29.942",null,"SC5892","Project Labor Cost Non-Capital","SC5892-Project Labor Cost Non-Capital","Spend Category","Active",null,null,"01371","Sherinah Saasa","01371-Sherinah Saasa",null,null,null,"AS027489315","Chris Cloward (027489315) PF Building Operations","AS027489315-Chris Cloward (027489315) PF Building Operations","Active",null,null,null,null,null,null,null,null,null,null,null,"RC4706","RC4706||4700","4700","Other Income","Primary","All"]
[null,null,null,null,null,null,"AC00179","Journal Packages","AC00179-Journal Packages","Activity","FD01","Active","2025-01-02T03:05:29.942",null,"SC5893","Project Labor Cost Non-Capital Recovery","SC5893-Project Labor Cost Non-Capital Recovery","Spend Category","Active",null,null,"01D20","Campus Network Modernization","01D20-Campus Network Modernization",null,null,null,"AS027512956","Michael Dorff (027512956) CMS - Dean's Office Computational, Mathematical, & Phsical","AS027512956-Michael Dorff (027512956) CMS - Dean's Office Computational, Mathematical, & Phsical","Active",null,null,null,null,null,null,null,null,null,null,null,"RC4707","RC4707||4700","4700","Other Income","Primary","All"]
[null,null,null,null,null,null,"AC00180","Open Access","AC00180-Open Access","Activity","FD01","Active","2025-01-02T03:05:29.942",null,"SC5899","Taxable Payroll Additions (reclass)","SC5899-Taxable Payroll Additions (reclass)","Spend Category","Active",null,null,"01D21","Campus Network Modernization","01D21-Campus Network Modernization",null,null,null,"AS028045615","Mike Gibson (028045615) Enrollment Services Executive Director's Office","AS028045615-Mike Gibson (028045615) Enrollment Services Executive Director's Office","Active",null,null,null,null,null,null,null,null,null,null,null,"RC4708","RC4708||4700","4700","Other Income","Primary","All"]
[null,null,null,null,null,null,"AC00181","Book Replacement","AC00181-Book Replacement","Activity","FD02","Active","2025-01-02T03:05:29.942",null,"SC5900","Staff Exempt Benefits","SC5900-Staff Exempt Benefits","Spend Category","Active",null,null,"02D20","Hybrid Classrooms","02D20-Hybrid Classrooms",null,null,null,"AS028209109","Hannah Steinagel (028209109) HS General Medicine - Nursing","AS028209109-Hannah Steinagel (028209109) HS General Medicine - Nursing","Active",null,null,null,null,null,null,null,null,null,null,null,"RC4709","RC4709||4700","4700","Other Income","Primary","All"]
[null,null,null,null,null,null,"AC00183","Prof Develop  Leave","AC00183-Prof Develop  Leave","Activity","FD01","Active","2025-01-02T03:05:29.942",null,"SC5910","Faculty Benefits","SC5910-Faculty Benefits","Spend Category","Active",null,null,"02D21","CES Network Modernization","02D21-CES Network Modernization",null,null,null,"AS028472569","Angela Bradford (028472569) FHSS - Dean's Office","AS028472569-Angela Bradford (028472569) FHSS - Dean's Office","Active",null,null,null,null,null,null,null,null,null,null,null,"RC4710","RC4710||4700","4700","Other Income","Primary","All"]
[null,null,null,null,null,null,"AC00184","Univ Research Support","AC00184-Univ Research Support","Activity","FD01","Active","2025-01-02T03:05:29.942",null,"SC5930","Faculty Adjunct Benefits","SC5930-Faculty Adjunct Benefits","Spend Category","Active",null,null,"03D20","Network Security Framework","03D20-Network Security Framework",null,null,null,"AS028735751","Chris Verhaaren (028735751) CMS - Dean's Office Computational, Mathematical, & Phsical","AS028735751-Chris Verhaaren (028735751) CMS - Dean's Office Computational, Mathematical, & Phsical","Active",null,null,null,null,null,null,null,null,null,null,null,"RC4711","RC4711||4700","4700","Other Income","Primary","JE_Gift|JE_Override"]
[null,null,null,null,null,null,"AC00185","R L Evans Chair","AC00185-R L Evans Chair","Activity","FD01","Active","2025-01-02T03:05:29.942",null,"SC5940","Staff Non-Exempt Benefits","SC5940-Staff Non-Exempt Benefits","Spend Category","Active",null,null,"05CON","ITS Contingency","05CON-ITS Contingency",null,null,null,"AS028827741","Spencer James (028827741) FHSS - Dean's Office","AS028827741-Spencer James (028827741) FHSS - Dean's Office","Active",null,null,null,null,null,null,null,null,null,null,null,"RC4712","RC4712||4700","4700","Other Income","Primary","JE_Override"]
[null,null,null,null,null,null,"AC00186","Religious Ed Graduate Support","AC00186-Religious Ed Graduate Support","Activity","FD01","Active","2025-01-02T03:05:29.942",null,"SC5950","Student Benefits","SC5950-Student Benefits","Spend Category","Active",null,null,"05D16","Classroom Technology Moderniza","05D16-Classroom Technology Moderniza",null,null,null,"AS028889696","Jorge Morales (028889696) Enrollment Services Executive Director's Office","AS028889696-Jorge Morales (028889696) Enrollment Services Executive Director's Office","Active",null,null,null,null,null,null,null,null,null,null,null,"RC4713","RC4713||4700","4700","Other Income","Primary","JE_PPE|JE_Override"]
[null,null,null,null,null,null,"AC00187","Faculty Resource Center","AC00187-Faculty Resource Center","Activity","FD01","Active","2025-01-02T03:05:29.942",null,"SC5970","Part-time Benefits","SC5970-Part-time Benefits","Spend Category","Active",null,null,"05D19","Class Technology Modernization","05D19-Class Technology Modernization",null,null,null,"AS028945590","Marianne Ohran (028945590) Fine Arts & Communications - Dean's Office","AS028945590-Marianne Ohran (028945590) Fine Arts & Communications - Dean's Office","Active",null,null,null,null,null,null,null,null,null,null,null,"RC4714","RC4714||4700","4700","Other Income","Primary"]
[null,null,null,null,null,null,"AC00188","Associate Dean","AC00188-Associate Dean","Activity","FD01","Active","2025-01-02T03:05:29.942",null,"SC5990","Other Local/State Payroll Tax","SC5990-Other Local/State Payroll Tax","Spend Category","Active",null,null,"05D20","Classroom Technology Moderniza","05D20-Classroom Technology Moderniza",null,null,null,"AS029024551","Janelle Macintosh (029024551) Academic VP Office, Deans","AS029024551-Janelle Macintosh (029024551) Academic VP Office, Deans","Active",null,null,null,null,null,null,null,null,null,null,null,"RC4715","RC4715||4700","4700","Other Income","Primary","JE_Override"]
[null,null,null,null,null,null,"AC00189","Associate Dean","AC00189-Associate Dean","Activity","FD01","Active","2025-01-02T03:05:29.942",null,"SC5995","University Benefits-Payments","SC5995-University Benefits-Payments","Spend Category","Active",null,null,"05D21","Classroom Technology Moderniz","05D21-Classroom Technology Moderniz",null,null,null,"AS029154702","Sofia Pesci (029154702) Athletics - Corporate Sponsorships","AS029154702-Sofia Pesci (029154702) Athletics - Corporate Sponsorships","Active",null,null,null,null,null,null,null,null,null,null,null,"RC4716","RC4716||4700","4700","Other Income","Primary","JE_Override"]
[null,null,null,null,null,null,"AC00190","Technology Support","AC00190-Technology Support","Activity","FD01","Active","2025-01-02T03:05:29.942",null,"SC5998","FICA Clearing (Payroll System Only)","SC5998-FICA Clearing (Payroll System Only)","Spend Category","Active",null,null,"06D18","Production/Theatrical Tech","06D18-Production/Theatrical Tech",null,null,null,"AS029227462","Jan Christensen (029227462) FHSS - Dean's Office","AS029227462-Jan Christensen (029227462) FHSS - Dean's Office","Active",null,null,null,null,null,null,null,null,null,null,null,"RC4799","RC4799||4700","4700","Other Income","Primary","All"]
[null,null,null,null,null,null,"AC00191","Appropriated NonStudent Suppor","AC00191-Appropriated NonStudent Suppor","Activity","FD01","Active","2025-01-02T03:05:29.942",null,"SC5999","Benefits (reclass)","SC5999-Benefits (reclass)","Spend Category","Active",null,null,"06D20","Production/Theatrical Tech","06D20-Production/Theatrical Tech",null,null,null,"AS029391794","Don Powell (029391794) Academic VP Office, Deans","AS029391794-Don Powell (029391794) Academic VP Office, Deans","Active",null,null,null,null,null,null,null,null,null,null,null,"RC4800","RC4800||4800","4800","Intra-Division Sales","Primary","All"]
[null,null,null,null,null,null,"AC00192","Interfaith Engagement (RO)","AC00192-Interfaith Engagement (RO)","Activity","FD01","Active","2025-01-02T03:05:29.942",null,"SC6101","Animal Supplies","SC6101-Animal Supplies","Spend Category","Active",null,null,"06D21","Production/Theatrical Tech","06D21-Production/Theatrical Tech",null,null,null,"AS029788789","Brian Spilker (029788789) MSB - Dean's Office, Marriott School of Business","AS029788789-Brian Spilker (029788789) MSB - Dean's Office, Marriott School of Business","Active",null,null,null,null,null,null,null,null,null,null,null,"RC4850","RC4850||4850","4850","Intra-Division Purchases","Primary","All"]
[null,null,null,null,null,null,"AC00193","RSC Endowment Appropriation","AC00193-RSC Endowment Appropriation","Activity","FD01","Active","2025-01-02T03:05:29.942",null,"SC6102","Animals","SC6102-Animals","Spend Category","Active",null,null,"079T3","JRCB WIRELESS  464-517 19322","079T3-JRCB WIRELESS  464-517 19322",null,null,null,"AS029853108","Jessica Mullen (029853108) Athletics - Academic Advisement","AS029853108-Jessica Mullen (029853108) Athletics - Academic Advisement","Active",null,null,null,null,null,null,null,null,null,null,null,"RC4890","RC4890||4890","4890","Release of Restrictions","Primary","JE_Gift|JE_Override"]
[null,null,null,null,null,null,"AC00194","Gospel Sch Media Appropriation","AC00194-Gospel Sch Media Appropriation","Activity","FD01","Active","2025-01-02T03:05:29.942",null,"SC6103","Art","SC6103-Art","Spend Category","Active",null,null,"07D20","AV Cable Plant Infrastucture","07D20-AV Cable Plant Infrastucture",null,null,null,"AS029871649","Jennefer Dayton (029871649) HS Administration","AS029871649-Jennefer Dayton (029871649) HS Administration","Active",null,null,null,null,null,null,null,null,null,null,null,"RC4891","RC4891||4890","4890","Release of Restrictions","Primary","JE_Gift|JE_Override"]
[null,null,null,null,null,null,"AC00195","Inspiring Learning Appropriati","AC00195-Inspiring Learning Appropriati","Activity","FD01","Active","2025-01-02T03:05:29.942",null,"SC6104","Art Supplies","SC6104-Art Supplies","Spend Category","Active",null,null,"08D20","Life Safety Comm Systems","08D20-Life Safety Comm Systems",null,null,null,"AS030164319","Evan Brandley (030164319) Restaurants","AS030164319-Evan Brandley (030164319) Restaurants","Active",null,null,null,null,null,null,null,null,null,null,null,"RC4892","RC4892||4890","4890","Release of Restrictions","Primary","JE_Gift|JE_Override"]
[null,null,null,null,null,null,"AC00196","RELED Grad Programs","AC00196-RELED Grad Programs","Activity","FD01","Active","2025-01-02T03:05:29.942",null,"SC6105","Athletic Supplies","SC6105-Athletic Supplies","Spend Category","Active",null,null,"08D21","Life Safety Comm Systems","08D21-Life Safety Comm Systems",null,null,null,"AS030306005","Jean-Francois Van Huele (030306005) CMS - Dean's Office Computational, Mathematical, & Phsical","AS030306005-Jean-Francois Van Huele (030306005) CMS - Dean's Office Computational, Mathematical, & Phsical","Active",null,null,null,null,null,null,null,null,null,null,null,"RC4893","RC4893||4890","4890","Release of Restrictions","Primary","JE_Gift|JE_Override"]
[null,null,null,null,null,null,"AC00197","Ugrad Mentoring Block Grants","AC00197-Ugrad Mentoring Block Grants","Activity","FD01","Active","2025-01-02T03:05:29.942",null,"SC6106","Audio Visual Supplies","SC6106-Audio Visual Supplies","Spend Category","Active",null,null,"09015","Zions Bank Escrow Haz","09015-Zions Bank Escrow Haz",null,null,null,"AS030308835","Brigitte Madrian (030308835) University President - Academic Vice President","AS030308835-Brigitte Madrian (030308835) University President - Academic Vice President","Active",null,null,null,null,null,null,null,null,null,null,null,"RC6402","RC6402||6400","6400","General and Administrative","Primary","All"]
[null,null,null,null,null,null,"AC00198","Interfaith Club","AC00198-Interfaith Club","Activity","FD02","Active","2025-01-02T03:05:29.942",null,"SC6107","Clothing","SC6107-Clothing","Spend Category","Active",null,null,"09020","Receipts-Transact Extracts","09020-Receipts-Transact Extracts",null,null,null,"AS030875626","Paul Gillespie (030875626) CE Salt Lake Center Class Instructors","AS030875626-Paul Gillespie (030875626) CE Salt Lake Center Class Instructors","Active",null,null,null,null,null,null,null,null,null,null,null,"RC6403","RC6403||6400","6400","General and Administrative","Primary","All"]
[null,null,null,null,null,null,"AC00199","Conference Travel Grants","AC00199-Conference Travel Grants","Activity","FD03","Active","2025-01-02T03:05:29.942",null,"SC6108","Data Network Supplies","SC6108-Data Network Supplies","Spend Category","Active",null,null,"09021","Receipts-Pay My Tuition","09021-Receipts-Pay My Tuition",null,null,null,"AS030949929","Brandon Smith (030949929) OIT Core - Tech Operations","AS030949929-Brandon Smith (030949929) OIT Core - Tech Operations","Active",null,null,null,null,null,null,null,null,null,null,null,"SC0101","SC0101||0100","0100","Budget Carryover/Unallocated","Budget_Only","JE_Override"]
[null,null,null,null,null,null,"AC00200","RSC Grant Reserve","AC00200-RSC Grant Reserve","Activity","FD03","Active","2025-01-02T03:05:29.942",null,"SC6109","Floral Supplies","SC6109-Floral Supplies","Spend Category","Active",null,null,"09022","CIBC","09022-CIBC",null,null,null,"AS030975637","Jennifer Chamberlain (030975637) CE Online Learning","AS030975637-Jennifer Chamberlain (030975637) CE Online Learning","Active",null,null,null,null,null,null,null,null,null,null,null,"SC0102","SC0102||0100","0100","Budget Carryover/Unallocated","Budget_Only","JE_Override"]
[null,null,null,null,null,null,"AC00201","Faculty-Student Mentoring","AC00201-Faculty-Student Mentoring","Activity","FD03","Active","2025-01-02T03:05:29.942",null,"SC6110","Food and Beverages","SC6110-Food and Beverages","Spend Category","Active",null,null,"09025","Receipts-On Campus POS","09025-Receipts-On Campus POS",null,null,null,"AS031137958","Sharlan Montgomery Dunn (031137958) College of Engineering - Dean's Office","AS031137958-Sharlan Montgomery Dunn (031137958) College of Engineering - Dean's Office","Active",null,null,null,null,null,null,null,null,null,null,null,"SC0103","SC0103||0100","0100","Budget Carryover/Unallocated","Budget_Only","JE_Override"]
[null,null,null,null,null,null,"AC00202","RELED Research Royalties","AC00202-RELED Research Royalties","Activity","FD03","Active","2025-01-02T03:05:29.942",null,"SC6111","Food Service Disposables","SC6111-Food Service Disposables","Spend Category","Active",null,null,"09026","Receipts- Std Aux Svcs- Check","09026-Receipts- Std Aux Svcs- Check",null,null,null,"AS031321791","Becca Pike (031321791) Admissions Services","AS031321791-Becca Pike (031321791) Admissions Services","Active",null,null,null,null,null,null,null,null,null,null,null,"SC0104","SC0104||0100","0100","Budget Carryover/Unallocated","Budget_Only","JE_Override"]
[null,null,null,null,null,null,"AC00203","Religious Outreach","AC00203-Religious Outreach","Activity","FD03","Active","2025-01-02T03:05:29.942",null,"SC6112","Food Service Supplies","SC6112-Food Service Supplies","Spend Category","Active",null,null,"09030","Receipts-BYU Bookstore","09030-Receipts-BYU Bookstore",null,null,null,"AS031368018","Jen Watson (031368018) Fine Arts & Communications - Dean's Office","AS031368018-Jen Watson (031368018) Fine Arts & Communications - Dean's Office","Active",null,null,null,null,null,null,null,null,null,null,null,"SC0610","SC0610||6100","6100","Materials and Supplies","Budget_Only","JE_Override"]
[null,null,null,null,null,null,"AC00204","Experiential Learning","AC00204-Experiential Learning","Activity","FD03","Active","2025-01-02T03:05:29.942",null,"SC6113","Fuel","SC6113-Fuel","Spend Category","Active",null,null,"09035","Receipts-Marriott Center","09035-Receipts-Marriott Center",null,null,null,"AS031530403","Kyle Grossarth (031530403) Athletics - Track & Field","AS031530403-Kyle Grossarth (031530403) Athletics - Track & Field","Active",null,null,null,null,null,null,null,null,null,null,null,"SC0630","SC0630||6300","6300","Student Aid","Budget_Only","JE_Override"]
[null,null,null,null,null,null,"AC00205","REL ED Sunshine Fund","AC00205-REL ED Sunshine Fund","Activity","FD07","Active","2025-01-02T03:05:29.942",null,"SC6114","Hazardous Chemicals","SC6114-Hazardous Chemicals","Spend Category","Active",null,null,"09040","Receipts-Print Services","09040-Receipts-Print Services",null,null,null,"AS031559035","Machelle Johnson (031559035) HS Administration","AS031559035-Machelle Johnson (031559035) HS Administration","Active",null,null,null,null,null,null,null,null,null,null,null,"SC0640","SC0640||6400","6400","General and Administrative","Budget_Only","JE_Override"]
[null,null,null,null,null,null,"AC00206","Egyptian Dig","AC00206-Egyptian Dig","Activity","FD01","Active","2025-01-02T03:05:29.942",null,"SC6115","Janitorial Supplies","SC6115-Janitorial Supplies","Spend Category","Active",null,null,"09045","Receipts-BYU Broadcasting","09045-Receipts-BYU Broadcasting",null,null,null,"AS031820797","Catherine Hendricks (031820797) Benefits, Human Resources Operations, Recruiting","AS031820797-Catherine Hendricks (031820797) Benefits, Human Resources Operations, Recruiting","Active",null,null,null,null,null,null,null,null,null,null,null,"SC0670","SC0670||6700","6700","Physical Facilities","Budget_Only","JE_Override"]
[null,null,null,null,null,null,"AC00208","RSC NonReligion Faculty Awards","AC00208-RSC NonReligion Faculty Awards","Activity","FD01","Active","2025-01-02T03:05:29.942",null,"SC6116","Laundry Supplies","SC6116-Laundry Supplies","Spend Category","Active",null,null,"09050","Receipts-Continuing Ed","09050-Receipts-Continuing Ed",null,null,null,"AS032014107","Alyssa Dixon (032014107) CITES","AS032014107-Alyssa Dixon (032014107) CITES","Active",null,null,null,null,null,null,null,null,null,null,null,"SC0691","SC0691||6900","6900","Equipment, Software, Library","Budget_Only","JE_Override"]
[null,null,null,null,null,null,"AC00209","The Religious Educator","AC00209-The Religious Educator","Activity","FD02","Active","2025-01-02T03:05:29.942",null,"SC6117","Medical Supplies","SC6117-Medical Supplies","Spend Category","Active",null,null,"09055","Receipts-Aspen Grove","09055-Receipts-Aspen Grove",null,null,null,"AS032078028","Richard Vanfleet (032078028) CMS - Dean's Office Computational, Mathematical, & Phsical","AS032078028-Richard Vanfleet (032078028) CMS - Dean's Office Computational, Mathematical, & Phsical","Active",null,null,null,null,null,null,null,null,null,null,null,"SC0692","SC0692||6900","6900","Equipment, Software, Library","Budget_Only","JE_Override"]
[null,null,null,null,null,null,"AC00210","RSC Publications","AC00210-RSC Publications","Activity","FD02","Active","2025-01-02T03:05:29.942",null,"SC6118","Musical Instrument Supplies","SC6118-Musical Instrument Supplies","Spend Category","Active",null,null,"09060","Receipts-Student Health Ctr","09060-Receipts-Student Health Ctr",null,null,null,"AS032236373","Jane Fonua (032236373) Enrollment Services Office","AS032236373-Jane Fonua (032236373) Enrollment Services Office","Active",null,null,null,null,null,null,null,null,null,null,null,"SC0693","SC0693||6900","6900","Equipment, Software, Library","Budget_Only","JE_Override"]
[null,null,null,null,null,null,"AC00212","Rel Educ Student Computer Lab","AC00212-Rel Educ Student Computer Lab","Activity","FD01","Active","2025-01-02T03:05:29.942",null,"SC6119","Office Supplies","SC6119-Office Supplies","Spend Category","Active",null,null,"09065","Receipts-BYU Sales (Treasury)","09065-Receipts-BYU Sales (Treasury)",null,null,null,"AS032236657","Dennis Tolley (032236657) CMS - Dean's Office Computational, Mathematical, & Phsical","AS032236657-Dennis Tolley (032236657) CMS - Dean's Office Computational, Mathematical, & Phsical","Active",null,null,null,null,null,null,null,null,null,null,null,"SC0694","SC0694||6900","6900","Equipment, Software, Library","Budget_Only","JE_Override"]
[null,null,null,null,null,null,"AC00213","Church History Travel Study","AC00213-Church History Travel Study","Activity","FD01","Active","2025-01-02T03:05:29.942",null,"SC6120","Other Expense","SC6120-Other Expense","Spend Category","Active",null,null,"09070","Receipts-Dining Services","09070-Receipts-Dining Services",null,null,null,"AS032391768","Mark Choate (032391768) FHSS - Dean's Office","AS032391768-Mark Choate (032391768) FHSS - Dean's Office","Active",null,null,null,null,null,null,null,null,null,null,null,"SC0695","SC0695||6900","6900","Equipment, Software, Library","Budget_Only","JE_Override"]
[null,null,null,null,null,null,"AC00214","Stance for the Family","AC00214-Stance for the Family","Activity","FD02","Active","2025-01-02T03:05:29.942",null,"SC6121","Packaging","SC6121-Packaging","Spend Category","Active",null,null,"09075","Receipts-Campus Life","09075-Receipts-Campus Life",null,null,null,"AS032404620","Jeff Peters (032404620) College of Engineering - Dean's Office","AS032404620-Jeff Peters (032404620) College of Engineering - Dean's Office","Active",null,null,null,null,null,null,null,null,null,null,null,"SC0696","SC0696||6900","6900","Equipment, Software, Library","Budget_Only","JE_Override"]
[null,null,null,null,null,null,"AC00215","Foundations of Faith","AC00215-Foundations of Faith","Activity","FD03","Active","2025-01-02T03:05:29.942",null,"SC6122","Paper","SC6122-Paper","Spend Category","Active",null,null,"09080","Receipts-Alumni","09080-Receipts-Alumni",null,null,null,"AS032435928","Anna Bates (032435928) Museum of Art - Exhibit Design","AS032435928-Anna Bates (032435928) Museum of Art - Exhibit Design","Active",null,null,null,null,null,null,null,null,null,null,null,"SC0697","SC0697||6900","6900","Equipment, Software, Library","Budget_Only","JE_Override"]
[null,null,null,null,null,null,"AC00217","Research Support","AC00217-Research Support","Activity","FD01","Active","2025-01-02T03:05:29.942",null,"SC6123","Photography Supplies","SC6123-Photography Supplies","Spend Category","Active",null,null,"09085","Receipts-PERSS","09085-Receipts-PERSS",null,null,null,"AS032480110","Robert Johnson (032480110) Life Sciences - Dean's Office","AS032480110-Robert Johnson (032480110) Life Sciences - Dean's Office","Active",null,null,null,null,null,null,null,null,null,null,null,"SC1055","SC1055||1055","1055","Gift Cards","Primary","All"]
[null,null,null,null,null,null,"AC00218","FHSS Advisement Center","AC00218-FHSS Advisement Center","Activity","FD01","Active","2025-01-02T03:05:29.942",null,"SC6124","Printed Media","SC6124-Printed Media","Spend Category","Active",null,null,"09090","Receipts-Cougar Club","09090-Receipts-Cougar Club",null,null,null,"AS032528222","Dustin Jones (032528222) CE Online Learning","AS032528222-Dustin Jones (032528222) CE Online Learning","Active",null,null,null,null,null,null,null,null,null,null,null,"SC1218","SC1218||1200","1200","Department Receivable","Primary","All"]
[null,null,null,null,null,null,"AC00219","FHSS Computing Services","AC00219-FHSS Computing Services","Activity","FD01","Active","2025-01-02T03:05:29.942",null,"SC6125","Printing Supplies","SC6125-Printing Supplies","Spend Category","Active",null,null,"09095","Receipts-BYU Music Group","09095-Receipts-BYU Music Group",null,null,null,"AS032671402","Robert Ramos (032671402) Athletics - Administration","AS032671402-Robert Ramos (032671402) Athletics - Administration","Active",null,null,null,null,null,null,null,null,null,null,null,"SC1218","SC1218||1210","1210","Off Campus Receivable","Primary","All"]
[null,null,null,null,null,null,"AC00220","FHSS Writing Lab","AC00220-FHSS Writing Lab","Activity","FD01","Active","2025-01-02T03:05:29.942",null,"SC6126","Scientific and Engineering Supplies","SC6126-Scientific and Engineering Supplies","Spend Category","Active",null,null,"09100","Receipts-Outdoors Unlimited","09100-Receipts-Outdoors Unlimited",null,null,null,"AS032715097","Valori Tanner (032715097) Retail Services - BYU Store","AS032715097-Valori Tanner (032715097) Retail Services - BYU Store","Active",null,null,null,null,null,null,null,null,null,null,null,"SC1290","SC1290||1290","1290","Clearing-Receivable","Primary","All"]
[null,null,null,null,null,null,"AC00221","MRI Facility Operations","AC00221-MRI Facility Operations","Activity","FD01","Active","2025-01-02T03:05:29.942",null,"SC6127","Special Collections","SC6127-Special Collections","Spend Category","Active",null,null,"09115","Receipts-Marriott School","09115-Receipts-Marriott School",null,null,null,"AS032720112","Brooke Anderson (032720112) Advisement Computing, Math and Science","AS032720112-Brooke Anderson (032720112) Advisement Computing, Math and Science","Active",null,null,null,null,null,null,null,null,null,null,null,"SC1300","SC1300||1300","1300","Inventory - Workday","Primary","All"]
[null,null,null,null,null,null,"AC00222","FHSS Belonging and Diversity","AC00222-FHSS Belonging and Diversity","Activity","FD01","Active","2025-01-02T03:05:29.942",null,"SC6128","Special Collections Sales Proceeds","SC6128-Special Collections Sales Proceeds","Spend Category","Active",null,null,"09120","Receipts - BYU Law School","09120-Receipts - BYU Law School",null,null,null,"AS032878961","David P Stringfellow (032878961) PF Building Projects, Maintenance & Transportation Services","AS032878961-David P Stringfellow (032878961) PF Building Projects, Maintenance & Transportation Services","Active",null,null,null,null,null,null,null,null,null,null,null,"SC1310","SC1310||1310","1310","Inventory - Campus Subsystems","Primary","All"]
[null,null,null,null,null,null,"AC00223","MRI Facility Operations","AC00223-MRI Facility Operations","Activity","FD02","Active","2025-01-02T03:05:29.942",null,"SC6129","Supplies (not otherwise specified)","SC6129-Supplies (not otherwise specified)","Spend Category","Active",null,null,"09125","Web Credit Card Payments","09125-Web Credit Card Payments",null,null,null,"AS032973061","Joseph McMurray (032973061) FHSS - Dean's Office","AS032973061-Joseph McMurray (032973061) FHSS - Dean's Office","Active",null,null,null,null,null,null,null,null,null,null,null,"SC1390","SC1390||1390","1390","Clearing-Inventory","Primary","All"]
[null,null,null,null,null,null,"AC00224","Prof Dev-Fh & Ss","AC00224-Prof Dev-Fh & Ss","Activity","FD03","Active","2025-01-02T03:05:29.942",null,"SC6130","Teaching Supplies","SC6130-Teaching Supplies","Spend Category","Active",null,null,"09527","Investment Adj","09527-Investment Adj",null,null,null,"AS032979023","Julee Braithwaite (032979023) College of Fine Arts and Communications - Student Services","AS032979023-Julee Braithwaite (032979023) College of Fine Arts and Communications - Student Services","Active",null,null,null,null,null,null,null,null,null,null,null,"SC1400","SC1400||1400","1400","Prepaid Expenses","Primary","All"]
[null,null,null,null,null,null,"AC00225","Diversity, Collaboration & Inc","AC00225-Diversity, Collaboration & Inc","Activity","FD03","Active","2025-01-02T03:05:29.942",null,"SC6131","Telecom Supplies","SC6131-Telecom Supplies","Spend Category","Active",null,null,"09610","Agency Checks","09610-Agency Checks",null,null,null,"AS033040609","Ben Bagley (033040609) BYU Broadcasting - Sports","AS033040609-Ben Bagley (033040609) BYU Broadcasting - Sports","Active",null,null,null,null,null,null,null,null,null,null,null,"SC1420","SC1420||1420","1420","Other Assets","Primary","All"]
[null,null,null,null,null,null,"AC00227","FHSS ELF","AC00227-FHSS ELF","Activity","FD03","Active","2025-01-02T03:05:29.942",null,"SC6132","Vehicle Supplies","SC6132-Vehicle Supplies","Spend Category","Active",null,null,"09699","Receipt Adjustments","09699-Receipt Adjustments",null,null,null,"AS033275920","Robyn Damon (033275920) Student Connection and Leadership Center","AS033275920-Robyn Damon (033275920) Student Connection and Leadership Center","Active",null,null,null,null,null,null,null,null,null,null,null,"SC1490","SC1490||1490","1490","Clearing-Prepaid and Other","Primary","All"]
[null,null,null,null,null,null,"AC00228","Washington Sem Housn","AC00228-Washington Sem Housn","Activity","FD02","Active","2025-01-02T03:05:29.942",null,"SC6133","Lab Gases and Cryogenics","SC6133-Lab Gases and Cryogenics","Spend Category","Active",null,null,"09799","Disbursement Adjustments","09799-Disbursement Adjustments",null,null,null,"AS033285124","Kory Staheli (033285124) Academic VP Office, Deans","AS033285124-Kory Staheli (033285124) Academic VP Office, Deans","Active",null,null,null,null,null,null,null,null,null,null,null,"SC1600","SC1600||1600","1600","Land","Primary","JE_PPE|JE_Override"]
[null,null,null,null,null,null,"AC00229","Washington Seminar ELF","AC00229-Washington Seminar ELF","Activity","FD03","Active","2025-01-02T03:05:29.942",null,"SC6199","Materials and Supplies (reclass)","SC6199-Materials and Supplies (reclass)","Spend Category","Active",null,null,"09900","Disbursements-A/P","09900-Disbursements-A/P",null,null,null,"AS033334487","Julia Qiao (033334487) Alumni Aspen Grove","AS033334487-Julia Qiao (033334487) Alumni Aspen Grove","Active",null,null,null,null,null,null,null,null,null,null,null,"SC1605","SC1605||1605","1605","Buildings","Primary","JE_PPE|JE_Override"]
[null,null,null,null,null,null,"AC00230","American Hertg Book Royalty","AC00230-American Hertg Book Royalty","Activity","FD03","Active","2025-01-02T03:05:29.942",null,"SC6301","Scholarships","SC6301-Scholarships","Spend Category","Active",null,null,"10000","Executive Director UCS","10000-Executive Director UCS",null,null,null,"AS033363707","Jon Rodriguez (033363707) Lee Library - Information Technology","AS033363707-Jon Rodriguez (033363707) Lee Library - Information Technology","Active",null,null,null,null,null,null,null,null,null,null,null,"SC1605","SC1605||1700","1700","Accumulated Depreciation",null,"JE_PPE|JE_Override"]
[null,null,null,null,null,null,"AC00231","Redd Public History","AC00231-Redd Public History","Activity","FD03","Active","2025-01-02T03:05:29.942",null,"SC6302","Graduate Fellowship","SC6302-Graduate Fellowship","Spend Category","Active",null,null,"10001","Special Projects","10001-Special Projects",null,null,null,"AS033388524","Christopher Flood (033388524) Humanities - Dean's Office","AS033388524-Christopher Flood (033388524) Humanities - Dean's Office","Active",null,null,null,null,null,null,null,null,null,null,null,"SC1605","SC1605||8000","8000","Depreciation",null,"JE_PPE|JE_Override"]
[null,null,null,null,null,null,"AC00232","Charles Redd Center ELF","AC00232-Charles Redd Center ELF","Activity","FD03","Active","2025-01-02T03:05:29.942",null,"SC6303","Grant","SC6303-Grant","Spend Category","Active",null,null,"10025","Faculty Profile System - BYU-H","10025-Faculty Profile System - BYU-H",null,null,null,"AS033469928","Dan Graham (033469928) Athletics - Olympic Sport Medicine","AS033469928-Dan Graham (033469928) Athletics - Olympic Sport Medicine","Active",null,null,null,null,null,null,null,null,null,null,null,"SC1615","SC1615||1615","1615","Other Improvements",null,"JE_PPE|JE_Override"]
[null,null,null,null,null,null,"AC00233","Civic Engagement Activities","AC00233-Civic Engagement Activities","Activity","FD03","Active","2025-01-02T03:05:29.942",null,"SC6304","Leadership Award","SC6304-Leadership Award","Spend Category","Active",null,null,"10165","Emergency Systems","10165-Emergency Systems",null,null,null,"AS033487669","Karen Abbott (033487669) Lee Library - Collections Access","AS033487669-Karen Abbott (033487669) Lee Library - Collections Access","Active",null,null,null,null,null,null,null,null,null,null,null,"SC1635","SC1635||1635","1635","Misc Capital Assets","Primary","JE_PPE|JE_Override"]
[null,null,null,null,null,null,"AC00234","Comprehensive Clinic","AC00234-Comprehensive Clinic","Activity","FD02","Active","2025-01-02T03:05:29.942",null,"SC6305","Tuition Assistance NonBYU Student","SC6305-Tuition Assistance NonBYU Student","Spend Category","Active",null,null,"10332","OIT Key Deposits","10332-OIT Key Deposits",null,null,null,"AS033938754","Patrick Weaver (033938754) Cougareat","AS033938754-Patrick Weaver (033938754) Cougareat","Active",null,null,null,null,null,null,null,null,null,null,null,"SC1635","SC1635||1700","1700","Accumulated Depreciation",null,"JE_PPE|JE_Override"]
[null,null,null,null,null,null,"AC00235","Fld Sch Archaeology","AC00235-Fld Sch Archaeology","Activity","FD01","Active","2025-01-02T03:05:29.942",null,"SC6306","Employee Benefit Tuition Assistance","SC6306-Employee Benefit Tuition Assistance","Spend Category","Active",null,null,"10365","Non Restr-Contract","10365-Non Restr-Contract",null,null,null,"AS034049120","Rob Martinsen (034049120) Humanities - Dean's Office","AS034049120-Rob Martinsen (034049120) Humanities - Dean's Office","Active",null,null,null,null,null,null,null,null,null,null,null,"SC1635","SC1635||8000","8000","Depreciation",null,"JE_PPE|JE_Override"]
[null,null,null,null,null,null,"AC00236","Anthropology Grad Studnt Funds","AC00236-Anthropology Grad Studnt Funds","Activity","FD01","Active","2025-01-02T03:05:29.942",null,"SC6307","Other Student Aid","SC6307-Other Student Aid","Spend Category","Active",null,null,"1042S","IRS Form 1042S Tax","1042S-IRS Form 1042S Tax",null,null,null,"AS034199857","David Brownell (034199857) Lee Library - Information Technology","AS034199857-David Brownell (034199857) Lee Library - Information Technology","Active",null,null,null,null,null,null,null,null,null,null,null,"SC2010","SC2010||2010","2010","Procurement Card Payable","Primary","All"]
[null,null,null,null,null,null,"AC00237","Anthropology Club","AC00237-Anthropology Club","Activity","FD02","Active","2025-01-02T03:05:29.942",null,"SC6308","Research Fellowships","SC6308-Research Fellowships","Spend Category","Active",null,null,"10501","Student Workshops","10501-Student Workshops",null,null,null,"AS034432760","Ronnie Foo (034432760) Cougareat","AS034432760-Ronnie Foo (034432760) Cougareat","Active",null,null,null,null,null,null,null,null,null,null,null,"SC2011","SC2011||2010","2010","Procurement Card Payable","Primary","All"]
[null,null,null,null,null,null,"AC00238","Publications in Archaeology","AC00238-Publications in Archaeology","Activity","FD03","Active","2025-01-02T03:05:29.942",null,"SC6399","Student Aid (reclass)","SC6399-Student Aid (reclass)","Spend Category","Active",null,null,"10545","Computer Associates","10545-Computer Associates",null,null,null,"AS034669016","Akash Sebastian (034669016) Athletics - Men's Basketball","AS034669016-Akash Sebastian (034669016) Athletics - Men's Basketball","Active",null,null,null,null,null,null,null,null,null,null,null,"SC2020","SC2020||2020","2020","Other and Retainages Payable","Primary","All"]
[null,null,null,null,null,null,"AC00239","Zachary Chase GMA","AC00239-Zachary Chase GMA","Activity","FD03","Active","2025-01-02T03:05:29.942",null,"SC6401","Advertising","SC6401-Advertising","Spend Category","Active",null,null,"10580","Autodesk","10580-Autodesk",null,null,null,"AS035026299","Jeff Bednar (035026299) MSB - Dean's Office, Marriott School of Business","AS035026299-Jeff Bednar (035026299) MSB - Dean's Office, Marriott School of Business","Active",null,null,null,null,null,null,null,null,null,null,null,"SC2021","SC2021||2020","2020","Other and Retainages Payable","Primary","All"]
[null,null,null,null,null,null,"AC00240","Michael Searcy GMA","AC00240-Michael Searcy GMA","Activity","FD03","Active","2025-01-02T03:05:29.942",null,"SC6402","Allocated Indirect Costs","SC6402-Allocated Indirect Costs","Spend Category","Active",null,null,"10583","Software - Microsoft (Campus)","10583-Software - Microsoft (Campus)",null,null,null,"AS035310543","Niwako Yamawaki (035310543) Academic VP Office, Deans","AS035310543-Niwako Yamawaki (035310543) Academic VP Office, Deans","Active",null,null,null,null,null,null,null,null,null,null,null,"SC2030","SC2030||2030","2030","Other Payroll Deducts Payable","Primary","All"]
[null,null,null,null,null,null,"AC00241","Anthropology Field Schools","AC00241-Anthropology Field Schools","Activity","FD03","Active","2025-01-02T03:05:29.942",null,"SC6403","Animal Services","SC6403-Animal Services","Spend Category","Active",null,null,"10597","Environments","10597-Environments",null,null,null,"AS035345304","Craig Shaw (035345304) College of Engineering - Dean's Office","AS035345304-Craig Shaw (035345304) College of Engineering - Dean's Office","Active",null,null,null,null,null,null,null,null,null,null,null,"SC2031","SC2031||2030","2030","Other Payroll Deducts Payable","Primary","All"]
[null,null,null,null,null,null,"AC00243","Anthropology ELF","AC00243-Anthropology ELF","Activity","FD03","Active","2025-01-02T03:05:29.942",null,"SC6404","Architectural or Engineering Services","SC6404-Architectural or Engineering Services","Spend Category","Active",null,null,"10626","Business Support","10626-Business Support",null,null,null,"AS035589209","Julie Kaio (035589209) PMPC Administration","AS035589209-Julie Kaio (035589209) PMPC Administration","Active",null,null,null,null,null,null,null,null,null,null,null,"SC2032","SC2032||2030","2030","Other Payroll Deducts Payable","Primary","All"]
[null,null,null,null,null,null,"AC00244","Museum People-Fees","AC00244-Museum People-Fees","Activity","FD03","Active","2025-01-02T03:05:29.942",null,"SC6405","Art and Design Services","SC6405-Art and Design Services","Spend Category","Active",null,null,"10703","BYU Departments","10703-BYU Departments",null,null,null,"AS035603264","Selma Alexandre (035603264) Lee Library Administration - Metadata & IT Division","AS035603264-Selma Alexandre (035603264) Lee Library Administration - Metadata & IT Division","Active",null,null,null,null,null,null,null,null,null,null,null,"SC2033","SC2033||2030","2030","Other Payroll Deducts Payable","Primary","All"]
[null,null,null,null,null,null,"AC00245","MPC Joint Projects","AC00245-MPC Joint Projects","Activity","FD03","Active","2025-01-02T03:05:29.942",null,"SC6406","Athletic Events","SC6406-Athletic Events","Spend Category","Active",null,null,"10707","Subscriptions/Periodicals","10707-Subscriptions/Periodicals",null,null,null,"AS035657201","JanaLee Longhurst (035657201) JC Provo - President's Office","AS035657201-JanaLee Longhurst (035657201) JC Provo - President's Office","Active",null,null,null,null,null,null,null,null,null,null,null,"SC2090","SC2090||2090","2090","Clearing-Accounts Payable","Primary","All"]
[null,null,null,null,null,null,"AC00246","New World Arch Found Pubs","AC00246-New World Arch Found Pubs","Activity","FD03","Active","2025-01-02T03:05:29.942",null,"SC6407","Audio Visual Media Duplication","SC6407-Audio Visual Media Duplication","Spend Category","Active",null,null,"10708","Dues and Memberships","10708-Dues and Memberships",null,null,null,"AS035783483","James Oldroyd (035783483) MSB - Dean's Office, Marriott School of Business","AS035783483-James Oldroyd (035783483) MSB - Dean's Office, Marriott School of Business","Active",null,null,null,null,null,null,null,null,null,null,null,"SC2100","SC2100||2100","2100","FICA Payable","Primary","All"]
[null,null,null,null,null,null,"AC00247","HR- New World Arch Found","AC00247-HR- New World Arch Found","Activity","FD01","Active","2025-01-02T03:05:29.942",null,"SC6408","Bank, Trust, Collection Fees","SC6408-Bank, Trust, Collection Fees","Spend Category","Active",null,null,"10711","Graduate Studies","10711-Graduate Studies",null,null,null,"AS035835926","Tyson Hutchins (035835926) Athletics - External Relations","AS035835926-Tyson Hutchins (035835926) Athletics - External Relations","Active",null,null,null,null,null,null,null,null,null,null,null,"SC2105","SC2105||2105","2105","Federal Withholding Payable","Primary","All"]
[null,null,null,null,null,null,"AC00248","Economics Club","AC00248-Economics Club","Activity","FD02","Active","2025-01-02T03:05:29.942",null,"SC6409","Bad Debt Expense","SC6409-Bad Debt Expense","Spend Category","Active",null,null,"10726","Investigation-Infrastructure","10726-Investigation-Infrastructure",null,null,null,"AS035905773","Todd Cope (035905773) HS General Medicine - Nursing","AS035905773-Todd Cope (035905773) HS General Medicine - Nursing","Active",null,null,null,null,null,null,null,null,null,null,null,"SC2110","SC2110||2110","2110","State Payroll Taxes Payable","Primary","All"]
[null,null,null,null,null,null,"AC00249","Record Linking Lab","AC00249-Record Linking Lab","Activity","FD02","Active","2025-01-02T03:05:29.942",null,"SC6410","Broadcast Services","SC6410-Broadcast Services","Spend Category","Active",null,null,"10745","Post Office","10745-Post Office",null,null,null,"AS036096603","Kasey Walker (036096603) CE FSY West","AS036096603-Kasey Walker (036096603) CE FSY West","Active",null,null,null,null,null,null,null,null,null,null,null,"SC2130","SC2130||2130","2130","Sales Tax Payable - Utah","Primary","All"]
[null,null,null,null,null,null,"AC00250","P-Ship-Economics-Jrk","AC00250-P-Ship-Economics-Jrk","Activity","FD03","Active","2025-01-02T03:05:29.942",null,"SC6411","Cash Prizes and Contest Payments","SC6411-Cash Prizes and Contest Payments","Spend Category","Active",null,null,"10759","Computer Rental","10759-Computer Rental",null,null,null,"AS036185835","David Lund (036185835) CE Student Success Center","AS036185835-David Lund (036185835) CE Student Success Center","Active",null,null,null,null,null,null,null,null,null,null,null,"SC2132","SC2132||2132","2132","Sales Tax Payable-Other States","Primary","All"]
[null,null,null,null,null,null,"AC00252","Economics ELF","AC00252-Economics ELF","Activity","FD03","Active","2025-01-02T03:05:29.942",null,"SC6412","Cell Phones and Plans","SC6412-Cell Phones and Plans","Spend Category","Active",null,null,"10775","Specialized AV Systems","10775-Specialized AV Systems",null,null,null,"AS036343192","Stephen Banks (036343192) PF Grounds - Landscaping Specialty","AS036343192-Stephen Banks (036343192) PF Grounds - Landscaping Specialty","Active",null,null,null,null,null,null,null,null,null,null,null,"SC2140","SC2140||2140","2140","Property Tax Payable","Primary","All"]
[null,null,null,null,null,null,"AC00253","Geography Student Association","AC00253-Geography Student Association","Activity","FD02","Active","2025-01-02T03:05:29.942",null,"SC6413","Competition Officiating","SC6413-Competition Officiating","Spend Category","Active",null,null,"10777","Open Access Computer Lab","10777-Open Access Computer Lab",null,null,null,"AS036388489","Maddie Blonquist (036388489) Dean's Office of Fine Arts & Communications - Museum of Art","AS036388489-Maddie Blonquist (036388489) Dean's Office of Fine Arts & Communications - Museum of Art","Active",null,null,null,null,null,null,null,null,null,null,null,"SC2150","SC2150||2150","2150","UBIT Payable","Primary","All"]
[null,null,null,null,null,null,"AC00254","SUPA","AC00254-SUPA","Activity","FD02","Active","2025-01-02T03:05:29.942",null,"SC6414","Computer Services","SC6414-Computer Services","Spend Category","Active",null,null,"10850","Advisement Tools","10850-Advisement Tools",null,null,null,"AS036395666","Amy Tanner (036395666) CMS - Dean's Office Computational, Mathematical, & Phsical","AS036395666-Amy Tanner (036395666) CMS - Dean's Office Computational, Mathematical, & Phsical","Active",null,null,null,null,null,null,null,null,null,null,null,"SC2160","SC2160||2160","2160","Other Taxes Payable","Primary","All"]
[null,null,null,null,null,null,"AC00255","Praemon Student Association","AC00255-Praemon Student Association","Activity","FD02","Active","2025-01-02T03:05:29.942",null,"SC6415","Conference and Events Hosting","SC6415-Conference and Events Hosting","Spend Category","Active",null,null,"10877","Recruiting Tools","10877-Recruiting Tools",null,null,null,"AS036534225","Mark Tanner (036534225) Humanities - Dean's Office","AS036534225-Mark Tanner (036534225) Humanities - Dean's Office","Active",null,null,null,null,null,null,null,null,null,null,null,"SC2200","SC2200||2200","2200","Accrued Liabilities","Primary","All"]
[null,null,null,null,null,null,"AC00256","Cartographic Lab","AC00256-Cartographic Lab","Activity","FD03","Active","2025-01-02T03:05:29.942",null,"SC6416","Conference Registration","SC6416-Conference Registration","Spend Category","Active",null,null,"10878","Registration Tools","10878-Registration Tools",null,null,null,"AS036625497","James Swensen (036625497) Humanities - Dean's Office","AS036625497-James Swensen (036625497) Humanities - Dean's Office","Active",null,null,null,null,null,null,null,null,null,null,null,"SC2300","SC2300||2300","2300","Deposits Payable","Primary","All"]
[null,null,null,null,null,null,"AC00258","Geography ELF","AC00258-Geography ELF","Activity","FD03","Active","2025-01-02T03:05:29.942",null,"SC6417","Consulting - Financial and Research","SC6417-Consulting - Financial and Research","Spend Category","Active",null,null,"10881","Scheduling Systems","10881-Scheduling Systems",null,null,null,"AS036662118","Fenima Price (036662118) College of Engineering - Dean's Office","AS036662118-Fenima Price (036662118) College of Engineering - Dean's Office","Active",null,null,null,null,null,null,null,null,null,null,null,"SC2400","SC2400||2400","2400","Annuities Payable","Primary","All"]
[null,null,null,null,null,null,"AC00259","Phi Alpha Theta","AC00259-Phi Alpha Theta","Activity","FD02","Active","2025-01-02T03:05:29.942",null,"SC6418","Credit Card Merchant Fees","SC6418-Credit Card Merchant Fees","Spend Category","Active",null,null,"10942","Custom Training","10942-Custom Training",null,null,null,"AS036712284","Morgan Davis (036712284) AAVP, Faculty Development - Maxwell Institute","AS036712284-Morgan Davis (036712284) AAVP, Faculty Development - Maxwell Institute","Active",null,null,null,null,null,null,null,null,null,null,null,"SC2500","SC2500||2500","2500","Notes Payable","Primary","All"]
[null,null,null,null,null,null,"AC00260","Native American Rights","AC00260-Native American Rights","Activity","FD03","Active","2025-01-02T03:05:29.942",null,"SC6419","Data Connectivity Services","SC6419-Data Connectivity Services","Spend Category","Active",null,null,"10959","Media Engineering","10959-Media Engineering",null,null,null,"AS036967697","Todd Fluckiger (036967697) Chemistry and Biochemistry","AS036967697-Todd Fluckiger (036967697) Chemistry and Biochemistry","Active",null,null,null,null,null,null,null,null,null,null,null,"SC2510","SC2510||2510","2510","Notes Payable-Church","Primary","All"]
[null,null,null,null,null,null,"AC00262","HIstory ELF","AC00262-HIstory ELF","Activity","FD03","Active","2025-01-02T03:05:29.942",null,"SC6420","Educational Facilities - Rent/Lease <=1yr","SC6420-Educational Facilities - Rent/Lease <=1yr","Spend Category","Active",null,null,"10971","Research & Development","10971-Research & Development",null,null,null,"AS037487026","Steve Blanthorn (037487026) HS Administration","AS037487026-Steve Blanthorn (037487026) HS Administration","Active",null,null,null,null,null,null,null,null,null,null,null,"SC4100","SC4100||2600","2600","Deferred Revenue",null,"All"]
[null,null,null,null,null,null,"AC00263","Fam History-Genealogy Projects","AC00263-Fam History-Genealogy Projects","Activity","FD02","Active","2025-01-02T03:05:29.942",null,"SC6421","Employee Development Services","SC6421-Employee Development Services","Spend Category","Active",null,null,"10997","Print Services","10997-Print Services",null,null,null,"AS037491809","Chelsea Cole (037491809) MSE - Dean's Office, McKay School of Education","AS037491809-Chelsea Cole (037491809) MSE - Dean's Office, McKay School of Education","Active",null,null,null,null,null,null,null,null,null,null,null,"SC4100","SC4100||4100","4100","Tuition and Fees","Primary","All"]
[null,null,null,null,null,null,"AC00264","Pi Sigma Alpha","AC00264-Pi Sigma Alpha","Activity","FD02","Active","2025-01-02T03:05:29.942",null,"SC6422","Food Services and Caterers","SC6422-Food Services and Caterers","Spend Category","Active",null,null,"11100","Alabama-Birmingham","11100-Alabama-Birmingham",null,null,null,"AS037502553","Josh Price (037502553) CMS - Dean's Office Computational, Mathematical, & Phsical","AS037502553-Josh Price (037502553) CMS - Dean's Office Computational, Mathematical, & Phsical","Active",null,null,null,null,null,null,null,null,null,null,null,"SC4901","SC4901||4900","4900","Cost of Sales","Primary","All"]
[null,null,null,null,null,null,"AC00265","Tocqueville Group","AC00265-Tocqueville Group","Activity","FD02","Active","2025-01-02T03:05:29.942",null,"SC6423","Foreign Exchange Payment Gain/Loss","SC6423-Foreign Exchange Payment Gain/Loss","Spend Category","Active",null,null,"11103","Colorado-Colorado Springs","11103-Colorado-Colorado Springs",null,null,null,"AS037546469","John Patten (037546469) Academic VP Office, Deans","AS037546469-John Patten (037546469) Academic VP Office, Deans","Active",null,null,null,null,null,null,null,null,null,null,null,"SC4902","SC4902||4900","4900","Cost of Sales","Primary","All"]
[null,null,null,null,null,null,"AC00266","College Repub Club","AC00266-College Repub Club","Activity","FD02","Active","2025-01-02T03:05:29.942",null,"SC6424","Franchise Fees","SC6424-Franchise Fees","Spend Category","Active",null,null,"11105","Florida-Tallahassee","11105-Florida-Tallahassee",null,null,null,"AS037652184","Rachel McGovern (037652184) FHSS - Dean's Office","AS037652184-Rachel McGovern (037652184) FHSS - Dean's Office","Active",null,null,null,null,null,null,null,null,null,null,null,"SC4903","SC4903||4900","4900","Cost of Sales","Primary","All"]
[null,null,null,null,null,null,"AC00267","College Democrats of BYU","AC00267-College Democrats of BYU","Activity","FD02","Active","2025-01-02T03:05:29.942",null,"SC6425","Government Fees","SC6425-Government Fees","Spend Category","Active",null,null,"11110","Nevada-Reno","11110-Nevada-Reno",null,null,null,"AS037842686","Nina Whitehead (037842686) Marketing, Comms, & Tech","AS037842686-Nina Whitehead (037842686) Marketing, Comms, & Tech","Active",null,null,null,null,null,null,null,null,null,null,null,"SC4904","SC4904||4900","4900","Cost of Sales","Primary","All"]
[null,null,null,null,null,null,"AC00268","Prof-Pol-Sci-Magleby","AC00268-Prof-Pol-Sci-Magleby","Activity","FD03","Active","2025-01-02T03:05:29.942",null,"SC6426","Grants Subawards","SC6426-Grants Subawards","Spend Category","Active",null,null,"11111","New York-New York","11111-New York-New York",null,null,null,"AS037893603","Eric Eliason (037893603) Humanities - Dean's Office","AS037893603-Eric Eliason (037893603) Humanities - Dean's Office","Active",null,null,null,null,null,null,null,null,null,null,null,"SC5000","SC5000||5000","5000","Salaries and Wages","Primary","JE_Payroll|JE_Override"]
[null,null,null,null,null,null,"AC00269","Tocqueville Project","AC00269-Tocqueville Project","Activity","FD03","Active","2025-01-02T03:05:29.942",null,"SC6427","Hosted Entertainment","SC6427-Hosted Entertainment","Spend Category","Active",null,null,"11112","Ohio-Columbus","11112-Ohio-Columbus",null,null,null,"AS037908516","Jared Barrott (037908516) Life Sciences - Dean's Office","AS037908516-Jared Barrott (037908516) Life Sciences - Dean's Office","Active",null,null,null,null,null,null,null,null,null,null,null,"SC5009","SC5009||5000","5000","Salaries and Wages","Primary","All"]
[null,null,null,null,null,null,"AC00270","Global Politics Lab - GPL","AC00270-Global Politics Lab - GPL","Activity","FD03","Active","2025-01-02T03:05:29.942",null,"SC6428","Hosted Meals","SC6428-Hosted Meals","Spend Category","Active",null,null,"11113","Oregon-Eugene","11113-Oregon-Eugene",null,null,null,"AS038007991","Tom Halladay (038007991) PF Dining and MTC Maintenance","AS038007991-Tom Halladay (038007991) PF Dining and MTC Maintenance","Active",null,null,null,null,null,null,null,null,null,null,null,"SC5030","SC5030||5000","5000","Salaries and Wages","Primary","JE_Payroll|JE_Override"]
[null,null,null,null,null,null,"AC00272","Political Science ELF","AC00272-Political Science ELF","Activity","FD03","Active","2025-01-02T03:05:29.942",null,"SC6429","Insurance","SC6429-Insurance","Spend Category","Active",null,null,"11116","Tennessee-Chattanooga","11116-Tennessee-Chattanooga",null,null,null,"AS038129523","Emily Leslie (038129523) FHSS - Dean's Office","AS038129523-Emily Leslie (038129523) FHSS - Dean's Office","Active",null,null,null,null,null,null,null,null,null,null,null,"SC5100","SC5100||5000","5000","Salaries and Wages","Primary","JE_Payroll|JE_Override"]
[null,null,null,null,null,null,"AC00273","Poli Sci Sunshine Fund","AC00273-Poli Sci Sunshine Fund","Activity","FD07","Active","2025-01-02T03:05:29.942",null,"SC6430","Janitorial Services","SC6430-Janitorial Services","Spend Category","Active",null,null,"11117","Tennessee-Knoxville","11117-Tennessee-Knoxville",null,null,null,"AS038220462","Karen Seely (038220462) Brand & Creative","AS038220462-Karen Seely (038220462) Brand & Creative","Active",null,null,null,null,null,null,null,null,null,null,null,"SC5109","SC5109||5000","5000","Salaries and Wages","Primary","All"]
[null,null,null,null,null,null,"AC00274","CSED Project","AC00274-CSED Project","Activity","FD03","Active","2025-01-02T03:05:29.942",null,"SC6431","Laundry Services","SC6431-Laundry Services","Spend Category","Active",null,null,"11118","Tennessee-Nashville","11118-Tennessee-Nashville",null,null,null,"AS038337912","Jim Armstrong (038337912) Life Sciences - Dean's Office","AS038337912-Jim Armstrong (038337912) Life Sciences - Dean's Office","Active",null,null,null,null,null,null,null,null,null,null,null,"SC5120","SC5120||5000","5000","Salaries and Wages","Primary","JE_Payroll|JE_Override"]
[null,null,null,null,null,null,"AC00275","American Family Survey","AC00275-American Family Survey","Activity","FD03","Active","2025-01-02T03:05:29.942",null,"SC6432","Legal Services","SC6432-Legal Services","Spend Category","Active",null,null,"11119","Texas-Austin","11119-Texas-Austin",null,null,null,"AS038391352","Darren Aiello (038391352) MSB - Dean's Office, Marriott School of Business","AS038391352-Darren Aiello (038391352) MSB - Dean's Office, Marriott School of Business","Active",null,null,null,null,null,null,null,null,null,null,null,"SC5130","SC5130||5000","5000","Salaries and Wages","Primary","JE_Payroll|JE_Override"]
[null,null,null,null,null,null,"AC00276","Psychology","AC00276-Psychology","Activity","FD01","Active","2025-01-02T03:05:29.942",null,"SC6433","Medical Services","SC6433-Medical Services","Spend Category","Active",null,null,"11120","Texas-San Antonio","11120-Texas-San Antonio",null,null,null,"AS038401493","Katharina Paxman (038401493) Humanities - Dean's Office","AS038401493-Katharina Paxman (038401493) Humanities - Dean's Office","Active",null,null,null,null,null,null,null,null,null,null,null,"SC5190","SC5190||5000","5000","Salaries and Wages","Primary","JE_Payroll|JE_Override"]
[null,null,null,null,null,null,"AC00277","Burlingame, Gary Ph D Students","AC00277-Burlingame, Gary Ph D Students","Activity","FD01","Active","2025-01-02T03:05:29.942",null,"SC6434","Membership Dues","SC6434-Membership Dues","Spend Category","Active",null,null,"11121","Utah-Iron","11121-Utah-Iron",null,null,null,"AS038520514","Lisa Mortensen (038520514) Risk Management & Safety - Risk Management & Insurance","AS038520514-Lisa Mortensen (038520514) Risk Management & Safety - Risk Management & Insurance","Active",null,null,null,null,null,null,null,null,null,null,null,"SC5300","SC5300||5000","5000","Salaries and Wages","Primary","JE_Payroll|JE_Override"]
[null,null,null,null,null,null,"AC00278","Clinical Psychology","AC00278-Clinical Psychology","Activity","FD02","Active","2025-01-02T03:05:29.942",null,"SC6435","Misc Independent Contractors","SC6435-Misc Independent Contractors","Spend Category","Active",null,null,"11122","Texas-Lubbock","11122-Texas-Lubbock",null,null,null,"AS038691148","Kevan Kovacs (038691148) PF Building Operations","AS038691148-Kevan Kovacs (038691148) PF Building Operations","Active",null,null,null,null,null,null,null,null,null,null,null,"SC5309","SC5309||5000","5000","Salaries and Wages","Primary","All"]
[null,null,null,null,null,null,"AC00279","Clinical Neuropsych Externship","AC00279-Clinical Neuropsych Externship","Activity","FD02","Active","2025-01-02T03:05:29.942",null,"SC6436","Non-BYU Tuition Payment","SC6436-Non-BYU Tuition Payment","Spend Category","Active",null,null,"11126","Washington-Tacoma","11126-Washington-Tacoma",null,null,null,"AS038790598","Joseph Roberson (038790598) CE BYU Online High School","AS038790598-Joseph Roberson (038790598) CE BYU Online High School","Active",null,null,null,null,null,null,null,null,null,null,null,"SC5320","SC5320||5000","5000","Salaries and Wages","Primary","JE_Payroll|JE_Override"]
[null,null,null,null,null,null,"AC00280","Psi Chi","AC00280-Psi Chi","Activity","FD02","Active","2025-01-02T03:05:29.942",null,"SC6437","Out of State Worker Contracts","SC6437-Out of State Worker Contracts","Spend Category","Active",null,null,"11127","Washington-Tri-Cities","11127-Washington-Tri-Cities",null,null,null,"AS038874886","Doug Thomas (038874886) Fine Arts & Communications - Dean's Office","AS038874886-Doug Thomas (038874886) Fine Arts & Communications - Dean's Office","Active",null,null,null,null,null,null,null,null,null,null,null,"SC5400","SC5400||5000","5000","Salaries and Wages","Primary","JE_Payroll|JE_Override"]
[null,null,null,null,null,null,"AC00281","EEG/ERP Training & Research","AC00281-EEG/ERP Training & Research","Activity","FD03","Active","2025-01-02T03:05:29.942",null,"SC6438","Performers/Presenters","SC6438-Performers/Presenters","Spend Category","Active",null,null,"11128","Washington-Spokane","11128-Washington-Spokane",null,null,null,"AS039054501","Terri Summers (039054501) MSE - Teacher Education","AS039054501-Terri Summers (039054501) MSE - Teacher Education","Active",null,null,null,null,null,null,null,null,null,null,null,"SC5409","SC5409||5000","5000","Salaries and Wages","Primary","All"]
[null,null,null,null,null,null,"AC00282","Steven Luke Psychology","AC00282-Steven Luke Psychology","Activity","FD03","Active","2025-01-02T03:05:29.942",null,"SC6439","Pest Control Services","SC6439-Pest Control Services","Spend Category","Active",null,null,"11129","Washington-Vancouver","11129-Washington-Vancouver",null,null,null,"AS039175395","Bill Oldroyd (039175395) Enrollment Services Executive Director's Office","AS039175395-Bill Oldroyd (039175395) Enrollment Services Executive Director's Office","Active",null,null,null,null,null,null,null,null,null,null,null,"SC5430","SC5430||5000","5000","Salaries and Wages","Primary","JE_Payroll|JE_Override"]
[null,null,null,null,null,null,"AC00283","Melissa Jones GMA","AC00283-Melissa Jones GMA","Activity","FD03","Active","2025-01-02T03:05:29.942",null,"SC6440","Portable Structures-Rent/Lease <=1yr","SC6440-Portable Structures-Rent/Lease <=1yr","Spend Category","Active",null,null,"11130","WI Milwaukee","11130-WI Milwaukee",null,null,null,"AS039392058","Allan Guymon (039392058) College of Engineering - Dean's Office","AS039392058-Allan Guymon (039392058) College of Engineering - Dean's Office","Active",null,null,null,null,null,null,null,null,null,null,null,"SC5500","SC5500||5000","5000","Salaries and Wages","Primary","JE_Payroll|JE_Override"]
[null,null,null,null,null,null,"AC00284","Dee Higley GMA","AC00284-Dee Higley GMA","Activity","FD03","Active","2025-01-02T03:05:29.942",null,"SC6441","Postage, Shipping and Freight","SC6441-Postage, Shipping and Freight","Spend Category","Active",null,null,"11131","WI Madison","11131-WI Madison",null,null,null,"AS039447169","John Gardner (039447169) MSB - Dean's Office, Marriott School of Business","AS039447169-John Gardner (039447169) MSB - Dean's Office, Marriott School of Business","Active",null,null,null,null,null,null,null,null,null,null,null,"SC5502","SC5502||5000","5000","Salaries and Wages","Primary","JE_Payroll|JE_Override"]
[null,null,null,null,null,null,"AC00285","B Brown Translation Medicine","AC00285-B Brown Translation Medicine","Activity","FD03","Active","2025-01-02T03:05:29.942",null,"SC6442","Printing Services","SC6442-Printing Services","Spend Category","Active",null,null,"11145","Singapore-Singapore","11145-Singapore-Singapore",null,null,null,"AS039534394","Kenneth Plummer (039534394) Center for Teaching & Learning -A Academic Technology","AS039534394-Kenneth Plummer (039534394) Center for Teaching & Learning -A Academic Technology","Active",null,null,null,null,null,null,null,null,null,null,null,"SC5509","SC5509||5000","5000","Salaries and Wages","Primary","All"]
[null,null,null,null,null,null,"AC00287","Psychology ELF","AC00287-Psychology ELF","Activity","FD03","Active","2025-01-02T03:05:29.942",null,"SC6443","Production Services","SC6443-Production Services","Spend Category","Active",null,null,"11149","New Mexico-Farmington","11149-New Mexico-Farmington",null,null,null,"AS039578575","Lynn Williams (039578575) Humanities - Dean's Office","AS039578575-Lynn Williams (039578575) Humanities - Dean's Office","Active",null,null,null,null,null,null,null,null,null,null,null,"SC5600","SC5600||5000","5000","Salaries and Wages","Primary","JE_Payroll|JE_Override"]
[null,null,null,null,null,null,"AC00288","MFHD Graduate Funds","AC00288-MFHD Graduate Funds","Activity","FD01","Active","2025-01-02T03:05:29.942",null,"SC6444","Promotional and Branded Items","SC6444-Promotional and Branded Items","Spend Category","Active",null,null,"11150","Leadership Conference","11150-Leadership Conference",null,null,null,"AS039615711","Mariana Call (039615711) PF Building Operations","AS039615711-Mariana Call (039615711) PF Building Operations","Active",null,null,null,null,null,null,null,null,null,null,null,"SC5602","SC5602||5000","5000","Salaries and Wages","Primary","JE_Payroll|JE_Override"]
[null,null,null,null,null,null,"AC00289","MFT Graduate Funds","AC00289-MFT Graduate Funds","Activity","FD01","Active","2025-01-02T03:05:29.942",null,"SC6445","Public Safety Services","SC6445-Public Safety Services","Spend Category","Active",null,null,"11151","Alaska, Anchorage","11151-Alaska, Anchorage",null,null,null,"AS039628310","Amy Richins (039628310) FHSS - Dean's Office","AS039628310-Amy Richins (039628310) FHSS - Dean's Office","Active",null,null,null,null,null,null,null,null,null,null,null,"SC5609","SC5609||5000","5000","Salaries and Wages","Primary","All"]
[null,null,null,null,null,null,"AC00290","Relate Institute","AC00290-Relate Institute","Activity","FD02","Active","2025-01-02T03:05:29.942",null,"SC6446","Publication Services","SC6446-Publication Services","Spend Category","Active",null,null,"11153","Ohio, Cleveland","11153-Ohio, Cleveland",null,null,null,"AS039692183","Adam Stevens (039692183) Technology Transfer Office","AS039692183-Adam Stevens (039692183) Technology Transfer Office","Active",null,null,null,null,null,null,null,null,null,null,null,"SC5700","SC5700||5000","5000","Salaries and Wages","Primary","JE_Payroll|JE_Override"]
[null,null,null,null,null,null,"AC00291","Sewing Lab 185","AC00291-Sewing Lab 185","Activity","FD02","Active","2025-01-02T03:05:29.942",null,"SC6447","Real Estate - Rent/Lease <=1yr","SC6447-Real Estate - Rent/Lease <=1yr","Spend Category","Active",null,null,"11206","Honored Alumni","11206-Honored Alumni",null,null,null,"AS039811149","Heather Chewning (039811149) MSB - Dean's Office, Marriott School of Business","AS039811149-Heather Chewning (039811149) MSB - Dean's Office, Marriott School of Business","Active",null,null,null,null,null,null,null,null,null,null,null,"SC5709","SC5709||5000","5000","Salaries and Wages","Primary","All"]
[null,null,null,null,null,null,"AC00292","Family Life Education Support","AC00292-Family Life Education Support","Activity","FD02","Active","2025-01-02T03:05:29.942",null,"SC6448","Real Estate - Rent/Lease >1yr","SC6448-Real Estate - Rent/Lease >1yr","Spend Category","Active",null,null,"11300","ATH Office Administration","11300-ATH Office Administration",null,null,null,"AS039836146","Savanna Bagley (039836146) Dining Designs","AS039836146-Savanna Bagley (039836146) Dining Designs","Active",null,null,null,null,null,null,null,null,null,null,null,"SC5730","SC5730||5000","5000","Salaries and Wages","Primary","JE_Payroll|JE_Override"]
[null,null,null,null,null,null,"AC00293","Schl of Fam Life Student Assoc","AC00293-Schl of Fam Life Student Assoc","Activity","FD02","Active","2025-01-02T03:05:29.942",null,"SC6449","Rent/Lease < = 1 year","SC6449-Rent/Lease < = 1 year","Spend Category","Active",null,null,"11303","ATH E Club","11303-ATH E Club",null,null,null,"AS039884947","Rachel Platt (039884947) College of Nursing","AS039884947-Rachel Platt (039884947) College of Nursing","Active",null,null,null,null,null,null,null,null,null,null,null,"SC5800","SC5800||5000","5000","Salaries and Wages","Primary","JE_Payroll|JE_Override"]
[null,null,null,null,null,null,"AC00294","Food Preparation Lab","AC00294-Food Preparation Lab","Activity","FD02","Active","2025-01-02T03:05:29.942",null,"SC6450","Rent/Lease >1 Year","SC6450-Rent/Lease >1 Year","Spend Category","Active",null,null,"11307","ATH Cougar Room","11307-ATH Cougar Room",null,null,null,"AS039965505","Anna Metcalf (039965505) Athletics - External Relations","AS039965505-Anna Metcalf (039965505) Athletics - External Relations","Active",null,null,null,null,null,null,null,null,null,null,null,"SC5860","SC5860||5000","5000","Salaries and Wages","Primary","JE_Payroll|JE_Override"]
[null,null,null,null,null,null,"AC00295","U3 Research","AC00295-U3 Research","Activity","FD03","Active","2025-01-02T03:05:29.942",null,"SC6451","Research Subjects","SC6451-Research Subjects","Spend Category","Active",null,null,"11310","Golf Events","11310-Golf Events",null,null,null,"AS040159463","Justin Dyer (040159463) Religious Educcation - Dean's Office","AS040159463-Justin Dyer (040159463) Religious Educcation - Dean's Office","Active",null,null,null,null,null,null,null,null,null,null,null,"SC5890","SC5890||5800","5800","Project Labor Cost","Primary","JE_Payroll|JE_Override"]
[null,null,null,null,null,null,"AC00296","Sexual Mindfulness","AC00296-Sexual Mindfulness","Activity","FD03","Active","2025-01-02T03:05:29.942",null,"SC6452","Royalties and Licensing Fees","SC6452-Royalties and Licensing Fees","Spend Category","Active",null,null,"11311","ATH Hall of Fame","11311-ATH Hall of Fame",null,null,null,"AS040411844","James Hansen (040411844) MSB - Dean's Office, Marriott School of Business","AS040411844-James Hansen (040411844) MSB - Dean's Office, Marriott School of Business","Active",null,null,null,null,null,null,null,null,null,null,null,"SC5891","SC5891||5801","5801","Project Labor Cost Recovery","Primary","JE_Payroll|JE_Override"]
[null,null,null,null,null,null,"AC00297","Family Finance Research - F2R3","AC00297-Family Finance Research - F2R3","Activity","FD03","Active","2025-01-02T03:05:29.942",null,"SC6453","Scientific Services","SC6453-Scientific Services","Spend Category","Active",null,null,"11312","ATH Legacy","11312-ATH Legacy",null,null,null,"AS040582603","Julie Averett (040582603) MSB - School of Accountancy","AS040582603-Julie Averett (040582603) MSB - School of Accountancy","Active",null,null,null,null,null,null,null,null,null,null,null,"SC5892","SC5892||5800","5800","Project Labor Cost","Primary","JE_Payroll|JE_Override"]
[null,null,null,null,null,null,"AC00298","Jackling Home Economics Fund","AC00298-Jackling Home Economics Fund","Activity","FD03","Active","2025-01-02T03:05:29.942",null,"SC6454","Screening Services","SC6454-Screening Services","Spend Category","Active",null,null,"11313","ATH CC Trip","11313-ATH CC Trip",null,null,null,"AS040582729","Michael Ralls (040582729) OIT Portfolio - CES Network Center (CNC)","AS040582729-Michael Ralls (040582729) OIT Portfolio - CES Network Center (CNC)","Active",null,null,null,null,null,null,null,null,null,null,null,"SC5893","SC5893||5801","5801","Project Labor Cost Recovery","Primary","JE_Payroll|JE_Override"]
[null,null,null,null,null,null,"AC00299","Health Sexuality Research","AC00299-Health Sexuality Research","Activity","FD03","Active","2025-01-02T03:05:29.942",null,"SC6455","Services (not otherwise specified)","SC6455-Services (not otherwise specified)","Spend Category","Active",null,null,"11318","ATH Cougar Strong","11318-ATH Cougar Strong",null,null,null,"AS040921974","Kellie Barnhurst (040921974) HS Administration","AS040921974-Kellie Barnhurst (040921974) HS Administration","Active",null,null,null,null,null,null,null,null,null,null,null,"SC5899","SC5899||5000","5000","Salaries and Wages","Primary","All"]
[null,null,null,null,null,null,"AC00300","MFT Process Project","AC00300-MFT Process Project","Activity","FD03","Active","2025-01-02T03:05:29.942",null,"SC6456","Shared Partner Services","SC6456-Shared Partner Services","Spend Category","Active",null,null,"11319","ATH GoCougs.com","11319-ATH GoCougs.com",null,null,null,"AS041240744","Michael Standing (041240744) Academic VP Office","AS041240744-Michael Standing (041240744) Academic VP Office","Active",null,null,null,null,null,null,null,null,null,null,null,"SC5900","SC5900||5900","5900","Benefits","Primary","JE_Payroll|JE_Override"]
[null,null,null,null,null,null,"AC00301","PACIFIC Project","AC00301-PACIFIC Project","Activity","FD03","Active","2025-01-02T03:05:29.942",null,"SC6457","Student Teacher Supervision","SC6457-Student Teacher Supervision","Spend Category","Active",null,null,"11323","ATH Cougar Room","11323-ATH Cougar Room",null,null,null,"AS041564784","Jianting Shi (041564784) College of Engineering - Dean's Office","AS041564784-Jianting Shi (041564784) College of Engineering - Dean's Office","Active",null,null,null,null,null,null,null,null,null,null,null,"SC5910","SC5910||5900","5900","Benefits","Primary","JE_Payroll|JE_Override"]
[null,null,null,null,null,null,"AC00302","Media Project","AC00302-Media Project","Activity","FD03","Active","2025-01-02T03:05:29.942",null,"SC6458","Subscriptions","SC6458-Subscriptions","Spend Category","Active",null,null,"11324","ATH ATH CC Same Day Trips","11324-ATH ATH CC Same Day Trips",null,null,null,"AS041692304","Jonathan Black (041692304) OIT Resource - Platform Engineering","AS041692304-Jonathan Black (041692304) OIT Resource - Platform Engineering","Active",null,null,null,null,null,null,null,null,null,null,null,"SC5930","SC5930||5900","5900","Benefits","Primary","JE_Payroll|JE_Override"]
[null,null,null,null,null,null,"AC00303","Williams Prof-ship C H Hart","AC00303-Williams Prof-ship C H Hart","Activity","FD03","Active","2025-01-02T03:05:29.942",null,"SC6459","Taxes","SC6459-Taxes","Spend Category","Active",null,null,"11325","ATH Y Fan","11325-ATH Y Fan",null,null,null,"AS041699320","Brian Baird (041699320) Bindery Total","AS041699320-Brian Baird (041699320) Bindery Total","Active",null,null,null,null,null,null,null,null,null,null,null,"SC5940","SC5940||5900","5900","Benefits","Primary","JE_Payroll|JE_Override"]
[null,null,null,null,null,null,"AC00304","READY Project","AC00304-READY Project","Activity","FD03","Active","2025-01-02T03:05:29.942",null,"SC6460","Testing Services","SC6460-Testing Services","Spend Category","Active",null,null,"11326","ATH Regular Cougar","11326-ATH Regular Cougar",null,null,null,"AS042554455","Laura Bond (042554455) Student Connection and Leadership Center","AS042554455-Laura Bond (042554455) Student Connection and Leadership Center","Active",null,null,null,null,null,null,null,null,null,null,null,"SC5950","SC5950||5900","5900","Benefits","Primary","JE_Payroll|JE_Override"]
[null,null,null,null,null,null,"AC00305","American Families of Faith","AC00305-American Families of Faith","Activity","FD03","Active","2025-01-02T03:05:29.942",null,"SC6461","TV, Media Subscription Services","SC6461-TV, Media Subscription Services","Spend Category","Active",null,null,"11327","ATH Bronze Cougar","11327-ATH Bronze Cougar",null,null,null,"AS042626057","Derek Sainsbury (042626057) CE Online Services 2","AS042626057-Derek Sainsbury (042626057) CE Online Services 2","Active",null,null,null,null,null,null,null,null,null,null,null,"SC5970","SC5970||5900","5900","Benefits","Primary","JE_Payroll|JE_Override"]
[null,null,null,null,null,null,"AC00306","CREATE Project","AC00306-CREATE Project","Activity","FD03","Active","2025-01-02T03:05:29.942",null,"SC6462","University Donations","SC6462-University Donations","Spend Category","Active",null,null,"11328","ATH Platinum Cougar","11328-ATH Platinum Cougar",null,null,null,"AS042950870","Mike Maynor (042950870) PF Building Operations","AS042950870-Mike Maynor (042950870) PF Building Operations","Active",null,null,null,null,null,null,null,null,null,null,null,"SC5990","SC5990||5900","5900","Benefits","Primary","JE_Payroll|JE_Override"]
[null,null,null,null,null,null,"AC00307","CHAMPS Project","AC00307-CHAMPS Project","Activity","FD03","Active","2025-01-02T03:05:29.942",null,"SC6463","Waste Disposal Services","SC6463-Waste Disposal Services","Spend Category","Active",null,null,"11329","ATH Silver Cougar","11329-ATH Silver Cougar",null,null,null,"AS042952793","Katelyn Ordyna (042952793) PF Grounds - Landscaping Specialty","AS042952793-Katelyn Ordyna (042952793) PF Grounds - Landscaping Specialty","Active",null,null,null,null,null,null,null,null,null,null,null,"SC5995","SC5995||5900","5900","Benefits","Primary","JE_Payroll|JE_Override"]
[null,null,null,null,null,null,"AC00308","Suicide Bereavement","AC00308-Suicide Bereavement","Activity","FD03","Active","2025-01-02T03:05:29.942",null,"SC6464","Facilities and Administration Expense","SC6464-Facilities and Administration Expense","Spend Category","Active",null,null,"11330","ATH Golden Cougar","11330-ATH Golden Cougar",null,null,null,"AS043026334","Quin Swallow (043026334) OIT Resource - Tech Operations - Enterprise Apps","AS043026334-Quin Swallow (043026334) OIT Resource - Tech Operations - Enterprise Apps","Active",null,null,null,null,null,null,null,null,null,null,null,"SC5998","SC5998||5900","5900","Benefits","Primary","JE_Payroll|JE_Override"]
[null,null,null,null,null,null,"AC00309","ADEPT Project","AC00309-ADEPT Project","Activity","FD03","Active","2025-01-02T03:05:29.942",null,"SC6465","Facilities and Administration Recovery","SC6465-Facilities and Administration Recovery","Spend Category","Active",null,null,"11331","ATH ATH CC Football Trip","11331-ATH ATH CC Football Trip",null,null,null,"AS043140250","Kirk Rich (043140250) Food to Go Services","AS043140250-Kirk Rich (043140250) Food to Go Services","Active",null,null,null,null,null,null,null,null,null,null,null,"SC5999","SC5999||5900","5900","Benefits","Primary","All"]
[null,null,null,null,null,null,"AC00310","Global Families Research","AC00310-Global Families Research","Activity","FD03","Active","2025-01-02T03:05:29.942",null,"SC6466","Income Taxes","SC6466-Income Taxes","Spend Category","Active",null,null,"11332","ATH Legacy 2","11332-ATH Legacy 2",null,null,null,"AS043171855","Andy Bay (043171855) Alumni Relations","AS043171855-Andy Bay (043171855) Alumni Relations","Active",null,null,null,null,null,null,null,null,null,null,null,"SC6101","SC6101||1400","1400","Prepaid Expenses",null,"All"]
[null,null,null,null,null,null,"AC00311","Integrative Writing Program","AC00311-Integrative Writing Program","Activity","FD03","Active","2025-01-02T03:05:29.942",null,"SC6467","Donation to Affiliate","SC6467-Donation to Affiliate","Spend Category","Active",null,null,"11333","ATH Legacy 3","11333-ATH Legacy 3",null,null,null,"AS043238269","Erin Bailey (043238269) Fine Arts & Communications - Dean's Office","AS043238269-Erin Bailey (043238269) Fine Arts & Communications - Dean's Office","Active",null,null,null,null,null,null,null,null,null,null,null,"SC6101","SC6101||6100","6100","Materials and Supplies","Primary","All"]
[null,null,null,null,null,null,"AC00312","SFL Writing Program","AC00312-SFL Writing Program","Activity","FD03","Active","2025-01-02T03:05:29.942",null,"SC6499","General and Administrative (reclass)","SC6499-General and Administrative (reclass)","Spend Category","Active",null,null,"11334","ATH Legacy 4","11334-ATH Legacy 4",null,null,null,"AS043281326","Grayson Morgan (043281326) FHSS - Dean's Office","AS043281326-Grayson Morgan (043281326) FHSS - Dean's Office","Active",null,null,null,null,null,null,null,null,null,null,null,"SC6102","SC6102||1400","1400","Prepaid Expenses",null,"All"]
[null,null,null,null,null,null,"AC00313","RESTARTS","AC00313-RESTARTS","Activity","FD03","Active","2025-01-02T03:05:29.942",null,"SC6610","Interest Expense","SC6610-Interest Expense","Spend Category","Active",null,null,"11335","ATH Legacy 5","11335-ATH Legacy 5",null,null,null,"AS043310669","Kristen Erekson (043310669) Academic VP Office, Deans","AS043310669-Kristen Erekson (043310669) Academic VP Office, Deans","Active",null,null,null,null,null,null,null,null,null,null,null,"SC6102","SC6102||6100","6100","Materials and Supplies","Primary","All"]
[null,null,null,null,null,null,"AC00314","Child Marriage in Ghana","AC00314-Child Marriage in Ghana","Activity","FD03","Active","2025-01-02T03:05:29.942",null,"SC6701","Building Access Supplies","SC6701-Building Access Supplies","Spend Category","Active",null,null,"11336","ATH Legacy 6","11336-ATH Legacy 6",null,null,null,"AS043323198","Kevin John (043323198) Fine Arts & Communications - Dean's Office","AS043323198-Kevin John (043323198) Fine Arts & Communications - Dean's Office","Active",null,null,null,null,null,null,null,null,null,null,null,"SC6103","SC6103||1400","1400","Prepaid Expenses",null,"All"]
[null,null,null,null,null,null,"AC00315","Festivals Project","AC00315-Festivals Project","Activity","FD03","Active","2025-01-02T03:05:29.942",null,"SC6702","Building Construction and Improvements","SC6702-Building Construction and Improvements","Spend Category","Active",null,null,"11338","Fund Raising","11338-Fund Raising",null,null,null,"AS044370492","Jay Brown (044370492) Off Campus Housing","AS044370492-Jay Brown (044370492) Off Campus Housing","Active",null,null,null,null,null,null,null,null,null,null,null,"SC6103","SC6103||6100","6100","Materials and Supplies","Primary","All"]
[null,null,null,null,null,null,"AC00316","Project M.E.D.I.A. PIA","AC00316-Project M.E.D.I.A. PIA","Activity","FD03","Active","2025-01-02T03:05:29.942",null,"SC6703","Building Furnishings","SC6703-Building Furnishings","Spend Category","Active",null,null,"11339","ATH AD Circle","11339-ATH AD Circle",null,null,null,"AS044418697","Nicole Clawson (044418697) Humanities - Dean's Office","AS044418697-Nicole Clawson (044418697) Humanities - Dean's Office","Active",null,null,null,null,null,null,null,null,null,null,null,"SC6104","SC6104||1400","1400","Prepaid Expenses",null,"All"]
[null,null,null,null,null,null,"AC00318","SFL ELF","AC00318-SFL ELF","Activity","FD03","Active","2025-01-02T03:05:29.942",null,"SC6704","Building Materials - Finishing","SC6704-Building Materials - Finishing","Spend Category","Active",null,null,"11342","Lifetime Silver","11342-Lifetime Silver",null,null,null,"AS044555761","James Cardon (044555761) FHSS - Dean's Office","AS044555761-James Cardon (044555761) FHSS - Dean's Office","Active",null,null,null,null,null,null,null,null,null,null,null,"SC6104","SC6104||6100","6100","Materials and Supplies","Primary","All"]
[null,null,null,null,null,null,"AC00319","Home Economics Sunshine Fund","AC00319-Home Economics Sunshine Fund","Activity","FD07","Active","2025-01-02T03:05:29.942",null,"SC6705","Building Materials - Raw","SC6705-Building Materials - Raw","Spend Category","Active",null,null,"11352","Events","11352-Events",null,null,null,"AS045035609","TaraLee Cook (045035609) MSB - Management","AS045035609-TaraLee Cook (045035609) MSB - Management","Active",null,null,null,null,null,null,null,null,null,null,null,"SC6105","SC6105||1400","1400","Prepaid Expenses",null,"All"]
[null,null,null,null,null,null,"AC00320","Flourishing Families II","AC00320-Flourishing Families II","Activity","FD03","Active","2025-01-02T03:05:29.942",null,"SC6706","Electrical Devices","SC6706-Electrical Devices","Spend Category","Active",null,null,"11353","Football","11353-Football",null,null,null,"AS045167865","Brett Scharffs (045167865) Academic VP Office, Deans","AS045167865-Brett Scharffs (045167865) Academic VP Office, Deans","Active",null,null,null,null,null,null,null,null,null,null,null,"SC6105","SC6105||6100","6100","Materials and Supplies","Primary","All"]
[null,null,null,null,null,null,"AC00321","Fam Clinic Fam Consl","AC00321-Fam Clinic Fam Consl","Activity","FD02","Active","2025-01-02T03:05:29.942",null,"SC6707","Electrical Supplies","SC6707-Electrical Supplies","Spend Category","Active",null,null,"11354","Basketball Men's","11354-Basketball Men's",null,null,null,"AS045325744","Brent Moore (045325744) OIT Leadership - CES Architecture","AS045325744-Brent Moore (045325744) OIT Leadership - CES Architecture","Active",null,null,null,null,null,null,null,null,null,null,null,"SC6106","SC6106||1400","1400","Prepaid Expenses",null,"All"]
[null,null,null,null,null,null,"AC00322","C&FSL Business Operations","AC00322-C&FSL Business Operations","Activity","FD02","Active","2025-01-02T03:05:29.942",null,"SC6708","Fans/Furnaces","SC6708-Fans/Furnaces","Spend Category","Active",null,null,"11355","Band Day","11355-Band Day",null,null,null,"AS045666134","Ray Merritt (045666134) PF AVP Office","AS045666134-Ray Merritt (045666134) PF AVP Office","Active",null,null,null,null,null,null,null,null,null,null,null,"SC6106","SC6106||1650","1650","Construction in Progress",null,"JE_PPE|JE_Override"]
[null,null,null,null,null,null,"AC00323","Social Work","AC00323-Social Work","Activity","FD01","Active","2025-01-02T03:05:29.942",null,"SC6709","Flooring Materials","SC6709-Flooring Materials","Spend Category","Active",null,null,"11358","Basketball Women's","11358-Basketball Women's",null,null,null,"AS045860515","Eric Butler (045860515) PF Building Operations","AS045860515-Eric Butler (045860515) PF Building Operations","Active",null,null,null,null,null,null,null,null,null,null,null,"SC6106","SC6106||1651","1651","Construction in Progress (Non-Workday Projects)",null,"All"]
[null,null,null,null,null,null,"AC00324","Master of Social Work St Assoc","AC00324-Master of Social Work St Assoc","Activity","FD02","Active","2025-01-02T03:05:29.942",null,"SC6710","Furnishing Accessories","SC6710-Furnishing Accessories","Spend Category","Active",null,null,"11359","Gymnastics","11359-Gymnastics",null,null,null,"AS046004146","Brian Jeffs (046004146) College of Engineering - Dean's Office","AS046004146-Brian Jeffs (046004146) College of Engineering - Dean's Office","Active",null,null,null,null,null,null,null,null,null,null,null,"SC6106","SC6106||6100","6100","Materials and Supplies","Primary","All"]
[null,null,null,null,null,null,"AC00326","Social Work ELF","AC00326-Social Work ELF","Activity","FD03","Active","2025-01-02T03:05:29.942",null,"SC6711","Grounds and Landscaping Supplies","SC6711-Grounds and Landscaping Supplies","Spend Category","Active",null,null,"11360","Christmas Around the World","11360-Christmas Around the World",null,null,null,"AS046066685","Klint Hobbs (046066685) Housing Administration","AS046066685-Klint Hobbs (046066685) Housing Administration","Active",null,null,null,null,null,null,null,null,null,null,null,"SC6107","SC6107||1400","1400","Prepaid Expenses",null,"All"]
[null,null,null,null,null,null,"AC00327","Sociology Graduate Prog.","AC00327-Sociology Graduate Prog.","Activity","FD01","Active","2025-01-02T03:05:29.942",null,"SC6712","Grounds Services","SC6712-Grounds Services","Spend Category","Active",null,null,"11361","Ballroom Dance - Sport","11361-Ballroom Dance - Sport",null,null,null,"AS046299199","Nicholas Mason (046299199) Humanities - Dean's Office","AS046299199-Nicholas Mason (046299199) Humanities - Dean's Office","Active",null,null,null,null,null,null,null,null,null,null,null,"SC6107","SC6107||6100","6100","Materials and Supplies","Primary","All"]
[null,null,null,null,null,null,"AC00328","Life & Family Legacies Study","AC00328-Life & Family Legacies Study","Activity","FD01","Active","2025-01-02T03:05:29.942",null,"SC6713","Industrial Fixtures","SC6713-Industrial Fixtures","Spend Category","Active",null,null,"11362","Ballroom Dance - Concert","11362-Ballroom Dance - Concert",null,null,null,"AS046399270","Cameron Schuetzler (046399270) Campus Scheduling","AS046399270-Cameron Schuetzler (046399270) Campus Scheduling","Active",null,null,null,null,null,null,null,null,null,null,null,"SC6108","SC6108||1400","1400","Prepaid Expenses",null,"All"]
[null,null,null,null,null,null,"AC00329","Sociology Student Association","AC00329-Sociology Student Association","Activity","FD02","Active","2025-01-02T03:05:29.942",null,"SC6714","Lighting Fixtures and Lamps","SC6714-Lighting Fixtures and Lamps","Spend Category","Active",null,null,"11363","Korean Club Bobsim","11363-Korean Club Bobsim",null,null,null,"AS046482685","David B Dahl (046482685) Academic VP Office, Deans","AS046482685-David B Dahl (046482685) Academic VP Office, Deans","Active",null,null,null,null,null,null,null,null,null,null,null,"SC6108","SC6108||1650","1650","Construction in Progress",null,"JE_PPE|JE_Override"]
[null,null,null,null,null,null,"AC00330","Rural Socialogy Journal","AC00330-Rural Socialogy Journal","Activity","FD02","Active","2025-01-02T03:05:29.942",null,"SC6715","Plumbing Fixtures","SC6715-Plumbing Fixtures","Spend Category","Active",null,null,"11364","Stadium of Fire","11364-Stadium of Fire",null,null,null,"AS046579839","Otavio Souza (046579839) Athletics - Men's Volleyball","AS046579839-Otavio Souza (046579839) Athletics - Men's Volleyball","Active",null,null,null,null,null,null,null,null,null,null,null,"SC6108","SC6108||1651","1651","Construction in Progress (Non-Workday Projects)",null,"All"]
[null,null,null,null,null,null,"AC00331","Life & Family Legacies Study","AC00331-Life & Family Legacies Study","Activity","FD03","Active","2025-01-02T03:05:29.942",null,"SC6716","Retainage","SC6716-Retainage","Spend Category","Active",null,null,"11365","Museum Exhibit","11365-Museum Exhibit",null,null,null,"AS046866186","Jani Radebaugh (046866186) CMS - Dean's Office Computational, Mathematical, & Phsical","AS046866186-Jani Radebaugh (046866186) CMS - Dean's Office Computational, Mathematical, & Phsical","Active",null,null,null,null,null,null,null,null,null,null,null,"SC6108","SC6108||6100","6100","Materials and Supplies","Primary","All"]
[null,null,null,null,null,null,"AC00332","Graduate Studies (TR)","AC00332-Graduate Studies (TR)","Activity","FD03","Active","2025-01-02T03:05:29.942",null,"SC6717","Retainage Interest","SC6717-Retainage Interest","Spend Category","Active",null,null,"11368","Other Events","11368-Other Events",null,null,null,"AS046927915","Shannon Keeley (046927915) Marketing, Comms, & Tech","AS046927915-Shannon Keeley (046927915) Marketing, Comms, & Tech","Active",null,null,null,null,null,null,null,null,null,null,null,"SC6109","SC6109||1400","1400","Prepaid Expenses",null,"All"]
[null,null,null,null,null,null,"AC00333","Fatherhood Research Project","AC00333-Fatherhood Research Project","Activity","FD03","Active","2025-01-02T03:05:29.942",null,"SC6718","Signage, Electronic","SC6718-Signage, Electronic","Spend Category","Active",null,null,"11374","Novelties","11374-Novelties",null,null,null,"AS047197454","Jodelle Roberts (047197454) PF Building Operations","AS047197454-Jodelle Roberts (047197454) PF Building Operations","Active",null,null,null,null,null,null,null,null,null,null,null,"SC6109","SC6109||6100","6100","Materials and Supplies","Primary","All"]
[null,null,null,null,null,null,"AC00335","Sociology ELF","AC00335-Sociology ELF","Activity","FD03","Active","2025-01-02T03:05:29.942",null,"SC6719","Signage, Non-electronic","SC6719-Signage, Non-electronic","Spend Category","Active",null,null,"11376","Concessions","11376-Concessions",null,null,null,"AS047441517","Cameron Hee (047441517) Student Life VP","AS047441517-Cameron Hee (047441517) Student Life VP","Active",null,null,null,null,null,null,null,null,null,null,null,"SC6110","SC6110||1400","1400","Prepaid Expenses",null,"All"]
[null,null,null,null,null,null,"AC00336","Life Sciences Communications","AC00336-Life Sciences Communications","Activity","FD01","Active","2025-01-02T03:05:29.942",null,"SC6720","Specialized Trade Services - Physical Facilities","SC6720-Specialized Trade Services - Physical Facilities","Spend Category","Active",null,null,"11377","Facility Rm Rent","11377-Facility Rm Rent",null,null,null,"AS047509842","Taylor Glad (047509842) OIT Resource - AV Events","AS047509842-Taylor Glad (047509842) OIT Resource - AV Events","Active",null,null,null,null,null,null,null,null,null,null,null,"SC6110","SC6110||6100","6100","Materials and Supplies","Primary","All"]
[null,null,null,null,null,null,"AC00337","Research & Prof Dev","AC00337-Research & Prof Dev","Activity","FD01","Active","2025-01-02T03:05:29.942",null,"SC6721","Stage and Studio Lighting (Asset Track)","SC6721-Stage and Studio Lighting (Asset Track)","Spend Category","Active",null,null,"11378","P/P MC Projects","11378-P/P MC Projects",null,null,null,"AS047801238","Brayden Woodall (047801238) Athletics - Football","AS047801238-Brayden Woodall (047801238) Athletics - Football","Active",null,null,null,null,null,null,null,null,null,null,null,"SC6111","SC6111||1400","1400","Prepaid Expenses",null,"All"]
[null,null,null,null,null,null,"AC00338","Unallocated Research","AC00338-Unallocated Research","Activity","FD01","Active","2025-01-02T03:05:29.942",null,"SC6722","Utilities, Electricity","SC6722-Utilities, Electricity","Spend Category","Active",null,null,"11379","P/P Stadium Projects","11379-P/P Stadium Projects",null,null,null,"AS047860039","Cade Charlton (047860039) MSE - Dean's Office, McKay School of Education","AS047860039-Cade Charlton (047860039) MSE - Dean's Office, McKay School of Education","Active",null,null,null,null,null,null,null,null,null,null,null,"SC6111","SC6111||6100","6100","Materials and Supplies","Primary","All"]
[null,null,null,null,null,null,"AC00339","LFSC Fac Research Publications","AC00339-LFSC Fac Research Publications","Activity","FD01","Active","2025-01-02T03:05:29.942",null,"SC6723","Utilities, Garbage Hauling","SC6723-Utilities, Garbage Hauling","Spend Category","Active",null,null,"11380","P/P MC Events","11380-P/P MC Events",null,null,null,"AS047927218","Lisa Peck (047927218) FHSS Internships","AS047927218-Lisa Peck (047927218) FHSS Internships","Active",null,null,null,null,null,null,null,null,null,null,null,"SC6112","SC6112||1400","1400","Prepaid Expenses",null,"All"]
[null,null,null,null,null,null,"AC00340","Life Sciences Replacement","AC00340-Life Sciences Replacement","Activity","FD01","Active","2025-01-02T03:05:30.013",null,"SC6724","Utilities, Heat/Cool Unit","SC6724-Utilities, Heat/Cool Unit","Spend Category","Active",null,null,"11381","P/P Stadium Events","11381-P/P Stadium Events",null,null,null,"AS048357616","Lauren Barnes (048357616) FHSS - Dean's Office","AS048357616-Lauren Barnes (048357616) FHSS - Dean's Office","Active",null,null,null,null,null,null,null,null,null,null,null,"SC6112","SC6112||6100","6100","Materials and Supplies","Primary","All"]
[null,null,null,null,null,null,"AC00341","Research Development","AC00341-Research Development","Activity","FD01","Active","2025-01-02T03:05:30.013",null,"SC6725","Utilities, Natural Gas","SC6725-Utilities, Natural Gas","Spend Category","Active",null,null,"11382","Media Services Events","11382-Media Services Events",null,null,null,"AS048456520","Chris Gordon (048456520) BYU Broadcasting Administration","AS048456520-Chris Gordon (048456520) BYU Broadcasting Administration","Active",null,null,null,null,null,null,null,null,null,null,null,"SC6113","SC6113||1400","1400","Prepaid Expenses",null,"All"]
[null,null,null,null,null,null,"AC00342","LFSC-Internship Travel Grants","AC00342-LFSC-Internship Travel Grants","Activity","FD01","Active","2025-01-02T03:05:30.013",null,"SC6726","Utilities, Other","SC6726-Utilities, Other","Spend Category","Active",null,null,"11386","Safety Office Events","11386-Safety Office Events",null,null,null,"AS048510154","Alexandra White (048510154) Athletics - Women's Golf","AS048510154-Alexandra White (048510154) Athletics - Women's Golf","Active",null,null,null,null,null,null,null,null,null,null,null,"SC6113","SC6113||6100","6100","Materials and Supplies","Primary","All"]
[null,null,null,null,null,null,"AC00343","Life Sciences Special Projects","AC00343-Life Sciences Special Projects","Activity","FD01","Active","2025-01-02T03:05:30.013",null,"SC6727","Utilities, Sewer","SC6727-Utilities, Sewer","Spend Category","Active",null,null,"11387","Security Events","11387-Security Events",null,null,null,"AS048530014","Shelly Reed (048530014) Academic VP Office, Deans","AS048530014-Shelly Reed (048530014) Academic VP Office, Deans","Active",null,null,null,null,null,null,null,null,null,null,null,"SC6114","SC6114||1400","1400","Prepaid Expenses",null,"All"]
[null,null,null,null,null,null,"AC00344","Ugrad Mentored Learning Suppt","AC00344-Ugrad Mentored Learning Suppt","Activity","FD01","Active","2025-01-02T03:05:30.013",null,"SC6728","Utilities, Water","SC6728-Utilities, Water","Spend Category","Active",null,null,"11388","Print Fee","11388-Print Fee",null,null,null,"AS048878987","Nick Frederick (048878987) Religious Educcation - Dean's Office","AS048878987-Nick Frederick (048878987) Religious Educcation - Dean's Office","Active",null,null,null,null,null,null,null,null,null,null,null,"SC6114","SC6114||6100","6100","Materials and Supplies","Primary","All"]
[null,null,null,null,null,null,"AC00345","Operational Fndrsg Replac-LSDO","AC00345-Operational Fndrsg Replac-LSDO","Activity","FD01","Active","2025-01-02T03:05:30.013",null,"SC6729","Warehouse Fixtures","SC6729-Warehouse Fixtures","Spend Category","Active",null,null,"11390","Ticket Office Service Fee","11390-Ticket Office Service Fee",null,null,null,"AS048974113","Valinda Rose (048974113) OIT Core - Business Process & Project Mgmt","AS048974113-Valinda Rose (048974113) OIT Core - Business Process & Project Mgmt","Active",null,null,null,null,null,null,null,null,null,null,null,"SC6115","SC6115||1400","1400","Prepaid Expenses",null,"All"]
[null,null,null,null,null,null,"AC00346","LFSC Belonging","AC00346-LFSC Belonging","Activity","FD01","Active","2025-01-02T03:05:30.013",null,"SC6730","Window Treatments","SC6730-Window Treatments","Spend Category","Active",null,null,"11391","Gift Cards","11391-Gift Cards",null,null,null,"AS049047915","Reid Grawe (049047915) Business Career Center","AS049047915-Reid Grawe (049047915) Business Career Center","Active",null,null,null,null,null,null,null,null,null,null,null,"SC6115","SC6115||6100","6100","Materials and Supplies","Primary","All"]
[null,null,null,null,null,null,"AC00347","Beef Field Day","AC00347-Beef Field Day","Activity","FD02","Active","2025-01-02T03:05:30.013",null,"SC6731","Stage and Studio Lighting (Inventory)","SC6731-Stage and Studio Lighting (Inventory)","Spend Category","Active",null,null,"11392","FB Cougar Club Tent","11392-FB Cougar Club Tent",null,null,null,"AS049318272","Ryan Jensen (049318272) FHSS - Dean's Office","AS049318272-Ryan Jensen (049318272) FHSS - Dean's Office","Active",null,null,null,null,null,null,null,null,null,null,null,"SC6116","SC6116||1400","1400","Prepaid Expenses",null,"All"]
[null,null,null,null,null,null,"AC00348","Life Sciences Royalties","AC00348-Life Sciences Royalties","Activity","FD03","Active","2025-01-02T03:05:30.013",null,"SC6799","Physical Facilities (reclass)","SC6799-Physical Facilities (reclass)","Spend Category","Active",null,null,"11393","FB Varsity Tent","11393-FB Varsity Tent",null,null,null,"AS049753059","Joseph Stuart (049753059) FHSS - Dean's Office","AS049753059-Joseph Stuart (049753059) FHSS - Dean's Office","Active",null,null,null,null,null,null,null,null,null,null,null,"SC6116","SC6116||6100","6100","Materials and Supplies","Primary","All"]
[null,null,null,null,null,null,"AC00349","Equol Technology Royalties","AC00349-Equol Technology Royalties","Activity","FD03","Active","2025-01-02T03:05:30.013",null,"SC6901","Art Equipment","SC6901-Art Equipment","Spend Category","Active",null,null,"11394","ATH FB Backyard Tent","11394-ATH FB Backyard Tent",null,null,null,"AS050065111","Robert Davis (050065111) CMS - Dean's Office Computational, Mathematical, & Phsical","AS050065111-Robert Davis (050065111) CMS - Dean's Office Computational, Mathematical, & Phsical","Active",null,null,null,null,null,null,null,null,null,null,null,"SC6117","SC6117||1400","1400","Prepaid Expenses",null,"All"]
[null,null,null,null,null,null,"AC00350","Turkey Vaccine Study","AC00350-Turkey Vaccine Study","Activity","FD03","Active","2025-01-02T03:05:30.013",null,"SC6902","Athletic Equipment","SC6902-Athletic Equipment","Spend Category","Active",null,null,"11415","Living Legends","11415-Living Legends",null,null,null,"AS050481372","Jaren Pope (050481372) FHSS - Dean's Office","AS050481372-Jaren Pope (050481372) FHSS - Dean's Office","Active",null,null,null,null,null,null,null,null,null,null,null,"SC6117","SC6117||6100","6100","Materials and Supplies","Primary","All"]
[null,null,null,null,null,null,"AC00351","Undergrd Experintl Learng-LSDO","AC00351-Undergrd Experintl Learng-LSDO","Activity","FD03","Active","2025-01-02T03:05:30.013",null,"SC6903","Audio Visual Equipment (Asset Track)","SC6903-Audio Visual Equipment (Asset Track)","Spend Category","Active",null,null,"11416","Men's Chorus","11416-Men's Chorus",null,null,null,"AS050557255","Forrest Hansen (050557255) Law School - External Relations","AS050557255-Forrest Hansen (050557255) Law School - External Relations","Active",null,null,null,null,null,null,null,null,null,null,null,"SC6118","SC6118||1400","1400","Prepaid Expenses",null,"All"]
[null,null,null,null,null,null,"AC00352","CURA Indirect Student Aid-LSDO","AC00352-CURA Indirect Student Aid-LSDO","Activity","FD03","Active","2025-01-02T03:05:30.013",null,"SC6904","Communication Devices (Asset Track)","SC6904-Communication Devices (Asset Track)","Spend Category","Active",null,null,"11419","Theater Ballet","11419-Theater Ballet",null,null,null,"AS050558249","Kyle Mammen (050558249) CE Classroom Programs","AS050558249-Kyle Mammen (050558249) CE Classroom Programs","Active",null,null,null,null,null,null,null,null,null,null,null,"SC6118","SC6118||6100","6100","Materials and Supplies","Primary","All"]
[null,null,null,null,null,null,"AC00353","CURA Direct Student Aid-LSDO","AC00353-CURA Direct Student Aid-LSDO","Activity","FD03","Active","2025-01-02T03:05:30.013",null,"SC6905","Computer Hardware (Asset Track)","SC6905-Computer Hardware (Asset Track)","Spend Category","Active",null,null,"11422","Young Ambassadors","11422-Young Ambassadors",null,null,null,"AS050636631","Jennie Voorhis (050636631) CE Business Services","AS050636631-Jennie Voorhis (050636631) CE Business Services","Active",null,null,null,null,null,null,null,null,null,null,null,"SC6119","SC6119||1400","1400","Prepaid Expenses",null,"All"]
[null,null,null,null,null,null,"AC00354","Sunshine Fund-LFSC Dean's Off","AC00354-Sunshine Fund-LFSC Dean's Off","Activity","FD07","Active","2025-01-02T03:05:30.013",null,"SC6906","Data Network Equipment (Asset Track)","SC6906-Data Network Equipment (Asset Track)","Spend Category","Active",null,null,"11423","Young Company","11423-Young Company",null,null,null,"AS050749641","Mike Holdaway (050749641) OIT Portfolio - CES Network Center (CNC)","AS050749641-Mike Holdaway (050749641) OIT Portfolio - CES Network Center (CNC)","Active",null,null,null,null,null,null,null,null,null,null,null,"SC6119","SC6119||6100","6100","Materials and Supplies","Primary","All"]
[null,null,null,null,null,null,"AC00355","LS Stockroom Inventory","AC00355-LS Stockroom Inventory","Activity","FD02","Active","2025-01-02T03:05:30.013",null,"SC6907","Equipment (not otherwise specified) (Asset Track)","SC6907-Equipment (not otherwise specified) (Asset Track)","Spend Category","Active",null,null,"11424","Alexa Anderson","11424-Alexa Anderson",null,null,null,"AS051347479","Gary Sujeta (051347479) PF Paint & Sign Shop","AS051347479-Gary Sujeta (051347479) PF Paint & Sign Shop","Active",null,null,null,null,null,null,null,null,null,null,null,"SC6120","SC6120||1400","1400","Prepaid Expenses",null,"All"]
[null,null,null,null,null,null,"AC00356","Life Scs Student Council Club","AC00356-Life Scs Student Council Club","Activity","FD02","Active","2025-01-02T03:05:30.013",null,"SC6908","Equipment Maintenance (not otherwise specified)","SC6908-Equipment Maintenance (not otherwise specified)","Spend Category","Active",null,null,"11425","Amanda Cox","11425-Amanda Cox",null,null,null,"AS051641497","Neil Thornock (051641497) Fine Arts & Communications - Dean's Office","AS051641497-Neil Thornock (051641497) Fine Arts & Communications - Dean's Office","Active",null,null,null,null,null,null,null,null,null,null,null,"SC6120","SC6120||6100","6100","Materials and Supplies","Primary","All"]
[null,null,null,null,null,null,"AC00357","Scientists in Business Club","AC00357-Scientists in Business Club","Activity","FD02","Active","2025-01-02T03:05:30.013",null,"SC6909","Firearms","SC6909-Firearms","Spend Category","Active",null,null,"11426","Nicol Legakis","11426-Nicol Legakis",null,null,null,"AS051756218","Jared Bell (051756218) Athletics - Corporate Sponsorships","AS051756218-Jared Bell (051756218) Athletics - Corporate Sponsorships","Active",null,null,null,null,null,null,null,null,null,null,null,"SC6121","SC6121||1400","1400","Prepaid Expenses",null,"All"]
[null,null,null,null,null,null,"AC00358","LFSC IT Computer Servers","AC00358-LFSC IT Computer Servers","Activity","FD01","Active","2025-01-02T03:05:30.013",null,"SC6910","Food Service Equipment","SC6910-Food Service Equipment","Spend Category","Active",null,null,"11428","Mike Cunningham","11428-Mike Cunningham",null,null,null,"AS051841946","Heidi Vogeler (051841946) MSE - Dean's Office, McKay School of Education","AS051841946-Heidi Vogeler (051841946) MSE - Dean's Office, McKay School of Education","Active",null,null,null,null,null,null,null,null,null,null,null,"SC6121","SC6121||6100","6100","Materials and Supplies","Primary","All"]
[null,null,null,null,null,null,"AC00359","LFSC-Fulton-Chair-LSIT","AC00359-LFSC-Fulton-Chair-LSIT","Activity","FD03","Active","2025-01-02T03:05:30.013",null,"SC6911","Grants Capital Equipment","SC6911-Grants Capital Equipment","Spend Category","Active",null,null,"11429","Alissa Lines","11429-Alissa Lines",null,null,null,"AS051989848","Sariah Lunsford (051989848) CE Classroom Programs","AS051989848-Sariah Lunsford (051989848) CE Classroom Programs","Active",null,null,null,null,null,null,null,null,null,null,null,"SC6122","SC6122||1400","1400","Prepaid Expenses",null,"All"]
[null,null,null,null,null,null,"AC00360","Undergrd Experintl Learng-LSIT","AC00360-Undergrd Experintl Learng-LSIT","Activity","FD03","Active","2025-01-02T03:05:30.013",null,"SC6912","Grants Non-Capital Equipment","SC6912-Grants Non-Capital Equipment","Spend Category","Active",null,null,"11431","Scott Miller","11431-Scott Miller",null,null,null,"AS052054401","Laura Wilson (052054401) OIT Portfolio - Business, Finance, & HR","AS052054401-Laura Wilson (052054401) OIT Portfolio - Business, Finance, & HR","Active",null,null,null,null,null,null,null,null,null,null,null,"SC6122","SC6122||6100","6100","Materials and Supplies","Primary","All"]
[null,null,null,null,null,null,"AC00361","Grad Studies-NEURO","AC00361-Grad Studies-NEURO","Activity","FD01","Active","2025-01-02T03:05:30.013",null,"SC6913","Grounds Equipment","SC6913-Grounds Equipment","Spend Category","Active",null,null,"11435","Jason Brown","11435-Jason Brown",null,null,null,"AS052191006","Charlene Clark (052191006) FHSS - Dean's Office","AS052191006-Charlene Clark (052191006) FHSS - Dean's Office","Active",null,null,null,null,null,null,null,null,null,null,null,"SC6123","SC6123||1400","1400","Prepaid Expenses",null,"All"]
[null,null,null,null,null,null,"AC00362","Neuroscience Club","AC00362-Neuroscience Club","Activity","FD02","Active","2025-01-02T03:05:30.013",null,"SC6914","Industrial Equipment","SC6914-Industrial Equipment","Spend Category","Active",null,null,"11436","Seth McCullach","11436-Seth McCullach",null,null,null,"AS052205547","Ryan Flake (052205547) BYU Broadcasting - Post Production","AS052205547-Ryan Flake (052205547) BYU Broadcasting - Post Production","Active",null,null,null,null,null,null,null,null,null,null,null,"SC6123","SC6123||6100","6100","Materials and Supplies","Primary","All"]
[null,null,null,null,null,null,"AC00363","Neuroscience Center","AC00363-Neuroscience Center","Activity","FD03","Active","2025-01-02T03:05:30.013",null,"SC6915","Janitorial Equipment","SC6915-Janitorial Equipment","Spend Category","Active",null,null,"11437","Stephanie Andrewsen","11437-Stephanie Andrewsen",null,null,null,"AS052304264","Ken Lau (052304264) PF Building Operations","AS052304264-Ken Lau (052304264) PF Building Operations","Active",null,null,null,null,null,null,null,null,null,null,null,"SC6124","SC6124||1400","1400","Prepaid Expenses",null,"All"]
[null,null,null,null,null,null,"AC00364","LFSC-Fulton-Chair-NEURO","AC00364-LFSC-Fulton-Chair-NEURO","Activity","FD03","Active","2025-01-02T03:05:30.013",null,"SC6916","Janitorial Equipment Maintenance","SC6916-Janitorial Equipment Maintenance","Spend Category","Active",null,null,"11439","Curtis Isaak","11439-Curtis Isaak",null,null,null,"AS052394475","Suzanne Julian (052394475) Lee Library - Research & Learning","AS052394475-Suzanne Julian (052394475) Lee Library - Research & Learning","Active",null,null,null,null,null,null,null,null,null,null,null,"SC6124","SC6124||6100","6100","Materials and Supplies","Primary","All"]
[null,null,null,null,null,null,"AC00365","LFSC Farm / Skaggs Fund-NEURO","AC00365-LFSC Farm / Skaggs Fund-NEURO","Activity","FD03","Active","2025-01-02T03:05:30.013",null,"SC6917","Laundry Equipment","SC6917-Laundry Equipment","Spend Category","Active",null,null,"11440","Andy Bay","11440-Andy Bay",null,null,null,"AS052603694","Adam Law (052603694) Athletics - Baseball","AS052603694-Adam Law (052603694) Athletics - Baseball","Active",null,null,null,null,null,null,null,null,null,null,null,"SC6125","SC6125||1400","1400","Prepaid Expenses",null,"All"]
[null,null,null,null,null,null,"AC00366","Undergrd Experintl Learng-NEUR","AC00366-Undergrd Experintl Learng-NEUR","Activity","FD03","Active","2025-01-02T03:05:30.013",null,"SC6918","Library Content","SC6918-Library Content","Spend Category","Active",null,null,"11441","Kathy Taylor","11441-Kathy Taylor",null,null,null,"AS052697389","Jon Brewer (052697389) Financial Aid and Scholarships","AS052697389-Jon Brewer (052697389) Financial Aid and Scholarships","Active",null,null,null,null,null,null,null,null,null,null,null,"SC6125","SC6125||6100","6100","Materials and Supplies","Primary","All"]
[null,null,null,null,null,null,"AC00367","CURA Indirect Student Aid-NEUR","AC00367-CURA Indirect Student Aid-NEUR","Activity","FD03","Active","2025-01-02T03:05:30.013",null,"SC6919","Library Subscriptions","SC6919-Library Subscriptions","Spend Category","Active",null,null,"11442","Matt Sherry","11442-Matt Sherry",null,null,null,"AS052730332","Jennifer Cardon (052730332) CE Facilties & Emergency Coordination","AS052730332-Jennifer Cardon (052730332) CE Facilties & Emergency Coordination","Active",null,null,null,null,null,null,null,null,null,null,null,"SC6126","SC6126||1400","1400","Prepaid Expenses",null,"All"]
[null,null,null,null,null,null,"AC00368","CURA Direct Student Aid-NEUR","AC00368-CURA Direct Student Aid-NEUR","Activity","FD03","Active","2025-01-02T03:05:30.013",null,"SC6920","Media Content","SC6920-Media Content","Spend Category","Active",null,null,"11445","NY Syracuse","11445-NY Syracuse",null,null,null,"AS052852966","Tamalin Christen (052852966) BYU Broadcasting - Marketing","AS052852966-Tamalin Christen (052852966) BYU Broadcasting - Marketing","Active",null,null,null,null,null,null,null,null,null,null,null,"SC6126","SC6126||6100","6100","Materials and Supplies","Primary","All"]
[null,null,null,null,null,null,"AC00369","MLBM Student Educators","AC00369-MLBM Student Educators","Activity","FD01","Active","2025-01-02T03:05:30.013",null,"SC6921","Medical Equipment","SC6921-Medical Equipment","Spend Category","Active",null,null,"11446","Arkansas-Northwest","11446-Arkansas-Northwest",null,null,null,"AS053011563","Maddison Colvin (053011563) Fine Arts & Communications - Dean's Office","AS053011563-Maddison Colvin (053011563) Fine Arts & Communications - Dean's Office","Active",null,null,null,null,null,null,null,null,null,null,null,"SC6127","SC6127||1400","1400","Prepaid Expenses",null,"All"]
[null,null,null,null,null,null,"AC00370","Western N. American Naturalist","AC00370-Western N. American Naturalist","Activity","FD01","Active","2025-01-02T03:05:30.013",null,"SC6922","Medical Equipment - Maintenance","SC6922-Medical Equipment - Maintenance","Spend Category","Active",null,null,"11447","Tour Lodging","11447-Tour Lodging",null,null,null,"AS053113933","Kathryn Ottosson (053113933) Lee Library - Collections Access","AS053113933-Kathryn Ottosson (053113933) Lee Library - Collections Access","Active",null,null,null,null,null,null,null,null,null,null,null,"SC6127","SC6127||6100","6100","Materials and Supplies","Primary","All"]
[null,null,null,null,null,null,"AC00371","Operational Fndrsg Replac-MLBM","AC00371-Operational Fndrsg Replac-MLBM","Activity","FD01","Active","2025-01-02T03:05:30.013",null,"SC6923","Musical Instruments","SC6923-Musical Instruments","Spend Category","Active",null,null,"11453","Arizona-Phoenix","11453-Arizona-Phoenix",null,null,null,"AS053173168","Derek Griner (053173168) Student Life VP","AS053173168-Derek Griner (053173168) Student Life VP","Active",null,null,null,null,null,null,null,null,null,null,null,"SC6128","SC6128||6100","6100","Materials and Supplies","Primary","All"]
[null,null,null,null,null,null,"AC00372","MLBM Educational Programs","AC00372-MLBM Educational Programs","Activity","FD02","Active","2025-01-02T03:05:30.013",null,"SC6924","Office Equipment (Asset Track)","SC6924-Office Equipment (Asset Track)","Spend Category","Active",null,null,"11454","Arizona-Tucson","11454-Arizona-Tucson",null,null,null,"AS053328098","Michael Hansen (053328098) University President - Advancement Vice President","AS053328098-Michael Hansen (053328098) University President - Advancement Vice President","Active",null,null,null,null,null,null,null,null,null,null,null,"SC6129","SC6129||1400","1400","Prepaid Expenses",null,"All"]
[null,null,null,null,null,null,"AC00373","Bean Museum Online Sales","AC00373-Bean Museum Online Sales","Activity","FD02","Active","2025-01-02T03:05:30.013",null,"SC6925","Office Equipment - Maintenance","SC6925-Office Equipment - Maintenance","Spend Category","Active",null,null,"11456","California-East Bay","11456-California-East Bay",null,null,null,"AS053393841","Bill Pitt (053393841) College of Engineering - Dean's Office","AS053393841-Bill Pitt (053393841) College of Engineering - Dean's Office","Active",null,null,null,null,null,null,null,null,null,null,null,"SC6129","SC6129||1650","1650","Construction in Progress",null,"JE_PPE|JE_Override"]
[null,null,null,null,null,null,"AC00374","Whiting, M-Young Scholar","AC00374-Whiting, M-Young Scholar","Activity","FD03","Active","2025-01-02T03:05:30.013",null,"SC6926","Photography Equipment","SC6926-Photography Equipment","Spend Category","Active",null,null,"11457","California-Fresno","11457-California-Fresno",null,null,null,"AS053506341","Kara Stowers (053506341) CMS - Dean's Office Computational, Mathematical, & Phsical","AS053506341-Kara Stowers (053506341) CMS - Dean's Office Computational, Mathematical, & Phsical","Active",null,null,null,null,null,null,null,null,null,null,null,"SC6129","SC6129||1651","1651","Construction in Progress (Non-Workday Projects)",null,"All"]
[null,null,null,null,null,null,"AC00375","Bean Museum Projects","AC00375-Bean Museum Projects","Activity","FD03","Active","2025-01-02T03:05:30.013",null,"SC6927","Portable Structures","SC6927-Portable Structures","Spend Category","Active",null,null,"11460","California-Orange County","11460-California-Orange County",null,null,null,"AS053764043","Daril Johnson (053764043) CE Business Services","AS053764043-Daril Johnson (053764043) CE Business Services","Active",null,null,null,null,null,null,null,null,null,null,null,"SC6129","SC6129||6100","6100","Materials and Supplies","Primary","All"]
[null,null,null,null,null,null,"AC00376","Western N. American Naturalist","AC00376-Western N. American Naturalist","Activity","FD03","Active","2025-01-02T03:05:30.013",null,"SC6928","Printing Equipment","SC6928-Printing Equipment","Spend Category","Active",null,null,"11462","California-Sacramento","11462-California-Sacramento",null,null,null,"AS053793368","Giovanni Tata (053793368) AVP - Associate AVP, Research and Graduate Studies","AS053793368-Giovanni Tata (053793368) AVP - Associate AVP, Research and Graduate Studies","Active",null,null,null,null,null,null,null,null,null,null,null,"SC6130","SC6130||1400","1400","Prepaid Expenses",null,"All"]
[null,null,null,null,null,null,"AC00377","Herbarium Support","AC00377-Herbarium Support","Activity","FD03","Active","2025-01-02T03:05:30.013",null,"SC6929","Scientific and Engineering Equipment","SC6929-Scientific and Engineering Equipment","Spend Category","Active",null,null,"11463","California-San Diego","11463-California-San Diego",null,null,null,"AS053834421","Tommy Terooatea (053834421) Life Sciences - Dean's Office","AS053834421-Tommy Terooatea (053834421) Life Sciences - Dean's Office","Active",null,null,null,null,null,null,null,null,null,null,null,"SC6130","SC6130||6100","6100","Materials and Supplies","Primary","All"]
[null,null,null,null,null,null,"AC00378","Fish Curation-Shiozawa","AC00378-Fish Curation-Shiozawa","Activity","FD03","Active","2025-01-02T03:05:30.013",null,"SC6930","Scientific Equipment - Maintenance","SC6930-Scientific Equipment - Maintenance","Spend Category","Active",null,null,"11466","Colorado-Denver","11466-Colorado-Denver",null,null,null,"AS053906103","Annie Thunell (053906103) Wyview Park/Riviera","AS053906103-Annie Thunell (053906103) Wyview Park/Riviera","Active",null,null,null,null,null,null,null,null,null,null,null,"SC6131","SC6131||1400","1400","Prepaid Expenses",null,"All"]
[null,null,null,null,null,null,"AC00379","LFSC Farm / Skaggs Fund-MLBM","AC00379-LFSC Farm / Skaggs Fund-MLBM","Activity","FD03","Active","2025-01-02T03:05:30.013",null,"SC6931","Security Equipment (Asset Track)","SC6931-Security Equipment (Asset Track)","Spend Category","Active",null,null,"11467","Georgia-Atlanta","11467-Georgia-Atlanta",null,null,null,"AS053929956","Bart Chidester (053929956) BYU Broadcasting - Post Production","AS053929956-Bart Chidester (053929956) BYU Broadcasting - Post Production","Active",null,null,null,null,null,null,null,null,null,null,null,"SC6131","SC6131||1650","1650","Construction in Progress",null,"JE_PPE|JE_Override"]
[null,null,null,null,null,null,"AC00380","LFSC-Fulton-Chair-MLBM","AC00380-LFSC-Fulton-Chair-MLBM","Activity","FD03","Active","2025-01-02T03:05:30.013",null,"SC6932","Small Appliances","SC6932-Small Appliances","Spend Category","Active",null,null,"11469","Idaho-Boise","11469-Idaho-Boise",null,null,null,"AS053957372","Abby Prince (053957372) PF Building Operations","AS053957372-Abby Prince (053957372) PF Building Operations","Active",null,null,null,null,null,null,null,null,null,null,null,"SC6131","SC6131||1651","1651","Construction in Progress (Non-Workday Projects)",null,"All"]
[null,null,null,null,null,null,"AC00382","Undergrd Experintl Learng-MLBM","AC00382-Undergrd Experintl Learng-MLBM","Activity","FD03","Active","2025-01-02T03:05:30.013",null,"SC6933","Software","SC6933-Software","Spend Category","Active",null,null,"11470","Idaho-Idaho Falls","11470-Idaho-Idaho Falls",null,null,null,"AS054052529","Mark Preston (054052529) BYU Broadcasting - Marketing","AS054052529-Mark Preston (054052529) BYU Broadcasting - Marketing","Active",null,null,null,null,null,null,null,null,null,null,null,"SC6131","SC6131||6100","6100","Materials and Supplies","Primary","All"]
[null,null,null,null,null,null,"AC00383","Sunshine Fund-MLBM","AC00383-Sunshine Fund-MLBM","Activity","FD07","Active","2025-01-02T03:05:30.013",null,"SC6934","Software and Media - Licenses","SC6934-Software and Media - Licenses","Spend Category","Active",null,null,"11471","Idaho-Pocatello","11471-Idaho-Pocatello",null,null,null,"AS054225613","Jackson DeMille (054225613) Helaman Halls","AS054225613-Jackson DeMille (054225613) Helaman Halls","Active",null,null,null,null,null,null,null,null,null,null,null,"SC6132","SC6132||1400","1400","Prepaid Expenses",null,"All"]
[null,null,null,null,null,null,"AC00384","Bean Museum Gift Shp","AC00384-Bean Museum Gift Shp","Activity","FD02","Active","2025-01-02T03:05:30.013",null,"SC6935","Telecom Equipment","SC6935-Telecom Equipment","Spend Category","Active",null,null,"11472","Idaho-Twin Falls","11472-Idaho-Twin Falls",null,null,null,"AS054459686","Ed Adams (054459686) University President - Academic Vice President","AS054459686-Ed Adams (054459686) University President - Academic Vice President","Active",null,null,null,null,null,null,null,null,null,null,null,"SC6132","SC6132||6100","6100","Materials and Supplies","Primary","All"]
[null,null,null,null,null,null,"AC00385","Lytle Preserve","AC00385-Lytle Preserve","Activity","FD03","Active","2025-01-02T03:05:30.013",null,"SC6936","Vehicles Services","SC6936-Vehicles Services","Spend Category","Active",null,null,"11473","Illinois-Chicago","11473-Illinois-Chicago",null,null,null,"AS054479354","Elizabeth Clark (054479354) Clark Law School - Dean's Office","AS054479354-Elizabeth Clark (054479354) Clark Law School - Dean's Office","Active",null,null,null,null,null,null,null,null,null,null,null,"SC6133","SC6133||1400","1400","Prepaid Expenses",null,"All"]
[null,null,null,null,null,null,"AC00386","Lytle Preserve Univ Support","AC00386-Lytle Preserve Univ Support","Activity","FD03","Active","2025-01-02T03:05:30.013",null,"SC6937","Vehicles, Motor","SC6937-Vehicles, Motor","Spend Category","Active",null,null,"11476","Minnesota-Minneapolis/St.Paul","11476-Minnesota-Minneapolis/St.Paul",null,null,null,"AS054509286","D. J. Lee (054509286) College of Engineering - Dean's Office","AS054509286-D. J. Lee (054509286) College of Engineering - Dean's Office","Active",null,null,null,null,null,null,null,null,null,null,null,"SC6133","SC6133||6100","6100","Materials and Supplies","Primary","All"]
[null,null,null,null,null,null,"AC00387","Biology 100","AC00387-Biology 100","Activity","FD01","Active","2025-01-02T03:05:30.013",null,"SC6938","Vehicles, Off-Road","SC6938-Vehicles, Off-Road","Spend Category","Active",null,null,"11477","Missouri-Kansas City","11477-Missouri-Kansas City",null,null,null,"AS054511304","Lance Mckinney (054511304) PF AVP Office","AS054511304-Lance Mckinney (054511304) PF AVP Office","Active",null,null,null,null,null,null,null,null,null,null,null,"SC6199","SC6199||1400","1400","Prepaid Expenses",null,"All"]
[null,null,null,null,null,null,"AC00388","Grad Student Funding-BIO","AC00388-Grad Student Funding-BIO","Activity","FD01","Active","2025-01-02T03:05:30.013",null,"SC6939","Warehouse Equipment","SC6939-Warehouse Equipment","Spend Category","Active",null,null,"11479","Nebraska-Omaha","11479-Nebraska-Omaha",null,null,null,"AS054803398","Christine Tanner (054803398) Enrollment Services Executive Director's Office","AS054803398-Christine Tanner (054803398) Enrollment Services Executive Director's Office","Active",null,null,null,null,null,null,null,null,null,null,null,"SC6199","SC6199||1650","1650","Construction in Progress",null,"JE_PPE|JE_Override"]
[null,null,null,null,null,null,"AC00389","Operational Fndrsg Replacm-BIO","AC00389-Operational Fndrsg Replacm-BIO","Activity","FD01","Active","2025-01-02T03:05:30.013",null,"SC6940","Audio Visual Equipment (Inventory)","SC6940-Audio Visual Equipment (Inventory)","Spend Category","Active",null,null,"11480","Nevada-Las Vegas","11480-Nevada-Las Vegas",null,null,null,"AS054806940","Mindy Harmon (054806940) CE FSY Central","AS054806940-Mindy Harmon (054806940) CE FSY Central","Active",null,null,null,null,null,null,null,null,null,null,null,"SC6199","SC6199||1651","1651","Construction in Progress (Non-Workday Projects)",null,"All"]
[null,null,null,null,null,null,"AC00390","BYU Pre-Veterinary Club","AC00390-BYU Pre-Veterinary Club","Activity","FD02","Active","2025-01-02T03:05:30.013",null,"SC6941","Communication Devices (Inventory)","SC6941-Communication Devices (Inventory)","Spend Category","Active",null,null,"11481","New Jersey-North Jersey","11481-New Jersey-North Jersey",null,null,null,"AS054835693","Stephanie Andrewsen (054835693) Alumni and External Relations","AS054835693-Stephanie Andrewsen (054835693) Alumni and External Relations","Active",null,null,null,null,null,null,null,null,null,null,null,"SC6199","SC6199||6100","6100","Materials and Supplies","Primary","All"]
[null,null,null,null,null,null,"AC00391","Tanner Entomology Club","AC00391-Tanner Entomology Club","Activity","FD02","Active","2025-01-02T03:05:30.013",null,"SC6942","Computer Hardware (Inventory)","SC6942-Computer Hardware (Inventory)","Spend Category","Active",null,null,"11482","New Mexico-Albuquerque","11482-New Mexico-Albuquerque",null,null,null,"AS054923615","Mike Diede (054923615) Life Sciences - Dean's Office","AS054923615-Mike Diede (054923615) Life Sciences - Dean's Office","Active",null,null,null,null,null,null,null,null,null,null,null,"SC6301","SC6301||6300","6300","Student Aid","Primary","All"]
[null,null,null,null,null,null,"AC00392","Bioinformatics Resrch Club","AC00392-Bioinformatics Resrch Club","Activity","FD02","Active","2025-01-02T03:05:30.013",null,"SC6943","Data Network Equipment (Inventory)","SC6943-Data Network Equipment (Inventory)","Spend Category","Active",null,null,"11485","North Carolina-Charlotte","11485-North Carolina-Charlotte",null,null,null,"AS054940732","Rich Patterson (054940732) FHSS - Dean's Office","AS054940732-Rich Patterson (054940732) FHSS - Dean's Office","Active",null,null,null,null,null,null,null,null,null,null,null,"SC6302","SC6302||6300","6300","Student Aid","Primary","All"]
[null,null,null,null,null,null,"AC00393","Marine Biology Club","AC00393-Marine Biology Club","Activity","FD02","Active","2025-01-02T03:05:30.013",null,"SC6944","Equipment (not otherwise specified) (Inventory)","SC6944-Equipment (not otherwise specified) (Inventory)","Spend Category","Active",null,null,"11486","North Carolina-Raleigh/Durham","11486-North Carolina-Raleigh/Durham",null,null,null,"AS055337058","Josh Richey (055337058) Enrollment Services Executive Director's Office","AS055337058-Josh Richey (055337058) Enrollment Services Executive Director's Office","Active",null,null,null,null,null,null,null,null,null,null,null,"SC6303","SC6303||6300","6300","Student Aid","Primary","All"]
[null,null,null,null,null,null,"AC00394","Life Sci Pacific Islander Club","AC00394-Life Sci Pacific Islander Club","Activity","FD02","Active","2025-01-02T03:05:30.013",null,"SC6945","Office Equipment (Inventory)","SC6945-Office Equipment (Inventory)","Spend Category","Active",null,null,"11487","Ohio-Cincinnati","11487-Ohio-Cincinnati",null,null,null,"AS055660543","Kerry Soper (055660543) Academic VP Office, Deans","AS055660543-Kerry Soper (055660543) Academic VP Office, Deans","Active",null,null,null,null,null,null,null,null,null,null,null,"SC6304","SC6304||6300","6300","Student Aid","Primary","All"]
[null,null,null,null,null,null,"AC00395","DNA Sequencing Lab","AC00395-DNA Sequencing Lab","Activity","FD02","Active","2025-01-02T03:05:30.013",null,"SC6946","Security Equipment (Inventory)","SC6946-Security Equipment (Inventory)","Spend Category","Active",null,null,"11488","Oklahoma-Tulsa","11488-Oklahoma-Tulsa",null,null,null,"AS055837095","Suvinia Purcell (055837095) PF Building Operations","AS055837095-Suvinia Purcell (055837095) PF Building Operations","Active",null,null,null,null,null,null,null,null,null,null,null,"SC6305","SC6305||6300","6300","Student Aid","Primary","All"]
[null,null,null,null,null,null,"AC00396","Biology Scholarships","AC00396-Biology Scholarships","Activity","FD03","Active","2025-01-02T03:05:30.013",null,"SC6999","Equipment (reclass)","SC6999-Equipment (reclass)","Spend Category","Active",null,null,"11490","Texas-Dallas/Ft.Worth","11490-Texas-Dallas/Ft.Worth",null,null,null,"AS055857647","Maggie Kopp (055857647) Lee Library - Research & Learning","AS055857647-Maggie Kopp (055857647) Lee Library - Research & Learning","Active",null,null,null,null,null,null,null,null,null,null,null,"SC6306","SC6306||6300","6300","Student Aid","Primary","All"]
[null,null,null,null,null,null,"AC00397","LFSC Farm / Skaggs Fund-BIOL","AC00397-LFSC Farm / Skaggs Fund-BIOL","Activity","FD03","Active","2025-01-02T03:05:30.013",null,"SC7001","Travel","SC7001-Travel","Spend Category","Active",null,null,"11491","Texas-El Paso/Las Cruces","11491-Texas-El Paso/Las Cruces",null,null,null,"AS056008210","Mech Tenney (056008210) OIT Portfolio - Business, Finance, & HR","AS056008210-Mech Tenney (056008210) OIT Portfolio - Business, Finance, & HR","Active",null,null,null,null,null,null,null,null,null,null,null,"SC6307","SC6307||6300","6300","Student Aid","Primary","All"]
[null,null,null,null,null,null,"AC00398","GMA Petrol fly genome S.Bybee","AC00398-GMA Petrol fly genome S.Bybee","Activity","FD03","Active","2025-01-02T03:05:30.013",null,"SC7002","Airfare Domestic","SC7002-Airfare Domestic","Spend Category","Active",null,null,"11492","Texas-Houston","11492-Texas-Houston",null,null,null,"AS056059275","Tamara Moss (056059275) CE Customer Support","AS056059275-Tamara Moss (056059275) CE Customer Support","Active",null,null,null,null,null,null,null,null,null,null,null,"SC6308","SC6308||6300","6300","Student Aid","Primary","All"]
[null,null,null,null,null,null,"AC00399","Grad Mentoring Award-P.Ridge","AC00399-Grad Mentoring Award-P.Ridge","Activity","FD03","Active","2025-01-02T03:05:30.013",null,"SC7003","Airfare Foreign","SC7003-Airfare Foreign","Spend Category","Active",null,null,"11494","Utah-Cache Valley","11494-Utah-Cache Valley",null,null,null,"AS056069198","John Wiscombe (056069198) PF Central Heating Plant","AS056069198-John Wiscombe (056069198) PF Central Heating Plant","Active",null,null,null,null,null,null,null,null,null,null,null,"SC6399","SC6399||6300","6300","Student Aid","Primary","All"]
[null,null,null,null,null,null,"AC00400","Grad Mentoring Award-J.Jensen","AC00400-Grad Mentoring Award-J.Jensen","Activity","FD03","Active","2025-01-02T03:05:30.013",null,"SC7004","Transportation Services","SC7004-Transportation Services","Spend Category","Active",null,null,"11495","Utah-Ogden","11495-Utah-Ogden",null,null,null,"AS056353237","Philip Hatch (056353237) PF Grounds - Landscaping Specialty","AS056353237-Philip Hatch (056353237) PF Grounds - Landscaping Specialty","Active",null,null,null,null,null,null,null,null,null,null,null,"SC6401","SC6401||1400","1400","Prepaid Expenses",null,"All"]
[null,null,null,null,null,null,"AC00401","Grad Mentoring Award-J.Johnson","AC00401-Grad Mentoring Award-J.Johnson","Activity","FD03","Active","2025-01-02T03:05:30.013",null,"SC7005","Travel - Lodging","SC7005-Travel - Lodging","Spend Category","Active",null,null,"11496","Utah-Salt Lake City","11496-Utah-Salt Lake City",null,null,null,"AS056691258","Mark Wilson (056691258) Humanities - Dean's Office","AS056691258-Mark Wilson (056691258) Humanities - Dean's Office","Active",null,null,null,null,null,null,null,null,null,null,null,"SC6401","SC6401||6400","6400","General and Administrative","Primary","All"]
[null,null,null,null,null,null,"AC00402","LFSC-Fulton-Chair-BIOL","AC00402-LFSC-Fulton-Chair-BIOL","Activity","FD03","Active","2025-01-02T03:05:30.013",null,"SC7006","Travel - Tour Guide Services","SC7006-Travel - Tour Guide Services","Spend Category","Active",null,null,"11497","PA Susquehanna Valley","11497-PA Susquehanna Valley",null,null,null,"AS056755503","Adam Brown (056755503) FHSS - Dean's Office","AS056755503-Adam Brown (056755503) FHSS - Dean's Office","Active",null,null,null,null,null,null,null,null,null,null,null,"SC6402","SC6402||6400","6400","General and Administrative","Primary","All"]
[null,null,null,null,null,null,"AC00403","Adams, BJ-Young Scholar","AC00403-Adams, BJ-Young Scholar","Activity","FD03","Active","2025-01-02T03:05:30.013",null,"SC7099","Travel (reclass)","SC7099-Travel (reclass)","Spend Category","Active",null,null,"11499","Washington-Seattle","11499-Washington-Seattle",null,null,null,"AS056921368","Daniel Zappala (056921368) CMS - Dean's Office Computational, Mathematical, & Phsical","AS056921368-Daniel Zappala (056921368) CMS - Dean's Office Computational, Mathematical, & Phsical","Active",null,null,null,null,null,null,null,null,null,null,null,"SC6403","SC6403||1400","1400","Prepaid Expenses",null,"All"]
[null,null,null,null,null,null,"AC00405","CURA Indirect Student Aid-BIOL","AC00405-CURA Indirect Student Aid-BIOL","Activity","FD03","Active","2025-01-02T03:05:30.013",null,"SC9996","Cash Conversion","SC9996-Cash Conversion","Spend Category","Active",null,null,"114T3","ESC ACCESS C411A-A1 13594","114T3-ESC ACCESS C411A-A1 13594",null,null,null,"AS057473288","Jennifer Harper (057473288) OIT Resource - CES Network Center (CNC) - Installation","AS057473288-Jennifer Harper (057473288) OIT Resource - CES Network Center (CNC) - Installation","Active",null,null,null,null,null,null,null,null,null,null,null,"SC6403","SC6403||6400","6400","General and Administrative","Primary","All"]
[null,null,null,null,null,null,"AC00406","Undergrd Experintl Learng-BIOL","AC00406-Undergrd Experintl Learng-BIOL","Activity","FD03","Active","2025-01-02T03:05:30.013",null,null,null,null,null,null,null,null,"11500","Washington-Central/Moses Lake","11500-Washington-Central/Moses Lake",null,null,null,"AS057686851","Josh DeWitt (057686851) OIT Leadership - Data and Finance","AS057686851-Josh DeWitt (057686851) OIT Leadership - Data and Finance","Active",null,null,null,null,null,null,null,null,null,null,null,"SC6404","SC6404||1400","1400","Prepaid Expenses",null,"All"]
[null,null,null,null,null,null,"AC00407","CURA Direct Student Aid-BIOL","AC00407-CURA Direct Student Aid-BIOL","Activity","FD03","Active","2025-01-02T03:05:30.013",null,null,null,null,null,null,null,null,"11502","PA-Greater Philadelphia","11502-PA-Greater Philadelphia",null,null,null,"AS057714922","Grant Hart (057714922) CMS - Dean's Office Computational, Mathematical, & Phsical","AS057714922-Grant Hart (057714922) CMS - Dean's Office Computational, Mathematical, & Phsical","Active",null,null,null,null,null,null,null,null,null,null,null,"SC6404","SC6404||1650","1650","Construction in Progress",null,"JE_PPE|JE_Override"]
[null,null,null,null,null,null,"AC00408","Sunshine Fund-BIOL","AC00408-Sunshine Fund-BIOL","Activity","FD07","Active","2025-01-02T03:05:30.013",null,null,null,null,null,null,null,null,"11503","Utah-Utah County","11503-Utah-Utah County",null,null,null,"AS058122752","Matthew Shumway (058122752) FHSS - Dean's Office","AS058122752-Matthew Shumway (058122752) FHSS - Dean's Office","Active",null,null,null,null,null,null,null,null,null,null,null,"SC6404","SC6404||1651","1651","Construction in Progress (Non-Workday Projects)",null,"All"]
[null,null,null,null,null,null,"AC00409","Grad Studies-Deborah Johnson","AC00409-Grad Studies-Deborah Johnson","Activity","FD01","Active","2025-01-02T03:05:30.013",null,null,null,null,null,null,null,null,"11504","Florida-Orlando","11504-Florida-Orlando",null,null,null,"AS058259212","Kimball Germane (058259212) CMS - Dean's Office Computational, Mathematical, & Phsical","AS058259212-Kimball Germane (058259212) CMS - Dean's Office Computational, Mathematical, & Phsical","Active",null,null,null,null,null,null,null,null,null,null,null,"SC6404","SC6404||6400","6400","General and Administrative","Primary","All"]
[null,null,null,null,null,null,"AC00410","Grad Studies-Devan Bursey","AC00410-Grad Studies-Devan Bursey","Activity","FD01","Active","2025-01-02T03:05:30.013",null,null,null,null,null,null,null,null,"11505","Florida-South/Miami","11505-Florida-South/Miami",null,null,null,"AS058350365","Carol Salmon (058350365) CE Broadcast & Streaming Video","AS058350365-Carol Salmon (058350365) CE Broadcast & Streaming Video","Active",null,null,null,null,null,null,null,null,null,null,null,"SC6405","SC6405||1400","1400","Prepaid Expenses",null,"All"]
[null,null,null,null,null,null,"AC00411","Grad Student Funding-MMBIO","AC00411-Grad Student Funding-MMBIO","Activity","FD01","Active","2025-01-02T03:05:30.013",null,null,null,null,null,null,null,null,"11506","Florida-Tampa","11506-Florida-Tampa",null,null,null,"AS058552581","Virginia Rosenthal (058552581) Humanities - Dean's Office","AS058552581-Virginia Rosenthal (058552581) Humanities - Dean's Office","Active",null,null,null,null,null,null,null,null,null,null,null,"SC6405","SC6405||6400","6400","General and Administrative","Primary","All"]
[null,null,null,null,null,null,"AC00412","Grad Studies-Stewart Morley","AC00412-Grad Studies-Stewart Morley","Activity","FD01","Active","2025-01-02T03:05:30.013",null,null,null,null,null,null,null,null,"11507","Mississippi-Jackson","11507-Mississippi-Jackson",null,null,null,"AS059241497","Michael Adams (059241497) Student Life VP","AS059241497-Michael Adams (059241497) Student Life VP","Active",null,null,null,null,null,null,null,null,null,null,null,"SC6406","SC6406||1400","1400","Prepaid Expenses",null,"All"]
[null,null,null,null,null,null,"AC00413","Operational Fndrsg Replc-MMBIO","AC00413-Operational Fndrsg Replc-MMBIO","Activity","FD01","Active","2025-01-02T03:05:30.013",null,null,null,null,null,null,null,null,"11508","Nevada-Elko","11508-Nevada-Elko",null,null,null,"AS059416261","Tom Meservy (059416261) Academic VP Office, Deans","AS059416261-Tom Meservy (059416261) Academic VP Office, Deans","Active",null,null,null,null,null,null,null,null,null,null,null,"SC6406","SC6406||6400","6400","General and Administrative","Primary","All"]
[null,null,null,null,null,null,"AC00414","Aquatic Phylogenetics Lab","AC00414-Aquatic Phylogenetics Lab","Activity","FD02","Active","2025-01-02T03:05:30.013",null,null,null,null,null,null,null,null,"11511","Tailgates-Campus/HC","11511-Tailgates-Campus/HC",null,null,null,"AS059514570","Ammon Ho (059514570) PF Paint & Sign Shop","AS059514570-Ammon Ho (059514570) PF Paint & Sign Shop","Active",null,null,null,null,null,null,null,null,null,null,null,"SC6407","SC6407||1400","1400","Prepaid Expenses",null,"All"]
[null,null,null,null,null,null,"AC00415","MMBIO Club","AC00415-MMBIO Club","Activity","FD02","Active","2025-01-02T03:05:30.013",null,null,null,null,null,null,null,null,"11512","Tailgates-Off Campus","11512-Tailgates-Off Campus",null,null,null,"AS059560897","Laura Muhlestein (059560897) Aerospace Studies","AS059560897-Laura Muhlestein (059560897) Aerospace Studies","Active",null,null,null,null,null,null,null,null,null,null,null,"SC6407","SC6407||6400","6400","General and Administrative","Primary","All"]
[null,null,null,null,null,null,"AC00416","Res Instru Core Facil (RICF)","AC00416-Res Instru Core Facil (RICF)","Activity","FD02","Active","2025-01-02T03:05:30.013",null,null,null,null,null,null,null,null,"11513","Tailgates-Bowl Games","11513-Tailgates-Bowl Games",null,null,null,"AS059594692","Jen Nishiguchi (059594692) International VP Office","AS059594692-Jen Nishiguchi (059594692) International VP Office","Active",null,null,null,null,null,null,null,null,null,null,null,"SC6408","SC6408||6400","6400","General and Administrative","Primary","All"]
[null,null,null,null,null,null,"AC00417","Medical Lab Science Club","AC00417-Medical Lab Science Club","Activity","FD02","Active","2025-01-02T03:05:30.013",null,null,null,null,null,null,null,null,"11521","Conferencing Odd Year","11521-Conferencing Odd Year",null,null,null,"AS059842597","Brandon Plewe (059842597) FHSS - Dean's Office","AS059842597-Brandon Plewe (059842597) FHSS - Dean's Office","Active",null,null,null,null,null,null,null,null,null,null,null,"SC6409","SC6409||6400","6400","General and Administrative","Primary","All"]
[null,null,null,null,null,null,"AC00418","Life Sciences Graduate Club","AC00418-Life Sciences Graduate Club","Activity","FD02","Active","2025-01-02T03:05:30.013",null,null,null,null,null,null,null,null,"11522","Conferencing Even Year","11522-Conferencing Even Year",null,null,null,"AS059922615","Jon McBride (059922615) Athletics - External Relations","AS059922615-Jon McBride (059922615) Athletics - External Relations","Active",null,null,null,null,null,null,null,null,null,null,null,"SC6410","SC6410||1400","1400","Prepaid Expenses",null,"All"]
[null,null,null,null,null,null,"AC00419","Undergrad Resrch & Intern Club","AC00419-Undergrad Resrch & Intern Club","Activity","FD02","Active","2025-01-02T03:05:30.013",null,null,null,null,null,null,null,null,"11525","Family Camp Odd Year","11525-Family Camp Odd Year",null,null,null,"AS060137761","Steve Christensen (060137761) Academic VP Office, Deans","AS060137761-Steve Christensen (060137761) Academic VP Office, Deans","Active",null,null,null,null,null,null,null,null,null,null,null,"SC6410","SC6410||6400","6400","General and Administrative","Primary","All"]
[null,null,null,null,null,null,"AC00420","Pre-Genetic Counseling Club","AC00420-Pre-Genetic Counseling Club","Activity","FD02","Active","2025-01-02T03:05:30.013",null,null,null,null,null,null,null,null,"11528","Family Camp Even Year","11528-Family Camp Even Year",null,null,null,"AS060169501","Robert Means (060169501) Lee Library - Research & Learning","AS060169501-Robert Means (060169501) Lee Library - Research & Learning","Active",null,null,null,null,null,null,null,null,null,null,null,"SC6411","SC6411||6400","6400","General and Administrative","Primary","All"]
[null,null,null,null,null,null,"AC00421","Operation Outbreak Club","AC00421-Operation Outbreak Club","Activity","FD02","Active","2025-01-02T03:05:30.013",null,null,null,null,null,null,null,null,"11533","Football General","11533-Football General",null,null,null,"AS060781695","Jeanette Geslison (060781695) Fine Arts & Communications - Dean's Office","AS060781695-Jeanette Geslison (060781695) Fine Arts & Communications - Dean's Office","Active",null,null,null,null,null,null,null,null,null,null,null,"SC6412","SC6412||1400","1400","Prepaid Expenses",null,"All"]
[null,null,null,null,null,null,"AC00422","Enlightenment Society Club","AC00422-Enlightenment Society Club","Activity","FD02","Active","2025-01-02T03:05:30.013",null,null,null,null,null,null,null,null,"11536","Freedom Festival","11536-Freedom Festival",null,null,null,"AS060853265","Lola Taylor (060853265) PF Business Support and Compliance","AS060853265-Lola Taylor (060853265) PF Business Support and Compliance","Active",null,null,null,null,null,null,null,null,null,null,null,"SC6412","SC6412||6400","6400","General and Administrative","Primary","All"]
[null,null,null,null,null,null,"AC00423","Grad Mentoring Award-S.Weber","AC00423-Grad Mentoring Award-S.Weber","Activity","FD03","Active","2025-01-02T03:05:30.013",null,null,null,null,null,null,null,null,"11545","Cart 1","11545-Cart 1",null,null,null,"AS061044013","Gary Smith (061044013) CE Software Development","AS061044013-Gary Smith (061044013) CE Software Development","Active",null,null,null,null,null,null,null,null,null,null,null,"SC6413","SC6413||1400","1400","Prepaid Expenses",null,"All"]
[null,null,null,null,null,null,"AC00424","Phage Hunter's Class Royalties","AC00424-Phage Hunter's Class Royalties","Activity","FD03","Active","2025-01-02T03:05:30.013",null,null,null,null,null,null,null,null,"11546","Cart 2","11546-Cart 2",null,null,null,"AS061093642","Barry Holman (061093642) PF Campus Projects - Mechanical Engineering","AS061093642-Barry Holman (061093642) PF Campus Projects - Mechanical Engineering","Active",null,null,null,null,null,null,null,null,null,null,null,"SC6413","SC6413||6400","6400","General and Administrative","Primary","All"]
[null,null,null,null,null,null,"AC00425","Robison, R-Prostratin","AC00425-Robison, R-Prostratin","Activity","FD03","Active","2025-01-02T03:05:30.013",null,null,null,null,null,null,null,null,"11547","Cart 3","11547-Cart 3",null,null,null,"AS061188345","Gary Lawlor (061188345) CMS - Dean's Office Computational, Mathematical, & Phsical","AS061188345-Gary Lawlor (061188345) CMS - Dean's Office Computational, Mathematical, & Phsical","Active",null,null,null,null,null,null,null,null,null,null,null,"SC6414","SC6414||1400","1400","Prepaid Expenses",null,"All"]
[null,null,null,null,null,null,"AC00426","Grad Mentoring Award-S.Anderso","AC00426-Grad Mentoring Award-S.Anderso","Activity","FD03","Active","2025-01-02T03:05:30.013",null,null,null,null,null,null,null,null,"11548","Cart 4","11548-Cart 4",null,null,null,"AS061424253","Robert Coleman (061424253) PF Major Projects - Construction","AS061424253-Robert Coleman (061424253) PF Major Projects - Construction","Active",null,null,null,null,null,null,null,null,null,null,null,"SC6414","SC6414||1650","1650","Construction in Progress",null,"JE_PPE|JE_Override"]
[null,null,null,null,null,null,"AC00427","LFSC Farm / Skaggs Fund-MMBIO","AC00427-LFSC Farm / Skaggs Fund-MMBIO","Activity","FD03","Active","2025-01-02T03:05:30.013",null,null,null,null,null,null,null,null,"11549","Cart 5","11549-Cart 5",null,null,null,"AS061438825","Brooklyn Roemer (061438825) Y Magazine","AS061438825-Brooklyn Roemer (061438825) Y Magazine","Active",null,null,null,null,null,null,null,null,null,null,null,"SC6414","SC6414||1651","1651","Construction in Progress (Non-Workday Projects)",null,"All"]
[null,null,null,null,null,null,"AC00428","Grad Mentoring Award-D.Erickso","AC00428-Grad Mentoring Award-D.Erickso","Activity","FD03","Active","2025-01-02T03:05:30.013",null,null,null,null,null,null,null,null,"11550","Cart 6","11550-Cart 6",null,null,null,"AS061475058","Brian Chantry (061475058) Enrollment Services Executive Director's Office","AS061475058-Brian Chantry (061475058) Enrollment Services Executive Director's Office","Active",null,null,null,null,null,null,null,null,null,null,null,"SC6414","SC6414||6400","6400","General and Administrative","Primary","All"]
[null,null,null,null,null,null,"AC00429","LFSC-Fulton-Chair-MMBIO","AC00429-LFSC-Fulton-Chair-MMBIO","Activity","FD03","Active","2025-01-02T03:05:30.013",null,null,null,null,null,null,null,null,"11560","Commencement","11560-Commencement",null,null,null,"AS061540758","Danielle LaFata (061540758) Athletics - Olympic Sport Medicine","AS061540758-Danielle LaFata (061540758) Athletics - Olympic Sport Medicine","Active",null,null,null,null,null,null,null,null,null,null,null,"SC6415","SC6415||1400","1400","Prepaid Expenses",null,"All"]
[null,null,null,null,null,null,"AC00431","CURA Indirect Studnt Aid-MMBIO","AC00431-CURA Indirect Studnt Aid-MMBIO","Activity","FD03","Active","2025-01-02T03:05:30.013",null,null,null,null,null,null,null,null,"11562","Sorenson Center","11562-Sorenson Center",null,null,null,"AS061662374","Randy Page (061662374) Life Sciences - Dean's Office","AS061662374-Randy Page (061662374) Life Sciences - Dean's Office","Active",null,null,null,null,null,null,null,null,null,null,null,"SC6415","SC6415||6400","6400","General and Administrative","Primary","All"]
[null,null,null,null,null,null,"AC00432","Undergrd Experintl Learng-MMBI","AC00432-Undergrd Experintl Learng-MMBI","Activity","FD03","Active","2025-01-02T03:05:30.013",null,null,null,null,null,null,null,null,"11563","Campus Model","11563-Campus Model",null,null,null,"AS061704489","Tara Carpenter Estrada (061704489) Fine Arts & Communications - Dean's Office","AS061704489-Tara Carpenter Estrada (061704489) Fine Arts & Communications - Dean's Office","Active",null,null,null,null,null,null,null,null,null,null,null,"SC6416","SC6416||1400","1400","Prepaid Expenses",null,"All"]
[null,null,null,null,null,null,"AC00433","CURA Direct Student Aid-MMBIO","AC00433-CURA Direct Student Aid-MMBIO","Activity","FD03","Active","2025-01-02T03:05:30.013",null,null,null,null,null,null,null,null,"11565","Block Y","11565-Block Y",null,null,null,"AS061742652","Chad Carlos (061742652) MSB - Dean's Office, Marriott School of Business","AS061742652-Chad Carlos (061742652) MSB - Dean's Office, Marriott School of Business","Active",null,null,null,null,null,null,null,null,null,null,null,"SC6416","SC6416||6400","6400","General and Administrative","Primary","All"]
[null,null,null,null,null,null,"AC00434","Sunshine Fund-MMBIO","AC00434-Sunshine Fund-MMBIO","Activity","FD07","Active","2025-01-02T03:05:30.013",null,null,null,null,null,null,null,null,"11570","Unassigned","11570-Unassigned",null,null,null,"AS061751916","Jeff Hardy (061751916) FHSS - Dean's Office","AS061751916-Jeff Hardy (061751916) FHSS - Dean's Office","Active",null,null,null,null,null,null,null,null,null,null,null,"SC6417","SC6417||1400","1400","Prepaid Expenses",null,"All"]
[null,null,null,null,null,null,"AC00435","Grad Student Funding-NDFS","AC00435-Grad Student Funding-NDFS","Activity","FD01","Active","2025-01-02T03:05:30.013",null,null,null,null,null,null,null,null,"11581","Donations and Sponsorships","11581-Donations and Sponsorships",null,null,null,"AS061886773","Chris Smith (061886773) Fine Arts & Communications - Dean's Office","AS061886773-Chris Smith (061886773) Fine Arts & Communications - Dean's Office","Active",null,null,null,null,null,null,null,null,null,null,null,"SC6417","SC6417||6400","6400","General and Administrative","Primary","All"]
[null,null,null,null,null,null,"AC00436","Dietetics Education","AC00436-Dietetics Education","Activity","FD02","Active","2025-01-02T03:05:30.013",null,null,null,null,null,null,null,null,"11587","UW Day of Caring","11587-UW Day of Caring",null,null,null,"AS061987570","Kelly Russell (061987570) Kennedy International Center","AS061987570-Kelly Russell (061987570) Kennedy International Center","Active",null,null,null,null,null,null,null,null,null,null,null,"SC6418","SC6418||6400","6400","General and Administrative","Primary","All"]
[null,null,null,null,null,null,"AC00437","Pendulum Court Dining","AC00437-Pendulum Court Dining","Activity","FD02","Active","2025-01-02T03:05:30.013",null,null,null,null,null,null,null,null,"11588","United Way Campaign-Kick-Off","11588-United Way Campaign-Kick-Off",null,null,null,"AS062002515","Jason Adams (062002515) Life Sciences - Dean's Office","AS062002515-Jason Adams (062002515) Life Sciences - Dean's Office","Active",null,null,null,null,null,null,null,null,null,null,null,"SC6419","SC6419||1400","1400","Prepaid Expenses",null,"All"]
[null,null,null,null,null,null,"AC00438","Food Sciences Club","AC00438-Food Sciences Club","Activity","FD02","Active","2025-01-02T03:05:30.013",null,null,null,null,null,null,null,null,"11593","UW Campaign","11593-UW Campaign",null,null,null,"AS062066510","Julian Riley (062066510) OIT Resource - AV Events","AS062066510-Julian Riley (062066510) OIT Resource - AV Events","Active",null,null,null,null,null,null,null,null,null,null,null,"SC6419","SC6419||6400","6400","General and Administrative","Primary","All"]
[null,null,null,null,null,null,"AC00439","Std Dietetic Assn Club","AC00439-Std Dietetic Assn Club","Activity","FD02","Active","2025-01-02T03:05:30.013",null,null,null,null,null,null,null,null,"11600","Event 21","11600-Event 21",null,null,null,"AS062412154","Jim Sawka (062412154) PF Building Projects, Maintenance & Transportation Services","AS062412154-Jim Sawka (062412154) PF Building Projects, Maintenance & Transportation Services","Active",null,null,null,null,null,null,null,null,null,null,null,"SC6420","SC6420||1400","1400","Prepaid Expenses",null,"All"]
[null,null,null,null,null,null,"AC00440","Food Product Development","AC00440-Food Product Development","Activity","FD02","Active","2025-01-02T03:05:30.013",null,null,null,null,null,null,null,null,"11601","Event 22","11601-Event 22",null,null,null,"AS062429828","Jon Ward (062429828) CE SLC - Administration","AS062429828-Jon Ward (062429828) CE SLC - Administration","Active",null,null,null,null,null,null,null,null,null,null,null,"SC6420","SC6420||6400","6400","General and Administrative","Primary","All"]
[null,null,null,null,null,null,"AC00441","Chromatography Center","AC00441-Chromatography Center","Activity","FD02","Active","2025-01-02T03:05:30.013",null,null,null,null,null,null,null,null,"11603","Campus Showcase","11603-Campus Showcase",null,null,null,"AS063197888","Stephanie Dautel (063197888) BYU Broadcasting - Marketing","AS063197888-Stephanie Dautel (063197888) BYU Broadcasting - Marketing","Active",null,null,null,null,null,null,null,null,null,null,null,"SC6421","SC6421||1400","1400","Prepaid Expenses",null,"All"]
[null,null,null,null,null,null,"AC00442","Nutritional Science Club","AC00442-Nutritional Science Club","Activity","FD02","Active","2025-01-02T03:05:30.013",null,null,null,null,null,null,null,null,"11604","Big 12","11604-Big 12",null,null,null,"AS063351279","Gary Crye (063351279) OIT Portfolio - Teaching, Learning, & Research / Dev Tools","AS063351279-Gary Crye (063351279) OIT Portfolio - Teaching, Learning, & Research / Dev Tools","Active",null,null,null,null,null,null,null,null,null,null,null,"SC6421","SC6421||6400","6400","General and Administrative","Primary","All"]
[null,null,null,null,null,null,"AC00443","Food Science Capstone","AC00443-Food Science Capstone","Activity","FD02","Active","2025-01-02T03:05:30.013",null,null,null,null,null,null,null,null,"11609","Event 30","11609-Event 30",null,null,null,"AS063556313","Esteban Garcia (063556313) CE Systems Admin","AS063556313-Esteban Garcia (063556313) CE Systems Admin","Active",null,null,null,null,null,null,null,null,null,null,null,"SC6422","SC6422||1400","1400","Prepaid Expenses",null,"All"]
[null,null,null,null,null,null,"AC00444","Food Micro Expr Lrng Projects","AC00444-Food Micro Expr Lrng Projects","Activity","FD02","Active","2025-01-02T03:05:30.013",null,null,null,null,null,null,null,null,"11659","Summit","11659-Summit",null,null,null,"AS063658480","Nate Garrett (063658480) PF Air Conditioning Shop","AS063658480-Nate Garrett (063658480) PF Air Conditioning Shop","Active",null,null,null,null,null,null,null,null,null,null,null,"SC6422","SC6422||6400","6400","General and Administrative","Primary","All"]
[null,null,null,null,null,null,"AC00445","Women in Science Club","AC00445-Women in Science Club","Activity","FD02","Active","2025-01-02T03:05:30.013",null,null,null,null,null,null,null,null,"11666","Comp Ticket Misc Cultural Arts","11666-Comp Ticket Misc Cultural Arts",null,null,null,"AS064065708","Kristina Baardson (064065708) Purchasing and Travel - International Travel","AS064065708-Kristina Baardson (064065708) Purchasing and Travel - International Travel","Active",null,null,null,null,null,null,null,null,null,null,null,"SC6423","SC6423||6400","6400","General and Administrative","Primary","All"]
[null,null,null,null,null,null,"AC00446","Food Sensory Paneling","AC00446-Food Sensory Paneling","Activity","FD03","Active","2025-01-02T03:05:30.013",null,null,null,null,null,null,null,null,"11667","Comp Ticket Misc Athletic-No f","11667-Comp Ticket Misc Athletic-No f",null,null,null,"AS064455119","Ryan Hardy (064455119) CE FSY","AS064455119-Ryan Hardy (064455119) CE FSY","Active",null,null,null,null,null,null,null,null,null,null,null,"SC6424","SC6424||1400","1400","Prepaid Expenses",null,"All"]
[null,null,null,null,null,null,"AC00447","Student Support Scholarship","AC00447-Student Support Scholarship","Activity","FD03","Active","2025-01-02T03:05:30.013",null,null,null,null,null,null,null,null,"11668","BYU Management Society","11668-BYU Management Society",null,null,null,"AS064546661","Matthew Johnson (064546661) OIT Portfolio - Business, Finance, & HR","AS064546661-Matthew Johnson (064546661) OIT Portfolio - Business, Finance, & HR","Active",null,null,null,null,null,null,null,null,null,null,null,"SC6424","SC6424||6400","6400","General and Administrative","Primary","All"]
[null,null,null,null,null,null,"AC00448","NDFS Mentoring","AC00448-NDFS Mentoring","Activity","FD03","Active","2025-01-02T03:05:30.013",null,null,null,null,null,null,null,null,"11675","Comp Basketball Season tickets","11675-Comp Basketball Season tickets",null,null,null,"AS064699868","Matt Porter (064699868) PF Central Heating Plant","AS064699868-Matt Porter (064699868) PF Central Heating Plant","Active",null,null,null,null,null,null,null,null,null,null,null,"SC6425","SC6425||1400","1400","Prepaid Expenses",null,"All"]
[null,null,null,null,null,null,"AC00449","LFSC Farm / Skaggs Fund-NDFS","AC00449-LFSC Farm / Skaggs Fund-NDFS","Activity","FD03","Active","2025-01-02T03:05:30.013",null,null,null,null,null,null,null,null,"11685","ROTC","11685-ROTC",null,null,null,"AS065021516","Jared Franson (065021516) Athletics - Olympic Sport Medicine","AS065021516-Jared Franson (065021516) Athletics - Olympic Sport Medicine","Active",null,null,null,null,null,null,null,null,null,null,null,"SC6425","SC6425||6400","6400","General and Administrative","Primary","All"]
[null,null,null,null,null,null,"AC00450","Grad Mentoring Award-J.Tessem","AC00450-Grad Mentoring Award-J.Tessem","Activity","FD03","Active","2025-01-02T03:05:30.013",null,null,null,null,null,null,null,null,"11686","SC Spartanburg","11686-SC Spartanburg",null,null,null,"AS065151407","Geoff Johnson (065151407) PF Dining and MTC Maintenance","AS065151407-Geoff Johnson (065151407) PF Dining and MTC Maintenance","Active",null,null,null,null,null,null,null,null,null,null,null,"SC6426","SC6426||6400","6400","General and Administrative","Primary","All"]
[null,null,null,null,null,null,"AC00451","Grad Mentoring Award-J.LeChemi","AC00451-Grad Mentoring Award-J.LeChemi","Activity","FD03","Active","2025-01-02T03:05:30.013",null,null,null,null,null,null,null,null,"11687","Ballroom","11687-Ballroom",null,null,null,"AS065155580","Cody Reeves (065155580) MSB - Dean's Office, Marriott School of Business","AS065155580-Cody Reeves (065155580) MSB - Dean's Office, Marriott School of Business","Active",null,null,null,null,null,null,null,null,null,null,null,"SC6427","SC6427||1400","1400","Prepaid Expenses",null,"All"]
[null,null,null,null,null,null,"AC00452","LFSC-Fulton-Chair-NDFS","AC00452-LFSC-Fulton-Chair-NDFS","Activity","FD03","Active","2025-01-02T03:05:30.013",null,null,null,null,null,null,null,null,"11688","Michael Johanson","11688-Michael Johanson",null,null,null,"AS065216056","Jacqueline Torres (065216056) Culinary Support Center","AS065216056-Jacqueline Torres (065216056) Culinary Support Center","Active",null,null,null,null,null,null,null,null,null,null,null,"SC6427","SC6427||6400","6400","General and Administrative","Primary","All"]
[null,null,null,null,null,null,"AC00454","Undergrd Experintl Learng-NDFS","AC00454-Undergrd Experintl Learng-NDFS","Activity","FD03","Active","2025-01-02T03:05:30.013",null,null,null,null,null,null,null,null,"11689","Washer/Dryer Income","11689-Washer/Dryer Income",null,null,null,"AS065242203","Myrna Layton (065242203) Lee Library - Research & Learning","AS065242203-Myrna Layton (065242203) Lee Library - Research & Learning","Active",null,null,null,null,null,null,null,null,null,null,null,"SC6428","SC6428||1400","1400","Prepaid Expenses",null,"All"]
[null,null,null,null,null,null,"AC00455","CURA Indirect Student Aid-NDFS","AC00455-CURA Indirect Student Aid-NDFS","Activity","FD03","Active","2025-01-02T03:05:30.013",null,null,null,null,null,null,null,null,"11690","Affinity - Young Ambassadors","11690-Affinity - Young Ambassadors",null,null,null,"AS065373396","Maggie Marchant (065373396) Lee Library - Research & Learning","AS065373396-Maggie Marchant (065373396) Lee Library - Research & Learning","Active",null,null,null,null,null,null,null,null,null,null,null,"SC6428","SC6428||6400","6400","General and Administrative","Primary","All"]
[null,null,null,null,null,null,"AC00456","CURA Direct Student Aid-NDFS","AC00456-CURA Direct Student Aid-NDFS","Activity","FD03","Active","2025-01-02T03:05:30.013",null,null,null,null,null,null,null,null,"11692","Affinity - Vocal Point","11692-Affinity - Vocal Point",null,null,null,"AS065578519","Alisa Kesler Lund (065578519) FHSS - Dean's Office","AS065578519-Alisa Kesler Lund (065578519) FHSS - Dean's Office","Active",null,null,null,null,null,null,null,null,null,null,null,"SC6429","SC6429||1400","1400","Prepaid Expenses",null,"All"]
[null,null,null,null,null,null,"AC00457","Sunshine Fund-NDFS","AC00457-Sunshine Fund-NDFS","Activity","FD07","Active","2025-01-02T03:05:30.013",null,null,null,null,null,null,null,null,"11694","Former Student Officer Society","11694-Former Student Officer Society",null,null,null,"AS065775978","Michael Goodrich (065775978) CMS - Dean's Office Computational, Mathematical, & Phsical","AS065775978-Michael Goodrich (065775978) CMS - Dean's Office Computational, Mathematical, & Phsical","Active",null,null,null,null,null,null,null,null,null,null,null,"SC6429","SC6429||6400","6400","General and Administrative","Primary","All"]
[null,null,null,null,null,null,"AC00458","Grad Student Funding-CELL","AC00458-Grad Student Funding-CELL","Activity","FD01","Active","2025-01-02T03:05:30.013",null,null,null,null,null,null,null,null,"11695","Affinity-Cougarettes","11695-Affinity-Cougarettes",null,null,null,"AS065897875","Jack Stoneman (065897875) Humanities - Dean's Office","AS065897875-Jack Stoneman (065897875) Humanities - Dean's Office","Active",null,null,null,null,null,null,null,null,null,null,null,"SC6430","SC6430||1400","1400","Prepaid Expenses",null,"All"]
[null,null,null,null,null,null,"AC00459","Confocal Microscope Facility","AC00459-Confocal Microscope Facility","Activity","FD02","Active","2025-01-02T03:05:30.013",null,null,null,null,null,null,null,null,"11696","Affinity-Folk Dance","11696-Affinity-Folk Dance",null,null,null,"AS066549145","June Standley (066549145) Admissions Office","AS066549145-June Standley (066549145) Admissions Office","Active",null,null,null,null,null,null,null,null,null,null,null,"SC6430","SC6430||6400","6400","General and Administrative","Primary","All"]
[null,null,null,null,null,null,"AC00460","Diabetes Awareness Events","AC00460-Diabetes Awareness Events","Activity","FD03","Active","2025-01-02T03:05:30.013",null,null,null,null,null,null,null,null,"11697","Affinity-Living Legends","11697-Affinity-Living Legends",null,null,null,"AS066645543","Curt Holman (066645543) Fine Arts & Communications - Dean's Office","AS066645543-Curt Holman (066645543) Fine Arts & Communications - Dean's Office","Active",null,null,null,null,null,null,null,null,null,null,null,"SC6431","SC6431||1400","1400","Prepaid Expenses",null,"All"]
[null,null,null,null,null,null,"AC00461","Grad Studies-CELL","AC00461-Grad Studies-CELL","Activity","FD03","Active","2025-01-02T03:05:30.013",null,null,null,null,null,null,null,null,"11698","Affinity-Men's Chorus","11698-Affinity-Men's Chorus",null,null,null,"AS066791363","Carolyn Billings (066791363) Athletics - Olympic Sport Medicine","AS066791363-Carolyn Billings (066791363) Athletics - Olympic Sport Medicine","Active",null,null,null,null,null,null,null,null,null,null,null,"SC6431","SC6431||6400","6400","General and Administrative","Primary","All"]
[null,null,null,null,null,null,"AC00462","LFSC Farm / Skaggs Fund-CELL","AC00462-LFSC Farm / Skaggs Fund-CELL","Activity","FD03","Active","2025-01-02T03:05:30.013",null,null,null,null,null,null,null,null,"11699","Affinity-Nursing Society","11699-Affinity-Nursing Society",null,null,null,"AS066794452","Hans-Wilhelm Kelling (066794452) Humanities - Dean's Office","AS066794452-Hans-Wilhelm Kelling (066794452) Humanities - Dean's Office","Active",null,null,null,null,null,null,null,null,null,null,null,"SC6432","SC6432||1400","1400","Prepaid Expenses",null,"All"]
[null,null,null,null,null,null,"AC00463","Grad Mentoring Award-J.Edwards","AC00463-Grad Mentoring Award-J.Edwards","Activity","FD03","Active","2025-01-02T03:05:30.013",null,null,null,null,null,null,null,null,"11700","Affinity-BYU Ballet","11700-Affinity-BYU Ballet",null,null,null,"AS067108432","Jarica Watts (067108432) Humanities - Dean's Office","AS067108432-Jarica Watts (067108432) Humanities - Dean's Office","Active",null,null,null,null,null,null,null,null,null,null,null,"SC6432","SC6432||6400","6400","General and Administrative","Primary","All"]
[null,null,null,null,null,null,"AC00464","Grad Mentoring Award-J.Hansen","AC00464-Grad Mentoring Award-J.Hansen","Activity","FD03","Active","2025-01-02T03:05:30.013",null,null,null,null,null,null,null,null,"11703","Affinity-Film and TV Connectio","11703-Affinity-Film and TV Connectio",null,null,null,"AS067170317","Stephen Ricks (067170317) Humanities - Dean's Office","AS067170317-Stephen Ricks (067170317) Humanities - Dean's Office","Active",null,null,null,null,null,null,null,null,null,null,null,"SC6433","SC6433||1400","1400","Prepaid Expenses",null,"All"]
[null,null,null,null,null,null,"AC00465","Grad Mentoring Award-D.Kooyman","AC00465-Grad Mentoring Award-D.Kooyman","Activity","FD03","Active","2025-01-02T03:05:30.013",null,null,null,null,null,null,null,null,"11704","Subscriptions/Periodicals","11704-Subscriptions/Periodicals",null,null,null,"AS067325976","Deanna O'Hara (067325976) PF Building Operations","AS067325976-Deanna O'Hara (067325976) PF Building Operations","Active",null,null,null,null,null,null,null,null,null,null,null,"SC6433","SC6433||6400","6400","General and Administrative","Primary","All"]
[null,null,null,null,null,null,"AC00466","Grad Mentoring Award-D.Thomson","AC00466-Grad Mentoring Award-D.Thomson","Activity","FD03","Active","2025-01-02T03:05:30.013",null,null,null,null,null,null,null,null,"11705","Swim & Dive Chapter","11705-Swim & Dive Chapter",null,null,null,"AS067480259","Lita Little Giddins (067480259) University President - Belonging Vice President","AS067480259-Lita Little Giddins (067480259) University President - Belonging Vice President","Active",null,null,null,null,null,null,null,null,null,null,null,"SC6434","SC6434||1400","1400","Prepaid Expenses",null,"All"]
[null,null,null,null,null,null,"AC00467","D Kooyman Translation Medicine","AC00467-D Kooyman Translation Medicine","Activity","FD03","Active","2025-01-02T03:05:30.013",null,null,null,null,null,null,null,null,"11706","Geography Chapter","11706-Geography Chapter",null,null,null,"AS067962948","Kirsten Russell (067962948) MSE - Dean's Office, McKay School of Education","AS067962948-Kirsten Russell (067962948) MSE - Dean's Office, McKay School of Education","Active",null,null,null,null,null,null,null,null,null,null,null,"SC6434","SC6434||6400","6400","General and Administrative","Primary","All"]
[null,null,null,null,null,null,"AC00468","T Jenkins Translation Medicine","AC00468-T Jenkins Translation Medicine","Activity","FD03","Active","2025-01-02T03:05:30.013",null,null,null,null,null,null,null,null,"11707","Montana - Billings","11707-Montana - Billings",null,null,null,"AS067971939","Cathleen Barney (067971939) Admissions Office","AS067971939-Cathleen Barney (067971939) Admissions Office","Active",null,null,null,null,null,null,null,null,null,null,null,"SC6435","SC6435||1400","1400","Prepaid Expenses",null,"All"]
[null,null,null,null,null,null,"AC00469","LFSC-Fulton-Chair-CELL","AC00469-LFSC-Fulton-Chair-CELL","Activity","FD03","Active","2025-01-02T03:05:30.013",null,null,null,null,null,null,null,null,"11710","Alumni Chapter Directors","11710-Alumni Chapter Directors",null,null,null,"AS068021830","Randy Clement (068021830) BYU Police Operations - Patrol","AS068021830-Randy Clement (068021830) BYU Police Operations - Patrol","Active",null,null,null,null,null,null,null,null,null,null,null,"SC6435","SC6435||1650","1650","Construction in Progress",null,"JE_PPE|JE_Override"]
[null,null,null,null,null,null,"AC00471","CURA Indirect Studnt Aid-CELL","AC00471-CURA Indirect Studnt Aid-CELL","Activity","FD03","Active","2025-01-02T03:05:30.013",null,null,null,null,null,null,null,null,"11711","South Carolina - Columbia","11711-South Carolina - Columbia",null,null,null,"AS068474825","Nathan Leonhardt (068474825) FHSS - Dean's Office","AS068474825-Nathan Leonhardt (068474825) FHSS - Dean's Office","Active",null,null,null,null,null,null,null,null,null,null,null,"SC6435","SC6435||1651","1651","Construction in Progress (Non-Workday Projects)",null,"All"]
[null,null,null,null,null,null,"AC00472","Undergrd Experintl Learng-CELL","AC00472-Undergrd Experintl Learng-CELL","Activity","FD03","Active","2025-01-02T03:05:30.013",null,null,null,null,null,null,null,null,"11713","Tennessee - Memphis","11713-Tennessee - Memphis",null,null,null,"AS068791480","Jeff Worthen (068791480) Executive Chef","AS068791480-Jeff Worthen (068791480) Executive Chef","Active",null,null,null,null,null,null,null,null,null,null,null,"SC6435","SC6435||6400","6400","General and Administrative","Primary","All"]
[null,null,null,null,null,null,"AC00473","CURA Direct Student Aid-CELL","AC00473-CURA Direct Student Aid-CELL","Activity","FD03","Active","2025-01-02T03:05:30.013",null,null,null,null,null,null,null,null,"11714","Kansas - Wichita","11714-Kansas - Wichita",null,null,null,"AS068792487","Jess Lyons (068792487) OIT Portfolio - Identity","AS068792487-Jess Lyons (068792487) OIT Portfolio - Identity","Active",null,null,null,null,null,null,null,null,null,null,null,"SC6436","SC6436||6400","6400","General and Administrative","Primary","All"]
[null,null,null,null,null,null,"AC00474","Sunshine Fund-CELL","AC00474-Sunshine Fund-CELL","Activity","FD07","Active","2025-01-02T03:05:30.013",null,null,null,null,null,null,null,null,"11715","Utah - St. George","11715-Utah - St. George",null,null,null,"AS068871759","Coleman Madsen (068871759) Dining Administration","AS068871759-Coleman Madsen (068871759) Dining Administration","Active",null,null,null,null,null,null,null,null,null,null,null,"SC6437","SC6437||6400","6400","General and Administrative","Primary","All"]
[null,null,null,null,null,null,"AC00475","Grad Studies-S.StClair","AC00475-Grad Studies-S.StClair","Activity","FD01","Active","2025-01-02T03:05:30.013",null,null,null,null,null,null,null,null,"11728","American Samoa","11728-American Samoa",null,null,null,"AS069028046","Noelani Wayas (069028046) Business Career Center","AS069028046-Noelani Wayas (069028046) Business Career Center","Active",null,null,null,null,null,null,null,null,null,null,null,"SC6438","SC6438||1400","1400","Prepaid Expenses",null,"All"]
[null,null,null,null,null,null,"AC00476","Grad Student Funding-PWS","AC00476-Grad Student Funding-PWS","Activity","FD01","Active","2025-01-02T03:05:30.013",null,null,null,null,null,null,null,null,"11739","Delaware - Wilmington","11739-Delaware - Wilmington",null,null,null,"AS069190747","Jake Naugle (069190747) Admissions Office","AS069190747-Jake Naugle (069190747) Admissions Office","Active",null,null,null,null,null,null,null,null,null,null,null,"SC6438","SC6438||6400","6400","General and Administrative","Primary","All"]
[null,null,null,null,null,null,"AC00477","Operational Fndrsg Replacm-PWS","AC00477-Operational Fndrsg Replacm-PWS","Activity","FD01","Active","2025-01-02T03:05:30.013",null,null,null,null,null,null,null,null,"11742","Iowa-Des Moines","11742-Iowa-Des Moines",null,null,null,"AS069320555","Steven Palica (069320555) OIT Resource - Tech Operations - Enterprise Apps","AS069320555-Steven Palica (069320555) OIT Resource - Tech Operations - Enterprise Apps","Active",null,null,null,null,null,null,null,null,null,null,null,"SC6439","SC6439||1400","1400","Prepaid Expenses",null,"All"]
[null,null,null,null,null,null,"AC00478","Farm Research Plots","AC00478-Farm Research Plots","Activity","FD01","Active","2025-01-02T03:05:30.013",null,null,null,null,null,null,null,null,"11752","Speeches","11752-Speeches",null,null,null,"AS069351973","Rose Combs (069351973) OIT Resource - Application Engineering","AS069351973-Rose Combs (069351973) OIT Resource - Application Engineering","Active",null,null,null,null,null,null,null,null,null,null,null,"SC6439","SC6439||6400","6400","General and Administrative","Primary","All"]
[null,null,null,null,null,null,"AC00479","Plant and Wildlife Sciences","AC00479-Plant and Wildlife Sciences","Activity","FD02","Active","2025-01-02T03:05:30.013",null,null,null,null,null,null,null,null,"11753","Website Maintenance","11753-Website Maintenance",null,null,null,"AS069389994","Michelle Hirsche (069389994) PF Business Support and Compliance","AS069389994-Michelle Hirsche (069389994) PF Business Support and Compliance","Active",null,null,null,null,null,null,null,null,null,null,null,"SC6440","SC6440||1400","1400","Prepaid Expenses",null,"All"]
[null,null,null,null,null,null,"AC00480","Greenhouse Projects","AC00480-Greenhouse Projects","Activity","FD02","Active","2025-01-02T03:05:30.013",null,null,null,null,null,null,null,null,"11754","April Commencement","11754-April Commencement",null,null,null,"AS069577692","Maren Fischer (069577692) Registrar's Office","AS069577692-Maren Fischer (069577692) Registrar's Office","Active",null,null,null,null,null,null,null,null,null,null,null,"SC6440","SC6440||6400","6400","General and Administrative","Primary","All"]
[null,null,null,null,null,null,"AC00481","Soil-Plant Analysis","AC00481-Soil-Plant Analysis","Activity","FD02","Active","2025-01-02T03:05:30.013",null,null,null,null,null,null,null,null,"11760","Student Designers","11760-Student Designers",null,null,null,"AS069598894","Chad Hancock (069598894) Life Sciences - Dean's Office","AS069598894-Chad Hancock (069598894) Life Sciences - Dean's Office","Active",null,null,null,null,null,null,null,null,null,null,null,"SC6441","SC6441||1400","1400","Prepaid Expenses",null,"All"]
[null,null,null,null,null,null,"AC00482","Environmental Science Club","AC00482-Environmental Science Club","Activity","FD02","Active","2025-01-02T03:05:30.013",null,null,null,null,null,null,null,null,"11761","Student Computing","11761-Student Computing",null,null,null,"AS069635491","Amy Soto (069635491) University Advisement Center","AS069635491-Amy Soto (069635491) University Advisement Center","Active",null,null,null,null,null,null,null,null,null,null,null,"SC6441","SC6441||6400","6400","General and Administrative","Primary","All"]
[null,null,null,null,null,null,"AC00483","Landscape Management Club","AC00483-Landscape Management Club","Activity","FD02","Active","2025-01-02T03:05:30.013",null,null,null,null,null,null,null,null,"11762","Student Secretaries","11762-Student Secretaries",null,null,null,"AS069772710","Alberto Puertas (069772710) University Advisement Center","AS069772710-Alberto Puertas (069772710) University Advisement Center","Active",null,null,null,null,null,null,null,null,null,null,null,"SC6442","SC6442||1400","1400","Prepaid Expenses",null,"All"]
[null,null,null,null,null,null,"AC00484","Aquarium, Zoo and Rescue Club","AC00484-Aquarium, Zoo and Rescue Club","Activity","FD02","Active","2025-01-02T03:05:30.013",null,null,null,null,null,null,null,null,"11763","Student Editors","11763-Student Editors",null,null,null,"AS069777568","Craig Giles (069777568) PF Keys, Locks, & Access Control","AS069777568-Craig Giles (069777568) PF Keys, Locks, & Access Control","Active",null,null,null,null,null,null,null,null,null,null,null,"SC6442","SC6442||6400","6400","General and Administrative","Primary","All"]
[null,null,null,null,null,null,"AC00485","Geographic Info System(GIS)Lab","AC00485-Geographic Info System(GIS)Lab","Activity","FD02","Active","2025-01-02T03:05:30.013",null,null,null,null,null,null,null,null,"11764","Student Photography","11764-Student Photography",null,null,null,"AS069827661","Clark Asay (069827661) Academic VP Office, Deans","AS069827661-Clark Asay (069827661) Academic VP Office, Deans","Active",null,null,null,null,null,null,null,null,null,null,null,"SC6443","SC6443||1400","1400","Prepaid Expenses",null,"All"]
[null,null,null,null,null,null,"AC00486","Cementum Analysis Laboratory","AC00486-Cementum Analysis Laboratory","Activity","FD02","Active","2025-01-02T03:05:30.013",null,null,null,null,null,null,null,null,"11765","Student Translators","11765-Student Translators",null,null,null,"AS070309145","Lorenzo Hubbert (070309145) CE Marketing & Outreach","AS070309145-Lorenzo Hubbert (070309145) CE Marketing & Outreach","Active",null,null,null,null,null,null,null,null,null,null,null,"SC6443","SC6443||6400","6400","General and Administrative","Primary","All"]
[null,null,null,null,null,null,"AC00487","Genetics and Biotech Club","AC00487-Genetics and Biotech Club","Activity","FD02","Active","2025-01-02T03:05:30.013",null,null,null,null,null,null,null,null,"11766","Student SEO/Marketing","11766-Student SEO/Marketing",null,null,null,"AS070311203","Trevor Wilson (070311203) University President - Advancement Vice President","AS070311203-Trevor Wilson (070311203) University President - Advancement Vice President","Active",null,null,null,null,null,null,null,null,null,null,null,"SC6444","SC6444||1400","1400","Prepaid Expenses",null,"All"]
[null,null,null,null,null,null,"AC00488","Wildlife & Range Club","AC00488-Wildlife & Range Club","Activity","FD02","Active","2025-01-02T03:05:30.013",null,null,null,null,null,null,null,null,"11767","Student Video Editing","11767-Student Video Editing",null,null,null,"AS070435816","Laurel Hornberger (070435816) CE Test Prep & Youth Programs","AS070435816-Laurel Hornberger (070435816) CE Test Prep & Youth Programs","Active",null,null,null,null,null,null,null,null,null,null,null,"SC6444","SC6444||6400","6400","General and Administrative","Primary","All"]
[null,null,null,null,null,null,"AC00489","Society for Range Mgmt Club","AC00489-Society for Range Mgmt Club","Activity","FD02","Active","2025-01-02T03:05:30.013",null,null,null,null,null,null,null,null,"11770","Photography","11770-Photography",null,null,null,"AS070485150","Richard Osguthorpe (070485150) University President - Academic Vice President","AS070485150-Richard Osguthorpe (070485150) University President - Academic Vice President","Active",null,null,null,null,null,null,null,null,null,null,null,"SC6445","SC6445||1400","1400","Prepaid Expenses",null,"All"]
[null,null,null,null,null,null,"AC00490","Spotted Wilt","AC00490-Spotted Wilt","Activity","FD03","Active","2025-01-02T03:05:30.013",null,null,null,null,null,null,null,null,"11772","Electronic Media","11772-Electronic Media",null,null,null,"AS070916873","Loreen Allphin (070916873) Academic VP Office, Deans","AS070916873-Loreen Allphin (070916873) Academic VP Office, Deans","Active",null,null,null,null,null,null,null,null,null,null,null,"SC6445","SC6445||6400","6400","General and Administrative","Primary","All"]
[null,null,null,null,null,null,"AC00491","National Assc of Landscape Pro","AC00491-National Assc of Landscape Pro","Activity","FD03","Active","2025-01-02T03:05:30.013",null,null,null,null,null,null,null,null,"11773","Fonts","11773-Fonts",null,null,null,"AS071004251","Steve Hatch (071004251) PF Building Operations","AS071004251-Steve Hatch (071004251) PF Building Operations","Active",null,null,null,null,null,null,null,null,null,null,null,"SC6446","SC6446||1400","1400","Prepaid Expenses",null,"All"]
[null,null,null,null,null,null,"AC00492","LFSC Farm / Skaggs Fund-PWS","AC00492-LFSC Farm / Skaggs Fund-PWS","Activity","FD03","Active","2025-01-02T03:05:30.013",null,null,null,null,null,null,null,null,"11775","Subscriptions","11775-Subscriptions",null,null,null,"AS071229464","Brian Maynes (071229464) OIT Core - Finance - Materials Mgmt","AS071229464-Brian Maynes (071229464) OIT Core - Finance - Materials Mgmt","Active",null,null,null,null,null,null,null,null,null,null,null,"SC6446","SC6446||6400","6400","General and Administrative","Primary","All"]
[null,null,null,null,null,null,"AC00493","Grad Mentoring Award-B.Abbott","AC00493-Grad Mentoring Award-B.Abbott","Activity","FD03","Active","2025-01-02T03:05:30.013",null,null,null,null,null,null,null,null,"11776","Dues & Memberships","11776-Dues & Memberships",null,null,null,"AS071250280","Shari Skabelund (071250280) Athletics - Cougar Club","AS071250280-Shari Skabelund (071250280) Athletics - Cougar Club","Active",null,null,null,null,null,null,null,null,null,null,null,"SC6447","SC6447||1400","1400","Prepaid Expenses",null,"All"]
[null,null,null,null,null,null,"AC00494","LFSC-Fulton-Chair-PWS","AC00494-LFSC-Fulton-Chair-PWS","Activity","FD03","Active","2025-01-02T03:05:30.013",null,null,null,null,null,null,null,null,"11777","Entry Fees","11777-Entry Fees",null,null,null,"AS071437415","Jon Jensen (071437415) PF Campus Projects - Mechanical Engineering","AS071437415-Jon Jensen (071437415) PF Campus Projects - Mechanical Engineering","Active",null,null,null,null,null,null,null,null,null,null,null,"SC6447","SC6447||6400","6400","General and Administrative","Primary","All"]
[null,null,null,null,null,null,"AC00496","CURA Indirect Student Aid-PWS","AC00496-CURA Indirect Student Aid-PWS","Activity","FD03","Active","2025-01-02T03:05:30.013",null,null,null,null,null,null,null,null,"11800","Billable MU","11800-Billable MU",null,null,null,"AS071482089","George Monsivais (071482089) CE Research, Planning & Asmnt","AS071482089-George Monsivais (071482089) CE Research, Planning & Asmnt","Active",null,null,null,null,null,null,null,null,null,null,null,"SC6448","SC6448||1400","1400","Prepaid Expenses",null,"All"]
[null,null,null,null,null,null,"AC00497","Undergrd Experintl Learng-PWS","AC00497-Undergrd Experintl Learng-PWS","Activity","FD03","Active","2025-01-02T03:05:30.013",null,null,null,null,null,null,null,null,"11801","Billable NMU","11801-Billable NMU",null,null,null,"AS071907233","Craig Merrill (071907233) MSB - Dean's Office, Marriott School of Business","AS071907233-Craig Merrill (071907233) MSB - Dean's Office, Marriott School of Business","Active",null,null,null,null,null,null,null,null,null,null,null,"SC6448","SC6448||6400","6400","General and Administrative","Primary","All"]
[null,null,null,null,null,null,"AC00498","CURA Direct Student Aid-PWS","AC00498-CURA Direct Student Aid-PWS","Activity","FD03","Active","2025-01-02T03:05:30.013",null,null,null,null,null,null,null,null,"11850","Magazine Printing","11850-Magazine Printing",null,null,null,"AS072208327","Kirk Jacobs (072208327) PF Building Projects, Maintenance & Transportation Services","AS072208327-Kirk Jacobs (072208327) PF Building Projects, Maintenance & Transportation Services","Active",null,null,null,null,null,null,null,null,null,null,null,"SC6449","SC6449||1400","1400","Prepaid Expenses",null,"All"]
[null,null,null,null,null,null,"AC00499","Sunshine Fund-PWS","AC00499-Sunshine Fund-PWS","Activity","FD07","Active","2025-01-02T03:05:30.013",null,null,null,null,null,null,null,null,"11851","Graphic Design","11851-Graphic Design",null,null,null,"AS072791261","Steven Johnson (072791261) Academic VP Office, Deans","AS072791261-Steven Johnson (072791261) Academic VP Office, Deans","Active",null,null,null,null,null,null,null,null,null,null,null,"SC6449","SC6449||1650","1650","Construction in Progress",null,"JE_PPE|JE_Override"]
[null,null,null,null,null,null,"AC00500","Human Performance Research","AC00500-Human Performance Research","Activity","FD01","Active","2025-01-02T03:05:30.013",null,null,null,null,null,null,null,null,"11852","BYU Today","11852-BYU Today",null,null,null,"AS072864443","Danny Yeo (072864443) Life Sciences - Dean's Office","AS072864443-Danny Yeo (072864443) Life Sciences - Dean's Office","Active",null,null,null,null,null,null,null,null,null,null,null,"SC6449","SC6449||1651","1651","Construction in Progress (Non-Workday Projects)",null,"All"]
[null,null,null,null,null,null,"AC00501","Grad Student Funding-EXSC","AC00501-Grad Student Funding-EXSC","Activity","FD01","Active","2025-01-02T03:05:30.013",null,null,null,null,null,null,null,null,"11853","U.S. Mailing","11853-U.S. Mailing",null,null,null,"AS072995413","Ashley Fraser (072995413) FHSS - Dean's Office","AS072995413-Ashley Fraser (072995413) FHSS - Dean's Office","Active",null,null,null,null,null,null,null,null,null,null,null,"SC6449","SC6449||6400","6400","General and Administrative","Primary","All"]
[null,null,null,null,null,null,"AC00502","Grad Studies-Sunku Kwon","AC00502-Grad Studies-Sunku Kwon","Activity","FD01","Active","2025-01-02T03:05:30.013",null,null,null,null,null,null,null,null,"11854","Foreign Mailing","11854-Foreign Mailing",null,null,null,"AS073019648","Tia Looney (073019648) BYU Security Operations - Police Dispatch","AS073019648-Tia Looney (073019648) BYU Security Operations - Police Dispatch","Active",null,null,null,null,null,null,null,null,null,null,null,"SC6450","SC6450||1400","1400","Prepaid Expenses",null,"All"]
[null,null,null,null,null,null,"AC00503","Phy/Occupational Therapy Club","AC00503-Phy/Occupational Therapy Club","Activity","FD02","Active","2025-01-02T03:05:30.013",null,null,null,null,null,null,null,null,"11855","BYU Mag Video Prep","11855-BYU Mag Video Prep",null,null,null,"AS073116030","Makay Jackman (073116030) Cannon Center","AS073116030-Makay Jackman (073116030) Cannon Center","Active",null,null,null,null,null,null,null,null,null,null,null,"SC6450","SC6450||1650","1650","Construction in Progress",null,"JE_PPE|JE_Override"]
[null,null,null,null,null,null,"AC00504","Cougar Athletic Training Club","AC00504-Cougar Athletic Training Club","Activity","FD02","Active","2025-01-02T03:05:30.013",null,null,null,null,null,null,null,null,"11856","BYU Magazine website","11856-BYU Magazine website",null,null,null,"AS073120070","Robert Richardson (073120070) CMS - Dean's Office Computational, Mathematical, & Phsical","AS073120070-Robert Richardson (073120070) CMS - Dean's Office Computational, Mathematical, & Phsical","Active",null,null,null,null,null,null,null,null,null,null,null,"SC6450","SC6450||1651","1651","Construction in Progress (Non-Workday Projects)",null,"All"]
[null,null,null,null,null,null,"AC00505","Exercise Sciences Y-Be-Fit","AC00505-Exercise Sciences Y-Be-Fit","Activity","FD02","Active","2025-01-02T03:05:30.013",null,null,null,null,null,null,null,null,"11857","Y Mag Podcast","11857-Y Mag Podcast",null,null,null,"AS073285474","Dennis Crawford (073285474) PF Electrical Shop","AS073285474-Dennis Crawford (073285474) PF Electrical Shop","Active",null,null,null,null,null,null,null,null,null,null,null,"SC6450","SC6450||6400","6400","General and Administrative","Primary","All"]
[null,null,null,null,null,null,"AC00506","Fitness for Life","AC00506-Fitness for Life","Activity","FD03","Active","2025-01-02T03:05:30.013",null,null,null,null,null,null,null,null,"11860","Reunion 1","11860-Reunion 1",null,null,null,"AS073706975","Kristy Christensen (073706975) FHSS - Dean's Office","AS073706975-Kristy Christensen (073706975) FHSS - Dean's Office","Active",null,null,null,null,null,null,null,null,null,null,null,"SC6451","SC6451||1400","1400","Prepaid Expenses",null,"All"]
[null,null,null,null,null,null,"AC00507","Jesse Knight Profrshp-K Knight","AC00507-Jesse Knight Profrshp-K Knight","Activity","FD03","Active","2025-01-02T03:05:30.013",null,null,null,null,null,null,null,null,"11861","Kentucky - Lexington","11861-Kentucky - Lexington",null,null,null,"AS073955008","D Keith Willmore (073955008) HS General Medicine","AS073955008-D Keith Willmore (073955008) HS General Medicine","Active",null,null,null,null,null,null,null,null,null,null,null,"SC6451","SC6451||6400","6400","General and Administrative","Primary","All"]
[null,null,null,null,null,null,"AC00508","Hopkins, Tyson-Young Scholar","AC00508-Hopkins, Tyson-Young Scholar","Activity","FD03","Active","2025-01-02T03:05:30.013",null,null,null,null,null,null,null,null,"11862","Geology","11862-Geology",null,null,null,"AS074084978","Coleby Clawson (074084978) Athletics - Administration","AS074084978-Coleby Clawson (074084978) Athletics - Administration","Active",null,null,null,null,null,null,null,null,null,null,null,"SC6452","SC6452||1400","1400","Prepaid Expenses",null,"All"]
[null,null,null,null,null,null,"AC00509","Grad Mentoring Award-J.Gifford","AC00509-Grad Mentoring Award-J.Gifford","Activity","FD03","Active","2025-01-02T03:05:30.013",null,null,null,null,null,null,null,null,"11863","Latino","11863-Latino",null,null,null,"AS074189672","Adam Dyer (074189672) Fine Arts & Communications - Dean's Office","AS074189672-Adam Dyer (074189672) Fine Arts & Communications - Dean's Office","Active",null,null,null,null,null,null,null,null,null,null,null,"SC6452","SC6452||6400","6400","General and Administrative","Primary","All"]
[null,null,null,null,null,null,"AC00510","LFSC-Fulton-Chair-EXSC","AC00510-LFSC-Fulton-Chair-EXSC","Activity","FD03","Active","2025-01-02T03:05:30.013",null,null,null,null,null,null,null,null,"11867","LDS Educators Society","11867-LDS Educators Society",null,null,null,"AS074432079","Marilyn Richards (074432079) University Advisement Center","AS074432079-Marilyn Richards (074432079) University Advisement Center","Active",null,null,null,null,null,null,null,null,null,null,null,"SC6453","SC6453||1400","1400","Prepaid Expenses",null,"All"]
[null,null,null,null,null,null,"AC00512","Undergrd Experintl Learng-EXSC","AC00512-Undergrd Experintl Learng-EXSC","Activity","FD03","Active","2025-01-02T03:05:30.013",null,null,null,null,null,null,null,null,"11868","Reunion 9","11868-Reunion 9",null,null,null,"AS074495546","Lynne Kganetso (074495546) MSE - Dean's Office, McKay School of Education","AS074495546-Lynne Kganetso (074495546) MSE - Dean's Office, McKay School of Education","Active",null,null,null,null,null,null,null,null,null,null,null,"SC6453","SC6453||6400","6400","General and Administrative","Primary","All"]
[null,null,null,null,null,null,"AC00513","CURA Indirect Student Aid-EXSC","AC00513-CURA Indirect Student Aid-EXSC","Activity","FD03","Active","2025-01-02T03:05:30.013",null,null,null,null,null,null,null,null,"11879","TN Northeast","11879-TN Northeast",null,null,null,"AS074733418","Kevin Wilson (074733418) Alumni Relations","AS074733418-Kevin Wilson (074733418) Alumni Relations","Active",null,null,null,null,null,null,null,null,null,null,null,"SC6454","SC6454||1400","1400","Prepaid Expenses",null,"All"]
[null,null,null,null,null,null,"AC00514","CURA Direct Student Aid-EXSC","AC00514-CURA Direct Student Aid-EXSC","Activity","FD03","Active","2025-01-02T03:05:30.013",null,null,null,null,null,null,null,null,"11885","45 Year Reunion","11885-45 Year Reunion",null,null,null,"AS074884027","Gil Fellingham (074884027) CMS - Dean's Office Computational, Mathematical, & Phsical","AS074884027-Gil Fellingham (074884027) CMS - Dean's Office Computational, Mathematical, & Phsical","Active",null,null,null,null,null,null,null,null,null,null,null,"SC6454","SC6454||6400","6400","General and Administrative","Primary","All"]
[null,null,null,null,null,null,"AC00515","Sunshine Fund-EXSC","AC00515-Sunshine Fund-EXSC","Activity","FD07","Active","2025-01-02T03:05:30.013",null,null,null,null,null,null,null,null,"11889","Joy Weller","11889-Joy Weller",null,null,null,"AS074918829","Brett McInelly (074918829) Humanities - Dean's Office","AS074918829-Brett McInelly (074918829) Humanities - Dean's Office","Active",null,null,null,null,null,null,null,null,null,null,null,"SC6455","SC6455||1400","1400","Prepaid Expenses",null,"All"]
[null,null,null,null,null,null,"AC00516","Grad Student Funding-HLTH","AC00516-Grad Student Funding-HLTH","Activity","FD01","Active","2025-01-02T03:05:30.013",null,null,null,null,null,null,null,null,"11957","Publications printing/graphics","11957-Publications printing/graphics",null,null,null,"AS075710348","Scott Bradford (075710348) FHSS - Dean's Office","AS075710348-Scott Bradford (075710348) FHSS - Dean's Office","Active",null,null,null,null,null,null,null,null,null,null,null,"SC6455","SC6455||1650","1650","Construction in Progress",null,"JE_PPE|JE_Override"]
[null,null,null,null,null,null,"AC00517","Master of Public Health","AC00517-Master of Public Health","Activity","FD01","Active","2025-01-02T03:05:30.013",null,null,null,null,null,null,null,null,"11959","CLC","11959-CLC",null,null,null,"AS075946174","Kyle Rollins (075946174) College of Engineering - Dean's Office","AS075946174-Kyle Rollins (075946174) College of Engineering - Dean's Office","Active",null,null,null,null,null,null,null,null,null,null,null,"SC6455","SC6455||1651","1651","Construction in Progress (Non-Workday Projects)",null,"All"]
[null,null,null,null,null,null,"AC00518","BYU Public Health Assoc Club","AC00518-BYU Public Health Assoc Club","Activity","FD02","Active","2025-01-02T03:05:30.013",null,null,null,null,null,null,null,null,"11965","Crafters License","11965-Crafters License",null,null,null,"AS076001278","Ryan Biddulph (076001278) Fine Arts & Communications - Dean's Office","AS076001278-Ryan Biddulph (076001278) Fine Arts & Communications - Dean's Office","Active",null,null,null,null,null,null,null,null,null,null,null,"SC6455","SC6455||6400","6400","General and Administrative","Primary","All"]
[null,null,null,null,null,null,"AC00519","Hepatitis B Virus Club","AC00519-Hepatitis B Virus Club","Activity","FD02","Active","2025-01-02T03:05:30.013",null,null,null,null,null,null,null,null,"11A00","OIT Infrastruct - Distribution","11A00-OIT Infrastruct - Distribution",null,null,null,"AS076203614","Clifton Fleming (076203614) Academic VP Office, Deans","AS076203614-Clifton Fleming (076203614) Academic VP Office, Deans","Active",null,null,null,null,null,null,null,null,null,null,null,"SC6456","SC6456||1400","1400","Prepaid Expenses",null,"All"]
[null,null,null,null,null,null,"AC00520","ASSP Student Accoc. Club","AC00520-ASSP Student Accoc. Club","Activity","FD02","Active","2025-01-02T03:05:30.013",null,null,null,null,null,null,null,null,"11A12","TV Headend Distribution","11A12-TV Headend Distribution",null,null,null,"AS076237443","Susan Facer (076237443) Registrar's Office","AS076237443-Susan Facer (076237443) Registrar's Office","Active",null,null,null,null,null,null,null,null,null,null,null,"SC6456","SC6456||6400","6400","General and Administrative","Primary","All"]
[null,null,null,null,null,null,"AC00521","The BYU Rotaract Club","AC00521-The BYU Rotaract Club","Activity","FD02","Active","2025-01-02T03:05:30.013",null,null,null,null,null,null,null,null,"11A81","Network Core","11A81-Network Core",null,null,null,"AS076335336","Sydney Brustad (076335336) Admissions Office","AS076335336-Sydney Brustad (076335336) Admissions Office","Active",null,null,null,null,null,null,null,null,null,null,null,"SC6457","SC6457||1400","1400","Prepaid Expenses",null,"All"]
[null,null,null,null,null,null,"AC00522","IDR Redelfs/Lopez Integration","AC00522-IDR Redelfs/Lopez Integration","Activity","FD03","Active","2025-01-02T03:05:30.013",null,null,null,null,null,null,null,null,"11A82","Network Distribution Equipment","11A82-Network Distribution Equipment",null,null,null,"AS076425921","Shayla Bott (076425921) Academic VP Office, Deans","AS076425921-Shayla Bott (076425921) Academic VP Office, Deans","Active",null,null,null,null,null,null,null,null,null,null,null,"SC6457","SC6457||6400","6400","General and Administrative","Primary","All"]
[null,null,null,null,null,null,"AC00523","LFSC-Fulton-Chair-PH","AC00523-LFSC-Fulton-Chair-PH","Activity","FD03","Active","2025-01-02T03:05:30.013",null,null,null,null,null,null,null,null,"11A84","UPS","11A84-UPS",null,null,null,"AS076572580","Matt Greene (076572580) CE Classroom Programs","AS076572580-Matt Greene (076572580) CE Classroom Programs","Active",null,null,null,null,null,null,null,null,null,null,null,"SC6458","SC6458||1400","1400","Prepaid Expenses",null,"All"]
[null,null,null,null,null,null,"AC00525","CURA Indirect Student Aid-PH","AC00525-CURA Indirect Student Aid-PH","Activity","FD03","Active","2025-01-02T03:05:30.013",null,null,null,null,null,null,null,null,"11A91","Wire Cable - Feeder (Trunk)","11A91-Wire Cable - Feeder (Trunk)",null,null,null,"AS076871747","Michael Barber (076871747) FHSS - Dean's Office","AS076871747-Michael Barber (076871747) FHSS - Dean's Office","Active",null,null,null,null,null,null,null,null,null,null,null,"SC6458","SC6458||6400","6400","General and Administrative","Primary","All"]
[null,null,null,null,null,null,"AC00526","Undergrd Experintl Learng-HLTH","AC00526-Undergrd Experintl Learng-HLTH","Activity","FD03","Active","2025-01-02T03:05:30.013",null,null,null,null,null,null,null,null,"11A92","Wire Cable - Riser","11A92-Wire Cable - Riser",null,null,null,"AS076949728","Miguel Pomar (076949728) Business Career Center","AS076949728-Miguel Pomar (076949728) Business Career Center","Active",null,null,null,null,null,null,null,null,null,null,null,"SC6459","SC6459||1400","1400","Prepaid Expenses",null,"All"]
[null,null,null,null,null,null,"AC00527","CURA Direct Student Aid-PH","AC00527-CURA Direct Student Aid-PH","Activity","FD03","Active","2025-01-02T03:05:30.013",null,null,null,null,null,null,null,null,"11A93","Wire Cable - Station","11A93-Wire Cable - Station",null,null,null,"AS077036480","Brian Capt (077036480) College of Engineering - Dean's Office","AS077036480-Brian Capt (077036480) College of Engineering - Dean's Office","Active",null,null,null,null,null,null,null,null,null,null,null,"SC6459","SC6459||6400","6400","General and Administrative","Primary","All"]
[null,null,null,null,null,null,"AC00528","Sunshine Fund-PH","AC00528-Sunshine Fund-PH","Activity","FD07","Active","2025-01-02T03:05:30.013",null,null,null,null,null,null,null,null,"11A95","Fiber Cable - Feeder","11A95-Fiber Cable - Feeder",null,null,null,"AS077196723","Kathleen Reyes (077196723) FHSS - Dean's Office","AS077196723-Kathleen Reyes (077196723) FHSS - Dean's Office","Active",null,null,null,null,null,null,null,null,null,null,null,"SC6460","SC6460||1400","1400","Prepaid Expenses",null,"All"]
[null,null,null,null,null,null,"AC00530","J Reuben Clark Law Socty &Chap","AC00530-J Reuben Clark Law Socty &Chap","Activity","FD03","Active","2025-01-02T03:05:30.013",null,null,null,null,null,null,null,null,"11A97","Fiber Station Cable","11A97-Fiber Station Cable",null,null,null,"AS077355719","Shiegrid Hernandez (077355719) Multicultural","AS077355719-Shiegrid Hernandez (077355719) Multicultural","Active",null,null,null,null,null,null,null,null,null,null,null,"SC6460","SC6460||6400","6400","General and Administrative","Primary","All"]
[null,null,null,null,null,null,"AC00531","Research Support","AC00531-Research Support","Activity","FD01","Active","2025-01-02T03:05:30.013",null,null,null,null,null,null,null,null,"11A98","Fiber Cable - Tie","11A98-Fiber Cable - Tie",null,null,null,"AS077676615","Brian King (077676615) OIT Resource - Platform Engineering","AS077676615-Brian King (077676615) OIT Resource - Platform Engineering","Active",null,null,null,null,null,null,null,null,null,null,null,"SC6461","SC6461||1400","1400","Prepaid Expenses",null,"All"]
[null,null,null,null,null,null,"AC00532","Law School Scholar","AC00532-Law School Scholar","Activity","FD01","Active","2025-01-02T03:05:30.013",null,null,null,null,null,null,null,null,"11AA1","Computer Racks","11AA1-Computer Racks",null,null,null,"AS077761957","Brandon Bodily (077761957) Cannon Center","AS077761957-Brandon Bodily (077761957) Cannon Center","Active",null,null,null,null,null,null,null,null,null,null,null,"SC6461","SC6461||6400","6400","General and Administrative","Primary","All"]
[null,null,null,null,null,null,"AC00533","Corpus Linguistics Project","AC00533-Corpus Linguistics Project","Activity","FD01","Active","2025-01-02T03:05:30.013",null,null,null,null,null,null,null,null,"11AA2","Communications Racks","11AA2-Communications Racks",null,null,null,"AS078081441","Scott Beck (078081441) PF Central Heating Plant","AS078081441-Scott Beck (078081441) PF Central Heating Plant","Active",null,null,null,null,null,null,null,null,null,null,null,"SC6462","SC6462||6400","6400","General and Administrative","Primary","All"]
[null,null,null,null,null,null,"AC00534","MLSA","AC00534-MLSA","Activity","FD02","Active","2025-01-02T03:05:30.013",null,null,null,null,null,null,null,null,"11B00","OIT Infrastruct-Presentation","11B00-OIT Infrastruct-Presentation",null,null,null,"AS078265269","Ben Abbott (078265269) Life Sciences - Dean's Office","AS078265269-Ben Abbott (078265269) Life Sciences - Dean's Office","Active",null,null,null,null,null,null,null,null,null,null,null,"SC6463","SC6463||1400","1400","Prepaid Expenses",null,"All"]
[null,null,null,null,null,null,"AC00535","Student Bar Assoc","AC00535-Student Bar Assoc","Activity","FD02","Active","2025-01-02T03:05:30.013",null,null,null,null,null,null,null,null,"11B18","VIDEO/DATA PROJECTORS","11B18-VIDEO/DATA PROJECTORS",null,null,null,"AS078265449","Bethany Kramer (078265449) Staff Compensation","AS078265449-Bethany Kramer (078265449) Staff Compensation","Active",null,null,null,null,null,null,null,null,null,null,null,"SC6463","SC6463||6400","6400","General and Administrative","Primary","All"]
[null,null,null,null,null,null,"AC00536","Law Partners","AC00536-Law Partners","Activity","FD02","Active","2025-01-02T03:05:30.013",null,null,null,null,null,null,null,null,"11B1J","Building Shared Equip","11B1J-Building Shared Equip",null,null,null,"AS078487300","Brandan Beerli (078487300) McKay School of Education - Program and Student Support","AS078487300-Brandan Beerli (078487300) McKay School of Education - Program and Student Support","Active",null,null,null,null,null,null,null,null,null,null,null,"SC6464","SC6464||6400","6400","General and Administrative","Primary","JE_Research|JE_Override"]
[null,null,null,null,null,null,"AC00537","Women in the Law","AC00537-Women in the Law","Activity","FD02","Active","2025-01-02T03:05:30.013",null,null,null,null,null,null,null,null,"11B21","SPEAKERS-INSTAL&PERFORM SYS","11B21-SPEAKERS-INSTAL&PERFORM SYS",null,null,null,"AS078578788","Bekki Brau (078578788) MSB - Dean's Office, Marriott School of Business","AS078578788-Bekki Brau (078578788) MSB - Dean's Office, Marriott School of Business","Active",null,null,null,null,null,null,null,null,null,null,null,"SC6465","SC6465||6400","6400","General and Administrative","Primary","JE_Research|JE_Override"]
[null,null,null,null,null,null,"AC00538","BYU Federal Soc","AC00538-BYU Federal Soc","Activity","FD02","Active","2025-01-02T03:05:30.013",null,null,null,null,null,null,null,null,"11B22","INSTALLED SOUND REINFORCEMNT S","11B22-INSTALLED SOUND REINFORCEMNT S",null,null,null,"AS079167675","Lisa Walker (079167675) Digital Printing","AS079167675-Lisa Walker (079167675) Digital Printing","Active",null,null,null,null,null,null,null,null,null,null,null,"SC6466","SC6466||1400","1400","Prepaid Expenses",null,"All"]
[null,null,null,null,null,null,"AC00539","ILSA","AC00539-ILSA","Activity","FD02","Active","2025-01-02T03:05:30.013",null,null,null,null,null,null,null,null,"11B24","CAMPUS EP/BGM-DIS,BROADCST CNT","11B24-CAMPUS EP/BGM-DIS,BROADCST CNT",null,null,null,"AS079242464","Devan Jensen (079242464) Religious Studies Center","AS079242464-Devan Jensen (079242464) Religious Studies Center","Active",null,null,null,null,null,null,null,null,null,null,null,"SC6466","SC6466||6400","6400","General and Administrative","Primary","All"]
[null,null,null,null,null,null,"AC00540","DC Legal Society","AC00540-DC Legal Society","Activity","FD02","Active","2025-01-02T03:05:30.013",null,null,null,null,null,null,null,null,"11B25","AUD-INTRCM SYS-INS-WIRE&WIRELS","11B25-AUD-INTRCM SYS-INS-WIRE&WIRELS",null,null,null,"AS079396687","Sarah Rollo (079396687) McKay School of Education Assistant Dean External Relations","AS079396687-Sarah Rollo (079396687) McKay School of Education Assistant Dean External Relations","Active",null,null,null,null,null,null,null,null,null,null,null,"SC6467","SC6467||6400","6400","General and Administrative","Primary","JE_Override"]
[null,null,null,null,null,null,"AC00541","Native Am Law St Asc","AC00541-Native Am Law St Asc","Activity","FD02","Active","2025-01-02T03:05:30.013",null,null,null,null,null,null,null,null,"11B26","INPUT SOURCE-PLAYBCK DECK&MIC","11B26-INPUT SOURCE-PLAYBCK DECK&MIC",null,null,null,"AS079587356","Lynnett Rands (079587356) Academic VP Office, Deans","AS079587356-Lynnett Rands (079587356) Academic VP Office, Deans","Active",null,null,null,null,null,null,null,null,null,null,null,"SC6499","SC6499||1400","1400","Prepaid Expenses",null,"All"]
[null,null,null,null,null,null,"AC00542","ADR Society","AC00542-ADR Society","Activity","FD02","Active","2025-01-02T03:05:30.013",null,null,null,null,null,null,null,null,"11B27","BLDG EP/BGM ORIG&PROC-AMP&TUNE","11B27-BLDG EP/BGM ORIG&PROC-AMP&TUNE",null,null,null,"AS079654515","Greg Sessions (079654515) PF Paint & Sign Shop","AS079654515-Greg Sessions (079654515) PF Paint & Sign Shop","Active",null,null,null,null,null,null,null,null,null,null,null,"SC6499","SC6499||1650","1650","Construction in Progress",null,"JE_PPE|JE_Override"]
[null,null,null,null,null,null,"AC00543","Govt and Politics Law Society","AC00543-Govt and Politics Law Society","Activity","FD02","Active","2025-01-02T03:05:30.013",null,null,null,null,null,null,null,null,"11B28","BLDG EP/BGM SPKR-VOL,WIRE&CONT","11B28-BLDG EP/BGM SPKR-VOL,WIRE&CONT",null,null,null,"AS080052346","Craig Vandyke (080052346) CMS - Dean's Office Computational, Mathematical, & Phsical","AS080052346-Craig Vandyke (080052346) CMS - Dean's Office Computational, Mathematical, & Phsical","Active",null,null,null,null,null,null,null,null,null,null,null,"SC6499","SC6499||1651","1651","Construction in Progress (Non-Workday Projects)",null,"All"]
[null,null,null,null,null,null,"AC00544","Public Interest Law Foundation","AC00544-Public Interest Law Foundation","Activity","FD02","Active","2025-01-02T03:05:30.013",null,null,null,null,null,null,null,null,"11B2Z","AUDIO/PAGING MISC.","11B2Z-AUDIO/PAGING MISC.",null,null,null,"AS080370425","Tod Myers (080370425) CE FSY","AS080370425-Tod Myers (080370425) CE FSY","Active",null,null,null,null,null,null,null,null,null,null,null,"SC6499","SC6499||6400","6400","General and Administrative","Primary","All"]
[null,null,null,null,null,null,"AC00545","EERS","AC00545-EERS","Activity","FD02","Active","2025-01-02T03:05:30.013",null,null,null,null,null,null,null,null,"11B32","DIMMER PACKS","11B32-DIMMER PACKS",null,null,null,"AS080550255","Paul Reynolds (080550255) Life Sciences - Dean's Office","AS080550255-Paul Reynolds (080550255) Life Sciences - Dean's Office","Active",null,null,null,null,null,null,null,null,null,null,null,"SC6610","SC6610||6600","6600","Interest Expense","Primary","All"]
[null,null,null,null,null,null,"AC00546","SIPLA","AC00546-SIPLA","Activity","FD02","Active","2025-01-02T03:05:30.013",null,null,null,null,null,null,null,null,"11B61","VIDEO CAM-INCL BROADCST CAMCOR","11B61-VIDEO CAM-INCL BROADCST CAMCOR",null,null,null,"AS080612947","Gerrit van Dyk (080612947) Lee Library - Research & Learning","AS080612947-Gerrit van Dyk (080612947) Lee Library - Research & Learning","Active",null,null,null,null,null,null,null,null,null,null,null,"SC6701","SC6701||1400","1400","Prepaid Expenses",null,"All"]
[null,null,null,null,null,null,"AC00547","SPENT(Sport/Entertainment Law)","AC00547-SPENT(Sport/Entertainment Law)","Activity","FD02","Active","2025-01-02T03:05:30.013",null,null,null,null,null,null,null,null,"11B6B","Video Recording System","11B6B-Video Recording System",null,null,null,"AS080715937","Manase Palemani (080715937) Dining Administration","AS080715937-Manase Palemani (080715937) Dining Administration","Active",null,null,null,null,null,null,null,null,null,null,null,"SC6701","SC6701||1635","1635","Misc Capital Assets",null,"JE_PPE|JE_Override"]
[null,null,null,null,null,null,"AC00548","Law School Support","AC00548-Law School Support","Activity","FD02","Active","2025-01-02T03:05:30.013",null,null,null,null,null,null,null,null,"11B6E","VIDEO   TEST EQUIPMENT","11B6E-VIDEO   TEST EQUIPMENT",null,null,null,"AS080945711","Kylee Sullivan (080945711) Wyview Park/Riviera","AS080945711-Kylee Sullivan (080945711) Wyview Park/Riviera","Active",null,null,null,null,null,null,null,null,null,null,null,"SC6701","SC6701||1650","1650","Construction in Progress",null,"JE_PPE|JE_Override"]
[null,null,null,null,null,null,"AC00549","Community Legal Clinic","AC00549-Community Legal Clinic","Activity","FD02","Active","2025-01-02T03:05:30.013",null,null,null,null,null,null,null,null,"11B6F","Video Playback System","11B6F-Video Playback System",null,null,null,"AS081084485","Jessica Zurcher (081084485) Fine Arts & Communications - Dean's Office","AS081084485-Jessica Zurcher (081084485) Fine Arts & Communications - Dean's Office","Active",null,null,null,null,null,null,null,null,null,null,null,"SC6701","SC6701||1651","1651","Construction in Progress (Non-Workday Projects)",null,"All"]
[null,null,null,null,null,null,"AC00550","Class Consulting Projects","AC00550-Class Consulting Projects","Activity","FD02","Active","2025-01-02T03:05:30.013",null,null,null,null,null,null,null,null,"11C00","OIT Access","11C00-OIT Access",null,null,null,"AS081166921","Brandon Dailey (081166921) Student Financial Services","AS081166921-Brandon Dailey (081166921) Student Financial Services","Active",null,null,null,null,null,null,null,null,null,null,null,"SC6701","SC6701||1700","1700","Accumulated Depreciation",null,"JE_PPE|JE_Override"]
[null,null,null,null,null,null,"AC00551","BYU Law Review","AC00551-BYU Law Review","Activity","FD02","Active","2025-01-02T03:05:30.013",null,null,null,null,null,null,null,null,"11D00","OIT Infrastruct-Servers","11D00-OIT Infrastruct-Servers",null,null,null,"AS081226254","Casey Deccio (081226254) CMS - Dean's Office Computational, Mathematical, & Phsical","AS081226254-Casey Deccio (081226254) CMS - Dean's Office Computational, Mathematical, & Phsical","Active",null,null,null,null,null,null,null,null,null,null,null,"SC6701","SC6701||6700","6700","Physical Facilities","Primary","All"]
[null,null,null,null,null,null,"AC00552","Antitrust Society","AC00552-Antitrust Society","Activity","FD02","Active","2025-01-02T03:05:30.013",null,null,null,null,null,null,null,null,"11D11","It Server - Speciality","11D11-It Server - Speciality",null,null,null,"AS081618275","Autumn Mosis (081618275) Wyview Park/Riviera","AS081618275-Autumn Mosis (081618275) Wyview Park/Riviera","Active",null,null,null,null,null,null,null,null,null,null,null,"SC6701","SC6701||8000","8000","Depreciation",null,"JE_PPE|JE_Override"]
[null,null,null,null,null,null,"AC00553","American Constitution Society","AC00553-American Constitution Society","Activity","FD02","Active","2025-01-02T03:05:30.013",null,null,null,null,null,null,null,null,"11D25","Department Server - Storage","11D25-Department Server - Storage",null,null,null,"AS081653032","Enoch Boekweg (081653032) College of Engineering - Dean's Office","AS081653032-Enoch Boekweg (081653032) College of Engineering - Dean's Office","Active",null,null,null,null,null,null,null,null,null,null,null,"SC6702","SC6702||1400","1400","Prepaid Expenses",null,"All"]
[null,null,null,null,null,null,"AC00554","Latino/a Law Student Assoc","AC00554-Latino/a Law Student Assoc","Activity","FD02","Active","2025-01-02T03:05:30.013",null,null,null,null,null,null,null,null,"11D41","Central Server - Application","11D41-Central Server - Application",null,null,null,"AS081765401","Chris Huff (081765401) PF Building Operations","AS081765401-Chris Huff (081765401) PF Building Operations","Active",null,null,null,null,null,null,null,null,null,null,null,"SC6702","SC6702||1610","1610","Building Improvements",null,"JE_PPE|JE_Override"]
[null,null,null,null,null,null,"AC00555","Law School Professor Acct.","AC00555-Law School Professor Acct.","Activity","FD03","Active","2025-01-02T03:05:30.013",null,null,null,null,null,null,null,null,"11E00","Software - Misc","11E00-Software - Misc",null,null,null,"AS081822585","Elizabeth Merrill (081822585) CE BYU Online High School","AS081822585-Elizabeth Merrill (081822585) CE BYU Online High School","Active",null,null,null,null,null,null,null,null,null,null,null,"SC6702","SC6702||1650","1650","Construction in Progress",null,"JE_PPE|JE_Override"]
[null,null,null,null,null,null,"AC00556","Prfshp-Law-Welch","AC00556-Prfshp-Law-Welch","Activity","FD03","Active","2025-01-02T03:05:30.013",null,null,null,null,null,null,null,null,"11E21","Enterprise Management Softwar","11E21-Enterprise Management Softwar",null,null,null,"AS081827389","Dave Laws (081827389) College of Engineering - Dean's Office","AS081827389-Dave Laws (081827389) College of Engineering - Dean's Office","Active",null,null,null,null,null,null,null,null,null,null,null,"SC6702","SC6702||1651","1651","Construction in Progress (Non-Workday Projects)",null,"All"]
[null,null,null,null,null,null,"AC00557","Law & Social Change nonstudent","AC00557-Law & Social Change nonstudent","Activity","FD03","Active","2025-01-02T03:05:30.078",null,null,null,null,null,null,null,null,"11E41","Application Software","11E41-Application Software",null,null,null,"AS081990395","Stash Dabrowski (081990395) Athletics - Olympic Sport Medicine","AS081990395-Stash Dabrowski (081990395) Athletics - Olympic Sport Medicine","Active",null,null,null,null,null,null,null,null,null,null,null,"SC6702","SC6702||1700","1700","Accumulated Depreciation",null,"JE_PPE|JE_Override"]
[null,null,null,null,null,null,"AC00558","Law - President's Innovation","AC00558-Law - President's Innovation","Activity","FD03","Active","2025-01-02T03:05:30.078",null,null,null,null,null,null,null,null,"11SLA","McKay School of Education","11SLA-McKay School of Education",null,null,null,"AS082159155","Tommy Cox (082159155) Dean's Off Coll of Engineering","AS082159155-Tommy Cox (082159155) Dean's Off Coll of Engineering","Active",null,null,null,null,null,null,null,null,null,null,null,"SC6702","SC6702||6700","6700","Physical Facilities","Primary","All"]
[null,null,null,null,null,null,"AC00560","Student/Faculty Mentoring","AC00560-Student/Faculty Mentoring","Activity","FD03","Active","2025-01-02T03:05:30.078",null,null,null,null,null,null,null,null,"12000","General Airlines","12000-General Airlines",null,null,null,"AS082281630","Kevin Douglas Whitehead (082281630) CE Evening Classes Instructors","AS082281630-Kevin Douglas Whitehead (082281630) CE Evening Classes Instructors","Active",null,null,null,null,null,null,null,null,null,null,null,"SC6702","SC6702||8000","8000","Depreciation",null,"JE_PPE|JE_Override"]
[null,null,null,null,null,null,"AC00561","Mediation Lab&Training Project","AC00561-Mediation Lab&Training Project","Activity","FD03","Active","2025-01-02T03:05:30.078",null,null,null,null,null,null,null,null,"12001","Hotels","12001-Hotels",null,null,null,"AS082326281","Cramer England (082326281) BYU Broadcasting - Post Production","AS082326281-Cramer England (082326281) BYU Broadcasting - Post Production","Active",null,null,null,null,null,null,null,null,null,null,null,"SC6703","SC6703||1400","1400","Prepaid Expenses",null,"All"]
[null,null,null,null,null,null,"AC00562","Experiential Learning","AC00562-Experiential Learning","Activity","FD03","Active","2025-01-02T03:05:30.078",null,null,null,null,null,null,null,null,"12002","Rental Cars","12002-Rental Cars",null,null,null,"AS082372531","Oliver Johnson (082372531) College of Engineering - Dean's Office","AS082372531-Oliver Johnson (082372531) College of Engineering - Dean's Office","Active",null,null,null,null,null,null,null,null,null,null,null,"SC6703","SC6703||1620","1620","Furnishings and Fixtures",null,"JE_PPE|JE_Override"]
[null,null,null,null,null,null,"AC00563","Teaching Programs","AC00563-Teaching Programs","Activity","FD01","Active","2025-01-02T03:05:30.078",null,null,null,null,null,null,null,null,"12005","Corporate Card","12005-Corporate Card",null,null,null,"AS082401814","Kurt Jensen (082401814) PF Dining and MTC Maintenance","AS082401814-Kurt Jensen (082401814) PF Dining and MTC Maintenance","Active",null,null,null,null,null,null,null,null,null,null,null,"SC6703","SC6703||1650","1650","Construction in Progress",null,"JE_PPE|JE_Override"]
[null,null,null,null,null,null,"AC00564","Hosted & Regional Conferences","AC00564-Hosted & Regional Conferences","Activity","FD01","Active","2025-01-02T03:05:30.078",null,null,null,null,null,null,null,null,"12006","JPMorgan Rebate","12006-JPMorgan Rebate",null,null,null,"AS082405720","Jeffery Barrow (082405720) Life Sciences - Dean's Office","AS082405720-Jeffery Barrow (082405720) Life Sciences - Dean's Office","Active",null,null,null,null,null,null,null,null,null,null,null,"SC6703","SC6703||1651","1651","Construction in Progress (Non-Workday Projects)",null,"All"]
[null,null,null,null,null,null,"AC00565","Other Conferences","AC00565-Other Conferences","Activity","FD01","Active","2025-01-02T03:05:30.078",null,null,null,null,null,null,null,null,"12007","Sabre Incentive","12007-Sabre Incentive",null,null,null,"AS082411637","Derek Gurr (082411637) BYU Studies","AS082411637-Derek Gurr (082411637) BYU Studies","Active",null,null,null,null,null,null,null,null,null,null,null,"SC6703","SC6703||1700","1700","Accumulated Depreciation",null,"JE_PPE|JE_Override"]
[null,null,null,null,null,null,"AC00566","Professorship - W. Cole Durham","AC00566-Professorship - W. Cole Durham","Activity","FD03","Active","2025-01-02T03:05:30.078",null,null,null,null,null,null,null,null,"12015","Passport Services","12015-Passport Services",null,null,null,"AS082436747","Tara Haubner (082436747) CE FSY Travel","AS082436747-Tara Haubner (082436747) CE FSY Travel","Active",null,null,null,null,null,null,null,null,null,null,null,"SC6703","SC6703||6700","6700","Physical Facilities","Primary","All"]
[null,null,null,null,null,null,"AC00567","Int'l Law & Religious Center","AC00567-Int'l Law & Religious Center","Activity","FD03","Active","2025-01-02T03:05:30.078",null,null,null,null,null,null,null,null,"12020","General Office","12020-General Office",null,null,null,"AS082698950","Jennifer Wimmer (082698950) MSE - Dean's Office, McKay School of Education","AS082698950-Jennifer Wimmer (082698950) MSE - Dean's Office, McKay School of Education","Active",null,null,null,null,null,null,null,null,null,null,null,"SC6703","SC6703||8000","8000","Depreciation",null,"JE_PPE|JE_Override"]
[null,null,null,null,null,null,"AC00568","Law & Religion Fellows","AC00568-Law & Religion Fellows","Activity","FD03","Active","2025-01-02T03:05:30.078",null,null,null,null,null,null,null,null,"12022","Lori Sowards","12022-Lori Sowards",null,null,null,"AS082878943","Don Fairchild (082878943) OIT Resource - Data and BI Engineering","AS082878943-Don Fairchild (082878943) OIT Resource - Data and BI Engineering","Active",null,null,null,null,null,null,null,null,null,null,null,"SC6704","SC6704||1400","1400","Prepaid Expenses",null,"All"]
[null,null,null,null,null,null,"AC00569","Mentored Learning","AC00569-Mentored Learning","Activity","FD01","Active","2025-01-02T03:05:30.078",null,null,null,null,null,null,null,null,"12023","Debbie Hall","12023-Debbie Hall",null,null,null,"AS083023921","Drew Johnson (083023921) PMPC Administration","AS083023921-Drew Johnson (083023921) PMPC Administration","Active",null,null,null,null,null,null,null,null,null,null,null,"SC6704","SC6704||1610","1610","Building Improvements",null,"JE_PPE|JE_Override"]
[null,null,null,null,null,null,"AC00570","Named Professorships","AC00570-Named Professorships","Activity","FD01","Active","2025-01-02T03:05:30.078",null,null,null,null,null,null,null,null,"12024","Wendy Baumgarten","12024-Wendy Baumgarten",null,null,null,"AS083269696","Jordan Jones (083269696) Humanities - Dean's Office","AS083269696-Jordan Jones (083269696) Humanities - Dean's Office","Active",null,null,null,null,null,null,null,null,null,null,null,"SC6704","SC6704||1650","1650","Construction in Progress",null,"JE_PPE|JE_Override"]
[null,null,null,null,null,null,"AC00571","Dean's Ofc Operation","AC00571-Dean's Ofc Operation","Activity","FD01","Active","2025-01-02T03:05:30.078",null,null,null,null,null,null,null,null,"12026","Annette Landon","12026-Annette Landon",null,null,null,"AS083311104","Brandon Dunson (083311104) Athletics - Men's Basketball","AS083311104-Brandon Dunson (083311104) Athletics - Men's Basketball","Active",null,null,null,null,null,null,null,null,null,null,null,"SC6704","SC6704||1651","1651","Construction in Progress (Non-Workday Projects)",null,"All"]
[null,null,null,null,null,null,"AC00572","Research Support","AC00572-Research Support","Activity","FD01","Active","2025-01-02T03:05:30.078",null,null,null,null,null,null,null,null,"12028","Cindi ONeal","12028-Cindi ONeal",null,null,null,"AS083756334","Brye Williamson (083756334) PF Building Operations","AS083756334-Brye Williamson (083756334) PF Building Operations","Active",null,null,null,null,null,null,null,null,null,null,null,"SC6704","SC6704||1700","1700","Accumulated Depreciation",null,"JE_PPE|JE_Override"]
[null,null,null,null,null,null,"AC00573","CAEDM","AC00573-CAEDM","Activity","FD01","Active","2025-01-02T03:05:30.078",null,null,null,null,null,null,null,null,"12029","Lori Ann Andersen","12029-Lori Ann Andersen",null,null,null,"AS083786435","Roberta Larsen (083786435) Life Sciences - Dean's Office","AS083786435-Roberta Larsen (083786435) Life Sciences - Dean's Office","Active",null,null,null,null,null,null,null,null,null,null,null,"SC6704","SC6704||6700","6700","Physical Facilities","Primary","All"]
[null,null,null,null,null,null,"AC00574","Department Supplemental","AC00574-Department Supplemental","Activity","FD01","Active","2025-01-02T03:05:30.078",null,null,null,null,null,null,null,null,"12030","Todd Bird","12030-Todd Bird",null,null,null,"AS083874358","Sheli Sillito Walker (083874358) MSB - Dean's Office, Marriott School of Business","AS083874358-Sheli Sillito Walker (083874358) MSB - Dean's Office, Marriott School of Business","Active",null,null,null,null,null,null,null,null,null,null,null,"SC6704","SC6704||8000","8000","Depreciation",null,"JE_PPE|JE_Override"]
[null,null,null,null,null,null,"AC00575","College Relations Operations","AC00575-College Relations Operations","Activity","FD01","Active","2025-01-02T03:05:30.078",null,null,null,null,null,null,null,null,"12031","Erin Howe","12031-Erin Howe",null,null,null,"AS083875837","Jeff Wilks (083875837) MSB - Dean's Office, Marriott School of Business","AS083875837-Jeff Wilks (083875837) MSB - Dean's Office, Marriott School of Business","Active",null,null,null,null,null,null,null,null,null,null,null,"SC6705","SC6705||1400","1400","Prepaid Expenses",null,"All"]
[null,null,null,null,null,null,"AC00576","CAEDM Compt Lab","AC00576-CAEDM Compt Lab","Activity","FD01","Active","2025-01-02T03:05:30.078",null,null,null,null,null,null,null,null,"12032","Lei Liua","12032-Lei Liua",null,null,null,"AS083905404","Isaac King (083905404) Dean's Office of Fine Arts & Communications - Museum of Art","AS083905404-Isaac King (083905404) Dean's Office of Fine Arts & Communications - Museum of Art","Active",null,null,null,null,null,null,null,null,null,null,null,"SC6705","SC6705||1610","1610","Building Improvements",null,"JE_PPE|JE_Override"]
[null,null,null,null,null,null,"AC00577","College Communications","AC00577-College Communications","Activity","FD01","Active","2025-01-02T03:05:30.078",null,null,null,null,null,null,null,null,"12034","Karen Brereton","12034-Karen Brereton",null,null,null,"AS084026095","Robert Walz (084026095) Fine Arts & Communications - Dean's Office","AS084026095-Robert Walz (084026095) Fine Arts & Communications - Dean's Office","Active",null,null,null,null,null,null,null,null,null,null,null,"SC6705","SC6705||1650","1650","Construction in Progress",null,"JE_PPE|JE_Override"]
[null,null,null,null,null,null,"AC00578","Research Development","AC00578-Research Development","Activity","FD01","Active","2025-01-02T03:05:30.078",null,null,null,null,null,null,null,null,"12037","Kristina Baardon","12037-Kristina Baardon",null,null,null,"AS084189517","Gustavious Williams (084189517) College of Engineering - Dean's Office","AS084189517-Gustavious Williams (084189517) College of Engineering - Dean's Office","Active",null,null,null,null,null,null,null,null,null,null,null,"SC6705","SC6705||1651","1651","Construction in Progress (Non-Workday Projects)",null,"All"]
[null,null,null,null,null,null,"AC00579","Precision Machining Lab Supprt","AC00579-Precision Machining Lab Supprt","Activity","FD01","Active","2025-01-02T03:05:30.078",null,null,null,null,null,null,null,null,"12040","Heather Hughes","12040-Heather Hughes",null,null,null,"AS084222944","Steve Perry (084222944) BYU Broadcasting - BYUradio","AS084222944-Steve Perry (084222944) BYU Broadcasting - BYUradio","Active",null,null,null,null,null,null,null,null,null,null,null,"SC6705","SC6705||1700","1700","Accumulated Depreciation",null,"JE_PPE|JE_Override"]
[null,null,null,null,null,null,"AC00580","International Travel","AC00580-International Travel","Activity","FD01","Active","2025-01-02T03:05:30.078",null,null,null,null,null,null,null,null,"12041","Alison Lopez","12041-Alison Lopez",null,null,null,"AS084567411","Joseph Staker (084567411) PF Central Heating Plant","AS084567411-Joseph Staker (084567411) PF Central Heating Plant","Active",null,null,null,null,null,null,null,null,null,null,null,"SC6705","SC6705||6700","6700","Physical Facilities","Primary","All"]
[null,null,null,null,null,null,"AC00581","Coll of Eng Student Council","AC00581-Coll of Eng Student Council","Activity","FD02","Active","2025-01-02T03:05:30.078",null,null,null,null,null,null,null,null,"12042","Carter Brown","12042-Carter Brown",null,null,null,"AS084662261","Brian Christensen (084662261) Fine Arts & Communications - Dean's Office","AS084662261-Brian Christensen (084662261) Fine Arts & Communications - Dean's Office","Active",null,null,null,null,null,null,null,null,null,null,null,"SC6705","SC6705||8000","8000","Depreciation",null,"JE_PPE|JE_Override"]
[null,null,null,null,null,null,"AC00582","Precision Machining Lab","AC00582-Precision Machining Lab","Activity","FD02","Active","2025-01-02T03:05:30.078",null,null,null,null,null,null,null,null,"12043","Jaelynn Christensen","12043-Jaelynn Christensen",null,null,null,"AS084663531","Scott Walters (084663531) PF Building Operations","AS084663531-Scott Walters (084663531) PF Building Operations","Active",null,null,null,null,null,null,null,null,null,null,null,"SC6706","SC6706||1400","1400","Prepaid Expenses",null,"All"]
[null,null,null,null,null,null,"AC00583","Coll of Eng Royalty","AC00583-Coll of Eng Royalty","Activity","FD03","Active","2025-01-02T03:05:30.078",null,null,null,null,null,null,null,null,"12044","Kelly Van Sickle","12044-Kelly Van Sickle",null,null,null,"AS084953801","Anthony Perez (084953801) Brand & Creative","AS084953801-Anthony Perez (084953801) Brand & Creative","Active",null,null,null,null,null,null,null,null,null,null,null,"SC6706","SC6706||1610","1610","Building Improvements",null,"JE_PPE|JE_Override"]
[null,null,null,null,null,null,"AC00584","CAEDM","AC00584-CAEDM","Activity","FD03","Active","2025-01-02T03:05:30.078",null,null,null,null,null,null,null,null,"12045","Rachel Gunnell","12045-Rachel Gunnell",null,null,null,"AS085060780","Brad Hewitt (085060780) OIT Resource - CES Network Center (CNC) - Installation","AS085060780-Brad Hewitt (085060780) OIT Resource - CES Network Center (CNC) - Installation","Active",null,null,null,null,null,null,null,null,null,null,null,"SC6706","SC6706||1650","1650","Construction in Progress",null,"JE_PPE|JE_Override"]
[null,null,null,null,null,null,"AC00585","Prof Dev-Engineering","AC00585-Prof Dev-Engineering","Activity","FD03","Active","2025-01-02T03:05:30.078",null,null,null,null,null,null,null,null,"12046","Teri Walker","12046-Teri Walker",null,null,null,"AS085239152","Steven Luke (085239152) FHSS - Dean's Office","AS085239152-Steven Luke (085239152) FHSS - Dean's Office","Active",null,null,null,null,null,null,null,null,null,null,null,"SC6706","SC6706||1651","1651","Construction in Progress (Non-Workday Projects)",null,"All"]
[null,null,null,null,null,null,"AC00586","Mentoring Grants","AC00586-Mentoring Grants","Activity","FD03","Active","2025-01-02T03:05:30.078",null,null,null,null,null,null,null,null,"12047","Tiffany Barney","12047-Tiffany Barney",null,null,null,"AS085269220","Travis Coyne (085269220) Fine Arts & Communications - Dean's Office","AS085269220-Travis Coyne (085269220) Fine Arts & Communications - Dean's Office","Active",null,null,null,null,null,null,null,null,null,null,null,"SC6706","SC6706||1700","1700","Accumulated Depreciation",null,"JE_PPE|JE_Override"]
[null,null,null,null,null,null,"AC00587","CSR - Engineering (CAEDM)","AC00587-CSR - Engineering (CAEDM)","Activity","FD03","Active","2025-01-02T03:05:30.078",null,null,null,null,null,null,null,null,"12060","BYU-Hawaii","12060-BYU-Hawaii",null,null,null,"AS085379998","Paul Richards (085379998) College of Engineering - Dean's Office","AS085379998-Paul Richards (085379998) College of Engineering - Dean's Office","Active",null,null,null,null,null,null,null,null,null,null,null,"SC6706","SC6706||6700","6700","Physical Facilities","Primary","All"]
[null,null,null,null,null,null,"AC00589","Experiential Learning","AC00589-Experiential Learning","Activity","FD03","Active","2025-01-02T03:05:30.078",null,null,null,null,null,null,null,null,"12071","Alumni Cell Phone","12071-Alumni Cell Phone",null,null,null,"AS085618274","John Chaston (085618274) Life Sciences - Dean's Office","AS085618274-John Chaston (085618274) Life Sciences - Dean's Office","Active",null,null,null,null,null,null,null,null,null,null,null,"SC6706","SC6706||8000","8000","Depreciation",null,"JE_PPE|JE_Override"]
[null,null,null,null,null,null,"AC00590","Technology Education Club","AC00590-Technology Education Club","Activity","FD02","Active","2025-01-02T03:05:30.078",null,null,null,null,null,null,null,null,"12072","PT Employee Cell Phone","12072-PT Employee Cell Phone",null,null,null,"AS085963895","Joshua Price (085963895) FHSS - Dean's Office","AS085963895-Joshua Price (085963895) FHSS - Dean's Office","Active",null,null,null,null,null,null,null,null,null,null,null,"SC6707","SC6707||1400","1400","Prepaid Expenses",null,"All"]
[null,null,null,null,null,null,"AC00591","Woods Stores","AC00591-Woods Stores","Activity","FD02","Active","2025-01-02T03:05:30.078",null,null,null,null,null,null,null,null,"12073","Retiree Cell Phone","12073-Retiree Cell Phone",null,null,null,"AS086020728","Jyothish Joy (086020728) CMS - Dean's Office Computational, Mathematical, & Phsical","AS086020728-Jyothish Joy (086020728) CMS - Dean's Office Computational, Mathematical, & Phsical","Active",null,null,null,null,null,null,null,null,null,null,null,"SC6707","SC6707||1650","1650","Construction in Progress",null,"JE_PPE|JE_Override"]
[null,null,null,null,null,null,"AC00592","Prototype Lab","AC00592-Prototype Lab","Activity","FD02","Active","2025-01-02T03:05:30.078",null,null,null,null,null,null,null,null,"12074","Student Cell Phone","12074-Student Cell Phone",null,null,null,"AS086077890","Chad Brimley (086077890) Dean of Students Office","AS086077890-Chad Brimley (086077890) Dean of Students Office","Active",null,null,null,null,null,null,null,null,null,null,null,"SC6707","SC6707||1651","1651","Construction in Progress (Non-Workday Projects)",null,"All"]
[null,null,null,null,null,null,"AC00593","Metals Stores","AC00593-Metals Stores","Activity","FD02","Active","2025-01-02T03:05:30.078",null,null,null,null,null,null,null,null,"12075","Employee Cell Phone","12075-Employee Cell Phone",null,null,null,"AS086106508","Mikayla Robins (086106508) CE Education Week","AS086106508-Mikayla Robins (086106508) CE Education Week","Active",null,null,null,null,null,null,null,null,null,null,null,"SC6707","SC6707||6700","6700","Physical Facilities","Primary","All"]
[null,null,null,null,null,null,"AC00594","Multi-Media Stores","AC00594-Multi-Media Stores","Activity","FD02","Active","2025-01-02T03:05:30.078",null,null,null,null,null,null,null,null,"12076","BYU-Pathways Cell Phone","12076-BYU-Pathways Cell Phone",null,null,null,"AS086170895","Richard Warr (086170895) CMS - Dean's Office Computational, Mathematical, & Phsical","AS086170895-Richard Warr (086170895) CMS - Dean's Office Computational, Mathematical, & Phsical","Active",null,null,null,null,null,null,null,null,null,null,null,"SC6708","SC6708||1400","1400","Prepaid Expenses",null,"All"]
[null,null,null,null,null,null,"AC00595","BYU Utah Underwater Robotics","AC00595-BYU Utah Underwater Robotics","Activity","FD02","Active","2025-01-02T03:05:30.078",null,null,null,null,null,null,null,null,"12077","Prev Employee Cell Phone","12077-Prev Employee Cell Phone",null,null,null,"AS086393576","Eric Swenson (086393576) CMS - Dean's Office Computational, Mathematical, & Phsical","AS086393576-Eric Swenson (086393576) CMS - Dean's Office Computational, Mathematical, & Phsical","Active",null,null,null,null,null,null,null,null,null,null,null,"SC6708","SC6708||1610","1610","Building Improvements",null,"JE_PPE|JE_Override"]
[null,null,null,null,null,null,"AC00596","Digital Magicians","AC00596-Digital Magicians","Activity","FD02","Active","2025-01-02T03:05:30.078",null,null,null,null,null,null,null,null,"12300","R0480010 5-22410","12300-R0480010 5-22410",null,null,null,"AS086418765","Bonnie Bingham (086418765) Humanities - Dean's Office","AS086418765-Bonnie Bingham (086418765) Humanities - Dean's Office","Active",null,null,null,null,null,null,null,null,null,null,null,"SC6708","SC6708||1650","1650","Construction in Progress",null,"JE_PPE|JE_Override"]
[null,null,null,null,null,null,"AC00597","EXPERIENTIAL LEARNING TEE","AC00597-EXPERIENTIAL LEARNING TEE","Activity","FD03","Active","2025-01-02T03:05:30.078",null,null,null,null,null,null,null,null,"12301","R0480023 5-22323","12301-R0480023 5-22323",null,null,null,"AS086472691","Brody Blair (086472691) PF Dining and MTC Maintenance","AS086472691-Brody Blair (086472691) PF Dining and MTC Maintenance","Active",null,null,null,null,null,null,null,null,null,null,null,"SC6708","SC6708||1651","1651","Construction in Progress (Non-Workday Projects)",null,"All"]
[null,null,null,null,null,null,"AC00598","Belonging & Diversity Initiati","AC00598-Belonging & Diversity Initiati","Activity","FD01","Active","2025-01-02T03:05:30.078",null,null,null,null,null,null,null,null,"12302","CAPSTONE","12302-CAPSTONE",null,null,null,"AS086530432","Erik Larson (086530432) Humanities - Dean's Office","AS086530432-Erik Larson (086530432) Humanities - Dean's Office","Active",null,null,null,null,null,null,null,null,null,null,null,"SC6708","SC6708||1700","1700","Accumulated Depreciation",null,"JE_PPE|JE_Override"]
[null,null,null,null,null,null,"AC00599","Animation","AC00599-Animation","Activity","FD01","Active","2025-01-02T03:05:30.078",null,null,null,null,null,null,null,null,"12303","R0480004 5-21004","12303-R0480004 5-21004",null,null,null,"AS086584610","Rebecca Hunter (086584610) MSE - Dean's Office, McKay School of Education","AS086584610-Rebecca Hunter (086584610) MSE - Dean's Office, McKay School of Education","Active",null,null,null,null,null,null,null,null,null,null,null,"SC6708","SC6708||6700","6700","Physical Facilities","Primary","All"]
[null,null,null,null,null,null,"AC00600","BYU Center for Animation 2","AC00600-BYU Center for Animation 2","Activity","FD01","Active","2025-01-02T03:05:30.078",null,null,null,null,null,null,null,null,"12304","R0480006 5-21006","12304-R0480006 5-21006",null,null,null,"AS086585781","Tim Wilda (086585781) PF Transportation & Manufactering Services","AS086585781-Tim Wilda (086585781) PF Transportation & Manufactering Services","Active",null,null,null,null,null,null,null,null,null,null,null,"SC6708","SC6708||8000","8000","Depreciation",null,"JE_PPE|JE_Override"]
[null,null,null,null,null,null,"AC00601","Kip Christensen","AC00601-Kip Christensen","Activity","FD01","Active","2025-01-02T03:05:30.078",null,null,null,null,null,null,null,null,"12305","R0500616 5-22616","12305-R0500616 5-22616",null,null,null,"AS086625637","Annalee Hickman Pierson (086625637) Clark Law School - Law School Library","AS086625637-Annalee Hickman Pierson (086625637) Clark Law School - Law School Library","Active",null,null,null,null,null,null,null,null,null,null,null,"SC6709","SC6709||1400","1400","Prepaid Expenses",null,"All"]
[null,null,null,null,null,null,"AC00602","Skaggs, Paul Research","AC00602-Skaggs, Paul Research","Activity","FD01","Active","2025-01-02T03:05:30.078",null,null,null,null,null,null,null,null,"12307","R0480007 5-21007","12307-R0480007 5-21007",null,null,null,"AS086667644","Celeste Beesley (086667644) FHSS - Dean's Office","AS086667644-Celeste Beesley (086667644) FHSS - Dean's Office","Active",null,null,null,null,null,null,null,null,null,null,null,"SC6709","SC6709||1610","1610","Building Improvements",null,"JE_PPE|JE_Override"]
[null,null,null,null,null,null,"AC00603","Industrial Design","AC00603-Industrial Design","Activity","FD01","Active","2025-01-02T03:05:30.078",null,null,null,null,null,null,null,null,"12309","R0300991 5-20991","12309-R0300991 5-20991",null,null,null,"AS086950517","Rebecca Hornberger (086950517) HS Administration","AS086950517-Rebecca Hornberger (086950517) HS Administration","Active",null,null,null,null,null,null,null,null,null,null,null,"SC6709","SC6709||1650","1650","Construction in Progress",null,"JE_PPE|JE_Override"]
[null,null,null,null,null,null,"AC00604","EXPERIENTIAL LEARNING ID","AC00604-EXPERIENTIAL LEARNING ID","Activity","FD03","Active","2025-01-02T03:05:30.078",null,null,null,null,null,null,null,null,"12310","R0201007","12310-R0201007",null,null,null,"AS087251463","Sandra Sephton (087251463) FHSS - Dean's Office","AS087251463-Sandra Sephton (087251463) FHSS - Dean's Office","Active",null,null,null,null,null,null,null,null,null,null,null,"SC6709","SC6709||1651","1651","Construction in Progress (Non-Workday Projects)",null,"All"]
[null,null,null,null,null,null,"AC00605","School of Technology","AC00605-School of Technology","Activity","FD01","Active","2025-01-02T03:05:30.078",null,null,null,null,null,null,null,null,"12315","R0700039 5-22039","12315-R0700039 5-22039",null,null,null,"AS087450572","Tyler Shumway (087450572) MSB - Dean's Office, Marriott School of Business","AS087450572-Tyler Shumway (087450572) MSB - Dean's Office, Marriott School of Business","Active",null,null,null,null,null,null,null,null,null,null,null,"SC6709","SC6709||1700","1700","Accumulated Depreciation",null,"JE_PPE|JE_Override"]
[null,null,null,null,null,null,"AC00606","MFGEN Stores","AC00606-MFGEN Stores","Activity","FD01","Active","2025-01-02T03:05:30.078",null,null,null,null,null,null,null,null,"12316","R0481000","12316-R0481000",null,null,null,"AS087539527","Tyler Griffin (087539527) Academic VP Office, Deans","AS087539527-Tyler Griffin (087539527) Academic VP Office, Deans","Active",null,null,null,null,null,null,null,null,null,null,null,"SC6709","SC6709||6700","6700","Physical Facilities","Primary","All"]
[null,null,null,null,null,null,"AC00607","TECM Computer Lab","AC00607-TECM Computer Lab","Activity","FD01","Active","2025-01-02T03:05:30.078",null,null,null,null,null,null,null,null,"12317","R0501006","12317-R0501006",null,null,null,"AS087606974","Ron Goodman (087606974) PF Central Heating Plant","AS087606974-Ron Goodman (087606974) PF Central Heating Plant","Active",null,null,null,null,null,null,null,null,null,null,null,"SC6709","SC6709||8000","8000","Depreciation",null,"JE_PPE|JE_Override"]
[null,null,null,null,null,null,"AC00608","MFGEN Computer Lab","AC00608-MFGEN Computer Lab","Activity","FD01","Active","2025-01-02T03:05:30.078",null,null,null,null,null,null,null,null,"12318","R0201028","12318-R0201028",null,null,null,"AS087946977","Sherri Hadfield (087946977) Humanities - Dean's Office","AS087946977-Sherri Hadfield (087946977) Humanities - Dean's Office","Active",null,null,null,null,null,null,null,null,null,null,null,"SC6710","SC6710||1400","1400","Prepaid Expenses",null,"All"]
[null,null,null,null,null,null,"AC00609","MFGEN - Grad Studies","AC00609-MFGEN - Grad Studies","Activity","FD01","Active","2025-01-02T03:05:30.078",null,null,null,null,null,null,null,null,"12319","R0701000","12319-R0701000",null,null,null,"AS088368339","Brett Hashimoto (088368339) Humanities - Dean's Office","AS088368339-Brett Hashimoto (088368339) Humanities - Dean's Office","Active",null,null,null,null,null,null,null,null,null,null,null,"SC6710","SC6710||1620","1620","Furnishings and Fixtures",null,"JE_PPE|JE_Override"]
[null,null,null,null,null,null,"AC00610","School of Technology Director","AC00610-School of Technology Director","Activity","FD01","Active","2025-01-02T03:05:30.078",null,null,null,null,null,null,null,null,"12320","R0131001","12320-R0131001",null,null,null,"AS088387496","Craig Fisher (088387496) PF Grounds - Site & Landscape Construction","AS088387496-Craig Fisher (088387496) PF Grounds - Site & Landscape Construction","Active",null,null,null,null,null,null,null,null,null,null,null,"SC6710","SC6710||1650","1650","Construction in Progress",null,"JE_PPE|JE_Override"]
[null,null,null,null,null,null,"AC00611","Ekstrom, Joseph Research","AC00611-Ekstrom, Joseph Research","Activity","FD01","Active","2025-01-02T03:05:30.078",null,null,null,null,null,null,null,null,"12321","R0601027","12321-R0601027",null,null,null,"AS088607893","Alyson Ball (088607893) MTC Dining","AS088607893-Alyson Ball (088607893) MTC Dining","Active",null,null,null,null,null,null,null,null,null,null,null,"SC6710","SC6710||1651","1651","Construction in Progress (Non-Workday Projects)",null,"All"]
[null,null,null,null,null,null,"AC00612","School of Technology Oper","AC00612-School of Technology Oper","Activity","FD01","Active","2025-01-02T03:05:30.078",null,null,null,null,null,null,null,null,"12322","R0701001","12322-R0701001",null,null,null,"AS088807559","Amber Jensen (088807559) Humanities - Dean's Office","AS088807559-Amber Jensen (088807559) Humanities - Dean's Office","Active",null,null,null,null,null,null,null,null,null,null,null,"SC6710","SC6710||1700","1700","Accumulated Depreciation",null,"JE_PPE|JE_Override"]
[null,null,null,null,null,null,"AC00613","MFET Tech Trans","AC00613-MFET Tech Trans","Activity","FD03","Active","2025-01-02T03:05:30.078",null,null,null,null,null,null,null,null,"12323","R0481001","12323-R0481001",null,null,null,"AS089085651","Josh Lee (089085651) MSB - Dean's Office, Marriott School of Business","AS089085651-Josh Lee (089085651) MSB - Dean's Office, Marriott School of Business","Active",null,null,null,null,null,null,null,null,null,null,null,"SC6710","SC6710||6700","6700","Physical Facilities","Primary","All"]
[null,null,null,null,null,null,"AC00614","MFGEN - Machine Burden","AC00614-MFGEN - Machine Burden","Activity","FD03","Active","2025-01-02T03:05:30.078",null,null,null,null,null,null,null,null,"12324","R0481002","12324-R0481002",null,null,null,"AS089272986","Bart Stoddard (089272986) Helaman Halls","AS089272986-Bart Stoddard (089272986) Helaman Halls","Active",null,null,null,null,null,null,null,null,null,null,null,"SC6710","SC6710||8000","8000","Depreciation",null,"JE_PPE|JE_Override"]
[null,null,null,null,null,null,"AC00615","Technology-Grad Student Funds","AC00615-Technology-Grad Student Funds","Activity","FD03","Active","2025-01-02T03:05:30.078",null,null,null,null,null,null,null,null,"12325","R0701002","12325-R0701002",null,null,null,"AS089398090","Blake Barker (089398090) CMS - Dean's Office Computational, Mathematical, & Phsical","AS089398090-Blake Barker (089398090) CMS - Dean's Office Computational, Mathematical, & Phsical","Active",null,null,null,null,null,null,null,null,null,null,null,"SC6711","SC6711||1400","1400","Prepaid Expenses",null,"All"]
[null,null,null,null,null,null,"AC00616","General Study Account","AC00616-General Study Account","Activity","FD03","Active","2025-01-02T03:05:30.078",null,null,null,null,null,null,null,null,"12326","R0201057","12326-R0201057",null,null,null,"AS089405044","Sherrie Bangerter (089405044) CE FSY","AS089405044-Sherrie Bangerter (089405044) CE FSY","Active",null,null,null,null,null,null,null,null,null,null,null,"SC6711","SC6711||1615","1615","Other Improvements",null,"JE_PPE|JE_Override"]
[null,null,null,null,null,null,"AC00617","EXPERIENTIAL LEARNING SOT","AC00617-EXPERIENTIAL LEARNING SOT","Activity","FD03","Active","2025-01-02T03:05:30.078",null,null,null,null,null,null,null,null,"12327","R0701003","12327-R0701003",null,null,null,"AS089938606","Pattie Shumway (089938606) MSB - Dean's Office, Marriott School of Business","AS089938606-Pattie Shumway (089938606) MSB - Dean's Office, Marriott School of Business","Active",null,null,null,null,null,null,null,null,null,null,null,"SC6711","SC6711||1650","1650","Construction in Progress",null,"JE_PPE|JE_Override"]
[null,null,null,null,null,null,"AC00618","Mentoring Grant - Brent Adams","AC00618-Mentoring Grant - Brent Adams","Activity","FD03","Active","2025-01-02T03:05:30.078",null,null,null,null,null,null,null,null,"12328","R0301052","12328-R0301052",null,null,null,"AS090325831","Scott Champion (090325831) BYU Broadcasting - Creative Services","AS090325831-Scott Champion (090325831) BYU Broadcasting - Creative Services","Active",null,null,null,null,null,null,null,null,null,null,null,"SC6711","SC6711||1651","1651","Construction in Progress (Non-Workday Projects)",null,"All"]
[null,null,null,null,null,null,"AC00619","Faculty Mentoring 3","AC00619-Faculty Mentoring 3","Activity","FD03","Active","2025-01-02T03:05:30.078",null,null,null,null,null,null,null,null,"12329","R0701004","12329-R0701004",null,null,null,"AS090428073","Logan Matthews (090428073) Athletics - Olympic Sport Medicine","AS090428073-Logan Matthews (090428073) Athletics - Olympic Sport Medicine","Active",null,null,null,null,null,null,null,null,null,null,null,"SC6711","SC6711||1700","1700","Accumulated Depreciation",null,"JE_PPE|JE_Override"]
[null,null,null,null,null,null,"AC00620","Faculty Mentoring 4","AC00620-Faculty Mentoring 4","Activity","FD03","Active","2025-01-02T03:05:30.078",null,null,null,null,null,null,null,null,"12331","R0601050","12331-R0601050",null,null,null,"AS090471404","Deborah Himes (090471404) Academic VP Office, Deans","AS090471404-Deborah Himes (090471404) Academic VP Office, Deans","Active",null,null,null,null,null,null,null,null,null,null,null,"SC6711","SC6711||6700","6700","Physical Facilities","Primary","All"]
[null,null,null,null,null,null,"AC00621","Faculty Mentoring 5","AC00621-Faculty Mentoring 5","Activity","FD03","Active","2025-01-02T03:05:30.078",null,null,null,null,null,null,null,null,"12332","R0601051","12332-R0601051",null,null,null,"AS090692682","Mark Johnson (090692682) MSB - Dean's Office, Marriott School of Business","AS090692682-Mark Johnson (090692682) MSB - Dean's Office, Marriott School of Business","Active",null,null,null,null,null,null,null,null,null,null,null,"SC6711","SC6711||8000","8000","Depreciation",null,"JE_PPE|JE_Override"]
[null,null,null,null,null,null,"AC00622","ChE JJ Christensen Profsrship","AC00622-ChE JJ Christensen Profsrship","Activity","FD01","Active","2025-01-02T03:05:30.078",null,null,null,null,null,null,null,null,"12333","R0701006","12333-R0701006",null,null,null,"AS090754573","Martha Carter (090754573) Cannon Center","AS090754573-Martha Carter (090754573) Cannon Center","Active",null,null,null,null,null,null,null,null,null,null,null,"SC6712","SC6712||1400","1400","Prepaid Expenses",null,"All"]
[null,null,null,null,null,null,"AC00623","Chem Engr Compt Lab","AC00623-Chem Engr Compt Lab","Activity","FD01","Active","2025-01-02T03:05:30.078",null,null,null,null,null,null,null,null,"12335","R0481003","12335-R0481003",null,null,null,"AS090902923","Erin Ricks (090902923) Aerospace Studies","AS090902923-Erin Ricks (090902923) Aerospace Studies","Active",null,null,null,null,null,null,null,null,null,null,null,"SC6712","SC6712||6700","6700","Physical Facilities","Primary","All"]
[null,null,null,null,null,null,"AC00624","John Harb","AC00624-John Harb","Activity","FD01","Active","2025-01-02T03:05:30.078",null,null,null,null,null,null,null,null,"12336","R0131004","12336-R0131004",null,null,null,"AS090924308","Kathy Taylor (090924308) Alumni Relations","AS090924308-Kathy Taylor (090924308) Alumni Relations","Active",null,null,null,null,null,null,null,null,null,null,null,"SC6713","SC6713||1400","1400","Prepaid Expenses",null,"All"]
[null,null,null,null,null,null,"AC00625","Chem Engr Graduate Studies","AC00625-Chem Engr Graduate Studies","Activity","FD01","Active","2025-01-02T03:05:30.078",null,null,null,null,null,null,null,null,"12337","R0201097","12337-R0201097",null,null,null,"AS090941769","Ezra Smith (090941769) Lee Library - Acquisitions","AS090941769-Ezra Smith (090941769) Lee Library - Acquisitions","Active",null,null,null,null,null,null,null,null,null,null,null,"SC6713","SC6713||1610","1610","Building Improvements",null,"JE_PPE|JE_Override"]
[null,null,null,null,null,null,"AC00626","KAS Research","AC00626-KAS Research","Activity","FD01","Active","2025-01-02T03:05:30.078",null,null,null,null,null,null,null,null,"12340","R0702001","12340-R0702001",null,null,null,"AS091090788","Cree Jones (091090788) Academic VP Office, Deans","AS091090788-Cree Jones (091090788) Academic VP Office, Deans","Active",null,null,null,null,null,null,null,null,null,null,null,"SC6713","SC6713||1650","1650","Construction in Progress",null,"JE_PPE|JE_Override"]
[null,null,null,null,null,null,"AC00627","AICHE-Student Chapter","AC00627-AICHE-Student Chapter","Activity","FD02","Active","2025-01-02T03:05:30.078",null,null,null,null,null,null,null,null,"12341","R0202038","12341-R0202038",null,null,null,"AS091329105","Tony Martinez (091329105) CMS - Dean's Office Computational, Mathematical, & Phsical","AS091329105-Tony Martinez (091329105) CMS - Dean's Office Computational, Mathematical, & Phsical","Active",null,null,null,null,null,null,null,null,null,null,null,"SC6713","SC6713||1651","1651","Construction in Progress (Non-Workday Projects)",null,"All"]
[null,null,null,null,null,null,"AC00628","BYU-DIPPR Lab","AC00628-BYU-DIPPR Lab","Activity","FD02","Active","2025-01-02T03:05:30.078",null,null,null,null,null,null,null,null,"12343","R0502013","12343-R0502013",null,null,null,"AS091388504","David Quittner (091388504) Bindery Total","AS091388504-David Quittner (091388504) Bindery Total","Active",null,null,null,null,null,null,null,null,null,null,null,"SC6713","SC6713||1700","1700","Accumulated Depreciation",null,"JE_PPE|JE_Override"]
[null,null,null,null,null,null,"AC00629","Polymer Analysis Lab","AC00629-Polymer Analysis Lab","Activity","FD02","Active","2025-01-02T03:05:30.078",null,null,null,null,null,null,null,null,"12344","COE","12344-COE",null,null,null,"AS091471725","Amanda Pope (091471725) MSB - Dean's Office, Marriott School of Business","AS091471725-Amanda Pope (091471725) MSB - Dean's Office, Marriott School of Business","Active",null,null,null,null,null,null,null,null,null,null,null,"SC6713","SC6713||6700","6700","Physical Facilities","Primary","All"]
[null,null,null,null,null,null,"AC00630","2ft Prosthetics","AC00630-2ft Prosthetics","Activity","FD02","Active","2025-01-02T03:05:30.078",null,null,null,null,null,null,null,null,"12345","R0482002","12345-R0482002",null,null,null,"AS091601248","Ben Cookson (091601248) Retail Services - Information Technology","AS091601248-Ben Cookson (091601248) Retail Services - Information Technology","Active",null,null,null,null,null,null,null,null,null,null,null,"SC6713","SC6713||8000","8000","Depreciation",null,"JE_PPE|JE_Override"]
[null,null,null,null,null,null,"AC00631","American Nuclear Society","AC00631-American Nuclear Society","Activity","FD02","Active","2025-01-02T03:05:30.078",null,null,null,null,null,null,null,null,"12346","R0482003","12346-R0482003",null,null,null,"AS091888194","David Erickson (091888194) Life Sciences - Dean's Office","AS091888194-David Erickson (091888194) Life Sciences - Dean's Office","Active",null,null,null,null,null,null,null,null,null,null,null,"SC6714","SC6714||1400","1400","Prepaid Expenses",null,"All"]
[null,null,null,null,null,null,"AC00632","Engineers in Business","AC00632-Engineers in Business","Activity","FD02","Active","2025-01-02T03:05:30.078",null,null,null,null,null,null,null,null,"12347","R0482004","12347-R0482004",null,null,null,"AS091896615","Patricia Febres Aragon (091896615) MTC Dining","AS091896615-Patricia Febres Aragon (091896615) MTC Dining","Active",null,null,null,null,null,null,null,null,null,null,null,"SC6714","SC6714||1620","1620","Furnishings and Fixtures",null,"JE_PPE|JE_Override"]
[null,null,null,null,null,null,"AC00633","Global Eng Outreach GEO Club","AC00633-Global Eng Outreach GEO Club","Activity","FD02","Active","2025-01-02T03:05:30.078",null,null,null,null,null,null,null,null,"12348","R0482005","12348-R0482005",null,null,null,"AS092130398","Shawn Nevers (092130398) Academic VP Office, Deans","AS092130398-Shawn Nevers (092130398) Academic VP Office, Deans","Active",null,null,null,null,null,null,null,null,null,null,null,"SC6714","SC6714||1650","1650","Construction in Progress",null,"JE_PPE|JE_Override"]
[null,null,null,null,null,null,"AC00634","BYU Chapter SPE","AC00634-BYU Chapter SPE","Activity","FD02","Active","2025-01-02T03:05:30.078",null,null,null,null,null,null,null,null,"12349","R0702004","12349-R0702004",null,null,null,"AS092499390","Kristi Aase (092499390) CE BYU Online","AS092499390-Kristi Aase (092499390) CE BYU Online","Active",null,null,null,null,null,null,null,null,null,null,null,"SC6714","SC6714||1651","1651","Construction in Progress (Non-Workday Projects)",null,"All"]
[null,null,null,null,null,null,"AC00635","Energy Club","AC00635-Energy Club","Activity","FD02","Active","2025-01-02T03:05:30.078",null,null,null,null,null,null,null,null,"12350","R0702005","12350-R0702005",null,null,null,"AS092583590","Diljeet Taylor (092583590) Athletics - Administration","AS092583590-Diljeet Taylor (092583590) Athletics - Administration","Active",null,null,null,null,null,null,null,null,null,null,null,"SC6714","SC6714||1700","1700","Accumulated Depreciation",null,"JE_PPE|JE_Override"]
[null,null,null,null,null,null,"AC00636","Chem Engr Equip Repl","AC00636-Chem Engr Equip Repl","Activity","FD03","Active","2025-01-02T03:05:30.078",null,null,null,null,null,null,null,null,"12351","R0702006","12351-R0702006",null,null,null,"AS092942493","Quin Monson (092942493) FHSS - Dean's Office","AS092942493-Quin Monson (092942493) FHSS - Dean's Office","Active",null,null,null,null,null,null,null,null,null,null,null,"SC6714","SC6714||6700","6700","Physical Facilities","Primary","All"]
[null,null,null,null,null,null,"AC00637","Plasma Reactro Maint","AC00637-Plasma Reactro Maint","Activity","FD03","Active","2025-01-02T03:05:30.078",null,null,null,null,null,null,null,null,"12352","R0702007","12352-R0702007",null,null,null,"AS093236604","Melissa Newberry (093236604) MSE - Dean's Office, McKay School of Education","AS093236604-Melissa Newberry (093236604) MSE - Dean's Office, McKay School of Education","Active",null,null,null,null,null,null,null,null,null,null,null,"SC6714","SC6714||8000","8000","Depreciation",null,"JE_PPE|JE_Override"]
[null,null,null,null,null,null,"AC00638","Pitt License Royalty","AC00638-Pitt License Royalty","Activity","FD03","Active","2025-01-02T03:05:30.078",null,null,null,null,null,null,null,null,"12353","R0482024","12353-R0482024",null,null,null,"AS093350422","Genie Lamb (093350422) Retail Services - MTC Store","AS093350422-Genie Lamb (093350422) Retail Services - MTC Store","Active",null,null,null,null,null,null,null,null,null,null,null,"SC6715","SC6715||1400","1400","Prepaid Expenses",null,"All"]
[null,null,null,null,null,null,"AC00639","WVW Resid Funds","AC00639-WVW Resid Funds","Activity","FD03","Active","2025-01-02T03:05:30.078",null,null,null,null,null,null,null,null,"12354","R0482023","12354-R0482023",null,null,null,"AS093396688","Mike MacKay (093396688) Religious Educcation - Dean's Office","AS093396688-Mike MacKay (093396688) Religious Educcation - Dean's Office","Active",null,null,null,null,null,null,null,null,null,null,null,"SC6715","SC6715||1620","1620","Furnishings and Fixtures",null,"JE_PPE|JE_Override"]
[null,null,null,null,null,null,"AC00640","Pope, Bill J Fellowship","AC00640-Pope, Bill J Fellowship","Activity","FD03","Active","2025-01-02T03:05:30.078",null,null,null,null,null,null,null,null,"12355","R0482022","12355-R0482022",null,null,null,"AS093516232","Kimberlee Quinn (093516232) CE FSY West","AS093516232-Kimberlee Quinn (093516232) CE FSY West","Active",null,null,null,null,null,null,null,null,null,null,null,"SC6715","SC6715||1650","1650","Construction in Progress",null,"JE_PPE|JE_Override"]
[null,null,null,null,null,null,"AC00641","CHB Prof Account","AC00641-CHB Prof Account","Activity","FD03","Active","2025-01-02T03:05:30.078",null,null,null,null,null,null,null,null,"12357","R0482025","12357-R0482025",null,null,null,"AS093594587","Chad Nielson (093594587) PF Flooring & Upholstery Shop","AS093594587-Chad Nielson (093594587) PF Flooring & Upholstery Shop","Active",null,null,null,null,null,null,null,null,null,null,null,"SC6715","SC6715||1651","1651","Construction in Progress (Non-Workday Projects)",null,"All"]
[null,null,null,null,null,null,"AC00642","Bradley C. Bundy Grad Mentor","AC00642-Bradley C. Bundy Grad Mentor","Activity","FD03","Active","2025-01-02T03:05:30.078",null,null,null,null,null,null,null,null,"12399","RC Profit Offset","12399-RC Profit Offset",null,null,null,"AS093654513","Bob Ridge (093654513) FHSS - Dean's Office","AS093654513-Bob Ridge (093654513) FHSS - Dean's Office","Active",null,null,null,null,null,null,null,null,null,null,null,"SC6715","SC6715||1700","1700","Accumulated Depreciation",null,"JE_PPE|JE_Override"]
[null,null,null,null,null,null,"AC00643","Alonzo D. Cook Grad Mentor","AC00643-Alonzo D. Cook Grad Mentor","Activity","FD03","Active","2025-01-02T03:05:30.078",null,null,null,null,null,null,null,null,"12499","Participant Support Cost (NSF)","12499-Participant Support Cost (NSF)",null,null,null,"AS093734228","Randy Corbett (093734228) Fine Arts & Communications - Dean's Office","AS093734228-Randy Corbett (093734228) Fine Arts & Communications - Dean's Office","Active",null,null,null,null,null,null,null,null,null,null,null,"SC6715","SC6715||6700","6700","Physical Facilities","Primary","All"]
[null,null,null,null,null,null,"AC00644","W Pitt Interdispl Research","AC00644-W Pitt Interdispl Research","Activity","FD03","Active","2025-01-02T03:05:30.078",null,null,null,null,null,null,null,null,"12500","Minimum Pension Liability","12500-Minimum Pension Liability",null,null,null,"AS093794797","Natalie Broekman (093794797) Athletics - Gymnastics","AS093794797-Natalie Broekman (093794797) Athletics - Gymnastics","Active",null,null,null,null,null,null,null,null,null,null,null,"SC6715","SC6715||8000","8000","Depreciation",null,"JE_PPE|JE_Override"]
[null,null,null,null,null,null,"AC00645","Doug Tree - IDR Grant 2020","AC00645-Doug Tree - IDR Grant 2020","Activity","FD03","Active","2025-01-02T03:05:30.078",null,null,null,null,null,null,null,null,"12600","FS Prof Development Council","12600-FS Prof Development Council",null,null,null,"AS094249479","Shaun Sessions (094249479) OIT Resource - CES Network Center (CNC )- Engineering","AS094249479-Shaun Sessions (094249479) OIT Resource - CES Network Center (CNC )- Engineering","Active",null,null,null,null,null,null,null,null,null,null,null,"SC6716","SC6716||1650","1650","Construction in Progress",null,"JE_PPE|JE_Override"]
[null,null,null,null,null,null,"AC00647","EXPERIENTIAL LEARNING CHE","AC00647-EXPERIENTIAL LEARNING CHE","Activity","FD03","Active","2025-01-02T03:05:30.078",null,null,null,null,null,null,null,null,"12601","FS Annual Activities Council","12601-FS Annual Activities Council",null,null,null,"AS094488103","Jason Douglas (094488103) OIT Leadership - CES Architecture","AS094488103-Jason Douglas (094488103) OIT Leadership - CES Architecture","Active",null,null,null,null,null,null,null,null,null,null,null,"SC6716","SC6716||1651","1651","Construction in Progress (Non-Workday Projects)",null,"All"]
[null,null,null,null,null,null,"AC00648","Mentoring Grant R Rowley","AC00648-Mentoring Grant R Rowley","Activity","FD03","Active","2025-01-02T03:05:30.078",null,null,null,null,null,null,null,null,"12602","FS Employee Engagement Council","12602-FS Employee Engagement Council",null,null,null,"AS094493845","Chad Turley (094493845) CE Online Learning","AS094493845-Chad Turley (094493845) CE Online Learning","Active",null,null,null,null,null,null,null,null,null,null,null,"SC6716","SC6716||6700","6700","Physical Facilities","Primary","All"]
[null,null,null,null,null,null,"AC00649","Faculty Mentoring 1","AC00649-Faculty Mentoring 1","Activity","FD03","Active","2025-01-02T03:05:30.078",null,null,null,null,null,null,null,null,"12603","FS Newsletter Council","12603-FS Newsletter Council",null,null,null,"AS094715756","Shannon Mahana (094715756) Concessions","AS094715756-Shannon Mahana (094715756) Concessions","Active",null,null,null,null,null,null,null,null,null,null,null,"SC6717","SC6717||1650","1650","Construction in Progress",null,"JE_PPE|JE_Override"]
[null,null,null,null,null,null,"AC00650","Faculty Mentoring 2","AC00650-Faculty Mentoring 2","Activity","FD03","Active","2025-01-02T03:05:30.078",null,null,null,null,null,null,null,null,"12604","FS Division Meeting Council","12604-FS Division Meeting Council",null,null,null,"AS095019039","Derryck Dunn (095019039) Retail Services - Product Acquisition","AS095019039-Derryck Dunn (095019039) Retail Services - Product Acquisition","Active",null,null,null,null,null,null,null,null,null,null,null,"SC6717","SC6717||1651","1651","Construction in Progress (Non-Workday Projects)",null,"All"]
[null,null,null,null,null,null,"AC00651","Faculty Mentoring 3","AC00651-Faculty Mentoring 3","Activity","FD03","Active","2025-01-02T03:05:30.078",null,null,null,null,null,null,null,null,"12SLA","College of Nursing","12SLA-College of Nursing",null,null,null,"AS095061117","Laura Padilla-Walker (095061117) University President - Academic Vice President","AS095061117-Laura Padilla-Walker (095061117) University President - Academic Vice President","Active",null,null,null,null,null,null,null,null,null,null,null,"SC6717","SC6717||6700","6700","Physical Facilities","Primary","All"]
[null,null,null,null,null,null,"AC00652","Faculty Mentoring 4","AC00652-Faculty Mentoring 4","Activity","FD03","Active","2025-01-02T03:05:30.078",null,null,null,null,null,null,null,null,"13065","LSDO Shipping","13065-LSDO Shipping",null,null,null,"AS095115976","Jason Sorensen (095115976) CMS - Dean's Office Computational, Mathematical, & Phsical","AS095115976-Jason Sorensen (095115976) CMS - Dean's Office Computational, Mathematical, & Phsical","Active",null,null,null,null,null,null,null,null,null,null,null,"SC6718","SC6718||1400","1400","Prepaid Expenses",null,"All"]
[null,null,null,null,null,null,"AC00653","Combustion Lab","AC00653-Combustion Lab","Activity","FD01","Active","2025-01-02T03:05:30.078",null,null,null,null,null,null,null,null,"13067","LSDO Posilac","13067-LSDO Posilac",null,null,null,"AS095284696","Cori Reynolds (095284696) Academic VP Office, Deans","AS095284696-Cori Reynolds (095284696) Academic VP Office, Deans","Active",null,null,null,null,null,null,null,null,null,null,null,"SC6718","SC6718||1620","1620","Furnishings and Fixtures",null,"JE_PPE|JE_Override"]
[null,null,null,null,null,null,"AC00654","NSF Entertainment","AC00654-NSF Entertainment","Activity","FD01","Active","2025-01-02T03:05:30.078",null,null,null,null,null,null,null,null,"13125","LSDO Event Coordinator","13125-LSDO Event Coordinator",null,null,null,"AS095380991","Natalie H Miles (095380991) Brand & Creative","AS095380991-Natalie H Miles (095380991) Brand & Creative","Active",null,null,null,null,null,null,null,null,null,null,null,"SC6718","SC6718||1650","1650","Construction in Progress",null,"JE_PPE|JE_Override"]
[null,null,null,null,null,null,"AC00655","Combustion Computer","AC00655-Combustion Computer","Activity","FD03","Active","2025-01-02T03:05:30.078",null,null,null,null,null,null,null,null,"13126","LSDO Leadership Council (LSLC)","13126-LSDO Leadership Council (LSLC)",null,null,null,"AS095433130","Christopher Reeves (095433130) PMPC Administration","AS095433130-Christopher Reeves (095433130) PMPC Administration","Active",null,null,null,null,null,null,null,null,null,null,null,"SC6718","SC6718||1651","1651","Construction in Progress (Non-Workday Projects)",null,"All"]
[null,null,null,null,null,null,"AC00656","ACERC Industrial Fnd","AC00656-ACERC Industrial Fnd","Activity","FD03","Active","2025-01-02T03:05:30.078",null,null,null,null,null,null,null,null,"13129","LSDO 1st Gen Insprg Learng-DSA","13129-LSDO 1st Gen Insprg Learng-DSA",null,null,null,"AS095509230","Michael Larson (095509230) FHSS - Dean's Office","AS095509230-Michael Larson (095509230) FHSS - Dean's Office","Active",null,null,null,null,null,null,null,null,null,null,null,"SC6718","SC6718||1700","1700","Accumulated Depreciation",null,"JE_PPE|JE_Override"]
[null,null,null,null,null,null,"AC00657","ACERC Id Cost Share","AC00657-ACERC Id Cost Share","Activity","FD03","Active","2025-01-02T03:05:30.078",null,null,null,null,null,null,null,null,"13130","LSDO_COMMS-PLC Activities","13130-LSDO_COMMS-PLC Activities",null,null,null,"AS095564660","Brandon Rogers (095564660) CE Evening Classes Instructors","AS095564660-Brandon Rogers (095564660) CE Evening Classes Instructors","Active",null,null,null,null,null,null,null,null,null,null,null,"SC6718","SC6718||6700","6700","Physical Facilities","Primary","All"]
[null,null,null,null,null,null,"AC00658","ACERC 4G Cost Share","AC00658-ACERC 4G Cost Share","Activity","FD03","Active","2025-01-02T03:05:30.078",null,null,null,null,null,null,null,null,"13131","LSDO Interdisc Rsrch Awd (IDR)","13131-LSDO Interdisc Rsrch Awd (IDR)",null,null,null,"AS095654939","David Moore (095654939) University President - Academic Vice President","AS095654939-David Moore (095654939) University President - Academic Vice President","Active",null,null,null,null,null,null,null,null,null,null,null,"SC6718","SC6718||8000","8000","Depreciation",null,"JE_PPE|JE_Override"]
[null,null,null,null,null,null,"AC00659","ACERC 6I Cost Share","AC00659-ACERC 6I Cost Share","Activity","FD03","Active","2025-01-02T03:05:30.078",null,null,null,null,null,null,null,null,"13150","LSDO Remodeling","13150-LSDO Remodeling",null,null,null,"AS095763998","Caroline Potter (095763998) Helaman Halls","AS095763998-Caroline Potter (095763998) Helaman Halls","Active",null,null,null,null,null,null,null,null,null,null,null,"SC6719","SC6719||1400","1400","Prepaid Expenses",null,"All"]
[null,null,null,null,null,null,"AC00660","ACERC 6C Cost Share","AC00660-ACERC 6C Cost Share","Activity","FD03","Active","2025-01-02T03:05:30.078",null,null,null,null,null,null,null,null,"13156","LSDO Facilities","13156-LSDO Facilities",null,null,null,"AS095798542","Kevin Paxton (095798542) Risk Management and Safety","AS095798542-Kevin Paxton (095798542) Risk Management and Safety","Active",null,null,null,null,null,null,null,null,null,null,null,"SC6719","SC6719||1620","1620","Furnishings and Fixtures",null,"JE_PPE|JE_Override"]
[null,null,null,null,null,null,"AC00661","ACERC Operations","AC00661-ACERC Operations","Activity","FD03","Active","2025-01-02T03:05:30.078",null,null,null,null,null,null,null,null,"13158","LSDO Furnishings","13158-LSDO Furnishings",null,null,null,"AS095811804","Christian Tupou (095811804) Athletics - Football Sport Performance","AS095811804-Christian Tupou (095811804) Athletics - Football Sport Performance","Active",null,null,null,null,null,null,null,null,null,null,null,"SC6719","SC6719||1650","1650","Construction in Progress",null,"JE_PPE|JE_Override"]
[null,null,null,null,null,null,"AC00662","Simmons (SCCR) Fellowships","AC00662-Simmons (SCCR) Fellowships","Activity","FD03","Active","2025-01-02T03:05:30.078",null,null,null,null,null,null,null,null,"13160","LSDO Facilities Equipment","13160-LSDO Facilities Equipment",null,null,null,"AS095964435","Tuckett Slade (095964435) Athletics - Baseball","AS095964435-Tuckett Slade (095964435) Athletics - Baseball","Active",null,null,null,null,null,null,null,null,null,null,null,"SC6719","SC6719||1651","1651","Construction in Progress (Non-Workday Projects)",null,"All"]
[null,null,null,null,null,null,"AC00663","ACERC Instrument","AC00663-ACERC Instrument","Activity","FD03","Active","2025-01-02T03:05:30.078",null,null,null,null,null,null,null,null,"13200","LSDO Unallocated Expense","13200-LSDO Unallocated Expense",null,null,null,"AS096148278","Vianey Villamizar Gonzalez (096148278) CMS - Dean's Office Computational, Mathematical, & Phsical","AS096148278-Vianey Villamizar Gonzalez (096148278) CMS - Dean's Office Computational, Mathematical, & Phsical","Active",null,null,null,null,null,null,null,null,null,null,null,"SC6719","SC6719||1700","1700","Accumulated Depreciation",null,"JE_PPE|JE_Override"]
[null,null,null,null,null,null,"AC00664","ACERC Equipment","AC00664-ACERC Equipment","Activity","FD03","Active","2025-01-02T03:05:30.078",null,null,null,null,null,null,null,null,"13201","LSDO Facility/Land Improvement","13201-LSDO Facility/Land Improvement",null,null,null,"AS096234010","Eric Smith (096234010) OIT Portfolio - Business, Finance, & HR","AS096234010-Eric Smith (096234010) OIT Portfolio - Business, Finance, & HR","Active",null,null,null,null,null,null,null,null,null,null,null,"SC6719","SC6719||6700","6700","Physical Facilities","Primary","All"]
[null,null,null,null,null,null,"AC00665","ACERC Software Supp","AC00665-ACERC Software Supp","Activity","FD03","Active","2025-01-02T03:05:30.078",null,null,null,null,null,null,null,null,"13202","LSDO Central UT Science Fair","13202-LSDO Central UT Science Fair",null,null,null,"AS096289421","Mike Hill (096289421) Lee Library Administration - Research & Learning","AS096289421-Mike Hill (096289421) Lee Library Administration - Research & Learning","Active",null,null,null,null,null,null,null,null,null,null,null,"SC6719","SC6719||8000","8000","Depreciation",null,"JE_PPE|JE_Override"]
[null,null,null,null,null,null,"AC00666","Combustion Lab Publ","AC00666-Combustion Lab Publ","Activity","FD03","Active","2025-01-02T03:05:30.078",null,null,null,null,null,null,null,null,"13204","LSDO 3-Minute Thesis Competiti","13204-LSDO 3-Minute Thesis Competiti",null,null,null,"AS096380687","Shannon Brodie (096380687) Wyview Park/Riviera","AS096380687-Shannon Brodie (096380687) Wyview Park/Riviera","Active",null,null,null,null,null,null,null,null,null,null,null,"SC6720","SC6720||1400","1400","Prepaid Expenses",null,"All"]
[null,null,null,null,null,null,"AC00667","ACERC Indirect Cost Share","AC00667-ACERC Indirect Cost Share","Activity","FD03","Active","2025-01-02T03:05:30.078",null,null,null,null,null,null,null,null,"13205","LSDO LFSC IT Advisory Committe","13205-LSDO LFSC IT Advisory Committe",null,null,null,"AS096543172","Mark Davies (096543172) Dining Administration","AS096543172-Mark Davies (096543172) Dining Administration","Active",null,null,null,null,null,null,null,null,null,null,null,"SC6720","SC6720||1650","1650","Construction in Progress",null,"JE_PPE|JE_Override"]
[null,null,null,null,null,null,"AC00668","Multi Burner Optimiz","AC00668-Multi Burner Optimiz","Activity","FD03","Active","2025-01-02T03:05:30.078",null,null,null,null,null,null,null,null,"13214","LSDO Equity-Ut Coop Assoc","13214-LSDO Equity-Ut Coop Assoc",null,null,null,"AS097060501","Wendy Birmingham (097060501) Academic VP Office, Deans","AS097060501-Wendy Birmingham (097060501) Academic VP Office, Deans","Active",null,null,null,null,null,null,null,null,null,null,null,"SC6720","SC6720||1651","1651","Construction in Progress (Non-Workday Projects)",null,"All"]
[null,null,null,null,null,null,"AC00669","Civil Engr Compt Lab","AC00669-Civil Engr Compt Lab","Activity","FD01","Active","2025-01-02T03:05:30.078",null,null,null,null,null,null,null,null,"13215","LSDO Equity-Valley Wide Cooper","13215-LSDO Equity-Valley Wide Cooper",null,null,null,"AS097130319","Stephen Bay (097130319) Humanities - Dean's Office","AS097130319-Stephen Bay (097130319) Humanities - Dean's Office","Active",null,null,null,null,null,null,null,null,null,null,null,"SC6720","SC6720||6700","6700","Physical Facilities","Primary","All"]
[null,null,null,null,null,null,"AC00670","Ecgl","AC00670-Ecgl","Activity","FD01","Active","2025-01-02T03:05:30.078",null,null,null,null,null,null,null,null,"13216","LSDO Equity-Mountainland Apple","13216-LSDO Equity-Mountainland Apple",null,null,null,"AS097295280","Josh Stanfield (097295280) Risk Management & Safety - Environmental Health & Safety","AS097295280-Josh Stanfield (097295280) Risk Management & Safety - Environmental Health & Safety","Active",null,null,null,null,null,null,null,null,null,null,null,"SC6721","SC6721||1400","1400","Prepaid Expenses",null,"All"]
[null,null,null,null,null,null,"AC00671","Civil Engineering","AC00671-Civil Engineering","Activity","FD01","Active","2025-01-02T03:05:30.078",null,null,null,null,null,null,null,null,"13217","LSDO Equity-Raft River Electri","13217-LSDO Equity-Raft River Electri",null,null,null,"AS097305350","Sergei Burov (097305350) CE Software Development","AS097305350-Sergei Burov (097305350) CE Software Development","Active",null,null,null,null,null,null,null,null,null,null,null,"SC6721","SC6721||1620","1620","Furnishings and Fixtures",null,"JE_PPE|JE_Override"]
[null,null,null,null,null,null,"AC00672","American Soc of Civil Engineer","AC00672-American Soc of Civil Engineer","Activity","FD02","Active","2025-01-02T03:05:30.078",null,null,null,null,null,null,null,null,"13218","LSDO Equity-Western Dairy","13218-LSDO Equity-Western Dairy",null,null,null,"AS097734838","Alexandre Campos (097734838) PF Building Operations","AS097734838-Alexandre Campos (097734838) PF Building Operations","Active",null,null,null,null,null,null,null,null,null,null,null,"SC6721","SC6721||1650","1650","Construction in Progress",null,"JE_PPE|JE_Override"]
[null,null,null,null,null,null,"AC00673","The Earthquake Engrg Rsch Inst","AC00673-The Earthquake Engrg Rsch Inst","Activity","FD02","Active","2025-01-02T03:05:30.078",null,null,null,null,null,null,null,null,"13220","LSDO Bench to Bedside Event","13220-LSDO Bench to Bedside Event",null,null,null,"AS097770556","Matt Curtis (097770556) CE Marketing & Outreach","AS097770556-Matt Curtis (097770556) CE Marketing & Outreach","Active",null,null,null,null,null,null,null,null,null,null,null,"SC6721","SC6721||1651","1651","Construction in Progress (Non-Workday Projects)",null,"All"]
[null,null,null,null,null,null,"AC00674","BYU AISC Steel Bridge","AC00674-BYU AISC Steel Bridge","Activity","FD02","Active","2025-01-02T03:05:30.078",null,null,null,null,null,null,null,null,"13221","LSDO \"Super\" Internship-Fellow","13221-LSDO \"Super\" Internship-Fellow",null,null,null,"AS097944718","Jon Hardy (097944718) Treasury Services","AS097944718-Jon Hardy (097944718) Treasury Services","Active",null,null,null,null,null,null,null,null,null,null,null,"SC6721","SC6721||1700","1700","Accumulated Depreciation",null,"JE_PPE|JE_Override"]
[null,null,null,null,null,null,"AC00675","Women in Civil Engineering","AC00675-Women in Civil Engineering","Activity","FD02","Active","2025-01-02T03:05:30.078",null,null,null,null,null,null,null,null,"13222","LSDO Horse Barn (LSRL)","13222-LSDO Horse Barn (LSRL)",null,null,null,"AS097983968","McKenzie Rees (097983968) MSB - Dean's Office, Marriott School of Business","AS097983968-McKenzie Rees (097983968) MSB - Dean's Office, Marriott School of Business","Active",null,null,null,null,null,null,null,null,null,null,null,"SC6721","SC6721||6700","6700","Physical Facilities","Primary","All"]
[null,null,null,null,null,null,"AC00676","Women in Construction","AC00676-Women in Construction","Activity","FD02","Active","2025-01-02T03:05:30.078",null,null,null,null,null,null,null,null,"13223","LSDO Sponsored Research Recogn","13223-LSDO Sponsored Research Recogn",null,null,null,"AS098317976","Anton Bowden (098317976) College of Engineering - Dean's Office","AS098317976-Anton Bowden (098317976) College of Engineering - Dean's Office","Active",null,null,null,null,null,null,null,null,null,null,null,"SC6721","SC6721||8000","8000","Depreciation",null,"JE_PPE|JE_Override"]
[null,null,null,null,null,null,"AC00677","BYU AREMA Student Chapter","AC00677-BYU AREMA Student Chapter","Activity","FD02","Active","2025-01-02T03:05:30.078",null,null,null,null,null,null,null,null,"13224","LSDO BioUtah/BioHive","13224-LSDO BioUtah/BioHive",null,null,null,"AS098330149","David Morris (098330149) University Tax Office","AS098330149-David Morris (098330149) University Tax Office","Active",null,null,null,null,null,null,null,null,null,null,null,"SC6722","SC6722||1400","1400","Prepaid Expenses",null,"All"]
[null,null,null,null,null,null,"AC00678","Tau Beta Pi","AC00678-Tau Beta Pi","Activity","FD02","Active","2025-01-02T03:05:30.078",null,null,null,null,null,null,null,null,"13225","LSDO IGEM","13225-LSDO IGEM",null,null,null,"AS098407041","Pania Sagapolutele (098407041) CE FSY Travel","AS098407041-Pania Sagapolutele (098407041) CE FSY Travel","Active",null,null,null,null,null,null,null,null,null,null,null,"SC6722","SC6722||6700","6700","Physical Facilities","Primary","All"]
[null,null,null,null,null,null,"AC00679","BYU Ite Student Chap","AC00679-BYU Ite Student Chap","Activity","FD02","Active","2025-01-02T03:05:30.078",null,null,null,null,null,null,null,null,"13226","LSDO Dean/Assoc. Dean Fac. Out","13226-LSDO Dean/Assoc. Dean Fac. Out",null,null,null,"AS098504004","Taylor Wells (098504004) MSB - Dean's Office, Marriott School of Business","AS098504004-Taylor Wells (098504004) MSB - Dean's Office, Marriott School of Business","Active",null,null,null,null,null,null,null,null,null,null,null,"SC6723","SC6723||1400","1400","Prepaid Expenses",null,"All"]
[null,null,null,null,null,null,"AC00680","Environmental Model Rsch Lab","AC00680-Environmental Model Rsch Lab","Activity","FD03","Active","2025-01-02T03:05:30.078",null,null,null,null,null,null,null,null,"13227","LSDO Faculty & Staff Developme","13227-LSDO Faculty & Staff Developme",null,null,null,"AS098635396","David Robertson (098635396) CE Software Development","AS098635396-David Robertson (098635396) CE Software Development","Active",null,null,null,null,null,null,null,null,null,null,null,"SC6723","SC6723||6700","6700","Physical Facilities","Primary","All"]
[null,null,null,null,null,null,"AC00681","CEEn Schlrshp Soc Symposium","AC00681-CEEn Schlrshp Soc Symposium","Activity","FD03","Active","2025-01-02T03:05:30.078",null,null,null,null,null,null,null,null,"13228","LSDO STEM-Y-Faculty Institute","13228-LSDO STEM-Y-Faculty Institute",null,null,null,"AS098686472","Charles Tuua (098686472) MTC Dining","AS098686472-Charles Tuua (098686472) MTC Dining","Active",null,null,null,null,null,null,null,null,null,null,null,"SC6724","SC6724||1400","1400","Prepaid Expenses",null,"All"]
[null,null,null,null,null,null,"AC00682","Vehicle Delay Estimation","AC00682-Vehicle Delay Estimation","Activity","FD03","Active","2025-01-02T03:05:30.078",null,null,null,null,null,null,null,null,"13229","LSDO Faculty Buyback Support","13229-LSDO Faculty Buyback Support",null,null,null,"AS098989264","Brian Santiago (098989264) Athletics - Administration","AS098989264-Brian Santiago (098989264) Athletics - Administration","Active",null,null,null,null,null,null,null,null,null,null,null,"SC6724","SC6724||6700","6700","Physical Facilities","Primary","All"]
[null,null,null,null,null,null,"AC00683","Applied Optimization","AC00683-Applied Optimization","Activity","FD03","Active","2025-01-02T03:05:30.078",null,null,null,null,null,null,null,null,"13230","LSDO BELONGING-First Generatio","13230-LSDO BELONGING-First Generatio",null,null,null,"AS099054981","Marin Barney (099054981) Marketing and Production - Marketing Services","AS099054981-Marin Barney (099054981) Marketing and Production - Marketing Services","Active",null,null,null,null,null,null,null,null,null,null,null,"SC6725","SC6725||1400","1400","Prepaid Expenses",null,"All"]
[null,null,null,null,null,null,"AC00684","UDOT Residual","AC00684-UDOT Residual","Activity","FD03","Active","2025-01-02T03:05:30.078",null,null,null,null,null,null,null,null,"13231","LSDO Interdisciplinary Resrch","13231-LSDO Interdisciplinary Resrch",null,null,null,"AS099166466","Lauryn Wilde (099166466) Humanities WordCruncher Office","AS099166466-Lauryn Wilde (099166466) Humanities WordCruncher Office","Active",null,null,null,null,null,null,null,null,null,null,null,"SC6725","SC6725||6700","6700","Physical Facilities","Primary","All"]
[null,null,null,null,null,null,"AC00685","J Nelson Grad Mentoring Grant","AC00685-J Nelson Grad Mentoring Grant","Activity","FD03","Active","2025-01-02T03:05:30.078",null,null,null,null,null,null,null,null,"13232","LSDO Dept Chair Leadership Dev","13232-LSDO Dept Chair Leadership Dev",null,null,null,"AS099403160","Blaine Winters (099403160) Academic VP Office, Deans","AS099403160-Blaine Winters (099403160) Academic VP Office, Deans","Active",null,null,null,null,null,null,null,null,null,null,null,"SC6726","SC6726||1400","1400","Prepaid Expenses",null,"All"]
[null,null,null,null,null,null,"AC00686","Civil Engr Royalties","AC00686-Civil Engr Royalties","Activity","FD03","Active","2025-01-02T03:05:30.078",null,null,null,null,null,null,null,null,"13233","LSDO COMMS-Sesquicentennial","13233-LSDO COMMS-Sesquicentennial",null,null,null,"AS099746864","Garrett Boden (099746864) Lee Library Administration - Research & Learning","AS099746864-Garrett Boden (099746864) Lee Library Administration - Research & Learning","Active",null,null,null,null,null,null,null,null,null,null,null,"SC6726","SC6726||6700","6700","Physical Facilities","Primary","All"]
[null,null,null,null,null,null,"AC00687","Civil Eng Equip Repl","AC00687-Civil Eng Equip Repl","Activity","FD03","Active","2025-01-02T03:05:30.078",null,null,null,null,null,null,null,null,"13234","LSDO Equity-Intermountain Farm","13234-LSDO Equity-Intermountain Farm",null,null,null,"AS099967397","Tanner Eastmond (099967397) FHSS - Dean's Office","AS099967397-Tanner Eastmond (099967397) FHSS - Dean's Office","Active",null,null,null,null,null,null,null,null,null,null,null,"SC6727","SC6727||1400","1400","Prepaid Expenses",null,"All"]
[null,null,null,null,null,null,"AC00689","EXPERIENTIAL LEARNING CEE","AC00689-EXPERIENTIAL LEARNING CEE","Activity","FD03","Active","2025-01-02T03:05:30.078",null,null,null,null,null,null,null,null,"13235","LSDO Stockroom-Inventory to be","13235-LSDO Stockroom-Inventory to be",null,null,null,"AS100036881","David Neilsen (100036881) CMS - Dean's Office Computational, Mathematical, & Phsical","AS100036881-David Neilsen (100036881) CMS - Dean's Office Computational, Mathematical, & Phsical","Active",null,null,null,null,null,null,null,null,null,null,null,"SC6727","SC6727||6700","6700","Physical Facilities","Primary","All"]
[null,null,null,null,null,null,"AC00690","Mentoring Grant - S Guthrie","AC00690-Mentoring Grant - S Guthrie","Activity","FD03","Active","2025-01-02T03:05:30.078",null,null,null,null,null,null,null,null,"13236","LSDO Sci Spt Shop-Shop Tools","13236-LSDO Sci Spt Shop-Shop Tools",null,null,null,"AS100411981","Sarah Nelson (100411981) Alumni Aspen Grove","AS100411981-Sarah Nelson (100411981) Alumni Aspen Grove","Active",null,null,null,null,null,null,null,null,null,null,null,"SC6728","SC6728||1400","1400","Prepaid Expenses",null,"All"]
[null,null,null,null,null,null,"AC00691","Mentoring Grant J. Nelson","AC00691-Mentoring Grant J. Nelson","Activity","FD03","Active","2025-01-02T03:05:30.078",null,null,null,null,null,null,null,null,"13237","LSDO Sci Spt Shop-Shop Repairs","13237-LSDO Sci Spt Shop-Shop Repairs",null,null,null,"AS100537744","Lia Saunders (100537744) Cougareat","AS100537744-Lia Saunders (100537744) Cougareat","Active",null,null,null,null,null,null,null,null,null,null,null,"SC6728","SC6728||6700","6700","Physical Facilities","Primary","All"]
[null,null,null,null,null,null,"AC00692","Mentoring Grant - Kyle Rollins","AC00692-Mentoring Grant - Kyle Rollins","Activity","FD03","Active","2025-01-02T03:05:30.078",null,null,null,null,null,null,null,null,"13238","LSDO Stockroom-Loan Items","13238-LSDO Stockroom-Loan Items",null,null,null,"AS100575024","Lincoln Blumell (100575024) Religious Educcation - Dean's Office","AS100575024-Lincoln Blumell (100575024) Religious Educcation - Dean's Office","Active",null,null,null,null,null,null,null,null,null,null,null,"SC6729","SC6729||1400","1400","Prepaid Expenses",null,"All"]
[null,null,null,null,null,null,"AC00693","Faculty Mentoring 2","AC00693-Faculty Mentoring 2","Activity","FD03","Active","2025-01-02T03:05:30.078",null,null,null,null,null,null,null,null,"13239","LSDO Stockroom-Sell Items","13239-LSDO Stockroom-Sell Items",null,null,null,"AS100660268","Dustin Bruening (100660268) Life Sciences - Dean's Office","AS100660268-Dustin Bruening (100660268) Life Sciences - Dean's Office","Active",null,null,null,null,null,null,null,null,null,null,null,"SC6729","SC6729||1620","1620","Furnishings and Fixtures",null,"JE_PPE|JE_Override"]
[null,null,null,null,null,null,"AC00694","Faculty Mentoring 3","AC00694-Faculty Mentoring 3","Activity","FD03","Active","2025-01-02T03:05:30.078",null,null,null,null,null,null,null,null,"13240","LSDO Stockroom-Sell Items-\"R\"","13240-LSDO Stockroom-Sell Items-\"R\"",null,null,null,"AS100851493","Chooi Low (100851493) Culinary Support Center","AS100851493-Chooi Low (100851493) Culinary Support Center","Active",null,null,null,null,null,null,null,null,null,null,null,"SC6729","SC6729||1650","1650","Construction in Progress",null,"JE_PPE|JE_Override"]
[null,null,null,null,null,null,"AC00695","Faculty Mentoring 4","AC00695-Faculty Mentoring 4","Activity","FD03","Active","2025-01-02T03:05:30.078",null,null,null,null,null,null,null,null,"13250","LSDO ADVISE-Career Research","13250-LSDO ADVISE-Career Research",null,null,null,"AS101152079","Charles White (101152079) PF Paint & Sign Shop","AS101152079-Charles White (101152079) PF Paint & Sign Shop","Active",null,null,null,null,null,null,null,null,null,null,null,"SC6729","SC6729||1651","1651","Construction in Progress (Non-Workday Projects)",null,"All"]
[null,null,null,null,null,null,"AC00696","Construction Management","AC00696-Construction Management","Activity","FD01","Active","2025-01-02T03:05:30.078",null,null,null,null,null,null,null,null,"13251","LSDO ADVISE-ETS Biology Exams","13251-LSDO ADVISE-ETS Biology Exams",null,null,null,"AS101341694","Alyssa Erickson (101341694) CE Online Learning","AS101341694-Alyssa Erickson (101341694) CE Online Learning","Active",null,null,null,null,null,null,null,null,null,null,null,"SC6729","SC6729||1700","1700","Accumulated Depreciation",null,"JE_PPE|JE_Override"]
[null,null,null,null,null,null,"AC00697","Const. Managemnt Club","AC00697-Const. Managemnt Club","Activity","FD02","Active","2025-01-02T03:05:30.078",null,null,null,null,null,null,null,null,"13252","LSDO ADVISE-Career Services","13252-LSDO ADVISE-Career Services",null,null,null,"AS101365331","Kent Minson (101365331) Retail Services - Course Materials","AS101365331-Kent Minson (101365331) Retail Services - Course Materials","Active",null,null,null,null,null,null,null,null,null,null,null,"SC6729","SC6729||6700","6700","Physical Facilities","Primary","All"]
[null,null,null,null,null,null,"AC00698","Construction Stores","AC00698-Construction Stores","Activity","FD02","Active","2025-01-02T03:05:30.078",null,null,null,null,null,null,null,null,"13253","LSDO ADVISE-Communication","13253-LSDO ADVISE-Communication",null,null,null,"AS101541513","Adam Stout (101541513) OIT Portfolio - Data","AS101541513-Adam Stout (101541513) OIT Portfolio - Data","Active",null,null,null,null,null,null,null,null,null,null,null,"SC6729","SC6729||8000","8000","Depreciation",null,"JE_PPE|JE_Override"]
[null,null,null,null,null,null,"AC00699","Power/Energy","AC00699-Power/Energy","Activity","FD02","Active","2025-01-02T03:05:30.078",null,null,null,null,null,null,null,null,"13254","LSDO ADVISE-Development","13254-LSDO ADVISE-Development",null,null,null,"AS102016148","Kimberly Hao (102016148) Lee Library Administration - Collections Services","AS102016148-Kimberly Hao (102016148) Lee Library Administration - Collections Services","Active",null,null,null,null,null,null,null,null,null,null,null,"SC6730","SC6730||1400","1400","Prepaid Expenses",null,"All"]
[null,null,null,null,null,null,"AC00700","Plastics/Upholstery Stores","AC00700-Plastics/Upholstery Stores","Activity","FD02","Active","2025-01-02T03:05:30.078",null,null,null,null,null,null,null,null,"13255","LSDO ADVISE-Graduation","13255-LSDO ADVISE-Graduation",null,null,null,"AS102434188","Clay Aucoin (102434188) Athletics - Football","AS102434188-Clay Aucoin (102434188) Athletics - Football","Active",null,null,null,null,null,null,null,null,null,null,null,"SC6730","SC6730||1620","1620","Furnishings and Fixtures",null,"JE_PPE|JE_Override"]
[null,null,null,null,null,null,"AC00701","Architecture Club","AC00701-Architecture Club","Activity","FD02","Active","2025-01-02T03:05:30.078",null,null,null,null,null,null,null,null,"13256","LSDO ADVISE-Internship/Ment","13256-LSDO ADVISE-Internship/Ment",null,null,null,"AS102715566","Jeff Goeders (102715566) College of Engineering - Dean's Office","AS102715566-Jeff Goeders (102715566) College of Engineering - Dean's Office","Active",null,null,null,null,null,null,null,null,null,null,null,"SC6730","SC6730||1650","1650","Construction in Progress",null,"JE_PPE|JE_Override"]
[null,null,null,null,null,null,"AC00702","EXPERIENTIAL LEARNING CFM","AC00702-EXPERIENTIAL LEARNING CFM","Activity","FD03","Active","2025-01-02T03:05:30.078",null,null,null,null,null,null,null,null,"13257","LSDO ADVISE-New Student Orien","13257-LSDO ADVISE-New Student Orien",null,null,null,"AS103108258","Mike Moser (103108258) Athletics - Administration","AS103108258-Mike Moser (103108258) Athletics - Administration","Active",null,null,null,null,null,null,null,null,null,null,null,"SC6730","SC6730||1651","1651","Construction in Progress (Non-Workday Projects)",null,"All"]
[null,null,null,null,null,null,"AC00703","Facilities and Property Mgmt","AC00703-Facilities and Property Mgmt","Activity","FD01","Active","2025-01-02T03:05:30.078",null,null,null,null,null,null,null,null,"13258","LSDO ADVISE-Office Operations","13258-LSDO ADVISE-Office Operations",null,null,null,"AS103158501","Bruce Bailey (103158501) Life Sciences - Dean's Office","AS103158501-Bruce Bailey (103158501) Life Sciences - Dean's Office","Active",null,null,null,null,null,null,null,null,null,null,null,"SC6730","SC6730||1700","1700","Accumulated Depreciation",null,"JE_PPE|JE_Override"]
[null,null,null,null,null,null,"AC00704","Campbell, Jeffery Research","AC00704-Campbell, Jeffery Research","Activity","FD01","Active","2025-01-02T03:05:30.078",null,null,null,null,null,null,null,null,"13259","LSDO ADVISE-Promotional Mate","13259-LSDO ADVISE-Promotional Mate",null,null,null,"AS103188899","Matt Finlayson (103188899) OIT Resource - AV Events","AS103188899-Matt Finlayson (103188899) OIT Resource - AV Events","Active",null,null,null,null,null,null,null,null,null,null,null,"SC6730","SC6730||6700","6700","Physical Facilities","Primary","All"]
[null,null,null,null,null,null,"AC00705","BYU IFMA","AC00705-BYU IFMA","Activity","FD02","Active","2025-01-02T03:05:30.078",null,null,null,null,null,null,null,null,"13260","LSDO ADVISE-Scholarships","13260-LSDO ADVISE-Scholarships",null,null,null,"AS103862017","Nathanial Brown (103862017) OIT Resource - CES Network Center (CNC) - Installation","AS103862017-Nathanial Brown (103862017) OIT Resource - CES Network Center (CNC) - Installation","Active",null,null,null,null,null,null,null,null,null,null,null,"SC6730","SC6730||8000","8000","Depreciation",null,"JE_PPE|JE_Override"]
[null,null,null,null,null,null,"AC00706","Center for Remote Sensing","AC00706-Center for Remote Sensing","Activity","FD01","Active","2025-01-02T03:05:30.078",null,null,null,null,null,null,null,null,"13261","LSDO ADVISE-Und Student Counc","13261-LSDO ADVISE-Und Student Counc",null,null,null,"AS103926048","Linda Chahal (103926048) PF Business Support and Compliance","AS103926048-Linda Chahal (103926048) PF Business Support and Compliance","Active",null,null,null,null,null,null,null,null,null,null,null,"SC6731","SC6731||1300","1300","Inventory","Primary","All"]
[null,null,null,null,null,null,"AC00707","Elec Engr Compt Lab","AC00707-Elec Engr Compt Lab","Activity","FD01","Active","2025-01-02T03:05:30.078",null,null,null,null,null,null,null,null,"13262","LSDO ADVISE-LFSC Consultant","13262-LSDO ADVISE-LFSC Consultant",null,null,null,"AS104186036","Huistean Kay (104186036) Food to Go Services","AS104186036-Huistean Kay (104186036) Food to Go Services","Active",null,null,null,null,null,null,null,null,null,null,null,"SC6799","SC6799||1400","1400","Prepaid Expenses",null,"All"]
[null,null,null,null,null,null,"AC00708","College - UAV","AC00708-College - UAV","Activity","FD01","Active","2025-01-02T03:05:30.078",null,null,null,null,null,null,null,null,"13263","LSDO ADVISE-LFSCI 101","13263-LSDO ADVISE-LFSCI 101",null,null,null,"AS104461069","Vince Stroud (104461069) Athletics - Administration","AS104461069-Vince Stroud (104461069) Athletics - Administration","Active",null,null,null,null,null,null,null,null,null,null,null,"SC6799","SC6799||1650","1650","Construction in Progress",null,"JE_PPE|JE_Override"]
[null,null,null,null,null,null,"AC00709","Electrical Engineering","AC00709-Electrical Engineering","Activity","FD01","Active","2025-01-02T03:05:30.078",null,null,null,null,null,null,null,null,"13264","LSDO ADVISE-Learning Center","13264-LSDO ADVISE-Learning Center",null,null,null,"AS104510559","Byron Noel (104510559) Human Resource Business Partners","AS104510559-Byron Noel (104510559) Human Resource Business Partners","Active",null,null,null,null,null,null,null,null,null,null,null,"SC6799","SC6799||1651","1651","Construction in Progress (Non-Workday Projects)",null,"All"]
[null,null,null,null,null,null,"AC00710","MERS Laboratory","AC00710-MERS Laboratory","Activity","FD01","Active","2025-01-02T03:05:30.078",null,null,null,null,null,null,null,null,"13265","LSDO Choose to Give","13265-LSDO Choose to Give",null,null,null,"AS104822464","Candilyn Newell (104822464) Career Services - Social Sciences & Arts","AS104822464-Candilyn Newell (104822464) Career Services - Social Sciences & Arts","Active",null,null,null,null,null,null,null,null,null,null,null,"SC6799","SC6799||6700","6700","Physical Facilities","Primary","All"]
[null,null,null,null,null,null,"AC00711","EUCLID","AC00711-EUCLID","Activity","FD01","Active","2025-01-02T03:05:30.078",null,null,null,null,null,null,null,null,"13270","LSDO LSIT-Service Desk","13270-LSDO LSIT-Service Desk",null,null,null,"AS105110905","Joe Belnap (105110905) OIT Resource - Application Engineering","AS105110905-Joe Belnap (105110905) OIT Resource - Application Engineering","Active",null,null,null,null,null,null,null,null,null,null,null,"SC6901","SC6901||1400","1400","Prepaid Expenses",null,"All"]
[null,null,null,null,null,null,"AC00712","MAGICC Laboratory","AC00712-MAGICC Laboratory","Activity","FD01","Active","2025-01-02T03:05:30.078",null,null,null,null,null,null,null,null,"13271","LSDO LSIT-Engineering","13271-LSDO LSIT-Engineering",null,null,null,"AS105157189","Catherine Green (105157189) Catering Services","AS105157189-Catherine Green (105157189) Catering Services","Active",null,null,null,null,null,null,null,null,null,null,null,"SC6901","SC6901||1625","1625","Capital Equipment",null,"JE_PPE|JE_Override"]
[null,null,null,null,null,null,"AC00713","Auto Pilot Tech Transfer","AC00713-Auto Pilot Tech Transfer","Activity","FD01","Active","2025-01-02T03:05:30.078",null,null,null,null,null,null,null,null,"13272","LSDO LSIT-Development","13272-LSDO LSIT-Development",null,null,null,"AS105381758","Jon Ostenson (105381758) Humanities - Dean's Office","AS105381758-Jon Ostenson (105381758) Humanities - Dean's Office","Active",null,null,null,null,null,null,null,null,null,null,null,"SC6901","SC6901||1650","1650","Construction in Progress",null,"JE_PPE|JE_Override"]
[null,null,null,null,null,null,"AC00714","Cleanroom Consumables","AC00714-Cleanroom Consumables","Activity","FD01","Active","2025-01-02T03:05:30.078",null,null,null,null,null,null,null,null,"13273","LSDO LSIT-Design","13273-LSDO LSIT-Design",null,null,null,"AS105603909","Karl Diether (105603909) MSB - Dean's Office, Marriott School of Business","AS105603909-Karl Diether (105603909) MSB - Dean's Office, Marriott School of Business","Active",null,null,null,null,null,null,null,null,null,null,null,"SC6901","SC6901||1651","1651","Construction in Progress (Non-Workday Projects)",null,"All"]
[null,null,null,null,null,null,"AC00715","Soc of Hispanic Prof Eng","AC00715-Soc of Hispanic Prof Eng","Activity","FD02","Active","2025-01-02T03:05:30.078",null,null,null,null,null,null,null,null,"13275","LSDO NEURO-Grad Students-Maste","13275-LSDO NEURO-Grad Students-Maste",null,null,null,"AS105622997","Roger Harrison (105622997) CMS - Dean's Office Computational, Mathematical, & Phsical","AS105622997-Roger Harrison (105622997) CMS - Dean's Office Computational, Mathematical, & Phsical","Active",null,null,null,null,null,null,null,null,null,null,null,"SC6901","SC6901||1700","1700","Accumulated Depreciation",null,"JE_PPE|JE_Override"]
[null,null,null,null,null,null,"AC00716","Eta Kappa Nu","AC00716-Eta Kappa Nu","Activity","FD02","Active","2025-01-02T03:05:30.078",null,null,null,null,null,null,null,null,"13276","LSDO NEURO-Graduate Students-D","13276-LSDO NEURO-Graduate Students-D",null,null,null,"AS106135949","Mike Robinson (106135949) Academic VP Office, Deans","AS106135949-Mike Robinson (106135949) Academic VP Office, Deans","Active",null,null,null,null,null,null,null,null,null,null,null,"SC6901","SC6901||6900","6900","Equipment, Software, Library","Primary","All"]
[null,null,null,null,null,null,"AC00717","IEEE Club","AC00717-IEEE Club","Activity","FD02","Active","2025-01-02T03:05:30.078",null,null,null,null,null,null,null,null,"13277","LSDO NEURO-Mentored Resch Fac","13277-LSDO NEURO-Mentored Resch Fac",null,null,null,"AS106247348","Charity Wyatt (106247348) Academic VP Office, Deans","AS106247348-Charity Wyatt (106247348) Academic VP Office, Deans","Active",null,null,null,null,null,null,null,null,null,null,null,"SC6901","SC6901||8000","8000","Depreciation",null,"JE_PPE|JE_Override"]
[null,null,null,null,null,null,"AC00718","Elect Engr Stores","AC00718-Elect Engr Stores","Activity","FD02","Active","2025-01-02T03:05:30.078",null,null,null,null,null,null,null,null,"13278","LSDO Michael Stark","13278-LSDO Michael Stark",null,null,null,"AS106323990","Craig Youngs (106323990) OIT Leadership - CES Security Mgmt","AS106323990-Craig Youngs (106323990) OIT Leadership - CES Security Mgmt","Active",null,null,null,null,null,null,null,null,null,null,null,"SC6902","SC6902||1400","1400","Prepaid Expenses",null,"All"]
[null,null,null,null,null,null,"AC00719","Cleanroom","AC00719-Cleanroom","Activity","FD02","Active","2025-01-02T03:05:30.078",null,null,null,null,null,null,null,null,"13279","LSDO Benjamin Crookston","13279-LSDO Benjamin Crookston",null,null,null,"AS106463112","Kurt Sandholtz (106463112) MSB - Dean's Office, Marriott School of Business","AS106463112-Kurt Sandholtz (106463112) MSB - Dean's Office, Marriott School of Business","Active",null,null,null,null,null,null,null,null,null,null,null,"SC6902","SC6902||1625","1625","Capital Equipment",null,"JE_PPE|JE_Override"]
[null,null,null,null,null,null,"AC00720","BYU Spacecraft Club","AC00720-BYU Spacecraft Club","Activity","FD02","Active","2025-01-02T03:05:30.078",null,null,null,null,null,null,null,null,"13280","LSDO Brian Johnson","13280-LSDO Brian Johnson",null,null,null,"AS106484257","Robert Johns (106484257) CE FSY Central","AS106484257-Robert Johns (106484257) CE FSY Central","Active",null,null,null,null,null,null,null,null,null,null,null,"SC6902","SC6902||1650","1650","Construction in Progress",null,"JE_PPE|JE_Override"]
[null,null,null,null,null,null,"AC00721","Local Inspir for Future Engin","AC00721-Local Inspir for Future Engin","Activity","FD02","Active","2025-01-02T03:05:30.078",null,null,null,null,null,null,null,null,"13281","LSDO Loreen Flinders","13281-LSDO Loreen Flinders",null,null,null,"AS106494435","Brent Feland (106494435) Life Sciences - Dean's Office","AS106494435-Brent Feland (106494435) Life Sciences - Dean's Office","Active",null,null,null,null,null,null,null,null,null,null,null,"SC6902","SC6902||1651","1651","Construction in Progress (Non-Workday Projects)",null,"All"]
[null,null,null,null,null,null,"AC00722","Briarwood Web Develpoment","AC00722-Briarwood Web Develpoment","Activity","FD02","Active","2025-01-02T03:05:30.078",null,null,null,null,null,null,null,null,"13282","LSDO Josh Leavitt","13282-LSDO Josh Leavitt",null,null,null,"AS106775394","Michael Davie (106775394) Athletics - Olympic Sport Medicine","AS106775394-Michael Davie (106775394) Athletics - Olympic Sport Medicine","Active",null,null,null,null,null,null,null,null,null,null,null,"SC6902","SC6902||1700","1700","Accumulated Depreciation",null,"JE_PPE|JE_Override"]
[null,null,null,null,null,null,"AC00723","CERS Operations","AC00723-CERS Operations","Activity","FD03","Active","2025-01-02T03:05:30.078",null,null,null,null,null,null,null,null,"13283","LSDO Susan Fullmer","13283-LSDO Susan Fullmer",null,null,null,"AS107037544","Melissa Gibbs (107037544) Fine Arts & Communications - Dean's Office","AS107037544-Melissa Gibbs (107037544) Fine Arts & Communications - Dean's Office","Active",null,null,null,null,null,null,null,null,null,null,null,"SC6902","SC6902||6900","6900","Equipment, Software, Library","Primary","All"]
[null,null,null,null,null,null,"AC00724","Coray Professorship DG Long","AC00724-Coray Professorship DG Long","Activity","FD03","Active","2025-01-02T03:05:30.078",null,null,null,null,null,null,null,null,"13284","LSDO Tonya Fischio","13284-LSDO Tonya Fischio",null,null,null,"AS107316947","Sarah Hall (107316947) Life Sciences - Dean's Office","AS107316947-Sarah Hall (107316947) Life Sciences - Dean's Office","Active",null,null,null,null,null,null,null,null,null,null,null,"SC6902","SC6902||8000","8000","Depreciation",null,"JE_PPE|JE_Override"]
[null,null,null,null,null,null,"AC00725","Elec Eng Equip Repl","AC00725-Elec Eng Equip Repl","Activity","FD03","Active","2025-01-02T03:05:30.078",null,null,null,null,null,null,null,null,"13285","LSDO Michael Barnes","13285-LSDO Michael Barnes",null,null,null,"AS107371388","Lilibeth Blas (107371388) Cannon Center","AS107371388-Lilibeth Blas (107371388) Cannon Center","Active",null,null,null,null,null,null,null,null,null,null,null,"SC6903","SC6903||1400","1400","Prepaid Expenses",null,"All"]
[null,null,null,null,null,null,"AC00726","Sigproc Royalty","AC00726-Sigproc Royalty","Activity","FD03","Active","2025-01-02T03:05:30.078",null,null,null,null,null,null,null,null,"13286","LSDO Rebecca Scholl","13286-LSDO Rebecca Scholl",null,null,null,"AS107489318","Hien Nguyen (107489318) HS Administration","AS107489318-Hien Nguyen (107489318) HS Administration","Active",null,null,null,null,null,null,null,null,null,null,null,"SC6903","SC6903||1625","1625","Capital Equipment",null,"JE_PPE|JE_Override"]
[null,null,null,null,null,null,"AC00727","Sig Process Research","AC00727-Sig Process Research","Activity","FD03","Active","2025-01-02T03:05:30.078",null,null,null,null,null,null,null,null,"13287","LSDO Terri Moser","13287-LSDO Terri Moser",null,null,null,"AS107513872","Ryan Kerr (107513872) Special Events","AS107513872-Ryan Kerr (107513872) Special Events","Active",null,null,null,null,null,null,null,null,null,null,null,"SC6903","SC6903||1650","1650","Construction in Progress",null,"JE_PPE|JE_Override"]
[null,null,null,null,null,null,"AC00728","KF Warnick-Young Scholar","AC00728-KF Warnick-Young Scholar","Activity","FD03","Active","2025-01-02T03:05:30.078",null,null,null,null,null,null,null,null,"13288","LSDO Russell Nielson","13288-LSDO Russell Nielson",null,null,null,"AS107524522","Benjamin Bikman (107524522) Life Sciences - Dean's Office","AS107524522-Benjamin Bikman (107524522) Life Sciences - Dean's Office","Active",null,null,null,null,null,null,null,null,null,null,null,"SC6903","SC6903||1651","1651","Construction in Progress (Non-Workday Projects)",null,"All"]
[null,null,null,null,null,null,"AC00729","Dept Secretarial Support","AC00729-Dept Secretarial Support","Activity","FD03","Active","2025-01-02T03:05:30.078",null,null,null,null,null,null,null,null,"13289","LSDO Laura Bridgewater","13289-LSDO Laura Bridgewater",null,null,null,"AS107556193","Cindy Busard (107556193) BYU Store Support-Admin Servic","AS107556193-Cindy Busard (107556193) BYU Store Support-Admin Servic","Active",null,null,null,null,null,null,null,null,null,null,null,"SC6903","SC6903||1700","1700","Accumulated Depreciation",null,"JE_PPE|JE_Override"]
[null,null,null,null,null,null,"AC00730","Young Scholar - Brad Hutchings","AC00730-Young Scholar - Brad Hutchings","Activity","FD03","Active","2025-01-02T03:05:30.078",null,null,null,null,null,null,null,null,"13290","LSDO Student Secretary","13290-LSDO Student Secretary",null,null,null,"AS107594780","Steve Liddle (107594780) MSB - Dean's Office, Marriott School of Business","AS107594780-Steve Liddle (107594780) MSB - Dean's Office, Marriott School of Business","Active",null,null,null,null,null,null,null,null,null,null,null,"SC6903","SC6903||6900","6900","Equipment, Software, Library","Primary","All"]
[null,null,null,null,null,null,"AC00731","Automated Accom","AC00731-Automated Accom","Activity","FD03","Active","2025-01-02T03:05:30.078",null,null,null,null,null,null,null,null,"13291","LSDO YSA 3rd Stake-#503266","13291-LSDO YSA 3rd Stake-#503266",null,null,null,"AS107742924","Linda Godfrey (107742924) University President - International Vice President","AS107742924-Linda Godfrey (107742924) University President - International Vice President","Active",null,null,null,null,null,null,null,null,null,null,null,"SC6903","SC6903||8000","8000","Depreciation",null,"JE_PPE|JE_Override"]
[null,null,null,null,null,null,"AC00732","Microsphere Resonant","AC00732-Microsphere Resonant","Activity","FD03","Active","2025-01-02T03:05:30.078",null,null,null,null,null,null,null,null,"13292","LSDO COMMS-Student","13292-LSDO COMMS-Student",null,null,null,"AS107796095","Ashley Pun Eveson (107796095) The Neal A. Maxwell Institute","AS107796095-Ashley Pun Eveson (107796095) The Neal A. Maxwell Institute","Active",null,null,null,null,null,null,null,null,null,null,null,"SC6904","SC6904||1400","1400","Prepaid Expenses",null,"All"]
[null,null,null,null,null,null,"AC00733","Auto Pilot Tech Transfer","AC00733-Auto Pilot Tech Transfer","Activity","FD03","Active","2025-01-02T03:05:30.078",null,null,null,null,null,null,null,null,"13293","LSDO COMMS-Student Events","13293-LSDO COMMS-Student Events",null,null,null,"AS108275287","Jared Ludlow (108275287) AVP - Assistant AVP, Religious Publications","AS108275287-Jared Ludlow (108275287) AVP - Assistant AVP, Religious Publications","Active",null,null,null,null,null,null,null,null,null,null,null,"SC6904","SC6904||1625","1625","Capital Equipment",null,"JE_PPE|JE_Override"]
[null,null,null,null,null,null,"AC00734","IML Equipment Replacement","AC00734-IML Equipment Replacement","Activity","FD03","Active","2025-01-02T03:05:30.078",null,null,null,null,null,null,null,null,"13294","LSDO COMMS-Writer","13294-LSDO COMMS-Writer",null,null,null,"AS108586581","Christian Asplund (108586581) Fine Arts & Communications - Dean's Office","AS108586581-Christian Asplund (108586581) Fine Arts & Communications - Dean's Office","Active",null,null,null,null,null,null,null,null,null,null,null,"SC6904","SC6904||1650","1650","Construction in Progress",null,"JE_PPE|JE_Override"]
[null,null,null,null,null,null,"AC00735","Pattern Generator","AC00735-Pattern Generator","Activity","FD03","Active","2025-01-02T03:05:30.078",null,null,null,null,null,null,null,null,"13295","LSDO COMMS-Internal Communicat","13295-LSDO COMMS-Internal Communicat",null,null,null,"AS108807243","Lindsay Von Forell (108807243) CE Controller","AS108807243-Lindsay Von Forell (108807243) CE Controller","Active",null,null,null,null,null,null,null,null,null,null,null,"SC6904","SC6904||1651","1651","Construction in Progress (Non-Workday Projects)",null,"All"]
[null,null,null,null,null,null,"AC00736","CSR - Engineering (ECE)","AC00736-CSR - Engineering (ECE)","Activity","FD03","Active","2025-01-02T03:05:30.078",null,null,null,null,null,null,null,null,"13296","LSDO COMMS-Social Media","13296-LSDO COMMS-Social Media",null,null,null,"AS109639638","Brad Bailey (109639638) OIT Leadership - Data and Finance","AS109639638-Brad Bailey (109639638) OIT Leadership - Data and Finance","Active",null,null,null,null,null,null,null,null,null,null,null,"SC6904","SC6904||1700","1700","Accumulated Depreciation",null,"JE_PPE|JE_Override"]
[null,null,null,null,null,null,"AC00737","IMMERSE Consolidated","AC00737-IMMERSE Consolidated","Activity","FD03","Active","2025-01-02T03:05:30.078",null,null,null,null,null,null,null,null,"13297","LSDO COMMS-Video/Photography","13297-LSDO COMMS-Video/Photography",null,null,null,"AS109700517","Amanda Boden (109700517) CE FSY Central","AS109700517-Amanda Boden (109700517) CE FSY Central","Active",null,null,null,null,null,null,null,null,null,null,null,"SC6904","SC6904||6900","6900","Equipment, Software, Library","Primary","All"]
[null,null,null,null,null,null,"AC00738","A Hawkins Grad Mentoring Award","AC00738-A Hawkins Grad Mentoring Award","Activity","FD03","Active","2025-01-02T03:05:30.078",null,null,null,null,null,null,null,null,"13298","LSDO COMMS-Design","13298-LSDO COMMS-Design",null,null,null,"AS110311183","Timothy Mabey (110311183) Helaman Halls","AS110311183-Timothy Mabey (110311183) Helaman Halls","Active",null,null,null,null,null,null,null,null,null,null,null,"SC6904","SC6904||8000","8000","Depreciation",null,"JE_PPE|JE_Override"]
[null,null,null,null,null,null,"AC00739","D Smalley - PIA 2020 - ECEn","AC00739-D Smalley - PIA 2020 - ECEn","Activity","FD03","Active","2025-01-02T03:05:30.078",null,null,null,null,null,null,null,null,"13299","LSDO BELONGING-Women in Life S","13299-LSDO BELONGING-Women in Life S",null,null,null,"AS110533256","David Jones (110533256) Bindery Total","AS110533256-David Jones (110533256) Bindery Total","Active",null,null,null,null,null,null,null,null,null,null,null,"SC6905","SC6905||1400","1400","Prepaid Expenses",null,"All"]
[null,null,null,null,null,null,"AC00740","Interdisciplinary Robotics","AC00740-Interdisciplinary Robotics","Activity","FD03","Active","2025-01-02T03:05:30.078",null,null,null,null,null,null,null,null,"13305","LSB Research at BYU","13305-LSB Research at BYU",null,null,null,"AS110798678","Paige Despain (110798678) Office of Research Computing","AS110798678-Paige Despain (110798678) Office of Research Computing","Active",null,null,null,null,null,null,null,null,null,null,null,"SC6905","SC6905||1625","1625","Capital Equipment",null,"JE_PPE|JE_Override"]
[null,null,null,null,null,null,"AC00741","Y-Ride -PIA2022 ? ECEn","AC00741-Y-Ride -PIA2022 ? ECEn","Activity","FD03","Active","2025-01-02T03:05:30.078",null,null,null,null,null,null,null,null,"13307","LSB Administrator/Donor Confer","13307-LSB Administrator/Donor Confer",null,null,null,"AS110874617","Ben Drewry (110874617) Careers & Experiential Learning - Career Services","AS110874617-Ben Drewry (110874617) Careers & Experiential Learning - Career Services","Active",null,null,null,null,null,null,null,null,null,null,null,"SC6905","SC6905||1650","1650","Construction in Progress",null,"JE_PPE|JE_Override"]
[null,null,null,null,null,null,"AC00743","EXPERIENTIAL LEARNING ECE","AC00743-EXPERIENTIAL LEARNING ECE","Activity","FD03","Active","2025-01-02T03:05:30.078",null,null,null,null,null,null,null,null,"13332","LSB Student Keys","13332-LSB Student Keys",null,null,null,"AS111308486","Hattie Norcross Eppel (111308486) Title IX","AS111308486-Hattie Norcross Eppel (111308486) Title IX","Active",null,null,null,null,null,null,null,null,null,null,null,"SC6905","SC6905||1651","1651","Construction in Progress (Non-Workday Projects)",null,"All"]
[null,null,null,null,null,null,"AC00744","Faculty Mentoring 2","AC00744-Faculty Mentoring 2","Activity","FD03","Active","2025-01-02T03:05:30.078",null,null,null,null,null,null,null,null,"13333","LSB Copiers","13333-LSB Copiers",null,null,null,"AS111742893","Carina Alleman (111742893) Academic VP Office, Deans","AS111742893-Carina Alleman (111742893) Academic VP Office, Deans","Active",null,null,null,null,null,null,null,null,null,null,null,"SC6905","SC6905||1700","1700","Accumulated Depreciation",null,"JE_PPE|JE_Override"]
[null,null,null,null,null,null,"AC00745","Faculty Mentoring 3","AC00745-Faculty Mentoring 3","Activity","FD03","Active","2025-01-02T03:05:30.078",null,null,null,null,null,null,null,null,"13335","LSB Christmas","13335-LSB Christmas",null,null,null,"AS111965440","Carri Jenkins (111965440) University President","AS111965440-Carri Jenkins (111965440) University President","Active",null,null,null,null,null,null,null,null,null,null,null,"SC6905","SC6905||6900","6900","Equipment, Software, Library","Primary","All"]
[null,null,null,null,null,null,"AC00746","Faculty Mentoring 4","AC00746-Faculty Mentoring 4","Activity","FD03","Active","2025-01-02T03:05:30.078",null,null,null,null,null,null,null,null,"13342","LSB Outreach","13342-LSB Outreach",null,null,null,"AS112047555","Bruce Money (112047555) MSB - Dean's Office, Marriott School of Business","AS112047555-Bruce Money (112047555) MSB - Dean's Office, Marriott School of Business","Active",null,null,null,null,null,null,null,null,null,null,null,"SC6905","SC6905||8000","8000","Depreciation",null,"JE_PPE|JE_Override"]
[null,null,null,null,null,null,"AC00747","Faculty Mentoring 5","AC00747-Faculty Mentoring 5","Activity","FD03","Active","2025-01-02T03:05:30.078",null,null,null,null,null,null,null,null,"13356","LSDO Annual Giving Replacement","13356-LSDO Annual Giving Replacement",null,null,null,"AS112181328","Paula Moore (112181328) MSB - Dean's Office, Marriott School of Business","AS112181328-Paula Moore (112181328) MSB - Dean's Office, Marriott School of Business","Active",null,null,null,null,null,null,null,null,null,null,null,"SC6906","SC6906||1400","1400","Prepaid Expenses",null,"All"]
[null,null,null,null,null,null,"AC00748","Information Technology","AC00748-Information Technology","Activity","FD01","Active","2025-01-02T03:05:30.078",null,null,null,null,null,null,null,null,"13357","LSDO Cancer Research Replaceme","13357-LSDO Cancer Research Replaceme",null,null,null,"AS113098638","Megan Sanborn Jones (113098638) Academic VP Office, Deans","AS113098638-Megan Sanborn Jones (113098638) Academic VP Office, Deans","Active",null,null,null,null,null,null,null,null,null,null,null,"SC6906","SC6906||1625","1625","Capital Equipment",null,"JE_PPE|JE_Override"]
[null,null,null,null,null,null,"AC00749","Lunt, Barry Research","AC00749-Lunt, Barry Research","Activity","FD01","Active","2025-01-02T03:05:30.078",null,null,null,null,null,null,null,null,"13358","LSDO Exhibit Replacement","13358-LSDO Exhibit Replacement",null,null,null,"AS113348858","Mark Epling (113348858) OIT Leadership - CES Architecture","AS113348858-Mark Epling (113348858) OIT Leadership - CES Architecture","Active",null,null,null,null,null,null,null,null,null,null,null,"SC6906","SC6906||1650","1650","Construction in Progress",null,"JE_PPE|JE_Override"]
[null,null,null,null,null,null,"AC00750","IT Stores","AC00750-IT Stores","Activity","FD02","Active","2025-01-02T03:05:30.078",null,null,null,null,null,null,null,null,"13359","LSDO MMBIO Research Replacemen","13359-LSDO MMBIO Research Replacemen",null,null,null,"AS113451975","Scott Baldwin (113451975) FHSS - Dean's Office","AS113451975-Scott Baldwin (113451975) FHSS - Dean's Office","Active",null,null,null,null,null,null,null,null,null,null,null,"SC6906","SC6906||1651","1651","Construction in Progress (Non-Workday Projects)",null,"All"]
[null,null,null,null,null,null,"AC00751","Information Tech Studnt Assoc","AC00751-Information Tech Studnt Assoc","Activity","FD02","Active","2025-01-02T03:05:30.078",null,null,null,null,null,null,null,null,"13360","LSDO R.Robison Lab Replacement","13360-LSDO R.Robison Lab Replacement",null,null,null,"AS113453562","Michael Pack (113453562) Sorensen Center","AS113453562-Michael Pack (113453562) Sorensen Center","Active",null,null,null,null,null,null,null,null,null,null,null,"SC6906","SC6906||1700","1700","Accumulated Depreciation",null,"JE_PPE|JE_Override"]
[null,null,null,null,null,null,"AC00752","CSSAA","AC00752-CSSAA","Activity","FD02","Active","2025-01-02T03:05:30.078",null,null,null,null,null,null,null,null,"13361","LSDO K.O'Neill Lab Replacement","13361-LSDO K.O'Neill Lab Replacement",null,null,null,"AS113815654","Shane Wright (113815654) International VP Office","AS113815654-Shane Wright (113815654) International VP Office","Active",null,null,null,null,null,null,null,null,null,null,null,"SC6906","SC6906||6900","6900","Equipment, Software, Library","Primary","All"]
[null,null,null,null,null,null,"AC00753","User Experience Design Club","AC00753-User Experience Design Club","Activity","FD02","Active","2025-01-02T03:05:30.078",null,null,null,null,null,null,null,null,"13362","LSDO Andean Crops Replacement","13362-LSDO Andean Crops Replacement",null,null,null,"AS113878491","Scott McClellan (113878491) Facilities Planning and Design - Campus Projects","AS113878491-Scott McClellan (113878491) Facilities Planning and Design - Campus Projects","Active",null,null,null,null,null,null,null,null,null,null,null,"SC6906","SC6906||8000","8000","Depreciation",null,"JE_PPE|JE_Override"]
[null,null,null,null,null,null,"AC00754","International Internships","AC00754-International Internships","Activity","FD03","Active","2025-01-02T03:05:30.078",null,null,null,null,null,null,null,null,"13363","LSDO Environmental Toxicol Rep","13363-LSDO Environmental Toxicol Rep",null,null,null,"AS114158363","Jonathan Wade (114158363) Humanities - Dean's Office","AS114158363-Jonathan Wade (114158363) Humanities - Dean's Office","Active",null,null,null,null,null,null,null,null,null,null,null,"SC6907","SC6907||1400","1400","Prepaid Expenses",null,"All"]
[null,null,null,null,null,null,"AC00755","EXPERIENTIAL LEARNING IT","AC00755-EXPERIENTIAL LEARNING IT","Activity","FD03","Active","2025-01-02T03:05:30.078",null,null,null,null,null,null,null,null,"13400","LSPW Campus Visitor","13400-LSPW Campus Visitor",null,null,null,"AS114164260","Matthew Owens (114164260) PF Air Conditioning Shop","AS114164260-Matthew Owens (114164260) PF Air Conditioning Shop","Active",null,null,null,null,null,null,null,null,null,null,null,"SC6907","SC6907||1625","1625","Capital Equipment",null,"JE_PPE|JE_Override"]
[null,null,null,null,null,null,"AC00756","Mechanical Engineering","AC00756-Mechanical Engineering","Activity","FD01","Active","2025-01-02T03:05:30.078",null,null,null,null,null,null,null,null,"13401","LSPW PWS Teach.& Resear. Labor","13401-LSPW PWS Teach.& Resear. Labor",null,null,null,"AS114287004","Merry Bird (114287004) PF Building Operations","AS114287004-Merry Bird (114287004) PF Building Operations","Active",null,null,null,null,null,null,null,null,null,null,null,"SC6907","SC6907||1650","1650","Construction in Progress",null,"JE_PPE|JE_Override"]
[null,null,null,null,null,null,"AC00757","Mech Engr Compt Lab","AC00757-Mech Engr Compt Lab","Activity","FD01","Active","2025-01-02T03:05:30.078",null,null,null,null,null,null,null,null,"13402","LSPW Microscopy Laboratory","13402-LSPW Microscopy Laboratory",null,null,null,"AS114308799","Joe Merrill (114308799) Retail Services - General Administration","AS114308799-Joe Merrill (114308799) Retail Services - General Administration","Active",null,null,null,null,null,null,null,null,null,null,null,"SC6907","SC6907||1651","1651","Construction in Progress (Non-Workday Projects)",null,"All"]
[null,null,null,null,null,null,"AC00758","Spencer Magleby","AC00758-Spencer Magleby","Activity","FD01","Active","2025-01-02T03:05:30.078",null,null,null,null,null,null,null,null,"13403","LSPW V-PW5V 2019 FORDSTruck/Mc","13403-LSPW V-PW5V 2019 FORDSTruck/Mc",null,null,null,"AS114478265","Taylor Burrell (114478265) PF Air Conditioning Shop","AS114478265-Taylor Burrell (114478265) PF Air Conditioning Shop","Active",null,null,null,null,null,null,null,null,null,null,null,"SC6907","SC6907||1700","1700","Accumulated Depreciation",null,"JE_PPE|JE_Override"]
[null,null,null,null,null,null,"AC00759","Mechanical Engineering","AC00759-Mechanical Engineering","Activity","FD01","Active","2025-01-02T03:05:30.078",null,null,null,null,null,null,null,null,"13404","LSPW V-PW8V 2014 GMC Sierra/PW","13404-LSPW V-PW8V 2014 GMC Sierra/PW",null,null,null,"AS114545215","Brent Barson (114545215) Academic VP Office, Deans","AS114545215-Brent Barson (114545215) Academic VP Office, Deans","Active",null,null,null,null,null,null,null,null,null,null,null,"SC6907","SC6907||6900","6900","Equipment, Software, Library","Primary","All"]
[null,null,null,null,null,null,"AC00760","Am Soc of Mech Eng","AC00760-Am Soc of Mech Eng","Activity","FD02","Active","2025-01-02T03:05:30.078",null,null,null,null,null,null,null,null,"13405","LSPW V-PW9V 2013 TOY T.Truck/A","13405-LSPW V-PW9V 2013 TOY T.Truck/A",null,null,null,"AS114817681","Christopher Burgess (114817681) Athletics - Men's Basketball","AS114817681-Christopher Burgess (114817681) Athletics - Men's Basketball","Active",null,null,null,null,null,null,null,null,null,null,null,"SC6907","SC6907||8000","8000","Depreciation",null,"JE_PPE|JE_Override"]
[null,null,null,null,null,null,"AC00761","Am Inst of Aero-Astr","AC00761-Am Inst of Aero-Astr","Activity","FD02","Active","2025-01-02T03:05:30.078",null,null,null,null,null,null,null,null,"13406","LSPW V-PW28 2016 ECHO TRLR/McM","13406-LSPW V-PW28 2016 ECHO TRLR/McM",null,null,null,"AS115006992","Pam Dansie (115006992) PF Building Operations","AS115006992-Pam Dansie (115006992) PF Building Operations","Active",null,null,null,null,null,null,null,null,null,null,null,"SC6908","SC6908||1400","1400","Prepaid Expenses",null,"All"]
[null,null,null,null,null,null,"AC00762","Society of Women Engineers","AC00762-Society of Women Engineers","Activity","FD02","Active","2025-01-02T03:05:30.078",null,null,null,null,null,null,null,null,"13407","LSPW V-PW34VV 2021 TOYTTruck/M","13407-LSPW V-PW34VV 2021 TOYTTruck/M",null,null,null,"AS115055430","Amy Foote (115055430) Accounts Payable","AS115055430-Amy Foote (115055430) Accounts Payable","Active",null,null,null,null,null,null,null,null,null,null,null,"SC6908","SC6908||6900","6900","Equipment, Software, Library","Primary","All"]
[null,null,null,null,null,null,"AC00763","Soc. of Automotive Eng. BYU","AC00763-Soc. of Automotive Eng. BYU","Activity","FD02","Active","2025-01-02T03:05:30.078",null,null,null,null,null,null,null,null,"13408","LSPW V-PW42 2013 Polaris ATV/A","13408-LSPW V-PW42 2013 Polaris ATV/A",null,null,null,"AS115130085","Courtney Stephens (115130085) CE IS Course Dev - World Languages","AS115130085-Courtney Stephens (115130085) CE IS Course Dev - World Languages","Active",null,null,null,null,null,null,null,null,null,null,null,"SC6909","SC6909||1400","1400","Prepaid Expenses",null,"All"]
[null,null,null,null,null,null,"AC00764","BYU Mechatronics Club","AC00764-BYU Mechatronics Club","Activity","FD02","Active","2025-01-02T03:05:30.078",null,null,null,null,null,null,null,null,"13409","LSPW V-PW44 2018 HOND ATV/McMi","13409-LSPW V-PW44 2018 HOND ATV/McMi",null,null,null,"AS115241136","Kylie Patterson (115241136) Special Events","AS115241136-Kylie Patterson (115241136) Special Events","Active",null,null,null,null,null,null,null,null,null,null,null,"SC6909","SC6909||1625","1625","Capital Equipment",null,"JE_PPE|JE_Override"]
[null,null,null,null,null,null,"AC00765","BYU Rocketry Club","AC00765-BYU Rocketry Club","Activity","FD02","Active","2025-01-02T03:05:30.078",null,null,null,null,null,null,null,null,"13410","LSPW V-PW45 2018 HOND ATV/McMi","13410-LSPW V-PW45 2018 HOND ATV/McMi",null,null,null,"AS115640550","Todd Brown (115640550) OIT Core - CES Security Operations Center (SOC)","AS115640550-Todd Brown (115640550) OIT Core - CES Security Operations Center (SOC)","Active",null,null,null,null,null,null,null,null,null,null,null,"SC6909","SC6909||1700","1700","Accumulated Depreciation",null,"JE_PPE|JE_Override"]
[null,null,null,null,null,null,"AC00766","BYU Drone Team","AC00766-BYU Drone Team","Activity","FD02","Active","2025-01-02T03:05:30.078",null,null,null,null,null,null,null,null,"13411","LSPW PWS 480 Env Capstone: DA&","13411-LSPW PWS 480 Env Capstone: DA&",null,null,null,"AS116029884","Kristen Betts (116029884) MSE - Dean's Office, McKay School of Education","AS116029884-Kristen Betts (116029884) MSE - Dean's Office, McKay School of Education","Active",null,null,null,null,null,null,null,null,null,null,null,"SC6909","SC6909||6900","6900","Equipment, Software, Library","Primary","All"]
[null,null,null,null,null,null,"AC00767","BYU Aeronautics Club","AC00767-BYU Aeronautics Club","Activity","FD02","Active","2025-01-02T03:05:30.078",null,null,null,null,null,null,null,null,"13412","LSPW De Santiago Lazalde, Josh","13412-LSPW De Santiago Lazalde, Josh",null,null,null,"AS116053592","Jared Bellon (116053592) PMPC Administration","AS116053592-Jared Bellon (116053592) PMPC Administration","Active",null,null,null,null,null,null,null,null,null,null,null,"SC6909","SC6909||8000","8000","Depreciation",null,"JE_PPE|JE_Override"]
[null,null,null,null,null,null,"AC00768","OMEGA","AC00768-OMEGA","Activity","FD02","Active","2025-01-02T03:05:30.078",null,null,null,null,null,null,null,null,"13413","LSPW Vawdrey, Wendy","13413-LSPW Vawdrey, Wendy",null,null,null,"AS116189748","Greg Hooke (116189748) PF AVP Office","AS116189748-Greg Hooke (116189748) PF AVP Office","Active",null,null,null,null,null,null,null,null,null,null,null,"SC6910","SC6910||1400","1400","Prepaid Expenses",null,"All"]
[null,null,null,null,null,null,"AC00769","BYU Supermileage Club","AC00769-BYU Supermileage Club","Activity","FD02","Active","2025-01-02T03:05:30.078",null,null,null,null,null,null,null,null,"13414","LSPW Hall, Brianna Wells","13414-LSPW Hall, Brianna Wells",null,null,null,"AS116207011","Valerie Buck (116207011) Lee Library - Metadata & Information Technology","AS116207011-Valerie Buck (116207011) Lee Library - Metadata & Information Technology","Active",null,null,null,null,null,null,null,null,null,null,null,"SC6910","SC6910||1625","1625","Capital Equipment",null,"JE_PPE|JE_Override"]
[null,null,null,null,null,null,"AC00770","BYU Engineering Design","AC00770-BYU Engineering Design","Activity","FD02","Active","2025-01-02T03:05:30.165",null,null,null,null,null,null,null,null,"13415","LSPW Tuckett/Wges/Experiential","13415-LSPW Tuckett/Wges/Experiential",null,null,null,"AS116234850","Elsa Torgersen (116234850) CE FSY Logistics","AS116234850-Elsa Torgersen (116234850) CE FSY Logistics","Active",null,null,null,null,null,null,null,null,null,null,null,"SC6910","SC6910||1650","1650","Construction in Progress",null,"JE_PPE|JE_Override"]
[null,null,null,null,null,null,"AC00771","BYU Wind Energy Club","AC00771-BYU Wind Energy Club","Activity","FD02","Active","2025-01-02T03:05:30.165",null,null,null,null,null,null,null,null,"13416","LSPW Vermeulen/Wges/Experienti","13416-LSPW Vermeulen/Wges/Experienti",null,null,null,"AS116373126","Aaron Nielson (116373126) Academic VP Office, Deans","AS116373126-Aaron Nielson (116373126) Academic VP Office, Deans","Active",null,null,null,null,null,null,null,null,null,null,null,"SC6910","SC6910||1651","1651","Construction in Progress (Non-Workday Projects)",null,"All"]
[null,null,null,null,null,null,"AC00772","Biomedical Engineering Club","AC00772-Biomedical Engineering Club","Activity","FD02","Active","2025-01-02T03:05:30.165",null,null,null,null,null,null,null,null,"13417","LSPW Calder, Bridget","13417-LSPW Calder, Bridget",null,null,null,"AS117041348","Shawn Trauntvein (117041348) Financial Aid and Scholarships","AS117041348-Shawn Trauntvein (117041348) Financial Aid and Scholarships","Active",null,null,null,null,null,null,null,null,null,null,null,"SC6910","SC6910||1700","1700","Accumulated Depreciation",null,"JE_PPE|JE_Override"]
[null,null,null,null,null,null,"AC00773","Mech Engr Equip Repl","AC00773-Mech Engr Equip Repl","Activity","FD03","Active","2025-01-02T03:05:30.165",null,null,null,null,null,null,null,null,"13418","LSPW Featherstone, Janilyn","13418-LSPW Featherstone, Janilyn",null,null,null,"AS117156772","Laura Lamoreaux (117156772) College of Engineering - Dean's Office","AS117156772-Laura Lamoreaux (117156772) College of Engineering - Dean's Office","Active",null,null,null,null,null,null,null,null,null,null,null,"SC6910","SC6910||6900","6900","Equipment, Software, Library","Primary","All"]
[null,null,null,null,null,null,"AC00774","LL Howell-Univ Professorship","AC00774-LL Howell-Univ Professorship","Activity","FD03","Active","2025-01-02T03:05:30.165",null,null,null,null,null,null,null,null,"13419","LSPW Wilcox, Susan","13419-LSPW Wilcox, Susan",null,null,null,"AS117344720","Joseph Hall (117344720) Dean's Office CPMS","AS117344720-Joseph Hall (117344720) Dean's Office CPMS","Active",null,null,null,null,null,null,null,null,null,null,null,"SC6910","SC6910||8000","8000","Depreciation",null,"JE_PPE|JE_Override"]
[null,null,null,null,null,null,"AC00775","Heat Transfer","AC00775-Heat Transfer","Activity","FD03","Active","2025-01-02T03:05:30.165",null,null,null,null,null,null,null,null,"13420","LSPW V-PW26 2020 A-FB TRLR/McM","13420-LSPW V-PW26 2020 A-FB TRLR/McM",null,null,null,"AS117548330","Julia Ashworth (117548330) Fine Arts & Communications - Dean's Office","AS117548330-Julia Ashworth (117548330) Fine Arts & Communications - Dean's Office","Active",null,null,null,null,null,null,null,null,null,null,null,"SC6911","SC6911||1400","1400","Prepaid Expenses",null,"All"]
[null,null,null,null,null,null,"AC00776","Magleby Royalties","AC00776-Magleby Royalties","Activity","FD03","Active","2025-01-02T03:05:30.165",null,null,null,null,null,null,null,null,"13421","LSPW Kent, Scott Dunlop","13421-LSPW Kent, Scott Dunlop",null,null,null,"AS117745761","Curtis Child (117745761) Academic VP Office, Deans","AS117745761-Curtis Child (117745761) Academic VP Office, Deans","Active",null,null,null,null,null,null,null,null,null,null,null,"SC6911","SC6911||1625","1625","Capital Equipment",null,"JE_PPE|JE_Override"]
[null,null,null,null,null,null,"AC00777","Howell Study","AC00777-Howell Study","Activity","FD03","Active","2025-01-02T03:05:30.165",null,null,null,null,null,null,null,null,"13422","LSPW V-PW65 2019 YAMA GATV/McM","13422-LSPW V-PW65 2019 YAMA GATV/McM",null,null,null,"AS117773720","Steve Hill (117773720) Enrollment Services Executive Director's Office","AS117773720-Steve Hill (117773720) Enrollment Services Executive Director's Office","Active",null,null,null,null,null,null,null,null,null,null,null,"SC6911","SC6911||1700","1700","Accumulated Depreciation",null,"JE_PPE|JE_Override"]
[null,null,null,null,null,null,"AC00778","CD Sorensen-Duffin Fellowship","AC00778-CD Sorensen-Duffin Fellowship","Activity","FD03","Active","2025-01-02T03:05:30.165",null,null,null,null,null,null,null,null,"13423","LSPW V-PW35 2005 GMC 8 Van/Abb","13423-LSPW V-PW35 2005 GMC 8 Van/Abb",null,null,null,"AS117842228","Cordell Briggs (117842228) Dining Administration","AS117842228-Cordell Briggs (117842228) Dining Administration","Active",null,null,null,null,null,null,null,null,null,null,null,"SC6911","SC6911||6900","6900","Equipment, Software, Library","Primary","All"]
[null,null,null,null,null,null,"AC00779","Batch Melter Modeling Sys - BW","AC00779-Batch Melter Modeling Sys - BW","Activity","FD03","Active","2025-01-02T03:05:30.165",null,null,null,null,null,null,null,null,"13424","LSPW DB31 1979 Boat/Aanderud","13424-LSPW DB31 1979 Boat/Aanderud",null,null,null,"AS118085270","Gina Jackson (118085270) Nursing - Dean's Office","AS118085270-Gina Jackson (118085270) Nursing - Dean's Office","Active",null,null,null,null,null,null,null,null,null,null,null,"SC6911","SC6911||8000","8000","Depreciation",null,"JE_PPE|JE_Override"]
[null,null,null,null,null,null,"AC00780","DMAC R&D","AC00780-DMAC R&D","Activity","FD03","Active","2025-01-02T03:05:30.165",null,null,null,null,null,null,null,null,"13425","LSPW Charles Redd Center","13425-LSPW Charles Redd Center",null,null,null,"AS118518496","Phillip Hartog (118518496) Athletics - Olympic Sport Medicine","AS118518496-Phillip Hartog (118518496) Athletics - Olympic Sport Medicine","Active",null,null,null,null,null,null,null,null,null,null,null,"SC6912","SC6912||1400","1400","Prepaid Expenses",null,"All"]
[null,null,null,null,null,null,"AC00781","AFOSR UAV Carryover","AC00781-AFOSR UAV Carryover","Activity","FD03","Active","2025-01-02T03:05:30.165",null,null,null,null,null,null,null,null,"13426","LSPW V-PW21 2019 ECHO TRLR/Hop","13426-LSPW V-PW21 2019 ECHO TRLR/Hop",null,null,null,"AS118901715","Pace Nielsen (118901715) CMS - Dean's Office Computational, Mathematical, & Phsical","AS118901715-Pace Nielsen (118901715) CMS - Dean's Office Computational, Mathematical, & Phsical","Active",null,null,null,null,null,null,null,null,null,null,null,"SC6912","SC6912||6900","6900","Equipment, Software, Library","Primary","All"]
[null,null,null,null,null,null,"AC00782","Mattson Royalty Acct","AC00782-Mattson Royalty Acct","Activity","FD03","Active","2025-01-02T03:05:30.165",null,null,null,null,null,null,null,null,"13427","LSPW V-PW75 2018 SRTC/Larsen","13427-LSPW V-PW75 2018 SRTC/Larsen",null,null,null,"AS119095763","David Sims (119095763) FHSS - Dean's Office","AS119095763-David Sims (119095763) FHSS - Dean's Office","Active",null,null,null,null,null,null,null,null,null,null,null,"SC6913","SC6913||1400","1400","Prepaid Expenses",null,"All"]
[null,null,null,null,null,null,"AC00783","C-UAS Membership Carryover","AC00783-C-UAS Membership Carryover","Activity","FD03","Active","2025-01-02T03:05:30.165",null,null,null,null,null,null,null,null,"13428","LSPW V-PW18 2018 SRTC/Larsen","13428-LSPW V-PW18 2018 SRTC/Larsen",null,null,null,"AS119110661","Mark Beecher (119110661) Student Life VP","AS119110661-Mark Beecher (119110661) Student Life VP","Active",null,null,null,null,null,null,null,null,null,null,null,"SC6913","SC6913||1625","1625","Capital Equipment",null,"JE_PPE|JE_Override"]
[null,null,null,null,null,null,"AC00784","T Munro Grad Mentoring Grant","AC00784-T Munro Grad Mentoring Grant","Activity","FD03","Active","2025-01-02T03:05:30.165",null,null,null,null,null,null,null,null,"13429","LSPW V-PW93 2016 UTV/Hansen N.","13429-LSPW V-PW93 2016 UTV/Hansen N.",null,null,null,"AS119352652","Travis Dance (119352652) PF Planning & Construction - Major Projects","AS119352652-Travis Dance (119352652) PF Planning & Construction - Major Projects","Active",null,null,null,null,null,null,null,null,null,null,null,"SC6913","SC6913||1700","1700","Accumulated Depreciation",null,"JE_PPE|JE_Override"]
[null,null,null,null,null,null,"AC00785","M Colton Grad Mentoring Grant","AC00785-M Colton Grad Mentoring Grant","Activity","FD03","Active","2025-01-02T03:05:30.165",null,null,null,null,null,null,null,null,"13430","LSPW PWS 168 Personal Genomics","13430-LSPW PWS 168 Personal Genomics",null,null,null,"AS119433638","Emilee Barrett (119433638) CE Test Prep & Youth Programs","AS119433638-Emilee Barrett (119433638) CE Test Prep & Youth Programs","Active",null,null,null,null,null,null,null,null,null,null,null,"SC6913","SC6913||6900","6900","Equipment, Software, Library","Primary","All"]
[null,null,null,null,null,null,"AC00786","Design Collective Operation","AC00786-Design Collective Operation","Activity","FD03","Active","2025-01-02T03:05:30.165",null,null,null,null,null,null,null,null,"13431","LSPW PWS 335 Comp. Animal Nutr","13431-LSPW PWS 335 Comp. Animal Nutr",null,null,null,"AS119461870","Troy Wilde (119461870) OIT Portfolio - Identity","AS119461870-Troy Wilde (119461870) OIT Portfolio - Identity","Active",null,null,null,null,null,null,null,null,null,null,null,"SC6913","SC6913||8000","8000","Depreciation",null,"JE_PPE|JE_Override"]
[null,null,null,null,null,null,"AC00787","A Bowden GMA","AC00787-A Bowden GMA","Activity","FD03","Active","2025-01-02T03:05:30.165",null,null,null,null,null,null,null,null,"13432","LSPW PWS 155 Careers in Env. S","13432-LSPW PWS 155 Careers in Env. S",null,null,null,"AS119593747","Cindy Monson Litchford (119593747) Athletics - Track & Field","AS119593747-Cindy Monson Litchford (119593747) Athletics - Track & Field","Active",null,null,null,null,null,null,null,null,null,null,null,"SC6914","SC6914||1400","1400","Prepaid Expenses",null,"All"]
[null,null,null,null,null,null,"AC00788","D Cook Graduate Studies","AC00788-D Cook Graduate Studies","Activity","FD03","Active","2025-01-02T03:05:30.165",null,null,null,null,null,null,null,null,"13433","LSPW PWS 481 S.Studies/Land.Ma","13433-LSPW PWS 481 S.Studies/Land.Ma",null,null,null,"AS119743920","Kris Nelson (119743920) University President - Academic Vice President","AS119743920-Kris Nelson (119743920) University President - Academic Vice President","Active",null,null,null,null,null,null,null,null,null,null,null,"SC6914","SC6914||1625","1625","Capital Equipment",null,"JE_PPE|JE_Override"]
[null,null,null,null,null,null,"AC00789","J Blotter Techprep  Grant","AC00789-J Blotter Techprep  Grant","Activity","FD03","Active","2025-01-02T03:05:30.165",null,null,null,null,null,null,null,null,"13434","LSPW Nelson, Shannon","13434-LSPW Nelson, Shannon",null,null,null,"AS119812781","Bill Keenan (119812781) Business Career Center","AS119812781-Bill Keenan (119812781) Business Career Center","Active",null,null,null,null,null,null,null,null,null,null,null,"SC6914","SC6914||1650","1650","Construction in Progress",null,"JE_PPE|JE_Override"]
[null,null,null,null,null,null,"AC00790","J Blotter Grad Mentoring Grant","AC00790-J Blotter Grad Mentoring Grant","Activity","FD03","Active","2025-01-02T03:05:30.165",null,null,null,null,null,null,null,null,"13435","LSPW HC Golf Extrav.&Career Fa","13435-LSPW HC Golf Extrav.&Career Fa",null,null,null,"AS119933025","Samuel Payne (119933025) Life Sciences - Dean's Office","AS119933025-Samuel Payne (119933025) Life Sciences - Dean's Office","Active",null,null,null,null,null,null,null,null,null,null,null,"SC6914","SC6914||1651","1651","Construction in Progress (Non-Workday Projects)",null,"All"]
[null,null,null,null,null,null,"AC00791","J Blotter-IDR Grant","AC00791-J Blotter-IDR Grant","Activity","FD03","Active","2025-01-02T03:05:30.165",null,null,null,null,null,null,null,null,"13436","LSPW PWS 315 Conflict Resol. M","13436-LSPW PWS 315 Conflict Resol. M",null,null,null,"AS120315123","Jordan Brady (120315123) Athletics - Men's Basketball","AS120315123-Jordan Brady (120315123) Athletics - Men's Basketball","Active",null,null,null,null,null,null,null,null,null,null,null,"SC6914","SC6914||1700","1700","Accumulated Depreciation",null,"JE_PPE|JE_Override"]
[null,null,null,null,null,null,"AC00792","Capstone Surplus","AC00792-Capstone Surplus","Activity","FD03","Active","2025-01-02T03:05:30.165",null,null,null,null,null,null,null,null,"13437","LSPW PWS 405 Envir. Chemistry","13437-LSPW PWS 405 Envir. Chemistry",null,null,null,"AS120405939","Ann Marie Lambert (120405939) Honor Code Office","AS120405939-Ann Marie Lambert (120405939) Honor Code Office","Active",null,null,null,null,null,null,null,null,null,null,null,"SC6914","SC6914||6900","6900","Equipment, Software, Library","Primary","All"]
[null,null,null,null,null,null,"AC00793","BYU Propulsion Research Team","AC00793-BYU Propulsion Research Team","Activity","FD03","Active","2025-01-02T03:05:30.165",null,null,null,null,null,null,null,null,"13438","LSPW PWS 406 Envir. Chemistry","13438-LSPW PWS 406 Envir. Chemistry",null,null,null,"AS120420148","Victor Pinto (120420148) PF Paint & Sign Shop","AS120420148-Victor Pinto (120420148) PF Paint & Sign Shop","Active",null,null,null,null,null,null,null,null,null,null,null,"SC6914","SC6914||8000","8000","Depreciation",null,"JE_PPE|JE_Override"]
[null,null,null,null,null,null,"AC00794","Student  Leadership Grant","AC00794-Student  Leadership Grant","Activity","FD03","Active","2025-01-02T03:05:30.165",null,null,null,null,null,null,null,null,"13439","LSPW PWS 513 Envir. Field Intr","13439-LSPW PWS 513 Envir. Field Intr",null,null,null,"AS120428382","Jennifer Schill (120428382) Lee Library Administration - Research & Learning","AS120428382-Jennifer Schill (120428382) Lee Library Administration - Research & Learning","Active",null,null,null,null,null,null,null,null,null,null,null,"SC6915","SC6915||1400","1400","Prepaid Expenses",null,"All"]
[null,null,null,null,null,null,"AC00795","SAE Baja Competition","AC00795-SAE Baja Competition","Activity","FD03","Active","2025-01-02T03:05:30.165",null,null,null,null,null,null,null,null,"13440","LSPW PWS 586 Plant Cell Biolog","13440-LSPW PWS 586 Plant Cell Biolog",null,null,null,"AS120510499","Iz Boekweg (120510499) PF Grounds - Site & Landscape Construction","AS120510499-Iz Boekweg (120510499) PF Grounds - Site & Landscape Construction","Active",null,null,null,null,null,null,null,null,null,null,null,"SC6915","SC6915||1625","1625","Capital Equipment",null,"JE_PPE|JE_Override"]
[null,null,null,null,null,null,"AC00796","Join Plastics - Nelson","AC00796-Join Plastics - Nelson","Activity","FD03","Active","2025-01-02T03:05:30.165",null,null,null,null,null,null,null,null,"13441","LSPW PWS 634 Analysis of Popul","13441-LSPW PWS 634 Analysis of Popul",null,null,null,"AS120636344","Scott Webb (120636344) MSB - Dean's Office, Marriott School of Business","AS120636344-Scott Webb (120636344) MSB - Dean's Office, Marriott School of Business","Active",null,null,null,null,null,null,null,null,null,null,null,"SC6915","SC6915||1650","1650","Construction in Progress",null,"JE_PPE|JE_Override"]
[null,null,null,null,null,null,"AC00798","EXPERIENTIAL LEARNING ME","AC00798-EXPERIENTIAL LEARNING ME","Activity","FD03","Active","2025-01-02T03:05:30.165",null,null,null,null,null,null,null,null,"13442","LSPW PWS 660 Envir. Site Evalu","13442-LSPW PWS 660 Envir. Site Evalu",null,null,null,"AS120701340","Aaron Moody (120701340) CE Registration & Cashier","AS120701340-Aaron Moody (120701340) CE Registration & Cashier","Active",null,null,null,null,null,null,null,null,null,null,null,"SC6915","SC6915||1651","1651","Construction in Progress (Non-Workday Projects)",null,"All"]
[null,null,null,null,null,null,"AC00799","Mentoring Grant D Maynes","AC00799-Mentoring Grant D Maynes","Activity","FD03","Active","2025-01-02T03:05:30.165",null,null,null,null,null,null,null,null,"13443","LSPW PWS 588/469 Metagenomics","13443-LSPW PWS 588/469 Metagenomics",null,null,null,"AS120882572","Kalani Sitake (120882572) Athletics - Administration","AS120882572-Kalani Sitake (120882572) Athletics - Administration","Active",null,null,null,null,null,null,null,null,null,null,null,"SC6915","SC6915||1700","1700","Accumulated Depreciation",null,"JE_PPE|JE_Override"]
[null,null,null,null,null,null,"AC00800","Faculty Mentoring 1","AC00800-Faculty Mentoring 1","Activity","FD03","Active","2025-01-02T03:05:30.165",null,null,null,null,null,null,null,null,"13444","LSPW PWS 470 Genomic Analysis","13444-LSPW PWS 470 Genomic Analysis",null,null,null,"AS120961401","Stephanie Breinholt (120961401) Fine Arts & Communications - Dean's Office","AS120961401-Stephanie Breinholt (120961401) Fine Arts & Communications - Dean's Office","Active",null,null,null,null,null,null,null,null,null,null,null,"SC6915","SC6915||6900","6900","Equipment, Software, Library","Primary","All"]
[null,null,null,null,null,null,"AC00801","Faculty Mentoring 2","AC00801-Faculty Mentoring 2","Activity","FD03","Active","2025-01-02T03:05:30.165",null,null,null,null,null,null,null,null,"13445","LSPW PWS 553 Restoration Ecolo","13445-LSPW PWS 553 Restoration Ecolo",null,null,null,"AS121137236","Bryan Hamblin (121137236) Academic VP Office, Deans","AS121137236-Bryan Hamblin (121137236) Academic VP Office, Deans","Active",null,null,null,null,null,null,null,null,null,null,null,"SC6915","SC6915||8000","8000","Depreciation",null,"JE_PPE|JE_Override"]
[null,null,null,null,null,null,"AC00802","Faculty Mentoring 3","AC00802-Faculty Mentoring 3","Activity","FD03","Active","2025-01-02T03:05:30.165",null,null,null,null,null,null,null,null,"13447","LSPW V-PW63 2019 Honda ATV/Rob","13447-LSPW V-PW63 2019 Honda ATV/Rob",null,null,null,"AS121548413","Quint Colman (121548413) Printing Services","AS121548413-Quint Colman (121548413) Printing Services","Active",null,null,null,null,null,null,null,null,null,null,null,"SC6916","SC6916||1400","1400","Prepaid Expenses",null,"All"]
[null,null,null,null,null,null,"AC00803","Manufacturing Engineering","AC00803-Manufacturing Engineering","Activity","FD01","Active","2025-01-02T03:05:30.165",null,null,null,null,null,null,null,null,"13448","LSPW V-PW13 2014 F Trailer/Lar","13448-LSPW V-PW13 2014 F Trailer/Lar",null,null,null,"AS121668778","Bethany Duerst (121668778) Staff Compensation","AS121668778-Bethany Duerst (121668778) Staff Compensation","Active",null,null,null,null,null,null,null,null,null,null,null,"SC6916","SC6916||6900","6900","Equipment, Software, Library","Primary","All"]
[null,null,null,null,null,null,"AC00804","Brent Strong","AC00804-Brent Strong","Activity","FD01","Active","2025-01-02T03:05:30.165",null,null,null,null,null,null,null,null,"13449","LSPW Alcaligenes Project/Aande","13449-LSPW Alcaligenes Project/Aande",null,null,null,"AS121684964","Jenny Wheeler (121684964) Academic VP Office, Deans","AS121684964-Jenny Wheeler (121684964) Academic VP Office, Deans","Active",null,null,null,null,null,null,null,null,null,null,null,"SC6917","SC6917||1400","1400","Prepaid Expenses",null,"All"]
[null,null,null,null,null,null,"AC00805","Charles Harrell","AC00805-Charles Harrell","Activity","FD01","Active","2025-01-02T03:05:30.165",null,null,null,null,null,null,null,null,"13450","LSPW Ranjana Pal","13450-LSPW Ranjana Pal",null,null,null,"AS121802238","Tom Pittman (121802238) FHSS - Dean's Office","AS121802238-Tom Pittman (121802238) FHSS - Dean's Office","Active",null,null,null,null,null,null,null,null,null,null,null,"SC6917","SC6917||1625","1625","Capital Equipment",null,"JE_PPE|JE_Override"]
[null,null,null,null,null,null,"AC00806","Venture Factory","AC00806-Venture Factory","Activity","FD02","Active","2025-01-02T03:05:30.165",null,null,null,null,null,null,null,null,"13451","LSPW V-PW22 2019SnakeRTrail/Al","13451-LSPW V-PW22 2019SnakeRTrail/Al",null,null,null,"AS121934274","Inho Jung (121934274) Humanities - Dean's Office","AS121934274-Inho Jung (121934274) Humanities - Dean's Office","Active",null,null,null,null,null,null,null,null,null,null,null,"SC6917","SC6917||1650","1650","Construction in Progress",null,"JE_PPE|JE_Override"]
[null,null,null,null,null,null,"AC00807","SAMPE-BYU St Chpt","AC00807-SAMPE-BYU St Chpt","Activity","FD02","Active","2025-01-02T03:05:30.165",null,null,null,null,null,null,null,null,"13452","LSPW V-PW25 2019SnakeRTrailer/","13452-LSPW V-PW25 2019SnakeRTrailer/",null,null,null,"AS121995597","Eric Bybee (121995597) MSE - Dean's Office, McKay School of Education","AS121995597-Eric Bybee (121995597) MSE - Dean's Office, McKay School of Education","Active",null,null,null,null,null,null,null,null,null,null,null,"SC6917","SC6917||1651","1651","Construction in Progress (Non-Workday Projects)",null,"All"]
[null,null,null,null,null,null,"AC00808","Society of Mfg Engineers","AC00808-Society of Mfg Engineers","Activity","FD02","Active","2025-01-02T03:05:30.165",null,null,null,null,null,null,null,null,"13453","LSPW V-PW 1 2017 TOYT T.Truck/","13453-LSPW V-PW 1 2017 TOYT T.Truck/",null,null,null,"AS122125065","David Burnett (122125065) OIT Core -  Tech Support","AS122125065-David Burnett (122125065) OIT Core -  Tech Support","Active",null,null,null,null,null,null,null,null,null,null,null,"SC6917","SC6917||1700","1700","Accumulated Depreciation",null,"JE_PPE|JE_Override"]
[null,null,null,null,null,null,"AC00809","Rapid Prototype Machine","AC00809-Rapid Prototype Machine","Activity","FD02","Active","2025-01-02T03:05:30.165",null,null,null,null,null,null,null,null,"13454","LSPW V-PW2V 2021TOYT TRUCK/DEP","13454-LSPW V-PW2V 2021TOYT TRUCK/DEP",null,null,null,"AS122238061","Eusebio Enciso (122238061) Culinary Support Center","AS122238061-Eusebio Enciso (122238061) Culinary Support Center","Active",null,null,null,null,null,null,null,null,null,null,null,"SC6917","SC6917||6900","6900","Equipment, Software, Library","Primary","All"]
[null,null,null,null,null,null,"AC00810","Waterjet Machine","AC00810-Waterjet Machine","Activity","FD02","Active","2025-01-02T03:05:30.165",null,null,null,null,null,null,null,null,"13455","LSPW V-PW2V 2017 TOYT.PTruck/P","13455-LSPW V-PW2V 2017 TOYT.PTruck/P",null,null,null,"AS122333112","Brigham Talbot (122333112) Registrar's Office","AS122333112-Brigham Talbot (122333112) Registrar's Office","Active",null,null,null,null,null,null,null,null,null,null,null,"SC6917","SC6917||8000","8000","Depreciation",null,"JE_PPE|JE_Override"]
[null,null,null,null,null,null,"AC00811","BYU Women in Manufacturing","AC00811-BYU Women in Manufacturing","Activity","FD02","Active","2025-01-02T03:05:30.165",null,null,null,null,null,null,null,null,"13456","LSPW V-PW4V 2016 TOYT T.Truck/","13456-LSPW V-PW4V 2016 TOYT T.Truck/",null,null,null,"AS122381038","James White (122381038) Restaurants","AS122381038-James White (122381038) Restaurants","Active",null,null,null,null,null,null,null,null,null,null,null,"SC6918","SC6918||1400","1400","Prepaid Expenses",null,"All"]
[null,null,null,null,null,null,"AC00812","Strong Residual","AC00812-Strong Residual","Activity","FD03","Active","2025-01-02T03:05:30.165",null,null,null,null,null,null,null,null,"13457","LSPW V-PW6V 2016 TOYT TC Truck","13457-LSPW V-PW6V 2016 TOYT TC Truck",null,null,null,"AS122448945","E.J. Caffaro (122448945) Enrollment Services Office","AS122448945-E.J. Caffaro (122448945) Enrollment Services Office","Active",null,null,null,null,null,null,null,null,null,null,null,"SC6918","SC6918||1632","1632","Library Content",null,"JE_PPE|JE_Override"]
[null,null,null,null,null,null,"AC00813","Development Research","AC00813-Development Research","Activity","FD03","Active","2025-01-02T03:05:30.165",null,null,null,null,null,null,null,null,"13458","LSPW V-PW5V 2017 FORD Truck/La","13458-LSPW V-PW5V 2017 FORD Truck/La",null,null,null,"AS122543874","Eric Howard (122543874) Lee Library - Communications","AS122543874-Eric Howard (122543874) Lee Library - Communications","Active",null,null,null,null,null,null,null,null,null,null,null,"SC6918","SC6918||1700","1700","Accumulated Depreciation",null,"JE_PPE|JE_Override"]
[null,null,null,null,null,null,"AC00814","Residual-Cadsimulati","AC00814-Residual-Cadsimulati","Activity","FD03","Active","2025-01-02T03:05:30.165",null,null,null,null,null,null,null,null,"13459","LSPW V-PW7V 2017 TOYTTruck/St","13459-LSPW V-PW7V 2017 TOYTTruck/St",null,null,null,"AS122597533","Kendall Wilson (122597533) PF Carpenter Shop","AS122597533-Kendall Wilson (122597533) PF Carpenter Shop","Active",null,null,null,null,null,null,null,null,null,null,null,"SC6918","SC6918||6900","6900","Equipment, Software, Library","Primary","All"]
[null,null,null,null,null,null,"AC00815","T Nelson-Contract Funds","AC00815-T Nelson-Contract Funds","Activity","FD03","Active","2025-01-02T03:05:30.165",null,null,null,null,null,null,null,null,"13460","LSPW V-PW9 2018 TOYT T.Truck/A","13460-LSPW V-PW9 2018 TOYT T.Truck/A",null,null,null,"AS122658126","Steven Wood (122658126) CMS - Dean's Office Computational, Mathematical, & Phsical","AS122658126-Steven Wood (122658126) CMS - Dean's Office Computational, Mathematical, & Phsical","Active",null,null,null,null,null,null,null,null,null,null,null,"SC6918","SC6918||8000","8000","Depreciation",null,"JE_PPE|JE_Override"]
[null,null,null,null,null,null,"AC00816","AB Strong-GE Professorship","AC00816-AB Strong-GE Professorship","Activity","FD03","Active","2025-01-02T03:05:30.165",null,null,null,null,null,null,null,null,"13461","LSPW V-PW4V 2018 TOYT T.Truck/","13461-LSPW V-PW4V 2018 TOYT T.Truck/",null,null,null,"AS123392561","Debbie Tehrani (123392561) PF Building Projects, Maintenance & Transportation Services","AS123392561-Debbie Tehrani (123392561) PF Building Projects, Maintenance & Transportation Services","Active",null,null,null,null,null,null,null,null,null,null,null,"SC6919","SC6919||1400","1400","Prepaid Expenses",null,"All"]
[null,null,null,null,null,null,"AC00818","EXPERIENTIAL LEARNING MET","AC00818-EXPERIENTIAL LEARNING MET","Activity","FD03","Active","2025-01-02T03:05:30.165",null,null,null,null,null,null,null,null,"13462","LSPW V-PW6V 2018 TOYTTCTruck/L","13462-LSPW V-PW6V 2018 TOYTTCTruck/L",null,null,null,"AS123433674","Othello Richards (123433674) Fine Arts & Communications - Dean's Office","AS123433674-Othello Richards (123433674) Fine Arts & Communications - Dean's Office","Active",null,null,null,null,null,null,null,null,null,null,null,"SC6919","SC6919||6900","6900","Equipment, Software, Library","Primary","All"]
[null,null,null,null,null,null,"AC00819","Research Support","AC00819-Research Support","Activity","FD01","Active","2025-01-02T03:05:30.165",null,null,null,null,null,null,null,null,"13463","LSPW V-PW16 2017 UNK TRLR/Lars","13463-LSPW V-PW16 2017 UNK TRLR/Lars",null,null,null,"AS123542369","Gary Whitaker (123542369) Dining Administration","AS123542369-Gary Whitaker (123542369) Dining Administration","Active",null,null,null,null,null,null,null,null,null,null,null,"SC6920","SC6920||1400","1400","Prepaid Expenses",null,"All"]
[null,null,null,null,null,null,"AC00820","Humanities Communications","AC00820-Humanities Communications","Activity","FD01","Active","2025-01-02T03:05:30.165",null,null,null,null,null,null,null,null,"13464","LSPW V-PW15 2012 JAY TRLR/McMi","13464-LSPW V-PW15 2012 JAY TRLR/McMi",null,null,null,"AS123563353","Nicole Donahoo (123563353) MSB - Dean's Office, Marriott School of Business","AS123563353-Nicole Donahoo (123563353) MSB - Dean's Office, Marriott School of Business","Active",null,null,null,null,null,null,null,null,null,null,null,"SC6920","SC6920||1638","1638","Media",null,"JE_PPE|JE_Override"]
[null,null,null,null,null,null,"AC00821","Internatl Film Cine","AC00821-Internatl Film Cine","Activity","FD01","Active","2025-01-02T03:05:30.165",null,null,null,null,null,null,null,null,"13465","LSPW V-PW36 2020 CHV BOLT EV/A","13465-LSPW V-PW36 2020 CHV BOLT EV/A",null,null,null,"AS123697382","Jeff Copas (123697382) PF Building Operations","AS123697382-Jeff Copas (123697382) PF Building Operations","Active",null,null,null,null,null,null,null,null,null,null,null,"SC6920","SC6920||1700","1700","Accumulated Depreciation",null,"JE_PPE|JE_Override"]
[null,null,null,null,null,null,"AC00822","F-Lang Teach Sum Ins","AC00822-F-Lang Teach Sum Ins","Activity","FD01","Active","2025-01-02T03:05:30.165",null,null,null,null,null,null,null,null,"13466","LSPW V-PW59 2013 HOND ATV/Smit","13466-LSPW V-PW59 2013 HOND ATV/Smit",null,null,null,"AS123820240","Ron Hager (123820240) Life Sciences - Dean's Office","AS123820240-Ron Hager (123820240) Life Sciences - Dean's Office","Active",null,null,null,null,null,null,null,null,null,null,null,"SC6920","SC6920||6900","6900","Equipment, Software, Library","Primary","All"]
[null,null,null,null,null,null,"AC00823","American Studies","AC00823-American Studies","Activity","FD01","Active","2025-01-02T03:05:30.165",null,null,null,null,null,null,null,null,"13467","LSPW V-PW60 2010 KUBO TRAC/Arr","13467-LSPW V-PW60 2010 KUBO TRAC/Arr",null,null,null,"AS123985964","Stephen Done (123985964) BYU Broadcasting - Digital Media","AS123985964-Stephen Done (123985964) BYU Broadcasting - Digital Media","Active",null,null,null,null,null,null,null,null,null,null,null,"SC6920","SC6920||8000","8000","Depreciation",null,"JE_PPE|JE_Override"]
[null,null,null,null,null,null,"AC00824","Humanities Copy Machines","AC00824-Humanities Copy Machines","Activity","FD02","Active","2025-01-02T03:05:30.165",null,null,null,null,null,null,null,null,"13468","LSPW V-PW55 2015 Artic Cat ATV","13468-LSPW V-PW55 2015 Artic Cat ATV",null,null,null,"AS124120943","Randa Alvord (124120943) Advisement, College of Fine Arts and Communications","AS124120943-Randa Alvord (124120943) Advisement, College of Fine Arts and Communications","Active",null,null,null,null,null,null,null,null,null,null,null,"SC6921","SC6921||1400","1400","Prepaid Expenses",null,"All"]
[null,null,null,null,null,null,"AC00825","Humanities Royalties","AC00825-Humanities Royalties","Activity","FD03","Active","2025-01-02T03:05:30.165",null,null,null,null,null,null,null,null,"13469","LSPW V-PW56 2014 Honda ATV/Lar","13469-LSPW V-PW56 2014 Honda ATV/Lar",null,null,null,"AS124472486","Layne Peterson (124472486) Fine Arts & Communications - Dean's Office","AS124472486-Layne Peterson (124472486) Fine Arts & Communications - Dean's Office","Active",null,null,null,null,null,null,null,null,null,null,null,"SC6921","SC6921||1625","1625","Capital Equipment",null,"JE_PPE|JE_Override"]
[null,null,null,null,null,null,"AC00826","ORCA Faculty MEG Grants","AC00826-ORCA Faculty MEG Grants","Activity","FD03","Active","2025-01-02T03:05:30.165",null,null,null,null,null,null,null,null,"13470","LSPW V-PW65 2007 Honda ATV/Lar","13470-LSPW V-PW65 2007 Honda ATV/Lar",null,null,null,"AS124732026","Mark Ellison (124732026) Religious Educcation - Dean's Office","AS124732026-Mark Ellison (124732026) Religious Educcation - Dean's Office","Active",null,null,null,null,null,null,null,null,null,null,null,"SC6921","SC6921||1650","1650","Construction in Progress",null,"JE_PPE|JE_Override"]
[null,null,null,null,null,null,"AC00827","Humanities Internship Program","AC00827-Humanities Internship Program","Activity","FD03","Active","2025-01-02T03:05:30.165",null,null,null,null,null,null,null,null,"13471","LSPW V-PW89 2000KubotaTrac/Mad","13471-LSPW V-PW89 2000KubotaTrac/Mad",null,null,null,"AS124891767","Emily Sumsion (124891767) CE FSY Region 6","AS124891767-Emily Sumsion (124891767) CE FSY Region 6","Active",null,null,null,null,null,null,null,null,null,null,null,"SC6921","SC6921||1651","1651","Construction in Progress (Non-Workday Projects)",null,"All"]
[null,null,null,null,null,null,"AC00829","Humanities Exp Learning","AC00829-Humanities Exp Learning","Activity","FD03","Active","2025-01-02T03:05:30.165",null,null,null,null,null,null,null,null,"13472","LSPW V-PW92V 1997 Sierra Trail","13472-LSPW V-PW92V 1997 Sierra Trail",null,null,null,"AS125090296","Clifton Farnsworth (125090296) College of Engineering - Dean's Office","AS125090296-Clifton Farnsworth (125090296) College of Engineering - Dean's Office","Active",null,null,null,null,null,null,null,null,null,null,null,"SC6921","SC6921||1700","1700","Accumulated Depreciation",null,"JE_PPE|JE_Override"]
[null,null,null,null,null,null,"AC00830","WSTAR Group","AC00830-WSTAR Group","Activity","FD01","Active","2025-01-02T03:05:30.165",null,null,null,null,null,null,null,null,"13473","LSPW V-PW58 2015 Honda ATV/Smi","13473-LSPW V-PW58 2015 Honda ATV/Smi",null,null,null,"AS125095502","Blake Hansen (125095502) MSE - Dean's Office, McKay School of Education","AS125095502-Blake Hansen (125095502) MSE - Dean's Office, McKay School of Education","Active",null,null,null,null,null,null,null,null,null,null,null,"SC6921","SC6921||6900","6900","Equipment, Software, Library","Primary","All"]
[null,null,null,null,null,null,"AC00831","Translation Studies Rsrch Grp","AC00831-Translation Studies Rsrch Grp","Activity","FD01","Active","2025-01-02T03:05:30.165",null,null,null,null,null,null,null,null,"13474","LSPW V-PW66 2015 BIG TRLR/Arri","13474-LSPW V-PW66 2015 BIG TRLR/Arri",null,null,null,"AS125815511","Bonnie Geldmacher (125815511) Clark Law School - Law School Library","AS125815511-Bonnie Geldmacher (125815511) Clark Law School - Law School Library","Active",null,null,null,null,null,null,null,null,null,null,null,"SC6921","SC6921||8000","8000","Depreciation",null,"JE_PPE|JE_Override"]
[null,null,null,null,null,null,"AC00832","Oceans,Islands,Americas RG","AC00832-Oceans,Islands,Americas RG","Activity","FD01","Active","2025-01-02T03:05:30.165",null,null,null,null,null,null,null,null,"13475","LSPW V-PW67 2012 BIG TRLR/Arri","13475-LSPW V-PW67 2012 BIG TRLR/Arri",null,null,null,"AS125840977","Jeremy Fraser (125840977) PF Moving, Receiving, & Office Furniture","AS125840977-Jeremy Fraser (125840977) PF Moving, Receiving, & Office Furniture","Active",null,null,null,null,null,null,null,null,null,null,null,"SC6922","SC6922||1400","1400","Prepaid Expenses",null,"All"]
[null,null,null,null,null,null,"AC00833","Black Music Research Group","AC00833-Black Music Research Group","Activity","FD01","Active","2025-01-02T03:05:30.165",null,null,null,null,null,null,null,null,"13476","LSPW V-PW82 2014 Polaris SNO/L","13476-LSPW V-PW82 2014 Polaris SNO/L",null,null,null,"AS126333697","Mark Hughes (126333697) CMS - Dean's Office Computational, Mathematical, & Phsical","AS126333697-Mark Hughes (126333697) CMS - Dean's Office Computational, Mathematical, & Phsical","Active",null,null,null,null,null,null,null,null,null,null,null,"SC6922","SC6922||6900","6900","Equipment, Software, Library","Primary","All"]
[null,null,null,null,null,null,"AC00834","Experiential Hum Rsrch Grp","AC00834-Experiential Hum Rsrch Grp","Activity","FD01","Active","2025-01-02T03:05:30.165",null,null,null,null,null,null,null,null,"13477","LSPW V-PW68 2016 Honda ATV/All","13477-LSPW V-PW68 2016 Honda ATV/All",null,null,null,"AS126379521","Yvette Anderson (126379521) Master of Business Administration","AS126379521-Yvette Anderson (126379521) Master of Business Administration","Active",null,null,null,null,null,null,null,null,null,null,null,"SC6923","SC6923||1400","1400","Prepaid Expenses",null,"All"]
[null,null,null,null,null,null,"AC00835","Theology&Humanities Rsrch Grp","AC00835-Theology&Humanities Rsrch Grp","Activity","FD01","Active","2025-01-02T03:05:30.165",null,null,null,null,null,null,null,null,"13478","LSPW V-PW41 2016 YAMA ATV/Ande","13478-LSPW V-PW41 2016 YAMA ATV/Ande",null,null,null,"AS126545477","Tara Marquez (126545477) Athletics - Olympic Sport Medicine","AS126545477-Tara Marquez (126545477) Athletics - Olympic Sport Medicine","Active",null,null,null,null,null,null,null,null,null,null,null,"SC6923","SC6923||1625","1625","Capital Equipment",null,"JE_PPE|JE_Override"]
[null,null,null,null,null,null,"AC00836","Ed for Leadership Rrsch Group","AC00836-Ed for Leadership Rrsch Group","Activity","FD01","Active","2025-01-02T03:05:30.165",null,null,null,null,null,null,null,null,"13479","LSPW V-PW3 2015 Ram Truck/Ande","13479-LSPW V-PW3 2015 Ram Truck/Ande",null,null,null,"AS126590901","Zack Warren (126590901) Athletics - Administration","AS126590901-Zack Warren (126590901) Athletics - Administration","Active",null,null,null,null,null,null,null,null,null,null,null,"SC6923","SC6923||1700","1700","Accumulated Depreciation",null,"JE_PPE|JE_Override"]
[null,null,null,null,null,null,"AC00837","Applied Hum Rsrch Grp","AC00837-Applied Hum Rsrch Grp","Activity","FD01","Active","2025-01-02T03:05:30.165",null,null,null,null,null,null,null,null,"13480","LSPW V-PW20 2017 Ram Truck/Pet","13480-LSPW V-PW20 2017 Ram Truck/Pet",null,null,null,"AS126632870","Julie Rivers (126632870) Performing Arts Management","AS126632870-Julie Rivers (126632870) Performing Arts Management","Active",null,null,null,null,null,null,null,null,null,null,null,"SC6923","SC6923||6900","6900","Equipment, Software, Library","Primary","All"]
[null,null,null,null,null,null,"AC00838","Boarding School Stories RG","AC00838-Boarding School Stories RG","Activity","FD01","Active","2025-01-02T03:05:30.165",null,null,null,null,null,null,null,null,"13481","LSPW V-PW32V 2017 TOYT Truck/P","13481-LSPW V-PW32V 2017 TOYT Truck/P",null,null,null,"AS126634758","Kirsten Thompson (126634758) Academic VP Office","AS126634758-Kirsten Thompson (126634758) Academic VP Office","Active",null,null,null,null,null,null,null,null,null,null,null,"SC6923","SC6923||8000","8000","Depreciation",null,"JE_PPE|JE_Override"]
[null,null,null,null,null,null,"AC00839","Greek & Latin Translation RG","AC00839-Greek & Latin Translation RG","Activity","FD01","Active","2025-01-02T03:05:30.165",null,null,null,null,null,null,null,null,"13482","LSPW V-PW80 2018 AL Trailer/An","13482-LSPW V-PW80 2018 AL Trailer/An",null,null,null,"AS126682227","Earl Brown (126682227) Humanities - Dean's Office","AS126682227-Earl Brown (126682227) Humanities - Dean's Office","Active",null,null,null,null,null,null,null,null,null,null,null,"SC6924","SC6924||1400","1400","Prepaid Expenses",null,"All"]
[null,null,null,null,null,null,"AC00840","Editing & Publishing RG","AC00840-Editing & Publishing RG","Activity","FD01","Active","2025-01-02T03:05:30.165",null,null,null,null,null,null,null,null,"13483","LSPW V-PW31 Welding TRLR/Madse","13483-LSPW V-PW31 Welding TRLR/Madse",null,null,null,"AS127277455","Brook Gotberg (127277455) Academic VP Office, Deans","AS127277455-Brook Gotberg (127277455) Academic VP Office, Deans","Active",null,null,null,null,null,null,null,null,null,null,null,"SC6924","SC6924||1625","1625","Capital Equipment",null,"JE_PPE|JE_Override"]
[null,null,null,null,null,null,"AC00841","Romantic & Victorian Group","AC00841-Romantic & Victorian Group","Activity","FD01","Active","2025-01-02T03:05:30.165",null,null,null,null,null,null,null,null,"13484","LSPW V-PW75 1980 Home Trailer/","13484-LSPW V-PW75 1980 Home Trailer/",null,null,null,"AS127470044","Nathan Haines (127470044) Fine Arts & Communications - Dean's Office","AS127470044-Nathan Haines (127470044) Fine Arts & Communications - Dean's Office","Active",null,null,null,null,null,null,null,null,null,null,null,"SC6924","SC6924||1650","1650","Construction in Progress",null,"JE_PPE|JE_Override"]
[null,null,null,null,null,null,"AC00842","MARS Research Group","AC00842-MARS Research Group","Activity","FD01","Active","2025-01-02T03:05:30.165",null,null,null,null,null,null,null,null,"13485","LSPW V-PW31 2018 GMC STruck/PW","13485-LSPW V-PW31 2018 GMC STruck/PW",null,null,null,"AS127614029","Marsh Morford (127614029) BYU Broadcasting - Post Production","AS127614029-Marsh Morford (127614029) BYU Broadcasting - Post Production","Active",null,null,null,null,null,null,null,null,null,null,null,"SC6924","SC6924||1651","1651","Construction in Progress (Non-Workday Projects)",null,"All"]
[null,null,null,null,null,null,"AC00843","Literature/Belf Symposium","AC00843-Literature/Belf Symposium","Activity","FD03","Active","2025-01-02T03:05:30.165",null,null,null,null,null,null,null,null,"13486","LSPW V-PW51 2018 YAMA ATV/Lars","13486-LSPW V-PW51 2018 YAMA ATV/Lars",null,null,null,"AS127769758","Scott Payne (127769758) OIT Core - Business Process & Project Mgmt","AS127769758-Scott Payne (127769758) OIT Core - Business Process & Project Mgmt","Active",null,null,null,null,null,null,null,null,null,null,null,"SC6924","SC6924||1700","1700","Accumulated Depreciation",null,"JE_PPE|JE_Override"]
[null,null,null,null,null,null,"AC00844","Belonging","AC00844-Belonging","Activity","FD01","Active","2025-01-02T03:05:30.165",null,null,null,null,null,null,null,null,"13487","LSPW V-PW65V 2013 YAMA ATV/Lar","13487-LSPW V-PW65V 2013 YAMA ATV/Lar",null,null,null,"AS128083483","Gregory Macfarlane (128083483) College of Engineering - Dean's Office","AS128083483-Gregory Macfarlane (128083483) College of Engineering - Dean's Office","Active",null,null,null,null,null,null,null,null,null,null,null,"SC6924","SC6924||6900","6900","Equipment, Software, Library","Primary","All"]
[null,null,null,null,null,null,"AC00845","Humanities Leadership Council","AC00845-Humanities Leadership Council","Activity","FD02","Active","2025-01-02T03:05:30.165",null,null,null,null,null,null,null,null,"13488","LSPW VRI/PWS Dep/Hansen&Hopkin","13488-LSPW VRI/PWS Dep/Hansen&Hopkin",null,null,null,"AS128447981","Todd Uffens (128447981) Retail Services - General Administration","AS128447981-Todd Uffens (128447981) Retail Services - General Administration","Active",null,null,null,null,null,null,null,null,null,null,null,"SC6924","SC6924||8000","8000","Depreciation",null,"JE_PPE|JE_Override"]
[null,null,null,null,null,null,"AC00846","Translatn & Localizatn Club","AC00846-Translatn & Localizatn Club","Activity","FD02","Active","2025-01-02T03:05:30.165",null,null,null,null,null,null,null,null,"13489","LSPW VRI/Geography Dep/Jenson","13489-LSPW VRI/Geography Dep/Jenson",null,null,null,"AS128774011","Traci Neilsen (128774011) CMS - Dean's Office Computational, Mathematical, & Phsical","AS128774011-Traci Neilsen (128774011) CMS - Dean's Office Computational, Mathematical, & Phsical","Active",null,null,null,null,null,null,null,null,null,null,null,"SC6925","SC6925||1400","1400","Prepaid Expenses",null,"All"]
[null,null,null,null,null,null,"AC00847","[HUM] Medical Humanities Club","AC00847-[HUM] Medical Humanities Club","Activity","FD02","Active","2025-01-14T03:04:56.040044+00:00",null,null,null,null,null,null,null,null,"13490","LSPW VRI/Statistics Dep/Heaton","13490-LSPW VRI/Statistics Dep/Heaton",null,null,null,"AS128853436","Greg Corlett (128853436) Computer Science","AS128853436-Greg Corlett (128853436) Computer Science","Active",null,null,null,null,null,null,null,null,null,null,null,"SC6925","SC6925||6900","6900","Equipment, Software, Library","Primary","All"]
[null,null,null,null,null,null,"AC00848","Humanities to Business Club","AC00848-Humanities to Business Club","Activity","FD02","Active","2025-01-02T03:05:30.165",null,null,null,null,null,null,null,null,"13491","LSPW Navajo Nation Pinyon R/St","13491-LSPW Navajo Nation Pinyon R/St",null,null,null,"AS129016922","Jeff Lyon (129016922) Lee Library - Metadata & Information Technology","AS129016922-Jeff Lyon (129016922) Lee Library - Metadata & Information Technology","Active",null,null,null,null,null,null,null,null,null,null,null,"SC6926","SC6926||1400","1400","Prepaid Expenses",null,"All"]
[null,null,null,null,null,null,"AC00849","Chinese Club","AC00849-Chinese Club","Activity","FD02","Active","2025-01-02T03:05:30.165",null,null,null,null,null,null,null,null,"13492","LSPW Charles Redd Center/Smith","13492-LSPW Charles Redd Center/Smith",null,null,null,"AS129251124","Greg Conner (129251124) CMS - Dean's Office Computational, Mathematical, & Phsical","AS129251124-Greg Conner (129251124) CMS - Dean's Office Computational, Mathematical, & Phsical","Active",null,null,null,null,null,null,null,null,null,null,null,"SC6926","SC6926||1625","1625","Capital Equipment",null,"JE_PPE|JE_Override"]
[null,null,null,null,null,null,"AC00850","Korean Language & Culture Club","AC00850-Korean Language & Culture Club","Activity","FD02","Active","2025-01-02T03:05:30.165",null,null,null,null,null,null,null,null,"13493","LSPW SANT-Bears Ears Research-","13493-LSPW SANT-Bears Ears Research-",null,null,null,"AS129666591","Eric Hansen (129666591) OIT Resource - Application Engineering","AS129666591-Eric Hansen (129666591) OIT Resource - Application Engineering","Active",null,null,null,null,null,null,null,null,null,null,null,"SC6926","SC6926||1700","1700","Accumulated Depreciation",null,"JE_PPE|JE_Override"]
[null,null,null,null,null,null,"AC00851","Japan Club","AC00851-Japan Club","Activity","FD02","Active","2025-01-02T03:05:30.165",null,null,null,null,null,null,null,null,"13494","LSPW Kennedy Center","13494-LSPW Kennedy Center",null,null,null,"AS130025478","Heather Leary (130025478) MSE - Dean's Office, McKay School of Education","AS130025478-Heather Leary (130025478) MSE - Dean's Office, McKay School of Education","Active",null,null,null,null,null,null,null,null,null,null,null,"SC6926","SC6926||6900","6900","Equipment, Software, Library","Primary","All"]
[null,null,null,null,null,null,"AC00852","Japanese Language Fair","AC00852-Japanese Language Fair","Activity","FD02","Active","2025-01-02T03:05:30.165",null,null,null,null,null,null,null,null,"13495","LSPW Agbiochem/Bacteria/Geary","13495-LSPW Agbiochem/Bacteria/Geary",null,null,null,"AS130212271","Justin Peatross (130212271) CMS - Dean's Office Computational, Mathematical, & Phsical","AS130212271-Justin Peatross (130212271) CMS - Dean's Office Computational, Mathematical, & Phsical","Active",null,null,null,null,null,null,null,null,null,null,null,"SC6926","SC6926||8000","8000","Depreciation",null,"JE_PPE|JE_Override"]
[null,null,null,null,null,null,"AC00853","Japan Student Assoc","AC00853-Japan Student Assoc","Activity","FD02","Active","2025-01-02T03:05:30.165",null,null,null,null,null,null,null,null,"13496","LSPW Wastewater SARS-COV-2/Aan","13496-LSPW Wastewater SARS-COV-2/Aan",null,null,null,"AS130331894","Jason Hansen (130331894) Life Sciences - Dean's Office","AS130331894-Jason Hansen (130331894) Life Sciences - Dean's Office","Active",null,null,null,null,null,null,null,null,null,null,null,"SC6927","SC6927||1400","1400","Prepaid Expenses",null,"All"]
[null,null,null,null,null,null,"AC00854","BYU Hebrew Student Association","AC00854-BYU Hebrew Student Association","Activity","FD02","Active","2025-01-02T03:05:30.165",null,null,null,null,null,null,null,null,"13497","LSPW Charles Redd Center/St Cl","13497-LSPW Charles Redd Center/St Cl",null,null,null,"AS130365989","David Orton (130365989) OIT Portfolio - Tech Planning CES","AS130365989-David Orton (130365989) OIT Portfolio - Tech Planning CES","Active",null,null,null,null,null,null,null,null,null,null,null,"SC6927","SC6927||1625","1625","Capital Equipment",null,"JE_PPE|JE_Override"]
[null,null,null,null,null,null,"AC00855","Arabic Club","AC00855-Arabic Club","Activity","FD02","Active","2025-01-02T03:05:30.165",null,null,null,null,null,null,null,null,"13498","LSPW Charles Redd Center/Stewa","13498-LSPW Charles Redd Center/Stewa",null,null,null,"AS130490818","Kirsti Nelson (130490818) Purchasing and Travel- Campus Travel","AS130490818-Kirsti Nelson (130490818) Purchasing and Travel- Campus Travel","Active",null,null,null,null,null,null,null,null,null,null,null,"SC6927","SC6927||1650","1650","Construction in Progress",null,"JE_PPE|JE_Override"]
[null,null,null,null,null,null,"AC00856","Nihongo Program","AC00856-Nihongo Program","Activity","FD03","Active","2025-01-02T03:05:30.165",null,null,null,null,null,null,null,null,"13499","LSPW Charles Redd Center/Allph","13499-LSPW Charles Redd Center/Allph",null,null,null,"AS130563092","Brendan Wright (130563092) Academic VP Office, Deans","AS130563092-Brendan Wright (130563092) Academic VP Office, Deans","Active",null,null,null,null,null,null,null,null,null,null,null,"SC6927","SC6927||1651","1651","Construction in Progress (Non-Workday Projects)",null,"All"]
[null,null,null,null,null,null,"AC00857","Ind Study Course Development","AC00857-Ind Study Course Development","Activity","FD03","Active","2025-01-02T03:05:30.165",null,null,null,null,null,null,null,null,"13500","LSBM Director","13500-LSBM Director",null,null,null,"AS130564577","Kosha Hansen (130564577) Facilities Planning and Design - Campus Projects","AS130564577-Kosha Hansen (130564577) Facilities Planning and Design - Campus Projects","Active",null,null,null,null,null,null,null,null,null,null,null,"SC6927","SC6927||1700","1700","Accumulated Depreciation",null,"JE_PPE|JE_Override"]
[null,null,null,null,null,null,"AC00859","American Sign Language","AC00859-American Sign Language","Activity","FD01","Active","2025-01-02T03:05:30.165",null,null,null,null,null,null,null,null,"13501","LSBM Roberta Larsen","13501-LSBM Roberta Larsen",null,null,null,"AS130971411","Susie Quartey (130971411) Research Administration - Sponsored Projects","AS130971411-Susie Quartey (130971411) Research Administration - Sponsored Projects","Active",null,null,null,null,null,null,null,null,null,null,null,"SC6927","SC6927||6900","6900","Equipment, Software, Library","Primary","All"]
[null,null,null,null,null,null,"AC00860","CLS-Measurement & Evaluation","AC00860-CLS-Measurement & Evaluation","Activity","FD01","Active","2025-01-02T03:05:30.165",null,null,null,null,null,null,null,null,"13502","LSBM Museum Bldg","13502-LSBM Museum Bldg",null,null,null,"AS130973917","Stephanie Bair (130973917) Academic VP Office, Deans","AS130973917-Stephanie Bair (130973917) Academic VP Office, Deans","Active",null,null,null,null,null,null,null,null,null,null,null,"SC6927","SC6927||8000","8000","Depreciation",null,"JE_PPE|JE_Override"]
[null,null,null,null,null,null,"AC00861","CLS-Research & Proficiency Srvcs","AC00861-CLS-Research & Proficiency Srvcs","Activity","FD01","Active","2025-01-02T03:05:30.165",null,null,null,null,null,null,null,null,"13504","LSBM VLR4-Ford Dump Bed (gas o","13504-LSBM VLR4-Ford Dump Bed (gas o",null,null,null,"AS131008737","Damon Darais (131008737) OIT Leadership - CES Architecture","AS131008737-Damon Darais (131008737) OIT Leadership - CES Architecture","Active",null,null,null,null,null,null,null,null,null,null,null,"SC6928","SC6928||1400","1400","Prepaid Expenses",null,"All"]
[null,null,null,null,null,null,"AC00862","CLS-Translation & Localization","AC00862-CLS-Translation & Localization","Activity","FD01","Active","2025-01-02T03:05:30.165",null,null,null,null,null,null,null,null,"13505","LSBM Lytle vehicle maintenance","13505-LSBM Lytle vehicle maintenance",null,null,null,"AS131471623","Montana Djanie (131471623) Enrollment Services Executive Director's Office","AS131471623-Montana Djanie (131471623) Enrollment Services Executive Director's Office","Active",null,null,null,null,null,null,null,null,null,null,null,"SC6928","SC6928||1625","1625","Capital Equipment",null,"JE_PPE|JE_Override"]
[null,null,null,null,null,null,"AC00863","CLS-Curriculum & Instruction","AC00863-CLS-Curriculum & Instruction","Activity","FD01","Active","2025-01-02T03:05:30.165",null,null,null,null,null,null,null,null,"13506","LSBM Packer, Ken","13506-LSBM Packer, Ken",null,null,null,"AS131511199","Ed McCracken (131511199) Administrative Solutions","AS131511199-Ed McCracken (131511199) Administrative Solutions","Active",null,null,null,null,null,null,null,null,null,null,null,"SC6928","SC6928||1650","1650","Construction in Progress",null,"JE_PPE|JE_Override"]
[null,null,null,null,null,null,"AC00864","CES-Global Education Support","AC00864-CES-Global Education Support","Activity","FD01","Active","2025-01-02T03:05:30.165",null,null,null,null,null,null,null,null,"13507","LSBM Hammari, Josh","13507-LSBM Hammari, Josh",null,null,null,"AS131577106","Joel Campbell (131577106) Fine Arts & Communications - Dean's Office","AS131577106-Joel Campbell (131577106) Fine Arts & Communications - Dean's Office","Active",null,null,null,null,null,null,null,null,null,null,null,"SC6928","SC6928||1651","1651","Construction in Progress (Non-Workday Projects)",null,"All"]
[null,null,null,null,null,null,"AC00865","American Sign Language Club","AC00865-American Sign Language Club","Activity","FD02","Active","2025-01-02T03:05:30.165",null,null,null,null,null,null,null,null,"13508","LSBM Kite, Taylor","13508-LSBM Kite, Taylor",null,null,null,"AS131602654","Ray Lines (131602654) OIT Leadership - AVP","AS131602654-Ray Lines (131602654) OIT Leadership - AVP","Active",null,null,null,null,null,null,null,null,null,null,null,"SC6928","SC6928||1700","1700","Accumulated Depreciation",null,"JE_PPE|JE_Override"]
[null,null,null,null,null,null,"AC00866","Second Language Teaching","AC00866-Second Language Teaching","Activity","FD01","Active","2025-01-02T03:05:30.165",null,null,null,null,null,null,null,null,"13509","LSBM Knight, Katy","13509-LSBM Knight, Katy",null,null,null,"AS131905426","Lisa Denning (131905426) BYU Security Operations - Police Dispatch","AS131905426-Lisa Denning (131905426) BYU Security Operations - Police Dispatch","Active",null,null,null,null,null,null,null,null,null,null,null,"SC6928","SC6928||6900","6900","Equipment, Software, Library","Primary","All"]
[null,null,null,null,null,null,"AC00867","WebCAPE","AC00867-WebCAPE","Activity","FD03","Active","2025-01-02T03:05:30.165",null,null,null,null,null,null,null,null,"13510","LSBM Dallin Leota","13510-LSBM Dallin Leota",null,null,null,"AS132409976","Evan Lambson (132409976) OIT Resource - Application Engineering","AS132409976-Evan Lambson (132409976) OIT Resource - Application Engineering","Active",null,null,null,null,null,null,null,null,null,null,null,"SC6928","SC6928||8000","8000","Depreciation",null,"JE_PPE|JE_Override"]
[null,null,null,null,null,null,"AC00868","Mentored Learning-Ext Funded","AC00868-Mentored Learning-Ext Funded","Activity","FD03","Active","2025-01-02T03:05:30.165",null,null,null,null,null,null,null,null,"13511","LSBM VLR1 - 2013 GMC (gas only","13511-LSBM VLR1 - 2013 GMC (gas only",null,null,null,"AS132557605","Curtis LeBaron (132557605) MSB - Dean's Office, Marriott School of Business","AS132557605-Curtis LeBaron (132557605) MSB - Dean's Office, Marriott School of Business","Active",null,null,null,null,null,null,null,null,null,null,null,"SC6929","SC6929||1400","1400","Prepaid Expenses",null,"All"]
[null,null,null,null,null,null,"AC00869","Eye Tracking Research Grant","AC00869-Eye Tracking Research Grant","Activity","FD03","Active","2025-01-02T03:05:30.165",null,null,null,null,null,null,null,null,"13512","LSBM Diesel Storage","13512-LSBM Diesel Storage",null,null,null,"AS132612214","Scarlett Lindsay (132612214) CE Multimedia Services","AS132612214-Scarlett Lindsay (132612214) CE Multimedia Services","Active",null,null,null,null,null,null,null,null,null,null,null,"SC6929","SC6929||1625","1625","Capital Equipment",null,"JE_PPE|JE_Override"]
[null,null,null,null,null,null,"AC00870","Comp Adaptive Lang Test: CALT","AC00870-Comp Adaptive Lang Test: CALT","Activity","FD03","Active","2025-01-02T03:05:30.165",null,null,null,null,null,null,null,null,"13513","LSBM Petroleum (non-diesel) St","13513-LSBM Petroleum (non-diesel) St",null,null,null,"AS132849662","Marianna Tronchuk (132849662) Cougareat","AS132849662-Marianna Tronchuk (132849662) Cougareat","Active",null,null,null,null,null,null,null,null,null,null,null,"SC6929","SC6929||1650","1650","Construction in Progress",null,"JE_PPE|JE_Override"]
[null,null,null,null,null,null,"AC00871","RM Lifelong Lang Learning -PIA","AC00871-RM Lifelong Lang Learning -PIA","Activity","FD03","Active","2025-01-02T03:05:30.165",null,null,null,null,null,null,null,null,"13514","LSBM Janene Auger","13514-LSBM Janene Auger",null,null,null,"AS132862844","Carolee Rogers (132862844) Humanities - Dean's Office","AS132862844-Carolee Rogers (132862844) Humanities - Dean's Office","Active",null,null,null,null,null,null,null,null,null,null,null,"SC6929","SC6929||1651","1651","Construction in Progress (Non-Workday Projects)",null,"All"]
[null,null,null,null,null,null,"AC00872","Machine Learning&LASER-PIA2022","AC00872-Machine Learning&LASER-PIA2022","Activity","FD03","Active","2025-01-02T03:05:30.165",null,null,null,null,null,null,null,null,"13515","LSBM Schenck, Travis","13515-LSBM Schenck, Travis",null,null,null,"AS133151076","Mark Atwood (133151076) PF Building Operations","AS133151076-Mark Atwood (133151076) PF Building Operations","Active",null,null,null,null,null,null,null,null,null,null,null,"SC6929","SC6929||1700","1700","Accumulated Depreciation",null,"JE_PPE|JE_Override"]
[null,null,null,null,null,null,"AC00873","CLS-ASL","AC00873-CLS-ASL","Activity","FD03","Active","2025-01-02T03:05:30.165",null,null,null,null,null,null,null,null,"13516","LSBM Hadfied, Robert","13516-LSBM Hadfied, Robert",null,null,null,"AS133245229","Eva Witesman (133245229) MSB - Dean's Office, Marriott School of Business","AS133245229-Eva Witesman (133245229) MSB - Dean's Office, Marriott School of Business","Active",null,null,null,null,null,null,null,null,null,null,null,"SC6929","SC6929||6900","6900","Equipment, Software, Library","Primary","All"]
[null,null,null,null,null,null,"AC00874","CLS-GES","AC00874-CLS-GES","Activity","FD03","Active","2025-01-02T03:05:30.165",null,null,null,null,null,null,null,null,"13517","LSBM Skidmore, Skip","13517-LSBM Skidmore, Skip",null,null,null,"AS133647388","Brendan Huber (133647388) Lee Library - Information Technology","AS133647388-Brendan Huber (133647388) Lee Library - Information Technology","Active",null,null,null,null,null,null,null,null,null,null,null,"SC6929","SC6929||8000","8000","Depreciation",null,"JE_PPE|JE_Override"]
[null,null,null,null,null,null,"AC00875","CLS-R&PS","AC00875-CLS-R&PS","Activity","FD03","Active","2025-01-02T03:05:30.165",null,null,null,null,null,null,null,null,"13519","LSBM Baker, Randy","13519-LSBM Baker, Randy",null,null,null,"AS133692455","Tim McLain (133692455) Academic VP Office, Deans","AS133692455-Tim McLain (133692455) Academic VP Office, Deans","Active",null,null,null,null,null,null,null,null,null,null,null,"SC6930","SC6930||1400","1400","Prepaid Expenses",null,"All"]
[null,null,null,null,null,null,"AC00877","Language Houses","AC00877-Language Houses","Activity","FD02","Active","2025-01-02T03:05:30.165",null,null,null,null,null,null,null,null,"13520","LSBM Exhibits General","13520-LSBM Exhibits General",null,null,null,"AS133811138","Ruth Aguirre (133811138) FHSS - Dean's Office","AS133811138-Ruth Aguirre (133811138) FHSS - Dean's Office","Active",null,null,null,null,null,null,null,null,null,null,null,"SC6930","SC6930||6900","6900","Equipment, Software, Library","Primary","All"]
[null,null,null,null,null,null,"AC00878","ASL House","AC00878-ASL House","Activity","FD02","Active","2025-01-02T03:05:30.165",null,null,null,null,null,null,null,null,"13521","LSBM Citizen Science Center","13521-LSBM Citizen Science Center",null,null,null,"AS133832735","Robbie Chaney (133832735) Life Sciences - Dean's Office","AS133832735-Robbie Chaney (133832735) Life Sciences - Dean's Office","Active",null,null,null,null,null,null,null,null,null,null,null,"SC6931","SC6931||1400","1400","Prepaid Expenses",null,"All"]
[null,null,null,null,null,null,"AC00879","Italian Language Hse","AC00879-Italian Language Hse","Activity","FD02","Active","2025-01-02T03:05:30.165",null,null,null,null,null,null,null,null,"13522","LSBM Date Night","13522-LSBM Date Night",null,null,null,"AS133959713","Nathan Crane (133959713) College of Engineering - Dean's Office","AS133959713-Nathan Crane (133959713) College of Engineering - Dean's Office","Active",null,null,null,null,null,null,null,null,null,null,null,"SC6931","SC6931||1625","1625","Capital Equipment",null,"JE_PPE|JE_Override"]
[null,null,null,null,null,null,"AC00880","French Language Hse","AC00880-French Language Hse","Activity","FD02","Active","2025-01-02T03:05:30.165",null,null,null,null,null,null,null,null,"13523","LSBM Education Other","13523-LSBM Education Other",null,null,null,"AS134122299","Jacob Speakman (134122299) OIT Resource - Application Engineering","AS134122299-Jacob Speakman (134122299) OIT Resource - Application Engineering","Active",null,null,null,null,null,null,null,null,null,null,null,"SC6931","SC6931||1650","1650","Construction in Progress",null,"JE_PPE|JE_Override"]
[null,null,null,null,null,null,"AC00881","Spanish Hse","AC00881-Spanish Hse","Activity","FD02","Active","2025-01-02T03:05:30.165",null,null,null,null,null,null,null,null,"13524","LSBM Junior Naturalist","13524-LSBM Junior Naturalist",null,null,null,"AS134167750","Sione Pouha (134167750) Athletics - Football","AS134167750-Sione Pouha (134167750) Athletics - Football","Active",null,null,null,null,null,null,null,null,null,null,null,"SC6931","SC6931||1651","1651","Construction in Progress (Non-Workday Projects)",null,"All"]
[null,null,null,null,null,null,"AC00882","Portuguese House","AC00882-Portuguese House","Activity","FD02","Active","2025-01-02T03:05:30.165",null,null,null,null,null,null,null,null,"13525","LSBM Outreach","13525-LSBM Outreach",null,null,null,"AS134174522","Michael Holmes (134174522) CE Events","AS134174522-Michael Holmes (134174522) CE Events","Active",null,null,null,null,null,null,null,null,null,null,null,"SC6931","SC6931||1700","1700","Accumulated Depreciation",null,"JE_PPE|JE_Override"]
[null,null,null,null,null,null,"AC00883","Russian Language Hse","AC00883-Russian Language Hse","Activity","FD02","Active","2025-01-02T03:05:30.165",null,null,null,null,null,null,null,null,"13526","LSBM Educ. Collection Rental","13526-LSBM Educ. Collection Rental",null,null,null,"AS134234256","Rebekka Weidmann (134234256) FHSS - Dean's Office","AS134234256-Rebekka Weidmann (134234256) FHSS - Dean's Office","Active",null,null,null,null,null,null,null,null,null,null,null,"SC6931","SC6931||6900","6900","Equipment, Software, Library","Primary","All"]
[null,null,null,null,null,null,"AC00884","German Language Hse","AC00884-German Language Hse","Activity","FD02","Active","2025-01-02T03:05:30.165",null,null,null,null,null,null,null,null,"13527","LSBM Nature Experienceships","13527-LSBM Nature Experienceships",null,null,null,"AS134292154","Anne Apuakehau (134292154) MSB - Dean's Office, Marriott School of Business","AS134292154-Anne Apuakehau (134292154) MSB - Dean's Office, Marriott School of Business","Active",null,null,null,null,null,null,null,null,null,null,null,"SC6931","SC6931||8000","8000","Depreciation",null,"JE_PPE|JE_Override"]
[null,null,null,null,null,null,"AC00885","Japanese Lang House","AC00885-Japanese Lang House","Activity","FD02","Active","2025-01-02T03:05:30.165",null,null,null,null,null,null,null,null,"13528","LSBM Darwin Day","13528-LSBM Darwin Day",null,null,null,"AS134402120","Christopher Oscarson (134402120) Academic VP Office, Deans","AS134402120-Christopher Oscarson (134402120) Academic VP Office, Deans","Active",null,null,null,null,null,null,null,null,null,null,null,"SC6932","SC6932||1400","1400","Prepaid Expenses",null,"All"]
[null,null,null,null,null,null,"AC00886","Chinese House","AC00886-Chinese House","Activity","FD02","Active","2025-01-02T03:05:30.165",null,null,null,null,null,null,null,null,"13529","LSBM Bio-Box Rental","13529-LSBM Bio-Box Rental",null,null,null,"AS134467658","Elizabeth Tobiasson (134467658) Lee Library Administration - Metadata & IT Division","AS134467658-Elizabeth Tobiasson (134467658) Lee Library Administration - Metadata & IT Division","Active",null,null,null,null,null,null,null,null,null,null,null,"SC6932","SC6932||1625","1625","Capital Equipment",null,"JE_PPE|JE_Override"]
[null,null,null,null,null,null,"AC00887","Hebrew Lang House","AC00887-Hebrew Lang House","Activity","FD02","Active","2025-01-02T03:05:30.165",null,null,null,null,null,null,null,null,"13530","LSBM Biology Boot Camp","13530-LSBM Biology Boot Camp",null,null,null,"AS135170991","Paul Shaw (135170991) OIT Resource - Data and BI Engineering","AS135170991-Paul Shaw (135170991) OIT Resource - Data and BI Engineering","Active",null,null,null,null,null,null,null,null,null,null,null,"SC6932","SC6932||1650","1650","Construction in Progress",null,"JE_PPE|JE_Override"]
[null,null,null,null,null,null,"AC00888","Korean Language Hous","AC00888-Korean Language Hous","Activity","FD02","Active","2025-01-02T03:05:30.165",null,null,null,null,null,null,null,null,"13531","LSBM Trivia Night","13531-LSBM Trivia Night",null,null,null,"AS135410011","Emily Hreha (135410011) Lee Library - Collections Care","AS135410011-Emily Hreha (135410011) Lee Library - Collections Care","Active",null,null,null,null,null,null,null,null,null,null,null,"SC6932","SC6932||1651","1651","Construction in Progress (Non-Workday Projects)",null,"All"]
[null,null,null,null,null,null,"AC00889","Arabic Lang House","AC00889-Arabic Lang House","Activity","FD02","Active","2025-01-02T03:05:30.165",null,null,null,null,null,null,null,null,"13532","LSBM Critter Camp","13532-LSBM Critter Camp",null,null,null,"AS135467827","Russell Memory (135467827) Lee Library - Information Technology","AS135467827-Russell Memory (135467827) Lee Library - Information Technology","Active",null,null,null,null,null,null,null,null,null,null,null,"SC6932","SC6932||1700","1700","Accumulated Depreciation",null,"JE_PPE|JE_Override"]
[null,null,null,null,null,null,"AC00890","Writing Center","AC00890-Writing Center","Activity","FD01","Active","2025-01-02T03:05:30.165",null,null,null,null,null,null,null,null,"13533","LSBM Clark, Shawn-Research","13533-LSBM Clark, Shawn-Research",null,null,null,"AS135490539","Peter Esera (135490539) Purchasing and Travel","AS135490539-Peter Esera (135490539) Purchasing and Travel","Active",null,null,null,null,null,null,null,null,null,null,null,"SC6932","SC6932||6900","6900","Equipment, Software, Library","Primary","All"]
[null,null,null,null,null,null,"AC00891","English Graduate","AC00891-English Graduate","Activity","FD01","Active","2025-01-02T03:05:30.165",null,null,null,null,null,null,null,null,"13534","LSBM Baumann, Richard-Research","13534-LSBM Baumann, Richard-Research",null,null,null,"AS135502317","Jana Brookes (135502317) PF Paint & Sign Shop","AS135502317-Jana Brookes (135502317) PF Paint & Sign Shop","Active",null,null,null,null,null,null,null,null,null,null,null,"SC6932","SC6932||8000","8000","Depreciation",null,"JE_PPE|JE_Override"]
[null,null,null,null,null,null,"AC00892","University Writing","AC00892-University Writing","Activity","FD01","Active","2025-01-02T03:05:30.165",null,null,null,null,null,null,null,null,"13535","LSBM Game Night","13535-LSBM Game Night",null,null,null,"AS135530296","Bonnie Soderborg (135530296) CE Academic Systems","AS135530296-Bonnie Soderborg (135530296) CE Academic Systems","Active",null,null,null,null,null,null,null,null,null,null,null,"SC6933","SC6933||1400","1400","Prepaid Expenses",null,"All"]
[null,null,null,null,null,null,"AC00893","Writing Across the Curriculum","AC00893-Writing Across the Curriculum","Activity","FD01","Active","2025-01-02T03:05:30.165",null,null,null,null,null,null,null,null,"13536","LSBM Family Home Evening","13536-LSBM Family Home Evening",null,null,null,"AS135680766","Rebecca de Schweinitz (135680766) FHSS - Dean's Office","AS135680766-Rebecca de Schweinitz (135680766) FHSS - Dean's Office","Active",null,null,null,null,null,null,null,null,null,null,null,"SC6933","SC6933||1637","1637","Software",null,"JE_PPE|JE_Override"]
[null,null,null,null,null,null,"AC00894","Writing Fellows","AC00894-Writing Fellows","Activity","FD01","Active","2025-01-02T03:05:30.165",null,null,null,null,null,null,null,null,"13537","LSBM Whiting, Mike-Insect-Rese","13537-LSBM Whiting, Mike-Insect-Rese",null,null,null,"AS135730568","Jugal Kumawat (135730568) CMS - Dean's Office Computational, Mathematical, & Phsical","AS135730568-Jugal Kumawat (135730568) CMS - Dean's Office Computational, Mathematical, & Phsical","Active",null,null,null,null,null,null,null,null,null,null,null,"SC6933","SC6933||1700","1700","Accumulated Depreciation",null,"JE_PPE|JE_Override"]
[null,null,null,null,null,null,"AC00895","Inscape Magazine","AC00895-Inscape Magazine","Activity","FD02","Active","2025-01-02T03:05:30.165",null,null,null,null,null,null,null,null,"13539","LSBM Rogers, Duke-Research","13539-LSBM Rogers, Duke-Research",null,null,null,"AS135889620","Larilyn Holt (135889620) Wyview Park/Riviera","AS135889620-Larilyn Holt (135889620) Wyview Park/Riviera","Active",null,null,null,null,null,null,null,null,null,null,null,"SC6933","SC6933||6900","6900","Equipment, Software, Library","Primary","All"]
[null,null,null,null,null,null,"AC00896","English Society","AC00896-English Society","Activity","FD02","Active","2025-01-02T03:05:30.165",null,null,null,null,null,null,null,null,"13540","LSBM Utah Flora 5th Edition","13540-LSBM Utah Flora 5th Edition",null,null,null,"AS135985906","Rich Christianson (135985906) BYU Police and BYU Security","AS135985906-Rich Christianson (135985906) BYU Police and BYU Security","Active",null,null,null,null,null,null,null,null,null,null,null,"SC6933","SC6933||8000","8000","Depreciation",null,"JE_PPE|JE_Override"]
[null,null,null,null,null,null,"AC00897","English Graduate Society","AC00897-English Graduate Society","Activity","FD02","Active","2025-01-02T03:05:30.165",null,null,null,null,null,null,null,null,"13542","LSBM Whiting, Alison-Research","13542-LSBM Whiting, Alison-Research",null,null,null,"AS136016192","Jeremy Browne (136016192) Academic VP Office, Deans","AS136016192-Jeremy Browne (136016192) Academic VP Office, Deans","Active",null,null,null,null,null,null,null,null,null,null,null,"SC6934","SC6934||1400","1400","Prepaid Expenses",null,"All"]
[null,null,null,null,null,null,"AC00898","Central Utah Writing Project","AC00898-Central Utah Writing Project","Activity","FD02","Active","2025-01-02T03:05:30.165",null,null,null,null,null,null,null,null,"13543","LSBM Bybee, Seth-Research","13543-LSBM Bybee, Seth-Research",null,null,null,"AS136060636","Jared Ainge (136060636) PF Electrical Shop","AS136060636-Jared Ainge (136060636) PF Electrical Shop","Active",null,null,null,null,null,null,null,null,null,null,null,"SC6934","SC6934||6900","6900","Equipment, Software, Library","Primary","All"]
[null,null,null,null,null,null,"AC00899","Fourth Genre","AC00899-Fourth Genre","Activity","FD02","Active","2025-01-02T03:05:30.165",null,null,null,null,null,null,null,null,"13544","LSBM Adams, Byron-Research","13544-LSBM Adams, Byron-Research",null,null,null,"AS136117065","Shane Jorgenson (136117065) CMS - Dean's Office Computational, Mathematical, & Phsical","AS136117065-Shane Jorgenson (136117065) CMS - Dean's Office Computational, Mathematical, & Phsical","Active",null,null,null,null,null,null,null,null,null,null,null,"SC6935","SC6935||1400","1400","Prepaid Expenses",null,"All"]
[null,null,null,null,null,null,"AC00900","Writing 150 Royalties","AC00900-Writing 150 Royalties","Activity","FD03","Active","2025-01-02T03:05:30.165",null,null,null,null,null,null,null,null,"13546","LSBM Shiozawa, Dennis-Research","13546-LSBM Shiozawa, Dennis-Research",null,null,null,"AS136316400","Lisa Barrager (136316400) College of Engineering - Mechanical Engineering","AS136316400-Lisa Barrager (136316400) College of Engineering - Mechanical Engineering","Active",null,null,null,null,null,null,null,null,null,null,null,"SC6935","SC6935||1625","1625","Capital Equipment",null,"JE_PPE|JE_Override"]
[null,null,null,null,null,null,"AC00901","English Internship Program","AC00901-English Internship Program","Activity","FD03","Active","2025-01-02T03:05:30.165",null,null,null,null,null,null,null,null,"13547","LSBM Johnson, J - Fishes-Resea","13547-LSBM Johnson, J - Fishes-Resea",null,null,null,"AS136463144","Holly Binks (136463144) Athletics - Academic Advisement","AS136463144-Holly Binks (136463144) Athletics - Academic Advisement","Active",null,null,null,null,null,null,null,null,null,null,null,"SC6935","SC6935||1650","1650","Construction in Progress",null,"JE_PPE|JE_Override"]
[null,null,null,null,null,null,"AC00902","Graduate Studies (TR)","AC00902-Graduate Studies (TR)","Activity","FD03","Active","2025-01-02T03:05:30.165",null,null,null,null,null,null,null,null,"13549","LSBM Museum Remodel","13549-LSBM Museum Remodel",null,null,null,"AS136939874","Kaylee Draughon (136939874) Life Sciences - Dean's Office","AS136939874-Kaylee Draughon (136939874) Life Sciences - Dean's Office","Active",null,null,null,null,null,null,null,null,null,null,null,"SC6935","SC6935||1651","1651","Construction in Progress (Non-Workday Projects)",null,"All"]
[null,null,null,null,null,null,"AC00903","Grad Studies Mentor Grant","AC00903-Grad Studies Mentor Grant","Activity","FD03","Active","2025-01-02T03:05:30.165",null,null,null,null,null,null,null,null,"13550","LSBM CITES","13550-LSBM CITES",null,null,null,"AS137061941","Anna Heier (137061941) University Advisement Center","AS137061941-Anna Heier (137061941) University Advisement Center","Active",null,null,null,null,null,null,null,null,null,null,null,"SC6935","SC6935||1700","1700","Accumulated Depreciation",null,"JE_PPE|JE_Override"]
[null,null,null,null,null,null,"AC00904","Advanced Writing Royalties","AC00904-Advanced Writing Royalties","Activity","FD03","Active","2025-01-02T03:05:30.165",null,null,null,null,null,null,null,null,"13551","LSBM Probst, Taylor-Research","13551-LSBM Probst, Taylor-Research",null,null,null,"AS137125684","Megan Langford (137125684) CE BYU Online","AS137125684-Megan Langford (137125684) CE BYU Online","Active",null,null,null,null,null,null,null,null,null,null,null,"SC6935","SC6935||6900","6900","Equipment, Software, Library","Primary","All"]
[null,null,null,null,null,null,"AC00906","English Dept Sunshine Fund","AC00906-English Dept Sunshine Fund","Activity","FD07","Active","2025-01-02T03:05:30.165",null,null,null,null,null,null,null,null,"13553","LSBM Lichens Curration","13553-LSBM Lichens Curration",null,null,null,"AS137428630","Tara Hoinacki (137428630) Dean of Students Office","AS137428630-Tara Hoinacki (137428630) Dean of Students Office","Active",null,null,null,null,null,null,null,null,null,null,null,"SC6935","SC6935||8000","8000","Depreciation",null,"JE_PPE|JE_Override"]
[null,null,null,null,null,null,"AC00907","[HUM] Italian Club","AC00907-[HUM] Italian Club","Activity","FD02","Active","2025-01-14T03:04:56.040044+00:00",null,null,null,null,null,null,null,null,"13554","LSBM Data Basing - Leigh","13554-LSBM Data Basing - Leigh",null,null,null,"AS137831706","Laren Hawkins (137831706) Academic VP Office, Deans","AS137831706-Laren Hawkins (137831706) Academic VP Office, Deans","Active",null,null,null,null,null,null,null,null,null,null,null,"SC6936","SC6936||1400","1400","Prepaid Expenses",null,"All"]
[null,null,null,null,null,null,"AC00908","[HUM] Pi Delta Phi","AC00908-[HUM] Pi Delta Phi","Activity","FD02","Active","2025-01-14T03:04:56.040044+00:00",null,null,null,null,null,null,null,null,"13555","LSBM Data Basing-Mike","13555-LSBM Data Basing-Mike",null,null,null,"AS137875727","Anna-Lisa Halling (137875727) Humanities - Dean's Office","AS137875727-Anna-Lisa Halling (137875727) Humanities - Dean's Office","Active",null,null,null,null,null,null,null,null,null,null,null,"SC6936","SC6936||6900","6900","Equipment, Software, Library","Primary","All"]
[null,null,null,null,null,null,"AC00909","[HUM] The French Club","AC00909-[HUM] The French Club","Activity","FD02","Active","2025-01-14T03:04:56.040044+00:00",null,null,null,null,null,null,null,null,"13557","LSBM Johnson, Leigh-Research","13557-LSBM Johnson, Leigh-Research",null,null,null,"AS137916808","Melinda Blackham (137916808) OIT Resource - UI/UX","AS137916808-Melinda Blackham (137916808) OIT Resource - UI/UX","Active",null,null,null,null,null,null,null,null,null,null,null,"SC6937","SC6937||1400","1400","Prepaid Expenses",null,"All"]
[null,null,null,null,null,null,"AC00910","French Language Fair","AC00910-French Language Fair","Activity","FD02","Active","2025-01-02T03:05:30.165",null,null,null,null,null,null,null,null,"13558","LSBM Johnson, Robert-Research","13558-LSBM Johnson, Robert-Research",null,null,null,"AS138112762","James Meidell (138112762) CE BYU Online High School","AS138112762-James Meidell (138112762) CE BYU Online High School","Active",null,null,null,null,null,null,null,null,null,null,null,"SC6937","SC6937||1630","1630","Vehicles",null,"JE_PPE|JE_Override"]
[null,null,null,null,null,null,"AC00911","[HUM] NCFS","AC00911-[HUM] NCFS","Activity","FD02","Active","2025-01-14T03:04:56.040044+00:00",null,null,null,null,null,null,null,null,"13559","LSBM Quest for Knowledge","13559-LSBM Quest for Knowledge",null,null,null,"AS138259935","Holly Hasler (138259935) Athletics - Administration","AS138259935-Holly Hasler (138259935) Athletics - Administration","Active",null,null,null,null,null,null,null,null,null,null,null,"SC6937","SC6937||1700","1700","Accumulated Depreciation",null,"JE_PPE|JE_Override"]
[null,null,null,null,null,null,"AC00912","[HUM] Their Story is Our Story","AC00912-[HUM] Their Story is Our Story","Activity","FD02","Active","2025-01-14T03:04:56.040044+00:00",null,null,null,null,null,null,null,null,"13560","LSBM Hunter, Kennedy Rsrch","13560-LSBM Hunter, Kennedy Rsrch",null,null,null,"AS138430578","Ed Ryan (138430578) OIT Core - Business Process & Project Mgmt","AS138430578-Ed Ryan (138430578) OIT Core - Business Process & Project Mgmt","Active",null,null,null,null,null,null,null,null,null,null,null,"SC6937","SC6937||6900","6900","Equipment, Software, Library","Primary","All"]
[null,null,null,null,null,null,"AC00913","[HUM] French Language Experience","AC00913-[HUM] French Language Experience","Activity","FD03","Active","2025-01-14T03:04:56.040044+00:00",null,null,null,null,null,null,null,null,"13562","LSBM Sale/Expense-Mounts","13562-LSBM Sale/Expense-Mounts",null,null,null,"AS138676025","Korey Kuhni (138676025) PF Dining and MTC Maintenance","AS138676025-Korey Kuhni (138676025) PF Dining and MTC Maintenance","Active",null,null,null,null,null,null,null,null,null,null,null,"SC6937","SC6937||8000","8000","Depreciation",null,"JE_PPE|JE_Override"]
[null,null,null,null,null,null,"AC00914","Graduate Studies (TR)","AC00914-Graduate Studies (TR)","Activity","FD03","Active","2025-01-02T03:05:30.165",null,null,null,null,null,null,null,null,"13563","LSBM Grants/Awards","13563-LSBM Grants/Awards",null,null,null,"AS138688674","Sara Moore (138688674) Career Services - Social Sciences & Arts","AS138688674-Sara Moore (138688674) Career Services - Social Sciences & Arts","Active",null,null,null,null,null,null,null,null,null,null,null,"SC6938","SC6938||1400","1400","Prepaid Expenses",null,"All"]
[null,null,null,null,null,null,"AC00916","French & Italian Sunshine Fund","AC00916-French & Italian Sunshine Fund","Activity","FD07","Active","2025-01-02T03:05:30.165",null,null,null,null,null,null,null,null,"13564","LSBM Nelson, Riley-Research","13564-LSBM Nelson, Riley-Research",null,null,null,"AS138738967","Joy Weller (138738967) Alumni Relations","AS138738967-Joy Weller (138738967) Alumni Relations","Active",null,null,null,null,null,null,null,null,null,null,null,"SC6938","SC6938||1625","1625","Capital Equipment",null,"JE_PPE|JE_Override"]
[null,null,null,null,null,null,"AC00917","[HUM] German Language Fair","AC00917-[HUM] German Language Fair","Activity","FD02","Active","2025-01-14T03:04:56.040044+00:00",null,null,null,null,null,null,null,null,"13565","LSBM Frandsen, Paul - Research","13565-LSBM Frandsen, Paul - Research",null,null,null,"AS138847811","Maria Summers (138847811) Undergraduate Education - Dean's Office","AS138847811-Maria Summers (138847811) Undergraduate Education - Dean's Office","Active",null,null,null,null,null,null,null,null,null,null,null,"SC6938","SC6938||1700","1700","Accumulated Depreciation",null,"JE_PPE|JE_Override"]
[null,null,null,null,null,null,"AC00918","The German Society","AC00918-The German Society","Activity","FD02","Active","2025-01-02T03:05:30.165",null,null,null,null,null,null,null,null,"13566","LSBM Whipple, Clint - Research","13566-LSBM Whipple, Clint - Research",null,null,null,"AS138878168","Trenton McCall (138878168) CE Online Learning","AS138878168-Trenton McCall (138878168) CE Online Learning","Active",null,null,null,null,null,null,null,null,null,null,null,"SC6938","SC6938||6900","6900","Equipment, Software, Library","Primary","All"]
[null,null,null,null,null,null,"AC00919","Russian Club","AC00919-Russian Club","Activity","FD02","Active","2025-01-02T03:05:30.165",null,null,null,null,null,null,null,null,"13567","LSBM Tree of Life Exhibit","13567-LSBM Tree of Life Exhibit",null,null,null,"AS139506420","David Rasmussen (139506420) Housing Administration","AS139506420-David Rasmussen (139506420) Housing Administration","Active",null,null,null,null,null,null,null,null,null,null,null,"SC6938","SC6938||8000","8000","Depreciation",null,"JE_PPE|JE_Override"]
[null,null,null,null,null,null,"AC00920","German Honor Society","AC00920-German Honor Society","Activity","FD02","Active","2025-01-02T03:05:30.165",null,null,null,null,null,null,null,null,"13568","LSBM Social Media","13568-LSBM Social Media",null,null,null,"AS139534541","Philip Allred (139534541) Academic VP Office, Deans","AS139534541-Philip Allred (139534541) Academic VP Office, Deans","Active",null,null,null,null,null,null,null,null,null,null,null,"SC6939","SC6939||1400","1400","Prepaid Expenses",null,"All"]
[null,null,null,null,null,null,"AC00921","Russian Honor Society","AC00921-Russian Honor Society","Activity","FD02","Active","2025-01-02T03:05:30.165",null,null,null,null,null,null,null,null,"13569","LSBM Book-Lichen","13569-LSBM Book-Lichen",null,null,null,"AS139685021","Krystall Greenwell (139685021) Athletics - Olympic Sport Medicine","AS139685021-Krystall Greenwell (139685021) Athletics - Olympic Sport Medicine","Active",null,null,null,null,null,null,null,null,null,null,null,"SC6939","SC6939||1625","1625","Capital Equipment",null,"JE_PPE|JE_Override"]
[null,null,null,null,null,null,"AC00922","[HUM] Slovene Linguistics Studies","AC00922-[HUM] Slovene Linguistics Studies","Activity","FD02","Active","2025-01-14T03:04:56.040044+00:00",null,null,null,null,null,null,null,null,"13570","LSBM Infromation Desk Supplies","13570-LSBM Infromation Desk Supplies",null,null,null,"AS139715719","Kelly Kennedy (139715719) CE Systems Admin","AS139715719-Kelly Kennedy (139715719) CE Systems Admin","Active",null,null,null,null,null,null,null,null,null,null,null,"SC6939","SC6939||1650","1650","Construction in Progress",null,"JE_PPE|JE_Override"]
[null,null,null,null,null,null,"AC00924","ODH Ticcit","AC00924-ODH Ticcit","Activity","FD01","Active","2025-01-02T03:05:30.165",null,null,null,null,null,null,null,null,"13571","LSBM Recycling Exhibit","13571-LSBM Recycling Exhibit",null,null,null,"AS140039562","Michael Jensen (140039562) University President - Academic Vice President","AS140039562-Michael Jensen (140039562) University President - Academic Vice President","Active",null,null,null,null,null,null,null,null,null,null,null,"SC6939","SC6939||1651","1651","Construction in Progress (Non-Workday Projects)",null,"All"]
[null,null,null,null,null,null,"AC00925","[HUM] DigHT","AC00925-[HUM] DigHT","Activity","FD01","Active","2025-01-14T03:04:56.040044+00:00",null,null,null,null,null,null,null,null,"13572","LSBM Africa Room Exhibit","13572-LSBM Africa Room Exhibit",null,null,null,"AS140161206","Lyn Averett (140161206) Retail Services - Financial Services","AS140161206-Lyn Averett (140161206) Retail Services - Financial Services","Active",null,null,null,null,null,null,null,null,null,null,null,"SC6939","SC6939||1700","1700","Accumulated Depreciation",null,"JE_PPE|JE_Override"]
[null,null,null,null,null,null,"AC00926","CLIPS","AC00926-CLIPS","Activity","FD02","Active","2025-01-02T03:05:30.165",null,null,null,null,null,null,null,null,"13573","LSBM Connections Exhibit","13573-LSBM Connections Exhibit",null,null,null,"AS140294932","Dawn Bloxham (140294932) Printing Services","AS140294932-Dawn Bloxham (140294932) Printing Services","Active",null,null,null,null,null,null,null,null,null,null,null,"SC6939","SC6939||6900","6900","Equipment, Software, Library","Primary","All"]
[null,null,null,null,null,null,"AC00927","Humanities Comp Repl","AC00927-Humanities Comp Repl","Activity","FD03","Active","2025-01-02T03:05:30.165",null,null,null,null,null,null,null,null,"13574","LSBM Insect Color Exhibit","13574-LSBM Insect Color Exhibit",null,null,null,"AS140620996","Jocelyn Wikle (140620996) FHSS - Dean's Office","AS140620996-Jocelyn Wikle (140620996) FHSS - Dean's Office","Active",null,null,null,null,null,null,null,null,null,null,null,"SC6939","SC6939||8000","8000","Depreciation",null,"JE_PPE|JE_Override"]
[null,null,null,null,null,null,"AC00928","Research Match Funds","AC00928-Research Match Funds","Activity","FD03","Active","2025-01-02T03:05:30.165",null,null,null,null,null,null,null,null,"13575","LSBM Covid Exhibit","13575-LSBM Covid Exhibit",null,null,null,"AS140766941","Adrienne Henderson (140766941) Life Sciences - Dean's Office","AS140766941-Adrienne Henderson (140766941) Life Sciences - Dean's Office","Active",null,null,null,null,null,null,null,null,null,null,null,"SC6940","SC6940||1300","1300","Inventory","Primary","All"]
[null,null,null,null,null,null,"AC00930","RESEARCH TECHNOLOGY GROUP","AC00930-RESEARCH TECHNOLOGY GROUP","Activity","FD02","Active","2025-01-02T03:05:30.165",null,null,null,null,null,null,null,null,"13576","LSBM Climate Change Exhibit","13576-LSBM Climate Change Exhibit",null,null,null,"AS140791056","John Ricks (140791056) Retail Services - General Administration","AS140791056-John Ricks (140791056) Retail Services - General Administration","Active",null,null,null,null,null,null,null,null,null,null,null,"SC6941","SC6941||1300","1300","Inventory","Primary","All"]
[null,null,null,null,null,null,"AC00931","Comparative Studies-Graduates","AC00931-Comparative Studies-Graduates","Activity","FD01","Active","2025-01-02T03:05:30.165",null,null,null,null,null,null,null,null,"13577","LSBM Seeds Exhibit","13577-LSBM Seeds Exhibit",null,null,null,"AS140792616","Jonathan Sanchez (140792616) Athletics - Men's Tennis","AS140792616-Jonathan Sanchez (140792616) Athletics - Men's Tennis","Active",null,null,null,null,null,null,null,null,null,null,null,"SC6942","SC6942||1300","1300","Inventory","Primary","All"]
[null,null,null,null,null,null,"AC00932","Scandinavian Program","AC00932-Scandinavian Program","Activity","FD01","Active","2025-01-02T03:05:30.165",null,null,null,null,null,null,null,null,"13578","LSBM Diversification Exhibit","13578-LSBM Diversification Exhibit",null,null,null,"AS140816860","Taylor Halverson (140816860) MSB - Dean's Office, Marriott School of Business","AS140816860-Taylor Halverson (140816860) MSB - Dean's Office, Marriott School of Business","Active",null,null,null,null,null,null,null,null,null,null,null,"SC6943","SC6943||1300","1300","Inventory","Primary","All"]
[null,null,null,null,null,null,"AC00933","[HUM] Art History Association","AC00933-[HUM] Art History Association","Activity","FD02","Active","2025-01-14T03:04:56.040044+00:00",null,null,null,null,null,null,null,null,"13579","LSBM Donation Box","13579-LSBM Donation Box",null,null,null,"AS140898191","Nathan Hicken (140898191) PF Building Operations","AS140898191-Nathan Hicken (140898191) PF Building Operations","Active",null,null,null,null,null,null,null,null,null,null,null,"SC6944","SC6944||1300","1300","Inventory","Primary","All"]
[null,null,null,null,null,null,"AC00934","[HUM] IHUM CLUB","AC00934-[HUM] IHUM CLUB","Activity","FD02","Active","2025-01-14T03:04:56.040044+00:00",null,null,null,null,null,null,null,null,"13580","LSBM Photo Show","13580-LSBM Photo Show",null,null,null,"AS140950783","Merritt Andrus (140950783) CMS - Dean's Office Computational, Mathematical, & Phsical","AS140950783-Merritt Andrus (140950783) CMS - Dean's Office Computational, Mathematical, & Phsical","Active",null,null,null,null,null,null,null,null,null,null,null,"SC6945","SC6945||1300","1300","Inventory","Primary","All"]
[null,null,null,null,null,null,"AC00935","[HUM] Eta Sigma Phi","AC00935-[HUM] Eta Sigma Phi","Activity","FD02","Active","2025-01-14T03:04:56.040044+00:00",null,null,null,null,null,null,null,null,"13581","LSBM LM-1 Truck","13581-LSBM LM-1 Truck",null,null,null,"AS141304523","Job Rodriguez (141304523) Dining Administration","AS141304523-Job Rodriguez (141304523) Dining Administration","Active",null,null,null,null,null,null,null,null,null,null,null,"SC6946","SC6946||1300","1300","Inventory","Primary","All"]
[null,null,null,null,null,null,"AC00936","[HUM] American Soc of Papryologists","AC00936-[HUM] American Soc of Papryologists","Activity","FD02","Active","2025-01-14T03:04:56.040044+00:00",null,null,null,null,null,null,null,null,"13584","LSBM LM-2 Camry -Grey","13584-LSBM LM-2 Camry -Grey",null,null,null,"AS141520542","Michelle James (141520542) Humanities - Dean's Office","AS141520542-Michelle James (141520542) Humanities - Dean's Office","Active",null,null,null,null,null,null,null,null,null,null,null,"SC6999","SC6999||1400","1400","Prepaid Expenses",null,"All"]
[null,null,null,null,null,null,"AC00937","[HUM] Journal of American Culture","AC00937-[HUM] Journal of American Culture","Activity","FD02","Active","2025-01-14T03:04:56.040044+00:00",null,null,null,null,null,null,null,null,"13586","Lytle Improvements","13586-Lytle Improvements",null,null,null,"AS141824752","Cory Allmon (141824752) MTC Dining","AS141824752-Cory Allmon (141824752) MTC Dining","Active",null,null,null,null,null,null,null,null,null,null,null,"SC6999","SC6999||1650","1650","Construction in Progress",null,"JE_PPE|JE_Override"]
[null,null,null,null,null,null,"AC00938","BYU Scandinavian Club","AC00938-BYU Scandinavian Club","Activity","FD02","Active","2025-01-02T03:05:30.165",null,null,null,null,null,null,null,null,"13587","LSBM LM-1 Truck Rental","13587-LSBM LM-1 Truck Rental",null,null,null,"AS141838927","Michael Daley (141838927) PF Roofing, Glass, and Exteriors","AS141838927-Michael Daley (141838927) PF Roofing, Glass, and Exteriors","Active",null,null,null,null,null,null,null,null,null,null,null,"SC6999","SC6999||1651","1651","Construction in Progress (Non-Workday Projects)",null,"All"]
[null,null,null,null,null,null,"AC00939","Scandinavian Internshp Program","AC00939-Scandinavian Internshp Program","Activity","FD03","Active","2025-01-02T03:05:30.165",null,null,null,null,null,null,null,null,"13588","LSBM Leavitt, Steve-Research","13588-LSBM Leavitt, Steve-Research",null,null,null,"AS142031044","Jason McDonald (142031044) MSE - Dean's Office, McKay School of Education","AS142031044-Jason McDonald (142031044) MSE - Dean's Office, McKay School of Education","Active",null,null,null,null,null,null,null,null,null,null,null,"SC6999","SC6999||6900","6900","Equipment, Software, Library","Primary","All"]
[null,null,null,null,null,null,"AC00940","HUM 101 Course Support","AC00940-HUM 101 Course Support","Activity","FD03","Active","2025-01-02T03:05:30.165",null,null,null,null,null,null,null,null,"13589","LSBM Tanner Lecture","13589-LSBM Tanner Lecture",null,null,null,"AS142228559","Nathan Walch (142228559) University Accessibility Center","AS142228559-Nathan Walch (142228559) University Accessibility Center","Active",null,null,null,null,null,null,null,null,null,null,null,"SC7001","SC7001||1400","1400","Prepaid Expenses",null,"All"]
[null,null,null,null,null,null,"AC00942","[HUM] Humanities Pub Cntr","AC00942-[HUM] Humanities Pub Cntr","Activity","FD01","Active","2025-01-14T03:04:56.040044+00:00",null,null,null,null,null,null,null,null,"13590","LSBM Halloween Family Night","13590-LSBM Halloween Family Night",null,null,null,"AS142451329","Ben Burk (142451329) Physics and Astronomy","AS142451329-Ben Burk (142451329) Physics and Astronomy","Active",null,null,null,null,null,null,null,null,null,null,null,"SC7001","SC7001||7000","7000","Travel","Primary","All"]
[null,null,null,null,null,null,"AC00943","[HUM] Move and Stance Research Group","AC00943-[HUM] Move and Stance Research Group","Activity","FD01","Active","2025-01-14T03:04:56.040044+00:00",null,null,null,null,null,null,null,null,"13591","LSBM Easter Family Night","13591-LSBM Easter Family Night",null,null,null,"AS142758140","Nancy Fulda (142758140) CMS - Dean's Office Computational, Mathematical, & Phsical","AS142758140-Nancy Fulda (142758140) CMS - Dean's Office Computational, Mathematical, & Phsical","Active",null,null,null,null,null,null,null,null,null,null,null,"SC7002","SC7002||1400","1400","Prepaid Expenses",null,"All"]
[null,null,null,null,null,null,"AC00944","LEL Graduate","AC00944-LEL Graduate","Activity","FD01","Active","2025-01-02T03:05:30.165",null,null,null,null,null,null,null,null,"13592","LSBM Night at the Museums","13592-LSBM Night at the Museums",null,null,null,"AS142801436","Julie Zarbock (142801436) Purchasing and Travel - Continuing Education Travel","AS142801436-Julie Zarbock (142801436) Purchasing and Travel - Continuing Education Travel","Active",null,null,null,null,null,null,null,null,null,null,null,"SC7002","SC7002||7000","7000","Travel","Primary","All"]
[null,null,null,null,null,null,"AC00945","[HUM] Humanities Publ Cntr","AC00945-[HUM] Humanities Publ Cntr","Activity","FD02","Active","2025-01-14T03:04:56.040044+00:00",null,null,null,null,null,null,null,null,"13593","LSBM Promotional Giveaways","13593-LSBM Promotional Giveaways",null,null,null,"AS142906231","Liz Darger (142906231) Athletics - Administration","AS142906231-Liz Darger (142906231) Athletics - Administration","Active",null,null,null,null,null,null,null,null,null,null,null,"SC7003","SC7003||1400","1400","Prepaid Expenses",null,"All"]
[null,null,null,null,null,null,"AC00946","The Leading Edge","AC00946-The Leading Edge","Activity","FD02","Active","2025-01-02T03:05:30.165",null,null,null,null,null,null,null,null,"13594","LSBM Discover Utah-Shelf Exhib","13594-LSBM Discover Utah-Shelf Exhib",null,null,null,"AS143184366","Paul Wangemann (143184366) CITES","AS143184366-Paul Wangemann (143184366) CITES","Active",null,null,null,null,null,null,null,null,null,null,null,"SC7003","SC7003||7000","7000","Travel","Primary","All"]
[null,null,null,null,null,null,"AC00947","Linguistics Student Society","AC00947-Linguistics Student Society","Activity","FD02","Active","2025-01-02T03:05:30.165",null,null,null,null,null,null,null,null,"13595","LSBM Marketing","13595-LSBM Marketing",null,null,null,"AS143274024","Brian Woodfield (143274024) CMS - Dean's Office Computational, Mathematical, & Phsical","AS143274024-Brian Woodfield (143274024) CMS - Dean's Office Computational, Mathematical, & Phsical","Active",null,null,null,null,null,null,null,null,null,null,null,"SC7004","SC7004||1400","1400","Prepaid Expenses",null,"All"]
[null,null,null,null,null,null,"AC00948","[HUM] STET - The Editors Network","AC00948-[HUM] STET - The Editors Network","Activity","FD02","Active","2025-01-14T03:04:57.73434+00:00",null,null,null,null,null,null,null,null,"13596","LSBM Lytle Max-Planck-Inst-cle","13596-LSBM Lytle Max-Planck-Inst-cle",null,null,null,"AS143418739","Chase Ricks (143418739) PF Grounds & Landscape Management","AS143418739-Chase Ricks (143418739) PF Grounds & Landscape Management","Active",null,null,null,null,null,null,null,null,null,null,null,"SC7004","SC7004||7000","7000","Travel","Primary","All"]
[null,null,null,null,null,null,"AC00949","[HUM] ELANG 430R Stowaway Mag","AC00949-[HUM] ELANG 430R Stowaway Mag","Activity","FD02","Active","2025-01-14T03:04:57.73434+00:00",null,null,null,null,null,null,null,null,"13597","LSBM Lytle Land","13597-LSBM Lytle Land",null,null,null,"AS143633416","Brigg Olsen (143633416) PF Grounds - Landscaping Specialty","AS143633416-Brigg Olsen (143633416) PF Grounds - Landscaping Specialty","Active",null,null,null,null,null,null,null,null,null,null,null,"SC7005","SC7005||1400","1400","Prepaid Expenses",null,"All"]
[null,null,null,null,null,null,"AC00950","Ling Royalties","AC00950-Ling Royalties","Activity","FD03","Active","2025-01-02T03:05:30.165",null,null,null,null,null,null,null,null,"13598","LSBM Residual Const Funds","13598-LSBM Residual Const Funds",null,null,null,"AS143931736","Don Liufau (143931736) Catering Services","AS143931736-Don Liufau (143931736) Catering Services","Active",null,null,null,null,null,null,null,null,null,null,null,"SC7005","SC7005||7000","7000","Travel","Primary","All"]
[null,null,null,null,null,null,"AC00951","Graduate Studies (TR)","AC00951-Graduate Studies (TR)","Activity","FD03","Active","2025-01-02T03:05:30.165",null,null,null,null,null,null,null,null,"13599","LSBM Lytle home remodel","13599-LSBM Lytle home remodel",null,null,null,"AS144155276","John Clark (144155276) PF Grounds Maintenance","AS144155276-John Clark (144155276) PF Grounds Maintenance","Active",null,null,null,null,null,null,null,null,null,null,null,"SC7006","SC7006||1400","1400","Prepaid Expenses",null,"All"]
[null,null,null,null,null,null,"AC00952","Editing Internshhip Enhancemen","AC00952-Editing Internshhip Enhancemen","Activity","FD03","Active","2025-01-02T03:05:30.165",null,null,null,null,null,null,null,null,"13600","LSBI Res Cycle Sequencing","13600-LSBI Res Cycle Sequencing",null,null,null,"AS144311183","Derek Blad (144311183) AVP Human Resources Office","AS144311183-Derek Blad (144311183) AVP Human Resources Office","Active",null,null,null,null,null,null,null,null,null,null,null,"SC7006","SC7006||7000","7000","Travel","Primary","All"]
[null,null,null,null,null,null,"AC00955","Span-Port Graduate","AC00955-Span-Port Graduate","Activity","FD01","Active","2025-01-02T03:05:30.165",null,null,null,null,null,null,null,null,"13601","LSBI Res Lane Usage","13601-LSBI Res Lane Usage",null,null,null,"AS144559750","Trent Leinenbach (144559750) Humanities - Dean's Office","AS144559750-Trent Leinenbach (144559750) Humanities - Dean's Office","Active",null,null,null,null,null,null,null,null,null,null,null,"SC7099","SC7099||1400","1400","Prepaid Expenses",null,"All"]
[null,null,null,null,null,null,"AC00956","[HUM] Spanish Resource Cntr","AC00956-[HUM] Spanish Resource Cntr","Activity","FD01","Active","2025-01-14T03:04:57.73434+00:00",null,null,null,null,null,null,null,null,"13602","LSBI Res Fragment Analysis","13602-LSBI Res Fragment Analysis",null,null,null,"AS144591100","Cristina Bean (144591100) AVP - Associate AVP, Faculty Development","AS144591100-Cristina Bean (144591100) AVP - Associate AVP, Faculty Development","Active",null,null,null,null,null,null,null,null,null,null,null,"SC7099","SC7099||7000","7000","Travel","Primary","All"]
[null,null,null,null,null,null,"AC00957","Educational Outreach","AC00957-Educational Outreach","Activity","FD02","Active","2025-01-02T03:05:30.165",null,null,null,null,null,null,null,null,"13603","LSBI Res Big Dye","13603-LSBI Res Big Dye",null,null,null,"AS144850167","Jeff Pugh (144850167) Enrollment Services Office","AS144850167-Jeff Pugh (144850167) Enrollment Services Office","Active"]
[null,null,null,null,null,null,"AC00958","Spanish Musical Group","AC00958-Spanish Musical Group","Activity","FD02","Active","2025-01-02T03:05:30.165",null,null,null,null,null,null,null,null,"13604","LSBI Res PacBio Sequel","13604-LSBI Res PacBio Sequel",null,null,null,"AS144927949","Paul Webb (144927949) Athletics - Football Sport Performance","AS144927949-Paul Webb (144927949) Athletics - Football Sport Performance","Active"]
[null,null,null,null,null,null,"AC00959","[HUM] Sigma Delta Pi","AC00959-[HUM] Sigma Delta Pi","Activity","FD02","Active","2025-01-14T03:04:57.73434+00:00",null,null,null,null,null,null,null,null,"13605","LSBI Res Illumina","13605-LSBI Res Illumina",null,null,null,"AS145106415","Bret Banks (145106415) PF Building Operations","AS145106415-Bret Banks (145106415) PF Building Operations","Active"]
[null,null,null,null,null,null,"AC00960","[HUM] Phi Lambda Beta - Beta Ypsilon","AC00960-[HUM] Phi Lambda Beta - Beta Ypsilon","Activity","FD02","Active","2025-01-14T03:04:57.73434+00:00",null,null,null,null,null,null,null,null,"13606","LSBI Res pg and Agilent bioana","13606-LSBI Res pg and Agilent bioana",null,null,null,"AS145174057","Kurt Johnson (145174057) Mail Services","AS145174057-Kurt Johnson (145174057) Mail Services","Active"]
[null,null,null,null,null,null,"AC00961","Spanish 321 Royalties","AC00961-Spanish 321 Royalties","Activity","FD03","Active","2025-01-02T03:05:30.165",null,null,null,null,null,null,null,null,"13607","LSBI Womens Resrch Init 2020","13607-LSBI Womens Resrch Init 2020",null,null,null,"AS145229199","Emily Read (145229199) Purchasing and Travel - Continuing Education Travel","AS145229199-Emily Read (145229199) Purchasing and Travel - Continuing Education Travel","Active"]
[null,null,null,null,null,null,"AC00963","Span & Port Sunshine Fund","AC00963-Span & Port Sunshine Fund","Activity","FD07","Active","2025-01-02T03:05:30.165",null,null,null,null,null,null,null,null,"13608","LSBI Bio 550 Behavioral Ecolog","13608-LSBI Bio 550 Behavioral Ecolog",null,null,null,"AS145229814","Rita Cortez (145229814) Humanities - Dean's Office","AS145229814-Rita Cortez (145229814) Humanities - Dean's Office","Active"]
[null,null,null,null,null,null,"AC00964","School Research","AC00964-School Research","Activity","FD01","Active","2025-01-02T03:05:30.165",null,null,null,null,null,null,null,null,"13609","LSBI EEL Facility-Research","13609-LSBI EEL Facility-Research",null,null,null,"AS145292882","Kelly Jensen (145292882) Admissions Office","AS145292882-Kelly Jensen (145292882) Admissions Office","Active"]
[null,null,null,null,null,null,"AC00965","Ed Inquiry, Measurement, Eval","AC00965-Ed Inquiry, Measurement, Eval","Activity","FD01","Active","2025-01-02T03:05:30.165",null,null,null,null,null,null,null,null,"13610","LSBI Bio 235 Field Botany","13610-LSBI Bio 235 Field Botany",null,null,null,"AS145427719","Kelsie Douglas (145427719) Careers & Experiential Learning","AS145427719-Kelsie Douglas (145427719) Careers & Experiential Learning","Active"]
[null,null,null,null,null,null,"AC00966","University Research","AC00966-University Research","Activity","FD01","Active","2025-01-02T03:05:30.165",null,null,null,null,null,null,null,null,"13611","LSBI Bio 364 Bioinfomatics Alg","13611-LSBI Bio 364 Bioinfomatics Alg",null,null,null,"AS145990055","Yvette Rivera (145990055) Multicultural","AS145990055-Yvette Rivera (145990055) Multicultural","Active"]
[null,null,null,null,null,null,"AC00967","Visiting Scholars","AC00967-Visiting Scholars","Activity","FD01","Active","2025-01-02T03:05:30.165",null,null,null,null,null,null,null,null,"13612","LSBI Bio 291R Vet Med Seminar","13612-LSBI Bio 291R Vet Med Seminar",null,null,null,"AS146046850","Jenny Uyema (146046850) Enrollment Services Technology and Innovation","AS146046850-Jenny Uyema (146046850) Enrollment Services Technology and Innovation","Active"]
[null,null,null,null,null,null,"AC00968","PPAT Student Support","AC00968-PPAT Student Support","Activity","FD01","Active","2025-01-02T03:05:30.165",null,null,null,null,null,null,null,null,"13613","LSBI Bio 392R Prevet Preceptor","13613-LSBI Bio 392R Prevet Preceptor",null,null,null,"AS146155700","Tyler Bulloch (146155700) Athletics - Creative Strategy - Graphic Design","AS146155700-Tyler Bulloch (146155700) Athletics - Creative Strategy - Graphic Design","Active"]
[null,null,null,null,null,null,"AC00969","Student Teaching Sup","AC00969-Student Teaching Sup","Activity","FD01","Active","2025-01-02T03:05:30.165",null,null,null,null,null,null,null,null,"13614","LSBI Bio 120 Field Biology","13614-LSBI Bio 120 Field Biology",null,null,null,"AS146212008","Christina Castellanos (146212008) Fine Arts & Communications - Dean's Office","AS146212008-Christina Castellanos (146212008) Fine Arts & Communications - Dean's Office","Active"]
[null,null,null,null,null,null,"AC00970","Grad Student Support","AC00970-Grad Student Support","Activity","FD01","Active","2025-01-02T03:05:30.165",null,null,null,null,null,null,null,null,"13615","LSBI Bio 380 Animal Phys Anato","13615-LSBI Bio 380 Animal Phys Anato",null,null,null,"AS146386371","Curtis Petrich (146386371) OIT Core - Tech Operations - Monitoring","AS146386371-Curtis Petrich (146386371) OIT Core - Tech Operations - Monitoring","Active"]
[null,null,null,null,null,null,"AC00971","Coop Teach Cash","AC00971-Coop Teach Cash","Activity","FD01","Active","2025-01-02T03:05:30.165",null,null,null,null,null,null,null,null,"13616","LSBI Bio 447 Mammology","13616-LSBI Bio 447 Mammology",null,null,null,"AS146834308","Jon Stoltz (146834308) BYU Broadcasting - Technology","AS146834308-Jon Stoltz (146834308) BYU Broadcasting - Technology","Active"]
[null,null,null,null,null,null,"AC00972","Education Advisement","AC00972-Education Advisement","Activity","FD01","Active","2025-01-02T03:05:30.165",null,null,null,null,null,null,null,null,"13617","LSBI Bio 557 Stream Ecology","13617-LSBI Bio 557 Stream Ecology",null,null,null,"AS147017042","Eleanor Roberts (147017042) Athletics - Compliance","AS147017042-Eleanor Roberts (147017042) Athletics - Compliance","Active"]
[null,null,null,null,null,null,"AC00973","Accounting","AC00973-Accounting","Activity","FD01","Active","2025-01-02T03:05:30.165",null,null,null,null,null,null,null,null,"13618","LSBI Bio 443 Icthyology","13618-LSBI Bio 443 Icthyology",null,null,null,"AS147233915","Norman Evans (147233915) Humanities - Dean's Office","AS147233915-Norman Evans (147233915) Humanities - Dean's Office","Active"]
[null,null,null,null,null,null,"AC00974","MSE Multicultural Committee","AC00974-MSE Multicultural Committee","Activity","FD01","Active","2025-01-02T03:05:30.165",null,null,null,null,null,null,null,null,"13619","LSBI Bio 194 Intro to Mentored","13619-LSBI Bio 194 Intro to Mentored",null,null,null,"AS147506573","Lee Cummard (147506573) Athletics - Women's Basketball","AS147506573-Lee Cummard (147506573) Athletics - Women's Basketball","Active"]
[null,null,null,null,null,null,"AC00975","Tech Lab","AC00975-Tech Lab","Activity","FD01","Active","2025-01-02T03:05:30.165",null,null,null,null,null,null,null,null,"13620","LSBI Dept Funds Allocation-Fun","13620-LSBI Dept Funds Allocation-Fun",null,null,null,"AS147607707","Katrina Bricker (147607707) BYU Police and BYU Security","AS147607707-Katrina Bricker (147607707) BYU Police and BYU Security","Active"]
[null,null,null,null,null,null,"AC00976","Education Computing Support","AC00976-Education Computing Support","Activity","FD01","Active","2025-01-02T03:05:30.165",null,null,null,null,null,null,null,null,"13621","LSBI South Pacific Projects","13621-LSBI South Pacific Projects",null,null,null,"AS147854131","Shintaro Pang (147854131) Life Sciences - Dean's Office","AS147854131-Shintaro Pang (147854131) Life Sciences - Dean's Office","Active"]
[null,null,null,null,null,null,"AC00977","Accreditation Assessment","AC00977-Accreditation Assessment","Activity","FD01","Active","2025-01-02T03:05:30.165",null,null,null,null,null,null,null,null,"13622","LSBI AD1 (McMillian)","13622-LSBI AD1 (McMillian)",null,null,null,"AS148104690","Whitney Johnson (148104690) Athletics - Academic Advisement","AS148104690-Whitney Johnson (148104690) Athletics - Academic Advisement","Active"]
[null,null,null,null,null,null,"AC00978","CITES Fellowship","AC00978-CITES Fellowship","Activity","FD01","Active","2025-01-02T03:05:30.165",null,null,null,null,null,null,null,null,"13623","LSBI Alzheimer s Disease","13623-LSBI Alzheimer s Disease",null,null,null,"AS148712158","Carter Brown (148712158) Purchasing and Travel - Continuing Education Travel","AS148712158-Carter Brown (148712158) Purchasing and Travel - Continuing Education Travel","Active"]
[null,null,null,null,null,null,"AC00979","Grant Specialist","AC00979-Grant Specialist","Activity","FD01","Active","2025-01-02T03:05:30.165",null,null,null,null,null,null,null,null,"13624","LSBI Bio 264 Stat Analy for Bi","13624-LSBI Bio 264 Stat Analy for Bi",null,null,null,"AS148852882","Shana Clemence (148852882) University President - Belonging Vice President","AS148852882-Shana Clemence (148852882) University President - Belonging Vice President","Active"]
[null,null,null,null,null,null,"AC00980","Research Office","AC00980-Research Office","Activity","FD01","Active","2025-01-02T03:05:30.165",null,null,null,null,null,null,null,null,"13625","LSBI Leavitt, Steve","13625-LSBI Leavitt, Steve",null,null,null,"AS149153516","Hannah McLaughlin (149153516) Fine Arts & Communications - Dean's Office","AS149153516-Hannah McLaughlin (149153516) Fine Arts & Communications - Dean's Office","Active"]
[null,null,null,null,null,null,"AC00981","AIME Club","AC00981-AIME Club","Activity","FD02","Active","2025-01-02T03:05:30.165",null,null,null,null,null,null,null,null,"13626","LSBI Bio 100 Online Developmen","13626-LSBI Bio 100 Online Developmen",null,null,null,"AS149236441","Travis Schenck (149236441) Life Sciences - Dean's Office","AS149236441-Travis Schenck (149236441) Life Sciences - Dean's Office","Active"]
[null,null,null,null,null,null,"AC00982","Student Teaching Fee","AC00982-Student Teaching Fee","Activity","FD03","Active","2025-01-02T03:05:30.165",null,null,null,null,null,null,null,null,"13627","LSBI Evolution Display Case","13627-LSBI Evolution Display Case",null,null,null,"AS149257707","Joshua Gubler (149257707) FHSS - Dean's Office","AS149257707-Joshua Gubler (149257707) FHSS - Dean's Office","Active"]
[null,null,null,null,null,null,"AC00983","Beede Project User Payments","AC00983-Beede Project User Payments","Activity","FD03","Active","2025-01-02T03:05:30.165",null,null,null,null,null,null,null,null,"13628","LSBI Bio 445 Herpetology","13628-LSBI Bio 445 Herpetology",null,null,null,"AS149671997","Pauline Williams (149671997) Life Sciences - Dean's Office","AS149671997-Pauline Williams (149671997) Life Sciences - Dean's Office","Active"]
[null,null,null,null,null,null,"AC00984","Critical Thinking","AC00984-Critical Thinking","Activity","FD03","Active","2025-01-02T03:05:30.165",null,null,null,null,null,null,null,null,"13629","LSBI Bio 265 Bio Data Science","13629-LSBI Bio 265 Bio Data Science",null,null,null,"AS149672552","Trace Stay (149672552) FHSS - Dean's Office","AS149672552-Trace Stay (149672552) FHSS - Dean's Office","Active"]
[null,null,null,null,null,null,"AC00985","What's Best for Matthew Paymnt","AC00985-What's Best for Matthew Paymnt","Activity","FD03","Active","2025-01-02T03:05:30.165",null,null,null,null,null,null,null,null,"13630","LSBI Bio 511 Lichenology","13630-LSBI Bio 511 Lichenology",null,null,null,"AS149755403","Daniel Duraes Machado (149755403) OIT Resource - Application Engineering","AS149755403-Daniel Duraes Machado (149755403) OIT Resource - Application Engineering","Active"]
[null,null,null,null,null,null,"AC00986","Beede Distribution Account","AC00986-Beede Distribution Account","Activity","FD03","Active","2025-01-02T03:05:30.165",null,null,null,null,null,null,null,null,"13631","LSBI Speciation and Phylogeogr","13631-LSBI Speciation and Phylogeogr",null,null,null,"AS149888474","Adrienne Chamberlain (149888474) Careers & Experiential Learning","AS149888474-Adrienne Chamberlain (149888474) Careers & Experiential Learning","Active"]
[null,null,null,null,null,null,"AC00987","Live Text Licensing Fee","AC00987-Live Text Licensing Fee","Activity","FD03","Active","2025-01-02T03:05:30.165",null,null,null,null,null,null,null,null,"13632","LSBI Bio 316 Adv Sci Writing a","13632-LSBI Bio 316 Adv Sci Writing a",null,null,null,"AS150564049","Nathan Jenne (150564049) CE Software Development","AS150564049-Nathan Jenne (150564049) CE Software Development","Active"]
[null,null,null,null,null,null,"AC00988","Student Teachers","AC00988-Student Teachers","Activity","FD03","Active","2025-01-02T03:05:30.165",null,null,null,null,null,null,null,null,"13633","LSBI Bio 450 Conservation Biol","13633-LSBI Bio 450 Conservation Biol",null,null,null,"AS150662448","Kitsa Behringer (150662448) Museum of Art - Education","AS150662448-Kitsa Behringer (150662448) Museum of Art - Education","Active"]
[null,null,null,null,null,null,"AC00989","MSE Professional Development","AC00989-MSE Professional Development","Activity","FD03","Active","2025-01-02T03:05:30.165",null,null,null,null,null,null,null,null,"13634","LSBI Bio 378 Practicum in Bio","13634-LSBI Bio 378 Practicum in Bio",null,null,null,"AS150704327","McKenna Hendershot (150704327) CE Large Programs","AS150704327-McKenna Hendershot (150704327) CE Large Programs","Active"]
[null,null,null,null,null,null,"AC00990","Education - President's Innova","AC00990-Education - President's Innova","Activity","FD03","Active","2025-01-02T03:05:30.165",null,null,null,null,null,null,null,null,"13635","LSBI Bio 541 Aquatic Entomolog","13635-LSBI Bio 541 Aquatic Entomolog",null,null,null,"AS150880913","Whitney Hanks (150880913) PF Building Operations","AS150880913-Whitney Hanks (150880913) PF Building Operations","Active"]
[null,null,null,null,null,null,"AC00991","Experiential Inspiring Learn","AC00991-Experiential Inspiring Learn","Activity","FD03","Active","2025-01-02T03:05:30.251",null,null,null,null,null,null,null,null,"13636","LSBI Great Basin","13636-LSBI Great Basin",null,null,null,"AS150959050","Madeline Wiseman (150959050) Helaman Halls","AS150959050-Madeline Wiseman (150959050) Helaman Halls","Active"]
[null,null,null,null,null,null,"AC00992","Teacher ED Sunshine Fund","AC00992-Teacher ED Sunshine Fund","Activity","FD07","Active","2025-01-02T03:05:30.251",null,null,null,null,null,null,null,null,"13637","LSBI Willes B of M Studies","13637-LSBI Willes B of M Studies",null,null,null,"AS151006820","Michael Hunter (151006820) BYU Broadcasting - Production","AS151006820-Michael Hunter (151006820) BYU Broadcasting - Production","Active"]
[null,null,null,null,null,null,"AC00993","HR- Student Teachers","AC00993-HR- Student Teachers","Activity","FD03","Active","2025-01-02T03:05:30.251",null,null,null,null,null,null,null,null,"13638","LSBI Bio 379 Class Mgmt and La","13638-LSBI Bio 379 Class Mgmt and La",null,null,null,"AS151064273","Lisa Parkinson (151064273) University Advisement Center","AS151064273-Lisa Parkinson (151064273) University Advisement Center","Active"]
[null,null,null,null,null,null,"AC00994","Database/Web","AC00994-Database/Web","Activity","FD01","Active","2025-01-02T03:05:30.251",null,null,null,null,null,null,null,null,"13639","LSBI Clark, Shawn","13639-LSBI Clark, Shawn",null,null,null,"AS151135026","Dennis Cutchins (151135026) Humanities - Dean's Office","AS151135026-Dennis Cutchins (151135026) Humanities - Dean's Office","Active"]
[null,null,null,null,null,null,"AC00995","Ext. Relations/Creative","AC00995-Ext. Relations/Creative","Activity","FD01","Active","2025-01-02T03:05:30.251",null,null,null,null,null,null,null,null,"13640","LSBI Summer Student Wages","13640-LSBI Summer Student Wages",null,null,null,"AS151872119","Christian Clement (151872119) Humanities - Dean's Office","AS151872119-Christian Clement (151872119) Humanities - Dean's Office","Active"]
[null,null,null,null,null,null,"AC00996","Ed Society/Alumni","AC00996-Ed Society/Alumni","Activity","FD01","Active","2025-01-02T03:05:30.251",null,null,null,null,null,null,null,null,"13641","LSBI Bio 455 Plant Ecology","13641-LSBI Bio 455 Plant Ecology",null,null,null,"AS152043345","Laura Chapman (152043345) CE Business Services","AS152043345-Laura Chapman (152043345) CE Business Services","Active"]
[null,null,null,null,null,null,"AC00997","Recruitment","AC00997-Recruitment","Activity","FD01","Active","2025-01-02T03:05:30.251",null,null,null,null,null,null,null,null,"13642","LSBI Griffen, Blaine","13642-LSBI Griffen, Blaine",null,null,null,"AS152323089","Mark Kaaa (152323089) Financial Aid and Scholarships","AS152323089-Mark Kaaa (152323089) Financial Aid and Scholarships","Active"]
[null,null,null,null,null,null,"AC00998","Grad Studies/COMD Scholarship","AC00998-Grad Studies/COMD Scholarship","Activity","FD01","Active","2025-01-02T03:05:30.251",null,null,null,null,null,null,null,null,"13643","LSBI Bio 463 Genetics of Human","13643-LSBI Bio 463 Genetics of Human",null,null,null,"AS152397857","LuAnn Troxel (152397857) Lee Library - Acquisitions","AS152397857-LuAnn Troxel (152397857) Lee Library - Acquisitions","Active"]
[null,null,null,null,null,null,"AC00999","NSSLHA","AC00999-NSSLHA","Activity","FD02","Active","2025-01-02T03:05:30.251",null,null,null,null,null,null,null,null,"13644","LSBI Bio 476 Biology Student T","13644-LSBI Bio 476 Biology Student T",null,null,null,"AS152476619","Cristi Johnson (152476619) International Student and Scholar Services","AS152476619-Cristi Johnson (152476619) International Student and Scholar Services","Active"]
[null,null,null,null,null,null,"AC01000","Audiology Clinic","AC01000-Audiology Clinic","Activity","FD03","Active","2025-01-02T03:05:30.251",null,null,null,null,null,null,null,null,"13645","LSBI Bio 496R Secondary teachi","13645-LSBI Bio 496R Secondary teachi",null,null,null,"AS152667221","Sharylann Smith (152667221) Off-Campus Housing","AS152667221-Sharylann Smith (152667221) Off-Campus Housing","Active"]
[null,null,null,null,null,null,"AC01001","Speech-Language Clinic","AC01001-Speech-Language Clinic","Activity","FD03","Active","2025-01-02T03:05:30.251",null,null,null,null,null,null,null,null,"13646","LSBI Bio 503 Research Orientat","13646-LSBI Bio 503 Research Orientat",null,null,null,"AS153142178","Dan Cunningham (153142178) OIT Resource - Application Engineering","AS153142178-Dan Cunningham (153142178) OIT Resource - Application Engineering","Active"]
[null,null,null,null,null,null,"AC01002","Richard Harris MEG","AC01002-Richard Harris MEG","Activity","FD03","Active","2025-01-02T03:05:30.251",null,null,null,null,null,null,null,null,"13647","LSBI Bio 510 Bio Systematics C","13647-LSBI Bio 510 Bio Systematics C",null,null,null,"AS153149167","Jeff Moss (153149167) Purchasing and Travel","AS153149167-Jeff Moss (153149167) Purchasing and Travel","Active"]
[null,null,null,null,null,null,"AC01003","Discretionary Research Fund","AC01003-Discretionary Research Fund","Activity","FD03","Active","2025-01-02T03:05:30.251",null,null,null,null,null,null,null,null,"13648","LSBI Bio 512 Angiosperm Phylog","13648-LSBI Bio 512 Angiosperm Phylog",null,null,null,"AS153557505","Lety Camacho (153557505) Lee Library - Research & Learning","AS153557505-Lety Camacho (153557505) Lee Library - Research & Learning","Active"]
[null,null,null,null,null,null,"AC01005","Counseling and Special","AC01005-Counseling and Special","Activity","FD01","Active","2025-01-02T03:05:30.251",null,null,null,null,null,null,null,null,"13649","LSBI Bio 517 Pub in Peer Rev J","13649-LSBI Bio 517 Pub in Peer Rev J",null,null,null,"AS153791500","Corinne Mayberry (153791500) McKay School of Education Assistant Dean External Relations","AS153791500-Corinne Mayberry (153791500) McKay School of Education Assistant Dean External Relations","Active"]
[null,null,null,null,null,null,"AC01006","Academy of Spiritual Center","AC01006-Academy of Spiritual Center","Activity","FD01","Active","2025-01-02T03:05:30.251",null,null,null,null,null,null,null,null,"13650","LSPW CURA-Aanderud, Zachary","13650-LSPW CURA-Aanderud, Zachary",null,null,null,"AS153801482","Landon Badoni (153801482) CE EFY","AS153801482-Landon Badoni (153801482) CE EFY","Active"]
[null,null,null,null,null,null,"AC01007","St Council Exceptional Childrn","AC01007-St Council Exceptional Childrn","Activity","FD02","Active","2025-01-02T03:05:30.251",null,null,null,null,null,null,null,null,"13651","LSPW CURA-Abbott, Benjamin","13651-LSPW CURA-Abbott, Benjamin",null,null,null,"AS154237943","Brock McMillan (154237943) Life Sciences - Dean's Office","AS154237943-Brock McMillan (154237943) Life Sciences - Dean's Office","Active"]
[null,null,null,null,null,null,"AC01008","Spiritual Foundations","AC01008-Spiritual Foundations","Activity","FD03","Active","2025-01-02T03:05:30.251",null,null,null,null,null,null,null,null,"13652","LSPW CURA-Allen, Phil","13652-LSPW CURA-Allen, Phil",null,null,null,"AS154713459","Nicole Richter (154713459) BYU Security Operations - Police Dispatch","AS154713459-Nicole Richter (154713459) BYU Security Operations - Police Dispatch","Active"]
[null,null,null,null,null,null,"AC01009","Autism Project","AC01009-Autism Project","Activity","FD03","Active","2025-01-02T03:05:30.251",null,null,null,null,null,null,null,null,"13653","LSPW CURA-Allphin, Loreen","13653-LSPW CURA-Allphin, Loreen",null,null,null,"AS154720675","Tracy Nelson (154720675) Academic VP Office, Deans","AS154720675-Tracy Nelson (154720675) Academic VP Office, Deans","Active"]
[null,null,null,null,null,null,"AC01010","IDR Suicide Risk Grant","AC01010-IDR Suicide Risk Grant","Activity","FD03","Active","2025-01-02T03:05:30.251",null,null,null,null,null,null,null,null,"13654","LSPW CURA-Anderson, Val","13654-LSPW CURA-Anderson, Val",null,null,null,"AS155648107","Jeffrey Woodbury (155648107) BYU Broadcasting - Digital Media","AS155648107-Jeffrey Woodbury (155648107) BYU Broadcasting - Digital Media","Active"]
[null,null,null,null,null,null,"AC01011","E. Cutrer Grad Mentoring Award","AC01011-E. Cutrer Grad Mentoring Award","Activity","FD03","Active","2025-01-02T03:05:30.251",null,null,null,null,null,null,null,null,"13655","LSPW CURA-Arrington, Matthew","13655-LSPW CURA-Arrington, Matthew",null,null,null,"AS155722845","Tyson Harmon (155722845) MSE - Dean's Office, McKay School of Education","AS155722845-Tyson Harmon (155722845) MSE - Dean's Office, McKay School of Education","Active"]
[null,null,null,null,null,null,"AC01013","Ed Leadership and Foundations","AC01013-Ed Leadership and Foundations","Activity","FD01","Active","2025-01-02T03:05:30.251",null,null,null,null,null,null,null,null,"13656","LSPW CURA-Chaston, John","13656-LSPW CURA-Chaston, John",null,null,null,"AS155725894","Brent Ellingson (155725894) Lee Library - Information Technology","AS155725894-Brent Ellingson (155725894) Lee Library - Information Technology","Active"]
[null,null,null,null,null,null,"AC01014","Principals Academy Fellowship","AC01014-Principals Academy Fellowship","Activity","FD01","Active","2025-01-02T03:05:30.251",null,null,null,null,null,null,null,null,"13657","LSPW CURA-Coleman, Craig","13657-LSPW CURA-Coleman, Craig",null,null,null,"AS156335272","Douglas Corey (156335272) CMS - Dean's Office Computational, Mathematical, & Phsical","AS156335272-Douglas Corey (156335272) CMS - Dean's Office Computational, Mathematical, & Phsical","Active"]
[null,null,null,null,null,null,"AC01015","Ed Law Journal","AC01015-Ed Law Journal","Activity","FD02","Active","2025-01-02T03:05:30.251",null,null,null,null,null,null,null,null,"13658","LSPW CURA-Frandsen, Paul","13658-LSPW CURA-Frandsen, Paul",null,null,null,"AS156363052","Eric Christensen (156363052) Dining Administration","AS156363052-Eric Christensen (156363052) Dining Administration","Active"]
[null,null,null,null,null,null,"AC01016","Leadership R & D","AC01016-Leadership R & D","Activity","FD03","Active","2025-01-02T03:05:30.251",null,null,null,null,null,null,null,null,"13659","LSPW CURA-Geary, Bradley","13659-LSPW CURA-Geary, Bradley",null,null,null,"AS156370491","Daniel Hendricks (156370491) Enrollment Services Executive Director's Office","AS156370491-Daniel Hendricks (156370491) Enrollment Services Executive Director's Office","Active"]
[null,null,null,null,null,null,"AC01018","Instruct Material L","AC01018-Instruct Material L","Activity","FD01","Active","2025-01-02T03:05:30.251",null,null,null,null,null,null,null,null,"13660","LSPW CURA-Hansen, Neil","13660-LSPW CURA-Hansen, Neil",null,null,null,"AS156423112","Jim Law (156423112) Humanities - Dean's Office","AS156423112-Jim Law (156423112) Humanities - Dean's Office","Active"]
[null,null,null,null,null,null,"AC01019","Instructional Science","AC01019-Instructional Science","Activity","FD01","Active","2025-01-02T03:05:30.251",null,null,null,null,null,null,null,null,"13661","LSPW CURA-Hopkins, Bryan","13661-LSPW CURA-Hopkins, Bryan",null,null,null,"AS156685614","Jeffrey Shumway (156685614) FHSS - Dean's Office","AS156685614-Jeffrey Shumway (156685614) FHSS - Dean's Office","Active"]
[null,null,null,null,null,null,"AC01020","Undergrad Research Training","AC01020-Undergrad Research Training","Activity","FD01","Active","2025-01-02T03:05:30.251",null,null,null,null,null,null,null,null,"13662","LSPW CURA-Hulet, April","13662-LSPW CURA-Hulet, April",null,null,null,"AS157119480","Sharon Harris (157119480) Humanities - Dean's Office","AS157119480-Sharon Harris (157119480) Humanities - Dean's Office","Active"]
[null,null,null,null,null,null,"AC01021","Grad Study Robert Bodily","AC01021-Grad Study Robert Bodily","Activity","FD01","Active","2025-01-02T03:05:30.251",null,null,null,null,null,null,null,null,"13663","LSPW CURA-Jarvis, David","13663-LSPW CURA-Jarvis, David",null,null,null,"AS157259877","Elaine Lauritzen (157259877) OIT Leadership - AVP","AS157259877-Elaine Lauritzen (157259877) OIT Leadership - AVP","Active"]
[null,null,null,null,null,null,"AC01022","Inst Psych & Tech Student Org","AC01022-Inst Psych & Tech Student Org","Activity","FD02","Active","2025-01-02T03:05:30.251",null,null,null,null,null,null,null,null,"13664","LSPW CURA-Jellen, Eric","13664-LSPW CURA-Jellen, Eric",null,null,null,"AS157492103","Jernaro Gilford (157492103) Athletics - Football","AS157492103-Jernaro Gilford (157492103) Athletics - Football","Active"]
[null,null,null,null,null,null,"AC01023","Graduate Studies-Inst Psy","AC01023-Graduate Studies-Inst Psy","Activity","FD03","Active","2025-01-02T03:05:30.251",null,null,null,null,null,null,null,null,"13665","LSPW CURA-Jolley, Greg","13665-LSPW CURA-Jolley, Greg",null,null,null,"AS157687619","Tammy Youngs (157687619) CE IS Course Dev - Joshua's Students","AS157687619-Tammy Youngs (157687619) CE IS Course Dev - Joshua's Students","Active"]
[null,null,null,null,null,null,"AC01024","IP&T Designated Funds","AC01024-IP&T Designated Funds","Activity","FD03","Active","2025-01-02T03:05:30.251",null,null,null,null,null,null,null,null,"13666","LSPW CURA-Larsen, Randy","13666-LSPW CURA-Larsen, Randy",null,null,null,"AS158292207","Brian Boyer (158292207) MSB - Dean's Office, Marriott School of Business","AS158292207-Brian Boyer (158292207) MSB - Dean's Office, Marriott School of Business","Active"]
[null,null,null,null,null,null,"AC01026","CITES District Operations","AC01026-CITES District Operations","Activity","FD01","Active","2025-01-02T03:05:30.251",null,null,null,null,null,null,null,null,"13667","LSPW CURA-Madsen, Matthew","13667-LSPW CURA-Madsen, Matthew",null,null,null,"AS158298955","Marianne Cutchins (158298955) College of Engineering - Dean's Office","AS158298955-Marianne Cutchins (158298955) College of Engineering - Dean's Office","Active"]
[null,null,null,null,null,null,"AC01027","Science & Engineering Fair","AC01027-Science & Engineering Fair","Activity","FD02","Active","2025-01-02T03:05:30.251",null,null,null,null,null,null,null,null,"13668","LSPW CURA-Maughan, Jeff","13668-LSPW CURA-Maughan, Jeff",null,null,null,"AS158311183","Caleb Barton (158311183) IT Network","AS158311183-Caleb Barton (158311183) IT Network","Active"]
[null,null,null,null,null,null,"AC01028","Technology Project","AC01028-Technology Project","Activity","FD03","Active","2025-01-02T03:05:30.251",null,null,null,null,null,null,null,null,"13669","LSPW CURA-McMillan, Brock","13669-LSPW CURA-McMillan, Brock",null,null,null,"AS158852755","Henry Eyring (158852755) University President - Academic Vice President","AS158852755-Henry Eyring (158852755) University President - Academic Vice President","Active"]
[null,null,null,null,null,null,"AC01029","BYU Partnership Renewal","AC01029-BYU Partnership Renewal","Activity","FD03","Active","2025-01-02T03:05:30.251",null,null,null,null,null,null,null,null,"13670","LSPW CURA-Petersen, Steven","13670-LSPW CURA-Petersen, Steven",null,null,null,"AS158920044","Ken Chandler (158920044) PF Building Operations","AS158920044-Ken Chandler (158920044) PF Building Operations","Active"]
[null,null,null,null,null,null,"AC01030","CI-MTSS","AC01030-CI-MTSS","Activity","FD03","Active","2025-01-02T03:05:30.251",null,null,null,null,null,null,null,null,"13671","LSPW CURA-Robinson, Todd","13671-LSPW CURA-Robinson, Todd",null,null,null,"AS159082402","Stan Benfell (159082402) University President - International Vice President","AS159082402-Stan Benfell (159082402) University President - International Vice President","Active"]
[null,null,null,null,null,null,"AC01032","Cites Capital Campaign","AC01032-Cites Capital Campaign","Activity","FD03","Active","2025-01-02T03:05:30.251",null,null,null,null,null,null,null,null,"13672","LSPW CURA-Smith, Thomas","13672-LSPW CURA-Smith, Thomas",null,null,null,"AS160041444","Julie Hatch (160041444) OIT Core - Tech Operations - Monitoring","AS160041444-Julie Hatch (160041444) OIT Core - Tech Operations - Monitoring","Active"]
[null,null,null,null,null,null,"AC01033","CITES Sunshine Fund","AC01033-CITES Sunshine Fund","Activity","FD07","Active","2025-01-02T03:05:30.251",null,null,null,null,null,null,null,null,"13673","LSPW CURA-St. Clair, Sam","13673-LSPW CURA-St. Clair, Sam",null,null,null,"AS160115949","David Honey (160115949) Humanities - Dean's Office","AS160115949-David Honey (160115949) Humanities - Dean's Office","Active"]
[null,null,null,null,null,null,"AC01034","Teacher Ed Grad Scholarships","AC01034-Teacher Ed Grad Scholarships","Activity","FD01","Active","2025-01-02T03:05:30.251",null,null,null,null,null,null,null,null,"13674","LSPW CURA-Stewart, J. Ryan","13674-LSPW CURA-Stewart, J. Ryan",null,null,null,"AS160206655","Yanela Jeppson (160206655) PF Building Operations","AS160206655-Yanela Jeppson (160206655) PF Building Operations","Active"]
[null,null,null,null,null,null,"AC01035","Materials Account - Nebo Dist","AC01035-Materials Account - Nebo Dist","Activity","FD01","Active","2025-01-02T03:05:30.251",null,null,null,null,null,null,null,null,"13675","LSPW Colman/Noorda, Ch.","13675-LSPW Colman/Noorda, Ch.",null,null,null,"AS160307884","Kerry Hammock (160307884) Student Life VP","AS160307884-Kerry Hammock (160307884) Student Life VP","Active"]
[null,null,null,null,null,null,"AC01036","Materials Account - Jordan Dis","AC01036-Materials Account - Jordan Dis","Activity","FD01","Active","2025-01-02T03:05:30.251",null,null,null,null,null,null,null,null,"13676","LSPW Hopkins/Cole D.","13676-LSPW Hopkins/Cole D.",null,null,null,"AS160499412","Becky Lundwall (160499412) FHSS - Dean's Office","AS160499412-Becky Lundwall (160499412) FHSS - Dean's Office","Active"]
[null,null,null,null,null,null,"AC01037","Materials Account - Provo Dist","AC01037-Materials Account - Provo Dist","Activity","FD01","Active","2025-01-02T03:05:30.251",null,null,null,null,null,null,null,null,"13677","LSPW Frandsen/Tolman E.","13677-LSPW Frandsen/Tolman E.",null,null,null,"AS160522523","Darron Billeter (160522523) MSB - Dean's Office, Marriott School of Business","AS160522523-Darron Billeter (160522523) MSB - Dean's Office, Marriott School of Business","Active"]
[null,null,null,null,null,null,"AC01038","Materials Account - Wasatch","AC01038-Materials Account - Wasatch","Activity","FD01","Active","2025-01-02T03:05:30.251",null,null,null,null,null,null,null,null,"13678","LSPW Smith/Raj V.","13678-LSPW Smith/Raj V.",null,null,null,"AS160937133","Timmy Criddle (160937133) Cannon Center","AS160937133-Timmy Criddle (160937133) Cannon Center","Active"]
[null,null,null,null,null,null,"AC01039","Materials Account - Alpine Dis","AC01039-Materials Account - Alpine Dis","Activity","FD01","Active","2025-01-02T03:05:30.251",null,null,null,null,null,null,null,null,"13679","LSPW Frandsen/Bursell M","13679-LSPW Frandsen/Bursell M",null,null,null,"AS161269515","Kahlie Ratcliffe (161269515) Financial Aid and Scholarships","AS161269515-Kahlie Ratcliffe (161269515) Financial Aid and Scholarships","Active"]
[null,null,null,null,null,null,"AC01040","Materials Account - ECE","AC01040-Materials Account - ECE","Activity","FD01","Active","2025-01-02T03:05:30.251",null,null,null,null,null,null,null,null,"13680","LSPW Jellen/Taylor J.","13680-LSPW Jellen/Taylor J.",null,null,null,"AS161426266","Gordon Smith (161426266) BYU Security Operations - Training/Security","AS161426266-Gordon Smith (161426266) BYU Security Operations - Training/Security","Active"]
[null,null,null,null,null,null,"AC01041","Student Mentoring Program","AC01041-Student Mentoring Program","Activity","FD01","Active","2025-01-02T03:05:30.251",null,null,null,null,null,null,null,null,"13681","LSPW Abbott/Norris A.","13681-LSPW Abbott/Norris A.",null,null,null,"AS161436988","Russell Hansen (161436988) Humanities - Dean's Office","AS161436988-Russell Hansen (161436988) Humanities - Dean's Office","Active"]
[null,null,null,null,null,null,"AC01042","Student Academic Assoc","AC01042-Student Academic Assoc","Activity","FD01","Active","2025-01-02T03:05:30.251",null,null,null,null,null,null,null,null,"13682","LSPW Abbott/Stanford T.","13682-LSPW Abbott/Stanford T.",null,null,null,"AS161828154","Caden Pennington (161828154) Culinary Support Center","AS161828154-Caden Pennington (161828154) Culinary Support Center","Active"]
[null,null,null,null,null,null,"AC01043","Pre Intern Workshop","AC01043-Pre Intern Workshop","Activity","FD01","Active","2025-01-02T03:05:30.251",null,null,null,null,null,null,null,null,"13683","LSPW Robinson/Billin T.","13683-LSPW Robinson/Billin T.",null,null,null,"AS161864084","John Murphy (161864084) Lee Library - Research & Learning","AS161864084-John Murphy (161864084) Lee Library - Research & Learning","Active"]
[null,null,null,null,null,null,"AC01044","BYU Reading Council","AC01044-BYU Reading Council","Activity","FD02","Active","2025-01-02T03:05:30.251",null,null,null,null,null,null,null,null,"13684","LSPW Chaston/Gottfredson S.","13684-LSPW Chaston/Gottfredson S.",null,null,null,"AS161913887","Christine Roundy (161913887) Master of Business Administration","AS161913887-Christine Roundy (161913887) Master of Business Administration","Active"]
[null,null,null,null,null,null,"AC01045","Early Childhood Ed Club","AC01045-Early Childhood Ed Club","Activity","FD02","Active","2025-01-02T03:05:30.251",null,null,null,null,null,null,null,null,"13685","LSPW Geary/Nielson E.","13685-LSPW Geary/Nielson E.",null,null,null,"AS161967829","David Shelley (161967829) PF Electrical Shop","AS161967829-David Shelley (161967829) PF Electrical Shop","Active"]
[null,null,null,null,null,null,"AC01046","Learning/Teaching Tech Lab","AC01046-Learning/Teaching Tech Lab","Activity","FD02","Active","2025-01-02T03:05:30.251",null,null,null,null,null,null,null,null,"13686","LSPW Frandsen/Coenen E.","13686-LSPW Frandsen/Coenen E.",null,null,null,"AS162410857","McKenzie Eschmeyer (162410857) CE FSY Logistics 2","AS162410857-McKenzie Eschmeyer (162410857) CE FSY Logistics 2","Active"]
[null,null,null,null,null,null,"AC01047","Teacher Education LRC","AC01047-Teacher Education LRC","Activity","FD03","Active","2025-01-02T03:05:30.251",null,null,null,null,null,null,null,null,"13687","LSPW Chaston/Davis M.","13687-LSPW Chaston/Davis M.",null,null,null,"AS162647127","Ben Boyes (162647127) PF Air Conditioning Shop","AS162647127-Ben Boyes (162647127) PF Air Conditioning Shop","Active"]
[null,null,null,null,null,null,"AC01048","PETE Fulton Funds","AC01048-PETE Fulton Funds","Activity","FD03","Active","2025-01-02T03:05:30.251",null,null,null,null,null,null,null,null,"13688","LSPW Allen/Flake A.","13688-LSPW Allen/Flake A.",null,null,null,"AS162829905","Steve Whitehouse (162829905) OIT Resource - Platform Engineering","AS162829905-Steve Whitehouse (162829905) OIT Resource - Platform Engineering","Active"]
[null,null,null,null,null,null,"AC01049","SEEL Project","AC01049-SEEL Project","Activity","FD03","Active","2025-01-02T03:05:30.251",null,null,null,null,null,null,null,null,"13689","LSPW Abbott/Frandsen B.","13689-LSPW Abbott/Frandsen B.",null,null,null,"AS163152451","Jen Dalley (163152451) OIT Leadership - CIO","AS163152451-Jen Dalley (163152451) OIT Leadership - CIO","Active"]
[null,null,null,null,null,null,"AC01051","MSB Graduate Scholarships","AC01051-MSB Graduate Scholarships","Activity","FD01","Active","2025-01-02T03:05:30.251",null,null,null,null,null,null,null,null,"13690","LSPW Audubon Group/W&R Club","13690-LSPW Audubon Group/W&R Club",null,null,null,"AS163334080","Hannah DeMille (163334080) CE Registration & Cashier","AS163334080-Hannah DeMille (163334080) CE Registration & Cashier","Active"]
[null,null,null,null,null,null,"AC01052","Driggs Chair","AC01052-Driggs Chair","Activity","FD01","Active","2025-01-02T03:05:30.251",null,null,null,null,null,null,null,null,"13691","LSPW Ecological Restoration/W&","13691-LSPW Ecological Restoration/W&",null,null,null,"AS163499577","Julie Lewis (163499577) CE BYU Online High School","AS163499577-Julie Lewis (163499577) CE BYU Online High School","Active"]
[null,null,null,null,null,null,"AC01053","MSB Transfers & Services","AC01053-MSB Transfers & Services","Activity","FD02","Active","2025-01-02T03:05:30.251",null,null,null,null,null,null,null,null,"13692","LSPW PWS 2024","13692-LSPW PWS 2024",null,null,null,"AS163576974","Steve Budd (163576974) Center for Teaching & Learning - Business Management","AS163576974-Steve Budd (163576974) Center for Teaching & Learning - Business Management","Active"]
[null,null,null,null,null,null,"AC01054","MSB Tuition Transfers","AC01054-MSB Tuition Transfers","Activity","FD03","Active","2025-01-02T03:05:30.251",null,null,null,null,null,null,null,null,"13693","LSPW Hopkins/Graff J.","13693-LSPW Hopkins/Graff J.",null,null,null,"AS164074559","Skyler Wilcox (164074559) CE Events","AS164074559-Skyler Wilcox (164074559) CE Events","Active"]
[null,null,null,null,null,null,"AC01055","Marriott School Transfers","AC01055-Marriott School Transfers","Activity","FD03","Active","2025-01-02T03:05:30.251",null,null,null,null,null,null,null,null,"13694","LSPW Arrington/Phipps H.","13694-LSPW Arrington/Phipps H.",null,null,null,"AS164508571","Jon Balzotti (164508571) Humanities - Dean's Office","AS164508571-Jon Balzotti (164508571) Humanities - Dean's Office","Active"]
[null,null,null,null,null,null,"AC01056","BYU DAC Learn Do Become","AC01056-BYU DAC Learn Do Become","Activity","FD03","Active","2025-01-02T03:05:30.251",null,null,null,null,null,null,null,null,"13695","LSPW St Clair/Jones N.","13695-LSPW St Clair/Jones N.",null,null,null,"AS164684203","Clint Guymon (164684203) College of Engineering - Dean's Office","AS164684203-Clint Guymon (164684203) College of Engineering - Dean's Office","Active"]
[null,null,null,null,null,null,"AC01058","BYU Experiential Learning","AC01058-BYU Experiential Learning","Activity","FD03","Active","2025-01-02T03:05:30.251",null,null,null,null,null,null,null,null,"13696","LSPW Chaston/Layne&Morrison&Sc","13696-LSPW Chaston/Layne&Morrison&Sc",null,null,null,"AS165161470","Christine Ackroyd (165161470) CE Salt Lake Center Class Instructors","AS165161470-Christine Ackroyd (165161470) CE Salt Lake Center Class Instructors","Active"]
[null,null,null,null,null,null,"AC01059","NAC Spouses Sunshine Fund","AC01059-NAC Spouses Sunshine Fund","Activity","FD07","Active","2025-01-02T03:05:30.251",null,null,null,null,null,null,null,null,"13697","LSPW Chaston/Tanner A.","13697-LSPW Chaston/Tanner A.",null,null,null,"AS165334243","Ray Daniel (165334243) OIT Resource - Data and BI Engineering","AS165334243-Ray Daniel (165334243) OIT Resource - Data and BI Engineering","Active"]
[null,null,null,null,null,null,"AC01091","BisNet","AC01091-BisNet","Activity","FD07","Active","2025-01-02T03:05:30.251",null,null,null,null,null,null,null,null,"13729","LSDO Spiritually Strengthening","13729-LSDO Spiritually Strengthening",null,null,null,"AS173102879","Austin Rustand (173102879) Athletics - Communications","AS173102879-Austin Rustand (173102879) Athletics - Communications","Active"]
[null,null,null,null,null,null,"AC01159","Military Science Op Acct","AC01159-Military Science Op Acct","Activity","FD03","Active","2025-01-02T03:05:30.251",null,null,null,null,null,null,null,null,"13793","LSDO Copier-MX6071-LSB4004Est","13793-LSDO Copier-MX6071-LSB4004Est",null,null,null,"AS189042786","Jeffrey Schachterle (189042786) Life Sciences - Dean's Office","AS189042786-Jeffrey Schachterle (189042786) Life Sciences - Dean's Office","Active"]
[null,null,null,null,null,null,"AC01262","Universe Lab","AC01262-Universe Lab","Activity","FD02","Active","2025-01-02T03:05:30.312",null,null,null,null,null,null,null,null,"14188","Square One","14188-Square One",null,null,null,"AS209768546","Matthew Grey (209768546) Religious Educcation - Dean's Office","AS209768546-Matthew Grey (209768546) Religious Educcation - Dean's Office","Active"]
[null,null,null,null,null,null,"AC01365","Instrument Shop","AC01365-Instrument Shop","Activity","FD02","Active","2025-01-02T03:05:30.312",null,null,null,null,null,null,null,null,"15084","Window washing","15084-Window washing",null,null,null,"AS234315531","Darin Childers (234315531) Risk Management and Safety","AS234315531-Darin Childers (234315531) Risk Management and Safety","Active"]
[null,null,null,null,null,null,"AC01465","IDSA Student Chapter","AC01465-IDSA Student Chapter","Activity","FD02","Active","2025-01-02T03:05:30.360",null,null,null,null,null,null,null,null,"15499","Linking Generations","15499-Linking Generations",null,null,null,"AS259787251","Robert Colson (259787251) Humanities - Dean's Office","AS259787251-Robert Colson (259787251) Humanities - Dean's Office","Active"]
[null,null,null,null,null,null,"AC01565","Mathematics Grad Sppt","AC01565-Mathematics Grad Sppt","Activity","FD01","Active","2025-01-02T03:05:30.360",null,null,null,null,null,null,null,null,"15683","3D Printing Club","15683-3D Printing Club",null,null,null,"AS277277182","Gordon Daines (277277182) Lee Library - Research & Learning","AS277277182-Gordon Daines (277277182) Lee Library - Research & Learning","Active"]
[null,null,null,null,null,null,"AC01670","TS Mobile CC Sales","AC01670-TS Mobile CC Sales","Activity","FD01","Active","2025-01-02T03:05:30.428",null,null,null,null,null,null,null,null,"15804","BYU Photography Club","15804-BYU Photography Club",null,null,null,"AS303021874","Elizabeth Thomas (303021874) FHSS - Dean's Office","AS303021874-Elizabeth Thomas (303021874) FHSS - Dean's Office","Active"]
[null,null,null,null,null,null,"AC01765","Multicultural Program Research","AC01765-Multicultural Program Research","Activity","FD01","Active","2025-01-02T03:05:30.428",null,null,null,null,null,null,null,null,"15900","Career Fair","15900-Career Fair",null,null,null,"AS327552642","Paul Godfrey (327552642) Academic VP Office, Deans","AS327552642-Paul Godfrey (327552642) Academic VP Office, Deans","Active"]
[null,null,null,null,null,null,"AC01868","Transcript & NCAA  Coordinator","AC01868-Transcript & NCAA  Coordinator","Activity","FD02","Active","2025-01-02T03:05:30.486",null,null,null,null,null,null,null,null,"16308","Belonging","16308-Belonging",null,null,null,"AS350486902","Shannon Sanders (350486902) Lee Library Administration - Collections Services","AS350486902-Shannon Sanders (350486902) Lee Library Administration - Collections Services","Active"]
[null,null,null,null,null,null,"AC01964","UT Iron County","AC01964-UT Iron County","Activity","FD02","Active","2025-01-02T03:05:30.486",null,null,null,null,null,null,null,null,"16913","Start Up Academy","16913-Start Up Academy",null,null,null,"AS370209201","Dean Shupe (370209201) Purchasing and Travel - Physical Facilities Operations","AS370209201-Dean Shupe (370209201) Purchasing and Travel - Physical Facilities Operations","Active"]
[null,null,null,null,null,null,"AC02059","Event Services Restricted","AC02059-Event Services Restricted","Activity","FD03","Active","2025-01-02T03:05:30.486",null,null,null,null,null,null,null,null,"17167","ATH Physicals","17167-ATH Physicals",null,null,null,"AS393785100","Michael Nguyen (393785100) OIT Resource - Application Engineering","AS393785100-Michael Nguyen (393785100) OIT Resource - Application Engineering","Active"]
[null,null,null,null,null,null,"AC02161","Chamber Orchestra","AC02161-Chamber Orchestra","Activity","FD03","Active","2025-01-02T03:05:30.555",null,null,null,null,null,null,null,null,"17716","ATH Insurance Reimbursement","17716-ATH Insurance Reimbursement",null,null,null,"AS415104418","Jackie Nunez (415104418) Women's Services and Resources","AS415104418-Jackie Nunez (415104418) Women's Services and Resources","Active"]
[null,null,null,null,null,null,"AC02256","Global Marketing","AC02256-Global Marketing","Activity","FD02","Active","2025-01-02T03:05:30.555",null,null,null,null,null,null,null,null,"17919","ATH Odd Year Game 18","17919-ATH Odd Year Game 18",null,null,null,"AS436387545","Doug Prawitt (436387545) Academic VP Office, Deans","AS436387545-Doug Prawitt (436387545) Academic VP Office, Deans","Active"]
[null,null,null,null,null,null,"AC02351","Spain Nursing","AC02351-Spain Nursing","Activity","FD02","Active","2025-01-02T03:05:30.607",null,null,null,null,null,null,null,null,"19223","Aaron Hawkins","19223-Aaron Hawkins",null,null,null,"AS456325862","Mark Madsen (456325862) Administrative Solutions","AS456325862-Mark Madsen (456325862) Administrative Solutions","Active"]
[null,null,null,null,null,null,"AC02452","Cashier Change Fund","AC02452-Cashier Change Fund","Activity","FD01","Active","2025-01-02T03:05:30.607",null,null,null,null,null,null,null,null,"19479","Ryan Camacho","19479-Ryan Camacho",null,null,null,"AS475394963","Janis Nuckolls (475394963) Humanities - Dean's Office","AS475394963-Janis Nuckolls (475394963) Humanities - Dean's Office","Active"]
[null,null,null,null,null,null,"AC02547","PCA Satisfaction Restrictions","AC02547-PCA Satisfaction Restrictions","Activity","FD21","Active","2025-01-02T03:05:30.655",null,null,null,null,null,null,null,null,"19775","SIOY","19775-SIOY",null,null,null,"AS499641159","Kevin Miller (499641159) CMS - Dean's Office Computational, Mathematical, & Phsical","AS499641159-Kevin Miller (499641159) CMS - Dean's Office Computational, Mathematical, & Phsical","Active"]
[null,null,null,null,null,null,"AC02656","CE Overhead Clearing","AC02656-CE Overhead Clearing","Activity","FD02","Active","2025-01-02T03:05:30.655",null,null,null,null,null,null,null,null,"20319","Dawna Baugh","20319-Dawna Baugh",null,null,null,"AS526040921","Sean Huff (526040921) OIT Portfolio - Business, Finance, & HR","AS526040921-Sean Huff (526040921) OIT Portfolio - Business, Finance, & HR","Active"]
[null,null,null,null,null,null,"AC02724","CE UN HIST 481R: Family History Directed Research","AC02724-CE UN HIST 481R: Family History Directed Research","Activity","FD02","Active","2025-01-02T03:05:30.698",null,null,null,null,null,null,null,null,"20950","Lynn Elliott","20950-Lynn Elliott",null,null,null,"AS543930232","Kainalu Barino (543930232) Center for Teaching & Learning - Faculty Project Management","AS543930232-Kainalu Barino (543930232) Center for Teaching & Learning - Faculty Project Management","Active"]
[null,null,null,null,null,null,"AC02846","CE UN WRTG 150: Writing and Rhetoric","AC02846-CE UN WRTG 150: Writing and Rhetoric","Activity","FD02","Active","2025-01-02T03:05:30.698",null,null,null,null,null,null,null,null,"21423","Assoc Dean - Gillett","21423-Assoc Dean - Gillett",null,null,null,"AS575150134","Diana Clark (575150134) Athletics - Olympic Sport Medicine","AS575150134-Diana Clark (575150134) Athletics - Olympic Sport Medicine","Active"]
[null,null,null,null,null,null,"AC02947","CE UN HRM 413: Managerial Leadership Development","AC02947-CE UN HRM 413: Managerial Leadership Development","Activity","FD02","Active","2025-01-02T03:05:30.743",null,null,null,null,null,null,null,null,"21642","String","21642-String",null,null,null,"AS594667557","Carter Charles (594667557) Humanities - Dean's Office","AS594667557-Carter Charles (594667557) Humanities - Dean's Office","Active"]
[null,null,null,null,null,null,"AC03042","CE HS CTE 050: Health Science 1, The Whole Individual","AC03042-CE HS CTE 050: Health Science 1, The Whole Individual","Activity","FD02","Active","2025-01-02T03:05:30.743",null,null,null,null,null,null,null,null,"21B61","VIDEO CAM-INCL BROADCST CAMCOR","21B61-VIDEO CAM-INCL BROADCST CAMCOR",null,null,null,"AS613483964","Benjamin Nichols (613483964) Fine Arts & Communications - Dean's Office","AS613483964-Benjamin Nichols (613483964) Fine Arts & Communications - Dean's Office","Active"]
[null,null,null,null,null,null,"AC03143","CE HS BMATH 041: Business and Consumer Math, Part 1","AC03143-CE HS BMATH 041: Business and Consumer Math, Part 1","Activity","FD02","Active","2025-01-02T03:05:30.788",null,null,null,null,null,null,null,null,"22444","Criterion","22444-Criterion",null,null,null,"AS634322230","Tom Holmoe (634322230) University President - Advancement Vice President","AS634322230-Tom Holmoe (634322230) University President - Advancement Vice President","Active"]
[null,null,null,null,null,null,"AC03238","CE HS SELFG 055: Study Skills","AC03238-CE HS SELFG 055: Study Skills","Activity","FD02","Active","2025-01-02T03:05:30.788",null,null,null,null,null,null,null,null,"23080","Corinna Tanner","23080-Corinna Tanner",null,null,null,"AS656324718","Lorinne Morris (656324718) Law School - Dean's Office","AS656324718-Lorinne Morris (656324718) Law School - Dean's Office","Active"]
[null,null,null,null,null,null,"AC03334","CE BYUO COMMS 482: Media and World Religions","AC03334-CE BYUO COMMS 482: Media and World Religions","Activity","FD02","Active","2025-01-02T03:05:30.840",null,null,null,null,null,null,null,null,"23574","Daphne Thomas","23574-Daphne Thomas",null,null,null,"AS677311313","John McBride (677311313) CMS - Dean's Office Computational, Mathematical, & Phsical","AS677311313-John McBride (677311313) CMS - Dean's Office Computational, Mathematical, & Phsical","Active"]
[null,null,null,null,null,null,"AC03436","CE BYUO IP&T 461: Design Evaluation","AC03436-CE BYUO IP&T 461: Design Evaluation","Activity","FD02","Active","2025-01-02T03:05:30.840",null,null,null,null,null,null,null,null,"23976","Sheri Tesseyman","23976-Sheri Tesseyman",null,null,null,"AS697354557","Rod Scheetz (697354557) CMS - Dean's Office Computational, Mathematical, & Phsical","AS697354557-Rod Scheetz (697354557) CMS - Dean's Office Computational, Mathematical, & Phsical","Active"]
[null,null,null,null,null,null,"AC03531","CE BYUO PHSCS 430: Computational Physics Lab 3","AC03531-CE BYUO PHSCS 430: Computational Physics Lab 3","Activity","FD02","Active","2025-01-02T03:05:30.840",null,null,null,null,null,null,null,null,"24521","Watt, Gary","24521-Watt, Gary",null,null,null,"AS719085757","David Fawcett (719085757) Academic VP Office, Deans","AS719085757-David Fawcett (719085757) Academic VP Office, Deans","Active"]
[null,null,null,null,null,null,"AC03627","CE BYUO STDEV 133: Advanced Tutoring","AC03627-CE BYUO STDEV 133: Advanced Tutoring","Activity","FD02","Active","2025-01-02T03:05:30.891",null,null,null,null,null,null,null,null,"25043","Jensen, Lee","25043-Jensen, Lee",null,null,null,"AS740476785","Shelby Luke (740476785) Theatre and Media Arts - Costume Shop","AS740476785-Shelby Luke (740476785) Theatre and Media Arts - Costume Shop","Active"]
[null,null,null,null,null,null,"AC03917","CE FSY UT Logan","AC03917-CE FSY UT Logan","Activity","FD02","Active","2025-01-02T03:05:30.891",null,null,null,null,null,null,null,null,"25341","Cardon, David A.","25341-Cardon, David A.",null,null,null,"AS762878216","Steve Goodman (762878216) BYU Police and BYU Security","AS762878216-Steve Goodman (762878216) BYU Police and BYU Security","Active"]
[null,null,null,null,null,null,"AC04052","CE SL MPA 651: Nonprofit Organization Management","AC04052-CE SL MPA 651: Nonprofit Organization Management","Activity","FD02","Active","2025-01-02T03:05:30.972",null,null,null,null,null,null,null,null,"25521","Discover STEM","25521-Discover STEM",null,null,null,"AS785479341","Emily Smith (785479341) Student Connection and Leadership Center","AS785479341-Emily Smith (785479341) Student Connection and Leadership Center","Active"]
[null,null,null,null,null,null,"AC04153","CE SL MATH 110: College Algebra","AC04153-CE SL MATH 110: College Algebra","Activity","FD02","Active","2025-01-02T03:05:30.972",null,null,null,null,null,null,null,null,"25740","PHSCS 245","25740-PHSCS 245",null,null,null,"AS810039033","Levi Smith (810039033) Administrative Solutions","AS810039033-Levi Smith (810039033) Administrative Solutions","Active"]
[null,null,null,null,null,null,"AC04248","CE SL IHUM 202: Western Humanities 2","AC04248-CE SL IHUM 202: Western Humanities 2","Activity","FD02","Active","2025-01-02T03:05:31.024",null,null,null,null,null,null,null,null,"25943","Luncheons: Faculty","25943-Luncheons: Faculty",null,null,null,"AS832093977","Kevin Wafford (832093977) PF Building Operations","AS832093977-Kevin Wafford (832093977) PF Building Operations","Active"]
[null,null,null,null,null,null,"AC04343","CE EC SOC W 360: Social Work Practice with Individuals","AC04343-CE EC SOC W 360: Social Work Practice with Individuals","Activity","FD02","Active","2025-01-02T03:05:31.024",null,null,null,null,null,null,null,null,"26091","AEROS GMC Academy","26091-AEROS GMC Academy",null,null,null,"AS854283627","Erin Measom (854283627) CE Assoc Dean Andrews","AS854283627-Erin Measom (854283627) CE Assoc Dean Andrews","Active"]
[null,null,null,null,null,null,"AC04444","CE EC PSYCH 609: Professional and Ethical Issues in Psychology","AC04444-CE EC PSYCH 609: Professional and Ethical Issues in Psychology","Activity","FD02","Active","2025-01-02T03:05:31.069",null,null,null,null,null,null,null,null,"26198","Idea Showcase","26198-Idea Showcase",null,null,null,"AS880188377","Brad Agle (880188377) MSB - Dean's Office, Marriott School of Business","AS880188377-Brad Agle (880188377) MSB - Dean's Office, Marriott School of Business","Active"]
[null,null,null,null,null,null,"AC04539","CE EC DANCE 135: Tap Dance, Beginning","AC04539-CE EC DANCE 135: Tap Dance, Beginning","Activity","FD02","Active","2025-01-02T03:05:31.069",null,null,null,null,null,null,null,null,"26302","Info Sessions","26302-Info Sessions",null,null,null,"AS905551697","Troy Galbraith (905551697) Kennedy International Center","AS905551697-Troy Galbraith (905551697) Kennedy International Center","Active"]
[null,null,null,null,null,null,"AC04634","CE EC CROAT 330: Advanced Language and Culture: Croatian","AC04634-CE EC CROAT 330: Advanced Language and Culture: Croatian","Activity","FD02","Active","2025-01-02T03:05:31.112",null,null,null,null,null,null,null,null,"26461","Impact Investing Association","26461-Impact Investing Association",null,null,null,"AS925995105","Don Brugger (925995105) Religious Studies Center","AS925995105-Don Brugger (925995105) Religious Studies Center","Active"]
[null,null,null,null,null,null,"AC04726","CE EC TAGAL 305: Language Skills Development: Tagalog","AC04726-CE EC TAGAL 305: Language Skills Development: Tagalog","Activity","FD02","Active","2025-01-02T03:05:31.112",null,null,null,null,null,null,null,null,"26572","Cody Reeves","26572-Cody Reeves",null,null,null,"AS948142582","Katy Clark (948142582) PF AVP Office","AS948142582-Katy Clark (948142582) PF AVP Office","Active"]
[null,null,null,null,null,null,"AC04829","CE EC CMLIT 420R: Twentieth-Century Literature","AC04829-CE EC CMLIT 420R: Twentieth-Century Literature","Activity","FD02","Active","2025-01-02T03:05:31.177",null,null,null,null,null,null,null,null,"26784","MGT Cougar Capital","26784-MGT Cougar Capital",null,null,null,"AS977772186","David Simpson (977772186) FHSS - Dean's Office","AS977772186-David Simpson (977772186) FHSS - Dean's Office","Active"]
[null,null,null,null,null,null,"AC04930","CE EC PHIL 213: Intro to Ethics","AC04930-CE EC PHIL 213: Intro to Ethics","Activity","FD02","Active","2025-01-02T03:05:31.177",null,null,null,null,null,null,null,null,"26939","MGT Internal Initiatives","26939-MGT Internal Initiatives"]
[null,null,null,null,null,null,"AC05025","CE EC PHSCS 108: General Physics Lab 2","AC05025-CE EC PHSCS 108: General Physics Lab 2","Activity","FD02","Active","2025-01-02T03:05:31.209",null,null,null,null,null,null,null,null,"27180","Washer/Dryer SigCard","27180-Washer/Dryer SigCard"]
[null,null,null,null,null,null,"AC05120","CE EC STDEV 358R: Student Leadership Development","AC05120-CE EC STDEV 358R: Student Leadership Development","Activity","FD02","Active","2025-01-02T03:05:31.209",null,null,null,null,null,null,null,null,"27437","Open door 7","27437-Open door 7"]
[null,null,null,null,null,null,"AC05225","CE UCUR Utah Conference on Undergraduate Research","AC05225-CE UCUR Utah Conference on Undergraduate Research","Activity","FD02","Active","2025-01-02T03:05:31.209",null,null,null,null,null,null,null,null,"28294","Cultural Area","28294-Cultural Area"]
[null,null,null,null,null,null,"AC05323","Foreign Language House Rs Grp","AC05323-Foreign Language House Rs Grp","Activity","FD01","Active","2025-01-02T03:05:31.243",null,null,null,null,null,null,null,null,"28546","LSES Unassigned","28546-LSES Unassigned"]
[null,null,null,null,null,null,"AC05329","Scandinavian Studies","AC05329-Scandinavian Studies","Activity","FD01","Active","2025-01-02T03:05:31.243",null,null,null,null,null,null,null,null,"28552","LSES MS Research","28552-LSES MS Research"]
[null,null,null,null,null,null,"AC05424","BYU A Cappella Ensembles","AC05424-BYU A Cappella Ensembles","Activity","FD03","Active","2025-01-02T03:05:31.243",null,null,null,null,null,null,null,null,"29011","Honors Travel","29011-Honors Travel"]
[null,null,null,null,null,null,"AC05522","Barbara Morrell","AC05522-Barbara Morrell","Activity","FD01","Active","2025-01-02T03:05:31.280",null,null,null,null,null,null,null,null,"29712","Second Day Lunch","29712-Second Day Lunch"]
[null,null,null,null,null,null,"AC05623","Richard Warr Faculty Consolidated","AC05623-Richard Warr Faculty Consolidated","Activity","FD04","Active","2025-01-02T03:05:31.280",null,null,null,null,null,null,null,null,"30033","LSPW PWS 512Rnglnd-Lndscp Eco&","30033-LSPW PWS 512Rnglnd-Lndscp Eco&"]
[null,null,null,null,null,null,"AC05718","Paul Jenkins-Faculty Consolidated","AC05718-Paul Jenkins-Faculty Consolidated","Activity","FD04","Active","2025-01-02T03:05:31.311",null,null,null,null,null,null,null,null,"30124","LSPW Hopkins, Bryan","30124-LSPW Hopkins, Bryan"]
[null,null,null,null,null,null,"AC05813","Roger Harrison-Faculty Consolidated","AC05813-Roger Harrison-Faculty Consolidated","Activity","FD04","Active","2025-01-02T03:05:31.311",null,null,null,null,null,null,null,null,"30221","LSBI University Teaching 1","30221-LSBI University Teaching 1"]
[null,null,null,null,null,null,"AC05914","MARY ANNE Prater-Faculty Consolidated","AC05914-MARY ANNE Prater-Faculty Consolidated","Activity","FD04","Active","2025-01-02T03:05:31.342",null,null,null,null,null,null,null,null,"30342","LSBI 23 CURA S Payne-C Peterso","30342-LSBI 23 CURA S Payne-C Peterso"]
[null,null,null,null,null,null,"AC06009","Eric DeRosia-Faculty Consolidated","AC06009-Eric DeRosia-Faculty Consolidated","Activity","FD04","Active","2025-01-02T03:05:31.342",null,null,null,null,null,null,null,null,"30466","LS Coll UG Rsrch Awd-CURA 6","30466-LS Coll UG Rsrch Awd-CURA 6"]
[null,null,null,null,null,null,"AC06110","Karl Diether-Faculty Consolidated","AC06110-Karl Diether-Faculty Consolidated","Activity","FD04","Active","2025-01-02T03:05:31.373",null,null,null,null,null,null,null,null,"30584","LSMM MMBIO 411","30584-LSMM MMBIO 411"]
[null,null,null,null,null,null,"AC06205","Bridgewater, Laura-Faculty Consolidated","AC06205-Bridgewater, Laura-Faculty Consolidated","Activity","FD04","Active","2025-01-02T03:05:31.373",null,null,null,null,null,null,null,null,"30799","LSCE CELL 484","30799-LSCE CELL 484"]
[null,null,null,null,null,null,"AC06287","Johnson, Jerry-Faculty Consolidated","AC06287-Johnson, Jerry-Faculty Consolidated","Activity","FD04","Active","2025-01-02T03:05:31.429",null,null,null,null,null,null,null,null,"30952","LSPW V-PW1V 2020 TOY TRUCK/DEP","30952-LSPW V-PW1V 2020 TOY TRUCK/DEP"]
[null,null,null,null,null,null,"AC06400","Jensen, David-Faculty Consolidated","AC06400-Jensen, David-Faculty Consolidated","Activity","FD04","Active","2025-01-02T03:05:31.429",null,null,null,null,null,null,null,null,"32280","Man Roland Press","32280-Man Roland Press"]
[null,null,null,null,null,null,"AC06495","Eastley, Aaron-Faculty Consolidated","AC06495-Eastley, Aaron-Faculty Consolidated","Activity","FD04","Active","2025-01-02T03:05:31.465",null,null,null,null,null,null,null,null,"34085","Collection Services Division","34085-Collection Services Division"]
[null,null,null,null,null,null,"AC06596","Isaac Sanft","AC06596-Isaac Sanft","Activity","FD07","Active","2025-01-02T03:05:31.465",null,null,null,null,null,null,null,null,"34246","Statistics","34246-Statistics"]
[null,null,null,null,null,null,"AC06691","Thornock, Neil-Faculty Consolidated","AC06691-Thornock, Neil-Faculty Consolidated","Activity","FD04","Active","2025-01-02T03:05:31.496",null,null,null,null,null,null,null,null,"34510","Copy Center","34510-Copy Center"]
[null,null,null,null,null,null,"AC06786","Brent Keck-Faculty Consolidated","AC06786-Brent Keck-Faculty Consolidated","Activity","FD04","Active","2025-01-02T03:05:31.496",null,null,null,null,null,null,null,null,"35191","Loosli, Kelly","35191-Loosli, Kelly"]
[null,null,null,null,null,null,"AC06887","Larson, Michael J-Faculty Consolidated","AC06887-Larson, Michael J-Faculty Consolidated","Activity","FD04","Active","2025-01-02T03:05:31.496",null,null,null,null,null,null,null,null,"35442","DSM AmazingGraceMyChain:YMP003","35442-DSM AmazingGraceMyChain:YMP003"]
[null,null,null,null,null,null,"AC06982","McCoy, Cameron-Faculty Consolidated","AC06982-McCoy, Cameron-Faculty Consolidated","Activity","FD04","Active","2025-01-02T03:05:31.529",null,null,null,null,null,null,null,null,"35648","WSC 'We Sing of Christ' CD","35648-WSC 'We Sing of Christ' CD"]
[null,null,null,null,null,null,"AC07077","Rod Newman Faculty Consolidated","AC07077-Rod Newman Faculty Consolidated","Activity","FD04","Active","2025-01-02T03:05:31.529",null,null,null,null,null,null,null,null,"35785","Bailey, Erin","35785-Bailey, Erin"]
[null,null,null,null,null,null,"AC07178","Randall Beard-Faculty Consolidated","AC07178-Randall Beard-Faculty Consolidated","Activity","FD04","Active","2025-01-02T03:05:31.560",null,null,null,null,null,null,null,null,"35968","NAS 'New American Songbook' CD","35968-NAS 'New American Songbook' CD"]
[null,null,null,null,null,null,"AC07273","Curt Anderson-Faculty Consolidated","AC07273-Curt Anderson-Faculty Consolidated","Activity","FD04","Active","2025-01-02T03:05:31.560",null,null,null,null,null,null,null,null,"36393","MTC Summer Social","36393-MTC Summer Social"]
[null,null,null,null,null,null,"AC07383","CE BYUO ME EN 272: Engineering Graphics - Principles and Applications","AC07383-CE BYUO ME EN 272: Engineering Graphics - Principles and Applications","Activity","FD02","Active","2025-01-02T03:05:31.591",null,null,null,null,null,null,null,null,"38042","Subscriptions/Periodicals","38042-Subscriptions/Periodicals"]
[null,null,null,null,null,null,"AC07480","CORE - Customer Success","AC07480-CORE - Customer Success","Activity","FD01","Active","2025-01-02T03:05:31.591",null,null,null,null,null,null,null,null,"38689","Food","38689-Food"]
[null,null,null,null,null,null,"AC07576","Rigby, Jennifer-Faculty Consol","AC07576-Rigby, Jennifer-Faculty Consol","Activity","FD04","Active","2025-01-02T03:05:31.625",null,null,null,null,null,null,null,null,"39357","Chemistry & Biochemistry","39357-Chemistry & Biochemistry"]
[null,null,null,null,null,null,"AC07678","General Endowment Unallocated","AC07678-General Endowment Unallocated","Activity","FD03","Active","2025-01-02T03:05:31.625",null,null,null,null,null,null,null,null,"40394","Industrial Hygiene","40394-Industrial Hygiene"]
[null,null,null,null,null,null,"AC07773","JPMC Concourse Clearing","AC07773-JPMC Concourse Clearing","Activity","FD01","Active","2025-01-09T03:04:39.834615+00:00",null,null,null,null,null,null,null,null,"47102","JBMS","47102-JBMS"]
[null,null,null,null,null,null,"CC10035","[LIB] Public Relations","CC10035-[LIB] Public Relations","Cost Center","FD01","Active","2025-01-05T03:04:18.691986+00:00",null,null,null,null,null,null,null,null,"48039","Religious Outreach","48039-Religious Outreach"]
[null,null,null,null,null,null,"CC10136","[MSE] CITES Office Operations","CC10136-[MSE] CITES Office Operations","Cost Center","FD01","Active","2025-01-14T03:04:56.040044+00:00",null,null,null,null,null,null,null,null,"4D153","Document Management","4D153-Document Management"]
[null,null,null,null,null,null,"CC10236","[DINE] Meat Shop","CC10236-[DINE] Meat Shop","Cost Center","FD02","Active","2025-01-05T03:04:20.593726+00:00",null,null,null,null,null,null,null,null,"52141","Brock, Bobbie R-241401173","52141-Brock, Bobbie R-241401173"]
[null,null,null,null,null,null,"CC10331","[STLF] Pre-Professional Advisement","CC10331-[STLF] Pre-Professional Advisement","Cost Center","FD01","Active","2025-01-05T03:04:20.593726+00:00",null,null,null,null,null,null,null,null,"52407","Straw, Stephen H-961400181","52407-Straw, Stephen H-961400181"]
[null,null,null,null,null,null,"CC10426","[ATH] Women's Soccer","CC10426-[ATH] Women's Soccer","Cost Center","FD02","Active","2025-01-05T03:04:20.65832+00:00",null,null,null,null,null,null,null,null,"52618","Howell, Ann 2017#2 243002551","52618-Howell, Ann 2017#2 243002551"]
[null,null,null,null,null,null,"CC10527","[CE] Media Production","CC10527-[CE] Media Production","Cost Center","FD02","Active","2025-01-05T03:04:20.694121+00:00",null,null,null,null,null,null,null,null,"55210","CA Kern County","55210-CA Kern County"]
[null,null,null,null,null,null,"GF00049","[AER] QE - GBHB Alumni Bldg Maint Fund","GF00049-[AER] QE - GBHB Alumni Bldg Maint Fund","Gift","FD29","Active","2025-01-12T03:04:22.441636+00:00",null,null,null,null,null,null,null,null,"57075","Concert Support","57075-Concert Support"]
[null,null,null,null,null,null,"GF00144","[NURS] QE - Nursing Coll Assist","GF00144-[NURS] QE - Nursing Coll Assist","Gift","FD29","Active","2025-01-12T03:04:22.441636+00:00",null,null,null,null,null,null,null,null,"57192","Pub:DannyBoy:YMP002.YMP003","57192-Pub:DannyBoy:YMP002.YMP003"]
[null,null,null,null,null,null,"GF00245","[FHSS] QE - Marett, Kevin & Lori SW Endmnt","GF00245-[FHSS] QE - Marett, Kevin & Lori SW Endmnt","Gift","FD29","Active","2025-01-12T03:04:22.491508+00:00",null,null,null,null,null,null,null,null,"57296","DMV-VP: Beach Boys Medley","57296-DMV-VP: Beach Boys Medley"]
[null,null,null,null,null,null,"GF00340","[INVP] QE - PAM Inspiring Learning","GF00340-[INVP] QE - PAM Inspiring Learning","Gift","FD29","Active","2025-01-12T03:04:22.527632+00:00",null,null,null,null,null,null,null,null,"57544","PSM-Joy to the World:YMP002","57544-PSM-Joy to the World:YMP002"]
[null,null,null,null,null,null,"GF00435","[MSB] QE - Dyer, William G. and Bonnie H.","GF00435-[MSB] QE - Dyer, William G. and Bonnie H.","Gift","FD29","Active","2025-01-12T03:04:22.527632+00:00",null,null,null,null,null,null,null,null,"57655","TUG-CD:Unknown Galaxy (Holden)","57655-TUG-CD:Unknown Galaxy (Holden)"]
[null,null,null,null,null,null,"GF00536","[STLF] QE - Brown, Harold","GF00536-[STLF] QE - Brown, Harold","Gift","FD29","Active","2025-01-12T03:04:22.568836+00:00",null,null,null,null,null,null,null,null,"57770","DMV-NW: Amazing Grace Annivers","57770-DMV-NW: Amazing Grace Annivers"]
[null,null,null,null,null,null,"GF00631","[ATH] TE - Strong, Jeff and Sara","GF00631-[ATH] TE - Strong, Jeff and Sara","Gift","FD23","Active","2025-01-12T03:04:22.614137+00:00",null,null,null,null,null,null,null,null,"57883","Pub:Abide with MeTisEve:YMP029","57883-Pub:Abide with MeTisEve:YMP029"]
[null,null,null,null,null,null,"GF00726","[ATH] TE - Farnes, Hazel L. Athletic Sch","GF00726-[ATH] TE - Farnes, Hazel L. Athletic Sch","Gift","FD23","Active","2025-01-12T03:04:22.648231+00:00",null,null,null,null,null,null,null,null,"57978","CH-SNGL: The Nativity Song","57978-CH-SNGL: The Nativity Song"]
[null,null,null,null,null,null,"GF00827","[LAWS] TE - Kirton McConkie Keetch","GF00827-[LAWS] TE - Kirton McConkie Keetch","Gift","FD23","Active","2025-01-12T03:04:22.715555+00:00",null,null,null,null,null,null,null,null,"61454","Repl (22) Uphol Chairs 3530WSC","61454-Repl (22) Uphol Chairs 3530WSC"]
[null,null,null,null,null,null,"GF00923","[ENG] TE - Fielding, Brian and Hallie","GF00923-[ENG] TE - Fielding, Brian and Hallie","Gift","FD23","Active","2025-01-12T03:04:22.715555+00:00",null,null,null,null,null,null,null,null,"61573","OIT Network Upgrades HL 2024","61573-OIT Network Upgrades HL 2024"]
[null,null,null,null,null,null,"GF00929","[ENG] TE - National Instruments Electrical & Computer Engineering Endowed Scholarship Fund","GF00929-[ENG] TE - National Instruments Electrical & Computer Engineering Endowed Scholarship Fund","Gift","FD23","Active","2025-01-12T03:04:22.715555+00:00",null,null,null,null,null,null,null,null,"61579","OIT Network Upgrades HR 2024","61579-OIT Network Upgrades HR 2024"]
[null,null,null,null,null,null,"GF01024","[STLF] TE - Jenkins-Student Life","GF01024-[STLF] TE - Jenkins-Student Life","Gift","FD23","Active","2025-01-12T03:04:22.764687+00:00",null,null,null,null,null,null,null,null,"62110","Books","62110-Books"]
[null,null,null,null,null,null,"GF01119","[ENRL] TE - Chingas, George","GF01119-[ENRL] TE - Chingas, George","Gift","FD23","Active","2025-01-12T03:04:22.855591+00:00",null,null,null,null,null,null,null,null,"62632","F Research 2","62632-F Research 2"]
[null,null,null,null,null,null,"GF01257","[ENRL] TE - Kramer, Hebert and Berniece","GF01257-[ENRL] TE - Kramer, Hebert and Berniece","Gift","FD23","Active","2025-01-12T03:04:22.855591+00:00",null,null,null,null,null,null,null,null,"64368","BD Southeast Asia 2025","64368-BD Southeast Asia 2025"]
[null,null,null,null,null,null,"GF01314","[ENRL] TE - Tanner, Robert and Kathryn","GF01314-[ENRL] TE - Tanner, Robert and Kathryn","Gift","FD23","Active","2025-01-12T03:04:22.855591+00:00",null,null,null,null,null,null,null,null,"65012","Football Suites","65012-Football Suites"]
[null,null,null,null,null,null,"GF01409","[ENRL] TE - Smith, Jay L. Insp Lrng","GF01409-[ENRL] TE - Smith, Jay L. Insp Lrng","Gift","FD23","Active","2025-01-12T03:04:22.905663+00:00",null,null,null,null,null,null,null,null,"65332","Explore Utah Valley","65332-Explore Utah Valley"]
[null,null,null,null,null,null,"GF01510","[FHSS] TE - Gerard, Jack Mentored Student","GF01510-[FHSS] TE - Gerard, Jack Mentored Student","Gift","FD23","Active","2025-01-12T03:04:22.905663+00:00",null,null,null,null,null,null,null,null,"66683","Cougar Capital/Nursa, Inc.","66683-Cougar Capital/Nursa, Inc."]
[null,null,null,null,null,null,"GF01605","[ARTS] TE - Beckham, Raymond","GF01605-[ARTS] TE - Beckham, Raymond","Gift","FD23","Active","2025-01-12T03:04:23.016751+00:00",null,null,null,null,null,null,null,null,"67155","Williams, Darrin","67155-Williams, Darrin"]
[null,null,null,null,null,null,"GF01706","[HUM] TE - Malouf, Julie M. Humanities","GF01706-[HUM] TE - Malouf, Julie M. Humanities","Gift","FD23","Active","2025-01-12T03:04:23.064766+00:00",null,null,null,null,null,null,null,null,"80144","LSPW Hulet Exp Learning","80144-LSPW Hulet Exp Learning"]
[null,null,null,null,null,null,"GF01801","[LFSC] TE - Tanner, Helen Brown","GF01801-[LFSC] TE - Tanner, Helen Brown","Gift","FD23","Active","2025-01-12T03:04:23.064766+00:00",null,null,null,null,null,null,null,null,"80JLJ","LSBI Jensen,Jamie-Research","80JLJ-LSBI Jensen,Jamie-Research"]
[null,null,null,null,null,null,"GF01897","[MSB] TE - Edwards, William F. Schol","GF01897-[MSB] TE - Edwards, William F. Schol","Gift","FD23","Active","2025-01-12T03:04:23.118306+00:00",null,null,null,null,null,null,null,null,"AGSPC","Aspen Grove Single Parent Camp","AGSPC-Aspen Grove Single Parent Camp"]
[null,null,null,null,null,null,"GF01998","[MSB] TE - Huckvale Internatl","GF01998-[MSB] TE - Huckvale Internatl","Gift","FD23","Active","2025-01-12T03:04:23.118306+00:00",null,null,null,null,null,null,null,null,"BG146","Procurement","BG146-Procurement"]
[null,null,null,null,null,null,"GF02093","[MSB] TE - Ardis, Glenn Prof","GF02093-[MSB] TE - Ardis, Glenn Prof","Gift","FD23","Active","2025-01-12T03:04:23.196826+00:00",null,null,null,null,null,null,null,null,"BS149","Cyber Risk Insurance","BS149-Cyber Risk Insurance"]
[null,null,null,null,null,null,"GF02194","[MSE] TE - Fulton, Mary L. Chair Educ","GF02194-[MSE] TE - Fulton, Mary L. Chair Educ","Gift","FD23","Active","2025-01-12T03:04:23.196826+00:00",null,null,null,null,null,null,null,null,"C1590","Big-D Construction","C1590-Big-D Construction"]
[null,null,null,null,null,null,"GF02289","[CMS] TE - Bonnett, John Fellowship","GF02289-[CMS] TE - Bonnett, John Fellowship","Gift","FD23","Active","2025-01-12T03:04:23.250119+00:00",null,null,null,null,null,null,null,null,"CAP55","Capstone Team 55","CAP55-Capstone Team 55"]
[null,null,null,null,null,null,"GF02384","[FIN] TE - Knight, Jesse","GF02384-[FIN] TE - Knight, Jesse","Gift","FD23","Active","2025-01-12T03:04:23.29146+00:00",null,null,null,null,null,null,null,null,"CDBSM","Deep Blue Cmpn-Social Mktg","CDBSM-Deep Blue Cmpn-Social Mktg"]
[null,null,null,null,null,null,"GF02486","[CMS] DG - Pritchett, Jed- Deferred Gift","GF02486-[CMS] DG - Pritchett, Jed- Deferred Gift","Gift","FD27","Active","2025-01-12T03:04:23.29146+00:00",null,null,null,null,null,null,null,null,"CG517","Online Market Management","CG517-Online Market Management"]
[null,null,null,null,null,null,"GF02583","[FIN] PM - Daines, Bernard N","GF02583-[FIN] PM - Daines, Bernard N","Gift","FD20","Active","2025-01-12T03:04:23.328437+00:00",null,null,null,null,null,null,null,null,"CKASM","Kaboom Cmpn-Social Mktg","CKASM-Kaboom Cmpn-Social Mktg"]
[null,null,null,null,null,null,"GF02682","[AER] BG - NV Reno Replenishment Grant","GF02682-[AER] BG - NV Reno Replenishment Grant","Gift","FD20","Active","2025-01-12T03:04:23.328437+00:00",null,null,null,null,null,null,null,null,"CPPEV","ParentInProg Cmpn-Events","CPPEV-ParentInProg Cmpn-Events"]
[null,null,null,null,null,null,"GF02785","[LAWS] BG - Law School Library","GF02785-[LAWS] BG - Law School Library","Gift","FD20","Active","2025-01-12T03:04:23.374583+00:00",null,null,null,null,null,null,null,null,"CSCOF","Studio C Camp. Trad.","CSCOF-Studio C Camp. Trad."]
[null,null,null,null,null,null,"GF02881","[ENG] BG - Coll of Eng Career Fair","GF02881-[ENG] BG - Coll of Eng Career Fair","Gift","FD20","Active","2025-01-12T03:04:23.406263+00:00",null,null,null,null,null,null,null,null,"CTHDM","Holiday Dram Cmpn-Digital","CTHDM-Holiday Dram Cmpn-Digital"]
[null,null,null,null,null,null,"GF02944","[ENG] BG - Computer Vision Fund","GF02944-[ENG] BG - Computer Vision Fund","Gift","FD20","Active","2025-01-12T03:04:23.406263+00:00",null,null,null,null,null,null,null,null,"CTXLN","Longmont CO City Tax","CTXLN-Longmont CO City Tax"]
[null,null,null,null,null,null,"GF03083","[ENRL] BG - Carroll & LaRue Heaton Sig Sch","GF03083-[ENRL] BG - Carroll & LaRue Heaton Sig Sch","Gift","FD20","Active","2025-01-12T03:04:23.471921+00:00",null,null,null,null,null,null,null,null,"DERIC","LSMM Erickson, David","DERIC-LSMM Erickson, David"]
[null,null,null,null,null,null,"GF03180","[ENRL] BG - Wells Fargo Sig Scholarship","GF03180-[ENRL] BG - Wells Fargo Sig Scholarship","Gift","FD20","Active","2025-01-12T03:04:23.471921+00:00",null,null,null,null,null,null,null,null,"DM075","ITB 1208A, 1208C, & 3304A, Ins","DM075-ITB 1208A, 1208C, & 3304A, Ins"]
[null,null,null,null,null,null,"GF03295","[ARTS] BG - Presser","GF03295-[ARTS] BG - Presser","Gift","FD20","Active","2025-01-12T03:04:23.508528+00:00",null,null,null,null,null,null,null,null,"EFYSS","EFY Social Security Tax","EFYSS-EFY Social Security Tax"]
[null,null,null,null,null,null,"GF03400","[LFSC] BG - Friends of Bean","GF03400-[LFSC] BG - Friends of Bean","Gift","FD20","Active","2025-01-12T03:04:23.553457+00:00",null,null,null,null,null,null,null,null,"FLAGS","Flagship ART/ALT","FLAGS-Flagship ART/ALT"]
[null,null,null,null,null,null,"GF03515","[MSB] BG - Healthcare Leadership Collabor","GF03515-[MSB] BG - Healthcare Leadership Collabor","Gift","FD20","Active","2025-01-12T03:04:23.623879+00:00",null,null,null,null,null,null,null,null,"GPSPF","General Payroll Fee","GPSPF-General Payroll Fee"]
[null,null,null,null,null,null,"GF03628","[CMS] BG - ICE Lab","GF03628-[CMS] BG - ICE Lab","Gift","FD20","Active","2025-01-12T03:04:23.623879+00:00",null,null,null,null,null,null,null,null,"ID038","xITR Replcmnt Phase2","ID038-xITR Replcmnt Phase2"]
[null,null,null,null,null,null,"GF03723","[STLF] BG - Counseling & Career Center","GF03723-[STLF] BG - Counseling & Career Center","Gift","FD20","Active","2025-01-12T03:04:23.658203+00:00",null,null,null,null,null,null,null,null,"JGROS","LSMM Grose, Julianne","JGROS-LSMM Grose, Julianne"]
[null,null,null,null,null,null,"GF03854","[KC] RG- Employment Services Scholarshp","GF03854-[KC] RG- Employment Services Scholarshp","Gift","FD28","Active","2025-01-12T03:04:23.710669+00:00",null,null,null,null,null,null,null,null,"K0471","Broadcast Management System","K0471-Broadcast Management System"]
[null,null,null,null,null,null,"GF03953","[ADM] DG - Tanner Building Addition- Deferred Gift","GF03953-[ADM] DG - Tanner Building Addition- Deferred Gift","Gift","FD21","Active","2025-01-12T03:04:23.710669+00:00",null,null,null,null,null,null,null,null,"LV025","Stadium WI-FI Project","LV025-Stadium WI-FI Project"]
[null,null,null,null,null,null,"GF04050","[ENRL] BG - Knoll Signature Scholarship","GF04050-[ENRL] BG - Knoll Signature Scholarship","Gift","FD20","Active","2025-01-12T03:04:23.710669+00:00",null,null,null,null,null,null,null,null,"M1991","2019 Sale of MTC CNA Surplus","M1991-2019 Sale of MTC CNA Surplus"]
[null,null,null,null,null,null,"GF04186","[ATH] TE - Lansing Family Basketball","GF04186-[ATH] TE - Lansing Family Basketball","Gift","FD23","Active","2025-01-12T03:04:23.767307+00:00",null,null,null,null,null,null,null,null,"M2122","BLINDS R5","M2122-BLINDS R5"]
[null,null,null,null,null,null,"GF04282","[ENRL] BG - MFB Signature Scholarship","GF04282-[ENRL] BG - MFB Signature Scholarship","Gift","FD20","Active","2025-01-12T03:04:23.767307+00:00",null,null,null,null,null,null,null,null,"M2285","S1 AV Replacements","M2285-S1 AV Replacements"]
[null,null,null,null,null,null,"GF04383","[AER] BG - Women's Basketball - Alumni Chapter Scholarships","GF04383-[AER] BG - Women's Basketball - Alumni Chapter Scholarships","Gift","FD20","Active","2025-01-12T03:04:23.80315+00:00",null,null,null,null,null,null,null,null,"M2858","JKB Roof","M2858-JKB Roof"]
[null,null,null,null,null,null,"GR00018","[ENG] Fry-DOE-Testing and model -based optim","GR00018-[ENG] Fry-DOE-Testing and model -based optim","Grant","FD05","Active","2025-01-12T03:04:22.134052+00:00",null,null,null,null,null,null,null,null,"M8557","SCOB Remodel","M8557-SCOB Remodel"]
[null,null,null,null,null,null,"GR00170","[ENG] Harrison-NSF-CIF: Small: Best wiretap codes","GR00170-[ENG] Harrison-NSF-CIF: Small: Best wiretap codes","Grant","FD05","Active","2025-01-12T03:04:22.339521+00:00",null,null,null,null,null,null,null,null,"ME372","ME372","ME372-ME372"]
[null,null,null,null,null,null,"GR00383","[ENG] Killpack-Univ of Utah-Utah Space Grant Consortium Pr","GR00383-[ENG] Killpack-Univ of Utah-Utah Space Grant Consortium Pr","Grant","FD05","Active","2025-01-12T03:04:22.202228+00:00",null,null,null,null,null,null,null,null,"MMCCS","Multi Misc Crew Contractor","MMCCS-Multi Misc Crew Contractor"]
[null,null,null,null,null,null,"GR00511","[LFSC] Steffensen-Noorda College-Collaborative research between","GR00511-[LFSC] Steffensen-Noorda College-Collaborative research between","Grant","FD05","Active","2025-01-12T03:04:22.202228+00:00",null,null,null,null,null,null,null,null,"MTAFT","Multi Tape FTE","MTAFT-Multi Tape FTE"]
[null,null,null,null,null,null,"GR00847","[CMS] Willardson-NIH-Diversity Supplement for NIH G","GR00847-[CMS] Willardson-NIH-Diversity Supplement for NIH G","Grant","FD05","Active","2025-01-12T03:04:22.247372+00:00",null,null,null,null,null,null,null,null,"N4161","MTCP Parking Garage Break Room","N4161-MTCP Parking Garage Break Room"]
[null,null,null,null,null,null,"GR01085","[CMS] Gee-ONR-Connecting analyses of install","GR01085-[CMS] Gee-ONR-Connecting analyses of install","Grant","FD05","Active","2025-01-12T03:04:22.247372+00:00",null,null,null,null,null,null,null,null,"NB000","MTC No Bonus","NB000-MTC No Bonus"]
[null,null,null,null,null,null,"GR01223","[MSB] Giboney-NSA-2023 BYU Cybersecurity Youth C","GR01223-[MSB] Giboney-NSA-2023 BYU Cybersecurity Youth C","Grant","FD05","Active","2025-01-12T03:04:22.247372+00:00",null,null,null,null,null,null,null,null,"OTR10","Other Misc.","OTR10-Other Misc."]
[null,null,null,null,null,null,"GR01229","[MSE] Kellems-Utah State Board of Ed-COUGS (Creating Opportuniti","GR01229-[MSE] Kellems-Utah State Board of Ed-COUGS (Creating Opportuniti","Grant","FD05","Active","2025-01-12T03:04:22.296791+00:00",null,null,null,null,null,null,null,null,"P0700","Site Development Manager","P0700-Site Development Manager"]
[null,null,null,null,null,null,"GR01324","[CMS] Ragozzine-ASU-Haumea: Internal Structure and","GR01324-[CMS] Ragozzine-ASU-Haumea: Internal Structure and","Grant","FD05","Active","2025-01-12T03:04:22.296791+00:00",null,null,null,null,null,null,null,null,"P2417","Carpenter Housing Support","P2417-Carpenter Housing Support"]
[null,null,null,null,null,null,"GR01419","[CMS] Castle-USTAR 171189 UTAG","GR01419-[CMS] Castle-USTAR 171189 UTAG","Grant","FD05","Active","2025-01-12T03:04:22.339521+00:00",null,null,null,null,null,null,null,null,"PC202","Cust Area 20 TNRB 1","PC202-Cust Area 20 TNRB 1"]
[null,null,null,null,null,null,"GR01520","[CMS] Michaelis-NSF-PFI: Scale-up and Prototype De","GR01520-[CMS] Michaelis-NSF-PFI: Scale-up and Prototype De","Grant","FD05","Active","2025-01-12T03:04:22.339521+00:00",null,null,null,null,null,null,null,null,"PD508","PF Planning - Landscape","PD508-PF Planning - Landscape"]
[null,null,null,null,null,null,"GR01615","[ENG] Howell-NSF 2344766-Compliant Mechanisms for Ubiquitous Lower-Limb Powered Prostheses","GR01615-[ENG] Howell-NSF 2344766-Compliant Mechanisms for Ubiquitous Lower-Limb Powered Prostheses","Grant","FD05","Active","2025-01-12T03:04:22.392553+00:00",null,null,null,null,null,null,null,null,"PLRVW","Political Review Student Publi","PLRVW-Political Review Student Publi"]
[null,null,null,null,null,null,"GR01716","[ENG] Rappleye-Cost Share required by DOE on AW00111","GR01716-[ENG] Rappleye-Cost Share required by DOE on AW00111","Grant",null,"Active","2025-01-15T03:04:59.93868+00:00",null,null,null,null,null,null,null,null,"RGEPO","Radio General Postage/Mail","RGEPO-Radio General Postage/Mail"]
[null,null,null,null,null,null,"GR01812","[LFSC] Hopkins-DOI USGS 140G0320D0010-Soil Analysis","GR01812-[LFSC] Hopkins-DOI USGS 140G0320D0010-Soil Analysis","Grant","FD05","Active","2025-01-12T03:04:22.392553+00:00",null,null,null,null,null,null,null,null,"SHAFE","Kevin Shafer","SHAFE-Kevin Shafer"]
[null,null,null,null,null,null,"PJ000000080","[ARTS] Winter-Young Artists of Voice","PJ000000080-[ARTS] Winter-Young Artists of Voice","Project","FD02","Active","2025-01-12T03:04:20.913937+00:00",null,null,null,null,null,null,null,null,"STXPA","State Tax - PA","STXPA-State Tax - PA"]
[null,null,null,null,null,null,"PJ000000181","[ARTS] Motion Picture Studio Project","PJ000000181-[ARTS] Motion Picture Studio Project","Project","FD02","Active","2025-01-12T03:04:21.010112+00:00",null,null,null,null,null,null,null,null,"TOWER","Tower Psych Graducate Students","TOWER-Tower Psych Graducate Students"]
[null,null,null,null,null,null,"PJ000000276","[ARTS] Winter-BYU Women's Chorus","PJ000000276-[ARTS] Winter-BYU Women's Chorus","Project","FD02","Active","2025-01-12T03:04:21.100378+00:00",null,null,null,null,null,null,null,null,"Y2010","Killpack C-UAS","Y2010-Killpack C-UAS"]
[null,null,null,null,null,null,"PJ000000372","[ADM] Reconfigure Office Space-PFNB","PJ000000372-[ADM] Reconfigure Office Space-PFNB","Project","FD06","Active","2025-01-12T03:04:17.512046+00:00",null,null,null,null,null,null,null,null,"Z1186","Z11 Administration","Z1186-Z11 Administration"]
[null,null,null,null,null,null,"PJ000000473","[ADM] CRPET OFFCE, ADD PWR E120-BNSN","PJ000000473-[ADM] CRPET OFFCE, ADD PWR E120-BNSN","Project","FD06","Active","2025-01-12T03:04:19.485198+00:00"]
[null,null,null,null,null,null,"PJ000000568","[AER] RPLC 2 FUEL TANKS, ETC-ASPN","PJ000000568-[AER] RPLC 2 FUEL TANKS, ETC-ASPN","Project","FD02","Active","2025-01-12T03:04:17.512046+00:00"]
[null,null,null,null,null,null,"PJ000000669","[ADM] INSTAL DOOR BETWEEN ROOMS-TNRB","PJ000000669-[ADM] INSTAL DOOR BETWEEN ROOMS-TNRB","Project","FD06","Active","2025-01-12T03:04:19.643495+00:00"]
[null,null,null,null,null,null,"PJ000000739","[AVP] Aesthetics and Film","PJ000000739-[AVP] Aesthetics and Film","Project","FD03","Active","2025-01-12T03:04:21.100378+00:00"]
[null,null,null,null,null,null,"PJ000000858","[ADM] RPLC Elevators-KMBL","PJ000000858-[ADM] RPLC Elevators-KMBL","Project","FD06","Active","2025-01-12T03:04:19.485198+00:00"]
[null,null,null,null,null,null,"PJ000000959","[AVP] Packer Sculptures","PJ000000959-[AVP] Packer Sculptures","Project","FD03","Active","2025-01-12T03:04:21.100378+00:00"]
[null,null,null,null,null,null,"PJ000001054","[AVP] Hebrew Bible Analytical Keys","PJ000001054-[AVP] Hebrew Bible Analytical Keys","Project","FD03","Active","2025-01-12T03:04:21.010112+00:00"]
[null,null,null,null,null,null,"PJ000001155","[ADM] RPLC Roll Doors BRWB&MP-CMPS","PJ000001155-[ADM] RPLC Roll Doors BRWB&MP-CMPS","Project","FD06","Active","2025-01-12T03:04:19.790246+00:00"]
[null,null,null,null,null,null,"PJ000001250","[ADM] MTC CNA Facilities 50/50-2020","PJ000001250-[ADM] MTC CNA Facilities 50/50-2020","Project","FD06","Active","2025-01-12T03:04:19.790246+00:00"]
[null,null,null,null,null,null,"PJ000001345","[ADM] RPLC-Lighting Emitters -HBLL","PJ000001345-[ADM] RPLC-Lighting Emitters -HBLL","Project","FD06","Active","2025-01-12T03:04:19.989679+00:00"]
[null,null,null,null,null,null,"PJ000001446","[ADM] ROOF & FASCIA-MCKB","PJ000001446-[ADM] ROOF & FASCIA-MCKB","Project","FD06","Active","2025-01-12T03:04:19.989679+00:00"]
[null,null,null,null,null,null,"PJ000001541","[OIT] 2023 ITD-CES INITIATIVE","PJ000001541-[OIT] 2023 ITD-CES INITIATIVE","Project","FD06","Active","2025-01-12T03:04:19.790246+00:00"]
[null,null,null,null,null,null,"PJ000001636","D2012-027 FishrTropsch Ctlysts","PJ000001636-D2012-027 FishrTropsch Ctlysts","Project","FD03","Active","2025-01-02T03:05:07.541"]
[null,null,null,null,null,null,"PJ000001737","[CMS] UAMTE","PJ000001737-[CMS] UAMTE","Project","FD03","Active","2025-01-12T03:04:21.010112+00:00"]
[null,null,null,null,null,null,"PJ000001832","D2015-065 Table app Arch Srvy","PJ000001832-D2015-065 Table app Arch Srvy","Project","FD03","Active","2025-01-02T03:05:07.680"]
[null,null,null,null,null,null,"PJ000001933","[ADM] TOWER WATER COMMON SUMP-PPCW","PJ000001933-[ADM] TOWER WATER COMMON SUMP-PPCW","Project","FD06","Active","2025-01-12T03:04:20.121749+00:00"]
[null,null,null,null,null,null,"PJ000002028","D2012-061 C. Nanotube for Med","PJ000002028-D2012-061 C. Nanotube for Med","Project","FD03","Active","2025-01-02T03:05:07.946"]
[null,null,null,null,null,null,"PJ000002123","[ADM] Mechanical Upgrades Design-ASB","PJ000002123-[ADM] Mechanical Upgrades Design-ASB","Project","FD06","Active","2025-01-12T03:04:20.121749+00:00"]
[null,null,null,null,null,null,"PJ000002224","[ADM] Sprinkler Controllers-CMPS","PJ000002224-[ADM] Sprinkler Controllers-CMPS","Project","FD06","Active","2025-01-12T03:04:20.257497+00:00"]
[null,null,null,null,null,null,"PJ000002319","[ADM] RPLC-UPS A-C Battery-TMCB","PJ000002319-[ADM] RPLC-UPS A-C Battery-TMCB","Project","FD06","Active","2025-01-12T03:04:20.257497+00:00"]
[null,null,null,null,null,null,"PJ000002384","[ADM] DESK & SEATING REPLACMENT-KMBL","PJ000002384-[ADM] DESK & SEATING REPLACMENT-KMBL","Project","FD06","Active","2025-01-12T03:04:20.368745+00:00"]
[null,null,null,null,null,null,"PJ000002514","[ADM] RMDL OFFICE SUITE 460-TNRB","PJ000002514-[ADM] RMDL OFFICE SUITE 460-TNRB","Project","FD06","Active","2025-01-12T03:04:20.368745+00:00"]
[null,null,null,null,null,null,"PJ000002609","[ADM] MTC CNA Facilities 50/50","PJ000002609-[ADM] MTC CNA Facilities 50/50","Project","FD06","Active","2025-01-12T03:04:20.368745+00:00"]
[null,null,null,null,null,null,"PJ000002710","[ADM] RPLC-Building Access RTRO-CMPS","PJ000002710-[ADM] RPLC-Building Access RTRO-CMPS","Project","FD06","Active","2025-01-12T03:04:20.473677+00:00"]
[null,null,null,null,null,null,"PJ000002805","[BYUB] BYU BB with Mark Pope2022-2023","PJ000002805-[BYUB] BYU BB with Mark Pope2022-2023","Project","FD02","Active","2025-01-12T03:04:20.473677+00:00"]
[null,null,null,null,null,null,"PJ000002902","[ADM] ENCLOSE NW AREA OF ELLB","PJ000002902-[ADM] ENCLOSE NW AREA OF ELLB","Project","FD06","Active","2025-01-12T03:04:20.473677+00:00"]
[null,null,null,null,null,null,"PJ000003003","[OIT] 2024 ITI AV Services Improve","PJ000003003-[OIT] 2024 ITI AV Services Improve","Project","FD06","Active","2025-01-12T03:04:20.56377+00:00"]
[null,null,null,null,null,null,"PJ000003098","[ADM] Protective Traffic Coat-TNRP","PJ000003098-[ADM] Protective Traffic Coat-TNRP","Project","FD06","Active","2025-01-12T03:04:20.56377+00:00"]
[null,null,null,null,null,null,"PJ000003199","[BYUB] Devotionals 2024","PJ000003199-[BYUB] Devotionals 2024","Project","FD02","Active","2025-01-12T03:04:20.625778+00:00"]
[null,null,null,null,null,null,"PJ000003294","[BYUB] Baseball 2024","PJ000003294-[BYUB] Baseball 2024","Project","FD02","Active","2025-01-12T03:04:20.625778+00:00"]
[null,null,null,null,null,null,"PJ000003389","[ADM] Carbon Filters on AHU -HBLL","PJ000003389-[ADM] Carbon Filters on AHU -HBLL","Project","FD06","Active","2025-01-12T03:04:20.714501+00:00"]
[null,null,null,null,null,null,"PJ000003395","[ADM] Electrical Panel 2LB2 -JKB","PJ000003395-[ADM] Electrical Panel 2LB2 -JKB","Project","FD06","Active","2025-01-12T03:04:20.714501+00:00"]
[null,null,null,null,null,null,"PJ000003491","[BYUB] Sunday: Grace Notes S2","PJ000003491-[BYUB] Sunday: Grace Notes S2","Project","FD02","Active","2025-01-12T03:04:20.714501+00:00"]
[null,null,null,null,null,null,"PJ000003586","[BYUB] PURCH/INSLL FAUX PLANTS - BYUB","PJ000003586-[BYUB] PURCH/INSLL FAUX PLANTS - BYUB","Project","FD02","Active","2025-01-12T03:04:20.714501+00:00"]
[null,null,null,null,null,null,"PJ000003687","[ADM] REN VST TM SHWR AREA - MLRP","PJ000003687-[ADM] REN VST TM SHWR AREA - MLRP","Project","FD06","Active","2025-01-12T03:04:20.783088+00:00"]
[null,null,null,null,null,null,"PJ000003782","[BYUB] Come Follow Up 7 (Old Testamen","PJ000003782-[BYUB] Come Follow Up 7 (Old Testamen","Project","FD02","Active","2025-01-12T03:04:20.783088+00:00"]
[null,null,null,null,null,null,"PJ000003883","[ADM] 2025 CNA Portbl Cool Equip-ESC","PJ000003883-[ADM] 2025 CNA Portbl Cool Equip-ESC","Project","FD06","Active","2025-01-12T03:04:20.838244+00:00"]
[null,null,null,null,null,null,"PJ000003978","[ADM] 2025 CNA Plumbing Fixture-MLBM","PJ000003978-[ADM] 2025 CNA Plumbing Fixture-MLBM","Project","FD06","Active","2025-01-12T03:04:20.838244+00:00"]
[null,null,null,null,null,null,"PJ000004062","Music Overhead Project","PJ000004062-Music Overhead Project","Project","FD02","Active","2025-01-02T03:05:12.126"]
[null,null,null,null,null,null,"PJ000004177","2025 CNA REPLACE - Annual Replace Cabinets, Includes Shop Labor - CMPS","PJ000004177-2025 CNA REPLACE - Annual Replace Cabinets, Includes Shop Labor - CMPS","Project","FD06","Active","2025-01-15T03:04:58.646831+00:00"]
[null,null,null,null,null,null,"PJCE-000000006_Error","CE Orion > Error","PJCE-000000006_Error-CE Orion > Error","Project Plan","FD02","Active","2025-01-02T03:05:17.410"]
[null,null,null,null,null,null,"PJCE-000000011_HS_Tutoring","CE Orion > HS Tutoring","PJCE-000000011_HS_Tutoring-CE Orion > HS Tutoring","Project Plan","FD02","Active","2025-01-02T03:05:17.410"]
[null,null,null,null,null,null,"PJCE-000000017_HS_Fee","CE Orion > HS Fee","PJCE-000000017_HS_Fee-CE Orion > HS Fee","Project Plan","FD02","Active","2025-01-02T03:05:17.321"]
[null,null,null,null,null,null,"PJCE-000000022_UN_Shipping","CE Orion > UN Shipping","PJCE-000000022_UN_Shipping-CE Orion > UN Shipping","Project Plan","FD02","Active","2025-01-02T03:05:17.497"]
[null,null,null,null,null,null,"PJCE-000000028_UN_Credit","CE Orion > UN Credit","PJCE-000000028_UN_Credit-CE Orion > UN Credit","Project Plan","FD02","Active","2025-01-02T03:05:17.410"]
[null,null,null,null,null,null,"PJCE-000000033_HSS_Setup_&_Training","CE Orion > HSS Setup & Training","PJCE-000000033_HSS_Setup_&_Training-CE Orion > HSS Setup & Training","Project Plan","FD02","Active","2025-01-02T03:05:17.601"]
[null,null,null,null,null,null,"PJCE-000000039_HS_Resubmission","CE Orion > HS Resubmission","PJCE-000000039_HS_Resubmission-CE Orion > HS Resubmission","Project Plan","FD02","Active","2025-01-02T03:05:17.707"]
[null,null,null,null,null,null,"PJCE-000000045_HS_Course_Materials","CE Orion > HS Course Materials","PJCE-000000045_HS_Course_Materials-CE Orion > HS Course Materials","Project Plan","FD02","Active","2025-01-02T03:05:17.787"]
[null,null,null,null,null,null,"PJCE-000000050_UN_Exam_Retake","CE Orion > UN Exam Retake","PJCE-000000050_UN_Exam_Retake-CE Orion > UN Exam Retake","Project Plan","FD02","Active","2025-01-02T03:05:17.881"]
[null,null,null,null,null,null,"PJCE-000000056_UN_Course_Extension","CE Orion > UN Course Extension","PJCE-000000056_UN_Course_Extension-CE Orion > UN Course Extension","Project Plan","FD02","Active","2025-01-02T03:05:17.881"]
[null,null,null,null,null,null,"PJCE-000000061_HSS_Adjustment","CE Orion > HSS Adjustment","PJCE-000000061_HSS_Adjustment-CE Orion > HSS Adjustment","Project Plan","FD02","Active","2025-01-02T03:05:17.601"]
[null,null,null,null,null,null,"PJCE-000000067_HS_Course_Withdrawal","CE Orion > HS Course Withdrawal","PJCE-000000067_HS_Course_Withdrawal-CE Orion > HS Course Withdrawal","Project Plan","FD02","Active","2025-01-02T03:05:17.707"]
[null,null,null,null,null,null,"PJCE-000000073_Error","CE Orion > Error","PJCE-000000073_Error-CE Orion > Error","Project Plan","FD02","Active","2025-01-02T03:05:17.787"]
[null,null,null,null,null,null,"PJCE-000000078_UN_Course_Materials","CE Orion > UN Course Materials","PJCE-000000078_UN_Course_Materials-CE Orion > UN Course Materials","Project Plan","FD02","Active","2025-01-02T03:05:17.981"]
[null,null,null,null,null,null,"PJCE-000000083_HSS_Enrollment","CE Orion > HSS Enrollment","PJCE-000000083_HSS_Enrollment-CE Orion > HSS Enrollment","Project Plan","FD02","Active","2025-01-02T03:05:17.981"]
[null,null,null,null,null,null,"PJCE-000000090_UN_Shipping","CE Orion > UN Shipping","PJCE-000000090_UN_Shipping-CE Orion > UN Shipping","Project Plan","FD02","Active","2025-01-02T03:05:17.787"]
[null,null,null,null,null,null,"PJCE-000000095_Error","CE Orion > Error","PJCE-000000095_Error-CE Orion > Error","Project Plan","FD02","Active","2025-01-02T03:05:18.181"]
[null,null,null,null,null,null,"PJCE-000000100_UN_Shipping","CE Orion > UN Shipping","PJCE-000000100_UN_Shipping-CE Orion > UN Shipping","Project Plan","FD02","Active","2025-01-02T03:05:17.881"]
[null,null,null,null,null,null,"PJCE-000000106_UN_Adjustment","CE Orion > UN Adjustment","PJCE-000000106_UN_Adjustment-CE Orion > UN Adjustment","Project Plan","FD02","Active","2025-01-02T03:05:18.181"]
[null,null,null,null,null,null,"PJCE-000000111_HS_Voucher","CE Orion > HS Voucher","PJCE-000000111_HS_Voucher-CE Orion > HS Voucher","Project Plan","FD02","Active","2025-01-02T03:05:17.881"]
[null,null,null,null,null,null,"PJCE-000000117_HS_Resubmission","CE Orion > HS Resubmission","PJCE-000000117_HS_Resubmission-CE Orion > HS Resubmission","Project Plan","FD02","Active","2025-01-02T03:05:18.275"]
[null,null,null,null,null,null,"PJCE-000000122_UN_Tutoring","CE Orion > UN Tutoring","PJCE-000000122_UN_Tutoring-CE Orion > UN Tutoring","Project Plan","FD02","Active","2025-01-02T03:05:18.365"]
[null,null,null,null,null,null,"PJCE-000000128_UN_Exam_Retake","CE Orion > UN Exam Retake","PJCE-000000128_UN_Exam_Retake-CE Orion > UN Exam Retake","Project Plan","FD02","Active","2025-01-02T03:05:18.365"]
[null,null,null,null,null,null,"PJCE-000000133_HSS_Withdrawl","CE Orion > HSS Withdrawal","PJCE-000000133_HSS_Withdrawl-CE Orion > HSS Withdrawal","Project Plan","FD02","Active","2025-01-02T03:05:18.481"]
[null,null,null,null,null,null,"PJCE-000000139_HS_Retake","CE Orion > HS Retake","PJCE-000000139_HS_Retake-CE Orion > HS Retake","Project Plan","FD02","Active","2025-01-02T03:05:18.365"]
[null,null,null,null,null,null,"PJCE-000000145_HS_Course_Withdrawal","CE Orion > HS Course Withdrawal","PJCE-000000145_HS_Course_Withdrawal-CE Orion > HS Course Withdrawal","Project Plan","FD02","Active","2025-01-02T03:05:18.365"]
[null,null,null,null,null,null,"PJCE-000000150_UN_Lesson_Resubmission","CE Orion > UN Lesson Resubmission","PJCE-000000150_UN_Lesson_Resubmission-CE Orion > UN Lesson Resubmission","Project Plan","FD02","Active","2025-01-02T03:05:18.686"]
[null,null,null,null,null,null,"PJCE-000000156","ARIZONA DISTANCE LEARNING BYU","PJCE-000000156-ARIZONA DISTANCE LEARNING BYU","Project","FD02","Active","2025-01-02T03:05:10.644"]
[null,null,null,null,null,null,"PJCE-000000161_HSS_Enrollment","CE Orion > HSS Enrollment","PJCE-000000161_HSS_Enrollment-CE Orion > HSS Enrollment","Project Plan","FD02","Active","2025-01-02T03:05:18.600"]
[null,null,null,null,null,null,"PJCE-000000167_HS_Extension","CE Orion > HS Extension","PJCE-000000167_HS_Extension-CE Orion > HS Extension","Project Plan","FD02","Active","2025-01-02T03:05:18.600"]
[null,null,null,null,null,null,"PJCE-000000167_HS_Voucher","CE Orion > HS Voucher","PJCE-000000167_HS_Voucher-CE Orion > HS Voucher","Project Plan","FD02","Active","2025-01-02T03:05:18.600"]
[null,null,null,null,null,null,"PJCE-000000173_HS_Adjustment","CE Orion > HS Adjustment","PJCE-000000173_HS_Adjustment-CE Orion > HS Adjustment","Project Plan","FD02","Active","2025-01-02T03:05:18.780"]
[null,null,null,null,null,null,"PJCE-000000178_UN_Course_Withdrawal","CE Orion > UN Course Withdrawal","PJCE-000000178_UN_Course_Withdrawal-CE Orion > UN Course Withdrawal","Project Plan","FD02","Active","2025-01-02T03:05:18.780"]
[null,null,null,null,null,null,"PJCE-000000186_UN_Course_Withdrawal","CE Orion > UN Course Withdrawal","PJCE-000000186_UN_Course_Withdrawal-CE Orion > UN Course Withdrawal","Project Plan","FD02","Active","2025-01-02T03:05:18.686"]
[null,null,null,null,null,null,"PJCE-000000189_HS_Voucher","CE Orion > HS Voucher","PJCE-000000189_HS_Voucher-CE Orion > HS Voucher","Project Plan","FD02","Active","2025-01-02T03:05:18.858"]
[null,null,null,null,null,null,"PJCE-000000195_HS_Adjustment","CE Orion > HS Adjustment","PJCE-000000195_HS_Adjustment-CE Orion > HS Adjustment","Project Plan","FD02","Active","2025-01-02T03:05:18.686"]
[null,null,null,null,null,null,"PJCE-000000200_UN_Tutoring","CE Orion > UN Tutoring","PJCE-000000200_UN_Tutoring-CE Orion > UN Tutoring","Project Plan","FD02","Active","2025-01-02T03:05:18.780"]
[null,null,null,null,null,null,"PJCE-000000206_UN_Audit","CE Orion > UN Audit","PJCE-000000206_UN_Audit-CE Orion > UN Audit","Project Plan","FD02","Active","2025-01-02T03:05:18.931"]
[null,null,null,null,null,null,"PJCE-000000211_HSS_Withdrawl","CE Orion > HSS Withdrawal","PJCE-000000211_HSS_Withdrawl-CE Orion > HSS Withdrawal","Project Plan","FD02","Active","2025-01-02T03:05:18.991"]
[null,null,null,null,null,null,"PJCE-000000217_HS_Retake","CE Orion > HS Retake","PJCE-000000217_HS_Retake-CE Orion > HS Retake","Project Plan","FD02","Active","2025-01-02T03:05:18.931"]
[null,null,null,null,null,null,"PJCE-000000222_UN_Voucher","CE Orion > UN Voucher","PJCE-000000222_UN_Voucher-CE Orion > UN Voucher","Project Plan","FD02","Active","2025-01-02T03:05:18.858"]
[null,null,null,null,null,null,"PJCE-000000228_UN_Lesson_Resubmission","CE Orion > UN Lesson Resubmission","PJCE-000000228_UN_Lesson_Resubmission-CE Orion > UN Lesson Resubmission","Project Plan","FD02","Active","2025-01-02T03:05:18.991"]
[null,null,null,null,null,null,"PJCE-000000234","BELIEVERS ACADEMY INC BYU","PJCE-000000234-BELIEVERS ACADEMY INC BYU","Project","FD02","Active","2025-01-02T03:05:10.644"]
[null,null,null,null,null,null,"PJCE-000000239_HSS_Enrollment","CE Orion > HSS Enrollment","PJCE-000000239_HSS_Enrollment-CE Orion > HSS Enrollment","Project Plan","FD02","Active","2025-01-02T03:05:19.139"]
[null,null,null,null,null,null,"PJCE-000000245_HS_Extension","CE Orion > HS Extension","PJCE-000000245_HS_Extension-CE Orion > HS Extension","Project Plan","FD02","Active","2025-01-02T03:05:19.208"]
[null,null,null,null,null,null,"PJCE-000000250_UN_Processing_Fee","CE Orion > UN Processing Fee","PJCE-000000250_UN_Processing_Fee-CE Orion > UN Processing Fee","Project Plan","FD02","Active","2025-01-02T03:05:19.266"]
[null,null,null,null,null,null,"PJCE-000000256_UN_Course_Withdrawal","CE Orion > UN Course Withdrawal","PJCE-000000256_UN_Course_Withdrawal-CE Orion > UN Course Withdrawal","Project Plan","FD02","Active","2025-01-02T03:05:19.266"]
[null,null,null,null,null,null,"PJCE-000000261_HSS_License_Agreement","CE Orion > HSS License Agreement","PJCE-000000261_HSS_License_Agreement-CE Orion > HSS License Agreement","Project Plan","FD02","Active","2025-01-02T03:05:19.208"]
[null,null,null,null,null,null,"PJCE-000000267_HS_Fee","CE Orion > HS Fee","PJCE-000000267_HS_Fee-CE Orion > HS Fee","Project Plan","FD02","Active","2025-01-02T03:05:19.139"]
[null,null,null,null,null,null,"PJCE-000000273_HS_Course_Enrollment","CE Orion > HS Course Enrollment","PJCE-000000273_HS_Course_Enrollment-CE Orion > HS Course Enrollment","Project Plan","FD02","Active","2025-01-02T03:05:19.139"]
[null,null,null,null,null,null,"PJCE-000000278_UN_Credit","CE Orion > UN Credit","PJCE-000000278_UN_Credit-CE Orion > UN Credit","Project Plan","FD02","Active","2025-01-02T03:05:19.139"]
[null,null,null,null,null,null,"PJCE-000000282_UN_Adjustment","CE Orion > UN Adjustment","PJCE-000000282_UN_Adjustment-CE Orion > UN Adjustment","Project Plan","FD02","Active","2025-01-02T03:05:19.329"]
[null,null,null,null,null,null,"PJCE-000000289_HSS_Access_Fee","CE Orion > HSS Access Fee","PJCE-000000289_HSS_Access_Fee-CE Orion > HSS Access Fee","Project Plan","FD02","Active","2025-01-02T03:05:19.266"]
[null,null,null,null,null,null,"PJCE-000000295_HS_Course_Enrollment","CE Orion > HS Course Enrollment","PJCE-000000295_HS_Course_Enrollment-CE Orion > HS Course Enrollment","Project Plan","FD02","Active","2025-01-02T03:05:19.208"]
[null,null,null,null,null,null,"PJCE-000000300_UN_Voucher","CE Orion > UN Voucher","PJCE-000000300_UN_Voucher-CE Orion > UN Voucher","Project Plan","FD02","Active","2025-01-02T03:05:19.407"]
[null,null,null,null,null,null,"PJCE-000000306_UN_Course_Enrollment","CE Orion > UN Course Enrollment","PJCE-000000306_UN_Course_Enrollment-CE Orion > UN Course Enrollment","Project Plan","FD02","Active","2025-01-02T03:05:19.492"]
[null,null,null,null,null,null,"PJCE-000000311_HSS_Addl_Training","CE Orion > HSS Add'l Training","PJCE-000000311_HSS_Addl_Training-CE Orion > HSS Add'l Training","Project Plan","FD02","Active","2025-01-02T03:05:19.492"]
[null,null,null,null,null,null,"PJCE-000000317_HS_Shipping","CE Orion > HS Shipping","PJCE-000000317_HS_Shipping-CE Orion > HS Shipping","Project Plan","FD02","Active","2025-01-02T03:05:19.407"]
[null,null,null,null,null,null,"PJCE-000000323","Box Elder Middle School IHS","PJCE-000000323-Box Elder Middle School IHS","Project","FD02","Active","2025-01-02T03:05:10.782"]
[null,null,null,null,null,null,"PJCE-000000328_UN_Processing_Fee","CE Orion > UN Processing Fee","PJCE-000000328_UN_Processing_Fee-CE Orion > UN Processing Fee","Project Plan","FD02","Active","2025-01-02T03:05:19.651"]
[null,null,null,null,null,null,"PJCE-000000334_Error","CE Orion > Error","PJCE-000000334_Error-CE Orion > Error","Project Plan","FD02","Active","2025-01-02T03:05:19.651"]
[null,null,null,null,null,null,"PJCE-000000339_HS_Tutoring","CE Orion > HS Tutoring","PJCE-000000339_HS_Tutoring-CE Orion > HS Tutoring","Project Plan","FD02","Active","2025-01-02T03:05:19.651"]
[null,null,null,null,null,null,"PJCE-000000345_HS_Fee","CE Orion > HS Fee","PJCE-000000345_HS_Fee-CE Orion > HS Fee","Project Plan","FD02","Active","2025-01-02T03:05:19.755"]
[null,null,null,null,null,null,"PJCE-000000350_UN_Shipping","CE Orion > UN Shipping","PJCE-000000350_UN_Shipping-CE Orion > UN Shipping","Project Plan","FD02","Active","2025-01-02T03:05:19.710"]
[null,null,null,null,null,null,"PJCE-000000356_UN_Credit","CE Orion > UN Credit","PJCE-000000356_UN_Credit-CE Orion > UN Credit","Project Plan","FD02","Active","2025-01-02T03:05:19.755"]
[null,null,null,null,null,null,"PJCE-000000361_HSS_Setup_&_Training","CE Orion > HSS Setup & Training","PJCE-000000361_HSS_Setup_&_Training-CE Orion > HSS Setup & Training","Project Plan","FD02","Active","2025-01-02T03:05:19.710"]
[null,null,null,null,null,null,"PJCE-000000367_HS_Resubmission","CE Orion > HS Resubmission","PJCE-000000367_HS_Resubmission-CE Orion > HS Resubmission","Project Plan","FD02","Active","2025-01-02T03:05:19.796"]
[null,null,null,null,null,null,"PJCE-000000373_HS_Course_Materials","CE Orion > HS Course Materials","PJCE-000000373_HS_Course_Materials-CE Orion > HS Course Materials","Project Plan","FD02","Active","2025-01-02T03:05:19.796"]
[null,null,null,null,null,null,"PJCE-000000376_UN_Adjustment","CE Orion > UN Adjustment","PJCE-000000376_UN_Adjustment-CE Orion > UN Adjustment","Project Plan","FD02","Active","2025-01-02T03:05:19.755"]
[null,null,null,null,null,null,"PJCE-000000383_HSS_Setup_&_Training","CE Orion > HSS Setup & Training","PJCE-000000383_HSS_Setup_&_Training-CE Orion > HSS Setup & Training","Project Plan","FD02","Active","2025-01-02T03:05:19.796"]
[null,null,null,null,null,null,"PJCE-000000389_HSS_Addl_Training","CE Orion > HSS Add'l Training","PJCE-000000389_HSS_Addl_Training-CE Orion > HSS Add'l Training","Project Plan","FD02","Active","2025-01-02T03:05:19.908"]
[null,null,null,null,null,null,"PJCE-000000395_HS_Course_Materials","CE Orion > HS Course Materials","PJCE-000000395_HS_Course_Materials-CE Orion > HS Course Materials","Project Plan","FD02","Active","2025-01-02T03:05:19.832"]
[null,null,null,null,null,null,"PJCE-000000395_HS_Shipping","CE Orion > HS Shipping","PJCE-000000395_HS_Shipping-CE Orion > HS Shipping","Project Plan","FD02","Active","2025-01-02T03:05:19.832"]
[null,null,null,null,null,null,"PJCE-000000401","CALIFORNIA MILITARY INSTITUTE IHS","PJCE-000000401-CALIFORNIA MILITARY INSTITUTE IHS","Project","FD02","Active","2025-01-02T03:05:10.782"]
[null,null,null,null,null,null,"PJCE-000000406_UN_Course_Extension","CE Orion > UN Course Extension","PJCE-000000406_UN_Course_Extension-CE Orion > UN Course Extension","Project Plan","FD02","Active","2025-01-02T03:05:19.871"]
[null,null,null,null,null,null,"PJCE-000000412_Error","CE Orion > Error","PJCE-000000412_Error-CE Orion > Error","Project Plan","FD02","Active","2025-01-02T03:05:19.832"]
[null,null,null,null,null,null,"PJCE-000000417_HS_Tutoring","CE Orion > HS Tutoring","PJCE-000000417_HS_Tutoring-CE Orion > HS Tutoring","Project Plan","FD02","Active","2025-01-02T03:05:19.948"]
[null,null,null,null,null,null,"PJCE-000000423_HS_Fee","CE Orion > HS Fee","PJCE-000000423_HS_Fee-CE Orion > HS Fee","Project Plan","FD02","Active","2025-01-02T03:05:19.984"]
[null,null,null,null,null,null,"PJCE-000000428_UN_Shipping","CE Orion > UN Shipping","PJCE-000000428_UN_Shipping-CE Orion > UN Shipping","Project Plan","FD02","Active","2025-01-02T03:05:19.984"]
[null,null,null,null,null,null,"PJCE-000000434_UN_Adjustment","CE Orion > UN Adjustment","PJCE-000000434_UN_Adjustment-CE Orion > UN Adjustment","Project Plan","FD02","Active","2025-01-02T03:05:19.984"]
[null,null,null,null,null,null,"PJCE-000000439_HSS_Setup_&_Training","CE Orion > HSS Setup & Training","PJCE-000000439_HSS_Setup_&_Training-CE Orion > HSS Setup & Training","Project Plan","FD02","Active","2025-01-02T03:05:20.025"]
[null,null,null,null,null,null,"PJCE-000000445_HS_Resubmission","CE Orion > HS Resubmission","PJCE-000000445_HS_Resubmission-CE Orion > HS Resubmission","Project Plan","FD02","Active","2025-01-02T03:05:20.025"]
[null,null,null,null,null,null,"PJCE-000000450_UN_Tutoring","CE Orion > UN Tutoring","PJCE-000000450_UN_Tutoring-CE Orion > UN Tutoring","Project Plan","FD02","Active","2025-01-02T03:05:19.948"]
[null,null,null,null,null,null,"PJCE-000000456_UN_Exam_Retake","CE Orion > UN Exam Retake","PJCE-000000456_UN_Exam_Retake-CE Orion > UN Exam Retake","Project Plan","FD02","Active","2025-01-02T03:05:20.025"]
[null,null,null,null,null,null,"PJCE-000000461_HSS_Withdrawl","CE Orion > HSS Withdrawal","PJCE-000000461_HSS_Withdrawl-CE Orion > HSS Withdrawal","Project Plan","FD02","Active","2025-01-02T03:05:20.097"]
[null,null,null,null,null,null,"PJCE-000000467_HSS_Adjustment","CE Orion > HSS Adjustment","PJCE-000000467_HSS_Adjustment-CE Orion > HSS Adjustment","Project Plan","FD02","Active","2025-01-02T03:05:20.025"]
[null,null,null,null,null,null,"PJCE-000000471_HSS_License_Agreement","CE Orion > HSS License Agreement","PJCE-000000471_HSS_License_Agreement-CE Orion > HSS License Agreement","Project Plan","FD02","Active","2025-01-02T03:05:20.061"]
[null,null,null,null,null,null,"PJCE-000000478_UN_Exam_Retake","CE Orion > UN Exam Retake","PJCE-000000478_UN_Exam_Retake-CE Orion > UN Exam Retake","Project Plan","FD02","Active","2025-01-02T03:05:20.097"]
[null,null,null,null,null,null,"PJCE-000000484_UN_Course_Extension","CE Orion > UN Course Extension","PJCE-000000484_UN_Course_Extension-CE Orion > UN Course Extension","Project Plan","FD02","Active","2025-01-02T03:05:20.061"]
[null,null,null,null,null,null,"PJCE-000000489_HSS_Adjustment","CE Orion > HSS Adjustment","PJCE-000000489_HSS_Adjustment-CE Orion > HSS Adjustment","Project Plan","FD02","Active","2025-01-02T03:05:20.097"]
[null,null,null,null,null,null,"PJCE-000000495_HS_Course_Withdrawal","CE Orion > HS Course Withdrawal","PJCE-000000495_HS_Course_Withdrawal-CE Orion > HS Course Withdrawal","Project Plan","FD02","Active","2025-01-02T03:05:20.132"]
[null,null,null,null,null,null,"PJCE-000000501_Error","CE Orion > Error","PJCE-000000501_Error-CE Orion > Error","Project Plan","FD02","Active","2025-01-02T03:05:20.061"]
[null,null,null,null,null,null,"PJCE-000000506_UN_Course_Materials","CE Orion > UN Course Materials","PJCE-000000506_UN_Course_Materials-CE Orion > UN Course Materials","Project Plan","FD02","Active","2025-01-02T03:05:20.244"]
[null,null,null,null,null,null,"PJCE-000000512_UN_Adjustment","CE Orion > UN Adjustment","PJCE-000000512_UN_Adjustment-CE Orion > UN Adjustment","Project Plan","FD02","Active","2025-01-02T03:05:20.205"]
[null,null,null,null,null,null,"PJCE-000000517_HS_Voucher","CE Orion > HS Voucher","PJCE-000000517_HS_Voucher-CE Orion > HS Voucher","Project Plan","FD02","Active","2025-01-02T03:05:20.205"]
[null,null,null,null,null,null,"PJCE-000000523_HS_Adjustment","CE Orion > HS Adjustment","PJCE-000000523_HS_Adjustment-CE Orion > HS Adjustment","Project Plan","FD02","Active","2025-01-02T03:05:20.132"]
[null,null,null,null,null,null,"PJCE-000000528_UN_Tutoring","CE Orion > UN Tutoring","PJCE-000000528_UN_Tutoring-CE Orion > UN Tutoring","Project Plan","FD02","Active","2025-01-02T03:05:20.282"]
[null,null,null,null,null,null,"PJCE-000000534_UN_Audit","CE Orion > UN Audit","PJCE-000000534_UN_Audit-CE Orion > UN Audit","Project Plan","FD02","Active","2025-01-02T03:05:20.282"]
[null,null,null,null,null,null,"PJCE-000000539_HSS_Withdrawl","CE Orion > HSS Withdrawal","PJCE-000000539_HSS_Withdrawl-CE Orion > HSS Withdrawal","Project Plan","FD02","Active","2025-01-02T03:05:20.205"]
[null,null,null,null,null,null,"PJCE-000000545_HS_Retake","CE Orion > HS Retake","PJCE-000000545_HS_Retake-CE Orion > HS Retake","Project Plan","FD02","Active","2025-01-02T03:05:20.319"]
[null,null,null,null,null,null,"PJCE-000000550_UN_Voucher","CE Orion > UN Voucher","PJCE-000000550_UN_Voucher-CE Orion > UN Voucher","Project Plan","FD02","Active","2025-01-02T03:05:20.205"]
[null,null,null,null,null,null,"PJCE-000000556_UN_Lesson_Resubmission","CE Orion > UN Lesson Resubmission","PJCE-000000556_UN_Lesson_Resubmission-CE Orion > UN Lesson Resubmission","Project Plan","FD02","Active","2025-01-02T03:05:20.319"]
[null,null,null,null,null,null,"PJCE-000000562","College Place High School BYU","PJCE-000000562-College Place High School BYU","Project","FD02","Active","2025-01-02T03:05:10.934"]
[null,null,null,null,null,null,"PJCE-000000565_HSS_License_Agreement","CE Orion > HSS License Agreement","PJCE-000000565_HSS_License_Agreement-CE Orion > HSS License Agreement","Project Plan","FD02","Active","2025-01-02T03:05:20.358"]
[null,null,null,null,null,null,"PJCE-000000573_HS_Course_Withdrawal","CE Orion > HS Course Withdrawal","PJCE-000000573_HS_Course_Withdrawal-CE Orion > HS Course Withdrawal","Project Plan","FD02","Active","2025-01-02T03:05:20.393"]
[null,null,null,null,null,null,"PJCE-000000578_UN_Lesson_Resubmission","CE Orion > UN Lesson Resubmission","PJCE-000000578_UN_Lesson_Resubmission-CE Orion > UN Lesson Resubmission","Project Plan","FD02","Active","2025-01-02T03:05:20.440"]
[null,null,null,null,null,null,"PJCE-000000584_UN_Course_Materials","CE Orion > UN Course Materials","PJCE-000000584_UN_Course_Materials-CE Orion > UN Course Materials","Project Plan","FD02","Active","2025-01-02T03:05:20.393"]
[null,null,null,null,null,null,"PJCE-000000589_HSS_Enrollment","CE Orion > HSS Enrollment","PJCE-000000589_HSS_Enrollment-CE Orion > HSS Enrollment","Project Plan","FD02","Active","2025-01-02T03:05:20.490"]
[null,null,null,null,null,null,"PJCE-000000595_HS_Extension","CE Orion > HS Extension","PJCE-000000595_HS_Extension-CE Orion > HS Extension","Project Plan","FD02","Active","2025-01-02T03:05:20.534"]
[null,null,null,null,null,null,"PJCE-000000601_HS_Adjustment","CE Orion > HS Adjustment","PJCE-000000601_HS_Adjustment-CE Orion > HS Adjustment","Project Plan","FD02","Active","2025-01-02T03:05:20.490"]
[null,null,null,null,null,null,"PJCE-000000606_UN_Course_Withdrawal","CE Orion > UN Course Withdrawal","PJCE-000000606_UN_Course_Withdrawal-CE Orion > UN Course Withdrawal","Project Plan","FD02","Active","2025-01-02T03:05:20.490"]
[null,null,null,null,null,null,"PJCE-000000612_UN_Audit","CE Orion > UN Audit","PJCE-000000612_UN_Audit-CE Orion > UN Audit","Project Plan","FD02","Active","2025-01-02T03:05:20.574"]
[null,null,null,null,null,null,"PJCE-000000617_HSS_Access_Fee","CE Orion > HSS Access Fee","PJCE-000000617_HSS_Access_Fee-CE Orion > HSS Access Fee","Project Plan","FD02","Active","2025-01-02T03:05:20.440"]
[null,null,null,null,null,null,"PJCE-000000623_HS_Course_Enrollment","CE Orion > HS Course Enrollment","PJCE-000000623_HS_Course_Enrollment-CE Orion > HS Course Enrollment","Project Plan","FD02","Active","2025-01-02T03:05:20.609"]
[null,null,null,null,null,null,"PJCE-000000623_HS_Retake","CE Orion > HS Retake","PJCE-000000623_HS_Retake-CE Orion > HS Retake","Project Plan","FD02","Active","2025-01-02T03:05:20.609"]
[null,null,null,null,null,null,"PJCE-000000628_UN_Voucher","CE Orion > UN Voucher","PJCE-000000628_UN_Voucher-CE Orion > UN Voucher","Project Plan","FD02","Active","2025-01-02T03:05:20.609"]
[null,null,null,null,null,null,"PJCE-000000634_UN_Course_Enrollment","CE Orion > UN Course Enrollment","PJCE-000000634_UN_Course_Enrollment-CE Orion > UN Course Enrollment","Project Plan","FD02","Active","2025-01-02T03:05:20.574"]
[null,null,null,null,null,null,"PJCE-000000640","COUNTRY WALK WARD BYU","PJCE-000000640-COUNTRY WALK WARD BYU","Project","FD02","Active","2025-01-02T03:05:10.934"]
[null,null,null,null,null,null,"PJCE-000000645_HS_Shipping","CE Orion > HS Shipping","PJCE-000000645_HS_Shipping-CE Orion > HS Shipping","Project Plan","FD02","Active","2025-01-02T03:05:20.646"]
[null,null,null,null,null,null,"PJCE-000000651_HS_Extension","CE Orion > HS Extension","PJCE-000000651_HS_Extension-CE Orion > HS Extension","Project Plan","FD02","Active","2025-01-02T03:05:20.609"]
[null,null,null,null,null,null,"PJCE-000000656_UN_Processing_Fee","CE Orion > UN Processing Fee","PJCE-000000656_UN_Processing_Fee-CE Orion > UN Processing Fee","Project Plan","FD02","Active","2025-01-02T03:05:20.646"]
[null,null,null,null,null,null,"PJCE-000000661_HS_Voucher","CE Orion > HS Voucher","PJCE-000000661_HS_Voucher-CE Orion > HS Voucher","Project Plan","FD02","Active","2025-01-02T03:05:20.698"]
[null,null,null,null,null,null,"PJCE-000000667_HSS_Enrollment","CE Orion > HSS Enrollment","PJCE-000000667_HSS_Enrollment-CE Orion > HSS Enrollment","Project Plan","FD02","Active","2025-01-02T03:05:20.737"]
[null,null,null,null,null,null,"PJCE-000000673_HS_Extension","CE Orion > HS Extension","PJCE-000000673_HS_Extension-CE Orion > HS Extension","Project Plan","FD02","Active","2025-01-02T03:05:20.781"]
[null,null,null,null,null,null,"PJCE-000000678_UN_Processing_Fee","CE Orion > UN Processing Fee","PJCE-000000678_UN_Processing_Fee-CE Orion > UN Processing Fee","Project Plan","FD02","Active","2025-01-02T03:05:20.698"]
[null,null,null,null,null,null,"PJCE-000000684_UN_Course_Withdrawal","CE Orion > UN Course Withdrawal","PJCE-000000684_UN_Course_Withdrawal-CE Orion > UN Course Withdrawal","Project Plan","FD02","Active","2025-01-02T03:05:20.737"]
[null,null,null,null,null,null,"PJCE-000000689_HSS_License_Agreement","CE Orion > HSS License Agreement","PJCE-000000689_HSS_License_Agreement-CE Orion > HSS License Agreement","Project Plan","FD02","Active","2025-01-02T03:05:20.781"]
[null,null,null,null,null,null,"PJCE-000000695_HSS_Access_Fee","CE Orion > HSS Access Fee","PJCE-000000695_HSS_Access_Fee-CE Orion > HSS Access Fee","Project Plan","FD02","Active","2025-01-02T03:05:20.824"]
[null,null,null,null,null,null,"PJCE-000000701_HS_Course_Enrollment","CE Orion > HS Course Enrollment","PJCE-000000701_HS_Course_Enrollment-CE Orion > HS Course Enrollment","Project Plan","FD02","Active","2025-01-02T03:05:20.867"]
[null,null,null,null,null,null,"PJCE-000000706_UN_Credit","CE Orion > UN Credit","PJCE-000000706_UN_Credit-CE Orion > UN Credit","Project Plan","FD02","Active","2025-01-02T03:05:20.867"]
[null,null,null,null,null,null,"PJCE-000000712_UN_Course_Enrollment","CE Orion > UN Course Enrollment","PJCE-000000712_UN_Course_Enrollment-CE Orion > UN Course Enrollment","Project Plan","FD02","Active","2025-01-02T03:05:20.737"]
[null,null,null,null,null,null,"PJCE-000000717_HSS_Addl_Training","CE Orion > HSS Add'l Training","PJCE-000000717_HSS_Addl_Training-CE Orion > HSS Add'l Training","Project Plan","FD02","Active","2025-01-02T03:05:20.904"]
[null,null,null,null,null,null,"PJCE-000000723_HS_Shipping","CE Orion > HS Shipping","PJCE-000000723_HS_Shipping-CE Orion > HS Shipping","Project Plan","FD02","Active","2025-01-02T03:05:20.781"]
[null,null,null,null,null,null,"PJCE-000000729","Denali Peak (PEAK Correspondence) IHS","PJCE-000000729-Denali Peak (PEAK Correspondence) IHS","Project","FD02","Active","2025-01-02T03:05:11.080"]
[null,null,null,null,null,null,"PJCE-000000734_UN_Course_Extension","CE Orion > UN Course Extension","PJCE-000000734_UN_Course_Extension-CE Orion > UN Course Extension","Project Plan","FD02","Active","2025-01-02T03:05:20.867"]
[null,null,null,null,null,null,"PJCE-000000740_Error","CE Orion > Error","PJCE-000000740_Error-CE Orion > Error","Project Plan","FD02","Active","2025-01-02T03:05:20.824"]
[null,null,null,null,null,null,"PJCE-000000745_HS_Tutoring","CE Orion > HS Tutoring","PJCE-000000745_HS_Tutoring-CE Orion > HS Tutoring","Project Plan","FD02","Active","2025-01-02T03:05:20.980"]
[null,null,null,null,null,null,"PJCE-000000751_Error","CE Orion > Error","PJCE-000000751_Error-CE Orion > Error","Project Plan","FD02","Active","2025-01-02T03:05:20.980"]
[null,null,null,null,null,null,"PJCE-000000757_HSS_Withdrawl","CE Orion > HSS Withdrawal","PJCE-000000757_HSS_Withdrawl-CE Orion > HSS Withdrawal","Project Plan","FD02","Active","2025-01-02T03:05:21.016"]
[null,null,null,null,null,null,"PJCE-000000762_Error","CE Orion > Error","PJCE-000000762_Error-CE Orion > Error","Project Plan","FD02","Active","2025-01-02T03:05:21.016"]
[null,null,null,null,null,null,"PJCE-000000767_HSS_License_Agreement","CE Orion > HSS License Agreement","PJCE-000000767_HSS_License_Agreement-CE Orion > HSS License Agreement","Project Plan","FD02","Active","2025-01-02T03:05:20.942"]
[null,null,null,null,null,null,"PJCE-000000773_HS_Fee","CE Orion > HS Fee","PJCE-000000773_HS_Fee-CE Orion > HS Fee","Project Plan","FD02","Active","2025-01-02T03:05:21.048"]
[null,null,null,null,null,null,"PJCE-000000778_UN_Shipping","CE Orion > UN Shipping","PJCE-000000778_UN_Shipping-CE Orion > UN Shipping","Project Plan","FD02","Active","2025-01-02T03:05:21.085"]
[null,null,null,null,null,null,"PJCE-000000784_UN_Credit","CE Orion > UN Credit","PJCE-000000784_UN_Credit-CE Orion > UN Credit","Project Plan","FD02","Active","2025-01-02T03:05:20.980"]
[null,null,null,null,null,null,"PJCE-000000789_HSS_Setup_&_Training","CE Orion > HSS Setup & Training","PJCE-000000789_HSS_Setup_&_Training-CE Orion > HSS Setup & Training","Project Plan","FD02","Active","2025-01-02T03:05:21.118"]
[null,null,null,null,null,null,"PJCE-000000795_HS_Resubmission","CE Orion > HS Resubmission","PJCE-000000795_HS_Resubmission-CE Orion > HS Resubmission","Project Plan","FD02","Active","2025-01-02T03:05:21.048"]
[null,null,null,null,null,null,"PJCE-000000801_HS_Course_Materials","CE Orion > HS Course Materials","PJCE-000000801_HS_Course_Materials-CE Orion > HS Course Materials","Project Plan","FD02","Active","2025-01-02T03:05:21.156"]
[null,null,null,null,null,null,"PJCE-000000806_UN_Exam_Retake","CE Orion > UN Exam Retake","PJCE-000000806_UN_Exam_Retake-CE Orion > UN Exam Retake","Project Plan","FD02","Active","2025-01-02T03:05:21.156"]
[null,null,null,null,null,null,"PJCE-000000812_UN_Course_Extension","CE Orion > UN Course Extension","PJCE-000000812_UN_Course_Extension-CE Orion > UN Course Extension","Project Plan","FD02","Active","2025-01-02T03:05:21.156"]
[null,null,null,null,null,null,"PJCE-000000817_HSS_Adjustment","CE Orion > HSS Adjustment","PJCE-000000817_HSS_Adjustment-CE Orion > HSS Adjustment","Project Plan","FD02","Active","2025-01-02T03:05:21.156"]
[null,null,null,null,null,null,"PJCE-000000823_HS_Course_Withdrawal","CE Orion > HS Course Withdrawal","PJCE-000000823_HS_Course_Withdrawal-CE Orion > HS Course Withdrawal","Project Plan","FD02","Active","2025-01-02T03:05:21.191"]
[null,null,null,null,null,null,"PJCE-000000829_Error","CE Orion > Error","PJCE-000000829_Error-CE Orion > Error","Project Plan","FD02","Active","2025-01-02T03:05:21.228"]
[null,null,null,null,null,null,"PJCE-000000834_UN_Course_Materials","CE Orion > UN Course Materials","PJCE-000000834_UN_Course_Materials-CE Orion > UN Course Materials","Project Plan","FD02","Active","2025-01-02T03:05:21.191"]
[null,null,null,null,null,null,"PJCE-000000840_UN_Adjustment","CE Orion > UN Adjustment","PJCE-000000840_UN_Adjustment-CE Orion > UN Adjustment","Project Plan","FD02","Active","2025-01-02T03:05:21.191"]
[null,null,null,null,null,null,"PJCE-000000845_HS_Voucher","CE Orion > HS Voucher","PJCE-000000845_HS_Voucher-CE Orion > HS Voucher","Project Plan","FD02","Active","2025-01-02T03:05:21.228"]
[null,null,null,null,null,null,"PJCE-000000851_HS_Adjustment","CE Orion > HS Adjustment","PJCE-000000851_HS_Adjustment-CE Orion > HS Adjustment","Project Plan","FD02","Active","2025-01-02T03:05:21.228"]
[null,null,null,null,null,null,"PJCE-000000853_HSS_Addl_Training","CE Orion > HSS Add'l Training","PJCE-000000853_HSS_Addl_Training-CE Orion > HSS Add'l Training","Project Plan","FD02","Active","2025-01-02T03:05:21.296"]
[null,null,null,null,null,null,"PJCE-000000856_UN_Shipping","CE Orion > UN Shipping","PJCE-000000856_UN_Shipping-CE Orion > UN Shipping","Project Plan","FD02","Active","2025-01-02T03:05:21.191"]
[null,null,null,null,null,null,"PJCE-000000862_UN_Adjustment","CE Orion > UN Adjustment","PJCE-000000862_UN_Adjustment-CE Orion > UN Adjustment","Project Plan","FD02","Active","2025-01-02T03:05:21.296"]
[null,null,null,null,null,null,"PJCE-000000867_HSS_Setup_&_Training","CE Orion > HSS Setup & Training","PJCE-000000867_HSS_Setup_&_Training-CE Orion > HSS Setup & Training","Project Plan","FD02","Active","2025-01-02T03:05:21.191"]
[null,null,null,null,null,null,"PJCE-000000873_HS_Resubmission","CE Orion > HS Resubmission","PJCE-000000873_HS_Resubmission-CE Orion > HS Resubmission","Project Plan","FD02","Active","2025-01-02T03:05:21.296"]
[null,null,null,null,null,null,"PJCE-000000879_HS_Course_Materials","CE Orion > HS Course Materials","PJCE-000000879_HS_Course_Materials-CE Orion > HS Course Materials","Project Plan","FD02","Active","2025-01-02T03:05:21.263"]
[null,null,null,null,null,null,"PJCE-000000884_UN_Exam_Retake","CE Orion > UN Exam Retake","PJCE-000000884_UN_Exam_Retake-CE Orion > UN Exam Retake","Project Plan","FD02","Active","2025-01-02T03:05:21.368"]
[null,null,null,null,null,null,"PJCE-000000889_HSS_Withdrawl","CE Orion > HSS Withdrawal","PJCE-000000889_HSS_Withdrawl-CE Orion > HSS Withdrawal","Project Plan","FD02","Active","2025-01-02T03:05:21.368"]
[null,null,null,null,null,null,"PJCE-000000895_HSS_Adjustment","CE Orion > HSS Adjustment","PJCE-000000895_HSS_Adjustment-CE Orion > HSS Adjustment","Project Plan","FD02","Active","2025-01-02T03:05:21.405"]
[null,null,null,null,null,null,"PJCE-000000901_HS_Course_Withdrawal","CE Orion > HS Course Withdrawal","PJCE-000000901_HS_Course_Withdrawal-CE Orion > HS Course Withdrawal","Project Plan","FD02","Active","2025-01-02T03:05:21.456"]
[null,null,null,null,null,null,"PJCE-000000907_Error","CE Orion > Error","PJCE-000000907_Error-CE Orion > Error","Project Plan","FD02","Active","2025-01-02T03:05:21.405"]
[null,null,null,null,null,null,"PJCE-000000912_UN_Course_Materials","CE Orion > UN Course Materials","PJCE-000000912_UN_Course_Materials-CE Orion > UN Course Materials","Project Plan","FD02","Active","2025-01-02T03:05:21.456"]
[null,null,null,null,null,null,"PJCE-000000917_HSS_Enrollment","CE Orion > HSS Enrollment","PJCE-000000917_HSS_Enrollment-CE Orion > HSS Enrollment","Project Plan","FD02","Active","2025-01-02T03:05:21.456"]
[null,null,null,null,null,null,"PJCE-000000923_HS_Voucher","CE Orion > HS Voucher","PJCE-000000923_HS_Voucher-CE Orion > HS Voucher","Project Plan","FD02","Active","2025-01-02T03:05:21.456"]
[null,null,null,null,null,null,"PJCE-000000929_HS_Adjustment","CE Orion > HS Adjustment","PJCE-000000929_HS_Adjustment-CE Orion > HS Adjustment","Project Plan","FD02","Active","2025-01-02T03:05:21.405"]
[null,null,null,null,null,null,"PJCE-000000934_UN_Course_Withdrawal","CE Orion > UN Course Withdrawal","PJCE-000000934_UN_Course_Withdrawal-CE Orion > UN Course Withdrawal","Project Plan","FD02","Active","2025-01-02T03:05:21.539"]
[null,null,null,null,null,null,"PJCE-000000940_UN_Audit","CE Orion > UN Audit","PJCE-000000940_UN_Audit-CE Orion > UN Audit","Project Plan","FD02","Active","2025-01-02T03:05:21.539"]
[null,null,null,null,null,null,"PJCE-000000947_HSS_Addl_Training","CE Orion > HSS Add'l Training","PJCE-000000947_HSS_Addl_Training-CE Orion > HSS Add'l Training","Project Plan","FD02","Active","2025-01-02T03:05:21.578"]
[null,null,null,null,null,null,"PJCE-000000951_HS_Resubmission","CE Orion > HS Resubmission","PJCE-000000951_HS_Resubmission-CE Orion > HS Resubmission","Project Plan","FD02","Active","2025-01-02T03:05:21.612"]
[null,null,null,null,null,null,"PJCE-000000956_UN_Tutoring","CE Orion > UN Tutoring","PJCE-000000956_UN_Tutoring-CE Orion > UN Tutoring","Project Plan","FD02","Active","2025-01-02T03:05:21.612"]
[null,null,null,null,null,null,"PJCE-000000962_UN_Audit","CE Orion > UN Audit","PJCE-000000962_UN_Audit-CE Orion > UN Audit","Project Plan","FD02","Active","2025-01-02T03:05:21.539"]
[null,null,null,null,null,null,"PJCE-000000967_HSS_Withdrawl","CE Orion > HSS Withdrawal","PJCE-000000967_HSS_Withdrawl-CE Orion > HSS Withdrawal","Project Plan","FD02","Active","2025-01-02T03:05:21.612"]
[null,null,null,null,null,null,"PJCE-000000973_HS_Retake","CE Orion > HS Retake","PJCE-000000973_HS_Retake-CE Orion > HS Retake","Project Plan","FD02","Active","2025-01-02T03:05:21.646"]
[null,null,null,null,null,null,"PJCE-000000978_UN_Voucher","CE Orion > UN Voucher","PJCE-000000978_UN_Voucher-CE Orion > UN Voucher","Project Plan","FD02","Active","2025-01-02T03:05:21.646"]
[null,null,null,null,null,null,"PJCE-000000984_UN_Lesson_Resubmission","CE Orion > UN Lesson Resubmission","PJCE-000000984_UN_Lesson_Resubmission-CE Orion > UN Lesson Resubmission","Project Plan","FD02","Active","2025-01-02T03:05:21.578"]
[null,null,null,null,null,null,"PJCE-000000990","FORT MORGAN HIGH SCHOOL BYU","PJCE-000000990-FORT MORGAN HIGH SCHOOL BYU","Project","FD02","Active","2025-01-02T03:05:11.231"]
[null,null,null,null,null,null,"PJCE-000000995_HSS_Enrollment","CE Orion > HSS Enrollment","PJCE-000000995_HSS_Enrollment-CE Orion > HSS Enrollment","Project Plan","FD02","Active","2025-01-02T03:05:21.721"]
[null,null,null,null,null,null,"PJCE-000001001_HS_Extension","CE Orion > HS Extension","PJCE-000001001_HS_Extension-CE Orion > HS Extension","Project Plan","FD02","Active","2025-01-02T03:05:21.578"]
[null,null,null,null,null,null,"PJCE-000001006_UN_Processing_Fee","CE Orion > UN Processing Fee","PJCE-000001006_UN_Processing_Fee-CE Orion > UN Processing Fee","Project Plan","FD02","Active","2025-01-02T03:05:21.578"]
[null,null,null,null,null,null,"PJCE-000001012_UN_Course_Withdrawal","CE Orion > UN Course Withdrawal","PJCE-000001012_UN_Course_Withdrawal-CE Orion > UN Course Withdrawal","Project Plan","FD02","Active","2025-01-02T03:05:21.756"]
[null,null,null,null,null,null,"PJCE-000001017_HSS_License_Agreement","CE Orion > HSS License Agreement","PJCE-000001017_HSS_License_Agreement-CE Orion > HSS License Agreement","Project Plan","FD02","Active","2025-01-02T03:05:21.835"]
[null,null,null,null,null,null,"PJCE-000001023_HSS_Access_Fee","CE Orion > HSS Access Fee","PJCE-000001023_HSS_Access_Fee-CE Orion > HSS Access Fee","Project Plan","FD02","Active","2025-01-02T03:05:21.756"]
[null,null,null,null,null,null,"PJCE-000001029_HS_Course_Enrollment","CE Orion > HS Course Enrollment","PJCE-000001029_HS_Course_Enrollment-CE Orion > HS Course Enrollment","Project Plan","FD02","Active","2025-01-02T03:05:21.798"]
[null,null,null,null,null,null,"PJCE-000001034_UN_Credit","CE Orion > UN Credit","PJCE-000001034_UN_Credit-CE Orion > UN Credit","Project Plan","FD02","Active","2025-01-02T03:05:21.835"]
[null,null,null,null,null,null,"PJCE-000001040_UN_Course_Enrollment","CE Orion > UN Course Enrollment","PJCE-000001040_UN_Course_Enrollment-CE Orion > UN Course Enrollment","Project Plan","FD02","Active","2025-01-02T03:05:21.798"]
[null,null,null,null,null,null,"PJCE-000001043_HS_Retake","CE Orion > HS Retake","PJCE-000001043_HS_Retake-CE Orion > HS Retake","Project Plan","FD02","Active","2025-01-02T03:05:21.756"]
[null,null,null,null,null,null,"PJCE-000001051_HS_Course_Enrollment","CE Orion > HS Course Enrollment","PJCE-000001051_HS_Course_Enrollment-CE Orion > HS Course Enrollment","Project Plan","FD02","Active","2025-01-02T03:05:21.798"]
[null,null,null,null,null,null,"PJCE-000001056_UN_Voucher","CE Orion > UN Voucher","PJCE-000001056_UN_Voucher-CE Orion > UN Voucher","Project Plan","FD02","Active","2025-01-02T03:05:21.835"]
[null,null,null,null,null,null,"PJCE-000001062_UN_Course_Enrollment","CE Orion > UN Course Enrollment","PJCE-000001062_UN_Course_Enrollment-CE Orion > UN Course Enrollment","Project Plan","FD02","Active","2025-01-02T03:05:21.914"]
[null,null,null,null,null,null,"PJCE-000001068","Gilmour Academy BYU","PJCE-000001068-Gilmour Academy BYU","Project","FD02","Active","2025-01-02T03:05:11.346"]
[null,null,null,null,null,null,"PJCE-000001073_HS_Shipping","CE Orion > HS Shipping","PJCE-000001073_HS_Shipping-CE Orion > HS Shipping","Project Plan","FD02","Active","2025-01-02T03:05:21.951"]
[null,null,null,null,null,null,"PJCE-000001079","GOLDEN EAGLE CHARTER SCHOOL IHS","PJCE-000001079-GOLDEN EAGLE CHARTER SCHOOL IHS","Project","FD02","Active","2025-01-02T03:05:11.231"]
[null,null,null,null,null,null,"PJCE-000001079_HS_Extension","CE Orion > HS Extension","PJCE-000001079_HS_Extension-CE Orion > HS Extension","Project Plan","FD02","Active","2025-01-02T03:05:21.870"]
[null,null,null,null,null,null,"PJCE-000001084_UN_Processing_Fee","CE Orion > UN Processing Fee","PJCE-000001084_UN_Processing_Fee-CE Orion > UN Processing Fee","Project Plan","FD02","Active","2025-01-02T03:05:21.914"]
[null,null,null,null,null,null,"PJCE-000001090_UN_Course_Withdrawal","CE Orion > UN Course Withdrawal","PJCE-000001090_UN_Course_Withdrawal-CE Orion > UN Course Withdrawal","Project Plan","FD02","Active","2025-01-02T03:05:22.002"]
[null,null,null,null,null,null,"PJCE-000001095_HSS_License_Agreement","CE Orion > HSS License Agreement","PJCE-000001095_HSS_License_Agreement-CE Orion > HSS License Agreement","Project Plan","FD02","Active","2025-01-02T03:05:22.002"]
[null,null,null,null,null,null,"PJCE-000001101_HS_Fee","CE Orion > HS Fee","PJCE-000001101_HS_Fee-CE Orion > HS Fee","Project Plan","FD02","Active","2025-01-02T03:05:22.002"]
[null,null,null,null,null,null,"PJCE-000001107_HS_Course_Enrollment","CE Orion > HS Course Enrollment","PJCE-000001107_HS_Course_Enrollment-CE Orion > HS Course Enrollment","Project Plan","FD02","Active","2025-01-02T03:05:22.048"]
[null,null,null,null,null,null,"PJCE-000001112_UN_Credit","CE Orion > UN Credit","PJCE-000001112_UN_Credit-CE Orion > UN Credit","Project Plan","FD02","Active","2025-01-02T03:05:22.048"]
[null,null,null,null,null,null,"PJCE-000001117_HSS_Setup_&_Training","CE Orion > HSS Setup & Training","PJCE-000001117_HSS_Setup_&_Training-CE Orion > HSS Setup & Training","Project Plan","FD02","Active","2025-01-02T03:05:21.914"]
[null,null,null,null,null,null,"PJCE-000001123_HSS_Addl_Training","CE Orion > HSS Add'l Training","PJCE-000001123_HSS_Addl_Training-CE Orion > HSS Add'l Training","Project Plan","FD02","Active","2025-01-02T03:05:22.153"]
[null,null,null,null,null,null,"PJCE-000001129_HS_Course_Materials","CE Orion > HS Course Materials","PJCE-000001129_HS_Course_Materials-CE Orion > HS Course Materials","Project Plan","FD02","Active","2025-01-02T03:05:22.118"]
[null,null,null,null,null,null,"PJCE-000001134_UN_Course_Withdrawal","CE Orion > UN Course Withdrawal","PJCE-000001134_UN_Course_Withdrawal-CE Orion > UN Course Withdrawal","Project Plan","FD02","Active","2025-01-02T03:05:21.914"]
[null,null,null,null,null,null,"PJCE-000001140_UN_Course_Enrollment","CE Orion > UN Course Enrollment","PJCE-000001140_UN_Course_Enrollment-CE Orion > UN Course Enrollment","Project Plan","FD02","Active","2025-01-02T03:05:22.186"]
[null,null,null,null,null,null,"PJCE-000001145_HSS_Addl_Training","CE Orion > HSS Add'l Training","PJCE-000001145_HSS_Addl_Training-CE Orion > HSS Add'l Training","Project Plan","FD02","Active","2025-01-02T03:05:22.118"]
[null,null,null,null,null,null,"PJCE-000001151_HS_Shipping","CE Orion > HS Shipping","PJCE-000001151_HS_Shipping-CE Orion > HS Shipping","Project Plan","FD02","Active","2025-01-02T03:05:22.083"]
[null,null,null,null,null,null,"PJCE-000001157","GREYBULL PUBLIC SCH-BIG HORN CNTY SD #3 IHS","PJCE-000001157-GREYBULL PUBLIC SCH-BIG HORN CNTY SD #3 IHS","Project","FD02","Active","2025-01-02T03:05:11.346"]
[null,null,null,null,null,null,"PJCE-000001162_UN_Course_Extension","CE Orion > UN Course Extension","PJCE-000001162_UN_Course_Extension-CE Orion > UN Course Extension","Project Plan","FD02","Active","2025-01-02T03:05:22.256"]
[null,null,null,null,null,null,"PJCE-000001168_Error","CE Orion > Error","PJCE-000001168_Error-CE Orion > Error","Project Plan","FD02","Active","2025-01-02T03:05:22.186"]
[null,null,null,null,null,null,"PJCE-000001173_HS_Tutoring","CE Orion > HS Tutoring","PJCE-000001173_HS_Tutoring-CE Orion > HS Tutoring","Project Plan","FD02","Active","2025-01-02T03:05:22.221"]
[null,null,null,null,null,null,"PJCE-000001179_HS_Fee","CE Orion > HS Fee","PJCE-000001179_HS_Fee-CE Orion > HS Fee","Project Plan","FD02","Active","2025-01-02T03:05:22.221"]
[null,null,null,null,null,null,"PJCE-000001184_UN_Shipping","CE Orion > UN Shipping","PJCE-000001184_UN_Shipping-CE Orion > UN Shipping","Project Plan","FD02","Active","2025-01-02T03:05:22.221"]
[null,null,null,null,null,null,"PJCE-000001190_UN_Adjustment","CE Orion > UN Adjustment","PJCE-000001190_UN_Adjustment-CE Orion > UN Adjustment","Project Plan","FD02","Active","2025-01-02T03:05:22.324"]
[null,null,null,null,null,null,"PJCE-000001195_HSS_Setup_&_Training","CE Orion > HSS Setup & Training","PJCE-000001195_HSS_Setup_&_Training-CE Orion > HSS Setup & Training","Project Plan","FD02","Active","2025-01-02T03:05:22.256"]
[null,null,null,null,null,null,"PJCE-000001201_HS_Resubmission","CE Orion > HS Resubmission","PJCE-000001201_HS_Resubmission-CE Orion > HS Resubmission","Project Plan","FD02","Active","2025-01-02T03:05:22.324"]
[null,null,null,null,null,null,"PJCE-000001207_HS_Course_Materials","CE Orion > HS Course Materials","PJCE-000001207_HS_Course_Materials-CE Orion > HS Course Materials","Project Plan","FD02","Active","2025-01-02T03:05:22.289"]
[null,null,null,null,null,null,"PJCE-000001212_UN_Exam_Retake","CE Orion > UN Exam Retake","PJCE-000001212_UN_Exam_Retake-CE Orion > UN Exam Retake","Project Plan","FD02","Active","2025-01-02T03:05:22.359"]
[null,null,null,null,null,null,"PJCE-000001217_HSS_Withdrawl","CE Orion > HSS Withdrawal","PJCE-000001217_HSS_Withdrawl-CE Orion > HSS Withdrawal","Project Plan","FD02","Active","2025-01-02T03:05:22.359"]
[null,null,null,null,null,null,"PJCE-000001223_HSS_Adjustment","CE Orion > HSS Adjustment","PJCE-000001223_HSS_Adjustment-CE Orion > HSS Adjustment","Project Plan","FD02","Active","2025-01-02T03:05:22.359"]
[null,null,null,null,null,null,"PJCE-000001229_HS_Course_Withdrawal","CE Orion > HS Course Withdrawal","PJCE-000001229_HS_Course_Withdrawal-CE Orion > HS Course Withdrawal","Project Plan","FD02","Active","2025-01-02T03:05:22.359"]
[null,null,null,null,null,null,"PJCE-000001233_HS_Course_Materials","CE Orion > HS Course Materials","PJCE-000001233_HS_Course_Materials-CE Orion > HS Course Materials","Project Plan","FD02","Active","2025-01-02T03:05:22.424"]
[null,null,null,null,null,null,"PJCE-000001240_UN_Course_Extension","CE Orion > UN Course Extension","PJCE-000001240_UN_Course_Extension-CE Orion > UN Course Extension","Project Plan","FD02","Active","2025-01-02T03:05:22.424"]
[null,null,null,null,null,null,"PJCE-000001245_HSS_Adjustment","CE Orion > HSS Adjustment","PJCE-000001245_HSS_Adjustment-CE Orion > HSS Adjustment","Project Plan","FD02","Active","2025-01-02T03:05:22.424"]
[null,null,null,null,null,null,"PJCE-000001251_HS_Tutoring","CE Orion > HS Tutoring","PJCE-000001251_HS_Tutoring-CE Orion > HS Tutoring","Project Plan","FD02","Active","2025-01-02T03:05:22.494"]
[null,null,null,null,null,null,"PJCE-000001257_Error","CE Orion > Error","PJCE-000001257_Error-CE Orion > Error","Project Plan","FD02","Active","2025-01-02T03:05:22.460"]
[null,null,null,null,null,null,"PJCE-000001262_UN_Course_Materials","CE Orion > UN Course Materials","PJCE-000001262_UN_Course_Materials-CE Orion > UN Course Materials","Project Plan","FD02","Active","2025-01-02T03:05:22.527"]
[null,null,null,null,null,null,"PJCE-000001268_UN_Adjustment","CE Orion > UN Adjustment","PJCE-000001268_UN_Adjustment-CE Orion > UN Adjustment","Project Plan","FD02","Active","2025-01-02T03:05:22.460"]
[null,null,null,null,null,null,"PJCE-000001273_HS_Voucher","CE Orion > HS Voucher","PJCE-000001273_HS_Voucher-CE Orion > HS Voucher","Project Plan","FD02","Active","2025-01-02T03:05:22.460"]
[null,null,null,null,null,null,"PJCE-000001279_HS_Adjustment","CE Orion > HS Adjustment","PJCE-000001279_HS_Adjustment-CE Orion > HS Adjustment","Project Plan","FD02","Active","2025-01-02T03:05:22.392"]
[null,null,null,null,null,null,"PJCE-000001284_UN_Tutoring","CE Orion > UN Tutoring","PJCE-000001284_UN_Tutoring-CE Orion > UN Tutoring","Project Plan","FD02","Active","2025-01-02T03:05:22.561"]
[null,null,null,null,null,null,"PJCE-000001290_UN_Audit","CE Orion > UN Audit","PJCE-000001290_UN_Audit-CE Orion > UN Audit","Project Plan","FD02","Active","2025-01-02T03:05:22.595"]
[null,null,null,null,null,null,"PJCE-000001295_HSS_Withdrawl","CE Orion > HSS Withdrawal","PJCE-000001295_HSS_Withdrawl-CE Orion > HSS Withdrawal","Project Plan","FD02","Active","2025-01-02T03:05:22.595"]
[null,null,null,null,null,null,"PJCE-000001301_HS_Retake","CE Orion > HS Retake","PJCE-000001301_HS_Retake-CE Orion > HS Retake","Project Plan","FD02","Active","2025-01-02T03:05:22.561"]
[null,null,null,null,null,null,"PJCE-000001306_UN_Voucher","CE Orion > UN Voucher","PJCE-000001306_UN_Voucher-CE Orion > UN Voucher","Project Plan","FD02","Active","2025-01-02T03:05:22.561"]
[null,null,null,null,null,null,"PJCE-000001307_HS_Course_Withdrawal","CE Orion > HS Course Withdrawal","PJCE-000001307_HS_Course_Withdrawal-CE Orion > HS Course Withdrawal","Project Plan","FD02","Active","2025-01-02T03:05:22.628"]
[null,null,null,null,null,null,"PJCE-000001312_UN_Lesson_Resubmission","CE Orion > UN Lesson Resubmission","PJCE-000001312_UN_Lesson_Resubmission-CE Orion > UN Lesson Resubmission","Project Plan","FD02","Active","2025-01-02T03:05:22.527"]
[null,null,null,null,null,null,"PJCE-000001318_UN_Course_Materials","CE Orion > UN Course Materials","PJCE-000001318_UN_Course_Materials-CE Orion > UN Course Materials","Project Plan","FD02","Active","2025-01-02T03:05:22.561"]
[null,null,null,null,null,null,"PJCE-000001323_HSS_Enrollment","CE Orion > HSS Enrollment","PJCE-000001323_HSS_Enrollment-CE Orion > HSS Enrollment","Project Plan","FD02","Active","2025-01-02T03:05:22.527"]
[null,null,null,null,null,null,"PJCE-000001328_UN_Voucher","CE Orion > UN Voucher","PJCE-000001328_UN_Voucher-CE Orion > UN Voucher","Project Plan","FD02","Active","2025-01-02T03:05:22.661"]
[null,null,null,null,null,null,"PJCE-000001335_Error","CE Orion > Error","PJCE-000001335_Error-CE Orion > Error","Project Plan","FD02","Active","2025-01-02T03:05:22.697"]
[null,null,null,null,null,null,"PJCE-000001340_UN_Course_Materials","CE Orion > UN Course Materials","PJCE-000001340_UN_Course_Materials-CE Orion > UN Course Materials","Project Plan","FD02","Active","2025-01-02T03:05:22.661"]
[null,null,null,null,null,null,"PJCE-000001345_HSS_Enrollment","CE Orion > HSS Enrollment","PJCE-000001345_HSS_Enrollment-CE Orion > HSS Enrollment","Project Plan","FD02","Active","2025-01-02T03:05:22.697"]
[null,null,null,null,null,null,"PJCE-000001351_HS_Voucher","CE Orion > HS Voucher","PJCE-000001351_HS_Voucher-CE Orion > HS Voucher","Project Plan","FD02","Active","2025-01-02T03:05:22.697"]
[null,null,null,null,null,null,"PJCE-000001357_HS_Adjustment","CE Orion > HS Adjustment","PJCE-000001357_HS_Adjustment-CE Orion > HS Adjustment","Project Plan","FD02","Active","2025-01-02T03:05:22.766"]
[null,null,null,null,null,null,"PJCE-000001362_UN_Tutoring","CE Orion > UN Tutoring","PJCE-000001362_UN_Tutoring-CE Orion > UN Tutoring","Project Plan","FD02","Active","2025-01-02T03:05:22.732"]
[null,null,null,null,null,null,"PJCE-000001368_UN_Audit","CE Orion > UN Audit","PJCE-000001368_UN_Audit-CE Orion > UN Audit","Project Plan","FD02","Active","2025-01-02T03:05:22.766"]
[null,null,null,null,null,null,"PJCE-000001373_HSS_Access_Fee","CE Orion > HSS Access Fee","PJCE-000001373_HSS_Access_Fee-CE Orion > HSS Access Fee","Project Plan","FD02","Active","2025-01-02T03:05:22.732"]
[null,null,null,null,null,null,"PJCE-000001379_HS_Retake","CE Orion > HS Retake","PJCE-000001379_HS_Retake-CE Orion > HS Retake","Project Plan","FD02","Active","2025-01-02T03:05:22.800"]
[null,null,null,null,null,null,"PJCE-000001384_UN_Voucher","CE Orion > UN Voucher","PJCE-000001384_UN_Voucher-CE Orion > UN Voucher","Project Plan","FD02","Active","2025-01-02T03:05:22.834"]
[null,null,null,null,null,null,"PJCE-000001390_UN_Lesson_Resubmission","CE Orion > UN Lesson Resubmission","PJCE-000001390_UN_Lesson_Resubmission-CE Orion > UN Lesson Resubmission","Project Plan","FD02","Active","2025-01-02T03:05:22.732"]
[null,null,null,null,null,null,"PJCE-000001396","JACKSON HOLE MIDDLE SCHOOL BYU","PJCE-000001396-JACKSON HOLE MIDDLE SCHOOL BYU","Project","FD02","Active","2025-01-02T03:05:11.495"]
[null,null,null,null,null,null,"PJCE-000001401_HS_Shipping","CE Orion > HS Shipping","PJCE-000001401_HS_Shipping-CE Orion > HS Shipping","Project Plan","FD02","Active","2025-01-02T03:05:22.800"]
[null,null,null,null,null,null,"PJCE-000001407_HS_Extension","CE Orion > HS Extension","PJCE-000001407_HS_Extension-CE Orion > HS Extension","Project Plan","FD02","Active","2025-01-02T03:05:22.869"]
[null,null,null,null,null,null,"PJCE-000001412_UN_Processing_Fee","CE Orion > UN Processing Fee","PJCE-000001412_UN_Processing_Fee-CE Orion > UN Processing Fee","Project Plan","FD02","Active","2025-01-02T03:05:22.907"]
[null,null,null,null,null,null,"PJCE-000001418_Error","CE Orion > Error","PJCE-000001418_Error-CE Orion > Error","Project Plan","FD02","Active","2025-01-02T03:05:22.834"]
[null,null,null,null,null,null,"PJCE-000001425_HS_Extension","CE Orion > HS Extension","PJCE-000001425_HS_Extension-CE Orion > HS Extension","Project Plan","FD02","Active","2025-01-02T03:05:22.869"]
[null,null,null,null,null,null,"PJCE-000001429_HS_Extension","CE Orion > HS Extension","PJCE-000001429_HS_Extension-CE Orion > HS Extension","Project Plan","FD02","Active","2025-01-02T03:05:22.869"]
[null,null,null,null,null,null,"PJCE-000001435_HS_Adjustment","CE Orion > HS Adjustment","PJCE-000001435_HS_Adjustment-CE Orion > HS Adjustment","Project Plan","FD02","Active","2025-01-02T03:05:22.978"]
[null,null,null,null,null,null,"PJCE-000001440_UN_Course_Withdrawal","CE Orion > UN Course Withdrawal","PJCE-000001440_UN_Course_Withdrawal-CE Orion > UN Course Withdrawal","Project Plan","FD02","Active","2025-01-02T03:05:22.940"]
[null,null,null,null,null,null,"PJCE-000001445_HSS_License_Agreement","CE Orion > HSS License Agreement","PJCE-000001445_HSS_License_Agreement-CE Orion > HSS License Agreement","Project Plan","FD02","Active","2025-01-02T03:05:23.013"]
[null,null,null,null,null,null,"PJCE-000001451_HSS_Access_Fee","CE Orion > HSS Access Fee","PJCE-000001451_HSS_Access_Fee-CE Orion > HSS Access Fee","Project Plan","FD02","Active","2025-01-02T03:05:23.013"]
[null,null,null,null,null,null,"PJCE-000001457_HS_Course_Enrollment","CE Orion > HS Course Enrollment","PJCE-000001457_HS_Course_Enrollment-CE Orion > HS Course Enrollment","Project Plan","FD02","Active","2025-01-02T03:05:23.013"]
[null,null,null,null,null,null,"PJCE-000001462_UN_Credit","CE Orion > UN Credit","PJCE-000001462_UN_Credit-CE Orion > UN Credit","Project Plan","FD02","Active","2025-01-02T03:05:23.046"]
[null,null,null,null,null,null,"PJCE-000001468_UN_Course_Enrollment","CE Orion > UN Course Enrollment","PJCE-000001468_UN_Course_Enrollment-CE Orion > UN Course Enrollment","Project Plan","FD02","Active","2025-01-02T03:05:22.978"]
[null,null,null,null,null,null,"PJCE-000001473_HSS_Addl_Training","CE Orion > HSS Add'l Training","PJCE-000001473_HSS_Addl_Training-CE Orion > HSS Add'l Training","Project Plan","FD02","Active","2025-01-02T03:05:23.079"]
[null,null,null,null,null,null,"PJCE-000001479_HS_Shipping","CE Orion > HS Shipping","PJCE-000001479_HS_Shipping-CE Orion > HS Shipping","Project Plan","FD02","Active","2025-01-02T03:05:23.079"]
[null,null,null,null,null,null,"PJCE-000001485","KIOWA HIGH SCHOOL IHS","PJCE-000001485-KIOWA HIGH SCHOOL IHS","Project","FD02","Active","2025-01-02T03:05:11.495"]
[null,null,null,null,null,null,"PJCE-000001490_UN_Course_Extension","CE Orion > UN Course Extension","PJCE-000001490_UN_Course_Extension-CE Orion > UN Course Extension","Project Plan","FD02","Active","2025-01-02T03:05:23.046"]
[null,null,null,null,null,null,"PJCE-000001496_Error","CE Orion > Error","PJCE-000001496_Error-CE Orion > Error","Project Plan","FD02","Active","2025-01-02T03:05:23.113"]
[null,null,null,null,null,null,"PJCE-000001501_HS_Tutoring","CE Orion > HS Tutoring","PJCE-000001501_HS_Tutoring-CE Orion > HS Tutoring","Project Plan","FD02","Active","2025-01-02T03:05:23.155"]
[null,null,null,null,null,null,"PJCE-000001507_HS_Fee","CE Orion > HS Fee","PJCE-000001507_HS_Fee-CE Orion > HS Fee","Project Plan","FD02","Active","2025-01-02T03:05:23.190"]
[null,null,null,null,null,null,"PJCE-000001512_UN_Shipping","CE Orion > UN Shipping","PJCE-000001512_UN_Shipping-CE Orion > UN Shipping","Project Plan","FD02","Active","2025-01-02T03:05:23.079"]
[null,null,null,null,null,null,"PJCE-000001518_UN_Adjustment","CE Orion > UN Adjustment","PJCE-000001518_UN_Adjustment-CE Orion > UN Adjustment","Project Plan","FD02","Active","2025-01-02T03:05:23.223"]
[null,null,null,null,null,null,"PJCE-000001521_Error","CE Orion > Error","PJCE-000001521_Error-CE Orion > Error","Project Plan","FD02","Active","2025-01-02T03:05:23.223"]
[null,null,null,null,null,null,"PJCE-000001523_HSS_License_Agreement","CE Orion > HSS License Agreement","PJCE-000001523_HSS_License_Agreement-CE Orion > HSS License Agreement","Project Plan","FD02","Active","2025-01-02T03:05:23.190"]
[null,null,null,null,null,null,"PJCE-000001529_HS_Fee","CE Orion > HS Fee","PJCE-000001529_HS_Fee-CE Orion > HS Fee","Project Plan","FD02","Active","2025-01-02T03:05:23.258"]
[null,null,null,null,null,null,"PJCE-000001535_HS_Course_Enrollment","CE Orion > HS Course Enrollment","PJCE-000001535_HS_Course_Enrollment-CE Orion > HS Course Enrollment","Project Plan","FD02","Active","2025-01-02T03:05:23.258"]
[null,null,null,null,null,null,"PJCE-000001540_UN_Credit","CE Orion > UN Credit","PJCE-000001540_UN_Credit-CE Orion > UN Credit","Project Plan","FD02","Active","2025-01-02T03:05:23.258"]
[null,null,null,null,null,null,"PJCE-000001546_UN_Course_Enrollment","CE Orion > UN Course Enrollment","PJCE-000001546_UN_Course_Enrollment-CE Orion > UN Course Enrollment","Project Plan","FD02","Active","2025-01-02T03:05:23.223"]
[null,null,null,null,null,null,"PJCE-000001551_HSS_Addl_Training","CE Orion > HSS Add'l Training","PJCE-000001551_HSS_Addl_Training-CE Orion > HSS Add'l Training","Project Plan","FD02","Active","2025-01-02T03:05:23.258"]
[null,null,null,null,null,null,"PJCE-000001557_HS_Course_Materials","CE Orion > HS Course Materials","PJCE-000001557_HS_Course_Materials-CE Orion > HS Course Materials","Project Plan","FD02","Active","2025-01-02T03:05:23.291"]
[null,null,null,null,null,null,"PJCE-000001563","LEARNING FOUND & PERF ARTS-ALTA MESA IHS","PJCE-000001563-LEARNING FOUND & PERF ARTS-ALTA MESA IHS","Project","FD02","Active","2025-01-02T03:05:11.600"]
[null,null,null,null,null,null,"PJCE-000001568_UN_Course_Extension","CE Orion > UN Course Extension","PJCE-000001568_UN_Course_Extension-CE Orion > UN Course Extension","Project Plan","FD02","Active","2025-01-02T03:05:23.356"]
[null,null,null,null,null,null,"PJCE-000001573_HSS_Adjustment","CE Orion > HSS Adjustment","PJCE-000001573_HSS_Adjustment-CE Orion > HSS Adjustment","Project Plan","FD02","Active","2025-01-02T03:05:23.323"]
[null,null,null,null,null,null,"PJCE-000001579_HS_Tutoring","CE Orion > HS Tutoring","PJCE-000001579_HS_Tutoring-CE Orion > HS Tutoring","Project Plan","FD02","Active","2025-01-02T03:05:23.356"]
[null,null,null,null,null,null,"PJCE-000001585_Error","CE Orion > Error","PJCE-000001585_Error-CE Orion > Error","Project Plan","FD02","Active","2025-01-02T03:05:23.323"]
[null,null,null,null,null,null,"PJCE-000001590_UN_Shipping","CE Orion > UN Shipping","PJCE-000001590_UN_Shipping-CE Orion > UN Shipping","Project Plan","FD02","Active","2025-01-02T03:05:23.392"]
[null,null,null,null,null,null,"PJCE-000001596_UN_Adjustment","CE Orion > UN Adjustment","PJCE-000001596_UN_Adjustment-CE Orion > UN Adjustment","Project Plan","FD02","Active","2025-01-02T03:05:23.392"]
[null,null,null,null,null,null,"PJCE-000001601_HS_Voucher","CE Orion > HS Voucher","PJCE-000001601_HS_Voucher-CE Orion > HS Voucher","Project Plan","FD02","Active","2025-01-02T03:05:23.323"]
[null,null,null,null,null,null,"PJCE-000001607_HS_Resubmission","CE Orion > HS Resubmission","PJCE-000001607_HS_Resubmission-CE Orion > HS Resubmission","Project Plan","FD02","Active","2025-01-02T03:05:23.323"]
[null,null,null,null,null,null,"PJCE-000001615_Error","CE Orion > Error","PJCE-000001615_Error-CE Orion > Error","Project Plan","FD02","Active","2025-01-02T03:05:23.495"]
[null,null,null,null,null,null,"PJCE-000001618_UN_Credit","CE Orion > UN Credit","PJCE-000001618_UN_Credit-CE Orion > UN Credit","Project Plan","FD02","Active","2025-01-02T03:05:23.426"]
[null,null,null,null,null,null,"PJCE-000001623_HSS_Setup_&_Training","CE Orion > HSS Setup & Training","PJCE-000001623_HSS_Setup_&_Training-CE Orion > HSS Setup & Training","Project Plan","FD02","Active","2025-01-02T03:05:23.392"]
[null,null,null,null,null,null,"PJCE-000001629_HS_Resubmission","CE Orion > HS Resubmission","PJCE-000001629_HS_Resubmission-CE Orion > HS Resubmission","Project Plan","FD02","Active","2025-01-02T03:05:23.392"]
[null,null,null,null,null,null,"PJCE-000001635_HS_Course_Materials","CE Orion > HS Course Materials","PJCE-000001635_HS_Course_Materials-CE Orion > HS Course Materials","Project Plan","FD02","Active","2025-01-02T03:05:23.528"]
[null,null,null,null,null,null,"PJCE-000001640_UN_Exam_Retake","CE Orion > UN Exam Retake","PJCE-000001640_UN_Exam_Retake-CE Orion > UN Exam Retake","Project Plan","FD02","Active","2025-01-02T03:05:23.528"]
[null,null,null,null,null,null,"PJCE-000001645_HSS_Withdrawl","CE Orion > HSS Withdrawal","PJCE-000001645_HSS_Withdrawl-CE Orion > HSS Withdrawal","Project Plan","FD02","Active","2025-01-02T03:05:23.528"]
[null,null,null,null,null,null,"PJCE-000001651_HSS_Adjustment","CE Orion > HSS Adjustment","PJCE-000001651_HSS_Adjustment-CE Orion > HSS Adjustment","Project Plan","FD02","Active","2025-01-02T03:05:23.495"]
[null,null,null,null,null,null,"PJCE-000001657_HS_Course_Withdrawal","CE Orion > HS Course Withdrawal","PJCE-000001657_HS_Course_Withdrawal-CE Orion > HS Course Withdrawal","Project Plan","FD02","Active","2025-01-02T03:05:23.461"]
[null,null,null,null,null,null,"PJCE-000001663_Error","CE Orion > Error","PJCE-000001663_Error-CE Orion > Error","Project Plan","FD02","Active","2025-01-02T03:05:23.461"]
[null,null,null,null,null,null,"PJCE-000001668_UN_Course_Materials","CE Orion > UN Course Materials","PJCE-000001668_UN_Course_Materials-CE Orion > UN Course Materials","Project Plan","FD02","Active","2025-01-02T03:05:23.593"]
[null,null,null,null,null,null,"PJCE-000001673_HSS_Enrollment","CE Orion > HSS Enrollment","PJCE-000001673_HSS_Enrollment-CE Orion > HSS Enrollment","Project Plan","FD02","Active","2025-01-02T03:05:23.628"]
[null,null,null,null,null,null,"PJCE-000001679_HS_Voucher","CE Orion > HS Voucher","PJCE-000001679_HS_Voucher-CE Orion > HS Voucher","Project Plan","FD02","Active","2025-01-02T03:05:23.593"]
[null,null,null,null,null,null,"PJCE-000001685_HS_Adjustment","CE Orion > HS Adjustment","PJCE-000001685_HS_Adjustment-CE Orion > HS Adjustment","Project Plan","FD02","Active","2025-01-02T03:05:23.593"]
[null,null,null,null,null,null,"PJCE-000001690_UN_Tutoring","CE Orion > UN Tutoring","PJCE-000001690_UN_Tutoring-CE Orion > UN Tutoring","Project Plan","FD02","Active","2025-01-02T03:05:23.628"]
[null,null,null,null,null,null,"PJCE-000001696_UN_Audit","CE Orion > UN Audit","PJCE-000001696_UN_Audit-CE Orion > UN Audit","Project Plan","FD02","Active","2025-01-02T03:05:23.660"]
[null,null,null,null,null,null,"PJCE-000001701_HSS_Access_Fee","CE Orion > HSS Access Fee","PJCE-000001701_HSS_Access_Fee-CE Orion > HSS Access Fee","Project Plan","FD02","Active","2025-01-02T03:05:23.560"]
[null,null,null,null,null,null,"PJCE-000001707_HS_Retake","CE Orion > HS Retake","PJCE-000001707_HS_Retake-CE Orion > HS Retake","Project Plan","FD02","Active","2025-01-02T03:05:23.660"]
[null,null,null,null,null,null,"PJCE-000001710_UN_Processing_Fee","CE Orion > UN Processing Fee","PJCE-000001710_UN_Processing_Fee-CE Orion > UN Processing Fee","Project Plan","FD02","Active","2025-01-02T03:05:23.695"]
[null,null,null,null,null,null,"PJCE-000001718_UN_Audit","CE Orion > UN Audit","PJCE-000001718_UN_Audit-CE Orion > UN Audit","Project Plan","FD02","Active","2025-01-02T03:05:23.767"]
[null,null,null,null,null,null,"PJCE-000001723_HSS_Withdrawl","CE Orion > HSS Withdrawal","PJCE-000001723_HSS_Withdrawl-CE Orion > HSS Withdrawal","Project Plan","FD02","Active","2025-01-02T03:05:23.731"]
[null,null,null,null,null,null,"PJCE-000001729_HS_Retake","CE Orion > HS Retake","PJCE-000001729_HS_Retake-CE Orion > HS Retake","Project Plan","FD02","Active","2025-01-02T03:05:23.767"]
[null,null,null,null,null,null,"PJCE-000001735_HS_Course_Withdrawal","CE Orion > HS Course Withdrawal","PJCE-000001735_HS_Course_Withdrawal-CE Orion > HS Course Withdrawal","Project Plan","FD02","Active","2025-01-02T03:05:23.593"]
[null,null,null,null,null,null,"PJCE-000001740_UN_Lesson_Resubmission","CE Orion > UN Lesson Resubmission","PJCE-000001740_UN_Lesson_Resubmission-CE Orion > UN Lesson Resubmission","Project Plan","FD02","Active","2025-01-02T03:05:23.731"]
[null,null,null,null,null,null,"PJCE-000001746","Mead School District BYU","PJCE-000001746-Mead School District BYU","Project","FD02","Active","2025-01-02T03:05:11.705"]
[null,null,null,null,null,null,"PJCE-000001746_UN_Course_Materials","CE Orion > UN Course Materials","PJCE-000001746_UN_Course_Materials-CE Orion > UN Course Materials","Project Plan","FD02","Active","2025-01-02T03:05:23.731"]
[null,null,null,null,null,null,"PJCE-000001751_HSS_Enrollment","CE Orion > HSS Enrollment","PJCE-000001751_HSS_Enrollment-CE Orion > HSS Enrollment","Project Plan","FD02","Active","2025-01-02T03:05:23.806"]
[null,null,null,null,null,null,"PJCE-000001757_HS_Extension","CE Orion > HS Extension","PJCE-000001757_HS_Extension-CE Orion > HS Extension","Project Plan","FD02","Active","2025-01-02T03:05:23.843"]
[null,null,null,null,null,null,"PJCE-000001763_HS_Adjustment","CE Orion > HS Adjustment","PJCE-000001763_HS_Adjustment-CE Orion > HS Adjustment","Project Plan","FD02","Active","2025-01-02T03:05:23.921"]
[null,null,null,null,null,null,"PJCE-000001768_UN_Course_Withdrawal","CE Orion > UN Course Withdrawal","PJCE-000001768_UN_Course_Withdrawal-CE Orion > UN Course Withdrawal","Project Plan","FD02","Active","2025-01-02T03:05:23.767"]
[null,null,null,null,null,null,"PJCE-000001774_UN_Audit","CE Orion > UN Audit","PJCE-000001774_UN_Audit-CE Orion > UN Audit","Project Plan","FD02","Active","2025-01-02T03:05:23.883"]
[null,null,null,null,null,null,"PJCE-000001779_HSS_Access_Fee","CE Orion > HSS Access Fee","PJCE-000001779_HSS_Access_Fee-CE Orion > HSS Access Fee","Project Plan","FD02","Active","2025-01-02T03:05:23.767"]
[null,null,null,null,null,null,"PJCE-000001785_HS_Course_Enrollment","CE Orion > HS Course Enrollment","PJCE-000001785_HS_Course_Enrollment-CE Orion > HS Course Enrollment","Project Plan","FD02","Active","2025-01-02T03:05:23.957"]
[null,null,null,null,null,null,"PJCE-000001790_UN_Voucher","CE Orion > UN Voucher","PJCE-000001790_UN_Voucher-CE Orion > UN Voucher","Project Plan","FD02","Active","2025-01-02T03:05:23.957"]
[null,null,null,null,null,null,"PJCE-000001796_UN_Course_Enrollment","CE Orion > UN Course Enrollment","PJCE-000001796_UN_Course_Enrollment-CE Orion > UN Course Enrollment","Project Plan","FD02","Active","2025-01-02T03:05:23.957"]
[null,null,null,null,null,null,"PJCE-000001801_HSS_Addl_Training","CE Orion > HSS Add'l Training","PJCE-000001801_HSS_Addl_Training-CE Orion > HSS Add'l Training","Project Plan","FD02","Active","2025-01-02T03:05:23.806"]
[null,null,null,null,null,null,"PJCE-000001807_HS_Retake","CE Orion > HS Retake","PJCE-000001807_HS_Retake-CE Orion > HS Retake","Project Plan","FD02","Active","2025-01-02T03:05:23.999"]
[null,null,null,null,null,null,"PJCE-000001812_UN_Voucher","CE Orion > UN Voucher","PJCE-000001812_UN_Voucher-CE Orion > UN Voucher","Project Plan","FD02","Active","2025-01-02T03:05:24.036"]
[null,null,null,null,null,null,"PJCE-000001818_UN_Lesson_Resubmission","CE Orion > UN Lesson Resubmission","PJCE-000001818_UN_Lesson_Resubmission-CE Orion > UN Lesson Resubmission","Project Plan","FD02","Active","2025-01-02T03:05:23.957"]
[null,null,null,null,null,null,"PJCE-000001824","MISSION HIGH SCHOOL BYU","PJCE-000001824-MISSION HIGH SCHOOL BYU","Project","FD02","Active","2025-01-02T03:05:11.705"]
[null,null,null,null,null,null,"PJCE-000001829_HS_Shipping","CE Orion > HS Shipping","PJCE-000001829_HS_Shipping-CE Orion > HS Shipping","Project Plan","FD02","Active","2025-01-02T03:05:24.115"]
[null,null,null,null,null,null,"PJCE-000001835_HS_Extension","CE Orion > HS Extension","PJCE-000001835_HS_Extension-CE Orion > HS Extension","Project Plan","FD02","Active","2025-01-02T03:05:24.115"]
[null,null,null,null,null,null,"PJCE-000001840_UN_Processing_Fee","CE Orion > UN Processing Fee","PJCE-000001840_UN_Processing_Fee-CE Orion > UN Processing Fee","Project Plan","FD02","Active","2025-01-02T03:05:24.036"]
[null,null,null,null,null,null,"PJCE-000001846_UN_Course_Withdrawal","CE Orion > UN Course Withdrawal","PJCE-000001846_UN_Course_Withdrawal-CE Orion > UN Course Withdrawal","Project Plan","FD02","Active","2025-01-02T03:05:24.036"]
[null,null,null,null,null,null,"PJCE-000001851_HSS_License_Agreement","CE Orion > HSS License Agreement","PJCE-000001851_HSS_License_Agreement-CE Orion > HSS License Agreement","Project Plan","FD02","Active","2025-01-02T03:05:24.115"]
[null,null,null,null,null,null,"PJCE-000001857_HS_Fee","CE Orion > HS Fee","PJCE-000001857_HS_Fee-CE Orion > HS Fee","Project Plan","FD02","Active","2025-01-02T03:05:24.036"]
[null,null,null,null,null,null,"PJCE-000001863_HS_Course_Enrollment","CE Orion > HS Course Enrollment","PJCE-000001863_HS_Course_Enrollment-CE Orion > HS Course Enrollment","Project Plan","FD02","Active","2025-01-02T03:05:24.180"]
[null,null,null,null,null,null,"PJCE-000001868_UN_Credit","CE Orion > UN Credit","PJCE-000001868_UN_Credit-CE Orion > UN Credit","Project Plan","FD02","Active","2025-01-02T03:05:24.148"]
[null,null,null,null,null,null,"PJCE-000001874_UN_Course_Enrollment","CE Orion > UN Course Enrollment","PJCE-000001874_UN_Course_Enrollment-CE Orion > UN Course Enrollment","Project Plan","FD02","Active","2025-01-02T03:05:24.212"]
[null,null,null,null,null,null,"PJCE-000001879_HSS_Addl_Training","CE Orion > HSS Add'l Training","PJCE-000001879_HSS_Addl_Training-CE Orion > HSS Add'l Training","Project Plan","FD02","Active","2025-01-02T03:05:24.212"]
[null,null,null,null,null,null,"PJCE-000001885_HS_Course_Materials","CE Orion > HS Course Materials","PJCE-000001885_HS_Course_Materials-CE Orion > HS Course Materials","Project Plan","FD02","Active","2025-01-02T03:05:24.212"]
[null,null,null,null,null,null,"PJCE-000001891","Mountain Point Academy IHS","PJCE-000001891-Mountain Point Academy IHS","Project","FD02","Active","2025-01-02T03:05:11.705"]
[null,null,null,null,null,null,"PJCE-000001896_UN_Course_Extension","CE Orion > UN Course Extension","PJCE-000001896_UN_Course_Extension-CE Orion > UN Course Extension","Project Plan","FD02","Active","2025-01-02T03:05:24.180"]
[null,null,null,null,null,null,"PJCE-000001900_UN_Course_Materials","CE Orion > UN Course Materials","PJCE-000001900_UN_Course_Materials-CE Orion > UN Course Materials","Project Plan","FD02","Active","2025-01-02T03:05:24.148"]
[null,null,null,null,null,null,"PJCE-000001907_HS_Shipping","CE Orion > HS Shipping","PJCE-000001907_HS_Shipping-CE Orion > HS Shipping","Project Plan","FD02","Active","2025-01-02T03:05:24.244"]
[null,null,null,null,null,null,"PJCE-000001913","MUSKEGO HIGH SCHOOL IHS","PJCE-000001913-MUSKEGO HIGH SCHOOL IHS","Project","FD02","Active","2025-01-02T03:05:11.810"]
[null,null,null,null,null,null,"PJCE-000001918_UN_Processing_Fee","CE Orion > UN Processing Fee","PJCE-000001918_UN_Processing_Fee-CE Orion > UN Processing Fee","Project Plan","FD02","Active","2025-01-02T03:05:24.277"]
[null,null,null,null,null,null,"PJCE-000001924_Error","CE Orion > Error","PJCE-000001924_Error-CE Orion > Error","Project Plan","FD02","Active","2025-01-02T03:05:24.321"]
[null,null,null,null,null,null,"PJCE-000001929_HS_Tutoring","CE Orion > HS Tutoring","PJCE-000001929_HS_Tutoring-CE Orion > HS Tutoring","Project Plan","FD02","Active","2025-01-02T03:05:24.359"]
[null,null,null,null,null,null,"PJCE-000001935_HS_Fee","CE Orion > HS Fee","PJCE-000001935_HS_Fee-CE Orion > HS Fee","Project Plan","FD02","Active","2025-01-02T03:05:24.321"]
[null,null,null,null,null,null,"PJCE-000001940_UN_Shipping","CE Orion > UN Shipping","PJCE-000001940_UN_Shipping-CE Orion > UN Shipping","Project Plan","FD02","Active","2025-01-02T03:05:24.244"]
[null,null,null,null,null,null,"PJCE-000001946_UN_Adjustment","CE Orion > UN Adjustment","PJCE-000001946_UN_Adjustment-CE Orion > UN Adjustment","Project Plan","FD02","Active","2025-01-02T03:05:24.437"]
[null,null,null,null,null,null,"PJCE-000001951_HSS_Setup_&_Training","CE Orion > HSS Setup & Training","PJCE-000001951_HSS_Setup_&_Training-CE Orion > HSS Setup & Training","Project Plan","FD02","Active","2025-01-02T03:05:24.277"]
[null,null,null,null,null,null,"PJCE-000001957_HS_Resubmission","CE Orion > HS Resubmission","PJCE-000001957_HS_Resubmission-CE Orion > HS Resubmission","Project Plan","FD02","Active","2025-01-02T03:05:24.507"]
[null,null,null,null,null,null,"PJCE-000001963_HS_Course_Materials","CE Orion > HS Course Materials","PJCE-000001963_HS_Course_Materials-CE Orion > HS Course Materials","Project Plan","FD02","Active","2025-01-02T03:05:24.394"]
[null,null,null,null,null,null,"PJCE-000001968_UN_Exam_Retake","CE Orion > UN Exam Retake","PJCE-000001968_UN_Exam_Retake-CE Orion > UN Exam Retake","Project Plan","FD02","Active","2025-01-02T03:05:24.541"]
[null,null,null,null,null,null,"PJCE-000001973_HSS_Withdrawl","CE Orion > HSS Withdrawal","PJCE-000001973_HSS_Withdrawl-CE Orion > HSS Withdrawal","Project Plan","FD02","Active","2025-01-02T03:05:24.394"]
[null,null,null,null,null,null,"PJCE-000001974_UN_Course_Extension","CE Orion > UN Course Extension","PJCE-000001974_UN_Course_Extension-CE Orion > UN Course Extension","Project Plan","FD02","Active","2025-01-02T03:05:24.507"]
[null,null,null,null,null,null,"PJCE-000001979_HSS_Adjustment","CE Orion > HSS Adjustment","PJCE-000001979_HSS_Adjustment-CE Orion > HSS Adjustment","Project Plan","FD02","Active","2025-01-02T03:05:24.507"]
[null,null,null,null,null,null,"PJCE-000001985_HS_Tutoring","CE Orion > HS Tutoring","PJCE-000001985_HS_Tutoring-CE Orion > HS Tutoring","Project Plan","FD02","Active","2025-01-02T03:05:24.541"]
[null,null,null,null,null,null,"PJCE-000001991_HS_Retake","CE Orion > HS Retake","PJCE-000001991_HS_Retake-CE Orion > HS Retake","Project Plan","FD02","Active","2025-01-02T03:05:24.437"]
[null,null,null,null,null,null,"PJCE-000001996_UN_Course_Extension","CE Orion > UN Course Extension","PJCE-000001996_UN_Course_Extension-CE Orion > UN Course Extension","Project Plan","FD02","Active","2025-01-02T03:05:24.614"]
[null,null,null,null,null,null,"PJCE-000002002_Error","CE Orion > Error","PJCE-000002002_Error-CE Orion > Error","Project Plan","FD02","Active","2025-01-02T03:05:24.576"]
[null,null,null,null,null,null,"PJCE-000002007_HS_Tutoring","CE Orion > HS Tutoring","PJCE-000002007_HS_Tutoring-CE Orion > HS Tutoring","Project Plan","FD02","Active","2025-01-02T03:05:24.651"]
[null,null,null,null,null,null,"PJCE-000002013_Error","CE Orion > Error","PJCE-000002013_Error-CE Orion > Error","Project Plan","FD02","Active","2025-01-02T03:05:24.614"]
[null,null,null,null,null,null,"PJCE-000002018_UN_Shipping","CE Orion > UN Shipping","PJCE-000002018_UN_Shipping-CE Orion > UN Shipping","Project Plan","FD02","Active","2025-01-02T03:05:24.576"]
[null,null,null,null,null,null,"PJCE-000002024_UN_Adjustment","CE Orion > UN Adjustment","PJCE-000002024_UN_Adjustment-CE Orion > UN Adjustment","Project Plan","FD02","Active","2025-01-02T03:05:24.614"]
[null,null,null,null,null,null,"PJCE-000002029_HSS_Setup_&_Training","CE Orion > HSS Setup & Training","PJCE-000002029_HSS_Setup_&_Training-CE Orion > HSS Setup & Training","Project Plan","FD02","Active","2025-01-02T03:05:24.614"]
[null,null,null,null,null,null,"PJCE-000002035_HS_Resubmission","CE Orion > HS Resubmission","PJCE-000002035_HS_Resubmission-CE Orion > HS Resubmission","Project Plan","FD02","Active","2025-01-02T03:05:24.727"]
[null,null,null,null,null,null,"PJCE-000002040_UN_Tutoring","CE Orion > UN Tutoring","PJCE-000002040_UN_Tutoring-CE Orion > UN Tutoring","Project Plan","FD02","Active","2025-01-02T03:05:24.687"]
[null,null,null,null,null,null,"PJCE-000002046_UN_Exam_Retake","CE Orion > UN Exam Retake","PJCE-000002046_UN_Exam_Retake-CE Orion > UN Exam Retake","Project Plan","FD02","Active","2025-01-02T03:05:24.687"]
[null,null,null,null,null,null,"PJCE-000002051_HSS_Withdrawl","CE Orion > HSS Withdrawal","PJCE-000002051_HSS_Withdrawl-CE Orion > HSS Withdrawal","Project Plan","FD02","Active","2025-01-02T03:05:24.576"]
[null,null,null,null,null,null,"PJCE-000002057_HS_Retake","CE Orion > HS Retake","PJCE-000002057_HS_Retake-CE Orion > HS Retake","Project Plan","FD02","Active","2025-01-02T03:05:24.763"]
[null,null,null,null,null,null,"PJCE-000002063_HS_Course_Withdrawal","CE Orion > HS Course Withdrawal","PJCE-000002063_HS_Course_Withdrawal-CE Orion > HS Course Withdrawal","Project Plan","FD02","Active","2025-01-02T03:05:24.687"]
[null,null,null,null,null,null,"PJCE-000002068_UN_Lesson_Resubmission","CE Orion > UN Lesson Resubmission","PJCE-000002068_UN_Lesson_Resubmission-CE Orion > UN Lesson Resubmission","Project Plan","FD02","Active","2025-01-02T03:05:24.800"]
[null,null,null,null,null,null,"PJCE-000002074_UN_Course_Materials","CE Orion > UN Course Materials","PJCE-000002074_UN_Course_Materials-CE Orion > UN Course Materials","Project Plan","FD02","Active","2025-01-02T03:05:24.800"]
[null,null,null,null,null,null,"PJCE-000002079_HSS_Enrollment","CE Orion > HSS Enrollment","PJCE-000002079_HSS_Enrollment-CE Orion > HSS Enrollment","Project Plan","FD02","Active","2025-01-02T03:05:24.800"]
[null,null,null,null,null,null,"PJCE-000002085_HS_Extension","CE Orion > HS Extension","PJCE-000002085_HS_Extension-CE Orion > HS Extension","Project Plan","FD02","Active","2025-01-02T03:05:24.877"]
[null,null,null,null,null,null,"PJCE-000002092_UN_Credit","CE Orion > UN Credit","PJCE-000002092_UN_Credit-CE Orion > UN Credit","Project Plan","FD02","Active","2025-01-02T03:05:24.800"]
[null,null,null,null,null,null,"PJCE-000002096_UN_Course_Materials","CE Orion > UN Course Materials","PJCE-000002096_UN_Course_Materials-CE Orion > UN Course Materials","Project Plan","FD02","Active","2025-01-02T03:05:24.838"]
[null,null,null,null,null,null,"PJCE-000002102_UN_Adjustment","CE Orion > UN Adjustment","PJCE-000002102_UN_Adjustment-CE Orion > UN Adjustment","Project Plan","FD02","Active","2025-01-02T03:05:24.800"]
[null,null,null,null,null,null,"PJCE-000002107_HS_Voucher","CE Orion > HS Voucher","PJCE-000002107_HS_Voucher-CE Orion > HS Voucher","Project Plan","FD02","Active","2025-01-02T03:05:24.838"]
[null,null,null,null,null,null,"PJCE-000002113_HS_Adjustment","CE Orion > HS Adjustment","PJCE-000002113_HS_Adjustment-CE Orion > HS Adjustment","Project Plan","FD02","Active","2025-01-02T03:05:24.916"]
[null,null,null,null,null,null,"PJCE-000002118_UN_Tutoring","CE Orion > UN Tutoring","PJCE-000002118_UN_Tutoring-CE Orion > UN Tutoring","Project Plan","FD02","Active","2025-01-02T03:05:24.959"]
[null,null,null,null,null,null,"PJCE-000002124_UN_Audit","CE Orion > UN Audit","PJCE-000002124_UN_Audit-CE Orion > UN Audit","Project Plan","FD02","Active","2025-01-02T03:05:24.993"]
[null,null,null,null,null,null,"PJCE-000002129_HSS_Access_Fee","CE Orion > HSS Access Fee","PJCE-000002129_HSS_Access_Fee-CE Orion > HSS Access Fee","Project Plan","FD02","Active","2025-01-02T03:05:24.959"]
[null,null,null,null,null,null,"PJCE-000002135_HS_Retake","CE Orion > HS Retake","PJCE-000002135_HS_Retake-CE Orion > HS Retake","Project Plan","FD02","Active","2025-01-02T03:05:24.959"]
[null,null,null,null,null,null,"PJCE-000002140_UN_Voucher","CE Orion > UN Voucher","PJCE-000002140_UN_Voucher-CE Orion > UN Voucher","Project Plan","FD02","Active","2025-01-02T03:05:24.959"]
[null,null,null,null,null,null,"PJCE-000002146_UN_Lesson_Resubmission","CE Orion > UN Lesson Resubmission","PJCE-000002146_UN_Lesson_Resubmission-CE Orion > UN Lesson Resubmission","Project Plan","FD02","Active","2025-01-02T03:05:25.073"]
[null,null,null,null,null,null,"PJCE-000002152","PACIFIC ACADEMY BYU","PJCE-000002152-PACIFIC ACADEMY BYU","Project","FD02","Active","2025-01-02T03:05:11.810"]
[null,null,null,null,null,null,"PJCE-000002157_HS_Shipping","CE Orion > HS Shipping","PJCE-000002157_HS_Shipping-CE Orion > HS Shipping","Project Plan","FD02","Active","2025-01-02T03:05:25.036"]
[null,null,null,null,null,null,"PJCE-000002163_HS_Extension","CE Orion > HS Extension","PJCE-000002163_HS_Extension-CE Orion > HS Extension","Project Plan","FD02","Active","2025-01-02T03:05:24.993"]
[null,null,null,null,null,null,"PJCE-000002168_UN_Processing_Fee","CE Orion > UN Processing Fee","PJCE-000002168_UN_Processing_Fee-CE Orion > UN Processing Fee","Project Plan","FD02","Active","2025-01-02T03:05:25.108"]
[null,null,null,null,null,null,"PJCE-000002174_UN_Course_Withdrawal","CE Orion > UN Course Withdrawal","PJCE-000002174_UN_Course_Withdrawal-CE Orion > UN Course Withdrawal","Project Plan","FD02","Active","2025-01-02T03:05:25.073"]
[null,null,null,null,null,null,"PJCE-000002179_HSS_License_Agreement","CE Orion > HSS License Agreement","PJCE-000002179_HSS_License_Agreement-CE Orion > HSS License Agreement","Project Plan","FD02","Active","2025-01-02T03:05:25.141"]
[null,null,null,null,null,null,"PJCE-000002181_HS_Course_Materials","CE Orion > HS Course Materials","PJCE-000002181_HS_Course_Materials-CE Orion > HS Course Materials","Project Plan","FD02","Active","2025-01-02T03:05:25.141"]
[null,null,null,null,null,null,"PJCE-000002191_HS_Adjustment","CE Orion > HS Adjustment","PJCE-000002191_HS_Adjustment-CE Orion > HS Adjustment","Project Plan","FD02","Active","2025-01-02T03:05:25.176"]
[null,null,null,null,null,null,"PJCE-000002196_UN_Course_Withdrawal","CE Orion > UN Course Withdrawal","PJCE-000002196_UN_Course_Withdrawal-CE Orion > UN Course Withdrawal","Project Plan","FD02","Active","2025-01-02T03:05:25.176"]
[null,null,null,null,null,null,"PJCE-000002201_HSS_License_Agreement","CE Orion > HSS License Agreement","PJCE-000002201_HSS_License_Agreement-CE Orion > HSS License Agreement","Project Plan","FD02","Active","2025-01-02T03:05:25.208"]
[null,null,null,null,null,null,"PJCE-000002202_UN_Audit","CE Orion > UN Audit","PJCE-000002202_UN_Audit-CE Orion > UN Audit","Project Plan","FD02","Active","2025-01-02T03:05:25.176"]
[null,null,null,null,null,null,"PJCE-000002207_HSS_Access_Fee","CE Orion > HSS Access Fee","PJCE-000002207_HSS_Access_Fee-CE Orion > HSS Access Fee","Project Plan","FD02","Active","2025-01-02T03:05:25.208"]
[null,null,null,null,null,null,"PJCE-000002213_HS_Retake","CE Orion > HS Retake","PJCE-000002213_HS_Retake-CE Orion > HS Retake","Project Plan","FD02","Active","2025-01-02T03:05:25.108"]
[null,null,null,null,null,null,"PJCE-000002218_UN_Voucher","CE Orion > UN Voucher","PJCE-000002218_UN_Voucher-CE Orion > UN Voucher","Project Plan","FD02","Active","2025-01-02T03:05:25.108"]
[null,null,null,null,null,null,"PJCE-000002224_UN_Course_Enrollment","CE Orion > UN Course Enrollment","PJCE-000002224_UN_Course_Enrollment-CE Orion > UN Course Enrollment","Project Plan","FD02","Active","2025-01-02T03:05:25.176"]
[null,null,null,null,null,null,"PJCE-000002230","Petersburg School District BYU","PJCE-000002230-Petersburg School District BYU","Project","FD02","Active","2025-01-02T03:05:11.885"]
[null,null,null,null,null,null,"PJCE-000002235_HS_Shipping","CE Orion > HS Shipping","PJCE-000002235_HS_Shipping-CE Orion > HS Shipping","Project Plan","FD02","Active","2025-01-02T03:05:25.242"]
[null,null,null,null,null,null,"PJCE-000002241","PIONEER HS FOR THE PERFORMING ARTS IHS","PJCE-000002241-PIONEER HS FOR THE PERFORMING ARTS IHS","Project","FD02","Active","2025-01-02T03:05:11.885"]
[null,null,null,null,null,null,"PJCE-000002246_UN_Processing_Fee","CE Orion > UN Processing Fee","PJCE-000002246_UN_Processing_Fee-CE Orion > UN Processing Fee","Project Plan","FD02","Active","2025-01-02T03:05:25.310"]
[null,null,null,null,null,null,"PJCE-000002252_Error","CE Orion > Error","PJCE-000002252_Error-CE Orion > Error","Project Plan","FD02","Active","2025-01-02T03:05:25.343"]
[null,null,null,null,null,null,"PJCE-000002257_HSS_License_Agreement","CE Orion > HSS License Agreement","PJCE-000002257_HSS_License_Agreement-CE Orion > HSS License Agreement","Project Plan","FD02","Active","2025-01-02T03:05:25.275"]
[null,null,null,null,null,null,"PJCE-000002263_HS_Fee","CE Orion > HS Fee","PJCE-000002263_HS_Fee-CE Orion > HS Fee","Project Plan","FD02","Active","2025-01-02T03:05:25.343"]
[null,null,null,null,null,null,"PJCE-000002268_UN_Shipping","CE Orion > UN Shipping","PJCE-000002268_UN_Shipping-CE Orion > UN Shipping","Project Plan","FD02","Active","2025-01-02T03:05:25.310"]
[null,null,null,null,null,null,"PJCE-000002274_UN_Credit","CE Orion > UN Credit","PJCE-000002274_UN_Credit-CE Orion > UN Credit","Project Plan","FD02","Active","2025-01-02T03:05:25.377"]
[null,null,null,null,null,null,"PJCE-000002282_UN_Audit","CE Orion > UN Audit","PJCE-000002282_UN_Audit-CE Orion > UN Audit","Project Plan","FD02","Active","2025-01-02T03:05:25.377"]
[null,null,null,null,null,null,"PJCE-000002285_HSS_Access_Fee","CE Orion > HSS Access Fee","PJCE-000002285_HSS_Access_Fee-CE Orion > HSS Access Fee","Project Plan","FD02","Active","2025-01-02T03:05:25.377"]
[null,null,null,null,null,null,"PJCE-000002291_HS_Course_Enrollment","CE Orion > HS Course Enrollment","PJCE-000002291_HS_Course_Enrollment-CE Orion > HS Course Enrollment","Project Plan","FD02","Active","2025-01-02T03:05:25.377"]
[null,null,null,null,null,null,"PJCE-000002296_UN_Credit","CE Orion > UN Credit","PJCE-000002296_UN_Credit-CE Orion > UN Credit","Project Plan","FD02","Active","2025-01-02T03:05:25.449"]
[null,null,null,null,null,null,"PJCE-000002302_UN_Course_Enrollment","CE Orion > UN Course Enrollment","PJCE-000002302_UN_Course_Enrollment-CE Orion > UN Course Enrollment","Project Plan","FD02","Active","2025-01-02T03:05:25.414"]
[null,null,null,null,null,null,"PJCE-000002307_HSS_Addl_Training","CE Orion > HSS Add'l Training","PJCE-000002307_HSS_Addl_Training-CE Orion > HSS Add'l Training","Project Plan","FD02","Active","2025-01-02T03:05:25.449"]
[null,null,null,null,null,null,"PJCE-000002313_HS_Course_Materials","CE Orion > HS Course Materials","PJCE-000002313_HS_Course_Materials-CE Orion > HS Course Materials","Project Plan","FD02","Active","2025-01-02T03:05:25.522"]
[null,null,null,null,null,null,"PJCE-000002319","Provo School District / Publish Anywhere IHS","PJCE-000002319-Provo School District / Publish Anywhere IHS","Project","FD02","Active","2025-01-02T03:05:11.937"]
[null,null,null,null,null,null,"PJCE-000002324_UN_Course_Extension","CE Orion > UN Course Extension","PJCE-000002324_UN_Course_Extension-CE Orion > UN Course Extension","Project Plan","FD02","Active","2025-01-02T03:05:25.557"]
[null,null,null,null,null,null,"PJCE-000002330_Error","CE Orion > Error","PJCE-000002330_Error-CE Orion > Error","Project Plan","FD02","Active","2025-01-02T03:05:25.557"]
[null,null,null,null,null,null,"PJCE-000002335_HS_Tutoring","CE Orion > HS Tutoring","PJCE-000002335_HS_Tutoring-CE Orion > HS Tutoring","Project Plan","FD02","Active","2025-01-02T03:05:25.449"]
[null,null,null,null,null,null,"PJCE-000002341_Error","CE Orion > Error","PJCE-000002341_Error-CE Orion > Error","Project Plan","FD02","Active","2025-01-02T03:05:25.557"]
[null,null,null,null,null,null,"PJCE-000002346_UN_Shipping","CE Orion > UN Shipping","PJCE-000002346_UN_Shipping-CE Orion > UN Shipping","Project Plan","FD02","Active","2025-01-02T03:05:25.487"]
[null,null,null,null,null,null,"PJCE-000002352_UN_Adjustment","CE Orion > UN Adjustment","PJCE-000002352_UN_Adjustment-CE Orion > UN Adjustment","Project Plan","FD02","Active","2025-01-02T03:05:25.636"]
[null,null,null,null,null,null,"PJCE-000002357_HS_Voucher","CE Orion > HS Voucher","PJCE-000002357_HS_Voucher-CE Orion > HS Voucher","Project Plan","FD02","Active","2025-01-02T03:05:25.593"]
[null,null,null,null,null,null,"PJCE-000002363_HS_Resubmission","CE Orion > HS Resubmission","PJCE-000002363_HS_Resubmission-CE Orion > HS Resubmission","Project Plan","FD02","Active","2025-01-02T03:05:25.689"]
[null,null,null,null,null,null,"PJCE-000002368_UN_Tutoring","CE Orion > UN Tutoring","PJCE-000002368_UN_Tutoring-CE Orion > UN Tutoring","Project Plan","FD02","Active","2025-01-02T03:05:25.593"]
[null,null,null,null,null,null,"PJCE-000002374_UN_Exam_Retake","CE Orion > UN Exam Retake","PJCE-000002374_UN_Exam_Retake-CE Orion > UN Exam Retake","Project Plan","FD02","Active","2025-01-02T03:05:25.723"]
[null,null,null,null,null,null,"PJCE-000002377_HSS_Setup_&_Training","CE Orion > HSS Setup & Training","PJCE-000002377_HSS_Setup_&_Training-CE Orion > HSS Setup & Training","Project Plan","FD02","Active","2025-01-02T03:05:25.723"]
[null,null,null,null,null,null,"PJCE-000002385_HS_Resubmission","CE Orion > HS Resubmission","PJCE-000002385_HS_Resubmission-CE Orion > HS Resubmission","Project Plan","FD02","Active","2025-01-02T03:05:25.723"]
[null,null,null,null,null,null,"PJCE-000002391_HS_Course_Materials","CE Orion > HS Course Materials","PJCE-000002391_HS_Course_Materials-CE Orion > HS Course Materials","Project Plan","FD02","Active","2025-01-02T03:05:25.593"]
[null,null,null,null,null,null,"PJCE-000002396_UN_Exam_Retake","CE Orion > UN Exam Retake","PJCE-000002396_UN_Exam_Retake-CE Orion > UN Exam Retake","Project Plan","FD02","Active","2025-01-02T03:05:25.757"]
[null,null,null,null,null,null,"PJCE-000002402_UN_Course_Extension","CE Orion > UN Course Extension","PJCE-000002402_UN_Course_Extension-CE Orion > UN Course Extension","Project Plan","FD02","Active","2025-01-02T03:05:25.789"]
[null,null,null,null,null,null,"PJCE-000002407_HSS_Adjustment","CE Orion > HSS Adjustment","PJCE-000002407_HSS_Adjustment-CE Orion > HSS Adjustment","Project Plan","FD02","Active","2025-01-02T03:05:25.757"]
[null,null,null,null,null,null,"PJCE-000002413_HS_Course_Withdrawal","CE Orion > HS Course Withdrawal","PJCE-000002413_HS_Course_Withdrawal-CE Orion > HS Course Withdrawal","Project Plan","FD02","Active","2025-01-02T03:05:25.789"]
[null,null,null,null,null,null,"PJCE-000002419_Error","CE Orion > Error","PJCE-000002419_Error-CE Orion > Error","Project Plan","FD02","Active","2025-01-02T03:05:25.789"]
[null,null,null,null,null,null,"PJCE-000002424_UN_Course_Materials","CE Orion > UN Course Materials","PJCE-000002424_UN_Course_Materials-CE Orion > UN Course Materials","Project Plan","FD02","Active","2025-01-02T03:05:25.827"]
[null,null,null,null,null,null,"PJCE-000002429_HSS_Enrollment","CE Orion > HSS Enrollment","PJCE-000002429_HSS_Enrollment-CE Orion > HSS Enrollment","Project Plan","FD02","Active","2025-01-02T03:05:25.862"]
[null,null,null,null,null,null,"PJCE-000002430_UN_Adjustment","CE Orion > UN Adjustment","PJCE-000002430_UN_Adjustment-CE Orion > UN Adjustment","Project Plan","FD02","Active","2025-01-02T03:05:25.862"]
[null,null,null,null,null,null,"PJCE-000002435_HS_Voucher","CE Orion > HS Voucher","PJCE-000002435_HS_Voucher-CE Orion > HS Voucher","Project Plan","FD02","Active","2025-01-02T03:05:25.896"]
[null,null,null,null,null,null,"PJCE-000002441_HS_Resubmission","CE Orion > HS Resubmission","PJCE-000002441_HS_Resubmission-CE Orion > HS Resubmission","Project Plan","FD02","Active","2025-01-02T03:05:25.862"]
[null,null,null,null,null,null,"PJCE-000002446_UN_Tutoring","CE Orion > UN Tutoring","PJCE-000002446_UN_Tutoring-CE Orion > UN Tutoring","Project Plan","FD02","Active","2025-01-02T03:05:25.827"]
[null,null,null,null,null,null,"PJCE-000002452_UN_Audit","CE Orion > UN Audit","PJCE-000002452_UN_Audit-CE Orion > UN Audit","Project Plan","FD02","Active","2025-01-02T03:05:25.896"]
[null,null,null,null,null,null,"PJCE-000002457_HSS_Withdrawl","CE Orion > HSS Withdrawal","PJCE-000002457_HSS_Withdrawl-CE Orion > HSS Withdrawal","Project Plan","FD02","Active","2025-01-02T03:05:25.932"]
[null,null,null,null,null,null,"PJCE-000002463_HS_Retake","CE Orion > HS Retake","PJCE-000002463_HS_Retake-CE Orion > HS Retake","Project Plan","FD02","Active","2025-01-02T03:05:25.827"]
[null,null,null,null,null,null,"PJCE-000002469_Error","CE Orion > Error","PJCE-000002469_Error-CE Orion > Error","Project Plan","FD02","Active","2025-01-02T03:05:25.966"]
[null,null,null,null,null,null,"PJCE-000002474_UN_Exam_Retake","CE Orion > UN Exam Retake","PJCE-000002474_UN_Exam_Retake-CE Orion > UN Exam Retake","Project Plan","FD02","Active","2025-01-02T03:05:25.932"]
[null,null,null,null,null,null,"PJCE-000002479_HSS_Withdrawl","CE Orion > HSS Withdrawal","PJCE-000002479_HSS_Withdrawl-CE Orion > HSS Withdrawal","Project Plan","FD02","Active","2025-01-02T03:05:25.896"]
[null,null,null,null,null,null,"PJCE-000002485_HSS_Adjustment","CE Orion > HSS Adjustment","PJCE-000002485_HSS_Adjustment-CE Orion > HSS Adjustment","Project Plan","FD02","Active","2025-01-02T03:05:25.999"]
[null,null,null,null,null,null,"PJCE-000002491_HS_Course_Withdrawal","CE Orion > HS Course Withdrawal","PJCE-000002491_HS_Course_Withdrawal-CE Orion > HS Course Withdrawal","Project Plan","FD02","Active","2025-01-02T03:05:26.032"]
[null,null,null,null,null,null,"PJCE-000002496_UN_Lesson_Resubmission","CE Orion > UN Lesson Resubmission","PJCE-000002496_UN_Lesson_Resubmission-CE Orion > UN Lesson Resubmission","Project Plan","FD02","Active","2025-01-02T03:05:25.999"]
[null,null,null,null,null,null,"PJCE-000002502_UN_Course_Materials","CE Orion > UN Course Materials","PJCE-000002502_UN_Course_Materials-CE Orion > UN Course Materials","Project Plan","FD02","Active","2025-01-02T03:05:26.032"]
[null,null,null,null,null,null,"PJCE-000002507_HSS_Enrollment","CE Orion > HSS Enrollment","PJCE-000002507_HSS_Enrollment-CE Orion > HSS Enrollment","Project Plan","FD02","Active","2025-01-02T03:05:26.065"]
[null,null,null,null,null,null,"PJCE-000002513_HS_Voucher","CE Orion > HS Voucher","PJCE-000002513_HS_Voucher-CE Orion > HS Voucher","Project Plan","FD02","Active","2025-01-02T03:05:25.999"]
[null,null,null,null,null,null,"PJCE-000002519_HS_Adjustment","CE Orion > HS Adjustment","PJCE-000002519_HS_Adjustment-CE Orion > HS Adjustment","Project Plan","FD02","Active","2025-01-02T03:05:25.966"]
[null,null,null,null,null,null,"PJCE-000002524_UN_Course_Withdrawal","CE Orion > UN Course Withdrawal","PJCE-000002524_UN_Course_Withdrawal-CE Orion > UN Course Withdrawal","Project Plan","FD02","Active","2025-01-02T03:05:25.999"]
[null,null,null,null,null,null,"PJCE-000002530_UN_Audit","CE Orion > UN Audit","PJCE-000002530_UN_Audit-CE Orion > UN Audit","Project Plan","FD02","Active","2025-01-02T03:05:26.131"]
[null,null,null,null,null,null,"PJCE-000002535_HSS_Access_Fee","CE Orion > HSS Access Fee","PJCE-000002535_HSS_Access_Fee-CE Orion > HSS Access Fee","Project Plan","FD02","Active","2025-01-02T03:05:26.131"]
[null,null,null,null,null,null,"PJCE-000002541_HS_Course_Enrollment","CE Orion > HS Course Enrollment","PJCE-000002541_HS_Course_Enrollment-CE Orion > HS Course Enrollment","Project Plan","FD02","Active","2025-01-02T03:05:26.098"]
[null,null,null,null,null,null,"PJCE-000002546_UN_Voucher","CE Orion > UN Voucher","PJCE-000002546_UN_Voucher-CE Orion > UN Voucher","Project Plan","FD02","Active","2025-01-02T03:05:26.202"]
[null,null,null,null,null,null,"PJCE-000002552_UN_Course_Enrollment","CE Orion > UN Course Enrollment","PJCE-000002552_UN_Course_Enrollment-CE Orion > UN Course Enrollment","Project Plan","FD02","Active","2025-01-02T03:05:26.098"]
[null,null,null,null,null,null,"PJCE-000002558","SD OF KOHLER-KOHLER PUBLIC SCHOOLS BYU","PJCE-000002558-SD OF KOHLER-KOHLER PUBLIC SCHOOLS BYU","Project","FD02","Active","2025-01-02T03:05:11.979"]
[null,null,null,null,null,null,"PJCE-000002563_HS_Shipping","CE Orion > HS Shipping","PJCE-000002563_HS_Shipping-CE Orion > HS Shipping","Project Plan","FD02","Active","2025-01-02T03:05:26.098"]
[null,null,null,null,null,null,"PJCE-000002567_HSS_Access_Fee","CE Orion > HSS Access Fee","PJCE-000002567_HSS_Access_Fee-CE Orion > HSS Access Fee","Project Plan","FD02","Active","2025-01-02T03:05:26.131"]
[null,null,null,null,null,null,"PJCE-000002574_UN_Lesson_Resubmission","CE Orion > UN Lesson Resubmission","PJCE-000002574_UN_Lesson_Resubmission-CE Orion > UN Lesson Resubmission","Project Plan","FD02","Active","2025-01-02T03:05:26.131"]
[null,null,null,null,null,null,"PJCE-000002580","Shelley Work-Based Academy BYU","PJCE-000002580-Shelley Work-Based Academy BYU","Project","FD02","Active","2025-01-02T03:05:11.979"]
[null,null,null,null,null,null,"PJCE-000002585_HSS_Enrollment","CE Orion > HSS Enrollment","PJCE-000002585_HSS_Enrollment-CE Orion > HSS Enrollment","Project Plan","FD02","Active","2025-01-02T03:05:26.267"]
[null,null,null,null,null,null,"PJCE-000002591_HS_Extension","CE Orion > HS Extension","PJCE-000002591_HS_Extension-CE Orion > HS Extension","Project Plan","FD02","Active","2025-01-02T03:05:26.235"]
[null,null,null,null,null,null,"PJCE-000002596_UN_Processing_Fee","CE Orion > UN Processing Fee","PJCE-000002596_UN_Processing_Fee-CE Orion > UN Processing Fee","Project Plan","FD02","Active","2025-01-02T03:05:26.267"]
[null,null,null,null,null,null,"PJCE-000002602_UN_Course_Withdrawal","CE Orion > UN Course Withdrawal","PJCE-000002602_UN_Course_Withdrawal-CE Orion > UN Course Withdrawal","Project Plan","FD02","Active","2025-01-02T03:05:26.300"]
[null,null,null,null,null,null,"PJCE-000002607_HSS_License_Agreement","CE Orion > HSS License Agreement","PJCE-000002607_HSS_License_Agreement-CE Orion > HSS License Agreement","Project Plan","FD02","Active","2025-01-02T03:05:26.267"]
[null,null,null,null,null,null,"PJCE-000002613_HS_Fee","CE Orion > HS Fee","PJCE-000002613_HS_Fee-CE Orion > HS Fee","Project Plan","FD02","Active","2025-01-02T03:05:26.333"]
[null,null,null,null,null,null,"PJCE-000002619_HS_Course_Enrollment","CE Orion > HS Course Enrollment","PJCE-000002619_HS_Course_Enrollment-CE Orion > HS Course Enrollment","Project Plan","FD02","Active","2025-01-02T03:05:26.333"]
[null,null,null,null,null,null,"PJCE-000002624_UN_Credit","CE Orion > UN Credit","PJCE-000002624_UN_Credit-CE Orion > UN Credit","Project Plan","FD02","Active","2025-01-02T03:05:26.333"]
[null,null,null,null,null,null,"PJCE-000002630_UN_Course_Enrollment","CE Orion > UN Course Enrollment","PJCE-000002630_UN_Course_Enrollment-CE Orion > UN Course Enrollment","Project Plan","FD02","Active","2025-01-02T03:05:26.367"]
[null,null,null,null,null,null,"PJCE-000002635_HSS_Addl_Training","CE Orion > HSS Add'l Training","PJCE-000002635_HSS_Addl_Training-CE Orion > HSS Add'l Training","Project Plan","FD02","Active","2025-01-02T03:05:26.367"]
[null,null,null,null,null,null,"PJCE-000002641_HS_Course_Materials","CE Orion > HS Course Materials","PJCE-000002641_HS_Course_Materials-CE Orion > HS Course Materials","Project Plan","FD02","Active","2025-01-02T03:05:26.446"]
[null,null,null,null,null,null,"PJCE-000002647","Somerset Academy-Skye Canyon IHS","PJCE-000002647-Somerset Academy-Skye Canyon IHS","Project","FD02","Active","2025-01-02T03:05:11.979"]
[null,null,null,null,null,null,"PJCE-000002652_UN_Course_Extension","CE Orion > UN Course Extension","PJCE-000002652_UN_Course_Extension-CE Orion > UN Course Extension","Project Plan","FD02","Active","2025-01-02T03:05:26.403"]
[null,null,null,null,null,null,"PJCE-000002652_UN_Processing_Fee","CE Orion > UN Processing Fee","PJCE-000002652_UN_Processing_Fee-CE Orion > UN Processing Fee","Project Plan","FD02","Active","2025-01-02T03:05:26.403"]
[null,null,null,null,null,null,"PJCE-000002658_UN_Processing_Fee","CE Orion > UN Processing Fee","PJCE-000002658_UN_Processing_Fee-CE Orion > UN Processing Fee","Project Plan","FD02","Active","2025-01-02T03:05:26.367"]
[null,null,null,null,null,null,"PJCE-000002663_HS_Shipping","CE Orion > HS Shipping","PJCE-000002663_HS_Shipping-CE Orion > HS Shipping","Project Plan","FD02","Active","2025-01-02T03:05:26.518"]
[null,null,null,null,null,null,"PJCE-000002669_HS_Extension","CE Orion > HS Extension","PJCE-000002669_HS_Extension-CE Orion > HS Extension","Project Plan","FD02","Active","2025-01-02T03:05:26.484"]
[null,null,null,null,null,null,"PJCE-000002674_UN_Processing_Fee","CE Orion > UN Processing Fee","PJCE-000002674_UN_Processing_Fee-CE Orion > UN Processing Fee","Project Plan","FD02","Active","2025-01-02T03:05:26.403"]
[null,null,null,null,null,null,"PJCE-000002680_Error","CE Orion > Error","PJCE-000002680_Error-CE Orion > Error","Project Plan","FD02","Active","2025-01-02T03:05:26.518"]
[null,null,null,null,null,null,"PJCE-000002685_HSS_License_Agreement","CE Orion > HSS License Agreement","PJCE-000002685_HSS_License_Agreement-CE Orion > HSS License Agreement","Project Plan","FD02","Active","2025-01-02T03:05:26.550"]
[null,null,null,null,null,null,"PJCE-000002691_HS_Fee","CE Orion > HS Fee","PJCE-000002691_HS_Fee-CE Orion > HS Fee","Project Plan","FD02","Active","2025-01-02T03:05:26.550"]
[null,null,null,null,null,null,"PJCE-000002697_HS_Course_Enrollment","CE Orion > HS Course Enrollment","PJCE-000002697_HS_Course_Enrollment-CE Orion > HS Course Enrollment","Project Plan","FD02","Active","2025-01-02T03:05:26.518"]
[null,null,null,null,null,null,"PJCE-000002702_UN_Credit","CE Orion > UN Credit","PJCE-000002702_UN_Credit-CE Orion > UN Credit","Project Plan","FD02","Active","2025-01-02T03:05:26.518"]
[null,null,null,null,null,null,"PJCE-000002707_HSS_Setup_&_Training","CE Orion > HSS Setup & Training","PJCE-000002707_HSS_Setup_&_Training-CE Orion > HSS Setup & Training","Project Plan","FD02","Active","2025-01-02T03:05:26.615"]
[null,null,null,null,null,null,"PJCE-000002713_HSS_Addl_Training","CE Orion > HSS Add'l Training","PJCE-000002713_HSS_Addl_Training-CE Orion > HSS Add'l Training","Project Plan","FD02","Active","2025-01-02T03:05:26.615"]
[null,null,null,null,null,null,"PJCE-000002719_HS_Course_Materials","CE Orion > HS Course Materials","PJCE-000002719_HS_Course_Materials-CE Orion > HS Course Materials","Project Plan","FD02","Active","2025-01-02T03:05:26.650"]
[null,null,null,null,null,null,"PJCE-000002724_UN_Exam_Retake","CE Orion > UN Exam Retake","PJCE-000002724_UN_Exam_Retake-CE Orion > UN Exam Retake","Project Plan","FD02","Active","2025-01-02T03:05:26.615"]
[null,null,null,null,null,null,"PJCE-000002730_UN_Course_Extension","CE Orion > UN Course Extension","PJCE-000002730_UN_Course_Extension-CE Orion > UN Course Extension","Project Plan","FD02","Active","2025-01-02T03:05:26.682"]
[null,null,null,null,null,null,"PJCE-000002735_HSS_Adjustment","CE Orion > HSS Adjustment","PJCE-000002735_HSS_Adjustment-CE Orion > HSS Adjustment","Project Plan","FD02","Active","2025-01-02T03:05:26.682"]
[null,null,null,null,null,null,"PJCE-000002741_HS_Tutoring","CE Orion > HS Tutoring","PJCE-000002741_HS_Tutoring-CE Orion > HS Tutoring","Project Plan","FD02","Active","2025-01-02T03:05:26.719"]
[null,null,null,null,null,null,"PJCE-000002747_Error","CE Orion > Error","PJCE-000002747_Error-CE Orion > Error","Project Plan","FD02","Active","2025-01-02T03:05:26.682"]
[null,null,null,null,null,null,"PJCE-000002752_UN_Course_Materials","CE Orion > UN Course Materials","PJCE-000002752_UN_Course_Materials-CE Orion > UN Course Materials","Project Plan","FD02","Active","2025-01-02T03:05:26.550"]
[null,null,null,null,null,null,"PJCE-000002759_HSS_Adjustment","CE Orion > HSS Adjustment","PJCE-000002759_HSS_Adjustment-CE Orion > HSS Adjustment","Project Plan","FD02","Active","2025-01-02T03:05:26.752"]
[null,null,null,null,null,null,"PJCE-000002763_HS_Tutoring","CE Orion > HS Tutoring","PJCE-000002763_HS_Tutoring-CE Orion > HS Tutoring","Project Plan","FD02","Active","2025-01-02T03:05:26.550"]
[null,null,null,null,null,null,"PJCE-000002769_HS_Fee","CE Orion > HS Fee","PJCE-000002769_HS_Fee-CE Orion > HS Fee","Project Plan","FD02","Active","2025-01-02T03:05:26.752"]
[null,null,null,null,null,null,"PJCE-000002774_UN_Shipping","CE Orion > UN Shipping","PJCE-000002774_UN_Shipping-CE Orion > UN Shipping","Project Plan","FD02","Active","2025-01-02T03:05:26.719"]
[null,null,null,null,null,null,"PJCE-000002780_UN_Adjustment","CE Orion > UN Adjustment","PJCE-000002780_UN_Adjustment-CE Orion > UN Adjustment","Project Plan","FD02","Active","2025-01-02T03:05:26.786"]
[null,null,null,null,null,null,"PJCE-000002785_HSS_Setup_&_Training","CE Orion > HSS Setup & Training","PJCE-000002785_HSS_Setup_&_Training-CE Orion > HSS Setup & Training","Project Plan","FD02","Active","2025-01-02T03:05:26.786"]
[null,null,null,null,null,null,"PJCE-000002791_HS_Resubmission","CE Orion > HS Resubmission","PJCE-000002791_HS_Resubmission-CE Orion > HS Resubmission","Project Plan","FD02","Active","2025-01-02T03:05:26.856"]
[null,null,null,null,null,null,"PJCE-000002796_UN_Tutoring","CE Orion > UN Tutoring","PJCE-000002796_UN_Tutoring-CE Orion > UN Tutoring","Project Plan","FD02","Active","2025-01-02T03:05:26.786"]
[null,null,null,null,null,null,"PJCE-000002802_UN_Exam_Retake","CE Orion > UN Exam Retake","PJCE-000002802_UN_Exam_Retake-CE Orion > UN Exam Retake","Project Plan","FD02","Active","2025-01-02T03:05:26.925"]
[null,null,null,null,null,null,"PJCE-000002807_HSS_Withdrawl","CE Orion > HSS Withdrawal","PJCE-000002807_HSS_Withdrawl-CE Orion > HSS Withdrawal","Project Plan","FD02","Active","2025-01-02T03:05:26.856"]
[null,null,null,null,null,null,"PJCE-000002813_HSS_Adjustment","CE Orion > HSS Adjustment","PJCE-000002813_HSS_Adjustment-CE Orion > HSS Adjustment","Project Plan","FD02","Active","2025-01-02T03:05:26.890"]
[null,null,null,null,null,null,"PJCE-000002819_HS_Course_Withdrawal","CE Orion > HS Course Withdrawal","PJCE-000002819_HS_Course_Withdrawal-CE Orion > HS Course Withdrawal","Project Plan","FD02","Active","2025-01-02T03:05:26.856"]
[null,null,null,null,null,null,"PJCE-000002824_UN_Lesson_Resubmission","CE Orion > UN Lesson Resubmission","PJCE-000002824_UN_Lesson_Resubmission-CE Orion > UN Lesson Resubmission","Project Plan","FD02","Active","2025-01-02T03:05:26.856"]
[null,null,null,null,null,null,"PJCE-000002830_UN_Course_Materials","CE Orion > UN Course Materials","PJCE-000002830_UN_Course_Materials-CE Orion > UN Course Materials","Project Plan","FD02","Active","2025-01-02T03:05:26.925"]
[null,null,null,null,null,null,"PJCE-000002835_HSS_Enrollment","CE Orion > HSS Enrollment","PJCE-000002835_HSS_Enrollment-CE Orion > HSS Enrollment","Project Plan","FD02","Active","2025-01-02T03:05:26.958"]
[null,null,null,null,null,null,"PJCE-000002841_HS_Extension","CE Orion > HS Extension","PJCE-000002841_HS_Extension-CE Orion > HS Extension","Project Plan","FD02","Active","2025-01-02T03:05:26.890"]
[null,null,null,null,null,null,"PJCE-000002847_HS_Adjustment","CE Orion > HS Adjustment","PJCE-000002847_HS_Adjustment-CE Orion > HS Adjustment","Project Plan","FD02","Active","2025-01-02T03:05:26.890"]
[null,null,null,null,null,null,"PJCE-000002848_UN_Course_Materials","CE Orion > UN Course Materials","PJCE-000002848_UN_Course_Materials-CE Orion > UN Course Materials","Project Plan","FD02","Active","2025-01-02T03:05:26.925"]
[null,null,null,null,null,null,"PJCE-000002858_UN_Adjustment","CE Orion > UN Adjustment","PJCE-000002858_UN_Adjustment-CE Orion > UN Adjustment","Project Plan","FD02","Active","2025-01-02T03:05:26.958"]
[null,null,null,null,null,null,"PJCE-000002863_HS_Voucher","CE Orion > HS Voucher","PJCE-000002863_HS_Voucher-CE Orion > HS Voucher","Project Plan","FD02","Active","2025-01-02T03:05:27.027"]
[null,null,null,null,null,null,"PJCE-000002869_HS_Adjustment","CE Orion > HS Adjustment","PJCE-000002869_HS_Adjustment-CE Orion > HS Adjustment","Project Plan","FD02","Active","2025-01-02T03:05:27.027"]
[null,null,null,null,null,null,"PJCE-000002869_HS_Resubmission","CE Orion > HS Resubmission","PJCE-000002869_HS_Resubmission-CE Orion > HS Resubmission","Project Plan","FD02","Active","2025-01-02T03:05:27.027"]
[null,null,null,null,null,null,"PJCE-000002874_UN_Tutoring","CE Orion > UN Tutoring","PJCE-000002874_UN_Tutoring-CE Orion > UN Tutoring","Project Plan","FD02","Active","2025-01-02T03:05:27.027"]
[null,null,null,null,null,null,"PJCE-000002880_UN_Exam_Retake","CE Orion > UN Exam Retake","PJCE-000002880_UN_Exam_Retake-CE Orion > UN Exam Retake","Project Plan","FD02","Active","2025-01-02T03:05:27.060"]
[null,null,null,null,null,null,"PJCE-000002885_HSS_Withdrawl","CE Orion > HSS Withdrawal","PJCE-000002885_HSS_Withdrawl-CE Orion > HSS Withdrawal","Project Plan","FD02","Active","2025-01-02T03:05:27.027"]
[null,null,null,null,null,null,"PJCE-000002891_HS_Retake","CE Orion > HS Retake","PJCE-000002891_HS_Retake-CE Orion > HS Retake","Project Plan","FD02","Active","2025-01-02T03:05:27.060"]
[null,null,null,null,null,null,"PJCE-000002897_HS_Course_Withdrawal","CE Orion > HS Course Withdrawal","PJCE-000002897_HS_Course_Withdrawal-CE Orion > HS Course Withdrawal","Project Plan","FD02","Active","2025-01-02T03:05:27.060"]
[null,null,null,null,null,null,"PJCE-000002902_UN_Lesson_Resubmission","CE Orion > UN Lesson Resubmission","PJCE-000002902_UN_Lesson_Resubmission-CE Orion > UN Lesson Resubmission","Project Plan","FD02","Active","2025-01-02T03:05:27.161"]
[null,null,null,null,null,null,"PJCE-000002908","The Lincoln Academy BYU","PJCE-000002908-The Lincoln Academy BYU","Project","FD02","Active","2025-01-02T03:05:12.031"]
[null,null,null,null,null,null,"PJCE-000002913_HSS_Enrollment","CE Orion > HSS Enrollment","PJCE-000002913_HSS_Enrollment-CE Orion > HSS Enrollment","Project Plan","FD02","Active","2025-01-02T03:05:27.161"]
[null,null,null,null,null,null,"PJCE-000002919_HS_Extension","CE Orion > HS Extension","PJCE-000002919_HS_Extension-CE Orion > HS Extension","Project Plan","FD02","Active","2025-01-02T03:05:27.161"]
[null,null,null,null,null,null,"PJCE-000002925_HS_Adjustment","CE Orion > HS Adjustment","PJCE-000002925_HS_Adjustment-CE Orion > HS Adjustment","Project Plan","FD02","Active","2025-01-02T03:05:27.161"]
[null,null,null,null,null,null,"PJCE-000002930_UN_Course_Withdrawal","CE Orion > UN Course Withdrawal","PJCE-000002930_UN_Course_Withdrawal-CE Orion > UN Course Withdrawal","Project Plan","FD02","Active","2025-01-02T03:05:27.194"]
[null,null,null,null,null,null,"PJCE-000002935_HSS_License_Agreement","CE Orion > HSS License Agreement","PJCE-000002935_HSS_License_Agreement-CE Orion > HSS License Agreement","Project Plan","FD02","Active","2025-01-02T03:05:27.129"]
[null,null,null,null,null,null,"PJCE-000002941_HSS_Access_Fee","CE Orion > HSS Access Fee","PJCE-000002941_HSS_Access_Fee-CE Orion > HSS Access Fee","Project Plan","FD02","Active","2025-01-02T03:05:27.227"]
[null,null,null,null,null,null,"PJCE-000002949_HS_Shipping","CE Orion > HS Shipping","PJCE-000002949_HS_Shipping-CE Orion > HS Shipping","Project Plan","FD02","Active","2025-01-02T03:05:27.227"]
[null,null,null,null,null,null,"PJCE-000002952_UN_Tutoring","CE Orion > UN Tutoring","PJCE-000002952_UN_Tutoring-CE Orion > UN Tutoring","Project Plan","FD02","Active","2025-01-02T03:05:27.260"]
[null,null,null,null,null,null,"PJCE-000002958_UN_Audit","CE Orion > UN Audit","PJCE-000002958_UN_Audit-CE Orion > UN Audit","Project Plan","FD02","Active","2025-01-02T03:05:27.227"]
[null,null,null,null,null,null,"PJCE-000002963_HSS_Access_Fee","CE Orion > HSS Access Fee","PJCE-000002963_HSS_Access_Fee-CE Orion > HSS Access Fee","Project Plan","FD02","Active","2025-01-02T03:05:27.324"]
[null,null,null,null,null,null,"PJCE-000002969_HS_Retake","CE Orion > HS Retake","PJCE-000002969_HS_Retake-CE Orion > HS Retake","Project Plan","FD02","Active","2025-01-02T03:05:27.324"]
[null,null,null,null,null,null,"PJCE-000002974_UN_Voucher","CE Orion > UN Voucher","PJCE-000002974_UN_Voucher-CE Orion > UN Voucher","Project Plan","FD02","Active","2025-01-02T03:05:27.227"]
[null,null,null,null,null,null,"PJCE-000002980_UN_Course_Enrollment","CE Orion > UN Course Enrollment","PJCE-000002980_UN_Course_Enrollment-CE Orion > UN Course Enrollment","Project Plan","FD02","Active","2025-01-02T03:05:27.324"]
[null,null,null,null,null,null,"PJCE-000002986","TROY HIGH SCHOOL BYU","PJCE-000002986-TROY HIGH SCHOOL BYU","Project","FD02","Active","2025-01-02T03:05:12.080"]
[null,null,null,null,null,null,"PJCE-000002991_HS_Shipping","CE Orion > HS Shipping","PJCE-000002991_HS_Shipping-CE Orion > HS Shipping","Project Plan","FD02","Active","2025-01-02T03:05:27.358"]
[null,null,null,null,null,null,"PJCE-000002997_HS_Extension","CE Orion > HS Extension","PJCE-000002997_HS_Extension-CE Orion > HS Extension","Project Plan","FD02","Active","2025-01-02T03:05:27.358"]
[null,null,null,null,null,null,"PJCE-000003002_UN_Processing_Fee","CE Orion > UN Processing Fee","PJCE-000003002_UN_Processing_Fee-CE Orion > UN Processing Fee","Project Plan","FD02","Active","2025-01-02T03:05:27.291"]
[null,null,null,null,null,null,"PJCE-000003008_Error","CE Orion > Error","PJCE-000003008_Error-CE Orion > Error","Project Plan","FD02","Active","2025-01-02T03:05:27.461"]
[null,null,null,null,null,null,"PJCE-000003013_HSS_License_Agreement","CE Orion > HSS License Agreement","PJCE-000003013_HSS_License_Agreement-CE Orion > HSS License Agreement","Project Plan","FD02","Active","2025-01-02T03:05:27.392"]
[null,null,null,null,null,null,"PJCE-000003019_HS_Fee","CE Orion > HS Fee","PJCE-000003019_HS_Fee-CE Orion > HS Fee","Project Plan","FD02","Active","2025-01-02T03:05:27.461"]
[null,null,null,null,null,null,"PJCE-000003024_UN_Shipping","CE Orion > UN Shipping","PJCE-000003024_UN_Shipping-CE Orion > UN Shipping","Project Plan","FD02","Active","2025-01-02T03:05:27.461"]
[null,null,null,null,null,null,"PJCE-000003030_UN_Credit","CE Orion > UN Credit","PJCE-000003030_UN_Credit-CE Orion > UN Credit","Project Plan","FD02","Active","2025-01-02T03:05:27.424"]
[null,null,null,null,null,null,"PJCE-000003035_HSS_Setup_&_Training","CE Orion > HSS Setup & Training","PJCE-000003035_HSS_Setup_&_Training-CE Orion > HSS Setup & Training","Project Plan","FD02","Active","2025-01-02T03:05:27.392"]
[null,null,null,null,null,null,"PJCE-000003040_UN_Credit","CE Orion > UN Credit","PJCE-000003040_UN_Credit-CE Orion > UN Credit","Project Plan","FD02","Active","2025-01-02T03:05:27.461"]
[null,null,null,null,null,null,"PJCE-000003047_HS_Course_Enrollment","CE Orion > HS Course Enrollment","PJCE-000003047_HS_Course_Enrollment-CE Orion > HS Course Enrollment","Project Plan","FD02","Active","2025-01-02T03:05:27.494"]
[null,null,null,null,null,null,"PJCE-000003052_UN_Credit","CE Orion > UN Credit","PJCE-000003052_UN_Credit-CE Orion > UN Credit","Project Plan","FD02","Active","2025-01-02T03:05:27.527"]
[null,null,null,null,null,null,"PJCE-000003058_UN_Course_Enrollment","CE Orion > UN Course Enrollment","PJCE-000003058_UN_Course_Enrollment-CE Orion > UN Course Enrollment","Project Plan","FD02","Active","2025-01-02T03:05:27.527"]
[null,null,null,null,null,null,"PJCE-000003063_HSS_Addl_Training","CE Orion > HSS Add'l Training","PJCE-000003063_HSS_Addl_Training-CE Orion > HSS Add'l Training","Project Plan","FD02","Active","2025-01-02T03:05:27.424"]
[null,null,null,null,null,null,"PJCE-000003069_HS_Shipping","CE Orion > HS Shipping","PJCE-000003069_HS_Shipping-CE Orion > HS Shipping","Project Plan","FD02","Active","2025-01-02T03:05:27.592"]
[null,null,null,null,null,null,"PJCE-000003075","VACAVILLE CHRISTIAN SCHOOLS IHS","PJCE-000003075-VACAVILLE CHRISTIAN SCHOOLS IHS","Project","FD02","Active","2025-01-02T03:05:12.080"]
[null,null,null,null,null,null,"PJCE-000003080_UN_Course_Extension","CE Orion > UN Course Extension","PJCE-000003080_UN_Course_Extension-CE Orion > UN Course Extension","Project Plan","FD02","Active","2025-01-02T03:05:27.592"]
[null,null,null,null,null,null,"PJCE-000003086_Error","CE Orion > Error","PJCE-000003086_Error-CE Orion > Error","Project Plan","FD02","Active","2025-01-02T03:05:27.592"]
[null,null,null,null,null,null,"PJCE-000003091_HS_Tutoring","CE Orion > HS Tutoring","PJCE-000003091_HS_Tutoring-CE Orion > HS Tutoring","Project Plan","FD02","Active","2025-01-02T03:05:27.560"]
[null,null,null,null,null,null,"PJCE-000003097_Error","CE Orion > Error","PJCE-000003097_Error-CE Orion > Error","Project Plan","FD02","Active","2025-01-02T03:05:27.592"]
[null,null,null,null,null,null,"PJCE-000003097_HS_Fee","CE Orion > HS Fee","PJCE-000003097_HS_Fee-CE Orion > HS Fee","Project Plan","FD02","Active","2025-01-02T03:05:27.592"]
[null,null,null,null,null,null,"PJCE-000003102_UN_Shipping","CE Orion > UN Shipping","PJCE-000003102_UN_Shipping-CE Orion > UN Shipping","Project Plan","FD02","Active","2025-01-02T03:05:27.592"]
[null,null,null,null,null,null,"PJCE-000003108_UN_Credit","CE Orion > UN Credit","PJCE-000003108_UN_Credit-CE Orion > UN Credit","Project Plan","FD02","Active","2025-01-02T03:05:27.665"]
[null,null,null,null,null,null,"PJCE-000003113_HSS_Setup_&_Training","CE Orion > HSS Setup & Training","PJCE-000003113_HSS_Setup_&_Training-CE Orion > HSS Setup & Training","Project Plan","FD02","Active","2025-01-02T03:05:27.665"]
[null,null,null,null,null,null,"PJCE-000003119_HS_Resubmission","CE Orion > HS Resubmission","PJCE-000003119_HS_Resubmission-CE Orion > HS Resubmission","Project Plan","FD02","Active","2025-01-02T03:05:27.665"]
[null,null,null,null,null,null,"PJCE-000003125_HS_Course_Materials","CE Orion > HS Course Materials","PJCE-000003125_HS_Course_Materials-CE Orion > HS Course Materials","Project Plan","FD02","Active","2025-01-02T03:05:27.699"]
[null,null,null,null,null,null,"PJCE-000003130_UN_Exam_Retake","CE Orion > UN Exam Retake","PJCE-000003130_UN_Exam_Retake-CE Orion > UN Exam Retake","Project Plan","FD02","Active","2025-01-02T03:05:27.699"]
[null,null,null,null,null,null,"PJCE-000003136_UN_Audit","CE Orion > UN Audit","PJCE-000003136_UN_Audit-CE Orion > UN Audit","Project Plan","FD02","Active","2025-01-02T03:05:27.732"]
[null,null,null,null,null,null,"PJCE-000003141_HSS_Addl_Training","CE Orion > HSS Add'l Training","PJCE-000003141_HSS_Addl_Training-CE Orion > HSS Add'l Training","Project Plan","FD02","Active","2025-01-02T03:05:27.767"]
[null,null,null,null,null,null,"PJCE-000003147_HS_Course_Materials","CE Orion > HS Course Materials","PJCE-000003147_HS_Course_Materials-CE Orion > HS Course Materials","Project Plan","FD02","Active","2025-01-02T03:05:27.767"]
[null,null,null,null,null,null,"PJCE-000003153","WASHTUCNA SCHOOL DISTRICT IHS","PJCE-000003153-WASHTUCNA SCHOOL DISTRICT IHS","Project","FD02","Active","2025-01-02T03:05:12.126"]
[null,null,null,null,null,null,"PJCE-000003158_UN_Course_Extension","CE Orion > UN Course Extension","PJCE-000003158_UN_Course_Extension-CE Orion > UN Course Extension","Project Plan","FD02","Active","2025-01-02T03:05:27.732"]
[null,null,null,null,null,null,"PJCE-000003163_HSS_Adjustment","CE Orion > HSS Adjustment","PJCE-000003163_HSS_Adjustment-CE Orion > HSS Adjustment","Project Plan","FD02","Active","2025-01-02T03:05:27.767"]
[null,null,null,null,null,null,"PJCE-000003169_HS_Tutoring","CE Orion > HS Tutoring","PJCE-000003169_HS_Tutoring-CE Orion > HS Tutoring","Project Plan","FD02","Active","2025-01-02T03:05:27.732"]
[null,null,null,null,null,null,"PJCE-000003175_Error","CE Orion > Error","PJCE-000003175_Error-CE Orion > Error","Project Plan","FD02","Active","2025-01-02T03:05:27.804"]
[null,null,null,null,null,null,"PJCE-000003180_UN_Shipping","CE Orion > UN Shipping","PJCE-000003180_UN_Shipping-CE Orion > UN Shipping","Project Plan","FD02","Active","2025-01-02T03:05:27.911"]
[null,null,null,null,null,null,"PJCE-000003186_UN_Adjustment","CE Orion > UN Adjustment","PJCE-000003186_UN_Adjustment-CE Orion > UN Adjustment","Project Plan","FD02","Active","2025-01-02T03:05:27.911"]
[null,null,null,null,null,null,"PJCE-000003191_HS_Voucher","CE Orion > HS Voucher","PJCE-000003191_HS_Voucher-CE Orion > HS Voucher","Project Plan","FD02","Active","2025-01-02T03:05:27.876"]
[null,null,null,null,null,null,"PJCE-000003197_HS_Resubmission","CE Orion > HS Resubmission","PJCE-000003197_HS_Resubmission-CE Orion > HS Resubmission","Project Plan","FD02","Active","2025-01-02T03:05:27.843"]
[null,null,null,null,null,null,"PJCE-000003202_UN_Tutoring","CE Orion > UN Tutoring","PJCE-000003202_UN_Tutoring-CE Orion > UN Tutoring","Project Plan","FD02","Active","2025-01-02T03:05:27.911"]
[null,null,null,null,null,null,"PJCE-000003208_UN_Audit","CE Orion > UN Audit","PJCE-000003208_UN_Audit-CE Orion > UN Audit","Project Plan","FD02","Active","2025-01-02T03:05:27.911"]
[null,null,null,null,null,null,"PJCE-000003213_HSS_Withdrawl","CE Orion > HSS Withdrawal","PJCE-000003213_HSS_Withdrawl-CE Orion > HSS Withdrawal","Project Plan","FD02","Active","2025-01-02T03:05:28.033"]
[null,null,null,null,null,null,"PJCE-000003219_HS_Retake","CE Orion > HS Retake","PJCE-000003219_HS_Retake-CE Orion > HS Retake","Project Plan","FD02","Active","2025-01-02T03:05:27.911"]
[null,null,null,null,null,null,"PJCE-000003225_HS_Course_Withdrawal","CE Orion > HS Course Withdrawal","PJCE-000003225_HS_Course_Withdrawal-CE Orion > HS Course Withdrawal","Project Plan","FD02","Active","2025-01-02T03:05:28.033"]
[null,null,null,null,null,null,"PJCE-000003230_UN_Audit","CE Orion > UN Audit","PJCE-000003230_UN_Audit-CE Orion > UN Audit","Project Plan","FD02","Active","2025-01-02T03:05:27.948"]
[null,null,null,null,null,null,"PJCE-000003235_HSS_Withdrawl","CE Orion > HSS Withdrawal","PJCE-000003235_HSS_Withdrawl-CE Orion > HSS Withdrawal","Project Plan","FD02","Active","2025-01-02T03:05:27.991"]
[null,null,null,null,null,null,"PJCE-000003241_HSS_Adjustment","CE Orion > HSS Adjustment","PJCE-000003241_HSS_Adjustment-CE Orion > HSS Adjustment","Project Plan","FD02","Active","2025-01-02T03:05:28.067"]
[null,null,null,null,null,null,"PJCE-000003247_HS_Course_Withdrawal","CE Orion > HS Course Withdrawal","PJCE-000003247_HS_Course_Withdrawal-CE Orion > HS Course Withdrawal","Project Plan","FD02","Active","2025-01-02T03:05:28.067"]
[null,null,null,null,null,null,"PJCE-000003253_Error","CE Orion > Error","PJCE-000003253_Error-CE Orion > Error","Project Plan","FD02","Active","2025-01-02T03:05:28.139"]
[null,null,null,null,null,null,"PJCE-000003258_UN_Course_Materials","CE Orion > UN Course Materials","PJCE-000003258_UN_Course_Materials-CE Orion > UN Course Materials","Project Plan","FD02","Active","2025-01-02T03:05:27.991"]
[null,null,null,null,null,null,"PJCE-000003263_HSS_Enrollment","CE Orion > HSS Enrollment","PJCE-000003263_HSS_Enrollment-CE Orion > HSS Enrollment","Project Plan","FD02","Active","2025-01-02T03:05:28.067"]
[null,null,null,null,null,null,"PJCE-000003269_HS_Voucher","CE Orion > HS Voucher","PJCE-000003269_HS_Voucher-CE Orion > HS Voucher","Project Plan","FD02","Active","2025-01-02T03:05:28.105"]
[null,null,null,null,null,null,"PJCE-000003275_HS_Adjustment","CE Orion > HS Adjustment","PJCE-000003275_HS_Adjustment-CE Orion > HS Adjustment","Project Plan","FD02","Active","2025-01-02T03:05:28.139"]
[null,null,null,null,null,null,"PJCE-000003280_UN_Course_Withdrawal","CE Orion > UN Course Withdrawal","PJCE-000003280_UN_Course_Withdrawal-CE Orion > UN Course Withdrawal","Project Plan","FD02","Active","2025-01-02T03:05:28.139"]
[null,null,null,null,null,null,"PJCE-000003286_UN_Audit","CE Orion > UN Audit","PJCE-000003286_UN_Audit-CE Orion > UN Audit","Project Plan","FD02","Active","2025-01-02T03:05:28.227"]
[null,null,null,null,null,null,"PJCE-000003291_HSS_Access_Fee","CE Orion > HSS Access Fee","PJCE-000003291_HSS_Access_Fee-CE Orion > HSS Access Fee","Project Plan","FD02","Active","2025-01-02T03:05:28.105"]
[null,null,null,null,null,null,"PJCE-000003297_HS_Retake","CE Orion > HS Retake","PJCE-000003297_HS_Retake-CE Orion > HS Retake","Project Plan","FD02","Active","2025-01-02T03:05:28.139"]
[null,null,null,null,null,null,"PJCE-000003302_UN_Voucher","CE Orion > UN Voucher","PJCE-000003302_UN_Voucher-CE Orion > UN Voucher","Project Plan","FD02","Active","2025-01-02T03:05:28.268"]
[null,null,null,null,null,null,"PJCE-000003308_UN_Course_Enrollment","CE Orion > UN Course Enrollment","PJCE-000003308_UN_Course_Enrollment-CE Orion > UN Course Enrollment","Project Plan","FD02","Active","2025-01-02T03:05:28.227"]
[null,null,null,null,null,null,"PJCE-000003314","ZILLAH SCHOOL DISTRICT BYU","PJCE-000003314-ZILLAH SCHOOL DISTRICT BYU","Project","FD02","Active","2025-01-02T03:05:12.126"]
[null,null,null,null,null,null,"PJCE-000003319_HS_Shipping","CE Orion > HS Shipping","PJCE-000003319_HS_Shipping-CE Orion > HS Shipping","Project Plan","FD02","Active","2025-01-14T03:04:56.040044+00:00"]
[null,null,null,null,null,null,"PJCE-000003325","Catalyst Public Schools IHS","PJCE-000003325-Catalyst Public Schools IHS","Project","FD02","Active","2025-01-16T03:04:59.842293+00:00"]
[null,null,null,null,null,null,"PJCE-000003325_HSS_Setup_&_Training","CE Orion > HSS Setup & Training","PJCE-000003325_HSS_Setup_&_Training-CE Orion > HSS Setup & Training","Project Plan","FD02","Active","2025-01-16T03:05:01.335475+00:00"]
[null,null,null,null,null,null,"PJIT-000000203","Arts 2103A- Kitchenette","PJIT-000000203-Arts 2103A- Kitchenette","Project","FD01","Active","2025-01-02T03:05:06.891"]
[null,null,null,null,null,null,"PJIT-000000307","Mobile Student Events Dashboard","PJIT-000000307-Mobile Student Events Dashboard","Project","FD01","Active","2025-01-02T03:05:06.621"]
[null,null,null,null,null,null,"PJIT-000000450","Enterprise licensing of an email communication/marketing solution (PRJ-9796)","PJIT-000000450-Enterprise licensing of an email communication/marketing solution (PRJ-9796)","Project","FD06","Active","2025-01-11T03:04:44.490435+00:00"]
[null,null,null,null,null,null,"PJIT-000000640","LVES UPS Replacement (PRJ-10388)","PJIT-000000640-LVES UPS Replacement (PRJ-10388)","Project","FD02","Active","2025-01-02T03:05:06.891"]
[null,null,null,null,null,null,"PJIT-000000805","ESC Math Ed (N5689), remodel (Network)","PJIT-000000805-ESC Math Ed (N5689), remodel (Network)","Project","FD01","Active","2025-01-02T03:05:07.221"]
[null,null,null,null,null,null,"PJIT-000000983","MCA, Support of the Synergy Camera System in the MC/MCA","PJIT-000000983-MCA, Support of the Synergy Camera System in the MC/MCA","Project","FD02","Active","2025-01-02T03:05:07.221"]
[null,null,null,null,null,null,"PJIT-000001102","ENSN 1011, Strategic WAR Room AV Upgrade","PJIT-000001102-ENSN 1011, Strategic WAR Room AV Upgrade","Project","FD01","Active","2025-01-02T03:05:10.204"]
[null,null,null,null,null,null,"PJIT-000001523","CES Identity - BYU Idaho One CES Identity Phase II 2025","PJIT-000001523-CES Identity - BYU Idaho One CES Identity Phase II 2025","Project","FD06","Active","2025-01-08T03:04:35.097272+00:00"]
[null,null,null,null,null,null,"PJOP-000000136","Admissions","PJOP-000000136-Admissions","Project","FD01","Active","2025-01-02T03:05:07.946"]
[null,null,null,null,null,null,"PJOP-000000286","WBKB v Arizona 12/21/24","PJOP-000000286-WBKB v Arizona 12/21/24","Project","FD01","Active","2025-01-02T03:05:10.204"]
[null,null,null,null,null,null,"PJP104729","V3101","PJP104729-V3101","Project","FD01","Active","2025-01-02T03:05:09.127"]
[null,null,null,null,null,null,"PJP109708","388","PJP109708-388","Project","FD01","Active","2025-01-02T03:05:08.095"]
[null,null,null,null,null,null,"PJP1173","609","PJP1173-609","Project","FD01","Active","2025-01-02T03:05:08.920"]
[null,null,null,null,null,null,"PJP12291","357","PJP12291-357","Project","FD01","Active","2025-01-02T03:05:08.236"]
[null,null,null,null,null,null,"PJP128078","VDU1","PJP128078-VDU1","Project","FD01","Active","2025-01-02T03:05:09.626"]
[null,null,null,null,null,null,"PJP133635","VIT8","PJP133635-VIT8","Project","FD01","Active","2025-01-02T03:05:09.626"]
[null,null,null,null,null,null,"PJP137536","V545","PJP137536-V545","Project","FD01","Active","2025-01-02T03:05:09.350"]
[null,null,null,null,null,null,"PJP142498","VDS69","PJP142498-VDS69","Project","FD01","Active","2025-01-02T03:05:09.626"]
[null,null,null,null,null,null,"PJP145690","V1130","PJP145690-V1130","Project","FD01","Active","2025-01-02T03:05:08.710"]
[null,null,null,null,null,null,"PJP149430","VMA1","PJP149430-VMA1","Project","FD01","Active","2025-01-02T03:05:09.781"]
[null,null,null,null,null,null,"PJP153776","EEB1","PJP153776-EEB1","Project","FD01","Active","2025-01-02T03:05:08.336"]
[null,null,null,null,null,null,"PJP156829","573","PJP156829-573","Project","FD01","Active","2025-01-02T03:05:08.236"]
[null,null,null,null,null,null,"PJP157768","VCH2","PJP157768-VCH2","Project","FD01","Active","2025-01-02T03:05:09.531"]
[null,null,null,null,null,null,"PJP160662","VOU1","PJP160662-VOU1","Project","FD01","Active","2025-01-02T03:05:09.905"]
[null,null,null,null,null,null,"PJP163927","V489","PJP163927-V489","Project","FD01","Active","2025-01-02T03:05:09.350"]
[null,null,null,null,null,null,"PJP167532","V357","PJP167532-V357","Project","FD01","Active","2025-01-02T03:05:09.127"]
[null,null,null,null,null,null,"PJP169205","VAT12V","PJP169205-VAT12V","Project","FD01","Active","2025-01-02T03:05:10.204"]
[null,null,null,null,null,null,"PJP170115","V1234","PJP170115-V1234","Project","FD01","Active","2025-01-02T03:05:09.441"]
[null,null,null,null,null,null,"PJP170910","M9222","PJP170910-M9222","Project","FD01","Active","2025-01-02T03:05:08.236"]
[null,null,null,null,null,null,"PJP172119","VHS12","PJP172119-VHS12","Project","FD01","Active","2025-01-02T03:05:10.316"]
[null,null,null,null,null,null,"PJP173346","VTE1","PJP173346-VTE1","Project","FD01","Active","2025-01-02T03:05:10.487"]
[null,null,null,null,null,null,"PJP174350","VML48","PJP174350-VML48","Project","FD01","Active","2025-01-02T03:05:10.316"]
[null,null,null,null,null,null,"PJP175611","VML33","PJP175611-VML33","Project","FD01","Active","2025-01-02T03:05:10.316"]
[null,null,null,null,null,null,"PJP175867","N3923","PJP175867-N3923","Project","FD01","Active","2025-01-02T03:05:08.439"]
[null,null,null,null,null,null,"PJP175930","N3985","PJP175930-N3985","Project","FD01","Active","2025-01-02T03:05:08.439"]
[null,null,null,null,null,null,"PJP177468","V475V","PJP177468-V475V","Project","FD01","Active","2025-01-09T03:04:37.798994+00:00"]
[null,null,null,null,null,null,"PJP178318","N5807","PJP178318-N5807","Project","FD01","Active","2025-01-02T03:05:08.710"]
[null,null,null,null,null,null,"PJP178910","N6212","PJP178910-N6212","Project","FD01","Active","2025-01-02T03:05:08.710"]
[null,null,null,null,null,null,"PJP179420","VPS5","PJP179420-VPS5","Project","FD01","Active","2025-01-02T03:05:10.487"]
[null,null,null,null,null,null,"PJP179889","N6851","PJP179889-N6851","Project","FD01","Active","2025-01-09T03:04:37.798994+00:00"]
[null,null,null,null,null,null,"PJP179908","N6857","PJP179908-N6857","Project","FD01","Active","2025-01-02T03:05:09.531"]
[null,null,null,null,null,null,"PJP180440","N7239","PJP180440-N7239","Project","FD01","Active","2025-01-02T03:05:08.920"]
[null,null,null,null,null,null,"PJP181021","VDB3","PJP181021-VDB3","Project","FD01","Active","2025-01-02T03:05:10.316"]
[null,null,null,null,null,null,"PJP181527","VPW15","PJP181527-VPW15","Project","FD01","Active","2025-01-02T03:05:10.487"]
[null,null,null,null,null,null,"PJP181845","N8401","PJP181845-N8401","Project","FD01","Active","2025-01-02T03:05:09.031"]
[null,null,null,null,null,null,"PJP182060","N8569","PJP182060-N8569","Project","FD01","Active","2025-01-02T03:05:09.127"]
[null,null,null,null,null,null,"PJP182235","N8713","PJP182235-N8713","Project","FD01","Active","2025-01-02T03:05:09.241"]
[null,null,null,null,null,null,"PJP182355","N8813","PJP182355-N8813","Project","FD01","Active","2025-01-16T03:04:59.842293+00:00"]
[null,null,null,null,null,null,"PJP182499","N8889","PJP182499-N8889","Project","FD01","Active","2025-01-11T03:04:44.490435+00:00"]
[null,null,null,null,null,null,"PJP25392","V1132","PJP25392-V1132","Project","FD01","Active","2025-01-02T03:05:09.441"]
[null,null,null,null,null,null,"PJP3744","753","PJP3744-753","Project","FD01","Active","2025-01-02T03:05:09.031"]
[null,null,null,null,null,null,"PJP59710","EBDG1","PJP59710-EBDG1","Project","FD01","Active","2025-01-02T03:05:08.236"]
[null,null,null,null,null,null,"PJP79524","V2117","PJP79524-V2117","Project","FD01","Active","2025-01-02T03:05:08.851"]
[null,null,null,null,null,null,"PJP84965","V1108","PJP84965-V1108","Project","FD01","Active","2025-01-02T03:05:08.710"]
[null,null,null,null,null,null,"PJP94198","VLR8","PJP94198-VLR8","Project","FD01","Active","2025-01-02T03:05:09.626"]
[null,null,null,null,null,null,"PJP99378","V655","PJP99378-V655","Project","FD01","Active","2025-01-02T03:05:09.441"]
[null,null,null,null,null,null,"PP000000084_FA_Production>Audio","New Music for a: FA Production > Audio    (Starts: 12/30/2023)","PP000000084_FA_Production>Audio-New Music for a: FA Production > Audio    (Starts: 12/30/2023)","Project Plan","FD02","Active","2025-01-12T03:04:21.255165+00:00"]
[null,null,null,null,null,null,"PP000000102_FA_Production>Lighting","FA Production > Lighting    (Starts: 12/30/2023)","PP000000102_FA_Production>Lighting-FA Production > Lighting    (Starts: 12/30/2023)","Project Plan","FD02","Active","2025-01-12T03:04:21.255165+00:00"]
[null,null,null,null,null,null,"PP000000108_FA_Production>Props","FA Production > Props    (Starts: 09/30/2024)","PP000000108_FA_Production>Props-FA Production > Props    (Starts: 09/30/2024)","Project Plan","FD02","Active","2025-01-12T03:04:21.319185+00:00"]
[null,null,null,null,null,null,"PP000000115_FA_Production>Marketing","FA Production > Marketing    (Starts: 12/30/2023)","PP000000115_FA_Production>Marketing-FA Production > Marketing    (Starts: 12/30/2023)","Project Plan","FD02","Active","2025-01-12T03:04:21.397276+00:00"]
[null,null,null,null,null,null,"PP000000121_FA_Production>Run_Crew","FA Production > Run Crew    (Starts: 12/30/2023)","PP000000121_FA_Production>Run_Crew-FA Production > Run Crew    (Starts: 12/30/2023)","Project Plan","FD02","Active","2025-01-12T03:04:21.460794+00:00"]
[null,null,null,null,null,null,"PP000000128_FA_Production>Other","As You Like It: FA Production > Other    (Starts: 12/30/2023)","PP000000128_FA_Production>Other-As You Like It: FA Production > Other    (Starts: 12/30/2023)","Project Plan","FD02","Active","2025-01-12T03:04:21.319185+00:00"]
[null,null,null,null,null,null,"PP000000134_FA_Production>Scene_Shop","FA Production > Scene Shop    (Starts: 12/30/2023)","PP000000134_FA_Production>Scene_Shop-FA Production > Scene Shop    (Starts: 12/30/2023)","Project Plan","FD02","Active","2025-01-12T03:04:21.397276+00:00"]
[null,null,null,null,null,null,"PP000000141_FA_Production>Creative","FA Production > Creative    (Starts: 12/30/2023)","PP000000141_FA_Production>Creative-FA Production > Creative    (Starts: 12/30/2023)","Project Plan","FD02","Active","2025-01-12T03:04:21.536697+00:00"]
[null,null,null,null,null,null,"PP000000147_FA_Production>Stage_Manager","FA Production > Stage Manager    (Starts: 12/30/2023)","PP000000147_FA_Production>Stage_Manager-FA Production > Stage Manager    (Starts: 12/30/2023)","Project Plan","FD02","Active","2025-01-12T03:04:21.709885+00:00"]
[null,null,null,null,null,null,"PP000000154_FA_Production>FA_Makeup_Hair","Listen Up Series: FA Production > FA Makeup & Hair    (Starts: 12/30/2023)","PP000000154_FA_Production>FA_Makeup_Hair-Listen Up Series: FA Production > FA Makeup & Hair    (Starts: 12/30/2023)","Project Plan","FD02","Active","2025-01-12T03:04:21.709885+00:00"]
[null,null,null,null,null,null,"PP000000206_FA_Production>Producer","Guest Artists: FA Production > Producer    (Starts: 12/30/2023)","PP000000206_FA_Production>Producer-Guest Artists: FA Production > Producer    (Starts: 12/30/2023)","Project Plan","FD02","Active","2025-01-12T03:04:21.772455+00:00"]
[null,null,null,null,null,null,"PP000000213_FA_Production>Front_of_House","FA Production > Front of House    (Starts: 12/30/2023)","PP000000213_FA_Production>Front_of_House-FA Production > Front of House    (Starts: 12/30/2023)","Project Plan","FD02","Active","2025-01-12T03:04:21.875336+00:00"]
[null,null,null,null,null,null,"PP000000219_FA_Production>Projection","FA Production > Projection    (Starts: 12/30/2023)","PP000000219_FA_Production>Projection-FA Production > Projection    (Starts: 12/30/2023)","Project Plan","FD02","Active","2025-01-12T03:04:21.824934+00:00"]
[null,null,null,null,null,null,"PP000000225_FA_Production>Costume_Shop","FA Production > Costume    (Starts: 12/30/2023)","PP000000225_FA_Production>Costume_Shop-FA Production > Costume    (Starts: 12/30/2023)","Project Plan","FD02","Active","2025-01-12T03:04:21.875336+00:00"]
[null,null,null,null,null,null,"PP000000232_FA_Production>Projection","FA Production > Projection    (Starts: 12/30/2023)","PP000000232_FA_Production>Projection-FA Production > Projection    (Starts: 12/30/2023)","Project Plan","FD02","Active","2025-01-12T03:04:21.875336+00:00"]
[null,null,null,null,null,null,"PP000000238_FA_Production>Stage_Operations","FA Production > Stage Operations    (Starts: 12/30/2023)","PP000000238_FA_Production>Stage_Operations-FA Production > Stage Operations    (Starts: 12/30/2023)","Project Plan","FD02","Active","2025-01-12T03:04:21.937427+00:00"]
[null,null,null,null,null,null,"PP000000245_FA_Production>Props","FA Production > Props    (Starts: 12/30/2023)","PP000000245_FA_Production>Props-FA Production > Props    (Starts: 12/30/2023)","Project Plan","FD02","Active","2025-01-12T03:04:21.98+00:00"]
[null,null,null,null,null,null,"PP000000252_FA_Production>Audio","FA Production > Audio    (Starts: 12/30/2023)","PP000000252_FA_Production>Audio-FA Production > Audio    (Starts: 12/30/2023)","Project Plan","FD02","Active","2025-01-12T03:04:21.592641+00:00"]
[null,null,null,null,null,null,"PP000000258_FA_Production>Run_Crew","FA Production > Run Crew    (Starts: 12/30/2023)","PP000000258_FA_Production>Run_Crew-FA Production > Run Crew    (Starts: 12/30/2023)","Project Plan","FD02","Active","2025-01-12T03:04:21.592641+00:00"]
[null,null,null,null,null,null,"PP000000265_FA_Production>Costume_Shop","FA Production > Costume    (Starts: 12/30/2023)","PP000000265_FA_Production>Costume_Shop-FA Production > Costume    (Starts: 12/30/2023)","Project Plan","FD02","Active","2025-01-12T03:04:21.536697+00:00"]
[null,null,null,null,null,null,"PP000000271_FA_Production>Marketing","FA Production > Marketing    (Starts: 12/30/2023)","PP000000271_FA_Production>Marketing-FA Production > Marketing    (Starts: 12/30/2023)","Project Plan","FD02","Active","2025-01-12T03:04:21.937427+00:00"]
[null,null,null,null,null,null,"PP000000278_FA_Production>Creative","FA Production > Creative    (Starts: 12/30/2023)","PP000000278_FA_Production>Creative-FA Production > Creative    (Starts: 12/30/2023)","Project Plan","FD02","Active","2025-01-12T03:04:21.98+00:00"]
[null,null,null,null,null,null,"PP000000284_FA_Production>Other","FA Production > Other    (Starts: 12/30/2023)","PP000000284_FA_Production>Other-FA Production > Other    (Starts: 12/30/2023)","Project Plan","FD02","Active","2025-01-12T03:04:21.536697+00:00"]
[null,null,null,null,null,null,"PP000000290_FA_Production>Scene_Shop","FA Production > Scene Shop    (Starts: 12/30/2023)","PP000000290_FA_Production>Scene_Shop-FA Production > Scene Shop    (Starts: 12/30/2023)","Project Plan","FD02","Active","2025-01-12T03:04:21.592641+00:00"]
[null,null,null,null,null,null,"PP000000891_FA_Production>Producer","FA Production > Producer    (Starts: 12/30/2023)","PP000000891_FA_Production>Producer-FA Production > Producer    (Starts: 12/30/2023)","Project Plan","FD02","Active","2025-01-12T03:04:21.650491+00:00"]
[null,null,null,null,null,null,"PP000000922_FA_Production>Stage_Manager","FA Production > Stage Manager    (Starts: 12/30/2023)","PP000000922_FA_Production>Stage_Manager-FA Production > Stage Manager    (Starts: 12/30/2023)","Project Plan","FD02","Active","2025-01-12T03:04:21.650491+00:00"]
[null,null,null,null,null,null,"PP000000923_FA_Production>Front_of_House","FA Production > Front of House    (Starts: 12/30/2023)","PP000000923_FA_Production>Front_of_House-FA Production > Front of House    (Starts: 12/30/2023)","Project Plan","FD02","Active","2025-01-12T03:04:21.772455+00:00"]
[null,null,null,null,null,null,"PP000001029_FA_Production>Projection","FA Production > Projection    (Starts: 12/30/2023)","PP000001029_FA_Production>Projection-FA Production > Projection    (Starts: 12/30/2023)","Project Plan","FD02","Active","2025-01-12T03:04:21.772455+00:00"]
[null,null,null,null,null,null,"PP000002428_FA_Production>Marketing","FA Production > Marketing    (Starts: 12/30/2023)","PP000002428_FA_Production>Marketing-FA Production > Marketing    (Starts: 12/30/2023)","Project Plan","FD02","Active","2025-01-12T03:04:22.083811+00:00"]
[null,null,null,null,null,null,"PP000002490_FA_Production>Creative","FA Production > Creative    (Starts: 12/30/2023)","PP000002490_FA_Production>Creative-FA Production > Creative    (Starts: 12/30/2023)","Project Plan","FD02","Active","2025-01-12T03:04:22.024732+00:00"]
[null,null,null,null,null,null,"PP000002567_FA_Production>Other","FA Production > Other    (Starts: 12/30/2023)","PP000002567_FA_Production>Other-FA Production > Other    (Starts: 12/30/2023)","Project Plan","FD02","Active","2025-01-12T03:04:22.083811+00:00"]
[null,null,null,null,null,null,"PP000002872_FA_Production>Props","FA Production > Props    (Starts: 12/30/2023)","PP000002872_FA_Production>Props-FA Production > Props    (Starts: 12/30/2023)","Project Plan","FD02","Active","2025-01-12T03:04:22.083811+00:00"]
[null,null,null,null,null,null,"PP000003036_FA_Production>Other","FA Production > Other    (Starts: 02/01/2024)","PP000003036_FA_Production>Other-FA Production > Other    (Starts: 02/01/2024)","Project Plan","FD02","Active","2025-01-12T03:04:22.134052+00:00"]
[null,null,null,null,null,null,"PP000003533_FA_Production>Scene_Shop","FA Production > Scene Shop    (Starts: 09/30/2024)","PP000003533_FA_Production>Scene_Shop-FA Production > Scene Shop    (Starts: 09/30/2024)","Project Plan","FD02","Active","2025-01-12T03:04:22.083811+00:00"]
[null,null,null,null,null,null,"PPOP000000105_OIT>b>Enhancement","OIT > Enhancement  (01/01/2025 - 12/31/2025)","PPOP000000105_OIT>b>Enhancement-OIT > Enhancement  (01/01/2025 - 12/31/2025)","Project Plan","FD01","Active","2025-01-02T03:05:12.976"]
[null,null,null,null,null,null,"PPOP000000124_OIT>b>Enhancement","OIT > Enhancement  (01/01/2025 - 12/31/2025)","PPOP000000124_OIT>b>Enhancement-OIT > Enhancement  (01/01/2025 - 12/31/2025)","Project Plan","FD01","Active","2025-01-02T03:05:13.038"]
[null,null,null,null,null,null,"PPOP000000143_OIT>b>Enhancement","OIT > Enhancement  (01/01/2025 - 12/31/2025)","PPOP000000143_OIT>b>Enhancement-OIT > Enhancement  (01/01/2025 - 12/31/2025)","Project Plan","FD01","Active","2025-01-02T03:05:13.038"]
[null,null,null,null,null,null,"PPOP000000234_OIT>c>Order_Fulfillment","OIT > Order Fulfillment","PPOP000000234_OIT>c>Order_Fulfillment-OIT > Order Fulfillment","Project Plan","FD01","Active","2025-01-08T03:04:37.01015+00:00"]
[null,null,null,null,null,null,"PROJECT_PLAN_TASK-PJP101463-V1145","PJP101463-V1145 > V1145    (Starts: 11/30/2006)","PROJECT_PLAN_TASK-PJP101463-V1145-PJP101463-V1145 > V1145    (Starts: 11/30/2006)","Project Plan","FD01","Active","2025-01-02T03:05:14.896"]
[null,null,null,null,null,null,"PROJECT_PLAN_TASK-PJP104338-98241","PJP104338-581 > 98241    (Starts: 07/14/2021)","PROJECT_PLAN_TASK-PJP104338-98241-PJP104338-581 > 98241    (Starts: 07/14/2021)","Project Plan","FD01","Active","2025-01-02T03:05:13.488"]
[null,null,null,null,null,null,"PROJECT_PLAN_TASK-PJP1047-98114","PJP1047-350 > 98114    (Starts: 06/12/2018)","PROJECT_PLAN_TASK-PJP1047-98114-PJP1047-350 > 98114    (Starts: 06/12/2018)","Project Plan","FD01","Active","2025-01-02T03:05:13.440"]
[null,null,null,null,null,null,"PROJECT_PLAN_TASK-PJP1062-65253","PJP1062-382 > 65253    (Starts: 12/30/2024)","PROJECT_PLAN_TASK-PJP1062-65253-PJP1062-382 > 65253    (Starts: 12/30/2024)","Project Plan","FD01","Active","2025-01-02T03:05:14.342"]
[null,null,null,null,null,null,"PROJECT_PLAN_TASK-PJP1064-97170","PJP1064-384 > 97170    (Starts: 11/07/2016)","PROJECT_PLAN_TASK-PJP1064-97170-PJP1064-384 > 97170    (Starts: 11/07/2016)","Project Plan","FD01","Active","2025-01-02T03:05:14.399"]
[null,null,null,null,null,null,"PROJECT_PLAN_TASK-PJP1068-96801","PJP1068-390 > 96801    (Starts: 06/02/2023)","PROJECT_PLAN_TASK-PJP1068-96801-PJP1068-390 > 96801    (Starts: 06/02/2023)","Project Plan","FD01","Active","2025-01-02T03:05:14.448"]
[null,null,null,null,null,null,"PROJECT_PLAN_TASK-PJP1071-62196","PJP1071-393 > 62196    (Starts: 11/21/2024)","PROJECT_PLAN_TASK-PJP1071-62196-PJP1071-393 > 62196    (Starts: 11/21/2024)","Project Plan","FD01","Active","2025-01-02T03:05:14.448"]
[null,null,null,null,null,null,"PROJECT_PLAN_TASK-PJP107278-V1155","PJP107278-V1155 > V1155    (Starts: 03/27/2008)","PROJECT_PLAN_TASK-PJP107278-V1155-PJP107278-V1155 > V1155    (Starts: 03/27/2008)","Project Plan","FD01","Active","2025-01-02T03:05:15.011"]
[null,null,null,null,null,null,"PROJECT_PLAN_TASK-PJP1081-99241","PJP1081-404 > 99241    (Starts: 09/15/2008)","PROJECT_PLAN_TASK-PJP1081-99241-PJP1081-404 > 99241    (Starts: 09/15/2008)","Project Plan","FD01","Active","2025-01-02T03:05:14.608"]
[null,null,null,null,null,null,"PROJECT_PLAN_TASK-PJP109898-V605","PJP109898-V605 > V605    (Starts: 10/16/2008)","PROJECT_PLAN_TASK-PJP109898-V605-PJP109898-V605 > V605    (Starts: 10/16/2008)","Project Plan","FD01","Active","2025-01-02T03:05:16.468"]
[null,null,null,null,null,null,"PROJECT_PLAN_TASK-PJP112591-97925","PJP112591-603 > 97925    (Starts: 01/08/2018)","PROJECT_PLAN_TASK-PJP112591-97925-PJP112591-603 > 97925    (Starts: 01/08/2018)","Project Plan","FD01","Active","2025-01-02T03:05:13.488"]
[null,null,null,null,null,null,"PROJECT_PLAN_TASK-PJP1132-64969","PJP1132-360 > 64969  (12/20/2024 - 01/09/2025)","PROJECT_PLAN_TASK-PJP1132-64969-PJP1132-360 > 64969  (12/20/2024 - 01/09/2025)","Project Plan","FD01","Active","2025-01-02T03:05:13.547"]
[null,null,null,null,null,null,"PROJECT_PLAN_TASK-PJP1135-57842","PJP1135-363 > 57842  (10/16/2024 - 01/10/2025)","PROJECT_PLAN_TASK-PJP1135-57842-PJP1135-363 > 57842  (10/16/2024 - 01/10/2025)","Project Plan","FD01","Active","2025-01-02T03:05:13.644"]
[null,null,null,null,null,null,"PROJECT_PLAN_TASK-PJP1135-97766","PJP1135-363 > 97766    (Starts: 02/08/2007)","PROJECT_PLAN_TASK-PJP1135-97766-PJP1135-363 > 97766    (Starts: 02/08/2007)","Project Plan","FD01","Active","2025-01-02T03:05:13.644"]
[null,null,null,null,null,null,"PROJECT_PLAN_TASK-PJP1135-99459","PJP1135-363 > 99459    (Starts: 11/14/2008)","PROJECT_PLAN_TASK-PJP1135-99459-PJP1135-363 > 99459    (Starts: 11/14/2008)","Project Plan","FD01","Active","2025-01-02T03:05:13.703"]
[null,null,null,null,null,null,"PROJECT_PLAN_TASK-PJP114043-59651","PJP114043-V488 > 59651  (10/30/2024 - 01/01/2025)","PROJECT_PLAN_TASK-PJP114043-59651-PJP114043-V488 > 59651  (10/30/2024 - 01/01/2025)","Project Plan","FD01","Active","2025-01-02T03:05:16.359"]
[null,null,null,null,null,null,"PROJECT_PLAN_TASK-PJP1141-99886","PJP1141-369 > 99886    (Starts: 03/01/2004)","PROJECT_PLAN_TASK-PJP1141-99886-PJP1141-369 > 99886    (Starts: 03/01/2004)","Project Plan","FD01","Active","2025-01-02T03:05:14.122"]
[null,null,null,null,null,null,"PROJECT_PLAN_TASK-PJP115226-64266","PJP115226-705 > 64266    (Starts: 12/13/2024)","PROJECT_PLAN_TASK-PJP115226-64266-PJP115226-705 > 64266    (Starts: 12/13/2024)","Project Plan","FD01","Active","2025-01-02T03:05:13.547"]
[null,null,null,null,null,null,"PROJECT_PLAN_TASK-PJP115930-V1121","PJP115930-V1121 > V1121    (Starts: 05/18/2010)","PROJECT_PLAN_TASK-PJP115930-V1121-PJP115930-V1121 > V1121    (Starts: 05/18/2010)","Project Plan","FD01","Active","2025-01-02T03:05:14.896"]
[null,null,null,null,null,null,"PROJECT_PLAN_TASK-PJP117433-63984","PJP117433-379 > 63984    (Starts: 12/11/2024)","PROJECT_PLAN_TASK-PJP117433-63984-PJP117433-379 > 63984    (Starts: 12/11/2024)","Project Plan","FD01","Active","2025-01-02T03:05:13.194"]
[null,null,null,null,null,null,"PROJECT_PLAN_TASK-PJP1177-54039","PJP1177-621 > 54039    (Starts: 09/13/2024)","PROJECT_PLAN_TASK-PJP1177-54039-PJP1177-621 > 54039    (Starts: 09/13/2024)","Project Plan","FD01","Active","2025-01-02T03:05:15.600"]
[null,null,null,null,null,null,"PROJECT_PLAN_TASK-PJP119572-V179","PJP119572-V179 > V179    (Starts: 04/11/2011)","PROJECT_PLAN_TASK-PJP119572-V179-PJP119572-V179 > V179    (Starts: 04/11/2011)","Project Plan","FD01","Active","2025-01-02T03:05:15.135"]
[null,null,null,null,null,null,"PROJECT_PLAN_TASK-PJP12291-96770","PJP12291-357 > 96770    (Starts: 08/03/2020)","PROJECT_PLAN_TASK-PJP12291-96770-PJP12291-357 > 96770    (Starts: 08/03/2020)","Project Plan","FD01","Active","2025-01-02T03:05:13.547"]
[null,null,null,null,null,null,"PROJECT_PLAN_TASK-PJP125461-V3075","PJP125461-V3075 > V3075    (Starts: 08/01/2012)","PROJECT_PLAN_TASK-PJP125461-V3075-PJP125461-V3075 > V3075    (Starts: 08/01/2012)","Project Plan","FD01","Active","2025-01-02T03:05:15.975"]
[null,null,null,null,null,null,"PROJECT_PLAN_TASK-PJP1288-64397","PJP1288-697 > 64397  (12/16/2024 - 01/01/2025)","PROJECT_PLAN_TASK-PJP1288-64397-PJP1288-697 > 64397  (12/16/2024 - 01/01/2025)","Project Plan","FD01","Active","2025-01-02T03:05:15.600"]
[null,null,null,null,null,null,"PROJECT_PLAN_TASK-PJP131684-V531V","PJP131684-V531V > V531V    (Starts: 10/14/2013)","PROJECT_PLAN_TASK-PJP131684-V531V-PJP131684-V531V > V531V    (Starts: 10/14/2013)","Project Plan","FD01","Active","2025-01-02T03:05:16.275"]
[null,null,null,null,null,null,"PROJECT_PLAN_TASK-PJP1332-96969","PJP1332-401 > 96969    (Starts: 11/25/2020)","PROJECT_PLAN_TASK-PJP1332-96969-PJP1332-401 > 96969    (Starts: 11/25/2020)","Project Plan","FD01","Active","2025-01-02T03:05:14.608"]
[null,null,null,null,null,null,"PROJECT_PLAN_TASK-PJP1334-97339","PJP1334-501 > 97339    (Starts: 04/29/2024)","PROJECT_PLAN_TASK-PJP1334-97339-PJP1334-501 > 97339    (Starts: 04/29/2024)","Project Plan","FD01","Active","2025-01-02T03:05:14.896"]
[null,null,null,null,null,null,"PROJECT_PLAN_TASK-PJP1334-98438","PJP1334-501 > 98438    (Starts: 10/20/2021)","PROJECT_PLAN_TASK-PJP1334-98438-PJP1334-501 > 98438    (Starts: 10/20/2021)","Project Plan","FD01","Active","2025-01-02T03:05:14.896"]
[null,null,null,null,null,null,"PROJECT_PLAN_TASK-PJP134172-97818","PJP134172-375 > 97818    (Starts: 11/29/2017)","PROJECT_PLAN_TASK-PJP134172-97818-PJP134172-375 > 97818    (Starts: 11/29/2017)","Project Plan","FD01","Active","2025-01-02T03:05:13.341"]
[null,null,null,null,null,null,"PROJECT_PLAN_TASK-PJP134172-98473","PJP134172-375 > 98473    (Starts: 02/04/2019)","PROJECT_PLAN_TASK-PJP134172-98473-PJP134172-375 > 98473    (Starts: 02/04/2019)","Project Plan","FD01","Active","2025-01-02T03:05:13.341"]
[null,null,null,null,null,null,"PROJECT_PLAN_TASK-PJP1349-95244","PJP1349-520 > 95244    (Starts: 11/03/2014)","PROJECT_PLAN_TASK-PJP1349-95244-PJP1349-520 > 95244    (Starts: 11/03/2014)","Project Plan","FD01","Active","2025-01-02T03:05:15.135"]
[null,null,null,null,null,null,"PROJECT_PLAN_TASK-PJP1349-98545","PJP1349-520 > 98545    (Starts: 11/05/2021)","PROJECT_PLAN_TASK-PJP1349-98545-PJP1349-520 > 98545    (Starts: 11/05/2021)","Project Plan","FD01","Active","2025-01-02T03:05:15.135"]
[null,null,null,null,null,null,"PROJECT_PLAN_TASK-PJP135375-62728","PJP135375-V2024 > 62728    (Starts: 11/27/2024)","PROJECT_PLAN_TASK-PJP135375-62728-PJP135375-V2024 > 62728    (Starts: 11/27/2024)","Project Plan","FD01","Active","2025-01-02T03:05:15.364"]
[null,null,null,null,null,null,"PROJECT_PLAN_TASK-PJP138612-V3270","PJP138612-V3270 > V3270    (Starts: 04/06/2015)","PROJECT_PLAN_TASK-PJP138612-V3270-PJP138612-V3270 > V3270    (Starts: 04/06/2015)","Project Plan","FD01","Active","2025-01-02T03:05:15.975"]
[null,null,null,null,null,null,"PROJECT_PLAN_TASK-PJP1393-901","PJP1393-901 > 901    (Starts: 01/01/1900)","PROJECT_PLAN_TASK-PJP1393-901-PJP1393-901 > 901    (Starts: 01/01/1900)","Project Plan","FD01","Active","2025-01-02T03:05:15.975"]
[null,null,null,null,null,null,"PROJECT_PLAN_TASK-PJP1422-458","PJP1422-458 > 458    (Starts: 01/01/1900)","PROJECT_PLAN_TASK-PJP1422-458-PJP1422-458 > 458    (Starts: 01/01/1900)","Project Plan","FD01","Active","2025-01-02T03:05:14.767"]
[null,null,null,null,null,null,"PROJECT_PLAN_TASK-PJP1442-64817","PJP1442-580 > 64817    (Starts: 12/19/2024)","PROJECT_PLAN_TASK-PJP1442-64817-PJP1442-580 > 64817    (Starts: 12/19/2024)","Project Plan","FD01","Active","2025-01-02T03:05:15.509"]
[null,null,null,null,null,null,"PROJECT_PLAN_TASK-PJP146330-V226","PJP146330-V226 > V226    (Starts: 11/18/2016)","PROJECT_PLAN_TASK-PJP146330-V226-PJP146330-V226 > V226    (Starts: 11/18/2016)","Project Plan","FD01","Active","2025-01-02T03:05:15.730"]
[null,null,null,null,null,null,"PROJECT_PLAN_TASK-PJP149791-ET3N","PJP149791-ET3N > ET3N    (Starts: 08/25/2017)","PROJECT_PLAN_TASK-PJP149791-ET3N-PJP149791-ET3N > ET3N    (Starts: 08/25/2017)","Project Plan","FD01","Active","2025-01-02T03:05:14.658"]
[null,null,null,null,null,null,"PROJECT_PLAN_TASK-PJP152209-VCN21","PJP152209-VCN21 > VCN21    (Starts: 03/14/2018)","PROJECT_PLAN_TASK-PJP152209-VCN21-PJP152209-VCN21 > VCN21    (Starts: 03/14/2018)","Project Plan","FD01","Active","2025-01-02T03:05:16.631"]
[null,null,null,null,null,null,"PROJECT_PLAN_TASK-PJP153014-58663","PJP153014-V314 > 58663  (10/22/2024 - 01/01/2025)","PROJECT_PLAN_TASK-PJP153014-58663-PJP153014-V314 > 58663  (10/22/2024 - 01/01/2025)","Project Plan","FD01","Active","2025-01-02T03:05:15.975"]
[null,null,null,null,null,null,"PROJECT_PLAN_TASK-PJP153523-98810","PJP153523-405 > 98810    (Starts: 01/14/1999)","PROJECT_PLAN_TASK-PJP153523-98810-PJP153523-405 > 98810    (Starts: 01/14/1999)","Project Plan","FD01","Active","2025-01-02T03:05:13.385"]
[null,null,null,null,null,null,"PROJECT_PLAN_TASK-PJP155281-VMP30","PJP155281-VMP30 > VMP30    (Starts: 11/06/2018)","PROJECT_PLAN_TASK-PJP155281-VMP30-PJP155281-VMP30 > VMP30    (Starts: 11/06/2018)","Project Plan","FD01","Active","2025-01-02T03:05:16.841"]
[null,null,null,null,null,null,"PROJECT_PLAN_TASK-PJP156883-629","PJP156883-629 > 629    (Starts: 03/20/2019)","PROJECT_PLAN_TASK-PJP156883-629-PJP156883-629 > 629    (Starts: 03/20/2019)","Project Plan","FD01","Active","2025-01-02T03:05:13.703"]
[null,null,null,null,null,null,"PROJECT_PLAN_TASK-PJP156886-99646","PJP156886-632 > 99646    (Starts: 02/25/2020)","PROJECT_PLAN_TASK-PJP156886-99646-PJP156886-632 > 99646    (Starts: 02/25/2020)","Project Plan","FD01","Active","2025-01-02T03:05:13.598"]
[null,null,null,null,null,null,"PROJECT_PLAN_TASK-PJP156887-96812","PJP156887-634 > 96812    (Starts: 03/15/2024)","PROJECT_PLAN_TASK-PJP156887-96812-PJP156887-634 > 96812    (Starts: 03/15/2024)","Project Plan","FD01","Active","2025-01-02T03:05:13.761"]
[null,null,null,null,null,null,"PROJECT_PLAN_TASK-PJP156887-97345","PJP156887-634 > 97345    (Starts: 03/26/2021)","PROJECT_PLAN_TASK-PJP156887-97345-PJP156887-634 > 97345    (Starts: 03/26/2021)","Project Plan","FD01","Active","2025-01-02T03:05:13.761"]
[null,null,null,null,null,null,"PROJECT_PLAN_TASK-PJP156887-99054","PJP156887-634 > 99054    (Starts: 10/17/2023)","PROJECT_PLAN_TASK-PJP156887-99054-PJP156887-634 > 99054    (Starts: 10/17/2023)","Project Plan","FD01","Active","2025-01-02T03:05:13.829"]
[null,null,null,null,null,null,"PROJECT_PLAN_TASK-PJP156887-99349","PJP156887-634 > 99349    (Starts: 10/25/2023)","PROJECT_PLAN_TASK-PJP156887-99349-PJP156887-634 > 99349    (Starts: 10/25/2023)","Project Plan","FD01","Active","2025-01-02T03:05:13.829"]
[null,null,null,null,null,null,"PROJECT_PLAN_TASK-PJP156887-99592","PJP156887-634 > 99592    (Starts: 02/19/2020)","PROJECT_PLAN_TASK-PJP156887-99592-PJP156887-634 > 99592    (Starts: 02/19/2020)","Project Plan","FD01","Active","2025-01-02T03:05:13.908"]
[null,null,null,null,null,null,"PROJECT_PLAN_TASK-PJP156888-95139","PJP156888-635 > 95139    (Starts: 10/24/2022)","PROJECT_PLAN_TASK-PJP156888-95139-PJP156888-635 > 95139    (Starts: 10/24/2022)","Project Plan","FD01","Active","2025-01-02T03:05:13.908"]
[null,null,null,null,null,null,"PROJECT_PLAN_TASK-PJP156888-96321","PJP156888-635 > 96321    (Starts: 11/04/2024)","PROJECT_PLAN_TASK-PJP156888-96321-PJP156888-635 > 96321    (Starts: 11/04/2024)","Project Plan","FD01","Active","2025-01-02T03:05:13.908"]
[null,null,null,null,null,null,"PROJECT_PLAN_TASK-PJP156888-97575","PJP156888-635 > 97575    (Starts: 05/05/2021)","PROJECT_PLAN_TASK-PJP156888-97575-PJP156888-635 > 97575    (Starts: 05/05/2021)","Project Plan","FD01","Active","2025-01-02T03:05:13.955"]
[null,null,null,null,null,null,"PROJECT_PLAN_TASK-PJP156888-99047","PJP156888-635 > 99047    (Starts: 06/21/2024)","PROJECT_PLAN_TASK-PJP156888-99047-PJP156888-635 > 99047    (Starts: 06/21/2024)","Project Plan","FD01","Active","2025-01-02T03:05:13.955"]
[null,null,null,null,null,null,"PROJECT_PLAN_TASK-PJP156888-99989","PJP156888-635 > 99989    (Starts: 03/10/2020)","PROJECT_PLAN_TASK-PJP156888-99989-PJP156888-635 > 99989    (Starts: 03/10/2020)","Project Plan","FD01","Active","2025-01-02T03:05:14.024"]
[null,null,null,null,null,null,"PROJECT_PLAN_TASK-PJP156889-95815","PJP156889-636 > 95815    (Starts: 04/03/2020)","PROJECT_PLAN_TASK-PJP156889-95815-PJP156889-636 > 95815    (Starts: 04/03/2020)","Project Plan","FD01","Active","2025-01-02T03:05:14.024"]
[null,null,null,null,null,null,"PROJECT_PLAN_TASK-PJP156891-99775","PJP156891-638 > 99775    (Starts: 02/07/2024)","PROJECT_PLAN_TASK-PJP156891-99775-PJP156891-638 > 99775    (Starts: 02/07/2024)","Project Plan","FD01","Active","2025-01-02T03:05:13.644"]
[null,null,null,null,null,null,"PROJECT_PLAN_TASK-PJP156942-661","PJP156942-661 > 661    (Starts: 03/21/2019)","PROJECT_PLAN_TASK-PJP156942-661-PJP156942-661 > 661    (Starts: 03/21/2019)","Project Plan","FD01","Active","2025-01-07T03:03:55.335241+00:00"]
[null,null,null,null,null,null,"PROJECT_PLAN_TASK-PJP156943-95921","PJP156943-662 > 95921    (Starts: 04/07/2020)","PROJECT_PLAN_TASK-PJP156943-95921-PJP156943-662 > 95921    (Starts: 04/07/2020)","Project Plan","FD01","Active","2025-01-02T03:05:14.168"]
[null,null,null,null,null,null,"PROJECT_PLAN_TASK-PJP156943-96097","PJP156943-662 > 96097    (Starts: 05/21/2020)","PROJECT_PLAN_TASK-PJP156943-96097-PJP156943-662 > 96097    (Starts: 05/21/2020)","Project Plan","FD01","Active","2025-01-02T03:05:14.212"]
[null,null,null,null,null,null,"PROJECT_PLAN_TASK-PJP156943-96211","PJP156943-662 > 96211    (Starts: 05/27/2020)","PROJECT_PLAN_TASK-PJP156943-96211-PJP156943-662 > 96211    (Starts: 05/27/2020)","Project Plan","FD01","Active","2025-01-02T03:05:14.212"]
[null,null,null,null,null,null,"PROJECT_PLAN_TASK-PJP156943-96409","PJP156943-662 > 96409    (Starts: 06/03/2020)","PROJECT_PLAN_TASK-PJP156943-96409-PJP156943-662 > 96409    (Starts: 06/03/2020)","Project Plan","FD01","Active","2025-01-02T03:05:14.258"]
[null,null,null,null,null,null,"PROJECT_PLAN_TASK-PJP156943-96456","PJP156943-662 > 96456    (Starts: 06/05/2020)","PROJECT_PLAN_TASK-PJP156943-96456-PJP156943-662 > 96456    (Starts: 06/05/2020)","Project Plan","FD01","Active","2025-01-02T03:05:14.258"]
[null,null,null,null,null,null,"PROJECT_PLAN_TASK-PJP156943-96654","PJP156943-662 > 96654    (Starts: 06/18/2020)","PROJECT_PLAN_TASK-PJP156943-96654-PJP156943-662 > 96654    (Starts: 06/18/2020)","Project Plan","FD01","Active","2025-01-02T03:05:14.299"]
[null,null,null,null,null,null,"PROJECT_PLAN_TASK-PJP156943-98014","PJP156943-662 > 98014    (Starts: 09/29/2023)","PROJECT_PLAN_TASK-PJP156943-98014-PJP156943-662 > 98014    (Starts: 09/29/2023)","Project Plan","FD01","Active","2025-01-02T03:05:14.299"]
[null,null,null,null,null,null,"PROJECT_PLAN_TASK-PJP156943-98528","PJP156943-662 > 98528    (Starts: 05/23/2024)","PROJECT_PLAN_TASK-PJP156943-98528-PJP156943-662 > 98528    (Starts: 05/23/2024)","Project Plan","FD01","Active","2025-01-02T03:05:14.342"]
[null,null,null,null,null,null,"PROJECT_PLAN_TASK-PJP157637-61151","PJP157637-V1164 > 61151  (11/13/2024 - 01/01/2025)","PROJECT_PLAN_TASK-PJP157637-61151-PJP157637-V1164 > 61151  (11/13/2024 - 01/01/2025)","Project Plan","FD01","Active","2025-01-02T03:05:15.011"]
[null,null,null,null,null,null,"PROJECT_PLAN_TASK-PJP160218-V3010","PJP160218-V3010 > V3010    (Starts: 12/02/2019)","PROJECT_PLAN_TASK-PJP160218-V3010-PJP160218-V3010 > V3010    (Starts: 12/02/2019)","Project Plan","FD01","Active","2025-01-02T03:05:15.858"]
[null,null,null,null,null,null,"PROJECT_PLAN_TASK-PJP160387-V436","PJP160387-V436 > V436    (Starts: 12/18/2019)","PROJECT_PLAN_TASK-PJP160387-V436-PJP160387-V436 > V436    (Starts: 12/18/2019)","Project Plan","FD01","Active","2025-01-02T03:05:16.191"]
[null,null,null,null,null,null,"PROJECT_PLAN_TASK-PJP162399-EHR13","PJP162399-EHR13 > EHR13    (Starts: 07/30/2020)","PROJECT_PLAN_TASK-PJP162399-EHR13-PJP162399-EHR13 > EHR13    (Starts: 07/30/2020)","Project Plan","FD01","Active","2025-01-02T03:05:14.548"]
[null,null,null,null,null,null,"PROJECT_PLAN_TASK-PJP164207-672","PJP164207-672 > 672    (Starts: 02/10/2021)","PROJECT_PLAN_TASK-PJP164207-672-PJP164207-672 > 672    (Starts: 02/10/2021)","Project Plan","FD01","Active","2025-01-02T03:05:14.342"]
[null,null,null,null,null,null,"PROJECT_PLAN_TASK-PJP166454-V1V","PJP166454-V1V > V1V    (Starts: 08/26/2021)","PROJECT_PLAN_TASK-PJP166454-V1V-PJP166454-V1V > V1V    (Starts: 08/26/2021)","Project Plan","FD01","Active","2025-01-02T03:05:15.268"]
[null,null,null,null,null,null,"PROJECT_PLAN_TASK-PJP168534-V1081","PJP168534-V1081 > V1081    (Starts: 03/07/2022)","PROJECT_PLAN_TASK-PJP168534-V1081-PJP168534-V1081 > V1081    (Starts: 03/07/2022)","Project Plan","FD01","Active","2025-01-02T03:05:14.896"]
[null,null,null,null,null,null,"PROJECT_PLAN_TASK-PJP16937-VPR0","PJP16937-VPR0 > VPR0    (Starts: 08/15/1986)","PROJECT_PLAN_TASK-PJP16937-VPR0-PJP16937-VPR0 > VPR0    (Starts: 08/15/1986)","Project Plan","FD01","Active","2025-01-02T03:05:16.541"]
[null,null,null,null,null,null,"PROJECT_PLAN_TASK-PJP170137-VPW4V","PJP170137-VPW4V > VPW4V    (Starts: 07/15/2022)","PROJECT_PLAN_TASK-PJP170137-VPW4V-PJP170137-VPW4V > VPW4V    (Starts: 07/15/2022)","Project Plan","FD01","Active","2025-01-02T03:05:17.321"]
[null,null,null,null,null,null,"PROJECT_PLAN_TASK-PJP170912-M9224","PJP170912-M9224 > M9224    (Starts: 01/05/2023)","PROJECT_PLAN_TASK-PJP170912-M9224-PJP170912-M9224 > M9224    (Starts: 01/05/2023)","Project Plan","FD01","Active","2025-01-02T03:05:14.080"]
[null,null,null,null,null,null,"PROJECT_PLAN_TASK-PJP171463-96349","PJP171463-355 > 96349    (Starts: 11/19/2024)","PROJECT_PLAN_TASK-PJP171463-96349-PJP171463-355 > 96349    (Starts: 11/19/2024)","Project Plan","FD01","Active","2025-01-02T03:05:13.093"]
[null,null,null,null,null,null,"PROJECT_PLAN_TASK-PJP172217-N1180","PJP172217-N1180 > N1180    (Starts: 01/24/2024)","PROJECT_PLAN_TASK-PJP172217-N1180-PJP172217-N1180 > N1180    (Starts: 01/24/2024)","Project Plan","FD01","Active","2025-01-02T03:05:14.168"]
[null,null,null,null,null,null,"PROJECT_PLAN_TASK-PJP173153-56689","PJP173153-371 > 56689    (Starts: 10/07/2024)","PROJECT_PLAN_TASK-PJP173153-56689-PJP173153-371 > 56689    (Starts: 10/07/2024)","Project Plan","FD01","Active","2025-01-02T03:05:13.194"]
[null,null,null,null,null,null,"PROJECT_PLAN_TASK-PJP174447-35853","PJP174447-VSM3 > 35853    (Starts: 04/24/2024)","PROJECT_PLAN_TASK-PJP174447-35853-PJP174447-VSM3 > 35853    (Starts: 04/24/2024)","Project Plan","FD01","Active","2025-01-02T03:05:17.321"]
[null,null,null,null,null,null,"PROJECT_PLAN_TASK-PJP174945-VSC3","PJP174945-VSC3 > VSC3    (Starts: 07/07/2023)","PROJECT_PLAN_TASK-PJP174945-VSC3-PJP174945-VSC3 > VSC3    (Starts: 07/07/2023)","Project Plan","FD01","Active","2025-01-02T03:05:17.321"]
[null,null,null,null,null,null,"PROJECT_PLAN_TASK-PJP175784-N3842","PJP175784-N3842 > N3842    (Starts: 01/04/2024)","PROJECT_PLAN_TASK-PJP175784-N3842-PJP175784-N3842 > N3842    (Starts: 01/04/2024)","Project Plan","FD01","Active","2025-01-02T03:05:14.608"]
[null,null,null,null,null,null,"PROJECT_PLAN_TASK-PJP175957-N4012","PJP175957-N4012 > N4012    (Starts: 01/04/2024)","PROJECT_PLAN_TASK-PJP175957-N4012-PJP175957-N4012 > N4012    (Starts: 01/04/2024)","Project Plan","FD01","Active","2025-01-02T03:05:14.767"]
[null,null,null,null,null,null,"PROJECT_PLAN_TASK-PJP176904-VLD8","PJP176904-VLD8 > VLD8    (Starts: 11/06/2023)","PROJECT_PLAN_TASK-PJP176904-VLD8-PJP176904-VLD8 > VLD8    (Starts: 11/06/2023)","Project Plan","FD01","Active","2025-01-02T03:05:17.238"]
[null,null,null,null,null,null,"PROJECT_PLAN_TASK-PJP177422-867","PJP177422-867 > 867    (Starts: 12/19/2023)","PROJECT_PLAN_TASK-PJP177422-867-PJP177422-867 > 867    (Starts: 12/19/2023)","Project Plan","FD01","Active","2025-01-02T03:05:13.488"]
[null,null,null,null,null,null,"PROJECT_PLAN_TASK-PJP178159-N5670","PJP178159-N5670 > N5670    (Starts: 06/17/2024)","PROJECT_PLAN_TASK-PJP178159-N5670-PJP178159-N5670 > N5670    (Starts: 06/17/2024)","Project Plan","FD01","Active","2025-01-02T03:05:14.896"]
[null,null,null,null,null,null,"PROJECT_PLAN_TASK-PJP178824-VDB1","PJP178824-VDB1 > VDB1    (Starts: 04/11/2024)","PROJECT_PLAN_TASK-PJP178824-VDB1-PJP178824-VDB1 > VDB1    (Starts: 04/11/2024)","Project Plan","FD01","Active","2025-01-02T03:05:17.138"]
[null,null,null,null,null,null,"PROJECT_PLAN_TASK-PJP179312-VPD7","PJP179312-VPD7 > VPD7    (Starts: 05/13/2024)","PROJECT_PLAN_TASK-PJP179312-VPD7-PJP179312-VPD7 > VPD7    (Starts: 05/13/2024)","Project Plan","FD01","Active","2025-01-02T03:05:17.238"]
[null,null,null,null,null,null,"PROJECT_PLAN_TASK-PJP179728-V72","PJP179728-V72 > V72    (Starts: 06/12/2024)","PROJECT_PLAN_TASK-PJP179728-V72-PJP179728-V72 > V72    (Starts: 06/12/2024)","Project Plan","FD01","Active","2025-01-02T03:05:17.038"]
[null,null,null,null,null,null,"PROJECT_PLAN_TASK-PJP180160-V500","PJP180160-V500 > V500    (Starts: 07/16/2024)","PROJECT_PLAN_TASK-PJP180160-V500-PJP180160-V500 > V500    (Starts: 07/16/2024)","Project Plan","FD01","Active","2025-01-02T03:05:17.038"]
[null,null,null,null,null,null,"PROJECT_PLAN_TASK-PJP18035-56409","PJP18035-260 > 56409    (Starts: 10/03/2024)","PROJECT_PLAN_TASK-PJP18035-56409-PJP18035-260 > 56409    (Starts: 10/03/2024)","Project Plan","FD01","Active","2025-01-02T03:05:13.293"]
[null,null,null,null,null,null,"PROJECT_PLAN_TASK-PJP180650-N7409","PJP180650-N7409 > N7409  (08/15/2024 - 12/23/2024)","PROJECT_PLAN_TASK-PJP180650-N7409-PJP180650-N7409 > N7409  (08/15/2024 - 12/23/2024)","Project Plan","FD01","Active","2025-01-02T03:05:15.509"]
[null,null,null,null,null,null,"PROJECT_PLAN_TASK-PJP181250-N7914","PJP181250-N7914 > N7914  (09/16/2024 - 12/26/2024)","PROJECT_PLAN_TASK-PJP181250-N7914-PJP181250-N7914 > N7914  (09/16/2024 - 12/26/2024)","Project Plan","FD01","Active","2025-01-02T03:05:15.730"]
[null,null,null,null,null,null,"PROJECT_PLAN_TASK-PJP181654-N8256","PJP181654-N8256 > N8256    (Starts: 11/04/2024)","PROJECT_PLAN_TASK-PJP181654-N8256-PJP181654-N8256 > N8256    (Starts: 11/04/2024)","Project Plan","FD01","Active","2025-01-02T03:05:15.858"]
[null,null,null,null,null,null,"PROJECT_PLAN_TASK-PJP181924-VIT54","PJP181924-VIT54 > VIT54    (Starts: 11/08/2024)","PROJECT_PLAN_TASK-PJP181924-VIT54-PJP181924-VIT54 > VIT54    (Starts: 11/08/2024)","Project Plan","FD01","Active","2025-01-02T03:05:17.238"]
[null,null,null,null,null,null,"PROJECT_PLAN_TASK-PJP182136-N8627","PJP182136-N8627 > N8627  (11/26/2024 - 12/24/2024)","PROJECT_PLAN_TASK-PJP182136-N8627-PJP182136-N8627 > N8627  (11/26/2024 - 12/24/2024)","Project Plan","FD01","Active","2025-01-02T03:05:16.101"]
[null,null,null,null,null,null,"PROJECT_PLAN_TASK-PJP182276-N8749","PJP182276-N8749 > N8749    (Starts: 12/12/2024)","PROJECT_PLAN_TASK-PJP182276-N8749-PJP182276-N8749 > N8749    (Starts: 12/12/2024)","Project Plan","FD01","Active","2025-01-02T03:05:16.275"]
[null,null,null,null,null,null,"PROJECT_PLAN_TASK-PJP182396-N8835","PJP182396-N8835 > N8835","PROJECT_PLAN_TASK-PJP182396-N8835-PJP182396-N8835 > N8835","Project Plan","FD01","Active","2025-01-09T03:04:37.798994+00:00"]
[null,null,null,null,null,null,"PROJECT_PLAN_TASK-PJP21078-64912","PJP21078-798 > 64912    (Starts: 12/20/2024)","PROJECT_PLAN_TASK-PJP21078-64912-PJP21078-798 > 64912    (Starts: 12/20/2024)","Project Plan","FD01","Active","2025-01-02T03:05:15.858"]
[null,null,null,null,null,null,"PROJECT_PLAN_TASK-PJP26504-EJKB1","PJP26504-EJKB1 > EJKB1    (Starts: 07/12/1988)","PROJECT_PLAN_TASK-PJP26504-EJKB1-PJP26504-EJKB1 > EJKB1    (Starts: 07/12/1988)","Project Plan","FD01","Active","2025-01-02T03:05:16.275"]
[null,null,null,null,null,null,"PROJECT_PLAN_TASK-PJP28214-301","PJP28214-301 > 301    (Starts: 11/07/1988)","PROJECT_PLAN_TASK-PJP28214-301-PJP28214-301 > 301    (Starts: 11/07/1988)","Project Plan","FD01","Active","2025-01-02T03:05:13.293"]
[null,null,null,null,null,null,"PROJECT_PLAN_TASK-PJP40378-97902","PJP40378-374 > 97902    (Starts: 12/18/2017)","PROJECT_PLAN_TASK-PJP40378-97902-PJP40378-374 > 97902    (Starts: 12/18/2017)","Project Plan","FD01","Active","2025-01-02T03:05:14.168"]
[null,null,null,null,null,null,"PROJECT_PLAN_TASK-PJP4181-95387","PJP4181-512 > 95387    (Starts: 11/02/2015)","PROJECT_PLAN_TASK-PJP4181-95387-PJP4181-512 > 95387    (Starts: 11/02/2015)","Project Plan","FD01","Active","2025-01-02T03:05:15.011"]
[null,null,null,null,null,null,"PROJECT_PLAN_TASK-PJP4384-98306","PJP4384-723 > 98306    (Starts: 08/05/2021)","PROJECT_PLAN_TASK-PJP4384-98306-PJP4384-723 > 98306    (Starts: 08/05/2021)","Project Plan","FD01","Active","2025-01-02T03:05:15.730"]
[null,null,null,null,null,null,"PROJECT_PLAN_TASK-PJP45741-64941","PJP45741-559 > 64941    (Starts: 12/20/2024)","PROJECT_PLAN_TASK-PJP45741-64941-PJP45741-559 > 64941    (Starts: 12/20/2024)","Project Plan","FD01","Active","2025-01-02T03:05:15.364"]
[null,null,null,null,null,null,"PROJECT_PLAN_TASK-PJP50275-V2157V","PJP50275-V2157V > V2157V    (Starts: 05/12/1994)","PROJECT_PLAN_TASK-PJP50275-V2157V-PJP50275-V2157V > V2157V    (Starts: 05/12/1994)","Project Plan","FD01","Active","2025-01-02T03:05:16.468"]
[null,null,null,null,null,null,"PROJECT_PLAN_TASK-PJP55098-96943","PJP55098-368 > 96943    (Starts: 11/22/2020)","PROJECT_PLAN_TASK-PJP55098-96943-PJP55098-368 > 96943    (Starts: 11/22/2020)","Project Plan","FD01","Active","2025-01-02T03:05:13.236"]
[null,null,null,null,null,null,"PROJECT_PLAN_TASK-PJP57052-ENMTV","PJP57052-ENMTV > ENMTV    (Starts: 11/10/1995)","PROJECT_PLAN_TASK-PJP57052-ENMTV-PJP57052-ENMTV > ENMTV    (Starts: 11/10/1995)","Project Plan","FD01","Active","2025-01-02T03:05:14.608"]
[null,null,null,null,null,null,"PROJECT_PLAN_TASK-PJP66608-95504","PJP66608-532 > 95504    (Starts: 03/30/2016)","PROJECT_PLAN_TASK-PJP66608-95504-PJP66608-532 > 95504    (Starts: 03/30/2016)","Project Plan","FD01","Active","2025-01-02T03:05:13.341"]
[null,null,null,null,null,null,"PROJECT_PLAN_TASK-PJP71607-56772","PJP71607-EHBL8 > 56772    (Starts: 10/07/2024)","PROJECT_PLAN_TASK-PJP71607-56772-PJP71607-EHBL8 > 56772    (Starts: 10/07/2024)","Project Plan","FD01","Active","2025-01-02T03:05:14.080"]
[null,null,null,null,null,null,"PROJECT_PLAN_TASK-PJP71608-65405","PJP71608-EUPC1 > 65405    (Starts: 12/30/2024)","PROJECT_PLAN_TASK-PJP71608-65405-PJP71608-EUPC1 > 65405    (Starts: 12/30/2024)","Project Plan","FD01","Active","2025-01-02T03:05:14.767"]
[null,null,null,null,null,null,"PROJECT_PLAN_TASK-PJP7547-984","PJP7547-984 > 984    (Starts: 06/24/1983)","PROJECT_PLAN_TASK-PJP7547-984-PJP7547-984 > 984    (Starts: 06/24/1983)","Project Plan","FD01","Active","2025-01-02T03:05:16.191"]
[null,null,null,null,null,null,"PROJECT_PLAN_TASK-PJP82159-50487","PJP82159-348 > 50487    (Starts: 08/20/2024)","PROJECT_PLAN_TASK-PJP82159-50487-PJP82159-348 > 50487    (Starts: 08/20/2024)","Project Plan","FD01","Active","2025-01-02T03:05:13.194"]
[null,null,null,null,null,null,"PROJECT_PLAN_TASK-PJP88288-59256","PJP88288-517 > 59256    (Starts: 10/28/2024)","PROJECT_PLAN_TASK-PJP88288-59256-PJP88288-517 > 59256    (Starts: 10/28/2024)","Project Plan","FD01","Active","2025-01-02T03:05:13.341"]
[null,null,null,null,null,null,"PROJECT_PLAN_TASK-PJP91208-V3065","PJP91208-V3065 > V3065    (Starts: 07/20/2004)","PROJECT_PLAN_TASK-PJP91208-V3065-PJP91208-V3065 > V3065    (Starts: 07/20/2004)","Project Plan","FD01","Active","2025-01-02T03:05:15.858"]
[null,null,null,null,null,null,"PROJECT_PLAN_TASK-PJP92390-96922","PJP92390-562 > 96922    (Starts: 11/13/2020)","PROJECT_PLAN_TASK-PJP92390-96922-PJP92390-562 > 96922    (Starts: 11/13/2020)","Project Plan","FD01","Active","2025-01-02T03:05:13.440"]
[null,null,null,null,null,null,"PROJECT_PLAN_TASK-PJP92390-96924","PJP92390-562 > 96924    (Starts: 11/13/2020)","PROJECT_PLAN_TASK-PJP92390-96924-PJP92390-562 > 96924    (Starts: 11/13/2020)","Project Plan","FD01","Active","2025-01-02T03:05:13.440"]
[null,null,null,null,null,null,"PROJECT_PLAN_TASK-PJP92390-96925","PJP92390-562 > 96925    (Starts: 11/13/2020)","PROJECT_PLAN_TASK-PJP92390-96925-PJP92390-562 > 96925    (Starts: 11/13/2020)","Project Plan","FD01","Active","2025-01-02T03:05:13.440"]
[null,null,null,null,null,null,"PROJECT_PLAN_TASK-PJP92390-96926","PJP92390-562 > 96926    (Starts: 11/13/2020)","PROJECT_PLAN_TASK-PJP92390-96926-PJP92390-562 > 96926    (Starts: 11/13/2020)","Project Plan","FD01","Active","2025-01-02T03:05:13.440"]
[null,null,null,null,null,null,"PROJECT_PLAN_TASK-PJP92390-96927","PJP92390-562 > 96927    (Starts: 11/13/2020)","PROJECT_PLAN_TASK-PJP92390-96927-PJP92390-562 > 96927    (Starts: 11/13/2020)","Project Plan","FD01","Active","2025-01-02T03:05:13.440"]
[null,null,null,null,null,null,"PROJECT_PLAN_TASK-PJP92390-97152","PJP92390-562 > 97152    (Starts: 09/28/2016)","PROJECT_PLAN_TASK-PJP92390-97152-PJP92390-562 > 97152    (Starts: 09/28/2016)","Project Plan","FD01","Active","2025-01-02T03:05:13.440"]
[null,null,null,null,null,null,"PROJECT_PLAN_TASK-PJP92390-97153","PJP92390-562 > 97153    (Starts: 09/28/2016)","PROJECT_PLAN_TASK-PJP92390-97153-PJP92390-562 > 97153    (Starts: 09/28/2016)","Project Plan","FD01","Active","2025-01-02T03:05:13.440"]
[null,null,null,null,null,null,"PROJECT_PLAN_TASK-PJP92390-97160","PJP92390-562 > 97160    (Starts: 10/10/2016)","PROJECT_PLAN_TASK-PJP92390-97160-PJP92390-562 > 97160    (Starts: 10/10/2016)","Project Plan","FD01","Active","2025-01-02T03:05:13.440"]
[null,null,null,null,null,null,"PROJECT_PLAN_TASK-PJP92390-97220","PJP92390-562 > 97220    (Starts: 03/24/2021)","PROJECT_PLAN_TASK-PJP92390-97220-PJP92390-562 > 97220    (Starts: 03/24/2021)","Project Plan","FD01","Active","2025-01-02T03:05:13.440"]
[null,null,null,null,null,null,"PROJECT_PLAN_TASK-PJP92390-97392","PJP92390-562 > 97392    (Starts: 02/09/2017)","PROJECT_PLAN_TASK-PJP92390-97392-PJP92390-562 > 97392    (Starts: 02/09/2017)","Project Plan","FD01","Active","2025-01-02T03:05:13.440"]
[null,null,null,null,null,null,"PROJECT_PLAN_TASK-PJP92390-97393","PJP92390-562 > 97393    (Starts: 02/09/2017)","PROJECT_PLAN_TASK-PJP92390-97393-PJP92390-562 > 97393    (Starts: 02/09/2017)","Project Plan","FD01","Active","2025-01-02T03:05:13.440"]
[null,null,null,null,null,null,"PROJECT_PLAN_TASK-PJP92390-97395","PJP92390-562 > 97395    (Starts: 02/09/2017)","PROJECT_PLAN_TASK-PJP92390-97395-PJP92390-562 > 97395    (Starts: 02/09/2017)","Project Plan","FD01","Active","2025-01-02T03:05:13.440"]
[null,null,null,null,null,null,"PROJECT_PLAN_TASK-PJP92390-97421","PJP92390-562 > 97421    (Starts: 04/15/2021)","PROJECT_PLAN_TASK-PJP92390-97421-PJP92390-562 > 97421    (Starts: 04/15/2021)","Project Plan","FD01","Active","2025-01-02T03:05:13.440"]
[null,null,null,null,null,null,"PROJECT_PLAN_TASK-PJP92390-97496","PJP92390-562 > 97496    (Starts: 07/05/2017)","PROJECT_PLAN_TASK-PJP92390-97496-PJP92390-562 > 97496    (Starts: 07/05/2017)","Project Plan","FD01","Active","2025-01-02T03:05:13.440"]
[null,null,null,null,null,null,"PROJECT_PLAN_TASK-PJP92390-97558","PJP92390-562 > 97558    (Starts: 06/19/2006)","PROJECT_PLAN_TASK-PJP92390-97558-PJP92390-562 > 97558    (Starts: 06/19/2006)","Project Plan","FD01","Active","2025-01-02T03:05:13.440"]
[null,null,null,null,null,null,"PROJECT_PLAN_TASK-PJP92390-97561","PJP92390-562 > 97561    (Starts: 06/23/2006)","PROJECT_PLAN_TASK-PJP92390-97561-PJP92390-562 > 97561    (Starts: 06/23/2006)","Project Plan","FD01","Active","2025-01-02T03:05:13.440"]
[null,null,null,null,null,null,"PROJECT_PLAN_TASK-PJP92390-97764","PJP92390-562 > 97764    (Starts: 11/22/2017)","PROJECT_PLAN_TASK-PJP92390-97764-PJP92390-562 > 97764    (Starts: 11/22/2017)","Project Plan","FD01","Active","2025-01-02T03:05:13.440"]
[null,null,null,null,null,null,"PROJECT_PLAN_TASK-PJP92390-97926","PJP92390-562 > 97926    (Starts: 09/28/2007)","PROJECT_PLAN_TASK-PJP92390-97926-PJP92390-562 > 97926    (Starts: 09/28/2007)","Project Plan","FD01","Active","2025-01-02T03:05:13.440"]
[null,null,null,null,null,null,"PROJECT_PLAN_TASK-PJP92390-97927","PJP92390-562 > 97927    (Starts: 09/28/2007)","PROJECT_PLAN_TASK-PJP92390-97927-PJP92390-562 > 97927    (Starts: 09/28/2007)","Project Plan","FD01","Active","2025-01-02T03:05:13.440"]
[null,null,null,null,null,null,"PROJECT_PLAN_TASK-PJP92390-97930","PJP92390-562 > 97930    (Starts: 09/28/2007)","PROJECT_PLAN_TASK-PJP92390-97930-PJP92390-562 > 97930    (Starts: 09/28/2007)","Project Plan","FD01","Active","2025-01-02T03:05:13.440"]
[null,null,null,null,null,null,"PROJECT_PLAN_TASK-PJP92390-97931","PJP92390-562 > 97931    (Starts: 09/28/2007)","PROJECT_PLAN_TASK-PJP92390-97931-PJP92390-562 > 97931    (Starts: 09/28/2007)","Project Plan","FD01","Active","2025-01-02T03:05:13.440"]
[null,null,null,null,null,null,"PROJECT_PLAN_TASK-PJP92390-98423","PJP92390-562 > 98423    (Starts: 10/20/2021)","PROJECT_PLAN_TASK-PJP92390-98423-PJP92390-562 > 98423    (Starts: 10/20/2021)","Project Plan","FD01","Active","2025-01-02T03:05:13.440"]
[null,null,null,null,null,null,"PROJECT_PLAN_TASK-PJP92390-98428","PJP92390-562 > 98428    (Starts: 10/20/2021)","PROJECT_PLAN_TASK-PJP92390-98428-PJP92390-562 > 98428    (Starts: 10/20/2021)","Project Plan","FD01","Active","2025-01-02T03:05:13.440"]
[null,null,null,null,null,null,"PROJECT_PLAN_TASK-PJP92390-98437","PJP92390-562 > 98437    (Starts: 02/04/2019)","PROJECT_PLAN_TASK-PJP92390-98437-PJP92390-562 > 98437    (Starts: 02/04/2019)","Project Plan","FD01","Active","2025-01-02T03:05:13.440"]
[null,null,null,null,null,null,"PROJECT_PLAN_TASK-PJP92390-98468","PJP92390-562 > 98468    (Starts: 10/28/2021)","PROJECT_PLAN_TASK-PJP92390-98468-PJP92390-562 > 98468    (Starts: 10/28/2021)","Project Plan","FD01","Active","2025-01-02T03:05:13.440"]
[null,null,null,null,null,null,"PROJECT_PLAN_TASK-PJP92390-98470","PJP92390-562 > 98470    (Starts: 10/28/2021)","PROJECT_PLAN_TASK-PJP92390-98470-PJP92390-562 > 98470    (Starts: 10/28/2021)","Project Plan","FD01","Active","2025-01-02T03:05:13.440"]
[null,null,null,null,null,null,"PROJECT_PLAN_TASK-PJP92390-98476","PJP92390-562 > 98476    (Starts: 05/14/2004)","PROJECT_PLAN_TASK-PJP92390-98476-PJP92390-562 > 98476    (Starts: 05/14/2004)","Project Plan","FD01","Active","2025-01-02T03:05:13.440"]
[null,null,null,null,null,null,"PROJECT_PLAN_TASK-PJP92390-98513","PJP92390-562 > 98513    (Starts: 02/28/2019)","PROJECT_PLAN_TASK-PJP92390-98513-PJP92390-562 > 98513    (Starts: 02/28/2019)","Project Plan","FD01","Active","2025-01-02T03:05:13.440"]
[null,null,null,null,null,null,"PROJECT_PLAN_TASK-PJP92390-98577","PJP92390-562 > 98577    (Starts: 03/03/2008)","PROJECT_PLAN_TASK-PJP92390-98577-PJP92390-562 > 98577    (Starts: 03/03/2008)","Project Plan","FD01","Active","2025-01-02T03:05:13.440"]
[null,null,null,null,null,null,"PROJECT_PLAN_TASK-PJP92390-98583","PJP92390-562 > 98583    (Starts: 10/08/2019)","PROJECT_PLAN_TASK-PJP92390-98583-PJP92390-562 > 98583    (Starts: 10/08/2019)","Project Plan","FD01","Active","2025-01-02T03:05:13.440"]
[null,null,null,null,null,null,"PROJECT_PLAN_TASK-PJP92390-98584","PJP92390-562 > 98584    (Starts: 10/08/2019)","PROJECT_PLAN_TASK-PJP92390-98584-PJP92390-562 > 98584    (Starts: 10/08/2019)","Project Plan","FD01","Active","2025-01-02T03:05:13.440"]
[null,null,null,null,null,null,"PROJECT_PLAN_TASK-PJP92390-98603","PJP92390-562 > 98603    (Starts: 10/08/2019)","PROJECT_PLAN_TASK-PJP92390-98603-PJP92390-562 > 98603    (Starts: 10/08/2019)","Project Plan","FD01","Active","2025-01-02T03:05:13.440"]
[null,null,null,null,null,null,"PROJECT_PLAN_TASK-PJP92390-98605","PJP92390-562 > 98605    (Starts: 10/08/2019)","PROJECT_PLAN_TASK-PJP92390-98605-PJP92390-562 > 98605    (Starts: 10/08/2019)","Project Plan","FD01","Active","2025-01-02T03:05:13.440"]
[null,null,null,null,null,null,"PROJECT_PLAN_TASK-PJP92390-98606","PJP92390-562 > 98606    (Starts: 10/08/2019)","PROJECT_PLAN_TASK-PJP92390-98606-PJP92390-562 > 98606    (Starts: 10/08/2019)","Project Plan","FD01","Active","2025-01-02T03:05:13.440"]
[null,null,null,null,null,null,"PROJECT_PLAN_TASK-PJP92390-98620","PJP92390-562 > 98620    (Starts: 10/22/2019)","PROJECT_PLAN_TASK-PJP92390-98620-PJP92390-562 > 98620    (Starts: 10/22/2019)","Project Plan","FD01","Active","2025-01-02T03:05:13.440"]
[null,null,null,null,null,null,"PROJECT_PLAN_TASK-PJP92390-98621","PJP92390-562 > 98621    (Starts: 10/22/2019)","PROJECT_PLAN_TASK-PJP92390-98621-PJP92390-562 > 98621    (Starts: 10/22/2019)","Project Plan","FD01","Active","2025-01-02T03:05:13.440"]
[null,null,null,null,null,null,"PROJECT_PLAN_TASK-PJP92390-98630","PJP92390-562 > 98630    (Starts: 05/14/2004)","PROJECT_PLAN_TASK-PJP92390-98630-PJP92390-562 > 98630    (Starts: 05/14/2004)","Project Plan","FD01","Active","2025-01-02T03:05:13.440"]
[null,null,null,null,null,null,"PROJECT_PLAN_TASK-PJP92390-98635","PJP92390-562 > 98635    (Starts: 11/05/2019)","PROJECT_PLAN_TASK-PJP92390-98635-PJP92390-562 > 98635    (Starts: 11/05/2019)","Project Plan","FD01","Active","2025-01-02T03:05:13.440"]
[null,null,null,null,null,null,"PROJECT_PLAN_TASK-PJP92390-98720","PJP92390-562 > 98720    (Starts: 12/08/2021)","PROJECT_PLAN_TASK-PJP92390-98720-PJP92390-562 > 98720    (Starts: 12/08/2021)","Project Plan","FD01","Active","2025-01-02T03:05:13.440"]
[null,null,null,null,null,null,"PROJECT_PLAN_TASK-PJP92390-98729","PJP92390-562 > 98729    (Starts: 12/08/2021)","PROJECT_PLAN_TASK-PJP92390-98729-PJP92390-562 > 98729    (Starts: 12/08/2021)","Project Plan","FD01","Active","2025-01-02T03:05:13.440"]
[null,null,null,null,null,null,"PROJECT_PLAN_TASK-PJP92390-98929","PJP92390-562 > 98929    (Starts: 07/20/2004)","PROJECT_PLAN_TASK-PJP92390-98929-PJP92390-562 > 98929    (Starts: 07/20/2004)","Project Plan","FD01","Active","2025-01-02T03:05:13.440"]
[null,null,null,null,null,null,"PROJECT_PLAN_TASK-PJP92390-98983","PJP92390-562 > 98983    (Starts: 08/23/2004)","PROJECT_PLAN_TASK-PJP92390-98983-PJP92390-562 > 98983    (Starts: 08/23/2004)","Project Plan","FD01","Active","2025-01-02T03:05:13.440"]
[null,null,null,null,null,null,"PROJECT_PLAN_TASK-PJP92390-99110","PJP92390-562 > 99110    (Starts: 04/18/2022)","PROJECT_PLAN_TASK-PJP92390-99110-PJP92390-562 > 99110    (Starts: 04/18/2022)","Project Plan","FD01","Active","2025-01-02T03:05:13.440"]
[null,null,null,null,null,null,"PROJECT_PLAN_TASK-PJP92390-99239","PJP92390-562 > 99239    (Starts: 02/23/2012)","PROJECT_PLAN_TASK-PJP92390-99239-PJP92390-562 > 99239    (Starts: 02/23/2012)","Project Plan","FD01","Active","2025-01-02T03:05:13.440"]
[null,null,null,null,null,null,"PROJECT_PLAN_TASK-PJP92390-99295","PJP92390-562 > 99295    (Starts: 06/13/2012)","PROJECT_PLAN_TASK-PJP92390-99295-PJP92390-562 > 99295    (Starts: 06/13/2012)","Project Plan","FD01","Active","2025-01-02T03:05:13.440"]
[null,null,null,null,null,null,"PROJECT_PLAN_TASK-PJP92390-99344","PJP92390-562 > 99344    (Starts: 10/17/2008)","PROJECT_PLAN_TASK-PJP92390-99344-PJP92390-562 > 99344    (Starts: 10/17/2008)","Project Plan","FD01","Active","2025-01-02T03:05:13.440"]
[null,null,null,null,null,null,"PROJECT_PLAN_TASK-PJP92390-99345","PJP92390-562 > 99345    (Starts: 10/17/2008)","PROJECT_PLAN_TASK-PJP92390-99345-PJP92390-562 > 99345    (Starts: 10/17/2008)","Project Plan","FD01","Active","2025-01-02T03:05:13.440"]
[null,null,null,null,null,null,"PROJECT_PLAN_TASK-PJP92390-99412","PJP92390-562 > 99412    (Starts: 10/05/2012)","PROJECT_PLAN_TASK-PJP92390-99412-PJP92390-562 > 99412    (Starts: 10/05/2012)","Project Plan","FD01","Active","2025-01-02T03:05:13.440"]
[null,null,null,null,null,null,"PROJECT_PLAN_TASK-PJP92390-99416","PJP92390-562 > 99416    (Starts: 10/05/2012)","PROJECT_PLAN_TASK-PJP92390-99416-PJP92390-562 > 99416    (Starts: 10/05/2012)","Project Plan","FD01","Active","2025-01-02T03:05:13.440"]
[null,null,null,null,null,null,"PROJECT_PLAN_TASK-PJP92390-99425","PJP92390-562 > 99425    (Starts: 10/05/2012)","PROJECT_PLAN_TASK-PJP92390-99425-PJP92390-562 > 99425    (Starts: 10/05/2012)","Project Plan","FD01","Active","2025-01-02T03:05:13.440"]
[null,null,null,null,null,null,"PROJECT_PLAN_TASK-PJP92390-99489","PJP92390-562 > 99489    (Starts: 11/17/2008)","PROJECT_PLAN_TASK-PJP92390-99489-PJP92390-562 > 99489    (Starts: 11/17/2008)","Project Plan","FD01","Active","2025-01-02T03:05:13.440"]
[null,null,null,null,null,null,"PROJECT_PLAN_TASK-PJP92390-99539","PJP92390-562 > 99539    (Starts: 11/18/2008)","PROJECT_PLAN_TASK-PJP92390-99539-PJP92390-562 > 99539    (Starts: 11/18/2008)","Project Plan","FD01","Active","2025-01-02T03:05:13.440"]
[null,null,null,null,null,null,"PROJECT_PLAN_TASK-PJP92390-99831","PJP92390-562 > 99831    (Starts: 03/11/2013)","PROJECT_PLAN_TASK-PJP92390-99831-PJP92390-562 > 99831    (Starts: 03/11/2013)","Project Plan","FD01","Active","2025-01-02T03:05:13.440"]
[null,null,null,null,null,null,"PROJECT_PLAN_TASK-PJP92390-99907","PJP92390-562 > 99907    (Starts: 07/17/2013)","PROJECT_PLAN_TASK-PJP92390-99907-PJP92390-562 > 99907    (Starts: 07/17/2013)","Project Plan","FD01","Active","2025-01-02T03:05:13.440"]
[null,null,null,null,null,null,"PROJECT_PLAN_TASK-PJP92390-99911","PJP92390-562 > 99911    (Starts: 07/17/2013)","PROJECT_PLAN_TASK-PJP92390-99911-PJP92390-562 > 99911    (Starts: 07/17/2013)","Project Plan","FD01","Active","2025-01-02T03:05:13.440"]
[null,null,null,null,null,null,"PROJECT_PLAN_TASK-PJP92390-99912","PJP92390-562 > 99912    (Starts: 07/17/2013)","PROJECT_PLAN_TASK-PJP92390-99912-PJP92390-562 > 99912    (Starts: 07/17/2013)","Project Plan","FD01","Active","2025-01-02T03:05:13.440"]
[null,null,null,null,null,null,"PROJECT_PLAN_TASK-PJP92390-99916","PJP92390-562 > 99916    (Starts: 02/14/2024)","PROJECT_PLAN_TASK-PJP92390-99916-PJP92390-562 > 99916    (Starts: 02/14/2024)","Project Plan","FD01","Active","2025-01-02T03:05:13.440"]
[null,null,null,null,null,null,"PROJECT_PLAN_TASK-PJP92390-99930","PJP92390-562 > 99930    (Starts: 02/14/2024)","PROJECT_PLAN_TASK-PJP92390-99930-PJP92390-562 > 99930    (Starts: 02/14/2024)","Project Plan","FD01","Active","2025-01-02T03:05:13.440"]
[null,null,null,null,null,null,"PROJECT_PLAN_TASK-PJP92390-99982","PJP92390-562 > 99982    (Starts: 02/15/2024)","PROJECT_PLAN_TASK-PJP92390-99982-PJP92390-562 > 99982    (Starts: 02/15/2024)","Project Plan","FD01","Active","2025-01-02T03:05:13.440"]
[null,null,null,null,null,null,"PROJECT_PLAN_TASK-PJP92390-99992","PJP92390-562 > 99992    (Starts: 02/02/2009)","PROJECT_PLAN_TASK-PJP92390-99992-PJP92390-562 > 99992    (Starts: 02/02/2009)","Project Plan","FD01","Active","2025-01-02T03:05:13.440"]
[null,null,null,null,null,null,"PROJECT_PLAN_TASK-PJP92393-VAT78","PJP92393-VAT78 > VAT78    (Starts: 10/14/2004)","PROJECT_PLAN_TASK-PJP92393-VAT78-PJP92393-VAT78 > VAT78    (Starts: 10/14/2004)","Project Plan","FD01","Active","2025-01-02T03:05:16.468"]
[null,null,null,null,null,null,"PROJECT_PLAN_TASK-PJP92458-V3110","PJP92458-V3110 > V3110    (Starts: 10/22/2004)","PROJECT_PLAN_TASK-PJP92458-V3110-PJP92458-V3110 > V3110    (Starts: 10/22/2004)","Project Plan","FD01","Active","2025-01-02T03:05:15.975"]
[null,null,null,null,null,null,"PROJECT_PLAN_TASK-PJP92516-56638","PJP92516-V1173 > 56638  (10/07/2024 - 01/01/2025)","PROJECT_PLAN_TASK-PJP92516-56638-PJP92516-V1173 > 56638  (10/07/2024 - 01/01/2025)","Project Plan","FD01","Active","2025-01-02T03:05:15.011"]
[null,null,null,null,null,null,"PROJECT_PLAN_TASK-PJP92516-V1173","PJP92516-V1173 > V1173    (Starts: 10/28/2004)","PROJECT_PLAN_TASK-PJP92516-V1173-PJP92516-V1173 > V1173    (Starts: 10/28/2004)","Project Plan","FD01","Active","2025-01-02T03:05:15.011"]
[null,null,null,null,null,null,"PROJECT_PLAN_TASK-PJP92517-V1166","PJP92517-V1166 > V1166    (Starts: 10/28/2004)","PROJECT_PLAN_TASK-PJP92517-V1166-PJP92517-V1166 > V1166    (Starts: 10/28/2004)","Project Plan","FD01","Active","2025-01-02T03:05:15.011"]
[null,null,null,null,null,null,"PROJECT_PLAN_TASK-PJP92703-V3215","PJP92703-V3215 > V3215    (Starts: 11/17/2004)","PROJECT_PLAN_TASK-PJP92703-V3215-PJP92703-V3215 > V3215    (Starts: 11/17/2004)","Project Plan","FD01","Active","2025-01-02T03:05:16.191"]
[null,null,null,null,null,null,"PROJECT_PLAN_TASK-PJP93181-VEL2","PJP93181-VEL2 > VEL2  (01/13/2005 - 01/08/2025)","PROJECT_PLAN_TASK-PJP93181-VEL2-PJP93181-VEL2 > VEL2  (01/13/2005 - 01/08/2025)","Project Plan","FD01","Active","2025-01-10T03:04:00.898887+00:00"]
[null,null,null,null,null,null,"PROJECT_PLAN_TASK-PJP93181-VEL2V","PJP93181-VEL2V > VEL2V    (Starts: 01/13/2005)","PROJECT_PLAN_TASK-PJP93181-VEL2V-PJP93181-VEL2V > VEL2V    (Starts: 01/13/2005)","Project Plan","FD01","Active","2025-01-10T03:04:00.898887+00:00"]
[null,null,null,null,null,null,"PROJECT_PLAN_TASK-PJP93309-VML3","PJP93309-VML3 > VML3    (Starts: 01/26/2005)","PROJECT_PLAN_TASK-PJP93309-VML3-PJP93309-VML3 > VML3    (Starts: 01/26/2005)","Project Plan","FD01","Active","2025-01-02T03:05:16.741"]
[null,null,null,null,null,null,"PROJECT_PLAN_TASK-PJP93310-34868","PJP93310-VML4V > 34868    (Starts: 04/16/2024)","PROJECT_PLAN_TASK-PJP93310-34868-PJP93310-VML4V > 34868    (Starts: 04/16/2024)","Project Plan","FD01","Active","2025-01-02T03:05:16.741"]
[null,null,null,null,null,null,"PROJECT_PLAN_TASK-PJP93310-VML4V","PJP93310-VML4V > VML4V    (Starts: 01/26/2005)","PROJECT_PLAN_TASK-PJP93310-VML4V-PJP93310-VML4V > VML4V    (Starts: 01/26/2005)","Project Plan","FD01","Active","2025-01-02T03:05:16.741"]
[null,null,null,null,null,null,"PROJECT_PLAN_TASK-PJP93311-37613","PJP93311-VML5 > 37613    (Starts: 05/08/2024)","PROJECT_PLAN_TASK-PJP93311-37613-PJP93311-VML5 > 37613    (Starts: 05/08/2024)","Project Plan","FD01","Active","2025-01-02T03:05:16.741"]
[null,null,null,null,null,null,"PROJECT_PLAN_TASK-PJP93311-VML5","PJP93311-VML5 > VML5    (Starts: 01/26/2005)","PROJECT_PLAN_TASK-PJP93311-VML5-PJP93311-VML5 > VML5    (Starts: 01/26/2005)","Project Plan","FD01","Active","2025-01-02T03:05:16.741"]
[null,null,null,null,null,null,"PROJECT_PLAN_TASK-PJP93312-VML6","PJP93312-VML6 > VML6    (Starts: 01/26/2005)","PROJECT_PLAN_TASK-PJP93312-VML6-PJP93312-VML6 > VML6    (Starts: 01/26/2005)","Project Plan","FD01","Active","2025-01-02T03:05:16.741"]
[null,null,null,null,null,null,"PROJECT_PLAN_TASK-PJP93317-VML12V","PJP93317-VML12V > VML12V    (Starts: 01/26/2005)","PROJECT_PLAN_TASK-PJP93317-VML12V-PJP93317-VML12V > VML12V    (Starts: 01/26/2005)","Project Plan","FD01","Active","2025-01-02T03:05:16.741"]
[null,null,null,null,null,null,"PROJECT_PLAN_TASK-PJP93328-V2058","PJP93328-V2058 > V2058    (Starts: 01/26/2005)","PROJECT_PLAN_TASK-PJP93328-V2058-PJP93328-V2058 > V2058    (Starts: 01/26/2005)","Project Plan","FD01","Active","2025-01-02T03:05:15.268"]
[null,null,null,null,null,null,"PROJECT_PLAN_TASK-PJP93329-V3045","PJP93329-V3045 > V3045    (Starts: 01/26/2005)","PROJECT_PLAN_TASK-PJP93329-V3045-PJP93329-V3045 > V3045    (Starts: 01/26/2005)","Project Plan","FD01","Active","2025-01-02T03:05:15.858"]
[null,null,null,null,null,null,"PROJECT_PLAN_TASK-PJP93818-V571","PJP93818-V571 > V571    (Starts: 03/07/2005)","PROJECT_PLAN_TASK-PJP93818-V571-PJP93818-V571 > V571    (Starts: 03/07/2005)","Project Plan","FD01","Active","2025-01-02T03:05:16.359"]
[null,null,null,null,null,null,"PROJECT_PLAN_TASK-PJP94040-V3239","PJP94040-V3239 > V3239    (Starts: 03/23/2005)","PROJECT_PLAN_TASK-PJP94040-V3239-PJP94040-V3239 > V3239    (Starts: 03/23/2005)","Project Plan","FD01","Active","2025-01-02T03:05:16.275"]
[null,null,null,null,null,null,"PROJECT_PLAN_TASK-PJP94041-V1088","PJP94041-V1088 > V1088    (Starts: 03/23/2005)","PROJECT_PLAN_TASK-PJP94041-V1088-PJP94041-V1088 > V1088    (Starts: 03/23/2005)","Project Plan","FD01","Active","2025-01-02T03:05:14.767"]
[null,null,null,null,null,null,"PROJECT_PLAN_TASK-PJP94063-V3196","PJP94063-V3196 > V3196    (Starts: 03/24/2005)","PROJECT_PLAN_TASK-PJP94063-V3196-PJP94063-V3196 > V3196    (Starts: 03/24/2005)","Project Plan","FD01","Active","2025-01-02T03:05:16.191"]
[null,null,null,null,null,null,"PROJECT_PLAN_TASK-PJP94198-VLR8","PJP94198-VLR8 > VLR8    (Starts: 04/06/2005)","PROJECT_PLAN_TASK-PJP94198-VLR8-PJP94198-VLR8 > VLR8    (Starts: 04/06/2005)","Project Plan","FD01","Active","2025-01-02T03:05:16.741"]
[null,null,null,null,null,null,"PROJECT_PLAN_TASK-PJP94375-58650","PJP94375-VDS71 > 58650  (10/22/2024 - 01/01/2025)","PROJECT_PLAN_TASK-PJP94375-58650-PJP94375-VDS71 > 58650  (10/22/2024 - 01/01/2025)","Project Plan","FD01","Active","2025-01-02T03:05:16.541"]
[null,null,null,null,null,null,"PROJECT_PLAN_TASK-PJP94375-VDS71","PJP94375-VDS71 > VDS71    (Starts: 04/22/2005)","PROJECT_PLAN_TASK-PJP94375-VDS71-PJP94375-VDS71 > VDS71    (Starts: 04/22/2005)","Project Plan","FD01","Active","2025-01-02T03:05:16.541"]
[null,null,null,null,null,null,"PROJECT_PLAN_TASK-PJP94398-V1148","PJP94398-V1148 > V1148    (Starts: 04/26/2005)","PROJECT_PLAN_TASK-PJP94398-V1148-PJP94398-V1148 > V1148    (Starts: 04/26/2005)","Project Plan","FD01","Active","2025-01-02T03:05:14.896"]
[null,null,null,null,null,null,"PROJECT_PLAN_TASK-PJP94424-V1239","PJP94424-V1239 > V1239    (Starts: 04/28/2005)","PROJECT_PLAN_TASK-PJP94424-V1239-PJP94424-V1239 > V1239    (Starts: 04/28/2005)","Project Plan","FD01","Active","2025-01-02T03:05:15.135"]
[null,null,null,null,null,null,"PROJECT_PLAN_TASK-PJP94485-V3100","PJP94485-V3100 > V3100    (Starts: 05/04/2005)","PROJECT_PLAN_TASK-PJP94485-V3100-PJP94485-V3100 > V3100    (Starts: 05/04/2005)","Project Plan","FD01","Active","2025-01-02T03:05:15.975"]
[null,null,null,null,null,null,"PROJECT_PLAN_TASK-PJP94487-V3188","PJP94487-V3188 > V3188    (Starts: 05/05/2005)","PROJECT_PLAN_TASK-PJP94487-V3188-PJP94487-V3188 > V3188    (Starts: 05/05/2005)","Project Plan","FD01","Active","2025-01-02T03:05:16.191"]
[null,null,null,null,null,null,"PROJECT_PLAN_TASK-PJP94527-61942","PJP94527-EJFSB1 > 61942    (Starts: 11/19/2024)","PROJECT_PLAN_TASK-PJP94527-61942-PJP94527-EJFSB1 > 61942    (Starts: 11/19/2024)","Project Plan","FD01","Active","2025-01-02T03:05:14.122"]
[null,null,null,null,null,null,"PROJECT_PLAN_TASK-PJP94527-64871","PJP94527-EJFSB1 > 64871    (Starts: 12/19/2024)","PROJECT_PLAN_TASK-PJP94527-64871-PJP94527-EJFSB1 > 64871    (Starts: 12/19/2024)","Project Plan","FD01","Active","2025-01-02T03:05:14.122"]
[null,null,null,null,null,null,"PROJECT_PLAN_TASK-PJP94527-65391","PJP94527-EJFSB1 > 65391    (Starts: 12/30/2024)","PROJECT_PLAN_TASK-PJP94527-65391-PJP94527-EJFSB1 > 65391    (Starts: 12/30/2024)","Project Plan","FD01","Active","2025-01-02T03:05:14.122"]
[null,null,null,null,null,null,"PROJECT_PLAN_TASK-PJP94527-EJFSB1","PJP94527-EJFSB1 > EJFSB1    (Starts: 05/09/2005)","PROJECT_PLAN_TASK-PJP94527-EJFSB1-PJP94527-EJFSB1 > EJFSB1    (Starts: 05/09/2005)","Project Plan","FD01","Active","2025-01-02T03:05:14.122"]
[null,null,null,null,null,null,"PROJECT_PLAN_TASK-PJP94528-61944","PJP94528-EJFSB2 > 61944    (Starts: 11/19/2024)","PROJECT_PLAN_TASK-PJP94528-61944-PJP94528-EJFSB2 > 61944    (Starts: 11/19/2024)","Project Plan","FD01","Active","2025-01-02T03:05:14.122"]
[null,null,null,null,null,null,"PROJECT_PLAN_TASK-PJP94528-64874","PJP94528-EJFSB2 > 64874    (Starts: 12/19/2024)","PROJECT_PLAN_TASK-PJP94528-64874-PJP94528-EJFSB2 > 64874    (Starts: 12/19/2024)","Project Plan","FD01","Active","2025-01-02T03:05:14.122"]
[null,null,null,null,null,null,"PROJECT_PLAN_TASK-PJP94528-65396","PJP94528-EJFSB2 > 65396    (Starts: 12/30/2024)","PROJECT_PLAN_TASK-PJP94528-65396-PJP94528-EJFSB2 > 65396    (Starts: 12/30/2024)","Project Plan","FD01","Active","2025-01-02T03:05:14.122"]
[null,null,null,null,null,null,"PROJECT_PLAN_TASK-PJP94528-EJFSB2","PJP94528-EJFSB2 > EJFSB2    (Starts: 05/09/2005)","PROJECT_PLAN_TASK-PJP94528-EJFSB2-PJP94528-EJFSB2 > EJFSB2    (Starts: 05/09/2005)","Project Plan","FD01","Active","2025-01-02T03:05:14.122"]
[null,null,null,null,null,null,"PROJECT_PLAN_TASK-PJP94529-61954","PJP94529-EJFSB3 > 61954    (Starts: 11/19/2024)","PROJECT_PLAN_TASK-PJP94529-61954-PJP94529-EJFSB3 > 61954    (Starts: 11/19/2024)","Project Plan","FD01","Active","2025-01-02T03:05:14.122"]
[null,null,null,null,null,null,"PROJECT_PLAN_TASK-PJP94529-64889","PJP94529-EJFSB3 > 64889    (Starts: 12/19/2024)","PROJECT_PLAN_TASK-PJP94529-64889-PJP94529-EJFSB3 > 64889    (Starts: 12/19/2024)","Project Plan","FD01","Active","2025-01-02T03:05:14.122"]
[null,null,null,null,null,null,"PROJECT_PLAN_TASK-PJP94529-65407","PJP94529-EJFSB3 > 65407    (Starts: 12/30/2024)","PROJECT_PLAN_TASK-PJP94529-65407-PJP94529-EJFSB3 > 65407    (Starts: 12/30/2024)","Project Plan","FD01","Active","2025-01-02T03:05:14.122"]
[null,null,null,null,null,null,"PROJECT_PLAN_TASK-PJP94529-EJFSB3","PJP94529-EJFSB3 > EJFSB3    (Starts: 05/09/2005)","PROJECT_PLAN_TASK-PJP94529-EJFSB3-PJP94529-EJFSB3 > EJFSB3    (Starts: 05/09/2005)","Project Plan","FD01","Active","2025-01-02T03:05:14.122"]
[null,null,null,null,null,null,"PROJECT_PLAN_TASK-PJP94530-61894","PJP94530-EJFSB4 > 61894    (Starts: 11/19/2024)","PROJECT_PLAN_TASK-PJP94530-61894-PJP94530-EJFSB4 > 61894    (Starts: 11/19/2024)","Project Plan","FD01","Active","2025-01-02T03:05:14.122"]
[null,null,null,null,null,null,"PROJECT_PLAN_TASK-PJP94530-64826","PJP94530-EJFSB4 > 64826    (Starts: 12/19/2024)","PROJECT_PLAN_TASK-PJP94530-64826-PJP94530-EJFSB4 > 64826    (Starts: 12/19/2024)","Project Plan","FD01","Active","2025-01-02T03:05:14.168"]
[null,null,null,null,null,null,"PROJECT_PLAN_TASK-PJP94530-65318","PJP94530-EJFSB4 > 65318    (Starts: 12/30/2024)","PROJECT_PLAN_TASK-PJP94530-65318-PJP94530-EJFSB4 > 65318    (Starts: 12/30/2024)","Project Plan","FD01","Active","2025-01-02T03:05:14.168"]
[null,null,null,null,null,null,"PROJECT_PLAN_TASK-PJP94530-EJFSB4","PJP94530-EJFSB4 > EJFSB4    (Starts: 05/09/2005)","PROJECT_PLAN_TASK-PJP94530-EJFSB4-PJP94530-EJFSB4 > EJFSB4    (Starts: 05/09/2005)","Project Plan","FD01","Active","2025-01-02T03:05:14.168"]
[null,null,null,null,null,null,"PROJECT_PLAN_TASK-PJP94531-61897","PJP94531-EJFSB5 > 61897    (Starts: 11/19/2024)","PROJECT_PLAN_TASK-PJP94531-61897-PJP94531-EJFSB5 > 61897    (Starts: 11/19/2024)","Project Plan","FD01","Active","2025-01-02T03:05:14.168"]
[null,null,null,null,null,null,"PROJECT_PLAN_TASK-PJP94531-64828","PJP94531-EJFSB5 > 64828    (Starts: 12/19/2024)","PROJECT_PLAN_TASK-PJP94531-64828-PJP94531-EJFSB5 > 64828    (Starts: 12/19/2024)","Project Plan","FD01","Active","2025-01-02T03:05:14.168"]
[null,null,null,null,null,null,"PROJECT_PLAN_TASK-PJP94531-65324","PJP94531-EJFSB5 > 65324    (Starts: 12/30/2024)","PROJECT_PLAN_TASK-PJP94531-65324-PJP94531-EJFSB5 > 65324    (Starts: 12/30/2024)","Project Plan","FD01","Active","2025-01-02T03:05:14.168"]
[null,null,null,null,null,null,"PROJECT_PLAN_TASK-PJP94531-EJFSB5","PJP94531-EJFSB5 > EJFSB5    (Starts: 05/09/2005)","PROJECT_PLAN_TASK-PJP94531-EJFSB5-PJP94531-EJFSB5 > EJFSB5    (Starts: 05/09/2005)","Project Plan","FD01","Active","2025-01-02T03:05:14.168"]
[null,null,null,null,null,null,"PROJECT_PLAN_TASK-PJP94535-ENASPN1","PJP94535-ENASPN1 > ENASPN1    (Starts: 05/10/2005)","PROJECT_PLAN_TASK-PJP94535-ENASPN1-PJP94535-ENASPN1 > ENASPN1    (Starts: 05/10/2005)","Project Plan","FD01","Active","2025-01-02T03:05:14.168"]
[null,null,null,null,null,null,"PROJECT_PLAN_TASK-PJP94563-V3126","PJP94563-V3126 > V3126    (Starts: 05/12/2005)","PROJECT_PLAN_TASK-PJP94563-V3126-PJP94563-V3126 > V3126    (Starts: 05/12/2005)","Project Plan","FD01","Active","2025-01-02T03:05:15.975"]
[null,null,null,null,null,null,"PROJECT_PLAN_TASK-PJP94564-V1144","PJP94564-V1144 > V1144    (Starts: 05/12/2005)","PROJECT_PLAN_TASK-PJP94564-V1144-PJP94564-V1144 > V1144    (Starts: 05/12/2005)","Project Plan","FD01","Active","2025-01-02T03:05:14.896"]
[null,null,null,null,null,null,"PROJECT_PLAN_TASK-PJP95014-V1091","PJP95014-V1091 > V1091    (Starts: 06/27/2005)","PROJECT_PLAN_TASK-PJP95014-V1091-PJP95014-V1091 > V1091    (Starts: 06/27/2005)","Project Plan","FD01","Active","2025-01-02T03:05:14.767"]
[null,null,null,null,null,null,"PROJECT_PLAN_TASK-PJP95050-V3192","PJP95050-V3192 > V3192    (Starts: 06/28/2005)","PROJECT_PLAN_TASK-PJP95050-V3192-PJP95050-V3192 > V3192    (Starts: 06/28/2005)","Project Plan","FD01","Active","2025-01-02T03:05:16.101"]
[null,null,null,null,null,null,"PROJECT_PLAN_TASK-PJP95181-V1104","PJP95181-V1104 > V1104    (Starts: 07/08/2005)","PROJECT_PLAN_TASK-PJP95181-V1104-PJP95181-V1104 > V1104    (Starts: 07/08/2005)","Project Plan","FD01","Active","2025-01-02T03:05:14.767"]
[null,null,null,null,null,null,"PROJECT_PLAN_TASK-PJP9533-579","PJP9533-579 > 579    (Starts: 03/20/1984)","PROJECT_PLAN_TASK-PJP9533-579-PJP9533-579 > 579    (Starts: 03/20/1984)","Project Plan","FD01","Active","2025-01-02T03:05:15.364"]
[null,null,null,null,null,null,"PROJECT_PLAN_TASK-PJP95345-V2116","PJP95345-V2116 > V2116    (Starts: 07/21/2005)","PROJECT_PLAN_TASK-PJP95345-V2116-PJP95345-V2116 > V2116    (Starts: 07/21/2005)","Project Plan","FD01","Active","2025-01-02T03:05:15.364"]
[null,null,null,null,null,null,"PROJECT_PLAN_TASK-PJP95346-V2147","PJP95346-V2147 > V2147    (Starts: 07/21/2005)","PROJECT_PLAN_TASK-PJP95346-V2147-PJP95346-V2147 > V2147    (Starts: 07/21/2005)","Project Plan","FD01","Active","2025-01-02T03:05:15.509"]
[null,null,null,null,null,null,"PROJECT_PLAN_TASK-PJP95378-V2138","PJP95378-V2138 > V2138    (Starts: 07/27/2005)","PROJECT_PLAN_TASK-PJP95378-V2138-PJP95378-V2138 > V2138    (Starts: 07/27/2005)","Project Plan","FD01","Active","2025-01-02T03:05:15.509"]
[null,null,null,null,null,null,"PROJECT_PLAN_TASK-PJP95379-V2127","PJP95379-V2127 > V2127    (Starts: 07/27/2005)","PROJECT_PLAN_TASK-PJP95379-V2127-PJP95379-V2127 > V2127    (Starts: 07/27/2005)","Project Plan","FD01","Active","2025-01-02T03:05:15.364"]
[null,null,null,null,null,null,"PROJECT_PLAN_TASK-PJP95504-V2166V","PJP95504-V2166V > V2166V    (Starts: 08/05/2005)","PROJECT_PLAN_TASK-PJP95504-V2166V-PJP95504-V2166V > V2166V    (Starts: 08/05/2005)","Project Plan","FD01","Active","2025-01-02T03:05:15.600"]
[null,null,null,null,null,null,"PROJECT_PLAN_TASK-PJP95682-V2091","PJP95682-V2091 > V2091    (Starts: 08/18/2005)","PROJECT_PLAN_TASK-PJP95682-V2091-PJP95682-V2091 > V2091    (Starts: 08/18/2005)","Project Plan","FD01","Active","2025-01-02T03:05:15.268"]
[null,null,null,null,null,null,"PROJECT_PLAN_TASK-PJP95763-48013","PJP95763-VPE7 > 48013  (08/01/2024 - 01/01/2025)","PROJECT_PLAN_TASK-PJP95763-48013-PJP95763-VPE7 > 48013  (08/01/2024 - 01/01/2025)","Project Plan","FD01","Active","2025-01-02T03:05:16.841"]
[null,null,null,null,null,null,"PROJECT_PLAN_TASK-PJP95763-VPE7","PJP95763-VPE7 > VPE7    (Starts: 08/25/2005)","PROJECT_PLAN_TASK-PJP95763-VPE7-PJP95763-VPE7 > VPE7    (Starts: 08/25/2005)","Project Plan","FD01","Active","2025-01-02T03:05:16.841"]
[null,null,null,null,null,null,"PROJECT_PLAN_TASK-PJP96143-VAL22","PJP96143-VAL22 > VAL22    (Starts: 09/12/2005)","PROJECT_PLAN_TASK-PJP96143-VAL22-PJP96143-VAL22 > VAL22    (Starts: 09/12/2005)","Project Plan","FD01","Active","2025-01-02T03:05:16.468"]
[null,null,null,null,null,null,"PROJECT_PLAN_TASK-PJP96147-VCC2","PJP96147-VCC2 > VCC2    (Starts: 09/12/2005)","PROJECT_PLAN_TASK-PJP96147-VCC2-PJP96147-VCC2 > VCC2    (Starts: 09/12/2005)","Project Plan","FD01","Active","2025-01-02T03:05:16.541"]
[null,null,null,null,null,null,"PROJECT_PLAN_TASK-PJP96225-V300","PJP96225-V300 > V300    (Starts: 09/16/2005)","PROJECT_PLAN_TASK-PJP96225-V300-PJP96225-V300 > V300    (Starts: 09/16/2005)","Project Plan","FD01","Active","2025-01-02T03:05:15.730"]
[null,null,null,null,null,null,"PROJECT_PLAN_TASK-PJP96399-V296","PJP96399-V296 > V296    (Starts: 09/28/2005)","PROJECT_PLAN_TASK-PJP96399-V296-PJP96399-V296 > V296    (Starts: 09/28/2005)","Project Plan","FD01","Active","2025-01-02T03:05:15.730"]
[null,null,null,null,null,null,"PROJECT_PLAN_TASK-PJP96410-V1146","PJP96410-V1146 > V1146    (Starts: 09/29/2005)","PROJECT_PLAN_TASK-PJP96410-V1146-PJP96410-V1146 > V1146    (Starts: 09/29/2005)","Project Plan","FD01","Active","2025-01-02T03:05:14.896"]
[null,null,null,null,null,null,"PROJECT_PLAN_TASK-PJP96722-V2150","PJP96722-V2150 > V2150    (Starts: 10/27/2005)","PROJECT_PLAN_TASK-PJP96722-V2150-PJP96722-V2150 > V2150    (Starts: 10/27/2005)","Project Plan","FD01","Active","2025-01-02T03:05:15.600"]
[null,null,null,null,null,null,"PROJECT_PLAN_TASK-PJP96723-V3171","PJP96723-V3171 > V3171    (Starts: 10/27/2005)","PROJECT_PLAN_TASK-PJP96723-V3171-PJP96723-V3171 > V3171    (Starts: 10/27/2005)","Project Plan","FD01","Active","2025-01-02T03:05:16.101"]
[null,null,null,null,null,null,"PROJECT_PLAN_TASK-PJP96724-V3166","PJP96724-V3166 > V3166    (Starts: 10/27/2005)","PROJECT_PLAN_TASK-PJP96724-V3166-PJP96724-V3166 > V3166    (Starts: 10/27/2005)","Project Plan","FD01","Active","2025-01-02T03:05:16.101"]
[null,null,null,null,null,null,"PROJECT_PLAN_TASK-PJP96726-V3163","PJP96726-V3163 > V3163    (Starts: 10/27/2005)","PROJECT_PLAN_TASK-PJP96726-V3163-PJP96726-V3163 > V3163    (Starts: 10/27/2005)","Project Plan","FD01","Active","2025-01-02T03:05:16.101"]
[null,null,null,null,null,null,"PROJECT_PLAN_TASK-PJP96749-V2099","PJP96749-V2099 > V2099    (Starts: 10/31/2005)","PROJECT_PLAN_TASK-PJP96749-V2099-PJP96749-V2099 > V2099    (Starts: 10/31/2005)","Project Plan","FD01","Active","2025-01-02T03:05:15.268"]
[null,null,null,null,null,null,"PROJECT_PLAN_TASK-PJP97031-V3211","PJP97031-V3211 > V3211    (Starts: 11/21/2005)","PROJECT_PLAN_TASK-PJP97031-V3211-PJP97031-V3211 > V3211    (Starts: 11/21/2005)","Project Plan","FD01","Active","2025-01-02T03:05:16.191"]
[null,null,null,null,null,null,"PROJECT_PLAN_TASK-PJP97108-62917","PJP97108-V171 > 62917    (Starts: 12/02/2024)","PROJECT_PLAN_TASK-PJP97108-62917-PJP97108-V171 > 62917    (Starts: 12/02/2024)","Project Plan","FD01","Active","2025-01-02T03:05:15.135"]
[null,null,null,null,null,null,"PROJECT_PLAN_TASK-PJP97108-V171","PJP97108-V171 > V171    (Starts: 12/02/2005)","PROJECT_PLAN_TASK-PJP97108-V171-PJP97108-V171 > V171    (Starts: 12/02/2005)","Project Plan","FD01","Active","2025-01-02T03:05:15.135"]
[null,null,null,null,null,null,"PROJECT_PLAN_TASK-PJP97259-V3169","PJP97259-V3169 > V3169    (Starts: 12/19/2005)","PROJECT_PLAN_TASK-PJP97259-V3169-PJP97259-V3169 > V3169    (Starts: 12/19/2005)","Project Plan","FD01","Active","2025-01-02T03:05:16.101"]
[null,null,null,null,null,null,"PROJECT_PLAN_TASK-PJP97315-V408","PJP97315-V408 > V408    (Starts: 12/27/2005)","PROJECT_PLAN_TASK-PJP97315-V408-PJP97315-V408 > V408    (Starts: 12/27/2005)","Project Plan","FD01","Active","2025-01-02T03:05:16.359"]
[null,null,null,null,null,null,"PROJECT_PLAN_TASK-PJP97335-V2151","PJP97335-V2151 > V2151    (Starts: 12/30/2005)","PROJECT_PLAN_TASK-PJP97335-V2151-PJP97335-V2151 > V2151    (Starts: 12/30/2005)","Project Plan","FD01","Active","2025-01-02T03:05:15.600"]
[null,null,null,null,null,null,"PROJECT_PLAN_TASK-PJP97440-V505","PJP97440-V505 > V505    (Starts: 01/11/2006)","PROJECT_PLAN_TASK-PJP97440-V505-PJP97440-V505 > V505    (Starts: 01/11/2006)","Project Plan","FD01","Active","2025-01-02T03:05:16.359"]
[null,null,null,null,null,null,"PROJECT_PLAN_TASK-PJP97444-V3061","PJP97444-V3061 > V3061    (Starts: 01/11/2006)","PROJECT_PLAN_TASK-PJP97444-V3061-PJP97444-V3061 > V3061    (Starts: 01/11/2006)","Project Plan","FD01","Active","2025-01-02T03:05:15.858"]
[null,null,null,null,null,null,"PROJECT_PLAN_TASK-PJP9747-201","PJP9747-201 > 201    (Starts: 04/17/1984)","PROJECT_PLAN_TASK-PJP9747-201-PJP9747-201 > 201    (Starts: 04/17/1984)","Project Plan","FD01","Active","2025-01-02T03:05:13.236"]
[null,null,null,null,null,null,"PROJECT_PLAN_TASK-PJP9747-64775","PJP9747-201 > 64775  (01/01/1900 - 12/18/2024)","PROJECT_PLAN_TASK-PJP9747-64775-PJP9747-201 > 64775  (01/01/1900 - 12/18/2024)","Project Plan","FD01","Active","2025-01-02T03:05:13.236"]
[null,null,null,null,null,null,"PROJECT_PLAN_TASK-PJP97477-V503V","PJP97477-V503V > V503V    (Starts: 01/17/2006)","PROJECT_PLAN_TASK-PJP97477-V503V-PJP97477-V503V > V503V    (Starts: 01/17/2006)","Project Plan","FD01","Active","2025-01-02T03:05:16.359"]
[null,null,null,null,null,null,"PROJECT_PLAN_TASK-PJP9748-204","PJP9748-204 > 204    (Starts: 04/17/1984)","PROJECT_PLAN_TASK-PJP9748-204-PJP9748-204 > 204    (Starts: 04/17/1984)","Project Plan","FD01","Active","2025-01-02T03:05:13.194"]
[null,null,null,null,null,null,"PROJECT_PLAN_TASK-PJP97501-V3139","PJP97501-V3139 > V3139    (Starts: 01/18/2006)","PROJECT_PLAN_TASK-PJP97501-V3139-PJP97501-V3139 > V3139    (Starts: 01/18/2006)","Project Plan","FD01","Active","2025-01-02T03:05:15.975"]
[null,null,null,null,null,null,"PROJECT_PLAN_TASK-PJP9752-211","PJP9752-211 > 211    (Starts: 04/17/1984)","PROJECT_PLAN_TASK-PJP9752-211-PJP9752-211 > 211    (Starts: 04/17/1984)","Project Plan","FD01","Active","2025-01-02T03:05:13.236"]
[null,null,null,null,null,null,"PROJECT_PLAN_TASK-PJP9753-212","PJP9753-212 > 212    (Starts: 04/17/1984)","PROJECT_PLAN_TASK-PJP9753-212-PJP9753-212 > 212    (Starts: 04/17/1984)","Project Plan","FD01","Active","2025-01-02T03:05:13.293"]
[null,null,null,null,null,null,"PROJECT_PLAN_TASK-PJP9753-54249","PJP9753-212 > 54249    (Starts: 09/16/2024)","PROJECT_PLAN_TASK-PJP9753-54249-PJP9753-212 > 54249    (Starts: 09/16/2024)","Project Plan","FD01","Active","2025-01-02T03:05:13.293"]
[null,null,null,null,null,null,"PROJECT_PLAN_TASK-PJP9755-215","PJP9755-215 > 215    (Starts: 04/17/1984)","PROJECT_PLAN_TASK-PJP9755-215-PJP9755-215 > 215    (Starts: 04/17/1984)","Project Plan","FD01","Active","2025-01-02T03:05:13.194"]
[null,null,null,null,null,null,"PROJECT_PLAN_TASK-PJP9756-217","PJP9756-217 > 217    (Starts: 04/17/1984)","PROJECT_PLAN_TASK-PJP9756-217-PJP9756-217 > 217    (Starts: 04/17/1984)","Project Plan","FD01","Active","2025-01-02T03:05:13.194"]
[null,null,null,null,null,null,"PROJECT_PLAN_TASK-PJP9757-222","PJP9757-222 > 222    (Starts: 04/17/1984)","PROJECT_PLAN_TASK-PJP9757-222-PJP9757-222 > 222    (Starts: 04/17/1984)","Project Plan","FD01","Active","2025-01-02T03:05:13.194"]
[null,null,null,null,null,null,"PROJECT_PLAN_TASK-PJP9757-64776","PJP9757-222 > 64776  (01/01/1900 - 12/18/2024)","PROJECT_PLAN_TASK-PJP9757-64776-PJP9757-222 > 64776  (01/01/1900 - 12/18/2024)","Project Plan","FD01","Active","2025-01-02T03:05:13.194"]
[null,null,null,null,null,null,"PROJECT_PLAN_TASK-PJP9757-97250","PJP9757-222 > 97250    (Starts: 03/02/2016)","PROJECT_PLAN_TASK-PJP9757-97250-PJP9757-222 > 97250    (Starts: 03/02/2016)","Project Plan","FD01","Active","2025-01-02T03:05:13.194"]
[null,null,null,null,null,null,"PROJECT_PLAN_TASK-PJP9757-97320","PJP9757-222 > 97320    (Starts: 11/06/2009)","PROJECT_PLAN_TASK-PJP9757-97320-PJP9757-222 > 97320    (Starts: 11/06/2009)","Project Plan","FD01","Active","2025-01-02T03:05:13.194"]
[null,null,null,null,null,null,"PROJECT_PLAN_TASK-PJP9757-97746","PJP9757-222 > 97746    (Starts: 02/12/2007)","PROJECT_PLAN_TASK-PJP9757-97746-PJP9757-222 > 97746    (Starts: 02/12/2007)","Project Plan","FD01","Active","2025-01-02T03:05:13.194"]
[null,null,null,null,null,null,"PROJECT_PLAN_TASK-PJP9757-98069","PJP9757-222 > 98069    (Starts: 06/12/2018)","PROJECT_PLAN_TASK-PJP9757-98069-PJP9757-222 > 98069    (Starts: 06/12/2018)","Project Plan","FD01","Active","2025-01-02T03:05:13.194"]
[null,null,null,null,null,null,"PROJECT_PLAN_TASK-PJP9757-98070","PJP9757-222 > 98070    (Starts: 06/12/2018)","PROJECT_PLAN_TASK-PJP9757-98070-PJP9757-222 > 98070    (Starts: 06/12/2018)","Project Plan","FD01","Active","2025-01-02T03:05:13.194"]
[null,null,null,null,null,null,"PROJECT_PLAN_TASK-PJP9757-98234","PJP9757-222 > 98234    (Starts: 01/26/1996)","PROJECT_PLAN_TASK-PJP9757-98234-PJP9757-222 > 98234    (Starts: 01/26/1996)","Project Plan","FD01","Active","2025-01-02T03:05:13.194"]
[null,null,null,null,null,null,"PROJECT_PLAN_TASK-PJP9757-98305","PJP9757-222 > 98305    (Starts: 03/03/2004)","PROJECT_PLAN_TASK-PJP9757-98305-PJP9757-222 > 98305    (Starts: 03/03/2004)","Project Plan","FD01","Active","2025-01-02T03:05:13.194"]
[null,null,null,null,null,null,"PROJECT_PLAN_TASK-PJP9757-98591","PJP9757-222 > 98591    (Starts: 02/01/2008)","PROJECT_PLAN_TASK-PJP9757-98591-PJP9757-222 > 98591    (Starts: 02/01/2008)","Project Plan","FD01","Active","2025-01-02T03:05:13.194"]
[null,null,null,null,null,null,"PROJECT_PLAN_TASK-PJP9757-99256","PJP9757-222 > 99256    (Starts: 10/10/1997)","PROJECT_PLAN_TASK-PJP9757-99256-PJP9757-222 > 99256    (Starts: 10/10/1997)","Project Plan","FD01","Active","2025-01-02T03:05:13.194"]
[null,null,null,null,null,null,"PROJECT_PLAN_TASK-PJP9757-99978","PJP9757-222 > 99978    (Starts: 04/15/1999)","PROJECT_PLAN_TASK-PJP9757-99978-PJP9757-222 > 99978    (Starts: 04/15/1999)","Project Plan","FD01","Active","2025-01-02T03:05:13.194"]
[null,null,null,null,null,null,"PROJECT_PLAN_TASK-PJP9757-99980","PJP9757-222 > 99980    (Starts: 04/15/1999)","PROJECT_PLAN_TASK-PJP9757-99980-PJP9757-222 > 99980    (Starts: 04/15/1999)","Project Plan","FD01","Active","2025-01-02T03:05:13.194"]
[null,null,null,null,null,null,"PROJECT_PLAN_TASK-PJP9757-99990","PJP9757-222 > 99990    (Starts: 08/08/1995)","PROJECT_PLAN_TASK-PJP9757-99990-PJP9757-222 > 99990    (Starts: 08/08/1995)","Project Plan","FD01","Active","2025-01-02T03:05:13.194"]
[null,null,null,null,null,null,"PROJECT_PLAN_TASK-PJP9758-223","PJP9758-223 > 223    (Starts: 04/17/1984)","PROJECT_PLAN_TASK-PJP9758-223-PJP9758-223 > 223    (Starts: 04/17/1984)","Project Plan","FD01","Active","2025-01-02T03:05:13.293"]
[null,null,null,null,null,null,"PROJECT_PLAN_TASK-PJP9759-224","PJP9759-224 > 224    (Starts: 04/17/1984)","PROJECT_PLAN_TASK-PJP9759-224-PJP9759-224 > 224    (Starts: 04/17/1984)","Project Plan","FD01","Active","2025-01-02T03:05:13.293"]
[null,null,null,null,null,null,"PROJECT_PLAN_TASK-PJP97599-V1098","PJP97599-V1098 > V1098    (Starts: 01/25/2006)","PROJECT_PLAN_TASK-PJP97599-V1098-PJP97599-V1098 > V1098    (Starts: 01/25/2006)","Project Plan","FD01","Active","2025-01-02T03:05:14.767"]
[null,null,null,null,null,null,"PROJECT_PLAN_TASK-PJP9760-225","PJP9760-225 > 225    (Starts: 04/17/1984)","PROJECT_PLAN_TASK-PJP9760-225-PJP9760-225 > 225    (Starts: 04/17/1984)","Project Plan","FD01","Active","2025-01-02T03:05:13.194"]
[null,null,null,null,null,null,"PROJECT_PLAN_TASK-PJP9761-226","PJP9761-226 > 226    (Starts: 04/17/1984)","PROJECT_PLAN_TASK-PJP9761-226-PJP9761-226 > 226    (Starts: 04/17/1984)","Project Plan","FD01","Active","2025-01-02T03:05:13.293"]
[null,null,null,null,null,null,"PROJECT_PLAN_TASK-PJP9761-56469","PJP9761-226 > 56469    (Starts: 10/04/2024)","PROJECT_PLAN_TASK-PJP9761-56469-PJP9761-226 > 56469    (Starts: 10/04/2024)","Project Plan","FD01","Active","2025-01-02T03:05:13.293"]
[null,null,null,null,null,null,"PROJECT_PLAN_TASK-PJP9761-61320","PJP9761-226 > 61320    (Starts: 11/14/2024)","PROJECT_PLAN_TASK-PJP9761-61320-PJP9761-226 > 61320    (Starts: 11/14/2024)","Project Plan","FD01","Active","2025-01-02T03:05:13.293"]
[null,null,null,null,null,null,"PROJECT_PLAN_TASK-PJP9761-62893","PJP9761-226 > 62893    (Starts: 12/02/2024)","PROJECT_PLAN_TASK-PJP9761-62893-PJP9761-226 > 62893    (Starts: 12/02/2024)","Project Plan","FD01","Active","2025-01-02T03:05:13.293"]
[null,null,null,null,null,null,"PROJECT_PLAN_TASK-PJP9761-63246","PJP9761-226 > 63246    (Starts: 12/04/2024)","PROJECT_PLAN_TASK-PJP9761-63246-PJP9761-226 > 63246    (Starts: 12/04/2024)","Project Plan","FD01","Active","2025-01-02T03:05:13.293"]
[null,null,null,null,null,null,"PROJECT_PLAN_TASK-PJP9761-63426","PJP9761-226 > 63426    (Starts: 12/05/2024)","PROJECT_PLAN_TASK-PJP9761-63426-PJP9761-226 > 63426    (Starts: 12/05/2024)","Project Plan","FD01","Active","2025-01-02T03:05:13.293"]
[null,null,null,null,null,null,"PROJECT_PLAN_TASK-PJP9761-63537","PJP9761-226 > 63537    (Starts: 12/06/2024)","PROJECT_PLAN_TASK-PJP9761-63537-PJP9761-226 > 63537    (Starts: 12/06/2024)","Project Plan","FD01","Active","2025-01-02T03:05:13.293"]
[null,null,null,null,null,null,"PROJECT_PLAN_TASK-PJP9761-63541","PJP9761-226 > 63541    (Starts: 12/06/2024)","PROJECT_PLAN_TASK-PJP9761-63541-PJP9761-226 > 63541    (Starts: 12/06/2024)","Project Plan","FD01","Active","2025-01-02T03:05:13.293"]
[null,null,null,null,null,null,"PROJECT_PLAN_TASK-PJP9761-63565","PJP9761-226 > 63565    (Starts: 12/06/2024)","PROJECT_PLAN_TASK-PJP9761-63565-PJP9761-226 > 63565    (Starts: 12/06/2024)","Project Plan","FD01","Active","2025-01-02T03:05:13.293"]
[null,null,null,null,null,null,"PROJECT_PLAN_TASK-PJP9761-63907","PJP9761-226 > 63907    (Starts: 12/10/2024)","PROJECT_PLAN_TASK-PJP9761-63907-PJP9761-226 > 63907    (Starts: 12/10/2024)","Project Plan","FD01","Active","2025-01-02T03:05:13.293"]
[null,null,null,null,null,null,"PROJECT_PLAN_TASK-PJP9761-64012","PJP9761-226 > 64012    (Starts: 12/11/2024)","PROJECT_PLAN_TASK-PJP9761-64012-PJP9761-226 > 64012    (Starts: 12/11/2024)","Project Plan","FD01","Active","2025-01-02T03:05:13.293"]
[null,null,null,null,null,null,"PROJECT_PLAN_TASK-PJP9761-64015","PJP9761-226 > 64015    (Starts: 12/11/2024)","PROJECT_PLAN_TASK-PJP9761-64015-PJP9761-226 > 64015    (Starts: 12/11/2024)","Project Plan","FD01","Active","2025-01-02T03:05:13.293"]
[null,null,null,null,null,null,"PROJECT_PLAN_TASK-PJP9761-64056","PJP9761-226 > 64056    (Starts: 12/11/2024)","PROJECT_PLAN_TASK-PJP9761-64056-PJP9761-226 > 64056    (Starts: 12/11/2024)","Project Plan","FD01","Active","2025-01-02T03:05:13.293"]
[null,null,null,null,null,null,"PROJECT_PLAN_TASK-PJP9761-64058","PJP9761-226 > 64058    (Starts: 12/11/2024)","PROJECT_PLAN_TASK-PJP9761-64058-PJP9761-226 > 64058    (Starts: 12/11/2024)","Project Plan","FD01","Active","2025-01-02T03:05:13.293"]
[null,null,null,null,null,null,"PROJECT_PLAN_TASK-PJP9761-64489","PJP9761-226 > 64489    (Starts: 12/17/2024)","PROJECT_PLAN_TASK-PJP9761-64489-PJP9761-226 > 64489    (Starts: 12/17/2024)","Project Plan","FD01","Active","2025-01-02T03:05:13.293"]
[null,null,null,null,null,null,"PROJECT_PLAN_TASK-PJP9761-64490","PJP9761-226 > 64490    (Starts: 12/17/2024)","PROJECT_PLAN_TASK-PJP9761-64490-PJP9761-226 > 64490    (Starts: 12/17/2024)","Project Plan","FD01","Active","2025-01-02T03:05:13.293"]
[null,null,null,null,null,null,"PROJECT_PLAN_TASK-PJP9761-64497","PJP9761-226 > 64497    (Starts: 12/17/2024)","PROJECT_PLAN_TASK-PJP9761-64497-PJP9761-226 > 64497    (Starts: 12/17/2024)","Project Plan","FD01","Active","2025-01-02T03:05:13.293"]
[null,null,null,null,null,null,"PROJECT_PLAN_TASK-PJP9761-65081","PJP9761-226 > 65081    (Starts: 12/23/2024)","PROJECT_PLAN_TASK-PJP9761-65081-PJP9761-226 > 65081    (Starts: 12/23/2024)","Project Plan","FD01","Active","2025-01-02T03:05:13.293"]
[null,null,null,null,null,null,"PROJECT_PLAN_TASK-PJP9761-65288","PJP9761-226 > 65288    (Starts: 12/30/2024)","PROJECT_PLAN_TASK-PJP9761-65288-PJP9761-226 > 65288    (Starts: 12/30/2024)","Project Plan","FD01","Active","2025-01-02T03:05:13.293"]
[null,null,null,null,null,null,"PROJECT_PLAN_TASK-PJP97636-VML14","PJP97636-VML14 > VML14    (Starts: 01/27/2006)","PROJECT_PLAN_TASK-PJP97636-VML14-PJP97636-VML14 > VML14    (Starts: 01/27/2006)","Project Plan","FD01","Active","2025-01-02T03:05:16.741"]
[null,null,null,null,null,null,"PROJECT_PLAN_TASK-PJP9764-231","PJP9764-231 > 231    (Starts: 04/17/1984)","PROJECT_PLAN_TASK-PJP9764-231-PJP9764-231 > 231    (Starts: 04/17/1984)","Project Plan","FD01","Active","2025-01-02T03:05:13.293"]
[null,null,null,null,null,null,"PROJECT_PLAN_TASK-PJP9764-60190","PJP9764-231 > 60190    (Starts: 11/04/2024)","PROJECT_PLAN_TASK-PJP9764-60190-PJP9764-231 > 60190    (Starts: 11/04/2024)","Project Plan","FD01","Active","2025-01-02T03:05:13.293"]
[null,null,null,null,null,null,"PROJECT_PLAN_TASK-PJP9764-63353","PJP9764-231 > 63353    (Starts: 12/04/2024)","PROJECT_PLAN_TASK-PJP9764-63353-PJP9764-231 > 63353    (Starts: 12/04/2024)","Project Plan","FD01","Active","2025-01-02T03:05:13.293"]
[null,null,null,null,null,null,"PROJECT_PLAN_TASK-PJP9764-63356","PJP9764-231 > 63356    (Starts: 12/04/2024)","PROJECT_PLAN_TASK-PJP9764-63356-PJP9764-231 > 63356    (Starts: 12/04/2024)","Project Plan","FD01","Active","2025-01-02T03:05:13.293"]
[null,null,null,null,null,null,"PROJECT_PLAN_TASK-PJP9765-232","PJP9765-232 > 232    (Starts: 04/17/1984)","PROJECT_PLAN_TASK-PJP9765-232-PJP9765-232 > 232    (Starts: 04/17/1984)","Project Plan","FD01","Active","2025-01-02T03:05:13.293"]
[null,null,null,null,null,null,"PROJECT_PLAN_TASK-PJP9766-233","PJP9766-233 > 233    (Starts: 04/17/1984)","PROJECT_PLAN_TASK-PJP9766-233-PJP9766-233 > 233    (Starts: 04/17/1984)","Project Plan","FD01","Active","2025-01-02T03:05:13.194"]
[null,null,null,null,null,null,"PROJECT_PLAN_TASK-PJP97665-VML15","PJP97665-VML15 > VML15    (Starts: 01/30/2006)","PROJECT_PLAN_TASK-PJP97665-VML15-PJP97665-VML15 > VML15    (Starts: 01/30/2006)","Project Plan","FD01","Active","2025-01-02T03:05:16.741"]
[null,null,null,null,null,null,"PROJECT_PLAN_TASK-PJP97666-VML16","PJP97666-VML16 > VML16    (Starts: 01/30/2006)","PROJECT_PLAN_TASK-PJP97666-VML16-PJP97666-VML16 > VML16    (Starts: 01/30/2006)","Project Plan","FD01","Active","2025-01-02T03:05:16.741"]
[null,null,null,null,null,null,"PROJECT_PLAN_TASK-PJP9767-234","PJP9767-234 > 234    (Starts: 04/17/1984)","PROJECT_PLAN_TASK-PJP9767-234-PJP9767-234 > 234    (Starts: 04/17/1984)","Project Plan","FD01","Active","2025-01-02T03:05:13.293"]
[null,null,null,null,null,null,"PROJECT_PLAN_TASK-PJP9768-235","PJP9768-235 > 235    (Starts: 04/17/1984)","PROJECT_PLAN_TASK-PJP9768-235-PJP9768-235 > 235    (Starts: 04/17/1984)","Project Plan","FD01","Active","2025-01-02T03:05:13.341"]
[null,null,null,null,null,null,"PROJECT_PLAN_TASK-PJP97706-VMP42","PJP97706-VMP42 > VMP42    (Starts: 02/02/2006)","PROJECT_PLAN_TASK-PJP97706-VMP42-PJP97706-VMP42 > VMP42    (Starts: 02/02/2006)","Project Plan","FD01","Active","2025-01-02T03:05:16.841"]
[null,null,null,null,null,null,"PROJECT_PLAN_TASK-PJP97714-V2102","PJP97714-V2102 > V2102    (Starts: 02/03/2006)","PROJECT_PLAN_TASK-PJP97714-V2102-PJP97714-V2102 > V2102    (Starts: 02/03/2006)","Project Plan","FD01","Active","2025-01-02T03:05:15.268"]
[null,null,null,null,null,null,"PROJECT_PLAN_TASK-PJP97994-V3186","PJP97994-V3186 > V3186    (Starts: 02/28/2006)","PROJECT_PLAN_TASK-PJP97994-V3186-PJP97994-V3186 > V3186    (Starts: 02/28/2006)","Project Plan","FD01","Active","2025-01-02T03:05:16.101"]
[null,null,null,null,null,null,"PROJECT_PLAN_TASK-PJP98123-V3133","PJP98123-V3133 > V3133    (Starts: 03/08/2006)","PROJECT_PLAN_TASK-PJP98123-V3133-PJP98123-V3133 > V3133    (Starts: 03/08/2006)","Project Plan","FD01","Active","2025-01-02T03:05:15.975"]
[null,null,null,null,null,null,"PROJECT_PLAN_TASK-PJP98328-V1163","PJP98328-V1163 > V1163    (Starts: 03/23/2006)","PROJECT_PLAN_TASK-PJP98328-V1163-PJP98328-V1163 > V1163    (Starts: 03/23/2006)","Project Plan","FD01","Active","2025-01-02T03:05:15.011"]
[null,null,null,null,null,null,"PROJECT_PLAN_TASK-PJP98502-54234","PJP98502-V3241 > 54234    (Starts: 09/16/2024)","PROJECT_PLAN_TASK-PJP98502-54234-PJP98502-V3241 > 54234    (Starts: 09/16/2024)","Project Plan","FD01","Active","2025-01-02T03:05:16.275"]
[null,null,null,null,null,null,"PROJECT_PLAN_TASK-PJP98502-V3241","PJP98502-V3241 > V3241    (Starts: 04/06/2006)","PROJECT_PLAN_TASK-PJP98502-V3241-PJP98502-V3241 > V3241    (Starts: 04/06/2006)","Project Plan","FD01","Active","2025-01-02T03:05:16.275"]
[null,null,null,null,null,null,"PROJECT_PLAN_TASK-PJP98503-54237","PJP98503-V3242 > 54237    (Starts: 09/16/2024)","PROJECT_PLAN_TASK-PJP98503-54237-PJP98503-V3242 > 54237    (Starts: 09/16/2024)","Project Plan","FD01","Active","2025-01-02T03:05:16.275"]
[null,null,null,null,null,null,"PROJECT_PLAN_TASK-PJP98503-56431","PJP98503-V3242 > 56431    (Starts: 10/04/2024)","PROJECT_PLAN_TASK-PJP98503-56431-PJP98503-V3242 > 56431    (Starts: 10/04/2024)","Project Plan","FD01","Active","2025-01-02T03:05:16.275"]
[null,null,null,null,null,null,"PROJECT_PLAN_TASK-PJP98503-V3242","PJP98503-V3242 > V3242    (Starts: 04/06/2006)","PROJECT_PLAN_TASK-PJP98503-V3242-PJP98503-V3242 > V3242    (Starts: 04/06/2006)","Project Plan","FD01","Active","2025-01-02T03:05:16.275"]
[null,null,null,null,null,null,"PROJECT_PLAN_TASK-PJP98504-V3243","PJP98504-V3243 > V3243    (Starts: 04/06/2006)","PROJECT_PLAN_TASK-PJP98504-V3243-PJP98504-V3243 > V3243    (Starts: 04/06/2006)","Project Plan","FD01","Active","2025-01-02T03:05:16.275"]
[null,null,null,null,null,null,"PROJECT_PLAN_TASK-PJP98531-V2069","PJP98531-V2069 > V2069    (Starts: 04/10/2006)","PROJECT_PLAN_TASK-PJP98531-V2069-PJP98531-V2069 > V2069    (Starts: 04/10/2006)","Project Plan","FD01","Active","2025-01-02T03:05:15.268"]
[null,null,null,null,null,null,"PROJECT_PLAN_TASK-PJP9854-240","PJP9854-240 > 240    (Starts: 04/26/1984)","PROJECT_PLAN_TASK-PJP9854-240-PJP9854-240 > 240    (Starts: 04/26/1984)","Project Plan","FD01","Active","2025-01-02T03:05:13.341"]
[null,null,null,null,null,null,"PROJECT_PLAN_TASK-PJP9855-245","PJP9855-245 > 245    (Starts: 04/26/1984)","PROJECT_PLAN_TASK-PJP9855-245-PJP9855-245 > 245    (Starts: 04/26/1984)","Project Plan","FD01","Active","2025-01-03T03:04:48.434911+00:00"]
[null,null,null,null,null,null,"PROJECT_PLAN_TASK-PJP98598-VAL7V","PJP98598-VAL7V > VAL7V    (Starts: 04/14/2006)","PROJECT_PLAN_TASK-PJP98598-VAL7V-PJP98598-VAL7V > VAL7V    (Starts: 04/14/2006)","Project Plan","FD01","Active","2025-01-02T03:05:16.468"]
[null,null,null,null,null,null,"PROJECT_PLAN_TASK-PJP98861-VMP3","PJP98861-VMP3 > VMP3    (Starts: 05/10/2006)","PROJECT_PLAN_TASK-PJP98861-VMP3-PJP98861-VMP3 > VMP3    (Starts: 05/10/2006)","Project Plan","FD01","Active","2025-01-02T03:05:16.741"]
[null,null,null,null,null,null,"PROJECT_PLAN_TASK-PJP98864-V3134","PJP98864-V3134 > V3134    (Starts: 05/11/2006)","PROJECT_PLAN_TASK-PJP98864-V3134-PJP98864-V3134 > V3134    (Starts: 05/11/2006)","Project Plan","FD01","Active","2025-01-02T03:05:16.101"]
[null,null,null,null,null,null,"PROJECT_PLAN_TASK-PJP99015-V3111","PJP99015-V3111 > V3111    (Starts: 05/25/2006)","PROJECT_PLAN_TASK-PJP99015-V3111-PJP99015-V3111 > V3111    (Starts: 05/25/2006)","Project Plan","FD01","Active","2025-01-02T03:05:15.975"]
[null,null,null,null,null,null,"PROJECT_PLAN_TASK-PJP99016-V3092","PJP99016-V3092 > V3092    (Starts: 05/25/2006)","PROJECT_PLAN_TASK-PJP99016-V3092-PJP99016-V3092 > V3092    (Starts: 05/25/2006)","Project Plan","FD01","Active","2025-01-02T03:05:15.975"]
[null,null,null,null,null,null,"PROJECT_PLAN_TASK-PJP99060-V3093","PJP99060-V3093 > V3093    (Starts: 05/31/2006)","PROJECT_PLAN_TASK-PJP99060-V3093-PJP99060-V3093 > V3093    (Starts: 05/31/2006)","Project Plan","FD01","Active","2025-01-02T03:05:15.975"]
[null,null,null,null,null,null,"PROJECT_PLAN_TASK-PJP99061-V3097","PJP99061-V3097 > V3097    (Starts: 05/31/2006)","PROJECT_PLAN_TASK-PJP99061-V3097-PJP99061-V3097 > V3097    (Starts: 05/31/2006)","Project Plan","FD01","Active","2025-01-02T03:05:15.975"]
[null,null,null,null,null,null,"PROJECT_PLAN_TASK-PJP99062-V3141","PJP99062-V3141 > V3141    (Starts: 05/31/2006)","PROJECT_PLAN_TASK-PJP99062-V3141-PJP99062-V3141 > V3141    (Starts: 05/31/2006)","Project Plan","FD01","Active","2025-01-02T03:05:16.101"]
[null,null,null,null,null,null,"PROJECT_PLAN_TASK-PJP99119-V2095","PJP99119-V2095 > V2095    (Starts: 06/06/2006)","PROJECT_PLAN_TASK-PJP99119-V2095-PJP99119-V2095 > V2095    (Starts: 06/06/2006)","Project Plan","FD01","Active","2025-01-02T03:05:15.268"]
[null,null,null,null,null,null,"PROJECT_PLAN_TASK-PJP99159-V3088","PJP99159-V3088 > V3088    (Starts: 06/07/2006)","PROJECT_PLAN_TASK-PJP99159-V3088-PJP99159-V3088 > V3088    (Starts: 06/07/2006)","Project Plan","FD01","Active","2025-01-02T03:05:15.975"]
[null,null,null,null,null,null,"PROJECT_PLAN_TASK-PJP99197-V2156","PJP99197-V2156 > V2156    (Starts: 06/09/2006)","PROJECT_PLAN_TASK-PJP99197-V2156-PJP99197-V2156 > V2156    (Starts: 06/09/2006)","Project Plan","FD01","Active","2025-01-02T03:05:15.600"]
[null,null,null,null,null,null,"PROJECT_PLAN_TASK-PJP99209-61933","PJP99209-EBRW1 > 61933    (Starts: 11/19/2024)","PROJECT_PLAN_TASK-PJP99209-61933-PJP99209-EBRW1 > 61933    (Starts: 11/19/2024)","Project Plan","FD01","Active","2025-01-02T03:05:14.080"]
[null,null,null,null,null,null,"PROJECT_PLAN_TASK-PJP99209-64863","PJP99209-EBRW1 > 64863    (Starts: 12/19/2024)","PROJECT_PLAN_TASK-PJP99209-64863-PJP99209-EBRW1 > 64863    (Starts: 12/19/2024)","Project Plan","FD01","Active","2025-01-02T03:05:14.080"]
[null,null,null,null,null,null,"PROJECT_PLAN_TASK-PJP99209-65365","PJP99209-EBRW1 > 65365    (Starts: 12/30/2024)","PROJECT_PLAN_TASK-PJP99209-65365-PJP99209-EBRW1 > 65365    (Starts: 12/30/2024)","Project Plan","FD01","Active","2025-01-02T03:05:14.080"]
[null,null,null,null,null,null,"PROJECT_PLAN_TASK-PJP99209-EBRW1","PJP99209-EBRW1 > EBRW1    (Starts: 06/12/2006)","PROJECT_PLAN_TASK-PJP99209-EBRW1-PJP99209-EBRW1 > EBRW1    (Starts: 06/12/2006)","Project Plan","FD01","Active","2025-01-02T03:05:14.080"]
[null,null,null,null,null,null,"PROJECT_PLAN_TASK-PJP99296-VAT62","PJP99296-VAT62 > VAT62    (Starts: 06/20/2006)","PROJECT_PLAN_TASK-PJP99296-VAT62-PJP99296-VAT62 > VAT62    (Starts: 06/20/2006)","Project Plan","FD01","Active","2025-01-02T03:05:16.468"]
[null,null,null,null,null,null,"PROJECT_PLAN_TASK-PJP99298-VAT68","PJP99298-VAT68 > VAT68    (Starts: 06/20/2006)","PROJECT_PLAN_TASK-PJP99298-VAT68-PJP99298-VAT68 > VAT68    (Starts: 06/20/2006)","Project Plan","FD01","Active","2025-01-02T03:05:16.468"]
[null,null,null,null,null,null,"PROJECT_PLAN_TASK-PJP99334-V2040","PJP99334-V2040 > V2040    (Starts: 06/22/2006)","PROJECT_PLAN_TASK-PJP99334-V2040-PJP99334-V2040 > V2040    (Starts: 06/22/2006)","Project Plan","FD01","Active","2025-01-02T03:05:15.268"]
[null,null,null,null,null,null,"PROJECT_PLAN_TASK-PJP99335-V3127","PJP99335-V3127 > V3127    (Starts: 06/22/2006)","PROJECT_PLAN_TASK-PJP99335-V3127-PJP99335-V3127 > V3127    (Starts: 06/22/2006)","Project Plan","FD01","Active","2025-01-02T03:05:15.975"]
[null,null,null,null,null,null,"PROJECT_PLAN_TASK-PJP99348-40607","PJP99348-VPW27 > 40607  (05/31/2024 - 01/02/2025)","PROJECT_PLAN_TASK-PJP99348-40607-PJP99348-VPW27 > 40607  (05/31/2024 - 01/02/2025)","Project Plan","FD01","Active","2025-01-02T03:05:16.841"]
[null,null,null,null,null,null,"PROJECT_PLAN_TASK-PJP99348-VPW27","PJP99348-VPW27 > VPW27    (Starts: 06/23/2006)","PROJECT_PLAN_TASK-PJP99348-VPW27-PJP99348-VPW27 > VPW27    (Starts: 06/23/2006)","Project Plan","FD01","Active","2025-01-02T03:05:16.841"]
[null,null,null,null,null,null,"PROJECT_PLAN_TASK-PJP99360-44709","PJP99360-VOU6 > 44709    (Starts: 07/05/2024)","PROJECT_PLAN_TASK-PJP99360-44709-PJP99360-VOU6 > 44709    (Starts: 07/05/2024)","Project Plan","FD01","Active","2025-01-02T03:05:16.841"]
[null,null,null,null,null,null,"PROJECT_PLAN_TASK-PJP99360-VOU6","PJP99360-VOU6 > VOU6    (Starts: 06/26/2006)","PROJECT_PLAN_TASK-PJP99360-VOU6-PJP99360-VOU6 > VOU6    (Starts: 06/26/2006)","Project Plan","FD01","Active","2025-01-02T03:05:16.841"]
[null,null,null,null,null,null,"PROJECT_PLAN_TASK-PJP99364-V2134","PJP99364-V2134 > V2134    (Starts: 06/27/2006)","PROJECT_PLAN_TASK-PJP99364-V2134-PJP99364-V2134 > V2134    (Starts: 06/27/2006)","Project Plan","FD01","Active","2025-01-02T03:05:15.509"]
[null,null,null,null,null,null,"PROJECT_PLAN_TASK-PJP99365-V3105","PJP99365-V3105 > V3105    (Starts: 06/27/2006)","PROJECT_PLAN_TASK-PJP99365-V3105-PJP99365-V3105 > V3105    (Starts: 06/27/2006)","Project Plan","FD01","Active","2025-01-02T03:05:15.975"]
[null,null,null,null,null,null,"PROJECT_PLAN_TASK-PJP99378-40364","PJP99378-V655 > 40364    (Starts: 05/30/2024)","PROJECT_PLAN_TASK-PJP99378-40364-PJP99378-V655 > 40364    (Starts: 05/30/2024)","Project Plan","FD01","Active","2025-01-02T03:05:16.468"]
[null,null,null,null,null,null,"PROJECT_PLAN_TASK-PJP99378-V655","PJP99378-V655 > V655    (Starts: 06/27/2006)","PROJECT_PLAN_TASK-PJP99378-V655-PJP99378-V655 > V655    (Starts: 06/27/2006)","Project Plan","FD01","Active","2025-01-02T03:05:16.468"]
[null,null,null,null,null,null,"PROJECT_PLAN_TASK-PJP99428-V3094","PJP99428-V3094 > V3094    (Starts: 07/05/2006)","PROJECT_PLAN_TASK-PJP99428-V3094-PJP99428-V3094 > V3094    (Starts: 07/05/2006)","Project Plan","FD01","Active","2025-01-02T03:05:15.975"]
[null,null,null,null,null,null,"PROJECT_PLAN_TASK-PJP99460-V1058","PJP99460-V1058 > V1058    (Starts: 07/06/2006)","PROJECT_PLAN_TASK-PJP99460-V1058-PJP99460-V1058 > V1058    (Starts: 07/06/2006)","Project Plan","FD01","Active","2025-01-02T03:05:14.767"]
[null,null,null,null,null,null,"PROJECT_PLAN_TASK-PJP99647-V3199","PJP99647-V3199 > V3199    (Starts: 07/25/2006)","PROJECT_PLAN_TASK-PJP99647-V3199-PJP99647-V3199 > V3199    (Starts: 07/25/2006)","Project Plan","FD01","Active","2025-01-02T03:05:16.191"]
[null,null,null,null,null,null,"PROJECT_PLAN_TASK-PJP99678-V3099","PJP99678-V3099 > V3099    (Starts: 07/28/2006)","PROJECT_PLAN_TASK-PJP99678-V3099-PJP99678-V3099 > V3099    (Starts: 07/28/2006)","Project Plan","FD01","Active","2025-01-02T03:05:15.975"]
[null,null,null,null,null,null,"PROJECT_PLAN_TASK-PJP99681-V1078","PJP99681-V1078 > V1078    (Starts: 07/28/2006)","PROJECT_PLAN_TASK-PJP99681-V1078-PJP99681-V1078 > V1078    (Starts: 07/28/2006)","Project Plan","FD01","Active","2025-01-02T03:05:14.767"]
[null,null,null,null,null,null,"PROJECT_PLAN_TASK-PJP99810-V3103","PJP99810-V3103 > V3103    (Starts: 08/07/2006)","PROJECT_PLAN_TASK-PJP99810-V3103-PJP99810-V3103 > V3103    (Starts: 08/07/2006)","Project Plan","FD01","Active","2025-01-02T03:05:15.975"]
[null,null,null,null,null,null,"PROJECT_PLAN_TASK-PJP99870-V381V","PJP99870-V381V > V381V    (Starts: 08/10/2006)","PROJECT_PLAN_TASK-PJP99870-V381V-PJP99870-V381V > V381V    (Starts: 08/10/2006)","Project Plan","FD01","Active","2025-01-02T03:05:16.359"]
[null,null,null,null,null,null,"PROJECT_PLAN_TASK-PJP99871-V276V","PJP99871-V276V > V276V    (Starts: 08/10/2006)","PROJECT_PLAN_TASK-PJP99871-V276V-PJP99871-V276V > V276V    (Starts: 08/10/2006)","Project Plan","FD01","Active","2025-01-02T03:05:15.730"]
[null,null,null,null,null,null,"PROJECT_PLAN_TASK-PJP99879-ENJKB","PJP99879-ENJKB > ENJKB    (Starts: 08/10/2006)","PROJECT_PLAN_TASK-PJP99879-ENJKB-PJP99879-ENJKB > ENJKB    (Starts: 08/10/2006)","Project Plan","FD01","Active","2025-01-02T03:05:14.548"]
[null,null,null,null,null,null,"PROJECT_PLAN_TASK-PJP99988-V3095","PJP99988-V3095 > V3095    (Starts: 08/18/2006)","PROJECT_PLAN_TASK-PJP99988-V3095-PJP99988-V3095 > V3095    (Starts: 08/18/2006)","Project Plan","FD01","Active","2025-01-02T03:05:15.975"]

{"sheet":"Tenant","index":3,"n_rows":16,"n_cols":21,"rows_kept":16,"cut":false,"hidden":true,"merged":[[1,5,1,12],[1,15,2,16],[1,17,2,17],[1,18,2,18],[1,19,2,20]]}
[null,null,null,null,null,null,null,null,null,null,null,null,null,{"$f":"_xlfn.DAYS(NOW(),O4)","v":1},{"$f":"\"Refresh Worktags\" & CHAR(10) & \"* \" & _xlfn.DAYS(NOW(),O4) & \" days since worktag refresh\"","v":"Refresh Worktags\n* 1 days since worktag refresh"}]
[null,null,"Intra Campus",null,null,null,null,null,null,null,null,null,null,null,null,"Journal Sources",null,"Ledger","Currency","Books"]
[null,null,"Revenue","Tenant","Type",null,null,null,null,null,null,null,null,"Version","Last Updated",null,null,"Ledger","Currency"]
[null,null,"Y","PROD","BANK","ALU","Brigham Young University Alumni, LLC","ALU-Brigham Young University Alumni, LLC","Actuals","2025-Jan (Calendar Year)","2025-01-01","2025-01-31","Open",1,"2025-01-16","JE Campus","JE_Campus","Actuals","CAD","Common","Common"]
[null,null,null,"SAND","JRNL","BYU","Brigham Young University","BYU-Brigham Young University","Actuals","2025-Jan (Calendar Year)","2025-01-01","2025-01-31","Open",null,null,"JE Gift","JE_Gift","Commitment","EUR","Financial Adjustment","Financial_Adjustment"]
[null,null,null,null,null,"CAN","EFY-Canada Foundation","CAN-EFY-Canada Foundation","Actuals","2025-Jan (Calendar Year)","2025-01-01","2025-01-31","Open",null,null,"JE Override","JE_Override","Obligation","GBP"]
[null,null,null,null,null,"CEE","CE Events, LLC","CEE-CE Events, LLC","Actuals","2025-Jan (Calendar Year)","2025-01-01","2025-01-31","Open",null,null,"JE Payroll","JE_Payroll",null,"ILS"]
[null,null,null,null,null,"FSY","FSY, LLC","FSY-FSY, LLC","Actuals","2025-Jan (Calendar Year)","2025-01-01","2025-01-31","Open",null,null,"JE PPE","JE_PPE",null,"USD"]
[null,null,null,null,null,"HED","HEDL, LLC","HED-HEDL, LLC","Actuals","2025-Jan (Calendar Year)","2025-01-01","2025-01-31","Open",null,null,"JE Research","JE_Research"]
[null,null,null,null,null,"IHS","HSDL, LLC","IHS-HSDL, LLC","Actuals","2025-Jan (Calendar Year)","2025-01-01","2025-01-31","Open"]
[null,null,null,null,null,"INT","BYU International, LLC","INT-BYU International, LLC","Actuals","2025-Jan (Calendar Year)","2025-01-01","2025-01-31","Open"]
[null,null,null,null,null,"JER","The Jerusalem Center for Near Eastern Studies","JER-The Jerusalem Center for Near Eastern Studies","Actuals","2025-Jan (Calendar Year)","2025-01-01","2025-01-31","Open"]
[null,null,null,null,null,"LDN","Brigham Young University, Ltd.","LDN-Brigham Young University, Ltd.","Actuals","2025-Jan (Calendar Year)","2025-01-01","2025-01-31","Open"]
[null,null,null,null,null,"USD_CAN","USD EFY-Canada Foundation","USD_CAN-USD EFY-Canada Foundation","Actuals","2025-Jan (Calendar Year)","2025-01-01","2025-01-31","Open"]
[null,null,null,null,null,"USD_JER","USD The Jerusalem Center for Near Eastern Studies","USD_JER-USD The Jerusalem Center for Near Eastern Studies","Actuals","2025-Jan (Calendar Year)","2025-01-01","2025-01-31","Open"]
[null,null,null,null,null,"USD_LDN","USD Brigham Young University, Ltd.","USD_LDN-USD Brigham Young University, Ltd.","Actuals","2025-Jan (Calendar Year)","2025-01-01","2025-01-31","Open"]

{"sheet":"AccountSCRC_Concat","index":4,"n_rows":3221,"n_cols":8,"rows_kept":3221,"cut":false,"hidden":true,"merged":[]}
[{"$f":"IF(B1<>\"\",IF(C1<>\"\",B1&\"_\"&C1&\" \"&D1&\"/\"&E1,B1&\" \"&D1),\"\")","v":"1000 Cash USD"},{"$f":"Worktags!AL5","v":"1000"},null,{"$f":"IFERROR(VLOOKUP(B1,Worktags!AL:AO,2,FALSE),\"\")","v":"Cash USD"},null,{"$f":"IFERROR(VLOOKUP(IF(C1=\"\",B1&\"||\"&B1,C1&\"||\"&B1),Worktags!AR:AV,5,FALSE),\"\")","v":""},{"$f":"MAX(IF(ISBLANK(Worktags!AL:AL),0,ROW(Worktags!AL:AL)))","v":139},{"$f":"MAX(IF(ISBLANK(Worktags!AR:AR),0,ROW(Worktags!AR:AR)))","v":905}]
["1000_BK1001 Cash USD/Wells Fargo Concentration 2494",{"$f":"Worktags!AS76","v":"1000"},{"$f":"IF(Worktags!AQ76<>Worktags!AS76,Worktags!AQ76,\"\")","v":"BK1001"},{"$f":"IFERROR(VLOOKUP(B2,Worktags!AL:AO,2,FALSE),\"\")","v":"Cash USD"},{"$f":"IFERROR(VLOOKUP(C2,Worktags!O:T,2,FALSE),\"\")","v":"Wells Fargo Concentration 2494"},{"$f":"IFERROR(VLOOKUP(IF(C2=\"\",B2&\"||\"&B2,C2&\"||\"&B2),Worktags!AR:AV,5,FALSE),\"\")","v":"JE_Override"}]
["1000_BK1002 Cash USD/Wells Fargo Depository 0001",{"$f":"Worktags!AS77","v":"1000"},{"$f":"IF(Worktags!AQ77<>Worktags!AS77,Worktags!AQ77,\"\")","v":"BK1002"},{"$f":"IFERROR(VLOOKUP(B3,Worktags!AL:AO,2,FALSE),\"\")","v":"Cash USD"},{"$f":"IFERROR(VLOOKUP(C3,Worktags!O:T,2,FALSE),\"\")","v":"Wells Fargo Depository 0001"},{"$f":"IFERROR(VLOOKUP(IF(C3=\"\",B3&\"||\"&B3,C3&\"||\"&B3),Worktags!AR:AV,5,FALSE),\"\")","v":"JE_Override"}]
["1000_BK1003 Cash USD/Wells Fargo Disbursement 0217",{"$f":"Worktags!AS78","v":"1000"},{"$f":"IF(Worktags!AQ78<>Worktags!AS78,Worktags!AQ78,\"\")","v":"BK1003"},{"$f":"IFERROR(VLOOKUP(B4,Worktags!AL:AO,2,FALSE),\"\")","v":"Cash USD"},{"$f":"IFERROR(VLOOKUP(C4,Worktags!O:T,2,FALSE),\"\")","v":"Wells Fargo Disbursement 0217"},{"$f":"IFERROR(VLOOKUP(IF(C4=\"\",B4&\"||\"&B4,C4&\"||\"&B4),Worktags!AR:AV,5,FALSE),\"\")","v":"JE_Override"}]
["1000_BK1004 Cash USD/Wells Fargo Payroll 0118",{"$f":"Worktags!AS79","v":"1000"},{"$f":"IF(Worktags!AQ79<>Worktags!AS79,Worktags!AQ79,\"\")","v":"BK1004"},{"$f":"IFERROR(VLOOKUP(B5,Worktags!AL:AO,2,FALSE),\"\")","v":"Cash USD"},{"$f":"IFERROR(VLOOKUP(C5,Worktags!O:T,2,FALSE),\"\")","v":"Wells Fargo Payroll 0118"},{"$f":"IFERROR(VLOOKUP(IF(C5=\"\",B5&\"||\"&B5,C5&\"||\"&B5),Worktags!AR:AV,5,FALSE),\"\")","v":"JE_Override"}]
["1000_BK1005 Cash USD/Wells Fargo Agency 3757",{"$f":"Worktags!AS80","v":"1000"},{"$f":"IF(Worktags!AQ80<>Worktags!AS80,Worktags!AQ80,\"\")","v":"BK1005"},{"$f":"IFERROR(VLOOKUP(B6,Worktags!AL:AO,2,FALSE),\"\")","v":"Cash USD"},{"$f":"IFERROR(VLOOKUP(C6,Worktags!O:T,2,FALSE),\"\")","v":"Wells Fargo Agency 3757"},{"$f":"IFERROR(VLOOKUP(IF(C6=\"\",B6&\"||\"&B6,C6&\"||\"&B6),Worktags!AR:AV,5,FALSE),\"\")","v":"JE_Override"}]
["1000_BK1006 Cash USD/Wells Fargo Fed Funds 2462",{"$f":"Worktags!AS81","v":"1000"},{"$f":"IF(Worktags!AQ81<>Worktags!AS81,Worktags!AQ81,\"\")","v":"BK1006"},{"$f":"IFERROR(VLOOKUP(B7,Worktags!AL:AO,2,FALSE),\"\")","v":"Cash USD"},{"$f":"IFERROR(VLOOKUP(C7,Worktags!O:T,2,FALSE),\"\")","v":"Wells Fargo Fed Funds 2462"},{"$f":"IFERROR(VLOOKUP(IF(C7=\"\",B7&\"||\"&B7,C7&\"||\"&B7),Worktags!AR:AV,5,FALSE),\"\")","v":"JE_Override"}]
["1000_BK1008 Cash USD/",{"$f":"Worktags!AS82","v":"1000"},{"$f":"IF(Worktags!AQ82<>Worktags!AS82,Worktags!AQ82,\"\")","v":"BK1008"},{"$f":"IFERROR(VLOOKUP(B8,Worktags!AL:AO,2,FALSE),\"\")","v":"Cash USD"},{"$f":"IFERROR(VLOOKUP(C8,Worktags!O:T,2,FALSE),\"\")","v":""},{"$f":"IFERROR(VLOOKUP(IF(C8=\"\",B8&\"||\"&B8,C8&\"||\"&B8),Worktags!AR:AV,5,FALSE),\"\")","v":"JE_Override"}]
["1000_BK1020 Cash USD/JPMorgan Per Diem 5898",{"$f":"Worktags!AS83","v":"1000"},{"$f":"IF(Worktags!AQ83<>Worktags!AS83,Worktags!AQ83,\"\")","v":"BK1020"},{"$f":"IFERROR(VLOOKUP(B9,Worktags!AL:AO,2,FALSE),\"\")","v":"Cash USD"},{"$f":"IFERROR(VLOOKUP(C9,Worktags!O:T,2,FALSE),\"\")","v":"JPMorgan Per Diem 5898"},{"$f":"IFERROR(VLOOKUP(IF(C9=\"\",B9&\"||\"&B9,C9&\"||\"&B9),Worktags!AR:AV,5,FALSE),\"\")","v":"JE_Override"}]
["1000_BK1030 Cash USD/CUBS BYU 3920",{"$f":"Worktags!AS84","v":"1000"},{"$f":"IF(Worktags!AQ84<>Worktags!AS84,Worktags!AQ84,\"\")","v":"BK1030"},{"$f":"IFERROR(VLOOKUP(B10,Worktags!AL:AO,2,FALSE),\"\")","v":"Cash USD"},{"$f":"IFERROR(VLOOKUP(C10,Worktags!O:T,2,FALSE),\"\")","v":"CUBS BYU 3920"},{"$f":"IFERROR(VLOOKUP(IF(C10=\"\",B10&\"||\"&B10,C10&\"||\"&B10),Worktags!AR:AV,5,FALSE),\"\")","v":"JE_Override"}]
["1000_BK1041 Cash USD/Jerusalem Operations USD 7144",{"$f":"Worktags!AS86","v":"1000"},{"$f":"IF(Worktags!AQ86<>Worktags!AS86,Worktags!AQ86,\"\")","v":"BK1041"},{"$f":"IFERROR(VLOOKUP(B11,Worktags!AL:AO,2,FALSE),\"\")","v":"Cash USD"},{"$f":"IFERROR(VLOOKUP(C11,Worktags!O:T,2,FALSE),\"\")","v":"Jerusalem Operations USD 7144"},{"$f":"IFERROR(VLOOKUP(IF(C11=\"\",B11&\"||\"&B11,C11&\"||\"&B11),Worktags!AR:AV,5,FALSE),\"\")","v":"JE_Override"}]
["1001 Cash ILS",{"$f":"Worktags!AL6","v":"1001"},null,{"$f":"IFERROR(VLOOKUP(B12,Worktags!AL:AO,2,FALSE),\"\")","v":"Cash ILS"},null,{"$f":"IFERROR(VLOOKUP(IF(C12=\"\",B12&\"||\"&B12,C12&\"||\"&B12),Worktags!AR:AV,5,FALSE),\"\")","v":"All"}]
["1001 Cash ILS",{"$f":"Worktags!AS4","v":"1001"},{"$f":"IF(Worktags!AQ4<>Worktags!AS4,Worktags!AQ4,\"\")","v":""},{"$f":"IFERROR(VLOOKUP(B13,Worktags!AL:AO,2,FALSE),\"\")","v":"Cash ILS"},{"$f":"IFERROR(VLOOKUP(C13,Worktags!O:T,2,FALSE),\"\")","v":""},{"$f":"IFERROR(VLOOKUP(IF(C13=\"\",B13&\"||\"&B13,C13&\"||\"&B13),Worktags!AR:AV,5,FALSE),\"\")","v":"All"}]
["1001_BK1040 Cash ILS/Jerusalem Payroll ILS 0039",{"$f":"Worktags!AS85","v":"1001"},{"$f":"IF(Worktags!AQ85<>Worktags!AS85,Worktags!AQ85,\"\")","v":"BK1040"},{"$f":"IFERROR(VLOOKUP(B14,Worktags!AL:AO,2,FALSE),\"\")","v":"Cash ILS"},{"$f":"IFERROR(VLOOKUP(C14,Worktags!O:T,2,FALSE),\"\")","v":"Jerusalem Payroll ILS 0039"},{"$f":"IFERROR(VLOOKUP(IF(C14=\"\",B14&\"||\"&B14,C14&\"||\"&B14),Worktags!AR:AV,5,FALSE),\"\")","v":"JE_Override"}]
["1001_BK1042 Cash ILS/Jerusalem Operations ILS 3566",{"$f":"Worktags!AS87","v":"1001"},{"$f":"IF(Worktags!AQ87<>Worktags!AS87,Worktags!AQ87,\"\")","v":"BK1042"},{"$f":"IFERROR(VLOOKUP(B15,Worktags!AL:AO,2,FALSE),\"\")","v":"Cash ILS"},{"$f":"IFERROR(VLOOKUP(C15,Worktags!O:T,2,FALSE),\"\")","v":"Jerusalem Operations ILS 3566"},{"$f":"IFERROR(VLOOKUP(IF(C15=\"\",B15&\"||\"&B15,C15&\"||\"&B15),Worktags!AR:AV,5,FALSE),\"\")","v":"JE_Override"}]
["1002 Cash GBP",{"$f":"Worktags!AL7","v":"1002"},null,{"$f":"IFERROR(VLOOKUP(B16,Worktags!AL:AO,2,FALSE),\"\")","v":"Cash GBP"},null,{"$f":"IFERROR(VLOOKUP(IF(C16=\"\",B16&\"||\"&B16,C16&\"||\"&B16),Worktags!AR:AV,5,FALSE),\"\")","v":"All"}]
["1002 Cash GBP",{"$f":"Worktags!AS5","v":"1002"},{"$f":"IF(Worktags!AQ5<>Worktags!AS5,Worktags!AQ5,\"\")","v":""},{"$f":"IFERROR(VLOOKUP(B17,Worktags!AL:AO,2,FALSE),\"\")","v":"Cash GBP"},{"$f":"IFERROR(VLOOKUP(C17,Worktags!O:T,2,FALSE),\"\")","v":""},{"$f":"IFERROR(VLOOKUP(IF(C17=\"\",B17&\"||\"&B17,C17&\"||\"&B17),Worktags!AR:AV,5,FALSE),\"\")","v":"All"}]
["1003 Cash EUR",{"$f":"Worktags!AL8","v":"1003"},null,{"$f":"IFERROR(VLOOKUP(B18,Worktags!AL:AO,2,FALSE),\"\")","v":"Cash EUR"},null,{"$f":"IFERROR(VLOOKUP(IF(C18=\"\",B18&\"||\"&B18,C18&\"||\"&B18),Worktags!AR:AV,5,FALSE),\"\")","v":""}]
["1003_BK1053 Cash EUR/",{"$f":"Worktags!AS88","v":"1003"},{"$f":"IF(Worktags!AQ88<>Worktags!AS88,Worktags!AQ88,\"\")","v":"BK1053"},{"$f":"IFERROR(VLOOKUP(B19,Worktags!AL:AO,2,FALSE),\"\")","v":"Cash EUR"},{"$f":"IFERROR(VLOOKUP(C19,Worktags!O:T,2,FALSE),\"\")","v":""},{"$f":"IFERROR(VLOOKUP(IF(C19=\"\",B19&\"||\"&B19,C19&\"||\"&B19),Worktags!AR:AV,5,FALSE),\"\")","v":"JE_Override"}]
["1003_BK1054 Cash EUR/",{"$f":"Worktags!AS89","v":"1003"},{"$f":"IF(Worktags!AQ89<>Worktags!AS89,Worktags!AQ89,\"\")","v":"BK1054"},{"$f":"IFERROR(VLOOKUP(B20,Worktags!AL:AO,2,FALSE),\"\")","v":"Cash EUR"},{"$f":"IFERROR(VLOOKUP(C20,Worktags!O:T,2,FALSE),\"\")","v":""},{"$f":"IFERROR(VLOOKUP(IF(C20=\"\",B20&\"||\"&B20,C20&\"||\"&B20),Worktags!AR:AV,5,FALSE),\"\")","v":"JE_Override"}]
["1003_BK1055 Cash EUR/",{"$f":"Worktags!AS90","v":"1003"},{"$f":"IF(Worktags!AQ90<>Worktags!AS90,Worktags!AQ90,\"\")","v":"BK1055"},{"$f":"IFERROR(VLOOKUP(B21,Worktags!AL:AO,2,FALSE),\"\")","v":"Cash EUR"},{"$f":"IFERROR(VLOOKUP(C21,Worktags!O:T,2,FALSE),\"\")","v":""},{"$f":"IFERROR(VLOOKUP(IF(C21=\"\",B21&\"||\"&B21,C21&\"||\"&B21),Worktags!AR:AV,5,FALSE),\"\")","v":"JE_Override"}]
["1004 Cash CAD",{"$f":"Worktags!AL9","v":"1004"},null,{"$f":"IFERROR(VLOOKUP(B22,Worktags!AL:AO,2,FALSE),\"\")","v":"Cash CAD"},null,{"$f":"IFERROR(VLOOKUP(IF(C22=\"\",B22&\"||\"&B22,C22&\"||\"&B22),Worktags!AR:AV,5,FALSE),\"\")","v":"All"}]
["1004 Cash CAD",{"$f":"Worktags!AS6","v":"1004"},{"$f":"IF(Worktags!AQ6<>Worktags!AS6,Worktags!AQ6,\"\")","v":""},{"$f":"IFERROR(VLOOKUP(B23,Worktags!AL:AO,2,FALSE),\"\")","v":"Cash CAD"},{"$f":"IFERROR(VLOOKUP(C23,Worktags!O:T,2,FALSE),\"\")","v":""},{"$f":"IFERROR(VLOOKUP(IF(C23=\"\",B23&\"||\"&B23,C23&\"||\"&B23),Worktags!AR:AV,5,FALSE),\"\")","v":"All"}]
["1040 Petty Cash",{"$f":"Worktags!AL10","v":"1040"},null,{"$f":"IFERROR(VLOOKUP(B24,Worktags!AL:AO,2,FALSE),\"\")","v":"Petty Cash"},null,{"$f":"IFERROR(VLOOKUP(IF(C24=\"\",B24&\"||\"&B24,C24&\"||\"&B24),Worktags!AR:AV,5,FALSE),\"\")","v":"All"}]
["1040 Petty Cash",{"$f":"Worktags!AS7","v":"1040"},{"$f":"IF(Worktags!AQ7<>Worktags!AS7,Worktags!AQ7,\"\")","v":""},{"$f":"IFERROR(VLOOKUP(B25,Worktags!AL:AO,2,FALSE),\"\")","v":"Petty Cash"},{"$f":"IFERROR(VLOOKUP(C25,Worktags!O:T,2,FALSE),\"\")","v":""},{"$f":"IFERROR(VLOOKUP(IF(C25=\"\",B25&\"||\"&B25,C25&\"||\"&B25),Worktags!AR:AV,5,FALSE),\"\")","v":"All"}]
["1050 Change Funds",{"$f":"Worktags!AL11","v":"1050"},null,{"$f":"IFERROR(VLOOKUP(B26,Worktags!AL:AO,2,FALSE),\"\")","v":"Change Funds"},null,{"$f":"IFERROR(VLOOKUP(IF(C26=\"\",B26&\"||\"&B26,C26&\"||\"&B26),Worktags!AR:AV,5,FALSE),\"\")","v":"All"}]
["1050 Change Funds",{"$f":"Worktags!AS8","v":"1050"},{"$f":"IF(Worktags!AQ8<>Worktags!AS8,Worktags!AQ8,\"\")","v":""},{"$f":"IFERROR(VLOOKUP(B27,Worktags!AL:AO,2,FALSE),\"\")","v":"Change Funds"},{"$f":"IFERROR(VLOOKUP(C27,Worktags!O:T,2,FALSE),\"\")","v":""},{"$f":"IFERROR(VLOOKUP(IF(C27=\"\",B27&\"||\"&B27,C27&\"||\"&B27),Worktags!AR:AV,5,FALSE),\"\")","v":"All"}]
["1055 Gift Cards",{"$f":"Worktags!AL12","v":"1055"},null,{"$f":"IFERROR(VLOOKUP(B28,Worktags!AL:AO,2,FALSE),\"\")","v":"Gift Cards"},null,{"$f":"IFERROR(VLOOKUP(IF(C28=\"\",B28&\"||\"&B28,C28&\"||\"&B28),Worktags!AR:AV,5,FALSE),\"\")","v":""}]
["1055_SC1055 Gift Cards/Gift Cards",{"$f":"Worktags!AS202","v":"1055"},{"$f":"IF(Worktags!AQ202<>Worktags!AS202,Worktags!AQ202,\"\")","v":"SC1055"},{"$f":"IFERROR(VLOOKUP(B29,Worktags!AL:AO,2,FALSE),\"\")","v":"Gift Cards"},{"$f":"IFERROR(VLOOKUP(C29,Worktags!O:T,2,FALSE),\"\")","v":"Gift Cards"},{"$f":"IFERROR(VLOOKUP(IF(C29=\"\",B29&\"||\"&B29,C29&\"||\"&B29),Worktags!AR:AV,5,FALSE),\"\")","v":"All"}]
["1090 Clearing-Cash",{"$f":"Worktags!AL13","v":"1090"},null,{"$f":"IFERROR(VLOOKUP(B30,Worktags!AL:AO,2,FALSE),\"\")","v":"Clearing-Cash"},null,{"$f":"IFERROR(VLOOKUP(IF(C30=\"\",B30&\"||\"&B30,C30&\"||\"&B30),Worktags!AR:AV,5,FALSE),\"\")","v":"All"}]
["1090 Clearing-Cash",{"$f":"Worktags!AS9","v":"1090"},{"$f":"IF(Worktags!AQ9<>Worktags!AS9,Worktags!AQ9,\"\")","v":""},{"$f":"IFERROR(VLOOKUP(B31,Worktags!AL:AO,2,FALSE),\"\")","v":"Clearing-Cash"},{"$f":"IFERROR(VLOOKUP(C31,Worktags!O:T,2,FALSE),\"\")","v":""},{"$f":"IFERROR(VLOOKUP(IF(C31=\"\",B31&\"||\"&B31,C31&\"||\"&B31),Worktags!AR:AV,5,FALSE),\"\")","v":"All"}]
["1120 Investment Pool",{"$f":"Worktags!AL14","v":"1120"},null,{"$f":"IFERROR(VLOOKUP(B32,Worktags!AL:AO,2,FALSE),\"\")","v":"Investment Pool"},null,{"$f":"IFERROR(VLOOKUP(IF(C32=\"\",B32&\"||\"&B32,C32&\"||\"&B32),Worktags!AR:AV,5,FALSE),\"\")","v":"JE_Gift|JE_Override"}]
["1120 Investment Pool",{"$f":"Worktags!AS10","v":"1120"},{"$f":"IF(Worktags!AQ10<>Worktags!AS10,Worktags!AQ10,\"\")","v":""},{"$f":"IFERROR(VLOOKUP(B33,Worktags!AL:AO,2,FALSE),\"\")","v":"Investment Pool"},{"$f":"IFERROR(VLOOKUP(C33,Worktags!O:T,2,FALSE),\"\")","v":""},{"$f":"IFERROR(VLOOKUP(IF(C33=\"\",B33&\"||\"&B33,C33&\"||\"&B33),Worktags!AR:AV,5,FALSE),\"\")","v":"JE_Gift|JE_Override"}]
["1121 Investments - Book Value",{"$f":"Worktags!AL15","v":"1121"},null,{"$f":"IFERROR(VLOOKUP(B34,Worktags!AL:AO,2,FALSE),\"\")","v":"Investments - Book Value"},null,{"$f":"IFERROR(VLOOKUP(IF(C34=\"\",B34&\"||\"&B34,C34&\"||\"&B34),Worktags!AR:AV,5,FALSE),\"\")","v":"JE_Gift|JE_Override"}]
["1121 Investments - Book Value",{"$f":"Worktags!AS11","v":"1121"},{"$f":"IF(Worktags!AQ11<>Worktags!AS11,Worktags!AQ11,\"\")","v":""},{"$f":"IFERROR(VLOOKUP(B35,Worktags!AL:AO,2,FALSE),\"\")","v":"Investments - Book Value"},{"$f":"IFERROR(VLOOKUP(C35,Worktags!O:T,2,FALSE),\"\")","v":""},{"$f":"IFERROR(VLOOKUP(IF(C35=\"\",B35&\"||\"&B35,C35&\"||\"&B35),Worktags!AR:AV,5,FALSE),\"\")","v":"JE_Gift|JE_Override"}]
["1122 Investments - Fair Market Value",{"$f":"Worktags!AL16","v":"1122"},null,{"$f":"IFERROR(VLOOKUP(B36,Worktags!AL:AO,2,FALSE),\"\")","v":"Investments - Fair Market Value"},null,{"$f":"IFERROR(VLOOKUP(IF(C36=\"\",B36&\"||\"&B36,C36&\"||\"&B36),Worktags!AR:AV,5,FALSE),\"\")","v":"JE_Gift|JE_Override"}]
["1122 Investments - Fair Market Value",{"$f":"Worktags!AS12","v":"1122"},{"$f":"IF(Worktags!AQ12<>Worktags!AS12,Worktags!AQ12,\"\")","v":""},{"$f":"IFERROR(VLOOKUP(B37,Worktags!AL:AO,2,FALSE),\"\")","v":"Investments - Fair Market Value"},{"$f":"IFERROR(VLOOKUP(C37,Worktags!O:T,2,FALSE),\"\")","v":""},{"$f":"IFERROR(VLOOKUP(IF(C37=\"\",B37&\"||\"&B37,C37&\"||\"&B37),Worktags!AR:AV,5,FALSE),\"\")","v":"JE_Gift|JE_Override"}]
["1150 Other Equity Securities",{"$f":"Worktags!AL17","v":"1150"},null,{"$f":"IFERROR(VLOOKUP(B38,Worktags!AL:AO,2,FALSE),\"\")","v":"Other Equity Securities"},null,{"$f":"IFERROR(VLOOKUP(IF(C38=\"\",B38&\"||\"&B38,C38&\"||\"&B38),Worktags!AR:AV,5,FALSE),\"\")","v":"JE_Gift|JE_Override"}]
["1150 Other Equity Securities",{"$f":"Worktags!AS13","v":"1150"},{"$f":"IF(Worktags!AQ13<>Worktags!AS13,Worktags!AQ13,\"\")","v":""},{"$f":"IFERROR(VLOOKUP(B39,Worktags!AL:AO,2,FALSE),\"\")","v":"Other Equity Securities"},{"$f":"IFERROR(VLOOKUP(C39,Worktags!O:T,2,FALSE),\"\")","v":""},{"$f":"IFERROR(VLOOKUP(IF(C39=\"\",B39&\"||\"&B39,C39&\"||\"&B39),Worktags!AR:AV,5,FALSE),\"\")","v":"JE_Gift|JE_Override"}]
["1160 Other Fixed Income Securities",{"$f":"Worktags!AL18","v":"1160"},null,{"$f":"IFERROR(VLOOKUP(B40,Worktags!AL:AO,2,FALSE),\"\")","v":"Other Fixed Income Securities"},null,{"$f":"IFERROR(VLOOKUP(IF(C40=\"\",B40&\"||\"&B40,C40&\"||\"&B40),Worktags!AR:AV,5,FALSE),\"\")","v":"JE_Gift|JE_Override"}]
["1160 Other Fixed Income Securities",{"$f":"Worktags!AS14","v":"1160"},{"$f":"IF(Worktags!AQ14<>Worktags!AS14,Worktags!AQ14,\"\")","v":""},{"$f":"IFERROR(VLOOKUP(B41,Worktags!AL:AO,2,FALSE),\"\")","v":"Other Fixed Income Securities"},{"$f":"IFERROR(VLOOKUP(C41,Worktags!O:T,2,FALSE),\"\")","v":""},{"$f":"IFERROR(VLOOKUP(IF(C41=\"\",B41&\"||\"&B41,C41&\"||\"&B41),Worktags!AR:AV,5,FALSE),\"\")","v":"JE_Gift|JE_Override"}]
["1170 Other Investments",{"$f":"Worktags!AL19","v":"1170"},null,{"$f":"IFERROR(VLOOKUP(B42,Worktags!AL:AO,2,FALSE),\"\")","v":"Other Investments"},null,{"$f":"IFERROR(VLOOKUP(IF(C42=\"\",B42&\"||\"&B42,C42&\"||\"&B42),Worktags!AR:AV,5,FALSE),\"\")","v":"JE_Gift|JE_Override"}]
["1170 Other Investments",{"$f":"Worktags!AS15","v":"1170"},{"$f":"IF(Worktags!AQ15<>Worktags!AS15,Worktags!AQ15,\"\")","v":""},{"$f":"IFERROR(VLOOKUP(B43,Worktags!AL:AO,2,FALSE),\"\")","v":"Other Investments"},{"$f":"IFERROR(VLOOKUP(C43,Worktags!O:T,2,FALSE),\"\")","v":""},{"$f":"IFERROR(VLOOKUP(IF(C43=\"\",B43&\"||\"&B43,C43&\"||\"&B43),Worktags!AR:AV,5,FALSE),\"\")","v":"JE_Gift|JE_Override"}]
["1200 Department Receivable",{"$f":"Worktags!AL20","v":"1200"},null,{"$f":"IFERROR(VLOOKUP(B44,Worktags!AL:AO,2,FALSE),\"\")","v":"Department Receivable"},null,{"$f":"IFERROR(VLOOKUP(IF(C44=\"\",B44&\"||\"&B44,C44&\"||\"&B44),Worktags!AR:AV,5,FALSE),\"\")","v":"All"}]
["1200 Department Receivable",{"$f":"Worktags!AS16","v":"1200"},{"$f":"IF(Worktags!AQ16<>Worktags!AS16,Worktags!AQ16,\"\")","v":""},{"$f":"IFERROR(VLOOKUP(B45,Worktags!AL:AO,2,FALSE),\"\")","v":"Department Receivable"},{"$f":"IFERROR(VLOOKUP(C45,Worktags!O:T,2,FALSE),\"\")","v":""},{"$f":"IFERROR(VLOOKUP(IF(C45=\"\",B45&\"||\"&B45,C45&\"||\"&B45),Worktags!AR:AV,5,FALSE),\"\")","v":"All"}]
["1200_SC1218 Department Receivable/Utah Sales Tax",{"$f":"Worktags!AS203","v":"1200"},{"$f":"IF(Worktags!AQ203<>Worktags!AS203,Worktags!AQ203,\"\")","v":"SC1218"},{"$f":"IFERROR(VLOOKUP(B46,Worktags!AL:AO,2,FALSE),\"\")","v":"Department Receivable"},{"$f":"IFERROR(VLOOKUP(C46,Worktags!O:T,2,FALSE),\"\")","v":"Utah Sales Tax"},{"$f":"IFERROR(VLOOKUP(IF(C46=\"\",B46&\"||\"&B46,C46&\"||\"&B46),Worktags!AR:AV,5,FALSE),\"\")","v":"All"}]
["1210 Off Campus Receivable",{"$f":"Worktags!AL21","v":"1210"},null,{"$f":"IFERROR(VLOOKUP(B47,Worktags!AL:AO,2,FALSE),\"\")","v":"Off Campus Receivable"},null,{"$f":"IFERROR(VLOOKUP(IF(C47=\"\",B47&\"||\"&B47,C47&\"||\"&B47),Worktags!AR:AV,5,FALSE),\"\")","v":"All"}]
["1210 Off Campus Receivable",{"$f":"Worktags!AS17","v":"1210"},{"$f":"IF(Worktags!AQ17<>Worktags!AS17,Worktags!AQ17,\"\")","v":""},{"$f":"IFERROR(VLOOKUP(B48,Worktags!AL:AO,2,FALSE),\"\")","v":"Off Campus Receivable"},{"$f":"IFERROR(VLOOKUP(C48,Worktags!O:T,2,FALSE),\"\")","v":""},{"$f":"IFERROR(VLOOKUP(IF(C48=\"\",B48&\"||\"&B48,C48&\"||\"&B48),Worktags!AR:AV,5,FALSE),\"\")","v":"All"}]
["1210_SC1218 Off Campus Receivable/Utah Sales Tax",{"$f":"Worktags!AS204","v":"1210"},{"$f":"IF(Worktags!AQ204<>Worktags!AS204,Worktags!AQ204,\"\")","v":"SC1218"},{"$f":"IFERROR(VLOOKUP(B49,Worktags!AL:AO,2,FALSE),\"\")","v":"Off Campus Receivable"},{"$f":"IFERROR(VLOOKUP(C49,Worktags!O:T,2,FALSE),\"\")","v":"Utah Sales Tax"},{"$f":"IFERROR(VLOOKUP(IF(C49=\"\",B49&\"||\"&B49,C49&\"||\"&B49),Worktags!AR:AV,5,FALSE),\"\")","v":"All"}]
["1220 Student Receivable",{"$f":"Worktags!AL22","v":"1220"},null,{"$f":"IFERROR(VLOOKUP(B50,Worktags!AL:AO,2,FALSE),\"\")","v":"Student Receivable"},null,{"$f":"IFERROR(VLOOKUP(IF(C50=\"\",B50&\"||\"&B50,C50&\"||\"&B50),Worktags!AR:AV,5,FALSE),\"\")","v":"All"}]
["1220 Student Receivable",{"$f":"Worktags!AS18","v":"1220"},{"$f":"IF(Worktags!AQ18<>Worktags!AS18,Worktags!AQ18,\"\")","v":""},{"$f":"IFERROR(VLOOKUP(B51,Worktags!AL:AO,2,FALSE),\"\")","v":"Student Receivable"},{"$f":"IFERROR(VLOOKUP(C51,Worktags!O:T,2,FALSE),\"\")","v":""},{"$f":"IFERROR(VLOOKUP(IF(C51=\"\",B51&\"||\"&B51,C51&\"||\"&B51),Worktags!AR:AV,5,FALSE),\"\")","v":"All"}]
["1230 Church Receivable",{"$f":"Worktags!AL23","v":"1230"},null,{"$f":"IFERROR(VLOOKUP(B52,Worktags!AL:AO,2,FALSE),\"\")","v":"Church Receivable"},null,{"$f":"IFERROR(VLOOKUP(IF(C52=\"\",B52&\"||\"&B52,C52&\"||\"&B52),Worktags!AR:AV,5,FALSE),\"\")","v":"All"}]
["1230 Church Receivable",{"$f":"Worktags!AS19","v":"1230"},{"$f":"IF(Worktags!AQ19<>Worktags!AS19,Worktags!AQ19,\"\")","v":""},{"$f":"IFERROR(VLOOKUP(B53,Worktags!AL:AO,2,FALSE),\"\")","v":"Church Receivable"},{"$f":"IFERROR(VLOOKUP(C53,Worktags!O:T,2,FALSE),\"\")","v":""},{"$f":"IFERROR(VLOOKUP(IF(C53=\"\",B53&\"||\"&B53,C53&\"||\"&B53),Worktags!AR:AV,5,FALSE),\"\")","v":"All"}]
["1230_RC1230 Church Receivable/Church Receivable",{"$f":"Worktags!AS91","v":"1230"},{"$f":"IF(Worktags!AQ91<>Worktags!AS91,Worktags!AQ91,\"\")","v":"RC1230"},{"$f":"IFERROR(VLOOKUP(B54,Worktags!AL:AO,2,FALSE),\"\")","v":"Church Receivable"},{"$f":"IFERROR(VLOOKUP(C54,Worktags!O:T,2,FALSE),\"\")","v":"Church Receivable"},{"$f":"IFERROR(VLOOKUP(IF(C54=\"\",B54&\"||\"&B54,C54&\"||\"&B54),Worktags!AR:AV,5,FALSE),\"\")","v":"All"}]
["1235 Sponsored Programs Receivable",{"$f":"Worktags!AL24","v":"1235"},null,{"$f":"IFERROR(VLOOKUP(B55,Worktags!AL:AO,2,FALSE),\"\")","v":"Sponsored Programs Receivable"},null,{"$f":"IFERROR(VLOOKUP(IF(C55=\"\",B55&\"||\"&B55,C55&\"||\"&B55),Worktags!AR:AV,5,FALSE),\"\")","v":"JE_Research|JE_Override"}]
["1235 Sponsored Programs Receivable",{"$f":"Worktags!AS20","v":"1235"},{"$f":"IF(Worktags!AQ20<>Worktags!AS20,Worktags!AQ20,\"\")","v":""},{"$f":"IFERROR(VLOOKUP(B56,Worktags!AL:AO,2,FALSE),\"\")","v":"Sponsored Programs Receivable"},{"$f":"IFERROR(VLOOKUP(C56,Worktags!O:T,2,FALSE),\"\")","v":""},{"$f":"IFERROR(VLOOKUP(IF(C56=\"\",B56&\"||\"&B56,C56&\"||\"&B56),Worktags!AR:AV,5,FALSE),\"\")","v":"JE_Research|JE_Override"}]
["1236 Unbilled Sponsored Programs Receivable",{"$f":"Worktags!AL25","v":"1236"},null,{"$f":"IFERROR(VLOOKUP(B57,Worktags!AL:AO,2,FALSE),\"\")","v":"Unbilled Sponsored Programs Receivable"},null,{"$f":"IFERROR(VLOOKUP(IF(C57=\"\",B57&\"||\"&B57,C57&\"||\"&B57),Worktags!AR:AV,5,FALSE),\"\")","v":"JE_Research|JE_Override"}]
["1236 Unbilled Sponsored Programs Receivable",{"$f":"Worktags!AS21","v":"1236"},{"$f":"IF(Worktags!AQ21<>Worktags!AS21,Worktags!AQ21,\"\")","v":""},{"$f":"IFERROR(VLOOKUP(B58,Worktags!AL:AO,2,FALSE),\"\")","v":"Unbilled Sponsored Programs Receivable"},{"$f":"IFERROR(VLOOKUP(C58,Worktags!O:T,2,FALSE),\"\")","v":""},{"$f":"IFERROR(VLOOKUP(IF(C58=\"\",B58&\"||\"&B58,C58&\"||\"&B58),Worktags!AR:AV,5,FALSE),\"\")","v":"JE_Research|JE_Override"}]
["1240 Advances Receivable",{"$f":"Worktags!AL26","v":"1240"},null,{"$f":"IFERROR(VLOOKUP(B59,Worktags!AL:AO,2,FALSE),\"\")","v":"Advances Receivable"},null,{"$f":"IFERROR(VLOOKUP(IF(C59=\"\",B59&\"||\"&B59,C59&\"||\"&B59),Worktags!AR:AV,5,FALSE),\"\")","v":"All"}]
["1240 Advances Receivable",{"$f":"Worktags!AS22","v":"1240"},{"$f":"IF(Worktags!AQ22<>Worktags!AS22,Worktags!AQ22,\"\")","v":""},{"$f":"IFERROR(VLOOKUP(B60,Worktags!AL:AO,2,FALSE),\"\")","v":"Advances Receivable"},{"$f":"IFERROR(VLOOKUP(C60,Worktags!O:T,2,FALSE),\"\")","v":""},{"$f":"IFERROR(VLOOKUP(IF(C60=\"\",B60&\"||\"&B60,C60&\"||\"&B60),Worktags!AR:AV,5,FALSE),\"\")","v":"All"}]
["1241 Employee Receivable",{"$f":"Worktags!AL27","v":"1241"},null,{"$f":"IFERROR(VLOOKUP(B61,Worktags!AL:AO,2,FALSE),\"\")","v":"Employee Receivable"},null,{"$f":"IFERROR(VLOOKUP(IF(C61=\"\",B61&\"||\"&B61,C61&\"||\"&B61),Worktags!AR:AV,5,FALSE),\"\")","v":"All"}]
["1241 Employee Receivable",{"$f":"Worktags!AS23","v":"1241"},{"$f":"IF(Worktags!AQ23<>Worktags!AS23,Worktags!AQ23,\"\")","v":""},{"$f":"IFERROR(VLOOKUP(B62,Worktags!AL:AO,2,FALSE),\"\")","v":"Employee Receivable"},{"$f":"IFERROR(VLOOKUP(C62,Worktags!O:T,2,FALSE),\"\")","v":""},{"$f":"IFERROR(VLOOKUP(IF(C62=\"\",B62&\"||\"&B62,C62&\"||\"&B62),Worktags!AR:AV,5,FALSE),\"\")","v":"All"}]
["1260 Notes Receivable",{"$f":"Worktags!AL28","v":"1260"},null,{"$f":"IFERROR(VLOOKUP(B63,Worktags!AL:AO,2,FALSE),\"\")","v":"Notes Receivable"},null,{"$f":"IFERROR(VLOOKUP(IF(C63=\"\",B63&\"||\"&B63,C63&\"||\"&B63),Worktags!AR:AV,5,FALSE),\"\")","v":"All"}]
["1260 Notes Receivable",{"$f":"Worktags!AS24","v":"1260"},{"$f":"IF(Worktags!AQ24<>Worktags!AS24,Worktags!AQ24,\"\")","v":""},{"$f":"IFERROR(VLOOKUP(B64,Worktags!AL:AO,2,FALSE),\"\")","v":"Notes Receivable"},{"$f":"IFERROR(VLOOKUP(C64,Worktags!O:T,2,FALSE),\"\")","v":""},{"$f":"IFERROR(VLOOKUP(IF(C64=\"\",B64&\"||\"&B64,C64&\"||\"&B64),Worktags!AR:AV,5,FALSE),\"\")","v":"All"}]
[{"$f":"IF(B65<>\"\",IF(C65<>\"\",B65&\"_\"&C65&\" \"&D65&\"/\"&E65,B65&\" \"&D65),\"\")","v":"1270 Student Loan Receivable-Short Term"},{"$f":"Worktags!AL29","v":"1270"},null,{"$f":"IFERROR(VLOOKUP(B65,Worktags!AL:AO,2,FALSE),\"\")","v":"Student Loan Receivable-Short Term"},null,{"$f":"IFERROR(VLOOKUP(IF(C65=\"\",B65&\"||\"&B65,C65&\"||\"&B65),Worktags!AR:AV,5,FALSE),\"\")","v":"All"}]
["1270 Student Loan Receivable-Short Term",{"$f":"Worktags!AS25","v":"1270"},{"$f":"IF(Worktags!AQ25<>Worktags!AS25,Worktags!AQ25,\"\")","v":""},{"$f":"IFERROR(VLOOKUP(B66,Worktags!AL:AO,2,FALSE),\"\")","v":"Student Loan Receivable-Short Term"},{"$f":"IFERROR(VLOOKUP(C66,Worktags!O:T,2,FALSE),\"\")","v":""},{"$f":"IFERROR(VLOOKUP(IF(C66=\"\",B66&\"||\"&B66,C66&\"||\"&B66),Worktags!AR:AV,5,FALSE),\"\")","v":"All"}]
["1275 Student Loan Receivable-Long Term",{"$f":"Worktags!AL30","v":"1275"},null,{"$f":"IFERROR(VLOOKUP(B67,Worktags!AL:AO,2,FALSE),\"\")","v":"Student Loan Receivable-Long Term"},null,{"$f":"IFERROR(VLOOKUP(IF(C67=\"\",B67&\"||\"&B67,C67&\"||\"&B67),Worktags!AR:AV,5,FALSE),\"\")","v":"All"}]
["1275 Student Loan Receivable-Long Term",{"$f":"Worktags!AS26","v":"1275"},{"$f":"IF(Worktags!AQ26<>Worktags!AS26,Worktags!AQ26,\"\")","v":""},{"$f":"IFERROR(VLOOKUP(B68,Worktags!AL:AO,2,FALSE),\"\")","v":"Student Loan Receivable-Long Term"},{"$f":"IFERROR(VLOOKUP(C68,Worktags!O:T,2,FALSE),\"\")","v":""},{"$f":"IFERROR(VLOOKUP(IF(C68=\"\",B68&\"||\"&B68,C68&\"||\"&B68),Worktags!AR:AV,5,FALSE),\"\")","v":"All"}]
["1280 Pledges Receivable",{"$f":"Worktags!AL31","v":"1280"},null,{"$f":"IFERROR(VLOOKUP(B69,Worktags!AL:AO,2,FALSE),\"\")","v":"Pledges Receivable"},null,{"$f":"IFERROR(VLOOKUP(IF(C69=\"\",B69&\"||\"&B69,C69&\"||\"&B69),Worktags!AR:AV,5,FALSE),\"\")","v":"All"}]
["1280 Pledges Receivable",{"$f":"Worktags!AS27","v":"1280"},{"$f":"IF(Worktags!AQ27<>Worktags!AS27,Worktags!AQ27,\"\")","v":""},{"$f":"IFERROR(VLOOKUP(B70,Worktags!AL:AO,2,FALSE),\"\")","v":"Pledges Receivable"},{"$f":"IFERROR(VLOOKUP(C70,Worktags!O:T,2,FALSE),\"\")","v":""},{"$f":"IFERROR(VLOOKUP(IF(C70=\"\",B70&\"||\"&B70,C70&\"||\"&B70),Worktags!AR:AV,5,FALSE),\"\")","v":"All"}]
["1285 Deferred Gifts",{"$f":"Worktags!AL32","v":"1285"},null,{"$f":"IFERROR(VLOOKUP(B71,Worktags!AL:AO,2,FALSE),\"\")","v":"Deferred Gifts"},null,{"$f":"IFERROR(VLOOKUP(IF(C71=\"\",B71&\"||\"&B71,C71&\"||\"&B71),Worktags!AR:AV,5,FALSE),\"\")","v":"All"}]
["1285 Deferred Gifts",{"$f":"Worktags!AS28","v":"1285"},{"$f":"IF(Worktags!AQ28<>Worktags!AS28,Worktags!AQ28,\"\")","v":""},{"$f":"IFERROR(VLOOKUP(B72,Worktags!AL:AO,2,FALSE),\"\")","v":"Deferred Gifts"},{"$f":"IFERROR(VLOOKUP(C72,Worktags!O:T,2,FALSE),\"\")","v":""},{"$f":"IFERROR(VLOOKUP(IF(C72=\"\",B72&\"||\"&B72,C72&\"||\"&B72),Worktags!AR:AV,5,FALSE),\"\")","v":"All"}]
["1289 Pledges/Def Gifts Rec Reserve",{"$f":"Worktags!AL33","v":"1289"},null,{"$f":"IFERROR(VLOOKUP(B73,Worktags!AL:AO,2,FALSE),\"\")","v":"Pledges/Def Gifts Rec Reserve"},null,{"$f":"IFERROR(VLOOKUP(IF(C73=\"\",B73&\"||\"&B73,C73&\"||\"&B73),Worktags!AR:AV,5,FALSE),\"\")","v":"All"}]
["1289 Pledges/Def Gifts Rec Reserve",{"$f":"Worktags!AS29","v":"1289"},{"$f":"IF(Worktags!AQ29<>Worktags!AS29,Worktags!AQ29,\"\")","v":""},{"$f":"IFERROR(VLOOKUP(B74,Worktags!AL:AO,2,FALSE),\"\")","v":"Pledges/Def Gifts Rec Reserve"},{"$f":"IFERROR(VLOOKUP(C74,Worktags!O:T,2,FALSE),\"\")","v":""},{"$f":"IFERROR(VLOOKUP(IF(C74=\"\",B74&\"||\"&B74,C74&\"||\"&B74),Worktags!AR:AV,5,FALSE),\"\")","v":"All"}]
["1290 Clearing-Receivable",{"$f":"Worktags!AL34","v":"1290"},null,{"$f":"IFERROR(VLOOKUP(B75,Worktags!AL:AO,2,FALSE),\"\")","v":"Clearing-Receivable"},null,{"$f":"IFERROR(VLOOKUP(IF(C75=\"\",B75&\"||\"&B75,C75&\"||\"&B75),Worktags!AR:AV,5,FALSE),\"\")","v":"All"}]
["1290 Clearing-Receivable",{"$f":"Worktags!AS30","v":"1290"},{"$f":"IF(Worktags!AQ30<>Worktags!AS30,Worktags!AQ30,\"\")","v":""},{"$f":"IFERROR(VLOOKUP(B76,Worktags!AL:AO,2,FALSE),\"\")","v":"Clearing-Receivable"},{"$f":"IFERROR(VLOOKUP(C76,Worktags!O:T,2,FALSE),\"\")","v":""},{"$f":"IFERROR(VLOOKUP(IF(C76=\"\",B76&\"||\"&B76,C76&\"||\"&B76),Worktags!AR:AV,5,FALSE),\"\")","v":"All"}]
["1290_RC1290 Clearing-Receivable/Clearing-Receivable",{"$f":"Worktags!AS92","v":"1290"},{"$f":"IF(Worktags!AQ92<>Worktags!AS92,Worktags!AQ92,\"\")","v":"RC1290"},{"$f":"IFERROR(VLOOKUP(B77,Worktags!AL:AO,2,FALSE),\"\")","v":"Clearing-Receivable"},{"$f":"IFERROR(VLOOKUP(C77,Worktags!O:T,2,FALSE),\"\")","v":"Clearing-Receivable"},{"$f":"IFERROR(VLOOKUP(IF(C77=\"\",B77&\"||\"&B77,C77&\"||\"&B77),Worktags!AR:AV,5,FALSE),\"\")","v":"All"}]
["1290_SC1290 Clearing-Receivable/MFC Refunds",{"$f":"Worktags!AS205","v":"1290"},{"$f":"IF(Worktags!AQ205<>Worktags!AS205,Worktags!AQ205,\"\")","v":"SC1290"},{"$f":"IFERROR(VLOOKUP(B78,Worktags!AL:AO,2,FALSE),\"\")","v":"Clearing-Receivable"},{"$f":"IFERROR(VLOOKUP(C78,Worktags!O:T,2,FALSE),\"\")","v":"MFC Refunds"},{"$f":"IFERROR(VLOOKUP(IF(C78=\"\",B78&\"||\"&B78,C78&\"||\"&B78),Worktags!AR:AV,5,FALSE),\"\")","v":"All"}]
["1291 Clearing-Receivable Bank Cards",{"$f":"Worktags!AL35","v":"1291"},null,{"$f":"IFERROR(VLOOKUP(B79,Worktags!AL:AO,2,FALSE),\"\")","v":"Clearing-Receivable Bank Cards"},null,{"$f":"IFERROR(VLOOKUP(IF(C79=\"\",B79&\"||\"&B79,C79&\"||\"&B79),Worktags!AR:AV,5,FALSE),\"\")","v":"All"}]
["1291 Clearing-Receivable Bank Cards",{"$f":"Worktags!AS31","v":"1291"},{"$f":"IF(Worktags!AQ31<>Worktags!AS31,Worktags!AQ31,\"\")","v":""},{"$f":"IFERROR(VLOOKUP(B80,Worktags!AL:AO,2,FALSE),\"\")","v":"Clearing-Receivable Bank Cards"},{"$f":"IFERROR(VLOOKUP(C80,Worktags!O:T,2,FALSE),\"\")","v":""},{"$f":"IFERROR(VLOOKUP(IF(C80=\"\",B80&\"||\"&B80,C80&\"||\"&B80),Worktags!AR:AV,5,FALSE),\"\")","v":"All"}]
["1299 Account/Note Rec Reserve",{"$f":"Worktags!AL36","v":"1299"},null,{"$f":"IFERROR(VLOOKUP(B81,Worktags!AL:AO,2,FALSE),\"\")","v":"Account/Note Rec Reserve"},null,{"$f":"IFERROR(VLOOKUP(IF(C81=\"\",B81&\"||\"&B81,C81&\"||\"&B81),Worktags!AR:AV,5,FALSE),\"\")","v":"All"}]
["1299 Account/Note Rec Reserve",{"$f":"Worktags!AS32","v":"1299"},{"$f":"IF(Worktags!AQ32<>Worktags!AS32,Worktags!AQ32,\"\")","v":""},{"$f":"IFERROR(VLOOKUP(B82,Worktags!AL:AO,2,FALSE),\"\")","v":"Account/Note Rec Reserve"},{"$f":"IFERROR(VLOOKUP(C82,Worktags!O:T,2,FALSE),\"\")","v":""},{"$f":"IFERROR(VLOOKUP(IF(C82=\"\",B82&\"||\"&B82,C82&\"||\"&B82),Worktags!AR:AV,5,FALSE),\"\")","v":"All"}]
["1299_RC1298 Account/Note Rec Reserve/Special Recovery",{"$f":"Worktags!AS93","v":"1299"},{"$f":"IF(Worktags!AQ93<>Worktags!AS93,Worktags!AQ93,\"\")","v":"RC1298"},{"$f":"IFERROR(VLOOKUP(B83,Worktags!AL:AO,2,FALSE),\"\")","v":"Account/Note Rec Reserve"},{"$f":"IFERROR(VLOOKUP(C83,Worktags!O:T,2,FALSE),\"\")","v":"Special Recovery"},{"$f":"IFERROR(VLOOKUP(IF(C83=\"\",B83&\"||\"&B83,C83&\"||\"&B83),Worktags!AR:AV,5,FALSE),\"\")","v":"All"}]
["1300 Inventory - Workday",{"$f":"Worktags!AL37","v":"1300"},null,{"$f":"IFERROR(VLOOKUP(B84,Worktags!AL:AO,2,FALSE),\"\")","v":"Inventory - Workday"},null,{"$f":"IFERROR(VLOOKUP(IF(C84=\"\",B84&\"||\"&B84,C84&\"||\"&B84),Worktags!AR:AV,5,FALSE),\"\")","v":""}]
["1300_SC1300 Inventory - Workday/Inventory - Workday",{"$f":"Worktags!AS206","v":"1300"},{"$f":"IF(Worktags!AQ206<>Worktags!AS206,Worktags!AQ206,\"\")","v":"SC1300"},{"$f":"IFERROR(VLOOKUP(B85,Worktags!AL:AO,2,FALSE),\"\")","v":"Inventory - Workday"},{"$f":"IFERROR(VLOOKUP(C85,Worktags!O:T,2,FALSE),\"\")","v":"Inventory - Workday"},{"$f":"IFERROR(VLOOKUP(IF(C85=\"\",B85&\"||\"&B85,C85&\"||\"&B85),Worktags!AR:AV,5,FALSE),\"\")","v":"All"}]
["1300_SC6731 Inventory - Workday/Stage and Studio Lighting (Inventory)",{"$f":"Worktags!AS668","v":"1300"},{"$f":"IF(Worktags!AQ668<>Worktags!AS668,Worktags!AQ668,\"\")","v":"SC6731"},{"$f":"IFERROR(VLOOKUP(B86,Worktags!AL:AO,2,FALSE),\"\")","v":"Inventory - Workday"},{"$f":"IFERROR(VLOOKUP(C86,Worktags!O:T,2,FALSE),\"\")","v":"Stage and Studio Lighting (Inventory)"},{"$f":"IFERROR(VLOOKUP(IF(C86=\"\",B86&\"||\"&B86,C86&\"||\"&B86),Worktags!AR:AV,5,FALSE),\"\")","v":"All"}]
["1300_SC6940 Inventory - Workday/Audio Visual Equipment (Inventory)",{"$f":"Worktags!AS881","v":"1300"},{"$f":"IF(Worktags!AQ881<>Worktags!AS881,Worktags!AQ881,\"\")","v":"SC6940"},{"$f":"IFERROR(VLOOKUP(B87,Worktags!AL:AO,2,FALSE),\"\")","v":"Inventory - Workday"},{"$f":"IFERROR(VLOOKUP(C87,Worktags!O:T,2,FALSE),\"\")","v":"Audio Visual Equipment (Inventory)"},{"$f":"IFERROR(VLOOKUP(IF(C87=\"\",B87&\"||\"&B87,C87&\"||\"&B87),Worktags!AR:AV,5,FALSE),\"\")","v":"All"}]
["1300_SC6941 Inventory - Workday/Communication Devices (Inventory)",{"$f":"Worktags!AS882","v":"1300"},{"$f":"IF(Worktags!AQ882<>Worktags!AS882,Worktags!AQ882,\"\")","v":"SC6941"},{"$f":"IFERROR(VLOOKUP(B88,Worktags!AL:AO,2,FALSE),\"\")","v":"Inventory - Workday"},{"$f":"IFERROR(VLOOKUP(C88,Worktags!O:T,2,FALSE),\"\")","v":"Communication Devices (Inventory)"},{"$f":"IFERROR(VLOOKUP(IF(C88=\"\",B88&\"||\"&B88,C88&\"||\"&B88),Worktags!AR:AV,5,FALSE),\"\")","v":"All"}]
["1300_SC6942 Inventory - Workday/Computer Hardware (Inventory)",{"$f":"Worktags!AS883","v":"1300"},{"$f":"IF(Worktags!AQ883<>Worktags!AS883,Worktags!AQ883,\"\")","v":"SC6942"},{"$f":"IFERROR(VLOOKUP(B89,Worktags!AL:AO,2,FALSE),\"\")","v":"Inventory - Workday"},{"$f":"IFERROR(VLOOKUP(C89,Worktags!O:T,2,FALSE),\"\")","v":"Computer Hardware (Inventory)"},{"$f":"IFERROR(VLOOKUP(IF(C89=\"\",B89&\"||\"&B89,C89&\"||\"&B89),Worktags!AR:AV,5,FALSE),\"\")","v":"All"}]
["1300_SC6943 Inventory - Workday/Data Network Equipment (Inventory)",{"$f":"Worktags!AS884","v":"1300"},{"$f":"IF(Worktags!AQ884<>Worktags!AS884,Worktags!AQ884,\"\")","v":"SC6943"},{"$f":"IFERROR(VLOOKUP(B90,Worktags!AL:AO,2,FALSE),\"\")","v":"Inventory - Workday"},{"$f":"IFERROR(VLOOKUP(C90,Worktags!O:T,2,FALSE),\"\")","v":"Data Network Equipment (Inventory)"},{"$f":"IFERROR(VLOOKUP(IF(C90=\"\",B90&\"||\"&B90,C90&\"||\"&B90),Worktags!AR:AV,5,FALSE),\"\")","v":"All"}]
["1300_SC6944 Inventory - Workday/Equipment (not otherwise specified) (Inventory)",{"$f":"Worktags!AS885","v":"1300"},{"$f":"IF(Worktags!AQ885<>Worktags!AS885,Worktags!AQ885,\"\")","v":"SC6944"},{"$f":"IFERROR(VLOOKUP(B91,Worktags!AL:AO,2,FALSE),\"\")","v":"Inventory - Workday"},{"$f":"IFERROR(VLOOKUP(C91,Worktags!O:T,2,FALSE),\"\")","v":"Equipment (not otherwise specified) (Inventory)"},{"$f":"IFERROR(VLOOKUP(IF(C91=\"\",B91&\"||\"&B91,C91&\"||\"&B91),Worktags!AR:AV,5,FALSE),\"\")","v":"All"}]
["1300_SC6945 Inventory - Workday/Office Equipment (Inventory)",{"$f":"Worktags!AS886","v":"1300"},{"$f":"IF(Worktags!AQ886<>Worktags!AS886,Worktags!AQ886,\"\")","v":"SC6945"},{"$f":"IFERROR(VLOOKUP(B92,Worktags!AL:AO,2,FALSE),\"\")","v":"Inventory - Workday"},{"$f":"IFERROR(VLOOKUP(C92,Worktags!O:T,2,FALSE),\"\")","v":"Office Equipment (Inventory)"},{"$f":"IFERROR(VLOOKUP(IF(C92=\"\",B92&\"||\"&B92,C92&\"||\"&B92),Worktags!AR:AV,5,FALSE),\"\")","v":"All"}]
["1300_SC6946 Inventory - Workday/Security Equipment (Inventory)",{"$f":"Worktags!AS887","v":"1300"},{"$f":"IF(Worktags!AQ887<>Worktags!AS887,Worktags!AQ887,\"\")","v":"SC6946"},{"$f":"IFERROR(VLOOKUP(B93,Worktags!AL:AO,2,FALSE),\"\")","v":"Inventory - Workday"},{"$f":"IFERROR(VLOOKUP(C93,Worktags!O:T,2,FALSE),\"\")","v":"Security Equipment (Inventory)"},{"$f":"IFERROR(VLOOKUP(IF(C93=\"\",B93&\"||\"&B93,C93&\"||\"&B93),Worktags!AR:AV,5,FALSE),\"\")","v":"All"}]
["1310 Inventory - Campus Subsystems",{"$f":"Worktags!AL38","v":"1310"},null,{"$f":"IFERROR(VLOOKUP(B94,Worktags!AL:AO,2,FALSE),\"\")","v":"Inventory - Campus Subsystems"},null,{"$f":"IFERROR(VLOOKUP(IF(C94=\"\",B94&\"||\"&B94,C94&\"||\"&B94),Worktags!AR:AV,5,FALSE),\"\")","v":""}]
["1310_SC1310 Inventory - Campus Subsystems/Inventory - Campus Subsystems",{"$f":"Worktags!AS207","v":"1310"},{"$f":"IF(Worktags!AQ207<>Worktags!AS207,Worktags!AQ207,\"\")","v":"SC1310"},{"$f":"IFERROR(VLOOKUP(B95,Worktags!AL:AO,2,FALSE),\"\")","v":"Inventory - Campus Subsystems"},{"$f":"IFERROR(VLOOKUP(C95,Worktags!O:T,2,FALSE),\"\")","v":"Inventory - Campus Subsystems"},{"$f":"IFERROR(VLOOKUP(IF(C95=\"\",B95&\"||\"&B95,C95&\"||\"&B95),Worktags!AR:AV,5,FALSE),\"\")","v":"All"}]
["1350 Inventory-Work in Process",{"$f":"Worktags!AL39","v":"1350"},null,{"$f":"IFERROR(VLOOKUP(B96,Worktags!AL:AO,2,FALSE),\"\")","v":"Inventory-Work in Process"},null,{"$f":"IFERROR(VLOOKUP(IF(C96=\"\",B96&\"||\"&B96,C96&\"||\"&B96),Worktags!AR:AV,5,FALSE),\"\")","v":"All"}]
["1350 Inventory-Work in Process",{"$f":"Worktags!AS33","v":"1350"},{"$f":"IF(Worktags!AQ33<>Worktags!AS33,Worktags!AQ33,\"\")","v":""},{"$f":"IFERROR(VLOOKUP(B97,Worktags!AL:AO,2,FALSE),\"\")","v":"Inventory-Work in Process"},{"$f":"IFERROR(VLOOKUP(C97,Worktags!O:T,2,FALSE),\"\")","v":""},{"$f":"IFERROR(VLOOKUP(IF(C97=\"\",B97&\"||\"&B97,C97&\"||\"&B97),Worktags!AR:AV,5,FALSE),\"\")","v":"All"}]
["1390 Clearing-Inventory",{"$f":"Worktags!AL40","v":"1390"},null,{"$f":"IFERROR(VLOOKUP(B98,Worktags!AL:AO,2,FALSE),\"\")","v":"Clearing-Inventory"},null,{"$f":"IFERROR(VLOOKUP(IF(C98=\"\",B98&\"||\"&B98,C98&\"||\"&B98),Worktags!AR:AV,5,FALSE),\"\")","v":"All"}]
["1390 Clearing-Inventory",{"$f":"Worktags!AS34","v":"1390"},{"$f":"IF(Worktags!AQ34<>Worktags!AS34,Worktags!AQ34,\"\")","v":""},{"$f":"IFERROR(VLOOKUP(B99,Worktags!AL:AO,2,FALSE),\"\")","v":"Clearing-Inventory"},{"$f":"IFERROR(VLOOKUP(C99,Worktags!O:T,2,FALSE),\"\")","v":""},{"$f":"IFERROR(VLOOKUP(IF(C99=\"\",B99&\"||\"&B99,C99&\"||\"&B99),Worktags!AR:AV,5,FALSE),\"\")","v":"All"}]
["1390_SC1390 Clearing-Inventory/",{"$f":"Worktags!AS208","v":"1390"},{"$f":"IF(Worktags!AQ208<>Worktags!AS208,Worktags!AQ208,\"\")","v":"SC1390"},{"$f":"IFERROR(VLOOKUP(B100,Worktags!AL:AO,2,FALSE),\"\")","v":"Clearing-Inventory"},{"$f":"IFERROR(VLOOKUP(C100,Worktags!O:T,2,FALSE),\"\")","v":""},{"$f":"IFERROR(VLOOKUP(IF(C100=\"\",B100&\"||\"&B100,C100&\"||\"&B100),Worktags!AR:AV,5,FALSE),\"\")","v":"All"}]
["1399 Inventory Reserve",{"$f":"Worktags!AL41","v":"1399"},null,{"$f":"IFERROR(VLOOKUP(B101,Worktags!AL:AO,2,FALSE),\"\")","v":"Inventory Reserve"},null,{"$f":"IFERROR(VLOOKUP(IF(C101=\"\",B101&\"||\"&B101,C101&\"||\"&B101),Worktags!AR:AV,5,FALSE),\"\")","v":"All"}]
["1399 Inventory Reserve",{"$f":"Worktags!AS35","v":"1399"},{"$f":"IF(Worktags!AQ35<>Worktags!AS35,Worktags!AQ35,\"\")","v":""},{"$f":"IFERROR(VLOOKUP(B102,Worktags!AL:AO,2,FALSE),\"\")","v":"Inventory Reserve"},{"$f":"IFERROR(VLOOKUP(C102,Worktags!O:T,2,FALSE),\"\")","v":""},{"$f":"IFERROR(VLOOKUP(IF(C102=\"\",B102&\"||\"&B102,C102&\"||\"&B102),Worktags!AR:AV,5,FALSE),\"\")","v":"All"}]
["1400 Prepaid Expenses",{"$f":"Worktags!AL42","v":"1400"},null,{"$f":"IFERROR(VLOOKUP(B103,Worktags!AL:AO,2,FALSE),\"\")","v":"Prepaid Expenses"},null,{"$f":"IFERROR(VLOOKUP(IF(C103=\"\",B103&\"||\"&B103,C103&\"||\"&B103),Worktags!AR:AV,5,FALSE),\"\")","v":"All"}]
["1400 Prepaid Expenses",{"$f":"Worktags!AS36","v":"1400"},{"$f":"IF(Worktags!AQ36<>Worktags!AS36,Worktags!AQ36,\"\")","v":""},{"$f":"IFERROR(VLOOKUP(B104,Worktags!AL:AO,2,FALSE),\"\")","v":"Prepaid Expenses"},{"$f":"IFERROR(VLOOKUP(C104,Worktags!O:T,2,FALSE),\"\")","v":""},{"$f":"IFERROR(VLOOKUP(IF(C104=\"\",B104&\"||\"&B104,C104&\"||\"&B104),Worktags!AR:AV,5,FALSE),\"\")","v":"All"}]
["1400_SC1400 Prepaid Expenses/",{"$f":"Worktags!AS209","v":"1400"},{"$f":"IF(Worktags!AQ209<>Worktags!AS209,Worktags!AQ209,\"\")","v":"SC1400"},{"$f":"IFERROR(VLOOKUP(B105,Worktags!AL:AO,2,FALSE),\"\")","v":"Prepaid Expenses"},{"$f":"IFERROR(VLOOKUP(C105,Worktags!O:T,2,FALSE),\"\")","v":""},{"$f":"IFERROR(VLOOKUP(IF(C105=\"\",B105&\"||\"&B105,C105&\"||\"&B105),Worktags!AR:AV,5,FALSE),\"\")","v":"All"}]
["1400_SC6101 Prepaid Expenses/Animal Supplies",{"$f":"Worktags!AS288","v":"1400"},{"$f":"IF(Worktags!AQ288<>Worktags!AS288,Worktags!AQ288,\"\")","v":"SC6101"},{"$f":"IFERROR(VLOOKUP(B106,Worktags!AL:AO,2,FALSE),\"\")","v":"Prepaid Expenses"},{"$f":"IFERROR(VLOOKUP(C106,Worktags!O:T,2,FALSE),\"\")","v":"Animal Supplies"},{"$f":"IFERROR(VLOOKUP(IF(C106=\"\",B106&\"||\"&B106,C106&\"||\"&B106),Worktags!AR:AV,5,FALSE),\"\")","v":"All"}]
["1400_SC6102 Prepaid Expenses/Animals",{"$f":"Worktags!AS290","v":"1400"},{"$f":"IF(Worktags!AQ290<>Worktags!AS290,Worktags!AQ290,\"\")","v":"SC6102"},{"$f":"IFERROR(VLOOKUP(B107,Worktags!AL:AO,2,FALSE),\"\")","v":"Prepaid Expenses"},{"$f":"IFERROR(VLOOKUP(C107,Worktags!O:T,2,FALSE),\"\")","v":"Animals"},{"$f":"IFERROR(VLOOKUP(IF(C107=\"\",B107&\"||\"&B107,C107&\"||\"&B107),Worktags!AR:AV,5,FALSE),\"\")","v":"All"}]
["1400_SC6103 Prepaid Expenses/Art",{"$f":"Worktags!AS292","v":"1400"},{"$f":"IF(Worktags!AQ292<>Worktags!AS292,Worktags!AQ292,\"\")","v":"SC6103"},{"$f":"IFERROR(VLOOKUP(B108,Worktags!AL:AO,2,FALSE),\"\")","v":"Prepaid Expenses"},{"$f":"IFERROR(VLOOKUP(C108,Worktags!O:T,2,FALSE),\"\")","v":"Art"},{"$f":"IFERROR(VLOOKUP(IF(C108=\"\",B108&\"||\"&B108,C108&\"||\"&B108),Worktags!AR:AV,5,FALSE),\"\")","v":"All"}]
["1400_SC6104 Prepaid Expenses/Art Supplies",{"$f":"Worktags!AS294","v":"1400"},{"$f":"IF(Worktags!AQ294<>Worktags!AS294,Worktags!AQ294,\"\")","v":"SC6104"},{"$f":"IFERROR(VLOOKUP(B109,Worktags!AL:AO,2,FALSE),\"\")","v":"Prepaid Expenses"},{"$f":"IFERROR(VLOOKUP(C109,Worktags!O:T,2,FALSE),\"\")","v":"Art Supplies"},{"$f":"IFERROR(VLOOKUP(IF(C109=\"\",B109&\"||\"&B109,C109&\"||\"&B109),Worktags!AR:AV,5,FALSE),\"\")","v":"All"}]
["1400_SC6105 Prepaid Expenses/Athletic Supplies",{"$f":"Worktags!AS296","v":"1400"},{"$f":"IF(Worktags!AQ296<>Worktags!AS296,Worktags!AQ296,\"\")","v":"SC6105"},{"$f":"IFERROR(VLOOKUP(B110,Worktags!AL:AO,2,FALSE),\"\")","v":"Prepaid Expenses"},{"$f":"IFERROR(VLOOKUP(C110,Worktags!O:T,2,FALSE),\"\")","v":"Athletic Supplies"},{"$f":"IFERROR(VLOOKUP(IF(C110=\"\",B110&\"||\"&B110,C110&\"||\"&B110),Worktags!AR:AV,5,FALSE),\"\")","v":"All"}]
["1400_SC6106 Prepaid Expenses/Audio Visual Supplies",{"$f":"Worktags!AS298","v":"1400"},{"$f":"IF(Worktags!AQ298<>Worktags!AS298,Worktags!AQ298,\"\")","v":"SC6106"},{"$f":"IFERROR(VLOOKUP(B111,Worktags!AL:AO,2,FALSE),\"\")","v":"Prepaid Expenses"},{"$f":"IFERROR(VLOOKUP(C111,Worktags!O:T,2,FALSE),\"\")","v":"Audio Visual Supplies"},{"$f":"IFERROR(VLOOKUP(IF(C111=\"\",B111&\"||\"&B111,C111&\"||\"&B111),Worktags!AR:AV,5,FALSE),\"\")","v":"All"}]
["1400_SC6107 Prepaid Expenses/Clothing",{"$f":"Worktags!AS302","v":"1400"},{"$f":"IF(Worktags!AQ302<>Worktags!AS302,Worktags!AQ302,\"\")","v":"SC6107"},{"$f":"IFERROR(VLOOKUP(B112,Worktags!AL:AO,2,FALSE),\"\")","v":"Prepaid Expenses"},{"$f":"IFERROR(VLOOKUP(C112,Worktags!O:T,2,FALSE),\"\")","v":"Clothing"},{"$f":"IFERROR(VLOOKUP(IF(C112=\"\",B112&\"||\"&B112,C112&\"||\"&B112),Worktags!AR:AV,5,FALSE),\"\")","v":"All"}]
["1400_SC6108 Prepaid Expenses/Data Network Supplies",{"$f":"Worktags!AS304","v":"1400"},{"$f":"IF(Worktags!AQ304<>Worktags!AS304,Worktags!AQ304,\"\")","v":"SC6108"},{"$f":"IFERROR(VLOOKUP(B113,Worktags!AL:AO,2,FALSE),\"\")","v":"Prepaid Expenses"},{"$f":"IFERROR(VLOOKUP(C113,Worktags!O:T,2,FALSE),\"\")","v":"Data Network Supplies"},{"$f":"IFERROR(VLOOKUP(IF(C113=\"\",B113&\"||\"&B113,C113&\"||\"&B113),Worktags!AR:AV,5,FALSE),\"\")","v":"All"}]
["1400_SC6109 Prepaid Expenses/Floral Supplies",{"$f":"Worktags!AS308","v":"1400"},{"$f":"IF(Worktags!AQ308<>Worktags!AS308,Worktags!AQ308,\"\")","v":"SC6109"},{"$f":"IFERROR(VLOOKUP(B114,Worktags!AL:AO,2,FALSE),\"\")","v":"Prepaid Expenses"},{"$f":"IFERROR(VLOOKUP(C114,Worktags!O:T,2,FALSE),\"\")","v":"Floral Supplies"},{"$f":"IFERROR(VLOOKUP(IF(C114=\"\",B114&\"||\"&B114,C114&\"||\"&B114),Worktags!AR:AV,5,FALSE),\"\")","v":"All"}]
["1400_SC6110 Prepaid Expenses/Food and Beverages",{"$f":"Worktags!AS310","v":"1400"},{"$f":"IF(Worktags!AQ310<>Worktags!AS310,Worktags!AQ310,\"\")","v":"SC6110"},{"$f":"IFERROR(VLOOKUP(B115,Worktags!AL:AO,2,FALSE),\"\")","v":"Prepaid Expenses"},{"$f":"IFERROR(VLOOKUP(C115,Worktags!O:T,2,FALSE),\"\")","v":"Food and Beverages"},{"$f":"IFERROR(VLOOKUP(IF(C115=\"\",B115&\"||\"&B115,C115&\"||\"&B115),Worktags!AR:AV,5,FALSE),\"\")","v":"All"}]
["1400_SC6111 Prepaid Expenses/Food Service Disposables",{"$f":"Worktags!AS312","v":"1400"},{"$f":"IF(Worktags!AQ312<>Worktags!AS312,Worktags!AQ312,\"\")","v":"SC6111"},{"$f":"IFERROR(VLOOKUP(B116,Worktags!AL:AO,2,FALSE),\"\")","v":"Prepaid Expenses"},{"$f":"IFERROR(VLOOKUP(C116,Worktags!O:T,2,FALSE),\"\")","v":"Food Service Disposables"},{"$f":"IFERROR(VLOOKUP(IF(C116=\"\",B116&\"||\"&B116,C116&\"||\"&B116),Worktags!AR:AV,5,FALSE),\"\")","v":"All"}]
["1400_SC6112 Prepaid Expenses/Food Service Supplies",{"$f":"Worktags!AS314","v":"1400"},{"$f":"IF(Worktags!AQ314<>Worktags!AS314,Worktags!AQ314,\"\")","v":"SC6112"},{"$f":"IFERROR(VLOOKUP(B117,Worktags!AL:AO,2,FALSE),\"\")","v":"Prepaid Expenses"},{"$f":"IFERROR(VLOOKUP(C117,Worktags!O:T,2,FALSE),\"\")","v":"Food Service Supplies"},{"$f":"IFERROR(VLOOKUP(IF(C117=\"\",B117&\"||\"&B117,C117&\"||\"&B117),Worktags!AR:AV,5,FALSE),\"\")","v":"All"}]
["1400_SC6113 Prepaid Expenses/Fuel",{"$f":"Worktags!AS316","v":"1400"},{"$f":"IF(Worktags!AQ316<>Worktags!AS316,Worktags!AQ316,\"\")","v":"SC6113"},{"$f":"IFERROR(VLOOKUP(B118,Worktags!AL:AO,2,FALSE),\"\")","v":"Prepaid Expenses"},{"$f":"IFERROR(VLOOKUP(C118,Worktags!O:T,2,FALSE),\"\")","v":"Fuel"},{"$f":"IFERROR(VLOOKUP(IF(C118=\"\",B118&\"||\"&B118,C118&\"||\"&B118),Worktags!AR:AV,5,FALSE),\"\")","v":"All"}]
["1400_SC6114 Prepaid Expenses/Hazardous Chemicals",{"$f":"Worktags!AS318","v":"1400"},{"$f":"IF(Worktags!AQ318<>Worktags!AS318,Worktags!AQ318,\"\")","v":"SC6114"},{"$f":"IFERROR(VLOOKUP(B119,Worktags!AL:AO,2,FALSE),\"\")","v":"Prepaid Expenses"},{"$f":"IFERROR(VLOOKUP(C119,Worktags!O:T,2,FALSE),\"\")","v":"Hazardous Chemicals"},{"$f":"IFERROR(VLOOKUP(IF(C119=\"\",B119&\"||\"&B119,C119&\"||\"&B119),Worktags!AR:AV,5,FALSE),\"\")","v":"All"}]
["1400_SC6115 Prepaid Expenses/Janitorial Supplies",{"$f":"Worktags!AS320","v":"1400"},{"$f":"IF(Worktags!AQ320<>Worktags!AS320,Worktags!AQ320,\"\")","v":"SC6115"},{"$f":"IFERROR(VLOOKUP(B120,Worktags!AL:AO,2,FALSE),\"\")","v":"Prepaid Expenses"},{"$f":"IFERROR(VLOOKUP(C120,Worktags!O:T,2,FALSE),\"\")","v":"Janitorial Supplies"},{"$f":"IFERROR(VLOOKUP(IF(C120=\"\",B120&\"||\"&B120,C120&\"||\"&B120),Worktags!AR:AV,5,FALSE),\"\")","v":"All"}]
["1400_SC6116 Prepaid Expenses/Laundry Supplies",{"$f":"Worktags!AS322","v":"1400"},{"$f":"IF(Worktags!AQ322<>Worktags!AS322,Worktags!AQ322,\"\")","v":"SC6116"},{"$f":"IFERROR(VLOOKUP(B121,Worktags!AL:AO,2,FALSE),\"\")","v":"Prepaid Expenses"},{"$f":"IFERROR(VLOOKUP(C121,Worktags!O:T,2,FALSE),\"\")","v":"Laundry Supplies"},{"$f":"IFERROR(VLOOKUP(IF(C121=\"\",B121&\"||\"&B121,C121&\"||\"&B121),Worktags!AR:AV,5,FALSE),\"\")","v":"All"}]
["1400_SC6117 Prepaid Expenses/Medical Supplies",{"$f":"Worktags!AS324","v":"1400"},{"$f":"IF(Worktags!AQ324<>Worktags!AS324,Worktags!AQ324,\"\")","v":"SC6117"},{"$f":"IFERROR(VLOOKUP(B122,Worktags!AL:AO,2,FALSE),\"\")","v":"Prepaid Expenses"},{"$f":"IFERROR(VLOOKUP(C122,Worktags!O:T,2,FALSE),\"\")","v":"Medical Supplies"},{"$f":"IFERROR(VLOOKUP(IF(C122=\"\",B122&\"||\"&B122,C122&\"||\"&B122),Worktags!AR:AV,5,FALSE),\"\")","v":"All"}]
["1400_SC6118 Prepaid Expenses/Musical Instrument Supplies",{"$f":"Worktags!AS326","v":"1400"},{"$f":"IF(Worktags!AQ326<>Worktags!AS326,Worktags!AQ326,\"\")","v":"SC6118"},{"$f":"IFERROR(VLOOKUP(B123,Worktags!AL:AO,2,FALSE),\"\")","v":"Prepaid Expenses"},{"$f":"IFERROR(VLOOKUP(C123,Worktags!O:T,2,FALSE),\"\")","v":"Musical Instrument Supplies"},{"$f":"IFERROR(VLOOKUP(IF(C123=\"\",B123&\"||\"&B123,C123&\"||\"&B123),Worktags!AR:AV,5,FALSE),\"\")","v":"All"}]
["1400_SC6119 Prepaid Expenses/Office Supplies",{"$f":"Worktags!AS328","v":"1400"},{"$f":"IF(Worktags!AQ328<>Worktags!AS328,Worktags!AQ328,\"\")","v":"SC6119"},{"$f":"IFERROR(VLOOKUP(B124,Worktags!AL:AO,2,FALSE),\"\")","v":"Prepaid Expenses"},{"$f":"IFERROR(VLOOKUP(C124,Worktags!O:T,2,FALSE),\"\")","v":"Office Supplies"},{"$f":"IFERROR(VLOOKUP(IF(C124=\"\",B124&\"||\"&B124,C124&\"||\"&B124),Worktags!AR:AV,5,FALSE),\"\")","v":"All"}]
["1400_SC6120 Prepaid Expenses/Other Expense",{"$f":"Worktags!AS330","v":"1400"},{"$f":"IF(Worktags!AQ330<>Worktags!AS330,Worktags!AQ330,\"\")","v":"SC6120"},{"$f":"IFERROR(VLOOKUP(B125,Worktags!AL:AO,2,FALSE),\"\")","v":"Prepaid Expenses"},{"$f":"IFERROR(VLOOKUP(C125,Worktags!O:T,2,FALSE),\"\")","v":"Other Expense"},{"$f":"IFERROR(VLOOKUP(IF(C125=\"\",B125&\"||\"&B125,C125&\"||\"&B125),Worktags!AR:AV,5,FALSE),\"\")","v":"All"}]
["1400_SC6121 Prepaid Expenses/Packaging",{"$f":"Worktags!AS332","v":"1400"},{"$f":"IF(Worktags!AQ332<>Worktags!AS332,Worktags!AQ332,\"\")","v":"SC6121"},{"$f":"IFERROR(VLOOKUP(B126,Worktags!AL:AO,2,FALSE),\"\")","v":"Prepaid Expenses"},{"$f":"IFERROR(VLOOKUP(C126,Worktags!O:T,2,FALSE),\"\")","v":"Packaging"},{"$f":"IFERROR(VLOOKUP(IF(C126=\"\",B126&\"||\"&B126,C126&\"||\"&B126),Worktags!AR:AV,5,FALSE),\"\")","v":"All"}]
["1400_SC6122 Prepaid Expenses/Paper",{"$f":"Worktags!AS334","v":"1400"},{"$f":"IF(Worktags!AQ334<>Worktags!AS334,Worktags!AQ334,\"\")","v":"SC6122"},{"$f":"IFERROR(VLOOKUP(B127,Worktags!AL:AO,2,FALSE),\"\")","v":"Prepaid Expenses"},{"$f":"IFERROR(VLOOKUP(C127,Worktags!O:T,2,FALSE),\"\")","v":"Paper"},{"$f":"IFERROR(VLOOKUP(IF(C127=\"\",B127&\"||\"&B127,C127&\"||\"&B127),Worktags!AR:AV,5,FALSE),\"\")","v":"All"}]
["1400_SC6123 Prepaid Expenses/Photography Supplies",{"$f":"Worktags!AS336","v":"1400"},{"$f":"IF(Worktags!AQ336<>Worktags!AS336,Worktags!AQ336,\"\")","v":"SC6123"},{"$f":"IFERROR(VLOOKUP(B128,Worktags!AL:AO,2,FALSE),\"\")","v":"Prepaid Expenses"},{"$f":"IFERROR(VLOOKUP(C128,Worktags!O:T,2,FALSE),\"\")","v":"Photography Supplies"},{"$f":"IFERROR(VLOOKUP(IF(C128=\"\",B128&\"||\"&B128,C128&\"||\"&B128),Worktags!AR:AV,5,FALSE),\"\")","v":"All"}]
[{"$f":"IF(B129<>\"\",IF(C129<>\"\",B129&\"_\"&C129&\" \"&D129&\"/\"&E129,B129&\" \"&D129),\"\")","v":"1400_SC6124 Prepaid Expenses/Printed Media"},{"$f":"Worktags!AS338","v":"1400"},{"$f":"IF(Worktags!AQ338<>Worktags!AS338,Worktags!AQ338,\"\")","v":"SC6124"},{"$f":"IFERROR(VLOOKUP(B129,Worktags!AL:AO,2,FALSE),\"\")","v":"Prepaid Expenses"},{"$f":"IFERROR(VLOOKUP(C129,Worktags!O:T,2,FALSE),\"\")","v":"Printed Media"},{"$f":"IFERROR(VLOOKUP(IF(C129=\"\",B129&\"||\"&B129,C129&\"||\"&B129),Worktags!AR:AV,5,FALSE),\"\")","v":"All"}]
["1400_SC6125 Prepaid Expenses/Printing Supplies",{"$f":"Worktags!AS340","v":"1400"},{"$f":"IF(Worktags!AQ340<>Worktags!AS340,Worktags!AQ340,\"\")","v":"SC6125"},{"$f":"IFERROR(VLOOKUP(B130,Worktags!AL:AO,2,FALSE),\"\")","v":"Prepaid Expenses"},{"$f":"IFERROR(VLOOKUP(C130,Worktags!O:T,2,FALSE),\"\")","v":"Printing Supplies"},{"$f":"IFERROR(VLOOKUP(IF(C130=\"\",B130&\"||\"&B130,C130&\"||\"&B130),Worktags!AR:AV,5,FALSE),\"\")","v":"All"}]
["1400_SC6126 Prepaid Expenses/Scientific and Engineering Supplies",{"$f":"Worktags!AS342","v":"1400"},{"$f":"IF(Worktags!AQ342<>Worktags!AS342,Worktags!AQ342,\"\")","v":"SC6126"},{"$f":"IFERROR(VLOOKUP(B131,Worktags!AL:AO,2,FALSE),\"\")","v":"Prepaid Expenses"},{"$f":"IFERROR(VLOOKUP(C131,Worktags!O:T,2,FALSE),\"\")","v":"Scientific and Engineering Supplies"},{"$f":"IFERROR(VLOOKUP(IF(C131=\"\",B131&\"||\"&B131,C131&\"||\"&B131),Worktags!AR:AV,5,FALSE),\"\")","v":"All"}]
["1400_SC6127 Prepaid Expenses/Special Collections",{"$f":"Worktags!AS344","v":"1400"},{"$f":"IF(Worktags!AQ344<>Worktags!AS344,Worktags!AQ344,\"\")","v":"SC6127"},{"$f":"IFERROR(VLOOKUP(B132,Worktags!AL:AO,2,FALSE),\"\")","v":"Prepaid Expenses"},{"$f":"IFERROR(VLOOKUP(C132,Worktags!O:T,2,FALSE),\"\")","v":"Special Collections"},{"$f":"IFERROR(VLOOKUP(IF(C132=\"\",B132&\"||\"&B132,C132&\"||\"&B132),Worktags!AR:AV,5,FALSE),\"\")","v":"All"}]
["1400_SC6129 Prepaid Expenses/Supplies (not otherwise specified)",{"$f":"Worktags!AS347","v":"1400"},{"$f":"IF(Worktags!AQ347<>Worktags!AS347,Worktags!AQ347,\"\")","v":"SC6129"},{"$f":"IFERROR(VLOOKUP(B133,Worktags!AL:AO,2,FALSE),\"\")","v":"Prepaid Expenses"},{"$f":"IFERROR(VLOOKUP(C133,Worktags!O:T,2,FALSE),\"\")","v":"Supplies (not otherwise specified)"},{"$f":"IFERROR(VLOOKUP(IF(C133=\"\",B133&\"||\"&B133,C133&\"||\"&B133),Worktags!AR:AV,5,FALSE),\"\")","v":"All"}]
["1400_SC6130 Prepaid Expenses/Teaching Supplies",{"$f":"Worktags!AS351","v":"1400"},{"$f":"IF(Worktags!AQ351<>Worktags!AS351,Worktags!AQ351,\"\")","v":"SC6130"},{"$f":"IFERROR(VLOOKUP(B134,Worktags!AL:AO,2,FALSE),\"\")","v":"Prepaid Expenses"},{"$f":"IFERROR(VLOOKUP(C134,Worktags!O:T,2,FALSE),\"\")","v":"Teaching Supplies"},{"$f":"IFERROR(VLOOKUP(IF(C134=\"\",B134&\"||\"&B134,C134&\"||\"&B134),Worktags!AR:AV,5,FALSE),\"\")","v":"All"}]
["1400_SC6131 Prepaid Expenses/Telecom Supplies",{"$f":"Worktags!AS353","v":"1400"},{"$f":"IF(Worktags!AQ353<>Worktags!AS353,Worktags!AQ353,\"\")","v":"SC6131"},{"$f":"IFERROR(VLOOKUP(B135,Worktags!AL:AO,2,FALSE),\"\")","v":"Prepaid Expenses"},{"$f":"IFERROR(VLOOKUP(C135,Worktags!O:T,2,FALSE),\"\")","v":"Telecom Supplies"},{"$f":"IFERROR(VLOOKUP(IF(C135=\"\",B135&\"||\"&B135,C135&\"||\"&B135),Worktags!AR:AV,5,FALSE),\"\")","v":"All"}]
["1400_SC6132 Prepaid Expenses/Vehicle Supplies",{"$f":"Worktags!AS357","v":"1400"},{"$f":"IF(Worktags!AQ357<>Worktags!AS357,Worktags!AQ357,\"\")","v":"SC6132"},{"$f":"IFERROR(VLOOKUP(B136,Worktags!AL:AO,2,FALSE),\"\")","v":"Prepaid Expenses"},{"$f":"IFERROR(VLOOKUP(C136,Worktags!O:T,2,FALSE),\"\")","v":"Vehicle Supplies"},{"$f":"IFERROR(VLOOKUP(IF(C136=\"\",B136&\"||\"&B136,C136&\"||\"&B136),Worktags!AR:AV,5,FALSE),\"\")","v":"All"}]
["1400_SC6133 Prepaid Expenses/Lab Gases and Cryogenics",{"$f":"Worktags!AS359","v":"1400"},{"$f":"IF(Worktags!AQ359<>Worktags!AS359,Worktags!AQ359,\"\")","v":"SC6133"},{"$f":"IFERROR(VLOOKUP(B137,Worktags!AL:AO,2,FALSE),\"\")","v":"Prepaid Expenses"},{"$f":"IFERROR(VLOOKUP(C137,Worktags!O:T,2,FALSE),\"\")","v":"Lab Gases and Cryogenics"},{"$f":"IFERROR(VLOOKUP(IF(C137=\"\",B137&\"||\"&B137,C137&\"||\"&B137),Worktags!AR:AV,5,FALSE),\"\")","v":"All"}]
["1400_SC6199 Prepaid Expenses/Materials and Supplies (reclass)",{"$f":"Worktags!AS361","v":"1400"},{"$f":"IF(Worktags!AQ361<>Worktags!AS361,Worktags!AQ361,\"\")","v":"SC6199"},{"$f":"IFERROR(VLOOKUP(B138,Worktags!AL:AO,2,FALSE),\"\")","v":"Prepaid Expenses"},{"$f":"IFERROR(VLOOKUP(C138,Worktags!O:T,2,FALSE),\"\")","v":"Materials and Supplies (reclass)"},{"$f":"IFERROR(VLOOKUP(IF(C138=\"\",B138&\"||\"&B138,C138&\"||\"&B138),Worktags!AR:AV,5,FALSE),\"\")","v":"All"}]
["1400_SC6401 Prepaid Expenses/Advertising",{"$f":"Worktags!AS374","v":"1400"},{"$f":"IF(Worktags!AQ374<>Worktags!AS374,Worktags!AQ374,\"\")","v":"SC6401"},{"$f":"IFERROR(VLOOKUP(B139,Worktags!AL:AO,2,FALSE),\"\")","v":"Prepaid Expenses"},{"$f":"IFERROR(VLOOKUP(C139,Worktags!O:T,2,FALSE),\"\")","v":"Advertising"},{"$f":"IFERROR(VLOOKUP(IF(C139=\"\",B139&\"||\"&B139,C139&\"||\"&B139),Worktags!AR:AV,5,FALSE),\"\")","v":"All"}]
["1400_SC6403 Prepaid Expenses/Animal Services",{"$f":"Worktags!AS377","v":"1400"},{"$f":"IF(Worktags!AQ377<>Worktags!AS377,Worktags!AQ377,\"\")","v":"SC6403"},{"$f":"IFERROR(VLOOKUP(B140,Worktags!AL:AO,2,FALSE),\"\")","v":"Prepaid Expenses"},{"$f":"IFERROR(VLOOKUP(C140,Worktags!O:T,2,FALSE),\"\")","v":"Animal Services"},{"$f":"IFERROR(VLOOKUP(IF(C140=\"\",B140&\"||\"&B140,C140&\"||\"&B140),Worktags!AR:AV,5,FALSE),\"\")","v":"All"}]
["1400_SC6404 Prepaid Expenses/Architectural or Engineering Services",{"$f":"Worktags!AS379","v":"1400"},{"$f":"IF(Worktags!AQ379<>Worktags!AS379,Worktags!AQ379,\"\")","v":"SC6404"},{"$f":"IFERROR(VLOOKUP(B141,Worktags!AL:AO,2,FALSE),\"\")","v":"Prepaid Expenses"},{"$f":"IFERROR(VLOOKUP(C141,Worktags!O:T,2,FALSE),\"\")","v":"Architectural or Engineering Services"},{"$f":"IFERROR(VLOOKUP(IF(C141=\"\",B141&\"||\"&B141,C141&\"||\"&B141),Worktags!AR:AV,5,FALSE),\"\")","v":"All"}]
["1400_SC6405 Prepaid Expenses/Art and Design Services",{"$f":"Worktags!AS383","v":"1400"},{"$f":"IF(Worktags!AQ383<>Worktags!AS383,Worktags!AQ383,\"\")","v":"SC6405"},{"$f":"IFERROR(VLOOKUP(B142,Worktags!AL:AO,2,FALSE),\"\")","v":"Prepaid Expenses"},{"$f":"IFERROR(VLOOKUP(C142,Worktags!O:T,2,FALSE),\"\")","v":"Art and Design Services"},{"$f":"IFERROR(VLOOKUP(IF(C142=\"\",B142&\"||\"&B142,C142&\"||\"&B142),Worktags!AR:AV,5,FALSE),\"\")","v":"All"}]
["1400_SC6406 Prepaid Expenses/Athletic Events",{"$f":"Worktags!AS385","v":"1400"},{"$f":"IF(Worktags!AQ385<>Worktags!AS385,Worktags!AQ385,\"\")","v":"SC6406"},{"$f":"IFERROR(VLOOKUP(B143,Worktags!AL:AO,2,FALSE),\"\")","v":"Prepaid Expenses"},{"$f":"IFERROR(VLOOKUP(C143,Worktags!O:T,2,FALSE),\"\")","v":"Athletic Events"},{"$f":"IFERROR(VLOOKUP(IF(C143=\"\",B143&\"||\"&B143,C143&\"||\"&B143),Worktags!AR:AV,5,FALSE),\"\")","v":"All"}]
["1400_SC6407 Prepaid Expenses/Audio Visual Media Duplication",{"$f":"Worktags!AS387","v":"1400"},{"$f":"IF(Worktags!AQ387<>Worktags!AS387,Worktags!AQ387,\"\")","v":"SC6407"},{"$f":"IFERROR(VLOOKUP(B144,Worktags!AL:AO,2,FALSE),\"\")","v":"Prepaid Expenses"},{"$f":"IFERROR(VLOOKUP(C144,Worktags!O:T,2,FALSE),\"\")","v":"Audio Visual Media Duplication"},{"$f":"IFERROR(VLOOKUP(IF(C144=\"\",B144&\"||\"&B144,C144&\"||\"&B144),Worktags!AR:AV,5,FALSE),\"\")","v":"All"}]
["1400_SC6410 Prepaid Expenses/Broadcast Services",{"$f":"Worktags!AS391","v":"1400"},{"$f":"IF(Worktags!AQ391<>Worktags!AS391,Worktags!AQ391,\"\")","v":"SC6410"},{"$f":"IFERROR(VLOOKUP(B145,Worktags!AL:AO,2,FALSE),\"\")","v":"Prepaid Expenses"},{"$f":"IFERROR(VLOOKUP(C145,Worktags!O:T,2,FALSE),\"\")","v":"Broadcast Services"},{"$f":"IFERROR(VLOOKUP(IF(C145=\"\",B145&\"||\"&B145,C145&\"||\"&B145),Worktags!AR:AV,5,FALSE),\"\")","v":"All"}]
["1400_SC6412 Prepaid Expenses/Cell Phones and Plans",{"$f":"Worktags!AS394","v":"1400"},{"$f":"IF(Worktags!AQ394<>Worktags!AS394,Worktags!AQ394,\"\")","v":"SC6412"},{"$f":"IFERROR(VLOOKUP(B146,Worktags!AL:AO,2,FALSE),\"\")","v":"Prepaid Expenses"},{"$f":"IFERROR(VLOOKUP(C146,Worktags!O:T,2,FALSE),\"\")","v":"Cell Phones and Plans"},{"$f":"IFERROR(VLOOKUP(IF(C146=\"\",B146&\"||\"&B146,C146&\"||\"&B146),Worktags!AR:AV,5,FALSE),\"\")","v":"All"}]
["1400_SC6413 Prepaid Expenses/Competition Officiating",{"$f":"Worktags!AS396","v":"1400"},{"$f":"IF(Worktags!AQ396<>Worktags!AS396,Worktags!AQ396,\"\")","v":"SC6413"},{"$f":"IFERROR(VLOOKUP(B147,Worktags!AL:AO,2,FALSE),\"\")","v":"Prepaid Expenses"},{"$f":"IFERROR(VLOOKUP(C147,Worktags!O:T,2,FALSE),\"\")","v":"Competition Officiating"},{"$f":"IFERROR(VLOOKUP(IF(C147=\"\",B147&\"||\"&B147,C147&\"||\"&B147),Worktags!AR:AV,5,FALSE),\"\")","v":"All"}]
["1400_SC6414 Prepaid Expenses/Computer Services",{"$f":"Worktags!AS398","v":"1400"},{"$f":"IF(Worktags!AQ398<>Worktags!AS398,Worktags!AQ398,\"\")","v":"SC6414"},{"$f":"IFERROR(VLOOKUP(B148,Worktags!AL:AO,2,FALSE),\"\")","v":"Prepaid Expenses"},{"$f":"IFERROR(VLOOKUP(C148,Worktags!O:T,2,FALSE),\"\")","v":"Computer Services"},{"$f":"IFERROR(VLOOKUP(IF(C148=\"\",B148&\"||\"&B148,C148&\"||\"&B148),Worktags!AR:AV,5,FALSE),\"\")","v":"All"}]
["1400_SC6415 Prepaid Expenses/Conference and Events Hosting",{"$f":"Worktags!AS402","v":"1400"},{"$f":"IF(Worktags!AQ402<>Worktags!AS402,Worktags!AQ402,\"\")","v":"SC6415"},{"$f":"IFERROR(VLOOKUP(B149,Worktags!AL:AO,2,FALSE),\"\")","v":"Prepaid Expenses"},{"$f":"IFERROR(VLOOKUP(C149,Worktags!O:T,2,FALSE),\"\")","v":"Conference and Events Hosting"},{"$f":"IFERROR(VLOOKUP(IF(C149=\"\",B149&\"||\"&B149,C149&\"||\"&B149),Worktags!AR:AV,5,FALSE),\"\")","v":"All"}]
["1400_SC6416 Prepaid Expenses/Conference Registration",{"$f":"Worktags!AS404","v":"1400"},{"$f":"IF(Worktags!AQ404<>Worktags!AS404,Worktags!AQ404,\"\")","v":"SC6416"},{"$f":"IFERROR(VLOOKUP(B150,Worktags!AL:AO,2,FALSE),\"\")","v":"Prepaid Expenses"},{"$f":"IFERROR(VLOOKUP(C150,Worktags!O:T,2,FALSE),\"\")","v":"Conference Registration"},{"$f":"IFERROR(VLOOKUP(IF(C150=\"\",B150&\"||\"&B150,C150&\"||\"&B150),Worktags!AR:AV,5,FALSE),\"\")","v":"All"}]
["1400_SC6417 Prepaid Expenses/Consulting - Financial and Research",{"$f":"Worktags!AS406","v":"1400"},{"$f":"IF(Worktags!AQ406<>Worktags!AS406,Worktags!AQ406,\"\")","v":"SC6417"},{"$f":"IFERROR(VLOOKUP(B151,Worktags!AL:AO,2,FALSE),\"\")","v":"Prepaid Expenses"},{"$f":"IFERROR(VLOOKUP(C151,Worktags!O:T,2,FALSE),\"\")","v":"Consulting - Financial and Research"},{"$f":"IFERROR(VLOOKUP(IF(C151=\"\",B151&\"||\"&B151,C151&\"||\"&B151),Worktags!AR:AV,5,FALSE),\"\")","v":"All"}]
["1400_SC6419 Prepaid Expenses/Data Connectivity Services",{"$f":"Worktags!AS409","v":"1400"},{"$f":"IF(Worktags!AQ409<>Worktags!AS409,Worktags!AQ409,\"\")","v":"SC6419"},{"$f":"IFERROR(VLOOKUP(B152,Worktags!AL:AO,2,FALSE),\"\")","v":"Prepaid Expenses"},{"$f":"IFERROR(VLOOKUP(C152,Worktags!O:T,2,FALSE),\"\")","v":"Data Connectivity Services"},{"$f":"IFERROR(VLOOKUP(IF(C152=\"\",B152&\"||\"&B152,C152&\"||\"&B152),Worktags!AR:AV,5,FALSE),\"\")","v":"All"}]
["1400_SC6420 Prepaid Expenses/Educational Facilities - Rent/Lease <=1yr",{"$f":"Worktags!AS411","v":"1400"},{"$f":"IF(Worktags!AQ411<>Worktags!AS411,Worktags!AQ411,\"\")","v":"SC6420"},{"$f":"IFERROR(VLOOKUP(B153,Worktags!AL:AO,2,FALSE),\"\")","v":"Prepaid Expenses"},{"$f":"IFERROR(VLOOKUP(C153,Worktags!O:T,2,FALSE),\"\")","v":"Educational Facilities - Rent/Lease <=1yr"},{"$f":"IFERROR(VLOOKUP(IF(C153=\"\",B153&\"||\"&B153,C153&\"||\"&B153),Worktags!AR:AV,5,FALSE),\"\")","v":"All"}]
["1400_SC6421 Prepaid Expenses/Employee Development Services",{"$f":"Worktags!AS413","v":"1400"},{"$f":"IF(Worktags!AQ413<>Worktags!AS413,Worktags!AQ413,\"\")","v":"SC6421"},{"$f":"IFERROR(VLOOKUP(B154,Worktags!AL:AO,2,FALSE),\"\")","v":"Prepaid Expenses"},{"$f":"IFERROR(VLOOKUP(C154,Worktags!O:T,2,FALSE),\"\")","v":"Employee Development Services"},{"$f":"IFERROR(VLOOKUP(IF(C154=\"\",B154&\"||\"&B154,C154&\"||\"&B154),Worktags!AR:AV,5,FALSE),\"\")","v":"All"}]
["1400_SC6422 Prepaid Expenses/Food Services and Caterers",{"$f":"Worktags!AS415","v":"1400"},{"$f":"IF(Worktags!AQ415<>Worktags!AS415,Worktags!AQ415,\"\")","v":"SC6422"},{"$f":"IFERROR(VLOOKUP(B155,Worktags!AL:AO,2,FALSE),\"\")","v":"Prepaid Expenses"},{"$f":"IFERROR(VLOOKUP(C155,Worktags!O:T,2,FALSE),\"\")","v":"Food Services and Caterers"},{"$f":"IFERROR(VLOOKUP(IF(C155=\"\",B155&\"||\"&B155,C155&\"||\"&B155),Worktags!AR:AV,5,FALSE),\"\")","v":"All"}]
["1400_SC6424 Prepaid Expenses/Franchise Fees",{"$f":"Worktags!AS418","v":"1400"},{"$f":"IF(Worktags!AQ418<>Worktags!AS418,Worktags!AQ418,\"\")","v":"SC6424"},{"$f":"IFERROR(VLOOKUP(B156,Worktags!AL:AO,2,FALSE),\"\")","v":"Prepaid Expenses"},{"$f":"IFERROR(VLOOKUP(C156,Worktags!O:T,2,FALSE),\"\")","v":"Franchise Fees"},{"$f":"IFERROR(VLOOKUP(IF(C156=\"\",B156&\"||\"&B156,C156&\"||\"&B156),Worktags!AR:AV,5,FALSE),\"\")","v":"All"}]
["1400_SC6425 Prepaid Expenses/Government Fees",{"$f":"Worktags!AS420","v":"1400"},{"$f":"IF(Worktags!AQ420<>Worktags!AS420,Worktags!AQ420,\"\")","v":"SC6425"},{"$f":"IFERROR(VLOOKUP(B157,Worktags!AL:AO,2,FALSE),\"\")","v":"Prepaid Expenses"},{"$f":"IFERROR(VLOOKUP(C157,Worktags!O:T,2,FALSE),\"\")","v":"Government Fees"},{"$f":"IFERROR(VLOOKUP(IF(C157=\"\",B157&\"||\"&B157,C157&\"||\"&B157),Worktags!AR:AV,5,FALSE),\"\")","v":"All"}]
["1400_SC6427 Prepaid Expenses/Hosted Entertainment",{"$f":"Worktags!AS423","v":"1400"},{"$f":"IF(Worktags!AQ423<>Worktags!AS423,Worktags!AQ423,\"\")","v":"SC6427"},{"$f":"IFERROR(VLOOKUP(B158,Worktags!AL:AO,2,FALSE),\"\")","v":"Prepaid Expenses"},{"$f":"IFERROR(VLOOKUP(C158,Worktags!O:T,2,FALSE),\"\")","v":"Hosted Entertainment"},{"$f":"IFERROR(VLOOKUP(IF(C158=\"\",B158&\"||\"&B158,C158&\"||\"&B158),Worktags!AR:AV,5,FALSE),\"\")","v":"All"}]
["1400_SC6428 Prepaid Expenses/Hosted Meals",{"$f":"Worktags!AS425","v":"1400"},{"$f":"IF(Worktags!AQ425<>Worktags!AS425,Worktags!AQ425,\"\")","v":"SC6428"},{"$f":"IFERROR(VLOOKUP(B159,Worktags!AL:AO,2,FALSE),\"\")","v":"Prepaid Expenses"},{"$f":"IFERROR(VLOOKUP(C159,Worktags!O:T,2,FALSE),\"\")","v":"Hosted Meals"},{"$f":"IFERROR(VLOOKUP(IF(C159=\"\",B159&\"||\"&B159,C159&\"||\"&B159),Worktags!AR:AV,5,FALSE),\"\")","v":"All"}]
["1400_SC6429 Prepaid Expenses/Insurance",{"$f":"Worktags!AS427","v":"1400"},{"$f":"IF(Worktags!AQ427<>Worktags!AS427,Worktags!AQ427,\"\")","v":"SC6429"},{"$f":"IFERROR(VLOOKUP(B160,Worktags!AL:AO,2,FALSE),\"\")","v":"Prepaid Expenses"},{"$f":"IFERROR(VLOOKUP(C160,Worktags!O:T,2,FALSE),\"\")","v":"Insurance"},{"$f":"IFERROR(VLOOKUP(IF(C160=\"\",B160&\"||\"&B160,C160&\"||\"&B160),Worktags!AR:AV,5,FALSE),\"\")","v":"All"}]
["1400_SC6430 Prepaid Expenses/Janitorial Services",{"$f":"Worktags!AS429","v":"1400"},{"$f":"IF(Worktags!AQ429<>Worktags!AS429,Worktags!AQ429,\"\")","v":"SC6430"},{"$f":"IFERROR(VLOOKUP(B161,Worktags!AL:AO,2,FALSE),\"\")","v":"Prepaid Expenses"},{"$f":"IFERROR(VLOOKUP(C161,Worktags!O:T,2,FALSE),\"\")","v":"Janitorial Services"},{"$f":"IFERROR(VLOOKUP(IF(C161=\"\",B161&\"||\"&B161,C161&\"||\"&B161),Worktags!AR:AV,5,FALSE),\"\")","v":"All"}]
["1400_SC6431 Prepaid Expenses/Laundry Services",{"$f":"Worktags!AS431","v":"1400"},{"$f":"IF(Worktags!AQ431<>Worktags!AS431,Worktags!AQ431,\"\")","v":"SC6431"},{"$f":"IFERROR(VLOOKUP(B162,Worktags!AL:AO,2,FALSE),\"\")","v":"Prepaid Expenses"},{"$f":"IFERROR(VLOOKUP(C162,Worktags!O:T,2,FALSE),\"\")","v":"Laundry Services"},{"$f":"IFERROR(VLOOKUP(IF(C162=\"\",B162&\"||\"&B162,C162&\"||\"&B162),Worktags!AR:AV,5,FALSE),\"\")","v":"All"}]
["1400_SC6432 Prepaid Expenses/Legal Services",{"$f":"Worktags!AS433","v":"1400"},{"$f":"IF(Worktags!AQ433<>Worktags!AS433,Worktags!AQ433,\"\")","v":"SC6432"},{"$f":"IFERROR(VLOOKUP(B163,Worktags!AL:AO,2,FALSE),\"\")","v":"Prepaid Expenses"},{"$f":"IFERROR(VLOOKUP(C163,Worktags!O:T,2,FALSE),\"\")","v":"Legal Services"},{"$f":"IFERROR(VLOOKUP(IF(C163=\"\",B163&\"||\"&B163,C163&\"||\"&B163),Worktags!AR:AV,5,FALSE),\"\")","v":"All"}]
["1400_SC6433 Prepaid Expenses/Medical Services",{"$f":"Worktags!AS435","v":"1400"},{"$f":"IF(Worktags!AQ435<>Worktags!AS435,Worktags!AQ435,\"\")","v":"SC6433"},{"$f":"IFERROR(VLOOKUP(B164,Worktags!AL:AO,2,FALSE),\"\")","v":"Prepaid Expenses"},{"$f":"IFERROR(VLOOKUP(C164,Worktags!O:T,2,FALSE),\"\")","v":"Medical Services"},{"$f":"IFERROR(VLOOKUP(IF(C164=\"\",B164&\"||\"&B164,C164&\"||\"&B164),Worktags!AR:AV,5,FALSE),\"\")","v":"All"}]
["1400_SC6434 Prepaid Expenses/Membership Dues",{"$f":"Worktags!AS437","v":"1400"},{"$f":"IF(Worktags!AQ437<>Worktags!AS437,Worktags!AQ437,\"\")","v":"SC6434"},{"$f":"IFERROR(VLOOKUP(B165,Worktags!AL:AO,2,FALSE),\"\")","v":"Prepaid Expenses"},{"$f":"IFERROR(VLOOKUP(C165,Worktags!O:T,2,FALSE),\"\")","v":"Membership Dues"},{"$f":"IFERROR(VLOOKUP(IF(C165=\"\",B165&\"||\"&B165,C165&\"||\"&B165),Worktags!AR:AV,5,FALSE),\"\")","v":"All"}]
["1400_SC6435 Prepaid Expenses/Misc Independent Contractors",{"$f":"Worktags!AS439","v":"1400"},{"$f":"IF(Worktags!AQ439<>Worktags!AS439,Worktags!AQ439,\"\")","v":"SC6435"},{"$f":"IFERROR(VLOOKUP(B166,Worktags!AL:AO,2,FALSE),\"\")","v":"Prepaid Expenses"},{"$f":"IFERROR(VLOOKUP(C166,Worktags!O:T,2,FALSE),\"\")","v":"Misc Independent Contractors"},{"$f":"IFERROR(VLOOKUP(IF(C166=\"\",B166&\"||\"&B166,C166&\"||\"&B166),Worktags!AR:AV,5,FALSE),\"\")","v":"All"}]
["1400_SC6438 Prepaid Expenses/Performers/Presenters",{"$f":"Worktags!AS445","v":"1400"},{"$f":"IF(Worktags!AQ445<>Worktags!AS445,Worktags!AQ445,\"\")","v":"SC6438"},{"$f":"IFERROR(VLOOKUP(B167,Worktags!AL:AO,2,FALSE),\"\")","v":"Prepaid Expenses"},{"$f":"IFERROR(VLOOKUP(C167,Worktags!O:T,2,FALSE),\"\")","v":"Performers/Presenters"},{"$f":"IFERROR(VLOOKUP(IF(C167=\"\",B167&\"||\"&B167,C167&\"||\"&B167),Worktags!AR:AV,5,FALSE),\"\")","v":"All"}]
["1400_SC6439 Prepaid Expenses/Pest Control Services",{"$f":"Worktags!AS447","v":"1400"},{"$f":"IF(Worktags!AQ447<>Worktags!AS447,Worktags!AQ447,\"\")","v":"SC6439"},{"$f":"IFERROR(VLOOKUP(B168,Worktags!AL:AO,2,FALSE),\"\")","v":"Prepaid Expenses"},{"$f":"IFERROR(VLOOKUP(C168,Worktags!O:T,2,FALSE),\"\")","v":"Pest Control Services"},{"$f":"IFERROR(VLOOKUP(IF(C168=\"\",B168&\"||\"&B168,C168&\"||\"&B168),Worktags!AR:AV,5,FALSE),\"\")","v":"All"}]
["1400_SC6440 Prepaid Expenses/Portable Structures-Rent/Lease <=1yr",{"$f":"Worktags!AS449","v":"1400"},{"$f":"IF(Worktags!AQ449<>Worktags!AS449,Worktags!AQ449,\"\")","v":"SC6440"},{"$f":"IFERROR(VLOOKUP(B169,Worktags!AL:AO,2,FALSE),\"\")","v":"Prepaid Expenses"},{"$f":"IFERROR(VLOOKUP(C169,Worktags!O:T,2,FALSE),\"\")","v":"Portable Structures-Rent/Lease <=1yr"},{"$f":"IFERROR(VLOOKUP(IF(C169=\"\",B169&\"||\"&B169,C169&\"||\"&B169),Worktags!AR:AV,5,FALSE),\"\")","v":"All"}]
["1400_SC6441 Prepaid Expenses/Postage, Shipping and Freight",{"$f":"Worktags!AS451","v":"1400"},{"$f":"IF(Worktags!AQ451<>Worktags!AS451,Worktags!AQ451,\"\")","v":"SC6441"},{"$f":"IFERROR(VLOOKUP(B170,Worktags!AL:AO,2,FALSE),\"\")","v":"Prepaid Expenses"},{"$f":"IFERROR(VLOOKUP(C170,Worktags!O:T,2,FALSE),\"\")","v":"Postage, Shipping and Freight"},{"$f":"IFERROR(VLOOKUP(IF(C170=\"\",B170&\"||\"&B170,C170&\"||\"&B170),Worktags!AR:AV,5,FALSE),\"\")","v":"All"}]
["1400_SC6442 Prepaid Expenses/Printing Services",{"$f":"Worktags!AS453","v":"1400"},{"$f":"IF(Worktags!AQ453<>Worktags!AS453,Worktags!AQ453,\"\")","v":"SC6442"},{"$f":"IFERROR(VLOOKUP(B171,Worktags!AL:AO,2,FALSE),\"\")","v":"Prepaid Expenses"},{"$f":"IFERROR(VLOOKUP(C171,Worktags!O:T,2,FALSE),\"\")","v":"Printing Services"},{"$f":"IFERROR(VLOOKUP(IF(C171=\"\",B171&\"||\"&B171,C171&\"||\"&B171),Worktags!AR:AV,5,FALSE),\"\")","v":"All"}]
["1400_SC6443 Prepaid Expenses/Production Services",{"$f":"Worktags!AS455","v":"1400"},{"$f":"IF(Worktags!AQ455<>Worktags!AS455,Worktags!AQ455,\"\")","v":"SC6443"},{"$f":"IFERROR(VLOOKUP(B172,Worktags!AL:AO,2,FALSE),\"\")","v":"Prepaid Expenses"},{"$f":"IFERROR(VLOOKUP(C172,Worktags!O:T,2,FALSE),\"\")","v":"Production Services"},{"$f":"IFERROR(VLOOKUP(IF(C172=\"\",B172&\"||\"&B172,C172&\"||\"&B172),Worktags!AR:AV,5,FALSE),\"\")","v":"All"}]
["1400_SC6444 Prepaid Expenses/Promotional and Branded Items",{"$f":"Worktags!AS457","v":"1400"},{"$f":"IF(Worktags!AQ457<>Worktags!AS457,Worktags!AQ457,\"\")","v":"SC6444"},{"$f":"IFERROR(VLOOKUP(B173,Worktags!AL:AO,2,FALSE),\"\")","v":"Prepaid Expenses"},{"$f":"IFERROR(VLOOKUP(C173,Worktags!O:T,2,FALSE),\"\")","v":"Promotional and Branded Items"},{"$f":"IFERROR(VLOOKUP(IF(C173=\"\",B173&\"||\"&B173,C173&\"||\"&B173),Worktags!AR:AV,5,FALSE),\"\")","v":"All"}]
["1400_SC6445 Prepaid Expenses/Public Safety Services",{"$f":"Worktags!AS459","v":"1400"},{"$f":"IF(Worktags!AQ459<>Worktags!AS459,Worktags!AQ459,\"\")","v":"SC6445"},{"$f":"IFERROR(VLOOKUP(B174,Worktags!AL:AO,2,FALSE),\"\")","v":"Prepaid Expenses"},{"$f":"IFERROR(VLOOKUP(C174,Worktags!O:T,2,FALSE),\"\")","v":"Public Safety Services"},{"$f":"IFERROR(VLOOKUP(IF(C174=\"\",B174&\"||\"&B174,C174&\"||\"&B174),Worktags!AR:AV,5,FALSE),\"\")","v":"All"}]
["1400_SC6446 Prepaid Expenses/Publication Services",{"$f":"Worktags!AS461","v":"1400"},{"$f":"IF(Worktags!AQ461<>Worktags!AS461,Worktags!AQ461,\"\")","v":"SC6446"},{"$f":"IFERROR(VLOOKUP(B175,Worktags!AL:AO,2,FALSE),\"\")","v":"Prepaid Expenses"},{"$f":"IFERROR(VLOOKUP(C175,Worktags!O:T,2,FALSE),\"\")","v":"Publication Services"},{"$f":"IFERROR(VLOOKUP(IF(C175=\"\",B175&\"||\"&B175,C175&\"||\"&B175),Worktags!AR:AV,5,FALSE),\"\")","v":"All"}]
["1400_SC6447 Prepaid Expenses/Real Estate - Rent/Lease <=1yr",{"$f":"Worktags!AS463","v":"1400"},{"$f":"IF(Worktags!AQ463<>Worktags!AS463,Worktags!AQ463,\"\")","v":"SC6447"},{"$f":"IFERROR(VLOOKUP(B176,Worktags!AL:AO,2,FALSE),\"\")","v":"Prepaid Expenses"},{"$f":"IFERROR(VLOOKUP(C176,Worktags!O:T,2,FALSE),\"\")","v":"Real Estate - Rent/Lease <=1yr"},{"$f":"IFERROR(VLOOKUP(IF(C176=\"\",B176&\"||\"&B176,C176&\"||\"&B176),Worktags!AR:AV,5,FALSE),\"\")","v":"All"}]
["1400_SC6448 Prepaid Expenses/Real Estate - Rent/Lease >1yr",{"$f":"Worktags!AS465","v":"1400"},{"$f":"IF(Worktags!AQ465<>Worktags!AS465,Worktags!AQ465,\"\")","v":"SC6448"},{"$f":"IFERROR(VLOOKUP(B177,Worktags!AL:AO,2,FALSE),\"\")","v":"Prepaid Expenses"},{"$f":"IFERROR(VLOOKUP(C177,Worktags!O:T,2,FALSE),\"\")","v":"Real Estate - Rent/Lease >1yr"},{"$f":"IFERROR(VLOOKUP(IF(C177=\"\",B177&\"||\"&B177,C177&\"||\"&B177),Worktags!AR:AV,5,FALSE),\"\")","v":"All"}]
["1400_SC6449 Prepaid Expenses/Rent/Lease < = 1 year",{"$f":"Worktags!AS467","v":"1400"},{"$f":"IF(Worktags!AQ467<>Worktags!AS467,Worktags!AQ467,\"\")","v":"SC6449"},{"$f":"IFERROR(VLOOKUP(B178,Worktags!AL:AO,2,FALSE),\"\")","v":"Prepaid Expenses"},{"$f":"IFERROR(VLOOKUP(C178,Worktags!O:T,2,FALSE),\"\")","v":"Rent/Lease < = 1 year"},{"$f":"IFERROR(VLOOKUP(IF(C178=\"\",B178&\"||\"&B178,C178&\"||\"&B178),Worktags!AR:AV,5,FALSE),\"\")","v":"All"}]
["1400_SC6450 Prepaid Expenses/Rent/Lease >1 Year",{"$f":"Worktags!AS471","v":"1400"},{"$f":"IF(Worktags!AQ471<>Worktags!AS471,Worktags!AQ471,\"\")","v":"SC6450"},{"$f":"IFERROR(VLOOKUP(B179,Worktags!AL:AO,2,FALSE),\"\")","v":"Prepaid Expenses"},{"$f":"IFERROR(VLOOKUP(C179,Worktags!O:T,2,FALSE),\"\")","v":"Rent/Lease >1 Year"},{"$f":"IFERROR(VLOOKUP(IF(C179=\"\",B179&\"||\"&B179,C179&\"||\"&B179),Worktags!AR:AV,5,FALSE),\"\")","v":"All"}]
["1400_SC6451 Prepaid Expenses/Research Subjects",{"$f":"Worktags!AS475","v":"1400"},{"$f":"IF(Worktags!AQ475<>Worktags!AS475,Worktags!AQ475,\"\")","v":"SC6451"},{"$f":"IFERROR(VLOOKUP(B180,Worktags!AL:AO,2,FALSE),\"\")","v":"Prepaid Expenses"},{"$f":"IFERROR(VLOOKUP(C180,Worktags!O:T,2,FALSE),\"\")","v":"Research Subjects"},{"$f":"IFERROR(VLOOKUP(IF(C180=\"\",B180&\"||\"&B180,C180&\"||\"&B180),Worktags!AR:AV,5,FALSE),\"\")","v":"All"}]
["1400_SC6452 Prepaid Expenses/Royalties and Licensing Fees",{"$f":"Worktags!AS477","v":"1400"},{"$f":"IF(Worktags!AQ477<>Worktags!AS477,Worktags!AQ477,\"\")","v":"SC6452"},{"$f":"IFERROR(VLOOKUP(B181,Worktags!AL:AO,2,FALSE),\"\")","v":"Prepaid Expenses"},{"$f":"IFERROR(VLOOKUP(C181,Worktags!O:T,2,FALSE),\"\")","v":"Royalties and Licensing Fees"},{"$f":"IFERROR(VLOOKUP(IF(C181=\"\",B181&\"||\"&B181,C181&\"||\"&B181),Worktags!AR:AV,5,FALSE),\"\")","v":"All"}]
["1400_SC6453 Prepaid Expenses/Scientific Services",{"$f":"Worktags!AS479","v":"1400"},{"$f":"IF(Worktags!AQ479<>Worktags!AS479,Worktags!AQ479,\"\")","v":"SC6453"},{"$f":"IFERROR(VLOOKUP(B182,Worktags!AL:AO,2,FALSE),\"\")","v":"Prepaid Expenses"},{"$f":"IFERROR(VLOOKUP(C182,Worktags!O:T,2,FALSE),\"\")","v":"Scientific Services"},{"$f":"IFERROR(VLOOKUP(IF(C182=\"\",B182&\"||\"&B182,C182&\"||\"&B182),Worktags!AR:AV,5,FALSE),\"\")","v":"All"}]
["1400_SC6454 Prepaid Expenses/Screening Services",{"$f":"Worktags!AS481","v":"1400"},{"$f":"IF(Worktags!AQ481<>Worktags!AS481,Worktags!AQ481,\"\")","v":"SC6454"},{"$f":"IFERROR(VLOOKUP(B183,Worktags!AL:AO,2,FALSE),\"\")","v":"Prepaid Expenses"},{"$f":"IFERROR(VLOOKUP(C183,Worktags!O:T,2,FALSE),\"\")","v":"Screening Services"},{"$f":"IFERROR(VLOOKUP(IF(C183=\"\",B183&\"||\"&B183,C183&\"||\"&B183),Worktags!AR:AV,5,FALSE),\"\")","v":"All"}]
["1400_SC6455 Prepaid Expenses/Services (not otherwise specified)",{"$f":"Worktags!AS483","v":"1400"},{"$f":"IF(Worktags!AQ483<>Worktags!AS483,Worktags!AQ483,\"\")","v":"SC6455"},{"$f":"IFERROR(VLOOKUP(B184,Worktags!AL:AO,2,FALSE),\"\")","v":"Prepaid Expenses"},{"$f":"IFERROR(VLOOKUP(C184,Worktags!O:T,2,FALSE),\"\")","v":"Services (not otherwise specified)"},{"$f":"IFERROR(VLOOKUP(IF(C184=\"\",B184&\"||\"&B184,C184&\"||\"&B184),Worktags!AR:AV,5,FALSE),\"\")","v":"All"}]
["1400_SC6456 Prepaid Expenses/Shared Partner Services",{"$f":"Worktags!AS487","v":"1400"},{"$f":"IF(Worktags!AQ487<>Worktags!AS487,Worktags!AQ487,\"\")","v":"SC6456"},{"$f":"IFERROR(VLOOKUP(B185,Worktags!AL:AO,2,FALSE),\"\")","v":"Prepaid Expenses"},{"$f":"IFERROR(VLOOKUP(C185,Worktags!O:T,2,FALSE),\"\")","v":"Shared Partner Services"},{"$f":"IFERROR(VLOOKUP(IF(C185=\"\",B185&\"||\"&B185,C185&\"||\"&B185),Worktags!AR:AV,5,FALSE),\"\")","v":"All"}]
["1400_SC6457 Prepaid Expenses/Student Teacher Supervision",{"$f":"Worktags!AS489","v":"1400"},{"$f":"IF(Worktags!AQ489<>Worktags!AS489,Worktags!AQ489,\"\")","v":"SC6457"},{"$f":"IFERROR(VLOOKUP(B186,Worktags!AL:AO,2,FALSE),\"\")","v":"Prepaid Expenses"},{"$f":"IFERROR(VLOOKUP(C186,Worktags!O:T,2,FALSE),\"\")","v":"Student Teacher Supervision"},{"$f":"IFERROR(VLOOKUP(IF(C186=\"\",B186&\"||\"&B186,C186&\"||\"&B186),Worktags!AR:AV,5,FALSE),\"\")","v":"All"}]
["1400_SC6458 Prepaid Expenses/Subscriptions",{"$f":"Worktags!AS491","v":"1400"},{"$f":"IF(Worktags!AQ491<>Worktags!AS491,Worktags!AQ491,\"\")","v":"SC6458"},{"$f":"IFERROR(VLOOKUP(B187,Worktags!AL:AO,2,FALSE),\"\")","v":"Prepaid Expenses"},{"$f":"IFERROR(VLOOKUP(C187,Worktags!O:T,2,FALSE),\"\")","v":"Subscriptions"},{"$f":"IFERROR(VLOOKUP(IF(C187=\"\",B187&\"||\"&B187,C187&\"||\"&B187),Worktags!AR:AV,5,FALSE),\"\")","v":"All"}]
["1400_SC6459 Prepaid Expenses/Taxes",{"$f":"Worktags!AS493","v":"1400"},{"$f":"IF(Worktags!AQ493<>Worktags!AS493,Worktags!AQ493,\"\")","v":"SC6459"},{"$f":"IFERROR(VLOOKUP(B188,Worktags!AL:AO,2,FALSE),\"\")","v":"Prepaid Expenses"},{"$f":"IFERROR(VLOOKUP(C188,Worktags!O:T,2,FALSE),\"\")","v":"Taxes"},{"$f":"IFERROR(VLOOKUP(IF(C188=\"\",B188&\"||\"&B188,C188&\"||\"&B188),Worktags!AR:AV,5,FALSE),\"\")","v":"All"}]
["1400_SC6460 Prepaid Expenses/Testing Services",{"$f":"Worktags!AS495","v":"1400"},{"$f":"IF(Worktags!AQ495<>Worktags!AS495,Worktags!AQ495,\"\")","v":"SC6460"},{"$f":"IFERROR(VLOOKUP(B189,Worktags!AL:AO,2,FALSE),\"\")","v":"Prepaid Expenses"},{"$f":"IFERROR(VLOOKUP(C189,Worktags!O:T,2,FALSE),\"\")","v":"Testing Services"},{"$f":"IFERROR(VLOOKUP(IF(C189=\"\",B189&\"||\"&B189,C189&\"||\"&B189),Worktags!AR:AV,5,FALSE),\"\")","v":"All"}]
["1400_SC6461 Prepaid Expenses/TV, Media Subscription Services",{"$f":"Worktags!AS497","v":"1400"},{"$f":"IF(Worktags!AQ497<>Worktags!AS497,Worktags!AQ497,\"\")","v":"SC6461"},{"$f":"IFERROR(VLOOKUP(B190,Worktags!AL:AO,2,FALSE),\"\")","v":"Prepaid Expenses"},{"$f":"IFERROR(VLOOKUP(C190,Worktags!O:T,2,FALSE),\"\")","v":"TV, Media Subscription Services"},{"$f":"IFERROR(VLOOKUP(IF(C190=\"\",B190&\"||\"&B190,C190&\"||\"&B190),Worktags!AR:AV,5,FALSE),\"\")","v":"All"}]
["1400_SC6463 Prepaid Expenses/Waste Disposal Services",{"$f":"Worktags!AS500","v":"1400"},{"$f":"IF(Worktags!AQ500<>Worktags!AS500,Worktags!AQ500,\"\")","v":"SC6463"},{"$f":"IFERROR(VLOOKUP(B191,Worktags!AL:AO,2,FALSE),\"\")","v":"Prepaid Expenses"},{"$f":"IFERROR(VLOOKUP(C191,Worktags!O:T,2,FALSE),\"\")","v":"Waste Disposal Services"},{"$f":"IFERROR(VLOOKUP(IF(C191=\"\",B191&\"||\"&B191,C191&\"||\"&B191),Worktags!AR:AV,5,FALSE),\"\")","v":"All"}]
["1400_SC6466 Prepaid Expenses/Income Taxes",{"$f":"Worktags!AS504","v":"1400"},{"$f":"IF(Worktags!AQ504<>Worktags!AS504,Worktags!AQ504,\"\")","v":"SC6466"},{"$f":"IFERROR(VLOOKUP(B192,Worktags!AL:AO,2,FALSE),\"\")","v":"Prepaid Expenses"},{"$f":"IFERROR(VLOOKUP(C192,Worktags!O:T,2,FALSE),\"\")","v":"Income Taxes"},{"$f":"IFERROR(VLOOKUP(IF(C192=\"\",B192&\"||\"&B192,C192&\"||\"&B192),Worktags!AR:AV,5,FALSE),\"\")","v":"All"}]
[{"$f":"IF(B193<>\"\",IF(C193<>\"\",B193&\"_\"&C193&\" \"&D193&\"/\"&E193,B193&\" \"&D193),\"\")","v":"1400_SC6499 Prepaid Expenses/General and Administrative (reclass)"},{"$f":"Worktags!AS507","v":"1400"},{"$f":"IF(Worktags!AQ507<>Worktags!AS507,Worktags!AQ507,\"\")","v":"SC6499"},{"$f":"IFERROR(VLOOKUP(B193,Worktags!AL:AO,2,FALSE),\"\")","v":"Prepaid Expenses"},{"$f":"IFERROR(VLOOKUP(C193,Worktags!O:T,2,FALSE),\"\")","v":"General and Administrative (reclass)"},{"$f":"IFERROR(VLOOKUP(IF(C193=\"\",B193&\"||\"&B193,C193&\"||\"&B193),Worktags!AR:AV,5,FALSE),\"\")","v":"All"}]
["1400_SC6701 Prepaid Expenses/Building Access Supplies",{"$f":"Worktags!AS512","v":"1400"},{"$f":"IF(Worktags!AQ512<>Worktags!AS512,Worktags!AQ512,\"\")","v":"SC6701"},{"$f":"IFERROR(VLOOKUP(B194,Worktags!AL:AO,2,FALSE),\"\")","v":"Prepaid Expenses"},{"$f":"IFERROR(VLOOKUP(C194,Worktags!O:T,2,FALSE),\"\")","v":"Building Access Supplies"},{"$f":"IFERROR(VLOOKUP(IF(C194=\"\",B194&\"||\"&B194,C194&\"||\"&B194),Worktags!AR:AV,5,FALSE),\"\")","v":"All"}]
["1400_SC6702 Prepaid Expenses/Building Construction and Improvements",{"$f":"Worktags!AS519","v":"1400"},{"$f":"IF(Worktags!AQ519<>Worktags!AS519,Worktags!AQ519,\"\")","v":"SC6702"},{"$f":"IFERROR(VLOOKUP(B195,Worktags!AL:AO,2,FALSE),\"\")","v":"Prepaid Expenses"},{"$f":"IFERROR(VLOOKUP(C195,Worktags!O:T,2,FALSE),\"\")","v":"Building Construction and Improvements"},{"$f":"IFERROR(VLOOKUP(IF(C195=\"\",B195&\"||\"&B195,C195&\"||\"&B195),Worktags!AR:AV,5,FALSE),\"\")","v":"All"}]
["1400_SC6703 Prepaid Expenses/Building Furnishings",{"$f":"Worktags!AS526","v":"1400"},{"$f":"IF(Worktags!AQ526<>Worktags!AS526,Worktags!AQ526,\"\")","v":"SC6703"},{"$f":"IFERROR(VLOOKUP(B196,Worktags!AL:AO,2,FALSE),\"\")","v":"Prepaid Expenses"},{"$f":"IFERROR(VLOOKUP(C196,Worktags!O:T,2,FALSE),\"\")","v":"Building Furnishings"},{"$f":"IFERROR(VLOOKUP(IF(C196=\"\",B196&\"||\"&B196,C196&\"||\"&B196),Worktags!AR:AV,5,FALSE),\"\")","v":"All"}]
["1400_SC6704 Prepaid Expenses/Building Materials - Finishing",{"$f":"Worktags!AS533","v":"1400"},{"$f":"IF(Worktags!AQ533<>Worktags!AS533,Worktags!AQ533,\"\")","v":"SC6704"},{"$f":"IFERROR(VLOOKUP(B197,Worktags!AL:AO,2,FALSE),\"\")","v":"Prepaid Expenses"},{"$f":"IFERROR(VLOOKUP(C197,Worktags!O:T,2,FALSE),\"\")","v":"Building Materials - Finishing"},{"$f":"IFERROR(VLOOKUP(IF(C197=\"\",B197&\"||\"&B197,C197&\"||\"&B197),Worktags!AR:AV,5,FALSE),\"\")","v":"All"}]
["1400_SC6705 Prepaid Expenses/Building Materials - Raw",{"$f":"Worktags!AS540","v":"1400"},{"$f":"IF(Worktags!AQ540<>Worktags!AS540,Worktags!AQ540,\"\")","v":"SC6705"},{"$f":"IFERROR(VLOOKUP(B198,Worktags!AL:AO,2,FALSE),\"\")","v":"Prepaid Expenses"},{"$f":"IFERROR(VLOOKUP(C198,Worktags!O:T,2,FALSE),\"\")","v":"Building Materials - Raw"},{"$f":"IFERROR(VLOOKUP(IF(C198=\"\",B198&\"||\"&B198,C198&\"||\"&B198),Worktags!AR:AV,5,FALSE),\"\")","v":"All"}]
["1400_SC6706 Prepaid Expenses/Electrical Devices",{"$f":"Worktags!AS547","v":"1400"},{"$f":"IF(Worktags!AQ547<>Worktags!AS547,Worktags!AQ547,\"\")","v":"SC6706"},{"$f":"IFERROR(VLOOKUP(B199,Worktags!AL:AO,2,FALSE),\"\")","v":"Prepaid Expenses"},{"$f":"IFERROR(VLOOKUP(C199,Worktags!O:T,2,FALSE),\"\")","v":"Electrical Devices"},{"$f":"IFERROR(VLOOKUP(IF(C199=\"\",B199&\"||\"&B199,C199&\"||\"&B199),Worktags!AR:AV,5,FALSE),\"\")","v":"All"}]
["1400_SC6707 Prepaid Expenses/Electrical Supplies",{"$f":"Worktags!AS554","v":"1400"},{"$f":"IF(Worktags!AQ554<>Worktags!AS554,Worktags!AQ554,\"\")","v":"SC6707"},{"$f":"IFERROR(VLOOKUP(B200,Worktags!AL:AO,2,FALSE),\"\")","v":"Prepaid Expenses"},{"$f":"IFERROR(VLOOKUP(C200,Worktags!O:T,2,FALSE),\"\")","v":"Electrical Supplies"},{"$f":"IFERROR(VLOOKUP(IF(C200=\"\",B200&\"||\"&B200,C200&\"||\"&B200),Worktags!AR:AV,5,FALSE),\"\")","v":"All"}]
["1400_SC6708 Prepaid Expenses/Fans/Furnaces",{"$f":"Worktags!AS558","v":"1400"},{"$f":"IF(Worktags!AQ558<>Worktags!AS558,Worktags!AQ558,\"\")","v":"SC6708"},{"$f":"IFERROR(VLOOKUP(B201,Worktags!AL:AO,2,FALSE),\"\")","v":"Prepaid Expenses"},{"$f":"IFERROR(VLOOKUP(C201,Worktags!O:T,2,FALSE),\"\")","v":"Fans/Furnaces"},{"$f":"IFERROR(VLOOKUP(IF(C201=\"\",B201&\"||\"&B201,C201&\"||\"&B201),Worktags!AR:AV,5,FALSE),\"\")","v":"All"}]
["1400_SC6709 Prepaid Expenses/Flooring Materials",{"$f":"Worktags!AS565","v":"1400"},{"$f":"IF(Worktags!AQ565<>Worktags!AS565,Worktags!AQ565,\"\")","v":"SC6709"},{"$f":"IFERROR(VLOOKUP(B202,Worktags!AL:AO,2,FALSE),\"\")","v":"Prepaid Expenses"},{"$f":"IFERROR(VLOOKUP(C202,Worktags!O:T,2,FALSE),\"\")","v":"Flooring Materials"},{"$f":"IFERROR(VLOOKUP(IF(C202=\"\",B202&\"||\"&B202,C202&\"||\"&B202),Worktags!AR:AV,5,FALSE),\"\")","v":"All"}]
["1400_SC6710 Prepaid Expenses/Furnishing Accessories",{"$f":"Worktags!AS572","v":"1400"},{"$f":"IF(Worktags!AQ572<>Worktags!AS572,Worktags!AQ572,\"\")","v":"SC6710"},{"$f":"IFERROR(VLOOKUP(B203,Worktags!AL:AO,2,FALSE),\"\")","v":"Prepaid Expenses"},{"$f":"IFERROR(VLOOKUP(C203,Worktags!O:T,2,FALSE),\"\")","v":"Furnishing Accessories"},{"$f":"IFERROR(VLOOKUP(IF(C203=\"\",B203&\"||\"&B203,C203&\"||\"&B203),Worktags!AR:AV,5,FALSE),\"\")","v":"All"}]
["1400_SC6711 Prepaid Expenses/Grounds and Landscaping Supplies",{"$f":"Worktags!AS579","v":"1400"},{"$f":"IF(Worktags!AQ579<>Worktags!AS579,Worktags!AQ579,\"\")","v":"SC6711"},{"$f":"IFERROR(VLOOKUP(B204,Worktags!AL:AO,2,FALSE),\"\")","v":"Prepaid Expenses"},{"$f":"IFERROR(VLOOKUP(C204,Worktags!O:T,2,FALSE),\"\")","v":"Grounds and Landscaping Supplies"},{"$f":"IFERROR(VLOOKUP(IF(C204=\"\",B204&\"||\"&B204,C204&\"||\"&B204),Worktags!AR:AV,5,FALSE),\"\")","v":"All"}]
["1400_SC6712 Prepaid Expenses/Grounds Services",{"$f":"Worktags!AS586","v":"1400"},{"$f":"IF(Worktags!AQ586<>Worktags!AS586,Worktags!AQ586,\"\")","v":"SC6712"},{"$f":"IFERROR(VLOOKUP(B205,Worktags!AL:AO,2,FALSE),\"\")","v":"Prepaid Expenses"},{"$f":"IFERROR(VLOOKUP(C205,Worktags!O:T,2,FALSE),\"\")","v":"Grounds Services"},{"$f":"IFERROR(VLOOKUP(IF(C205=\"\",B205&\"||\"&B205,C205&\"||\"&B205),Worktags!AR:AV,5,FALSE),\"\")","v":"All"}]
["1400_SC6713 Prepaid Expenses/Industrial Fixtures",{"$f":"Worktags!AS588","v":"1400"},{"$f":"IF(Worktags!AQ588<>Worktags!AS588,Worktags!AQ588,\"\")","v":"SC6713"},{"$f":"IFERROR(VLOOKUP(B206,Worktags!AL:AO,2,FALSE),\"\")","v":"Prepaid Expenses"},{"$f":"IFERROR(VLOOKUP(C206,Worktags!O:T,2,FALSE),\"\")","v":"Industrial Fixtures"},{"$f":"IFERROR(VLOOKUP(IF(C206=\"\",B206&\"||\"&B206,C206&\"||\"&B206),Worktags!AR:AV,5,FALSE),\"\")","v":"All"}]
["1400_SC6714 Prepaid Expenses/Lighting Fixtures and Lamps",{"$f":"Worktags!AS595","v":"1400"},{"$f":"IF(Worktags!AQ595<>Worktags!AS595,Worktags!AQ595,\"\")","v":"SC6714"},{"$f":"IFERROR(VLOOKUP(B207,Worktags!AL:AO,2,FALSE),\"\")","v":"Prepaid Expenses"},{"$f":"IFERROR(VLOOKUP(C207,Worktags!O:T,2,FALSE),\"\")","v":"Lighting Fixtures and Lamps"},{"$f":"IFERROR(VLOOKUP(IF(C207=\"\",B207&\"||\"&B207,C207&\"||\"&B207),Worktags!AR:AV,5,FALSE),\"\")","v":"All"}]
["1400_SC6715 Prepaid Expenses/Plumbing Fixtures",{"$f":"Worktags!AS602","v":"1400"},{"$f":"IF(Worktags!AQ602<>Worktags!AS602,Worktags!AQ602,\"\")","v":"SC6715"},{"$f":"IFERROR(VLOOKUP(B208,Worktags!AL:AO,2,FALSE),\"\")","v":"Prepaid Expenses"},{"$f":"IFERROR(VLOOKUP(C208,Worktags!O:T,2,FALSE),\"\")","v":"Plumbing Fixtures"},{"$f":"IFERROR(VLOOKUP(IF(C208=\"\",B208&\"||\"&B208,C208&\"||\"&B208),Worktags!AR:AV,5,FALSE),\"\")","v":"All"}]
["1400_SC6718 Prepaid Expenses/Signage, Electronic",{"$f":"Worktags!AS615","v":"1400"},{"$f":"IF(Worktags!AQ615<>Worktags!AS615,Worktags!AQ615,\"\")","v":"SC6718"},{"$f":"IFERROR(VLOOKUP(B209,Worktags!AL:AO,2,FALSE),\"\")","v":"Prepaid Expenses"},{"$f":"IFERROR(VLOOKUP(C209,Worktags!O:T,2,FALSE),\"\")","v":"Signage, Electronic"},{"$f":"IFERROR(VLOOKUP(IF(C209=\"\",B209&\"||\"&B209,C209&\"||\"&B209),Worktags!AR:AV,5,FALSE),\"\")","v":"All"}]
["1400_SC6719 Prepaid Expenses/Signage, Non-electronic",{"$f":"Worktags!AS622","v":"1400"},{"$f":"IF(Worktags!AQ622<>Worktags!AS622,Worktags!AQ622,\"\")","v":"SC6719"},{"$f":"IFERROR(VLOOKUP(B210,Worktags!AL:AO,2,FALSE),\"\")","v":"Prepaid Expenses"},{"$f":"IFERROR(VLOOKUP(C210,Worktags!O:T,2,FALSE),\"\")","v":"Signage, Non-electronic"},{"$f":"IFERROR(VLOOKUP(IF(C210=\"\",B210&\"||\"&B210,C210&\"||\"&B210),Worktags!AR:AV,5,FALSE),\"\")","v":"All"}]
["1400_SC6720 Prepaid Expenses/Specialized Trade Services - Physical Facilities",{"$f":"Worktags!AS629","v":"1400"},{"$f":"IF(Worktags!AQ629<>Worktags!AS629,Worktags!AQ629,\"\")","v":"SC6720"},{"$f":"IFERROR(VLOOKUP(B211,Worktags!AL:AO,2,FALSE),\"\")","v":"Prepaid Expenses"},{"$f":"IFERROR(VLOOKUP(C211,Worktags!O:T,2,FALSE),\"\")","v":"Specialized Trade Services - Physical Facilities"},{"$f":"IFERROR(VLOOKUP(IF(C211=\"\",B211&\"||\"&B211,C211&\"||\"&B211),Worktags!AR:AV,5,FALSE),\"\")","v":"All"}]
["1400_SC6721 Prepaid Expenses/Stage and Studio Lighting (Asset Track)",{"$f":"Worktags!AS633","v":"1400"},{"$f":"IF(Worktags!AQ633<>Worktags!AS633,Worktags!AQ633,\"\")","v":"SC6721"},{"$f":"IFERROR(VLOOKUP(B212,Worktags!AL:AO,2,FALSE),\"\")","v":"Prepaid Expenses"},{"$f":"IFERROR(VLOOKUP(C212,Worktags!O:T,2,FALSE),\"\")","v":"Stage and Studio Lighting (Asset Track)"},{"$f":"IFERROR(VLOOKUP(IF(C212=\"\",B212&\"||\"&B212,C212&\"||\"&B212),Worktags!AR:AV,5,FALSE),\"\")","v":"All"}]
["1400_SC6722 Prepaid Expenses/Utilities, Electricity",{"$f":"Worktags!AS640","v":"1400"},{"$f":"IF(Worktags!AQ640<>Worktags!AS640,Worktags!AQ640,\"\")","v":"SC6722"},{"$f":"IFERROR(VLOOKUP(B213,Worktags!AL:AO,2,FALSE),\"\")","v":"Prepaid Expenses"},{"$f":"IFERROR(VLOOKUP(C213,Worktags!O:T,2,FALSE),\"\")","v":"Utilities, Electricity"},{"$f":"IFERROR(VLOOKUP(IF(C213=\"\",B213&\"||\"&B213,C213&\"||\"&B213),Worktags!AR:AV,5,FALSE),\"\")","v":"All"}]
["1400_SC6723 Prepaid Expenses/Utilities, Garbage Hauling",{"$f":"Worktags!AS642","v":"1400"},{"$f":"IF(Worktags!AQ642<>Worktags!AS642,Worktags!AQ642,\"\")","v":"SC6723"},{"$f":"IFERROR(VLOOKUP(B214,Worktags!AL:AO,2,FALSE),\"\")","v":"Prepaid Expenses"},{"$f":"IFERROR(VLOOKUP(C214,Worktags!O:T,2,FALSE),\"\")","v":"Utilities, Garbage Hauling"},{"$f":"IFERROR(VLOOKUP(IF(C214=\"\",B214&\"||\"&B214,C214&\"||\"&B214),Worktags!AR:AV,5,FALSE),\"\")","v":"All"}]
["1400_SC6724 Prepaid Expenses/Utilities, Heat/Cool Unit",{"$f":"Worktags!AS644","v":"1400"},{"$f":"IF(Worktags!AQ644<>Worktags!AS644,Worktags!AQ644,\"\")","v":"SC6724"},{"$f":"IFERROR(VLOOKUP(B215,Worktags!AL:AO,2,FALSE),\"\")","v":"Prepaid Expenses"},{"$f":"IFERROR(VLOOKUP(C215,Worktags!O:T,2,FALSE),\"\")","v":"Utilities, Heat/Cool Unit"},{"$f":"IFERROR(VLOOKUP(IF(C215=\"\",B215&\"||\"&B215,C215&\"||\"&B215),Worktags!AR:AV,5,FALSE),\"\")","v":"All"}]
["1400_SC6725 Prepaid Expenses/Utilities, Natural Gas",{"$f":"Worktags!AS646","v":"1400"},{"$f":"IF(Worktags!AQ646<>Worktags!AS646,Worktags!AQ646,\"\")","v":"SC6725"},{"$f":"IFERROR(VLOOKUP(B216,Worktags!AL:AO,2,FALSE),\"\")","v":"Prepaid Expenses"},{"$f":"IFERROR(VLOOKUP(C216,Worktags!O:T,2,FALSE),\"\")","v":"Utilities, Natural Gas"},{"$f":"IFERROR(VLOOKUP(IF(C216=\"\",B216&\"||\"&B216,C216&\"||\"&B216),Worktags!AR:AV,5,FALSE),\"\")","v":"All"}]
["1400_SC6726 Prepaid Expenses/Utilities, Other",{"$f":"Worktags!AS648","v":"1400"},{"$f":"IF(Worktags!AQ648<>Worktags!AS648,Worktags!AQ648,\"\")","v":"SC6726"},{"$f":"IFERROR(VLOOKUP(B217,Worktags!AL:AO,2,FALSE),\"\")","v":"Prepaid Expenses"},{"$f":"IFERROR(VLOOKUP(C217,Worktags!O:T,2,FALSE),\"\")","v":"Utilities, Other"},{"$f":"IFERROR(VLOOKUP(IF(C217=\"\",B217&\"||\"&B217,C217&\"||\"&B217),Worktags!AR:AV,5,FALSE),\"\")","v":"All"}]
["1400_SC6727 Prepaid Expenses/Utilities, Sewer",{"$f":"Worktags!AS650","v":"1400"},{"$f":"IF(Worktags!AQ650<>Worktags!AS650,Worktags!AQ650,\"\")","v":"SC6727"},{"$f":"IFERROR(VLOOKUP(B218,Worktags!AL:AO,2,FALSE),\"\")","v":"Prepaid Expenses"},{"$f":"IFERROR(VLOOKUP(C218,Worktags!O:T,2,FALSE),\"\")","v":"Utilities, Sewer"},{"$f":"IFERROR(VLOOKUP(IF(C218=\"\",B218&\"||\"&B218,C218&\"||\"&B218),Worktags!AR:AV,5,FALSE),\"\")","v":"All"}]
["1400_SC6728 Prepaid Expenses/Utilities, Water",{"$f":"Worktags!AS652","v":"1400"},{"$f":"IF(Worktags!AQ652<>Worktags!AS652,Worktags!AQ652,\"\")","v":"SC6728"},{"$f":"IFERROR(VLOOKUP(B219,Worktags!AL:AO,2,FALSE),\"\")","v":"Prepaid Expenses"},{"$f":"IFERROR(VLOOKUP(C219,Worktags!O:T,2,FALSE),\"\")","v":"Utilities, Water"},{"$f":"IFERROR(VLOOKUP(IF(C219=\"\",B219&\"||\"&B219,C219&\"||\"&B219),Worktags!AR:AV,5,FALSE),\"\")","v":"All"}]
["1400_SC6729 Prepaid Expenses/Warehouse Fixtures",{"$f":"Worktags!AS654","v":"1400"},{"$f":"IF(Worktags!AQ654<>Worktags!AS654,Worktags!AQ654,\"\")","v":"SC6729"},{"$f":"IFERROR(VLOOKUP(B220,Worktags!AL:AO,2,FALSE),\"\")","v":"Prepaid Expenses"},{"$f":"IFERROR(VLOOKUP(C220,Worktags!O:T,2,FALSE),\"\")","v":"Warehouse Fixtures"},{"$f":"IFERROR(VLOOKUP(IF(C220=\"\",B220&\"||\"&B220,C220&\"||\"&B220),Worktags!AR:AV,5,FALSE),\"\")","v":"All"}]
["1400_SC6730 Prepaid Expenses/Window Treatments",{"$f":"Worktags!AS661","v":"1400"},{"$f":"IF(Worktags!AQ661<>Worktags!AS661,Worktags!AQ661,\"\")","v":"SC6730"},{"$f":"IFERROR(VLOOKUP(B221,Worktags!AL:AO,2,FALSE),\"\")","v":"Prepaid Expenses"},{"$f":"IFERROR(VLOOKUP(C221,Worktags!O:T,2,FALSE),\"\")","v":"Window Treatments"},{"$f":"IFERROR(VLOOKUP(IF(C221=\"\",B221&\"||\"&B221,C221&\"||\"&B221),Worktags!AR:AV,5,FALSE),\"\")","v":"All"}]
["1400_SC6799 Prepaid Expenses/Physical Facilities (reclass)",{"$f":"Worktags!AS669","v":"1400"},{"$f":"IF(Worktags!AQ669<>Worktags!AS669,Worktags!AQ669,\"\")","v":"SC6799"},{"$f":"IFERROR(VLOOKUP(B222,Worktags!AL:AO,2,FALSE),\"\")","v":"Prepaid Expenses"},{"$f":"IFERROR(VLOOKUP(C222,Worktags!O:T,2,FALSE),\"\")","v":"Physical Facilities (reclass)"},{"$f":"IFERROR(VLOOKUP(IF(C222=\"\",B222&\"||\"&B222,C222&\"||\"&B222),Worktags!AR:AV,5,FALSE),\"\")","v":"All"}]
["1400_SC6901 Prepaid Expenses/Art Equipment",{"$f":"Worktags!AS673","v":"1400"},{"$f":"IF(Worktags!AQ673<>Worktags!AS673,Worktags!AQ673,\"\")","v":"SC6901"},{"$f":"IFERROR(VLOOKUP(B223,Worktags!AL:AO,2,FALSE),\"\")","v":"Prepaid Expenses"},{"$f":"IFERROR(VLOOKUP(C223,Worktags!O:T,2,FALSE),\"\")","v":"Art Equipment"},{"$f":"IFERROR(VLOOKUP(IF(C223=\"\",B223&\"||\"&B223,C223&\"||\"&B223),Worktags!AR:AV,5,FALSE),\"\")","v":"All"}]
["1400_SC6902 Prepaid Expenses/Athletic Equipment",{"$f":"Worktags!AS680","v":"1400"},{"$f":"IF(Worktags!AQ680<>Worktags!AS680,Worktags!AQ680,\"\")","v":"SC6902"},{"$f":"IFERROR(VLOOKUP(B224,Worktags!AL:AO,2,FALSE),\"\")","v":"Prepaid Expenses"},{"$f":"IFERROR(VLOOKUP(C224,Worktags!O:T,2,FALSE),\"\")","v":"Athletic Equipment"},{"$f":"IFERROR(VLOOKUP(IF(C224=\"\",B224&\"||\"&B224,C224&\"||\"&B224),Worktags!AR:AV,5,FALSE),\"\")","v":"All"}]
["1400_SC6903 Prepaid Expenses/Audio Visual Equipment (Asset Track)",{"$f":"Worktags!AS687","v":"1400"},{"$f":"IF(Worktags!AQ687<>Worktags!AS687,Worktags!AQ687,\"\")","v":"SC6903"},{"$f":"IFERROR(VLOOKUP(B225,Worktags!AL:AO,2,FALSE),\"\")","v":"Prepaid Expenses"},{"$f":"IFERROR(VLOOKUP(C225,Worktags!O:T,2,FALSE),\"\")","v":"Audio Visual Equipment (Asset Track)"},{"$f":"IFERROR(VLOOKUP(IF(C225=\"\",B225&\"||\"&B225,C225&\"||\"&B225),Worktags!AR:AV,5,FALSE),\"\")","v":"All"}]
["1400_SC6904 Prepaid Expenses/Communication Devices (Asset Track)",{"$f":"Worktags!AS694","v":"1400"},{"$f":"IF(Worktags!AQ694<>Worktags!AS694,Worktags!AQ694,\"\")","v":"SC6904"},{"$f":"IFERROR(VLOOKUP(B226,Worktags!AL:AO,2,FALSE),\"\")","v":"Prepaid Expenses"},{"$f":"IFERROR(VLOOKUP(C226,Worktags!O:T,2,FALSE),\"\")","v":"Communication Devices (Asset Track)"},{"$f":"IFERROR(VLOOKUP(IF(C226=\"\",B226&\"||\"&B226,C226&\"||\"&B226),Worktags!AR:AV,5,FALSE),\"\")","v":"All"}]
["1400_SC6905 Prepaid Expenses/Computer Hardware (Asset Track)",{"$f":"Worktags!AS701","v":"1400"},{"$f":"IF(Worktags!AQ701<>Worktags!AS701,Worktags!AQ701,\"\")","v":"SC6905"},{"$f":"IFERROR(VLOOKUP(B227,Worktags!AL:AO,2,FALSE),\"\")","v":"Prepaid Expenses"},{"$f":"IFERROR(VLOOKUP(C227,Worktags!O:T,2,FALSE),\"\")","v":"Computer Hardware (Asset Track)"},{"$f":"IFERROR(VLOOKUP(IF(C227=\"\",B227&\"||\"&B227,C227&\"||\"&B227),Worktags!AR:AV,5,FALSE),\"\")","v":"All"}]
["1400_SC6906 Prepaid Expenses/Data Network Equipment (Asset Track)",{"$f":"Worktags!AS708","v":"1400"},{"$f":"IF(Worktags!AQ708<>Worktags!AS708,Worktags!AQ708,\"\")","v":"SC6906"},{"$f":"IFERROR(VLOOKUP(B228,Worktags!AL:AO,2,FALSE),\"\")","v":"Prepaid Expenses"},{"$f":"IFERROR(VLOOKUP(C228,Worktags!O:T,2,FALSE),\"\")","v":"Data Network Equipment (Asset Track)"},{"$f":"IFERROR(VLOOKUP(IF(C228=\"\",B228&\"||\"&B228,C228&\"||\"&B228),Worktags!AR:AV,5,FALSE),\"\")","v":"All"}]
["1400_SC6907 Prepaid Expenses/Equipment (not otherwise specified) (Asset Track)",{"$f":"Worktags!AS715","v":"1400"},{"$f":"IF(Worktags!AQ715<>Worktags!AS715,Worktags!AQ715,\"\")","v":"SC6907"},{"$f":"IFERROR(VLOOKUP(B229,Worktags!AL:AO,2,FALSE),\"\")","v":"Prepaid Expenses"},{"$f":"IFERROR(VLOOKUP(C229,Worktags!O:T,2,FALSE),\"\")","v":"Equipment (not otherwise specified) (Asset Track)"},{"$f":"IFERROR(VLOOKUP(IF(C229=\"\",B229&\"||\"&B229,C229&\"||\"&B229),Worktags!AR:AV,5,FALSE),\"\")","v":"All"}]
["1400_SC6908 Prepaid Expenses/Equipment Maintenance (not otherwise specified)",{"$f":"Worktags!AS722","v":"1400"},{"$f":"IF(Worktags!AQ722<>Worktags!AS722,Worktags!AQ722,\"\")","v":"SC6908"},{"$f":"IFERROR(VLOOKUP(B230,Worktags!AL:AO,2,FALSE),\"\")","v":"Prepaid Expenses"},{"$f":"IFERROR(VLOOKUP(C230,Worktags!O:T,2,FALSE),\"\")","v":"Equipment Maintenance (not otherwise specified)"},{"$f":"IFERROR(VLOOKUP(IF(C230=\"\",B230&\"||\"&B230,C230&\"||\"&B230),Worktags!AR:AV,5,FALSE),\"\")","v":"All"}]
["1400_SC6909 Prepaid Expenses/Firearms",{"$f":"Worktags!AS724","v":"1400"},{"$f":"IF(Worktags!AQ724<>Worktags!AS724,Worktags!AQ724,\"\")","v":"SC6909"},{"$f":"IFERROR(VLOOKUP(B231,Worktags!AL:AO,2,FALSE),\"\")","v":"Prepaid Expenses"},{"$f":"IFERROR(VLOOKUP(C231,Worktags!O:T,2,FALSE),\"\")","v":"Firearms"},{"$f":"IFERROR(VLOOKUP(IF(C231=\"\",B231&\"||\"&B231,C231&\"||\"&B231),Worktags!AR:AV,5,FALSE),\"\")","v":"All"}]
["1400_SC6910 Prepaid Expenses/Food Service Equipment",{"$f":"Worktags!AS729","v":"1400"},{"$f":"IF(Worktags!AQ729<>Worktags!AS729,Worktags!AQ729,\"\")","v":"SC6910"},{"$f":"IFERROR(VLOOKUP(B232,Worktags!AL:AO,2,FALSE),\"\")","v":"Prepaid Expenses"},{"$f":"IFERROR(VLOOKUP(C232,Worktags!O:T,2,FALSE),\"\")","v":"Food Service Equipment"},{"$f":"IFERROR(VLOOKUP(IF(C232=\"\",B232&\"||\"&B232,C232&\"||\"&B232),Worktags!AR:AV,5,FALSE),\"\")","v":"All"}]
["1400_SC6911 Prepaid Expenses/Grants Capital Equipment",{"$f":"Worktags!AS736","v":"1400"},{"$f":"IF(Worktags!AQ736<>Worktags!AS736,Worktags!AQ736,\"\")","v":"SC6911"},{"$f":"IFERROR(VLOOKUP(B233,Worktags!AL:AO,2,FALSE),\"\")","v":"Prepaid Expenses"},{"$f":"IFERROR(VLOOKUP(C233,Worktags!O:T,2,FALSE),\"\")","v":"Grants Capital Equipment"},{"$f":"IFERROR(VLOOKUP(IF(C233=\"\",B233&\"||\"&B233,C233&\"||\"&B233),Worktags!AR:AV,5,FALSE),\"\")","v":"All"}]
["1400_SC6912 Prepaid Expenses/Grants Non-Capital Equipment",{"$f":"Worktags!AS741","v":"1400"},{"$f":"IF(Worktags!AQ741<>Worktags!AS741,Worktags!AQ741,\"\")","v":"SC6912"},{"$f":"IFERROR(VLOOKUP(B234,Worktags!AL:AO,2,FALSE),\"\")","v":"Prepaid Expenses"},{"$f":"IFERROR(VLOOKUP(C234,Worktags!O:T,2,FALSE),\"\")","v":"Grants Non-Capital Equipment"},{"$f":"IFERROR(VLOOKUP(IF(C234=\"\",B234&\"||\"&B234,C234&\"||\"&B234),Worktags!AR:AV,5,FALSE),\"\")","v":"All"}]
["1400_SC6913 Prepaid Expenses/Grounds Equipment",{"$f":"Worktags!AS743","v":"1400"},{"$f":"IF(Worktags!AQ743<>Worktags!AS743,Worktags!AQ743,\"\")","v":"SC6913"},{"$f":"IFERROR(VLOOKUP(B235,Worktags!AL:AO,2,FALSE),\"\")","v":"Prepaid Expenses"},{"$f":"IFERROR(VLOOKUP(C235,Worktags!O:T,2,FALSE),\"\")","v":"Grounds Equipment"},{"$f":"IFERROR(VLOOKUP(IF(C235=\"\",B235&\"||\"&B235,C235&\"||\"&B235),Worktags!AR:AV,5,FALSE),\"\")","v":"All"}]
["1400_SC6914 Prepaid Expenses/Industrial Equipment",{"$f":"Worktags!AS748","v":"1400"},{"$f":"IF(Worktags!AQ748<>Worktags!AS748,Worktags!AQ748,\"\")","v":"SC6914"},{"$f":"IFERROR(VLOOKUP(B236,Worktags!AL:AO,2,FALSE),\"\")","v":"Prepaid Expenses"},{"$f":"IFERROR(VLOOKUP(C236,Worktags!O:T,2,FALSE),\"\")","v":"Industrial Equipment"},{"$f":"IFERROR(VLOOKUP(IF(C236=\"\",B236&\"||\"&B236,C236&\"||\"&B236),Worktags!AR:AV,5,FALSE),\"\")","v":"All"}]
["1400_SC6915 Prepaid Expenses/Janitorial Equipment",{"$f":"Worktags!AS755","v":"1400"},{"$f":"IF(Worktags!AQ755<>Worktags!AS755,Worktags!AQ755,\"\")","v":"SC6915"},{"$f":"IFERROR(VLOOKUP(B237,Worktags!AL:AO,2,FALSE),\"\")","v":"Prepaid Expenses"},{"$f":"IFERROR(VLOOKUP(C237,Worktags!O:T,2,FALSE),\"\")","v":"Janitorial Equipment"},{"$f":"IFERROR(VLOOKUP(IF(C237=\"\",B237&\"||\"&B237,C237&\"||\"&B237),Worktags!AR:AV,5,FALSE),\"\")","v":"All"}]
["1400_SC6916 Prepaid Expenses/Janitorial Equipment Maintenance",{"$f":"Worktags!AS762","v":"1400"},{"$f":"IF(Worktags!AQ762<>Worktags!AS762,Worktags!AQ762,\"\")","v":"SC6916"},{"$f":"IFERROR(VLOOKUP(B238,Worktags!AL:AO,2,FALSE),\"\")","v":"Prepaid Expenses"},{"$f":"IFERROR(VLOOKUP(C238,Worktags!O:T,2,FALSE),\"\")","v":"Janitorial Equipment Maintenance"},{"$f":"IFERROR(VLOOKUP(IF(C238=\"\",B238&\"||\"&B238,C238&\"||\"&B238),Worktags!AR:AV,5,FALSE),\"\")","v":"All"}]
["1400_SC6917 Prepaid Expenses/Laundry Equipment",{"$f":"Worktags!AS764","v":"1400"},{"$f":"IF(Worktags!AQ764<>Worktags!AS764,Worktags!AQ764,\"\")","v":"SC6917"},{"$f":"IFERROR(VLOOKUP(B239,Worktags!AL:AO,2,FALSE),\"\")","v":"Prepaid Expenses"},{"$f":"IFERROR(VLOOKUP(C239,Worktags!O:T,2,FALSE),\"\")","v":"Laundry Equipment"},{"$f":"IFERROR(VLOOKUP(IF(C239=\"\",B239&\"||\"&B239,C239&\"||\"&B239),Worktags!AR:AV,5,FALSE),\"\")","v":"All"}]
["1400_SC6918 Prepaid Expenses/Library Content",{"$f":"Worktags!AS771","v":"1400"},{"$f":"IF(Worktags!AQ771<>Worktags!AS771,Worktags!AQ771,\"\")","v":"SC6918"},{"$f":"IFERROR(VLOOKUP(B240,Worktags!AL:AO,2,FALSE),\"\")","v":"Prepaid Expenses"},{"$f":"IFERROR(VLOOKUP(C240,Worktags!O:T,2,FALSE),\"\")","v":"Library Content"},{"$f":"IFERROR(VLOOKUP(IF(C240=\"\",B240&\"||\"&B240,C240&\"||\"&B240),Worktags!AR:AV,5,FALSE),\"\")","v":"All"}]
["1400_SC6919 Prepaid Expenses/Library Subscriptions",{"$f":"Worktags!AS776","v":"1400"},{"$f":"IF(Worktags!AQ776<>Worktags!AS776,Worktags!AQ776,\"\")","v":"SC6919"},{"$f":"IFERROR(VLOOKUP(B241,Worktags!AL:AO,2,FALSE),\"\")","v":"Prepaid Expenses"},{"$f":"IFERROR(VLOOKUP(C241,Worktags!O:T,2,FALSE),\"\")","v":"Library Subscriptions"},{"$f":"IFERROR(VLOOKUP(IF(C241=\"\",B241&\"||\"&B241,C241&\"||\"&B241),Worktags!AR:AV,5,FALSE),\"\")","v":"All"}]
["1400_SC6920 Prepaid Expenses/Media Content",{"$f":"Worktags!AS778","v":"1400"},{"$f":"IF(Worktags!AQ778<>Worktags!AS778,Worktags!AQ778,\"\")","v":"SC6920"},{"$f":"IFERROR(VLOOKUP(B242,Worktags!AL:AO,2,FALSE),\"\")","v":"Prepaid Expenses"},{"$f":"IFERROR(VLOOKUP(C242,Worktags!O:T,2,FALSE),\"\")","v":"Media Content"},{"$f":"IFERROR(VLOOKUP(IF(C242=\"\",B242&\"||\"&B242,C242&\"||\"&B242),Worktags!AR:AV,5,FALSE),\"\")","v":"All"}]
["1400_SC6921 Prepaid Expenses/Medical Equipment",{"$f":"Worktags!AS783","v":"1400"},{"$f":"IF(Worktags!AQ783<>Worktags!AS783,Worktags!AQ783,\"\")","v":"SC6921"},{"$f":"IFERROR(VLOOKUP(B243,Worktags!AL:AO,2,FALSE),\"\")","v":"Prepaid Expenses"},{"$f":"IFERROR(VLOOKUP(C243,Worktags!O:T,2,FALSE),\"\")","v":"Medical Equipment"},{"$f":"IFERROR(VLOOKUP(IF(C243=\"\",B243&\"||\"&B243,C243&\"||\"&B243),Worktags!AR:AV,5,FALSE),\"\")","v":"All"}]
["1400_SC6922 Prepaid Expenses/Medical Equipment - Maintenance",{"$f":"Worktags!AS790","v":"1400"},{"$f":"IF(Worktags!AQ790<>Worktags!AS790,Worktags!AQ790,\"\")","v":"SC6922"},{"$f":"IFERROR(VLOOKUP(B244,Worktags!AL:AO,2,FALSE),\"\")","v":"Prepaid Expenses"},{"$f":"IFERROR(VLOOKUP(C244,Worktags!O:T,2,FALSE),\"\")","v":"Medical Equipment - Maintenance"},{"$f":"IFERROR(VLOOKUP(IF(C244=\"\",B244&\"||\"&B244,C244&\"||\"&B244),Worktags!AR:AV,5,FALSE),\"\")","v":"All"}]
["1400_SC6923 Prepaid Expenses/Musical Instruments",{"$f":"Worktags!AS792","v":"1400"},{"$f":"IF(Worktags!AQ792<>Worktags!AS792,Worktags!AQ792,\"\")","v":"SC6923"},{"$f":"IFERROR(VLOOKUP(B245,Worktags!AL:AO,2,FALSE),\"\")","v":"Prepaid Expenses"},{"$f":"IFERROR(VLOOKUP(C245,Worktags!O:T,2,FALSE),\"\")","v":"Musical Instruments"},{"$f":"IFERROR(VLOOKUP(IF(C245=\"\",B245&\"||\"&B245,C245&\"||\"&B245),Worktags!AR:AV,5,FALSE),\"\")","v":"All"}]
["1400_SC6924 Prepaid Expenses/Office Equipment (Asset Track)",{"$f":"Worktags!AS797","v":"1400"},{"$f":"IF(Worktags!AQ797<>Worktags!AS797,Worktags!AQ797,\"\")","v":"SC6924"},{"$f":"IFERROR(VLOOKUP(B246,Worktags!AL:AO,2,FALSE),\"\")","v":"Prepaid Expenses"},{"$f":"IFERROR(VLOOKUP(C246,Worktags!O:T,2,FALSE),\"\")","v":"Office Equipment (Asset Track)"},{"$f":"IFERROR(VLOOKUP(IF(C246=\"\",B246&\"||\"&B246,C246&\"||\"&B246),Worktags!AR:AV,5,FALSE),\"\")","v":"All"}]
["1400_SC6925 Prepaid Expenses/Office Equipment - Maintenance",{"$f":"Worktags!AS804","v":"1400"},{"$f":"IF(Worktags!AQ804<>Worktags!AS804,Worktags!AQ804,\"\")","v":"SC6925"},{"$f":"IFERROR(VLOOKUP(B247,Worktags!AL:AO,2,FALSE),\"\")","v":"Prepaid Expenses"},{"$f":"IFERROR(VLOOKUP(C247,Worktags!O:T,2,FALSE),\"\")","v":"Office Equipment - Maintenance"},{"$f":"IFERROR(VLOOKUP(IF(C247=\"\",B247&\"||\"&B247,C247&\"||\"&B247),Worktags!AR:AV,5,FALSE),\"\")","v":"All"}]
["1400_SC6926 Prepaid Expenses/Photography Equipment",{"$f":"Worktags!AS806","v":"1400"},{"$f":"IF(Worktags!AQ806<>Worktags!AS806,Worktags!AQ806,\"\")","v":"SC6926"},{"$f":"IFERROR(VLOOKUP(B248,Worktags!AL:AO,2,FALSE),\"\")","v":"Prepaid Expenses"},{"$f":"IFERROR(VLOOKUP(C248,Worktags!O:T,2,FALSE),\"\")","v":"Photography Equipment"},{"$f":"IFERROR(VLOOKUP(IF(C248=\"\",B248&\"||\"&B248,C248&\"||\"&B248),Worktags!AR:AV,5,FALSE),\"\")","v":"All"}]
["1400_SC6927 Prepaid Expenses/Portable Structures",{"$f":"Worktags!AS811","v":"1400"},{"$f":"IF(Worktags!AQ811<>Worktags!AS811,Worktags!AQ811,\"\")","v":"SC6927"},{"$f":"IFERROR(VLOOKUP(B249,Worktags!AL:AO,2,FALSE),\"\")","v":"Prepaid Expenses"},{"$f":"IFERROR(VLOOKUP(C249,Worktags!O:T,2,FALSE),\"\")","v":"Portable Structures"},{"$f":"IFERROR(VLOOKUP(IF(C249=\"\",B249&\"||\"&B249,C249&\"||\"&B249),Worktags!AR:AV,5,FALSE),\"\")","v":"All"}]
["1400_SC6928 Prepaid Expenses/Printing Equipment",{"$f":"Worktags!AS818","v":"1400"},{"$f":"IF(Worktags!AQ818<>Worktags!AS818,Worktags!AQ818,\"\")","v":"SC6928"},{"$f":"IFERROR(VLOOKUP(B250,Worktags!AL:AO,2,FALSE),\"\")","v":"Prepaid Expenses"},{"$f":"IFERROR(VLOOKUP(C250,Worktags!O:T,2,FALSE),\"\")","v":"Printing Equipment"},{"$f":"IFERROR(VLOOKUP(IF(C250=\"\",B250&\"||\"&B250,C250&\"||\"&B250),Worktags!AR:AV,5,FALSE),\"\")","v":"All"}]
["1400_SC6929 Prepaid Expenses/Scientific and Engineering Equipment",{"$f":"Worktags!AS825","v":"1400"},{"$f":"IF(Worktags!AQ825<>Worktags!AS825,Worktags!AQ825,\"\")","v":"SC6929"},{"$f":"IFERROR(VLOOKUP(B251,Worktags!AL:AO,2,FALSE),\"\")","v":"Prepaid Expenses"},{"$f":"IFERROR(VLOOKUP(C251,Worktags!O:T,2,FALSE),\"\")","v":"Scientific and Engineering Equipment"},{"$f":"IFERROR(VLOOKUP(IF(C251=\"\",B251&\"||\"&B251,C251&\"||\"&B251),Worktags!AR:AV,5,FALSE),\"\")","v":"All"}]
["1400_SC6930 Prepaid Expenses/Scientific Equipment - Maintenance",{"$f":"Worktags!AS832","v":"1400"},{"$f":"IF(Worktags!AQ832<>Worktags!AS832,Worktags!AQ832,\"\")","v":"SC6930"},{"$f":"IFERROR(VLOOKUP(B252,Worktags!AL:AO,2,FALSE),\"\")","v":"Prepaid Expenses"},{"$f":"IFERROR(VLOOKUP(C252,Worktags!O:T,2,FALSE),\"\")","v":"Scientific Equipment - Maintenance"},{"$f":"IFERROR(VLOOKUP(IF(C252=\"\",B252&\"||\"&B252,C252&\"||\"&B252),Worktags!AR:AV,5,FALSE),\"\")","v":"All"}]
["1400_SC6931 Prepaid Expenses/Security Equipment (Asset Track)",{"$f":"Worktags!AS834","v":"1400"},{"$f":"IF(Worktags!AQ834<>Worktags!AS834,Worktags!AQ834,\"\")","v":"SC6931"},{"$f":"IFERROR(VLOOKUP(B253,Worktags!AL:AO,2,FALSE),\"\")","v":"Prepaid Expenses"},{"$f":"IFERROR(VLOOKUP(C253,Worktags!O:T,2,FALSE),\"\")","v":"Security Equipment (Asset Track)"},{"$f":"IFERROR(VLOOKUP(IF(C253=\"\",B253&\"||\"&B253,C253&\"||\"&B253),Worktags!AR:AV,5,FALSE),\"\")","v":"All"}]
["1400_SC6932 Prepaid Expenses/Small Appliances",{"$f":"Worktags!AS841","v":"1400"},{"$f":"IF(Worktags!AQ841<>Worktags!AS841,Worktags!AQ841,\"\")","v":"SC6932"},{"$f":"IFERROR(VLOOKUP(B254,Worktags!AL:AO,2,FALSE),\"\")","v":"Prepaid Expenses"},{"$f":"IFERROR(VLOOKUP(C254,Worktags!O:T,2,FALSE),\"\")","v":"Small Appliances"},{"$f":"IFERROR(VLOOKUP(IF(C254=\"\",B254&\"||\"&B254,C254&\"||\"&B254),Worktags!AR:AV,5,FALSE),\"\")","v":"All"}]
["1400_SC6933 Prepaid Expenses/Software",{"$f":"Worktags!AS848","v":"1400"},{"$f":"IF(Worktags!AQ848<>Worktags!AS848,Worktags!AQ848,\"\")","v":"SC6933"},{"$f":"IFERROR(VLOOKUP(B255,Worktags!AL:AO,2,FALSE),\"\")","v":"Prepaid Expenses"},{"$f":"IFERROR(VLOOKUP(C255,Worktags!O:T,2,FALSE),\"\")","v":"Software"},{"$f":"IFERROR(VLOOKUP(IF(C255=\"\",B255&\"||\"&B255,C255&\"||\"&B255),Worktags!AR:AV,5,FALSE),\"\")","v":"All"}]
["1400_SC6934 Prepaid Expenses/Software and Media - Licenses",{"$f":"Worktags!AS853","v":"1400"},{"$f":"IF(Worktags!AQ853<>Worktags!AS853,Worktags!AQ853,\"\")","v":"SC6934"},{"$f":"IFERROR(VLOOKUP(B256,Worktags!AL:AO,2,FALSE),\"\")","v":"Prepaid Expenses"},{"$f":"IFERROR(VLOOKUP(C256,Worktags!O:T,2,FALSE),\"\")","v":"Software and Media - Licenses"},{"$f":"IFERROR(VLOOKUP(IF(C256=\"\",B256&\"||\"&B256,C256&\"||\"&B256),Worktags!AR:AV,5,FALSE),\"\")","v":"All"}]
[{"$f":"IF(B257<>\"\",IF(C257<>\"\",B257&\"_\"&C257&\" \"&D257&\"/\"&E257,B257&\" \"&D257),\"\")","v":"1400_SC6935 Prepaid Expenses/Telecom Equipment"},{"$f":"Worktags!AS855","v":"1400"},{"$f":"IF(Worktags!AQ855<>Worktags!AS855,Worktags!AQ855,\"\")","v":"SC6935"},{"$f":"IFERROR(VLOOKUP(B257,Worktags!AL:AO,2,FALSE),\"\")","v":"Prepaid Expenses"},{"$f":"IFERROR(VLOOKUP(C257,Worktags!O:T,2,FALSE),\"\")","v":"Telecom Equipment"},{"$f":"IFERROR(VLOOKUP(IF(C257=\"\",B257&\"||\"&B257,C257&\"||\"&B257),Worktags!AR:AV,5,FALSE),\"\")","v":"All"}]
["1400_SC6936 Prepaid Expenses/Vehicles Services",{"$f":"Worktags!AS862","v":"1400"},{"$f":"IF(Worktags!AQ862<>Worktags!AS862,Worktags!AQ862,\"\")","v":"SC6936"},{"$f":"IFERROR(VLOOKUP(B258,Worktags!AL:AO,2,FALSE),\"\")","v":"Prepaid Expenses"},{"$f":"IFERROR(VLOOKUP(C258,Worktags!O:T,2,FALSE),\"\")","v":"Vehicles Services"},{"$f":"IFERROR(VLOOKUP(IF(C258=\"\",B258&\"||\"&B258,C258&\"||\"&B258),Worktags!AR:AV,5,FALSE),\"\")","v":"All"}]
["1400_SC6937 Prepaid Expenses/Vehicles, Motor",{"$f":"Worktags!AS864","v":"1400"},{"$f":"IF(Worktags!AQ864<>Worktags!AS864,Worktags!AQ864,\"\")","v":"SC6937"},{"$f":"IFERROR(VLOOKUP(B259,Worktags!AL:AO,2,FALSE),\"\")","v":"Prepaid Expenses"},{"$f":"IFERROR(VLOOKUP(C259,Worktags!O:T,2,FALSE),\"\")","v":"Vehicles, Motor"},{"$f":"IFERROR(VLOOKUP(IF(C259=\"\",B259&\"||\"&B259,C259&\"||\"&B259),Worktags!AR:AV,5,FALSE),\"\")","v":"All"}]
["1400_SC6938 Prepaid Expenses/Vehicles, Off-Road",{"$f":"Worktags!AS869","v":"1400"},{"$f":"IF(Worktags!AQ869<>Worktags!AS869,Worktags!AQ869,\"\")","v":"SC6938"},{"$f":"IFERROR(VLOOKUP(B260,Worktags!AL:AO,2,FALSE),\"\")","v":"Prepaid Expenses"},{"$f":"IFERROR(VLOOKUP(C260,Worktags!O:T,2,FALSE),\"\")","v":"Vehicles, Off-Road"},{"$f":"IFERROR(VLOOKUP(IF(C260=\"\",B260&\"||\"&B260,C260&\"||\"&B260),Worktags!AR:AV,5,FALSE),\"\")","v":"All"}]
["1400_SC6939 Prepaid Expenses/Warehouse Equipment",{"$f":"Worktags!AS874","v":"1400"},{"$f":"IF(Worktags!AQ874<>Worktags!AS874,Worktags!AQ874,\"\")","v":"SC6939"},{"$f":"IFERROR(VLOOKUP(B261,Worktags!AL:AO,2,FALSE),\"\")","v":"Prepaid Expenses"},{"$f":"IFERROR(VLOOKUP(C261,Worktags!O:T,2,FALSE),\"\")","v":"Warehouse Equipment"},{"$f":"IFERROR(VLOOKUP(IF(C261=\"\",B261&\"||\"&B261,C261&\"||\"&B261),Worktags!AR:AV,5,FALSE),\"\")","v":"All"}]
["1400_SC6999 Prepaid Expenses/Equipment (reclass)",{"$f":"Worktags!AS888","v":"1400"},{"$f":"IF(Worktags!AQ888<>Worktags!AS888,Worktags!AQ888,\"\")","v":"SC6999"},{"$f":"IFERROR(VLOOKUP(B262,Worktags!AL:AO,2,FALSE),\"\")","v":"Prepaid Expenses"},{"$f":"IFERROR(VLOOKUP(C262,Worktags!O:T,2,FALSE),\"\")","v":"Equipment (reclass)"},{"$f":"IFERROR(VLOOKUP(IF(C262=\"\",B262&\"||\"&B262,C262&\"||\"&B262),Worktags!AR:AV,5,FALSE),\"\")","v":"All"}]
["1400_SC7001 Prepaid Expenses/Travel",{"$f":"Worktags!AS892","v":"1400"},{"$f":"IF(Worktags!AQ892<>Worktags!AS892,Worktags!AQ892,\"\")","v":"SC7001"},{"$f":"IFERROR(VLOOKUP(B263,Worktags!AL:AO,2,FALSE),\"\")","v":"Prepaid Expenses"},{"$f":"IFERROR(VLOOKUP(C263,Worktags!O:T,2,FALSE),\"\")","v":"Travel"},{"$f":"IFERROR(VLOOKUP(IF(C263=\"\",B263&\"||\"&B263,C263&\"||\"&B263),Worktags!AR:AV,5,FALSE),\"\")","v":"All"}]
["1400_SC7002 Prepaid Expenses/Airfare Domestic",{"$f":"Worktags!AS894","v":"1400"},{"$f":"IF(Worktags!AQ894<>Worktags!AS894,Worktags!AQ894,\"\")","v":"SC7002"},{"$f":"IFERROR(VLOOKUP(B264,Worktags!AL:AO,2,FALSE),\"\")","v":"Prepaid Expenses"},{"$f":"IFERROR(VLOOKUP(C264,Worktags!O:T,2,FALSE),\"\")","v":"Airfare Domestic"},{"$f":"IFERROR(VLOOKUP(IF(C264=\"\",B264&\"||\"&B264,C264&\"||\"&B264),Worktags!AR:AV,5,FALSE),\"\")","v":"All"}]
["1400_SC7003 Prepaid Expenses/Airfare Foreign",{"$f":"Worktags!AS896","v":"1400"},{"$f":"IF(Worktags!AQ896<>Worktags!AS896,Worktags!AQ896,\"\")","v":"SC7003"},{"$f":"IFERROR(VLOOKUP(B265,Worktags!AL:AO,2,FALSE),\"\")","v":"Prepaid Expenses"},{"$f":"IFERROR(VLOOKUP(C265,Worktags!O:T,2,FALSE),\"\")","v":"Airfare Foreign"},{"$f":"IFERROR(VLOOKUP(IF(C265=\"\",B265&\"||\"&B265,C265&\"||\"&B265),Worktags!AR:AV,5,FALSE),\"\")","v":"All"}]
["1400_SC7004 Prepaid Expenses/Transportation Services",{"$f":"Worktags!AS898","v":"1400"},{"$f":"IF(Worktags!AQ898<>Worktags!AS898,Worktags!AQ898,\"\")","v":"SC7004"},{"$f":"IFERROR(VLOOKUP(B266,Worktags!AL:AO,2,FALSE),\"\")","v":"Prepaid Expenses"},{"$f":"IFERROR(VLOOKUP(C266,Worktags!O:T,2,FALSE),\"\")","v":"Transportation Services"},{"$f":"IFERROR(VLOOKUP(IF(C266=\"\",B266&\"||\"&B266,C266&\"||\"&B266),Worktags!AR:AV,5,FALSE),\"\")","v":"All"}]
["1400_SC7005 Prepaid Expenses/Travel - Lodging",{"$f":"Worktags!AS900","v":"1400"},{"$f":"IF(Worktags!AQ900<>Worktags!AS900,Worktags!AQ900,\"\")","v":"SC7005"},{"$f":"IFERROR(VLOOKUP(B267,Worktags!AL:AO,2,FALSE),\"\")","v":"Prepaid Expenses"},{"$f":"IFERROR(VLOOKUP(C267,Worktags!O:T,2,FALSE),\"\")","v":"Travel - Lodging"},{"$f":"IFERROR(VLOOKUP(IF(C267=\"\",B267&\"||\"&B267,C267&\"||\"&B267),Worktags!AR:AV,5,FALSE),\"\")","v":"All"}]
["1400_SC7006 Prepaid Expenses/Travel - Tour Guide Services",{"$f":"Worktags!AS902","v":"1400"},{"$f":"IF(Worktags!AQ902<>Worktags!AS902,Worktags!AQ902,\"\")","v":"SC7006"},{"$f":"IFERROR(VLOOKUP(B268,Worktags!AL:AO,2,FALSE),\"\")","v":"Prepaid Expenses"},{"$f":"IFERROR(VLOOKUP(C268,Worktags!O:T,2,FALSE),\"\")","v":"Travel - Tour Guide Services"},{"$f":"IFERROR(VLOOKUP(IF(C268=\"\",B268&\"||\"&B268,C268&\"||\"&B268),Worktags!AR:AV,5,FALSE),\"\")","v":"All"}]
["1400_SC7099 Prepaid Expenses/Travel (reclass)",{"$f":"Worktags!AS904","v":"1400"},{"$f":"IF(Worktags!AQ904<>Worktags!AS904,Worktags!AQ904,\"\")","v":"SC7099"},{"$f":"IFERROR(VLOOKUP(B269,Worktags!AL:AO,2,FALSE),\"\")","v":"Prepaid Expenses"},{"$f":"IFERROR(VLOOKUP(C269,Worktags!O:T,2,FALSE),\"\")","v":"Travel (reclass)"},{"$f":"IFERROR(VLOOKUP(IF(C269=\"\",B269&\"||\"&B269,C269&\"||\"&B269),Worktags!AR:AV,5,FALSE),\"\")","v":"All"}]
["1410 Deposits",{"$f":"Worktags!AL43","v":"1410"},null,{"$f":"IFERROR(VLOOKUP(B270,Worktags!AL:AO,2,FALSE),\"\")","v":"Deposits"},null,{"$f":"IFERROR(VLOOKUP(IF(C270=\"\",B270&\"||\"&B270,C270&\"||\"&B270),Worktags!AR:AV,5,FALSE),\"\")","v":"All"}]
["1410 Deposits",{"$f":"Worktags!AS37","v":"1410"},{"$f":"IF(Worktags!AQ37<>Worktags!AS37,Worktags!AQ37,\"\")","v":""},{"$f":"IFERROR(VLOOKUP(B271,Worktags!AL:AO,2,FALSE),\"\")","v":"Deposits"},{"$f":"IFERROR(VLOOKUP(C271,Worktags!O:T,2,FALSE),\"\")","v":""},{"$f":"IFERROR(VLOOKUP(IF(C271=\"\",B271&\"||\"&B271,C271&\"||\"&B271),Worktags!AR:AV,5,FALSE),\"\")","v":"All"}]
["1420 Other Assets",{"$f":"Worktags!AL44","v":"1420"},null,{"$f":"IFERROR(VLOOKUP(B272,Worktags!AL:AO,2,FALSE),\"\")","v":"Other Assets"},null,{"$f":"IFERROR(VLOOKUP(IF(C272=\"\",B272&\"||\"&B272,C272&\"||\"&B272),Worktags!AR:AV,5,FALSE),\"\")","v":""}]
["1420_SC1420 Other Assets/Other Assets",{"$f":"Worktags!AS210","v":"1420"},{"$f":"IF(Worktags!AQ210<>Worktags!AS210,Worktags!AQ210,\"\")","v":"SC1420"},{"$f":"IFERROR(VLOOKUP(B273,Worktags!AL:AO,2,FALSE),\"\")","v":"Other Assets"},{"$f":"IFERROR(VLOOKUP(C273,Worktags!O:T,2,FALSE),\"\")","v":"Other Assets"},{"$f":"IFERROR(VLOOKUP(IF(C273=\"\",B273&\"||\"&B273,C273&\"||\"&B273),Worktags!AR:AV,5,FALSE),\"\")","v":"All"}]
["1429 Other Assets Reserve",{"$f":"Worktags!AL45","v":"1429"},null,{"$f":"IFERROR(VLOOKUP(B274,Worktags!AL:AO,2,FALSE),\"\")","v":"Other Assets Reserve"},null,{"$f":"IFERROR(VLOOKUP(IF(C274=\"\",B274&\"||\"&B274,C274&\"||\"&B274),Worktags!AR:AV,5,FALSE),\"\")","v":"All"}]
["1429 Other Assets Reserve",{"$f":"Worktags!AS38","v":"1429"},{"$f":"IF(Worktags!AQ38<>Worktags!AS38,Worktags!AQ38,\"\")","v":""},{"$f":"IFERROR(VLOOKUP(B275,Worktags!AL:AO,2,FALSE),\"\")","v":"Other Assets Reserve"},{"$f":"IFERROR(VLOOKUP(C275,Worktags!O:T,2,FALSE),\"\")","v":""},{"$f":"IFERROR(VLOOKUP(IF(C275=\"\",B275&\"||\"&B275,C275&\"||\"&B275),Worktags!AR:AV,5,FALSE),\"\")","v":"All"}]
["1430 Right of Use Asset",{"$f":"Worktags!AL46","v":"1430"},null,{"$f":"IFERROR(VLOOKUP(B276,Worktags!AL:AO,2,FALSE),\"\")","v":"Right of Use Asset"},null,{"$f":"IFERROR(VLOOKUP(IF(C276=\"\",B276&\"||\"&B276,C276&\"||\"&B276),Worktags!AR:AV,5,FALSE),\"\")","v":"All"}]
["1430 Right of Use Asset",{"$f":"Worktags!AS39","v":"1430"},{"$f":"IF(Worktags!AQ39<>Worktags!AS39,Worktags!AQ39,\"\")","v":""},{"$f":"IFERROR(VLOOKUP(B277,Worktags!AL:AO,2,FALSE),\"\")","v":"Right of Use Asset"},{"$f":"IFERROR(VLOOKUP(C277,Worktags!O:T,2,FALSE),\"\")","v":""},{"$f":"IFERROR(VLOOKUP(IF(C277=\"\",B277&\"||\"&B277,C277&\"||\"&B277),Worktags!AR:AV,5,FALSE),\"\")","v":"All"}]
["1435 Deferred Tax Asset",{"$f":"Worktags!AL47","v":"1435"},null,{"$f":"IFERROR(VLOOKUP(B278,Worktags!AL:AO,2,FALSE),\"\")","v":"Deferred Tax Asset"},null,{"$f":"IFERROR(VLOOKUP(IF(C278=\"\",B278&\"||\"&B278,C278&\"||\"&B278),Worktags!AR:AV,5,FALSE),\"\")","v":"All"}]
["1435 Deferred Tax Asset",{"$f":"Worktags!AS40","v":"1435"},{"$f":"IF(Worktags!AQ40<>Worktags!AS40,Worktags!AQ40,\"\")","v":""},{"$f":"IFERROR(VLOOKUP(B279,Worktags!AL:AO,2,FALSE),\"\")","v":"Deferred Tax Asset"},{"$f":"IFERROR(VLOOKUP(C279,Worktags!O:T,2,FALSE),\"\")","v":""},{"$f":"IFERROR(VLOOKUP(IF(C279=\"\",B279&\"||\"&B279,C279&\"||\"&B279),Worktags!AR:AV,5,FALSE),\"\")","v":"All"}]
["1440 Valuation Allowance - DTA",{"$f":"Worktags!AL48","v":"1440"},null,{"$f":"IFERROR(VLOOKUP(B280,Worktags!AL:AO,2,FALSE),\"\")","v":"Valuation Allowance - DTA"},null,{"$f":"IFERROR(VLOOKUP(IF(C280=\"\",B280&\"||\"&B280,C280&\"||\"&B280),Worktags!AR:AV,5,FALSE),\"\")","v":"All"}]
["1440 Valuation Allowance - DTA",{"$f":"Worktags!AS41","v":"1440"},{"$f":"IF(Worktags!AQ41<>Worktags!AS41,Worktags!AQ41,\"\")","v":""},{"$f":"IFERROR(VLOOKUP(B281,Worktags!AL:AO,2,FALSE),\"\")","v":"Valuation Allowance - DTA"},{"$f":"IFERROR(VLOOKUP(C281,Worktags!O:T,2,FALSE),\"\")","v":""},{"$f":"IFERROR(VLOOKUP(IF(C281=\"\",B281&\"||\"&B281,C281&\"||\"&B281),Worktags!AR:AV,5,FALSE),\"\")","v":"All"}]
["1450 Retire Postretire Benefit Asset",{"$f":"Worktags!AL49","v":"1450"},null,{"$f":"IFERROR(VLOOKUP(B282,Worktags!AL:AO,2,FALSE),\"\")","v":"Retire Postretire Benefit Asset"},null,{"$f":"IFERROR(VLOOKUP(IF(C282=\"\",B282&\"||\"&B282,C282&\"||\"&B282),Worktags!AR:AV,5,FALSE),\"\")","v":"All"}]
["1450 Retire Postretire Benefit Asset",{"$f":"Worktags!AS42","v":"1450"},{"$f":"IF(Worktags!AQ42<>Worktags!AS42,Worktags!AQ42,\"\")","v":""},{"$f":"IFERROR(VLOOKUP(B283,Worktags!AL:AO,2,FALSE),\"\")","v":"Retire Postretire Benefit Asset"},{"$f":"IFERROR(VLOOKUP(C283,Worktags!O:T,2,FALSE),\"\")","v":""},{"$f":"IFERROR(VLOOKUP(IF(C283=\"\",B283&\"||\"&B283,C283&\"||\"&B283),Worktags!AR:AV,5,FALSE),\"\")","v":"All"}]
["1490 Clearing-Prepaid and Other",{"$f":"Worktags!AL50","v":"1490"},null,{"$f":"IFERROR(VLOOKUP(B284,Worktags!AL:AO,2,FALSE),\"\")","v":"Clearing-Prepaid and Other"},null,{"$f":"IFERROR(VLOOKUP(IF(C284=\"\",B284&\"||\"&B284,C284&\"||\"&B284),Worktags!AR:AV,5,FALSE),\"\")","v":"All"}]
["1490 Clearing-Prepaid and Other",{"$f":"Worktags!AS43","v":"1490"},{"$f":"IF(Worktags!AQ43<>Worktags!AS43,Worktags!AQ43,\"\")","v":""},{"$f":"IFERROR(VLOOKUP(B285,Worktags!AL:AO,2,FALSE),\"\")","v":"Clearing-Prepaid and Other"},{"$f":"IFERROR(VLOOKUP(C285,Worktags!O:T,2,FALSE),\"\")","v":""},{"$f":"IFERROR(VLOOKUP(IF(C285=\"\",B285&\"||\"&B285,C285&\"||\"&B285),Worktags!AR:AV,5,FALSE),\"\")","v":"All"}]
["1490_SC1490 Clearing-Prepaid and Other/",{"$f":"Worktags!AS211","v":"1490"},{"$f":"IF(Worktags!AQ211<>Worktags!AS211,Worktags!AQ211,\"\")","v":"SC1490"},{"$f":"IFERROR(VLOOKUP(B286,Worktags!AL:AO,2,FALSE),\"\")","v":"Clearing-Prepaid and Other"},{"$f":"IFERROR(VLOOKUP(C286,Worktags!O:T,2,FALSE),\"\")","v":""},{"$f":"IFERROR(VLOOKUP(IF(C286=\"\",B286&\"||\"&B286,C286&\"||\"&B286),Worktags!AR:AV,5,FALSE),\"\")","v":"All"}]
["1500 Securities Held/Liquidation",{"$f":"Worktags!AL51","v":"1500"},null,{"$f":"IFERROR(VLOOKUP(B287,Worktags!AL:AO,2,FALSE),\"\")","v":"Securities Held/Liquidation"},null,{"$f":"IFERROR(VLOOKUP(IF(C287=\"\",B287&\"||\"&B287,C287&\"||\"&B287),Worktags!AR:AV,5,FALSE),\"\")","v":"JE_Gift|JE_Override"}]
["1500 Securities Held/Liquidation",{"$f":"Worktags!AS44","v":"1500"},{"$f":"IF(Worktags!AQ44<>Worktags!AS44,Worktags!AQ44,\"\")","v":""},{"$f":"IFERROR(VLOOKUP(B288,Worktags!AL:AO,2,FALSE),\"\")","v":"Securities Held/Liquidation"},{"$f":"IFERROR(VLOOKUP(C288,Worktags!O:T,2,FALSE),\"\")","v":""},{"$f":"IFERROR(VLOOKUP(IF(C288=\"\",B288&\"||\"&B288,C288&\"||\"&B288),Worktags!AR:AV,5,FALSE),\"\")","v":"JE_Gift|JE_Override"}]
["1510 Real Estate Held/Liquidation",{"$f":"Worktags!AL52","v":"1510"},null,{"$f":"IFERROR(VLOOKUP(B289,Worktags!AL:AO,2,FALSE),\"\")","v":"Real Estate Held/Liquidation"},null,{"$f":"IFERROR(VLOOKUP(IF(C289=\"\",B289&\"||\"&B289,C289&\"||\"&B289),Worktags!AR:AV,5,FALSE),\"\")","v":"JE_Gift|JE_Override"}]
["1510 Real Estate Held/Liquidation",{"$f":"Worktags!AS45","v":"1510"},{"$f":"IF(Worktags!AQ45<>Worktags!AS45,Worktags!AQ45,\"\")","v":""},{"$f":"IFERROR(VLOOKUP(B290,Worktags!AL:AO,2,FALSE),\"\")","v":"Real Estate Held/Liquidation"},{"$f":"IFERROR(VLOOKUP(C290,Worktags!O:T,2,FALSE),\"\")","v":""},{"$f":"IFERROR(VLOOKUP(IF(C290=\"\",B290&\"||\"&B290,C290&\"||\"&B290),Worktags!AR:AV,5,FALSE),\"\")","v":"JE_Gift|JE_Override"}]
["1520 Other Assets Held/Liquidation",{"$f":"Worktags!AL53","v":"1520"},null,{"$f":"IFERROR(VLOOKUP(B291,Worktags!AL:AO,2,FALSE),\"\")","v":"Other Assets Held/Liquidation"},null,{"$f":"IFERROR(VLOOKUP(IF(C291=\"\",B291&\"||\"&B291,C291&\"||\"&B291),Worktags!AR:AV,5,FALSE),\"\")","v":"JE_Gift|JE_Override"}]
["1520 Other Assets Held/Liquidation",{"$f":"Worktags!AS46","v":"1520"},{"$f":"IF(Worktags!AQ46<>Worktags!AS46,Worktags!AQ46,\"\")","v":""},{"$f":"IFERROR(VLOOKUP(B292,Worktags!AL:AO,2,FALSE),\"\")","v":"Other Assets Held/Liquidation"},{"$f":"IFERROR(VLOOKUP(C292,Worktags!O:T,2,FALSE),\"\")","v":""},{"$f":"IFERROR(VLOOKUP(IF(C292=\"\",B292&\"||\"&B292,C292&\"||\"&B292),Worktags!AR:AV,5,FALSE),\"\")","v":"JE_Gift|JE_Override"}]
["1590 Clearing-Assets Held/Liquidation",{"$f":"Worktags!AL54","v":"1590"},null,{"$f":"IFERROR(VLOOKUP(B293,Worktags!AL:AO,2,FALSE),\"\")","v":"Clearing-Assets Held/Liquidation"},null,{"$f":"IFERROR(VLOOKUP(IF(C293=\"\",B293&\"||\"&B293,C293&\"||\"&B293),Worktags!AR:AV,5,FALSE),\"\")","v":"JE_Gift|JE_Override"}]
["1590 Clearing-Assets Held/Liquidation",{"$f":"Worktags!AS47","v":"1590"},{"$f":"IF(Worktags!AQ47<>Worktags!AS47,Worktags!AQ47,\"\")","v":""},{"$f":"IFERROR(VLOOKUP(B294,Worktags!AL:AO,2,FALSE),\"\")","v":"Clearing-Assets Held/Liquidation"},{"$f":"IFERROR(VLOOKUP(C294,Worktags!O:T,2,FALSE),\"\")","v":""},{"$f":"IFERROR(VLOOKUP(IF(C294=\"\",B294&\"||\"&B294,C294&\"||\"&B294),Worktags!AR:AV,5,FALSE),\"\")","v":"JE_Gift|JE_Override"}]
["1599 Assets Held/Liquidation Reserve",{"$f":"Worktags!AL55","v":"1599"},null,{"$f":"IFERROR(VLOOKUP(B295,Worktags!AL:AO,2,FALSE),\"\")","v":"Assets Held/Liquidation Reserve"},null,{"$f":"IFERROR(VLOOKUP(IF(C295=\"\",B295&\"||\"&B295,C295&\"||\"&B295),Worktags!AR:AV,5,FALSE),\"\")","v":"JE_Gift|JE_Override"}]
["1599 Assets Held/Liquidation Reserve",{"$f":"Worktags!AS48","v":"1599"},{"$f":"IF(Worktags!AQ48<>Worktags!AS48,Worktags!AQ48,\"\")","v":""},{"$f":"IFERROR(VLOOKUP(B296,Worktags!AL:AO,2,FALSE),\"\")","v":"Assets Held/Liquidation Reserve"},{"$f":"IFERROR(VLOOKUP(C296,Worktags!O:T,2,FALSE),\"\")","v":""},{"$f":"IFERROR(VLOOKUP(IF(C296=\"\",B296&\"||\"&B296,C296&\"||\"&B296),Worktags!AR:AV,5,FALSE),\"\")","v":"JE_Gift|JE_Override"}]
["1600 Land",{"$f":"Worktags!AL56","v":"1600"},null,{"$f":"IFERROR(VLOOKUP(B297,Worktags!AL:AO,2,FALSE),\"\")","v":"Land"},null,{"$f":"IFERROR(VLOOKUP(IF(C297=\"\",B297&\"||\"&B297,C297&\"||\"&B297),Worktags!AR:AV,5,FALSE),\"\")","v":""}]
["1600_SC1600 Land/Land",{"$f":"Worktags!AS212","v":"1600"},{"$f":"IF(Worktags!AQ212<>Worktags!AS212,Worktags!AQ212,\"\")","v":"SC1600"},{"$f":"IFERROR(VLOOKUP(B298,Worktags!AL:AO,2,FALSE),\"\")","v":"Land"},{"$f":"IFERROR(VLOOKUP(C298,Worktags!O:T,2,FALSE),\"\")","v":"Land"},{"$f":"IFERROR(VLOOKUP(IF(C298=\"\",B298&\"||\"&B298,C298&\"||\"&B298),Worktags!AR:AV,5,FALSE),\"\")","v":"JE_PPE|JE_Override"}]
["1605 Buildings",{"$f":"Worktags!AL57","v":"1605"},null,{"$f":"IFERROR(VLOOKUP(B299,Worktags!AL:AO,2,FALSE),\"\")","v":"Buildings"},null,{"$f":"IFERROR(VLOOKUP(IF(C299=\"\",B299&\"||\"&B299,C299&\"||\"&B299),Worktags!AR:AV,5,FALSE),\"\")","v":""}]
["1605_SC1605 Buildings/Buildings",{"$f":"Worktags!AS213","v":"1605"},{"$f":"IF(Worktags!AQ213<>Worktags!AS213,Worktags!AQ213,\"\")","v":"SC1605"},{"$f":"IFERROR(VLOOKUP(B300,Worktags!AL:AO,2,FALSE),\"\")","v":"Buildings"},{"$f":"IFERROR(VLOOKUP(C300,Worktags!O:T,2,FALSE),\"\")","v":"Buildings"},{"$f":"IFERROR(VLOOKUP(IF(C300=\"\",B300&\"||\"&B300,C300&\"||\"&B300),Worktags!AR:AV,5,FALSE),\"\")","v":"JE_PPE|JE_Override"}]
["1610 Building Improvements",{"$f":"Worktags!AL58","v":"1610"},null,{"$f":"IFERROR(VLOOKUP(B301,Worktags!AL:AO,2,FALSE),\"\")","v":"Building Improvements"},null,{"$f":"IFERROR(VLOOKUP(IF(C301=\"\",B301&\"||\"&B301,C301&\"||\"&B301),Worktags!AR:AV,5,FALSE),\"\")","v":""}]
["1610_SC6702 Building Improvements/Building Construction and Improvements",{"$f":"Worktags!AS520","v":"1610"},{"$f":"IF(Worktags!AQ520<>Worktags!AS520,Worktags!AQ520,\"\")","v":"SC6702"},{"$f":"IFERROR(VLOOKUP(B302,Worktags!AL:AO,2,FALSE),\"\")","v":"Building Improvements"},{"$f":"IFERROR(VLOOKUP(C302,Worktags!O:T,2,FALSE),\"\")","v":"Building Construction and Improvements"},{"$f":"IFERROR(VLOOKUP(IF(C302=\"\",B302&\"||\"&B302,C302&\"||\"&B302),Worktags!AR:AV,5,FALSE),\"\")","v":"JE_PPE|JE_Override"}]
["1610_SC6704 Building Improvements/Building Materials - Finishing",{"$f":"Worktags!AS534","v":"1610"},{"$f":"IF(Worktags!AQ534<>Worktags!AS534,Worktags!AQ534,\"\")","v":"SC6704"},{"$f":"IFERROR(VLOOKUP(B303,Worktags!AL:AO,2,FALSE),\"\")","v":"Building Improvements"},{"$f":"IFERROR(VLOOKUP(C303,Worktags!O:T,2,FALSE),\"\")","v":"Building Materials - Finishing"},{"$f":"IFERROR(VLOOKUP(IF(C303=\"\",B303&\"||\"&B303,C303&\"||\"&B303),Worktags!AR:AV,5,FALSE),\"\")","v":"JE_PPE|JE_Override"}]
["1610_SC6705 Building Improvements/Building Materials - Raw",{"$f":"Worktags!AS541","v":"1610"},{"$f":"IF(Worktags!AQ541<>Worktags!AS541,Worktags!AQ541,\"\")","v":"SC6705"},{"$f":"IFERROR(VLOOKUP(B304,Worktags!AL:AO,2,FALSE),\"\")","v":"Building Improvements"},{"$f":"IFERROR(VLOOKUP(C304,Worktags!O:T,2,FALSE),\"\")","v":"Building Materials - Raw"},{"$f":"IFERROR(VLOOKUP(IF(C304=\"\",B304&\"||\"&B304,C304&\"||\"&B304),Worktags!AR:AV,5,FALSE),\"\")","v":"JE_PPE|JE_Override"}]
["1610_SC6706 Building Improvements/Electrical Devices",{"$f":"Worktags!AS548","v":"1610"},{"$f":"IF(Worktags!AQ548<>Worktags!AS548,Worktags!AQ548,\"\")","v":"SC6706"},{"$f":"IFERROR(VLOOKUP(B305,Worktags!AL:AO,2,FALSE),\"\")","v":"Building Improvements"},{"$f":"IFERROR(VLOOKUP(C305,Worktags!O:T,2,FALSE),\"\")","v":"Electrical Devices"},{"$f":"IFERROR(VLOOKUP(IF(C305=\"\",B305&\"||\"&B305,C305&\"||\"&B305),Worktags!AR:AV,5,FALSE),\"\")","v":"JE_PPE|JE_Override"}]
["1610_SC6708 Building Improvements/Fans/Furnaces",{"$f":"Worktags!AS559","v":"1610"},{"$f":"IF(Worktags!AQ559<>Worktags!AS559,Worktags!AQ559,\"\")","v":"SC6708"},{"$f":"IFERROR(VLOOKUP(B306,Worktags!AL:AO,2,FALSE),\"\")","v":"Building Improvements"},{"$f":"IFERROR(VLOOKUP(C306,Worktags!O:T,2,FALSE),\"\")","v":"Fans/Furnaces"},{"$f":"IFERROR(VLOOKUP(IF(C306=\"\",B306&\"||\"&B306,C306&\"||\"&B306),Worktags!AR:AV,5,FALSE),\"\")","v":"JE_PPE|JE_Override"}]
["1610_SC6709 Building Improvements/Flooring Materials",{"$f":"Worktags!AS566","v":"1610"},{"$f":"IF(Worktags!AQ566<>Worktags!AS566,Worktags!AQ566,\"\")","v":"SC6709"},{"$f":"IFERROR(VLOOKUP(B307,Worktags!AL:AO,2,FALSE),\"\")","v":"Building Improvements"},{"$f":"IFERROR(VLOOKUP(C307,Worktags!O:T,2,FALSE),\"\")","v":"Flooring Materials"},{"$f":"IFERROR(VLOOKUP(IF(C307=\"\",B307&\"||\"&B307,C307&\"||\"&B307),Worktags!AR:AV,5,FALSE),\"\")","v":"JE_PPE|JE_Override"}]
["1610_SC6713 Building Improvements/Industrial Fixtures",{"$f":"Worktags!AS589","v":"1610"},{"$f":"IF(Worktags!AQ589<>Worktags!AS589,Worktags!AQ589,\"\")","v":"SC6713"},{"$f":"IFERROR(VLOOKUP(B308,Worktags!AL:AO,2,FALSE),\"\")","v":"Building Improvements"},{"$f":"IFERROR(VLOOKUP(C308,Worktags!O:T,2,FALSE),\"\")","v":"Industrial Fixtures"},{"$f":"IFERROR(VLOOKUP(IF(C308=\"\",B308&\"||\"&B308,C308&\"||\"&B308),Worktags!AR:AV,5,FALSE),\"\")","v":"JE_PPE|JE_Override"}]
["1615 Other Improvements",{"$f":"Worktags!AL59","v":"1615"},null,{"$f":"IFERROR(VLOOKUP(B309,Worktags!AL:AO,2,FALSE),\"\")","v":"Other Improvements"},null,{"$f":"IFERROR(VLOOKUP(IF(C309=\"\",B309&\"||\"&B309,C309&\"||\"&B309),Worktags!AR:AV,5,FALSE),\"\")","v":""}]
["1615_SC1615 Other Improvements/Other Improvments",{"$f":"Worktags!AS216","v":"1615"},{"$f":"IF(Worktags!AQ216<>Worktags!AS216,Worktags!AQ216,\"\")","v":"SC1615"},{"$f":"IFERROR(VLOOKUP(B310,Worktags!AL:AO,2,FALSE),\"\")","v":"Other Improvements"},{"$f":"IFERROR(VLOOKUP(C310,Worktags!O:T,2,FALSE),\"\")","v":"Other Improvments"},{"$f":"IFERROR(VLOOKUP(IF(C310=\"\",B310&\"||\"&B310,C310&\"||\"&B310),Worktags!AR:AV,5,FALSE),\"\")","v":"JE_PPE|JE_Override"}]
["1615_SC6711 Other Improvements/Grounds and Landscaping Supplies",{"$f":"Worktags!AS580","v":"1615"},{"$f":"IF(Worktags!AQ580<>Worktags!AS580,Worktags!AQ580,\"\")","v":"SC6711"},{"$f":"IFERROR(VLOOKUP(B311,Worktags!AL:AO,2,FALSE),\"\")","v":"Other Improvements"},{"$f":"IFERROR(VLOOKUP(C311,Worktags!O:T,2,FALSE),\"\")","v":"Grounds and Landscaping Supplies"},{"$f":"IFERROR(VLOOKUP(IF(C311=\"\",B311&\"||\"&B311,C311&\"||\"&B311),Worktags!AR:AV,5,FALSE),\"\")","v":"JE_PPE|JE_Override"}]
["1620 Furnishings and Fixtures",{"$f":"Worktags!AL60","v":"1620"},null,{"$f":"IFERROR(VLOOKUP(B312,Worktags!AL:AO,2,FALSE),\"\")","v":"Furnishings and Fixtures"},null,{"$f":"IFERROR(VLOOKUP(IF(C312=\"\",B312&\"||\"&B312,C312&\"||\"&B312),Worktags!AR:AV,5,FALSE),\"\")","v":""}]
["1620_SC6703 Furnishings and Fixtures/Building Furnishings",{"$f":"Worktags!AS527","v":"1620"},{"$f":"IF(Worktags!AQ527<>Worktags!AS527,Worktags!AQ527,\"\")","v":"SC6703"},{"$f":"IFERROR(VLOOKUP(B313,Worktags!AL:AO,2,FALSE),\"\")","v":"Furnishings and Fixtures"},{"$f":"IFERROR(VLOOKUP(C313,Worktags!O:T,2,FALSE),\"\")","v":"Building Furnishings"},{"$f":"IFERROR(VLOOKUP(IF(C313=\"\",B313&\"||\"&B313,C313&\"||\"&B313),Worktags!AR:AV,5,FALSE),\"\")","v":"JE_PPE|JE_Override"}]
["1620_SC6710 Furnishings and Fixtures/Furnishing Accessories",{"$f":"Worktags!AS573","v":"1620"},{"$f":"IF(Worktags!AQ573<>Worktags!AS573,Worktags!AQ573,\"\")","v":"SC6710"},{"$f":"IFERROR(VLOOKUP(B314,Worktags!AL:AO,2,FALSE),\"\")","v":"Furnishings and Fixtures"},{"$f":"IFERROR(VLOOKUP(C314,Worktags!O:T,2,FALSE),\"\")","v":"Furnishing Accessories"},{"$f":"IFERROR(VLOOKUP(IF(C314=\"\",B314&\"||\"&B314,C314&\"||\"&B314),Worktags!AR:AV,5,FALSE),\"\")","v":"JE_PPE|JE_Override"}]
["1620_SC6714 Furnishings and Fixtures/Lighting Fixtures and Lamps",{"$f":"Worktags!AS596","v":"1620"},{"$f":"IF(Worktags!AQ596<>Worktags!AS596,Worktags!AQ596,\"\")","v":"SC6714"},{"$f":"IFERROR(VLOOKUP(B315,Worktags!AL:AO,2,FALSE),\"\")","v":"Furnishings and Fixtures"},{"$f":"IFERROR(VLOOKUP(C315,Worktags!O:T,2,FALSE),\"\")","v":"Lighting Fixtures and Lamps"},{"$f":"IFERROR(VLOOKUP(IF(C315=\"\",B315&\"||\"&B315,C315&\"||\"&B315),Worktags!AR:AV,5,FALSE),\"\")","v":"JE_PPE|JE_Override"}]
["1620_SC6715 Furnishings and Fixtures/Plumbing Fixtures",{"$f":"Worktags!AS603","v":"1620"},{"$f":"IF(Worktags!AQ603<>Worktags!AS603,Worktags!AQ603,\"\")","v":"SC6715"},{"$f":"IFERROR(VLOOKUP(B316,Worktags!AL:AO,2,FALSE),\"\")","v":"Furnishings and Fixtures"},{"$f":"IFERROR(VLOOKUP(C316,Worktags!O:T,2,FALSE),\"\")","v":"Plumbing Fixtures"},{"$f":"IFERROR(VLOOKUP(IF(C316=\"\",B316&\"||\"&B316,C316&\"||\"&B316),Worktags!AR:AV,5,FALSE),\"\")","v":"JE_PPE|JE_Override"}]
["1620_SC6718 Furnishings and Fixtures/Signage, Electronic",{"$f":"Worktags!AS616","v":"1620"},{"$f":"IF(Worktags!AQ616<>Worktags!AS616,Worktags!AQ616,\"\")","v":"SC6718"},{"$f":"IFERROR(VLOOKUP(B317,Worktags!AL:AO,2,FALSE),\"\")","v":"Furnishings and Fixtures"},{"$f":"IFERROR(VLOOKUP(C317,Worktags!O:T,2,FALSE),\"\")","v":"Signage, Electronic"},{"$f":"IFERROR(VLOOKUP(IF(C317=\"\",B317&\"||\"&B317,C317&\"||\"&B317),Worktags!AR:AV,5,FALSE),\"\")","v":"JE_PPE|JE_Override"}]
["1620_SC6719 Furnishings and Fixtures/Signage, Non-electronic",{"$f":"Worktags!AS623","v":"1620"},{"$f":"IF(Worktags!AQ623<>Worktags!AS623,Worktags!AQ623,\"\")","v":"SC6719"},{"$f":"IFERROR(VLOOKUP(B318,Worktags!AL:AO,2,FALSE),\"\")","v":"Furnishings and Fixtures"},{"$f":"IFERROR(VLOOKUP(C318,Worktags!O:T,2,FALSE),\"\")","v":"Signage, Non-electronic"},{"$f":"IFERROR(VLOOKUP(IF(C318=\"\",B318&\"||\"&B318,C318&\"||\"&B318),Worktags!AR:AV,5,FALSE),\"\")","v":"JE_PPE|JE_Override"}]
["1620_SC6721 Furnishings and Fixtures/Stage and Studio Lighting (Asset Track)",{"$f":"Worktags!AS634","v":"1620"},{"$f":"IF(Worktags!AQ634<>Worktags!AS634,Worktags!AQ634,\"\")","v":"SC6721"},{"$f":"IFERROR(VLOOKUP(B319,Worktags!AL:AO,2,FALSE),\"\")","v":"Furnishings and Fixtures"},{"$f":"IFERROR(VLOOKUP(C319,Worktags!O:T,2,FALSE),\"\")","v":"Stage and Studio Lighting (Asset Track)"},{"$f":"IFERROR(VLOOKUP(IF(C319=\"\",B319&\"||\"&B319,C319&\"||\"&B319),Worktags!AR:AV,5,FALSE),\"\")","v":"JE_PPE|JE_Override"}]
["1620_SC6729 Furnishings and Fixtures/Warehouse Fixtures",{"$f":"Worktags!AS655","v":"1620"},{"$f":"IF(Worktags!AQ655<>Worktags!AS655,Worktags!AQ655,\"\")","v":"SC6729"},{"$f":"IFERROR(VLOOKUP(B320,Worktags!AL:AO,2,FALSE),\"\")","v":"Furnishings and Fixtures"},{"$f":"IFERROR(VLOOKUP(C320,Worktags!O:T,2,FALSE),\"\")","v":"Warehouse Fixtures"},{"$f":"IFERROR(VLOOKUP(IF(C320=\"\",B320&\"||\"&B320,C320&\"||\"&B320),Worktags!AR:AV,5,FALSE),\"\")","v":"JE_PPE|JE_Override"}]
[{"$f":"IF(B321<>\"\",IF(C321<>\"\",B321&\"_\"&C321&\" \"&D321&\"/\"&E321,B321&\" \"&D321),\"\")","v":"1620_SC6730 Furnishings and Fixtures/Window Treatments"},{"$f":"Worktags!AS662","v":"1620"},{"$f":"IF(Worktags!AQ662<>Worktags!AS662,Worktags!AQ662,\"\")","v":"SC6730"},{"$f":"IFERROR(VLOOKUP(B321,Worktags!AL:AO,2,FALSE),\"\")","v":"Furnishings and Fixtures"},{"$f":"IFERROR(VLOOKUP(C321,Worktags!O:T,2,FALSE),\"\")","v":"Window Treatments"},{"$f":"IFERROR(VLOOKUP(IF(C321=\"\",B321&\"||\"&B321,C321&\"||\"&B321),Worktags!AR:AV,5,FALSE),\"\")","v":"JE_PPE|JE_Override"}]
["1625 Capital Equipment",{"$f":"Worktags!AL61","v":"1625"},null,{"$f":"IFERROR(VLOOKUP(B322,Worktags!AL:AO,2,FALSE),\"\")","v":"Capital Equipment"},null,{"$f":"IFERROR(VLOOKUP(IF(C322=\"\",B322&\"||\"&B322,C322&\"||\"&B322),Worktags!AR:AV,5,FALSE),\"\")","v":""}]
["1625_SC6901 Capital Equipment/Art Equipment",{"$f":"Worktags!AS674","v":"1625"},{"$f":"IF(Worktags!AQ674<>Worktags!AS674,Worktags!AQ674,\"\")","v":"SC6901"},{"$f":"IFERROR(VLOOKUP(B323,Worktags!AL:AO,2,FALSE),\"\")","v":"Capital Equipment"},{"$f":"IFERROR(VLOOKUP(C323,Worktags!O:T,2,FALSE),\"\")","v":"Art Equipment"},{"$f":"IFERROR(VLOOKUP(IF(C323=\"\",B323&\"||\"&B323,C323&\"||\"&B323),Worktags!AR:AV,5,FALSE),\"\")","v":"JE_PPE|JE_Override"}]
["1625_SC6902 Capital Equipment/Athletic Equipment",{"$f":"Worktags!AS681","v":"1625"},{"$f":"IF(Worktags!AQ681<>Worktags!AS681,Worktags!AQ681,\"\")","v":"SC6902"},{"$f":"IFERROR(VLOOKUP(B324,Worktags!AL:AO,2,FALSE),\"\")","v":"Capital Equipment"},{"$f":"IFERROR(VLOOKUP(C324,Worktags!O:T,2,FALSE),\"\")","v":"Athletic Equipment"},{"$f":"IFERROR(VLOOKUP(IF(C324=\"\",B324&\"||\"&B324,C324&\"||\"&B324),Worktags!AR:AV,5,FALSE),\"\")","v":"JE_PPE|JE_Override"}]
["1625_SC6903 Capital Equipment/Audio Visual Equipment (Asset Track)",{"$f":"Worktags!AS688","v":"1625"},{"$f":"IF(Worktags!AQ688<>Worktags!AS688,Worktags!AQ688,\"\")","v":"SC6903"},{"$f":"IFERROR(VLOOKUP(B325,Worktags!AL:AO,2,FALSE),\"\")","v":"Capital Equipment"},{"$f":"IFERROR(VLOOKUP(C325,Worktags!O:T,2,FALSE),\"\")","v":"Audio Visual Equipment (Asset Track)"},{"$f":"IFERROR(VLOOKUP(IF(C325=\"\",B325&\"||\"&B325,C325&\"||\"&B325),Worktags!AR:AV,5,FALSE),\"\")","v":"JE_PPE|JE_Override"}]
["1625_SC6904 Capital Equipment/Communication Devices (Asset Track)",{"$f":"Worktags!AS695","v":"1625"},{"$f":"IF(Worktags!AQ695<>Worktags!AS695,Worktags!AQ695,\"\")","v":"SC6904"},{"$f":"IFERROR(VLOOKUP(B326,Worktags!AL:AO,2,FALSE),\"\")","v":"Capital Equipment"},{"$f":"IFERROR(VLOOKUP(C326,Worktags!O:T,2,FALSE),\"\")","v":"Communication Devices (Asset Track)"},{"$f":"IFERROR(VLOOKUP(IF(C326=\"\",B326&\"||\"&B326,C326&\"||\"&B326),Worktags!AR:AV,5,FALSE),\"\")","v":"JE_PPE|JE_Override"}]
["1625_SC6905 Capital Equipment/Computer Hardware (Asset Track)",{"$f":"Worktags!AS702","v":"1625"},{"$f":"IF(Worktags!AQ702<>Worktags!AS702,Worktags!AQ702,\"\")","v":"SC6905"},{"$f":"IFERROR(VLOOKUP(B327,Worktags!AL:AO,2,FALSE),\"\")","v":"Capital Equipment"},{"$f":"IFERROR(VLOOKUP(C327,Worktags!O:T,2,FALSE),\"\")","v":"Computer Hardware (Asset Track)"},{"$f":"IFERROR(VLOOKUP(IF(C327=\"\",B327&\"||\"&B327,C327&\"||\"&B327),Worktags!AR:AV,5,FALSE),\"\")","v":"JE_PPE|JE_Override"}]
["1625_SC6906 Capital Equipment/Data Network Equipment (Asset Track)",{"$f":"Worktags!AS709","v":"1625"},{"$f":"IF(Worktags!AQ709<>Worktags!AS709,Worktags!AQ709,\"\")","v":"SC6906"},{"$f":"IFERROR(VLOOKUP(B328,Worktags!AL:AO,2,FALSE),\"\")","v":"Capital Equipment"},{"$f":"IFERROR(VLOOKUP(C328,Worktags!O:T,2,FALSE),\"\")","v":"Data Network Equipment (Asset Track)"},{"$f":"IFERROR(VLOOKUP(IF(C328=\"\",B328&\"||\"&B328,C328&\"||\"&B328),Worktags!AR:AV,5,FALSE),\"\")","v":"JE_PPE|JE_Override"}]
["1625_SC6907 Capital Equipment/Equipment (not otherwise specified) (Asset Track)",{"$f":"Worktags!AS716","v":"1625"},{"$f":"IF(Worktags!AQ716<>Worktags!AS716,Worktags!AQ716,\"\")","v":"SC6907"},{"$f":"IFERROR(VLOOKUP(B329,Worktags!AL:AO,2,FALSE),\"\")","v":"Capital Equipment"},{"$f":"IFERROR(VLOOKUP(C329,Worktags!O:T,2,FALSE),\"\")","v":"Equipment (not otherwise specified) (Asset Track)"},{"$f":"IFERROR(VLOOKUP(IF(C329=\"\",B329&\"||\"&B329,C329&\"||\"&B329),Worktags!AR:AV,5,FALSE),\"\")","v":"JE_PPE|JE_Override"}]
["1625_SC6909 Capital Equipment/Firearms",{"$f":"Worktags!AS725","v":"1625"},{"$f":"IF(Worktags!AQ725<>Worktags!AS725,Worktags!AQ725,\"\")","v":"SC6909"},{"$f":"IFERROR(VLOOKUP(B330,Worktags!AL:AO,2,FALSE),\"\")","v":"Capital Equipment"},{"$f":"IFERROR(VLOOKUP(C330,Worktags!O:T,2,FALSE),\"\")","v":"Firearms"},{"$f":"IFERROR(VLOOKUP(IF(C330=\"\",B330&\"||\"&B330,C330&\"||\"&B330),Worktags!AR:AV,5,FALSE),\"\")","v":"JE_PPE|JE_Override"}]
["1625_SC6910 Capital Equipment/Food Service Equipment",{"$f":"Worktags!AS730","v":"1625"},{"$f":"IF(Worktags!AQ730<>Worktags!AS730,Worktags!AQ730,\"\")","v":"SC6910"},{"$f":"IFERROR(VLOOKUP(B331,Worktags!AL:AO,2,FALSE),\"\")","v":"Capital Equipment"},{"$f":"IFERROR(VLOOKUP(C331,Worktags!O:T,2,FALSE),\"\")","v":"Food Service Equipment"},{"$f":"IFERROR(VLOOKUP(IF(C331=\"\",B331&\"||\"&B331,C331&\"||\"&B331),Worktags!AR:AV,5,FALSE),\"\")","v":"JE_PPE|JE_Override"}]
["1625_SC6911 Capital Equipment/Grants Capital Equipment",{"$f":"Worktags!AS737","v":"1625"},{"$f":"IF(Worktags!AQ737<>Worktags!AS737,Worktags!AQ737,\"\")","v":"SC6911"},{"$f":"IFERROR(VLOOKUP(B332,Worktags!AL:AO,2,FALSE),\"\")","v":"Capital Equipment"},{"$f":"IFERROR(VLOOKUP(C332,Worktags!O:T,2,FALSE),\"\")","v":"Grants Capital Equipment"},{"$f":"IFERROR(VLOOKUP(IF(C332=\"\",B332&\"||\"&B332,C332&\"||\"&B332),Worktags!AR:AV,5,FALSE),\"\")","v":"JE_PPE|JE_Override"}]
["1625_SC6913 Capital Equipment/Grounds Equipment",{"$f":"Worktags!AS744","v":"1625"},{"$f":"IF(Worktags!AQ744<>Worktags!AS744,Worktags!AQ744,\"\")","v":"SC6913"},{"$f":"IFERROR(VLOOKUP(B333,Worktags!AL:AO,2,FALSE),\"\")","v":"Capital Equipment"},{"$f":"IFERROR(VLOOKUP(C333,Worktags!O:T,2,FALSE),\"\")","v":"Grounds Equipment"},{"$f":"IFERROR(VLOOKUP(IF(C333=\"\",B333&\"||\"&B333,C333&\"||\"&B333),Worktags!AR:AV,5,FALSE),\"\")","v":"JE_PPE|JE_Override"}]
["1625_SC6914 Capital Equipment/Industrial Equipment",{"$f":"Worktags!AS749","v":"1625"},{"$f":"IF(Worktags!AQ749<>Worktags!AS749,Worktags!AQ749,\"\")","v":"SC6914"},{"$f":"IFERROR(VLOOKUP(B334,Worktags!AL:AO,2,FALSE),\"\")","v":"Capital Equipment"},{"$f":"IFERROR(VLOOKUP(C334,Worktags!O:T,2,FALSE),\"\")","v":"Industrial Equipment"},{"$f":"IFERROR(VLOOKUP(IF(C334=\"\",B334&\"||\"&B334,C334&\"||\"&B334),Worktags!AR:AV,5,FALSE),\"\")","v":"JE_PPE|JE_Override"}]
["1625_SC6915 Capital Equipment/Janitorial Equipment",{"$f":"Worktags!AS756","v":"1625"},{"$f":"IF(Worktags!AQ756<>Worktags!AS756,Worktags!AQ756,\"\")","v":"SC6915"},{"$f":"IFERROR(VLOOKUP(B335,Worktags!AL:AO,2,FALSE),\"\")","v":"Capital Equipment"},{"$f":"IFERROR(VLOOKUP(C335,Worktags!O:T,2,FALSE),\"\")","v":"Janitorial Equipment"},{"$f":"IFERROR(VLOOKUP(IF(C335=\"\",B335&\"||\"&B335,C335&\"||\"&B335),Worktags!AR:AV,5,FALSE),\"\")","v":"JE_PPE|JE_Override"}]
["1625_SC6917 Capital Equipment/Laundry Equipment",{"$f":"Worktags!AS765","v":"1625"},{"$f":"IF(Worktags!AQ765<>Worktags!AS765,Worktags!AQ765,\"\")","v":"SC6917"},{"$f":"IFERROR(VLOOKUP(B336,Worktags!AL:AO,2,FALSE),\"\")","v":"Capital Equipment"},{"$f":"IFERROR(VLOOKUP(C336,Worktags!O:T,2,FALSE),\"\")","v":"Laundry Equipment"},{"$f":"IFERROR(VLOOKUP(IF(C336=\"\",B336&\"||\"&B336,C336&\"||\"&B336),Worktags!AR:AV,5,FALSE),\"\")","v":"JE_PPE|JE_Override"}]
["1625_SC6921 Capital Equipment/Medical Equipment",{"$f":"Worktags!AS784","v":"1625"},{"$f":"IF(Worktags!AQ784<>Worktags!AS784,Worktags!AQ784,\"\")","v":"SC6921"},{"$f":"IFERROR(VLOOKUP(B337,Worktags!AL:AO,2,FALSE),\"\")","v":"Capital Equipment"},{"$f":"IFERROR(VLOOKUP(C337,Worktags!O:T,2,FALSE),\"\")","v":"Medical Equipment"},{"$f":"IFERROR(VLOOKUP(IF(C337=\"\",B337&\"||\"&B337,C337&\"||\"&B337),Worktags!AR:AV,5,FALSE),\"\")","v":"JE_PPE|JE_Override"}]
["1625_SC6923 Capital Equipment/Musical Instruments",{"$f":"Worktags!AS793","v":"1625"},{"$f":"IF(Worktags!AQ793<>Worktags!AS793,Worktags!AQ793,\"\")","v":"SC6923"},{"$f":"IFERROR(VLOOKUP(B338,Worktags!AL:AO,2,FALSE),\"\")","v":"Capital Equipment"},{"$f":"IFERROR(VLOOKUP(C338,Worktags!O:T,2,FALSE),\"\")","v":"Musical Instruments"},{"$f":"IFERROR(VLOOKUP(IF(C338=\"\",B338&\"||\"&B338,C338&\"||\"&B338),Worktags!AR:AV,5,FALSE),\"\")","v":"JE_PPE|JE_Override"}]
["1625_SC6924 Capital Equipment/Office Equipment (Asset Track)",{"$f":"Worktags!AS798","v":"1625"},{"$f":"IF(Worktags!AQ798<>Worktags!AS798,Worktags!AQ798,\"\")","v":"SC6924"},{"$f":"IFERROR(VLOOKUP(B339,Worktags!AL:AO,2,FALSE),\"\")","v":"Capital Equipment"},{"$f":"IFERROR(VLOOKUP(C339,Worktags!O:T,2,FALSE),\"\")","v":"Office Equipment (Asset Track)"},{"$f":"IFERROR(VLOOKUP(IF(C339=\"\",B339&\"||\"&B339,C339&\"||\"&B339),Worktags!AR:AV,5,FALSE),\"\")","v":"JE_PPE|JE_Override"}]
["1625_SC6926 Capital Equipment/Photography Equipment",{"$f":"Worktags!AS807","v":"1625"},{"$f":"IF(Worktags!AQ807<>Worktags!AS807,Worktags!AQ807,\"\")","v":"SC6926"},{"$f":"IFERROR(VLOOKUP(B340,Worktags!AL:AO,2,FALSE),\"\")","v":"Capital Equipment"},{"$f":"IFERROR(VLOOKUP(C340,Worktags!O:T,2,FALSE),\"\")","v":"Photography Equipment"},{"$f":"IFERROR(VLOOKUP(IF(C340=\"\",B340&\"||\"&B340,C340&\"||\"&B340),Worktags!AR:AV,5,FALSE),\"\")","v":"JE_PPE|JE_Override"}]
["1625_SC6927 Capital Equipment/Portable Structures",{"$f":"Worktags!AS812","v":"1625"},{"$f":"IF(Worktags!AQ812<>Worktags!AS812,Worktags!AQ812,\"\")","v":"SC6927"},{"$f":"IFERROR(VLOOKUP(B341,Worktags!AL:AO,2,FALSE),\"\")","v":"Capital Equipment"},{"$f":"IFERROR(VLOOKUP(C341,Worktags!O:T,2,FALSE),\"\")","v":"Portable Structures"},{"$f":"IFERROR(VLOOKUP(IF(C341=\"\",B341&\"||\"&B341,C341&\"||\"&B341),Worktags!AR:AV,5,FALSE),\"\")","v":"JE_PPE|JE_Override"}]
["1625_SC6928 Capital Equipment/Printing Equipment",{"$f":"Worktags!AS819","v":"1625"},{"$f":"IF(Worktags!AQ819<>Worktags!AS819,Worktags!AQ819,\"\")","v":"SC6928"},{"$f":"IFERROR(VLOOKUP(B342,Worktags!AL:AO,2,FALSE),\"\")","v":"Capital Equipment"},{"$f":"IFERROR(VLOOKUP(C342,Worktags!O:T,2,FALSE),\"\")","v":"Printing Equipment"},{"$f":"IFERROR(VLOOKUP(IF(C342=\"\",B342&\"||\"&B342,C342&\"||\"&B342),Worktags!AR:AV,5,FALSE),\"\")","v":"JE_PPE|JE_Override"}]
["1625_SC6929 Capital Equipment/Scientific and Engineering Equipment",{"$f":"Worktags!AS826","v":"1625"},{"$f":"IF(Worktags!AQ826<>Worktags!AS826,Worktags!AQ826,\"\")","v":"SC6929"},{"$f":"IFERROR(VLOOKUP(B343,Worktags!AL:AO,2,FALSE),\"\")","v":"Capital Equipment"},{"$f":"IFERROR(VLOOKUP(C343,Worktags!O:T,2,FALSE),\"\")","v":"Scientific and Engineering Equipment"},{"$f":"IFERROR(VLOOKUP(IF(C343=\"\",B343&\"||\"&B343,C343&\"||\"&B343),Worktags!AR:AV,5,FALSE),\"\")","v":"JE_PPE|JE_Override"}]
["1625_SC6931 Capital Equipment/Security Equipment (Asset Track)",{"$f":"Worktags!AS835","v":"1625"},{"$f":"IF(Worktags!AQ835<>Worktags!AS835,Worktags!AQ835,\"\")","v":"SC6931"},{"$f":"IFERROR(VLOOKUP(B344,Worktags!AL:AO,2,FALSE),\"\")","v":"Capital Equipment"},{"$f":"IFERROR(VLOOKUP(C344,Worktags!O:T,2,FALSE),\"\")","v":"Security Equipment (Asset Track)"},{"$f":"IFERROR(VLOOKUP(IF(C344=\"\",B344&\"||\"&B344,C344&\"||\"&B344),Worktags!AR:AV,5,FALSE),\"\")","v":"JE_PPE|JE_Override"}]
["1625_SC6932 Capital Equipment/Small Appliances",{"$f":"Worktags!AS842","v":"1625"},{"$f":"IF(Worktags!AQ842<>Worktags!AS842,Worktags!AQ842,\"\")","v":"SC6932"},{"$f":"IFERROR(VLOOKUP(B345,Worktags!AL:AO,2,FALSE),\"\")","v":"Capital Equipment"},{"$f":"IFERROR(VLOOKUP(C345,Worktags!O:T,2,FALSE),\"\")","v":"Small Appliances"},{"$f":"IFERROR(VLOOKUP(IF(C345=\"\",B345&\"||\"&B345,C345&\"||\"&B345),Worktags!AR:AV,5,FALSE),\"\")","v":"JE_PPE|JE_Override"}]
["1625_SC6935 Capital Equipment/Telecom Equipment",{"$f":"Worktags!AS856","v":"1625"},{"$f":"IF(Worktags!AQ856<>Worktags!AS856,Worktags!AQ856,\"\")","v":"SC6935"},{"$f":"IFERROR(VLOOKUP(B346,Worktags!AL:AO,2,FALSE),\"\")","v":"Capital Equipment"},{"$f":"IFERROR(VLOOKUP(C346,Worktags!O:T,2,FALSE),\"\")","v":"Telecom Equipment"},{"$f":"IFERROR(VLOOKUP(IF(C346=\"\",B346&\"||\"&B346,C346&\"||\"&B346),Worktags!AR:AV,5,FALSE),\"\")","v":"JE_PPE|JE_Override"}]
["1625_SC6938 Capital Equipment/Vehicles, Off-Road",{"$f":"Worktags!AS870","v":"1625"},{"$f":"IF(Worktags!AQ870<>Worktags!AS870,Worktags!AQ870,\"\")","v":"SC6938"},{"$f":"IFERROR(VLOOKUP(B347,Worktags!AL:AO,2,FALSE),\"\")","v":"Capital Equipment"},{"$f":"IFERROR(VLOOKUP(C347,Worktags!O:T,2,FALSE),\"\")","v":"Vehicles, Off-Road"},{"$f":"IFERROR(VLOOKUP(IF(C347=\"\",B347&\"||\"&B347,C347&\"||\"&B347),Worktags!AR:AV,5,FALSE),\"\")","v":"JE_PPE|JE_Override"}]
["1625_SC6939 Capital Equipment/Warehouse Equipment",{"$f":"Worktags!AS875","v":"1625"},{"$f":"IF(Worktags!AQ875<>Worktags!AS875,Worktags!AQ875,\"\")","v":"SC6939"},{"$f":"IFERROR(VLOOKUP(B348,Worktags!AL:AO,2,FALSE),\"\")","v":"Capital Equipment"},{"$f":"IFERROR(VLOOKUP(C348,Worktags!O:T,2,FALSE),\"\")","v":"Warehouse Equipment"},{"$f":"IFERROR(VLOOKUP(IF(C348=\"\",B348&\"||\"&B348,C348&\"||\"&B348),Worktags!AR:AV,5,FALSE),\"\")","v":"JE_PPE|JE_Override"}]
["1630 Vehicles",{"$f":"Worktags!AL62","v":"1630"},null,{"$f":"IFERROR(VLOOKUP(B349,Worktags!AL:AO,2,FALSE),\"\")","v":"Vehicles"},null,{"$f":"IFERROR(VLOOKUP(IF(C349=\"\",B349&\"||\"&B349,C349&\"||\"&B349),Worktags!AR:AV,5,FALSE),\"\")","v":""}]
["1630_SC6937 Vehicles/Vehicles, Motor",{"$f":"Worktags!AS865","v":"1630"},{"$f":"IF(Worktags!AQ865<>Worktags!AS865,Worktags!AQ865,\"\")","v":"SC6937"},{"$f":"IFERROR(VLOOKUP(B350,Worktags!AL:AO,2,FALSE),\"\")","v":"Vehicles"},{"$f":"IFERROR(VLOOKUP(C350,Worktags!O:T,2,FALSE),\"\")","v":"Vehicles, Motor"},{"$f":"IFERROR(VLOOKUP(IF(C350=\"\",B350&\"||\"&B350,C350&\"||\"&B350),Worktags!AR:AV,5,FALSE),\"\")","v":"JE_PPE|JE_Override"}]
["1632 Library Content",{"$f":"Worktags!AL63","v":"1632"},null,{"$f":"IFERROR(VLOOKUP(B351,Worktags!AL:AO,2,FALSE),\"\")","v":"Library Content"},null,{"$f":"IFERROR(VLOOKUP(IF(C351=\"\",B351&\"||\"&B351,C351&\"||\"&B351),Worktags!AR:AV,5,FALSE),\"\")","v":""}]
["1632_SC6918 Library Content/Library Content",{"$f":"Worktags!AS772","v":"1632"},{"$f":"IF(Worktags!AQ772<>Worktags!AS772,Worktags!AQ772,\"\")","v":"SC6918"},{"$f":"IFERROR(VLOOKUP(B352,Worktags!AL:AO,2,FALSE),\"\")","v":"Library Content"},{"$f":"IFERROR(VLOOKUP(C352,Worktags!O:T,2,FALSE),\"\")","v":"Library Content"},{"$f":"IFERROR(VLOOKUP(IF(C352=\"\",B352&\"||\"&B352,C352&\"||\"&B352),Worktags!AR:AV,5,FALSE),\"\")","v":"JE_PPE|JE_Override"}]
["1635 Misc Capital Assets",{"$f":"Worktags!AL64","v":"1635"},null,{"$f":"IFERROR(VLOOKUP(B353,Worktags!AL:AO,2,FALSE),\"\")","v":"Misc Capital Assets"},null,{"$f":"IFERROR(VLOOKUP(IF(C353=\"\",B353&\"||\"&B353,C353&\"||\"&B353),Worktags!AR:AV,5,FALSE),\"\")","v":""}]
["1635_SC1635 Misc Capital Assets/Misc Capital Assets",{"$f":"Worktags!AS217","v":"1635"},{"$f":"IF(Worktags!AQ217<>Worktags!AS217,Worktags!AQ217,\"\")","v":"SC1635"},{"$f":"IFERROR(VLOOKUP(B354,Worktags!AL:AO,2,FALSE),\"\")","v":"Misc Capital Assets"},{"$f":"IFERROR(VLOOKUP(C354,Worktags!O:T,2,FALSE),\"\")","v":"Misc Capital Assets"},{"$f":"IFERROR(VLOOKUP(IF(C354=\"\",B354&\"||\"&B354,C354&\"||\"&B354),Worktags!AR:AV,5,FALSE),\"\")","v":"JE_PPE|JE_Override"}]
["1635_SC6701 Misc Capital Assets/Building Access Supplies",{"$f":"Worktags!AS513","v":"1635"},{"$f":"IF(Worktags!AQ513<>Worktags!AS513,Worktags!AQ513,\"\")","v":"SC6701"},{"$f":"IFERROR(VLOOKUP(B355,Worktags!AL:AO,2,FALSE),\"\")","v":"Misc Capital Assets"},{"$f":"IFERROR(VLOOKUP(C355,Worktags!O:T,2,FALSE),\"\")","v":"Building Access Supplies"},{"$f":"IFERROR(VLOOKUP(IF(C355=\"\",B355&\"||\"&B355,C355&\"||\"&B355),Worktags!AR:AV,5,FALSE),\"\")","v":"JE_PPE|JE_Override"}]
["1637 Software",{"$f":"Worktags!AL65","v":"1637"},null,{"$f":"IFERROR(VLOOKUP(B356,Worktags!AL:AO,2,FALSE),\"\")","v":"Software"},null,{"$f":"IFERROR(VLOOKUP(IF(C356=\"\",B356&\"||\"&B356,C356&\"||\"&B356),Worktags!AR:AV,5,FALSE),\"\")","v":""}]
["1637_SC6933 Software/Software",{"$f":"Worktags!AS849","v":"1637"},{"$f":"IF(Worktags!AQ849<>Worktags!AS849,Worktags!AQ849,\"\")","v":"SC6933"},{"$f":"IFERROR(VLOOKUP(B357,Worktags!AL:AO,2,FALSE),\"\")","v":"Software"},{"$f":"IFERROR(VLOOKUP(C357,Worktags!O:T,2,FALSE),\"\")","v":"Software"},{"$f":"IFERROR(VLOOKUP(IF(C357=\"\",B357&\"||\"&B357,C357&\"||\"&B357),Worktags!AR:AV,5,FALSE),\"\")","v":"JE_PPE|JE_Override"}]
["1638 Media",{"$f":"Worktags!AL66","v":"1638"},null,{"$f":"IFERROR(VLOOKUP(B358,Worktags!AL:AO,2,FALSE),\"\")","v":"Media"},null,{"$f":"IFERROR(VLOOKUP(IF(C358=\"\",B358&\"||\"&B358,C358&\"||\"&B358),Worktags!AR:AV,5,FALSE),\"\")","v":""}]
["1638_SC6920 Media/Media Content",{"$f":"Worktags!AS779","v":"1638"},{"$f":"IF(Worktags!AQ779<>Worktags!AS779,Worktags!AQ779,\"\")","v":"SC6920"},{"$f":"IFERROR(VLOOKUP(B359,Worktags!AL:AO,2,FALSE),\"\")","v":"Media"},{"$f":"IFERROR(VLOOKUP(C359,Worktags!O:T,2,FALSE),\"\")","v":"Media Content"},{"$f":"IFERROR(VLOOKUP(IF(C359=\"\",B359&\"||\"&B359,C359&\"||\"&B359),Worktags!AR:AV,5,FALSE),\"\")","v":"JE_PPE|JE_Override"}]
["1650 Construction in Progress",{"$f":"Worktags!AL67","v":"1650"},null,{"$f":"IFERROR(VLOOKUP(B360,Worktags!AL:AO,2,FALSE),\"\")","v":"Construction in Progress"},null,{"$f":"IFERROR(VLOOKUP(IF(C360=\"\",B360&\"||\"&B360,C360&\"||\"&B360),Worktags!AR:AV,5,FALSE),\"\")","v":"JE_PPE|JE_Override"}]
["1650 Construction in Progress",{"$f":"Worktags!AS49","v":"1650"},{"$f":"IF(Worktags!AQ49<>Worktags!AS49,Worktags!AQ49,\"\")","v":""},{"$f":"IFERROR(VLOOKUP(B361,Worktags!AL:AO,2,FALSE),\"\")","v":"Construction in Progress"},{"$f":"IFERROR(VLOOKUP(C361,Worktags!O:T,2,FALSE),\"\")","v":""},{"$f":"IFERROR(VLOOKUP(IF(C361=\"\",B361&\"||\"&B361,C361&\"||\"&B361),Worktags!AR:AV,5,FALSE),\"\")","v":"JE_PPE|JE_Override"}]
["1650_SC6106 Construction in Progress/Audio Visual Supplies",{"$f":"Worktags!AS299","v":"1650"},{"$f":"IF(Worktags!AQ299<>Worktags!AS299,Worktags!AQ299,\"\")","v":"SC6106"},{"$f":"IFERROR(VLOOKUP(B362,Worktags!AL:AO,2,FALSE),\"\")","v":"Construction in Progress"},{"$f":"IFERROR(VLOOKUP(C362,Worktags!O:T,2,FALSE),\"\")","v":"Audio Visual Supplies"},{"$f":"IFERROR(VLOOKUP(IF(C362=\"\",B362&\"||\"&B362,C362&\"||\"&B362),Worktags!AR:AV,5,FALSE),\"\")","v":"JE_PPE|JE_Override"}]
["1650_SC6108 Construction in Progress/Data Network Supplies",{"$f":"Worktags!AS305","v":"1650"},{"$f":"IF(Worktags!AQ305<>Worktags!AS305,Worktags!AQ305,\"\")","v":"SC6108"},{"$f":"IFERROR(VLOOKUP(B363,Worktags!AL:AO,2,FALSE),\"\")","v":"Construction in Progress"},{"$f":"IFERROR(VLOOKUP(C363,Worktags!O:T,2,FALSE),\"\")","v":"Data Network Supplies"},{"$f":"IFERROR(VLOOKUP(IF(C363=\"\",B363&\"||\"&B363,C363&\"||\"&B363),Worktags!AR:AV,5,FALSE),\"\")","v":"JE_PPE|JE_Override"}]
["1650_SC6129 Construction in Progress/Supplies (not otherwise specified)",{"$f":"Worktags!AS348","v":"1650"},{"$f":"IF(Worktags!AQ348<>Worktags!AS348,Worktags!AQ348,\"\")","v":"SC6129"},{"$f":"IFERROR(VLOOKUP(B364,Worktags!AL:AO,2,FALSE),\"\")","v":"Construction in Progress"},{"$f":"IFERROR(VLOOKUP(C364,Worktags!O:T,2,FALSE),\"\")","v":"Supplies (not otherwise specified)"},{"$f":"IFERROR(VLOOKUP(IF(C364=\"\",B364&\"||\"&B364,C364&\"||\"&B364),Worktags!AR:AV,5,FALSE),\"\")","v":"JE_PPE|JE_Override"}]
["1650_SC6131 Construction in Progress/Telecom Supplies",{"$f":"Worktags!AS354","v":"1650"},{"$f":"IF(Worktags!AQ354<>Worktags!AS354,Worktags!AQ354,\"\")","v":"SC6131"},{"$f":"IFERROR(VLOOKUP(B365,Worktags!AL:AO,2,FALSE),\"\")","v":"Construction in Progress"},{"$f":"IFERROR(VLOOKUP(C365,Worktags!O:T,2,FALSE),\"\")","v":"Telecom Supplies"},{"$f":"IFERROR(VLOOKUP(IF(C365=\"\",B365&\"||\"&B365,C365&\"||\"&B365),Worktags!AR:AV,5,FALSE),\"\")","v":"JE_PPE|JE_Override"}]
["1650_SC6199 Construction in Progress/Materials and Supplies (reclass)",{"$f":"Worktags!AS362","v":"1650"},{"$f":"IF(Worktags!AQ362<>Worktags!AS362,Worktags!AQ362,\"\")","v":"SC6199"},{"$f":"IFERROR(VLOOKUP(B366,Worktags!AL:AO,2,FALSE),\"\")","v":"Construction in Progress"},{"$f":"IFERROR(VLOOKUP(C366,Worktags!O:T,2,FALSE),\"\")","v":"Materials and Supplies (reclass)"},{"$f":"IFERROR(VLOOKUP(IF(C366=\"\",B366&\"||\"&B366,C366&\"||\"&B366),Worktags!AR:AV,5,FALSE),\"\")","v":"JE_PPE|JE_Override"}]
["1650_SC6404 Construction in Progress/Architectural or Engineering Services",{"$f":"Worktags!AS380","v":"1650"},{"$f":"IF(Worktags!AQ380<>Worktags!AS380,Worktags!AQ380,\"\")","v":"SC6404"},{"$f":"IFERROR(VLOOKUP(B367,Worktags!AL:AO,2,FALSE),\"\")","v":"Construction in Progress"},{"$f":"IFERROR(VLOOKUP(C367,Worktags!O:T,2,FALSE),\"\")","v":"Architectural or Engineering Services"},{"$f":"IFERROR(VLOOKUP(IF(C367=\"\",B367&\"||\"&B367,C367&\"||\"&B367),Worktags!AR:AV,5,FALSE),\"\")","v":"JE_PPE|JE_Override"}]
["1650_SC6414 Construction in Progress/Computer Services",{"$f":"Worktags!AS399","v":"1650"},{"$f":"IF(Worktags!AQ399<>Worktags!AS399,Worktags!AQ399,\"\")","v":"SC6414"},{"$f":"IFERROR(VLOOKUP(B368,Worktags!AL:AO,2,FALSE),\"\")","v":"Construction in Progress"},{"$f":"IFERROR(VLOOKUP(C368,Worktags!O:T,2,FALSE),\"\")","v":"Computer Services"},{"$f":"IFERROR(VLOOKUP(IF(C368=\"\",B368&\"||\"&B368,C368&\"||\"&B368),Worktags!AR:AV,5,FALSE),\"\")","v":"JE_PPE|JE_Override"}]
["1650_SC6435 Construction in Progress/Misc Independent Contractors",{"$f":"Worktags!AS440","v":"1650"},{"$f":"IF(Worktags!AQ440<>Worktags!AS440,Worktags!AQ440,\"\")","v":"SC6435"},{"$f":"IFERROR(VLOOKUP(B369,Worktags!AL:AO,2,FALSE),\"\")","v":"Construction in Progress"},{"$f":"IFERROR(VLOOKUP(C369,Worktags!O:T,2,FALSE),\"\")","v":"Misc Independent Contractors"},{"$f":"IFERROR(VLOOKUP(IF(C369=\"\",B369&\"||\"&B369,C369&\"||\"&B369),Worktags!AR:AV,5,FALSE),\"\")","v":"JE_PPE|JE_Override"}]
["1650_SC6449 Construction in Progress/Rent/Lease < = 1 year",{"$f":"Worktags!AS468","v":"1650"},{"$f":"IF(Worktags!AQ468<>Worktags!AS468,Worktags!AQ468,\"\")","v":"SC6449"},{"$f":"IFERROR(VLOOKUP(B370,Worktags!AL:AO,2,FALSE),\"\")","v":"Construction in Progress"},{"$f":"IFERROR(VLOOKUP(C370,Worktags!O:T,2,FALSE),\"\")","v":"Rent/Lease < = 1 year"},{"$f":"IFERROR(VLOOKUP(IF(C370=\"\",B370&\"||\"&B370,C370&\"||\"&B370),Worktags!AR:AV,5,FALSE),\"\")","v":"JE_PPE|JE_Override"}]
["1650_SC6450 Construction in Progress/Rent/Lease >1 Year",{"$f":"Worktags!AS472","v":"1650"},{"$f":"IF(Worktags!AQ472<>Worktags!AS472,Worktags!AQ472,\"\")","v":"SC6450"},{"$f":"IFERROR(VLOOKUP(B371,Worktags!AL:AO,2,FALSE),\"\")","v":"Construction in Progress"},{"$f":"IFERROR(VLOOKUP(C371,Worktags!O:T,2,FALSE),\"\")","v":"Rent/Lease >1 Year"},{"$f":"IFERROR(VLOOKUP(IF(C371=\"\",B371&\"||\"&B371,C371&\"||\"&B371),Worktags!AR:AV,5,FALSE),\"\")","v":"JE_PPE|JE_Override"}]
["1650_SC6455 Construction in Progress/Services (not otherwise specified)",{"$f":"Worktags!AS484","v":"1650"},{"$f":"IF(Worktags!AQ484<>Worktags!AS484,Worktags!AQ484,\"\")","v":"SC6455"},{"$f":"IFERROR(VLOOKUP(B372,Worktags!AL:AO,2,FALSE),\"\")","v":"Construction in Progress"},{"$f":"IFERROR(VLOOKUP(C372,Worktags!O:T,2,FALSE),\"\")","v":"Services (not otherwise specified)"},{"$f":"IFERROR(VLOOKUP(IF(C372=\"\",B372&\"||\"&B372,C372&\"||\"&B372),Worktags!AR:AV,5,FALSE),\"\")","v":"JE_PPE|JE_Override"}]
["1650_SC6499 Construction in Progress/General and Administrative (reclass)",{"$f":"Worktags!AS508","v":"1650"},{"$f":"IF(Worktags!AQ508<>Worktags!AS508,Worktags!AQ508,\"\")","v":"SC6499"},{"$f":"IFERROR(VLOOKUP(B373,Worktags!AL:AO,2,FALSE),\"\")","v":"Construction in Progress"},{"$f":"IFERROR(VLOOKUP(C373,Worktags!O:T,2,FALSE),\"\")","v":"General and Administrative (reclass)"},{"$f":"IFERROR(VLOOKUP(IF(C373=\"\",B373&\"||\"&B373,C373&\"||\"&B373),Worktags!AR:AV,5,FALSE),\"\")","v":"JE_PPE|JE_Override"}]
["1650_SC6701 Construction in Progress/Building Access Supplies",{"$f":"Worktags!AS514","v":"1650"},{"$f":"IF(Worktags!AQ514<>Worktags!AS514,Worktags!AQ514,\"\")","v":"SC6701"},{"$f":"IFERROR(VLOOKUP(B374,Worktags!AL:AO,2,FALSE),\"\")","v":"Construction in Progress"},{"$f":"IFERROR(VLOOKUP(C374,Worktags!O:T,2,FALSE),\"\")","v":"Building Access Supplies"},{"$f":"IFERROR(VLOOKUP(IF(C374=\"\",B374&\"||\"&B374,C374&\"||\"&B374),Worktags!AR:AV,5,FALSE),\"\")","v":"JE_PPE|JE_Override"}]
["1650_SC6702 Construction in Progress/Building Construction and Improvements",{"$f":"Worktags!AS521","v":"1650"},{"$f":"IF(Worktags!AQ521<>Worktags!AS521,Worktags!AQ521,\"\")","v":"SC6702"},{"$f":"IFERROR(VLOOKUP(B375,Worktags!AL:AO,2,FALSE),\"\")","v":"Construction in Progress"},{"$f":"IFERROR(VLOOKUP(C375,Worktags!O:T,2,FALSE),\"\")","v":"Building Construction and Improvements"},{"$f":"IFERROR(VLOOKUP(IF(C375=\"\",B375&\"||\"&B375,C375&\"||\"&B375),Worktags!AR:AV,5,FALSE),\"\")","v":"JE_PPE|JE_Override"}]
["1650_SC6703 Construction in Progress/Building Furnishings",{"$f":"Worktags!AS528","v":"1650"},{"$f":"IF(Worktags!AQ528<>Worktags!AS528,Worktags!AQ528,\"\")","v":"SC6703"},{"$f":"IFERROR(VLOOKUP(B376,Worktags!AL:AO,2,FALSE),\"\")","v":"Construction in Progress"},{"$f":"IFERROR(VLOOKUP(C376,Worktags!O:T,2,FALSE),\"\")","v":"Building Furnishings"},{"$f":"IFERROR(VLOOKUP(IF(C376=\"\",B376&\"||\"&B376,C376&\"||\"&B376),Worktags!AR:AV,5,FALSE),\"\")","v":"JE_PPE|JE_Override"}]
["1650_SC6704 Construction in Progress/Building Materials - Finishing",{"$f":"Worktags!AS535","v":"1650"},{"$f":"IF(Worktags!AQ535<>Worktags!AS535,Worktags!AQ535,\"\")","v":"SC6704"},{"$f":"IFERROR(VLOOKUP(B377,Worktags!AL:AO,2,FALSE),\"\")","v":"Construction in Progress"},{"$f":"IFERROR(VLOOKUP(C377,Worktags!O:T,2,FALSE),\"\")","v":"Building Materials - Finishing"},{"$f":"IFERROR(VLOOKUP(IF(C377=\"\",B377&\"||\"&B377,C377&\"||\"&B377),Worktags!AR:AV,5,FALSE),\"\")","v":"JE_PPE|JE_Override"}]
["1650_SC6705 Construction in Progress/Building Materials - Raw",{"$f":"Worktags!AS542","v":"1650"},{"$f":"IF(Worktags!AQ542<>Worktags!AS542,Worktags!AQ542,\"\")","v":"SC6705"},{"$f":"IFERROR(VLOOKUP(B378,Worktags!AL:AO,2,FALSE),\"\")","v":"Construction in Progress"},{"$f":"IFERROR(VLOOKUP(C378,Worktags!O:T,2,FALSE),\"\")","v":"Building Materials - Raw"},{"$f":"IFERROR(VLOOKUP(IF(C378=\"\",B378&\"||\"&B378,C378&\"||\"&B378),Worktags!AR:AV,5,FALSE),\"\")","v":"JE_PPE|JE_Override"}]
["1650_SC6706 Construction in Progress/Electrical Devices",{"$f":"Worktags!AS549","v":"1650"},{"$f":"IF(Worktags!AQ549<>Worktags!AS549,Worktags!AQ549,\"\")","v":"SC6706"},{"$f":"IFERROR(VLOOKUP(B379,Worktags!AL:AO,2,FALSE),\"\")","v":"Construction in Progress"},{"$f":"IFERROR(VLOOKUP(C379,Worktags!O:T,2,FALSE),\"\")","v":"Electrical Devices"},{"$f":"IFERROR(VLOOKUP(IF(C379=\"\",B379&\"||\"&B379,C379&\"||\"&B379),Worktags!AR:AV,5,FALSE),\"\")","v":"JE_PPE|JE_Override"}]
["1650_SC6707 Construction in Progress/Electrical Supplies",{"$f":"Worktags!AS555","v":"1650"},{"$f":"IF(Worktags!AQ555<>Worktags!AS555,Worktags!AQ555,\"\")","v":"SC6707"},{"$f":"IFERROR(VLOOKUP(B380,Worktags!AL:AO,2,FALSE),\"\")","v":"Construction in Progress"},{"$f":"IFERROR(VLOOKUP(C380,Worktags!O:T,2,FALSE),\"\")","v":"Electrical Supplies"},{"$f":"IFERROR(VLOOKUP(IF(C380=\"\",B380&\"||\"&B380,C380&\"||\"&B380),Worktags!AR:AV,5,FALSE),\"\")","v":"JE_PPE|JE_Override"}]
["1650_SC6708 Construction in Progress/Fans/Furnaces",{"$f":"Worktags!AS560","v":"1650"},{"$f":"IF(Worktags!AQ560<>Worktags!AS560,Worktags!AQ560,\"\")","v":"SC6708"},{"$f":"IFERROR(VLOOKUP(B381,Worktags!AL:AO,2,FALSE),\"\")","v":"Construction in Progress"},{"$f":"IFERROR(VLOOKUP(C381,Worktags!O:T,2,FALSE),\"\")","v":"Fans/Furnaces"},{"$f":"IFERROR(VLOOKUP(IF(C381=\"\",B381&\"||\"&B381,C381&\"||\"&B381),Worktags!AR:AV,5,FALSE),\"\")","v":"JE_PPE|JE_Override"}]
["1650_SC6709 Construction in Progress/Flooring Materials",{"$f":"Worktags!AS567","v":"1650"},{"$f":"IF(Worktags!AQ567<>Worktags!AS567,Worktags!AQ567,\"\")","v":"SC6709"},{"$f":"IFERROR(VLOOKUP(B382,Worktags!AL:AO,2,FALSE),\"\")","v":"Construction in Progress"},{"$f":"IFERROR(VLOOKUP(C382,Worktags!O:T,2,FALSE),\"\")","v":"Flooring Materials"},{"$f":"IFERROR(VLOOKUP(IF(C382=\"\",B382&\"||\"&B382,C382&\"||\"&B382),Worktags!AR:AV,5,FALSE),\"\")","v":"JE_PPE|JE_Override"}]
["1650_SC6710 Construction in Progress/Furnishing Accessories",{"$f":"Worktags!AS574","v":"1650"},{"$f":"IF(Worktags!AQ574<>Worktags!AS574,Worktags!AQ574,\"\")","v":"SC6710"},{"$f":"IFERROR(VLOOKUP(B383,Worktags!AL:AO,2,FALSE),\"\")","v":"Construction in Progress"},{"$f":"IFERROR(VLOOKUP(C383,Worktags!O:T,2,FALSE),\"\")","v":"Furnishing Accessories"},{"$f":"IFERROR(VLOOKUP(IF(C383=\"\",B383&\"||\"&B383,C383&\"||\"&B383),Worktags!AR:AV,5,FALSE),\"\")","v":"JE_PPE|JE_Override"}]
["1650_SC6711 Construction in Progress/Grounds and Landscaping Supplies",{"$f":"Worktags!AS581","v":"1650"},{"$f":"IF(Worktags!AQ581<>Worktags!AS581,Worktags!AQ581,\"\")","v":"SC6711"},{"$f":"IFERROR(VLOOKUP(B384,Worktags!AL:AO,2,FALSE),\"\")","v":"Construction in Progress"},{"$f":"IFERROR(VLOOKUP(C384,Worktags!O:T,2,FALSE),\"\")","v":"Grounds and Landscaping Supplies"},{"$f":"IFERROR(VLOOKUP(IF(C384=\"\",B384&\"||\"&B384,C384&\"||\"&B384),Worktags!AR:AV,5,FALSE),\"\")","v":"JE_PPE|JE_Override"}]
[{"$f":"IF(B385<>\"\",IF(C385<>\"\",B385&\"_\"&C385&\" \"&D385&\"/\"&E385,B385&\" \"&D385),\"\")","v":"1650_SC6713 Construction in Progress/Industrial Fixtures"},{"$f":"Worktags!AS590","v":"1650"},{"$f":"IF(Worktags!AQ590<>Worktags!AS590,Worktags!AQ590,\"\")","v":"SC6713"},{"$f":"IFERROR(VLOOKUP(B385,Worktags!AL:AO,2,FALSE),\"\")","v":"Construction in Progress"},{"$f":"IFERROR(VLOOKUP(C385,Worktags!O:T,2,FALSE),\"\")","v":"Industrial Fixtures"},{"$f":"IFERROR(VLOOKUP(IF(C385=\"\",B385&\"||\"&B385,C385&\"||\"&B385),Worktags!AR:AV,5,FALSE),\"\")","v":"JE_PPE|JE_Override"}]
["1650_SC6714 Construction in Progress/Lighting Fixtures and Lamps",{"$f":"Worktags!AS597","v":"1650"},{"$f":"IF(Worktags!AQ597<>Worktags!AS597,Worktags!AQ597,\"\")","v":"SC6714"},{"$f":"IFERROR(VLOOKUP(B386,Worktags!AL:AO,2,FALSE),\"\")","v":"Construction in Progress"},{"$f":"IFERROR(VLOOKUP(C386,Worktags!O:T,2,FALSE),\"\")","v":"Lighting Fixtures and Lamps"},{"$f":"IFERROR(VLOOKUP(IF(C386=\"\",B386&\"||\"&B386,C386&\"||\"&B386),Worktags!AR:AV,5,FALSE),\"\")","v":"JE_PPE|JE_Override"}]
["1650_SC6715 Construction in Progress/Plumbing Fixtures",{"$f":"Worktags!AS604","v":"1650"},{"$f":"IF(Worktags!AQ604<>Worktags!AS604,Worktags!AQ604,\"\")","v":"SC6715"},{"$f":"IFERROR(VLOOKUP(B387,Worktags!AL:AO,2,FALSE),\"\")","v":"Construction in Progress"},{"$f":"IFERROR(VLOOKUP(C387,Worktags!O:T,2,FALSE),\"\")","v":"Plumbing Fixtures"},{"$f":"IFERROR(VLOOKUP(IF(C387=\"\",B387&\"||\"&B387,C387&\"||\"&B387),Worktags!AR:AV,5,FALSE),\"\")","v":"JE_PPE|JE_Override"}]
["1650_SC6716 Construction in Progress/Retainage",{"$f":"Worktags!AS609","v":"1650"},{"$f":"IF(Worktags!AQ609<>Worktags!AS609,Worktags!AQ609,\"\")","v":"SC6716"},{"$f":"IFERROR(VLOOKUP(B388,Worktags!AL:AO,2,FALSE),\"\")","v":"Construction in Progress"},{"$f":"IFERROR(VLOOKUP(C388,Worktags!O:T,2,FALSE),\"\")","v":"Retainage"},{"$f":"IFERROR(VLOOKUP(IF(C388=\"\",B388&\"||\"&B388,C388&\"||\"&B388),Worktags!AR:AV,5,FALSE),\"\")","v":"JE_PPE|JE_Override"}]
["1650_SC6717 Construction in Progress/Retainage Interest",{"$f":"Worktags!AS612","v":"1650"},{"$f":"IF(Worktags!AQ612<>Worktags!AS612,Worktags!AQ612,\"\")","v":"SC6717"},{"$f":"IFERROR(VLOOKUP(B389,Worktags!AL:AO,2,FALSE),\"\")","v":"Construction in Progress"},{"$f":"IFERROR(VLOOKUP(C389,Worktags!O:T,2,FALSE),\"\")","v":"Retainage Interest"},{"$f":"IFERROR(VLOOKUP(IF(C389=\"\",B389&\"||\"&B389,C389&\"||\"&B389),Worktags!AR:AV,5,FALSE),\"\")","v":"JE_PPE|JE_Override"}]
["1650_SC6718 Construction in Progress/Signage, Electronic",{"$f":"Worktags!AS617","v":"1650"},{"$f":"IF(Worktags!AQ617<>Worktags!AS617,Worktags!AQ617,\"\")","v":"SC6718"},{"$f":"IFERROR(VLOOKUP(B390,Worktags!AL:AO,2,FALSE),\"\")","v":"Construction in Progress"},{"$f":"IFERROR(VLOOKUP(C390,Worktags!O:T,2,FALSE),\"\")","v":"Signage, Electronic"},{"$f":"IFERROR(VLOOKUP(IF(C390=\"\",B390&\"||\"&B390,C390&\"||\"&B390),Worktags!AR:AV,5,FALSE),\"\")","v":"JE_PPE|JE_Override"}]
["1650_SC6719 Construction in Progress/Signage, Non-electronic",{"$f":"Worktags!AS624","v":"1650"},{"$f":"IF(Worktags!AQ624<>Worktags!AS624,Worktags!AQ624,\"\")","v":"SC6719"},{"$f":"IFERROR(VLOOKUP(B391,Worktags!AL:AO,2,FALSE),\"\")","v":"Construction in Progress"},{"$f":"IFERROR(VLOOKUP(C391,Worktags!O:T,2,FALSE),\"\")","v":"Signage, Non-electronic"},{"$f":"IFERROR(VLOOKUP(IF(C391=\"\",B391&\"||\"&B391,C391&\"||\"&B391),Worktags!AR:AV,5,FALSE),\"\")","v":"JE_PPE|JE_Override"}]
["1650_SC6720 Construction in Progress/Specialized Trade Services - Physical Facilities",{"$f":"Worktags!AS630","v":"1650"},{"$f":"IF(Worktags!AQ630<>Worktags!AS630,Worktags!AQ630,\"\")","v":"SC6720"},{"$f":"IFERROR(VLOOKUP(B392,Worktags!AL:AO,2,FALSE),\"\")","v":"Construction in Progress"},{"$f":"IFERROR(VLOOKUP(C392,Worktags!O:T,2,FALSE),\"\")","v":"Specialized Trade Services - Physical Facilities"},{"$f":"IFERROR(VLOOKUP(IF(C392=\"\",B392&\"||\"&B392,C392&\"||\"&B392),Worktags!AR:AV,5,FALSE),\"\")","v":"JE_PPE|JE_Override"}]
["1650_SC6721 Construction in Progress/Stage and Studio Lighting (Asset Track)",{"$f":"Worktags!AS635","v":"1650"},{"$f":"IF(Worktags!AQ635<>Worktags!AS635,Worktags!AQ635,\"\")","v":"SC6721"},{"$f":"IFERROR(VLOOKUP(B393,Worktags!AL:AO,2,FALSE),\"\")","v":"Construction in Progress"},{"$f":"IFERROR(VLOOKUP(C393,Worktags!O:T,2,FALSE),\"\")","v":"Stage and Studio Lighting (Asset Track)"},{"$f":"IFERROR(VLOOKUP(IF(C393=\"\",B393&\"||\"&B393,C393&\"||\"&B393),Worktags!AR:AV,5,FALSE),\"\")","v":"JE_PPE|JE_Override"}]
["1650_SC6729 Construction in Progress/Warehouse Fixtures",{"$f":"Worktags!AS656","v":"1650"},{"$f":"IF(Worktags!AQ656<>Worktags!AS656,Worktags!AQ656,\"\")","v":"SC6729"},{"$f":"IFERROR(VLOOKUP(B394,Worktags!AL:AO,2,FALSE),\"\")","v":"Construction in Progress"},{"$f":"IFERROR(VLOOKUP(C394,Worktags!O:T,2,FALSE),\"\")","v":"Warehouse Fixtures"},{"$f":"IFERROR(VLOOKUP(IF(C394=\"\",B394&\"||\"&B394,C394&\"||\"&B394),Worktags!AR:AV,5,FALSE),\"\")","v":"JE_PPE|JE_Override"}]
["1650_SC6730 Construction in Progress/Window Treatments",{"$f":"Worktags!AS663","v":"1650"},{"$f":"IF(Worktags!AQ663<>Worktags!AS663,Worktags!AQ663,\"\")","v":"SC6730"},{"$f":"IFERROR(VLOOKUP(B395,Worktags!AL:AO,2,FALSE),\"\")","v":"Construction in Progress"},{"$f":"IFERROR(VLOOKUP(C395,Worktags!O:T,2,FALSE),\"\")","v":"Window Treatments"},{"$f":"IFERROR(VLOOKUP(IF(C395=\"\",B395&\"||\"&B395,C395&\"||\"&B395),Worktags!AR:AV,5,FALSE),\"\")","v":"JE_PPE|JE_Override"}]
["1650_SC6799 Construction in Progress/Physical Facilities (reclass)",{"$f":"Worktags!AS670","v":"1650"},{"$f":"IF(Worktags!AQ670<>Worktags!AS670,Worktags!AQ670,\"\")","v":"SC6799"},{"$f":"IFERROR(VLOOKUP(B396,Worktags!AL:AO,2,FALSE),\"\")","v":"Construction in Progress"},{"$f":"IFERROR(VLOOKUP(C396,Worktags!O:T,2,FALSE),\"\")","v":"Physical Facilities (reclass)"},{"$f":"IFERROR(VLOOKUP(IF(C396=\"\",B396&\"||\"&B396,C396&\"||\"&B396),Worktags!AR:AV,5,FALSE),\"\")","v":"JE_PPE|JE_Override"}]
["1650_SC6901 Construction in Progress/Art Equipment",{"$f":"Worktags!AS675","v":"1650"},{"$f":"IF(Worktags!AQ675<>Worktags!AS675,Worktags!AQ675,\"\")","v":"SC6901"},{"$f":"IFERROR(VLOOKUP(B397,Worktags!AL:AO,2,FALSE),\"\")","v":"Construction in Progress"},{"$f":"IFERROR(VLOOKUP(C397,Worktags!O:T,2,FALSE),\"\")","v":"Art Equipment"},{"$f":"IFERROR(VLOOKUP(IF(C397=\"\",B397&\"||\"&B397,C397&\"||\"&B397),Worktags!AR:AV,5,FALSE),\"\")","v":"JE_PPE|JE_Override"}]
["1650_SC6902 Construction in Progress/Athletic Equipment",{"$f":"Worktags!AS682","v":"1650"},{"$f":"IF(Worktags!AQ682<>Worktags!AS682,Worktags!AQ682,\"\")","v":"SC6902"},{"$f":"IFERROR(VLOOKUP(B398,Worktags!AL:AO,2,FALSE),\"\")","v":"Construction in Progress"},{"$f":"IFERROR(VLOOKUP(C398,Worktags!O:T,2,FALSE),\"\")","v":"Athletic Equipment"},{"$f":"IFERROR(VLOOKUP(IF(C398=\"\",B398&\"||\"&B398,C398&\"||\"&B398),Worktags!AR:AV,5,FALSE),\"\")","v":"JE_PPE|JE_Override"}]
["1650_SC6903 Construction in Progress/Audio Visual Equipment (Asset Track)",{"$f":"Worktags!AS689","v":"1650"},{"$f":"IF(Worktags!AQ689<>Worktags!AS689,Worktags!AQ689,\"\")","v":"SC6903"},{"$f":"IFERROR(VLOOKUP(B399,Worktags!AL:AO,2,FALSE),\"\")","v":"Construction in Progress"},{"$f":"IFERROR(VLOOKUP(C399,Worktags!O:T,2,FALSE),\"\")","v":"Audio Visual Equipment (Asset Track)"},{"$f":"IFERROR(VLOOKUP(IF(C399=\"\",B399&\"||\"&B399,C399&\"||\"&B399),Worktags!AR:AV,5,FALSE),\"\")","v":"JE_PPE|JE_Override"}]
["1650_SC6904 Construction in Progress/Communication Devices (Asset Track)",{"$f":"Worktags!AS696","v":"1650"},{"$f":"IF(Worktags!AQ696<>Worktags!AS696,Worktags!AQ696,\"\")","v":"SC6904"},{"$f":"IFERROR(VLOOKUP(B400,Worktags!AL:AO,2,FALSE),\"\")","v":"Construction in Progress"},{"$f":"IFERROR(VLOOKUP(C400,Worktags!O:T,2,FALSE),\"\")","v":"Communication Devices (Asset Track)"},{"$f":"IFERROR(VLOOKUP(IF(C400=\"\",B400&\"||\"&B400,C400&\"||\"&B400),Worktags!AR:AV,5,FALSE),\"\")","v":"JE_PPE|JE_Override"}]
["1650_SC6905 Construction in Progress/Computer Hardware (Asset Track)",{"$f":"Worktags!AS703","v":"1650"},{"$f":"IF(Worktags!AQ703<>Worktags!AS703,Worktags!AQ703,\"\")","v":"SC6905"},{"$f":"IFERROR(VLOOKUP(B401,Worktags!AL:AO,2,FALSE),\"\")","v":"Construction in Progress"},{"$f":"IFERROR(VLOOKUP(C401,Worktags!O:T,2,FALSE),\"\")","v":"Computer Hardware (Asset Track)"},{"$f":"IFERROR(VLOOKUP(IF(C401=\"\",B401&\"||\"&B401,C401&\"||\"&B401),Worktags!AR:AV,5,FALSE),\"\")","v":"JE_PPE|JE_Override"}]
["1650_SC6906 Construction in Progress/Data Network Equipment (Asset Track)",{"$f":"Worktags!AS710","v":"1650"},{"$f":"IF(Worktags!AQ710<>Worktags!AS710,Worktags!AQ710,\"\")","v":"SC6906"},{"$f":"IFERROR(VLOOKUP(B402,Worktags!AL:AO,2,FALSE),\"\")","v":"Construction in Progress"},{"$f":"IFERROR(VLOOKUP(C402,Worktags!O:T,2,FALSE),\"\")","v":"Data Network Equipment (Asset Track)"},{"$f":"IFERROR(VLOOKUP(IF(C402=\"\",B402&\"||\"&B402,C402&\"||\"&B402),Worktags!AR:AV,5,FALSE),\"\")","v":"JE_PPE|JE_Override"}]
["1650_SC6907 Construction in Progress/Equipment (not otherwise specified) (Asset Track)",{"$f":"Worktags!AS717","v":"1650"},{"$f":"IF(Worktags!AQ717<>Worktags!AS717,Worktags!AQ717,\"\")","v":"SC6907"},{"$f":"IFERROR(VLOOKUP(B403,Worktags!AL:AO,2,FALSE),\"\")","v":"Construction in Progress"},{"$f":"IFERROR(VLOOKUP(C403,Worktags!O:T,2,FALSE),\"\")","v":"Equipment (not otherwise specified) (Asset Track)"},{"$f":"IFERROR(VLOOKUP(IF(C403=\"\",B403&\"||\"&B403,C403&\"||\"&B403),Worktags!AR:AV,5,FALSE),\"\")","v":"JE_PPE|JE_Override"}]
["1650_SC6910 Construction in Progress/Food Service Equipment",{"$f":"Worktags!AS731","v":"1650"},{"$f":"IF(Worktags!AQ731<>Worktags!AS731,Worktags!AQ731,\"\")","v":"SC6910"},{"$f":"IFERROR(VLOOKUP(B404,Worktags!AL:AO,2,FALSE),\"\")","v":"Construction in Progress"},{"$f":"IFERROR(VLOOKUP(C404,Worktags!O:T,2,FALSE),\"\")","v":"Food Service Equipment"},{"$f":"IFERROR(VLOOKUP(IF(C404=\"\",B404&\"||\"&B404,C404&\"||\"&B404),Worktags!AR:AV,5,FALSE),\"\")","v":"JE_PPE|JE_Override"}]
["1650_SC6914 Construction in Progress/Industrial Equipment",{"$f":"Worktags!AS750","v":"1650"},{"$f":"IF(Worktags!AQ750<>Worktags!AS750,Worktags!AQ750,\"\")","v":"SC6914"},{"$f":"IFERROR(VLOOKUP(B405,Worktags!AL:AO,2,FALSE),\"\")","v":"Construction in Progress"},{"$f":"IFERROR(VLOOKUP(C405,Worktags!O:T,2,FALSE),\"\")","v":"Industrial Equipment"},{"$f":"IFERROR(VLOOKUP(IF(C405=\"\",B405&\"||\"&B405,C405&\"||\"&B405),Worktags!AR:AV,5,FALSE),\"\")","v":"JE_PPE|JE_Override"}]
["1650_SC6915 Construction in Progress/Janitorial Equipment",{"$f":"Worktags!AS757","v":"1650"},{"$f":"IF(Worktags!AQ757<>Worktags!AS757,Worktags!AQ757,\"\")","v":"SC6915"},{"$f":"IFERROR(VLOOKUP(B406,Worktags!AL:AO,2,FALSE),\"\")","v":"Construction in Progress"},{"$f":"IFERROR(VLOOKUP(C406,Worktags!O:T,2,FALSE),\"\")","v":"Janitorial Equipment"},{"$f":"IFERROR(VLOOKUP(IF(C406=\"\",B406&\"||\"&B406,C406&\"||\"&B406),Worktags!AR:AV,5,FALSE),\"\")","v":"JE_PPE|JE_Override"}]
["1650_SC6917 Construction in Progress/Laundry Equipment",{"$f":"Worktags!AS766","v":"1650"},{"$f":"IF(Worktags!AQ766<>Worktags!AS766,Worktags!AQ766,\"\")","v":"SC6917"},{"$f":"IFERROR(VLOOKUP(B407,Worktags!AL:AO,2,FALSE),\"\")","v":"Construction in Progress"},{"$f":"IFERROR(VLOOKUP(C407,Worktags!O:T,2,FALSE),\"\")","v":"Laundry Equipment"},{"$f":"IFERROR(VLOOKUP(IF(C407=\"\",B407&\"||\"&B407,C407&\"||\"&B407),Worktags!AR:AV,5,FALSE),\"\")","v":"JE_PPE|JE_Override"}]
["1650_SC6921 Construction in Progress/Medical Equipment",{"$f":"Worktags!AS785","v":"1650"},{"$f":"IF(Worktags!AQ785<>Worktags!AS785,Worktags!AQ785,\"\")","v":"SC6921"},{"$f":"IFERROR(VLOOKUP(B408,Worktags!AL:AO,2,FALSE),\"\")","v":"Construction in Progress"},{"$f":"IFERROR(VLOOKUP(C408,Worktags!O:T,2,FALSE),\"\")","v":"Medical Equipment"},{"$f":"IFERROR(VLOOKUP(IF(C408=\"\",B408&\"||\"&B408,C408&\"||\"&B408),Worktags!AR:AV,5,FALSE),\"\")","v":"JE_PPE|JE_Override"}]
["1650_SC6924 Construction in Progress/Office Equipment (Asset Track)",{"$f":"Worktags!AS799","v":"1650"},{"$f":"IF(Worktags!AQ799<>Worktags!AS799,Worktags!AQ799,\"\")","v":"SC6924"},{"$f":"IFERROR(VLOOKUP(B409,Worktags!AL:AO,2,FALSE),\"\")","v":"Construction in Progress"},{"$f":"IFERROR(VLOOKUP(C409,Worktags!O:T,2,FALSE),\"\")","v":"Office Equipment (Asset Track)"},{"$f":"IFERROR(VLOOKUP(IF(C409=\"\",B409&\"||\"&B409,C409&\"||\"&B409),Worktags!AR:AV,5,FALSE),\"\")","v":"JE_PPE|JE_Override"}]
["1650_SC6927 Construction in Progress/Portable Structures",{"$f":"Worktags!AS813","v":"1650"},{"$f":"IF(Worktags!AQ813<>Worktags!AS813,Worktags!AQ813,\"\")","v":"SC6927"},{"$f":"IFERROR(VLOOKUP(B410,Worktags!AL:AO,2,FALSE),\"\")","v":"Construction in Progress"},{"$f":"IFERROR(VLOOKUP(C410,Worktags!O:T,2,FALSE),\"\")","v":"Portable Structures"},{"$f":"IFERROR(VLOOKUP(IF(C410=\"\",B410&\"||\"&B410,C410&\"||\"&B410),Worktags!AR:AV,5,FALSE),\"\")","v":"JE_PPE|JE_Override"}]
["1650_SC6928 Construction in Progress/Printing Equipment",{"$f":"Worktags!AS820","v":"1650"},{"$f":"IF(Worktags!AQ820<>Worktags!AS820,Worktags!AQ820,\"\")","v":"SC6928"},{"$f":"IFERROR(VLOOKUP(B411,Worktags!AL:AO,2,FALSE),\"\")","v":"Construction in Progress"},{"$f":"IFERROR(VLOOKUP(C411,Worktags!O:T,2,FALSE),\"\")","v":"Printing Equipment"},{"$f":"IFERROR(VLOOKUP(IF(C411=\"\",B411&\"||\"&B411,C411&\"||\"&B411),Worktags!AR:AV,5,FALSE),\"\")","v":"JE_PPE|JE_Override"}]
["1650_SC6929 Construction in Progress/Scientific and Engineering Equipment",{"$f":"Worktags!AS827","v":"1650"},{"$f":"IF(Worktags!AQ827<>Worktags!AS827,Worktags!AQ827,\"\")","v":"SC6929"},{"$f":"IFERROR(VLOOKUP(B412,Worktags!AL:AO,2,FALSE),\"\")","v":"Construction in Progress"},{"$f":"IFERROR(VLOOKUP(C412,Worktags!O:T,2,FALSE),\"\")","v":"Scientific and Engineering Equipment"},{"$f":"IFERROR(VLOOKUP(IF(C412=\"\",B412&\"||\"&B412,C412&\"||\"&B412),Worktags!AR:AV,5,FALSE),\"\")","v":"JE_PPE|JE_Override"}]
["1650_SC6931 Construction in Progress/Security Equipment (Asset Track)",{"$f":"Worktags!AS836","v":"1650"},{"$f":"IF(Worktags!AQ836<>Worktags!AS836,Worktags!AQ836,\"\")","v":"SC6931"},{"$f":"IFERROR(VLOOKUP(B413,Worktags!AL:AO,2,FALSE),\"\")","v":"Construction in Progress"},{"$f":"IFERROR(VLOOKUP(C413,Worktags!O:T,2,FALSE),\"\")","v":"Security Equipment (Asset Track)"},{"$f":"IFERROR(VLOOKUP(IF(C413=\"\",B413&\"||\"&B413,C413&\"||\"&B413),Worktags!AR:AV,5,FALSE),\"\")","v":"JE_PPE|JE_Override"}]
["1650_SC6932 Construction in Progress/Small Appliances",{"$f":"Worktags!AS843","v":"1650"},{"$f":"IF(Worktags!AQ843<>Worktags!AS843,Worktags!AQ843,\"\")","v":"SC6932"},{"$f":"IFERROR(VLOOKUP(B414,Worktags!AL:AO,2,FALSE),\"\")","v":"Construction in Progress"},{"$f":"IFERROR(VLOOKUP(C414,Worktags!O:T,2,FALSE),\"\")","v":"Small Appliances"},{"$f":"IFERROR(VLOOKUP(IF(C414=\"\",B414&\"||\"&B414,C414&\"||\"&B414),Worktags!AR:AV,5,FALSE),\"\")","v":"JE_PPE|JE_Override"}]
["1650_SC6935 Construction in Progress/Telecom Equipment",{"$f":"Worktags!AS857","v":"1650"},{"$f":"IF(Worktags!AQ857<>Worktags!AS857,Worktags!AQ857,\"\")","v":"SC6935"},{"$f":"IFERROR(VLOOKUP(B415,Worktags!AL:AO,2,FALSE),\"\")","v":"Construction in Progress"},{"$f":"IFERROR(VLOOKUP(C415,Worktags!O:T,2,FALSE),\"\")","v":"Telecom Equipment"},{"$f":"IFERROR(VLOOKUP(IF(C415=\"\",B415&\"||\"&B415,C415&\"||\"&B415),Worktags!AR:AV,5,FALSE),\"\")","v":"JE_PPE|JE_Override"}]
["1650_SC6939 Construction in Progress/Warehouse Equipment",{"$f":"Worktags!AS876","v":"1650"},{"$f":"IF(Worktags!AQ876<>Worktags!AS876,Worktags!AQ876,\"\")","v":"SC6939"},{"$f":"IFERROR(VLOOKUP(B416,Worktags!AL:AO,2,FALSE),\"\")","v":"Construction in Progress"},{"$f":"IFERROR(VLOOKUP(C416,Worktags!O:T,2,FALSE),\"\")","v":"Warehouse Equipment"},{"$f":"IFERROR(VLOOKUP(IF(C416=\"\",B416&\"||\"&B416,C416&\"||\"&B416),Worktags!AR:AV,5,FALSE),\"\")","v":"JE_PPE|JE_Override"}]
["1650_SC6999 Construction in Progress/Equipment (reclass)",{"$f":"Worktags!AS889","v":"1650"},{"$f":"IF(Worktags!AQ889<>Worktags!AS889,Worktags!AQ889,\"\")","v":"SC6999"},{"$f":"IFERROR(VLOOKUP(B417,Worktags!AL:AO,2,FALSE),\"\")","v":"Construction in Progress"},{"$f":"IFERROR(VLOOKUP(C417,Worktags!O:T,2,FALSE),\"\")","v":"Equipment (reclass)"},{"$f":"IFERROR(VLOOKUP(IF(C417=\"\",B417&\"||\"&B417,C417&\"||\"&B417),Worktags!AR:AV,5,FALSE),\"\")","v":"JE_PPE|JE_Override"}]
["1651 Construction In Progress (Non-Workday Projects)",{"$f":"Worktags!AL68","v":"1651"},null,{"$f":"IFERROR(VLOOKUP(B418,Worktags!AL:AO,2,FALSE),\"\")","v":"Construction In Progress (Non-Workday Projects)"},null,{"$f":"IFERROR(VLOOKUP(IF(C418=\"\",B418&\"||\"&B418,C418&\"||\"&B418),Worktags!AR:AV,5,FALSE),\"\")","v":"All"}]
["1651 Construction In Progress (Non-Workday Projects)",{"$f":"Worktags!AS50","v":"1651"},{"$f":"IF(Worktags!AQ50<>Worktags!AS50,Worktags!AQ50,\"\")","v":""},{"$f":"IFERROR(VLOOKUP(B419,Worktags!AL:AO,2,FALSE),\"\")","v":"Construction In Progress (Non-Workday Projects)"},{"$f":"IFERROR(VLOOKUP(C419,Worktags!O:T,2,FALSE),\"\")","v":""},{"$f":"IFERROR(VLOOKUP(IF(C419=\"\",B419&\"||\"&B419,C419&\"||\"&B419),Worktags!AR:AV,5,FALSE),\"\")","v":"All"}]
["1651_SC6106 Construction In Progress (Non-Workday Projects)/Audio Visual Supplies",{"$f":"Worktags!AS300","v":"1651"},{"$f":"IF(Worktags!AQ300<>Worktags!AS300,Worktags!AQ300,\"\")","v":"SC6106"},{"$f":"IFERROR(VLOOKUP(B420,Worktags!AL:AO,2,FALSE),\"\")","v":"Construction In Progress (Non-Workday Projects)"},{"$f":"IFERROR(VLOOKUP(C420,Worktags!O:T,2,FALSE),\"\")","v":"Audio Visual Supplies"},{"$f":"IFERROR(VLOOKUP(IF(C420=\"\",B420&\"||\"&B420,C420&\"||\"&B420),Worktags!AR:AV,5,FALSE),\"\")","v":"All"}]
["1651_SC6108 Construction In Progress (Non-Workday Projects)/Data Network Supplies",{"$f":"Worktags!AS306","v":"1651"},{"$f":"IF(Worktags!AQ306<>Worktags!AS306,Worktags!AQ306,\"\")","v":"SC6108"},{"$f":"IFERROR(VLOOKUP(B421,Worktags!AL:AO,2,FALSE),\"\")","v":"Construction In Progress (Non-Workday Projects)"},{"$f":"IFERROR(VLOOKUP(C421,Worktags!O:T,2,FALSE),\"\")","v":"Data Network Supplies"},{"$f":"IFERROR(VLOOKUP(IF(C421=\"\",B421&\"||\"&B421,C421&\"||\"&B421),Worktags!AR:AV,5,FALSE),\"\")","v":"All"}]
["1651_SC6129 Construction In Progress (Non-Workday Projects)/Supplies (not otherwise specified)",{"$f":"Worktags!AS349","v":"1651"},{"$f":"IF(Worktags!AQ349<>Worktags!AS349,Worktags!AQ349,\"\")","v":"SC6129"},{"$f":"IFERROR(VLOOKUP(B422,Worktags!AL:AO,2,FALSE),\"\")","v":"Construction In Progress (Non-Workday Projects)"},{"$f":"IFERROR(VLOOKUP(C422,Worktags!O:T,2,FALSE),\"\")","v":"Supplies (not otherwise specified)"},{"$f":"IFERROR(VLOOKUP(IF(C422=\"\",B422&\"||\"&B422,C422&\"||\"&B422),Worktags!AR:AV,5,FALSE),\"\")","v":"All"}]
["1651_SC6131 Construction In Progress (Non-Workday Projects)/Telecom Supplies",{"$f":"Worktags!AS355","v":"1651"},{"$f":"IF(Worktags!AQ355<>Worktags!AS355,Worktags!AQ355,\"\")","v":"SC6131"},{"$f":"IFERROR(VLOOKUP(B423,Worktags!AL:AO,2,FALSE),\"\")","v":"Construction In Progress (Non-Workday Projects)"},{"$f":"IFERROR(VLOOKUP(C423,Worktags!O:T,2,FALSE),\"\")","v":"Telecom Supplies"},{"$f":"IFERROR(VLOOKUP(IF(C423=\"\",B423&\"||\"&B423,C423&\"||\"&B423),Worktags!AR:AV,5,FALSE),\"\")","v":"All"}]
["1651_SC6199 Construction In Progress (Non-Workday Projects)/Materials and Supplies (reclass)",{"$f":"Worktags!AS363","v":"1651"},{"$f":"IF(Worktags!AQ363<>Worktags!AS363,Worktags!AQ363,\"\")","v":"SC6199"},{"$f":"IFERROR(VLOOKUP(B424,Worktags!AL:AO,2,FALSE),\"\")","v":"Construction In Progress (Non-Workday Projects)"},{"$f":"IFERROR(VLOOKUP(C424,Worktags!O:T,2,FALSE),\"\")","v":"Materials and Supplies (reclass)"},{"$f":"IFERROR(VLOOKUP(IF(C424=\"\",B424&\"||\"&B424,C424&\"||\"&B424),Worktags!AR:AV,5,FALSE),\"\")","v":"All"}]
["1651_SC6404 Construction In Progress (Non-Workday Projects)/Architectural or Engineering Services",{"$f":"Worktags!AS381","v":"1651"},{"$f":"IF(Worktags!AQ381<>Worktags!AS381,Worktags!AQ381,\"\")","v":"SC6404"},{"$f":"IFERROR(VLOOKUP(B425,Worktags!AL:AO,2,FALSE),\"\")","v":"Construction In Progress (Non-Workday Projects)"},{"$f":"IFERROR(VLOOKUP(C425,Worktags!O:T,2,FALSE),\"\")","v":"Architectural or Engineering Services"},{"$f":"IFERROR(VLOOKUP(IF(C425=\"\",B425&\"||\"&B425,C425&\"||\"&B425),Worktags!AR:AV,5,FALSE),\"\")","v":"All"}]
["1651_SC6414 Construction In Progress (Non-Workday Projects)/Computer Services",{"$f":"Worktags!AS400","v":"1651"},{"$f":"IF(Worktags!AQ400<>Worktags!AS400,Worktags!AQ400,\"\")","v":"SC6414"},{"$f":"IFERROR(VLOOKUP(B426,Worktags!AL:AO,2,FALSE),\"\")","v":"Construction In Progress (Non-Workday Projects)"},{"$f":"IFERROR(VLOOKUP(C426,Worktags!O:T,2,FALSE),\"\")","v":"Computer Services"},{"$f":"IFERROR(VLOOKUP(IF(C426=\"\",B426&\"||\"&B426,C426&\"||\"&B426),Worktags!AR:AV,5,FALSE),\"\")","v":"All"}]
["1651_SC6435 Construction In Progress (Non-Workday Projects)/Misc Independent Contractors",{"$f":"Worktags!AS441","v":"1651"},{"$f":"IF(Worktags!AQ441<>Worktags!AS441,Worktags!AQ441,\"\")","v":"SC6435"},{"$f":"IFERROR(VLOOKUP(B427,Worktags!AL:AO,2,FALSE),\"\")","v":"Construction In Progress (Non-Workday Projects)"},{"$f":"IFERROR(VLOOKUP(C427,Worktags!O:T,2,FALSE),\"\")","v":"Misc Independent Contractors"},{"$f":"IFERROR(VLOOKUP(IF(C427=\"\",B427&\"||\"&B427,C427&\"||\"&B427),Worktags!AR:AV,5,FALSE),\"\")","v":"All"}]
["1651_SC6449 Construction In Progress (Non-Workday Projects)/Rent/Lease < = 1 year",{"$f":"Worktags!AS469","v":"1651"},{"$f":"IF(Worktags!AQ469<>Worktags!AS469,Worktags!AQ469,\"\")","v":"SC6449"},{"$f":"IFERROR(VLOOKUP(B428,Worktags!AL:AO,2,FALSE),\"\")","v":"Construction In Progress (Non-Workday Projects)"},{"$f":"IFERROR(VLOOKUP(C428,Worktags!O:T,2,FALSE),\"\")","v":"Rent/Lease < = 1 year"},{"$f":"IFERROR(VLOOKUP(IF(C428=\"\",B428&\"||\"&B428,C428&\"||\"&B428),Worktags!AR:AV,5,FALSE),\"\")","v":"All"}]
["1651_SC6450 Construction In Progress (Non-Workday Projects)/Rent/Lease >1 Year",{"$f":"Worktags!AS473","v":"1651"},{"$f":"IF(Worktags!AQ473<>Worktags!AS473,Worktags!AQ473,\"\")","v":"SC6450"},{"$f":"IFERROR(VLOOKUP(B429,Worktags!AL:AO,2,FALSE),\"\")","v":"Construction In Progress (Non-Workday Projects)"},{"$f":"IFERROR(VLOOKUP(C429,Worktags!O:T,2,FALSE),\"\")","v":"Rent/Lease >1 Year"},{"$f":"IFERROR(VLOOKUP(IF(C429=\"\",B429&\"||\"&B429,C429&\"||\"&B429),Worktags!AR:AV,5,FALSE),\"\")","v":"All"}]
["1651_SC6455 Construction In Progress (Non-Workday Projects)/Services (not otherwise specified)",{"$f":"Worktags!AS485","v":"1651"},{"$f":"IF(Worktags!AQ485<>Worktags!AS485,Worktags!AQ485,\"\")","v":"SC6455"},{"$f":"IFERROR(VLOOKUP(B430,Worktags!AL:AO,2,FALSE),\"\")","v":"Construction In Progress (Non-Workday Projects)"},{"$f":"IFERROR(VLOOKUP(C430,Worktags!O:T,2,FALSE),\"\")","v":"Services (not otherwise specified)"},{"$f":"IFERROR(VLOOKUP(IF(C430=\"\",B430&\"||\"&B430,C430&\"||\"&B430),Worktags!AR:AV,5,FALSE),\"\")","v":"All"}]
["1651_SC6499 Construction In Progress (Non-Workday Projects)/General and Administrative (reclass)",{"$f":"Worktags!AS509","v":"1651"},{"$f":"IF(Worktags!AQ509<>Worktags!AS509,Worktags!AQ509,\"\")","v":"SC6499"},{"$f":"IFERROR(VLOOKUP(B431,Worktags!AL:AO,2,FALSE),\"\")","v":"Construction In Progress (Non-Workday Projects)"},{"$f":"IFERROR(VLOOKUP(C431,Worktags!O:T,2,FALSE),\"\")","v":"General and Administrative (reclass)"},{"$f":"IFERROR(VLOOKUP(IF(C431=\"\",B431&\"||\"&B431,C431&\"||\"&B431),Worktags!AR:AV,5,FALSE),\"\")","v":"All"}]
["1651_SC6701 Construction In Progress (Non-Workday Projects)/Building Access Supplies",{"$f":"Worktags!AS515","v":"1651"},{"$f":"IF(Worktags!AQ515<>Worktags!AS515,Worktags!AQ515,\"\")","v":"SC6701"},{"$f":"IFERROR(VLOOKUP(B432,Worktags!AL:AO,2,FALSE),\"\")","v":"Construction In Progress (Non-Workday Projects)"},{"$f":"IFERROR(VLOOKUP(C432,Worktags!O:T,2,FALSE),\"\")","v":"Building Access Supplies"},{"$f":"IFERROR(VLOOKUP(IF(C432=\"\",B432&\"||\"&B432,C432&\"||\"&B432),Worktags!AR:AV,5,FALSE),\"\")","v":"All"}]
["1651_SC6702 Construction In Progress (Non-Workday Projects)/Building Construction and Improvements",{"$f":"Worktags!AS522","v":"1651"},{"$f":"IF(Worktags!AQ522<>Worktags!AS522,Worktags!AQ522,\"\")","v":"SC6702"},{"$f":"IFERROR(VLOOKUP(B433,Worktags!AL:AO,2,FALSE),\"\")","v":"Construction In Progress (Non-Workday Projects)"},{"$f":"IFERROR(VLOOKUP(C433,Worktags!O:T,2,FALSE),\"\")","v":"Building Construction and Improvements"},{"$f":"IFERROR(VLOOKUP(IF(C433=\"\",B433&\"||\"&B433,C433&\"||\"&B433),Worktags!AR:AV,5,FALSE),\"\")","v":"All"}]
["1651_SC6703 Construction In Progress (Non-Workday Projects)/Building Furnishings",{"$f":"Worktags!AS529","v":"1651"},{"$f":"IF(Worktags!AQ529<>Worktags!AS529,Worktags!AQ529,\"\")","v":"SC6703"},{"$f":"IFERROR(VLOOKUP(B434,Worktags!AL:AO,2,FALSE),\"\")","v":"Construction In Progress (Non-Workday Projects)"},{"$f":"IFERROR(VLOOKUP(C434,Worktags!O:T,2,FALSE),\"\")","v":"Building Furnishings"},{"$f":"IFERROR(VLOOKUP(IF(C434=\"\",B434&\"||\"&B434,C434&\"||\"&B434),Worktags!AR:AV,5,FALSE),\"\")","v":"All"}]
["1651_SC6704 Construction In Progress (Non-Workday Projects)/Building Materials - Finishing",{"$f":"Worktags!AS536","v":"1651"},{"$f":"IF(Worktags!AQ536<>Worktags!AS536,Worktags!AQ536,\"\")","v":"SC6704"},{"$f":"IFERROR(VLOOKUP(B435,Worktags!AL:AO,2,FALSE),\"\")","v":"Construction In Progress (Non-Workday Projects)"},{"$f":"IFERROR(VLOOKUP(C435,Worktags!O:T,2,FALSE),\"\")","v":"Building Materials - Finishing"},{"$f":"IFERROR(VLOOKUP(IF(C435=\"\",B435&\"||\"&B435,C435&\"||\"&B435),Worktags!AR:AV,5,FALSE),\"\")","v":"All"}]
["1651_SC6705 Construction In Progress (Non-Workday Projects)/Building Materials - Raw",{"$f":"Worktags!AS543","v":"1651"},{"$f":"IF(Worktags!AQ543<>Worktags!AS543,Worktags!AQ543,\"\")","v":"SC6705"},{"$f":"IFERROR(VLOOKUP(B436,Worktags!AL:AO,2,FALSE),\"\")","v":"Construction In Progress (Non-Workday Projects)"},{"$f":"IFERROR(VLOOKUP(C436,Worktags!O:T,2,FALSE),\"\")","v":"Building Materials - Raw"},{"$f":"IFERROR(VLOOKUP(IF(C436=\"\",B436&\"||\"&B436,C436&\"||\"&B436),Worktags!AR:AV,5,FALSE),\"\")","v":"All"}]
["1651_SC6706 Construction In Progress (Non-Workday Projects)/Electrical Devices",{"$f":"Worktags!AS550","v":"1651"},{"$f":"IF(Worktags!AQ550<>Worktags!AS550,Worktags!AQ550,\"\")","v":"SC6706"},{"$f":"IFERROR(VLOOKUP(B437,Worktags!AL:AO,2,FALSE),\"\")","v":"Construction In Progress (Non-Workday Projects)"},{"$f":"IFERROR(VLOOKUP(C437,Worktags!O:T,2,FALSE),\"\")","v":"Electrical Devices"},{"$f":"IFERROR(VLOOKUP(IF(C437=\"\",B437&\"||\"&B437,C437&\"||\"&B437),Worktags!AR:AV,5,FALSE),\"\")","v":"All"}]
["1651_SC6707 Construction In Progress (Non-Workday Projects)/Electrical Supplies",{"$f":"Worktags!AS556","v":"1651"},{"$f":"IF(Worktags!AQ556<>Worktags!AS556,Worktags!AQ556,\"\")","v":"SC6707"},{"$f":"IFERROR(VLOOKUP(B438,Worktags!AL:AO,2,FALSE),\"\")","v":"Construction In Progress (Non-Workday Projects)"},{"$f":"IFERROR(VLOOKUP(C438,Worktags!O:T,2,FALSE),\"\")","v":"Electrical Supplies"},{"$f":"IFERROR(VLOOKUP(IF(C438=\"\",B438&\"||\"&B438,C438&\"||\"&B438),Worktags!AR:AV,5,FALSE),\"\")","v":"All"}]
["1651_SC6708 Construction In Progress (Non-Workday Projects)/Fans/Furnaces",{"$f":"Worktags!AS561","v":"1651"},{"$f":"IF(Worktags!AQ561<>Worktags!AS561,Worktags!AQ561,\"\")","v":"SC6708"},{"$f":"IFERROR(VLOOKUP(B439,Worktags!AL:AO,2,FALSE),\"\")","v":"Construction In Progress (Non-Workday Projects)"},{"$f":"IFERROR(VLOOKUP(C439,Worktags!O:T,2,FALSE),\"\")","v":"Fans/Furnaces"},{"$f":"IFERROR(VLOOKUP(IF(C439=\"\",B439&\"||\"&B439,C439&\"||\"&B439),Worktags!AR:AV,5,FALSE),\"\")","v":"All"}]
["1651_SC6709 Construction In Progress (Non-Workday Projects)/Flooring Materials",{"$f":"Worktags!AS568","v":"1651"},{"$f":"IF(Worktags!AQ568<>Worktags!AS568,Worktags!AQ568,\"\")","v":"SC6709"},{"$f":"IFERROR(VLOOKUP(B440,Worktags!AL:AO,2,FALSE),\"\")","v":"Construction In Progress (Non-Workday Projects)"},{"$f":"IFERROR(VLOOKUP(C440,Worktags!O:T,2,FALSE),\"\")","v":"Flooring Materials"},{"$f":"IFERROR(VLOOKUP(IF(C440=\"\",B440&\"||\"&B440,C440&\"||\"&B440),Worktags!AR:AV,5,FALSE),\"\")","v":"All"}]
["1651_SC6710 Construction In Progress (Non-Workday Projects)/Furnishing Accessories",{"$f":"Worktags!AS575","v":"1651"},{"$f":"IF(Worktags!AQ575<>Worktags!AS575,Worktags!AQ575,\"\")","v":"SC6710"},{"$f":"IFERROR(VLOOKUP(B441,Worktags!AL:AO,2,FALSE),\"\")","v":"Construction In Progress (Non-Workday Projects)"},{"$f":"IFERROR(VLOOKUP(C441,Worktags!O:T,2,FALSE),\"\")","v":"Furnishing Accessories"},{"$f":"IFERROR(VLOOKUP(IF(C441=\"\",B441&\"||\"&B441,C441&\"||\"&B441),Worktags!AR:AV,5,FALSE),\"\")","v":"All"}]
["1651_SC6711 Construction In Progress (Non-Workday Projects)/Grounds and Landscaping Supplies",{"$f":"Worktags!AS582","v":"1651"},{"$f":"IF(Worktags!AQ582<>Worktags!AS582,Worktags!AQ582,\"\")","v":"SC6711"},{"$f":"IFERROR(VLOOKUP(B442,Worktags!AL:AO,2,FALSE),\"\")","v":"Construction In Progress (Non-Workday Projects)"},{"$f":"IFERROR(VLOOKUP(C442,Worktags!O:T,2,FALSE),\"\")","v":"Grounds and Landscaping Supplies"},{"$f":"IFERROR(VLOOKUP(IF(C442=\"\",B442&\"||\"&B442,C442&\"||\"&B442),Worktags!AR:AV,5,FALSE),\"\")","v":"All"}]
["1651_SC6713 Construction In Progress (Non-Workday Projects)/Industrial Fixtures",{"$f":"Worktags!AS591","v":"1651"},{"$f":"IF(Worktags!AQ591<>Worktags!AS591,Worktags!AQ591,\"\")","v":"SC6713"},{"$f":"IFERROR(VLOOKUP(B443,Worktags!AL:AO,2,FALSE),\"\")","v":"Construction In Progress (Non-Workday Projects)"},{"$f":"IFERROR(VLOOKUP(C443,Worktags!O:T,2,FALSE),\"\")","v":"Industrial Fixtures"},{"$f":"IFERROR(VLOOKUP(IF(C443=\"\",B443&\"||\"&B443,C443&\"||\"&B443),Worktags!AR:AV,5,FALSE),\"\")","v":"All"}]
["1651_SC6714 Construction In Progress (Non-Workday Projects)/Lighting Fixtures and Lamps",{"$f":"Worktags!AS598","v":"1651"},{"$f":"IF(Worktags!AQ598<>Worktags!AS598,Worktags!AQ598,\"\")","v":"SC6714"},{"$f":"IFERROR(VLOOKUP(B444,Worktags!AL:AO,2,FALSE),\"\")","v":"Construction In Progress (Non-Workday Projects)"},{"$f":"IFERROR(VLOOKUP(C444,Worktags!O:T,2,FALSE),\"\")","v":"Lighting Fixtures and Lamps"},{"$f":"IFERROR(VLOOKUP(IF(C444=\"\",B444&\"||\"&B444,C444&\"||\"&B444),Worktags!AR:AV,5,FALSE),\"\")","v":"All"}]
["1651_SC6715 Construction In Progress (Non-Workday Projects)/Plumbing Fixtures",{"$f":"Worktags!AS605","v":"1651"},{"$f":"IF(Worktags!AQ605<>Worktags!AS605,Worktags!AQ605,\"\")","v":"SC6715"},{"$f":"IFERROR(VLOOKUP(B445,Worktags!AL:AO,2,FALSE),\"\")","v":"Construction In Progress (Non-Workday Projects)"},{"$f":"IFERROR(VLOOKUP(C445,Worktags!O:T,2,FALSE),\"\")","v":"Plumbing Fixtures"},{"$f":"IFERROR(VLOOKUP(IF(C445=\"\",B445&\"||\"&B445,C445&\"||\"&B445),Worktags!AR:AV,5,FALSE),\"\")","v":"All"}]
["1651_SC6716 Construction In Progress (Non-Workday Projects)/Retainage",{"$f":"Worktags!AS610","v":"1651"},{"$f":"IF(Worktags!AQ610<>Worktags!AS610,Worktags!AQ610,\"\")","v":"SC6716"},{"$f":"IFERROR(VLOOKUP(B446,Worktags!AL:AO,2,FALSE),\"\")","v":"Construction In Progress (Non-Workday Projects)"},{"$f":"IFERROR(VLOOKUP(C446,Worktags!O:T,2,FALSE),\"\")","v":"Retainage"},{"$f":"IFERROR(VLOOKUP(IF(C446=\"\",B446&\"||\"&B446,C446&\"||\"&B446),Worktags!AR:AV,5,FALSE),\"\")","v":"All"}]
["1651_SC6717 Construction In Progress (Non-Workday Projects)/Retainage Interest",{"$f":"Worktags!AS613","v":"1651"},{"$f":"IF(Worktags!AQ613<>Worktags!AS613,Worktags!AQ613,\"\")","v":"SC6717"},{"$f":"IFERROR(VLOOKUP(B447,Worktags!AL:AO,2,FALSE),\"\")","v":"Construction In Progress (Non-Workday Projects)"},{"$f":"IFERROR(VLOOKUP(C447,Worktags!O:T,2,FALSE),\"\")","v":"Retainage Interest"},{"$f":"IFERROR(VLOOKUP(IF(C447=\"\",B447&\"||\"&B447,C447&\"||\"&B447),Worktags!AR:AV,5,FALSE),\"\")","v":"All"}]
["1651_SC6718 Construction In Progress (Non-Workday Projects)/Signage, Electronic",{"$f":"Worktags!AS618","v":"1651"},{"$f":"IF(Worktags!AQ618<>Worktags!AS618,Worktags!AQ618,\"\")","v":"SC6718"},{"$f":"IFERROR(VLOOKUP(B448,Worktags!AL:AO,2,FALSE),\"\")","v":"Construction In Progress (Non-Workday Projects)"},{"$f":"IFERROR(VLOOKUP(C448,Worktags!O:T,2,FALSE),\"\")","v":"Signage, Electronic"},{"$f":"IFERROR(VLOOKUP(IF(C448=\"\",B448&\"||\"&B448,C448&\"||\"&B448),Worktags!AR:AV,5,FALSE),\"\")","v":"All"}]
[{"$f":"IF(B449<>\"\",IF(C449<>\"\",B449&\"_\"&C449&\" \"&D449&\"/\"&E449,B449&\" \"&D449),\"\")","v":"1651_SC6719 Construction In Progress (Non-Workday Projects)/Signage, Non-electronic"},{"$f":"Worktags!AS625","v":"1651"},{"$f":"IF(Worktags!AQ625<>Worktags!AS625,Worktags!AQ625,\"\")","v":"SC6719"},{"$f":"IFERROR(VLOOKUP(B449,Worktags!AL:AO,2,FALSE),\"\")","v":"Construction In Progress (Non-Workday Projects)"},{"$f":"IFERROR(VLOOKUP(C449,Worktags!O:T,2,FALSE),\"\")","v":"Signage, Non-electronic"},{"$f":"IFERROR(VLOOKUP(IF(C449=\"\",B449&\"||\"&B449,C449&\"||\"&B449),Worktags!AR:AV,5,FALSE),\"\")","v":"All"}]
["1651_SC6720 Construction In Progress (Non-Workday Projects)/Specialized Trade Services - Physical Facilities",{"$f":"Worktags!AS631","v":"1651"},{"$f":"IF(Worktags!AQ631<>Worktags!AS631,Worktags!AQ631,\"\")","v":"SC6720"},{"$f":"IFERROR(VLOOKUP(B450,Worktags!AL:AO,2,FALSE),\"\")","v":"Construction In Progress (Non-Workday Projects)"},{"$f":"IFERROR(VLOOKUP(C450,Worktags!O:T,2,FALSE),\"\")","v":"Specialized Trade Services - Physical Facilities"},{"$f":"IFERROR(VLOOKUP(IF(C450=\"\",B450&\"||\"&B450,C450&\"||\"&B450),Worktags!AR:AV,5,FALSE),\"\")","v":"All"}]
["1651_SC6721 Construction In Progress (Non-Workday Projects)/Stage and Studio Lighting (Asset Track)",{"$f":"Worktags!AS636","v":"1651"},{"$f":"IF(Worktags!AQ636<>Worktags!AS636,Worktags!AQ636,\"\")","v":"SC6721"},{"$f":"IFERROR(VLOOKUP(B451,Worktags!AL:AO,2,FALSE),\"\")","v":"Construction In Progress (Non-Workday Projects)"},{"$f":"IFERROR(VLOOKUP(C451,Worktags!O:T,2,FALSE),\"\")","v":"Stage and Studio Lighting (Asset Track)"},{"$f":"IFERROR(VLOOKUP(IF(C451=\"\",B451&\"||\"&B451,C451&\"||\"&B451),Worktags!AR:AV,5,FALSE),\"\")","v":"All"}]
["1651_SC6729 Construction In Progress (Non-Workday Projects)/Warehouse Fixtures",{"$f":"Worktags!AS657","v":"1651"},{"$f":"IF(Worktags!AQ657<>Worktags!AS657,Worktags!AQ657,\"\")","v":"SC6729"},{"$f":"IFERROR(VLOOKUP(B452,Worktags!AL:AO,2,FALSE),\"\")","v":"Construction In Progress (Non-Workday Projects)"},{"$f":"IFERROR(VLOOKUP(C452,Worktags!O:T,2,FALSE),\"\")","v":"Warehouse Fixtures"},{"$f":"IFERROR(VLOOKUP(IF(C452=\"\",B452&\"||\"&B452,C452&\"||\"&B452),Worktags!AR:AV,5,FALSE),\"\")","v":"All"}]
["1651_SC6730 Construction In Progress (Non-Workday Projects)/Window Treatments",{"$f":"Worktags!AS664","v":"1651"},{"$f":"IF(Worktags!AQ664<>Worktags!AS664,Worktags!AQ664,\"\")","v":"SC6730"},{"$f":"IFERROR(VLOOKUP(B453,Worktags!AL:AO,2,FALSE),\"\")","v":"Construction In Progress (Non-Workday Projects)"},{"$f":"IFERROR(VLOOKUP(C453,Worktags!O:T,2,FALSE),\"\")","v":"Window Treatments"},{"$f":"IFERROR(VLOOKUP(IF(C453=\"\",B453&\"||\"&B453,C453&\"||\"&B453),Worktags!AR:AV,5,FALSE),\"\")","v":"All"}]
["1651_SC6799 Construction In Progress (Non-Workday Projects)/Physical Facilities (reclass)",{"$f":"Worktags!AS671","v":"1651"},{"$f":"IF(Worktags!AQ671<>Worktags!AS671,Worktags!AQ671,\"\")","v":"SC6799"},{"$f":"IFERROR(VLOOKUP(B454,Worktags!AL:AO,2,FALSE),\"\")","v":"Construction In Progress (Non-Workday Projects)"},{"$f":"IFERROR(VLOOKUP(C454,Worktags!O:T,2,FALSE),\"\")","v":"Physical Facilities (reclass)"},{"$f":"IFERROR(VLOOKUP(IF(C454=\"\",B454&\"||\"&B454,C454&\"||\"&B454),Worktags!AR:AV,5,FALSE),\"\")","v":"All"}]
["1651_SC6901 Construction In Progress (Non-Workday Projects)/Art Equipment",{"$f":"Worktags!AS676","v":"1651"},{"$f":"IF(Worktags!AQ676<>Worktags!AS676,Worktags!AQ676,\"\")","v":"SC6901"},{"$f":"IFERROR(VLOOKUP(B455,Worktags!AL:AO,2,FALSE),\"\")","v":"Construction In Progress (Non-Workday Projects)"},{"$f":"IFERROR(VLOOKUP(C455,Worktags!O:T,2,FALSE),\"\")","v":"Art Equipment"},{"$f":"IFERROR(VLOOKUP(IF(C455=\"\",B455&\"||\"&B455,C455&\"||\"&B455),Worktags!AR:AV,5,FALSE),\"\")","v":"All"}]
["1651_SC6902 Construction In Progress (Non-Workday Projects)/Athletic Equipment",{"$f":"Worktags!AS683","v":"1651"},{"$f":"IF(Worktags!AQ683<>Worktags!AS683,Worktags!AQ683,\"\")","v":"SC6902"},{"$f":"IFERROR(VLOOKUP(B456,Worktags!AL:AO,2,FALSE),\"\")","v":"Construction In Progress (Non-Workday Projects)"},{"$f":"IFERROR(VLOOKUP(C456,Worktags!O:T,2,FALSE),\"\")","v":"Athletic Equipment"},{"$f":"IFERROR(VLOOKUP(IF(C456=\"\",B456&\"||\"&B456,C456&\"||\"&B456),Worktags!AR:AV,5,FALSE),\"\")","v":"All"}]
["1651_SC6903 Construction In Progress (Non-Workday Projects)/Audio Visual Equipment (Asset Track)",{"$f":"Worktags!AS690","v":"1651"},{"$f":"IF(Worktags!AQ690<>Worktags!AS690,Worktags!AQ690,\"\")","v":"SC6903"},{"$f":"IFERROR(VLOOKUP(B457,Worktags!AL:AO,2,FALSE),\"\")","v":"Construction In Progress (Non-Workday Projects)"},{"$f":"IFERROR(VLOOKUP(C457,Worktags!O:T,2,FALSE),\"\")","v":"Audio Visual Equipment (Asset Track)"},{"$f":"IFERROR(VLOOKUP(IF(C457=\"\",B457&\"||\"&B457,C457&\"||\"&B457),Worktags!AR:AV,5,FALSE),\"\")","v":"All"}]
["1651_SC6904 Construction In Progress (Non-Workday Projects)/Communication Devices (Asset Track)",{"$f":"Worktags!AS697","v":"1651"},{"$f":"IF(Worktags!AQ697<>Worktags!AS697,Worktags!AQ697,\"\")","v":"SC6904"},{"$f":"IFERROR(VLOOKUP(B458,Worktags!AL:AO,2,FALSE),\"\")","v":"Construction In Progress (Non-Workday Projects)"},{"$f":"IFERROR(VLOOKUP(C458,Worktags!O:T,2,FALSE),\"\")","v":"Communication Devices (Asset Track)"},{"$f":"IFERROR(VLOOKUP(IF(C458=\"\",B458&\"||\"&B458,C458&\"||\"&B458),Worktags!AR:AV,5,FALSE),\"\")","v":"All"}]
["1651_SC6905 Construction In Progress (Non-Workday Projects)/Computer Hardware (Asset Track)",{"$f":"Worktags!AS704","v":"1651"},{"$f":"IF(Worktags!AQ704<>Worktags!AS704,Worktags!AQ704,\"\")","v":"SC6905"},{"$f":"IFERROR(VLOOKUP(B459,Worktags!AL:AO,2,FALSE),\"\")","v":"Construction In Progress (Non-Workday Projects)"},{"$f":"IFERROR(VLOOKUP(C459,Worktags!O:T,2,FALSE),\"\")","v":"Computer Hardware (Asset Track)"},{"$f":"IFERROR(VLOOKUP(IF(C459=\"\",B459&\"||\"&B459,C459&\"||\"&B459),Worktags!AR:AV,5,FALSE),\"\")","v":"All"}]
["1651_SC6906 Construction In Progress (Non-Workday Projects)/Data Network Equipment (Asset Track)",{"$f":"Worktags!AS711","v":"1651"},{"$f":"IF(Worktags!AQ711<>Worktags!AS711,Worktags!AQ711,\"\")","v":"SC6906"},{"$f":"IFERROR(VLOOKUP(B460,Worktags!AL:AO,2,FALSE),\"\")","v":"Construction In Progress (Non-Workday Projects)"},{"$f":"IFERROR(VLOOKUP(C460,Worktags!O:T,2,FALSE),\"\")","v":"Data Network Equipment (Asset Track)"},{"$f":"IFERROR(VLOOKUP(IF(C460=\"\",B460&\"||\"&B460,C460&\"||\"&B460),Worktags!AR:AV,5,FALSE),\"\")","v":"All"}]
["1651_SC6907 Construction In Progress (Non-Workday Projects)/Equipment (not otherwise specified) (Asset Track)",{"$f":"Worktags!AS718","v":"1651"},{"$f":"IF(Worktags!AQ718<>Worktags!AS718,Worktags!AQ718,\"\")","v":"SC6907"},{"$f":"IFERROR(VLOOKUP(B461,Worktags!AL:AO,2,FALSE),\"\")","v":"Construction In Progress (Non-Workday Projects)"},{"$f":"IFERROR(VLOOKUP(C461,Worktags!O:T,2,FALSE),\"\")","v":"Equipment (not otherwise specified) (Asset Track)"},{"$f":"IFERROR(VLOOKUP(IF(C461=\"\",B461&\"||\"&B461,C461&\"||\"&B461),Worktags!AR:AV,5,FALSE),\"\")","v":"All"}]
["1651_SC6910 Construction In Progress (Non-Workday Projects)/Food Service Equipment",{"$f":"Worktags!AS732","v":"1651"},{"$f":"IF(Worktags!AQ732<>Worktags!AS732,Worktags!AQ732,\"\")","v":"SC6910"},{"$f":"IFERROR(VLOOKUP(B462,Worktags!AL:AO,2,FALSE),\"\")","v":"Construction In Progress (Non-Workday Projects)"},{"$f":"IFERROR(VLOOKUP(C462,Worktags!O:T,2,FALSE),\"\")","v":"Food Service Equipment"},{"$f":"IFERROR(VLOOKUP(IF(C462=\"\",B462&\"||\"&B462,C462&\"||\"&B462),Worktags!AR:AV,5,FALSE),\"\")","v":"All"}]
["1651_SC6914 Construction In Progress (Non-Workday Projects)/Industrial Equipment",{"$f":"Worktags!AS751","v":"1651"},{"$f":"IF(Worktags!AQ751<>Worktags!AS751,Worktags!AQ751,\"\")","v":"SC6914"},{"$f":"IFERROR(VLOOKUP(B463,Worktags!AL:AO,2,FALSE),\"\")","v":"Construction In Progress (Non-Workday Projects)"},{"$f":"IFERROR(VLOOKUP(C463,Worktags!O:T,2,FALSE),\"\")","v":"Industrial Equipment"},{"$f":"IFERROR(VLOOKUP(IF(C463=\"\",B463&\"||\"&B463,C463&\"||\"&B463),Worktags!AR:AV,5,FALSE),\"\")","v":"All"}]
["1651_SC6915 Construction In Progress (Non-Workday Projects)/Janitorial Equipment",{"$f":"Worktags!AS758","v":"1651"},{"$f":"IF(Worktags!AQ758<>Worktags!AS758,Worktags!AQ758,\"\")","v":"SC6915"},{"$f":"IFERROR(VLOOKUP(B464,Worktags!AL:AO,2,FALSE),\"\")","v":"Construction In Progress (Non-Workday Projects)"},{"$f":"IFERROR(VLOOKUP(C464,Worktags!O:T,2,FALSE),\"\")","v":"Janitorial Equipment"},{"$f":"IFERROR(VLOOKUP(IF(C464=\"\",B464&\"||\"&B464,C464&\"||\"&B464),Worktags!AR:AV,5,FALSE),\"\")","v":"All"}]
["1651_SC6917 Construction In Progress (Non-Workday Projects)/Laundry Equipment",{"$f":"Worktags!AS767","v":"1651"},{"$f":"IF(Worktags!AQ767<>Worktags!AS767,Worktags!AQ767,\"\")","v":"SC6917"},{"$f":"IFERROR(VLOOKUP(B465,Worktags!AL:AO,2,FALSE),\"\")","v":"Construction In Progress (Non-Workday Projects)"},{"$f":"IFERROR(VLOOKUP(C465,Worktags!O:T,2,FALSE),\"\")","v":"Laundry Equipment"},{"$f":"IFERROR(VLOOKUP(IF(C465=\"\",B465&\"||\"&B465,C465&\"||\"&B465),Worktags!AR:AV,5,FALSE),\"\")","v":"All"}]
["1651_SC6921 Construction In Progress (Non-Workday Projects)/Medical Equipment",{"$f":"Worktags!AS786","v":"1651"},{"$f":"IF(Worktags!AQ786<>Worktags!AS786,Worktags!AQ786,\"\")","v":"SC6921"},{"$f":"IFERROR(VLOOKUP(B466,Worktags!AL:AO,2,FALSE),\"\")","v":"Construction In Progress (Non-Workday Projects)"},{"$f":"IFERROR(VLOOKUP(C466,Worktags!O:T,2,FALSE),\"\")","v":"Medical Equipment"},{"$f":"IFERROR(VLOOKUP(IF(C466=\"\",B466&\"||\"&B466,C466&\"||\"&B466),Worktags!AR:AV,5,FALSE),\"\")","v":"All"}]
["1651_SC6924 Construction In Progress (Non-Workday Projects)/Office Equipment (Asset Track)",{"$f":"Worktags!AS800","v":"1651"},{"$f":"IF(Worktags!AQ800<>Worktags!AS800,Worktags!AQ800,\"\")","v":"SC6924"},{"$f":"IFERROR(VLOOKUP(B467,Worktags!AL:AO,2,FALSE),\"\")","v":"Construction In Progress (Non-Workday Projects)"},{"$f":"IFERROR(VLOOKUP(C467,Worktags!O:T,2,FALSE),\"\")","v":"Office Equipment (Asset Track)"},{"$f":"IFERROR(VLOOKUP(IF(C467=\"\",B467&\"||\"&B467,C467&\"||\"&B467),Worktags!AR:AV,5,FALSE),\"\")","v":"All"}]
["1651_SC6927 Construction In Progress (Non-Workday Projects)/Portable Structures",{"$f":"Worktags!AS814","v":"1651"},{"$f":"IF(Worktags!AQ814<>Worktags!AS814,Worktags!AQ814,\"\")","v":"SC6927"},{"$f":"IFERROR(VLOOKUP(B468,Worktags!AL:AO,2,FALSE),\"\")","v":"Construction In Progress (Non-Workday Projects)"},{"$f":"IFERROR(VLOOKUP(C468,Worktags!O:T,2,FALSE),\"\")","v":"Portable Structures"},{"$f":"IFERROR(VLOOKUP(IF(C468=\"\",B468&\"||\"&B468,C468&\"||\"&B468),Worktags!AR:AV,5,FALSE),\"\")","v":"All"}]
["1651_SC6928 Construction In Progress (Non-Workday Projects)/Printing Equipment",{"$f":"Worktags!AS821","v":"1651"},{"$f":"IF(Worktags!AQ821<>Worktags!AS821,Worktags!AQ821,\"\")","v":"SC6928"},{"$f":"IFERROR(VLOOKUP(B469,Worktags!AL:AO,2,FALSE),\"\")","v":"Construction In Progress (Non-Workday Projects)"},{"$f":"IFERROR(VLOOKUP(C469,Worktags!O:T,2,FALSE),\"\")","v":"Printing Equipment"},{"$f":"IFERROR(VLOOKUP(IF(C469=\"\",B469&\"||\"&B469,C469&\"||\"&B469),Worktags!AR:AV,5,FALSE),\"\")","v":"All"}]
["1651_SC6929 Construction In Progress (Non-Workday Projects)/Scientific and Engineering Equipment",{"$f":"Worktags!AS828","v":"1651"},{"$f":"IF(Worktags!AQ828<>Worktags!AS828,Worktags!AQ828,\"\")","v":"SC6929"},{"$f":"IFERROR(VLOOKUP(B470,Worktags!AL:AO,2,FALSE),\"\")","v":"Construction In Progress (Non-Workday Projects)"},{"$f":"IFERROR(VLOOKUP(C470,Worktags!O:T,2,FALSE),\"\")","v":"Scientific and Engineering Equipment"},{"$f":"IFERROR(VLOOKUP(IF(C470=\"\",B470&\"||\"&B470,C470&\"||\"&B470),Worktags!AR:AV,5,FALSE),\"\")","v":"All"}]
["1651_SC6931 Construction In Progress (Non-Workday Projects)/Security Equipment (Asset Track)",{"$f":"Worktags!AS837","v":"1651"},{"$f":"IF(Worktags!AQ837<>Worktags!AS837,Worktags!AQ837,\"\")","v":"SC6931"},{"$f":"IFERROR(VLOOKUP(B471,Worktags!AL:AO,2,FALSE),\"\")","v":"Construction In Progress (Non-Workday Projects)"},{"$f":"IFERROR(VLOOKUP(C471,Worktags!O:T,2,FALSE),\"\")","v":"Security Equipment (Asset Track)"},{"$f":"IFERROR(VLOOKUP(IF(C471=\"\",B471&\"||\"&B471,C471&\"||\"&B471),Worktags!AR:AV,5,FALSE),\"\")","v":"All"}]
["1651_SC6932 Construction In Progress (Non-Workday Projects)/Small Appliances",{"$f":"Worktags!AS844","v":"1651"},{"$f":"IF(Worktags!AQ844<>Worktags!AS844,Worktags!AQ844,\"\")","v":"SC6932"},{"$f":"IFERROR(VLOOKUP(B472,Worktags!AL:AO,2,FALSE),\"\")","v":"Construction In Progress (Non-Workday Projects)"},{"$f":"IFERROR(VLOOKUP(C472,Worktags!O:T,2,FALSE),\"\")","v":"Small Appliances"},{"$f":"IFERROR(VLOOKUP(IF(C472=\"\",B472&\"||\"&B472,C472&\"||\"&B472),Worktags!AR:AV,5,FALSE),\"\")","v":"All"}]
["1651_SC6935 Construction In Progress (Non-Workday Projects)/Telecom Equipment",{"$f":"Worktags!AS858","v":"1651"},{"$f":"IF(Worktags!AQ858<>Worktags!AS858,Worktags!AQ858,\"\")","v":"SC6935"},{"$f":"IFERROR(VLOOKUP(B473,Worktags!AL:AO,2,FALSE),\"\")","v":"Construction In Progress (Non-Workday Projects)"},{"$f":"IFERROR(VLOOKUP(C473,Worktags!O:T,2,FALSE),\"\")","v":"Telecom Equipment"},{"$f":"IFERROR(VLOOKUP(IF(C473=\"\",B473&\"||\"&B473,C473&\"||\"&B473),Worktags!AR:AV,5,FALSE),\"\")","v":"All"}]
["1651_SC6939 Construction In Progress (Non-Workday Projects)/Warehouse Equipment",{"$f":"Worktags!AS877","v":"1651"},{"$f":"IF(Worktags!AQ877<>Worktags!AS877,Worktags!AQ877,\"\")","v":"SC6939"},{"$f":"IFERROR(VLOOKUP(B474,Worktags!AL:AO,2,FALSE),\"\")","v":"Construction In Progress (Non-Workday Projects)"},{"$f":"IFERROR(VLOOKUP(C474,Worktags!O:T,2,FALSE),\"\")","v":"Warehouse Equipment"},{"$f":"IFERROR(VLOOKUP(IF(C474=\"\",B474&\"||\"&B474,C474&\"||\"&B474),Worktags!AR:AV,5,FALSE),\"\")","v":"All"}]
["1651_SC6999 Construction In Progress (Non-Workday Projects)/Equipment (reclass)",{"$f":"Worktags!AS890","v":"1651"},{"$f":"IF(Worktags!AQ890<>Worktags!AS890,Worktags!AQ890,\"\")","v":"SC6999"},{"$f":"IFERROR(VLOOKUP(B475,Worktags!AL:AO,2,FALSE),\"\")","v":"Construction In Progress (Non-Workday Projects)"},{"$f":"IFERROR(VLOOKUP(C475,Worktags!O:T,2,FALSE),\"\")","v":"Equipment (reclass)"},{"$f":"IFERROR(VLOOKUP(IF(C475=\"\",B475&\"||\"&B475,C475&\"||\"&B475),Worktags!AR:AV,5,FALSE),\"\")","v":"All"}]
["1700 Accumulated Depreciation",{"$f":"Worktags!AL69","v":"1700"},null,{"$f":"IFERROR(VLOOKUP(B476,Worktags!AL:AO,2,FALSE),\"\")","v":"Accumulated Depreciation"},null,{"$f":"IFERROR(VLOOKUP(IF(C476=\"\",B476&\"||\"&B476,C476&\"||\"&B476),Worktags!AR:AV,5,FALSE),\"\")","v":""}]
["1700_SC1605 Accumulated Depreciation/Buildings",{"$f":"Worktags!AS214","v":"1700"},{"$f":"IF(Worktags!AQ214<>Worktags!AS214,Worktags!AQ214,\"\")","v":"SC1605"},{"$f":"IFERROR(VLOOKUP(B477,Worktags!AL:AO,2,FALSE),\"\")","v":"Accumulated Depreciation"},{"$f":"IFERROR(VLOOKUP(C477,Worktags!O:T,2,FALSE),\"\")","v":"Buildings"},{"$f":"IFERROR(VLOOKUP(IF(C477=\"\",B477&\"||\"&B477,C477&\"||\"&B477),Worktags!AR:AV,5,FALSE),\"\")","v":"JE_PPE|JE_Override"}]
["1700_SC1635 Accumulated Depreciation/Misc Capital Assets",{"$f":"Worktags!AS218","v":"1700"},{"$f":"IF(Worktags!AQ218<>Worktags!AS218,Worktags!AQ218,\"\")","v":"SC1635"},{"$f":"IFERROR(VLOOKUP(B478,Worktags!AL:AO,2,FALSE),\"\")","v":"Accumulated Depreciation"},{"$f":"IFERROR(VLOOKUP(C478,Worktags!O:T,2,FALSE),\"\")","v":"Misc Capital Assets"},{"$f":"IFERROR(VLOOKUP(IF(C478=\"\",B478&\"||\"&B478,C478&\"||\"&B478),Worktags!AR:AV,5,FALSE),\"\")","v":"JE_PPE|JE_Override"}]
["1700_SC6701 Accumulated Depreciation/Building Access Supplies",{"$f":"Worktags!AS516","v":"1700"},{"$f":"IF(Worktags!AQ516<>Worktags!AS516,Worktags!AQ516,\"\")","v":"SC6701"},{"$f":"IFERROR(VLOOKUP(B479,Worktags!AL:AO,2,FALSE),\"\")","v":"Accumulated Depreciation"},{"$f":"IFERROR(VLOOKUP(C479,Worktags!O:T,2,FALSE),\"\")","v":"Building Access Supplies"},{"$f":"IFERROR(VLOOKUP(IF(C479=\"\",B479&\"||\"&B479,C479&\"||\"&B479),Worktags!AR:AV,5,FALSE),\"\")","v":"JE_PPE|JE_Override"}]
["1700_SC6702 Accumulated Depreciation/Building Construction and Improvements",{"$f":"Worktags!AS523","v":"1700"},{"$f":"IF(Worktags!AQ523<>Worktags!AS523,Worktags!AQ523,\"\")","v":"SC6702"},{"$f":"IFERROR(VLOOKUP(B480,Worktags!AL:AO,2,FALSE),\"\")","v":"Accumulated Depreciation"},{"$f":"IFERROR(VLOOKUP(C480,Worktags!O:T,2,FALSE),\"\")","v":"Building Construction and Improvements"},{"$f":"IFERROR(VLOOKUP(IF(C480=\"\",B480&\"||\"&B480,C480&\"||\"&B480),Worktags!AR:AV,5,FALSE),\"\")","v":"JE_PPE|JE_Override"}]
["1700_SC6703 Accumulated Depreciation/Building Furnishings",{"$f":"Worktags!AS530","v":"1700"},{"$f":"IF(Worktags!AQ530<>Worktags!AS530,Worktags!AQ530,\"\")","v":"SC6703"},{"$f":"IFERROR(VLOOKUP(B481,Worktags!AL:AO,2,FALSE),\"\")","v":"Accumulated Depreciation"},{"$f":"IFERROR(VLOOKUP(C481,Worktags!O:T,2,FALSE),\"\")","v":"Building Furnishings"},{"$f":"IFERROR(VLOOKUP(IF(C481=\"\",B481&\"||\"&B481,C481&\"||\"&B481),Worktags!AR:AV,5,FALSE),\"\")","v":"JE_PPE|JE_Override"}]
["1700_SC6704 Accumulated Depreciation/Building Materials - Finishing",{"$f":"Worktags!AS537","v":"1700"},{"$f":"IF(Worktags!AQ537<>Worktags!AS537,Worktags!AQ537,\"\")","v":"SC6704"},{"$f":"IFERROR(VLOOKUP(B482,Worktags!AL:AO,2,FALSE),\"\")","v":"Accumulated Depreciation"},{"$f":"IFERROR(VLOOKUP(C482,Worktags!O:T,2,FALSE),\"\")","v":"Building Materials - Finishing"},{"$f":"IFERROR(VLOOKUP(IF(C482=\"\",B482&\"||\"&B482,C482&\"||\"&B482),Worktags!AR:AV,5,FALSE),\"\")","v":"JE_PPE|JE_Override"}]
["1700_SC6705 Accumulated Depreciation/Building Materials - Raw",{"$f":"Worktags!AS544","v":"1700"},{"$f":"IF(Worktags!AQ544<>Worktags!AS544,Worktags!AQ544,\"\")","v":"SC6705"},{"$f":"IFERROR(VLOOKUP(B483,Worktags!AL:AO,2,FALSE),\"\")","v":"Accumulated Depreciation"},{"$f":"IFERROR(VLOOKUP(C483,Worktags!O:T,2,FALSE),\"\")","v":"Building Materials - Raw"},{"$f":"IFERROR(VLOOKUP(IF(C483=\"\",B483&\"||\"&B483,C483&\"||\"&B483),Worktags!AR:AV,5,FALSE),\"\")","v":"JE_PPE|JE_Override"}]
["1700_SC6706 Accumulated Depreciation/Electrical Devices",{"$f":"Worktags!AS551","v":"1700"},{"$f":"IF(Worktags!AQ551<>Worktags!AS551,Worktags!AQ551,\"\")","v":"SC6706"},{"$f":"IFERROR(VLOOKUP(B484,Worktags!AL:AO,2,FALSE),\"\")","v":"Accumulated Depreciation"},{"$f":"IFERROR(VLOOKUP(C484,Worktags!O:T,2,FALSE),\"\")","v":"Electrical Devices"},{"$f":"IFERROR(VLOOKUP(IF(C484=\"\",B484&\"||\"&B484,C484&\"||\"&B484),Worktags!AR:AV,5,FALSE),\"\")","v":"JE_PPE|JE_Override"}]
["1700_SC6708 Accumulated Depreciation/Fans/Furnaces",{"$f":"Worktags!AS562","v":"1700"},{"$f":"IF(Worktags!AQ562<>Worktags!AS562,Worktags!AQ562,\"\")","v":"SC6708"},{"$f":"IFERROR(VLOOKUP(B485,Worktags!AL:AO,2,FALSE),\"\")","v":"Accumulated Depreciation"},{"$f":"IFERROR(VLOOKUP(C485,Worktags!O:T,2,FALSE),\"\")","v":"Fans/Furnaces"},{"$f":"IFERROR(VLOOKUP(IF(C485=\"\",B485&\"||\"&B485,C485&\"||\"&B485),Worktags!AR:AV,5,FALSE),\"\")","v":"JE_PPE|JE_Override"}]
["1700_SC6709 Accumulated Depreciation/Flooring Materials",{"$f":"Worktags!AS569","v":"1700"},{"$f":"IF(Worktags!AQ569<>Worktags!AS569,Worktags!AQ569,\"\")","v":"SC6709"},{"$f":"IFERROR(VLOOKUP(B486,Worktags!AL:AO,2,FALSE),\"\")","v":"Accumulated Depreciation"},{"$f":"IFERROR(VLOOKUP(C486,Worktags!O:T,2,FALSE),\"\")","v":"Flooring Materials"},{"$f":"IFERROR(VLOOKUP(IF(C486=\"\",B486&\"||\"&B486,C486&\"||\"&B486),Worktags!AR:AV,5,FALSE),\"\")","v":"JE_PPE|JE_Override"}]
["1700_SC6710 Accumulated Depreciation/Furnishing Accessories",{"$f":"Worktags!AS576","v":"1700"},{"$f":"IF(Worktags!AQ576<>Worktags!AS576,Worktags!AQ576,\"\")","v":"SC6710"},{"$f":"IFERROR(VLOOKUP(B487,Worktags!AL:AO,2,FALSE),\"\")","v":"Accumulated Depreciation"},{"$f":"IFERROR(VLOOKUP(C487,Worktags!O:T,2,FALSE),\"\")","v":"Furnishing Accessories"},{"$f":"IFERROR(VLOOKUP(IF(C487=\"\",B487&\"||\"&B487,C487&\"||\"&B487),Worktags!AR:AV,5,FALSE),\"\")","v":"JE_PPE|JE_Override"}]
["1700_SC6711 Accumulated Depreciation/Grounds and Landscaping Supplies",{"$f":"Worktags!AS583","v":"1700"},{"$f":"IF(Worktags!AQ583<>Worktags!AS583,Worktags!AQ583,\"\")","v":"SC6711"},{"$f":"IFERROR(VLOOKUP(B488,Worktags!AL:AO,2,FALSE),\"\")","v":"Accumulated Depreciation"},{"$f":"IFERROR(VLOOKUP(C488,Worktags!O:T,2,FALSE),\"\")","v":"Grounds and Landscaping Supplies"},{"$f":"IFERROR(VLOOKUP(IF(C488=\"\",B488&\"||\"&B488,C488&\"||\"&B488),Worktags!AR:AV,5,FALSE),\"\")","v":"JE_PPE|JE_Override"}]
["1700_SC6713 Accumulated Depreciation/Industrial Fixtures",{"$f":"Worktags!AS592","v":"1700"},{"$f":"IF(Worktags!AQ592<>Worktags!AS592,Worktags!AQ592,\"\")","v":"SC6713"},{"$f":"IFERROR(VLOOKUP(B489,Worktags!AL:AO,2,FALSE),\"\")","v":"Accumulated Depreciation"},{"$f":"IFERROR(VLOOKUP(C489,Worktags!O:T,2,FALSE),\"\")","v":"Industrial Fixtures"},{"$f":"IFERROR(VLOOKUP(IF(C489=\"\",B489&\"||\"&B489,C489&\"||\"&B489),Worktags!AR:AV,5,FALSE),\"\")","v":"JE_PPE|JE_Override"}]
["1700_SC6714 Accumulated Depreciation/Lighting Fixtures and Lamps",{"$f":"Worktags!AS599","v":"1700"},{"$f":"IF(Worktags!AQ599<>Worktags!AS599,Worktags!AQ599,\"\")","v":"SC6714"},{"$f":"IFERROR(VLOOKUP(B490,Worktags!AL:AO,2,FALSE),\"\")","v":"Accumulated Depreciation"},{"$f":"IFERROR(VLOOKUP(C490,Worktags!O:T,2,FALSE),\"\")","v":"Lighting Fixtures and Lamps"},{"$f":"IFERROR(VLOOKUP(IF(C490=\"\",B490&\"||\"&B490,C490&\"||\"&B490),Worktags!AR:AV,5,FALSE),\"\")","v":"JE_PPE|JE_Override"}]
["1700_SC6715 Accumulated Depreciation/Plumbing Fixtures",{"$f":"Worktags!AS606","v":"1700"},{"$f":"IF(Worktags!AQ606<>Worktags!AS606,Worktags!AQ606,\"\")","v":"SC6715"},{"$f":"IFERROR(VLOOKUP(B491,Worktags!AL:AO,2,FALSE),\"\")","v":"Accumulated Depreciation"},{"$f":"IFERROR(VLOOKUP(C491,Worktags!O:T,2,FALSE),\"\")","v":"Plumbing Fixtures"},{"$f":"IFERROR(VLOOKUP(IF(C491=\"\",B491&\"||\"&B491,C491&\"||\"&B491),Worktags!AR:AV,5,FALSE),\"\")","v":"JE_PPE|JE_Override"}]
["1700_SC6718 Accumulated Depreciation/Signage, Electronic",{"$f":"Worktags!AS619","v":"1700"},{"$f":"IF(Worktags!AQ619<>Worktags!AS619,Worktags!AQ619,\"\")","v":"SC6718"},{"$f":"IFERROR(VLOOKUP(B492,Worktags!AL:AO,2,FALSE),\"\")","v":"Accumulated Depreciation"},{"$f":"IFERROR(VLOOKUP(C492,Worktags!O:T,2,FALSE),\"\")","v":"Signage, Electronic"},{"$f":"IFERROR(VLOOKUP(IF(C492=\"\",B492&\"||\"&B492,C492&\"||\"&B492),Worktags!AR:AV,5,FALSE),\"\")","v":"JE_PPE|JE_Override"}]
["1700_SC6719 Accumulated Depreciation/Signage, Non-electronic",{"$f":"Worktags!AS626","v":"1700"},{"$f":"IF(Worktags!AQ626<>Worktags!AS626,Worktags!AQ626,\"\")","v":"SC6719"},{"$f":"IFERROR(VLOOKUP(B493,Worktags!AL:AO,2,FALSE),\"\")","v":"Accumulated Depreciation"},{"$f":"IFERROR(VLOOKUP(C493,Worktags!O:T,2,FALSE),\"\")","v":"Signage, Non-electronic"},{"$f":"IFERROR(VLOOKUP(IF(C493=\"\",B493&\"||\"&B493,C493&\"||\"&B493),Worktags!AR:AV,5,FALSE),\"\")","v":"JE_PPE|JE_Override"}]
["1700_SC6721 Accumulated Depreciation/Stage and Studio Lighting (Asset Track)",{"$f":"Worktags!AS637","v":"1700"},{"$f":"IF(Worktags!AQ637<>Worktags!AS637,Worktags!AQ637,\"\")","v":"SC6721"},{"$f":"IFERROR(VLOOKUP(B494,Worktags!AL:AO,2,FALSE),\"\")","v":"Accumulated Depreciation"},{"$f":"IFERROR(VLOOKUP(C494,Worktags!O:T,2,FALSE),\"\")","v":"Stage and Studio Lighting (Asset Track)"},{"$f":"IFERROR(VLOOKUP(IF(C494=\"\",B494&\"||\"&B494,C494&\"||\"&B494),Worktags!AR:AV,5,FALSE),\"\")","v":"JE_PPE|JE_Override"}]
["1700_SC6729 Accumulated Depreciation/Warehouse Fixtures",{"$f":"Worktags!AS658","v":"1700"},{"$f":"IF(Worktags!AQ658<>Worktags!AS658,Worktags!AQ658,\"\")","v":"SC6729"},{"$f":"IFERROR(VLOOKUP(B495,Worktags!AL:AO,2,FALSE),\"\")","v":"Accumulated Depreciation"},{"$f":"IFERROR(VLOOKUP(C495,Worktags!O:T,2,FALSE),\"\")","v":"Warehouse Fixtures"},{"$f":"IFERROR(VLOOKUP(IF(C495=\"\",B495&\"||\"&B495,C495&\"||\"&B495),Worktags!AR:AV,5,FALSE),\"\")","v":"JE_PPE|JE_Override"}]
["1700_SC6730 Accumulated Depreciation/Window Treatments",{"$f":"Worktags!AS665","v":"1700"},{"$f":"IF(Worktags!AQ665<>Worktags!AS665,Worktags!AQ665,\"\")","v":"SC6730"},{"$f":"IFERROR(VLOOKUP(B496,Worktags!AL:AO,2,FALSE),\"\")","v":"Accumulated Depreciation"},{"$f":"IFERROR(VLOOKUP(C496,Worktags!O:T,2,FALSE),\"\")","v":"Window Treatments"},{"$f":"IFERROR(VLOOKUP(IF(C496=\"\",B496&\"||\"&B496,C496&\"||\"&B496),Worktags!AR:AV,5,FALSE),\"\")","v":"JE_PPE|JE_Override"}]
["1700_SC6901 Accumulated Depreciation/Art Equipment",{"$f":"Worktags!AS677","v":"1700"},{"$f":"IF(Worktags!AQ677<>Worktags!AS677,Worktags!AQ677,\"\")","v":"SC6901"},{"$f":"IFERROR(VLOOKUP(B497,Worktags!AL:AO,2,FALSE),\"\")","v":"Accumulated Depreciation"},{"$f":"IFERROR(VLOOKUP(C497,Worktags!O:T,2,FALSE),\"\")","v":"Art Equipment"},{"$f":"IFERROR(VLOOKUP(IF(C497=\"\",B497&\"||\"&B497,C497&\"||\"&B497),Worktags!AR:AV,5,FALSE),\"\")","v":"JE_PPE|JE_Override"}]
["1700_SC6902 Accumulated Depreciation/Athletic Equipment",{"$f":"Worktags!AS684","v":"1700"},{"$f":"IF(Worktags!AQ684<>Worktags!AS684,Worktags!AQ684,\"\")","v":"SC6902"},{"$f":"IFERROR(VLOOKUP(B498,Worktags!AL:AO,2,FALSE),\"\")","v":"Accumulated Depreciation"},{"$f":"IFERROR(VLOOKUP(C498,Worktags!O:T,2,FALSE),\"\")","v":"Athletic Equipment"},{"$f":"IFERROR(VLOOKUP(IF(C498=\"\",B498&\"||\"&B498,C498&\"||\"&B498),Worktags!AR:AV,5,FALSE),\"\")","v":"JE_PPE|JE_Override"}]
["1700_SC6903 Accumulated Depreciation/Audio Visual Equipment (Asset Track)",{"$f":"Worktags!AS691","v":"1700"},{"$f":"IF(Worktags!AQ691<>Worktags!AS691,Worktags!AQ691,\"\")","v":"SC6903"},{"$f":"IFERROR(VLOOKUP(B499,Worktags!AL:AO,2,FALSE),\"\")","v":"Accumulated Depreciation"},{"$f":"IFERROR(VLOOKUP(C499,Worktags!O:T,2,FALSE),\"\")","v":"Audio Visual Equipment (Asset Track)"},{"$f":"IFERROR(VLOOKUP(IF(C499=\"\",B499&\"||\"&B499,C499&\"||\"&B499),Worktags!AR:AV,5,FALSE),\"\")","v":"JE_PPE|JE_Override"}]
["1700_SC6904 Accumulated Depreciation/Communication Devices (Asset Track)",{"$f":"Worktags!AS698","v":"1700"},{"$f":"IF(Worktags!AQ698<>Worktags!AS698,Worktags!AQ698,\"\")","v":"SC6904"},{"$f":"IFERROR(VLOOKUP(B500,Worktags!AL:AO,2,FALSE),\"\")","v":"Accumulated Depreciation"},{"$f":"IFERROR(VLOOKUP(C500,Worktags!O:T,2,FALSE),\"\")","v":"Communication Devices (Asset Track)"},{"$f":"IFERROR(VLOOKUP(IF(C500=\"\",B500&\"||\"&B500,C500&\"||\"&B500),Worktags!AR:AV,5,FALSE),\"\")","v":"JE_PPE|JE_Override"}]
["1700_SC6905 Accumulated Depreciation/Computer Hardware (Asset Track)",{"$f":"Worktags!AS705","v":"1700"},{"$f":"IF(Worktags!AQ705<>Worktags!AS705,Worktags!AQ705,\"\")","v":"SC6905"},{"$f":"IFERROR(VLOOKUP(B501,Worktags!AL:AO,2,FALSE),\"\")","v":"Accumulated Depreciation"},{"$f":"IFERROR(VLOOKUP(C501,Worktags!O:T,2,FALSE),\"\")","v":"Computer Hardware (Asset Track)"},{"$f":"IFERROR(VLOOKUP(IF(C501=\"\",B501&\"||\"&B501,C501&\"||\"&B501),Worktags!AR:AV,5,FALSE),\"\")","v":"JE_PPE|JE_Override"}]
["1700_SC6906 Accumulated Depreciation/Data Network Equipment (Asset Track)",{"$f":"Worktags!AS712","v":"1700"},{"$f":"IF(Worktags!AQ712<>Worktags!AS712,Worktags!AQ712,\"\")","v":"SC6906"},{"$f":"IFERROR(VLOOKUP(B502,Worktags!AL:AO,2,FALSE),\"\")","v":"Accumulated Depreciation"},{"$f":"IFERROR(VLOOKUP(C502,Worktags!O:T,2,FALSE),\"\")","v":"Data Network Equipment (Asset Track)"},{"$f":"IFERROR(VLOOKUP(IF(C502=\"\",B502&\"||\"&B502,C502&\"||\"&B502),Worktags!AR:AV,5,FALSE),\"\")","v":"JE_PPE|JE_Override"}]
["1700_SC6907 Accumulated Depreciation/Equipment (not otherwise specified) (Asset Track)",{"$f":"Worktags!AS719","v":"1700"},{"$f":"IF(Worktags!AQ719<>Worktags!AS719,Worktags!AQ719,\"\")","v":"SC6907"},{"$f":"IFERROR(VLOOKUP(B503,Worktags!AL:AO,2,FALSE),\"\")","v":"Accumulated Depreciation"},{"$f":"IFERROR(VLOOKUP(C503,Worktags!O:T,2,FALSE),\"\")","v":"Equipment (not otherwise specified) (Asset Track)"},{"$f":"IFERROR(VLOOKUP(IF(C503=\"\",B503&\"||\"&B503,C503&\"||\"&B503),Worktags!AR:AV,5,FALSE),\"\")","v":"JE_PPE|JE_Override"}]
["1700_SC6909 Accumulated Depreciation/Firearms",{"$f":"Worktags!AS726","v":"1700"},{"$f":"IF(Worktags!AQ726<>Worktags!AS726,Worktags!AQ726,\"\")","v":"SC6909"},{"$f":"IFERROR(VLOOKUP(B504,Worktags!AL:AO,2,FALSE),\"\")","v":"Accumulated Depreciation"},{"$f":"IFERROR(VLOOKUP(C504,Worktags!O:T,2,FALSE),\"\")","v":"Firearms"},{"$f":"IFERROR(VLOOKUP(IF(C504=\"\",B504&\"||\"&B504,C504&\"||\"&B504),Worktags!AR:AV,5,FALSE),\"\")","v":"JE_PPE|JE_Override"}]
["1700_SC6910 Accumulated Depreciation/Food Service Equipment",{"$f":"Worktags!AS733","v":"1700"},{"$f":"IF(Worktags!AQ733<>Worktags!AS733,Worktags!AQ733,\"\")","v":"SC6910"},{"$f":"IFERROR(VLOOKUP(B505,Worktags!AL:AO,2,FALSE),\"\")","v":"Accumulated Depreciation"},{"$f":"IFERROR(VLOOKUP(C505,Worktags!O:T,2,FALSE),\"\")","v":"Food Service Equipment"},{"$f":"IFERROR(VLOOKUP(IF(C505=\"\",B505&\"||\"&B505,C505&\"||\"&B505),Worktags!AR:AV,5,FALSE),\"\")","v":"JE_PPE|JE_Override"}]
["1700_SC6911 Accumulated Depreciation/Grants Capital Equipment",{"$f":"Worktags!AS738","v":"1700"},{"$f":"IF(Worktags!AQ738<>Worktags!AS738,Worktags!AQ738,\"\")","v":"SC6911"},{"$f":"IFERROR(VLOOKUP(B506,Worktags!AL:AO,2,FALSE),\"\")","v":"Accumulated Depreciation"},{"$f":"IFERROR(VLOOKUP(C506,Worktags!O:T,2,FALSE),\"\")","v":"Grants Capital Equipment"},{"$f":"IFERROR(VLOOKUP(IF(C506=\"\",B506&\"||\"&B506,C506&\"||\"&B506),Worktags!AR:AV,5,FALSE),\"\")","v":"JE_PPE|JE_Override"}]
["1700_SC6913 Accumulated Depreciation/Grounds Equipment",{"$f":"Worktags!AS745","v":"1700"},{"$f":"IF(Worktags!AQ745<>Worktags!AS745,Worktags!AQ745,\"\")","v":"SC6913"},{"$f":"IFERROR(VLOOKUP(B507,Worktags!AL:AO,2,FALSE),\"\")","v":"Accumulated Depreciation"},{"$f":"IFERROR(VLOOKUP(C507,Worktags!O:T,2,FALSE),\"\")","v":"Grounds Equipment"},{"$f":"IFERROR(VLOOKUP(IF(C507=\"\",B507&\"||\"&B507,C507&\"||\"&B507),Worktags!AR:AV,5,FALSE),\"\")","v":"JE_PPE|JE_Override"}]
["1700_SC6914 Accumulated Depreciation/Industrial Equipment",{"$f":"Worktags!AS752","v":"1700"},{"$f":"IF(Worktags!AQ752<>Worktags!AS752,Worktags!AQ752,\"\")","v":"SC6914"},{"$f":"IFERROR(VLOOKUP(B508,Worktags!AL:AO,2,FALSE),\"\")","v":"Accumulated Depreciation"},{"$f":"IFERROR(VLOOKUP(C508,Worktags!O:T,2,FALSE),\"\")","v":"Industrial Equipment"},{"$f":"IFERROR(VLOOKUP(IF(C508=\"\",B508&\"||\"&B508,C508&\"||\"&B508),Worktags!AR:AV,5,FALSE),\"\")","v":"JE_PPE|JE_Override"}]
["1700_SC6915 Accumulated Depreciation/Janitorial Equipment",{"$f":"Worktags!AS759","v":"1700"},{"$f":"IF(Worktags!AQ759<>Worktags!AS759,Worktags!AQ759,\"\")","v":"SC6915"},{"$f":"IFERROR(VLOOKUP(B509,Worktags!AL:AO,2,FALSE),\"\")","v":"Accumulated Depreciation"},{"$f":"IFERROR(VLOOKUP(C509,Worktags!O:T,2,FALSE),\"\")","v":"Janitorial Equipment"},{"$f":"IFERROR(VLOOKUP(IF(C509=\"\",B509&\"||\"&B509,C509&\"||\"&B509),Worktags!AR:AV,5,FALSE),\"\")","v":"JE_PPE|JE_Override"}]
["1700_SC6917 Accumulated Depreciation/Laundry Equipment",{"$f":"Worktags!AS768","v":"1700"},{"$f":"IF(Worktags!AQ768<>Worktags!AS768,Worktags!AQ768,\"\")","v":"SC6917"},{"$f":"IFERROR(VLOOKUP(B510,Worktags!AL:AO,2,FALSE),\"\")","v":"Accumulated Depreciation"},{"$f":"IFERROR(VLOOKUP(C510,Worktags!O:T,2,FALSE),\"\")","v":"Laundry Equipment"},{"$f":"IFERROR(VLOOKUP(IF(C510=\"\",B510&\"||\"&B510,C510&\"||\"&B510),Worktags!AR:AV,5,FALSE),\"\")","v":"JE_PPE|JE_Override"}]
["1700_SC6918 Accumulated Depreciation/Library Content",{"$f":"Worktags!AS773","v":"1700"},{"$f":"IF(Worktags!AQ773<>Worktags!AS773,Worktags!AQ773,\"\")","v":"SC6918"},{"$f":"IFERROR(VLOOKUP(B511,Worktags!AL:AO,2,FALSE),\"\")","v":"Accumulated Depreciation"},{"$f":"IFERROR(VLOOKUP(C511,Worktags!O:T,2,FALSE),\"\")","v":"Library Content"},{"$f":"IFERROR(VLOOKUP(IF(C511=\"\",B511&\"||\"&B511,C511&\"||\"&B511),Worktags!AR:AV,5,FALSE),\"\")","v":"JE_PPE|JE_Override"}]
["1700_SC6920 Accumulated Depreciation/Media Content",{"$f":"Worktags!AS780","v":"1700"},{"$f":"IF(Worktags!AQ780<>Worktags!AS780,Worktags!AQ780,\"\")","v":"SC6920"},{"$f":"IFERROR(VLOOKUP(B512,Worktags!AL:AO,2,FALSE),\"\")","v":"Accumulated Depreciation"},{"$f":"IFERROR(VLOOKUP(C512,Worktags!O:T,2,FALSE),\"\")","v":"Media Content"},{"$f":"IFERROR(VLOOKUP(IF(C512=\"\",B512&\"||\"&B512,C512&\"||\"&B512),Worktags!AR:AV,5,FALSE),\"\")","v":"JE_PPE|JE_Override"}]
[{"$f":"IF(B513<>\"\",IF(C513<>\"\",B513&\"_\"&C513&\" \"&D513&\"/\"&E513,B513&\" \"&D513),\"\")","v":"1700_SC6921 Accumulated Depreciation/Medical Equipment"},{"$f":"Worktags!AS787","v":"1700"},{"$f":"IF(Worktags!AQ787<>Worktags!AS787,Worktags!AQ787,\"\")","v":"SC6921"},{"$f":"IFERROR(VLOOKUP(B513,Worktags!AL:AO,2,FALSE),\"\")","v":"Accumulated Depreciation"},{"$f":"IFERROR(VLOOKUP(C513,Worktags!O:T,2,FALSE),\"\")","v":"Medical Equipment"},{"$f":"IFERROR(VLOOKUP(IF(C513=\"\",B513&\"||\"&B513,C513&\"||\"&B513),Worktags!AR:AV,5,FALSE),\"\")","v":"JE_PPE|JE_Override"}]
["1700_SC6923 Accumulated Depreciation/Musical Instruments",{"$f":"Worktags!AS794","v":"1700"},{"$f":"IF(Worktags!AQ794<>Worktags!AS794,Worktags!AQ794,\"\")","v":"SC6923"},{"$f":"IFERROR(VLOOKUP(B514,Worktags!AL:AO,2,FALSE),\"\")","v":"Accumulated Depreciation"},{"$f":"IFERROR(VLOOKUP(C514,Worktags!O:T,2,FALSE),\"\")","v":"Musical Instruments"},{"$f":"IFERROR(VLOOKUP(IF(C514=\"\",B514&\"||\"&B514,C514&\"||\"&B514),Worktags!AR:AV,5,FALSE),\"\")","v":"JE_PPE|JE_Override"}]
["1700_SC6924 Accumulated Depreciation/Office Equipment (Asset Track)",{"$f":"Worktags!AS801","v":"1700"},{"$f":"IF(Worktags!AQ801<>Worktags!AS801,Worktags!AQ801,\"\")","v":"SC6924"},{"$f":"IFERROR(VLOOKUP(B515,Worktags!AL:AO,2,FALSE),\"\")","v":"Accumulated Depreciation"},{"$f":"IFERROR(VLOOKUP(C515,Worktags!O:T,2,FALSE),\"\")","v":"Office Equipment (Asset Track)"},{"$f":"IFERROR(VLOOKUP(IF(C515=\"\",B515&\"||\"&B515,C515&\"||\"&B515),Worktags!AR:AV,5,FALSE),\"\")","v":"JE_PPE|JE_Override"}]
["1700_SC6926 Accumulated Depreciation/Photography Equipment",{"$f":"Worktags!AS808","v":"1700"},{"$f":"IF(Worktags!AQ808<>Worktags!AS808,Worktags!AQ808,\"\")","v":"SC6926"},{"$f":"IFERROR(VLOOKUP(B516,Worktags!AL:AO,2,FALSE),\"\")","v":"Accumulated Depreciation"},{"$f":"IFERROR(VLOOKUP(C516,Worktags!O:T,2,FALSE),\"\")","v":"Photography Equipment"},{"$f":"IFERROR(VLOOKUP(IF(C516=\"\",B516&\"||\"&B516,C516&\"||\"&B516),Worktags!AR:AV,5,FALSE),\"\")","v":"JE_PPE|JE_Override"}]
["1700_SC6927 Accumulated Depreciation/Portable Structures",{"$f":"Worktags!AS815","v":"1700"},{"$f":"IF(Worktags!AQ815<>Worktags!AS815,Worktags!AQ815,\"\")","v":"SC6927"},{"$f":"IFERROR(VLOOKUP(B517,Worktags!AL:AO,2,FALSE),\"\")","v":"Accumulated Depreciation"},{"$f":"IFERROR(VLOOKUP(C517,Worktags!O:T,2,FALSE),\"\")","v":"Portable Structures"},{"$f":"IFERROR(VLOOKUP(IF(C517=\"\",B517&\"||\"&B517,C517&\"||\"&B517),Worktags!AR:AV,5,FALSE),\"\")","v":"JE_PPE|JE_Override"}]
["1700_SC6928 Accumulated Depreciation/Printing Equipment",{"$f":"Worktags!AS822","v":"1700"},{"$f":"IF(Worktags!AQ822<>Worktags!AS822,Worktags!AQ822,\"\")","v":"SC6928"},{"$f":"IFERROR(VLOOKUP(B518,Worktags!AL:AO,2,FALSE),\"\")","v":"Accumulated Depreciation"},{"$f":"IFERROR(VLOOKUP(C518,Worktags!O:T,2,FALSE),\"\")","v":"Printing Equipment"},{"$f":"IFERROR(VLOOKUP(IF(C518=\"\",B518&\"||\"&B518,C518&\"||\"&B518),Worktags!AR:AV,5,FALSE),\"\")","v":"JE_PPE|JE_Override"}]
["1700_SC6929 Accumulated Depreciation/Scientific and Engineering Equipment",{"$f":"Worktags!AS829","v":"1700"},{"$f":"IF(Worktags!AQ829<>Worktags!AS829,Worktags!AQ829,\"\")","v":"SC6929"},{"$f":"IFERROR(VLOOKUP(B519,Worktags!AL:AO,2,FALSE),\"\")","v":"Accumulated Depreciation"},{"$f":"IFERROR(VLOOKUP(C519,Worktags!O:T,2,FALSE),\"\")","v":"Scientific and Engineering Equipment"},{"$f":"IFERROR(VLOOKUP(IF(C519=\"\",B519&\"||\"&B519,C519&\"||\"&B519),Worktags!AR:AV,5,FALSE),\"\")","v":"JE_PPE|JE_Override"}]
["1700_SC6931 Accumulated Depreciation/Security Equipment (Asset Track)",{"$f":"Worktags!AS838","v":"1700"},{"$f":"IF(Worktags!AQ838<>Worktags!AS838,Worktags!AQ838,\"\")","v":"SC6931"},{"$f":"IFERROR(VLOOKUP(B520,Worktags!AL:AO,2,FALSE),\"\")","v":"Accumulated Depreciation"},{"$f":"IFERROR(VLOOKUP(C520,Worktags!O:T,2,FALSE),\"\")","v":"Security Equipment (Asset Track)"},{"$f":"IFERROR(VLOOKUP(IF(C520=\"\",B520&\"||\"&B520,C520&\"||\"&B520),Worktags!AR:AV,5,FALSE),\"\")","v":"JE_PPE|JE_Override"}]
["1700_SC6932 Accumulated Depreciation/Small Appliances",{"$f":"Worktags!AS845","v":"1700"},{"$f":"IF(Worktags!AQ845<>Worktags!AS845,Worktags!AQ845,\"\")","v":"SC6932"},{"$f":"IFERROR(VLOOKUP(B521,Worktags!AL:AO,2,FALSE),\"\")","v":"Accumulated Depreciation"},{"$f":"IFERROR(VLOOKUP(C521,Worktags!O:T,2,FALSE),\"\")","v":"Small Appliances"},{"$f":"IFERROR(VLOOKUP(IF(C521=\"\",B521&\"||\"&B521,C521&\"||\"&B521),Worktags!AR:AV,5,FALSE),\"\")","v":"JE_PPE|JE_Override"}]
["1700_SC6933 Accumulated Depreciation/Software",{"$f":"Worktags!AS850","v":"1700"},{"$f":"IF(Worktags!AQ850<>Worktags!AS850,Worktags!AQ850,\"\")","v":"SC6933"},{"$f":"IFERROR(VLOOKUP(B522,Worktags!AL:AO,2,FALSE),\"\")","v":"Accumulated Depreciation"},{"$f":"IFERROR(VLOOKUP(C522,Worktags!O:T,2,FALSE),\"\")","v":"Software"},{"$f":"IFERROR(VLOOKUP(IF(C522=\"\",B522&\"||\"&B522,C522&\"||\"&B522),Worktags!AR:AV,5,FALSE),\"\")","v":"JE_PPE|JE_Override"}]
["1700_SC6935 Accumulated Depreciation/Telecom Equipment",{"$f":"Worktags!AS859","v":"1700"},{"$f":"IF(Worktags!AQ859<>Worktags!AS859,Worktags!AQ859,\"\")","v":"SC6935"},{"$f":"IFERROR(VLOOKUP(B523,Worktags!AL:AO,2,FALSE),\"\")","v":"Accumulated Depreciation"},{"$f":"IFERROR(VLOOKUP(C523,Worktags!O:T,2,FALSE),\"\")","v":"Telecom Equipment"},{"$f":"IFERROR(VLOOKUP(IF(C523=\"\",B523&\"||\"&B523,C523&\"||\"&B523),Worktags!AR:AV,5,FALSE),\"\")","v":"JE_PPE|JE_Override"}]
["1700_SC6937 Accumulated Depreciation/Vehicles, Motor",{"$f":"Worktags!AS866","v":"1700"},{"$f":"IF(Worktags!AQ866<>Worktags!AS866,Worktags!AQ866,\"\")","v":"SC6937"},{"$f":"IFERROR(VLOOKUP(B524,Worktags!AL:AO,2,FALSE),\"\")","v":"Accumulated Depreciation"},{"$f":"IFERROR(VLOOKUP(C524,Worktags!O:T,2,FALSE),\"\")","v":"Vehicles, Motor"},{"$f":"IFERROR(VLOOKUP(IF(C524=\"\",B524&\"||\"&B524,C524&\"||\"&B524),Worktags!AR:AV,5,FALSE),\"\")","v":"JE_PPE|JE_Override"}]
["1700_SC6938 Accumulated Depreciation/Vehicles, Off-Road",{"$f":"Worktags!AS871","v":"1700"},{"$f":"IF(Worktags!AQ871<>Worktags!AS871,Worktags!AQ871,\"\")","v":"SC6938"},{"$f":"IFERROR(VLOOKUP(B525,Worktags!AL:AO,2,FALSE),\"\")","v":"Accumulated Depreciation"},{"$f":"IFERROR(VLOOKUP(C525,Worktags!O:T,2,FALSE),\"\")","v":"Vehicles, Off-Road"},{"$f":"IFERROR(VLOOKUP(IF(C525=\"\",B525&\"||\"&B525,C525&\"||\"&B525),Worktags!AR:AV,5,FALSE),\"\")","v":"JE_PPE|JE_Override"}]
["1700_SC6939 Accumulated Depreciation/Warehouse Equipment",{"$f":"Worktags!AS878","v":"1700"},{"$f":"IF(Worktags!AQ878<>Worktags!AS878,Worktags!AQ878,\"\")","v":"SC6939"},{"$f":"IFERROR(VLOOKUP(B526,Worktags!AL:AO,2,FALSE),\"\")","v":"Accumulated Depreciation"},{"$f":"IFERROR(VLOOKUP(C526,Worktags!O:T,2,FALSE),\"\")","v":"Warehouse Equipment"},{"$f":"IFERROR(VLOOKUP(IF(C526=\"\",B526&\"||\"&B526,C526&\"||\"&B526),Worktags!AR:AV,5,FALSE),\"\")","v":"JE_PPE|JE_Override"}]
["2000 Accounts Payable",{"$f":"Worktags!AL70","v":"2000"},null,{"$f":"IFERROR(VLOOKUP(B527,Worktags!AL:AO,2,FALSE),\"\")","v":"Accounts Payable"},null,{"$f":"IFERROR(VLOOKUP(IF(C527=\"\",B527&\"||\"&B527,C527&\"||\"&B527),Worktags!AR:AV,5,FALSE),\"\")","v":"JE_Override"}]
["2000 Accounts Payable",{"$f":"Worktags!AS51","v":"2000"},{"$f":"IF(Worktags!AQ51<>Worktags!AS51,Worktags!AQ51,\"\")","v":""},{"$f":"IFERROR(VLOOKUP(B528,Worktags!AL:AO,2,FALSE),\"\")","v":"Accounts Payable"},{"$f":"IFERROR(VLOOKUP(C528,Worktags!O:T,2,FALSE),\"\")","v":""},{"$f":"IFERROR(VLOOKUP(IF(C528=\"\",B528&\"||\"&B528,C528&\"||\"&B528),Worktags!AR:AV,5,FALSE),\"\")","v":"JE_Override"}]
["2010 Procurement Card Payable",{"$f":"Worktags!AL71","v":"2010"},null,{"$f":"IFERROR(VLOOKUP(B529,Worktags!AL:AO,2,FALSE),\"\")","v":"Procurement Card Payable"},null,{"$f":"IFERROR(VLOOKUP(IF(C529=\"\",B529&\"||\"&B529,C529&\"||\"&B529),Worktags!AR:AV,5,FALSE),\"\")","v":""}]
["2010_SC2010 Procurement Card Payable/Procurement Card Payable",{"$f":"Worktags!AS220","v":"2010"},{"$f":"IF(Worktags!AQ220<>Worktags!AS220,Worktags!AQ220,\"\")","v":"SC2010"},{"$f":"IFERROR(VLOOKUP(B530,Worktags!AL:AO,2,FALSE),\"\")","v":"Procurement Card Payable"},{"$f":"IFERROR(VLOOKUP(C530,Worktags!O:T,2,FALSE),\"\")","v":"Procurement Card Payable"},{"$f":"IFERROR(VLOOKUP(IF(C530=\"\",B530&\"||\"&B530,C530&\"||\"&B530),Worktags!AR:AV,5,FALSE),\"\")","v":"All"}]
["2010_SC2011 Procurement Card Payable/Virtual Card Payable",{"$f":"Worktags!AS221","v":"2010"},{"$f":"IF(Worktags!AQ221<>Worktags!AS221,Worktags!AQ221,\"\")","v":"SC2011"},{"$f":"IFERROR(VLOOKUP(B531,Worktags!AL:AO,2,FALSE),\"\")","v":"Procurement Card Payable"},{"$f":"IFERROR(VLOOKUP(C531,Worktags!O:T,2,FALSE),\"\")","v":"Virtual Card Payable"},{"$f":"IFERROR(VLOOKUP(IF(C531=\"\",B531&\"||\"&B531,C531&\"||\"&B531),Worktags!AR:AV,5,FALSE),\"\")","v":"All"}]
["2020 Other and Retainages Payable",{"$f":"Worktags!AL72","v":"2020"},null,{"$f":"IFERROR(VLOOKUP(B532,Worktags!AL:AO,2,FALSE),\"\")","v":"Other and Retainages Payable"},null,{"$f":"IFERROR(VLOOKUP(IF(C532=\"\",B532&\"||\"&B532,C532&\"||\"&B532),Worktags!AR:AV,5,FALSE),\"\")","v":""}]
["2020_SC2020 Other and Retainages Payable/Other and Retainages Payable",{"$f":"Worktags!AS222","v":"2020"},{"$f":"IF(Worktags!AQ222<>Worktags!AS222,Worktags!AQ222,\"\")","v":"SC2020"},{"$f":"IFERROR(VLOOKUP(B533,Worktags!AL:AO,2,FALSE),\"\")","v":"Other and Retainages Payable"},{"$f":"IFERROR(VLOOKUP(C533,Worktags!O:T,2,FALSE),\"\")","v":"Other and Retainages Payable"},{"$f":"IFERROR(VLOOKUP(IF(C533=\"\",B533&\"||\"&B533,C533&\"||\"&B533),Worktags!AR:AV,5,FALSE),\"\")","v":"All"}]
["2020_SC2021 Other and Retainages Payable/Escheatment Expense",{"$f":"Worktags!AS223","v":"2020"},{"$f":"IF(Worktags!AQ223<>Worktags!AS223,Worktags!AQ223,\"\")","v":"SC2021"},{"$f":"IFERROR(VLOOKUP(B534,Worktags!AL:AO,2,FALSE),\"\")","v":"Other and Retainages Payable"},{"$f":"IFERROR(VLOOKUP(C534,Worktags!O:T,2,FALSE),\"\")","v":"Escheatment Expense"},{"$f":"IFERROR(VLOOKUP(IF(C534=\"\",B534&\"||\"&B534,C534&\"||\"&B534),Worktags!AR:AV,5,FALSE),\"\")","v":"All"}]
["2025 Payroll Net Pay Clearing",{"$f":"Worktags!AL73","v":"2025"},null,{"$f":"IFERROR(VLOOKUP(B535,Worktags!AL:AO,2,FALSE),\"\")","v":"Payroll Net Pay Clearing"},null,{"$f":"IFERROR(VLOOKUP(IF(C535=\"\",B535&\"||\"&B535,C535&\"||\"&B535),Worktags!AR:AV,5,FALSE),\"\")","v":""}]
["2030 Other Payroll Deducts Payable",{"$f":"Worktags!AL74","v":"2030"},null,{"$f":"IFERROR(VLOOKUP(B536,Worktags!AL:AO,2,FALSE),\"\")","v":"Other Payroll Deducts Payable"},null,{"$f":"IFERROR(VLOOKUP(IF(C536=\"\",B536&\"||\"&B536,C536&\"||\"&B536),Worktags!AR:AV,5,FALSE),\"\")","v":""}]
["2030_SC2030 Other Payroll Deducts Payable/Other Payroll Deducts Payable",{"$f":"Worktags!AS224","v":"2030"},{"$f":"IF(Worktags!AQ224<>Worktags!AS224,Worktags!AQ224,\"\")","v":"SC2030"},{"$f":"IFERROR(VLOOKUP(B537,Worktags!AL:AO,2,FALSE),\"\")","v":"Other Payroll Deducts Payable"},{"$f":"IFERROR(VLOOKUP(C537,Worktags!O:T,2,FALSE),\"\")","v":"Other Payroll Deducts Payable"},{"$f":"IFERROR(VLOOKUP(IF(C537=\"\",B537&\"||\"&B537,C537&\"||\"&B537),Worktags!AR:AV,5,FALSE),\"\")","v":"All"}]
["2030_SC2031 Other Payroll Deducts Payable/Garnishments",{"$f":"Worktags!AS225","v":"2030"},{"$f":"IF(Worktags!AQ225<>Worktags!AS225,Worktags!AQ225,\"\")","v":"SC2031"},{"$f":"IFERROR(VLOOKUP(B538,Worktags!AL:AO,2,FALSE),\"\")","v":"Other Payroll Deducts Payable"},{"$f":"IFERROR(VLOOKUP(C538,Worktags!O:T,2,FALSE),\"\")","v":"Garnishments"},{"$f":"IFERROR(VLOOKUP(IF(C538=\"\",B538&\"||\"&B538,C538&\"||\"&B538),Worktags!AR:AV,5,FALSE),\"\")","v":"All"}]
["2030_SC2032 Other Payroll Deducts Payable/Employee Passthrough Donations",{"$f":"Worktags!AS226","v":"2030"},{"$f":"IF(Worktags!AQ226<>Worktags!AS226,Worktags!AQ226,\"\")","v":"SC2032"},{"$f":"IFERROR(VLOOKUP(B539,Worktags!AL:AO,2,FALSE),\"\")","v":"Other Payroll Deducts Payable"},{"$f":"IFERROR(VLOOKUP(C539,Worktags!O:T,2,FALSE),\"\")","v":"Employee Passthrough Donations"},{"$f":"IFERROR(VLOOKUP(IF(C539=\"\",B539&\"||\"&B539,C539&\"||\"&B539),Worktags!AR:AV,5,FALSE),\"\")","v":"All"}]
["2030_SC2033 Other Payroll Deducts Payable/FICA Offset/Recollect",{"$f":"Worktags!AS227","v":"2030"},{"$f":"IF(Worktags!AQ227<>Worktags!AS227,Worktags!AQ227,\"\")","v":"SC2033"},{"$f":"IFERROR(VLOOKUP(B540,Worktags!AL:AO,2,FALSE),\"\")","v":"Other Payroll Deducts Payable"},{"$f":"IFERROR(VLOOKUP(C540,Worktags!O:T,2,FALSE),\"\")","v":"FICA Offset/Recollect"},{"$f":"IFERROR(VLOOKUP(IF(C540=\"\",B540&\"||\"&B540,C540&\"||\"&B540),Worktags!AR:AV,5,FALSE),\"\")","v":"All"}]
["2090 Clearing-Accounts Payable",{"$f":"Worktags!AL75","v":"2090"},null,{"$f":"IFERROR(VLOOKUP(B541,Worktags!AL:AO,2,FALSE),\"\")","v":"Clearing-Accounts Payable"},null,{"$f":"IFERROR(VLOOKUP(IF(C541=\"\",B541&\"||\"&B541,C541&\"||\"&B541),Worktags!AR:AV,5,FALSE),\"\")","v":"All"}]
["2090 Clearing-Accounts Payable",{"$f":"Worktags!AS52","v":"2090"},{"$f":"IF(Worktags!AQ52<>Worktags!AS52,Worktags!AQ52,\"\")","v":""},{"$f":"IFERROR(VLOOKUP(B542,Worktags!AL:AO,2,FALSE),\"\")","v":"Clearing-Accounts Payable"},{"$f":"IFERROR(VLOOKUP(C542,Worktags!O:T,2,FALSE),\"\")","v":""},{"$f":"IFERROR(VLOOKUP(IF(C542=\"\",B542&\"||\"&B542,C542&\"||\"&B542),Worktags!AR:AV,5,FALSE),\"\")","v":"All"}]
["2090_SC2090 Clearing-Accounts Payable/Clearing-Accounts Payable",{"$f":"Worktags!AS228","v":"2090"},{"$f":"IF(Worktags!AQ228<>Worktags!AS228,Worktags!AQ228,\"\")","v":"SC2090"},{"$f":"IFERROR(VLOOKUP(B543,Worktags!AL:AO,2,FALSE),\"\")","v":"Clearing-Accounts Payable"},{"$f":"IFERROR(VLOOKUP(C543,Worktags!O:T,2,FALSE),\"\")","v":"Clearing-Accounts Payable"},{"$f":"IFERROR(VLOOKUP(IF(C543=\"\",B543&\"||\"&B543,C543&\"||\"&B543),Worktags!AR:AV,5,FALSE),\"\")","v":"All"}]
["2100 FICA Payable",{"$f":"Worktags!AL76","v":"2100"},null,{"$f":"IFERROR(VLOOKUP(B544,Worktags!AL:AO,2,FALSE),\"\")","v":"FICA Payable"},null,{"$f":"IFERROR(VLOOKUP(IF(C544=\"\",B544&\"||\"&B544,C544&\"||\"&B544),Worktags!AR:AV,5,FALSE),\"\")","v":""}]
["2100_SC2100 FICA Payable/FICA Payable",{"$f":"Worktags!AS229","v":"2100"},{"$f":"IF(Worktags!AQ229<>Worktags!AS229,Worktags!AQ229,\"\")","v":"SC2100"},{"$f":"IFERROR(VLOOKUP(B545,Worktags!AL:AO,2,FALSE),\"\")","v":"FICA Payable"},{"$f":"IFERROR(VLOOKUP(C545,Worktags!O:T,2,FALSE),\"\")","v":"FICA Payable"},{"$f":"IFERROR(VLOOKUP(IF(C545=\"\",B545&\"||\"&B545,C545&\"||\"&B545),Worktags!AR:AV,5,FALSE),\"\")","v":"All"}]
["2105 Federal Withholding Payable",{"$f":"Worktags!AL77","v":"2105"},null,{"$f":"IFERROR(VLOOKUP(B546,Worktags!AL:AO,2,FALSE),\"\")","v":"Federal Withholding Payable"},null,{"$f":"IFERROR(VLOOKUP(IF(C546=\"\",B546&\"||\"&B546,C546&\"||\"&B546),Worktags!AR:AV,5,FALSE),\"\")","v":""}]
["2105_SC2105 Federal Withholding Payable/Federal Withholding Payable",{"$f":"Worktags!AS230","v":"2105"},{"$f":"IF(Worktags!AQ230<>Worktags!AS230,Worktags!AQ230,\"\")","v":"SC2105"},{"$f":"IFERROR(VLOOKUP(B547,Worktags!AL:AO,2,FALSE),\"\")","v":"Federal Withholding Payable"},{"$f":"IFERROR(VLOOKUP(C547,Worktags!O:T,2,FALSE),\"\")","v":"Federal Withholding Payable"},{"$f":"IFERROR(VLOOKUP(IF(C547=\"\",B547&\"||\"&B547,C547&\"||\"&B547),Worktags!AR:AV,5,FALSE),\"\")","v":"All"}]
["2110 State Payroll Taxes Payable",{"$f":"Worktags!AL78","v":"2110"},null,{"$f":"IFERROR(VLOOKUP(B548,Worktags!AL:AO,2,FALSE),\"\")","v":"State Payroll Taxes Payable"},null,{"$f":"IFERROR(VLOOKUP(IF(C548=\"\",B548&\"||\"&B548,C548&\"||\"&B548),Worktags!AR:AV,5,FALSE),\"\")","v":""}]
["2110_SC2110 State Payroll Taxes Payable/State Payroll Taxes Payable",{"$f":"Worktags!AS231","v":"2110"},{"$f":"IF(Worktags!AQ231<>Worktags!AS231,Worktags!AQ231,\"\")","v":"SC2110"},{"$f":"IFERROR(VLOOKUP(B549,Worktags!AL:AO,2,FALSE),\"\")","v":"State Payroll Taxes Payable"},{"$f":"IFERROR(VLOOKUP(C549,Worktags!O:T,2,FALSE),\"\")","v":"State Payroll Taxes Payable"},{"$f":"IFERROR(VLOOKUP(IF(C549=\"\",B549&\"||\"&B549,C549&\"||\"&B549),Worktags!AR:AV,5,FALSE),\"\")","v":"All"}]
["2130 Sales Tax Payable - Utah",{"$f":"Worktags!AL79","v":"2130"},null,{"$f":"IFERROR(VLOOKUP(B550,Worktags!AL:AO,2,FALSE),\"\")","v":"Sales Tax Payable - Utah"},null,{"$f":"IFERROR(VLOOKUP(IF(C550=\"\",B550&\"||\"&B550,C550&\"||\"&B550),Worktags!AR:AV,5,FALSE),\"\")","v":""}]
["2130_SC2130 Sales Tax Payable - Utah/Sales Tax Payable - Utah",{"$f":"Worktags!AS232","v":"2130"},{"$f":"IF(Worktags!AQ232<>Worktags!AS232,Worktags!AQ232,\"\")","v":"SC2130"},{"$f":"IFERROR(VLOOKUP(B551,Worktags!AL:AO,2,FALSE),\"\")","v":"Sales Tax Payable - Utah"},{"$f":"IFERROR(VLOOKUP(C551,Worktags!O:T,2,FALSE),\"\")","v":"Sales Tax Payable - Utah"},{"$f":"IFERROR(VLOOKUP(IF(C551=\"\",B551&\"||\"&B551,C551&\"||\"&B551),Worktags!AR:AV,5,FALSE),\"\")","v":"All"}]
["2132 Sales Tax Payable - Other States",{"$f":"Worktags!AL80","v":"2132"},null,{"$f":"IFERROR(VLOOKUP(B552,Worktags!AL:AO,2,FALSE),\"\")","v":"Sales Tax Payable - Other States"},null,{"$f":"IFERROR(VLOOKUP(IF(C552=\"\",B552&\"||\"&B552,C552&\"||\"&B552),Worktags!AR:AV,5,FALSE),\"\")","v":""}]
["2132_SC2132 Sales Tax Payable - Other States/Sales Tax Payable - Other States",{"$f":"Worktags!AS233","v":"2132"},{"$f":"IF(Worktags!AQ233<>Worktags!AS233,Worktags!AQ233,\"\")","v":"SC2132"},{"$f":"IFERROR(VLOOKUP(B553,Worktags!AL:AO,2,FALSE),\"\")","v":"Sales Tax Payable - Other States"},{"$f":"IFERROR(VLOOKUP(C553,Worktags!O:T,2,FALSE),\"\")","v":"Sales Tax Payable - Other States"},{"$f":"IFERROR(VLOOKUP(IF(C553=\"\",B553&\"||\"&B553,C553&\"||\"&B553),Worktags!AR:AV,5,FALSE),\"\")","v":"All"}]
["2140 Property Tax Payable",{"$f":"Worktags!AL81","v":"2140"},null,{"$f":"IFERROR(VLOOKUP(B554,Worktags!AL:AO,2,FALSE),\"\")","v":"Property Tax Payable"},null,{"$f":"IFERROR(VLOOKUP(IF(C554=\"\",B554&\"||\"&B554,C554&\"||\"&B554),Worktags!AR:AV,5,FALSE),\"\")","v":""}]
["2140_SC2140 Property Tax Payable/Property Tax Payable",{"$f":"Worktags!AS234","v":"2140"},{"$f":"IF(Worktags!AQ234<>Worktags!AS234,Worktags!AQ234,\"\")","v":"SC2140"},{"$f":"IFERROR(VLOOKUP(B555,Worktags!AL:AO,2,FALSE),\"\")","v":"Property Tax Payable"},{"$f":"IFERROR(VLOOKUP(C555,Worktags!O:T,2,FALSE),\"\")","v":"Property Tax Payable"},{"$f":"IFERROR(VLOOKUP(IF(C555=\"\",B555&\"||\"&B555,C555&\"||\"&B555),Worktags!AR:AV,5,FALSE),\"\")","v":"All"}]
["2150 UBIT Payable",{"$f":"Worktags!AL82","v":"2150"},null,{"$f":"IFERROR(VLOOKUP(B556,Worktags!AL:AO,2,FALSE),\"\")","v":"UBIT Payable"},null,{"$f":"IFERROR(VLOOKUP(IF(C556=\"\",B556&\"||\"&B556,C556&\"||\"&B556),Worktags!AR:AV,5,FALSE),\"\")","v":""}]
["2150_SC2150 UBIT Payable/UBIT Payable",{"$f":"Worktags!AS235","v":"2150"},{"$f":"IF(Worktags!AQ235<>Worktags!AS235,Worktags!AQ235,\"\")","v":"SC2150"},{"$f":"IFERROR(VLOOKUP(B557,Worktags!AL:AO,2,FALSE),\"\")","v":"UBIT Payable"},{"$f":"IFERROR(VLOOKUP(C557,Worktags!O:T,2,FALSE),\"\")","v":"UBIT Payable"},{"$f":"IFERROR(VLOOKUP(IF(C557=\"\",B557&\"||\"&B557,C557&\"||\"&B557),Worktags!AR:AV,5,FALSE),\"\")","v":"All"}]
["2160 Other Taxes Payable",{"$f":"Worktags!AL83","v":"2160"},null,{"$f":"IFERROR(VLOOKUP(B558,Worktags!AL:AO,2,FALSE),\"\")","v":"Other Taxes Payable"},null,{"$f":"IFERROR(VLOOKUP(IF(C558=\"\",B558&\"||\"&B558,C558&\"||\"&B558),Worktags!AR:AV,5,FALSE),\"\")","v":""}]
["2160_SC2160 Other Taxes Payable/Other Taxes Payable",{"$f":"Worktags!AS236","v":"2160"},{"$f":"IF(Worktags!AQ236<>Worktags!AS236,Worktags!AQ236,\"\")","v":"SC2160"},{"$f":"IFERROR(VLOOKUP(B559,Worktags!AL:AO,2,FALSE),\"\")","v":"Other Taxes Payable"},{"$f":"IFERROR(VLOOKUP(C559,Worktags!O:T,2,FALSE),\"\")","v":"Other Taxes Payable"},{"$f":"IFERROR(VLOOKUP(IF(C559=\"\",B559&\"||\"&B559,C559&\"||\"&B559),Worktags!AR:AV,5,FALSE),\"\")","v":"All"}]
["2200 Accrued Liabilities",{"$f":"Worktags!AL84","v":"2200"},null,{"$f":"IFERROR(VLOOKUP(B560,Worktags!AL:AO,2,FALSE),\"\")","v":"Accrued Liabilities"},null,{"$f":"IFERROR(VLOOKUP(IF(C560=\"\",B560&\"||\"&B560,C560&\"||\"&B560),Worktags!AR:AV,5,FALSE),\"\")","v":"All"}]
["2200 Accrued Liabilities",{"$f":"Worktags!AS53","v":"2200"},{"$f":"IF(Worktags!AQ53<>Worktags!AS53,Worktags!AQ53,\"\")","v":""},{"$f":"IFERROR(VLOOKUP(B561,Worktags!AL:AO,2,FALSE),\"\")","v":"Accrued Liabilities"},{"$f":"IFERROR(VLOOKUP(C561,Worktags!O:T,2,FALSE),\"\")","v":""},{"$f":"IFERROR(VLOOKUP(IF(C561=\"\",B561&\"||\"&B561,C561&\"||\"&B561),Worktags!AR:AV,5,FALSE),\"\")","v":"All"}]
["2200_SC2200 Accrued Liabilities/Accrued Liabilities (Conversion Only)",{"$f":"Worktags!AS237","v":"2200"},{"$f":"IF(Worktags!AQ237<>Worktags!AS237,Worktags!AQ237,\"\")","v":"SC2200"},{"$f":"IFERROR(VLOOKUP(B562,Worktags!AL:AO,2,FALSE),\"\")","v":"Accrued Liabilities"},{"$f":"IFERROR(VLOOKUP(C562,Worktags!O:T,2,FALSE),\"\")","v":"Accrued Liabilities (Conversion Only)"},{"$f":"IFERROR(VLOOKUP(IF(C562=\"\",B562&\"||\"&B562,C562&\"||\"&B562),Worktags!AR:AV,5,FALSE),\"\")","v":"All"}]
["2210 Accrued Payroll-Biweekly",{"$f":"Worktags!AL85","v":"2210"},null,{"$f":"IFERROR(VLOOKUP(B563,Worktags!AL:AO,2,FALSE),\"\")","v":"Accrued Payroll-Biweekly"},null,{"$f":"IFERROR(VLOOKUP(IF(C563=\"\",B563&\"||\"&B563,C563&\"||\"&B563),Worktags!AR:AV,5,FALSE),\"\")","v":"All"}]
["2210 Accrued Payroll-Biweekly",{"$f":"Worktags!AS54","v":"2210"},{"$f":"IF(Worktags!AQ54<>Worktags!AS54,Worktags!AQ54,\"\")","v":""},{"$f":"IFERROR(VLOOKUP(B564,Worktags!AL:AO,2,FALSE),\"\")","v":"Accrued Payroll-Biweekly"},{"$f":"IFERROR(VLOOKUP(C564,Worktags!O:T,2,FALSE),\"\")","v":""},{"$f":"IFERROR(VLOOKUP(IF(C564=\"\",B564&\"||\"&B564,C564&\"||\"&B564),Worktags!AR:AV,5,FALSE),\"\")","v":"All"}]
["2215 Accrued Payroll-Faculty",{"$f":"Worktags!AL86","v":"2215"},null,{"$f":"IFERROR(VLOOKUP(B565,Worktags!AL:AO,2,FALSE),\"\")","v":"Accrued Payroll-Faculty"},null,{"$f":"IFERROR(VLOOKUP(IF(C565=\"\",B565&\"||\"&B565,C565&\"||\"&B565),Worktags!AR:AV,5,FALSE),\"\")","v":"All"}]
["2215 Accrued Payroll-Faculty",{"$f":"Worktags!AS55","v":"2215"},{"$f":"IF(Worktags!AQ55<>Worktags!AS55,Worktags!AQ55,\"\")","v":""},{"$f":"IFERROR(VLOOKUP(B566,Worktags!AL:AO,2,FALSE),\"\")","v":"Accrued Payroll-Faculty"},{"$f":"IFERROR(VLOOKUP(C566,Worktags!O:T,2,FALSE),\"\")","v":""},{"$f":"IFERROR(VLOOKUP(IF(C566=\"\",B566&\"||\"&B566,C566&\"||\"&B566),Worktags!AR:AV,5,FALSE),\"\")","v":"All"}]
["2220 Accrued Payroll Benefits",{"$f":"Worktags!AL87","v":"2220"},null,{"$f":"IFERROR(VLOOKUP(B567,Worktags!AL:AO,2,FALSE),\"\")","v":"Accrued Payroll Benefits"},null,{"$f":"IFERROR(VLOOKUP(IF(C567=\"\",B567&\"||\"&B567,C567&\"||\"&B567),Worktags!AR:AV,5,FALSE),\"\")","v":"All"}]
["2220 Accrued Payroll Benefits",{"$f":"Worktags!AS56","v":"2220"},{"$f":"IF(Worktags!AQ56<>Worktags!AS56,Worktags!AQ56,\"\")","v":""},{"$f":"IFERROR(VLOOKUP(B568,Worktags!AL:AO,2,FALSE),\"\")","v":"Accrued Payroll Benefits"},{"$f":"IFERROR(VLOOKUP(C568,Worktags!O:T,2,FALSE),\"\")","v":""},{"$f":"IFERROR(VLOOKUP(IF(C568=\"\",B568&\"||\"&B568,C568&\"||\"&B568),Worktags!AR:AV,5,FALSE),\"\")","v":"All"}]
["2230 Accrued Vacation",{"$f":"Worktags!AL88","v":"2230"},null,{"$f":"IFERROR(VLOOKUP(B569,Worktags!AL:AO,2,FALSE),\"\")","v":"Accrued Vacation"},null,{"$f":"IFERROR(VLOOKUP(IF(C569=\"\",B569&\"||\"&B569,C569&\"||\"&B569),Worktags!AR:AV,5,FALSE),\"\")","v":"All"}]
["2230 Accrued Vacation",{"$f":"Worktags!AS57","v":"2230"},{"$f":"IF(Worktags!AQ57<>Worktags!AS57,Worktags!AQ57,\"\")","v":""},{"$f":"IFERROR(VLOOKUP(B570,Worktags!AL:AO,2,FALSE),\"\")","v":"Accrued Vacation"},{"$f":"IFERROR(VLOOKUP(C570,Worktags!O:T,2,FALSE),\"\")","v":""},{"$f":"IFERROR(VLOOKUP(IF(C570=\"\",B570&\"||\"&B570,C570&\"||\"&B570),Worktags!AR:AV,5,FALSE),\"\")","v":"All"}]
["2300 Deposits Payable",{"$f":"Worktags!AL89","v":"2300"},null,{"$f":"IFERROR(VLOOKUP(B571,Worktags!AL:AO,2,FALSE),\"\")","v":"Deposits Payable"},null,{"$f":"IFERROR(VLOOKUP(IF(C571=\"\",B571&\"||\"&B571,C571&\"||\"&B571),Worktags!AR:AV,5,FALSE),\"\")","v":""}]
["2300_SC2300 Deposits Payable/Deposits Payable",{"$f":"Worktags!AS238","v":"2300"},{"$f":"IF(Worktags!AQ238<>Worktags!AS238,Worktags!AQ238,\"\")","v":"SC2300"},{"$f":"IFERROR(VLOOKUP(B572,Worktags!AL:AO,2,FALSE),\"\")","v":"Deposits Payable"},{"$f":"IFERROR(VLOOKUP(C572,Worktags!O:T,2,FALSE),\"\")","v":"Deposits Payable"},{"$f":"IFERROR(VLOOKUP(IF(C572=\"\",B572&\"||\"&B572,C572&\"||\"&B572),Worktags!AR:AV,5,FALSE),\"\")","v":"All"}]
["2400 Annuities Payable",{"$f":"Worktags!AL90","v":"2400"},null,{"$f":"IFERROR(VLOOKUP(B573,Worktags!AL:AO,2,FALSE),\"\")","v":"Annuities Payable"},null,{"$f":"IFERROR(VLOOKUP(IF(C573=\"\",B573&\"||\"&B573,C573&\"||\"&B573),Worktags!AR:AV,5,FALSE),\"\")","v":""}]
["2400_SC2400 Annuities Payable/Annuities Payable",{"$f":"Worktags!AS239","v":"2400"},{"$f":"IF(Worktags!AQ239<>Worktags!AS239,Worktags!AQ239,\"\")","v":"SC2400"},{"$f":"IFERROR(VLOOKUP(B574,Worktags!AL:AO,2,FALSE),\"\")","v":"Annuities Payable"},{"$f":"IFERROR(VLOOKUP(C574,Worktags!O:T,2,FALSE),\"\")","v":"Annuities Payable"},{"$f":"IFERROR(VLOOKUP(IF(C574=\"\",B574&\"||\"&B574,C574&\"||\"&B574),Worktags!AR:AV,5,FALSE),\"\")","v":"All"}]
["2491 Inter-Company Receivable/Payable",{"$f":"Worktags!AL91","v":"2491"},null,{"$f":"IFERROR(VLOOKUP(B575,Worktags!AL:AO,2,FALSE),\"\")","v":"Inter-Company Receivable/Payable"},null,{"$f":"IFERROR(VLOOKUP(IF(C575=\"\",B575&\"||\"&B575,C575&\"||\"&B575),Worktags!AR:AV,5,FALSE),\"\")","v":"JE_Override"}]
["2491 Inter-Company Receivable/Payable",{"$f":"Worktags!AS58","v":"2491"},{"$f":"IF(Worktags!AQ58<>Worktags!AS58,Worktags!AQ58,\"\")","v":""},{"$f":"IFERROR(VLOOKUP(B576,Worktags!AL:AO,2,FALSE),\"\")","v":"Inter-Company Receivable/Payable"},{"$f":"IFERROR(VLOOKUP(C576,Worktags!O:T,2,FALSE),\"\")","v":""},{"$f":"IFERROR(VLOOKUP(IF(C576=\"\",B576&\"||\"&B576,C576&\"||\"&B576),Worktags!AR:AV,5,FALSE),\"\")","v":"JE_Override"}]
[{"$f":"IF(B577<>\"\",IF(C577<>\"\",B577&\"_\"&C577&\" \"&D577&\"/\"&E577,B577&\" \"&D577),\"\")","v":"2492 Inter-Worktag Receivable/Payable"},{"$f":"Worktags!AL92","v":"2492"},null,{"$f":"IFERROR(VLOOKUP(B577,Worktags!AL:AO,2,FALSE),\"\")","v":"Inter-Worktag Receivable/Payable"},null,{"$f":"IFERROR(VLOOKUP(IF(C577=\"\",B577&\"||\"&B577,C577&\"||\"&B577),Worktags!AR:AV,5,FALSE),\"\")","v":"JE_Override"}]
["2492 Inter-Worktag Receivable/Payable",{"$f":"Worktags!AS59","v":"2492"},{"$f":"IF(Worktags!AQ59<>Worktags!AS59,Worktags!AQ59,\"\")","v":""},{"$f":"IFERROR(VLOOKUP(B578,Worktags!AL:AO,2,FALSE),\"\")","v":"Inter-Worktag Receivable/Payable"},{"$f":"IFERROR(VLOOKUP(C578,Worktags!O:T,2,FALSE),\"\")","v":""},{"$f":"IFERROR(VLOOKUP(IF(C578=\"\",B578&\"||\"&B578,C578&\"||\"&B578),Worktags!AR:AV,5,FALSE),\"\")","v":"JE_Override"}]
["2500 Notes Payable",{"$f":"Worktags!AL93","v":"2500"},null,{"$f":"IFERROR(VLOOKUP(B579,Worktags!AL:AO,2,FALSE),\"\")","v":"Notes Payable"},null,{"$f":"IFERROR(VLOOKUP(IF(C579=\"\",B579&\"||\"&B579,C579&\"||\"&B579),Worktags!AR:AV,5,FALSE),\"\")","v":""}]
["2500_SC2500 Notes Payable/Notes Payable",{"$f":"Worktags!AS240","v":"2500"},{"$f":"IF(Worktags!AQ240<>Worktags!AS240,Worktags!AQ240,\"\")","v":"SC2500"},{"$f":"IFERROR(VLOOKUP(B580,Worktags!AL:AO,2,FALSE),\"\")","v":"Notes Payable"},{"$f":"IFERROR(VLOOKUP(C580,Worktags!O:T,2,FALSE),\"\")","v":"Notes Payable"},{"$f":"IFERROR(VLOOKUP(IF(C580=\"\",B580&\"||\"&B580,C580&\"||\"&B580),Worktags!AR:AV,5,FALSE),\"\")","v":"All"}]
["2510 Notes Payable - Church",{"$f":"Worktags!AL94","v":"2510"},null,{"$f":"IFERROR(VLOOKUP(B581,Worktags!AL:AO,2,FALSE),\"\")","v":"Notes Payable - Church"},null,{"$f":"IFERROR(VLOOKUP(IF(C581=\"\",B581&\"||\"&B581,C581&\"||\"&B581),Worktags!AR:AV,5,FALSE),\"\")","v":""}]
["2510_SC2510 Notes Payable - Church/Notes Payable - Church",{"$f":"Worktags!AS241","v":"2510"},{"$f":"IF(Worktags!AQ241<>Worktags!AS241,Worktags!AQ241,\"\")","v":"SC2510"},{"$f":"IFERROR(VLOOKUP(B582,Worktags!AL:AO,2,FALSE),\"\")","v":"Notes Payable - Church"},{"$f":"IFERROR(VLOOKUP(C582,Worktags!O:T,2,FALSE),\"\")","v":"Notes Payable - Church"},{"$f":"IFERROR(VLOOKUP(IF(C582=\"\",B582&\"||\"&B582,C582&\"||\"&B582),Worktags!AR:AV,5,FALSE),\"\")","v":"All"}]
["2550 Lease Liability",{"$f":"Worktags!AL95","v":"2550"},null,{"$f":"IFERROR(VLOOKUP(B583,Worktags!AL:AO,2,FALSE),\"\")","v":"Lease Liability"},null,{"$f":"IFERROR(VLOOKUP(IF(C583=\"\",B583&\"||\"&B583,C583&\"||\"&B583),Worktags!AR:AV,5,FALSE),\"\")","v":"All"}]
["2550 Lease Liability",{"$f":"Worktags!AS60","v":"2550"},{"$f":"IF(Worktags!AQ60<>Worktags!AS60,Worktags!AQ60,\"\")","v":""},{"$f":"IFERROR(VLOOKUP(B584,Worktags!AL:AO,2,FALSE),\"\")","v":"Lease Liability"},{"$f":"IFERROR(VLOOKUP(C584,Worktags!O:T,2,FALSE),\"\")","v":""},{"$f":"IFERROR(VLOOKUP(IF(C584=\"\",B584&\"||\"&B584,C584&\"||\"&B584),Worktags!AR:AV,5,FALSE),\"\")","v":"All"}]
["2600 Deferred Revenue",{"$f":"Worktags!AL96","v":"2600"},null,{"$f":"IFERROR(VLOOKUP(B585,Worktags!AL:AO,2,FALSE),\"\")","v":"Deferred Revenue"},null,{"$f":"IFERROR(VLOOKUP(IF(C585=\"\",B585&\"||\"&B585,C585&\"||\"&B585),Worktags!AR:AV,5,FALSE),\"\")","v":"All"}]
["2600 Deferred Revenue",{"$f":"Worktags!AS61","v":"2600"},{"$f":"IF(Worktags!AQ61<>Worktags!AS61,Worktags!AQ61,\"\")","v":""},{"$f":"IFERROR(VLOOKUP(B586,Worktags!AL:AO,2,FALSE),\"\")","v":"Deferred Revenue"},{"$f":"IFERROR(VLOOKUP(C586,Worktags!O:T,2,FALSE),\"\")","v":""},{"$f":"IFERROR(VLOOKUP(IF(C586=\"\",B586&\"||\"&B586,C586&\"||\"&B586),Worktags!AR:AV,5,FALSE),\"\")","v":"All"}]
["2600_RC4001 Deferred Revenue/Church Appropriation",{"$f":"Worktags!AS94","v":"2600"},{"$f":"IF(Worktags!AQ94<>Worktags!AS94,Worktags!AQ94,\"\")","v":"RC4001"},{"$f":"IFERROR(VLOOKUP(B587,Worktags!AL:AO,2,FALSE),\"\")","v":"Deferred Revenue"},{"$f":"IFERROR(VLOOKUP(C587,Worktags!O:T,2,FALSE),\"\")","v":"Church Appropriation"},{"$f":"IFERROR(VLOOKUP(IF(C587=\"\",B587&\"||\"&B587,C587&\"||\"&B587),Worktags!AR:AV,5,FALSE),\"\")","v":"All"}]
["2600_RC4002 Deferred Revenue/University Allocation",{"$f":"Worktags!AS96","v":"2600"},{"$f":"IF(Worktags!AQ96<>Worktags!AS96,Worktags!AQ96,\"\")","v":"RC4002"},{"$f":"IFERROR(VLOOKUP(B588,Worktags!AL:AO,2,FALSE),\"\")","v":"Deferred Revenue"},{"$f":"IFERROR(VLOOKUP(C588,Worktags!O:T,2,FALSE),\"\")","v":"University Allocation"},{"$f":"IFERROR(VLOOKUP(IF(C588=\"\",B588&\"||\"&B588,C588&\"||\"&B588),Worktags!AR:AV,5,FALSE),\"\")","v":"All"}]
["2600_RC4101 Deferred Revenue/Tuition",{"$f":"Worktags!AS98","v":"2600"},{"$f":"IF(Worktags!AQ98<>Worktags!AS98,Worktags!AQ98,\"\")","v":"RC4101"},{"$f":"IFERROR(VLOOKUP(B589,Worktags!AL:AO,2,FALSE),\"\")","v":"Deferred Revenue"},{"$f":"IFERROR(VLOOKUP(C589,Worktags!O:T,2,FALSE),\"\")","v":"Tuition"},{"$f":"IFERROR(VLOOKUP(IF(C589=\"\",B589&\"||\"&B589,C589&\"||\"&B589),Worktags!AR:AV,5,FALSE),\"\")","v":"All"}]
["2600_RC4102 Deferred Revenue/Student Fee Distribution",{"$f":"Worktags!AS100","v":"2600"},{"$f":"IF(Worktags!AQ100<>Worktags!AS100,Worktags!AQ100,\"\")","v":"RC4102"},{"$f":"IFERROR(VLOOKUP(B590,Worktags!AL:AO,2,FALSE),\"\")","v":"Deferred Revenue"},{"$f":"IFERROR(VLOOKUP(C590,Worktags!O:T,2,FALSE),\"\")","v":"Student Fee Distribution"},{"$f":"IFERROR(VLOOKUP(IF(C590=\"\",B590&\"||\"&B590,C590&\"||\"&B590),Worktags!AR:AV,5,FALSE),\"\")","v":"All"}]
["2600_RC4103 Deferred Revenue/Non-Credit Income",{"$f":"Worktags!AS102","v":"2600"},{"$f":"IF(Worktags!AQ102<>Worktags!AS102,Worktags!AQ102,\"\")","v":"RC4103"},{"$f":"IFERROR(VLOOKUP(B591,Worktags!AL:AO,2,FALSE),\"\")","v":"Deferred Revenue"},{"$f":"IFERROR(VLOOKUP(C591,Worktags!O:T,2,FALSE),\"\")","v":"Non-Credit Income"},{"$f":"IFERROR(VLOOKUP(IF(C591=\"\",B591&\"||\"&B591,C591&\"||\"&B591),Worktags!AR:AV,5,FALSE),\"\")","v":"All"}]
["2600_RC4104 Deferred Revenue/Student Fees",{"$f":"Worktags!AS104","v":"2600"},{"$f":"IF(Worktags!AQ104<>Worktags!AS104,Worktags!AQ104,\"\")","v":"RC4104"},{"$f":"IFERROR(VLOOKUP(B592,Worktags!AL:AO,2,FALSE),\"\")","v":"Deferred Revenue"},{"$f":"IFERROR(VLOOKUP(C592,Worktags!O:T,2,FALSE),\"\")","v":"Student Fees"},{"$f":"IFERROR(VLOOKUP(IF(C592=\"\",B592&\"||\"&B592,C592&\"||\"&B592),Worktags!AR:AV,5,FALSE),\"\")","v":"All"}]
["2600_RC4110 Deferred Revenue/Grad Service Fee",{"$f":"Worktags!AS106","v":"2600"},{"$f":"IF(Worktags!AQ106<>Worktags!AS106,Worktags!AQ106,\"\")","v":"RC4110"},{"$f":"IFERROR(VLOOKUP(B593,Worktags!AL:AO,2,FALSE),\"\")","v":"Deferred Revenue"},{"$f":"IFERROR(VLOOKUP(C593,Worktags!O:T,2,FALSE),\"\")","v":"Grad Service Fee"},{"$f":"IFERROR(VLOOKUP(IF(C593=\"\",B593&\"||\"&B593,C593&\"||\"&B593),Worktags!AR:AV,5,FALSE),\"\")","v":"All"}]
["2600_RC4111 Deferred Revenue/Admission Fees",{"$f":"Worktags!AS108","v":"2600"},{"$f":"IF(Worktags!AQ108<>Worktags!AS108,Worktags!AQ108,\"\")","v":"RC4111"},{"$f":"IFERROR(VLOOKUP(B594,Worktags!AL:AO,2,FALSE),\"\")","v":"Deferred Revenue"},{"$f":"IFERROR(VLOOKUP(C594,Worktags!O:T,2,FALSE),\"\")","v":"Admission Fees"},{"$f":"IFERROR(VLOOKUP(IF(C594=\"\",B594&\"||\"&B594,C594&\"||\"&B594),Worktags!AR:AV,5,FALSE),\"\")","v":"All"}]
["2600_RC4112 Deferred Revenue/Graduation Fees",{"$f":"Worktags!AS110","v":"2600"},{"$f":"IF(Worktags!AQ110<>Worktags!AS110,Worktags!AQ110,\"\")","v":"RC4112"},{"$f":"IFERROR(VLOOKUP(B595,Worktags!AL:AO,2,FALSE),\"\")","v":"Deferred Revenue"},{"$f":"IFERROR(VLOOKUP(C595,Worktags!O:T,2,FALSE),\"\")","v":"Graduation Fees"},{"$f":"IFERROR(VLOOKUP(IF(C595=\"\",B595&\"||\"&B595,C595&\"||\"&B595),Worktags!AR:AV,5,FALSE),\"\")","v":"All"}]
["2600_RC4113 Deferred Revenue/Transcript Fees",{"$f":"Worktags!AS112","v":"2600"},{"$f":"IF(Worktags!AQ112<>Worktags!AS112,Worktags!AQ112,\"\")","v":"RC4113"},{"$f":"IFERROR(VLOOKUP(B596,Worktags!AL:AO,2,FALSE),\"\")","v":"Deferred Revenue"},{"$f":"IFERROR(VLOOKUP(C596,Worktags!O:T,2,FALSE),\"\")","v":"Transcript Fees"},{"$f":"IFERROR(VLOOKUP(IF(C596=\"\",B596&\"||\"&B596,C596&\"||\"&B596),Worktags!AR:AV,5,FALSE),\"\")","v":"All"}]
["2600_RC4114 Deferred Revenue/Special Exam Fees",{"$f":"Worktags!AS114","v":"2600"},{"$f":"IF(Worktags!AQ114<>Worktags!AS114,Worktags!AQ114,\"\")","v":"RC4114"},{"$f":"IFERROR(VLOOKUP(B597,Worktags!AL:AO,2,FALSE),\"\")","v":"Deferred Revenue"},{"$f":"IFERROR(VLOOKUP(C597,Worktags!O:T,2,FALSE),\"\")","v":"Special Exam Fees"},{"$f":"IFERROR(VLOOKUP(IF(C597=\"\",B597&\"||\"&B597,C597&\"||\"&B597),Worktags!AR:AV,5,FALSE),\"\")","v":"All"}]
["2600_RC4115 Deferred Revenue/ACT Test Fees",{"$f":"Worktags!AS116","v":"2600"},{"$f":"IF(Worktags!AQ116<>Worktags!AS116,Worktags!AQ116,\"\")","v":"RC4115"},{"$f":"IFERROR(VLOOKUP(B598,Worktags!AL:AO,2,FALSE),\"\")","v":"Deferred Revenue"},{"$f":"IFERROR(VLOOKUP(C598,Worktags!O:T,2,FALSE),\"\")","v":"ACT Test Fees"},{"$f":"IFERROR(VLOOKUP(IF(C598=\"\",B598&\"||\"&B598,C598&\"||\"&B598),Worktags!AR:AV,5,FALSE),\"\")","v":"All"}]
["2600_RC4117 Deferred Revenue/Locker Rentals",{"$f":"Worktags!AS119","v":"2600"},{"$f":"IF(Worktags!AQ119<>Worktags!AS119,Worktags!AQ119,\"\")","v":"RC4117"},{"$f":"IFERROR(VLOOKUP(B599,Worktags!AL:AO,2,FALSE),\"\")","v":"Deferred Revenue"},{"$f":"IFERROR(VLOOKUP(C599,Worktags!O:T,2,FALSE),\"\")","v":"Locker Rentals"},{"$f":"IFERROR(VLOOKUP(IF(C599=\"\",B599&\"||\"&B599,C599&\"||\"&B599),Worktags!AR:AV,5,FALSE),\"\")","v":"All"}]
["2600_RC4199 Deferred Revenue/Tuition and Fees (reclass)",{"$f":"Worktags!AS121","v":"2600"},{"$f":"IF(Worktags!AQ121<>Worktags!AS121,Worktags!AQ121,\"\")","v":"RC4199"},{"$f":"IFERROR(VLOOKUP(B600,Worktags!AL:AO,2,FALSE),\"\")","v":"Deferred Revenue"},{"$f":"IFERROR(VLOOKUP(C600,Worktags!O:T,2,FALSE),\"\")","v":"Tuition and Fees (reclass)"},{"$f":"IFERROR(VLOOKUP(IF(C600=\"\",B600&\"||\"&B600,C600&\"||\"&B600),Worktags!AR:AV,5,FALSE),\"\")","v":"All"}]
["2600_RC4401 Deferred Revenue/Sale of Services",{"$f":"Worktags!AS133","v":"2600"},{"$f":"IF(Worktags!AQ133<>Worktags!AS133,Worktags!AQ133,\"\")","v":"RC4401"},{"$f":"IFERROR(VLOOKUP(B601,Worktags!AL:AO,2,FALSE),\"\")","v":"Deferred Revenue"},{"$f":"IFERROR(VLOOKUP(C601,Worktags!O:T,2,FALSE),\"\")","v":"Sale of Services"},{"$f":"IFERROR(VLOOKUP(IF(C601=\"\",B601&\"||\"&B601,C601&\"||\"&B601),Worktags!AR:AV,5,FALSE),\"\")","v":"All"}]
["2600_RC4404 Deferred Revenue/Sale of Services-Taxable",{"$f":"Worktags!AS137","v":"2600"},{"$f":"IF(Worktags!AQ137<>Worktags!AS137,Worktags!AQ137,\"\")","v":"RC4404"},{"$f":"IFERROR(VLOOKUP(B602,Worktags!AL:AO,2,FALSE),\"\")","v":"Deferred Revenue"},{"$f":"IFERROR(VLOOKUP(C602,Worktags!O:T,2,FALSE),\"\")","v":"Sale of Services-Taxable"},{"$f":"IFERROR(VLOOKUP(IF(C602=\"\",B602&\"||\"&B602,C602&\"||\"&B602),Worktags!AR:AV,5,FALSE),\"\")","v":"All"}]
["2600_RC4405 Deferred Revenue/Sale of Services-Refunds",{"$f":"Worktags!AS139","v":"2600"},{"$f":"IF(Worktags!AQ139<>Worktags!AS139,Worktags!AQ139,\"\")","v":"RC4405"},{"$f":"IFERROR(VLOOKUP(B603,Worktags!AL:AO,2,FALSE),\"\")","v":"Deferred Revenue"},{"$f":"IFERROR(VLOOKUP(C603,Worktags!O:T,2,FALSE),\"\")","v":"Sale of Services-Refunds"},{"$f":"IFERROR(VLOOKUP(IF(C603=\"\",B603&\"||\"&B603,C603&\"||\"&B603),Worktags!AR:AV,5,FALSE),\"\")","v":"All"}]
["2600_RC4406 Deferred Revenue/Sponsorship Revenue",{"$f":"Worktags!AS141","v":"2600"},{"$f":"IF(Worktags!AQ141<>Worktags!AS141,Worktags!AQ141,\"\")","v":"RC4406"},{"$f":"IFERROR(VLOOKUP(B604,Worktags!AL:AO,2,FALSE),\"\")","v":"Deferred Revenue"},{"$f":"IFERROR(VLOOKUP(C604,Worktags!O:T,2,FALSE),\"\")","v":"Sponsorship Revenue"},{"$f":"IFERROR(VLOOKUP(IF(C604=\"\",B604&\"||\"&B604,C604&\"||\"&B604),Worktags!AR:AV,5,FALSE),\"\")","v":"All"}]
["2600_RC4499 Deferred Revenue/Sale of Services (reclass)",{"$f":"Worktags!AS143","v":"2600"},{"$f":"IF(Worktags!AQ143<>Worktags!AS143,Worktags!AQ143,\"\")","v":"RC4499"},{"$f":"IFERROR(VLOOKUP(B605,Worktags!AL:AO,2,FALSE),\"\")","v":"Deferred Revenue"},{"$f":"IFERROR(VLOOKUP(C605,Worktags!O:T,2,FALSE),\"\")","v":"Sale of Services (reclass)"},{"$f":"IFERROR(VLOOKUP(IF(C605=\"\",B605&\"||\"&B605,C605&\"||\"&B605),Worktags!AR:AV,5,FALSE),\"\")","v":"All"}]
["2600_RC4501 Deferred Revenue/Sale of Goods",{"$f":"Worktags!AS145","v":"2600"},{"$f":"IF(Worktags!AQ145<>Worktags!AS145,Worktags!AQ145,\"\")","v":"RC4501"},{"$f":"IFERROR(VLOOKUP(B606,Worktags!AL:AO,2,FALSE),\"\")","v":"Deferred Revenue"},{"$f":"IFERROR(VLOOKUP(C606,Worktags!O:T,2,FALSE),\"\")","v":"Sale of Goods"},{"$f":"IFERROR(VLOOKUP(IF(C606=\"\",B606&\"||\"&B606,C606&\"||\"&B606),Worktags!AR:AV,5,FALSE),\"\")","v":"All"}]
["2600_RC4502 Deferred Revenue/Sale of Goods-Taxable",{"$f":"Worktags!AS147","v":"2600"},{"$f":"IF(Worktags!AQ147<>Worktags!AS147,Worktags!AQ147,\"\")","v":"RC4502"},{"$f":"IFERROR(VLOOKUP(B607,Worktags!AL:AO,2,FALSE),\"\")","v":"Deferred Revenue"},{"$f":"IFERROR(VLOOKUP(C607,Worktags!O:T,2,FALSE),\"\")","v":"Sale of Goods-Taxable"},{"$f":"IFERROR(VLOOKUP(IF(C607=\"\",B607&\"||\"&B607,C607&\"||\"&B607),Worktags!AR:AV,5,FALSE),\"\")","v":"All"}]
["2600_RC4503 Deferred Revenue/Sale of Goods-Discount/Returns",{"$f":"Worktags!AS149","v":"2600"},{"$f":"IF(Worktags!AQ149<>Worktags!AS149,Worktags!AQ149,\"\")","v":"RC4503"},{"$f":"IFERROR(VLOOKUP(B608,Worktags!AL:AO,2,FALSE),\"\")","v":"Deferred Revenue"},{"$f":"IFERROR(VLOOKUP(C608,Worktags!O:T,2,FALSE),\"\")","v":"Sale of Goods-Discount/Returns"},{"$f":"IFERROR(VLOOKUP(IF(C608=\"\",B608&\"||\"&B608,C608&\"||\"&B608),Worktags!AR:AV,5,FALSE),\"\")","v":"All"}]
["2600_RC4504 Deferred Revenue/Sales - Online and Out of State",{"$f":"Worktags!AS151","v":"2600"},{"$f":"IF(Worktags!AQ151<>Worktags!AS151,Worktags!AQ151,\"\")","v":"RC4504"},{"$f":"IFERROR(VLOOKUP(B609,Worktags!AL:AO,2,FALSE),\"\")","v":"Deferred Revenue"},{"$f":"IFERROR(VLOOKUP(C609,Worktags!O:T,2,FALSE),\"\")","v":"Sales - Online and Out of State"},{"$f":"IFERROR(VLOOKUP(IF(C609=\"\",B609&\"||\"&B609,C609&\"||\"&B609),Worktags!AR:AV,5,FALSE),\"\")","v":"All"}]
["2600_RC4505 Deferred Revenue/Ticket Sales",{"$f":"Worktags!AS153","v":"2600"},{"$f":"IF(Worktags!AQ153<>Worktags!AS153,Worktags!AQ153,\"\")","v":"RC4505"},{"$f":"IFERROR(VLOOKUP(B610,Worktags!AL:AO,2,FALSE),\"\")","v":"Deferred Revenue"},{"$f":"IFERROR(VLOOKUP(C610,Worktags!O:T,2,FALSE),\"\")","v":"Ticket Sales"},{"$f":"IFERROR(VLOOKUP(IF(C610=\"\",B610&\"||\"&B610,C610&\"||\"&B610),Worktags!AR:AV,5,FALSE),\"\")","v":"All"}]
["2600_RC4506 Deferred Revenue/Ticket Sales-Taxable",{"$f":"Worktags!AS155","v":"2600"},{"$f":"IF(Worktags!AQ155<>Worktags!AS155,Worktags!AQ155,\"\")","v":"RC4506"},{"$f":"IFERROR(VLOOKUP(B611,Worktags!AL:AO,2,FALSE),\"\")","v":"Deferred Revenue"},{"$f":"IFERROR(VLOOKUP(C611,Worktags!O:T,2,FALSE),\"\")","v":"Ticket Sales-Taxable"},{"$f":"IFERROR(VLOOKUP(IF(C611=\"\",B611&\"||\"&B611,C611&\"||\"&B611),Worktags!AR:AV,5,FALSE),\"\")","v":"All"}]
["2600_RC4507 Deferred Revenue/Ticket Sales-Refunds",{"$f":"Worktags!AS157","v":"2600"},{"$f":"IF(Worktags!AQ157<>Worktags!AS157,Worktags!AQ157,\"\")","v":"RC4507"},{"$f":"IFERROR(VLOOKUP(B612,Worktags!AL:AO,2,FALSE),\"\")","v":"Deferred Revenue"},{"$f":"IFERROR(VLOOKUP(C612,Worktags!O:T,2,FALSE),\"\")","v":"Ticket Sales-Refunds"},{"$f":"IFERROR(VLOOKUP(IF(C612=\"\",B612&\"||\"&B612,C612&\"||\"&B612),Worktags!AR:AV,5,FALSE),\"\")","v":"All"}]
["2600_RC4599 Deferred Revenue/Sale of Goods (reclass)",{"$f":"Worktags!AS159","v":"2600"},{"$f":"IF(Worktags!AQ159<>Worktags!AS159,Worktags!AQ159,\"\")","v":"RC4599"},{"$f":"IFERROR(VLOOKUP(B613,Worktags!AL:AO,2,FALSE),\"\")","v":"Deferred Revenue"},{"$f":"IFERROR(VLOOKUP(C613,Worktags!O:T,2,FALSE),\"\")","v":"Sale of Goods (reclass)"},{"$f":"IFERROR(VLOOKUP(IF(C613=\"\",B613&\"||\"&B613,C613&\"||\"&B613),Worktags!AR:AV,5,FALSE),\"\")","v":"All"}]
["2600_RC4704 Deferred Revenue/Rental Income",{"$f":"Worktags!AS164","v":"2600"},{"$f":"IF(Worktags!AQ164<>Worktags!AS164,Worktags!AQ164,\"\")","v":"RC4704"},{"$f":"IFERROR(VLOOKUP(B614,Worktags!AL:AO,2,FALSE),\"\")","v":"Deferred Revenue"},{"$f":"IFERROR(VLOOKUP(C614,Worktags!O:T,2,FALSE),\"\")","v":"Rental Income"},{"$f":"IFERROR(VLOOKUP(IF(C614=\"\",B614&\"||\"&B614,C614&\"||\"&B614),Worktags!AR:AV,5,FALSE),\"\")","v":"All"}]
["2600_SC4100 Deferred Revenue/Tuition and Fees Refunds",{"$f":"Worktags!AS242","v":"2600"},{"$f":"IF(Worktags!AQ242<>Worktags!AS242,Worktags!AQ242,\"\")","v":"SC4100"},{"$f":"IFERROR(VLOOKUP(B615,Worktags!AL:AO,2,FALSE),\"\")","v":"Deferred Revenue"},{"$f":"IFERROR(VLOOKUP(C615,Worktags!O:T,2,FALSE),\"\")","v":"Tuition and Fees Refunds"},{"$f":"IFERROR(VLOOKUP(IF(C615=\"\",B615&\"||\"&B615,C615&\"||\"&B615),Worktags!AR:AV,5,FALSE),\"\")","v":"All"}]
["2700 Retire Postretire Benefit Obligation",{"$f":"Worktags!AL97","v":"2700"},null,{"$f":"IFERROR(VLOOKUP(B616,Worktags!AL:AO,2,FALSE),\"\")","v":"Retire Postretire Benefit Obligation"},null,{"$f":"IFERROR(VLOOKUP(IF(C616=\"\",B616&\"||\"&B616,C616&\"||\"&B616),Worktags!AR:AV,5,FALSE),\"\")","v":"All"}]
["2700 Retire Postretire Benefit Obligation",{"$f":"Worktags!AS62","v":"2700"},{"$f":"IF(Worktags!AQ62<>Worktags!AS62,Worktags!AQ62,\"\")","v":""},{"$f":"IFERROR(VLOOKUP(B617,Worktags!AL:AO,2,FALSE),\"\")","v":"Retire Postretire Benefit Obligation"},{"$f":"IFERROR(VLOOKUP(C617,Worktags!O:T,2,FALSE),\"\")","v":""},{"$f":"IFERROR(VLOOKUP(IF(C617=\"\",B617&\"||\"&B617,C617&\"||\"&B617),Worktags!AR:AV,5,FALSE),\"\")","v":"All"}]
["2710 Deferred Tax Liability",{"$f":"Worktags!AL98","v":"2710"},null,{"$f":"IFERROR(VLOOKUP(B618,Worktags!AL:AO,2,FALSE),\"\")","v":"Deferred Tax Liability"},null,{"$f":"IFERROR(VLOOKUP(IF(C618=\"\",B618&\"||\"&B618,C618&\"||\"&B618),Worktags!AR:AV,5,FALSE),\"\")","v":"All"}]
["2710 Deferred Tax Liability",{"$f":"Worktags!AS63","v":"2710"},{"$f":"IF(Worktags!AQ63<>Worktags!AS63,Worktags!AQ63,\"\")","v":""},{"$f":"IFERROR(VLOOKUP(B619,Worktags!AL:AO,2,FALSE),\"\")","v":"Deferred Tax Liability"},{"$f":"IFERROR(VLOOKUP(C619,Worktags!O:T,2,FALSE),\"\")","v":""},{"$f":"IFERROR(VLOOKUP(IF(C619=\"\",B619&\"||\"&B619,C619&\"||\"&B619),Worktags!AR:AV,5,FALSE),\"\")","v":"All"}]
["3400 Net Assets (prior year)",{"$f":"Worktags!AL99","v":"3400"},null,{"$f":"IFERROR(VLOOKUP(B620,Worktags!AL:AO,2,FALSE),\"\")","v":"Net Assets (prior year)"},null,{"$f":"IFERROR(VLOOKUP(IF(C620=\"\",B620&\"||\"&B620,C620&\"||\"&B620),Worktags!AR:AV,5,FALSE),\"\")","v":"JE_Override"}]
["3400 Net Assets (prior year)",{"$f":"Worktags!AS64","v":"3400"},{"$f":"IF(Worktags!AQ64<>Worktags!AS64,Worktags!AQ64,\"\")","v":""},{"$f":"IFERROR(VLOOKUP(B621,Worktags!AL:AO,2,FALSE),\"\")","v":"Net Assets (prior year)"},{"$f":"IFERROR(VLOOKUP(C621,Worktags!O:T,2,FALSE),\"\")","v":""},{"$f":"IFERROR(VLOOKUP(IF(C621=\"\",B621&\"||\"&B621,C621&\"||\"&B621),Worktags!AR:AV,5,FALSE),\"\")","v":"JE_Override"}]
["3500 Net Assets",{"$f":"Worktags!AL100","v":"3500"},null,{"$f":"IFERROR(VLOOKUP(B622,Worktags!AL:AO,2,FALSE),\"\")","v":"Net Assets"},null,{"$f":"IFERROR(VLOOKUP(IF(C622=\"\",B622&\"||\"&B622,C622&\"||\"&B622),Worktags!AR:AV,5,FALSE),\"\")","v":"JE_Override"}]
["3500 Net Assets",{"$f":"Worktags!AS65","v":"3500"},{"$f":"IF(Worktags!AQ65<>Worktags!AS65,Worktags!AQ65,\"\")","v":""},{"$f":"IFERROR(VLOOKUP(B623,Worktags!AL:AO,2,FALSE),\"\")","v":"Net Assets"},{"$f":"IFERROR(VLOOKUP(C623,Worktags!O:T,2,FALSE),\"\")","v":""},{"$f":"IFERROR(VLOOKUP(IF(C623=\"\",B623&\"||\"&B623,C623&\"||\"&B623),Worktags!AR:AV,5,FALSE),\"\")","v":"JE_Override"}]
["3600 Net Assets-Reserve",{"$f":"Worktags!AL101","v":"3600"},null,{"$f":"IFERROR(VLOOKUP(B624,Worktags!AL:AO,2,FALSE),\"\")","v":"Net Assets-Reserve"},null,{"$f":"IFERROR(VLOOKUP(IF(C624=\"\",B624&\"||\"&B624,C624&\"||\"&B624),Worktags!AR:AV,5,FALSE),\"\")","v":"All"}]
["3600 Net Assets-Reserve",{"$f":"Worktags!AS66","v":"3600"},{"$f":"IF(Worktags!AQ66<>Worktags!AS66,Worktags!AQ66,\"\")","v":""},{"$f":"IFERROR(VLOOKUP(B625,Worktags!AL:AO,2,FALSE),\"\")","v":"Net Assets-Reserve"},{"$f":"IFERROR(VLOOKUP(C625,Worktags!O:T,2,FALSE),\"\")","v":""},{"$f":"IFERROR(VLOOKUP(IF(C625=\"\",B625&\"||\"&B625,C625&\"||\"&B625),Worktags!AR:AV,5,FALSE),\"\")","v":"All"}]
["3609 Net Assets (Reserve Offset)",{"$f":"Worktags!AL102","v":"3609"},null,{"$f":"IFERROR(VLOOKUP(B626,Worktags!AL:AO,2,FALSE),\"\")","v":"Net Assets (Reserve Offset)"},null,{"$f":"IFERROR(VLOOKUP(IF(C626=\"\",B626&\"||\"&B626,C626&\"||\"&B626),Worktags!AR:AV,5,FALSE),\"\")","v":"All"}]
["3609 Net Assets (Reserve Offset)",{"$f":"Worktags!AS67","v":"3609"},{"$f":"IF(Worktags!AQ67<>Worktags!AS67,Worktags!AQ67,\"\")","v":""},{"$f":"IFERROR(VLOOKUP(B627,Worktags!AL:AO,2,FALSE),\"\")","v":"Net Assets (Reserve Offset)"},{"$f":"IFERROR(VLOOKUP(C627,Worktags!O:T,2,FALSE),\"\")","v":""},{"$f":"IFERROR(VLOOKUP(IF(C627=\"\",B627&\"||\"&B627,C627&\"||\"&B627),Worktags!AR:AV,5,FALSE),\"\")","v":"All"}]
["3670 Retirement Benefits Adjustment",{"$f":"Worktags!AL103","v":"3670"},null,{"$f":"IFERROR(VLOOKUP(B628,Worktags!AL:AO,2,FALSE),\"\")","v":"Retirement Benefits Adjustment"},null,{"$f":"IFERROR(VLOOKUP(IF(C628=\"\",B628&\"||\"&B628,C628&\"||\"&B628),Worktags!AR:AV,5,FALSE),\"\")","v":"JE_Override"}]
["3670 Retirement Benefits Adjustment",{"$f":"Worktags!AS68","v":"3670"},{"$f":"IF(Worktags!AQ68<>Worktags!AS68,Worktags!AQ68,\"\")","v":""},{"$f":"IFERROR(VLOOKUP(B629,Worktags!AL:AO,2,FALSE),\"\")","v":"Retirement Benefits Adjustment"},{"$f":"IFERROR(VLOOKUP(C629,Worktags!O:T,2,FALSE),\"\")","v":""},{"$f":"IFERROR(VLOOKUP(IF(C629=\"\",B629&\"||\"&B629,C629&\"||\"&B629),Worktags!AR:AV,5,FALSE),\"\")","v":"JE_Override"}]
["3680 Cumulative Translation Adjustment",{"$f":"Worktags!AL104","v":"3680"},null,{"$f":"IFERROR(VLOOKUP(B630,Worktags!AL:AO,2,FALSE),\"\")","v":"Cumulative Translation Adjustment"},null,{"$f":"IFERROR(VLOOKUP(IF(C630=\"\",B630&\"||\"&B630,C630&\"||\"&B630),Worktags!AR:AV,5,FALSE),\"\")","v":"JE_Override"}]
["3680 Cumulative Translation Adjustment",{"$f":"Worktags!AS69","v":"3680"},{"$f":"IF(Worktags!AQ69<>Worktags!AS69,Worktags!AQ69,\"\")","v":""},{"$f":"IFERROR(VLOOKUP(B631,Worktags!AL:AO,2,FALSE),\"\")","v":"Cumulative Translation Adjustment"},{"$f":"IFERROR(VLOOKUP(C631,Worktags!O:T,2,FALSE),\"\")","v":""},{"$f":"IFERROR(VLOOKUP(IF(C631=\"\",B631&\"||\"&B631,C631&\"||\"&B631),Worktags!AR:AV,5,FALSE),\"\")","v":"JE_Override"}]
["3690 Net Assets (Proj Conv P&L)",{"$f":"Worktags!AL105","v":"3690"},null,{"$f":"IFERROR(VLOOKUP(B632,Worktags!AL:AO,2,FALSE),\"\")","v":"Net Assets (Proj Conv P&L)"},null,{"$f":"IFERROR(VLOOKUP(IF(C632=\"\",B632&\"||\"&B632,C632&\"||\"&B632),Worktags!AR:AV,5,FALSE),\"\")","v":"JE_Override"}]
["3690 Net Assets (Proj Conv P&L)",{"$f":"Worktags!AS70","v":"3690"},{"$f":"IF(Worktags!AQ70<>Worktags!AS70,Worktags!AQ70,\"\")","v":""},{"$f":"IFERROR(VLOOKUP(B633,Worktags!AL:AO,2,FALSE),\"\")","v":"Net Assets (Proj Conv P&L)"},{"$f":"IFERROR(VLOOKUP(C633,Worktags!O:T,2,FALSE),\"\")","v":""},{"$f":"IFERROR(VLOOKUP(IF(C633=\"\",B633&\"||\"&B633,C633&\"||\"&B633),Worktags!AR:AV,5,FALSE),\"\")","v":"JE_Override"}]
["4000 Appropriations",{"$f":"Worktags!AL106","v":"4000"},null,{"$f":"IFERROR(VLOOKUP(B634,Worktags!AL:AO,2,FALSE),\"\")","v":"Appropriations"},null,{"$f":"IFERROR(VLOOKUP(IF(C634=\"\",B634&\"||\"&B634,C634&\"||\"&B634),Worktags!AR:AV,5,FALSE),\"\")","v":""}]
["4000_RC4001 Appropriations/Church Appropriation",{"$f":"Worktags!AS95","v":"4000"},{"$f":"IF(Worktags!AQ95<>Worktags!AS95,Worktags!AQ95,\"\")","v":"RC4001"},{"$f":"IFERROR(VLOOKUP(B635,Worktags!AL:AO,2,FALSE),\"\")","v":"Appropriations"},{"$f":"IFERROR(VLOOKUP(C635,Worktags!O:T,2,FALSE),\"\")","v":"Church Appropriation"},{"$f":"IFERROR(VLOOKUP(IF(C635=\"\",B635&\"||\"&B635,C635&\"||\"&B635),Worktags!AR:AV,5,FALSE),\"\")","v":"All"}]
["4000_RC4002 Appropriations/University Allocation",{"$f":"Worktags!AS97","v":"4000"},{"$f":"IF(Worktags!AQ97<>Worktags!AS97,Worktags!AQ97,\"\")","v":"RC4002"},{"$f":"IFERROR(VLOOKUP(B636,Worktags!AL:AO,2,FALSE),\"\")","v":"Appropriations"},{"$f":"IFERROR(VLOOKUP(C636,Worktags!O:T,2,FALSE),\"\")","v":"University Allocation"},{"$f":"IFERROR(VLOOKUP(IF(C636=\"\",B636&\"||\"&B636,C636&\"||\"&B636),Worktags!AR:AV,5,FALSE),\"\")","v":"All"}]
["4100 Tuition and Fees",{"$f":"Worktags!AL107","v":"4100"},null,{"$f":"IFERROR(VLOOKUP(B637,Worktags!AL:AO,2,FALSE),\"\")","v":"Tuition and Fees"},null,{"$f":"IFERROR(VLOOKUP(IF(C637=\"\",B637&\"||\"&B637,C637&\"||\"&B637),Worktags!AR:AV,5,FALSE),\"\")","v":""}]
["4100_RC4101 Tuition and Fees/Tuition",{"$f":"Worktags!AS99","v":"4100"},{"$f":"IF(Worktags!AQ99<>Worktags!AS99,Worktags!AQ99,\"\")","v":"RC4101"},{"$f":"IFERROR(VLOOKUP(B638,Worktags!AL:AO,2,FALSE),\"\")","v":"Tuition and Fees"},{"$f":"IFERROR(VLOOKUP(C638,Worktags!O:T,2,FALSE),\"\")","v":"Tuition"},{"$f":"IFERROR(VLOOKUP(IF(C638=\"\",B638&\"||\"&B638,C638&\"||\"&B638),Worktags!AR:AV,5,FALSE),\"\")","v":"All"}]
["4100_RC4102 Tuition and Fees/Student Fee Distribution",{"$f":"Worktags!AS101","v":"4100"},{"$f":"IF(Worktags!AQ101<>Worktags!AS101,Worktags!AQ101,\"\")","v":"RC4102"},{"$f":"IFERROR(VLOOKUP(B639,Worktags!AL:AO,2,FALSE),\"\")","v":"Tuition and Fees"},{"$f":"IFERROR(VLOOKUP(C639,Worktags!O:T,2,FALSE),\"\")","v":"Student Fee Distribution"},{"$f":"IFERROR(VLOOKUP(IF(C639=\"\",B639&\"||\"&B639,C639&\"||\"&B639),Worktags!AR:AV,5,FALSE),\"\")","v":"All"}]
["4100_RC4103 Tuition and Fees/Non-Credit Income",{"$f":"Worktags!AS103","v":"4100"},{"$f":"IF(Worktags!AQ103<>Worktags!AS103,Worktags!AQ103,\"\")","v":"RC4103"},{"$f":"IFERROR(VLOOKUP(B640,Worktags!AL:AO,2,FALSE),\"\")","v":"Tuition and Fees"},{"$f":"IFERROR(VLOOKUP(C640,Worktags!O:T,2,FALSE),\"\")","v":"Non-Credit Income"},{"$f":"IFERROR(VLOOKUP(IF(C640=\"\",B640&\"||\"&B640,C640&\"||\"&B640),Worktags!AR:AV,5,FALSE),\"\")","v":"All"}]
[{"$f":"IF(B641<>\"\",IF(C641<>\"\",B641&\"_\"&C641&\" \"&D641&\"/\"&E641,B641&\" \"&D641),\"\")","v":"4100_RC4104 Tuition and Fees/Student Fees"},{"$f":"Worktags!AS105","v":"4100"},{"$f":"IF(Worktags!AQ105<>Worktags!AS105,Worktags!AQ105,\"\")","v":"RC4104"},{"$f":"IFERROR(VLOOKUP(B641,Worktags!AL:AO,2,FALSE),\"\")","v":"Tuition and Fees"},{"$f":"IFERROR(VLOOKUP(C641,Worktags!O:T,2,FALSE),\"\")","v":"Student Fees"},{"$f":"IFERROR(VLOOKUP(IF(C641=\"\",B641&\"||\"&B641,C641&\"||\"&B641),Worktags!AR:AV,5,FALSE),\"\")","v":"All"}]
["4100_RC4110 Tuition and Fees/Grad Service Fee",{"$f":"Worktags!AS107","v":"4100"},{"$f":"IF(Worktags!AQ107<>Worktags!AS107,Worktags!AQ107,\"\")","v":"RC4110"},{"$f":"IFERROR(VLOOKUP(B642,Worktags!AL:AO,2,FALSE),\"\")","v":"Tuition and Fees"},{"$f":"IFERROR(VLOOKUP(C642,Worktags!O:T,2,FALSE),\"\")","v":"Grad Service Fee"},{"$f":"IFERROR(VLOOKUP(IF(C642=\"\",B642&\"||\"&B642,C642&\"||\"&B642),Worktags!AR:AV,5,FALSE),\"\")","v":"All"}]
["4100_RC4111 Tuition and Fees/Admission Fees",{"$f":"Worktags!AS109","v":"4100"},{"$f":"IF(Worktags!AQ109<>Worktags!AS109,Worktags!AQ109,\"\")","v":"RC4111"},{"$f":"IFERROR(VLOOKUP(B643,Worktags!AL:AO,2,FALSE),\"\")","v":"Tuition and Fees"},{"$f":"IFERROR(VLOOKUP(C643,Worktags!O:T,2,FALSE),\"\")","v":"Admission Fees"},{"$f":"IFERROR(VLOOKUP(IF(C643=\"\",B643&\"||\"&B643,C643&\"||\"&B643),Worktags!AR:AV,5,FALSE),\"\")","v":"All"}]
["4100_RC4112 Tuition and Fees/Graduation Fees",{"$f":"Worktags!AS111","v":"4100"},{"$f":"IF(Worktags!AQ111<>Worktags!AS111,Worktags!AQ111,\"\")","v":"RC4112"},{"$f":"IFERROR(VLOOKUP(B644,Worktags!AL:AO,2,FALSE),\"\")","v":"Tuition and Fees"},{"$f":"IFERROR(VLOOKUP(C644,Worktags!O:T,2,FALSE),\"\")","v":"Graduation Fees"},{"$f":"IFERROR(VLOOKUP(IF(C644=\"\",B644&\"||\"&B644,C644&\"||\"&B644),Worktags!AR:AV,5,FALSE),\"\")","v":"All"}]
["4100_RC4113 Tuition and Fees/Transcript Fees",{"$f":"Worktags!AS113","v":"4100"},{"$f":"IF(Worktags!AQ113<>Worktags!AS113,Worktags!AQ113,\"\")","v":"RC4113"},{"$f":"IFERROR(VLOOKUP(B645,Worktags!AL:AO,2,FALSE),\"\")","v":"Tuition and Fees"},{"$f":"IFERROR(VLOOKUP(C645,Worktags!O:T,2,FALSE),\"\")","v":"Transcript Fees"},{"$f":"IFERROR(VLOOKUP(IF(C645=\"\",B645&\"||\"&B645,C645&\"||\"&B645),Worktags!AR:AV,5,FALSE),\"\")","v":"All"}]
["4100_RC4114 Tuition and Fees/Special Exam Fees",{"$f":"Worktags!AS115","v":"4100"},{"$f":"IF(Worktags!AQ115<>Worktags!AS115,Worktags!AQ115,\"\")","v":"RC4114"},{"$f":"IFERROR(VLOOKUP(B646,Worktags!AL:AO,2,FALSE),\"\")","v":"Tuition and Fees"},{"$f":"IFERROR(VLOOKUP(C646,Worktags!O:T,2,FALSE),\"\")","v":"Special Exam Fees"},{"$f":"IFERROR(VLOOKUP(IF(C646=\"\",B646&\"||\"&B646,C646&\"||\"&B646),Worktags!AR:AV,5,FALSE),\"\")","v":"All"}]
["4100_RC4115 Tuition and Fees/ACT Test Fees",{"$f":"Worktags!AS117","v":"4100"},{"$f":"IF(Worktags!AQ117<>Worktags!AS117,Worktags!AQ117,\"\")","v":"RC4115"},{"$f":"IFERROR(VLOOKUP(B647,Worktags!AL:AO,2,FALSE),\"\")","v":"Tuition and Fees"},{"$f":"IFERROR(VLOOKUP(C647,Worktags!O:T,2,FALSE),\"\")","v":"ACT Test Fees"},{"$f":"IFERROR(VLOOKUP(IF(C647=\"\",B647&\"||\"&B647,C647&\"||\"&B647),Worktags!AR:AV,5,FALSE),\"\")","v":"All"}]
["4100_RC4116 Tuition and Fees/Library Fines",{"$f":"Worktags!AS118","v":"4100"},{"$f":"IF(Worktags!AQ118<>Worktags!AS118,Worktags!AQ118,\"\")","v":"RC4116"},{"$f":"IFERROR(VLOOKUP(B648,Worktags!AL:AO,2,FALSE),\"\")","v":"Tuition and Fees"},{"$f":"IFERROR(VLOOKUP(C648,Worktags!O:T,2,FALSE),\"\")","v":"Library Fines"},{"$f":"IFERROR(VLOOKUP(IF(C648=\"\",B648&\"||\"&B648,C648&\"||\"&B648),Worktags!AR:AV,5,FALSE),\"\")","v":"All"}]
["4100_RC4117 Tuition and Fees/Locker Rentals",{"$f":"Worktags!AS120","v":"4100"},{"$f":"IF(Worktags!AQ120<>Worktags!AS120,Worktags!AQ120,\"\")","v":"RC4117"},{"$f":"IFERROR(VLOOKUP(B649,Worktags!AL:AO,2,FALSE),\"\")","v":"Tuition and Fees"},{"$f":"IFERROR(VLOOKUP(C649,Worktags!O:T,2,FALSE),\"\")","v":"Locker Rentals"},{"$f":"IFERROR(VLOOKUP(IF(C649=\"\",B649&\"||\"&B649,C649&\"||\"&B649),Worktags!AR:AV,5,FALSE),\"\")","v":"All"}]
["4100_RC4199 Tuition and Fees/Tuition and Fees (reclass)",{"$f":"Worktags!AS122","v":"4100"},{"$f":"IF(Worktags!AQ122<>Worktags!AS122,Worktags!AQ122,\"\")","v":"RC4199"},{"$f":"IFERROR(VLOOKUP(B650,Worktags!AL:AO,2,FALSE),\"\")","v":"Tuition and Fees"},{"$f":"IFERROR(VLOOKUP(C650,Worktags!O:T,2,FALSE),\"\")","v":"Tuition and Fees (reclass)"},{"$f":"IFERROR(VLOOKUP(IF(C650=\"\",B650&\"||\"&B650,C650&\"||\"&B650),Worktags!AR:AV,5,FALSE),\"\")","v":"All"}]
["4100_SC4100 Tuition and Fees/Tuition and Fees Refunds",{"$f":"Worktags!AS243","v":"4100"},{"$f":"IF(Worktags!AQ243<>Worktags!AS243,Worktags!AQ243,\"\")","v":"SC4100"},{"$f":"IFERROR(VLOOKUP(B651,Worktags!AL:AO,2,FALSE),\"\")","v":"Tuition and Fees"},{"$f":"IFERROR(VLOOKUP(C651,Worktags!O:T,2,FALSE),\"\")","v":"Tuition and Fees Refunds"},{"$f":"IFERROR(VLOOKUP(IF(C651=\"\",B651&\"||\"&B651,C651&\"||\"&B651),Worktags!AR:AV,5,FALSE),\"\")","v":"All"}]
["4198 Tuition and Fees (Contra)",{"$f":"Worktags!AL108","v":"4198"},null,{"$f":"IFERROR(VLOOKUP(B652,Worktags!AL:AO,2,FALSE),\"\")","v":"Tuition and Fees (Contra)"},null,{"$f":"IFERROR(VLOOKUP(IF(C652=\"\",B652&\"||\"&B652,C652&\"||\"&B652),Worktags!AR:AV,5,FALSE),\"\")","v":""}]
["4200 Gifts and Grants",{"$f":"Worktags!AL109","v":"4200"},null,{"$f":"IFERROR(VLOOKUP(B653,Worktags!AL:AO,2,FALSE),\"\")","v":"Gifts and Grants"},null,{"$f":"IFERROR(VLOOKUP(IF(C653=\"\",B653&\"||\"&B653,C653&\"||\"&B653),Worktags!AR:AV,5,FALSE),\"\")","v":""}]
["4200_RC4201 Gifts and Grants/Gift Revenue-Cash",{"$f":"Worktags!AS123","v":"4200"},{"$f":"IF(Worktags!AQ123<>Worktags!AS123,Worktags!AQ123,\"\")","v":"RC4201"},{"$f":"IFERROR(VLOOKUP(B654,Worktags!AL:AO,2,FALSE),\"\")","v":"Gifts and Grants"},{"$f":"IFERROR(VLOOKUP(C654,Worktags!O:T,2,FALSE),\"\")","v":"Gift Revenue-Cash"},{"$f":"IFERROR(VLOOKUP(IF(C654=\"\",B654&\"||\"&B654,C654&\"||\"&B654),Worktags!AR:AV,5,FALSE),\"\")","v":"JE_Gift|JE_Override"}]
["4200_RC4202 Gifts and Grants/Gift Revenue-Securities",{"$f":"Worktags!AS124","v":"4200"},{"$f":"IF(Worktags!AQ124<>Worktags!AS124,Worktags!AQ124,\"\")","v":"RC4202"},{"$f":"IFERROR(VLOOKUP(B655,Worktags!AL:AO,2,FALSE),\"\")","v":"Gifts and Grants"},{"$f":"IFERROR(VLOOKUP(C655,Worktags!O:T,2,FALSE),\"\")","v":"Gift Revenue-Securities"},{"$f":"IFERROR(VLOOKUP(IF(C655=\"\",B655&\"||\"&B655,C655&\"||\"&B655),Worktags!AR:AV,5,FALSE),\"\")","v":"JE_Gift|JE_Override"}]
["4200_RC4203 Gifts and Grants/Gift Revenue - Tangible Property",{"$f":"Worktags!AS125","v":"4200"},{"$f":"IF(Worktags!AQ125<>Worktags!AS125,Worktags!AQ125,\"\")","v":"RC4203"},{"$f":"IFERROR(VLOOKUP(B656,Worktags!AL:AO,2,FALSE),\"\")","v":"Gifts and Grants"},{"$f":"IFERROR(VLOOKUP(C656,Worktags!O:T,2,FALSE),\"\")","v":"Gift Revenue - Tangible Property"},{"$f":"IFERROR(VLOOKUP(IF(C656=\"\",B656&\"||\"&B656,C656&\"||\"&B656),Worktags!AR:AV,5,FALSE),\"\")","v":"JE_Gift|JE_Override"}]
["4200_RC4204 Gifts and Grants/Sponsored Program Revenue",{"$f":"Worktags!AS126","v":"4200"},{"$f":"IF(Worktags!AQ126<>Worktags!AS126,Worktags!AQ126,\"\")","v":"RC4204"},{"$f":"IFERROR(VLOOKUP(B657,Worktags!AL:AO,2,FALSE),\"\")","v":"Gifts and Grants"},{"$f":"IFERROR(VLOOKUP(C657,Worktags!O:T,2,FALSE),\"\")","v":"Sponsored Program Revenue"},{"$f":"IFERROR(VLOOKUP(IF(C657=\"\",B657&\"||\"&B657,C657&\"||\"&B657),Worktags!AR:AV,5,FALSE),\"\")","v":"All"}]
["4200_RC4299 Gifts and Grants/Gift Revenue (reclass)",{"$f":"Worktags!AS127","v":"4200"},{"$f":"IF(Worktags!AQ127<>Worktags!AS127,Worktags!AQ127,\"\")","v":"RC4299"},{"$f":"IFERROR(VLOOKUP(B658,Worktags!AL:AO,2,FALSE),\"\")","v":"Gifts and Grants"},{"$f":"IFERROR(VLOOKUP(C658,Worktags!O:T,2,FALSE),\"\")","v":"Gift Revenue (reclass)"},{"$f":"IFERROR(VLOOKUP(IF(C658=\"\",B658&\"||\"&B658,C658&\"||\"&B658),Worktags!AR:AV,5,FALSE),\"\")","v":"All"}]
["4300 Investment Income",{"$f":"Worktags!AL110","v":"4300"},null,{"$f":"IFERROR(VLOOKUP(B659,Worktags!AL:AO,2,FALSE),\"\")","v":"Investment Income"},null,{"$f":"IFERROR(VLOOKUP(IF(C659=\"\",B659&\"||\"&B659,C659&\"||\"&B659),Worktags!AR:AV,5,FALSE),\"\")","v":""}]
["4300_RC4301 Investment Income/Investment Dividend Income",{"$f":"Worktags!AS128","v":"4300"},{"$f":"IF(Worktags!AQ128<>Worktags!AS128,Worktags!AQ128,\"\")","v":"RC4301"},{"$f":"IFERROR(VLOOKUP(B660,Worktags!AL:AO,2,FALSE),\"\")","v":"Investment Income"},{"$f":"IFERROR(VLOOKUP(C660,Worktags!O:T,2,FALSE),\"\")","v":"Investment Dividend Income"},{"$f":"IFERROR(VLOOKUP(IF(C660=\"\",B660&\"||\"&B660,C660&\"||\"&B660),Worktags!AR:AV,5,FALSE),\"\")","v":"All"}]
["4300_RC4302 Investment Income/Investment Interest Income",{"$f":"Worktags!AS129","v":"4300"},{"$f":"IF(Worktags!AQ129<>Worktags!AS129,Worktags!AQ129,\"\")","v":"RC4302"},{"$f":"IFERROR(VLOOKUP(B661,Worktags!AL:AO,2,FALSE),\"\")","v":"Investment Income"},{"$f":"IFERROR(VLOOKUP(C661,Worktags!O:T,2,FALSE),\"\")","v":"Investment Interest Income"},{"$f":"IFERROR(VLOOKUP(IF(C661=\"\",B661&\"||\"&B661,C661&\"||\"&B661),Worktags!AR:AV,5,FALSE),\"\")","v":"All"}]
["4310 Investment Gains and Losses",{"$f":"Worktags!AL111","v":"4310"},null,{"$f":"IFERROR(VLOOKUP(B662,Worktags!AL:AO,2,FALSE),\"\")","v":"Investment Gains and Losses"},null,{"$f":"IFERROR(VLOOKUP(IF(C662=\"\",B662&\"||\"&B662,C662&\"||\"&B662),Worktags!AR:AV,5,FALSE),\"\")","v":""}]
["4310_RC4311 Investment Gains and Losses/Investment Gains/Losses",{"$f":"Worktags!AS130","v":"4310"},{"$f":"IF(Worktags!AQ130<>Worktags!AS130,Worktags!AQ130,\"\")","v":"RC4311"},{"$f":"IFERROR(VLOOKUP(B663,Worktags!AL:AO,2,FALSE),\"\")","v":"Investment Gains and Losses"},{"$f":"IFERROR(VLOOKUP(C663,Worktags!O:T,2,FALSE),\"\")","v":"Investment Gains/Losses"},{"$f":"IFERROR(VLOOKUP(IF(C663=\"\",B663&\"||\"&B663,C663&\"||\"&B663),Worktags!AR:AV,5,FALSE),\"\")","v":"All"}]
["4310_RC4312 Investment Gains and Losses/Investment Income Assets Held for Liquidation",{"$f":"Worktags!AS131","v":"4310"},{"$f":"IF(Worktags!AQ131<>Worktags!AS131,Worktags!AQ131,\"\")","v":"RC4312"},{"$f":"IFERROR(VLOOKUP(B664,Worktags!AL:AO,2,FALSE),\"\")","v":"Investment Gains and Losses"},{"$f":"IFERROR(VLOOKUP(C664,Worktags!O:T,2,FALSE),\"\")","v":"Investment Income Assets Held for Liquidation"},{"$f":"IFERROR(VLOOKUP(IF(C664=\"\",B664&\"||\"&B664,C664&\"||\"&B664),Worktags!AR:AV,5,FALSE),\"\")","v":"All"}]
["4310_RC4313 Investment Gains and Losses/Unrealized Investment Gains/Losses",{"$f":"Worktags!AS132","v":"4310"},{"$f":"IF(Worktags!AQ132<>Worktags!AS132,Worktags!AQ132,\"\")","v":"RC4313"},{"$f":"IFERROR(VLOOKUP(B665,Worktags!AL:AO,2,FALSE),\"\")","v":"Investment Gains and Losses"},{"$f":"IFERROR(VLOOKUP(C665,Worktags!O:T,2,FALSE),\"\")","v":"Unrealized Investment Gains/Losses"},{"$f":"IFERROR(VLOOKUP(IF(C665=\"\",B665&\"||\"&B665,C665&\"||\"&B665),Worktags!AR:AV,5,FALSE),\"\")","v":"All"}]
["4400 Sale of Services",{"$f":"Worktags!AL112","v":"4400"},null,{"$f":"IFERROR(VLOOKUP(B666,Worktags!AL:AO,2,FALSE),\"\")","v":"Sale of Services"},null,{"$f":"IFERROR(VLOOKUP(IF(C666=\"\",B666&\"||\"&B666,C666&\"||\"&B666),Worktags!AR:AV,5,FALSE),\"\")","v":""}]
["4400_RC4401 Sale of Services/Sale of Services",{"$f":"Worktags!AS134","v":"4400"},{"$f":"IF(Worktags!AQ134<>Worktags!AS134,Worktags!AQ134,\"\")","v":"RC4401"},{"$f":"IFERROR(VLOOKUP(B667,Worktags!AL:AO,2,FALSE),\"\")","v":"Sale of Services"},{"$f":"IFERROR(VLOOKUP(C667,Worktags!O:T,2,FALSE),\"\")","v":"Sale of Services"},{"$f":"IFERROR(VLOOKUP(IF(C667=\"\",B667&\"||\"&B667,C667&\"||\"&B667),Worktags!AR:AV,5,FALSE),\"\")","v":"All"}]
["4400_RC4402 Sale of Services/Sale of Services-Campus Appropriation",{"$f":"Worktags!AS135","v":"4400"},{"$f":"IF(Worktags!AQ135<>Worktags!AS135,Worktags!AQ135,\"\")","v":"RC4402"},{"$f":"IFERROR(VLOOKUP(B668,Worktags!AL:AO,2,FALSE),\"\")","v":"Sale of Services"},{"$f":"IFERROR(VLOOKUP(C668,Worktags!O:T,2,FALSE),\"\")","v":"Sale of Services-Campus Appropriation"},{"$f":"IFERROR(VLOOKUP(IF(C668=\"\",B668&\"||\"&B668,C668&\"||\"&B668),Worktags!AR:AV,5,FALSE),\"\")","v":"All"}]
["4400_RC4403 Sale of Services/Sale of Services-Campus Other",{"$f":"Worktags!AS136","v":"4400"},{"$f":"IF(Worktags!AQ136<>Worktags!AS136,Worktags!AQ136,\"\")","v":"RC4403"},{"$f":"IFERROR(VLOOKUP(B669,Worktags!AL:AO,2,FALSE),\"\")","v":"Sale of Services"},{"$f":"IFERROR(VLOOKUP(C669,Worktags!O:T,2,FALSE),\"\")","v":"Sale of Services-Campus Other"},{"$f":"IFERROR(VLOOKUP(IF(C669=\"\",B669&\"||\"&B669,C669&\"||\"&B669),Worktags!AR:AV,5,FALSE),\"\")","v":"All"}]
["4400_RC4404 Sale of Services/Sale of Services-Taxable",{"$f":"Worktags!AS138","v":"4400"},{"$f":"IF(Worktags!AQ138<>Worktags!AS138,Worktags!AQ138,\"\")","v":"RC4404"},{"$f":"IFERROR(VLOOKUP(B670,Worktags!AL:AO,2,FALSE),\"\")","v":"Sale of Services"},{"$f":"IFERROR(VLOOKUP(C670,Worktags!O:T,2,FALSE),\"\")","v":"Sale of Services-Taxable"},{"$f":"IFERROR(VLOOKUP(IF(C670=\"\",B670&\"||\"&B670,C670&\"||\"&B670),Worktags!AR:AV,5,FALSE),\"\")","v":"All"}]
["4400_RC4405 Sale of Services/Sale of Services-Refunds",{"$f":"Worktags!AS140","v":"4400"},{"$f":"IF(Worktags!AQ140<>Worktags!AS140,Worktags!AQ140,\"\")","v":"RC4405"},{"$f":"IFERROR(VLOOKUP(B671,Worktags!AL:AO,2,FALSE),\"\")","v":"Sale of Services"},{"$f":"IFERROR(VLOOKUP(C671,Worktags!O:T,2,FALSE),\"\")","v":"Sale of Services-Refunds"},{"$f":"IFERROR(VLOOKUP(IF(C671=\"\",B671&\"||\"&B671,C671&\"||\"&B671),Worktags!AR:AV,5,FALSE),\"\")","v":"All"}]
["4400_RC4406 Sale of Services/Sponsorship Revenue",{"$f":"Worktags!AS142","v":"4400"},{"$f":"IF(Worktags!AQ142<>Worktags!AS142,Worktags!AQ142,\"\")","v":"RC4406"},{"$f":"IFERROR(VLOOKUP(B672,Worktags!AL:AO,2,FALSE),\"\")","v":"Sale of Services"},{"$f":"IFERROR(VLOOKUP(C672,Worktags!O:T,2,FALSE),\"\")","v":"Sponsorship Revenue"},{"$f":"IFERROR(VLOOKUP(IF(C672=\"\",B672&\"||\"&B672,C672&\"||\"&B672),Worktags!AR:AV,5,FALSE),\"\")","v":"All"}]
["4400_RC4499 Sale of Services/Sale of Services (reclass)",{"$f":"Worktags!AS144","v":"4400"},{"$f":"IF(Worktags!AQ144<>Worktags!AS144,Worktags!AQ144,\"\")","v":"RC4499"},{"$f":"IFERROR(VLOOKUP(B673,Worktags!AL:AO,2,FALSE),\"\")","v":"Sale of Services"},{"$f":"IFERROR(VLOOKUP(C673,Worktags!O:T,2,FALSE),\"\")","v":"Sale of Services (reclass)"},{"$f":"IFERROR(VLOOKUP(IF(C673=\"\",B673&\"||\"&B673,C673&\"||\"&B673),Worktags!AR:AV,5,FALSE),\"\")","v":"All"}]
["4500 Sale of Goods",{"$f":"Worktags!AL113","v":"4500"},null,{"$f":"IFERROR(VLOOKUP(B674,Worktags!AL:AO,2,FALSE),\"\")","v":"Sale of Goods"},null,{"$f":"IFERROR(VLOOKUP(IF(C674=\"\",B674&\"||\"&B674,C674&\"||\"&B674),Worktags!AR:AV,5,FALSE),\"\")","v":""}]
["4500_RC4501 Sale of Goods/Sale of Goods",{"$f":"Worktags!AS146","v":"4500"},{"$f":"IF(Worktags!AQ146<>Worktags!AS146,Worktags!AQ146,\"\")","v":"RC4501"},{"$f":"IFERROR(VLOOKUP(B675,Worktags!AL:AO,2,FALSE),\"\")","v":"Sale of Goods"},{"$f":"IFERROR(VLOOKUP(C675,Worktags!O:T,2,FALSE),\"\")","v":"Sale of Goods"},{"$f":"IFERROR(VLOOKUP(IF(C675=\"\",B675&\"||\"&B675,C675&\"||\"&B675),Worktags!AR:AV,5,FALSE),\"\")","v":"All"}]
["4500_RC4502 Sale of Goods/Sale of Goods-Taxable",{"$f":"Worktags!AS148","v":"4500"},{"$f":"IF(Worktags!AQ148<>Worktags!AS148,Worktags!AQ148,\"\")","v":"RC4502"},{"$f":"IFERROR(VLOOKUP(B676,Worktags!AL:AO,2,FALSE),\"\")","v":"Sale of Goods"},{"$f":"IFERROR(VLOOKUP(C676,Worktags!O:T,2,FALSE),\"\")","v":"Sale of Goods-Taxable"},{"$f":"IFERROR(VLOOKUP(IF(C676=\"\",B676&\"||\"&B676,C676&\"||\"&B676),Worktags!AR:AV,5,FALSE),\"\")","v":"All"}]
["4500_RC4503 Sale of Goods/Sale of Goods-Discount/Returns",{"$f":"Worktags!AS150","v":"4500"},{"$f":"IF(Worktags!AQ150<>Worktags!AS150,Worktags!AQ150,\"\")","v":"RC4503"},{"$f":"IFERROR(VLOOKUP(B677,Worktags!AL:AO,2,FALSE),\"\")","v":"Sale of Goods"},{"$f":"IFERROR(VLOOKUP(C677,Worktags!O:T,2,FALSE),\"\")","v":"Sale of Goods-Discount/Returns"},{"$f":"IFERROR(VLOOKUP(IF(C677=\"\",B677&\"||\"&B677,C677&\"||\"&B677),Worktags!AR:AV,5,FALSE),\"\")","v":"All"}]
["4500_RC4504 Sale of Goods/Sales - Online and Out of State",{"$f":"Worktags!AS152","v":"4500"},{"$f":"IF(Worktags!AQ152<>Worktags!AS152,Worktags!AQ152,\"\")","v":"RC4504"},{"$f":"IFERROR(VLOOKUP(B678,Worktags!AL:AO,2,FALSE),\"\")","v":"Sale of Goods"},{"$f":"IFERROR(VLOOKUP(C678,Worktags!O:T,2,FALSE),\"\")","v":"Sales - Online and Out of State"},{"$f":"IFERROR(VLOOKUP(IF(C678=\"\",B678&\"||\"&B678,C678&\"||\"&B678),Worktags!AR:AV,5,FALSE),\"\")","v":"All"}]
["4500_RC4505 Sale of Goods/Ticket Sales",{"$f":"Worktags!AS154","v":"4500"},{"$f":"IF(Worktags!AQ154<>Worktags!AS154,Worktags!AQ154,\"\")","v":"RC4505"},{"$f":"IFERROR(VLOOKUP(B679,Worktags!AL:AO,2,FALSE),\"\")","v":"Sale of Goods"},{"$f":"IFERROR(VLOOKUP(C679,Worktags!O:T,2,FALSE),\"\")","v":"Ticket Sales"},{"$f":"IFERROR(VLOOKUP(IF(C679=\"\",B679&\"||\"&B679,C679&\"||\"&B679),Worktags!AR:AV,5,FALSE),\"\")","v":"All"}]
["4500_RC4506 Sale of Goods/Ticket Sales-Taxable",{"$f":"Worktags!AS156","v":"4500"},{"$f":"IF(Worktags!AQ156<>Worktags!AS156,Worktags!AQ156,\"\")","v":"RC4506"},{"$f":"IFERROR(VLOOKUP(B680,Worktags!AL:AO,2,FALSE),\"\")","v":"Sale of Goods"},{"$f":"IFERROR(VLOOKUP(C680,Worktags!O:T,2,FALSE),\"\")","v":"Ticket Sales-Taxable"},{"$f":"IFERROR(VLOOKUP(IF(C680=\"\",B680&\"||\"&B680,C680&\"||\"&B680),Worktags!AR:AV,5,FALSE),\"\")","v":"All"}]
["4500_RC4507 Sale of Goods/Ticket Sales-Refunds",{"$f":"Worktags!AS158","v":"4500"},{"$f":"IF(Worktags!AQ158<>Worktags!AS158,Worktags!AQ158,\"\")","v":"RC4507"},{"$f":"IFERROR(VLOOKUP(B681,Worktags!AL:AO,2,FALSE),\"\")","v":"Sale of Goods"},{"$f":"IFERROR(VLOOKUP(C681,Worktags!O:T,2,FALSE),\"\")","v":"Ticket Sales-Refunds"},{"$f":"IFERROR(VLOOKUP(IF(C681=\"\",B681&\"||\"&B681,C681&\"||\"&B681),Worktags!AR:AV,5,FALSE),\"\")","v":"All"}]
["4500_RC4599 Sale of Goods/Sale of Goods (reclass)",{"$f":"Worktags!AS160","v":"4500"},{"$f":"IF(Worktags!AQ160<>Worktags!AS160,Worktags!AQ160,\"\")","v":"RC4599"},{"$f":"IFERROR(VLOOKUP(B682,Worktags!AL:AO,2,FALSE),\"\")","v":"Sale of Goods"},{"$f":"IFERROR(VLOOKUP(C682,Worktags!O:T,2,FALSE),\"\")","v":"Sale of Goods (reclass)"},{"$f":"IFERROR(VLOOKUP(IF(C682=\"\",B682&\"||\"&B682,C682&\"||\"&B682),Worktags!AR:AV,5,FALSE),\"\")","v":"All"}]
["4700 Other Income",{"$f":"Worktags!AL114","v":"4700"},null,{"$f":"IFERROR(VLOOKUP(B683,Worktags!AL:AO,2,FALSE),\"\")","v":"Other Income"},null,{"$f":"IFERROR(VLOOKUP(IF(C683=\"\",B683&\"||\"&B683,C683&\"||\"&B683),Worktags!AR:AV,5,FALSE),\"\")","v":""}]
["4700_RC4701 Other Income/Non-Investment-Dividend Income",{"$f":"Worktags!AS161","v":"4700"},{"$f":"IF(Worktags!AQ161<>Worktags!AS161,Worktags!AQ161,\"\")","v":"RC4701"},{"$f":"IFERROR(VLOOKUP(B684,Worktags!AL:AO,2,FALSE),\"\")","v":"Other Income"},{"$f":"IFERROR(VLOOKUP(C684,Worktags!O:T,2,FALSE),\"\")","v":"Non-Investment-Dividend Income"},{"$f":"IFERROR(VLOOKUP(IF(C684=\"\",B684&\"||\"&B684,C684&\"||\"&B684),Worktags!AR:AV,5,FALSE),\"\")","v":"All"}]
["4700_RC4702 Other Income/Non-Investment-Interest Income",{"$f":"Worktags!AS162","v":"4700"},{"$f":"IF(Worktags!AQ162<>Worktags!AS162,Worktags!AQ162,\"\")","v":"RC4702"},{"$f":"IFERROR(VLOOKUP(B685,Worktags!AL:AO,2,FALSE),\"\")","v":"Other Income"},{"$f":"IFERROR(VLOOKUP(C685,Worktags!O:T,2,FALSE),\"\")","v":"Non-Investment-Interest Income"},{"$f":"IFERROR(VLOOKUP(IF(C685=\"\",B685&\"||\"&B685,C685&\"||\"&B685),Worktags!AR:AV,5,FALSE),\"\")","v":"All"}]
["4700_RC4703 Other Income/Non-Investment-Gains/Losses",{"$f":"Worktags!AS163","v":"4700"},{"$f":"IF(Worktags!AQ163<>Worktags!AS163,Worktags!AQ163,\"\")","v":"RC4703"},{"$f":"IFERROR(VLOOKUP(B686,Worktags!AL:AO,2,FALSE),\"\")","v":"Other Income"},{"$f":"IFERROR(VLOOKUP(C686,Worktags!O:T,2,FALSE),\"\")","v":"Non-Investment-Gains/Losses"},{"$f":"IFERROR(VLOOKUP(IF(C686=\"\",B686&\"||\"&B686,C686&\"||\"&B686),Worktags!AR:AV,5,FALSE),\"\")","v":"All"}]
["4700_RC4704 Other Income/Rental Income",{"$f":"Worktags!AS165","v":"4700"},{"$f":"IF(Worktags!AQ165<>Worktags!AS165,Worktags!AQ165,\"\")","v":"RC4704"},{"$f":"IFERROR(VLOOKUP(B687,Worktags!AL:AO,2,FALSE),\"\")","v":"Other Income"},{"$f":"IFERROR(VLOOKUP(C687,Worktags!O:T,2,FALSE),\"\")","v":"Rental Income"},{"$f":"IFERROR(VLOOKUP(IF(C687=\"\",B687&\"||\"&B687,C687&\"||\"&B687),Worktags!AR:AV,5,FALSE),\"\")","v":"All"}]
["4700_RC4705 Other Income/Agency Deposits",{"$f":"Worktags!AS166","v":"4700"},{"$f":"IF(Worktags!AQ166<>Worktags!AS166,Worktags!AQ166,\"\")","v":"RC4705"},{"$f":"IFERROR(VLOOKUP(B688,Worktags!AL:AO,2,FALSE),\"\")","v":"Other Income"},{"$f":"IFERROR(VLOOKUP(C688,Worktags!O:T,2,FALSE),\"\")","v":"Agency Deposits"},{"$f":"IFERROR(VLOOKUP(IF(C688=\"\",B688&\"||\"&B688,C688&\"||\"&B688),Worktags!AR:AV,5,FALSE),\"\")","v":"All"}]
["4700_RC4706 Other Income/Club Association Dues and Fees",{"$f":"Worktags!AS167","v":"4700"},{"$f":"IF(Worktags!AQ167<>Worktags!AS167,Worktags!AQ167,\"\")","v":"RC4706"},{"$f":"IFERROR(VLOOKUP(B689,Worktags!AL:AO,2,FALSE),\"\")","v":"Other Income"},{"$f":"IFERROR(VLOOKUP(C689,Worktags!O:T,2,FALSE),\"\")","v":"Club Association Dues and Fees"},{"$f":"IFERROR(VLOOKUP(IF(C689=\"\",B689&\"||\"&B689,C689&\"||\"&B689),Worktags!AR:AV,5,FALSE),\"\")","v":"All"}]
["4700_RC4707 Other Income/Royalty Income",{"$f":"Worktags!AS168","v":"4700"},{"$f":"IF(Worktags!AQ168<>Worktags!AS168,Worktags!AQ168,\"\")","v":"RC4707"},{"$f":"IFERROR(VLOOKUP(B690,Worktags!AL:AO,2,FALSE),\"\")","v":"Other Income"},{"$f":"IFERROR(VLOOKUP(C690,Worktags!O:T,2,FALSE),\"\")","v":"Royalty Income"},{"$f":"IFERROR(VLOOKUP(IF(C690=\"\",B690&\"||\"&B690,C690&\"||\"&B690),Worktags!AR:AV,5,FALSE),\"\")","v":"All"}]
["4700_RC4708 Other Income/Distributed Royalty Income",{"$f":"Worktags!AS169","v":"4700"},{"$f":"IF(Worktags!AQ169<>Worktags!AS169,Worktags!AQ169,\"\")","v":"RC4708"},{"$f":"IFERROR(VLOOKUP(B691,Worktags!AL:AO,2,FALSE),\"\")","v":"Other Income"},{"$f":"IFERROR(VLOOKUP(C691,Worktags!O:T,2,FALSE),\"\")","v":"Distributed Royalty Income"},{"$f":"IFERROR(VLOOKUP(IF(C691=\"\",B691&\"||\"&B691,C691&\"||\"&B691),Worktags!AR:AV,5,FALSE),\"\")","v":"All"}]
["4700_RC4709 Other Income/Over/Short",{"$f":"Worktags!AS170","v":"4700"},{"$f":"IF(Worktags!AQ170<>Worktags!AS170,Worktags!AQ170,\"\")","v":"RC4709"},{"$f":"IFERROR(VLOOKUP(B692,Worktags!AL:AO,2,FALSE),\"\")","v":"Other Income"},{"$f":"IFERROR(VLOOKUP(C692,Worktags!O:T,2,FALSE),\"\")","v":"Over/Short"},{"$f":"IFERROR(VLOOKUP(IF(C692=\"\",B692&\"||\"&B692,C692&\"||\"&B692),Worktags!AR:AV,5,FALSE),\"\")","v":"All"}]
["4700_RC4710 Other Income/Other Income",{"$f":"Worktags!AS171","v":"4700"},{"$f":"IF(Worktags!AQ171<>Worktags!AS171,Worktags!AQ171,\"\")","v":"RC4710"},{"$f":"IFERROR(VLOOKUP(B693,Worktags!AL:AO,2,FALSE),\"\")","v":"Other Income"},{"$f":"IFERROR(VLOOKUP(C693,Worktags!O:T,2,FALSE),\"\")","v":"Other Income"},{"$f":"IFERROR(VLOOKUP(IF(C693=\"\",B693&\"||\"&B693,C693&\"||\"&B693),Worktags!AR:AV,5,FALSE),\"\")","v":"All"}]
["4700_RC4711 Other Income/Restricted Transfers (UFSonly)",{"$f":"Worktags!AS172","v":"4700"},{"$f":"IF(Worktags!AQ172<>Worktags!AS172,Worktags!AQ172,\"\")","v":"RC4711"},{"$f":"IFERROR(VLOOKUP(B694,Worktags!AL:AO,2,FALSE),\"\")","v":"Other Income"},{"$f":"IFERROR(VLOOKUP(C694,Worktags!O:T,2,FALSE),\"\")","v":"Restricted Transfers (UFSonly)"},{"$f":"IFERROR(VLOOKUP(IF(C694=\"\",B694&\"||\"&B694,C694&\"||\"&B694),Worktags!AR:AV,5,FALSE),\"\")","v":"JE_Gift|JE_Override"}]
["4700_RC4712 Other Income/Interest Alloc-Claim on Cash",{"$f":"Worktags!AS173","v":"4700"},{"$f":"IF(Worktags!AQ173<>Worktags!AS173,Worktags!AQ173,\"\")","v":"RC4712"},{"$f":"IFERROR(VLOOKUP(B695,Worktags!AL:AO,2,FALSE),\"\")","v":"Other Income"},{"$f":"IFERROR(VLOOKUP(C695,Worktags!O:T,2,FALSE),\"\")","v":"Interest Alloc-Claim on Cash"},{"$f":"IFERROR(VLOOKUP(IF(C695=\"\",B695&\"||\"&B695,C695&\"||\"&B695),Worktags!AR:AV,5,FALSE),\"\")","v":"JE_Override"}]
["4700_RC4713 Other Income/Gain/Loss Sale of Asset",{"$f":"Worktags!AS174","v":"4700"},{"$f":"IF(Worktags!AQ174<>Worktags!AS174,Worktags!AQ174,\"\")","v":"RC4713"},{"$f":"IFERROR(VLOOKUP(B696,Worktags!AL:AO,2,FALSE),\"\")","v":"Other Income"},{"$f":"IFERROR(VLOOKUP(C696,Worktags!O:T,2,FALSE),\"\")","v":"Gain/Loss Sale of Asset"},{"$f":"IFERROR(VLOOKUP(IF(C696=\"\",B696&\"||\"&B696,C696&\"||\"&B696),Worktags!AR:AV,5,FALSE),\"\")","v":"JE_PPE|JE_Override"}]
["4700_RC4714 Other Income/Legal Fees Reimbursement",{"$f":"Worktags!AS175","v":"4700"},{"$f":"IF(Worktags!AQ175<>Worktags!AS175,Worktags!AQ175,\"\")","v":"RC4714"},{"$f":"IFERROR(VLOOKUP(B697,Worktags!AL:AO,2,FALSE),\"\")","v":"Other Income"},{"$f":"IFERROR(VLOOKUP(C697,Worktags!O:T,2,FALSE),\"\")","v":"Legal Fees Reimbursement"},{"$f":"IFERROR(VLOOKUP(IF(C697=\"\",B697&\"||\"&B697,C697&\"||\"&B697),Worktags!AR:AV,5,FALSE),\"\")","v":0}]
["4700_RC4715 Other Income/Realized Currency Gain/Loss",{"$f":"Worktags!AS176","v":"4700"},{"$f":"IF(Worktags!AQ176<>Worktags!AS176,Worktags!AQ176,\"\")","v":"RC4715"},{"$f":"IFERROR(VLOOKUP(B698,Worktags!AL:AO,2,FALSE),\"\")","v":"Other Income"},{"$f":"IFERROR(VLOOKUP(C698,Worktags!O:T,2,FALSE),\"\")","v":"Realized Currency Gain/Loss"},{"$f":"IFERROR(VLOOKUP(IF(C698=\"\",B698&\"||\"&B698,C698&\"||\"&B698),Worktags!AR:AV,5,FALSE),\"\")","v":"JE_Override"}]
["4700_RC4716 Other Income/Unrealized Currency Gain/Loss",{"$f":"Worktags!AS177","v":"4700"},{"$f":"IF(Worktags!AQ177<>Worktags!AS177,Worktags!AQ177,\"\")","v":"RC4716"},{"$f":"IFERROR(VLOOKUP(B699,Worktags!AL:AO,2,FALSE),\"\")","v":"Other Income"},{"$f":"IFERROR(VLOOKUP(C699,Worktags!O:T,2,FALSE),\"\")","v":"Unrealized Currency Gain/Loss"},{"$f":"IFERROR(VLOOKUP(IF(C699=\"\",B699&\"||\"&B699,C699&\"||\"&B699),Worktags!AR:AV,5,FALSE),\"\")","v":"JE_Override"}]
["4700_RC4799 Other Income/Other Income (reclass)",{"$f":"Worktags!AS178","v":"4700"},{"$f":"IF(Worktags!AQ178<>Worktags!AS178,Worktags!AQ178,\"\")","v":"RC4799"},{"$f":"IFERROR(VLOOKUP(B700,Worktags!AL:AO,2,FALSE),\"\")","v":"Other Income"},{"$f":"IFERROR(VLOOKUP(C700,Worktags!O:T,2,FALSE),\"\")","v":"Other Income (reclass)"},{"$f":"IFERROR(VLOOKUP(IF(C700=\"\",B700&\"||\"&B700,C700&\"||\"&B700),Worktags!AR:AV,5,FALSE),\"\")","v":"All"}]
["4780 Inter-Company Contribution Revenue",{"$f":"Worktags!AL115","v":"4780"},null,{"$f":"IFERROR(VLOOKUP(B701,Worktags!AL:AO,2,FALSE),\"\")","v":"Inter-Company Contribution Revenue"},null,{"$f":"IFERROR(VLOOKUP(IF(C701=\"\",B701&\"||\"&B701,C701&\"||\"&B701),Worktags!AR:AV,5,FALSE),\"\")","v":"All"}]
["4780 Inter-Company Contribution Revenue",{"$f":"Worktags!AS71","v":"4780"},{"$f":"IF(Worktags!AQ71<>Worktags!AS71,Worktags!AQ71,\"\")","v":""},{"$f":"IFERROR(VLOOKUP(B702,Worktags!AL:AO,2,FALSE),\"\")","v":"Inter-Company Contribution Revenue"},{"$f":"IFERROR(VLOOKUP(C702,Worktags!O:T,2,FALSE),\"\")","v":""},{"$f":"IFERROR(VLOOKUP(IF(C702=\"\",B702&\"||\"&B702,C702&\"||\"&B702),Worktags!AR:AV,5,FALSE),\"\")","v":"All"}]
["4800 Intra-Division Sales",{"$f":"Worktags!AL116","v":"4800"},null,{"$f":"IFERROR(VLOOKUP(B703,Worktags!AL:AO,2,FALSE),\"\")","v":"Intra-Division Sales"},null,{"$f":"IFERROR(VLOOKUP(IF(C703=\"\",B703&\"||\"&B703,C703&\"||\"&B703),Worktags!AR:AV,5,FALSE),\"\")","v":""}]
["4800_RC4800 Intra-Division Sales/Intra-Division Sales",{"$f":"Worktags!AS179","v":"4800"},{"$f":"IF(Worktags!AQ179<>Worktags!AS179,Worktags!AQ179,\"\")","v":"RC4800"},{"$f":"IFERROR(VLOOKUP(B704,Worktags!AL:AO,2,FALSE),\"\")","v":"Intra-Division Sales"},{"$f":"IFERROR(VLOOKUP(C704,Worktags!O:T,2,FALSE),\"\")","v":"Intra-Division Sales"},{"$f":"IFERROR(VLOOKUP(IF(C704=\"\",B704&\"||\"&B704,C704&\"||\"&B704),Worktags!AR:AV,5,FALSE),\"\")","v":"All"}]
[{"$f":"IF(B705<>\"\",IF(C705<>\"\",B705&\"_\"&C705&\" \"&D705&\"/\"&E705,B705&\" \"&D705),\"\")","v":"4850 Intra-Division Purchases"},{"$f":"Worktags!AL117","v":"4850"},null,{"$f":"IFERROR(VLOOKUP(B705,Worktags!AL:AO,2,FALSE),\"\")","v":"Intra-Division Purchases"},null,{"$f":"IFERROR(VLOOKUP(IF(C705=\"\",B705&\"||\"&B705,C705&\"||\"&B705),Worktags!AR:AV,5,FALSE),\"\")","v":""}]
["4850_RC4850 Intra-Division Purchases/Intra-Division Purchases",{"$f":"Worktags!AS180","v":"4850"},{"$f":"IF(Worktags!AQ180<>Worktags!AS180,Worktags!AQ180,\"\")","v":"RC4850"},{"$f":"IFERROR(VLOOKUP(B706,Worktags!AL:AO,2,FALSE),\"\")","v":"Intra-Division Purchases"},{"$f":"IFERROR(VLOOKUP(C706,Worktags!O:T,2,FALSE),\"\")","v":"Intra-Division Purchases"},{"$f":"IFERROR(VLOOKUP(IF(C706=\"\",B706&\"||\"&B706,C706&\"||\"&B706),Worktags!AR:AV,5,FALSE),\"\")","v":"All"}]
["4890 Release of Restrictions",{"$f":"Worktags!AL118","v":"4890"},null,{"$f":"IFERROR(VLOOKUP(B707,Worktags!AL:AO,2,FALSE),\"\")","v":"Release of Restrictions"},null,{"$f":"IFERROR(VLOOKUP(IF(C707=\"\",B707&\"||\"&B707,C707&\"||\"&B707),Worktags!AR:AV,5,FALSE),\"\")","v":""}]
["4890_RC4890 Release of Restrictions/Release Restrictions (UFSonly)",{"$f":"Worktags!AS181","v":"4890"},{"$f":"IF(Worktags!AQ181<>Worktags!AS181,Worktags!AQ181,\"\")","v":"RC4890"},{"$f":"IFERROR(VLOOKUP(B708,Worktags!AL:AO,2,FALSE),\"\")","v":"Release of Restrictions"},{"$f":"IFERROR(VLOOKUP(C708,Worktags!O:T,2,FALSE),\"\")","v":"Release Restrictions (UFSonly)"},{"$f":"IFERROR(VLOOKUP(IF(C708=\"\",B708&\"||\"&B708,C708&\"||\"&B708),Worktags!AR:AV,5,FALSE),\"\")","v":"JE_Gift|JE_Override"}]
["4890_RC4891 Release of Restrictions/Endowment Payout Distribution",{"$f":"Worktags!AS182","v":"4890"},{"$f":"IF(Worktags!AQ182<>Worktags!AS182,Worktags!AQ182,\"\")","v":"RC4891"},{"$f":"IFERROR(VLOOKUP(B709,Worktags!AL:AO,2,FALSE),\"\")","v":"Release of Restrictions"},{"$f":"IFERROR(VLOOKUP(C709,Worktags!O:T,2,FALSE),\"\")","v":"Endowment Payout Distribution"},{"$f":"IFERROR(VLOOKUP(IF(C709=\"\",B709&\"||\"&B709,C709&\"||\"&B709),Worktags!AR:AV,5,FALSE),\"\")","v":"JE_Gift|JE_Override"}]
["4890_RC4892 Release of Restrictions/Endowment Payout Spendable Available",{"$f":"Worktags!AS183","v":"4890"},{"$f":"IF(Worktags!AQ183<>Worktags!AS183,Worktags!AQ183,\"\")","v":"RC4892"},{"$f":"IFERROR(VLOOKUP(B710,Worktags!AL:AO,2,FALSE),\"\")","v":"Release of Restrictions"},{"$f":"IFERROR(VLOOKUP(C710,Worktags!O:T,2,FALSE),\"\")","v":"Endowment Payout Spendable Available"},{"$f":"IFERROR(VLOOKUP(IF(C710=\"\",B710&\"||\"&B710,C710&\"||\"&B710),Worktags!AR:AV,5,FALSE),\"\")","v":"JE_Gift|JE_Override"}]
["4890_RC4893 Release of Restrictions/Reinvestment",{"$f":"Worktags!AS184","v":"4890"},{"$f":"IF(Worktags!AQ184<>Worktags!AS184,Worktags!AQ184,\"\")","v":"RC4893"},{"$f":"IFERROR(VLOOKUP(B711,Worktags!AL:AO,2,FALSE),\"\")","v":"Release of Restrictions"},{"$f":"IFERROR(VLOOKUP(C711,Worktags!O:T,2,FALSE),\"\")","v":"Reinvestment"},{"$f":"IFERROR(VLOOKUP(IF(C711=\"\",B711&\"||\"&B711,C711&\"||\"&B711),Worktags!AR:AV,5,FALSE),\"\")","v":"JE_Gift|JE_Override"}]
["4900 Cost of Sales",{"$f":"Worktags!AL119","v":"4900"},null,{"$f":"IFERROR(VLOOKUP(B712,Worktags!AL:AO,2,FALSE),\"\")","v":"Cost of Sales"},null,{"$f":"IFERROR(VLOOKUP(IF(C712=\"\",B712&\"||\"&B712,C712&\"||\"&B712),Worktags!AR:AV,5,FALSE),\"\")","v":""}]
["4900_SC4901 Cost of Sales/Cost of Goods Sold",{"$f":"Worktags!AS244","v":"4900"},{"$f":"IF(Worktags!AQ244<>Worktags!AS244,Worktags!AQ244,\"\")","v":"SC4901"},{"$f":"IFERROR(VLOOKUP(B713,Worktags!AL:AO,2,FALSE),\"\")","v":"Cost of Sales"},{"$f":"IFERROR(VLOOKUP(C713,Worktags!O:T,2,FALSE),\"\")","v":"Cost of Goods Sold"},{"$f":"IFERROR(VLOOKUP(IF(C713=\"\",B713&\"||\"&B713,C713&\"||\"&B713),Worktags!AR:AV,5,FALSE),\"\")","v":"All"}]
["4900_SC4902 Cost of Sales/Inventory Adjustment",{"$f":"Worktags!AS245","v":"4900"},{"$f":"IF(Worktags!AQ245<>Worktags!AS245,Worktags!AQ245,\"\")","v":"SC4902"},{"$f":"IFERROR(VLOOKUP(B714,Worktags!AL:AO,2,FALSE),\"\")","v":"Cost of Sales"},{"$f":"IFERROR(VLOOKUP(C714,Worktags!O:T,2,FALSE),\"\")","v":"Inventory Adjustment"},{"$f":"IFERROR(VLOOKUP(IF(C714=\"\",B714&\"||\"&B714,C714&\"||\"&B714),Worktags!AR:AV,5,FALSE),\"\")","v":"All"}]
["4900_SC4903 Cost of Sales/Freight-In",{"$f":"Worktags!AS246","v":"4900"},{"$f":"IF(Worktags!AQ246<>Worktags!AS246,Worktags!AQ246,\"\")","v":"SC4903"},{"$f":"IFERROR(VLOOKUP(B715,Worktags!AL:AO,2,FALSE),\"\")","v":"Cost of Sales"},{"$f":"IFERROR(VLOOKUP(C715,Worktags!O:T,2,FALSE),\"\")","v":"Freight-In"},{"$f":"IFERROR(VLOOKUP(IF(C715=\"\",B715&\"||\"&B715,C715&\"||\"&B715),Worktags!AR:AV,5,FALSE),\"\")","v":"All"}]
["4900_SC4904 Cost of Sales/Purchase Discounts Earned",{"$f":"Worktags!AS247","v":"4900"},{"$f":"IF(Worktags!AQ247<>Worktags!AS247,Worktags!AQ247,\"\")","v":"SC4904"},{"$f":"IFERROR(VLOOKUP(B716,Worktags!AL:AO,2,FALSE),\"\")","v":"Cost of Sales"},{"$f":"IFERROR(VLOOKUP(C716,Worktags!O:T,2,FALSE),\"\")","v":"Purchase Discounts Earned"},{"$f":"IFERROR(VLOOKUP(IF(C716=\"\",B716&\"||\"&B716,C716&\"||\"&B716),Worktags!AR:AV,5,FALSE),\"\")","v":"All"}]
["5000 Salaries and Wages",{"$f":"Worktags!AL120","v":"5000"},null,{"$f":"IFERROR(VLOOKUP(B717,Worktags!AL:AO,2,FALSE),\"\")","v":"Salaries and Wages"},null,{"$f":"IFERROR(VLOOKUP(IF(C717=\"\",B717&\"||\"&B717,C717&\"||\"&B717),Worktags!AR:AV,5,FALSE),\"\")","v":""}]
["5000_SC5000 Salaries and Wages/Staff Exempt Salaries",{"$f":"Worktags!AS248","v":"5000"},{"$f":"IF(Worktags!AQ248<>Worktags!AS248,Worktags!AQ248,\"\")","v":"SC5000"},{"$f":"IFERROR(VLOOKUP(B718,Worktags!AL:AO,2,FALSE),\"\")","v":"Salaries and Wages"},{"$f":"IFERROR(VLOOKUP(C718,Worktags!O:T,2,FALSE),\"\")","v":"Staff Exempt Salaries"},{"$f":"IFERROR(VLOOKUP(IF(C718=\"\",B718&\"||\"&B718,C718&\"||\"&B718),Worktags!AR:AV,5,FALSE),\"\")","v":"JE_Payroll|JE_Override"}]
["5000_SC5009 Salaries and Wages/Staff Exempt Salaries (reclass)",{"$f":"Worktags!AS249","v":"5000"},{"$f":"IF(Worktags!AQ249<>Worktags!AS249,Worktags!AQ249,\"\")","v":"SC5009"},{"$f":"IFERROR(VLOOKUP(B719,Worktags!AL:AO,2,FALSE),\"\")","v":"Salaries and Wages"},{"$f":"IFERROR(VLOOKUP(C719,Worktags!O:T,2,FALSE),\"\")","v":"Staff Exempt Salaries (reclass)"},{"$f":"IFERROR(VLOOKUP(IF(C719=\"\",B719&\"||\"&B719,C719&\"||\"&B719),Worktags!AR:AV,5,FALSE),\"\")","v":"All"}]
["5000_SC5030 Salaries and Wages/Staff Exempt Salaries (Overload)",{"$f":"Worktags!AS250","v":"5000"},{"$f":"IF(Worktags!AQ250<>Worktags!AS250,Worktags!AQ250,\"\")","v":"SC5030"},{"$f":"IFERROR(VLOOKUP(B720,Worktags!AL:AO,2,FALSE),\"\")","v":"Salaries and Wages"},{"$f":"IFERROR(VLOOKUP(C720,Worktags!O:T,2,FALSE),\"\")","v":"Staff Exempt Salaries (Overload)"},{"$f":"IFERROR(VLOOKUP(IF(C720=\"\",B720&\"||\"&B720,C720&\"||\"&B720),Worktags!AR:AV,5,FALSE),\"\")","v":"JE_Payroll|JE_Override"}]
["5000_SC5100 Salaries and Wages/Faculty Salaries",{"$f":"Worktags!AS251","v":"5000"},{"$f":"IF(Worktags!AQ251<>Worktags!AS251,Worktags!AQ251,\"\")","v":"SC5100"},{"$f":"IFERROR(VLOOKUP(B721,Worktags!AL:AO,2,FALSE),\"\")","v":"Salaries and Wages"},{"$f":"IFERROR(VLOOKUP(C721,Worktags!O:T,2,FALSE),\"\")","v":"Faculty Salaries"},{"$f":"IFERROR(VLOOKUP(IF(C721=\"\",B721&\"||\"&B721,C721&\"||\"&B721),Worktags!AR:AV,5,FALSE),\"\")","v":"JE_Payroll|JE_Override"}]
["5000_SC5109 Salaries and Wages/Faculty Salaries (reclass)",{"$f":"Worktags!AS252","v":"5000"},{"$f":"IF(Worktags!AQ252<>Worktags!AS252,Worktags!AQ252,\"\")","v":"SC5109"},{"$f":"IFERROR(VLOOKUP(B722,Worktags!AL:AO,2,FALSE),\"\")","v":"Salaries and Wages"},{"$f":"IFERROR(VLOOKUP(C722,Worktags!O:T,2,FALSE),\"\")","v":"Faculty Salaries (reclass)"},{"$f":"IFERROR(VLOOKUP(IF(C722=\"\",B722&\"||\"&B722,C722&\"||\"&B722),Worktags!AR:AV,5,FALSE),\"\")","v":"All"}]
["5000_SC5120 Salaries and Wages/Faculty Spring Summer Salaries",{"$f":"Worktags!AS253","v":"5000"},{"$f":"IF(Worktags!AQ253<>Worktags!AS253,Worktags!AQ253,\"\")","v":"SC5120"},{"$f":"IFERROR(VLOOKUP(B723,Worktags!AL:AO,2,FALSE),\"\")","v":"Salaries and Wages"},{"$f":"IFERROR(VLOOKUP(C723,Worktags!O:T,2,FALSE),\"\")","v":"Faculty Spring Summer Salaries"},{"$f":"IFERROR(VLOOKUP(IF(C723=\"\",B723&\"||\"&B723,C723&\"||\"&B723),Worktags!AR:AV,5,FALSE),\"\")","v":"JE_Payroll|JE_Override"}]
["5000_SC5130 Salaries and Wages/Faculty Salaries (Supplemental/Overload)",{"$f":"Worktags!AS254","v":"5000"},{"$f":"IF(Worktags!AQ254<>Worktags!AS254,Worktags!AQ254,\"\")","v":"SC5130"},{"$f":"IFERROR(VLOOKUP(B724,Worktags!AL:AO,2,FALSE),\"\")","v":"Salaries and Wages"},{"$f":"IFERROR(VLOOKUP(C724,Worktags!O:T,2,FALSE),\"\")","v":"Faculty Salaries (Supplemental/Overload)"},{"$f":"IFERROR(VLOOKUP(IF(C724=\"\",B724&\"||\"&B724,C724&\"||\"&B724),Worktags!AR:AV,5,FALSE),\"\")","v":"JE_Payroll|JE_Override"}]
["5000_SC5190 Salaries and Wages/Post Doc Research Associate",{"$f":"Worktags!AS255","v":"5000"},{"$f":"IF(Worktags!AQ255<>Worktags!AS255,Worktags!AQ255,\"\")","v":"SC5190"},{"$f":"IFERROR(VLOOKUP(B725,Worktags!AL:AO,2,FALSE),\"\")","v":"Salaries and Wages"},{"$f":"IFERROR(VLOOKUP(C725,Worktags!O:T,2,FALSE),\"\")","v":"Post Doc Research Associate"},{"$f":"IFERROR(VLOOKUP(IF(C725=\"\",B725&\"||\"&B725,C725&\"||\"&B725),Worktags!AR:AV,5,FALSE),\"\")","v":"JE_Payroll|JE_Override"}]
["5000_SC5300 Salaries and Wages/Faculty Adjunct Salaries",{"$f":"Worktags!AS256","v":"5000"},{"$f":"IF(Worktags!AQ256<>Worktags!AS256,Worktags!AQ256,\"\")","v":"SC5300"},{"$f":"IFERROR(VLOOKUP(B726,Worktags!AL:AO,2,FALSE),\"\")","v":"Salaries and Wages"},{"$f":"IFERROR(VLOOKUP(C726,Worktags!O:T,2,FALSE),\"\")","v":"Faculty Adjunct Salaries"},{"$f":"IFERROR(VLOOKUP(IF(C726=\"\",B726&\"||\"&B726,C726&\"||\"&B726),Worktags!AR:AV,5,FALSE),\"\")","v":"JE_Payroll|JE_Override"}]
["5000_SC5309 Salaries and Wages/Faculty Adjunct Salaries (reclass)",{"$f":"Worktags!AS257","v":"5000"},{"$f":"IF(Worktags!AQ257<>Worktags!AS257,Worktags!AQ257,\"\")","v":"SC5309"},{"$f":"IFERROR(VLOOKUP(B727,Worktags!AL:AO,2,FALSE),\"\")","v":"Salaries and Wages"},{"$f":"IFERROR(VLOOKUP(C727,Worktags!O:T,2,FALSE),\"\")","v":"Faculty Adjunct Salaries (reclass)"},{"$f":"IFERROR(VLOOKUP(IF(C727=\"\",B727&\"||\"&B727,C727&\"||\"&B727),Worktags!AR:AV,5,FALSE),\"\")","v":"All"}]
["5000_SC5320 Salaries and Wages/Faculty Adjunct Salaries - Part Benefits",{"$f":"Worktags!AS258","v":"5000"},{"$f":"IF(Worktags!AQ258<>Worktags!AS258,Worktags!AQ258,\"\")","v":"SC5320"},{"$f":"IFERROR(VLOOKUP(B728,Worktags!AL:AO,2,FALSE),\"\")","v":"Salaries and Wages"},{"$f":"IFERROR(VLOOKUP(C728,Worktags!O:T,2,FALSE),\"\")","v":"Faculty Adjunct Salaries - Part Benefits"},{"$f":"IFERROR(VLOOKUP(IF(C728=\"\",B728&\"||\"&B728,C728&\"||\"&B728),Worktags!AR:AV,5,FALSE),\"\")","v":"JE_Payroll|JE_Override"}]
["5000_SC5400 Salaries and Wages/Staff Non-Exempt Wages",{"$f":"Worktags!AS259","v":"5000"},{"$f":"IF(Worktags!AQ259<>Worktags!AS259,Worktags!AQ259,\"\")","v":"SC5400"},{"$f":"IFERROR(VLOOKUP(B729,Worktags!AL:AO,2,FALSE),\"\")","v":"Salaries and Wages"},{"$f":"IFERROR(VLOOKUP(C729,Worktags!O:T,2,FALSE),\"\")","v":"Staff Non-Exempt Wages"},{"$f":"IFERROR(VLOOKUP(IF(C729=\"\",B729&\"||\"&B729,C729&\"||\"&B729),Worktags!AR:AV,5,FALSE),\"\")","v":"JE_Payroll|JE_Override"}]
["5000_SC5409 Salaries and Wages/Staff Non-Exempt Wages (reclass)",{"$f":"Worktags!AS260","v":"5000"},{"$f":"IF(Worktags!AQ260<>Worktags!AS260,Worktags!AQ260,\"\")","v":"SC5409"},{"$f":"IFERROR(VLOOKUP(B730,Worktags!AL:AO,2,FALSE),\"\")","v":"Salaries and Wages"},{"$f":"IFERROR(VLOOKUP(C730,Worktags!O:T,2,FALSE),\"\")","v":"Staff Non-Exempt Wages (reclass)"},{"$f":"IFERROR(VLOOKUP(IF(C730=\"\",B730&\"||\"&B730,C730&\"||\"&B730),Worktags!AR:AV,5,FALSE),\"\")","v":"All"}]
["5000_SC5430 Salaries and Wages/Staff Non-Exempt Wages (Overtime/Premium)",{"$f":"Worktags!AS261","v":"5000"},{"$f":"IF(Worktags!AQ261<>Worktags!AS261,Worktags!AQ261,\"\")","v":"SC5430"},{"$f":"IFERROR(VLOOKUP(B731,Worktags!AL:AO,2,FALSE),\"\")","v":"Salaries and Wages"},{"$f":"IFERROR(VLOOKUP(C731,Worktags!O:T,2,FALSE),\"\")","v":"Staff Non-Exempt Wages (Overtime/Premium)"},{"$f":"IFERROR(VLOOKUP(IF(C731=\"\",B731&\"||\"&B731,C731&\"||\"&B731),Worktags!AR:AV,5,FALSE),\"\")","v":"JE_Payroll|JE_Override"}]
["5000_SC5500 Salaries and Wages/Student Contract Salaries",{"$f":"Worktags!AS262","v":"5000"},{"$f":"IF(Worktags!AQ262<>Worktags!AS262,Worktags!AQ262,\"\")","v":"SC5500"},{"$f":"IFERROR(VLOOKUP(B732,Worktags!AL:AO,2,FALSE),\"\")","v":"Salaries and Wages"},{"$f":"IFERROR(VLOOKUP(C732,Worktags!O:T,2,FALSE),\"\")","v":"Student Contract Salaries"},{"$f":"IFERROR(VLOOKUP(IF(C732=\"\",B732&\"||\"&B732,C732&\"||\"&B732),Worktags!AR:AV,5,FALSE),\"\")","v":"JE_Payroll|JE_Override"}]
["5000_SC5502 Salaries and Wages/Student Contract Salaries-FICA",{"$f":"Worktags!AS263","v":"5000"},{"$f":"IF(Worktags!AQ263<>Worktags!AS263,Worktags!AQ263,\"\")","v":"SC5502"},{"$f":"IFERROR(VLOOKUP(B733,Worktags!AL:AO,2,FALSE),\"\")","v":"Salaries and Wages"},{"$f":"IFERROR(VLOOKUP(C733,Worktags!O:T,2,FALSE),\"\")","v":"Student Contract Salaries-FICA"},{"$f":"IFERROR(VLOOKUP(IF(C733=\"\",B733&\"||\"&B733,C733&\"||\"&B733),Worktags!AR:AV,5,FALSE),\"\")","v":"JE_Payroll|JE_Override"}]
["5000_SC5509 Salaries and Wages/Student Contract Salaries (reclass)",{"$f":"Worktags!AS264","v":"5000"},{"$f":"IF(Worktags!AQ264<>Worktags!AS264,Worktags!AQ264,\"\")","v":"SC5509"},{"$f":"IFERROR(VLOOKUP(B734,Worktags!AL:AO,2,FALSE),\"\")","v":"Salaries and Wages"},{"$f":"IFERROR(VLOOKUP(C734,Worktags!O:T,2,FALSE),\"\")","v":"Student Contract Salaries (reclass)"},{"$f":"IFERROR(VLOOKUP(IF(C734=\"\",B734&\"||\"&B734,C734&\"||\"&B734),Worktags!AR:AV,5,FALSE),\"\")","v":"All"}]
["5000_SC5600 Salaries and Wages/Student Hourly Wages",{"$f":"Worktags!AS265","v":"5000"},{"$f":"IF(Worktags!AQ265<>Worktags!AS265,Worktags!AQ265,\"\")","v":"SC5600"},{"$f":"IFERROR(VLOOKUP(B735,Worktags!AL:AO,2,FALSE),\"\")","v":"Salaries and Wages"},{"$f":"IFERROR(VLOOKUP(C735,Worktags!O:T,2,FALSE),\"\")","v":"Student Hourly Wages"},{"$f":"IFERROR(VLOOKUP(IF(C735=\"\",B735&\"||\"&B735,C735&\"||\"&B735),Worktags!AR:AV,5,FALSE),\"\")","v":"JE_Payroll|JE_Override"}]
["5000_SC5602 Salaries and Wages/Student Hourly Wages-FICA",{"$f":"Worktags!AS266","v":"5000"},{"$f":"IF(Worktags!AQ266<>Worktags!AS266,Worktags!AQ266,\"\")","v":"SC5602"},{"$f":"IFERROR(VLOOKUP(B736,Worktags!AL:AO,2,FALSE),\"\")","v":"Salaries and Wages"},{"$f":"IFERROR(VLOOKUP(C736,Worktags!O:T,2,FALSE),\"\")","v":"Student Hourly Wages-FICA"},{"$f":"IFERROR(VLOOKUP(IF(C736=\"\",B736&\"||\"&B736,C736&\"||\"&B736),Worktags!AR:AV,5,FALSE),\"\")","v":"JE_Payroll|JE_Override"}]
["5000_SC5609 Salaries and Wages/Student Hourly Wages (Reclass)",{"$f":"Worktags!AS267","v":"5000"},{"$f":"IF(Worktags!AQ267<>Worktags!AS267,Worktags!AQ267,\"\")","v":"SC5609"},{"$f":"IFERROR(VLOOKUP(B737,Worktags!AL:AO,2,FALSE),\"\")","v":"Salaries and Wages"},{"$f":"IFERROR(VLOOKUP(C737,Worktags!O:T,2,FALSE),\"\")","v":"Student Hourly Wages (Reclass)"},{"$f":"IFERROR(VLOOKUP(IF(C737=\"\",B737&\"||\"&B737,C737&\"||\"&B737),Worktags!AR:AV,5,FALSE),\"\")","v":"All"}]
["5000_SC5700 Salaries and Wages/Part-time Wages - No Benefits",{"$f":"Worktags!AS268","v":"5000"},{"$f":"IF(Worktags!AQ268<>Worktags!AS268,Worktags!AQ268,\"\")","v":"SC5700"},{"$f":"IFERROR(VLOOKUP(B738,Worktags!AL:AO,2,FALSE),\"\")","v":"Salaries and Wages"},{"$f":"IFERROR(VLOOKUP(C738,Worktags!O:T,2,FALSE),\"\")","v":"Part-time Wages - No Benefits"},{"$f":"IFERROR(VLOOKUP(IF(C738=\"\",B738&\"||\"&B738,C738&\"||\"&B738),Worktags!AR:AV,5,FALSE),\"\")","v":"JE_Payroll|JE_Override"}]
["5000_SC5709 Salaries and Wages/Part-time Wages (reclass)",{"$f":"Worktags!AS269","v":"5000"},{"$f":"IF(Worktags!AQ269<>Worktags!AS269,Worktags!AQ269,\"\")","v":"SC5709"},{"$f":"IFERROR(VLOOKUP(B739,Worktags!AL:AO,2,FALSE),\"\")","v":"Salaries and Wages"},{"$f":"IFERROR(VLOOKUP(C739,Worktags!O:T,2,FALSE),\"\")","v":"Part-time Wages (reclass)"},{"$f":"IFERROR(VLOOKUP(IF(C739=\"\",B739&\"||\"&B739,C739&\"||\"&B739),Worktags!AR:AV,5,FALSE),\"\")","v":"All"}]
["5000_SC5730 Salaries and Wages/Part-time Wages - Part Benefits",{"$f":"Worktags!AS270","v":"5000"},{"$f":"IF(Worktags!AQ270<>Worktags!AS270,Worktags!AQ270,\"\")","v":"SC5730"},{"$f":"IFERROR(VLOOKUP(B740,Worktags!AL:AO,2,FALSE),\"\")","v":"Salaries and Wages"},{"$f":"IFERROR(VLOOKUP(C740,Worktags!O:T,2,FALSE),\"\")","v":"Part-time Wages - Part Benefits"},{"$f":"IFERROR(VLOOKUP(IF(C740=\"\",B740&\"||\"&B740,C740&\"||\"&B740),Worktags!AR:AV,5,FALSE),\"\")","v":"JE_Payroll|JE_Override"}]
["5000_SC5800 Salaries and Wages/Taxable Payroll Additions",{"$f":"Worktags!AS271","v":"5000"},{"$f":"IF(Worktags!AQ271<>Worktags!AS271,Worktags!AQ271,\"\")","v":"SC5800"},{"$f":"IFERROR(VLOOKUP(B741,Worktags!AL:AO,2,FALSE),\"\")","v":"Salaries and Wages"},{"$f":"IFERROR(VLOOKUP(C741,Worktags!O:T,2,FALSE),\"\")","v":"Taxable Payroll Additions"},{"$f":"IFERROR(VLOOKUP(IF(C741=\"\",B741&\"||\"&B741,C741&\"||\"&B741),Worktags!AR:AV,5,FALSE),\"\")","v":"JE_Payroll|JE_Override"}]
["5000_SC5860 Salaries and Wages/Moving Reimbursement",{"$f":"Worktags!AS272","v":"5000"},{"$f":"IF(Worktags!AQ272<>Worktags!AS272,Worktags!AQ272,\"\")","v":"SC5860"},{"$f":"IFERROR(VLOOKUP(B742,Worktags!AL:AO,2,FALSE),\"\")","v":"Salaries and Wages"},{"$f":"IFERROR(VLOOKUP(C742,Worktags!O:T,2,FALSE),\"\")","v":"Moving Reimbursement"},{"$f":"IFERROR(VLOOKUP(IF(C742=\"\",B742&\"||\"&B742,C742&\"||\"&B742),Worktags!AR:AV,5,FALSE),\"\")","v":"JE_Payroll|JE_Override"}]
["5000_SC5899 Salaries and Wages/Taxable Payroll Additions (reclass)",{"$f":"Worktags!AS277","v":"5000"},{"$f":"IF(Worktags!AQ277<>Worktags!AS277,Worktags!AQ277,\"\")","v":"SC5899"},{"$f":"IFERROR(VLOOKUP(B743,Worktags!AL:AO,2,FALSE),\"\")","v":"Salaries and Wages"},{"$f":"IFERROR(VLOOKUP(C743,Worktags!O:T,2,FALSE),\"\")","v":"Taxable Payroll Additions (reclass)"},{"$f":"IFERROR(VLOOKUP(IF(C743=\"\",B743&\"||\"&B743,C743&\"||\"&B743),Worktags!AR:AV,5,FALSE),\"\")","v":"All"}]
["5800 Project Labor Cost",{"$f":"Worktags!AL121","v":"5800"},null,{"$f":"IFERROR(VLOOKUP(B744,Worktags!AL:AO,2,FALSE),\"\")","v":"Project Labor Cost"},null,{"$f":"IFERROR(VLOOKUP(IF(C744=\"\",B744&\"||\"&B744,C744&\"||\"&B744),Worktags!AR:AV,5,FALSE),\"\")","v":""}]
["5800_SC5890 Project Labor Cost/Project Labor Cost",{"$f":"Worktags!AS273","v":"5800"},{"$f":"IF(Worktags!AQ273<>Worktags!AS273,Worktags!AQ273,\"\")","v":"SC5890"},{"$f":"IFERROR(VLOOKUP(B745,Worktags!AL:AO,2,FALSE),\"\")","v":"Project Labor Cost"},{"$f":"IFERROR(VLOOKUP(C745,Worktags!O:T,2,FALSE),\"\")","v":"Project Labor Cost"},{"$f":"IFERROR(VLOOKUP(IF(C745=\"\",B745&\"||\"&B745,C745&\"||\"&B745),Worktags!AR:AV,5,FALSE),\"\")","v":"JE_Payroll|JE_Override"}]
["5800_SC5892 Project Labor Cost/Project Labor Cost Non-Capital",{"$f":"Worktags!AS275","v":"5800"},{"$f":"IF(Worktags!AQ275<>Worktags!AS275,Worktags!AQ275,\"\")","v":"SC5892"},{"$f":"IFERROR(VLOOKUP(B746,Worktags!AL:AO,2,FALSE),\"\")","v":"Project Labor Cost"},{"$f":"IFERROR(VLOOKUP(C746,Worktags!O:T,2,FALSE),\"\")","v":"Project Labor Cost Non-Capital"},{"$f":"IFERROR(VLOOKUP(IF(C746=\"\",B746&\"||\"&B746,C746&\"||\"&B746),Worktags!AR:AV,5,FALSE),\"\")","v":"JE_Payroll|JE_Override"}]
["5801 Project Labor Cost Recovery",{"$f":"Worktags!AL122","v":"5801"},null,{"$f":"IFERROR(VLOOKUP(B747,Worktags!AL:AO,2,FALSE),\"\")","v":"Project Labor Cost Recovery"},null,{"$f":"IFERROR(VLOOKUP(IF(C747=\"\",B747&\"||\"&B747,C747&\"||\"&B747),Worktags!AR:AV,5,FALSE),\"\")","v":""}]
["5801_SC5891 Project Labor Cost Recovery/Project Labor Cost Recovery",{"$f":"Worktags!AS274","v":"5801"},{"$f":"IF(Worktags!AQ274<>Worktags!AS274,Worktags!AQ274,\"\")","v":"SC5891"},{"$f":"IFERROR(VLOOKUP(B748,Worktags!AL:AO,2,FALSE),\"\")","v":"Project Labor Cost Recovery"},{"$f":"IFERROR(VLOOKUP(C748,Worktags!O:T,2,FALSE),\"\")","v":"Project Labor Cost Recovery"},{"$f":"IFERROR(VLOOKUP(IF(C748=\"\",B748&\"||\"&B748,C748&\"||\"&B748),Worktags!AR:AV,5,FALSE),\"\")","v":"JE_Payroll|JE_Override"}]
["5801_SC5893 Project Labor Cost Recovery/Project Labor Cost Non-Capital Recovery",{"$f":"Worktags!AS276","v":"5801"},{"$f":"IF(Worktags!AQ276<>Worktags!AS276,Worktags!AQ276,\"\")","v":"SC5893"},{"$f":"IFERROR(VLOOKUP(B749,Worktags!AL:AO,2,FALSE),\"\")","v":"Project Labor Cost Recovery"},{"$f":"IFERROR(VLOOKUP(C749,Worktags!O:T,2,FALSE),\"\")","v":"Project Labor Cost Non-Capital Recovery"},{"$f":"IFERROR(VLOOKUP(IF(C749=\"\",B749&\"||\"&B749,C749&\"||\"&B749),Worktags!AR:AV,5,FALSE),\"\")","v":"JE_Payroll|JE_Override"}]
["5900 Benefits",{"$f":"Worktags!AL123","v":"5900"},null,{"$f":"IFERROR(VLOOKUP(B750,Worktags!AL:AO,2,FALSE),\"\")","v":"Benefits"},null,{"$f":"IFERROR(VLOOKUP(IF(C750=\"\",B750&\"||\"&B750,C750&\"||\"&B750),Worktags!AR:AV,5,FALSE),\"\")","v":""}]
["5900_SC5900 Benefits/Staff Exempt Benefits",{"$f":"Worktags!AS278","v":"5900"},{"$f":"IF(Worktags!AQ278<>Worktags!AS278,Worktags!AQ278,\"\")","v":"SC5900"},{"$f":"IFERROR(VLOOKUP(B751,Worktags!AL:AO,2,FALSE),\"\")","v":"Benefits"},{"$f":"IFERROR(VLOOKUP(C751,Worktags!O:T,2,FALSE),\"\")","v":"Staff Exempt Benefits"},{"$f":"IFERROR(VLOOKUP(IF(C751=\"\",B751&\"||\"&B751,C751&\"||\"&B751),Worktags!AR:AV,5,FALSE),\"\")","v":"JE_Payroll|JE_Override"}]
["5900_SC5910 Benefits/Faculty Benefits",{"$f":"Worktags!AS279","v":"5900"},{"$f":"IF(Worktags!AQ279<>Worktags!AS279,Worktags!AQ279,\"\")","v":"SC5910"},{"$f":"IFERROR(VLOOKUP(B752,Worktags!AL:AO,2,FALSE),\"\")","v":"Benefits"},{"$f":"IFERROR(VLOOKUP(C752,Worktags!O:T,2,FALSE),\"\")","v":"Faculty Benefits"},{"$f":"IFERROR(VLOOKUP(IF(C752=\"\",B752&\"||\"&B752,C752&\"||\"&B752),Worktags!AR:AV,5,FALSE),\"\")","v":"JE_Payroll|JE_Override"}]
["5900_SC5930 Benefits/Faculty Adjunct Benefits",{"$f":"Worktags!AS280","v":"5900"},{"$f":"IF(Worktags!AQ280<>Worktags!AS280,Worktags!AQ280,\"\")","v":"SC5930"},{"$f":"IFERROR(VLOOKUP(B753,Worktags!AL:AO,2,FALSE),\"\")","v":"Benefits"},{"$f":"IFERROR(VLOOKUP(C753,Worktags!O:T,2,FALSE),\"\")","v":"Faculty Adjunct Benefits"},{"$f":"IFERROR(VLOOKUP(IF(C753=\"\",B753&\"||\"&B753,C753&\"||\"&B753),Worktags!AR:AV,5,FALSE),\"\")","v":"JE_Payroll|JE_Override"}]
["5900_SC5940 Benefits/Staff Non-Exempt Benefits",{"$f":"Worktags!AS281","v":"5900"},{"$f":"IF(Worktags!AQ281<>Worktags!AS281,Worktags!AQ281,\"\")","v":"SC5940"},{"$f":"IFERROR(VLOOKUP(B754,Worktags!AL:AO,2,FALSE),\"\")","v":"Benefits"},{"$f":"IFERROR(VLOOKUP(C754,Worktags!O:T,2,FALSE),\"\")","v":"Staff Non-Exempt Benefits"},{"$f":"IFERROR(VLOOKUP(IF(C754=\"\",B754&\"||\"&B754,C754&\"||\"&B754),Worktags!AR:AV,5,FALSE),\"\")","v":"JE_Payroll|JE_Override"}]
["5900_SC5950 Benefits/Student Benefits",{"$f":"Worktags!AS282","v":"5900"},{"$f":"IF(Worktags!AQ282<>Worktags!AS282,Worktags!AQ282,\"\")","v":"SC5950"},{"$f":"IFERROR(VLOOKUP(B755,Worktags!AL:AO,2,FALSE),\"\")","v":"Benefits"},{"$f":"IFERROR(VLOOKUP(C755,Worktags!O:T,2,FALSE),\"\")","v":"Student Benefits"},{"$f":"IFERROR(VLOOKUP(IF(C755=\"\",B755&\"||\"&B755,C755&\"||\"&B755),Worktags!AR:AV,5,FALSE),\"\")","v":"JE_Payroll|JE_Override"}]
["5900_SC5970 Benefits/Part-time Benefits",{"$f":"Worktags!AS283","v":"5900"},{"$f":"IF(Worktags!AQ283<>Worktags!AS283,Worktags!AQ283,\"\")","v":"SC5970"},{"$f":"IFERROR(VLOOKUP(B756,Worktags!AL:AO,2,FALSE),\"\")","v":"Benefits"},{"$f":"IFERROR(VLOOKUP(C756,Worktags!O:T,2,FALSE),\"\")","v":"Part-time Benefits"},{"$f":"IFERROR(VLOOKUP(IF(C756=\"\",B756&\"||\"&B756,C756&\"||\"&B756),Worktags!AR:AV,5,FALSE),\"\")","v":"JE_Payroll|JE_Override"}]
["5900_SC5990 Benefits/Other Local/State Payroll Tax",{"$f":"Worktags!AS284","v":"5900"},{"$f":"IF(Worktags!AQ284<>Worktags!AS284,Worktags!AQ284,\"\")","v":"SC5990"},{"$f":"IFERROR(VLOOKUP(B757,Worktags!AL:AO,2,FALSE),\"\")","v":"Benefits"},{"$f":"IFERROR(VLOOKUP(C757,Worktags!O:T,2,FALSE),\"\")","v":"Other Local/State Payroll Tax"},{"$f":"IFERROR(VLOOKUP(IF(C757=\"\",B757&\"||\"&B757,C757&\"||\"&B757),Worktags!AR:AV,5,FALSE),\"\")","v":"JE_Payroll|JE_Override"}]
["5900_SC5995 Benefits/University Benefits-Payments",{"$f":"Worktags!AS285","v":"5900"},{"$f":"IF(Worktags!AQ285<>Worktags!AS285,Worktags!AQ285,\"\")","v":"SC5995"},{"$f":"IFERROR(VLOOKUP(B758,Worktags!AL:AO,2,FALSE),\"\")","v":"Benefits"},{"$f":"IFERROR(VLOOKUP(C758,Worktags!O:T,2,FALSE),\"\")","v":"University Benefits-Payments"},{"$f":"IFERROR(VLOOKUP(IF(C758=\"\",B758&\"||\"&B758,C758&\"||\"&B758),Worktags!AR:AV,5,FALSE),\"\")","v":"JE_Payroll|JE_Override"}]
["5900_SC5998 Benefits/FICA Clearing (Payroll System Only)",{"$f":"Worktags!AS286","v":"5900"},{"$f":"IF(Worktags!AQ286<>Worktags!AS286,Worktags!AQ286,\"\")","v":"SC5998"},{"$f":"IFERROR(VLOOKUP(B759,Worktags!AL:AO,2,FALSE),\"\")","v":"Benefits"},{"$f":"IFERROR(VLOOKUP(C759,Worktags!O:T,2,FALSE),\"\")","v":"FICA Clearing (Payroll System Only)"},{"$f":"IFERROR(VLOOKUP(IF(C759=\"\",B759&\"||\"&B759,C759&\"||\"&B759),Worktags!AR:AV,5,FALSE),\"\")","v":"JE_Payroll|JE_Override"}]
["5900_SC5999 Benefits/Benefits (reclass)",{"$f":"Worktags!AS287","v":"5900"},{"$f":"IF(Worktags!AQ287<>Worktags!AS287,Worktags!AQ287,\"\")","v":"SC5999"},{"$f":"IFERROR(VLOOKUP(B760,Worktags!AL:AO,2,FALSE),\"\")","v":"Benefits"},{"$f":"IFERROR(VLOOKUP(C760,Worktags!O:T,2,FALSE),\"\")","v":"Benefits (reclass)"},{"$f":"IFERROR(VLOOKUP(IF(C760=\"\",B760&\"||\"&B760,C760&\"||\"&B760),Worktags!AR:AV,5,FALSE),\"\")","v":"All"}]
["6100 Materials and Supplies",{"$f":"Worktags!AL124","v":"6100"},null,{"$f":"IFERROR(VLOOKUP(B761,Worktags!AL:AO,2,FALSE),\"\")","v":"Materials and Supplies"},null,{"$f":"IFERROR(VLOOKUP(IF(C761=\"\",B761&\"||\"&B761,C761&\"||\"&B761),Worktags!AR:AV,5,FALSE),\"\")","v":""}]
["6100_SC0610 Materials and Supplies/Materials and Supplies (Budget Only)",{"$f":"Worktags!AS191","v":"6100"},{"$f":"IF(Worktags!AQ191<>Worktags!AS191,Worktags!AQ191,\"\")","v":"SC0610"},{"$f":"IFERROR(VLOOKUP(B762,Worktags!AL:AO,2,FALSE),\"\")","v":"Materials and Supplies"},{"$f":"IFERROR(VLOOKUP(C762,Worktags!O:T,2,FALSE),\"\")","v":"Materials and Supplies (Budget Only)"},{"$f":"IFERROR(VLOOKUP(IF(C762=\"\",B762&\"||\"&B762,C762&\"||\"&B762),Worktags!AR:AV,5,FALSE),\"\")","v":"JE_Override"}]
["6100_SC6101 Materials and Supplies/Animal Supplies",{"$f":"Worktags!AS289","v":"6100"},{"$f":"IF(Worktags!AQ289<>Worktags!AS289,Worktags!AQ289,\"\")","v":"SC6101"},{"$f":"IFERROR(VLOOKUP(B763,Worktags!AL:AO,2,FALSE),\"\")","v":"Materials and Supplies"},{"$f":"IFERROR(VLOOKUP(C763,Worktags!O:T,2,FALSE),\"\")","v":"Animal Supplies"},{"$f":"IFERROR(VLOOKUP(IF(C763=\"\",B763&\"||\"&B763,C763&\"||\"&B763),Worktags!AR:AV,5,FALSE),\"\")","v":"All"}]
["6100_SC6102 Materials and Supplies/Animals",{"$f":"Worktags!AS291","v":"6100"},{"$f":"IF(Worktags!AQ291<>Worktags!AS291,Worktags!AQ291,\"\")","v":"SC6102"},{"$f":"IFERROR(VLOOKUP(B764,Worktags!AL:AO,2,FALSE),\"\")","v":"Materials and Supplies"},{"$f":"IFERROR(VLOOKUP(C764,Worktags!O:T,2,FALSE),\"\")","v":"Animals"},{"$f":"IFERROR(VLOOKUP(IF(C764=\"\",B764&\"||\"&B764,C764&\"||\"&B764),Worktags!AR:AV,5,FALSE),\"\")","v":"All"}]
["6100_SC6103 Materials and Supplies/Art",{"$f":"Worktags!AS293","v":"6100"},{"$f":"IF(Worktags!AQ293<>Worktags!AS293,Worktags!AQ293,\"\")","v":"SC6103"},{"$f":"IFERROR(VLOOKUP(B765,Worktags!AL:AO,2,FALSE),\"\")","v":"Materials and Supplies"},{"$f":"IFERROR(VLOOKUP(C765,Worktags!O:T,2,FALSE),\"\")","v":"Art"},{"$f":"IFERROR(VLOOKUP(IF(C765=\"\",B765&\"||\"&B765,C765&\"||\"&B765),Worktags!AR:AV,5,FALSE),\"\")","v":"All"}]
["6100_SC6104 Materials and Supplies/Art Supplies",{"$f":"Worktags!AS295","v":"6100"},{"$f":"IF(Worktags!AQ295<>Worktags!AS295,Worktags!AQ295,\"\")","v":"SC6104"},{"$f":"IFERROR(VLOOKUP(B766,Worktags!AL:AO,2,FALSE),\"\")","v":"Materials and Supplies"},{"$f":"IFERROR(VLOOKUP(C766,Worktags!O:T,2,FALSE),\"\")","v":"Art Supplies"},{"$f":"IFERROR(VLOOKUP(IF(C766=\"\",B766&\"||\"&B766,C766&\"||\"&B766),Worktags!AR:AV,5,FALSE),\"\")","v":"All"}]
["6100_SC6105 Materials and Supplies/Athletic Supplies",{"$f":"Worktags!AS297","v":"6100"},{"$f":"IF(Worktags!AQ297<>Worktags!AS297,Worktags!AQ297,\"\")","v":"SC6105"},{"$f":"IFERROR(VLOOKUP(B767,Worktags!AL:AO,2,FALSE),\"\")","v":"Materials and Supplies"},{"$f":"IFERROR(VLOOKUP(C767,Worktags!O:T,2,FALSE),\"\")","v":"Athletic Supplies"},{"$f":"IFERROR(VLOOKUP(IF(C767=\"\",B767&\"||\"&B767,C767&\"||\"&B767),Worktags!AR:AV,5,FALSE),\"\")","v":"All"}]
["6100_SC6106 Materials and Supplies/Audio Visual Supplies",{"$f":"Worktags!AS301","v":"6100"},{"$f":"IF(Worktags!AQ301<>Worktags!AS301,Worktags!AQ301,\"\")","v":"SC6106"},{"$f":"IFERROR(VLOOKUP(B768,Worktags!AL:AO,2,FALSE),\"\")","v":"Materials and Supplies"},{"$f":"IFERROR(VLOOKUP(C768,Worktags!O:T,2,FALSE),\"\")","v":"Audio Visual Supplies"},{"$f":"IFERROR(VLOOKUP(IF(C768=\"\",B768&\"||\"&B768,C768&\"||\"&B768),Worktags!AR:AV,5,FALSE),\"\")","v":"All"}]
[{"$f":"IF(B769<>\"\",IF(C769<>\"\",B769&\"_\"&C769&\" \"&D769&\"/\"&E769,B769&\" \"&D769),\"\")","v":"6100_SC6107 Materials and Supplies/Clothing"},{"$f":"Worktags!AS303","v":"6100"},{"$f":"IF(Worktags!AQ303<>Worktags!AS303,Worktags!AQ303,\"\")","v":"SC6107"},{"$f":"IFERROR(VLOOKUP(B769,Worktags!AL:AO,2,FALSE),\"\")","v":"Materials and Supplies"},{"$f":"IFERROR(VLOOKUP(C769,Worktags!O:T,2,FALSE),\"\")","v":"Clothing"},{"$f":"IFERROR(VLOOKUP(IF(C769=\"\",B769&\"||\"&B769,C769&\"||\"&B769),Worktags!AR:AV,5,FALSE),\"\")","v":"All"}]
["6100_SC6108 Materials and Supplies/Data Network Supplies",{"$f":"Worktags!AS307","v":"6100"},{"$f":"IF(Worktags!AQ307<>Worktags!AS307,Worktags!AQ307,\"\")","v":"SC6108"},{"$f":"IFERROR(VLOOKUP(B770,Worktags!AL:AO,2,FALSE),\"\")","v":"Materials and Supplies"},{"$f":"IFERROR(VLOOKUP(C770,Worktags!O:T,2,FALSE),\"\")","v":"Data Network Supplies"},{"$f":"IFERROR(VLOOKUP(IF(C770=\"\",B770&\"||\"&B770,C770&\"||\"&B770),Worktags!AR:AV,5,FALSE),\"\")","v":"All"}]
["6100_SC6109 Materials and Supplies/Floral Supplies",{"$f":"Worktags!AS309","v":"6100"},{"$f":"IF(Worktags!AQ309<>Worktags!AS309,Worktags!AQ309,\"\")","v":"SC6109"},{"$f":"IFERROR(VLOOKUP(B771,Worktags!AL:AO,2,FALSE),\"\")","v":"Materials and Supplies"},{"$f":"IFERROR(VLOOKUP(C771,Worktags!O:T,2,FALSE),\"\")","v":"Floral Supplies"},{"$f":"IFERROR(VLOOKUP(IF(C771=\"\",B771&\"||\"&B771,C771&\"||\"&B771),Worktags!AR:AV,5,FALSE),\"\")","v":"All"}]
["6100_SC6110 Materials and Supplies/Food and Beverages",{"$f":"Worktags!AS311","v":"6100"},{"$f":"IF(Worktags!AQ311<>Worktags!AS311,Worktags!AQ311,\"\")","v":"SC6110"},{"$f":"IFERROR(VLOOKUP(B772,Worktags!AL:AO,2,FALSE),\"\")","v":"Materials and Supplies"},{"$f":"IFERROR(VLOOKUP(C772,Worktags!O:T,2,FALSE),\"\")","v":"Food and Beverages"},{"$f":"IFERROR(VLOOKUP(IF(C772=\"\",B772&\"||\"&B772,C772&\"||\"&B772),Worktags!AR:AV,5,FALSE),\"\")","v":"All"}]
["6100_SC6111 Materials and Supplies/Food Service Disposables",{"$f":"Worktags!AS313","v":"6100"},{"$f":"IF(Worktags!AQ313<>Worktags!AS313,Worktags!AQ313,\"\")","v":"SC6111"},{"$f":"IFERROR(VLOOKUP(B773,Worktags!AL:AO,2,FALSE),\"\")","v":"Materials and Supplies"},{"$f":"IFERROR(VLOOKUP(C773,Worktags!O:T,2,FALSE),\"\")","v":"Food Service Disposables"},{"$f":"IFERROR(VLOOKUP(IF(C773=\"\",B773&\"||\"&B773,C773&\"||\"&B773),Worktags!AR:AV,5,FALSE),\"\")","v":"All"}]
["6100_SC6112 Materials and Supplies/Food Service Supplies",{"$f":"Worktags!AS315","v":"6100"},{"$f":"IF(Worktags!AQ315<>Worktags!AS315,Worktags!AQ315,\"\")","v":"SC6112"},{"$f":"IFERROR(VLOOKUP(B774,Worktags!AL:AO,2,FALSE),\"\")","v":"Materials and Supplies"},{"$f":"IFERROR(VLOOKUP(C774,Worktags!O:T,2,FALSE),\"\")","v":"Food Service Supplies"},{"$f":"IFERROR(VLOOKUP(IF(C774=\"\",B774&\"||\"&B774,C774&\"||\"&B774),Worktags!AR:AV,5,FALSE),\"\")","v":"All"}]
["6100_SC6113 Materials and Supplies/Fuel",{"$f":"Worktags!AS317","v":"6100"},{"$f":"IF(Worktags!AQ317<>Worktags!AS317,Worktags!AQ317,\"\")","v":"SC6113"},{"$f":"IFERROR(VLOOKUP(B775,Worktags!AL:AO,2,FALSE),\"\")","v":"Materials and Supplies"},{"$f":"IFERROR(VLOOKUP(C775,Worktags!O:T,2,FALSE),\"\")","v":"Fuel"},{"$f":"IFERROR(VLOOKUP(IF(C775=\"\",B775&\"||\"&B775,C775&\"||\"&B775),Worktags!AR:AV,5,FALSE),\"\")","v":"All"}]
["6100_SC6114 Materials and Supplies/Hazardous Chemicals",{"$f":"Worktags!AS319","v":"6100"},{"$f":"IF(Worktags!AQ319<>Worktags!AS319,Worktags!AQ319,\"\")","v":"SC6114"},{"$f":"IFERROR(VLOOKUP(B776,Worktags!AL:AO,2,FALSE),\"\")","v":"Materials and Supplies"},{"$f":"IFERROR(VLOOKUP(C776,Worktags!O:T,2,FALSE),\"\")","v":"Hazardous Chemicals"},{"$f":"IFERROR(VLOOKUP(IF(C776=\"\",B776&\"||\"&B776,C776&\"||\"&B776),Worktags!AR:AV,5,FALSE),\"\")","v":"All"}]
["6100_SC6115 Materials and Supplies/Janitorial Supplies",{"$f":"Worktags!AS321","v":"6100"},{"$f":"IF(Worktags!AQ321<>Worktags!AS321,Worktags!AQ321,\"\")","v":"SC6115"},{"$f":"IFERROR(VLOOKUP(B777,Worktags!AL:AO,2,FALSE),\"\")","v":"Materials and Supplies"},{"$f":"IFERROR(VLOOKUP(C777,Worktags!O:T,2,FALSE),\"\")","v":"Janitorial Supplies"},{"$f":"IFERROR(VLOOKUP(IF(C777=\"\",B777&\"||\"&B777,C777&\"||\"&B777),Worktags!AR:AV,5,FALSE),\"\")","v":"All"}]
["6100_SC6116 Materials and Supplies/Laundry Supplies",{"$f":"Worktags!AS323","v":"6100"},{"$f":"IF(Worktags!AQ323<>Worktags!AS323,Worktags!AQ323,\"\")","v":"SC6116"},{"$f":"IFERROR(VLOOKUP(B778,Worktags!AL:AO,2,FALSE),\"\")","v":"Materials and Supplies"},{"$f":"IFERROR(VLOOKUP(C778,Worktags!O:T,2,FALSE),\"\")","v":"Laundry Supplies"},{"$f":"IFERROR(VLOOKUP(IF(C778=\"\",B778&\"||\"&B778,C778&\"||\"&B778),Worktags!AR:AV,5,FALSE),\"\")","v":"All"}]
["6100_SC6117 Materials and Supplies/Medical Supplies",{"$f":"Worktags!AS325","v":"6100"},{"$f":"IF(Worktags!AQ325<>Worktags!AS325,Worktags!AQ325,\"\")","v":"SC6117"},{"$f":"IFERROR(VLOOKUP(B779,Worktags!AL:AO,2,FALSE),\"\")","v":"Materials and Supplies"},{"$f":"IFERROR(VLOOKUP(C779,Worktags!O:T,2,FALSE),\"\")","v":"Medical Supplies"},{"$f":"IFERROR(VLOOKUP(IF(C779=\"\",B779&\"||\"&B779,C779&\"||\"&B779),Worktags!AR:AV,5,FALSE),\"\")","v":"All"}]
["6100_SC6118 Materials and Supplies/Musical Instrument Supplies",{"$f":"Worktags!AS327","v":"6100"},{"$f":"IF(Worktags!AQ327<>Worktags!AS327,Worktags!AQ327,\"\")","v":"SC6118"},{"$f":"IFERROR(VLOOKUP(B780,Worktags!AL:AO,2,FALSE),\"\")","v":"Materials and Supplies"},{"$f":"IFERROR(VLOOKUP(C780,Worktags!O:T,2,FALSE),\"\")","v":"Musical Instrument Supplies"},{"$f":"IFERROR(VLOOKUP(IF(C780=\"\",B780&\"||\"&B780,C780&\"||\"&B780),Worktags!AR:AV,5,FALSE),\"\")","v":"All"}]
["6100_SC6119 Materials and Supplies/Office Supplies",{"$f":"Worktags!AS329","v":"6100"},{"$f":"IF(Worktags!AQ329<>Worktags!AS329,Worktags!AQ329,\"\")","v":"SC6119"},{"$f":"IFERROR(VLOOKUP(B781,Worktags!AL:AO,2,FALSE),\"\")","v":"Materials and Supplies"},{"$f":"IFERROR(VLOOKUP(C781,Worktags!O:T,2,FALSE),\"\")","v":"Office Supplies"},{"$f":"IFERROR(VLOOKUP(IF(C781=\"\",B781&\"||\"&B781,C781&\"||\"&B781),Worktags!AR:AV,5,FALSE),\"\")","v":"All"}]
["6100_SC6120 Materials and Supplies/Other Expense",{"$f":"Worktags!AS331","v":"6100"},{"$f":"IF(Worktags!AQ331<>Worktags!AS331,Worktags!AQ331,\"\")","v":"SC6120"},{"$f":"IFERROR(VLOOKUP(B782,Worktags!AL:AO,2,FALSE),\"\")","v":"Materials and Supplies"},{"$f":"IFERROR(VLOOKUP(C782,Worktags!O:T,2,FALSE),\"\")","v":"Other Expense"},{"$f":"IFERROR(VLOOKUP(IF(C782=\"\",B782&\"||\"&B782,C782&\"||\"&B782),Worktags!AR:AV,5,FALSE),\"\")","v":"All"}]
["6100_SC6121 Materials and Supplies/Packaging",{"$f":"Worktags!AS333","v":"6100"},{"$f":"IF(Worktags!AQ333<>Worktags!AS333,Worktags!AQ333,\"\")","v":"SC6121"},{"$f":"IFERROR(VLOOKUP(B783,Worktags!AL:AO,2,FALSE),\"\")","v":"Materials and Supplies"},{"$f":"IFERROR(VLOOKUP(C783,Worktags!O:T,2,FALSE),\"\")","v":"Packaging"},{"$f":"IFERROR(VLOOKUP(IF(C783=\"\",B783&\"||\"&B783,C783&\"||\"&B783),Worktags!AR:AV,5,FALSE),\"\")","v":"All"}]
["6100_SC6122 Materials and Supplies/Paper",{"$f":"Worktags!AS335","v":"6100"},{"$f":"IF(Worktags!AQ335<>Worktags!AS335,Worktags!AQ335,\"\")","v":"SC6122"},{"$f":"IFERROR(VLOOKUP(B784,Worktags!AL:AO,2,FALSE),\"\")","v":"Materials and Supplies"},{"$f":"IFERROR(VLOOKUP(C784,Worktags!O:T,2,FALSE),\"\")","v":"Paper"},{"$f":"IFERROR(VLOOKUP(IF(C784=\"\",B784&\"||\"&B784,C784&\"||\"&B784),Worktags!AR:AV,5,FALSE),\"\")","v":"All"}]
["6100_SC6123 Materials and Supplies/Photography Supplies",{"$f":"Worktags!AS337","v":"6100"},{"$f":"IF(Worktags!AQ337<>Worktags!AS337,Worktags!AQ337,\"\")","v":"SC6123"},{"$f":"IFERROR(VLOOKUP(B785,Worktags!AL:AO,2,FALSE),\"\")","v":"Materials and Supplies"},{"$f":"IFERROR(VLOOKUP(C785,Worktags!O:T,2,FALSE),\"\")","v":"Photography Supplies"},{"$f":"IFERROR(VLOOKUP(IF(C785=\"\",B785&\"||\"&B785,C785&\"||\"&B785),Worktags!AR:AV,5,FALSE),\"\")","v":"All"}]
["6100_SC6124 Materials and Supplies/Printed Media",{"$f":"Worktags!AS339","v":"6100"},{"$f":"IF(Worktags!AQ339<>Worktags!AS339,Worktags!AQ339,\"\")","v":"SC6124"},{"$f":"IFERROR(VLOOKUP(B786,Worktags!AL:AO,2,FALSE),\"\")","v":"Materials and Supplies"},{"$f":"IFERROR(VLOOKUP(C786,Worktags!O:T,2,FALSE),\"\")","v":"Printed Media"},{"$f":"IFERROR(VLOOKUP(IF(C786=\"\",B786&\"||\"&B786,C786&\"||\"&B786),Worktags!AR:AV,5,FALSE),\"\")","v":"All"}]
["6100_SC6125 Materials and Supplies/Printing Supplies",{"$f":"Worktags!AS341","v":"6100"},{"$f":"IF(Worktags!AQ341<>Worktags!AS341,Worktags!AQ341,\"\")","v":"SC6125"},{"$f":"IFERROR(VLOOKUP(B787,Worktags!AL:AO,2,FALSE),\"\")","v":"Materials and Supplies"},{"$f":"IFERROR(VLOOKUP(C787,Worktags!O:T,2,FALSE),\"\")","v":"Printing Supplies"},{"$f":"IFERROR(VLOOKUP(IF(C787=\"\",B787&\"||\"&B787,C787&\"||\"&B787),Worktags!AR:AV,5,FALSE),\"\")","v":"All"}]
["6100_SC6126 Materials and Supplies/Scientific and Engineering Supplies",{"$f":"Worktags!AS343","v":"6100"},{"$f":"IF(Worktags!AQ343<>Worktags!AS343,Worktags!AQ343,\"\")","v":"SC6126"},{"$f":"IFERROR(VLOOKUP(B788,Worktags!AL:AO,2,FALSE),\"\")","v":"Materials and Supplies"},{"$f":"IFERROR(VLOOKUP(C788,Worktags!O:T,2,FALSE),\"\")","v":"Scientific and Engineering Supplies"},{"$f":"IFERROR(VLOOKUP(IF(C788=\"\",B788&\"||\"&B788,C788&\"||\"&B788),Worktags!AR:AV,5,FALSE),\"\")","v":"All"}]
["6100_SC6127 Materials and Supplies/Special Collections",{"$f":"Worktags!AS345","v":"6100"},{"$f":"IF(Worktags!AQ345<>Worktags!AS345,Worktags!AQ345,\"\")","v":"SC6127"},{"$f":"IFERROR(VLOOKUP(B789,Worktags!AL:AO,2,FALSE),\"\")","v":"Materials and Supplies"},{"$f":"IFERROR(VLOOKUP(C789,Worktags!O:T,2,FALSE),\"\")","v":"Special Collections"},{"$f":"IFERROR(VLOOKUP(IF(C789=\"\",B789&\"||\"&B789,C789&\"||\"&B789),Worktags!AR:AV,5,FALSE),\"\")","v":"All"}]
["6100_SC6128 Materials and Supplies/Special Collections Sales Proceeds",{"$f":"Worktags!AS346","v":"6100"},{"$f":"IF(Worktags!AQ346<>Worktags!AS346,Worktags!AQ346,\"\")","v":"SC6128"},{"$f":"IFERROR(VLOOKUP(B790,Worktags!AL:AO,2,FALSE),\"\")","v":"Materials and Supplies"},{"$f":"IFERROR(VLOOKUP(C790,Worktags!O:T,2,FALSE),\"\")","v":"Special Collections Sales Proceeds"},{"$f":"IFERROR(VLOOKUP(IF(C790=\"\",B790&\"||\"&B790,C790&\"||\"&B790),Worktags!AR:AV,5,FALSE),\"\")","v":"All"}]
["6100_SC6129 Materials and Supplies/Supplies (not otherwise specified)",{"$f":"Worktags!AS350","v":"6100"},{"$f":"IF(Worktags!AQ350<>Worktags!AS350,Worktags!AQ350,\"\")","v":"SC6129"},{"$f":"IFERROR(VLOOKUP(B791,Worktags!AL:AO,2,FALSE),\"\")","v":"Materials and Supplies"},{"$f":"IFERROR(VLOOKUP(C791,Worktags!O:T,2,FALSE),\"\")","v":"Supplies (not otherwise specified)"},{"$f":"IFERROR(VLOOKUP(IF(C791=\"\",B791&\"||\"&B791,C791&\"||\"&B791),Worktags!AR:AV,5,FALSE),\"\")","v":"All"}]
["6100_SC6130 Materials and Supplies/Teaching Supplies",{"$f":"Worktags!AS352","v":"6100"},{"$f":"IF(Worktags!AQ352<>Worktags!AS352,Worktags!AQ352,\"\")","v":"SC6130"},{"$f":"IFERROR(VLOOKUP(B792,Worktags!AL:AO,2,FALSE),\"\")","v":"Materials and Supplies"},{"$f":"IFERROR(VLOOKUP(C792,Worktags!O:T,2,FALSE),\"\")","v":"Teaching Supplies"},{"$f":"IFERROR(VLOOKUP(IF(C792=\"\",B792&\"||\"&B792,C792&\"||\"&B792),Worktags!AR:AV,5,FALSE),\"\")","v":"All"}]
["6100_SC6131 Materials and Supplies/Telecom Supplies",{"$f":"Worktags!AS356","v":"6100"},{"$f":"IF(Worktags!AQ356<>Worktags!AS356,Worktags!AQ356,\"\")","v":"SC6131"},{"$f":"IFERROR(VLOOKUP(B793,Worktags!AL:AO,2,FALSE),\"\")","v":"Materials and Supplies"},{"$f":"IFERROR(VLOOKUP(C793,Worktags!O:T,2,FALSE),\"\")","v":"Telecom Supplies"},{"$f":"IFERROR(VLOOKUP(IF(C793=\"\",B793&\"||\"&B793,C793&\"||\"&B793),Worktags!AR:AV,5,FALSE),\"\")","v":"All"}]
["6100_SC6132 Materials and Supplies/Vehicle Supplies",{"$f":"Worktags!AS358","v":"6100"},{"$f":"IF(Worktags!AQ358<>Worktags!AS358,Worktags!AQ358,\"\")","v":"SC6132"},{"$f":"IFERROR(VLOOKUP(B794,Worktags!AL:AO,2,FALSE),\"\")","v":"Materials and Supplies"},{"$f":"IFERROR(VLOOKUP(C794,Worktags!O:T,2,FALSE),\"\")","v":"Vehicle Supplies"},{"$f":"IFERROR(VLOOKUP(IF(C794=\"\",B794&\"||\"&B794,C794&\"||\"&B794),Worktags!AR:AV,5,FALSE),\"\")","v":"All"}]
["6100_SC6133 Materials and Supplies/Lab Gases and Cryogenics",{"$f":"Worktags!AS360","v":"6100"},{"$f":"IF(Worktags!AQ360<>Worktags!AS360,Worktags!AQ360,\"\")","v":"SC6133"},{"$f":"IFERROR(VLOOKUP(B795,Worktags!AL:AO,2,FALSE),\"\")","v":"Materials and Supplies"},{"$f":"IFERROR(VLOOKUP(C795,Worktags!O:T,2,FALSE),\"\")","v":"Lab Gases and Cryogenics"},{"$f":"IFERROR(VLOOKUP(IF(C795=\"\",B795&\"||\"&B795,C795&\"||\"&B795),Worktags!AR:AV,5,FALSE),\"\")","v":"All"}]
["6100_SC6199 Materials and Supplies/Materials and Supplies (reclass)",{"$f":"Worktags!AS364","v":"6100"},{"$f":"IF(Worktags!AQ364<>Worktags!AS364,Worktags!AQ364,\"\")","v":"SC6199"},{"$f":"IFERROR(VLOOKUP(B796,Worktags!AL:AO,2,FALSE),\"\")","v":"Materials and Supplies"},{"$f":"IFERROR(VLOOKUP(C796,Worktags!O:T,2,FALSE),\"\")","v":"Materials and Supplies (reclass)"},{"$f":"IFERROR(VLOOKUP(IF(C796=\"\",B796&\"||\"&B796,C796&\"||\"&B796),Worktags!AR:AV,5,FALSE),\"\")","v":"All"}]
["6300 Student Aid",{"$f":"Worktags!AL125","v":"6300"},null,{"$f":"IFERROR(VLOOKUP(B797,Worktags!AL:AO,2,FALSE),\"\")","v":"Student Aid"},null,{"$f":"IFERROR(VLOOKUP(IF(C797=\"\",B797&\"||\"&B797,C797&\"||\"&B797),Worktags!AR:AV,5,FALSE),\"\")","v":""}]
["6300_SC0630 Student Aid/Student Aid (Budget Only)",{"$f":"Worktags!AS192","v":"6300"},{"$f":"IF(Worktags!AQ192<>Worktags!AS192,Worktags!AQ192,\"\")","v":"SC0630"},{"$f":"IFERROR(VLOOKUP(B798,Worktags!AL:AO,2,FALSE),\"\")","v":"Student Aid"},{"$f":"IFERROR(VLOOKUP(C798,Worktags!O:T,2,FALSE),\"\")","v":"Student Aid (Budget Only)"},{"$f":"IFERROR(VLOOKUP(IF(C798=\"\",B798&\"||\"&B798,C798&\"||\"&B798),Worktags!AR:AV,5,FALSE),\"\")","v":"JE_Override"}]
["6300_SC6301 Student Aid/Scholarships",{"$f":"Worktags!AS365","v":"6300"},{"$f":"IF(Worktags!AQ365<>Worktags!AS365,Worktags!AQ365,\"\")","v":"SC6301"},{"$f":"IFERROR(VLOOKUP(B799,Worktags!AL:AO,2,FALSE),\"\")","v":"Student Aid"},{"$f":"IFERROR(VLOOKUP(C799,Worktags!O:T,2,FALSE),\"\")","v":"Scholarships"},{"$f":"IFERROR(VLOOKUP(IF(C799=\"\",B799&\"||\"&B799,C799&\"||\"&B799),Worktags!AR:AV,5,FALSE),\"\")","v":"All"}]
["6300_SC6302 Student Aid/Graduate Fellowship",{"$f":"Worktags!AS366","v":"6300"},{"$f":"IF(Worktags!AQ366<>Worktags!AS366,Worktags!AQ366,\"\")","v":"SC6302"},{"$f":"IFERROR(VLOOKUP(B800,Worktags!AL:AO,2,FALSE),\"\")","v":"Student Aid"},{"$f":"IFERROR(VLOOKUP(C800,Worktags!O:T,2,FALSE),\"\")","v":"Graduate Fellowship"},{"$f":"IFERROR(VLOOKUP(IF(C800=\"\",B800&\"||\"&B800,C800&\"||\"&B800),Worktags!AR:AV,5,FALSE),\"\")","v":"All"}]
["6300_SC6303 Student Aid/Grant",{"$f":"Worktags!AS367","v":"6300"},{"$f":"IF(Worktags!AQ367<>Worktags!AS367,Worktags!AQ367,\"\")","v":"SC6303"},{"$f":"IFERROR(VLOOKUP(B801,Worktags!AL:AO,2,FALSE),\"\")","v":"Student Aid"},{"$f":"IFERROR(VLOOKUP(C801,Worktags!O:T,2,FALSE),\"\")","v":"Grant"},{"$f":"IFERROR(VLOOKUP(IF(C801=\"\",B801&\"||\"&B801,C801&\"||\"&B801),Worktags!AR:AV,5,FALSE),\"\")","v":"All"}]
["6300_SC6304 Student Aid/Leadership Award",{"$f":"Worktags!AS368","v":"6300"},{"$f":"IF(Worktags!AQ368<>Worktags!AS368,Worktags!AQ368,\"\")","v":"SC6304"},{"$f":"IFERROR(VLOOKUP(B802,Worktags!AL:AO,2,FALSE),\"\")","v":"Student Aid"},{"$f":"IFERROR(VLOOKUP(C802,Worktags!O:T,2,FALSE),\"\")","v":"Leadership Award"},{"$f":"IFERROR(VLOOKUP(IF(C802=\"\",B802&\"||\"&B802,C802&\"||\"&B802),Worktags!AR:AV,5,FALSE),\"\")","v":"All"}]
["6300_SC6305 Student Aid/Tuition Assistance NonBYU Student",{"$f":"Worktags!AS369","v":"6300"},{"$f":"IF(Worktags!AQ369<>Worktags!AS369,Worktags!AQ369,\"\")","v":"SC6305"},{"$f":"IFERROR(VLOOKUP(B803,Worktags!AL:AO,2,FALSE),\"\")","v":"Student Aid"},{"$f":"IFERROR(VLOOKUP(C803,Worktags!O:T,2,FALSE),\"\")","v":"Tuition Assistance NonBYU Student"},{"$f":"IFERROR(VLOOKUP(IF(C803=\"\",B803&\"||\"&B803,C803&\"||\"&B803),Worktags!AR:AV,5,FALSE),\"\")","v":"All"}]
["6300_SC6306 Student Aid/Employee Benefit Tuition Assistance",{"$f":"Worktags!AS370","v":"6300"},{"$f":"IF(Worktags!AQ370<>Worktags!AS370,Worktags!AQ370,\"\")","v":"SC6306"},{"$f":"IFERROR(VLOOKUP(B804,Worktags!AL:AO,2,FALSE),\"\")","v":"Student Aid"},{"$f":"IFERROR(VLOOKUP(C804,Worktags!O:T,2,FALSE),\"\")","v":"Employee Benefit Tuition Assistance"},{"$f":"IFERROR(VLOOKUP(IF(C804=\"\",B804&\"||\"&B804,C804&\"||\"&B804),Worktags!AR:AV,5,FALSE),\"\")","v":"All"}]
["6300_SC6307 Student Aid/Other Student Aid",{"$f":"Worktags!AS371","v":"6300"},{"$f":"IF(Worktags!AQ371<>Worktags!AS371,Worktags!AQ371,\"\")","v":"SC6307"},{"$f":"IFERROR(VLOOKUP(B805,Worktags!AL:AO,2,FALSE),\"\")","v":"Student Aid"},{"$f":"IFERROR(VLOOKUP(C805,Worktags!O:T,2,FALSE),\"\")","v":"Other Student Aid"},{"$f":"IFERROR(VLOOKUP(IF(C805=\"\",B805&\"||\"&B805,C805&\"||\"&B805),Worktags!AR:AV,5,FALSE),\"\")","v":"All"}]
["6300_SC6308 Student Aid/Research Fellowships",{"$f":"Worktags!AS372","v":"6300"},{"$f":"IF(Worktags!AQ372<>Worktags!AS372,Worktags!AQ372,\"\")","v":"SC6308"},{"$f":"IFERROR(VLOOKUP(B806,Worktags!AL:AO,2,FALSE),\"\")","v":"Student Aid"},{"$f":"IFERROR(VLOOKUP(C806,Worktags!O:T,2,FALSE),\"\")","v":"Research Fellowships"},{"$f":"IFERROR(VLOOKUP(IF(C806=\"\",B806&\"||\"&B806,C806&\"||\"&B806),Worktags!AR:AV,5,FALSE),\"\")","v":"All"}]
["6300_SC6399 Student Aid/Student Aid (reclass)",{"$f":"Worktags!AS373","v":"6300"},{"$f":"IF(Worktags!AQ373<>Worktags!AS373,Worktags!AQ373,\"\")","v":"SC6399"},{"$f":"IFERROR(VLOOKUP(B807,Worktags!AL:AO,2,FALSE),\"\")","v":"Student Aid"},{"$f":"IFERROR(VLOOKUP(C807,Worktags!O:T,2,FALSE),\"\")","v":"Student Aid (reclass)"},{"$f":"IFERROR(VLOOKUP(IF(C807=\"\",B807&\"||\"&B807,C807&\"||\"&B807),Worktags!AR:AV,5,FALSE),\"\")","v":"All"}]
["6400 General and Administrative",{"$f":"Worktags!AL126","v":"6400"},null,{"$f":"IFERROR(VLOOKUP(B808,Worktags!AL:AO,2,FALSE),\"\")","v":"General and Administrative"},null,{"$f":"IFERROR(VLOOKUP(IF(C808=\"\",B808&\"||\"&B808,C808&\"||\"&B808),Worktags!AR:AV,5,FALSE),\"\")","v":""}]
["6400_RC6402 General and Administrative/",{"$f":"Worktags!AS185","v":"6400"},{"$f":"IF(Worktags!AQ185<>Worktags!AS185,Worktags!AQ185,\"\")","v":"RC6402"},{"$f":"IFERROR(VLOOKUP(B809,Worktags!AL:AO,2,FALSE),\"\")","v":"General and Administrative"},{"$f":"IFERROR(VLOOKUP(C809,Worktags!O:T,2,FALSE),\"\")","v":""},{"$f":"IFERROR(VLOOKUP(IF(C809=\"\",B809&\"||\"&B809,C809&\"||\"&B809),Worktags!AR:AV,5,FALSE),\"\")","v":"All"}]
["6400_RC6403 General and Administrative/Sponsored Program Income",{"$f":"Worktags!AS186","v":"6400"},{"$f":"IF(Worktags!AQ186<>Worktags!AS186,Worktags!AQ186,\"\")","v":"RC6403"},{"$f":"IFERROR(VLOOKUP(B810,Worktags!AL:AO,2,FALSE),\"\")","v":"General and Administrative"},{"$f":"IFERROR(VLOOKUP(C810,Worktags!O:T,2,FALSE),\"\")","v":"Sponsored Program Income"},{"$f":"IFERROR(VLOOKUP(IF(C810=\"\",B810&\"||\"&B810,C810&\"||\"&B810),Worktags!AR:AV,5,FALSE),\"\")","v":"All"}]
["6400_SC0640 General and Administrative/General and Administrative (Budget Only)",{"$f":"Worktags!AS193","v":"6400"},{"$f":"IF(Worktags!AQ193<>Worktags!AS193,Worktags!AQ193,\"\")","v":"SC0640"},{"$f":"IFERROR(VLOOKUP(B811,Worktags!AL:AO,2,FALSE),\"\")","v":"General and Administrative"},{"$f":"IFERROR(VLOOKUP(C811,Worktags!O:T,2,FALSE),\"\")","v":"General and Administrative (Budget Only)"},{"$f":"IFERROR(VLOOKUP(IF(C811=\"\",B811&\"||\"&B811,C811&\"||\"&B811),Worktags!AR:AV,5,FALSE),\"\")","v":"JE_Override"}]
["6400_SC6401 General and Administrative/Advertising",{"$f":"Worktags!AS375","v":"6400"},{"$f":"IF(Worktags!AQ375<>Worktags!AS375,Worktags!AQ375,\"\")","v":"SC6401"},{"$f":"IFERROR(VLOOKUP(B812,Worktags!AL:AO,2,FALSE),\"\")","v":"General and Administrative"},{"$f":"IFERROR(VLOOKUP(C812,Worktags!O:T,2,FALSE),\"\")","v":"Advertising"},{"$f":"IFERROR(VLOOKUP(IF(C812=\"\",B812&\"||\"&B812,C812&\"||\"&B812),Worktags!AR:AV,5,FALSE),\"\")","v":"All"}]
["6400_SC6402 General and Administrative/Allocated Indirect Costs",{"$f":"Worktags!AS376","v":"6400"},{"$f":"IF(Worktags!AQ376<>Worktags!AS376,Worktags!AQ376,\"\")","v":"SC6402"},{"$f":"IFERROR(VLOOKUP(B813,Worktags!AL:AO,2,FALSE),\"\")","v":"General and Administrative"},{"$f":"IFERROR(VLOOKUP(C813,Worktags!O:T,2,FALSE),\"\")","v":"Allocated Indirect Costs"},{"$f":"IFERROR(VLOOKUP(IF(C813=\"\",B813&\"||\"&B813,C813&\"||\"&B813),Worktags!AR:AV,5,FALSE),\"\")","v":"All"}]
["6400_SC6403 General and Administrative/Animal Services",{"$f":"Worktags!AS378","v":"6400"},{"$f":"IF(Worktags!AQ378<>Worktags!AS378,Worktags!AQ378,\"\")","v":"SC6403"},{"$f":"IFERROR(VLOOKUP(B814,Worktags!AL:AO,2,FALSE),\"\")","v":"General and Administrative"},{"$f":"IFERROR(VLOOKUP(C814,Worktags!O:T,2,FALSE),\"\")","v":"Animal Services"},{"$f":"IFERROR(VLOOKUP(IF(C814=\"\",B814&\"||\"&B814,C814&\"||\"&B814),Worktags!AR:AV,5,FALSE),\"\")","v":"All"}]
["6400_SC6404 General and Administrative/Architectural or Engineering Services",{"$f":"Worktags!AS382","v":"6400"},{"$f":"IF(Worktags!AQ382<>Worktags!AS382,Worktags!AQ382,\"\")","v":"SC6404"},{"$f":"IFERROR(VLOOKUP(B815,Worktags!AL:AO,2,FALSE),\"\")","v":"General and Administrative"},{"$f":"IFERROR(VLOOKUP(C815,Worktags!O:T,2,FALSE),\"\")","v":"Architectural or Engineering Services"},{"$f":"IFERROR(VLOOKUP(IF(C815=\"\",B815&\"||\"&B815,C815&\"||\"&B815),Worktags!AR:AV,5,FALSE),\"\")","v":"All"}]
["6400_SC6405 General and Administrative/Art and Design Services",{"$f":"Worktags!AS384","v":"6400"},{"$f":"IF(Worktags!AQ384<>Worktags!AS384,Worktags!AQ384,\"\")","v":"SC6405"},{"$f":"IFERROR(VLOOKUP(B816,Worktags!AL:AO,2,FALSE),\"\")","v":"General and Administrative"},{"$f":"IFERROR(VLOOKUP(C816,Worktags!O:T,2,FALSE),\"\")","v":"Art and Design Services"},{"$f":"IFERROR(VLOOKUP(IF(C816=\"\",B816&\"||\"&B816,C816&\"||\"&B816),Worktags!AR:AV,5,FALSE),\"\")","v":"All"}]
["6400_SC6406 General and Administrative/Athletic Events",{"$f":"Worktags!AS386","v":"6400"},{"$f":"IF(Worktags!AQ386<>Worktags!AS386,Worktags!AQ386,\"\")","v":"SC6406"},{"$f":"IFERROR(VLOOKUP(B817,Worktags!AL:AO,2,FALSE),\"\")","v":"General and Administrative"},{"$f":"IFERROR(VLOOKUP(C817,Worktags!O:T,2,FALSE),\"\")","v":"Athletic Events"},{"$f":"IFERROR(VLOOKUP(IF(C817=\"\",B817&\"||\"&B817,C817&\"||\"&B817),Worktags!AR:AV,5,FALSE),\"\")","v":"All"}]
["6400_SC6407 General and Administrative/Audio Visual Media Duplication",{"$f":"Worktags!AS388","v":"6400"},{"$f":"IF(Worktags!AQ388<>Worktags!AS388,Worktags!AQ388,\"\")","v":"SC6407"},{"$f":"IFERROR(VLOOKUP(B818,Worktags!AL:AO,2,FALSE),\"\")","v":"General and Administrative"},{"$f":"IFERROR(VLOOKUP(C818,Worktags!O:T,2,FALSE),\"\")","v":"Audio Visual Media Duplication"},{"$f":"IFERROR(VLOOKUP(IF(C818=\"\",B818&\"||\"&B818,C818&\"||\"&B818),Worktags!AR:AV,5,FALSE),\"\")","v":"All"}]
["6400_SC6408 General and Administrative/Bank, Trust, Collection Fees",{"$f":"Worktags!AS389","v":"6400"},{"$f":"IF(Worktags!AQ389<>Worktags!AS389,Worktags!AQ389,\"\")","v":"SC6408"},{"$f":"IFERROR(VLOOKUP(B819,Worktags!AL:AO,2,FALSE),\"\")","v":"General and Administrative"},{"$f":"IFERROR(VLOOKUP(C819,Worktags!O:T,2,FALSE),\"\")","v":"Bank, Trust, Collection Fees"},{"$f":"IFERROR(VLOOKUP(IF(C819=\"\",B819&\"||\"&B819,C819&\"||\"&B819),Worktags!AR:AV,5,FALSE),\"\")","v":"All"}]
["6400_SC6409 General and Administrative/Bad Debt Expense",{"$f":"Worktags!AS390","v":"6400"},{"$f":"IF(Worktags!AQ390<>Worktags!AS390,Worktags!AQ390,\"\")","v":"SC6409"},{"$f":"IFERROR(VLOOKUP(B820,Worktags!AL:AO,2,FALSE),\"\")","v":"General and Administrative"},{"$f":"IFERROR(VLOOKUP(C820,Worktags!O:T,2,FALSE),\"\")","v":"Bad Debt Expense"},{"$f":"IFERROR(VLOOKUP(IF(C820=\"\",B820&\"||\"&B820,C820&\"||\"&B820),Worktags!AR:AV,5,FALSE),\"\")","v":"All"}]
["6400_SC6410 General and Administrative/Broadcast Services",{"$f":"Worktags!AS392","v":"6400"},{"$f":"IF(Worktags!AQ392<>Worktags!AS392,Worktags!AQ392,\"\")","v":"SC6410"},{"$f":"IFERROR(VLOOKUP(B821,Worktags!AL:AO,2,FALSE),\"\")","v":"General and Administrative"},{"$f":"IFERROR(VLOOKUP(C821,Worktags!O:T,2,FALSE),\"\")","v":"Broadcast Services"},{"$f":"IFERROR(VLOOKUP(IF(C821=\"\",B821&\"||\"&B821,C821&\"||\"&B821),Worktags!AR:AV,5,FALSE),\"\")","v":"All"}]
["6400_SC6411 General and Administrative/Cash Prizes and Contest Payments",{"$f":"Worktags!AS393","v":"6400"},{"$f":"IF(Worktags!AQ393<>Worktags!AS393,Worktags!AQ393,\"\")","v":"SC6411"},{"$f":"IFERROR(VLOOKUP(B822,Worktags!AL:AO,2,FALSE),\"\")","v":"General and Administrative"},{"$f":"IFERROR(VLOOKUP(C822,Worktags!O:T,2,FALSE),\"\")","v":"Cash Prizes and Contest Payments"},{"$f":"IFERROR(VLOOKUP(IF(C822=\"\",B822&\"||\"&B822,C822&\"||\"&B822),Worktags!AR:AV,5,FALSE),\"\")","v":"All"}]
["6400_SC6412 General and Administrative/Cell Phones and Plans",{"$f":"Worktags!AS395","v":"6400"},{"$f":"IF(Worktags!AQ395<>Worktags!AS395,Worktags!AQ395,\"\")","v":"SC6412"},{"$f":"IFERROR(VLOOKUP(B823,Worktags!AL:AO,2,FALSE),\"\")","v":"General and Administrative"},{"$f":"IFERROR(VLOOKUP(C823,Worktags!O:T,2,FALSE),\"\")","v":"Cell Phones and Plans"},{"$f":"IFERROR(VLOOKUP(IF(C823=\"\",B823&\"||\"&B823,C823&\"||\"&B823),Worktags!AR:AV,5,FALSE),\"\")","v":"All"}]
["6400_SC6413 General and Administrative/Competition Officiating",{"$f":"Worktags!AS397","v":"6400"},{"$f":"IF(Worktags!AQ397<>Worktags!AS397,Worktags!AQ397,\"\")","v":"SC6413"},{"$f":"IFERROR(VLOOKUP(B824,Worktags!AL:AO,2,FALSE),\"\")","v":"General and Administrative"},{"$f":"IFERROR(VLOOKUP(C824,Worktags!O:T,2,FALSE),\"\")","v":"Competition Officiating"},{"$f":"IFERROR(VLOOKUP(IF(C824=\"\",B824&\"||\"&B824,C824&\"||\"&B824),Worktags!AR:AV,5,FALSE),\"\")","v":"All"}]
["6400_SC6414 General and Administrative/Computer Services",{"$f":"Worktags!AS401","v":"6400"},{"$f":"IF(Worktags!AQ401<>Worktags!AS401,Worktags!AQ401,\"\")","v":"SC6414"},{"$f":"IFERROR(VLOOKUP(B825,Worktags!AL:AO,2,FALSE),\"\")","v":"General and Administrative"},{"$f":"IFERROR(VLOOKUP(C825,Worktags!O:T,2,FALSE),\"\")","v":"Computer Services"},{"$f":"IFERROR(VLOOKUP(IF(C825=\"\",B825&\"||\"&B825,C825&\"||\"&B825),Worktags!AR:AV,5,FALSE),\"\")","v":"All"}]
["6400_SC6415 General and Administrative/Conference and Events Hosting",{"$f":"Worktags!AS403","v":"6400"},{"$f":"IF(Worktags!AQ403<>Worktags!AS403,Worktags!AQ403,\"\")","v":"SC6415"},{"$f":"IFERROR(VLOOKUP(B826,Worktags!AL:AO,2,FALSE),\"\")","v":"General and Administrative"},{"$f":"IFERROR(VLOOKUP(C826,Worktags!O:T,2,FALSE),\"\")","v":"Conference and Events Hosting"},{"$f":"IFERROR(VLOOKUP(IF(C826=\"\",B826&\"||\"&B826,C826&\"||\"&B826),Worktags!AR:AV,5,FALSE),\"\")","v":"All"}]
["6400_SC6416 General and Administrative/Conference Registration",{"$f":"Worktags!AS405","v":"6400"},{"$f":"IF(Worktags!AQ405<>Worktags!AS405,Worktags!AQ405,\"\")","v":"SC6416"},{"$f":"IFERROR(VLOOKUP(B827,Worktags!AL:AO,2,FALSE),\"\")","v":"General and Administrative"},{"$f":"IFERROR(VLOOKUP(C827,Worktags!O:T,2,FALSE),\"\")","v":"Conference Registration"},{"$f":"IFERROR(VLOOKUP(IF(C827=\"\",B827&\"||\"&B827,C827&\"||\"&B827),Worktags!AR:AV,5,FALSE),\"\")","v":"All"}]
["6400_SC6417 General and Administrative/Consulting - Financial and Research",{"$f":"Worktags!AS407","v":"6400"},{"$f":"IF(Worktags!AQ407<>Worktags!AS407,Worktags!AQ407,\"\")","v":"SC6417"},{"$f":"IFERROR(VLOOKUP(B828,Worktags!AL:AO,2,FALSE),\"\")","v":"General and Administrative"},{"$f":"IFERROR(VLOOKUP(C828,Worktags!O:T,2,FALSE),\"\")","v":"Consulting - Financial and Research"},{"$f":"IFERROR(VLOOKUP(IF(C828=\"\",B828&\"||\"&B828,C828&\"||\"&B828),Worktags!AR:AV,5,FALSE),\"\")","v":"All"}]
["6400_SC6418 General and Administrative/Credit Card Merchant Fees",{"$f":"Worktags!AS408","v":"6400"},{"$f":"IF(Worktags!AQ408<>Worktags!AS408,Worktags!AQ408,\"\")","v":"SC6418"},{"$f":"IFERROR(VLOOKUP(B829,Worktags!AL:AO,2,FALSE),\"\")","v":"General and Administrative"},{"$f":"IFERROR(VLOOKUP(C829,Worktags!O:T,2,FALSE),\"\")","v":"Credit Card Merchant Fees"},{"$f":"IFERROR(VLOOKUP(IF(C829=\"\",B829&\"||\"&B829,C829&\"||\"&B829),Worktags!AR:AV,5,FALSE),\"\")","v":"All"}]
["6400_SC6419 General and Administrative/Data Connectivity Services",{"$f":"Worktags!AS410","v":"6400"},{"$f":"IF(Worktags!AQ410<>Worktags!AS410,Worktags!AQ410,\"\")","v":"SC6419"},{"$f":"IFERROR(VLOOKUP(B830,Worktags!AL:AO,2,FALSE),\"\")","v":"General and Administrative"},{"$f":"IFERROR(VLOOKUP(C830,Worktags!O:T,2,FALSE),\"\")","v":"Data Connectivity Services"},{"$f":"IFERROR(VLOOKUP(IF(C830=\"\",B830&\"||\"&B830,C830&\"||\"&B830),Worktags!AR:AV,5,FALSE),\"\")","v":"All"}]
["6400_SC6420 General and Administrative/Educational Facilities - Rent/Lease <=1yr",{"$f":"Worktags!AS412","v":"6400"},{"$f":"IF(Worktags!AQ412<>Worktags!AS412,Worktags!AQ412,\"\")","v":"SC6420"},{"$f":"IFERROR(VLOOKUP(B831,Worktags!AL:AO,2,FALSE),\"\")","v":"General and Administrative"},{"$f":"IFERROR(VLOOKUP(C831,Worktags!O:T,2,FALSE),\"\")","v":"Educational Facilities - Rent/Lease <=1yr"},{"$f":"IFERROR(VLOOKUP(IF(C831=\"\",B831&\"||\"&B831,C831&\"||\"&B831),Worktags!AR:AV,5,FALSE),\"\")","v":"All"}]
["6400_SC6421 General and Administrative/Employee Development Services",{"$f":"Worktags!AS414","v":"6400"},{"$f":"IF(Worktags!AQ414<>Worktags!AS414,Worktags!AQ414,\"\")","v":"SC6421"},{"$f":"IFERROR(VLOOKUP(B832,Worktags!AL:AO,2,FALSE),\"\")","v":"General and Administrative"},{"$f":"IFERROR(VLOOKUP(C832,Worktags!O:T,2,FALSE),\"\")","v":"Employee Development Services"},{"$f":"IFERROR(VLOOKUP(IF(C832=\"\",B832&\"||\"&B832,C832&\"||\"&B832),Worktags!AR:AV,5,FALSE),\"\")","v":"All"}]
[{"$f":"IF(B833<>\"\",IF(C833<>\"\",B833&\"_\"&C833&\" \"&D833&\"/\"&E833,B833&\" \"&D833),\"\")","v":"6400_SC6422 General and Administrative/Food Services and Caterers"},{"$f":"Worktags!AS416","v":"6400"},{"$f":"IF(Worktags!AQ416<>Worktags!AS416,Worktags!AQ416,\"\")","v":"SC6422"},{"$f":"IFERROR(VLOOKUP(B833,Worktags!AL:AO,2,FALSE),\"\")","v":"General and Administrative"},{"$f":"IFERROR(VLOOKUP(C833,Worktags!O:T,2,FALSE),\"\")","v":"Food Services and Caterers"},{"$f":"IFERROR(VLOOKUP(IF(C833=\"\",B833&\"||\"&B833,C833&\"||\"&B833),Worktags!AR:AV,5,FALSE),\"\")","v":"All"}]
["6400_SC6423 General and Administrative/Foreign Exchange Payment Gain/Loss",{"$f":"Worktags!AS417","v":"6400"},{"$f":"IF(Worktags!AQ417<>Worktags!AS417,Worktags!AQ417,\"\")","v":"SC6423"},{"$f":"IFERROR(VLOOKUP(B834,Worktags!AL:AO,2,FALSE),\"\")","v":"General and Administrative"},{"$f":"IFERROR(VLOOKUP(C834,Worktags!O:T,2,FALSE),\"\")","v":"Foreign Exchange Payment Gain/Loss"},{"$f":"IFERROR(VLOOKUP(IF(C834=\"\",B834&\"||\"&B834,C834&\"||\"&B834),Worktags!AR:AV,5,FALSE),\"\")","v":"All"}]
["6400_SC6424 General and Administrative/Franchise Fees",{"$f":"Worktags!AS419","v":"6400"},{"$f":"IF(Worktags!AQ419<>Worktags!AS419,Worktags!AQ419,\"\")","v":"SC6424"},{"$f":"IFERROR(VLOOKUP(B835,Worktags!AL:AO,2,FALSE),\"\")","v":"General and Administrative"},{"$f":"IFERROR(VLOOKUP(C835,Worktags!O:T,2,FALSE),\"\")","v":"Franchise Fees"},{"$f":"IFERROR(VLOOKUP(IF(C835=\"\",B835&\"||\"&B835,C835&\"||\"&B835),Worktags!AR:AV,5,FALSE),\"\")","v":"All"}]
["6400_SC6425 General and Administrative/Government Fees",{"$f":"Worktags!AS421","v":"6400"},{"$f":"IF(Worktags!AQ421<>Worktags!AS421,Worktags!AQ421,\"\")","v":"SC6425"},{"$f":"IFERROR(VLOOKUP(B836,Worktags!AL:AO,2,FALSE),\"\")","v":"General and Administrative"},{"$f":"IFERROR(VLOOKUP(C836,Worktags!O:T,2,FALSE),\"\")","v":"Government Fees"},{"$f":"IFERROR(VLOOKUP(IF(C836=\"\",B836&\"||\"&B836,C836&\"||\"&B836),Worktags!AR:AV,5,FALSE),\"\")","v":"All"}]
["6400_SC6426 General and Administrative/Grants Subawards",{"$f":"Worktags!AS422","v":"6400"},{"$f":"IF(Worktags!AQ422<>Worktags!AS422,Worktags!AQ422,\"\")","v":"SC6426"},{"$f":"IFERROR(VLOOKUP(B837,Worktags!AL:AO,2,FALSE),\"\")","v":"General and Administrative"},{"$f":"IFERROR(VLOOKUP(C837,Worktags!O:T,2,FALSE),\"\")","v":"Grants Subawards"},{"$f":"IFERROR(VLOOKUP(IF(C837=\"\",B837&\"||\"&B837,C837&\"||\"&B837),Worktags!AR:AV,5,FALSE),\"\")","v":"All"}]
["6400_SC6427 General and Administrative/Hosted Entertainment",{"$f":"Worktags!AS424","v":"6400"},{"$f":"IF(Worktags!AQ424<>Worktags!AS424,Worktags!AQ424,\"\")","v":"SC6427"},{"$f":"IFERROR(VLOOKUP(B838,Worktags!AL:AO,2,FALSE),\"\")","v":"General and Administrative"},{"$f":"IFERROR(VLOOKUP(C838,Worktags!O:T,2,FALSE),\"\")","v":"Hosted Entertainment"},{"$f":"IFERROR(VLOOKUP(IF(C838=\"\",B838&\"||\"&B838,C838&\"||\"&B838),Worktags!AR:AV,5,FALSE),\"\")","v":"All"}]
["6400_SC6428 General and Administrative/Hosted Meals",{"$f":"Worktags!AS426","v":"6400"},{"$f":"IF(Worktags!AQ426<>Worktags!AS426,Worktags!AQ426,\"\")","v":"SC6428"},{"$f":"IFERROR(VLOOKUP(B839,Worktags!AL:AO,2,FALSE),\"\")","v":"General and Administrative"},{"$f":"IFERROR(VLOOKUP(C839,Worktags!O:T,2,FALSE),\"\")","v":"Hosted Meals"},{"$f":"IFERROR(VLOOKUP(IF(C839=\"\",B839&\"||\"&B839,C839&\"||\"&B839),Worktags!AR:AV,5,FALSE),\"\")","v":"All"}]
["6400_SC6429 General and Administrative/Insurance",{"$f":"Worktags!AS428","v":"6400"},{"$f":"IF(Worktags!AQ428<>Worktags!AS428,Worktags!AQ428,\"\")","v":"SC6429"},{"$f":"IFERROR(VLOOKUP(B840,Worktags!AL:AO,2,FALSE),\"\")","v":"General and Administrative"},{"$f":"IFERROR(VLOOKUP(C840,Worktags!O:T,2,FALSE),\"\")","v":"Insurance"},{"$f":"IFERROR(VLOOKUP(IF(C840=\"\",B840&\"||\"&B840,C840&\"||\"&B840),Worktags!AR:AV,5,FALSE),\"\")","v":"All"}]
["6400_SC6430 General and Administrative/Janitorial Services",{"$f":"Worktags!AS430","v":"6400"},{"$f":"IF(Worktags!AQ430<>Worktags!AS430,Worktags!AQ430,\"\")","v":"SC6430"},{"$f":"IFERROR(VLOOKUP(B841,Worktags!AL:AO,2,FALSE),\"\")","v":"General and Administrative"},{"$f":"IFERROR(VLOOKUP(C841,Worktags!O:T,2,FALSE),\"\")","v":"Janitorial Services"},{"$f":"IFERROR(VLOOKUP(IF(C841=\"\",B841&\"||\"&B841,C841&\"||\"&B841),Worktags!AR:AV,5,FALSE),\"\")","v":"All"}]
["6400_SC6431 General and Administrative/Laundry Services",{"$f":"Worktags!AS432","v":"6400"},{"$f":"IF(Worktags!AQ432<>Worktags!AS432,Worktags!AQ432,\"\")","v":"SC6431"},{"$f":"IFERROR(VLOOKUP(B842,Worktags!AL:AO,2,FALSE),\"\")","v":"General and Administrative"},{"$f":"IFERROR(VLOOKUP(C842,Worktags!O:T,2,FALSE),\"\")","v":"Laundry Services"},{"$f":"IFERROR(VLOOKUP(IF(C842=\"\",B842&\"||\"&B842,C842&\"||\"&B842),Worktags!AR:AV,5,FALSE),\"\")","v":"All"}]
["6400_SC6432 General and Administrative/Legal Services",{"$f":"Worktags!AS434","v":"6400"},{"$f":"IF(Worktags!AQ434<>Worktags!AS434,Worktags!AQ434,\"\")","v":"SC6432"},{"$f":"IFERROR(VLOOKUP(B843,Worktags!AL:AO,2,FALSE),\"\")","v":"General and Administrative"},{"$f":"IFERROR(VLOOKUP(C843,Worktags!O:T,2,FALSE),\"\")","v":"Legal Services"},{"$f":"IFERROR(VLOOKUP(IF(C843=\"\",B843&\"||\"&B843,C843&\"||\"&B843),Worktags!AR:AV,5,FALSE),\"\")","v":"All"}]
["6400_SC6433 General and Administrative/Medical Services",{"$f":"Worktags!AS436","v":"6400"},{"$f":"IF(Worktags!AQ436<>Worktags!AS436,Worktags!AQ436,\"\")","v":"SC6433"},{"$f":"IFERROR(VLOOKUP(B844,Worktags!AL:AO,2,FALSE),\"\")","v":"General and Administrative"},{"$f":"IFERROR(VLOOKUP(C844,Worktags!O:T,2,FALSE),\"\")","v":"Medical Services"},{"$f":"IFERROR(VLOOKUP(IF(C844=\"\",B844&\"||\"&B844,C844&\"||\"&B844),Worktags!AR:AV,5,FALSE),\"\")","v":"All"}]
["6400_SC6434 General and Administrative/Membership Dues",{"$f":"Worktags!AS438","v":"6400"},{"$f":"IF(Worktags!AQ438<>Worktags!AS438,Worktags!AQ438,\"\")","v":"SC6434"},{"$f":"IFERROR(VLOOKUP(B845,Worktags!AL:AO,2,FALSE),\"\")","v":"General and Administrative"},{"$f":"IFERROR(VLOOKUP(C845,Worktags!O:T,2,FALSE),\"\")","v":"Membership Dues"},{"$f":"IFERROR(VLOOKUP(IF(C845=\"\",B845&\"||\"&B845,C845&\"||\"&B845),Worktags!AR:AV,5,FALSE),\"\")","v":"All"}]
["6400_SC6435 General and Administrative/Misc Independent Contractors",{"$f":"Worktags!AS442","v":"6400"},{"$f":"IF(Worktags!AQ442<>Worktags!AS442,Worktags!AQ442,\"\")","v":"SC6435"},{"$f":"IFERROR(VLOOKUP(B846,Worktags!AL:AO,2,FALSE),\"\")","v":"General and Administrative"},{"$f":"IFERROR(VLOOKUP(C846,Worktags!O:T,2,FALSE),\"\")","v":"Misc Independent Contractors"},{"$f":"IFERROR(VLOOKUP(IF(C846=\"\",B846&\"||\"&B846,C846&\"||\"&B846),Worktags!AR:AV,5,FALSE),\"\")","v":"All"}]
["6400_SC6436 General and Administrative/Non-BYU Tuition Payment",{"$f":"Worktags!AS443","v":"6400"},{"$f":"IF(Worktags!AQ443<>Worktags!AS443,Worktags!AQ443,\"\")","v":"SC6436"},{"$f":"IFERROR(VLOOKUP(B847,Worktags!AL:AO,2,FALSE),\"\")","v":"General and Administrative"},{"$f":"IFERROR(VLOOKUP(C847,Worktags!O:T,2,FALSE),\"\")","v":"Non-BYU Tuition Payment"},{"$f":"IFERROR(VLOOKUP(IF(C847=\"\",B847&\"||\"&B847,C847&\"||\"&B847),Worktags!AR:AV,5,FALSE),\"\")","v":"All"}]
["6400_SC6437 General and Administrative/Out of State Worker Contracts",{"$f":"Worktags!AS444","v":"6400"},{"$f":"IF(Worktags!AQ444<>Worktags!AS444,Worktags!AQ444,\"\")","v":"SC6437"},{"$f":"IFERROR(VLOOKUP(B848,Worktags!AL:AO,2,FALSE),\"\")","v":"General and Administrative"},{"$f":"IFERROR(VLOOKUP(C848,Worktags!O:T,2,FALSE),\"\")","v":"Out of State Worker Contracts"},{"$f":"IFERROR(VLOOKUP(IF(C848=\"\",B848&\"||\"&B848,C848&\"||\"&B848),Worktags!AR:AV,5,FALSE),\"\")","v":"All"}]
["6400_SC6438 General and Administrative/Performers/Presenters",{"$f":"Worktags!AS446","v":"6400"},{"$f":"IF(Worktags!AQ446<>Worktags!AS446,Worktags!AQ446,\"\")","v":"SC6438"},{"$f":"IFERROR(VLOOKUP(B849,Worktags!AL:AO,2,FALSE),\"\")","v":"General and Administrative"},{"$f":"IFERROR(VLOOKUP(C849,Worktags!O:T,2,FALSE),\"\")","v":"Performers/Presenters"},{"$f":"IFERROR(VLOOKUP(IF(C849=\"\",B849&\"||\"&B849,C849&\"||\"&B849),Worktags!AR:AV,5,FALSE),\"\")","v":"All"}]
["6400_SC6439 General and Administrative/Pest Control Services",{"$f":"Worktags!AS448","v":"6400"},{"$f":"IF(Worktags!AQ448<>Worktags!AS448,Worktags!AQ448,\"\")","v":"SC6439"},{"$f":"IFERROR(VLOOKUP(B850,Worktags!AL:AO,2,FALSE),\"\")","v":"General and Administrative"},{"$f":"IFERROR(VLOOKUP(C850,Worktags!O:T,2,FALSE),\"\")","v":"Pest Control Services"},{"$f":"IFERROR(VLOOKUP(IF(C850=\"\",B850&\"||\"&B850,C850&\"||\"&B850),Worktags!AR:AV,5,FALSE),\"\")","v":"All"}]
["6400_SC6440 General and Administrative/Portable Structures-Rent/Lease <=1yr",{"$f":"Worktags!AS450","v":"6400"},{"$f":"IF(Worktags!AQ450<>Worktags!AS450,Worktags!AQ450,\"\")","v":"SC6440"},{"$f":"IFERROR(VLOOKUP(B851,Worktags!AL:AO,2,FALSE),\"\")","v":"General and Administrative"},{"$f":"IFERROR(VLOOKUP(C851,Worktags!O:T,2,FALSE),\"\")","v":"Portable Structures-Rent/Lease <=1yr"},{"$f":"IFERROR(VLOOKUP(IF(C851=\"\",B851&\"||\"&B851,C851&\"||\"&B851),Worktags!AR:AV,5,FALSE),\"\")","v":"All"}]
["6400_SC6441 General and Administrative/Postage, Shipping and Freight",{"$f":"Worktags!AS452","v":"6400"},{"$f":"IF(Worktags!AQ452<>Worktags!AS452,Worktags!AQ452,\"\")","v":"SC6441"},{"$f":"IFERROR(VLOOKUP(B852,Worktags!AL:AO,2,FALSE),\"\")","v":"General and Administrative"},{"$f":"IFERROR(VLOOKUP(C852,Worktags!O:T,2,FALSE),\"\")","v":"Postage, Shipping and Freight"},{"$f":"IFERROR(VLOOKUP(IF(C852=\"\",B852&\"||\"&B852,C852&\"||\"&B852),Worktags!AR:AV,5,FALSE),\"\")","v":"All"}]
["6400_SC6442 General and Administrative/Printing Services",{"$f":"Worktags!AS454","v":"6400"},{"$f":"IF(Worktags!AQ454<>Worktags!AS454,Worktags!AQ454,\"\")","v":"SC6442"},{"$f":"IFERROR(VLOOKUP(B853,Worktags!AL:AO,2,FALSE),\"\")","v":"General and Administrative"},{"$f":"IFERROR(VLOOKUP(C853,Worktags!O:T,2,FALSE),\"\")","v":"Printing Services"},{"$f":"IFERROR(VLOOKUP(IF(C853=\"\",B853&\"||\"&B853,C853&\"||\"&B853),Worktags!AR:AV,5,FALSE),\"\")","v":"All"}]
["6400_SC6443 General and Administrative/Production Services",{"$f":"Worktags!AS456","v":"6400"},{"$f":"IF(Worktags!AQ456<>Worktags!AS456,Worktags!AQ456,\"\")","v":"SC6443"},{"$f":"IFERROR(VLOOKUP(B854,Worktags!AL:AO,2,FALSE),\"\")","v":"General and Administrative"},{"$f":"IFERROR(VLOOKUP(C854,Worktags!O:T,2,FALSE),\"\")","v":"Production Services"},{"$f":"IFERROR(VLOOKUP(IF(C854=\"\",B854&\"||\"&B854,C854&\"||\"&B854),Worktags!AR:AV,5,FALSE),\"\")","v":"All"}]
["6400_SC6444 General and Administrative/Promotional and Branded Items",{"$f":"Worktags!AS458","v":"6400"},{"$f":"IF(Worktags!AQ458<>Worktags!AS458,Worktags!AQ458,\"\")","v":"SC6444"},{"$f":"IFERROR(VLOOKUP(B855,Worktags!AL:AO,2,FALSE),\"\")","v":"General and Administrative"},{"$f":"IFERROR(VLOOKUP(C855,Worktags!O:T,2,FALSE),\"\")","v":"Promotional and Branded Items"},{"$f":"IFERROR(VLOOKUP(IF(C855=\"\",B855&\"||\"&B855,C855&\"||\"&B855),Worktags!AR:AV,5,FALSE),\"\")","v":"All"}]
["6400_SC6445 General and Administrative/Public Safety Services",{"$f":"Worktags!AS460","v":"6400"},{"$f":"IF(Worktags!AQ460<>Worktags!AS460,Worktags!AQ460,\"\")","v":"SC6445"},{"$f":"IFERROR(VLOOKUP(B856,Worktags!AL:AO,2,FALSE),\"\")","v":"General and Administrative"},{"$f":"IFERROR(VLOOKUP(C856,Worktags!O:T,2,FALSE),\"\")","v":"Public Safety Services"},{"$f":"IFERROR(VLOOKUP(IF(C856=\"\",B856&\"||\"&B856,C856&\"||\"&B856),Worktags!AR:AV,5,FALSE),\"\")","v":"All"}]
["6400_SC6446 General and Administrative/Publication Services",{"$f":"Worktags!AS462","v":"6400"},{"$f":"IF(Worktags!AQ462<>Worktags!AS462,Worktags!AQ462,\"\")","v":"SC6446"},{"$f":"IFERROR(VLOOKUP(B857,Worktags!AL:AO,2,FALSE),\"\")","v":"General and Administrative"},{"$f":"IFERROR(VLOOKUP(C857,Worktags!O:T,2,FALSE),\"\")","v":"Publication Services"},{"$f":"IFERROR(VLOOKUP(IF(C857=\"\",B857&\"||\"&B857,C857&\"||\"&B857),Worktags!AR:AV,5,FALSE),\"\")","v":"All"}]
["6400_SC6447 General and Administrative/Real Estate - Rent/Lease <=1yr",{"$f":"Worktags!AS464","v":"6400"},{"$f":"IF(Worktags!AQ464<>Worktags!AS464,Worktags!AQ464,\"\")","v":"SC6447"},{"$f":"IFERROR(VLOOKUP(B858,Worktags!AL:AO,2,FALSE),\"\")","v":"General and Administrative"},{"$f":"IFERROR(VLOOKUP(C858,Worktags!O:T,2,FALSE),\"\")","v":"Real Estate - Rent/Lease <=1yr"},{"$f":"IFERROR(VLOOKUP(IF(C858=\"\",B858&\"||\"&B858,C858&\"||\"&B858),Worktags!AR:AV,5,FALSE),\"\")","v":"All"}]
["6400_SC6448 General and Administrative/Real Estate - Rent/Lease >1yr",{"$f":"Worktags!AS466","v":"6400"},{"$f":"IF(Worktags!AQ466<>Worktags!AS466,Worktags!AQ466,\"\")","v":"SC6448"},{"$f":"IFERROR(VLOOKUP(B859,Worktags!AL:AO,2,FALSE),\"\")","v":"General and Administrative"},{"$f":"IFERROR(VLOOKUP(C859,Worktags!O:T,2,FALSE),\"\")","v":"Real Estate - Rent/Lease >1yr"},{"$f":"IFERROR(VLOOKUP(IF(C859=\"\",B859&\"||\"&B859,C859&\"||\"&B859),Worktags!AR:AV,5,FALSE),\"\")","v":"All"}]
["6400_SC6449 General and Administrative/Rent/Lease < = 1 year",{"$f":"Worktags!AS470","v":"6400"},{"$f":"IF(Worktags!AQ470<>Worktags!AS470,Worktags!AQ470,\"\")","v":"SC6449"},{"$f":"IFERROR(VLOOKUP(B860,Worktags!AL:AO,2,FALSE),\"\")","v":"General and Administrative"},{"$f":"IFERROR(VLOOKUP(C860,Worktags!O:T,2,FALSE),\"\")","v":"Rent/Lease < = 1 year"},{"$f":"IFERROR(VLOOKUP(IF(C860=\"\",B860&\"||\"&B860,C860&\"||\"&B860),Worktags!AR:AV,5,FALSE),\"\")","v":"All"}]
["6400_SC6450 General and Administrative/Rent/Lease >1 Year",{"$f":"Worktags!AS474","v":"6400"},{"$f":"IF(Worktags!AQ474<>Worktags!AS474,Worktags!AQ474,\"\")","v":"SC6450"},{"$f":"IFERROR(VLOOKUP(B861,Worktags!AL:AO,2,FALSE),\"\")","v":"General and Administrative"},{"$f":"IFERROR(VLOOKUP(C861,Worktags!O:T,2,FALSE),\"\")","v":"Rent/Lease >1 Year"},{"$f":"IFERROR(VLOOKUP(IF(C861=\"\",B861&\"||\"&B861,C861&\"||\"&B861),Worktags!AR:AV,5,FALSE),\"\")","v":"All"}]
["6400_SC6451 General and Administrative/Research Subjects",{"$f":"Worktags!AS476","v":"6400"},{"$f":"IF(Worktags!AQ476<>Worktags!AS476,Worktags!AQ476,\"\")","v":"SC6451"},{"$f":"IFERROR(VLOOKUP(B862,Worktags!AL:AO,2,FALSE),\"\")","v":"General and Administrative"},{"$f":"IFERROR(VLOOKUP(C862,Worktags!O:T,2,FALSE),\"\")","v":"Research Subjects"},{"$f":"IFERROR(VLOOKUP(IF(C862=\"\",B862&\"||\"&B862,C862&\"||\"&B862),Worktags!AR:AV,5,FALSE),\"\")","v":"All"}]
["6400_SC6452 General and Administrative/Royalties and Licensing Fees",{"$f":"Worktags!AS478","v":"6400"},{"$f":"IF(Worktags!AQ478<>Worktags!AS478,Worktags!AQ478,\"\")","v":"SC6452"},{"$f":"IFERROR(VLOOKUP(B863,Worktags!AL:AO,2,FALSE),\"\")","v":"General and Administrative"},{"$f":"IFERROR(VLOOKUP(C863,Worktags!O:T,2,FALSE),\"\")","v":"Royalties and Licensing Fees"},{"$f":"IFERROR(VLOOKUP(IF(C863=\"\",B863&\"||\"&B863,C863&\"||\"&B863),Worktags!AR:AV,5,FALSE),\"\")","v":"All"}]
["6400_SC6453 General and Administrative/Scientific Services",{"$f":"Worktags!AS480","v":"6400"},{"$f":"IF(Worktags!AQ480<>Worktags!AS480,Worktags!AQ480,\"\")","v":"SC6453"},{"$f":"IFERROR(VLOOKUP(B864,Worktags!AL:AO,2,FALSE),\"\")","v":"General and Administrative"},{"$f":"IFERROR(VLOOKUP(C864,Worktags!O:T,2,FALSE),\"\")","v":"Scientific Services"},{"$f":"IFERROR(VLOOKUP(IF(C864=\"\",B864&\"||\"&B864,C864&\"||\"&B864),Worktags!AR:AV,5,FALSE),\"\")","v":"All"}]
["6400_SC6454 General and Administrative/Screening Services",{"$f":"Worktags!AS482","v":"6400"},{"$f":"IF(Worktags!AQ482<>Worktags!AS482,Worktags!AQ482,\"\")","v":"SC6454"},{"$f":"IFERROR(VLOOKUP(B865,Worktags!AL:AO,2,FALSE),\"\")","v":"General and Administrative"},{"$f":"IFERROR(VLOOKUP(C865,Worktags!O:T,2,FALSE),\"\")","v":"Screening Services"},{"$f":"IFERROR(VLOOKUP(IF(C865=\"\",B865&\"||\"&B865,C865&\"||\"&B865),Worktags!AR:AV,5,FALSE),\"\")","v":"All"}]
["6400_SC6455 General and Administrative/Services (not otherwise specified)",{"$f":"Worktags!AS486","v":"6400"},{"$f":"IF(Worktags!AQ486<>Worktags!AS486,Worktags!AQ486,\"\")","v":"SC6455"},{"$f":"IFERROR(VLOOKUP(B866,Worktags!AL:AO,2,FALSE),\"\")","v":"General and Administrative"},{"$f":"IFERROR(VLOOKUP(C866,Worktags!O:T,2,FALSE),\"\")","v":"Services (not otherwise specified)"},{"$f":"IFERROR(VLOOKUP(IF(C866=\"\",B866&\"||\"&B866,C866&\"||\"&B866),Worktags!AR:AV,5,FALSE),\"\")","v":"All"}]
["6400_SC6456 General and Administrative/Shared Partner Services",{"$f":"Worktags!AS488","v":"6400"},{"$f":"IF(Worktags!AQ488<>Worktags!AS488,Worktags!AQ488,\"\")","v":"SC6456"},{"$f":"IFERROR(VLOOKUP(B867,Worktags!AL:AO,2,FALSE),\"\")","v":"General and Administrative"},{"$f":"IFERROR(VLOOKUP(C867,Worktags!O:T,2,FALSE),\"\")","v":"Shared Partner Services"},{"$f":"IFERROR(VLOOKUP(IF(C867=\"\",B867&\"||\"&B867,C867&\"||\"&B867),Worktags!AR:AV,5,FALSE),\"\")","v":"All"}]
["6400_SC6457 General and Administrative/Student Teacher Supervision",{"$f":"Worktags!AS490","v":"6400"},{"$f":"IF(Worktags!AQ490<>Worktags!AS490,Worktags!AQ490,\"\")","v":"SC6457"},{"$f":"IFERROR(VLOOKUP(B868,Worktags!AL:AO,2,FALSE),\"\")","v":"General and Administrative"},{"$f":"IFERROR(VLOOKUP(C868,Worktags!O:T,2,FALSE),\"\")","v":"Student Teacher Supervision"},{"$f":"IFERROR(VLOOKUP(IF(C868=\"\",B868&\"||\"&B868,C868&\"||\"&B868),Worktags!AR:AV,5,FALSE),\"\")","v":"All"}]
["6400_SC6458 General and Administrative/Subscriptions",{"$f":"Worktags!AS492","v":"6400"},{"$f":"IF(Worktags!AQ492<>Worktags!AS492,Worktags!AQ492,\"\")","v":"SC6458"},{"$f":"IFERROR(VLOOKUP(B869,Worktags!AL:AO,2,FALSE),\"\")","v":"General and Administrative"},{"$f":"IFERROR(VLOOKUP(C869,Worktags!O:T,2,FALSE),\"\")","v":"Subscriptions"},{"$f":"IFERROR(VLOOKUP(IF(C869=\"\",B869&\"||\"&B869,C869&\"||\"&B869),Worktags!AR:AV,5,FALSE),\"\")","v":"All"}]
["6400_SC6459 General and Administrative/Taxes",{"$f":"Worktags!AS494","v":"6400"},{"$f":"IF(Worktags!AQ494<>Worktags!AS494,Worktags!AQ494,\"\")","v":"SC6459"},{"$f":"IFERROR(VLOOKUP(B870,Worktags!AL:AO,2,FALSE),\"\")","v":"General and Administrative"},{"$f":"IFERROR(VLOOKUP(C870,Worktags!O:T,2,FALSE),\"\")","v":"Taxes"},{"$f":"IFERROR(VLOOKUP(IF(C870=\"\",B870&\"||\"&B870,C870&\"||\"&B870),Worktags!AR:AV,5,FALSE),\"\")","v":"All"}]
["6400_SC6460 General and Administrative/Testing Services",{"$f":"Worktags!AS496","v":"6400"},{"$f":"IF(Worktags!AQ496<>Worktags!AS496,Worktags!AQ496,\"\")","v":"SC6460"},{"$f":"IFERROR(VLOOKUP(B871,Worktags!AL:AO,2,FALSE),\"\")","v":"General and Administrative"},{"$f":"IFERROR(VLOOKUP(C871,Worktags!O:T,2,FALSE),\"\")","v":"Testing Services"},{"$f":"IFERROR(VLOOKUP(IF(C871=\"\",B871&\"||\"&B871,C871&\"||\"&B871),Worktags!AR:AV,5,FALSE),\"\")","v":"All"}]
["6400_SC6461 General and Administrative/TV, Media Subscription Services",{"$f":"Worktags!AS498","v":"6400"},{"$f":"IF(Worktags!AQ498<>Worktags!AS498,Worktags!AQ498,\"\")","v":"SC6461"},{"$f":"IFERROR(VLOOKUP(B872,Worktags!AL:AO,2,FALSE),\"\")","v":"General and Administrative"},{"$f":"IFERROR(VLOOKUP(C872,Worktags!O:T,2,FALSE),\"\")","v":"TV, Media Subscription Services"},{"$f":"IFERROR(VLOOKUP(IF(C872=\"\",B872&\"||\"&B872,C872&\"||\"&B872),Worktags!AR:AV,5,FALSE),\"\")","v":"All"}]
["6400_SC6462 General and Administrative/University Donations",{"$f":"Worktags!AS499","v":"6400"},{"$f":"IF(Worktags!AQ499<>Worktags!AS499,Worktags!AQ499,\"\")","v":"SC6462"},{"$f":"IFERROR(VLOOKUP(B873,Worktags!AL:AO,2,FALSE),\"\")","v":"General and Administrative"},{"$f":"IFERROR(VLOOKUP(C873,Worktags!O:T,2,FALSE),\"\")","v":"University Donations"},{"$f":"IFERROR(VLOOKUP(IF(C873=\"\",B873&\"||\"&B873,C873&\"||\"&B873),Worktags!AR:AV,5,FALSE),\"\")","v":"All"}]
["6400_SC6463 General and Administrative/Waste Disposal Services",{"$f":"Worktags!AS501","v":"6400"},{"$f":"IF(Worktags!AQ501<>Worktags!AS501,Worktags!AQ501,\"\")","v":"SC6463"},{"$f":"IFERROR(VLOOKUP(B874,Worktags!AL:AO,2,FALSE),\"\")","v":"General and Administrative"},{"$f":"IFERROR(VLOOKUP(C874,Worktags!O:T,2,FALSE),\"\")","v":"Waste Disposal Services"},{"$f":"IFERROR(VLOOKUP(IF(C874=\"\",B874&\"||\"&B874,C874&\"||\"&B874),Worktags!AR:AV,5,FALSE),\"\")","v":"All"}]
["6400_SC6464 General and Administrative/Facilities and Administration Expense",{"$f":"Worktags!AS502","v":"6400"},{"$f":"IF(Worktags!AQ502<>Worktags!AS502,Worktags!AQ502,\"\")","v":"SC6464"},{"$f":"IFERROR(VLOOKUP(B875,Worktags!AL:AO,2,FALSE),\"\")","v":"General and Administrative"},{"$f":"IFERROR(VLOOKUP(C875,Worktags!O:T,2,FALSE),\"\")","v":"Facilities and Administration Expense"},{"$f":"IFERROR(VLOOKUP(IF(C875=\"\",B875&\"||\"&B875,C875&\"||\"&B875),Worktags!AR:AV,5,FALSE),\"\")","v":"JE_Research|JE_Override"}]
["6400_SC6465 General and Administrative/Facilities and Administration Recovery",{"$f":"Worktags!AS503","v":"6400"},{"$f":"IF(Worktags!AQ503<>Worktags!AS503,Worktags!AQ503,\"\")","v":"SC6465"},{"$f":"IFERROR(VLOOKUP(B876,Worktags!AL:AO,2,FALSE),\"\")","v":"General and Administrative"},{"$f":"IFERROR(VLOOKUP(C876,Worktags!O:T,2,FALSE),\"\")","v":"Facilities and Administration Recovery"},{"$f":"IFERROR(VLOOKUP(IF(C876=\"\",B876&\"||\"&B876,C876&\"||\"&B876),Worktags!AR:AV,5,FALSE),\"\")","v":"JE_Research|JE_Override"}]
["6400_SC6466 General and Administrative/Income Taxes",{"$f":"Worktags!AS505","v":"6400"},{"$f":"IF(Worktags!AQ505<>Worktags!AS505,Worktags!AQ505,\"\")","v":"SC6466"},{"$f":"IFERROR(VLOOKUP(B877,Worktags!AL:AO,2,FALSE),\"\")","v":"General and Administrative"},{"$f":"IFERROR(VLOOKUP(C877,Worktags!O:T,2,FALSE),\"\")","v":"Income Taxes"},{"$f":"IFERROR(VLOOKUP(IF(C877=\"\",B877&\"||\"&B877,C877&\"||\"&B877),Worktags!AR:AV,5,FALSE),\"\")","v":"All"}]
["6400_SC6467 General and Administrative/Donation to Affiliate",{"$f":"Worktags!AS506","v":"6400"},{"$f":"IF(Worktags!AQ506<>Worktags!AS506,Worktags!AQ506,\"\")","v":"SC6467"},{"$f":"IFERROR(VLOOKUP(B878,Worktags!AL:AO,2,FALSE),\"\")","v":"General and Administrative"},{"$f":"IFERROR(VLOOKUP(C878,Worktags!O:T,2,FALSE),\"\")","v":"Donation to Affiliate"},{"$f":"IFERROR(VLOOKUP(IF(C878=\"\",B878&\"||\"&B878,C878&\"||\"&B878),Worktags!AR:AV,5,FALSE),\"\")","v":"JE_Override"}]
["6400_SC6499 General and Administrative/General and Administrative (reclass)",{"$f":"Worktags!AS510","v":"6400"},{"$f":"IF(Worktags!AQ510<>Worktags!AS510,Worktags!AQ510,\"\")","v":"SC6499"},{"$f":"IFERROR(VLOOKUP(B879,Worktags!AL:AO,2,FALSE),\"\")","v":"General and Administrative"},{"$f":"IFERROR(VLOOKUP(C879,Worktags!O:T,2,FALSE),\"\")","v":"General and Administrative (reclass)"},{"$f":"IFERROR(VLOOKUP(IF(C879=\"\",B879&\"||\"&B879,C879&\"||\"&B879),Worktags!AR:AV,5,FALSE),\"\")","v":"All"}]
["6498 General and Administrative (Contra)",{"$f":"Worktags!AL127","v":"6498"},null,{"$f":"IFERROR(VLOOKUP(B880,Worktags!AL:AO,2,FALSE),\"\")","v":"General and Administrative (Contra)"},null,{"$f":"IFERROR(VLOOKUP(IF(C880=\"\",B880&\"||\"&B880,C880&\"||\"&B880),Worktags!AR:AV,5,FALSE),\"\")","v":""}]
["6600 Interest Expense",{"$f":"Worktags!AL128","v":"6600"},null,{"$f":"IFERROR(VLOOKUP(B881,Worktags!AL:AO,2,FALSE),\"\")","v":"Interest Expense"},null,{"$f":"IFERROR(VLOOKUP(IF(C881=\"\",B881&\"||\"&B881,C881&\"||\"&B881),Worktags!AR:AV,5,FALSE),\"\")","v":""}]
["6600_SC6610 Interest Expense/Interest Expense",{"$f":"Worktags!AS511","v":"6600"},{"$f":"IF(Worktags!AQ511<>Worktags!AS511,Worktags!AQ511,\"\")","v":"SC6610"},{"$f":"IFERROR(VLOOKUP(B882,Worktags!AL:AO,2,FALSE),\"\")","v":"Interest Expense"},{"$f":"IFERROR(VLOOKUP(C882,Worktags!O:T,2,FALSE),\"\")","v":"Interest Expense"},{"$f":"IFERROR(VLOOKUP(IF(C882=\"\",B882&\"||\"&B882,C882&\"||\"&B882),Worktags!AR:AV,5,FALSE),\"\")","v":"All"}]
["6700 Physical Facilities",{"$f":"Worktags!AL129","v":"6700"},null,{"$f":"IFERROR(VLOOKUP(B883,Worktags!AL:AO,2,FALSE),\"\")","v":"Physical Facilities"},null,{"$f":"IFERROR(VLOOKUP(IF(C883=\"\",B883&\"||\"&B883,C883&\"||\"&B883),Worktags!AR:AV,5,FALSE),\"\")","v":""}]
["6700_SC0670 Physical Facilities/Physical Facilities (Budget Only)",{"$f":"Worktags!AS194","v":"6700"},{"$f":"IF(Worktags!AQ194<>Worktags!AS194,Worktags!AQ194,\"\")","v":"SC0670"},{"$f":"IFERROR(VLOOKUP(B884,Worktags!AL:AO,2,FALSE),\"\")","v":"Physical Facilities"},{"$f":"IFERROR(VLOOKUP(C884,Worktags!O:T,2,FALSE),\"\")","v":"Physical Facilities (Budget Only)"},{"$f":"IFERROR(VLOOKUP(IF(C884=\"\",B884&\"||\"&B884,C884&\"||\"&B884),Worktags!AR:AV,5,FALSE),\"\")","v":"JE_Override"}]
["6700_SC6701 Physical Facilities/Building Access Supplies",{"$f":"Worktags!AS517","v":"6700"},{"$f":"IF(Worktags!AQ517<>Worktags!AS517,Worktags!AQ517,\"\")","v":"SC6701"},{"$f":"IFERROR(VLOOKUP(B885,Worktags!AL:AO,2,FALSE),\"\")","v":"Physical Facilities"},{"$f":"IFERROR(VLOOKUP(C885,Worktags!O:T,2,FALSE),\"\")","v":"Building Access Supplies"},{"$f":"IFERROR(VLOOKUP(IF(C885=\"\",B885&\"||\"&B885,C885&\"||\"&B885),Worktags!AR:AV,5,FALSE),\"\")","v":"All"}]
["6700_SC6702 Physical Facilities/Building Construction and Improvements",{"$f":"Worktags!AS524","v":"6700"},{"$f":"IF(Worktags!AQ524<>Worktags!AS524,Worktags!AQ524,\"\")","v":"SC6702"},{"$f":"IFERROR(VLOOKUP(B886,Worktags!AL:AO,2,FALSE),\"\")","v":"Physical Facilities"},{"$f":"IFERROR(VLOOKUP(C886,Worktags!O:T,2,FALSE),\"\")","v":"Building Construction and Improvements"},{"$f":"IFERROR(VLOOKUP(IF(C886=\"\",B886&\"||\"&B886,C886&\"||\"&B886),Worktags!AR:AV,5,FALSE),\"\")","v":"All"}]
["6700_SC6703 Physical Facilities/Building Furnishings",{"$f":"Worktags!AS531","v":"6700"},{"$f":"IF(Worktags!AQ531<>Worktags!AS531,Worktags!AQ531,\"\")","v":"SC6703"},{"$f":"IFERROR(VLOOKUP(B887,Worktags!AL:AO,2,FALSE),\"\")","v":"Physical Facilities"},{"$f":"IFERROR(VLOOKUP(C887,Worktags!O:T,2,FALSE),\"\")","v":"Building Furnishings"},{"$f":"IFERROR(VLOOKUP(IF(C887=\"\",B887&\"||\"&B887,C887&\"||\"&B887),Worktags!AR:AV,5,FALSE),\"\")","v":"All"}]
["6700_SC6704 Physical Facilities/Building Materials - Finishing",{"$f":"Worktags!AS538","v":"6700"},{"$f":"IF(Worktags!AQ538<>Worktags!AS538,Worktags!AQ538,\"\")","v":"SC6704"},{"$f":"IFERROR(VLOOKUP(B888,Worktags!AL:AO,2,FALSE),\"\")","v":"Physical Facilities"},{"$f":"IFERROR(VLOOKUP(C888,Worktags!O:T,2,FALSE),\"\")","v":"Building Materials - Finishing"},{"$f":"IFERROR(VLOOKUP(IF(C888=\"\",B888&\"||\"&B888,C888&\"||\"&B888),Worktags!AR:AV,5,FALSE),\"\")","v":"All"}]
["6700_SC6705 Physical Facilities/Building Materials - Raw",{"$f":"Worktags!AS545","v":"6700"},{"$f":"IF(Worktags!AQ545<>Worktags!AS545,Worktags!AQ545,\"\")","v":"SC6705"},{"$f":"IFERROR(VLOOKUP(B889,Worktags!AL:AO,2,FALSE),\"\")","v":"Physical Facilities"},{"$f":"IFERROR(VLOOKUP(C889,Worktags!O:T,2,FALSE),\"\")","v":"Building Materials - Raw"},{"$f":"IFERROR(VLOOKUP(IF(C889=\"\",B889&\"||\"&B889,C889&\"||\"&B889),Worktags!AR:AV,5,FALSE),\"\")","v":"All"}]
["6700_SC6706 Physical Facilities/Electrical Devices",{"$f":"Worktags!AS552","v":"6700"},{"$f":"IF(Worktags!AQ552<>Worktags!AS552,Worktags!AQ552,\"\")","v":"SC6706"},{"$f":"IFERROR(VLOOKUP(B890,Worktags!AL:AO,2,FALSE),\"\")","v":"Physical Facilities"},{"$f":"IFERROR(VLOOKUP(C890,Worktags!O:T,2,FALSE),\"\")","v":"Electrical Devices"},{"$f":"IFERROR(VLOOKUP(IF(C890=\"\",B890&\"||\"&B890,C890&\"||\"&B890),Worktags!AR:AV,5,FALSE),\"\")","v":"All"}]
["6700_SC6707 Physical Facilities/Electrical Supplies",{"$f":"Worktags!AS557","v":"6700"},{"$f":"IF(Worktags!AQ557<>Worktags!AS557,Worktags!AQ557,\"\")","v":"SC6707"},{"$f":"IFERROR(VLOOKUP(B891,Worktags!AL:AO,2,FALSE),\"\")","v":"Physical Facilities"},{"$f":"IFERROR(VLOOKUP(C891,Worktags!O:T,2,FALSE),\"\")","v":"Electrical Supplies"},{"$f":"IFERROR(VLOOKUP(IF(C891=\"\",B891&\"||\"&B891,C891&\"||\"&B891),Worktags!AR:AV,5,FALSE),\"\")","v":"All"}]
["6700_SC6708 Physical Facilities/Fans/Furnaces",{"$f":"Worktags!AS563","v":"6700"},{"$f":"IF(Worktags!AQ563<>Worktags!AS563,Worktags!AQ563,\"\")","v":"SC6708"},{"$f":"IFERROR(VLOOKUP(B892,Worktags!AL:AO,2,FALSE),\"\")","v":"Physical Facilities"},{"$f":"IFERROR(VLOOKUP(C892,Worktags!O:T,2,FALSE),\"\")","v":"Fans/Furnaces"},{"$f":"IFERROR(VLOOKUP(IF(C892=\"\",B892&\"||\"&B892,C892&\"||\"&B892),Worktags!AR:AV,5,FALSE),\"\")","v":"All"}]
["6700_SC6709 Physical Facilities/Flooring Materials",{"$f":"Worktags!AS570","v":"6700"},{"$f":"IF(Worktags!AQ570<>Worktags!AS570,Worktags!AQ570,\"\")","v":"SC6709"},{"$f":"IFERROR(VLOOKUP(B893,Worktags!AL:AO,2,FALSE),\"\")","v":"Physical Facilities"},{"$f":"IFERROR(VLOOKUP(C893,Worktags!O:T,2,FALSE),\"\")","v":"Flooring Materials"},{"$f":"IFERROR(VLOOKUP(IF(C893=\"\",B893&\"||\"&B893,C893&\"||\"&B893),Worktags!AR:AV,5,FALSE),\"\")","v":"All"}]
["6700_SC6710 Physical Facilities/Furnishing Accessories",{"$f":"Worktags!AS577","v":"6700"},{"$f":"IF(Worktags!AQ577<>Worktags!AS577,Worktags!AQ577,\"\")","v":"SC6710"},{"$f":"IFERROR(VLOOKUP(B894,Worktags!AL:AO,2,FALSE),\"\")","v":"Physical Facilities"},{"$f":"IFERROR(VLOOKUP(C894,Worktags!O:T,2,FALSE),\"\")","v":"Furnishing Accessories"},{"$f":"IFERROR(VLOOKUP(IF(C894=\"\",B894&\"||\"&B894,C894&\"||\"&B894),Worktags!AR:AV,5,FALSE),\"\")","v":"All"}]
["6700_SC6711 Physical Facilities/Grounds and Landscaping Supplies",{"$f":"Worktags!AS584","v":"6700"},{"$f":"IF(Worktags!AQ584<>Worktags!AS584,Worktags!AQ584,\"\")","v":"SC6711"},{"$f":"IFERROR(VLOOKUP(B895,Worktags!AL:AO,2,FALSE),\"\")","v":"Physical Facilities"},{"$f":"IFERROR(VLOOKUP(C895,Worktags!O:T,2,FALSE),\"\")","v":"Grounds and Landscaping Supplies"},{"$f":"IFERROR(VLOOKUP(IF(C895=\"\",B895&\"||\"&B895,C895&\"||\"&B895),Worktags!AR:AV,5,FALSE),\"\")","v":"All"}]
["6700_SC6712 Physical Facilities/Grounds Services",{"$f":"Worktags!AS587","v":"6700"},{"$f":"IF(Worktags!AQ587<>Worktags!AS587,Worktags!AQ587,\"\")","v":"SC6712"},{"$f":"IFERROR(VLOOKUP(B896,Worktags!AL:AO,2,FALSE),\"\")","v":"Physical Facilities"},{"$f":"IFERROR(VLOOKUP(C896,Worktags!O:T,2,FALSE),\"\")","v":"Grounds Services"},{"$f":"IFERROR(VLOOKUP(IF(C896=\"\",B896&\"||\"&B896,C896&\"||\"&B896),Worktags!AR:AV,5,FALSE),\"\")","v":"All"}]
[{"$f":"IF(B897<>\"\",IF(C897<>\"\",B897&\"_\"&C897&\" \"&D897&\"/\"&E897,B897&\" \"&D897),\"\")","v":"6700_SC6713 Physical Facilities/Industrial Fixtures"},{"$f":"Worktags!AS593","v":"6700"},{"$f":"IF(Worktags!AQ593<>Worktags!AS593,Worktags!AQ593,\"\")","v":"SC6713"},{"$f":"IFERROR(VLOOKUP(B897,Worktags!AL:AO,2,FALSE),\"\")","v":"Physical Facilities"},{"$f":"IFERROR(VLOOKUP(C897,Worktags!O:T,2,FALSE),\"\")","v":"Industrial Fixtures"},{"$f":"IFERROR(VLOOKUP(IF(C897=\"\",B897&\"||\"&B897,C897&\"||\"&B897),Worktags!AR:AV,5,FALSE),\"\")","v":"All"}]
["6700_SC6714 Physical Facilities/Lighting Fixtures and Lamps",{"$f":"Worktags!AS600","v":"6700"},{"$f":"IF(Worktags!AQ600<>Worktags!AS600,Worktags!AQ600,\"\")","v":"SC6714"},{"$f":"IFERROR(VLOOKUP(B898,Worktags!AL:AO,2,FALSE),\"\")","v":"Physical Facilities"},{"$f":"IFERROR(VLOOKUP(C898,Worktags!O:T,2,FALSE),\"\")","v":"Lighting Fixtures and Lamps"},{"$f":"IFERROR(VLOOKUP(IF(C898=\"\",B898&\"||\"&B898,C898&\"||\"&B898),Worktags!AR:AV,5,FALSE),\"\")","v":"All"}]
["6700_SC6715 Physical Facilities/Plumbing Fixtures",{"$f":"Worktags!AS607","v":"6700"},{"$f":"IF(Worktags!AQ607<>Worktags!AS607,Worktags!AQ607,\"\")","v":"SC6715"},{"$f":"IFERROR(VLOOKUP(B899,Worktags!AL:AO,2,FALSE),\"\")","v":"Physical Facilities"},{"$f":"IFERROR(VLOOKUP(C899,Worktags!O:T,2,FALSE),\"\")","v":"Plumbing Fixtures"},{"$f":"IFERROR(VLOOKUP(IF(C899=\"\",B899&\"||\"&B899,C899&\"||\"&B899),Worktags!AR:AV,5,FALSE),\"\")","v":"All"}]
["6700_SC6716 Physical Facilities/Retainage",{"$f":"Worktags!AS611","v":"6700"},{"$f":"IF(Worktags!AQ611<>Worktags!AS611,Worktags!AQ611,\"\")","v":"SC6716"},{"$f":"IFERROR(VLOOKUP(B900,Worktags!AL:AO,2,FALSE),\"\")","v":"Physical Facilities"},{"$f":"IFERROR(VLOOKUP(C900,Worktags!O:T,2,FALSE),\"\")","v":"Retainage"},{"$f":"IFERROR(VLOOKUP(IF(C900=\"\",B900&\"||\"&B900,C900&\"||\"&B900),Worktags!AR:AV,5,FALSE),\"\")","v":"All"}]
["6700_SC6717 Physical Facilities/Retainage Interest",{"$f":"Worktags!AS614","v":"6700"},{"$f":"IF(Worktags!AQ614<>Worktags!AS614,Worktags!AQ614,\"\")","v":"SC6717"},{"$f":"IFERROR(VLOOKUP(B901,Worktags!AL:AO,2,FALSE),\"\")","v":"Physical Facilities"},{"$f":"IFERROR(VLOOKUP(C901,Worktags!O:T,2,FALSE),\"\")","v":"Retainage Interest"},{"$f":"IFERROR(VLOOKUP(IF(C901=\"\",B901&\"||\"&B901,C901&\"||\"&B901),Worktags!AR:AV,5,FALSE),\"\")","v":"All"}]
["6700_SC6718 Physical Facilities/Signage, Electronic",{"$f":"Worktags!AS620","v":"6700"},{"$f":"IF(Worktags!AQ620<>Worktags!AS620,Worktags!AQ620,\"\")","v":"SC6718"},{"$f":"IFERROR(VLOOKUP(B902,Worktags!AL:AO,2,FALSE),\"\")","v":"Physical Facilities"},{"$f":"IFERROR(VLOOKUP(C902,Worktags!O:T,2,FALSE),\"\")","v":"Signage, Electronic"},{"$f":"IFERROR(VLOOKUP(IF(C902=\"\",B902&\"||\"&B902,C902&\"||\"&B902),Worktags!AR:AV,5,FALSE),\"\")","v":"All"}]
["6700_SC6719 Physical Facilities/Signage, Non-electronic",{"$f":"Worktags!AS627","v":"6700"},{"$f":"IF(Worktags!AQ627<>Worktags!AS627,Worktags!AQ627,\"\")","v":"SC6719"},{"$f":"IFERROR(VLOOKUP(B903,Worktags!AL:AO,2,FALSE),\"\")","v":"Physical Facilities"},{"$f":"IFERROR(VLOOKUP(C903,Worktags!O:T,2,FALSE),\"\")","v":"Signage, Non-electronic"},{"$f":"IFERROR(VLOOKUP(IF(C903=\"\",B903&\"||\"&B903,C903&\"||\"&B903),Worktags!AR:AV,5,FALSE),\"\")","v":"All"}]
["6700_SC6720 Physical Facilities/Specialized Trade Services - Physical Facilities",{"$f":"Worktags!AS632","v":"6700"},{"$f":"IF(Worktags!AQ632<>Worktags!AS632,Worktags!AQ632,\"\")","v":"SC6720"},{"$f":"IFERROR(VLOOKUP(B904,Worktags!AL:AO,2,FALSE),\"\")","v":"Physical Facilities"},{"$f":"IFERROR(VLOOKUP(C904,Worktags!O:T,2,FALSE),\"\")","v":"Specialized Trade Services - Physical Facilities"},{"$f":"IFERROR(VLOOKUP(IF(C904=\"\",B904&\"||\"&B904,C904&\"||\"&B904),Worktags!AR:AV,5,FALSE),\"\")","v":"All"}]
["6700_SC6721 Physical Facilities/Stage and Studio Lighting (Asset Track)",{"$f":"Worktags!AS638","v":"6700"},{"$f":"IF(Worktags!AQ638<>Worktags!AS638,Worktags!AQ638,\"\")","v":"SC6721"},{"$f":"IFERROR(VLOOKUP(B905,Worktags!AL:AO,2,FALSE),\"\")","v":"Physical Facilities"},{"$f":"IFERROR(VLOOKUP(C905,Worktags!O:T,2,FALSE),\"\")","v":"Stage and Studio Lighting (Asset Track)"},{"$f":"IFERROR(VLOOKUP(IF(C905=\"\",B905&\"||\"&B905,C905&\"||\"&B905),Worktags!AR:AV,5,FALSE),\"\")","v":"All"}]
["6700_SC6722 Physical Facilities/Utilities, Electricity",{"$f":"Worktags!AS641","v":"6700"},{"$f":"IF(Worktags!AQ641<>Worktags!AS641,Worktags!AQ641,\"\")","v":"SC6722"},{"$f":"IFERROR(VLOOKUP(B906,Worktags!AL:AO,2,FALSE),\"\")","v":"Physical Facilities"},{"$f":"IFERROR(VLOOKUP(C906,Worktags!O:T,2,FALSE),\"\")","v":"Utilities, Electricity"},{"$f":"IFERROR(VLOOKUP(IF(C906=\"\",B906&\"||\"&B906,C906&\"||\"&B906),Worktags!AR:AV,5,FALSE),\"\")","v":"All"}]
["6700_SC6723 Physical Facilities/Utilities, Garbage Hauling",{"$f":"Worktags!AS643","v":"6700"},{"$f":"IF(Worktags!AQ643<>Worktags!AS643,Worktags!AQ643,\"\")","v":"SC6723"},{"$f":"IFERROR(VLOOKUP(B907,Worktags!AL:AO,2,FALSE),\"\")","v":"Physical Facilities"},{"$f":"IFERROR(VLOOKUP(C907,Worktags!O:T,2,FALSE),\"\")","v":"Utilities, Garbage Hauling"},{"$f":"IFERROR(VLOOKUP(IF(C907=\"\",B907&\"||\"&B907,C907&\"||\"&B907),Worktags!AR:AV,5,FALSE),\"\")","v":"All"}]
["6700_SC6724 Physical Facilities/Utilities, Heat/Cool Unit",{"$f":"Worktags!AS645","v":"6700"},{"$f":"IF(Worktags!AQ645<>Worktags!AS645,Worktags!AQ645,\"\")","v":"SC6724"},{"$f":"IFERROR(VLOOKUP(B908,Worktags!AL:AO,2,FALSE),\"\")","v":"Physical Facilities"},{"$f":"IFERROR(VLOOKUP(C908,Worktags!O:T,2,FALSE),\"\")","v":"Utilities, Heat/Cool Unit"},{"$f":"IFERROR(VLOOKUP(IF(C908=\"\",B908&\"||\"&B908,C908&\"||\"&B908),Worktags!AR:AV,5,FALSE),\"\")","v":"All"}]
["6700_SC6725 Physical Facilities/Utilities, Natural Gas",{"$f":"Worktags!AS647","v":"6700"},{"$f":"IF(Worktags!AQ647<>Worktags!AS647,Worktags!AQ647,\"\")","v":"SC6725"},{"$f":"IFERROR(VLOOKUP(B909,Worktags!AL:AO,2,FALSE),\"\")","v":"Physical Facilities"},{"$f":"IFERROR(VLOOKUP(C909,Worktags!O:T,2,FALSE),\"\")","v":"Utilities, Natural Gas"},{"$f":"IFERROR(VLOOKUP(IF(C909=\"\",B909&\"||\"&B909,C909&\"||\"&B909),Worktags!AR:AV,5,FALSE),\"\")","v":"All"}]
["6700_SC6726 Physical Facilities/Utilities, Other",{"$f":"Worktags!AS649","v":"6700"},{"$f":"IF(Worktags!AQ649<>Worktags!AS649,Worktags!AQ649,\"\")","v":"SC6726"},{"$f":"IFERROR(VLOOKUP(B910,Worktags!AL:AO,2,FALSE),\"\")","v":"Physical Facilities"},{"$f":"IFERROR(VLOOKUP(C910,Worktags!O:T,2,FALSE),\"\")","v":"Utilities, Other"},{"$f":"IFERROR(VLOOKUP(IF(C910=\"\",B910&\"||\"&B910,C910&\"||\"&B910),Worktags!AR:AV,5,FALSE),\"\")","v":"All"}]
["6700_SC6727 Physical Facilities/Utilities, Sewer",{"$f":"Worktags!AS651","v":"6700"},{"$f":"IF(Worktags!AQ651<>Worktags!AS651,Worktags!AQ651,\"\")","v":"SC6727"},{"$f":"IFERROR(VLOOKUP(B911,Worktags!AL:AO,2,FALSE),\"\")","v":"Physical Facilities"},{"$f":"IFERROR(VLOOKUP(C911,Worktags!O:T,2,FALSE),\"\")","v":"Utilities, Sewer"},{"$f":"IFERROR(VLOOKUP(IF(C911=\"\",B911&\"||\"&B911,C911&\"||\"&B911),Worktags!AR:AV,5,FALSE),\"\")","v":"All"}]
["6700_SC6728 Physical Facilities/Utilities, Water",{"$f":"Worktags!AS653","v":"6700"},{"$f":"IF(Worktags!AQ653<>Worktags!AS653,Worktags!AQ653,\"\")","v":"SC6728"},{"$f":"IFERROR(VLOOKUP(B912,Worktags!AL:AO,2,FALSE),\"\")","v":"Physical Facilities"},{"$f":"IFERROR(VLOOKUP(C912,Worktags!O:T,2,FALSE),\"\")","v":"Utilities, Water"},{"$f":"IFERROR(VLOOKUP(IF(C912=\"\",B912&\"||\"&B912,C912&\"||\"&B912),Worktags!AR:AV,5,FALSE),\"\")","v":"All"}]
["6700_SC6729 Physical Facilities/Warehouse Fixtures",{"$f":"Worktags!AS659","v":"6700"},{"$f":"IF(Worktags!AQ659<>Worktags!AS659,Worktags!AQ659,\"\")","v":"SC6729"},{"$f":"IFERROR(VLOOKUP(B913,Worktags!AL:AO,2,FALSE),\"\")","v":"Physical Facilities"},{"$f":"IFERROR(VLOOKUP(C913,Worktags!O:T,2,FALSE),\"\")","v":"Warehouse Fixtures"},{"$f":"IFERROR(VLOOKUP(IF(C913=\"\",B913&\"||\"&B913,C913&\"||\"&B913),Worktags!AR:AV,5,FALSE),\"\")","v":"All"}]
["6700_SC6730 Physical Facilities/Window Treatments",{"$f":"Worktags!AS666","v":"6700"},{"$f":"IF(Worktags!AQ666<>Worktags!AS666,Worktags!AQ666,\"\")","v":"SC6730"},{"$f":"IFERROR(VLOOKUP(B914,Worktags!AL:AO,2,FALSE),\"\")","v":"Physical Facilities"},{"$f":"IFERROR(VLOOKUP(C914,Worktags!O:T,2,FALSE),\"\")","v":"Window Treatments"},{"$f":"IFERROR(VLOOKUP(IF(C914=\"\",B914&\"||\"&B914,C914&\"||\"&B914),Worktags!AR:AV,5,FALSE),\"\")","v":"All"}]
["6700_SC6799 Physical Facilities/Physical Facilities (reclass)",{"$f":"Worktags!AS672","v":"6700"},{"$f":"IF(Worktags!AQ672<>Worktags!AS672,Worktags!AQ672,\"\")","v":"SC6799"},{"$f":"IFERROR(VLOOKUP(B915,Worktags!AL:AO,2,FALSE),\"\")","v":"Physical Facilities"},{"$f":"IFERROR(VLOOKUP(C915,Worktags!O:T,2,FALSE),\"\")","v":"Physical Facilities (reclass)"},{"$f":"IFERROR(VLOOKUP(IF(C915=\"\",B915&\"||\"&B915,C915&\"||\"&B915),Worktags!AR:AV,5,FALSE),\"\")","v":"All"}]
["6900 Equipment, Software, Library",{"$f":"Worktags!AL130","v":"6900"},null,{"$f":"IFERROR(VLOOKUP(B916,Worktags!AL:AO,2,FALSE),\"\")","v":"Equipment, Software, Library"},null,{"$f":"IFERROR(VLOOKUP(IF(C916=\"\",B916&\"||\"&B916,C916&\"||\"&B916),Worktags!AR:AV,5,FALSE),\"\")","v":""}]
["6900_SC0691 Equipment, Software, Library/Equipment (Budget Only)",{"$f":"Worktags!AS195","v":"6900"},{"$f":"IF(Worktags!AQ195<>Worktags!AS195,Worktags!AQ195,\"\")","v":"SC0691"},{"$f":"IFERROR(VLOOKUP(B917,Worktags!AL:AO,2,FALSE),\"\")","v":"Equipment, Software, Library"},{"$f":"IFERROR(VLOOKUP(C917,Worktags!O:T,2,FALSE),\"\")","v":"Equipment (Budget Only)"},{"$f":"IFERROR(VLOOKUP(IF(C917=\"\",B917&\"||\"&B917,C917&\"||\"&B917),Worktags!AR:AV,5,FALSE),\"\")","v":"JE_Override"}]
["6900_SC0692 Equipment, Software, Library/Converted Equipment (Budget Only)",{"$f":"Worktags!AS196","v":"6900"},{"$f":"IF(Worktags!AQ196<>Worktags!AS196,Worktags!AQ196,\"\")","v":"SC0692"},{"$f":"IFERROR(VLOOKUP(B918,Worktags!AL:AO,2,FALSE),\"\")","v":"Equipment, Software, Library"},{"$f":"IFERROR(VLOOKUP(C918,Worktags!O:T,2,FALSE),\"\")","v":"Converted Equipment (Budget Only)"},{"$f":"IFERROR(VLOOKUP(IF(C918=\"\",B918&\"||\"&B918,C918&\"||\"&B918),Worktags!AR:AV,5,FALSE),\"\")","v":"JE_Override"}]
["6900_SC0693 Equipment, Software, Library/Equipment Maintenance (Budget Only)",{"$f":"Worktags!AS197","v":"6900"},{"$f":"IF(Worktags!AQ197<>Worktags!AS197,Worktags!AQ197,\"\")","v":"SC0693"},{"$f":"IFERROR(VLOOKUP(B919,Worktags!AL:AO,2,FALSE),\"\")","v":"Equipment, Software, Library"},{"$f":"IFERROR(VLOOKUP(C919,Worktags!O:T,2,FALSE),\"\")","v":"Equipment Maintenance (Budget Only)"},{"$f":"IFERROR(VLOOKUP(IF(C919=\"\",B919&\"||\"&B919,C919&\"||\"&B919),Worktags!AR:AV,5,FALSE),\"\")","v":"JE_Override"}]
["6900_SC0694 Equipment, Software, Library/Software (Budget Only)",{"$f":"Worktags!AS198","v":"6900"},{"$f":"IF(Worktags!AQ198<>Worktags!AS198,Worktags!AQ198,\"\")","v":"SC0694"},{"$f":"IFERROR(VLOOKUP(B920,Worktags!AL:AO,2,FALSE),\"\")","v":"Equipment, Software, Library"},{"$f":"IFERROR(VLOOKUP(C920,Worktags!O:T,2,FALSE),\"\")","v":"Software (Budget Only)"},{"$f":"IFERROR(VLOOKUP(IF(C920=\"\",B920&\"||\"&B920,C920&\"||\"&B920),Worktags!AR:AV,5,FALSE),\"\")","v":"JE_Override"}]
["6900_SC0695 Equipment, Software, Library/Converted Software (Budget Only)",{"$f":"Worktags!AS199","v":"6900"},{"$f":"IF(Worktags!AQ199<>Worktags!AS199,Worktags!AQ199,\"\")","v":"SC0695"},{"$f":"IFERROR(VLOOKUP(B921,Worktags!AL:AO,2,FALSE),\"\")","v":"Equipment, Software, Library"},{"$f":"IFERROR(VLOOKUP(C921,Worktags!O:T,2,FALSE),\"\")","v":"Converted Software (Budget Only)"},{"$f":"IFERROR(VLOOKUP(IF(C921=\"\",B921&\"||\"&B921,C921&\"||\"&B921),Worktags!AR:AV,5,FALSE),\"\")","v":"JE_Override"}]
["6900_SC0696 Equipment, Software, Library/Library Content (Budget Only)",{"$f":"Worktags!AS200","v":"6900"},{"$f":"IF(Worktags!AQ200<>Worktags!AS200,Worktags!AQ200,\"\")","v":"SC0696"},{"$f":"IFERROR(VLOOKUP(B922,Worktags!AL:AO,2,FALSE),\"\")","v":"Equipment, Software, Library"},{"$f":"IFERROR(VLOOKUP(C922,Worktags!O:T,2,FALSE),\"\")","v":"Library Content (Budget Only)"},{"$f":"IFERROR(VLOOKUP(IF(C922=\"\",B922&\"||\"&B922,C922&\"||\"&B922),Worktags!AR:AV,5,FALSE),\"\")","v":"JE_Override"}]
["6900_SC0697 Equipment, Software, Library/Converted Library Content (Budget Only)",{"$f":"Worktags!AS201","v":"6900"},{"$f":"IF(Worktags!AQ201<>Worktags!AS201,Worktags!AQ201,\"\")","v":"SC0697"},{"$f":"IFERROR(VLOOKUP(B923,Worktags!AL:AO,2,FALSE),\"\")","v":"Equipment, Software, Library"},{"$f":"IFERROR(VLOOKUP(C923,Worktags!O:T,2,FALSE),\"\")","v":"Converted Library Content (Budget Only)"},{"$f":"IFERROR(VLOOKUP(IF(C923=\"\",B923&\"||\"&B923,C923&\"||\"&B923),Worktags!AR:AV,5,FALSE),\"\")","v":"JE_Override"}]
["6900_SC6901 Equipment, Software, Library/Art Equipment",{"$f":"Worktags!AS678","v":"6900"},{"$f":"IF(Worktags!AQ678<>Worktags!AS678,Worktags!AQ678,\"\")","v":"SC6901"},{"$f":"IFERROR(VLOOKUP(B924,Worktags!AL:AO,2,FALSE),\"\")","v":"Equipment, Software, Library"},{"$f":"IFERROR(VLOOKUP(C924,Worktags!O:T,2,FALSE),\"\")","v":"Art Equipment"},{"$f":"IFERROR(VLOOKUP(IF(C924=\"\",B924&\"||\"&B924,C924&\"||\"&B924),Worktags!AR:AV,5,FALSE),\"\")","v":"All"}]
["6900_SC6902 Equipment, Software, Library/Athletic Equipment",{"$f":"Worktags!AS685","v":"6900"},{"$f":"IF(Worktags!AQ685<>Worktags!AS685,Worktags!AQ685,\"\")","v":"SC6902"},{"$f":"IFERROR(VLOOKUP(B925,Worktags!AL:AO,2,FALSE),\"\")","v":"Equipment, Software, Library"},{"$f":"IFERROR(VLOOKUP(C925,Worktags!O:T,2,FALSE),\"\")","v":"Athletic Equipment"},{"$f":"IFERROR(VLOOKUP(IF(C925=\"\",B925&\"||\"&B925,C925&\"||\"&B925),Worktags!AR:AV,5,FALSE),\"\")","v":"All"}]
["6900_SC6903 Equipment, Software, Library/Audio Visual Equipment (Asset Track)",{"$f":"Worktags!AS692","v":"6900"},{"$f":"IF(Worktags!AQ692<>Worktags!AS692,Worktags!AQ692,\"\")","v":"SC6903"},{"$f":"IFERROR(VLOOKUP(B926,Worktags!AL:AO,2,FALSE),\"\")","v":"Equipment, Software, Library"},{"$f":"IFERROR(VLOOKUP(C926,Worktags!O:T,2,FALSE),\"\")","v":"Audio Visual Equipment (Asset Track)"},{"$f":"IFERROR(VLOOKUP(IF(C926=\"\",B926&\"||\"&B926,C926&\"||\"&B926),Worktags!AR:AV,5,FALSE),\"\")","v":"All"}]
["6900_SC6904 Equipment, Software, Library/Communication Devices (Asset Track)",{"$f":"Worktags!AS699","v":"6900"},{"$f":"IF(Worktags!AQ699<>Worktags!AS699,Worktags!AQ699,\"\")","v":"SC6904"},{"$f":"IFERROR(VLOOKUP(B927,Worktags!AL:AO,2,FALSE),\"\")","v":"Equipment, Software, Library"},{"$f":"IFERROR(VLOOKUP(C927,Worktags!O:T,2,FALSE),\"\")","v":"Communication Devices (Asset Track)"},{"$f":"IFERROR(VLOOKUP(IF(C927=\"\",B927&\"||\"&B927,C927&\"||\"&B927),Worktags!AR:AV,5,FALSE),\"\")","v":"All"}]
["6900_SC6905 Equipment, Software, Library/Computer Hardware (Asset Track)",{"$f":"Worktags!AS706","v":"6900"},{"$f":"IF(Worktags!AQ706<>Worktags!AS706,Worktags!AQ706,\"\")","v":"SC6905"},{"$f":"IFERROR(VLOOKUP(B928,Worktags!AL:AO,2,FALSE),\"\")","v":"Equipment, Software, Library"},{"$f":"IFERROR(VLOOKUP(C928,Worktags!O:T,2,FALSE),\"\")","v":"Computer Hardware (Asset Track)"},{"$f":"IFERROR(VLOOKUP(IF(C928=\"\",B928&\"||\"&B928,C928&\"||\"&B928),Worktags!AR:AV,5,FALSE),\"\")","v":"All"}]
["6900_SC6906 Equipment, Software, Library/Data Network Equipment (Asset Track)",{"$f":"Worktags!AS713","v":"6900"},{"$f":"IF(Worktags!AQ713<>Worktags!AS713,Worktags!AQ713,\"\")","v":"SC6906"},{"$f":"IFERROR(VLOOKUP(B929,Worktags!AL:AO,2,FALSE),\"\")","v":"Equipment, Software, Library"},{"$f":"IFERROR(VLOOKUP(C929,Worktags!O:T,2,FALSE),\"\")","v":"Data Network Equipment (Asset Track)"},{"$f":"IFERROR(VLOOKUP(IF(C929=\"\",B929&\"||\"&B929,C929&\"||\"&B929),Worktags!AR:AV,5,FALSE),\"\")","v":"All"}]
["6900_SC6907 Equipment, Software, Library/Equipment (not otherwise specified) (Asset Track)",{"$f":"Worktags!AS720","v":"6900"},{"$f":"IF(Worktags!AQ720<>Worktags!AS720,Worktags!AQ720,\"\")","v":"SC6907"},{"$f":"IFERROR(VLOOKUP(B930,Worktags!AL:AO,2,FALSE),\"\")","v":"Equipment, Software, Library"},{"$f":"IFERROR(VLOOKUP(C930,Worktags!O:T,2,FALSE),\"\")","v":"Equipment (not otherwise specified) (Asset Track)"},{"$f":"IFERROR(VLOOKUP(IF(C930=\"\",B930&\"||\"&B930,C930&\"||\"&B930),Worktags!AR:AV,5,FALSE),\"\")","v":"All"}]
["6900_SC6908 Equipment, Software, Library/Equipment Maintenance (not otherwise specified)",{"$f":"Worktags!AS723","v":"6900"},{"$f":"IF(Worktags!AQ723<>Worktags!AS723,Worktags!AQ723,\"\")","v":"SC6908"},{"$f":"IFERROR(VLOOKUP(B931,Worktags!AL:AO,2,FALSE),\"\")","v":"Equipment, Software, Library"},{"$f":"IFERROR(VLOOKUP(C931,Worktags!O:T,2,FALSE),\"\")","v":"Equipment Maintenance (not otherwise specified)"},{"$f":"IFERROR(VLOOKUP(IF(C931=\"\",B931&\"||\"&B931,C931&\"||\"&B931),Worktags!AR:AV,5,FALSE),\"\")","v":"All"}]
["6900_SC6909 Equipment, Software, Library/Firearms",{"$f":"Worktags!AS727","v":"6900"},{"$f":"IF(Worktags!AQ727<>Worktags!AS727,Worktags!AQ727,\"\")","v":"SC6909"},{"$f":"IFERROR(VLOOKUP(B932,Worktags!AL:AO,2,FALSE),\"\")","v":"Equipment, Software, Library"},{"$f":"IFERROR(VLOOKUP(C932,Worktags!O:T,2,FALSE),\"\")","v":"Firearms"},{"$f":"IFERROR(VLOOKUP(IF(C932=\"\",B932&\"||\"&B932,C932&\"||\"&B932),Worktags!AR:AV,5,FALSE),\"\")","v":"All"}]
["6900_SC6910 Equipment, Software, Library/Food Service Equipment",{"$f":"Worktags!AS734","v":"6900"},{"$f":"IF(Worktags!AQ734<>Worktags!AS734,Worktags!AQ734,\"\")","v":"SC6910"},{"$f":"IFERROR(VLOOKUP(B933,Worktags!AL:AO,2,FALSE),\"\")","v":"Equipment, Software, Library"},{"$f":"IFERROR(VLOOKUP(C933,Worktags!O:T,2,FALSE),\"\")","v":"Food Service Equipment"},{"$f":"IFERROR(VLOOKUP(IF(C933=\"\",B933&\"||\"&B933,C933&\"||\"&B933),Worktags!AR:AV,5,FALSE),\"\")","v":"All"}]
["6900_SC6911 Equipment, Software, Library/Grants Capital Equipment",{"$f":"Worktags!AS739","v":"6900"},{"$f":"IF(Worktags!AQ739<>Worktags!AS739,Worktags!AQ739,\"\")","v":"SC6911"},{"$f":"IFERROR(VLOOKUP(B934,Worktags!AL:AO,2,FALSE),\"\")","v":"Equipment, Software, Library"},{"$f":"IFERROR(VLOOKUP(C934,Worktags!O:T,2,FALSE),\"\")","v":"Grants Capital Equipment"},{"$f":"IFERROR(VLOOKUP(IF(C934=\"\",B934&\"||\"&B934,C934&\"||\"&B934),Worktags!AR:AV,5,FALSE),\"\")","v":"All"}]
["6900_SC6912 Equipment, Software, Library/Grants Non-Capital Equipment",{"$f":"Worktags!AS742","v":"6900"},{"$f":"IF(Worktags!AQ742<>Worktags!AS742,Worktags!AQ742,\"\")","v":"SC6912"},{"$f":"IFERROR(VLOOKUP(B935,Worktags!AL:AO,2,FALSE),\"\")","v":"Equipment, Software, Library"},{"$f":"IFERROR(VLOOKUP(C935,Worktags!O:T,2,FALSE),\"\")","v":"Grants Non-Capital Equipment"},{"$f":"IFERROR(VLOOKUP(IF(C935=\"\",B935&\"||\"&B935,C935&\"||\"&B935),Worktags!AR:AV,5,FALSE),\"\")","v":"All"}]
["6900_SC6913 Equipment, Software, Library/Grounds Equipment",{"$f":"Worktags!AS746","v":"6900"},{"$f":"IF(Worktags!AQ746<>Worktags!AS746,Worktags!AQ746,\"\")","v":"SC6913"},{"$f":"IFERROR(VLOOKUP(B936,Worktags!AL:AO,2,FALSE),\"\")","v":"Equipment, Software, Library"},{"$f":"IFERROR(VLOOKUP(C936,Worktags!O:T,2,FALSE),\"\")","v":"Grounds Equipment"},{"$f":"IFERROR(VLOOKUP(IF(C936=\"\",B936&\"||\"&B936,C936&\"||\"&B936),Worktags!AR:AV,5,FALSE),\"\")","v":"All"}]
["6900_SC6914 Equipment, Software, Library/Industrial Equipment",{"$f":"Worktags!AS753","v":"6900"},{"$f":"IF(Worktags!AQ753<>Worktags!AS753,Worktags!AQ753,\"\")","v":"SC6914"},{"$f":"IFERROR(VLOOKUP(B937,Worktags!AL:AO,2,FALSE),\"\")","v":"Equipment, Software, Library"},{"$f":"IFERROR(VLOOKUP(C937,Worktags!O:T,2,FALSE),\"\")","v":"Industrial Equipment"},{"$f":"IFERROR(VLOOKUP(IF(C937=\"\",B937&\"||\"&B937,C937&\"||\"&B937),Worktags!AR:AV,5,FALSE),\"\")","v":"All"}]
["6900_SC6915 Equipment, Software, Library/Janitorial Equipment",{"$f":"Worktags!AS760","v":"6900"},{"$f":"IF(Worktags!AQ760<>Worktags!AS760,Worktags!AQ760,\"\")","v":"SC6915"},{"$f":"IFERROR(VLOOKUP(B938,Worktags!AL:AO,2,FALSE),\"\")","v":"Equipment, Software, Library"},{"$f":"IFERROR(VLOOKUP(C938,Worktags!O:T,2,FALSE),\"\")","v":"Janitorial Equipment"},{"$f":"IFERROR(VLOOKUP(IF(C938=\"\",B938&\"||\"&B938,C938&\"||\"&B938),Worktags!AR:AV,5,FALSE),\"\")","v":"All"}]
["6900_SC6916 Equipment, Software, Library/Janitorial Equipment Maintenance",{"$f":"Worktags!AS763","v":"6900"},{"$f":"IF(Worktags!AQ763<>Worktags!AS763,Worktags!AQ763,\"\")","v":"SC6916"},{"$f":"IFERROR(VLOOKUP(B939,Worktags!AL:AO,2,FALSE),\"\")","v":"Equipment, Software, Library"},{"$f":"IFERROR(VLOOKUP(C939,Worktags!O:T,2,FALSE),\"\")","v":"Janitorial Equipment Maintenance"},{"$f":"IFERROR(VLOOKUP(IF(C939=\"\",B939&\"||\"&B939,C939&\"||\"&B939),Worktags!AR:AV,5,FALSE),\"\")","v":"All"}]
["6900_SC6917 Equipment, Software, Library/Laundry Equipment",{"$f":"Worktags!AS769","v":"6900"},{"$f":"IF(Worktags!AQ769<>Worktags!AS769,Worktags!AQ769,\"\")","v":"SC6917"},{"$f":"IFERROR(VLOOKUP(B940,Worktags!AL:AO,2,FALSE),\"\")","v":"Equipment, Software, Library"},{"$f":"IFERROR(VLOOKUP(C940,Worktags!O:T,2,FALSE),\"\")","v":"Laundry Equipment"},{"$f":"IFERROR(VLOOKUP(IF(C940=\"\",B940&\"||\"&B940,C940&\"||\"&B940),Worktags!AR:AV,5,FALSE),\"\")","v":"All"}]
["6900_SC6918 Equipment, Software, Library/Library Content",{"$f":"Worktags!AS774","v":"6900"},{"$f":"IF(Worktags!AQ774<>Worktags!AS774,Worktags!AQ774,\"\")","v":"SC6918"},{"$f":"IFERROR(VLOOKUP(B941,Worktags!AL:AO,2,FALSE),\"\")","v":"Equipment, Software, Library"},{"$f":"IFERROR(VLOOKUP(C941,Worktags!O:T,2,FALSE),\"\")","v":"Library Content"},{"$f":"IFERROR(VLOOKUP(IF(C941=\"\",B941&\"||\"&B941,C941&\"||\"&B941),Worktags!AR:AV,5,FALSE),\"\")","v":"All"}]
["6900_SC6919 Equipment, Software, Library/Library Subscriptions",{"$f":"Worktags!AS777","v":"6900"},{"$f":"IF(Worktags!AQ777<>Worktags!AS777,Worktags!AQ777,\"\")","v":"SC6919"},{"$f":"IFERROR(VLOOKUP(B942,Worktags!AL:AO,2,FALSE),\"\")","v":"Equipment, Software, Library"},{"$f":"IFERROR(VLOOKUP(C942,Worktags!O:T,2,FALSE),\"\")","v":"Library Subscriptions"},{"$f":"IFERROR(VLOOKUP(IF(C942=\"\",B942&\"||\"&B942,C942&\"||\"&B942),Worktags!AR:AV,5,FALSE),\"\")","v":"All"}]
["6900_SC6920 Equipment, Software, Library/Media Content",{"$f":"Worktags!AS781","v":"6900"},{"$f":"IF(Worktags!AQ781<>Worktags!AS781,Worktags!AQ781,\"\")","v":"SC6920"},{"$f":"IFERROR(VLOOKUP(B943,Worktags!AL:AO,2,FALSE),\"\")","v":"Equipment, Software, Library"},{"$f":"IFERROR(VLOOKUP(C943,Worktags!O:T,2,FALSE),\"\")","v":"Media Content"},{"$f":"IFERROR(VLOOKUP(IF(C943=\"\",B943&\"||\"&B943,C943&\"||\"&B943),Worktags!AR:AV,5,FALSE),\"\")","v":"All"}]
["6900_SC6921 Equipment, Software, Library/Medical Equipment",{"$f":"Worktags!AS788","v":"6900"},{"$f":"IF(Worktags!AQ788<>Worktags!AS788,Worktags!AQ788,\"\")","v":"SC6921"},{"$f":"IFERROR(VLOOKUP(B944,Worktags!AL:AO,2,FALSE),\"\")","v":"Equipment, Software, Library"},{"$f":"IFERROR(VLOOKUP(C944,Worktags!O:T,2,FALSE),\"\")","v":"Medical Equipment"},{"$f":"IFERROR(VLOOKUP(IF(C944=\"\",B944&\"||\"&B944,C944&\"||\"&B944),Worktags!AR:AV,5,FALSE),\"\")","v":"All"}]
["6900_SC6922 Equipment, Software, Library/Medical Equipment - Maintenance",{"$f":"Worktags!AS791","v":"6900"},{"$f":"IF(Worktags!AQ791<>Worktags!AS791,Worktags!AQ791,\"\")","v":"SC6922"},{"$f":"IFERROR(VLOOKUP(B945,Worktags!AL:AO,2,FALSE),\"\")","v":"Equipment, Software, Library"},{"$f":"IFERROR(VLOOKUP(C945,Worktags!O:T,2,FALSE),\"\")","v":"Medical Equipment - Maintenance"},{"$f":"IFERROR(VLOOKUP(IF(C945=\"\",B945&\"||\"&B945,C945&\"||\"&B945),Worktags!AR:AV,5,FALSE),\"\")","v":"All"}]
["6900_SC6923 Equipment, Software, Library/Musical Instruments",{"$f":"Worktags!AS795","v":"6900"},{"$f":"IF(Worktags!AQ795<>Worktags!AS795,Worktags!AQ795,\"\")","v":"SC6923"},{"$f":"IFERROR(VLOOKUP(B946,Worktags!AL:AO,2,FALSE),\"\")","v":"Equipment, Software, Library"},{"$f":"IFERROR(VLOOKUP(C946,Worktags!O:T,2,FALSE),\"\")","v":"Musical Instruments"},{"$f":"IFERROR(VLOOKUP(IF(C946=\"\",B946&\"||\"&B946,C946&\"||\"&B946),Worktags!AR:AV,5,FALSE),\"\")","v":"All"}]
["6900_SC6924 Equipment, Software, Library/Office Equipment (Asset Track)",{"$f":"Worktags!AS802","v":"6900"},{"$f":"IF(Worktags!AQ802<>Worktags!AS802,Worktags!AQ802,\"\")","v":"SC6924"},{"$f":"IFERROR(VLOOKUP(B947,Worktags!AL:AO,2,FALSE),\"\")","v":"Equipment, Software, Library"},{"$f":"IFERROR(VLOOKUP(C947,Worktags!O:T,2,FALSE),\"\")","v":"Office Equipment (Asset Track)"},{"$f":"IFERROR(VLOOKUP(IF(C947=\"\",B947&\"||\"&B947,C947&\"||\"&B947),Worktags!AR:AV,5,FALSE),\"\")","v":"All"}]
["6900_SC6925 Equipment, Software, Library/Office Equipment - Maintenance",{"$f":"Worktags!AS805","v":"6900"},{"$f":"IF(Worktags!AQ805<>Worktags!AS805,Worktags!AQ805,\"\")","v":"SC6925"},{"$f":"IFERROR(VLOOKUP(B948,Worktags!AL:AO,2,FALSE),\"\")","v":"Equipment, Software, Library"},{"$f":"IFERROR(VLOOKUP(C948,Worktags!O:T,2,FALSE),\"\")","v":"Office Equipment - Maintenance"},{"$f":"IFERROR(VLOOKUP(IF(C948=\"\",B948&\"||\"&B948,C948&\"||\"&B948),Worktags!AR:AV,5,FALSE),\"\")","v":"All"}]
["6900_SC6926 Equipment, Software, Library/Photography Equipment",{"$f":"Worktags!AS809","v":"6900"},{"$f":"IF(Worktags!AQ809<>Worktags!AS809,Worktags!AQ809,\"\")","v":"SC6926"},{"$f":"IFERROR(VLOOKUP(B949,Worktags!AL:AO,2,FALSE),\"\")","v":"Equipment, Software, Library"},{"$f":"IFERROR(VLOOKUP(C949,Worktags!O:T,2,FALSE),\"\")","v":"Photography Equipment"},{"$f":"IFERROR(VLOOKUP(IF(C949=\"\",B949&\"||\"&B949,C949&\"||\"&B949),Worktags!AR:AV,5,FALSE),\"\")","v":"All"}]
["6900_SC6927 Equipment, Software, Library/Portable Structures",{"$f":"Worktags!AS816","v":"6900"},{"$f":"IF(Worktags!AQ816<>Worktags!AS816,Worktags!AQ816,\"\")","v":"SC6927"},{"$f":"IFERROR(VLOOKUP(B950,Worktags!AL:AO,2,FALSE),\"\")","v":"Equipment, Software, Library"},{"$f":"IFERROR(VLOOKUP(C950,Worktags!O:T,2,FALSE),\"\")","v":"Portable Structures"},{"$f":"IFERROR(VLOOKUP(IF(C950=\"\",B950&\"||\"&B950,C950&\"||\"&B950),Worktags!AR:AV,5,FALSE),\"\")","v":"All"}]
["6900_SC6928 Equipment, Software, Library/Printing Equipment",{"$f":"Worktags!AS823","v":"6900"},{"$f":"IF(Worktags!AQ823<>Worktags!AS823,Worktags!AQ823,\"\")","v":"SC6928"},{"$f":"IFERROR(VLOOKUP(B951,Worktags!AL:AO,2,FALSE),\"\")","v":"Equipment, Software, Library"},{"$f":"IFERROR(VLOOKUP(C951,Worktags!O:T,2,FALSE),\"\")","v":"Printing Equipment"},{"$f":"IFERROR(VLOOKUP(IF(C951=\"\",B951&\"||\"&B951,C951&\"||\"&B951),Worktags!AR:AV,5,FALSE),\"\")","v":"All"}]
["6900_SC6929 Equipment, Software, Library/Scientific and Engineering Equipment",{"$f":"Worktags!AS830","v":"6900"},{"$f":"IF(Worktags!AQ830<>Worktags!AS830,Worktags!AQ830,\"\")","v":"SC6929"},{"$f":"IFERROR(VLOOKUP(B952,Worktags!AL:AO,2,FALSE),\"\")","v":"Equipment, Software, Library"},{"$f":"IFERROR(VLOOKUP(C952,Worktags!O:T,2,FALSE),\"\")","v":"Scientific and Engineering Equipment"},{"$f":"IFERROR(VLOOKUP(IF(C952=\"\",B952&\"||\"&B952,C952&\"||\"&B952),Worktags!AR:AV,5,FALSE),\"\")","v":"All"}]
["6900_SC6930 Equipment, Software, Library/Scientific Equipment - Maintenance",{"$f":"Worktags!AS833","v":"6900"},{"$f":"IF(Worktags!AQ833<>Worktags!AS833,Worktags!AQ833,\"\")","v":"SC6930"},{"$f":"IFERROR(VLOOKUP(B953,Worktags!AL:AO,2,FALSE),\"\")","v":"Equipment, Software, Library"},{"$f":"IFERROR(VLOOKUP(C953,Worktags!O:T,2,FALSE),\"\")","v":"Scientific Equipment - Maintenance"},{"$f":"IFERROR(VLOOKUP(IF(C953=\"\",B953&\"||\"&B953,C953&\"||\"&B953),Worktags!AR:AV,5,FALSE),\"\")","v":"All"}]
["6900_SC6931 Equipment, Software, Library/Security Equipment (Asset Track)",{"$f":"Worktags!AS839","v":"6900"},{"$f":"IF(Worktags!AQ839<>Worktags!AS839,Worktags!AQ839,\"\")","v":"SC6931"},{"$f":"IFERROR(VLOOKUP(B954,Worktags!AL:AO,2,FALSE),\"\")","v":"Equipment, Software, Library"},{"$f":"IFERROR(VLOOKUP(C954,Worktags!O:T,2,FALSE),\"\")","v":"Security Equipment (Asset Track)"},{"$f":"IFERROR(VLOOKUP(IF(C954=\"\",B954&\"||\"&B954,C954&\"||\"&B954),Worktags!AR:AV,5,FALSE),\"\")","v":"All"}]
["6900_SC6932 Equipment, Software, Library/Small Appliances",{"$f":"Worktags!AS846","v":"6900"},{"$f":"IF(Worktags!AQ846<>Worktags!AS846,Worktags!AQ846,\"\")","v":"SC6932"},{"$f":"IFERROR(VLOOKUP(B955,Worktags!AL:AO,2,FALSE),\"\")","v":"Equipment, Software, Library"},{"$f":"IFERROR(VLOOKUP(C955,Worktags!O:T,2,FALSE),\"\")","v":"Small Appliances"},{"$f":"IFERROR(VLOOKUP(IF(C955=\"\",B955&\"||\"&B955,C955&\"||\"&B955),Worktags!AR:AV,5,FALSE),\"\")","v":"All"}]
["6900_SC6933 Equipment, Software, Library/Software",{"$f":"Worktags!AS851","v":"6900"},{"$f":"IF(Worktags!AQ851<>Worktags!AS851,Worktags!AQ851,\"\")","v":"SC6933"},{"$f":"IFERROR(VLOOKUP(B956,Worktags!AL:AO,2,FALSE),\"\")","v":"Equipment, Software, Library"},{"$f":"IFERROR(VLOOKUP(C956,Worktags!O:T,2,FALSE),\"\")","v":"Software"},{"$f":"IFERROR(VLOOKUP(IF(C956=\"\",B956&\"||\"&B956,C956&\"||\"&B956),Worktags!AR:AV,5,FALSE),\"\")","v":"All"}]
["6900_SC6934 Equipment, Software, Library/Software and Media - Licenses",{"$f":"Worktags!AS854","v":"6900"},{"$f":"IF(Worktags!AQ854<>Worktags!AS854,Worktags!AQ854,\"\")","v":"SC6934"},{"$f":"IFERROR(VLOOKUP(B957,Worktags!AL:AO,2,FALSE),\"\")","v":"Equipment, Software, Library"},{"$f":"IFERROR(VLOOKUP(C957,Worktags!O:T,2,FALSE),\"\")","v":"Software and Media - Licenses"},{"$f":"IFERROR(VLOOKUP(IF(C957=\"\",B957&\"||\"&B957,C957&\"||\"&B957),Worktags!AR:AV,5,FALSE),\"\")","v":"All"}]
["6900_SC6935 Equipment, Software, Library/Telecom Equipment",{"$f":"Worktags!AS860","v":"6900"},{"$f":"IF(Worktags!AQ860<>Worktags!AS860,Worktags!AQ860,\"\")","v":"SC6935"},{"$f":"IFERROR(VLOOKUP(B958,Worktags!AL:AO,2,FALSE),\"\")","v":"Equipment, Software, Library"},{"$f":"IFERROR(VLOOKUP(C958,Worktags!O:T,2,FALSE),\"\")","v":"Telecom Equipment"},{"$f":"IFERROR(VLOOKUP(IF(C958=\"\",B958&\"||\"&B958,C958&\"||\"&B958),Worktags!AR:AV,5,FALSE),\"\")","v":"All"}]
["6900_SC6936 Equipment, Software, Library/Vehicles Services",{"$f":"Worktags!AS863","v":"6900"},{"$f":"IF(Worktags!AQ863<>Worktags!AS863,Worktags!AQ863,\"\")","v":"SC6936"},{"$f":"IFERROR(VLOOKUP(B959,Worktags!AL:AO,2,FALSE),\"\")","v":"Equipment, Software, Library"},{"$f":"IFERROR(VLOOKUP(C959,Worktags!O:T,2,FALSE),\"\")","v":"Vehicles Services"},{"$f":"IFERROR(VLOOKUP(IF(C959=\"\",B959&\"||\"&B959,C959&\"||\"&B959),Worktags!AR:AV,5,FALSE),\"\")","v":"All"}]
["6900_SC6937 Equipment, Software, Library/Vehicles, Motor",{"$f":"Worktags!AS867","v":"6900"},{"$f":"IF(Worktags!AQ867<>Worktags!AS867,Worktags!AQ867,\"\")","v":"SC6937"},{"$f":"IFERROR(VLOOKUP(B960,Worktags!AL:AO,2,FALSE),\"\")","v":"Equipment, Software, Library"},{"$f":"IFERROR(VLOOKUP(C960,Worktags!O:T,2,FALSE),\"\")","v":"Vehicles, Motor"},{"$f":"IFERROR(VLOOKUP(IF(C960=\"\",B960&\"||\"&B960,C960&\"||\"&B960),Worktags!AR:AV,5,FALSE),\"\")","v":"All"}]
[{"$f":"IF(B961<>\"\",IF(C961<>\"\",B961&\"_\"&C961&\" \"&D961&\"/\"&E961,B961&\" \"&D961),\"\")","v":"6900_SC6938 Equipment, Software, Library/Vehicles, Off-Road"},{"$f":"Worktags!AS872","v":"6900"},{"$f":"IF(Worktags!AQ872<>Worktags!AS872,Worktags!AQ872,\"\")","v":"SC6938"},{"$f":"IFERROR(VLOOKUP(B961,Worktags!AL:AO,2,FALSE),\"\")","v":"Equipment, Software, Library"},{"$f":"IFERROR(VLOOKUP(C961,Worktags!O:T,2,FALSE),\"\")","v":"Vehicles, Off-Road"},{"$f":"IFERROR(VLOOKUP(IF(C961=\"\",B961&\"||\"&B961,C961&\"||\"&B961),Worktags!AR:AV,5,FALSE),\"\")","v":"All"}]
["6900_SC6939 Equipment, Software, Library/Warehouse Equipment",{"$f":"Worktags!AS879","v":"6900"},{"$f":"IF(Worktags!AQ879<>Worktags!AS879,Worktags!AQ879,\"\")","v":"SC6939"},{"$f":"IFERROR(VLOOKUP(B962,Worktags!AL:AO,2,FALSE),\"\")","v":"Equipment, Software, Library"},{"$f":"IFERROR(VLOOKUP(C962,Worktags!O:T,2,FALSE),\"\")","v":"Warehouse Equipment"},{"$f":"IFERROR(VLOOKUP(IF(C962=\"\",B962&\"||\"&B962,C962&\"||\"&B962),Worktags!AR:AV,5,FALSE),\"\")","v":"All"}]
["6900_SC6999 Equipment, Software, Library/Equipment (reclass)",{"$f":"Worktags!AS891","v":"6900"},{"$f":"IF(Worktags!AQ891<>Worktags!AS891,Worktags!AQ891,\"\")","v":"SC6999"},{"$f":"IFERROR(VLOOKUP(B963,Worktags!AL:AO,2,FALSE),\"\")","v":"Equipment, Software, Library"},{"$f":"IFERROR(VLOOKUP(C963,Worktags!O:T,2,FALSE),\"\")","v":"Equipment (reclass)"},{"$f":"IFERROR(VLOOKUP(IF(C963=\"\",B963&\"||\"&B963,C963&\"||\"&B963),Worktags!AR:AV,5,FALSE),\"\")","v":"All"}]
["7000 Travel",{"$f":"Worktags!AL131","v":"7000"},null,{"$f":"IFERROR(VLOOKUP(B964,Worktags!AL:AO,2,FALSE),\"\")","v":"Travel"},null,{"$f":"IFERROR(VLOOKUP(IF(C964=\"\",B964&\"||\"&B964,C964&\"||\"&B964),Worktags!AR:AV,5,FALSE),\"\")","v":""}]
["7000_SC7001 Travel/Travel",{"$f":"Worktags!AS893","v":"7000"},{"$f":"IF(Worktags!AQ893<>Worktags!AS893,Worktags!AQ893,\"\")","v":"SC7001"},{"$f":"IFERROR(VLOOKUP(B965,Worktags!AL:AO,2,FALSE),\"\")","v":"Travel"},{"$f":"IFERROR(VLOOKUP(C965,Worktags!O:T,2,FALSE),\"\")","v":"Travel"},{"$f":"IFERROR(VLOOKUP(IF(C965=\"\",B965&\"||\"&B965,C965&\"||\"&B965),Worktags!AR:AV,5,FALSE),\"\")","v":"All"}]
["7000_SC7002 Travel/Airfare Domestic",{"$f":"Worktags!AS895","v":"7000"},{"$f":"IF(Worktags!AQ895<>Worktags!AS895,Worktags!AQ895,\"\")","v":"SC7002"},{"$f":"IFERROR(VLOOKUP(B966,Worktags!AL:AO,2,FALSE),\"\")","v":"Travel"},{"$f":"IFERROR(VLOOKUP(C966,Worktags!O:T,2,FALSE),\"\")","v":"Airfare Domestic"},{"$f":"IFERROR(VLOOKUP(IF(C966=\"\",B966&\"||\"&B966,C966&\"||\"&B966),Worktags!AR:AV,5,FALSE),\"\")","v":"All"}]
["7000_SC7003 Travel/Airfare Foreign",{"$f":"Worktags!AS897","v":"7000"},{"$f":"IF(Worktags!AQ897<>Worktags!AS897,Worktags!AQ897,\"\")","v":"SC7003"},{"$f":"IFERROR(VLOOKUP(B967,Worktags!AL:AO,2,FALSE),\"\")","v":"Travel"},{"$f":"IFERROR(VLOOKUP(C967,Worktags!O:T,2,FALSE),\"\")","v":"Airfare Foreign"},{"$f":"IFERROR(VLOOKUP(IF(C967=\"\",B967&\"||\"&B967,C967&\"||\"&B967),Worktags!AR:AV,5,FALSE),\"\")","v":"All"}]
["7000_SC7004 Travel/Transportation Services",{"$f":"Worktags!AS899","v":"7000"},{"$f":"IF(Worktags!AQ899<>Worktags!AS899,Worktags!AQ899,\"\")","v":"SC7004"},{"$f":"IFERROR(VLOOKUP(B968,Worktags!AL:AO,2,FALSE),\"\")","v":"Travel"},{"$f":"IFERROR(VLOOKUP(C968,Worktags!O:T,2,FALSE),\"\")","v":"Transportation Services"},{"$f":"IFERROR(VLOOKUP(IF(C968=\"\",B968&\"||\"&B968,C968&\"||\"&B968),Worktags!AR:AV,5,FALSE),\"\")","v":"All"}]
["7000_SC7005 Travel/Travel - Lodging",{"$f":"Worktags!AS901","v":"7000"},{"$f":"IF(Worktags!AQ901<>Worktags!AS901,Worktags!AQ901,\"\")","v":"SC7005"},{"$f":"IFERROR(VLOOKUP(B969,Worktags!AL:AO,2,FALSE),\"\")","v":"Travel"},{"$f":"IFERROR(VLOOKUP(C969,Worktags!O:T,2,FALSE),\"\")","v":"Travel - Lodging"},{"$f":"IFERROR(VLOOKUP(IF(C969=\"\",B969&\"||\"&B969,C969&\"||\"&B969),Worktags!AR:AV,5,FALSE),\"\")","v":"All"}]
["7000_SC7006 Travel/Travel - Tour Guide Services",{"$f":"Worktags!AS903","v":"7000"},{"$f":"IF(Worktags!AQ903<>Worktags!AS903,Worktags!AQ903,\"\")","v":"SC7006"},{"$f":"IFERROR(VLOOKUP(B970,Worktags!AL:AO,2,FALSE),\"\")","v":"Travel"},{"$f":"IFERROR(VLOOKUP(C970,Worktags!O:T,2,FALSE),\"\")","v":"Travel - Tour Guide Services"},{"$f":"IFERROR(VLOOKUP(IF(C970=\"\",B970&\"||\"&B970,C970&\"||\"&B970),Worktags!AR:AV,5,FALSE),\"\")","v":"All"}]
["7000_SC7099 Travel/Travel (reclass)",{"$f":"Worktags!AS905","v":"7000"},{"$f":"IF(Worktags!AQ905<>Worktags!AS905,Worktags!AQ905,\"\")","v":"SC7099"},{"$f":"IFERROR(VLOOKUP(B971,Worktags!AL:AO,2,FALSE),\"\")","v":"Travel"},{"$f":"IFERROR(VLOOKUP(C971,Worktags!O:T,2,FALSE),\"\")","v":"Travel (reclass)"},{"$f":"IFERROR(VLOOKUP(IF(C971=\"\",B971&\"||\"&B971,C971&\"||\"&B971),Worktags!AR:AV,5,FALSE),\"\")","v":"All"}]
["8000 Depreciation",{"$f":"Worktags!AL132","v":"8000"},null,{"$f":"IFERROR(VLOOKUP(B972,Worktags!AL:AO,2,FALSE),\"\")","v":"Depreciation"},null,{"$f":"IFERROR(VLOOKUP(IF(C972=\"\",B972&\"||\"&B972,C972&\"||\"&B972),Worktags!AR:AV,5,FALSE),\"\")","v":""}]
["8000_SC1605 Depreciation/Buildings",{"$f":"Worktags!AS215","v":"8000"},{"$f":"IF(Worktags!AQ215<>Worktags!AS215,Worktags!AQ215,\"\")","v":"SC1605"},{"$f":"IFERROR(VLOOKUP(B973,Worktags!AL:AO,2,FALSE),\"\")","v":"Depreciation"},{"$f":"IFERROR(VLOOKUP(C973,Worktags!O:T,2,FALSE),\"\")","v":"Buildings"},{"$f":"IFERROR(VLOOKUP(IF(C973=\"\",B973&\"||\"&B973,C973&\"||\"&B973),Worktags!AR:AV,5,FALSE),\"\")","v":"JE_PPE|JE_Override"}]
["8000_SC1635 Depreciation/Misc Capital Assets",{"$f":"Worktags!AS219","v":"8000"},{"$f":"IF(Worktags!AQ219<>Worktags!AS219,Worktags!AQ219,\"\")","v":"SC1635"},{"$f":"IFERROR(VLOOKUP(B974,Worktags!AL:AO,2,FALSE),\"\")","v":"Depreciation"},{"$f":"IFERROR(VLOOKUP(C974,Worktags!O:T,2,FALSE),\"\")","v":"Misc Capital Assets"},{"$f":"IFERROR(VLOOKUP(IF(C974=\"\",B974&\"||\"&B974,C974&\"||\"&B974),Worktags!AR:AV,5,FALSE),\"\")","v":"JE_PPE|JE_Override"}]
["8000_SC6701 Depreciation/Building Access Supplies",{"$f":"Worktags!AS518","v":"8000"},{"$f":"IF(Worktags!AQ518<>Worktags!AS518,Worktags!AQ518,\"\")","v":"SC6701"},{"$f":"IFERROR(VLOOKUP(B975,Worktags!AL:AO,2,FALSE),\"\")","v":"Depreciation"},{"$f":"IFERROR(VLOOKUP(C975,Worktags!O:T,2,FALSE),\"\")","v":"Building Access Supplies"},{"$f":"IFERROR(VLOOKUP(IF(C975=\"\",B975&\"||\"&B975,C975&\"||\"&B975),Worktags!AR:AV,5,FALSE),\"\")","v":"JE_PPE|JE_Override"}]
["8000_SC6702 Depreciation/Building Construction and Improvements",{"$f":"Worktags!AS525","v":"8000"},{"$f":"IF(Worktags!AQ525<>Worktags!AS525,Worktags!AQ525,\"\")","v":"SC6702"},{"$f":"IFERROR(VLOOKUP(B976,Worktags!AL:AO,2,FALSE),\"\")","v":"Depreciation"},{"$f":"IFERROR(VLOOKUP(C976,Worktags!O:T,2,FALSE),\"\")","v":"Building Construction and Improvements"},{"$f":"IFERROR(VLOOKUP(IF(C976=\"\",B976&\"||\"&B976,C976&\"||\"&B976),Worktags!AR:AV,5,FALSE),\"\")","v":"JE_PPE|JE_Override"}]
["8000_SC6703 Depreciation/Building Furnishings",{"$f":"Worktags!AS532","v":"8000"},{"$f":"IF(Worktags!AQ532<>Worktags!AS532,Worktags!AQ532,\"\")","v":"SC6703"},{"$f":"IFERROR(VLOOKUP(B977,Worktags!AL:AO,2,FALSE),\"\")","v":"Depreciation"},{"$f":"IFERROR(VLOOKUP(C977,Worktags!O:T,2,FALSE),\"\")","v":"Building Furnishings"},{"$f":"IFERROR(VLOOKUP(IF(C977=\"\",B977&\"||\"&B977,C977&\"||\"&B977),Worktags!AR:AV,5,FALSE),\"\")","v":"JE_PPE|JE_Override"}]
["8000_SC6704 Depreciation/Building Materials - Finishing",{"$f":"Worktags!AS539","v":"8000"},{"$f":"IF(Worktags!AQ539<>Worktags!AS539,Worktags!AQ539,\"\")","v":"SC6704"},{"$f":"IFERROR(VLOOKUP(B978,Worktags!AL:AO,2,FALSE),\"\")","v":"Depreciation"},{"$f":"IFERROR(VLOOKUP(C978,Worktags!O:T,2,FALSE),\"\")","v":"Building Materials - Finishing"},{"$f":"IFERROR(VLOOKUP(IF(C978=\"\",B978&\"||\"&B978,C978&\"||\"&B978),Worktags!AR:AV,5,FALSE),\"\")","v":"JE_PPE|JE_Override"}]
["8000_SC6705 Depreciation/Building Materials - Raw",{"$f":"Worktags!AS546","v":"8000"},{"$f":"IF(Worktags!AQ546<>Worktags!AS546,Worktags!AQ546,\"\")","v":"SC6705"},{"$f":"IFERROR(VLOOKUP(B979,Worktags!AL:AO,2,FALSE),\"\")","v":"Depreciation"},{"$f":"IFERROR(VLOOKUP(C979,Worktags!O:T,2,FALSE),\"\")","v":"Building Materials - Raw"},{"$f":"IFERROR(VLOOKUP(IF(C979=\"\",B979&\"||\"&B979,C979&\"||\"&B979),Worktags!AR:AV,5,FALSE),\"\")","v":"JE_PPE|JE_Override"}]
["8000_SC6706 Depreciation/Electrical Devices",{"$f":"Worktags!AS553","v":"8000"},{"$f":"IF(Worktags!AQ553<>Worktags!AS553,Worktags!AQ553,\"\")","v":"SC6706"},{"$f":"IFERROR(VLOOKUP(B980,Worktags!AL:AO,2,FALSE),\"\")","v":"Depreciation"},{"$f":"IFERROR(VLOOKUP(C980,Worktags!O:T,2,FALSE),\"\")","v":"Electrical Devices"},{"$f":"IFERROR(VLOOKUP(IF(C980=\"\",B980&\"||\"&B980,C980&\"||\"&B980),Worktags!AR:AV,5,FALSE),\"\")","v":"JE_PPE|JE_Override"}]
["8000_SC6708 Depreciation/Fans/Furnaces",{"$f":"Worktags!AS564","v":"8000"},{"$f":"IF(Worktags!AQ564<>Worktags!AS564,Worktags!AQ564,\"\")","v":"SC6708"},{"$f":"IFERROR(VLOOKUP(B981,Worktags!AL:AO,2,FALSE),\"\")","v":"Depreciation"},{"$f":"IFERROR(VLOOKUP(C981,Worktags!O:T,2,FALSE),\"\")","v":"Fans/Furnaces"},{"$f":"IFERROR(VLOOKUP(IF(C981=\"\",B981&\"||\"&B981,C981&\"||\"&B981),Worktags!AR:AV,5,FALSE),\"\")","v":"JE_PPE|JE_Override"}]
["8000_SC6709 Depreciation/Flooring Materials",{"$f":"Worktags!AS571","v":"8000"},{"$f":"IF(Worktags!AQ571<>Worktags!AS571,Worktags!AQ571,\"\")","v":"SC6709"},{"$f":"IFERROR(VLOOKUP(B982,Worktags!AL:AO,2,FALSE),\"\")","v":"Depreciation"},{"$f":"IFERROR(VLOOKUP(C982,Worktags!O:T,2,FALSE),\"\")","v":"Flooring Materials"},{"$f":"IFERROR(VLOOKUP(IF(C982=\"\",B982&\"||\"&B982,C982&\"||\"&B982),Worktags!AR:AV,5,FALSE),\"\")","v":"JE_PPE|JE_Override"}]
["8000_SC6710 Depreciation/Furnishing Accessories",{"$f":"Worktags!AS578","v":"8000"},{"$f":"IF(Worktags!AQ578<>Worktags!AS578,Worktags!AQ578,\"\")","v":"SC6710"},{"$f":"IFERROR(VLOOKUP(B983,Worktags!AL:AO,2,FALSE),\"\")","v":"Depreciation"},{"$f":"IFERROR(VLOOKUP(C983,Worktags!O:T,2,FALSE),\"\")","v":"Furnishing Accessories"},{"$f":"IFERROR(VLOOKUP(IF(C983=\"\",B983&\"||\"&B983,C983&\"||\"&B983),Worktags!AR:AV,5,FALSE),\"\")","v":"JE_PPE|JE_Override"}]
["8000_SC6711 Depreciation/Grounds and Landscaping Supplies",{"$f":"Worktags!AS585","v":"8000"},{"$f":"IF(Worktags!AQ585<>Worktags!AS585,Worktags!AQ585,\"\")","v":"SC6711"},{"$f":"IFERROR(VLOOKUP(B984,Worktags!AL:AO,2,FALSE),\"\")","v":"Depreciation"},{"$f":"IFERROR(VLOOKUP(C984,Worktags!O:T,2,FALSE),\"\")","v":"Grounds and Landscaping Supplies"},{"$f":"IFERROR(VLOOKUP(IF(C984=\"\",B984&\"||\"&B984,C984&\"||\"&B984),Worktags!AR:AV,5,FALSE),\"\")","v":"JE_PPE|JE_Override"}]
["8000_SC6713 Depreciation/Industrial Fixtures",{"$f":"Worktags!AS594","v":"8000"},{"$f":"IF(Worktags!AQ594<>Worktags!AS594,Worktags!AQ594,\"\")","v":"SC6713"},{"$f":"IFERROR(VLOOKUP(B985,Worktags!AL:AO,2,FALSE),\"\")","v":"Depreciation"},{"$f":"IFERROR(VLOOKUP(C985,Worktags!O:T,2,FALSE),\"\")","v":"Industrial Fixtures"},{"$f":"IFERROR(VLOOKUP(IF(C985=\"\",B985&\"||\"&B985,C985&\"||\"&B985),Worktags!AR:AV,5,FALSE),\"\")","v":"JE_PPE|JE_Override"}]
["8000_SC6714 Depreciation/Lighting Fixtures and Lamps",{"$f":"Worktags!AS601","v":"8000"},{"$f":"IF(Worktags!AQ601<>Worktags!AS601,Worktags!AQ601,\"\")","v":"SC6714"},{"$f":"IFERROR(VLOOKUP(B986,Worktags!AL:AO,2,FALSE),\"\")","v":"Depreciation"},{"$f":"IFERROR(VLOOKUP(C986,Worktags!O:T,2,FALSE),\"\")","v":"Lighting Fixtures and Lamps"},{"$f":"IFERROR(VLOOKUP(IF(C986=\"\",B986&\"||\"&B986,C986&\"||\"&B986),Worktags!AR:AV,5,FALSE),\"\")","v":"JE_PPE|JE_Override"}]
["8000_SC6715 Depreciation/Plumbing Fixtures",{"$f":"Worktags!AS608","v":"8000"},{"$f":"IF(Worktags!AQ608<>Worktags!AS608,Worktags!AQ608,\"\")","v":"SC6715"},{"$f":"IFERROR(VLOOKUP(B987,Worktags!AL:AO,2,FALSE),\"\")","v":"Depreciation"},{"$f":"IFERROR(VLOOKUP(C987,Worktags!O:T,2,FALSE),\"\")","v":"Plumbing Fixtures"},{"$f":"IFERROR(VLOOKUP(IF(C987=\"\",B987&\"||\"&B987,C987&\"||\"&B987),Worktags!AR:AV,5,FALSE),\"\")","v":"JE_PPE|JE_Override"}]
["8000_SC6718 Depreciation/Signage, Electronic",{"$f":"Worktags!AS621","v":"8000"},{"$f":"IF(Worktags!AQ621<>Worktags!AS621,Worktags!AQ621,\"\")","v":"SC6718"},{"$f":"IFERROR(VLOOKUP(B988,Worktags!AL:AO,2,FALSE),\"\")","v":"Depreciation"},{"$f":"IFERROR(VLOOKUP(C988,Worktags!O:T,2,FALSE),\"\")","v":"Signage, Electronic"},{"$f":"IFERROR(VLOOKUP(IF(C988=\"\",B988&\"||\"&B988,C988&\"||\"&B988),Worktags!AR:AV,5,FALSE),\"\")","v":"JE_PPE|JE_Override"}]
["8000_SC6719 Depreciation/Signage, Non-electronic",{"$f":"Worktags!AS628","v":"8000"},{"$f":"IF(Worktags!AQ628<>Worktags!AS628,Worktags!AQ628,\"\")","v":"SC6719"},{"$f":"IFERROR(VLOOKUP(B989,Worktags!AL:AO,2,FALSE),\"\")","v":"Depreciation"},{"$f":"IFERROR(VLOOKUP(C989,Worktags!O:T,2,FALSE),\"\")","v":"Signage, Non-electronic"},{"$f":"IFERROR(VLOOKUP(IF(C989=\"\",B989&\"||\"&B989,C989&\"||\"&B989),Worktags!AR:AV,5,FALSE),\"\")","v":"JE_PPE|JE_Override"}]
["8000_SC6721 Depreciation/Stage and Studio Lighting (Asset Track)",{"$f":"Worktags!AS639","v":"8000"},{"$f":"IF(Worktags!AQ639<>Worktags!AS639,Worktags!AQ639,\"\")","v":"SC6721"},{"$f":"IFERROR(VLOOKUP(B990,Worktags!AL:AO,2,FALSE),\"\")","v":"Depreciation"},{"$f":"IFERROR(VLOOKUP(C990,Worktags!O:T,2,FALSE),\"\")","v":"Stage and Studio Lighting (Asset Track)"},{"$f":"IFERROR(VLOOKUP(IF(C990=\"\",B990&\"||\"&B990,C990&\"||\"&B990),Worktags!AR:AV,5,FALSE),\"\")","v":"JE_PPE|JE_Override"}]
["8000_SC6729 Depreciation/Warehouse Fixtures",{"$f":"Worktags!AS660","v":"8000"},{"$f":"IF(Worktags!AQ660<>Worktags!AS660,Worktags!AQ660,\"\")","v":"SC6729"},{"$f":"IFERROR(VLOOKUP(B991,Worktags!AL:AO,2,FALSE),\"\")","v":"Depreciation"},{"$f":"IFERROR(VLOOKUP(C991,Worktags!O:T,2,FALSE),\"\")","v":"Warehouse Fixtures"},{"$f":"IFERROR(VLOOKUP(IF(C991=\"\",B991&\"||\"&B991,C991&\"||\"&B991),Worktags!AR:AV,5,FALSE),\"\")","v":"JE_PPE|JE_Override"}]
["8000_SC6730 Depreciation/Window Treatments",{"$f":"Worktags!AS667","v":"8000"},{"$f":"IF(Worktags!AQ667<>Worktags!AS667,Worktags!AQ667,\"\")","v":"SC6730"},{"$f":"IFERROR(VLOOKUP(B992,Worktags!AL:AO,2,FALSE),\"\")","v":"Depreciation"},{"$f":"IFERROR(VLOOKUP(C992,Worktags!O:T,2,FALSE),\"\")","v":"Window Treatments"},{"$f":"IFERROR(VLOOKUP(IF(C992=\"\",B992&\"||\"&B992,C992&\"||\"&B992),Worktags!AR:AV,5,FALSE),\"\")","v":"JE_PPE|JE_Override"}]
["8000_SC6901 Depreciation/Art Equipment",{"$f":"Worktags!AS679","v":"8000"},{"$f":"IF(Worktags!AQ679<>Worktags!AS679,Worktags!AQ679,\"\")","v":"SC6901"},{"$f":"IFERROR(VLOOKUP(B993,Worktags!AL:AO,2,FALSE),\"\")","v":"Depreciation"},{"$f":"IFERROR(VLOOKUP(C993,Worktags!O:T,2,FALSE),\"\")","v":"Art Equipment"},{"$f":"IFERROR(VLOOKUP(IF(C993=\"\",B993&\"||\"&B993,C993&\"||\"&B993),Worktags!AR:AV,5,FALSE),\"\")","v":"JE_PPE|JE_Override"}]
["8000_SC6902 Depreciation/Athletic Equipment",{"$f":"Worktags!AS686","v":"8000"},{"$f":"IF(Worktags!AQ686<>Worktags!AS686,Worktags!AQ686,\"\")","v":"SC6902"},{"$f":"IFERROR(VLOOKUP(B994,Worktags!AL:AO,2,FALSE),\"\")","v":"Depreciation"},{"$f":"IFERROR(VLOOKUP(C994,Worktags!O:T,2,FALSE),\"\")","v":"Athletic Equipment"},{"$f":"IFERROR(VLOOKUP(IF(C994=\"\",B994&\"||\"&B994,C994&\"||\"&B994),Worktags!AR:AV,5,FALSE),\"\")","v":"JE_PPE|JE_Override"}]
["8000_SC6903 Depreciation/Audio Visual Equipment (Asset Track)",{"$f":"Worktags!AS693","v":"8000"},{"$f":"IF(Worktags!AQ693<>Worktags!AS693,Worktags!AQ693,\"\")","v":"SC6903"},{"$f":"IFERROR(VLOOKUP(B995,Worktags!AL:AO,2,FALSE),\"\")","v":"Depreciation"},{"$f":"IFERROR(VLOOKUP(C995,Worktags!O:T,2,FALSE),\"\")","v":"Audio Visual Equipment (Asset Track)"},{"$f":"IFERROR(VLOOKUP(IF(C995=\"\",B995&\"||\"&B995,C995&\"||\"&B995),Worktags!AR:AV,5,FALSE),\"\")","v":"JE_PPE|JE_Override"}]
["8000_SC6904 Depreciation/Communication Devices (Asset Track)",{"$f":"Worktags!AS700","v":"8000"},{"$f":"IF(Worktags!AQ700<>Worktags!AS700,Worktags!AQ700,\"\")","v":"SC6904"},{"$f":"IFERROR(VLOOKUP(B996,Worktags!AL:AO,2,FALSE),\"\")","v":"Depreciation"},{"$f":"IFERROR(VLOOKUP(C996,Worktags!O:T,2,FALSE),\"\")","v":"Communication Devices (Asset Track)"},{"$f":"IFERROR(VLOOKUP(IF(C996=\"\",B996&\"||\"&B996,C996&\"||\"&B996),Worktags!AR:AV,5,FALSE),\"\")","v":"JE_PPE|JE_Override"}]
["8000_SC6905 Depreciation/Computer Hardware (Asset Track)",{"$f":"Worktags!AS707","v":"8000"},{"$f":"IF(Worktags!AQ707<>Worktags!AS707,Worktags!AQ707,\"\")","v":"SC6905"},{"$f":"IFERROR(VLOOKUP(B997,Worktags!AL:AO,2,FALSE),\"\")","v":"Depreciation"},{"$f":"IFERROR(VLOOKUP(C997,Worktags!O:T,2,FALSE),\"\")","v":"Computer Hardware (Asset Track)"},{"$f":"IFERROR(VLOOKUP(IF(C997=\"\",B997&\"||\"&B997,C997&\"||\"&B997),Worktags!AR:AV,5,FALSE),\"\")","v":"JE_PPE|JE_Override"}]
["8000_SC6906 Depreciation/Data Network Equipment (Asset Track)",{"$f":"Worktags!AS714","v":"8000"},{"$f":"IF(Worktags!AQ714<>Worktags!AS714,Worktags!AQ714,\"\")","v":"SC6906"},{"$f":"IFERROR(VLOOKUP(B998,Worktags!AL:AO,2,FALSE),\"\")","v":"Depreciation"},{"$f":"IFERROR(VLOOKUP(C998,Worktags!O:T,2,FALSE),\"\")","v":"Data Network Equipment (Asset Track)"},{"$f":"IFERROR(VLOOKUP(IF(C998=\"\",B998&\"||\"&B998,C998&\"||\"&B998),Worktags!AR:AV,5,FALSE),\"\")","v":"JE_PPE|JE_Override"}]
["8000_SC6907 Depreciation/Equipment (not otherwise specified) (Asset Track)",{"$f":"Worktags!AS721","v":"8000"},{"$f":"IF(Worktags!AQ721<>Worktags!AS721,Worktags!AQ721,\"\")","v":"SC6907"},{"$f":"IFERROR(VLOOKUP(B999,Worktags!AL:AO,2,FALSE),\"\")","v":"Depreciation"},{"$f":"IFERROR(VLOOKUP(C999,Worktags!O:T,2,FALSE),\"\")","v":"Equipment (not otherwise specified) (Asset Track)"},{"$f":"IFERROR(VLOOKUP(IF(C999=\"\",B999&\"||\"&B999,C999&\"||\"&B999),Worktags!AR:AV,5,FALSE),\"\")","v":"JE_PPE|JE_Override"}]
["8000_SC6909 Depreciation/Firearms",{"$f":"Worktags!AS728","v":"8000"},{"$f":"IF(Worktags!AQ728<>Worktags!AS728,Worktags!AQ728,\"\")","v":"SC6909"},{"$f":"IFERROR(VLOOKUP(B1000,Worktags!AL:AO,2,FALSE),\"\")","v":"Depreciation"},{"$f":"IFERROR(VLOOKUP(C1000,Worktags!O:T,2,FALSE),\"\")","v":"Firearms"},{"$f":"IFERROR(VLOOKUP(IF(C1000=\"\",B1000&\"||\"&B1000,C1000&\"||\"&B1000),Worktags!AR:AV,5,FALSE),\"\")","v":"JE_PPE|JE_Override"}]
["8000_SC6910 Depreciation/Food Service Equipment",{"$f":"Worktags!AS735","v":"8000"},{"$f":"IF(Worktags!AQ735<>Worktags!AS735,Worktags!AQ735,\"\")","v":"SC6910"},{"$f":"IFERROR(VLOOKUP(B1001,Worktags!AL:AO,2,FALSE),\"\")","v":"Depreciation"},{"$f":"IFERROR(VLOOKUP(C1001,Worktags!O:T,2,FALSE),\"\")","v":"Food Service Equipment"},{"$f":"IFERROR(VLOOKUP(IF(C1001=\"\",B1001&\"||\"&B1001,C1001&\"||\"&B1001),Worktags!AR:AV,5,FALSE),\"\")","v":"JE_PPE|JE_Override"}]
["8000_SC6911 Depreciation/Grants Capital Equipment",{"$f":"Worktags!AS740","v":"8000"},{"$f":"IF(Worktags!AQ740<>Worktags!AS740,Worktags!AQ740,\"\")","v":"SC6911"},{"$f":"IFERROR(VLOOKUP(B1002,Worktags!AL:AO,2,FALSE),\"\")","v":"Depreciation"},{"$f":"IFERROR(VLOOKUP(C1002,Worktags!O:T,2,FALSE),\"\")","v":"Grants Capital Equipment"},{"$f":"IFERROR(VLOOKUP(IF(C1002=\"\",B1002&\"||\"&B1002,C1002&\"||\"&B1002),Worktags!AR:AV,5,FALSE),\"\")","v":"JE_PPE|JE_Override"}]
["8000_SC6913 Depreciation/Grounds Equipment",{"$f":"Worktags!AS747","v":"8000"},{"$f":"IF(Worktags!AQ747<>Worktags!AS747,Worktags!AQ747,\"\")","v":"SC6913"},{"$f":"IFERROR(VLOOKUP(B1003,Worktags!AL:AO,2,FALSE),\"\")","v":"Depreciation"},{"$f":"IFERROR(VLOOKUP(C1003,Worktags!O:T,2,FALSE),\"\")","v":"Grounds Equipment"},{"$f":"IFERROR(VLOOKUP(IF(C1003=\"\",B1003&\"||\"&B1003,C1003&\"||\"&B1003),Worktags!AR:AV,5,FALSE),\"\")","v":"JE_PPE|JE_Override"}]
["8000_SC6914 Depreciation/Industrial Equipment",{"$f":"Worktags!AS754","v":"8000"},{"$f":"IF(Worktags!AQ754<>Worktags!AS754,Worktags!AQ754,\"\")","v":"SC6914"},{"$f":"IFERROR(VLOOKUP(B1004,Worktags!AL:AO,2,FALSE),\"\")","v":"Depreciation"},{"$f":"IFERROR(VLOOKUP(C1004,Worktags!O:T,2,FALSE),\"\")","v":"Industrial Equipment"},{"$f":"IFERROR(VLOOKUP(IF(C1004=\"\",B1004&\"||\"&B1004,C1004&\"||\"&B1004),Worktags!AR:AV,5,FALSE),\"\")","v":"JE_PPE|JE_Override"}]
["8000_SC6915 Depreciation/Janitorial Equipment",{"$f":"Worktags!AS761","v":"8000"},{"$f":"IF(Worktags!AQ761<>Worktags!AS761,Worktags!AQ761,\"\")","v":"SC6915"},{"$f":"IFERROR(VLOOKUP(B1005,Worktags!AL:AO,2,FALSE),\"\")","v":"Depreciation"},{"$f":"IFERROR(VLOOKUP(C1005,Worktags!O:T,2,FALSE),\"\")","v":"Janitorial Equipment"},{"$f":"IFERROR(VLOOKUP(IF(C1005=\"\",B1005&\"||\"&B1005,C1005&\"||\"&B1005),Worktags!AR:AV,5,FALSE),\"\")","v":"JE_PPE|JE_Override"}]
["8000_SC6917 Depreciation/Laundry Equipment",{"$f":"Worktags!AS770","v":"8000"},{"$f":"IF(Worktags!AQ770<>Worktags!AS770,Worktags!AQ770,\"\")","v":"SC6917"},{"$f":"IFERROR(VLOOKUP(B1006,Worktags!AL:AO,2,FALSE),\"\")","v":"Depreciation"},{"$f":"IFERROR(VLOOKUP(C1006,Worktags!O:T,2,FALSE),\"\")","v":"Laundry Equipment"},{"$f":"IFERROR(VLOOKUP(IF(C1006=\"\",B1006&\"||\"&B1006,C1006&\"||\"&B1006),Worktags!AR:AV,5,FALSE),\"\")","v":"JE_PPE|JE_Override"}]
["8000_SC6918 Depreciation/Library Content",{"$f":"Worktags!AS775","v":"8000"},{"$f":"IF(Worktags!AQ775<>Worktags!AS775,Worktags!AQ775,\"\")","v":"SC6918"},{"$f":"IFERROR(VLOOKUP(B1007,Worktags!AL:AO,2,FALSE),\"\")","v":"Depreciation"},{"$f":"IFERROR(VLOOKUP(C1007,Worktags!O:T,2,FALSE),\"\")","v":"Library Content"},{"$f":"IFERROR(VLOOKUP(IF(C1007=\"\",B1007&\"||\"&B1007,C1007&\"||\"&B1007),Worktags!AR:AV,5,FALSE),\"\")","v":"JE_PPE|JE_Override"}]
["8000_SC6920 Depreciation/Media Content",{"$f":"Worktags!AS782","v":"8000"},{"$f":"IF(Worktags!AQ782<>Worktags!AS782,Worktags!AQ782,\"\")","v":"SC6920"},{"$f":"IFERROR(VLOOKUP(B1008,Worktags!AL:AO,2,FALSE),\"\")","v":"Depreciation"},{"$f":"IFERROR(VLOOKUP(C1008,Worktags!O:T,2,FALSE),\"\")","v":"Media Content"},{"$f":"IFERROR(VLOOKUP(IF(C1008=\"\",B1008&\"||\"&B1008,C1008&\"||\"&B1008),Worktags!AR:AV,5,FALSE),\"\")","v":"JE_PPE|JE_Override"}]
["8000_SC6921 Depreciation/Medical Equipment",{"$f":"Worktags!AS789","v":"8000"},{"$f":"IF(Worktags!AQ789<>Worktags!AS789,Worktags!AQ789,\"\")","v":"SC6921"},{"$f":"IFERROR(VLOOKUP(B1009,Worktags!AL:AO,2,FALSE),\"\")","v":"Depreciation"},{"$f":"IFERROR(VLOOKUP(C1009,Worktags!O:T,2,FALSE),\"\")","v":"Medical Equipment"},{"$f":"IFERROR(VLOOKUP(IF(C1009=\"\",B1009&\"||\"&B1009,C1009&\"||\"&B1009),Worktags!AR:AV,5,FALSE),\"\")","v":"JE_PPE|JE_Override"}]
["8000_SC6923 Depreciation/Musical Instruments",{"$f":"Worktags!AS796","v":"8000"},{"$f":"IF(Worktags!AQ796<>Worktags!AS796,Worktags!AQ796,\"\")","v":"SC6923"},{"$f":"IFERROR(VLOOKUP(B1010,Worktags!AL:AO,2,FALSE),\"\")","v":"Depreciation"},{"$f":"IFERROR(VLOOKUP(C1010,Worktags!O:T,2,FALSE),\"\")","v":"Musical Instruments"},{"$f":"IFERROR(VLOOKUP(IF(C1010=\"\",B1010&\"||\"&B1010,C1010&\"||\"&B1010),Worktags!AR:AV,5,FALSE),\"\")","v":"JE_PPE|JE_Override"}]
["8000_SC6924 Depreciation/Office Equipment (Asset Track)",{"$f":"Worktags!AS803","v":"8000"},{"$f":"IF(Worktags!AQ803<>Worktags!AS803,Worktags!AQ803,\"\")","v":"SC6924"},{"$f":"IFERROR(VLOOKUP(B1011,Worktags!AL:AO,2,FALSE),\"\")","v":"Depreciation"},{"$f":"IFERROR(VLOOKUP(C1011,Worktags!O:T,2,FALSE),\"\")","v":"Office Equipment (Asset Track)"},{"$f":"IFERROR(VLOOKUP(IF(C1011=\"\",B1011&\"||\"&B1011,C1011&\"||\"&B1011),Worktags!AR:AV,5,FALSE),\"\")","v":"JE_PPE|JE_Override"}]
["8000_SC6926 Depreciation/Photography Equipment",{"$f":"Worktags!AS810","v":"8000"},{"$f":"IF(Worktags!AQ810<>Worktags!AS810,Worktags!AQ810,\"\")","v":"SC6926"},{"$f":"IFERROR(VLOOKUP(B1012,Worktags!AL:AO,2,FALSE),\"\")","v":"Depreciation"},{"$f":"IFERROR(VLOOKUP(C1012,Worktags!O:T,2,FALSE),\"\")","v":"Photography Equipment"},{"$f":"IFERROR(VLOOKUP(IF(C1012=\"\",B1012&\"||\"&B1012,C1012&\"||\"&B1012),Worktags!AR:AV,5,FALSE),\"\")","v":"JE_PPE|JE_Override"}]
["8000_SC6927 Depreciation/Portable Structures",{"$f":"Worktags!AS817","v":"8000"},{"$f":"IF(Worktags!AQ817<>Worktags!AS817,Worktags!AQ817,\"\")","v":"SC6927"},{"$f":"IFERROR(VLOOKUP(B1013,Worktags!AL:AO,2,FALSE),\"\")","v":"Depreciation"},{"$f":"IFERROR(VLOOKUP(C1013,Worktags!O:T,2,FALSE),\"\")","v":"Portable Structures"},{"$f":"IFERROR(VLOOKUP(IF(C1013=\"\",B1013&\"||\"&B1013,C1013&\"||\"&B1013),Worktags!AR:AV,5,FALSE),\"\")","v":"JE_PPE|JE_Override"}]
["8000_SC6928 Depreciation/Printing Equipment",{"$f":"Worktags!AS824","v":"8000"},{"$f":"IF(Worktags!AQ824<>Worktags!AS824,Worktags!AQ824,\"\")","v":"SC6928"},{"$f":"IFERROR(VLOOKUP(B1014,Worktags!AL:AO,2,FALSE),\"\")","v":"Depreciation"},{"$f":"IFERROR(VLOOKUP(C1014,Worktags!O:T,2,FALSE),\"\")","v":"Printing Equipment"},{"$f":"IFERROR(VLOOKUP(IF(C1014=\"\",B1014&\"||\"&B1014,C1014&\"||\"&B1014),Worktags!AR:AV,5,FALSE),\"\")","v":"JE_PPE|JE_Override"}]
["8000_SC6929 Depreciation/Scientific and Engineering Equipment",{"$f":"Worktags!AS831","v":"8000"},{"$f":"IF(Worktags!AQ831<>Worktags!AS831,Worktags!AQ831,\"\")","v":"SC6929"},{"$f":"IFERROR(VLOOKUP(B1015,Worktags!AL:AO,2,FALSE),\"\")","v":"Depreciation"},{"$f":"IFERROR(VLOOKUP(C1015,Worktags!O:T,2,FALSE),\"\")","v":"Scientific and Engineering Equipment"},{"$f":"IFERROR(VLOOKUP(IF(C1015=\"\",B1015&\"||\"&B1015,C1015&\"||\"&B1015),Worktags!AR:AV,5,FALSE),\"\")","v":"JE_PPE|JE_Override"}]
["8000_SC6931 Depreciation/Security Equipment (Asset Track)",{"$f":"Worktags!AS840","v":"8000"},{"$f":"IF(Worktags!AQ840<>Worktags!AS840,Worktags!AQ840,\"\")","v":"SC6931"},{"$f":"IFERROR(VLOOKUP(B1016,Worktags!AL:AO,2,FALSE),\"\")","v":"Depreciation"},{"$f":"IFERROR(VLOOKUP(C1016,Worktags!O:T,2,FALSE),\"\")","v":"Security Equipment (Asset Track)"},{"$f":"IFERROR(VLOOKUP(IF(C1016=\"\",B1016&\"||\"&B1016,C1016&\"||\"&B1016),Worktags!AR:AV,5,FALSE),\"\")","v":"JE_PPE|JE_Override"}]
["8000_SC6932 Depreciation/Small Appliances",{"$f":"Worktags!AS847","v":"8000"},{"$f":"IF(Worktags!AQ847<>Worktags!AS847,Worktags!AQ847,\"\")","v":"SC6932"},{"$f":"IFERROR(VLOOKUP(B1017,Worktags!AL:AO,2,FALSE),\"\")","v":"Depreciation"},{"$f":"IFERROR(VLOOKUP(C1017,Worktags!O:T,2,FALSE),\"\")","v":"Small Appliances"},{"$f":"IFERROR(VLOOKUP(IF(C1017=\"\",B1017&\"||\"&B1017,C1017&\"||\"&B1017),Worktags!AR:AV,5,FALSE),\"\")","v":"JE_PPE|JE_Override"}]
["8000_SC6933 Depreciation/Software",{"$f":"Worktags!AS852","v":"8000"},{"$f":"IF(Worktags!AQ852<>Worktags!AS852,Worktags!AQ852,\"\")","v":"SC6933"},{"$f":"IFERROR(VLOOKUP(B1018,Worktags!AL:AO,2,FALSE),\"\")","v":"Depreciation"},{"$f":"IFERROR(VLOOKUP(C1018,Worktags!O:T,2,FALSE),\"\")","v":"Software"},{"$f":"IFERROR(VLOOKUP(IF(C1018=\"\",B1018&\"||\"&B1018,C1018&\"||\"&B1018),Worktags!AR:AV,5,FALSE),\"\")","v":"JE_PPE|JE_Override"}]
["8000_SC6935 Depreciation/Telecom Equipment",{"$f":"Worktags!AS861","v":"8000"},{"$f":"IF(Worktags!AQ861<>Worktags!AS861,Worktags!AQ861,\"\")","v":"SC6935"},{"$f":"IFERROR(VLOOKUP(B1019,Worktags!AL:AO,2,FALSE),\"\")","v":"Depreciation"},{"$f":"IFERROR(VLOOKUP(C1019,Worktags!O:T,2,FALSE),\"\")","v":"Telecom Equipment"},{"$f":"IFERROR(VLOOKUP(IF(C1019=\"\",B1019&\"||\"&B1019,C1019&\"||\"&B1019),Worktags!AR:AV,5,FALSE),\"\")","v":"JE_PPE|JE_Override"}]
["8000_SC6937 Depreciation/Vehicles, Motor",{"$f":"Worktags!AS868","v":"8000"},{"$f":"IF(Worktags!AQ868<>Worktags!AS868,Worktags!AQ868,\"\")","v":"SC6937"},{"$f":"IFERROR(VLOOKUP(B1020,Worktags!AL:AO,2,FALSE),\"\")","v":"Depreciation"},{"$f":"IFERROR(VLOOKUP(C1020,Worktags!O:T,2,FALSE),\"\")","v":"Vehicles, Motor"},{"$f":"IFERROR(VLOOKUP(IF(C1020=\"\",B1020&\"||\"&B1020,C1020&\"||\"&B1020),Worktags!AR:AV,5,FALSE),\"\")","v":"JE_PPE|JE_Override"}]
["8000_SC6938 Depreciation/Vehicles, Off-Road",{"$f":"Worktags!AS873","v":"8000"},{"$f":"IF(Worktags!AQ873<>Worktags!AS873,Worktags!AQ873,\"\")","v":"SC6938"},{"$f":"IFERROR(VLOOKUP(B1021,Worktags!AL:AO,2,FALSE),\"\")","v":"Depreciation"},{"$f":"IFERROR(VLOOKUP(C1021,Worktags!O:T,2,FALSE),\"\")","v":"Vehicles, Off-Road"},{"$f":"IFERROR(VLOOKUP(IF(C1021=\"\",B1021&\"||\"&B1021,C1021&\"||\"&B1021),Worktags!AR:AV,5,FALSE),\"\")","v":"JE_PPE|JE_Override"}]
["8000_SC6939 Depreciation/Warehouse Equipment",{"$f":"Worktags!AS880","v":"8000"},{"$f":"IF(Worktags!AQ880<>Worktags!AS880,Worktags!AQ880,\"\")","v":"SC6939"},{"$f":"IFERROR(VLOOKUP(B1022,Worktags!AL:AO,2,FALSE),\"\")","v":"Depreciation"},{"$f":"IFERROR(VLOOKUP(C1022,Worktags!O:T,2,FALSE),\"\")","v":"Warehouse Equipment"},{"$f":"IFERROR(VLOOKUP(IF(C1022=\"\",B1022&\"||\"&B1022,C1022&\"||\"&B1022),Worktags!AR:AV,5,FALSE),\"\")","v":"JE_PPE|JE_Override"}]
["9199 AM Offset Default",{"$f":"Worktags!AL133","v":"9199"},null,{"$f":"IFERROR(VLOOKUP(B1023,Worktags!AL:AO,2,FALSE),\"\")","v":"AM Offset Default"},null,{"$f":"IFERROR(VLOOKUP(IF(C1023=\"\",B1023&\"||\"&B1023,C1023&\"||\"&B1023),Worktags!AR:AV,5,FALSE),\"\")","v":""}]
["9250 Funds Transfer",{"$f":"Worktags!AL134","v":"9250"},null,{"$f":"IFERROR(VLOOKUP(B1024,Worktags!AL:AO,2,FALSE),\"\")","v":"Funds Transfer"},null,{"$f":"IFERROR(VLOOKUP(IF(C1024=\"\",B1024&\"||\"&B1024,C1024&\"||\"&B1024),Worktags!AR:AV,5,FALSE),\"\")","v":"All"}]
[{"$f":"IF(B1025<>\"\",IF(C1025<>\"\",B1025&\"_\"&C1025&\" \"&D1025&\"/\"&E1025,B1025&\" \"&D1025),\"\")","v":"9250 Funds Transfer"},{"$f":"Worktags!AS72","v":"9250"},{"$f":"IF(Worktags!AQ72<>Worktags!AS72,Worktags!AQ72,\"\")","v":""},{"$f":"IFERROR(VLOOKUP(B1025,Worktags!AL:AO,2,FALSE),\"\")","v":"Funds Transfer"},{"$f":"IFERROR(VLOOKUP(C1025,Worktags!O:T,2,FALSE),\"\")","v":""},{"$f":"IFERROR(VLOOKUP(IF(C1025=\"\",B1025&\"||\"&B1025,C1025&\"||\"&B1025),Worktags!AR:AV,5,FALSE),\"\")","v":"All"}]
["9780 Inter-Company Donation Expense",{"$f":"Worktags!AL135","v":"9780"},null,{"$f":"IFERROR(VLOOKUP(B1026,Worktags!AL:AO,2,FALSE),\"\")","v":"Inter-Company Donation Expense"},null,{"$f":"IFERROR(VLOOKUP(IF(C1026=\"\",B1026&\"||\"&B1026,C1026&\"||\"&B1026),Worktags!AR:AV,5,FALSE),\"\")","v":"All"}]
["9780 Inter-Company Donation Expense",{"$f":"Worktags!AS73","v":"9780"},{"$f":"IF(Worktags!AQ73<>Worktags!AS73,Worktags!AQ73,\"\")","v":""},{"$f":"IFERROR(VLOOKUP(B1027,Worktags!AL:AO,2,FALSE),\"\")","v":"Inter-Company Donation Expense"},{"$f":"IFERROR(VLOOKUP(C1027,Worktags!O:T,2,FALSE),\"\")","v":""},{"$f":"IFERROR(VLOOKUP(IF(C1027=\"\",B1027&\"||\"&B1027,C1027&\"||\"&B1027),Worktags!AR:AV,5,FALSE),\"\")","v":"All"}]
["9981 Next Year Estimated Payout",{"$f":"Worktags!AL136","v":"9981"},null,{"$f":"IFERROR(VLOOKUP(B1028,Worktags!AL:AO,2,FALSE),\"\")","v":"Next Year Estimated Payout"},null,{"$f":"IFERROR(VLOOKUP(IF(C1028=\"\",B1028&\"||\"&B1028,C1028&\"||\"&B1028),Worktags!AR:AV,5,FALSE),\"\")","v":"JE_Gift|JE_Override"}]
["9981 Next Year Estimated Payout",{"$f":"Worktags!AS74","v":"9981"},{"$f":"IF(Worktags!AQ74<>Worktags!AS74,Worktags!AQ74,\"\")","v":""},{"$f":"IFERROR(VLOOKUP(B1029,Worktags!AL:AO,2,FALSE),\"\")","v":"Next Year Estimated Payout"},{"$f":"IFERROR(VLOOKUP(C1029,Worktags!O:T,2,FALSE),\"\")","v":""},{"$f":"IFERROR(VLOOKUP(IF(C1029=\"\",B1029&\"||\"&B1029,C1029&\"||\"&B1029),Worktags!AR:AV,5,FALSE),\"\")","v":"JE_Gift|JE_Override"}]
["9990 SFAS 158 Annual Pension Adj",{"$f":"Worktags!AL137","v":"9990"},null,{"$f":"IFERROR(VLOOKUP(B1030,Worktags!AL:AO,2,FALSE),\"\")","v":"SFAS 158 Annual Pension Adj"},null,{"$f":"IFERROR(VLOOKUP(IF(C1030=\"\",B1030&\"||\"&B1030,C1030&\"||\"&B1030),Worktags!AR:AV,5,FALSE),\"\")","v":"All"}]
["9990 SFAS 158 Annual Pension Adj",{"$f":"Worktags!AS75","v":"9990"},{"$f":"IF(Worktags!AQ75<>Worktags!AS75,Worktags!AQ75,\"\")","v":""},{"$f":"IFERROR(VLOOKUP(B1031,Worktags!AL:AO,2,FALSE),\"\")","v":"SFAS 158 Annual Pension Adj"},{"$f":"IFERROR(VLOOKUP(C1031,Worktags!O:T,2,FALSE),\"\")","v":""},{"$f":"IFERROR(VLOOKUP(IF(C1031=\"\",B1031&\"||\"&B1031,C1031&\"||\"&B1031),Worktags!AR:AV,5,FALSE),\"\")","v":"All"}]
["9996 Cash Conversion",{"$f":"Worktags!AL138","v":"9996"},null,{"$f":"IFERROR(VLOOKUP(B1032,Worktags!AL:AO,2,FALSE),\"\")","v":"Cash Conversion"},null,{"$f":"IFERROR(VLOOKUP(IF(C1032=\"\",B1032&\"||\"&B1032,C1032&\"||\"&B1032),Worktags!AR:AV,5,FALSE),\"\")","v":""}]
["9998 Inventory Conversion",{"$f":"Worktags!AL139","v":"9998"},null,{"$f":"IFERROR(VLOOKUP(B1033,Worktags!AL:AO,2,FALSE),\"\")","v":"Inventory Conversion"},null,{"$f":"IFERROR(VLOOKUP(IF(C1033=\"\",B1033&\"||\"&B1033,C1033&\"||\"&B1033),Worktags!AR:AV,5,FALSE),\"\")","v":""}]
[{"$f":"IF(B1034<>\"\",IF(C1034<>\"\",B1034&\"_\"&C1034&\" \"&D1034&\"/\"&E1034,B1034&\" \"&D1034),\"\")","v":""},null,null,null,null,{"$f":"IFERROR(VLOOKUP(IF(C1034=\"\",B1034&\"||\"&B1034,C1034&\"||\"&B1034),Worktags!AR:AV,5,FALSE),\"\")","v":""}]
["",null,null,null,null,{"$f":"IFERROR(VLOOKUP(IF(C1035=\"\",B1035&\"||\"&B1035,C1035&\"||\"&B1035),Worktags!AR:AV,5,FALSE),\"\")","v":""}]
["",null,null,null,null,{"$f":"IFERROR(VLOOKUP(IF(C1036=\"\",B1036&\"||\"&B1036,C1036&\"||\"&B1036),Worktags!AR:AV,5,FALSE),\"\")","v":""}]
["",null,null,null,null,{"$f":"IFERROR(VLOOKUP(IF(C1037=\"\",B1037&\"||\"&B1037,C1037&\"||\"&B1037),Worktags!AR:AV,5,FALSE),\"\")","v":""}]
["",null,null,null,null,{"$f":"IFERROR(VLOOKUP(IF(C1038=\"\",B1038&\"||\"&B1038,C1038&\"||\"&B1038),Worktags!AR:AV,5,FALSE),\"\")","v":""}]
["",null,null,null,null,{"$f":"IFERROR(VLOOKUP(IF(C1039=\"\",B1039&\"||\"&B1039,C1039&\"||\"&B1039),Worktags!AR:AV,5,FALSE),\"\")","v":""}]
["",null,null,null,null,{"$f":"IFERROR(VLOOKUP(IF(C1040=\"\",B1040&\"||\"&B1040,C1040&\"||\"&B1040),Worktags!AR:AV,5,FALSE),\"\")","v":""}]
["",null,null,null,null,{"$f":"IFERROR(VLOOKUP(IF(C1041=\"\",B1041&\"||\"&B1041,C1041&\"||\"&B1041),Worktags!AR:AV,5,FALSE),\"\")","v":""}]
["",null,null,null,null,{"$f":"IFERROR(VLOOKUP(IF(C1042=\"\",B1042&\"||\"&B1042,C1042&\"||\"&B1042),Worktags!AR:AV,5,FALSE),\"\")","v":""}]
["",null,null,null,null,{"$f":"IFERROR(VLOOKUP(IF(C1043=\"\",B1043&\"||\"&B1043,C1043&\"||\"&B1043),Worktags!AR:AV,5,FALSE),\"\")","v":""}]
["",null,null,null,null,{"$f":"IFERROR(VLOOKUP(IF(C1044=\"\",B1044&\"||\"&B1044,C1044&\"||\"&B1044),Worktags!AR:AV,5,FALSE),\"\")","v":""}]
["",null,null,null,null,{"$f":"IFERROR(VLOOKUP(IF(C1045=\"\",B1045&\"||\"&B1045,C1045&\"||\"&B1045),Worktags!AR:AV,5,FALSE),\"\")","v":""}]
["",null,null,null,null,{"$f":"IFERROR(VLOOKUP(IF(C1046=\"\",B1046&\"||\"&B1046,C1046&\"||\"&B1046),Worktags!AR:AV,5,FALSE),\"\")","v":""}]
["",null,null,null,null,{"$f":"IFERROR(VLOOKUP(IF(C1047=\"\",B1047&\"||\"&B1047,C1047&\"||\"&B1047),Worktags!AR:AV,5,FALSE),\"\")","v":""}]
["",null,null,null,null,{"$f":"IFERROR(VLOOKUP(IF(C1048=\"\",B1048&\"||\"&B1048,C1048&\"||\"&B1048),Worktags!AR:AV,5,FALSE),\"\")","v":""}]
["",null,null,null,null,{"$f":"IFERROR(VLOOKUP(IF(C1049=\"\",B1049&\"||\"&B1049,C1049&\"||\"&B1049),Worktags!AR:AV,5,FALSE),\"\")","v":""}]
["",null,null,null,null,{"$f":"IFERROR(VLOOKUP(IF(C1050=\"\",B1050&\"||\"&B1050,C1050&\"||\"&B1050),Worktags!AR:AV,5,FALSE),\"\")","v":""}]
["",null,null,null,null,{"$f":"IFERROR(VLOOKUP(IF(C1051=\"\",B1051&\"||\"&B1051,C1051&\"||\"&B1051),Worktags!AR:AV,5,FALSE),\"\")","v":""}]
["",null,null,null,null,{"$f":"IFERROR(VLOOKUP(IF(C1052=\"\",B1052&\"||\"&B1052,C1052&\"||\"&B1052),Worktags!AR:AV,5,FALSE),\"\")","v":""}]
["",null,null,null,null,{"$f":"IFERROR(VLOOKUP(IF(C1053=\"\",B1053&\"||\"&B1053,C1053&\"||\"&B1053),Worktags!AR:AV,5,FALSE),\"\")","v":""}]
["",null,null,null,null,{"$f":"IFERROR(VLOOKUP(IF(C1054=\"\",B1054&\"||\"&B1054,C1054&\"||\"&B1054),Worktags!AR:AV,5,FALSE),\"\")","v":""}]
["",null,null,null,null,{"$f":"IFERROR(VLOOKUP(IF(C1055=\"\",B1055&\"||\"&B1055,C1055&\"||\"&B1055),Worktags!AR:AV,5,FALSE),\"\")","v":""}]
["",null,null,null,null,{"$f":"IFERROR(VLOOKUP(IF(C1056=\"\",B1056&\"||\"&B1056,C1056&\"||\"&B1056),Worktags!AR:AV,5,FALSE),\"\")","v":""}]
["",null,null,null,null,{"$f":"IFERROR(VLOOKUP(IF(C1057=\"\",B1057&\"||\"&B1057,C1057&\"||\"&B1057),Worktags!AR:AV,5,FALSE),\"\")","v":""}]
["",null,null,null,null,{"$f":"IFERROR(VLOOKUP(IF(C1058=\"\",B1058&\"||\"&B1058,C1058&\"||\"&B1058),Worktags!AR:AV,5,FALSE),\"\")","v":""}]
["",null,null,null,null,{"$f":"IFERROR(VLOOKUP(IF(C1059=\"\",B1059&\"||\"&B1059,C1059&\"||\"&B1059),Worktags!AR:AV,5,FALSE),\"\")","v":""}]
["",null,null,null,null,{"$f":"IFERROR(VLOOKUP(IF(C1060=\"\",B1060&\"||\"&B1060,C1060&\"||\"&B1060),Worktags!AR:AV,5,FALSE),\"\")","v":""}]
["",null,null,null,null,{"$f":"IFERROR(VLOOKUP(IF(C1061=\"\",B1061&\"||\"&B1061,C1061&\"||\"&B1061),Worktags!AR:AV,5,FALSE),\"\")","v":""}]
["",null,null,null,null,{"$f":"IFERROR(VLOOKUP(IF(C1062=\"\",B1062&\"||\"&B1062,C1062&\"||\"&B1062),Worktags!AR:AV,5,FALSE),\"\")","v":""}]
["",null,null,null,null,{"$f":"IFERROR(VLOOKUP(IF(C1063=\"\",B1063&\"||\"&B1063,C1063&\"||\"&B1063),Worktags!AR:AV,5,FALSE),\"\")","v":""}]
["",null,null,null,null,{"$f":"IFERROR(VLOOKUP(IF(C1064=\"\",B1064&\"||\"&B1064,C1064&\"||\"&B1064),Worktags!AR:AV,5,FALSE),\"\")","v":""}]
["",null,null,null,null,{"$f":"IFERROR(VLOOKUP(IF(C1065=\"\",B1065&\"||\"&B1065,C1065&\"||\"&B1065),Worktags!AR:AV,5,FALSE),\"\")","v":""}]
["",null,null,null,null,{"$f":"IFERROR(VLOOKUP(IF(C1066=\"\",B1066&\"||\"&B1066,C1066&\"||\"&B1066),Worktags!AR:AV,5,FALSE),\"\")","v":""}]
["",null,null,null,null,{"$f":"IFERROR(VLOOKUP(IF(C1067=\"\",B1067&\"||\"&B1067,C1067&\"||\"&B1067),Worktags!AR:AV,5,FALSE),\"\")","v":""}]
["",null,null,null,null,{"$f":"IFERROR(VLOOKUP(IF(C1068=\"\",B1068&\"||\"&B1068,C1068&\"||\"&B1068),Worktags!AR:AV,5,FALSE),\"\")","v":""}]
["",null,null,null,null,{"$f":"IFERROR(VLOOKUP(IF(C1069=\"\",B1069&\"||\"&B1069,C1069&\"||\"&B1069),Worktags!AR:AV,5,FALSE),\"\")","v":""}]
["",null,null,null,null,{"$f":"IFERROR(VLOOKUP(IF(C1070=\"\",B1070&\"||\"&B1070,C1070&\"||\"&B1070),Worktags!AR:AV,5,FALSE),\"\")","v":""}]
["",null,null,null,null,{"$f":"IFERROR(VLOOKUP(IF(C1071=\"\",B1071&\"||\"&B1071,C1071&\"||\"&B1071),Worktags!AR:AV,5,FALSE),\"\")","v":""}]
["",null,null,null,null,{"$f":"IFERROR(VLOOKUP(IF(C1072=\"\",B1072&\"||\"&B1072,C1072&\"||\"&B1072),Worktags!AR:AV,5,FALSE),\"\")","v":""}]
["",null,null,null,null,{"$f":"IFERROR(VLOOKUP(IF(C1073=\"\",B1073&\"||\"&B1073,C1073&\"||\"&B1073),Worktags!AR:AV,5,FALSE),\"\")","v":""}]
["",null,null,null,null,{"$f":"IFERROR(VLOOKUP(IF(C1074=\"\",B1074&\"||\"&B1074,C1074&\"||\"&B1074),Worktags!AR:AV,5,FALSE),\"\")","v":""}]
["",null,null,null,null,{"$f":"IFERROR(VLOOKUP(IF(C1075=\"\",B1075&\"||\"&B1075,C1075&\"||\"&B1075),Worktags!AR:AV,5,FALSE),\"\")","v":""}]
["",null,null,null,null,{"$f":"IFERROR(VLOOKUP(IF(C1076=\"\",B1076&\"||\"&B1076,C1076&\"||\"&B1076),Worktags!AR:AV,5,FALSE),\"\")","v":""}]
["",null,null,null,null,{"$f":"IFERROR(VLOOKUP(IF(C1077=\"\",B1077&\"||\"&B1077,C1077&\"||\"&B1077),Worktags!AR:AV,5,FALSE),\"\")","v":""}]
["",null,null,null,null,{"$f":"IFERROR(VLOOKUP(IF(C1078=\"\",B1078&\"||\"&B1078,C1078&\"||\"&B1078),Worktags!AR:AV,5,FALSE),\"\")","v":""}]
["",null,null,null,null,{"$f":"IFERROR(VLOOKUP(IF(C1079=\"\",B1079&\"||\"&B1079,C1079&\"||\"&B1079),Worktags!AR:AV,5,FALSE),\"\")","v":""}]
["",null,null,null,null,{"$f":"IFERROR(VLOOKUP(IF(C1080=\"\",B1080&\"||\"&B1080,C1080&\"||\"&B1080),Worktags!AR:AV,5,FALSE),\"\")","v":""}]
["",null,null,null,null,{"$f":"IFERROR(VLOOKUP(IF(C1081=\"\",B1081&\"||\"&B1081,C1081&\"||\"&B1081),Worktags!AR:AV,5,FALSE),\"\")","v":""}]
["",null,null,null,null,{"$f":"IFERROR(VLOOKUP(IF(C1082=\"\",B1082&\"||\"&B1082,C1082&\"||\"&B1082),Worktags!AR:AV,5,FALSE),\"\")","v":""}]
["",null,null,null,null,{"$f":"IFERROR(VLOOKUP(IF(C1083=\"\",B1083&\"||\"&B1083,C1083&\"||\"&B1083),Worktags!AR:AV,5,FALSE),\"\")","v":""}]
["",null,null,null,null,{"$f":"IFERROR(VLOOKUP(IF(C1084=\"\",B1084&\"||\"&B1084,C1084&\"||\"&B1084),Worktags!AR:AV,5,FALSE),\"\")","v":""}]
["",null,null,null,null,{"$f":"IFERROR(VLOOKUP(IF(C1085=\"\",B1085&\"||\"&B1085,C1085&\"||\"&B1085),Worktags!AR:AV,5,FALSE),\"\")","v":""}]
["",null,null,null,null,{"$f":"IFERROR(VLOOKUP(IF(C1086=\"\",B1086&\"||\"&B1086,C1086&\"||\"&B1086),Worktags!AR:AV,5,FALSE),\"\")","v":""}]
["",null,null,null,null,{"$f":"IFERROR(VLOOKUP(IF(C1087=\"\",B1087&\"||\"&B1087,C1087&\"||\"&B1087),Worktags!AR:AV,5,FALSE),\"\")","v":""}]
["",null,null,null,null,{"$f":"IFERROR(VLOOKUP(IF(C1088=\"\",B1088&\"||\"&B1088,C1088&\"||\"&B1088),Worktags!AR:AV,5,FALSE),\"\")","v":""}]
["",null,null,null,null,{"$f":"IFERROR(VLOOKUP(IF(C1089=\"\",B1089&\"||\"&B1089,C1089&\"||\"&B1089),Worktags!AR:AV,5,FALSE),\"\")","v":""}]
[{"$f":"IF(B1090<>\"\",IF(C1090<>\"\",B1090&\"_\"&C1090&\" \"&D1090&\"/\"&E1090,B1090&\" \"&D1090),\"\")","v":""},null,null,null,null,{"$f":"IFERROR(VLOOKUP(IF(C1090=\"\",B1090&\"||\"&B1090,C1090&\"||\"&B1090),Worktags!AR:AV,5,FALSE),\"\")","v":""}]
["",null,null,null,null,{"$f":"IFERROR(VLOOKUP(IF(C1091=\"\",B1091&\"||\"&B1091,C1091&\"||\"&B1091),Worktags!AR:AV,5,FALSE),\"\")","v":""}]
["",null,null,null,null,{"$f":"IFERROR(VLOOKUP(IF(C1092=\"\",B1092&\"||\"&B1092,C1092&\"||\"&B1092),Worktags!AR:AV,5,FALSE),\"\")","v":""}]
["",null,null,null,null,{"$f":"IFERROR(VLOOKUP(IF(C1093=\"\",B1093&\"||\"&B1093,C1093&\"||\"&B1093),Worktags!AR:AV,5,FALSE),\"\")","v":""}]
["",null,null,null,null,{"$f":"IFERROR(VLOOKUP(IF(C1094=\"\",B1094&\"||\"&B1094,C1094&\"||\"&B1094),Worktags!AR:AV,5,FALSE),\"\")","v":""}]
["",null,null,null,null,{"$f":"IFERROR(VLOOKUP(IF(C1095=\"\",B1095&\"||\"&B1095,C1095&\"||\"&B1095),Worktags!AR:AV,5,FALSE),\"\")","v":""}]
["",null,null,null,null,{"$f":"IFERROR(VLOOKUP(IF(C1096=\"\",B1096&\"||\"&B1096,C1096&\"||\"&B1096),Worktags!AR:AV,5,FALSE),\"\")","v":""}]
["",null,null,null,null,{"$f":"IFERROR(VLOOKUP(IF(C1097=\"\",B1097&\"||\"&B1097,C1097&\"||\"&B1097),Worktags!AR:AV,5,FALSE),\"\")","v":""}]
["",null,null,null,null,{"$f":"IFERROR(VLOOKUP(IF(C1098=\"\",B1098&\"||\"&B1098,C1098&\"||\"&B1098),Worktags!AR:AV,5,FALSE),\"\")","v":""}]
["",null,null,null,null,{"$f":"IFERROR(VLOOKUP(IF(C1099=\"\",B1099&\"||\"&B1099,C1099&\"||\"&B1099),Worktags!AR:AV,5,FALSE),\"\")","v":""}]
["",null,null,null,null,{"$f":"IFERROR(VLOOKUP(IF(C1100=\"\",B1100&\"||\"&B1100,C1100&\"||\"&B1100),Worktags!AR:AV,5,FALSE),\"\")","v":""}]
["",null,null,null,null,{"$f":"IFERROR(VLOOKUP(IF(C1101=\"\",B1101&\"||\"&B1101,C1101&\"||\"&B1101),Worktags!AR:AV,5,FALSE),\"\")","v":""}]
["",null,null,null,null,{"$f":"IFERROR(VLOOKUP(IF(C1102=\"\",B1102&\"||\"&B1102,C1102&\"||\"&B1102),Worktags!AR:AV,5,FALSE),\"\")","v":""}]
["",null,null,null,null,{"$f":"IFERROR(VLOOKUP(IF(C1103=\"\",B1103&\"||\"&B1103,C1103&\"||\"&B1103),Worktags!AR:AV,5,FALSE),\"\")","v":""}]
["",null,null,null,null,{"$f":"IFERROR(VLOOKUP(IF(C1104=\"\",B1104&\"||\"&B1104,C1104&\"||\"&B1104),Worktags!AR:AV,5,FALSE),\"\")","v":""}]
["",null,null,null,null,{"$f":"IFERROR(VLOOKUP(IF(C1105=\"\",B1105&\"||\"&B1105,C1105&\"||\"&B1105),Worktags!AR:AV,5,FALSE),\"\")","v":""}]
["",null,null,null,null,{"$f":"IFERROR(VLOOKUP(IF(C1106=\"\",B1106&\"||\"&B1106,C1106&\"||\"&B1106),Worktags!AR:AV,5,FALSE),\"\")","v":""}]
["",null,null,null,null,{"$f":"IFERROR(VLOOKUP(IF(C1107=\"\",B1107&\"||\"&B1107,C1107&\"||\"&B1107),Worktags!AR:AV,5,FALSE),\"\")","v":""}]
["",null,null,null,null,{"$f":"IFERROR(VLOOKUP(IF(C1108=\"\",B1108&\"||\"&B1108,C1108&\"||\"&B1108),Worktags!AR:AV,5,FALSE),\"\")","v":""}]
["",null,null,null,null,{"$f":"IFERROR(VLOOKUP(IF(C1109=\"\",B1109&\"||\"&B1109,C1109&\"||\"&B1109),Worktags!AR:AV,5,FALSE),\"\")","v":""}]
["",null,null,null,null,{"$f":"IFERROR(VLOOKUP(IF(C1110=\"\",B1110&\"||\"&B1110,C1110&\"||\"&B1110),Worktags!AR:AV,5,FALSE),\"\")","v":""}]
["",null,null,null,null,{"$f":"IFERROR(VLOOKUP(IF(C1111=\"\",B1111&\"||\"&B1111,C1111&\"||\"&B1111),Worktags!AR:AV,5,FALSE),\"\")","v":""}]
["",null,null,null,null,{"$f":"IFERROR(VLOOKUP(IF(C1112=\"\",B1112&\"||\"&B1112,C1112&\"||\"&B1112),Worktags!AR:AV,5,FALSE),\"\")","v":""}]
["",null,null,null,null,{"$f":"IFERROR(VLOOKUP(IF(C1113=\"\",B1113&\"||\"&B1113,C1113&\"||\"&B1113),Worktags!AR:AV,5,FALSE),\"\")","v":""}]
["",null,null,null,null,{"$f":"IFERROR(VLOOKUP(IF(C1114=\"\",B1114&\"||\"&B1114,C1114&\"||\"&B1114),Worktags!AR:AV,5,FALSE),\"\")","v":""}]
["",null,null,null,null,{"$f":"IFERROR(VLOOKUP(IF(C1115=\"\",B1115&\"||\"&B1115,C1115&\"||\"&B1115),Worktags!AR:AV,5,FALSE),\"\")","v":""}]
["",null,null,null,null,{"$f":"IFERROR(VLOOKUP(IF(C1116=\"\",B1116&\"||\"&B1116,C1116&\"||\"&B1116),Worktags!AR:AV,5,FALSE),\"\")","v":""}]
["",null,null,null,null,{"$f":"IFERROR(VLOOKUP(IF(C1117=\"\",B1117&\"||\"&B1117,C1117&\"||\"&B1117),Worktags!AR:AV,5,FALSE),\"\")","v":""}]
["",null,null,null,null,{"$f":"IFERROR(VLOOKUP(IF(C1118=\"\",B1118&\"||\"&B1118,C1118&\"||\"&B1118),Worktags!AR:AV,5,FALSE),\"\")","v":""}]
["",null,null,null,null,{"$f":"IFERROR(VLOOKUP(IF(C1119=\"\",B1119&\"||\"&B1119,C1119&\"||\"&B1119),Worktags!AR:AV,5,FALSE),\"\")","v":""}]
["",null,null,null,null,{"$f":"IFERROR(VLOOKUP(IF(C1120=\"\",B1120&\"||\"&B1120,C1120&\"||\"&B1120),Worktags!AR:AV,5,FALSE),\"\")","v":""}]
["",null,null,null,null,{"$f":"IFERROR(VLOOKUP(IF(C1121=\"\",B1121&\"||\"&B1121,C1121&\"||\"&B1121),Worktags!AR:AV,5,FALSE),\"\")","v":""}]
["",null,null,null,null,{"$f":"IFERROR(VLOOKUP(IF(C1122=\"\",B1122&\"||\"&B1122,C1122&\"||\"&B1122),Worktags!AR:AV,5,FALSE),\"\")","v":""}]
["",null,null,null,null,{"$f":"IFERROR(VLOOKUP(IF(C1123=\"\",B1123&\"||\"&B1123,C1123&\"||\"&B1123),Worktags!AR:AV,5,FALSE),\"\")","v":""}]
["",null,null,null,null,{"$f":"IFERROR(VLOOKUP(IF(C1124=\"\",B1124&\"||\"&B1124,C1124&\"||\"&B1124),Worktags!AR:AV,5,FALSE),\"\")","v":""}]
["",null,null,null,null,{"$f":"IFERROR(VLOOKUP(IF(C1125=\"\",B1125&\"||\"&B1125,C1125&\"||\"&B1125),Worktags!AR:AV,5,FALSE),\"\")","v":""}]
["",null,null,null,null,{"$f":"IFERROR(VLOOKUP(IF(C1126=\"\",B1126&\"||\"&B1126,C1126&\"||\"&B1126),Worktags!AR:AV,5,FALSE),\"\")","v":""}]
["",null,null,null,null,{"$f":"IFERROR(VLOOKUP(IF(C1127=\"\",B1127&\"||\"&B1127,C1127&\"||\"&B1127),Worktags!AR:AV,5,FALSE),\"\")","v":""}]
["",null,null,null,null,{"$f":"IFERROR(VLOOKUP(IF(C1128=\"\",B1128&\"||\"&B1128,C1128&\"||\"&B1128),Worktags!AR:AV,5,FALSE),\"\")","v":""}]
["",null,null,null,null,{"$f":"IFERROR(VLOOKUP(IF(C1129=\"\",B1129&\"||\"&B1129,C1129&\"||\"&B1129),Worktags!AR:AV,5,FALSE),\"\")","v":""}]
["",null,null,null,null,{"$f":"IFERROR(VLOOKUP(IF(C1130=\"\",B1130&\"||\"&B1130,C1130&\"||\"&B1130),Worktags!AR:AV,5,FALSE),\"\")","v":""}]
["",null,null,null,null,{"$f":"IFERROR(VLOOKUP(IF(C1131=\"\",B1131&\"||\"&B1131,C1131&\"||\"&B1131),Worktags!AR:AV,5,FALSE),\"\")","v":""}]
["",null,null,null,null,{"$f":"IFERROR(VLOOKUP(IF(C1132=\"\",B1132&\"||\"&B1132,C1132&\"||\"&B1132),Worktags!AR:AV,5,FALSE),\"\")","v":""}]
["",null,null,null,null,{"$f":"IFERROR(VLOOKUP(IF(C1133=\"\",B1133&\"||\"&B1133,C1133&\"||\"&B1133),Worktags!AR:AV,5,FALSE),\"\")","v":""}]
["",null,null,null,null,{"$f":"IFERROR(VLOOKUP(IF(C1134=\"\",B1134&\"||\"&B1134,C1134&\"||\"&B1134),Worktags!AR:AV,5,FALSE),\"\")","v":""}]
["",null,null,null,null,{"$f":"IFERROR(VLOOKUP(IF(C1135=\"\",B1135&\"||\"&B1135,C1135&\"||\"&B1135),Worktags!AR:AV,5,FALSE),\"\")","v":""}]
["",null,null,null,null,{"$f":"IFERROR(VLOOKUP(IF(C1136=\"\",B1136&\"||\"&B1136,C1136&\"||\"&B1136),Worktags!AR:AV,5,FALSE),\"\")","v":""}]
["",null,null,null,null,{"$f":"IFERROR(VLOOKUP(IF(C1137=\"\",B1137&\"||\"&B1137,C1137&\"||\"&B1137),Worktags!AR:AV,5,FALSE),\"\")","v":""}]
["",null,null,null,null,{"$f":"IFERROR(VLOOKUP(IF(C1138=\"\",B1138&\"||\"&B1138,C1138&\"||\"&B1138),Worktags!AR:AV,5,FALSE),\"\")","v":""}]
["",null,null,null,null,{"$f":"IFERROR(VLOOKUP(IF(C1139=\"\",B1139&\"||\"&B1139,C1139&\"||\"&B1139),Worktags!AR:AV,5,FALSE),\"\")","v":""}]
["",null,null,null,null,{"$f":"IFERROR(VLOOKUP(IF(C1140=\"\",B1140&\"||\"&B1140,C1140&\"||\"&B1140),Worktags!AR:AV,5,FALSE),\"\")","v":""}]
["",null,null,null,null,{"$f":"IFERROR(VLOOKUP(IF(C1141=\"\",B1141&\"||\"&B1141,C1141&\"||\"&B1141),Worktags!AR:AV,5,FALSE),\"\")","v":""}]
["",null,null,null,null,{"$f":"IFERROR(VLOOKUP(IF(C1142=\"\",B1142&\"||\"&B1142,C1142&\"||\"&B1142),Worktags!AR:AV,5,FALSE),\"\")","v":""}]
["",null,null,null,null,{"$f":"IFERROR(VLOOKUP(IF(C1143=\"\",B1143&\"||\"&B1143,C1143&\"||\"&B1143),Worktags!AR:AV,5,FALSE),\"\")","v":""}]
["",null,null,null,null,{"$f":"IFERROR(VLOOKUP(IF(C1144=\"\",B1144&\"||\"&B1144,C1144&\"||\"&B1144),Worktags!AR:AV,5,FALSE),\"\")","v":""}]
["",null,null,null,null,{"$f":"IFERROR(VLOOKUP(IF(C1145=\"\",B1145&\"||\"&B1145,C1145&\"||\"&B1145),Worktags!AR:AV,5,FALSE),\"\")","v":""}]
["",null,null,null,null,{"$f":"IFERROR(VLOOKUP(IF(C1146=\"\",B1146&\"||\"&B1146,C1146&\"||\"&B1146),Worktags!AR:AV,5,FALSE),\"\")","v":""}]
["",null,null,null,null,{"$f":"IFERROR(VLOOKUP(IF(C1147=\"\",B1147&\"||\"&B1147,C1147&\"||\"&B1147),Worktags!AR:AV,5,FALSE),\"\")","v":""}]
["",null,null,null,null,{"$f":"IFERROR(VLOOKUP(IF(C1148=\"\",B1148&\"||\"&B1148,C1148&\"||\"&B1148),Worktags!AR:AV,5,FALSE),\"\")","v":""}]
["",null,null,null,null,{"$f":"IFERROR(VLOOKUP(IF(C1149=\"\",B1149&\"||\"&B1149,C1149&\"||\"&B1149),Worktags!AR:AV,5,FALSE),\"\")","v":""}]
["",null,null,null,null,{"$f":"IFERROR(VLOOKUP(IF(C1150=\"\",B1150&\"||\"&B1150,C1150&\"||\"&B1150),Worktags!AR:AV,5,FALSE),\"\")","v":""}]
["",null,null,null,null,{"$f":"IFERROR(VLOOKUP(IF(C1151=\"\",B1151&\"||\"&B1151,C1151&\"||\"&B1151),Worktags!AR:AV,5,FALSE),\"\")","v":""}]
["",null,null,null,null,{"$f":"IFERROR(VLOOKUP(IF(C1152=\"\",B1152&\"||\"&B1152,C1152&\"||\"&B1152),Worktags!AR:AV,5,FALSE),\"\")","v":""}]
["",null,null,null,null,{"$f":"IFERROR(VLOOKUP(IF(C1153=\"\",B1153&\"||\"&B1153,C1153&\"||\"&B1153),Worktags!AR:AV,5,FALSE),\"\")","v":""}]
[{"$f":"IF(B1154<>\"\",IF(C1154<>\"\",B1154&\"_\"&C1154&\" \"&D1154&\"/\"&E1154,B1154&\" \"&D1154),\"\")","v":""},null,null,null,null,{"$f":"IFERROR(VLOOKUP(IF(C1154=\"\",B1154&\"||\"&B1154,C1154&\"||\"&B1154),Worktags!AR:AV,5,FALSE),\"\")","v":""}]
["",null,null,null,null,{"$f":"IFERROR(VLOOKUP(IF(C1155=\"\",B1155&\"||\"&B1155,C1155&\"||\"&B1155),Worktags!AR:AV,5,FALSE),\"\")","v":""}]
["",null,null,null,null,{"$f":"IFERROR(VLOOKUP(IF(C1156=\"\",B1156&\"||\"&B1156,C1156&\"||\"&B1156),Worktags!AR:AV,5,FALSE),\"\")","v":""}]
["",null,null,null,null,{"$f":"IFERROR(VLOOKUP(IF(C1157=\"\",B1157&\"||\"&B1157,C1157&\"||\"&B1157),Worktags!AR:AV,5,FALSE),\"\")","v":""}]
["",null,null,null,null,{"$f":"IFERROR(VLOOKUP(IF(C1158=\"\",B1158&\"||\"&B1158,C1158&\"||\"&B1158),Worktags!AR:AV,5,FALSE),\"\")","v":""}]
["",null,null,null,null,{"$f":"IFERROR(VLOOKUP(IF(C1159=\"\",B1159&\"||\"&B1159,C1159&\"||\"&B1159),Worktags!AR:AV,5,FALSE),\"\")","v":""}]
["",null,null,null,null,{"$f":"IFERROR(VLOOKUP(IF(C1160=\"\",B1160&\"||\"&B1160,C1160&\"||\"&B1160),Worktags!AR:AV,5,FALSE),\"\")","v":""}]
["",null,null,null,null,{"$f":"IFERROR(VLOOKUP(IF(C1161=\"\",B1161&\"||\"&B1161,C1161&\"||\"&B1161),Worktags!AR:AV,5,FALSE),\"\")","v":""}]
["",null,null,null,null,{"$f":"IFERROR(VLOOKUP(IF(C1162=\"\",B1162&\"||\"&B1162,C1162&\"||\"&B1162),Worktags!AR:AV,5,FALSE),\"\")","v":""}]
["",null,null,null,null,{"$f":"IFERROR(VLOOKUP(IF(C1163=\"\",B1163&\"||\"&B1163,C1163&\"||\"&B1163),Worktags!AR:AV,5,FALSE),\"\")","v":""}]
["",null,null,null,null,{"$f":"IFERROR(VLOOKUP(IF(C1164=\"\",B1164&\"||\"&B1164,C1164&\"||\"&B1164),Worktags!AR:AV,5,FALSE),\"\")","v":""}]
["",null,null,null,null,{"$f":"IFERROR(VLOOKUP(IF(C1165=\"\",B1165&\"||\"&B1165,C1165&\"||\"&B1165),Worktags!AR:AV,5,FALSE),\"\")","v":""}]
["",null,null,null,null,{"$f":"IFERROR(VLOOKUP(IF(C1166=\"\",B1166&\"||\"&B1166,C1166&\"||\"&B1166),Worktags!AR:AV,5,FALSE),\"\")","v":""}]
["",null,null,null,null,{"$f":"IFERROR(VLOOKUP(IF(C1167=\"\",B1167&\"||\"&B1167,C1167&\"||\"&B1167),Worktags!AR:AV,5,FALSE),\"\")","v":""}]
["",null,null,null,null,{"$f":"IFERROR(VLOOKUP(IF(C1168=\"\",B1168&\"||\"&B1168,C1168&\"||\"&B1168),Worktags!AR:AV,5,FALSE),\"\")","v":""}]
["",null,null,null,null,{"$f":"IFERROR(VLOOKUP(IF(C1169=\"\",B1169&\"||\"&B1169,C1169&\"||\"&B1169),Worktags!AR:AV,5,FALSE),\"\")","v":""}]
["",null,null,null,null,{"$f":"IFERROR(VLOOKUP(IF(C1170=\"\",B1170&\"||\"&B1170,C1170&\"||\"&B1170),Worktags!AR:AV,5,FALSE),\"\")","v":""}]
["",null,null,null,null,{"$f":"IFERROR(VLOOKUP(IF(C1171=\"\",B1171&\"||\"&B1171,C1171&\"||\"&B1171),Worktags!AR:AV,5,FALSE),\"\")","v":""}]
["",null,null,null,null,{"$f":"IFERROR(VLOOKUP(IF(C1172=\"\",B1172&\"||\"&B1172,C1172&\"||\"&B1172),Worktags!AR:AV,5,FALSE),\"\")","v":""}]
["",null,null,null,null,{"$f":"IFERROR(VLOOKUP(IF(C1173=\"\",B1173&\"||\"&B1173,C1173&\"||\"&B1173),Worktags!AR:AV,5,FALSE),\"\")","v":""}]
["",null,null,null,null,{"$f":"IFERROR(VLOOKUP(IF(C1174=\"\",B1174&\"||\"&B1174,C1174&\"||\"&B1174),Worktags!AR:AV,5,FALSE),\"\")","v":""}]
["",null,null,null,null,{"$f":"IFERROR(VLOOKUP(IF(C1175=\"\",B1175&\"||\"&B1175,C1175&\"||\"&B1175),Worktags!AR:AV,5,FALSE),\"\")","v":""}]
["",null,null,null,null,{"$f":"IFERROR(VLOOKUP(IF(C1176=\"\",B1176&\"||\"&B1176,C1176&\"||\"&B1176),Worktags!AR:AV,5,FALSE),\"\")","v":""}]
["",null,null,null,null,{"$f":"IFERROR(VLOOKUP(IF(C1177=\"\",B1177&\"||\"&B1177,C1177&\"||\"&B1177),Worktags!AR:AV,5,FALSE),\"\")","v":""}]
["",null,null,null,null,{"$f":"IFERROR(VLOOKUP(IF(C1178=\"\",B1178&\"||\"&B1178,C1178&\"||\"&B1178),Worktags!AR:AV,5,FALSE),\"\")","v":""}]
["",null,null,null,null,{"$f":"IFERROR(VLOOKUP(IF(C1179=\"\",B1179&\"||\"&B1179,C1179&\"||\"&B1179),Worktags!AR:AV,5,FALSE),\"\")","v":""}]
["",null,null,null,null,{"$f":"IFERROR(VLOOKUP(IF(C1180=\"\",B1180&\"||\"&B1180,C1180&\"||\"&B1180),Worktags!AR:AV,5,FALSE),\"\")","v":""}]
["",null,null,null,null,{"$f":"IFERROR(VLOOKUP(IF(C1181=\"\",B1181&\"||\"&B1181,C1181&\"||\"&B1181),Worktags!AR:AV,5,FALSE),\"\")","v":""}]
["",null,null,null,null,{"$f":"IFERROR(VLOOKUP(IF(C1182=\"\",B1182&\"||\"&B1182,C1182&\"||\"&B1182),Worktags!AR:AV,5,FALSE),\"\")","v":""}]
["",null,null,null,null,{"$f":"IFERROR(VLOOKUP(IF(C1183=\"\",B1183&\"||\"&B1183,C1183&\"||\"&B1183),Worktags!AR:AV,5,FALSE),\"\")","v":""}]
["",null,null,null,null,{"$f":"IFERROR(VLOOKUP(IF(C1184=\"\",B1184&\"||\"&B1184,C1184&\"||\"&B1184),Worktags!AR:AV,5,FALSE),\"\")","v":""}]
["",null,null,null,null,{"$f":"IFERROR(VLOOKUP(IF(C1185=\"\",B1185&\"||\"&B1185,C1185&\"||\"&B1185),Worktags!AR:AV,5,FALSE),\"\")","v":""}]
["",null,null,null,null,{"$f":"IFERROR(VLOOKUP(IF(C1186=\"\",B1186&\"||\"&B1186,C1186&\"||\"&B1186),Worktags!AR:AV,5,FALSE),\"\")","v":""}]
["",null,null,null,null,{"$f":"IFERROR(VLOOKUP(IF(C1187=\"\",B1187&\"||\"&B1187,C1187&\"||\"&B1187),Worktags!AR:AV,5,FALSE),\"\")","v":""}]
["",null,null,null,null,{"$f":"IFERROR(VLOOKUP(IF(C1188=\"\",B1188&\"||\"&B1188,C1188&\"||\"&B1188),Worktags!AR:AV,5,FALSE),\"\")","v":""}]
["",null,null,null,null,{"$f":"IFERROR(VLOOKUP(IF(C1189=\"\",B1189&\"||\"&B1189,C1189&\"||\"&B1189),Worktags!AR:AV,5,FALSE),\"\")","v":""}]
["",null,null,null,null,{"$f":"IFERROR(VLOOKUP(IF(C1190=\"\",B1190&\"||\"&B1190,C1190&\"||\"&B1190),Worktags!AR:AV,5,FALSE),\"\")","v":""}]
["",null,null,null,null,{"$f":"IFERROR(VLOOKUP(IF(C1191=\"\",B1191&\"||\"&B1191,C1191&\"||\"&B1191),Worktags!AR:AV,5,FALSE),\"\")","v":""}]
["",null,null,null,null,{"$f":"IFERROR(VLOOKUP(IF(C1192=\"\",B1192&\"||\"&B1192,C1192&\"||\"&B1192),Worktags!AR:AV,5,FALSE),\"\")","v":""}]
["",null,null,null,null,{"$f":"IFERROR(VLOOKUP(IF(C1193=\"\",B1193&\"||\"&B1193,C1193&\"||\"&B1193),Worktags!AR:AV,5,FALSE),\"\")","v":""}]
["",null,null,null,null,{"$f":"IFERROR(VLOOKUP(IF(C1194=\"\",B1194&\"||\"&B1194,C1194&\"||\"&B1194),Worktags!AR:AV,5,FALSE),\"\")","v":""}]
["",null,null,null,null,{"$f":"IFERROR(VLOOKUP(IF(C1195=\"\",B1195&\"||\"&B1195,C1195&\"||\"&B1195),Worktags!AR:AV,5,FALSE),\"\")","v":""}]
["",null,null,null,null,{"$f":"IFERROR(VLOOKUP(IF(C1196=\"\",B1196&\"||\"&B1196,C1196&\"||\"&B1196),Worktags!AR:AV,5,FALSE),\"\")","v":""}]
["",null,null,null,null,{"$f":"IFERROR(VLOOKUP(IF(C1197=\"\",B1197&\"||\"&B1197,C1197&\"||\"&B1197),Worktags!AR:AV,5,FALSE),\"\")","v":""}]
["",null,null,null,null,{"$f":"IFERROR(VLOOKUP(IF(C1198=\"\",B1198&\"||\"&B1198,C1198&\"||\"&B1198),Worktags!AR:AV,5,FALSE),\"\")","v":""}]
["",null,null,null,null,{"$f":"IFERROR(VLOOKUP(IF(C1199=\"\",B1199&\"||\"&B1199,C1199&\"||\"&B1199),Worktags!AR:AV,5,FALSE),\"\")","v":""}]
["",null,null,null,null,{"$f":"IFERROR(VLOOKUP(IF(C1200=\"\",B1200&\"||\"&B1200,C1200&\"||\"&B1200),Worktags!AR:AV,5,FALSE),\"\")","v":""}]
["",null,null,null,null,{"$f":"IFERROR(VLOOKUP(IF(C1201=\"\",B1201&\"||\"&B1201,C1201&\"||\"&B1201),Worktags!AR:AV,5,FALSE),\"\")","v":""}]
["",null,null,null,null,{"$f":"IFERROR(VLOOKUP(IF(C1202=\"\",B1202&\"||\"&B1202,C1202&\"||\"&B1202),Worktags!AR:AV,5,FALSE),\"\")","v":""}]
["",null,null,null,null,{"$f":"IFERROR(VLOOKUP(IF(C1203=\"\",B1203&\"||\"&B1203,C1203&\"||\"&B1203),Worktags!AR:AV,5,FALSE),\"\")","v":""}]
["",null,null,null,null,{"$f":"IFERROR(VLOOKUP(IF(C1204=\"\",B1204&\"||\"&B1204,C1204&\"||\"&B1204),Worktags!AR:AV,5,FALSE),\"\")","v":""}]
["",null,null,null,null,{"$f":"IFERROR(VLOOKUP(IF(C1205=\"\",B1205&\"||\"&B1205,C1205&\"||\"&B1205),Worktags!AR:AV,5,FALSE),\"\")","v":""}]
["",null,null,null,null,{"$f":"IFERROR(VLOOKUP(IF(C1206=\"\",B1206&\"||\"&B1206,C1206&\"||\"&B1206),Worktags!AR:AV,5,FALSE),\"\")","v":""}]
["",null,null,null,null,{"$f":"IFERROR(VLOOKUP(IF(C1207=\"\",B1207&\"||\"&B1207,C1207&\"||\"&B1207),Worktags!AR:AV,5,FALSE),\"\")","v":""}]
["",null,null,null,null,{"$f":"IFERROR(VLOOKUP(IF(C1208=\"\",B1208&\"||\"&B1208,C1208&\"||\"&B1208),Worktags!AR:AV,5,FALSE),\"\")","v":""}]
["",null,null,null,null,{"$f":"IFERROR(VLOOKUP(IF(C1209=\"\",B1209&\"||\"&B1209,C1209&\"||\"&B1209),Worktags!AR:AV,5,FALSE),\"\")","v":""}]
["",null,null,null,null,{"$f":"IFERROR(VLOOKUP(IF(C1210=\"\",B1210&\"||\"&B1210,C1210&\"||\"&B1210),Worktags!AR:AV,5,FALSE),\"\")","v":""}]
["",null,null,null,null,{"$f":"IFERROR(VLOOKUP(IF(C1211=\"\",B1211&\"||\"&B1211,C1211&\"||\"&B1211),Worktags!AR:AV,5,FALSE),\"\")","v":""}]
["",null,null,null,null,{"$f":"IFERROR(VLOOKUP(IF(C1212=\"\",B1212&\"||\"&B1212,C1212&\"||\"&B1212),Worktags!AR:AV,5,FALSE),\"\")","v":""}]
["",null,null,null,null,{"$f":"IFERROR(VLOOKUP(IF(C1213=\"\",B1213&\"||\"&B1213,C1213&\"||\"&B1213),Worktags!AR:AV,5,FALSE),\"\")","v":""}]
["",null,null,null,null,{"$f":"IFERROR(VLOOKUP(IF(C1214=\"\",B1214&\"||\"&B1214,C1214&\"||\"&B1214),Worktags!AR:AV,5,FALSE),\"\")","v":""}]
["",null,null,null,null,{"$f":"IFERROR(VLOOKUP(IF(C1215=\"\",B1215&\"||\"&B1215,C1215&\"||\"&B1215),Worktags!AR:AV,5,FALSE),\"\")","v":""}]
["",null,null,null,null,{"$f":"IFERROR(VLOOKUP(IF(C1216=\"\",B1216&\"||\"&B1216,C1216&\"||\"&B1216),Worktags!AR:AV,5,FALSE),\"\")","v":""}]
["",null,null,null,null,{"$f":"IFERROR(VLOOKUP(IF(C1217=\"\",B1217&\"||\"&B1217,C1217&\"||\"&B1217),Worktags!AR:AV,5,FALSE),\"\")","v":""}]
[{"$f":"IF(B1218<>\"\",IF(C1218<>\"\",B1218&\"_\"&C1218&\" \"&D1218&\"/\"&E1218,B1218&\" \"&D1218),\"\")","v":""},null,null,null,null,{"$f":"IFERROR(VLOOKUP(IF(C1218=\"\",B1218&\"||\"&B1218,C1218&\"||\"&B1218),Worktags!AR:AV,5,FALSE),\"\")","v":""}]
["",null,null,null,null,{"$f":"IFERROR(VLOOKUP(IF(C1219=\"\",B1219&\"||\"&B1219,C1219&\"||\"&B1219),Worktags!AR:AV,5,FALSE),\"\")","v":""}]
["",null,null,null,null,{"$f":"IFERROR(VLOOKUP(IF(C1220=\"\",B1220&\"||\"&B1220,C1220&\"||\"&B1220),Worktags!AR:AV,5,FALSE),\"\")","v":""}]
["",null,null,null,null,{"$f":"IFERROR(VLOOKUP(IF(C1221=\"\",B1221&\"||\"&B1221,C1221&\"||\"&B1221),Worktags!AR:AV,5,FALSE),\"\")","v":""}]
["",null,null,null,null,{"$f":"IFERROR(VLOOKUP(IF(C1222=\"\",B1222&\"||\"&B1222,C1222&\"||\"&B1222),Worktags!AR:AV,5,FALSE),\"\")","v":""}]
["",null,null,null,null,{"$f":"IFERROR(VLOOKUP(IF(C1223=\"\",B1223&\"||\"&B1223,C1223&\"||\"&B1223),Worktags!AR:AV,5,FALSE),\"\")","v":""}]
["",null,null,null,null,{"$f":"IFERROR(VLOOKUP(IF(C1224=\"\",B1224&\"||\"&B1224,C1224&\"||\"&B1224),Worktags!AR:AV,5,FALSE),\"\")","v":""}]
["",null,null,null,null,{"$f":"IFERROR(VLOOKUP(IF(C1225=\"\",B1225&\"||\"&B1225,C1225&\"||\"&B1225),Worktags!AR:AV,5,FALSE),\"\")","v":""}]
["",null,null,null,null,{"$f":"IFERROR(VLOOKUP(IF(C1226=\"\",B1226&\"||\"&B1226,C1226&\"||\"&B1226),Worktags!AR:AV,5,FALSE),\"\")","v":""}]
["",null,null,null,null,{"$f":"IFERROR(VLOOKUP(IF(C1227=\"\",B1227&\"||\"&B1227,C1227&\"||\"&B1227),Worktags!AR:AV,5,FALSE),\"\")","v":""}]
["",null,null,null,null,{"$f":"IFERROR(VLOOKUP(IF(C1228=\"\",B1228&\"||\"&B1228,C1228&\"||\"&B1228),Worktags!AR:AV,5,FALSE),\"\")","v":""}]
["",null,null,null,null,{"$f":"IFERROR(VLOOKUP(IF(C1229=\"\",B1229&\"||\"&B1229,C1229&\"||\"&B1229),Worktags!AR:AV,5,FALSE),\"\")","v":""}]
["",null,null,null,null,{"$f":"IFERROR(VLOOKUP(IF(C1230=\"\",B1230&\"||\"&B1230,C1230&\"||\"&B1230),Worktags!AR:AV,5,FALSE),\"\")","v":""}]
["",null,null,null,null,{"$f":"IFERROR(VLOOKUP(IF(C1231=\"\",B1231&\"||\"&B1231,C1231&\"||\"&B1231),Worktags!AR:AV,5,FALSE),\"\")","v":""}]
["",null,null,null,null,{"$f":"IFERROR(VLOOKUP(IF(C1232=\"\",B1232&\"||\"&B1232,C1232&\"||\"&B1232),Worktags!AR:AV,5,FALSE),\"\")","v":""}]
["",null,null,null,null,{"$f":"IFERROR(VLOOKUP(IF(C1233=\"\",B1233&\"||\"&B1233,C1233&\"||\"&B1233),Worktags!AR:AV,5,FALSE),\"\")","v":""}]
["",null,null,null,null,{"$f":"IFERROR(VLOOKUP(IF(C1234=\"\",B1234&\"||\"&B1234,C1234&\"||\"&B1234),Worktags!AR:AV,5,FALSE),\"\")","v":""}]
["",null,null,null,null,{"$f":"IFERROR(VLOOKUP(IF(C1235=\"\",B1235&\"||\"&B1235,C1235&\"||\"&B1235),Worktags!AR:AV,5,FALSE),\"\")","v":""}]
["",null,null,null,null,{"$f":"IFERROR(VLOOKUP(IF(C1236=\"\",B1236&\"||\"&B1236,C1236&\"||\"&B1236),Worktags!AR:AV,5,FALSE),\"\")","v":""}]
["",null,null,null,null,{"$f":"IFERROR(VLOOKUP(IF(C1237=\"\",B1237&\"||\"&B1237,C1237&\"||\"&B1237),Worktags!AR:AV,5,FALSE),\"\")","v":""}]
["",null,null,null,null,{"$f":"IFERROR(VLOOKUP(IF(C1238=\"\",B1238&\"||\"&B1238,C1238&\"||\"&B1238),Worktags!AR:AV,5,FALSE),\"\")","v":""}]
["",null,null,null,null,{"$f":"IFERROR(VLOOKUP(IF(C1239=\"\",B1239&\"||\"&B1239,C1239&\"||\"&B1239),Worktags!AR:AV,5,FALSE),\"\")","v":""}]
["",null,null,null,null,{"$f":"IFERROR(VLOOKUP(IF(C1240=\"\",B1240&\"||\"&B1240,C1240&\"||\"&B1240),Worktags!AR:AV,5,FALSE),\"\")","v":""}]
["",null,null,null,null,{"$f":"IFERROR(VLOOKUP(IF(C1241=\"\",B1241&\"||\"&B1241,C1241&\"||\"&B1241),Worktags!AR:AV,5,FALSE),\"\")","v":""}]
["",null,null,null,null,{"$f":"IFERROR(VLOOKUP(IF(C1242=\"\",B1242&\"||\"&B1242,C1242&\"||\"&B1242),Worktags!AR:AV,5,FALSE),\"\")","v":""}]
["",null,null,null,null,{"$f":"IFERROR(VLOOKUP(IF(C1243=\"\",B1243&\"||\"&B1243,C1243&\"||\"&B1243),Worktags!AR:AV,5,FALSE),\"\")","v":""}]
["",null,null,null,null,{"$f":"IFERROR(VLOOKUP(IF(C1244=\"\",B1244&\"||\"&B1244,C1244&\"||\"&B1244),Worktags!AR:AV,5,FALSE),\"\")","v":""}]
["",null,null,null,null,{"$f":"IFERROR(VLOOKUP(IF(C1245=\"\",B1245&\"||\"&B1245,C1245&\"||\"&B1245),Worktags!AR:AV,5,FALSE),\"\")","v":""}]
["",null,null,null,null,{"$f":"IFERROR(VLOOKUP(IF(C1246=\"\",B1246&\"||\"&B1246,C1246&\"||\"&B1246),Worktags!AR:AV,5,FALSE),\"\")","v":""}]
["",null,null,null,null,{"$f":"IFERROR(VLOOKUP(IF(C1247=\"\",B1247&\"||\"&B1247,C1247&\"||\"&B1247),Worktags!AR:AV,5,FALSE),\"\")","v":""}]
["",null,null,null,null,{"$f":"IFERROR(VLOOKUP(IF(C1248=\"\",B1248&\"||\"&B1248,C1248&\"||\"&B1248),Worktags!AR:AV,5,FALSE),\"\")","v":""}]
["",null,null,null,null,{"$f":"IFERROR(VLOOKUP(IF(C1249=\"\",B1249&\"||\"&B1249,C1249&\"||\"&B1249),Worktags!AR:AV,5,FALSE),\"\")","v":""}]
["",null,null,null,null,{"$f":"IFERROR(VLOOKUP(IF(C1250=\"\",B1250&\"||\"&B1250,C1250&\"||\"&B1250),Worktags!AR:AV,5,FALSE),\"\")","v":""}]
["",null,null,null,null,{"$f":"IFERROR(VLOOKUP(IF(C1251=\"\",B1251&\"||\"&B1251,C1251&\"||\"&B1251),Worktags!AR:AV,5,FALSE),\"\")","v":""}]
["",null,null,null,null,{"$f":"IFERROR(VLOOKUP(IF(C1252=\"\",B1252&\"||\"&B1252,C1252&\"||\"&B1252),Worktags!AR:AV,5,FALSE),\"\")","v":""}]
["",null,null,null,null,{"$f":"IFERROR(VLOOKUP(IF(C1253=\"\",B1253&\"||\"&B1253,C1253&\"||\"&B1253),Worktags!AR:AV,5,FALSE),\"\")","v":""}]
["",null,null,null,null,{"$f":"IFERROR(VLOOKUP(IF(C1254=\"\",B1254&\"||\"&B1254,C1254&\"||\"&B1254),Worktags!AR:AV,5,FALSE),\"\")","v":""}]
["",null,null,null,null,{"$f":"IFERROR(VLOOKUP(IF(C1255=\"\",B1255&\"||\"&B1255,C1255&\"||\"&B1255),Worktags!AR:AV,5,FALSE),\"\")","v":""}]
["",null,null,null,null,{"$f":"IFERROR(VLOOKUP(IF(C1256=\"\",B1256&\"||\"&B1256,C1256&\"||\"&B1256),Worktags!AR:AV,5,FALSE),\"\")","v":""}]
["",null,null,null,null,{"$f":"IFERROR(VLOOKUP(IF(C1257=\"\",B1257&\"||\"&B1257,C1257&\"||\"&B1257),Worktags!AR:AV,5,FALSE),\"\")","v":""}]
["",null,null,null,null,{"$f":"IFERROR(VLOOKUP(IF(C1258=\"\",B1258&\"||\"&B1258,C1258&\"||\"&B1258),Worktags!AR:AV,5,FALSE),\"\")","v":""}]
["",null,null,null,null,{"$f":"IFERROR(VLOOKUP(IF(C1259=\"\",B1259&\"||\"&B1259,C1259&\"||\"&B1259),Worktags!AR:AV,5,FALSE),\"\")","v":""}]
["",null,null,null,null,{"$f":"IFERROR(VLOOKUP(IF(C1260=\"\",B1260&\"||\"&B1260,C1260&\"||\"&B1260),Worktags!AR:AV,5,FALSE),\"\")","v":""}]
["",null,null,null,null,{"$f":"IFERROR(VLOOKUP(IF(C1261=\"\",B1261&\"||\"&B1261,C1261&\"||\"&B1261),Worktags!AR:AV,5,FALSE),\"\")","v":""}]
["",null,null,null,null,{"$f":"IFERROR(VLOOKUP(IF(C1262=\"\",B1262&\"||\"&B1262,C1262&\"||\"&B1262),Worktags!AR:AV,5,FALSE),\"\")","v":""}]
["",null,null,null,null,{"$f":"IFERROR(VLOOKUP(IF(C1263=\"\",B1263&\"||\"&B1263,C1263&\"||\"&B1263),Worktags!AR:AV,5,FALSE),\"\")","v":""}]
["",null,null,null,null,{"$f":"IFERROR(VLOOKUP(IF(C1264=\"\",B1264&\"||\"&B1264,C1264&\"||\"&B1264),Worktags!AR:AV,5,FALSE),\"\")","v":""}]
["",null,null,null,null,{"$f":"IFERROR(VLOOKUP(IF(C1265=\"\",B1265&\"||\"&B1265,C1265&\"||\"&B1265),Worktags!AR:AV,5,FALSE),\"\")","v":""}]
["",null,null,null,null,{"$f":"IFERROR(VLOOKUP(IF(C1266=\"\",B1266&\"||\"&B1266,C1266&\"||\"&B1266),Worktags!AR:AV,5,FALSE),\"\")","v":""}]
["",null,null,null,null,{"$f":"IFERROR(VLOOKUP(IF(C1267=\"\",B1267&\"||\"&B1267,C1267&\"||\"&B1267),Worktags!AR:AV,5,FALSE),\"\")","v":""}]
["",null,null,null,null,{"$f":"IFERROR(VLOOKUP(IF(C1268=\"\",B1268&\"||\"&B1268,C1268&\"||\"&B1268),Worktags!AR:AV,5,FALSE),\"\")","v":""}]
["",null,null,null,null,{"$f":"IFERROR(VLOOKUP(IF(C1269=\"\",B1269&\"||\"&B1269,C1269&\"||\"&B1269),Worktags!AR:AV,5,FALSE),\"\")","v":""}]
["",null,null,null,null,{"$f":"IFERROR(VLOOKUP(IF(C1270=\"\",B1270&\"||\"&B1270,C1270&\"||\"&B1270),Worktags!AR:AV,5,FALSE),\"\")","v":""}]
["",null,null,null,null,{"$f":"IFERROR(VLOOKUP(IF(C1271=\"\",B1271&\"||\"&B1271,C1271&\"||\"&B1271),Worktags!AR:AV,5,FALSE),\"\")","v":""}]
["",null,null,null,null,{"$f":"IFERROR(VLOOKUP(IF(C1272=\"\",B1272&\"||\"&B1272,C1272&\"||\"&B1272),Worktags!AR:AV,5,FALSE),\"\")","v":""}]
["",null,null,null,null,{"$f":"IFERROR(VLOOKUP(IF(C1273=\"\",B1273&\"||\"&B1273,C1273&\"||\"&B1273),Worktags!AR:AV,5,FALSE),\"\")","v":""}]
["",null,null,null,null,{"$f":"IFERROR(VLOOKUP(IF(C1274=\"\",B1274&\"||\"&B1274,C1274&\"||\"&B1274),Worktags!AR:AV,5,FALSE),\"\")","v":""}]
["",null,null,null,null,{"$f":"IFERROR(VLOOKUP(IF(C1275=\"\",B1275&\"||\"&B1275,C1275&\"||\"&B1275),Worktags!AR:AV,5,FALSE),\"\")","v":""}]
["",null,null,null,null,{"$f":"IFERROR(VLOOKUP(IF(C1276=\"\",B1276&\"||\"&B1276,C1276&\"||\"&B1276),Worktags!AR:AV,5,FALSE),\"\")","v":""}]
["",null,null,null,null,{"$f":"IFERROR(VLOOKUP(IF(C1277=\"\",B1277&\"||\"&B1277,C1277&\"||\"&B1277),Worktags!AR:AV,5,FALSE),\"\")","v":""}]
["",null,null,null,null,{"$f":"IFERROR(VLOOKUP(IF(C1278=\"\",B1278&\"||\"&B1278,C1278&\"||\"&B1278),Worktags!AR:AV,5,FALSE),\"\")","v":""}]
["",null,null,null,null,{"$f":"IFERROR(VLOOKUP(IF(C1279=\"\",B1279&\"||\"&B1279,C1279&\"||\"&B1279),Worktags!AR:AV,5,FALSE),\"\")","v":""}]
["",null,null,null,null,{"$f":"IFERROR(VLOOKUP(IF(C1280=\"\",B1280&\"||\"&B1280,C1280&\"||\"&B1280),Worktags!AR:AV,5,FALSE),\"\")","v":""}]
["",null,null,null,null,{"$f":"IFERROR(VLOOKUP(IF(C1281=\"\",B1281&\"||\"&B1281,C1281&\"||\"&B1281),Worktags!AR:AV,5,FALSE),\"\")","v":""}]
[{"$f":"IF(B1282<>\"\",IF(C1282<>\"\",B1282&\"_\"&C1282&\" \"&D1282&\"/\"&E1282,B1282&\" \"&D1282),\"\")","v":""},null,null,null,null,{"$f":"IFERROR(VLOOKUP(IF(C1282=\"\",B1282&\"||\"&B1282,C1282&\"||\"&B1282),Worktags!AR:AV,5,FALSE),\"\")","v":""}]
["",null,null,null,null,{"$f":"IFERROR(VLOOKUP(IF(C1283=\"\",B1283&\"||\"&B1283,C1283&\"||\"&B1283),Worktags!AR:AV,5,FALSE),\"\")","v":""}]
["",null,null,null,null,{"$f":"IFERROR(VLOOKUP(IF(C1284=\"\",B1284&\"||\"&B1284,C1284&\"||\"&B1284),Worktags!AR:AV,5,FALSE),\"\")","v":""}]
["",null,null,null,null,{"$f":"IFERROR(VLOOKUP(IF(C1285=\"\",B1285&\"||\"&B1285,C1285&\"||\"&B1285),Worktags!AR:AV,5,FALSE),\"\")","v":""}]
["",null,null,null,null,{"$f":"IFERROR(VLOOKUP(IF(C1286=\"\",B1286&\"||\"&B1286,C1286&\"||\"&B1286),Worktags!AR:AV,5,FALSE),\"\")","v":""}]
["",null,null,null,null,{"$f":"IFERROR(VLOOKUP(IF(C1287=\"\",B1287&\"||\"&B1287,C1287&\"||\"&B1287),Worktags!AR:AV,5,FALSE),\"\")","v":""}]
["",null,null,null,null,{"$f":"IFERROR(VLOOKUP(IF(C1288=\"\",B1288&\"||\"&B1288,C1288&\"||\"&B1288),Worktags!AR:AV,5,FALSE),\"\")","v":""}]
["",null,null,null,null,{"$f":"IFERROR(VLOOKUP(IF(C1289=\"\",B1289&\"||\"&B1289,C1289&\"||\"&B1289),Worktags!AR:AV,5,FALSE),\"\")","v":""}]
["",null,null,null,null,{"$f":"IFERROR(VLOOKUP(IF(C1290=\"\",B1290&\"||\"&B1290,C1290&\"||\"&B1290),Worktags!AR:AV,5,FALSE),\"\")","v":""}]
["",null,null,null,null,{"$f":"IFERROR(VLOOKUP(IF(C1291=\"\",B1291&\"||\"&B1291,C1291&\"||\"&B1291),Worktags!AR:AV,5,FALSE),\"\")","v":""}]
["",null,null,null,null,{"$f":"IFERROR(VLOOKUP(IF(C1292=\"\",B1292&\"||\"&B1292,C1292&\"||\"&B1292),Worktags!AR:AV,5,FALSE),\"\")","v":""}]
["",null,null,null,null,{"$f":"IFERROR(VLOOKUP(IF(C1293=\"\",B1293&\"||\"&B1293,C1293&\"||\"&B1293),Worktags!AR:AV,5,FALSE),\"\")","v":""}]
["",null,null,null,null,{"$f":"IFERROR(VLOOKUP(IF(C1294=\"\",B1294&\"||\"&B1294,C1294&\"||\"&B1294),Worktags!AR:AV,5,FALSE),\"\")","v":""}]
["",null,null,null,null,{"$f":"IFERROR(VLOOKUP(IF(C1295=\"\",B1295&\"||\"&B1295,C1295&\"||\"&B1295),Worktags!AR:AV,5,FALSE),\"\")","v":""}]
["",null,null,null,null,{"$f":"IFERROR(VLOOKUP(IF(C1296=\"\",B1296&\"||\"&B1296,C1296&\"||\"&B1296),Worktags!AR:AV,5,FALSE),\"\")","v":""}]
["",null,null,null,null,{"$f":"IFERROR(VLOOKUP(IF(C1297=\"\",B1297&\"||\"&B1297,C1297&\"||\"&B1297),Worktags!AR:AV,5,FALSE),\"\")","v":""}]
["",null,null,null,null,{"$f":"IFERROR(VLOOKUP(IF(C1298=\"\",B1298&\"||\"&B1298,C1298&\"||\"&B1298),Worktags!AR:AV,5,FALSE),\"\")","v":""}]
["",null,null,null,null,{"$f":"IFERROR(VLOOKUP(IF(C1299=\"\",B1299&\"||\"&B1299,C1299&\"||\"&B1299),Worktags!AR:AV,5,FALSE),\"\")","v":""}]
["",null,null,null,null,{"$f":"IFERROR(VLOOKUP(IF(C1300=\"\",B1300&\"||\"&B1300,C1300&\"||\"&B1300),Worktags!AR:AV,5,FALSE),\"\")","v":""}]
["",null,null,null,null,{"$f":"IFERROR(VLOOKUP(IF(C1301=\"\",B1301&\"||\"&B1301,C1301&\"||\"&B1301),Worktags!AR:AV,5,FALSE),\"\")","v":""}]
["",null,null,null,null,{"$f":"IFERROR(VLOOKUP(IF(C1302=\"\",B1302&\"||\"&B1302,C1302&\"||\"&B1302),Worktags!AR:AV,5,FALSE),\"\")","v":""}]
["",null,null,null,null,{"$f":"IFERROR(VLOOKUP(IF(C1303=\"\",B1303&\"||\"&B1303,C1303&\"||\"&B1303),Worktags!AR:AV,5,FALSE),\"\")","v":""}]
["",null,null,null,null,{"$f":"IFERROR(VLOOKUP(IF(C1304=\"\",B1304&\"||\"&B1304,C1304&\"||\"&B1304),Worktags!AR:AV,5,FALSE),\"\")","v":""}]
["",null,null,null,null,{"$f":"IFERROR(VLOOKUP(IF(C1305=\"\",B1305&\"||\"&B1305,C1305&\"||\"&B1305),Worktags!AR:AV,5,FALSE),\"\")","v":""}]
["",null,null,null,null,{"$f":"IFERROR(VLOOKUP(IF(C1306=\"\",B1306&\"||\"&B1306,C1306&\"||\"&B1306),Worktags!AR:AV,5,FALSE),\"\")","v":""}]
["",null,null,null,null,{"$f":"IFERROR(VLOOKUP(IF(C1307=\"\",B1307&\"||\"&B1307,C1307&\"||\"&B1307),Worktags!AR:AV,5,FALSE),\"\")","v":""}]
["",null,null,null,null,{"$f":"IFERROR(VLOOKUP(IF(C1308=\"\",B1308&\"||\"&B1308,C1308&\"||\"&B1308),Worktags!AR:AV,5,FALSE),\"\")","v":""}]
["",null,null,null,null,{"$f":"IFERROR(VLOOKUP(IF(C1309=\"\",B1309&\"||\"&B1309,C1309&\"||\"&B1309),Worktags!AR:AV,5,FALSE),\"\")","v":""}]
["",null,null,null,null,{"$f":"IFERROR(VLOOKUP(IF(C1310=\"\",B1310&\"||\"&B1310,C1310&\"||\"&B1310),Worktags!AR:AV,5,FALSE),\"\")","v":""}]
["",null,null,null,null,{"$f":"IFERROR(VLOOKUP(IF(C1311=\"\",B1311&\"||\"&B1311,C1311&\"||\"&B1311),Worktags!AR:AV,5,FALSE),\"\")","v":""}]
["",null,null,null,null,{"$f":"IFERROR(VLOOKUP(IF(C1312=\"\",B1312&\"||\"&B1312,C1312&\"||\"&B1312),Worktags!AR:AV,5,FALSE),\"\")","v":""}]
["",null,null,null,null,{"$f":"IFERROR(VLOOKUP(IF(C1313=\"\",B1313&\"||\"&B1313,C1313&\"||\"&B1313),Worktags!AR:AV,5,FALSE),\"\")","v":""}]
["",null,null,null,null,{"$f":"IFERROR(VLOOKUP(IF(C1314=\"\",B1314&\"||\"&B1314,C1314&\"||\"&B1314),Worktags!AR:AV,5,FALSE),\"\")","v":""}]
["",null,null,null,null,{"$f":"IFERROR(VLOOKUP(IF(C1315=\"\",B1315&\"||\"&B1315,C1315&\"||\"&B1315),Worktags!AR:AV,5,FALSE),\"\")","v":""}]
["",null,null,null,null,{"$f":"IFERROR(VLOOKUP(IF(C1316=\"\",B1316&\"||\"&B1316,C1316&\"||\"&B1316),Worktags!AR:AV,5,FALSE),\"\")","v":""}]
["",null,null,null,null,{"$f":"IFERROR(VLOOKUP(IF(C1317=\"\",B1317&\"||\"&B1317,C1317&\"||\"&B1317),Worktags!AR:AV,5,FALSE),\"\")","v":""}]
["",null,null,null,null,{"$f":"IFERROR(VLOOKUP(IF(C1318=\"\",B1318&\"||\"&B1318,C1318&\"||\"&B1318),Worktags!AR:AV,5,FALSE),\"\")","v":""}]
["",null,null,null,null,{"$f":"IFERROR(VLOOKUP(IF(C1319=\"\",B1319&\"||\"&B1319,C1319&\"||\"&B1319),Worktags!AR:AV,5,FALSE),\"\")","v":""}]
["",null,null,null,null,{"$f":"IFERROR(VLOOKUP(IF(C1320=\"\",B1320&\"||\"&B1320,C1320&\"||\"&B1320),Worktags!AR:AV,5,FALSE),\"\")","v":""}]
["",null,null,null,null,{"$f":"IFERROR(VLOOKUP(IF(C1321=\"\",B1321&\"||\"&B1321,C1321&\"||\"&B1321),Worktags!AR:AV,5,FALSE),\"\")","v":""}]
["",null,null,null,null,{"$f":"IFERROR(VLOOKUP(IF(C1322=\"\",B1322&\"||\"&B1322,C1322&\"||\"&B1322),Worktags!AR:AV,5,FALSE),\"\")","v":""}]
["",null,null,null,null,{"$f":"IFERROR(VLOOKUP(IF(C1323=\"\",B1323&\"||\"&B1323,C1323&\"||\"&B1323),Worktags!AR:AV,5,FALSE),\"\")","v":""}]
["",null,null,null,null,{"$f":"IFERROR(VLOOKUP(IF(C1324=\"\",B1324&\"||\"&B1324,C1324&\"||\"&B1324),Worktags!AR:AV,5,FALSE),\"\")","v":""}]
["",null,null,null,null,{"$f":"IFERROR(VLOOKUP(IF(C1325=\"\",B1325&\"||\"&B1325,C1325&\"||\"&B1325),Worktags!AR:AV,5,FALSE),\"\")","v":""}]
["",null,null,null,null,{"$f":"IFERROR(VLOOKUP(IF(C1326=\"\",B1326&\"||\"&B1326,C1326&\"||\"&B1326),Worktags!AR:AV,5,FALSE),\"\")","v":""}]
["",null,null,null,null,{"$f":"IFERROR(VLOOKUP(IF(C1327=\"\",B1327&\"||\"&B1327,C1327&\"||\"&B1327),Worktags!AR:AV,5,FALSE),\"\")","v":""}]
["",null,null,null,null,{"$f":"IFERROR(VLOOKUP(IF(C1328=\"\",B1328&\"||\"&B1328,C1328&\"||\"&B1328),Worktags!AR:AV,5,FALSE),\"\")","v":""}]
["",null,null,null,null,{"$f":"IFERROR(VLOOKUP(IF(C1329=\"\",B1329&\"||\"&B1329,C1329&\"||\"&B1329),Worktags!AR:AV,5,FALSE),\"\")","v":""}]
["",null,null,null,null,{"$f":"IFERROR(VLOOKUP(IF(C1330=\"\",B1330&\"||\"&B1330,C1330&\"||\"&B1330),Worktags!AR:AV,5,FALSE),\"\")","v":""}]
["",null,null,null,null,{"$f":"IFERROR(VLOOKUP(IF(C1331=\"\",B1331&\"||\"&B1331,C1331&\"||\"&B1331),Worktags!AR:AV,5,FALSE),\"\")","v":""}]
["",null,null,null,null,{"$f":"IFERROR(VLOOKUP(IF(C1332=\"\",B1332&\"||\"&B1332,C1332&\"||\"&B1332),Worktags!AR:AV,5,FALSE),\"\")","v":""}]
["",null,null,null,null,{"$f":"IFERROR(VLOOKUP(IF(C1333=\"\",B1333&\"||\"&B1333,C1333&\"||\"&B1333),Worktags!AR:AV,5,FALSE),\"\")","v":""}]
["",null,null,null,null,{"$f":"IFERROR(VLOOKUP(IF(C1334=\"\",B1334&\"||\"&B1334,C1334&\"||\"&B1334),Worktags!AR:AV,5,FALSE),\"\")","v":""}]
["",null,null,null,null,{"$f":"IFERROR(VLOOKUP(IF(C1335=\"\",B1335&\"||\"&B1335,C1335&\"||\"&B1335),Worktags!AR:AV,5,FALSE),\"\")","v":""}]
["",null,null,null,null,{"$f":"IFERROR(VLOOKUP(IF(C1336=\"\",B1336&\"||\"&B1336,C1336&\"||\"&B1336),Worktags!AR:AV,5,FALSE),\"\")","v":""}]
["",null,null,null,null,{"$f":"IFERROR(VLOOKUP(IF(C1337=\"\",B1337&\"||\"&B1337,C1337&\"||\"&B1337),Worktags!AR:AV,5,FALSE),\"\")","v":""}]
["",null,null,null,null,{"$f":"IFERROR(VLOOKUP(IF(C1338=\"\",B1338&\"||\"&B1338,C1338&\"||\"&B1338),Worktags!AR:AV,5,FALSE),\"\")","v":""}]
["",null,null,null,null,{"$f":"IFERROR(VLOOKUP(IF(C1339=\"\",B1339&\"||\"&B1339,C1339&\"||\"&B1339),Worktags!AR:AV,5,FALSE),\"\")","v":""}]
["",null,null,null,null,{"$f":"IFERROR(VLOOKUP(IF(C1340=\"\",B1340&\"||\"&B1340,C1340&\"||\"&B1340),Worktags!AR:AV,5,FALSE),\"\")","v":""}]
["",null,null,null,null,{"$f":"IFERROR(VLOOKUP(IF(C1341=\"\",B1341&\"||\"&B1341,C1341&\"||\"&B1341),Worktags!AR:AV,5,FALSE),\"\")","v":""}]
["",null,null,null,null,{"$f":"IFERROR(VLOOKUP(IF(C1342=\"\",B1342&\"||\"&B1342,C1342&\"||\"&B1342),Worktags!AR:AV,5,FALSE),\"\")","v":""}]
["",null,null,null,null,{"$f":"IFERROR(VLOOKUP(IF(C1343=\"\",B1343&\"||\"&B1343,C1343&\"||\"&B1343),Worktags!AR:AV,5,FALSE),\"\")","v":""}]
["",null,null,null,null,{"$f":"IFERROR(VLOOKUP(IF(C1344=\"\",B1344&\"||\"&B1344,C1344&\"||\"&B1344),Worktags!AR:AV,5,FALSE),\"\")","v":""}]
["",null,null,null,null,{"$f":"IFERROR(VLOOKUP(IF(C1345=\"\",B1345&\"||\"&B1345,C1345&\"||\"&B1345),Worktags!AR:AV,5,FALSE),\"\")","v":""}]
[{"$f":"IF(B1346<>\"\",IF(C1346<>\"\",B1346&\"_\"&C1346&\" \"&D1346&\"/\"&E1346,B1346&\" \"&D1346),\"\")","v":""},null,null,null,null,{"$f":"IFERROR(VLOOKUP(IF(C1346=\"\",B1346&\"||\"&B1346,C1346&\"||\"&B1346),Worktags!AR:AV,5,FALSE),\"\")","v":""}]
["",null,null,null,null,{"$f":"IFERROR(VLOOKUP(IF(C1347=\"\",B1347&\"||\"&B1347,C1347&\"||\"&B1347),Worktags!AR:AV,5,FALSE),\"\")","v":""}]
["",null,null,null,null,{"$f":"IFERROR(VLOOKUP(IF(C1348=\"\",B1348&\"||\"&B1348,C1348&\"||\"&B1348),Worktags!AR:AV,5,FALSE),\"\")","v":""}]
["",null,null,null,null,{"$f":"IFERROR(VLOOKUP(IF(C1349=\"\",B1349&\"||\"&B1349,C1349&\"||\"&B1349),Worktags!AR:AV,5,FALSE),\"\")","v":""}]
["",null,null,null,null,{"$f":"IFERROR(VLOOKUP(IF(C1350=\"\",B1350&\"||\"&B1350,C1350&\"||\"&B1350),Worktags!AR:AV,5,FALSE),\"\")","v":""}]
["",null,null,null,null,{"$f":"IFERROR(VLOOKUP(IF(C1351=\"\",B1351&\"||\"&B1351,C1351&\"||\"&B1351),Worktags!AR:AV,5,FALSE),\"\")","v":""}]
["",null,null,null,null,{"$f":"IFERROR(VLOOKUP(IF(C1352=\"\",B1352&\"||\"&B1352,C1352&\"||\"&B1352),Worktags!AR:AV,5,FALSE),\"\")","v":""}]
["",null,null,null,null,{"$f":"IFERROR(VLOOKUP(IF(C1353=\"\",B1353&\"||\"&B1353,C1353&\"||\"&B1353),Worktags!AR:AV,5,FALSE),\"\")","v":""}]
["",null,null,null,null,{"$f":"IFERROR(VLOOKUP(IF(C1354=\"\",B1354&\"||\"&B1354,C1354&\"||\"&B1354),Worktags!AR:AV,5,FALSE),\"\")","v":""}]
["",null,null,null,null,{"$f":"IFERROR(VLOOKUP(IF(C1355=\"\",B1355&\"||\"&B1355,C1355&\"||\"&B1355),Worktags!AR:AV,5,FALSE),\"\")","v":""}]
["",null,null,null,null,{"$f":"IFERROR(VLOOKUP(IF(C1356=\"\",B1356&\"||\"&B1356,C1356&\"||\"&B1356),Worktags!AR:AV,5,FALSE),\"\")","v":""}]
["",null,null,null,null,{"$f":"IFERROR(VLOOKUP(IF(C1357=\"\",B1357&\"||\"&B1357,C1357&\"||\"&B1357),Worktags!AR:AV,5,FALSE),\"\")","v":""}]
["",null,null,null,null,{"$f":"IFERROR(VLOOKUP(IF(C1358=\"\",B1358&\"||\"&B1358,C1358&\"||\"&B1358),Worktags!AR:AV,5,FALSE),\"\")","v":""}]
["",null,null,null,null,{"$f":"IFERROR(VLOOKUP(IF(C1359=\"\",B1359&\"||\"&B1359,C1359&\"||\"&B1359),Worktags!AR:AV,5,FALSE),\"\")","v":""}]
["",null,null,null,null,{"$f":"IFERROR(VLOOKUP(IF(C1360=\"\",B1360&\"||\"&B1360,C1360&\"||\"&B1360),Worktags!AR:AV,5,FALSE),\"\")","v":""}]
["",null,null,null,null,{"$f":"IFERROR(VLOOKUP(IF(C1361=\"\",B1361&\"||\"&B1361,C1361&\"||\"&B1361),Worktags!AR:AV,5,FALSE),\"\")","v":""}]
["",null,null,null,null,{"$f":"IFERROR(VLOOKUP(IF(C1362=\"\",B1362&\"||\"&B1362,C1362&\"||\"&B1362),Worktags!AR:AV,5,FALSE),\"\")","v":""}]
["",null,null,null,null,{"$f":"IFERROR(VLOOKUP(IF(C1363=\"\",B1363&\"||\"&B1363,C1363&\"||\"&B1363),Worktags!AR:AV,5,FALSE),\"\")","v":""}]
["",null,null,null,null,{"$f":"IFERROR(VLOOKUP(IF(C1364=\"\",B1364&\"||\"&B1364,C1364&\"||\"&B1364),Worktags!AR:AV,5,FALSE),\"\")","v":""}]
["",null,null,null,null,{"$f":"IFERROR(VLOOKUP(IF(C1365=\"\",B1365&\"||\"&B1365,C1365&\"||\"&B1365),Worktags!AR:AV,5,FALSE),\"\")","v":""}]
["",null,null,null,null,{"$f":"IFERROR(VLOOKUP(IF(C1366=\"\",B1366&\"||\"&B1366,C1366&\"||\"&B1366),Worktags!AR:AV,5,FALSE),\"\")","v":""}]
["",null,null,null,null,{"$f":"IFERROR(VLOOKUP(IF(C1367=\"\",B1367&\"||\"&B1367,C1367&\"||\"&B1367),Worktags!AR:AV,5,FALSE),\"\")","v":""}]
["",null,null,null,null,{"$f":"IFERROR(VLOOKUP(IF(C1368=\"\",B1368&\"||\"&B1368,C1368&\"||\"&B1368),Worktags!AR:AV,5,FALSE),\"\")","v":""}]
["",null,null,null,null,{"$f":"IFERROR(VLOOKUP(IF(C1369=\"\",B1369&\"||\"&B1369,C1369&\"||\"&B1369),Worktags!AR:AV,5,FALSE),\"\")","v":""}]
["",null,null,null,null,{"$f":"IFERROR(VLOOKUP(IF(C1370=\"\",B1370&\"||\"&B1370,C1370&\"||\"&B1370),Worktags!AR:AV,5,FALSE),\"\")","v":""}]
["",null,null,null,null,{"$f":"IFERROR(VLOOKUP(IF(C1371=\"\",B1371&\"||\"&B1371,C1371&\"||\"&B1371),Worktags!AR:AV,5,FALSE),\"\")","v":""}]
["",null,null,null,null,{"$f":"IFERROR(VLOOKUP(IF(C1372=\"\",B1372&\"||\"&B1372,C1372&\"||\"&B1372),Worktags!AR:AV,5,FALSE),\"\")","v":""}]
["",null,null,null,null,{"$f":"IFERROR(VLOOKUP(IF(C1373=\"\",B1373&\"||\"&B1373,C1373&\"||\"&B1373),Worktags!AR:AV,5,FALSE),\"\")","v":""}]
["",null,null,null,null,{"$f":"IFERROR(VLOOKUP(IF(C1374=\"\",B1374&\"||\"&B1374,C1374&\"||\"&B1374),Worktags!AR:AV,5,FALSE),\"\")","v":""}]
["",null,null,null,null,{"$f":"IFERROR(VLOOKUP(IF(C1375=\"\",B1375&\"||\"&B1375,C1375&\"||\"&B1375),Worktags!AR:AV,5,FALSE),\"\")","v":""}]
["",null,null,null,null,{"$f":"IFERROR(VLOOKUP(IF(C1376=\"\",B1376&\"||\"&B1376,C1376&\"||\"&B1376),Worktags!AR:AV,5,FALSE),\"\")","v":""}]
["",null,null,null,null,{"$f":"IFERROR(VLOOKUP(IF(C1377=\"\",B1377&\"||\"&B1377,C1377&\"||\"&B1377),Worktags!AR:AV,5,FALSE),\"\")","v":""}]
["",null,null,null,null,{"$f":"IFERROR(VLOOKUP(IF(C1378=\"\",B1378&\"||\"&B1378,C1378&\"||\"&B1378),Worktags!AR:AV,5,FALSE),\"\")","v":""}]
["",null,null,null,null,{"$f":"IFERROR(VLOOKUP(IF(C1379=\"\",B1379&\"||\"&B1379,C1379&\"||\"&B1379),Worktags!AR:AV,5,FALSE),\"\")","v":""}]
["",null,null,null,null,{"$f":"IFERROR(VLOOKUP(IF(C1380=\"\",B1380&\"||\"&B1380,C1380&\"||\"&B1380),Worktags!AR:AV,5,FALSE),\"\")","v":""}]
["",null,null,null,null,{"$f":"IFERROR(VLOOKUP(IF(C1381=\"\",B1381&\"||\"&B1381,C1381&\"||\"&B1381),Worktags!AR:AV,5,FALSE),\"\")","v":""}]
["",null,null,null,null,{"$f":"IFERROR(VLOOKUP(IF(C1382=\"\",B1382&\"||\"&B1382,C1382&\"||\"&B1382),Worktags!AR:AV,5,FALSE),\"\")","v":""}]
["",null,null,null,null,{"$f":"IFERROR(VLOOKUP(IF(C1383=\"\",B1383&\"||\"&B1383,C1383&\"||\"&B1383),Worktags!AR:AV,5,FALSE),\"\")","v":""}]
["",null,null,null,null,{"$f":"IFERROR(VLOOKUP(IF(C1384=\"\",B1384&\"||\"&B1384,C1384&\"||\"&B1384),Worktags!AR:AV,5,FALSE),\"\")","v":""}]
["",null,null,null,null,{"$f":"IFERROR(VLOOKUP(IF(C1385=\"\",B1385&\"||\"&B1385,C1385&\"||\"&B1385),Worktags!AR:AV,5,FALSE),\"\")","v":""}]
["",null,null,null,null,{"$f":"IFERROR(VLOOKUP(IF(C1386=\"\",B1386&\"||\"&B1386,C1386&\"||\"&B1386),Worktags!AR:AV,5,FALSE),\"\")","v":""}]
["",null,null,null,null,{"$f":"IFERROR(VLOOKUP(IF(C1387=\"\",B1387&\"||\"&B1387,C1387&\"||\"&B1387),Worktags!AR:AV,5,FALSE),\"\")","v":""}]
["",null,null,null,null,{"$f":"IFERROR(VLOOKUP(IF(C1388=\"\",B1388&\"||\"&B1388,C1388&\"||\"&B1388),Worktags!AR:AV,5,FALSE),\"\")","v":""}]
["",null,null,null,null,{"$f":"IFERROR(VLOOKUP(IF(C1389=\"\",B1389&\"||\"&B1389,C1389&\"||\"&B1389),Worktags!AR:AV,5,FALSE),\"\")","v":""}]
["",null,null,null,null,{"$f":"IFERROR(VLOOKUP(IF(C1390=\"\",B1390&\"||\"&B1390,C1390&\"||\"&B1390),Worktags!AR:AV,5,FALSE),\"\")","v":""}]
["",null,null,null,null,{"$f":"IFERROR(VLOOKUP(IF(C1391=\"\",B1391&\"||\"&B1391,C1391&\"||\"&B1391),Worktags!AR:AV,5,FALSE),\"\")","v":""}]
["",null,null,null,null,{"$f":"IFERROR(VLOOKUP(IF(C1392=\"\",B1392&\"||\"&B1392,C1392&\"||\"&B1392),Worktags!AR:AV,5,FALSE),\"\")","v":""}]
["",null,null,null,null,{"$f":"IFERROR(VLOOKUP(IF(C1393=\"\",B1393&\"||\"&B1393,C1393&\"||\"&B1393),Worktags!AR:AV,5,FALSE),\"\")","v":""}]
["",null,null,null,null,{"$f":"IFERROR(VLOOKUP(IF(C1394=\"\",B1394&\"||\"&B1394,C1394&\"||\"&B1394),Worktags!AR:AV,5,FALSE),\"\")","v":""}]
["",null,null,null,null,{"$f":"IFERROR(VLOOKUP(IF(C1395=\"\",B1395&\"||\"&B1395,C1395&\"||\"&B1395),Worktags!AR:AV,5,FALSE),\"\")","v":""}]
["",null,null,null,null,{"$f":"IFERROR(VLOOKUP(IF(C1396=\"\",B1396&\"||\"&B1396,C1396&\"||\"&B1396),Worktags!AR:AV,5,FALSE),\"\")","v":""}]
["",null,null,null,null,{"$f":"IFERROR(VLOOKUP(IF(C1397=\"\",B1397&\"||\"&B1397,C1397&\"||\"&B1397),Worktags!AR:AV,5,FALSE),\"\")","v":""}]
["",null,null,null,null,{"$f":"IFERROR(VLOOKUP(IF(C1398=\"\",B1398&\"||\"&B1398,C1398&\"||\"&B1398),Worktags!AR:AV,5,FALSE),\"\")","v":""}]
["",null,null,null,null,{"$f":"IFERROR(VLOOKUP(IF(C1399=\"\",B1399&\"||\"&B1399,C1399&\"||\"&B1399),Worktags!AR:AV,5,FALSE),\"\")","v":""}]
["",null,null,null,null,{"$f":"IFERROR(VLOOKUP(IF(C1400=\"\",B1400&\"||\"&B1400,C1400&\"||\"&B1400),Worktags!AR:AV,5,FALSE),\"\")","v":""}]
["",null,null,null,null,{"$f":"IFERROR(VLOOKUP(IF(C1401=\"\",B1401&\"||\"&B1401,C1401&\"||\"&B1401),Worktags!AR:AV,5,FALSE),\"\")","v":""}]
["",null,null,null,null,{"$f":"IFERROR(VLOOKUP(IF(C1402=\"\",B1402&\"||\"&B1402,C1402&\"||\"&B1402),Worktags!AR:AV,5,FALSE),\"\")","v":""}]
["",null,null,null,null,{"$f":"IFERROR(VLOOKUP(IF(C1403=\"\",B1403&\"||\"&B1403,C1403&\"||\"&B1403),Worktags!AR:AV,5,FALSE),\"\")","v":""}]
["",null,null,null,null,{"$f":"IFERROR(VLOOKUP(IF(C1404=\"\",B1404&\"||\"&B1404,C1404&\"||\"&B1404),Worktags!AR:AV,5,FALSE),\"\")","v":""}]
["",null,null,null,null,{"$f":"IFERROR(VLOOKUP(IF(C1405=\"\",B1405&\"||\"&B1405,C1405&\"||\"&B1405),Worktags!AR:AV,5,FALSE),\"\")","v":""}]
["",null,null,null,null,{"$f":"IFERROR(VLOOKUP(IF(C1406=\"\",B1406&\"||\"&B1406,C1406&\"||\"&B1406),Worktags!AR:AV,5,FALSE),\"\")","v":""}]
["",null,null,null,null,{"$f":"IFERROR(VLOOKUP(IF(C1407=\"\",B1407&\"||\"&B1407,C1407&\"||\"&B1407),Worktags!AR:AV,5,FALSE),\"\")","v":""}]
["",null,null,null,null,{"$f":"IFERROR(VLOOKUP(IF(C1408=\"\",B1408&\"||\"&B1408,C1408&\"||\"&B1408),Worktags!AR:AV,5,FALSE),\"\")","v":""}]
["",null,null,null,null,{"$f":"IFERROR(VLOOKUP(IF(C1409=\"\",B1409&\"||\"&B1409,C1409&\"||\"&B1409),Worktags!AR:AV,5,FALSE),\"\")","v":""}]
[{"$f":"IF(B1410<>\"\",IF(C1410<>\"\",B1410&\"_\"&C1410&\" \"&D1410&\"/\"&E1410,B1410&\" \"&D1410),\"\")","v":""},null,null,null,null,{"$f":"IFERROR(VLOOKUP(IF(C1410=\"\",B1410&\"||\"&B1410,C1410&\"||\"&B1410),Worktags!AR:AV,5,FALSE),\"\")","v":""}]
["",null,null,null,null,{"$f":"IFERROR(VLOOKUP(IF(C1411=\"\",B1411&\"||\"&B1411,C1411&\"||\"&B1411),Worktags!AR:AV,5,FALSE),\"\")","v":""}]
["",null,null,null,null,{"$f":"IFERROR(VLOOKUP(IF(C1412=\"\",B1412&\"||\"&B1412,C1412&\"||\"&B1412),Worktags!AR:AV,5,FALSE),\"\")","v":""}]
["",null,null,null,null,{"$f":"IFERROR(VLOOKUP(IF(C1413=\"\",B1413&\"||\"&B1413,C1413&\"||\"&B1413),Worktags!AR:AV,5,FALSE),\"\")","v":""}]
["",null,null,null,null,{"$f":"IFERROR(VLOOKUP(IF(C1414=\"\",B1414&\"||\"&B1414,C1414&\"||\"&B1414),Worktags!AR:AV,5,FALSE),\"\")","v":""}]
["",null,null,null,null,{"$f":"IFERROR(VLOOKUP(IF(C1415=\"\",B1415&\"||\"&B1415,C1415&\"||\"&B1415),Worktags!AR:AV,5,FALSE),\"\")","v":""}]
["",null,null,null,null,{"$f":"IFERROR(VLOOKUP(IF(C1416=\"\",B1416&\"||\"&B1416,C1416&\"||\"&B1416),Worktags!AR:AV,5,FALSE),\"\")","v":""}]
["",null,null,null,null,{"$f":"IFERROR(VLOOKUP(IF(C1417=\"\",B1417&\"||\"&B1417,C1417&\"||\"&B1417),Worktags!AR:AV,5,FALSE),\"\")","v":""}]
["",null,null,null,null,{"$f":"IFERROR(VLOOKUP(IF(C1418=\"\",B1418&\"||\"&B1418,C1418&\"||\"&B1418),Worktags!AR:AV,5,FALSE),\"\")","v":""}]
["",null,null,null,null,{"$f":"IFERROR(VLOOKUP(IF(C1419=\"\",B1419&\"||\"&B1419,C1419&\"||\"&B1419),Worktags!AR:AV,5,FALSE),\"\")","v":""}]
["",null,null,null,null,{"$f":"IFERROR(VLOOKUP(IF(C1420=\"\",B1420&\"||\"&B1420,C1420&\"||\"&B1420),Worktags!AR:AV,5,FALSE),\"\")","v":""}]
["",null,null,null,null,{"$f":"IFERROR(VLOOKUP(IF(C1421=\"\",B1421&\"||\"&B1421,C1421&\"||\"&B1421),Worktags!AR:AV,5,FALSE),\"\")","v":""}]
["",null,null,null,null,{"$f":"IFERROR(VLOOKUP(IF(C1422=\"\",B1422&\"||\"&B1422,C1422&\"||\"&B1422),Worktags!AR:AV,5,FALSE),\"\")","v":""}]
["",null,null,null,null,{"$f":"IFERROR(VLOOKUP(IF(C1423=\"\",B1423&\"||\"&B1423,C1423&\"||\"&B1423),Worktags!AR:AV,5,FALSE),\"\")","v":""}]
["",null,null,null,null,{"$f":"IFERROR(VLOOKUP(IF(C1424=\"\",B1424&\"||\"&B1424,C1424&\"||\"&B1424),Worktags!AR:AV,5,FALSE),\"\")","v":""}]
["",null,null,null,null,{"$f":"IFERROR(VLOOKUP(IF(C1425=\"\",B1425&\"||\"&B1425,C1425&\"||\"&B1425),Worktags!AR:AV,5,FALSE),\"\")","v":""}]
["",null,null,null,null,{"$f":"IFERROR(VLOOKUP(IF(C1426=\"\",B1426&\"||\"&B1426,C1426&\"||\"&B1426),Worktags!AR:AV,5,FALSE),\"\")","v":""}]
["",null,null,null,null,{"$f":"IFERROR(VLOOKUP(IF(C1427=\"\",B1427&\"||\"&B1427,C1427&\"||\"&B1427),Worktags!AR:AV,5,FALSE),\"\")","v":""}]
["",null,null,null,null,{"$f":"IFERROR(VLOOKUP(IF(C1428=\"\",B1428&\"||\"&B1428,C1428&\"||\"&B1428),Worktags!AR:AV,5,FALSE),\"\")","v":""}]
["",null,null,null,null,{"$f":"IFERROR(VLOOKUP(IF(C1429=\"\",B1429&\"||\"&B1429,C1429&\"||\"&B1429),Worktags!AR:AV,5,FALSE),\"\")","v":""}]
["",null,null,null,null,{"$f":"IFERROR(VLOOKUP(IF(C1430=\"\",B1430&\"||\"&B1430,C1430&\"||\"&B1430),Worktags!AR:AV,5,FALSE),\"\")","v":""}]
["",null,null,null,null,{"$f":"IFERROR(VLOOKUP(IF(C1431=\"\",B1431&\"||\"&B1431,C1431&\"||\"&B1431),Worktags!AR:AV,5,FALSE),\"\")","v":""}]
["",null,null,null,null,{"$f":"IFERROR(VLOOKUP(IF(C1432=\"\",B1432&\"||\"&B1432,C1432&\"||\"&B1432),Worktags!AR:AV,5,FALSE),\"\")","v":""}]
["",null,null,null,null,{"$f":"IFERROR(VLOOKUP(IF(C1433=\"\",B1433&\"||\"&B1433,C1433&\"||\"&B1433),Worktags!AR:AV,5,FALSE),\"\")","v":""}]
["",null,null,null,null,{"$f":"IFERROR(VLOOKUP(IF(C1434=\"\",B1434&\"||\"&B1434,C1434&\"||\"&B1434),Worktags!AR:AV,5,FALSE),\"\")","v":""}]
["",null,null,null,null,{"$f":"IFERROR(VLOOKUP(IF(C1435=\"\",B1435&\"||\"&B1435,C1435&\"||\"&B1435),Worktags!AR:AV,5,FALSE),\"\")","v":""}]
["",null,null,null,null,{"$f":"IFERROR(VLOOKUP(IF(C1436=\"\",B1436&\"||\"&B1436,C1436&\"||\"&B1436),Worktags!AR:AV,5,FALSE),\"\")","v":""}]
["",null,null,null,null,{"$f":"IFERROR(VLOOKUP(IF(C1437=\"\",B1437&\"||\"&B1437,C1437&\"||\"&B1437),Worktags!AR:AV,5,FALSE),\"\")","v":""}]
["",null,null,null,null,{"$f":"IFERROR(VLOOKUP(IF(C1438=\"\",B1438&\"||\"&B1438,C1438&\"||\"&B1438),Worktags!AR:AV,5,FALSE),\"\")","v":""}]
["",null,null,null,null,{"$f":"IFERROR(VLOOKUP(IF(C1439=\"\",B1439&\"||\"&B1439,C1439&\"||\"&B1439),Worktags!AR:AV,5,FALSE),\"\")","v":""}]
["",null,null,null,null,{"$f":"IFERROR(VLOOKUP(IF(C1440=\"\",B1440&\"||\"&B1440,C1440&\"||\"&B1440),Worktags!AR:AV,5,FALSE),\"\")","v":""}]
["",null,null,null,null,{"$f":"IFERROR(VLOOKUP(IF(C1441=\"\",B1441&\"||\"&B1441,C1441&\"||\"&B1441),Worktags!AR:AV,5,FALSE),\"\")","v":""}]
["",null,null,null,null,{"$f":"IFERROR(VLOOKUP(IF(C1442=\"\",B1442&\"||\"&B1442,C1442&\"||\"&B1442),Worktags!AR:AV,5,FALSE),\"\")","v":""}]
["",null,null,null,null,{"$f":"IFERROR(VLOOKUP(IF(C1443=\"\",B1443&\"||\"&B1443,C1443&\"||\"&B1443),Worktags!AR:AV,5,FALSE),\"\")","v":""}]
["",null,null,null,null,{"$f":"IFERROR(VLOOKUP(IF(C1444=\"\",B1444&\"||\"&B1444,C1444&\"||\"&B1444),Worktags!AR:AV,5,FALSE),\"\")","v":""}]
["",null,null,null,null,{"$f":"IFERROR(VLOOKUP(IF(C1445=\"\",B1445&\"||\"&B1445,C1445&\"||\"&B1445),Worktags!AR:AV,5,FALSE),\"\")","v":""}]
["",null,null,null,null,{"$f":"IFERROR(VLOOKUP(IF(C1446=\"\",B1446&\"||\"&B1446,C1446&\"||\"&B1446),Worktags!AR:AV,5,FALSE),\"\")","v":""}]
["",null,null,null,null,{"$f":"IFERROR(VLOOKUP(IF(C1447=\"\",B1447&\"||\"&B1447,C1447&\"||\"&B1447),Worktags!AR:AV,5,FALSE),\"\")","v":""}]
["",null,null,null,null,{"$f":"IFERROR(VLOOKUP(IF(C1448=\"\",B1448&\"||\"&B1448,C1448&\"||\"&B1448),Worktags!AR:AV,5,FALSE),\"\")","v":""}]
["",null,null,null,null,{"$f":"IFERROR(VLOOKUP(IF(C1449=\"\",B1449&\"||\"&B1449,C1449&\"||\"&B1449),Worktags!AR:AV,5,FALSE),\"\")","v":""}]
["",null,null,null,null,{"$f":"IFERROR(VLOOKUP(IF(C1450=\"\",B1450&\"||\"&B1450,C1450&\"||\"&B1450),Worktags!AR:AV,5,FALSE),\"\")","v":""}]
["",null,null,null,null,{"$f":"IFERROR(VLOOKUP(IF(C1451=\"\",B1451&\"||\"&B1451,C1451&\"||\"&B1451),Worktags!AR:AV,5,FALSE),\"\")","v":""}]
["",null,null,null,null,{"$f":"IFERROR(VLOOKUP(IF(C1452=\"\",B1452&\"||\"&B1452,C1452&\"||\"&B1452),Worktags!AR:AV,5,FALSE),\"\")","v":""}]
["",null,null,null,null,{"$f":"IFERROR(VLOOKUP(IF(C1453=\"\",B1453&\"||\"&B1453,C1453&\"||\"&B1453),Worktags!AR:AV,5,FALSE),\"\")","v":""}]
["",null,null,null,null,{"$f":"IFERROR(VLOOKUP(IF(C1454=\"\",B1454&\"||\"&B1454,C1454&\"||\"&B1454),Worktags!AR:AV,5,FALSE),\"\")","v":""}]
["",null,null,null,null,{"$f":"IFERROR(VLOOKUP(IF(C1455=\"\",B1455&\"||\"&B1455,C1455&\"||\"&B1455),Worktags!AR:AV,5,FALSE),\"\")","v":""}]
["",null,null,null,null,{"$f":"IFERROR(VLOOKUP(IF(C1456=\"\",B1456&\"||\"&B1456,C1456&\"||\"&B1456),Worktags!AR:AV,5,FALSE),\"\")","v":""}]
["",null,null,null,null,{"$f":"IFERROR(VLOOKUP(IF(C1457=\"\",B1457&\"||\"&B1457,C1457&\"||\"&B1457),Worktags!AR:AV,5,FALSE),\"\")","v":""}]
["",null,null,null,null,{"$f":"IFERROR(VLOOKUP(IF(C1458=\"\",B1458&\"||\"&B1458,C1458&\"||\"&B1458),Worktags!AR:AV,5,FALSE),\"\")","v":""}]
["",null,null,null,null,{"$f":"IFERROR(VLOOKUP(IF(C1459=\"\",B1459&\"||\"&B1459,C1459&\"||\"&B1459),Worktags!AR:AV,5,FALSE),\"\")","v":""}]
["",null,null,null,null,{"$f":"IFERROR(VLOOKUP(IF(C1460=\"\",B1460&\"||\"&B1460,C1460&\"||\"&B1460),Worktags!AR:AV,5,FALSE),\"\")","v":""}]
["",null,null,null,null,{"$f":"IFERROR(VLOOKUP(IF(C1461=\"\",B1461&\"||\"&B1461,C1461&\"||\"&B1461),Worktags!AR:AV,5,FALSE),\"\")","v":""}]
["",null,null,null,null,{"$f":"IFERROR(VLOOKUP(IF(C1462=\"\",B1462&\"||\"&B1462,C1462&\"||\"&B1462),Worktags!AR:AV,5,FALSE),\"\")","v":""}]
["",null,null,null,null,{"$f":"IFERROR(VLOOKUP(IF(C1463=\"\",B1463&\"||\"&B1463,C1463&\"||\"&B1463),Worktags!AR:AV,5,FALSE),\"\")","v":""}]
["",null,null,null,null,{"$f":"IFERROR(VLOOKUP(IF(C1464=\"\",B1464&\"||\"&B1464,C1464&\"||\"&B1464),Worktags!AR:AV,5,FALSE),\"\")","v":""}]
["",null,null,null,null,{"$f":"IFERROR(VLOOKUP(IF(C1465=\"\",B1465&\"||\"&B1465,C1465&\"||\"&B1465),Worktags!AR:AV,5,FALSE),\"\")","v":""}]
["",null,null,null,null,{"$f":"IFERROR(VLOOKUP(IF(C1466=\"\",B1466&\"||\"&B1466,C1466&\"||\"&B1466),Worktags!AR:AV,5,FALSE),\"\")","v":""}]
["",null,null,null,null,{"$f":"IFERROR(VLOOKUP(IF(C1467=\"\",B1467&\"||\"&B1467,C1467&\"||\"&B1467),Worktags!AR:AV,5,FALSE),\"\")","v":""}]
["",null,null,null,null,{"$f":"IFERROR(VLOOKUP(IF(C1468=\"\",B1468&\"||\"&B1468,C1468&\"||\"&B1468),Worktags!AR:AV,5,FALSE),\"\")","v":""}]
["",null,null,null,null,{"$f":"IFERROR(VLOOKUP(IF(C1469=\"\",B1469&\"||\"&B1469,C1469&\"||\"&B1469),Worktags!AR:AV,5,FALSE),\"\")","v":""}]
["",null,null,null,null,{"$f":"IFERROR(VLOOKUP(IF(C1470=\"\",B1470&\"||\"&B1470,C1470&\"||\"&B1470),Worktags!AR:AV,5,FALSE),\"\")","v":""}]
["",null,null,null,null,{"$f":"IFERROR(VLOOKUP(IF(C1471=\"\",B1471&\"||\"&B1471,C1471&\"||\"&B1471),Worktags!AR:AV,5,FALSE),\"\")","v":""}]
["",null,null,null,null,{"$f":"IFERROR(VLOOKUP(IF(C1472=\"\",B1472&\"||\"&B1472,C1472&\"||\"&B1472),Worktags!AR:AV,5,FALSE),\"\")","v":""}]
["",null,null,null,null,{"$f":"IFERROR(VLOOKUP(IF(C1473=\"\",B1473&\"||\"&B1473,C1473&\"||\"&B1473),Worktags!AR:AV,5,FALSE),\"\")","v":""}]
[{"$f":"IF(B1474<>\"\",IF(C1474<>\"\",B1474&\"_\"&C1474&\" \"&D1474&\"/\"&E1474,B1474&\" \"&D1474),\"\")","v":""},null,null,null,null,{"$f":"IFERROR(VLOOKUP(IF(C1474=\"\",B1474&\"||\"&B1474,C1474&\"||\"&B1474),Worktags!AR:AV,5,FALSE),\"\")","v":""}]
["",null,null,null,null,{"$f":"IFERROR(VLOOKUP(IF(C1475=\"\",B1475&\"||\"&B1475,C1475&\"||\"&B1475),Worktags!AR:AV,5,FALSE),\"\")","v":""}]
["",null,null,null,null,{"$f":"IFERROR(VLOOKUP(IF(C1476=\"\",B1476&\"||\"&B1476,C1476&\"||\"&B1476),Worktags!AR:AV,5,FALSE),\"\")","v":""}]
["",null,null,null,null,{"$f":"IFERROR(VLOOKUP(IF(C1477=\"\",B1477&\"||\"&B1477,C1477&\"||\"&B1477),Worktags!AR:AV,5,FALSE),\"\")","v":""}]
["",null,null,null,null,{"$f":"IFERROR(VLOOKUP(IF(C1478=\"\",B1478&\"||\"&B1478,C1478&\"||\"&B1478),Worktags!AR:AV,5,FALSE),\"\")","v":""}]
["",null,null,null,null,{"$f":"IFERROR(VLOOKUP(IF(C1479=\"\",B1479&\"||\"&B1479,C1479&\"||\"&B1479),Worktags!AR:AV,5,FALSE),\"\")","v":""}]
["",null,null,null,null,{"$f":"IFERROR(VLOOKUP(IF(C1480=\"\",B1480&\"||\"&B1480,C1480&\"||\"&B1480),Worktags!AR:AV,5,FALSE),\"\")","v":""}]
["",null,null,null,null,{"$f":"IFERROR(VLOOKUP(IF(C1481=\"\",B1481&\"||\"&B1481,C1481&\"||\"&B1481),Worktags!AR:AV,5,FALSE),\"\")","v":""}]
["",null,null,null,null,{"$f":"IFERROR(VLOOKUP(IF(C1482=\"\",B1482&\"||\"&B1482,C1482&\"||\"&B1482),Worktags!AR:AV,5,FALSE),\"\")","v":""}]
["",null,null,null,null,{"$f":"IFERROR(VLOOKUP(IF(C1483=\"\",B1483&\"||\"&B1483,C1483&\"||\"&B1483),Worktags!AR:AV,5,FALSE),\"\")","v":""}]
["",null,null,null,null,{"$f":"IFERROR(VLOOKUP(IF(C1484=\"\",B1484&\"||\"&B1484,C1484&\"||\"&B1484),Worktags!AR:AV,5,FALSE),\"\")","v":""}]
["",null,null,null,null,{"$f":"IFERROR(VLOOKUP(IF(C1485=\"\",B1485&\"||\"&B1485,C1485&\"||\"&B1485),Worktags!AR:AV,5,FALSE),\"\")","v":""}]
["",null,null,null,null,{"$f":"IFERROR(VLOOKUP(IF(C1486=\"\",B1486&\"||\"&B1486,C1486&\"||\"&B1486),Worktags!AR:AV,5,FALSE),\"\")","v":""}]
["",null,null,null,null,{"$f":"IFERROR(VLOOKUP(IF(C1487=\"\",B1487&\"||\"&B1487,C1487&\"||\"&B1487),Worktags!AR:AV,5,FALSE),\"\")","v":""}]
["",null,null,null,null,{"$f":"IFERROR(VLOOKUP(IF(C1488=\"\",B1488&\"||\"&B1488,C1488&\"||\"&B1488),Worktags!AR:AV,5,FALSE),\"\")","v":""}]
["",null,null,null,null,{"$f":"IFERROR(VLOOKUP(IF(C1489=\"\",B1489&\"||\"&B1489,C1489&\"||\"&B1489),Worktags!AR:AV,5,FALSE),\"\")","v":""}]
["",null,null,null,null,{"$f":"IFERROR(VLOOKUP(IF(C1490=\"\",B1490&\"||\"&B1490,C1490&\"||\"&B1490),Worktags!AR:AV,5,FALSE),\"\")","v":""}]
["",null,null,null,null,{"$f":"IFERROR(VLOOKUP(IF(C1491=\"\",B1491&\"||\"&B1491,C1491&\"||\"&B1491),Worktags!AR:AV,5,FALSE),\"\")","v":""}]
["",null,null,null,null,{"$f":"IFERROR(VLOOKUP(IF(C1492=\"\",B1492&\"||\"&B1492,C1492&\"||\"&B1492),Worktags!AR:AV,5,FALSE),\"\")","v":""}]
["",null,null,null,null,{"$f":"IFERROR(VLOOKUP(IF(C1493=\"\",B1493&\"||\"&B1493,C1493&\"||\"&B1493),Worktags!AR:AV,5,FALSE),\"\")","v":""}]
["",null,null,null,null,{"$f":"IFERROR(VLOOKUP(IF(C1494=\"\",B1494&\"||\"&B1494,C1494&\"||\"&B1494),Worktags!AR:AV,5,FALSE),\"\")","v":""}]
["",null,null,null,null,{"$f":"IFERROR(VLOOKUP(IF(C1495=\"\",B1495&\"||\"&B1495,C1495&\"||\"&B1495),Worktags!AR:AV,5,FALSE),\"\")","v":""}]
["",null,null,null,null,{"$f":"IFERROR(VLOOKUP(IF(C1496=\"\",B1496&\"||\"&B1496,C1496&\"||\"&B1496),Worktags!AR:AV,5,FALSE),\"\")","v":""}]
["",null,null,null,null,{"$f":"IFERROR(VLOOKUP(IF(C1497=\"\",B1497&\"||\"&B1497,C1497&\"||\"&B1497),Worktags!AR:AV,5,FALSE),\"\")","v":""}]
["",null,null,null,null,{"$f":"IFERROR(VLOOKUP(IF(C1498=\"\",B1498&\"||\"&B1498,C1498&\"||\"&B1498),Worktags!AR:AV,5,FALSE),\"\")","v":""}]
["",null,null,null,null,{"$f":"IFERROR(VLOOKUP(IF(C1499=\"\",B1499&\"||\"&B1499,C1499&\"||\"&B1499),Worktags!AR:AV,5,FALSE),\"\")","v":""}]
["",null,null,null,null,{"$f":"IFERROR(VLOOKUP(IF(C1500=\"\",B1500&\"||\"&B1500,C1500&\"||\"&B1500),Worktags!AR:AV,5,FALSE),\"\")","v":""}]
["",null,null,null,null,{"$f":"IFERROR(VLOOKUP(IF(C1501=\"\",B1501&\"||\"&B1501,C1501&\"||\"&B1501),Worktags!AR:AV,5,FALSE),\"\")","v":""}]
["",null,null,null,null,{"$f":"IFERROR(VLOOKUP(IF(C1502=\"\",B1502&\"||\"&B1502,C1502&\"||\"&B1502),Worktags!AR:AV,5,FALSE),\"\")","v":""}]
["",null,null,null,null,{"$f":"IFERROR(VLOOKUP(IF(C1503=\"\",B1503&\"||\"&B1503,C1503&\"||\"&B1503),Worktags!AR:AV,5,FALSE),\"\")","v":""}]
["",null,null,null,null,{"$f":"IFERROR(VLOOKUP(IF(C1504=\"\",B1504&\"||\"&B1504,C1504&\"||\"&B1504),Worktags!AR:AV,5,FALSE),\"\")","v":""}]
["",null,null,null,null,{"$f":"IFERROR(VLOOKUP(IF(C1505=\"\",B1505&\"||\"&B1505,C1505&\"||\"&B1505),Worktags!AR:AV,5,FALSE),\"\")","v":""}]
["",null,null,null,null,{"$f":"IFERROR(VLOOKUP(IF(C1506=\"\",B1506&\"||\"&B1506,C1506&\"||\"&B1506),Worktags!AR:AV,5,FALSE),\"\")","v":""}]
["",null,null,null,null,{"$f":"IFERROR(VLOOKUP(IF(C1507=\"\",B1507&\"||\"&B1507,C1507&\"||\"&B1507),Worktags!AR:AV,5,FALSE),\"\")","v":""}]
["",null,null,null,null,{"$f":"IFERROR(VLOOKUP(IF(C1508=\"\",B1508&\"||\"&B1508,C1508&\"||\"&B1508),Worktags!AR:AV,5,FALSE),\"\")","v":""}]
["",null,null,null,null,{"$f":"IFERROR(VLOOKUP(IF(C1509=\"\",B1509&\"||\"&B1509,C1509&\"||\"&B1509),Worktags!AR:AV,5,FALSE),\"\")","v":""}]
["",null,null,null,null,{"$f":"IFERROR(VLOOKUP(IF(C1510=\"\",B1510&\"||\"&B1510,C1510&\"||\"&B1510),Worktags!AR:AV,5,FALSE),\"\")","v":""}]
["",null,null,null,null,{"$f":"IFERROR(VLOOKUP(IF(C1511=\"\",B1511&\"||\"&B1511,C1511&\"||\"&B1511),Worktags!AR:AV,5,FALSE),\"\")","v":""}]
["",null,null,null,null,{"$f":"IFERROR(VLOOKUP(IF(C1512=\"\",B1512&\"||\"&B1512,C1512&\"||\"&B1512),Worktags!AR:AV,5,FALSE),\"\")","v":""}]
["",null,null,null,null,{"$f":"IFERROR(VLOOKUP(IF(C1513=\"\",B1513&\"||\"&B1513,C1513&\"||\"&B1513),Worktags!AR:AV,5,FALSE),\"\")","v":""}]
["",null,null,null,null,{"$f":"IFERROR(VLOOKUP(IF(C1514=\"\",B1514&\"||\"&B1514,C1514&\"||\"&B1514),Worktags!AR:AV,5,FALSE),\"\")","v":""}]
["",null,null,null,null,{"$f":"IFERROR(VLOOKUP(IF(C1515=\"\",B1515&\"||\"&B1515,C1515&\"||\"&B1515),Worktags!AR:AV,5,FALSE),\"\")","v":""}]
["",null,null,null,null,{"$f":"IFERROR(VLOOKUP(IF(C1516=\"\",B1516&\"||\"&B1516,C1516&\"||\"&B1516),Worktags!AR:AV,5,FALSE),\"\")","v":""}]
["",null,null,null,null,{"$f":"IFERROR(VLOOKUP(IF(C1517=\"\",B1517&\"||\"&B1517,C1517&\"||\"&B1517),Worktags!AR:AV,5,FALSE),\"\")","v":""}]
["",null,null,null,null,{"$f":"IFERROR(VLOOKUP(IF(C1518=\"\",B1518&\"||\"&B1518,C1518&\"||\"&B1518),Worktags!AR:AV,5,FALSE),\"\")","v":""}]
["",null,null,null,null,{"$f":"IFERROR(VLOOKUP(IF(C1519=\"\",B1519&\"||\"&B1519,C1519&\"||\"&B1519),Worktags!AR:AV,5,FALSE),\"\")","v":""}]
["",null,null,null,null,{"$f":"IFERROR(VLOOKUP(IF(C1520=\"\",B1520&\"||\"&B1520,C1520&\"||\"&B1520),Worktags!AR:AV,5,FALSE),\"\")","v":""}]
["",null,null,null,null,{"$f":"IFERROR(VLOOKUP(IF(C1521=\"\",B1521&\"||\"&B1521,C1521&\"||\"&B1521),Worktags!AR:AV,5,FALSE),\"\")","v":""}]
["",null,null,null,null,{"$f":"IFERROR(VLOOKUP(IF(C1522=\"\",B1522&\"||\"&B1522,C1522&\"||\"&B1522),Worktags!AR:AV,5,FALSE),\"\")","v":""}]
["",null,null,null,null,{"$f":"IFERROR(VLOOKUP(IF(C1523=\"\",B1523&\"||\"&B1523,C1523&\"||\"&B1523),Worktags!AR:AV,5,FALSE),\"\")","v":""}]
["",null,null,null,null,{"$f":"IFERROR(VLOOKUP(IF(C1524=\"\",B1524&\"||\"&B1524,C1524&\"||\"&B1524),Worktags!AR:AV,5,FALSE),\"\")","v":""}]
["",null,null,null,null,{"$f":"IFERROR(VLOOKUP(IF(C1525=\"\",B1525&\"||\"&B1525,C1525&\"||\"&B1525),Worktags!AR:AV,5,FALSE),\"\")","v":""}]
["",null,null,null,null,{"$f":"IFERROR(VLOOKUP(IF(C1526=\"\",B1526&\"||\"&B1526,C1526&\"||\"&B1526),Worktags!AR:AV,5,FALSE),\"\")","v":""}]
["",null,null,null,null,{"$f":"IFERROR(VLOOKUP(IF(C1527=\"\",B1527&\"||\"&B1527,C1527&\"||\"&B1527),Worktags!AR:AV,5,FALSE),\"\")","v":""}]
["",null,null,null,null,{"$f":"IFERROR(VLOOKUP(IF(C1528=\"\",B1528&\"||\"&B1528,C1528&\"||\"&B1528),Worktags!AR:AV,5,FALSE),\"\")","v":""}]
["",null,null,null,null,{"$f":"IFERROR(VLOOKUP(IF(C1529=\"\",B1529&\"||\"&B1529,C1529&\"||\"&B1529),Worktags!AR:AV,5,FALSE),\"\")","v":""}]
["",null,null,null,null,{"$f":"IFERROR(VLOOKUP(IF(C1530=\"\",B1530&\"||\"&B1530,C1530&\"||\"&B1530),Worktags!AR:AV,5,FALSE),\"\")","v":""}]
["",null,null,null,null,{"$f":"IFERROR(VLOOKUP(IF(C1531=\"\",B1531&\"||\"&B1531,C1531&\"||\"&B1531),Worktags!AR:AV,5,FALSE),\"\")","v":""}]
["",null,null,null,null,{"$f":"IFERROR(VLOOKUP(IF(C1532=\"\",B1532&\"||\"&B1532,C1532&\"||\"&B1532),Worktags!AR:AV,5,FALSE),\"\")","v":""}]
["",null,null,null,null,{"$f":"IFERROR(VLOOKUP(IF(C1533=\"\",B1533&\"||\"&B1533,C1533&\"||\"&B1533),Worktags!AR:AV,5,FALSE),\"\")","v":""}]
["",null,null,null,null,{"$f":"IFERROR(VLOOKUP(IF(C1534=\"\",B1534&\"||\"&B1534,C1534&\"||\"&B1534),Worktags!AR:AV,5,FALSE),\"\")","v":""}]
["",null,null,null,null,{"$f":"IFERROR(VLOOKUP(IF(C1535=\"\",B1535&\"||\"&B1535,C1535&\"||\"&B1535),Worktags!AR:AV,5,FALSE),\"\")","v":""}]
["",null,null,null,null,{"$f":"IFERROR(VLOOKUP(IF(C1536=\"\",B1536&\"||\"&B1536,C1536&\"||\"&B1536),Worktags!AR:AV,5,FALSE),\"\")","v":""}]
["",null,null,null,null,{"$f":"IFERROR(VLOOKUP(IF(C1537=\"\",B1537&\"||\"&B1537,C1537&\"||\"&B1537),Worktags!AR:AV,5,FALSE),\"\")","v":""}]
[{"$f":"IF(B1538<>\"\",IF(C1538<>\"\",B1538&\"_\"&C1538&\" \"&D1538&\"/\"&E1538,B1538&\" \"&D1538),\"\")","v":""},null,null,null,null,{"$f":"IFERROR(VLOOKUP(IF(C1538=\"\",B1538&\"||\"&B1538,C1538&\"||\"&B1538),Worktags!AR:AV,5,FALSE),\"\")","v":""}]
["",null,null,null,null,{"$f":"IFERROR(VLOOKUP(IF(C1539=\"\",B1539&\"||\"&B1539,C1539&\"||\"&B1539),Worktags!AR:AV,5,FALSE),\"\")","v":""}]
["",null,null,null,null,{"$f":"IFERROR(VLOOKUP(IF(C1540=\"\",B1540&\"||\"&B1540,C1540&\"||\"&B1540),Worktags!AR:AV,5,FALSE),\"\")","v":""}]
["",null,null,null,null,{"$f":"IFERROR(VLOOKUP(IF(C1541=\"\",B1541&\"||\"&B1541,C1541&\"||\"&B1541),Worktags!AR:AV,5,FALSE),\"\")","v":""}]
["",null,null,null,null,{"$f":"IFERROR(VLOOKUP(IF(C1542=\"\",B1542&\"||\"&B1542,C1542&\"||\"&B1542),Worktags!AR:AV,5,FALSE),\"\")","v":""}]
["",null,null,null,null,{"$f":"IFERROR(VLOOKUP(IF(C1543=\"\",B1543&\"||\"&B1543,C1543&\"||\"&B1543),Worktags!AR:AV,5,FALSE),\"\")","v":""}]
["",null,null,null,null,{"$f":"IFERROR(VLOOKUP(IF(C1544=\"\",B1544&\"||\"&B1544,C1544&\"||\"&B1544),Worktags!AR:AV,5,FALSE),\"\")","v":""}]
["",null,null,null,null,{"$f":"IFERROR(VLOOKUP(IF(C1545=\"\",B1545&\"||\"&B1545,C1545&\"||\"&B1545),Worktags!AR:AV,5,FALSE),\"\")","v":""}]
["",null,null,null,null,{"$f":"IFERROR(VLOOKUP(IF(C1546=\"\",B1546&\"||\"&B1546,C1546&\"||\"&B1546),Worktags!AR:AV,5,FALSE),\"\")","v":""}]
["",null,null,null,null,{"$f":"IFERROR(VLOOKUP(IF(C1547=\"\",B1547&\"||\"&B1547,C1547&\"||\"&B1547),Worktags!AR:AV,5,FALSE),\"\")","v":""}]
["",null,null,null,null,{"$f":"IFERROR(VLOOKUP(IF(C1548=\"\",B1548&\"||\"&B1548,C1548&\"||\"&B1548),Worktags!AR:AV,5,FALSE),\"\")","v":""}]
["",null,null,null,null,{"$f":"IFERROR(VLOOKUP(IF(C1549=\"\",B1549&\"||\"&B1549,C1549&\"||\"&B1549),Worktags!AR:AV,5,FALSE),\"\")","v":""}]
["",null,null,null,null,{"$f":"IFERROR(VLOOKUP(IF(C1550=\"\",B1550&\"||\"&B1550,C1550&\"||\"&B1550),Worktags!AR:AV,5,FALSE),\"\")","v":""}]
["",null,null,null,null,{"$f":"IFERROR(VLOOKUP(IF(C1551=\"\",B1551&\"||\"&B1551,C1551&\"||\"&B1551),Worktags!AR:AV,5,FALSE),\"\")","v":""}]
["",null,null,null,null,{"$f":"IFERROR(VLOOKUP(IF(C1552=\"\",B1552&\"||\"&B1552,C1552&\"||\"&B1552),Worktags!AR:AV,5,FALSE),\"\")","v":""}]
["",null,null,null,null,{"$f":"IFERROR(VLOOKUP(IF(C1553=\"\",B1553&\"||\"&B1553,C1553&\"||\"&B1553),Worktags!AR:AV,5,FALSE),\"\")","v":""}]
["",null,null,null,null,{"$f":"IFERROR(VLOOKUP(IF(C1554=\"\",B1554&\"||\"&B1554,C1554&\"||\"&B1554),Worktags!AR:AV,5,FALSE),\"\")","v":""}]
["",null,null,null,null,{"$f":"IFERROR(VLOOKUP(IF(C1555=\"\",B1555&\"||\"&B1555,C1555&\"||\"&B1555),Worktags!AR:AV,5,FALSE),\"\")","v":""}]
["",null,null,null,null,{"$f":"IFERROR(VLOOKUP(IF(C1556=\"\",B1556&\"||\"&B1556,C1556&\"||\"&B1556),Worktags!AR:AV,5,FALSE),\"\")","v":""}]
["",null,null,null,null,{"$f":"IFERROR(VLOOKUP(IF(C1557=\"\",B1557&\"||\"&B1557,C1557&\"||\"&B1557),Worktags!AR:AV,5,FALSE),\"\")","v":""}]
["",null,null,null,null,{"$f":"IFERROR(VLOOKUP(IF(C1558=\"\",B1558&\"||\"&B1558,C1558&\"||\"&B1558),Worktags!AR:AV,5,FALSE),\"\")","v":""}]
["",null,null,null,null,{"$f":"IFERROR(VLOOKUP(IF(C1559=\"\",B1559&\"||\"&B1559,C1559&\"||\"&B1559),Worktags!AR:AV,5,FALSE),\"\")","v":""}]
["",null,null,null,null,{"$f":"IFERROR(VLOOKUP(IF(C1560=\"\",B1560&\"||\"&B1560,C1560&\"||\"&B1560),Worktags!AR:AV,5,FALSE),\"\")","v":""}]
["",null,null,null,null,{"$f":"IFERROR(VLOOKUP(IF(C1561=\"\",B1561&\"||\"&B1561,C1561&\"||\"&B1561),Worktags!AR:AV,5,FALSE),\"\")","v":""}]
["",null,null,null,null,{"$f":"IFERROR(VLOOKUP(IF(C1562=\"\",B1562&\"||\"&B1562,C1562&\"||\"&B1562),Worktags!AR:AV,5,FALSE),\"\")","v":""}]
["",null,null,null,null,{"$f":"IFERROR(VLOOKUP(IF(C1563=\"\",B1563&\"||\"&B1563,C1563&\"||\"&B1563),Worktags!AR:AV,5,FALSE),\"\")","v":""}]
["",null,null,null,null,{"$f":"IFERROR(VLOOKUP(IF(C1564=\"\",B1564&\"||\"&B1564,C1564&\"||\"&B1564),Worktags!AR:AV,5,FALSE),\"\")","v":""}]
["",null,null,null,null,{"$f":"IFERROR(VLOOKUP(IF(C1565=\"\",B1565&\"||\"&B1565,C1565&\"||\"&B1565),Worktags!AR:AV,5,FALSE),\"\")","v":""}]
["",null,null,null,null,{"$f":"IFERROR(VLOOKUP(IF(C1566=\"\",B1566&\"||\"&B1566,C1566&\"||\"&B1566),Worktags!AR:AV,5,FALSE),\"\")","v":""}]
["",null,null,null,null,{"$f":"IFERROR(VLOOKUP(IF(C1567=\"\",B1567&\"||\"&B1567,C1567&\"||\"&B1567),Worktags!AR:AV,5,FALSE),\"\")","v":""}]
["",null,null,null,null,{"$f":"IFERROR(VLOOKUP(IF(C1568=\"\",B1568&\"||\"&B1568,C1568&\"||\"&B1568),Worktags!AR:AV,5,FALSE),\"\")","v":""}]
["",null,null,null,null,{"$f":"IFERROR(VLOOKUP(IF(C1569=\"\",B1569&\"||\"&B1569,C1569&\"||\"&B1569),Worktags!AR:AV,5,FALSE),\"\")","v":""}]
["",null,null,null,null,{"$f":"IFERROR(VLOOKUP(IF(C1570=\"\",B1570&\"||\"&B1570,C1570&\"||\"&B1570),Worktags!AR:AV,5,FALSE),\"\")","v":""}]
["",null,null,null,null,{"$f":"IFERROR(VLOOKUP(IF(C1571=\"\",B1571&\"||\"&B1571,C1571&\"||\"&B1571),Worktags!AR:AV,5,FALSE),\"\")","v":""}]
["",null,null,null,null,{"$f":"IFERROR(VLOOKUP(IF(C1572=\"\",B1572&\"||\"&B1572,C1572&\"||\"&B1572),Worktags!AR:AV,5,FALSE),\"\")","v":""}]
["",null,null,null,null,{"$f":"IFERROR(VLOOKUP(IF(C1573=\"\",B1573&\"||\"&B1573,C1573&\"||\"&B1573),Worktags!AR:AV,5,FALSE),\"\")","v":""}]
["",null,null,null,null,{"$f":"IFERROR(VLOOKUP(IF(C1574=\"\",B1574&\"||\"&B1574,C1574&\"||\"&B1574),Worktags!AR:AV,5,FALSE),\"\")","v":""}]
["",null,null,null,null,{"$f":"IFERROR(VLOOKUP(IF(C1575=\"\",B1575&\"||\"&B1575,C1575&\"||\"&B1575),Worktags!AR:AV,5,FALSE),\"\")","v":""}]
["",null,null,null,null,{"$f":"IFERROR(VLOOKUP(IF(C1576=\"\",B1576&\"||\"&B1576,C1576&\"||\"&B1576),Worktags!AR:AV,5,FALSE),\"\")","v":""}]
["",null,null,null,null,{"$f":"IFERROR(VLOOKUP(IF(C1577=\"\",B1577&\"||\"&B1577,C1577&\"||\"&B1577),Worktags!AR:AV,5,FALSE),\"\")","v":""}]
["",null,null,null,null,{"$f":"IFERROR(VLOOKUP(IF(C1578=\"\",B1578&\"||\"&B1578,C1578&\"||\"&B1578),Worktags!AR:AV,5,FALSE),\"\")","v":""}]
["",null,null,null,null,{"$f":"IFERROR(VLOOKUP(IF(C1579=\"\",B1579&\"||\"&B1579,C1579&\"||\"&B1579),Worktags!AR:AV,5,FALSE),\"\")","v":""}]
["",null,null,null,null,{"$f":"IFERROR(VLOOKUP(IF(C1580=\"\",B1580&\"||\"&B1580,C1580&\"||\"&B1580),Worktags!AR:AV,5,FALSE),\"\")","v":""}]
["",null,null,null,null,{"$f":"IFERROR(VLOOKUP(IF(C1581=\"\",B1581&\"||\"&B1581,C1581&\"||\"&B1581),Worktags!AR:AV,5,FALSE),\"\")","v":""}]
["",null,null,null,null,{"$f":"IFERROR(VLOOKUP(IF(C1582=\"\",B1582&\"||\"&B1582,C1582&\"||\"&B1582),Worktags!AR:AV,5,FALSE),\"\")","v":""}]
["",null,null,null,null,{"$f":"IFERROR(VLOOKUP(IF(C1583=\"\",B1583&\"||\"&B1583,C1583&\"||\"&B1583),Worktags!AR:AV,5,FALSE),\"\")","v":""}]
["",null,null,null,null,{"$f":"IFERROR(VLOOKUP(IF(C1584=\"\",B1584&\"||\"&B1584,C1584&\"||\"&B1584),Worktags!AR:AV,5,FALSE),\"\")","v":""}]
["",null,null,null,null,{"$f":"IFERROR(VLOOKUP(IF(C1585=\"\",B1585&\"||\"&B1585,C1585&\"||\"&B1585),Worktags!AR:AV,5,FALSE),\"\")","v":""}]
["",null,null,null,null,{"$f":"IFERROR(VLOOKUP(IF(C1586=\"\",B1586&\"||\"&B1586,C1586&\"||\"&B1586),Worktags!AR:AV,5,FALSE),\"\")","v":""}]
["",null,null,null,null,{"$f":"IFERROR(VLOOKUP(IF(C1587=\"\",B1587&\"||\"&B1587,C1587&\"||\"&B1587),Worktags!AR:AV,5,FALSE),\"\")","v":""}]
["",null,null,null,null,{"$f":"IFERROR(VLOOKUP(IF(C1588=\"\",B1588&\"||\"&B1588,C1588&\"||\"&B1588),Worktags!AR:AV,5,FALSE),\"\")","v":""}]
["",null,null,null,null,{"$f":"IFERROR(VLOOKUP(IF(C1589=\"\",B1589&\"||\"&B1589,C1589&\"||\"&B1589),Worktags!AR:AV,5,FALSE),\"\")","v":""}]
["",null,null,null,null,{"$f":"IFERROR(VLOOKUP(IF(C1590=\"\",B1590&\"||\"&B1590,C1590&\"||\"&B1590),Worktags!AR:AV,5,FALSE),\"\")","v":""}]
["",null,null,null,null,{"$f":"IFERROR(VLOOKUP(IF(C1591=\"\",B1591&\"||\"&B1591,C1591&\"||\"&B1591),Worktags!AR:AV,5,FALSE),\"\")","v":""}]
["",null,null,null,null,{"$f":"IFERROR(VLOOKUP(IF(C1592=\"\",B1592&\"||\"&B1592,C1592&\"||\"&B1592),Worktags!AR:AV,5,FALSE),\"\")","v":""}]
["",null,null,null,null,{"$f":"IFERROR(VLOOKUP(IF(C1593=\"\",B1593&\"||\"&B1593,C1593&\"||\"&B1593),Worktags!AR:AV,5,FALSE),\"\")","v":""}]
["",null,null,null,null,{"$f":"IFERROR(VLOOKUP(IF(C1594=\"\",B1594&\"||\"&B1594,C1594&\"||\"&B1594),Worktags!AR:AV,5,FALSE),\"\")","v":""}]
["",null,null,null,null,{"$f":"IFERROR(VLOOKUP(IF(C1595=\"\",B1595&\"||\"&B1595,C1595&\"||\"&B1595),Worktags!AR:AV,5,FALSE),\"\")","v":""}]
["",null,null,null,null,{"$f":"IFERROR(VLOOKUP(IF(C1596=\"\",B1596&\"||\"&B1596,C1596&\"||\"&B1596),Worktags!AR:AV,5,FALSE),\"\")","v":""}]
["",null,null,null,null,{"$f":"IFERROR(VLOOKUP(IF(C1597=\"\",B1597&\"||\"&B1597,C1597&\"||\"&B1597),Worktags!AR:AV,5,FALSE),\"\")","v":""}]
["",null,null,null,null,{"$f":"IFERROR(VLOOKUP(IF(C1598=\"\",B1598&\"||\"&B1598,C1598&\"||\"&B1598),Worktags!AR:AV,5,FALSE),\"\")","v":""}]
["",null,null,null,null,{"$f":"IFERROR(VLOOKUP(IF(C1599=\"\",B1599&\"||\"&B1599,C1599&\"||\"&B1599),Worktags!AR:AV,5,FALSE),\"\")","v":""}]
["",null,null,null,null,{"$f":"IFERROR(VLOOKUP(IF(C1600=\"\",B1600&\"||\"&B1600,C1600&\"||\"&B1600),Worktags!AR:AV,5,FALSE),\"\")","v":""}]
["",null,null,null,null,{"$f":"IFERROR(VLOOKUP(IF(C1601=\"\",B1601&\"||\"&B1601,C1601&\"||\"&B1601),Worktags!AR:AV,5,FALSE),\"\")","v":""}]
[{"$f":"IF(B1602<>\"\",IF(C1602<>\"\",B1602&\"_\"&C1602&\" \"&D1602&\"/\"&E1602,B1602&\" \"&D1602),\"\")","v":""},null,null,null,null,{"$f":"IFERROR(VLOOKUP(IF(C1602=\"\",B1602&\"||\"&B1602,C1602&\"||\"&B1602),Worktags!AR:AV,5,FALSE),\"\")","v":""}]
["",null,null,null,null,{"$f":"IFERROR(VLOOKUP(IF(C1603=\"\",B1603&\"||\"&B1603,C1603&\"||\"&B1603),Worktags!AR:AV,5,FALSE),\"\")","v":""}]
["",null,null,null,null,{"$f":"IFERROR(VLOOKUP(IF(C1604=\"\",B1604&\"||\"&B1604,C1604&\"||\"&B1604),Worktags!AR:AV,5,FALSE),\"\")","v":""}]
["",null,null,null,null,{"$f":"IFERROR(VLOOKUP(IF(C1605=\"\",B1605&\"||\"&B1605,C1605&\"||\"&B1605),Worktags!AR:AV,5,FALSE),\"\")","v":""}]
["",null,null,null,null,{"$f":"IFERROR(VLOOKUP(IF(C1606=\"\",B1606&\"||\"&B1606,C1606&\"||\"&B1606),Worktags!AR:AV,5,FALSE),\"\")","v":""}]
["",null,null,null,null,{"$f":"IFERROR(VLOOKUP(IF(C1607=\"\",B1607&\"||\"&B1607,C1607&\"||\"&B1607),Worktags!AR:AV,5,FALSE),\"\")","v":""}]
["",null,null,null,null,{"$f":"IFERROR(VLOOKUP(IF(C1608=\"\",B1608&\"||\"&B1608,C1608&\"||\"&B1608),Worktags!AR:AV,5,FALSE),\"\")","v":""}]
["",null,null,null,null,{"$f":"IFERROR(VLOOKUP(IF(C1609=\"\",B1609&\"||\"&B1609,C1609&\"||\"&B1609),Worktags!AR:AV,5,FALSE),\"\")","v":""}]
["",null,null,null,null,{"$f":"IFERROR(VLOOKUP(IF(C1610=\"\",B1610&\"||\"&B1610,C1610&\"||\"&B1610),Worktags!AR:AV,5,FALSE),\"\")","v":""}]
["",null,null,null,null,{"$f":"IFERROR(VLOOKUP(IF(C1611=\"\",B1611&\"||\"&B1611,C1611&\"||\"&B1611),Worktags!AR:AV,5,FALSE),\"\")","v":""}]
["",null,null,null,null,{"$f":"IFERROR(VLOOKUP(IF(C1612=\"\",B1612&\"||\"&B1612,C1612&\"||\"&B1612),Worktags!AR:AV,5,FALSE),\"\")","v":""}]
["",null,null,null,null,{"$f":"IFERROR(VLOOKUP(IF(C1613=\"\",B1613&\"||\"&B1613,C1613&\"||\"&B1613),Worktags!AR:AV,5,FALSE),\"\")","v":""}]
["",null,null,null,null,{"$f":"IFERROR(VLOOKUP(IF(C1614=\"\",B1614&\"||\"&B1614,C1614&\"||\"&B1614),Worktags!AR:AV,5,FALSE),\"\")","v":""}]
["",null,null,null,null,{"$f":"IFERROR(VLOOKUP(IF(C1615=\"\",B1615&\"||\"&B1615,C1615&\"||\"&B1615),Worktags!AR:AV,5,FALSE),\"\")","v":""}]
["",null,null,null,null,{"$f":"IFERROR(VLOOKUP(IF(C1616=\"\",B1616&\"||\"&B1616,C1616&\"||\"&B1616),Worktags!AR:AV,5,FALSE),\"\")","v":""}]
["",null,null,null,null,{"$f":"IFERROR(VLOOKUP(IF(C1617=\"\",B1617&\"||\"&B1617,C1617&\"||\"&B1617),Worktags!AR:AV,5,FALSE),\"\")","v":""}]
["",null,null,null,null,{"$f":"IFERROR(VLOOKUP(IF(C1618=\"\",B1618&\"||\"&B1618,C1618&\"||\"&B1618),Worktags!AR:AV,5,FALSE),\"\")","v":""}]
["",null,null,null,null,{"$f":"IFERROR(VLOOKUP(IF(C1619=\"\",B1619&\"||\"&B1619,C1619&\"||\"&B1619),Worktags!AR:AV,5,FALSE),\"\")","v":""}]
["",null,null,null,null,{"$f":"IFERROR(VLOOKUP(IF(C1620=\"\",B1620&\"||\"&B1620,C1620&\"||\"&B1620),Worktags!AR:AV,5,FALSE),\"\")","v":""}]
["",null,null,null,null,{"$f":"IFERROR(VLOOKUP(IF(C1621=\"\",B1621&\"||\"&B1621,C1621&\"||\"&B1621),Worktags!AR:AV,5,FALSE),\"\")","v":""}]
["",null,null,null,null,{"$f":"IFERROR(VLOOKUP(IF(C1622=\"\",B1622&\"||\"&B1622,C1622&\"||\"&B1622),Worktags!AR:AV,5,FALSE),\"\")","v":""}]
["",null,null,null,null,{"$f":"IFERROR(VLOOKUP(IF(C1623=\"\",B1623&\"||\"&B1623,C1623&\"||\"&B1623),Worktags!AR:AV,5,FALSE),\"\")","v":""}]
["",null,null,null,null,{"$f":"IFERROR(VLOOKUP(IF(C1624=\"\",B1624&\"||\"&B1624,C1624&\"||\"&B1624),Worktags!AR:AV,5,FALSE),\"\")","v":""}]
["",null,null,null,null,{"$f":"IFERROR(VLOOKUP(IF(C1625=\"\",B1625&\"||\"&B1625,C1625&\"||\"&B1625),Worktags!AR:AV,5,FALSE),\"\")","v":""}]
["",null,null,null,null,{"$f":"IFERROR(VLOOKUP(IF(C1626=\"\",B1626&\"||\"&B1626,C1626&\"||\"&B1626),Worktags!AR:AV,5,FALSE),\"\")","v":""}]
["",null,null,null,null,{"$f":"IFERROR(VLOOKUP(IF(C1627=\"\",B1627&\"||\"&B1627,C1627&\"||\"&B1627),Worktags!AR:AV,5,FALSE),\"\")","v":""}]
["",null,null,null,null,{"$f":"IFERROR(VLOOKUP(IF(C1628=\"\",B1628&\"||\"&B1628,C1628&\"||\"&B1628),Worktags!AR:AV,5,FALSE),\"\")","v":""}]
["",null,null,null,null,{"$f":"IFERROR(VLOOKUP(IF(C1629=\"\",B1629&\"||\"&B1629,C1629&\"||\"&B1629),Worktags!AR:AV,5,FALSE),\"\")","v":""}]
["",null,null,null,null,{"$f":"IFERROR(VLOOKUP(IF(C1630=\"\",B1630&\"||\"&B1630,C1630&\"||\"&B1630),Worktags!AR:AV,5,FALSE),\"\")","v":""}]
["",null,null,null,null,{"$f":"IFERROR(VLOOKUP(IF(C1631=\"\",B1631&\"||\"&B1631,C1631&\"||\"&B1631),Worktags!AR:AV,5,FALSE),\"\")","v":""}]
["",null,null,null,null,{"$f":"IFERROR(VLOOKUP(IF(C1632=\"\",B1632&\"||\"&B1632,C1632&\"||\"&B1632),Worktags!AR:AV,5,FALSE),\"\")","v":""}]
["",null,null,null,null,{"$f":"IFERROR(VLOOKUP(IF(C1633=\"\",B1633&\"||\"&B1633,C1633&\"||\"&B1633),Worktags!AR:AV,5,FALSE),\"\")","v":""}]
["",null,null,null,null,{"$f":"IFERROR(VLOOKUP(IF(C1634=\"\",B1634&\"||\"&B1634,C1634&\"||\"&B1634),Worktags!AR:AV,5,FALSE),\"\")","v":""}]
["",null,null,null,null,{"$f":"IFERROR(VLOOKUP(IF(C1635=\"\",B1635&\"||\"&B1635,C1635&\"||\"&B1635),Worktags!AR:AV,5,FALSE),\"\")","v":""}]
["",null,null,null,null,{"$f":"IFERROR(VLOOKUP(IF(C1636=\"\",B1636&\"||\"&B1636,C1636&\"||\"&B1636),Worktags!AR:AV,5,FALSE),\"\")","v":""}]
["",null,null,null,null,{"$f":"IFERROR(VLOOKUP(IF(C1637=\"\",B1637&\"||\"&B1637,C1637&\"||\"&B1637),Worktags!AR:AV,5,FALSE),\"\")","v":""}]
["",null,null,null,null,{"$f":"IFERROR(VLOOKUP(IF(C1638=\"\",B1638&\"||\"&B1638,C1638&\"||\"&B1638),Worktags!AR:AV,5,FALSE),\"\")","v":""}]
["",null,null,null,null,{"$f":"IFERROR(VLOOKUP(IF(C1639=\"\",B1639&\"||\"&B1639,C1639&\"||\"&B1639),Worktags!AR:AV,5,FALSE),\"\")","v":""}]
["",null,null,null,null,{"$f":"IFERROR(VLOOKUP(IF(C1640=\"\",B1640&\"||\"&B1640,C1640&\"||\"&B1640),Worktags!AR:AV,5,FALSE),\"\")","v":""}]
["",null,null,null,null,{"$f":"IFERROR(VLOOKUP(IF(C1641=\"\",B1641&\"||\"&B1641,C1641&\"||\"&B1641),Worktags!AR:AV,5,FALSE),\"\")","v":""}]
["",null,null,null,null,{"$f":"IFERROR(VLOOKUP(IF(C1642=\"\",B1642&\"||\"&B1642,C1642&\"||\"&B1642),Worktags!AR:AV,5,FALSE),\"\")","v":""}]
["",null,null,null,null,{"$f":"IFERROR(VLOOKUP(IF(C1643=\"\",B1643&\"||\"&B1643,C1643&\"||\"&B1643),Worktags!AR:AV,5,FALSE),\"\")","v":""}]
["",null,null,null,null,{"$f":"IFERROR(VLOOKUP(IF(C1644=\"\",B1644&\"||\"&B1644,C1644&\"||\"&B1644),Worktags!AR:AV,5,FALSE),\"\")","v":""}]
["",null,null,null,null,{"$f":"IFERROR(VLOOKUP(IF(C1645=\"\",B1645&\"||\"&B1645,C1645&\"||\"&B1645),Worktags!AR:AV,5,FALSE),\"\")","v":""}]
["",null,null,null,null,{"$f":"IFERROR(VLOOKUP(IF(C1646=\"\",B1646&\"||\"&B1646,C1646&\"||\"&B1646),Worktags!AR:AV,5,FALSE),\"\")","v":""}]
["",null,null,null,null,{"$f":"IFERROR(VLOOKUP(IF(C1647=\"\",B1647&\"||\"&B1647,C1647&\"||\"&B1647),Worktags!AR:AV,5,FALSE),\"\")","v":""}]
["",null,null,null,null,{"$f":"IFERROR(VLOOKUP(IF(C1648=\"\",B1648&\"||\"&B1648,C1648&\"||\"&B1648),Worktags!AR:AV,5,FALSE),\"\")","v":""}]
["",null,null,null,null,{"$f":"IFERROR(VLOOKUP(IF(C1649=\"\",B1649&\"||\"&B1649,C1649&\"||\"&B1649),Worktags!AR:AV,5,FALSE),\"\")","v":""}]
["",null,null,null,null,{"$f":"IFERROR(VLOOKUP(IF(C1650=\"\",B1650&\"||\"&B1650,C1650&\"||\"&B1650),Worktags!AR:AV,5,FALSE),\"\")","v":""}]
["",null,null,null,null,{"$f":"IFERROR(VLOOKUP(IF(C1651=\"\",B1651&\"||\"&B1651,C1651&\"||\"&B1651),Worktags!AR:AV,5,FALSE),\"\")","v":""}]
["",null,null,null,null,{"$f":"IFERROR(VLOOKUP(IF(C1652=\"\",B1652&\"||\"&B1652,C1652&\"||\"&B1652),Worktags!AR:AV,5,FALSE),\"\")","v":""}]
["",null,null,null,null,{"$f":"IFERROR(VLOOKUP(IF(C1653=\"\",B1653&\"||\"&B1653,C1653&\"||\"&B1653),Worktags!AR:AV,5,FALSE),\"\")","v":""}]
["",null,null,null,null,{"$f":"IFERROR(VLOOKUP(IF(C1654=\"\",B1654&\"||\"&B1654,C1654&\"||\"&B1654),Worktags!AR:AV,5,FALSE),\"\")","v":""}]
["",null,null,null,null,{"$f":"IFERROR(VLOOKUP(IF(C1655=\"\",B1655&\"||\"&B1655,C1655&\"||\"&B1655),Worktags!AR:AV,5,FALSE),\"\")","v":""}]
["",null,null,null,null,{"$f":"IFERROR(VLOOKUP(IF(C1656=\"\",B1656&\"||\"&B1656,C1656&\"||\"&B1656),Worktags!AR:AV,5,FALSE),\"\")","v":""}]
["",null,null,null,null,{"$f":"IFERROR(VLOOKUP(IF(C1657=\"\",B1657&\"||\"&B1657,C1657&\"||\"&B1657),Worktags!AR:AV,5,FALSE),\"\")","v":""}]
["",null,null,null,null,{"$f":"IFERROR(VLOOKUP(IF(C1658=\"\",B1658&\"||\"&B1658,C1658&\"||\"&B1658),Worktags!AR:AV,5,FALSE),\"\")","v":""}]
["",null,null,null,null,{"$f":"IFERROR(VLOOKUP(IF(C1659=\"\",B1659&\"||\"&B1659,C1659&\"||\"&B1659),Worktags!AR:AV,5,FALSE),\"\")","v":""}]
["",null,null,null,null,{"$f":"IFERROR(VLOOKUP(IF(C1660=\"\",B1660&\"||\"&B1660,C1660&\"||\"&B1660),Worktags!AR:AV,5,FALSE),\"\")","v":""}]
["",null,null,null,null,{"$f":"IFERROR(VLOOKUP(IF(C1661=\"\",B1661&\"||\"&B1661,C1661&\"||\"&B1661),Worktags!AR:AV,5,FALSE),\"\")","v":""}]
["",null,null,null,null,{"$f":"IFERROR(VLOOKUP(IF(C1662=\"\",B1662&\"||\"&B1662,C1662&\"||\"&B1662),Worktags!AR:AV,5,FALSE),\"\")","v":""}]
["",null,null,null,null,{"$f":"IFERROR(VLOOKUP(IF(C1663=\"\",B1663&\"||\"&B1663,C1663&\"||\"&B1663),Worktags!AR:AV,5,FALSE),\"\")","v":""}]
["",null,null,null,null,{"$f":"IFERROR(VLOOKUP(IF(C1664=\"\",B1664&\"||\"&B1664,C1664&\"||\"&B1664),Worktags!AR:AV,5,FALSE),\"\")","v":""}]
["",null,null,null,null,{"$f":"IFERROR(VLOOKUP(IF(C1665=\"\",B1665&\"||\"&B1665,C1665&\"||\"&B1665),Worktags!AR:AV,5,FALSE),\"\")","v":""}]
[{"$f":"IF(B1666<>\"\",IF(C1666<>\"\",B1666&\"_\"&C1666&\" \"&D1666&\"/\"&E1666,B1666&\" \"&D1666),\"\")","v":""},null,null,null,null,{"$f":"IFERROR(VLOOKUP(IF(C1666=\"\",B1666&\"||\"&B1666,C1666&\"||\"&B1666),Worktags!AR:AV,5,FALSE),\"\")","v":""}]
["",null,null,null,null,{"$f":"IFERROR(VLOOKUP(IF(C1667=\"\",B1667&\"||\"&B1667,C1667&\"||\"&B1667),Worktags!AR:AV,5,FALSE),\"\")","v":""}]
["",null,null,null,null,{"$f":"IFERROR(VLOOKUP(IF(C1668=\"\",B1668&\"||\"&B1668,C1668&\"||\"&B1668),Worktags!AR:AV,5,FALSE),\"\")","v":""}]
["",null,null,null,null,{"$f":"IFERROR(VLOOKUP(IF(C1669=\"\",B1669&\"||\"&B1669,C1669&\"||\"&B1669),Worktags!AR:AV,5,FALSE),\"\")","v":""}]
["",null,null,null,null,{"$f":"IFERROR(VLOOKUP(IF(C1670=\"\",B1670&\"||\"&B1670,C1670&\"||\"&B1670),Worktags!AR:AV,5,FALSE),\"\")","v":""}]
["",null,null,null,null,{"$f":"IFERROR(VLOOKUP(IF(C1671=\"\",B1671&\"||\"&B1671,C1671&\"||\"&B1671),Worktags!AR:AV,5,FALSE),\"\")","v":""}]
["",null,null,null,null,{"$f":"IFERROR(VLOOKUP(IF(C1672=\"\",B1672&\"||\"&B1672,C1672&\"||\"&B1672),Worktags!AR:AV,5,FALSE),\"\")","v":""}]
["",null,null,null,null,{"$f":"IFERROR(VLOOKUP(IF(C1673=\"\",B1673&\"||\"&B1673,C1673&\"||\"&B1673),Worktags!AR:AV,5,FALSE),\"\")","v":""}]
["",null,null,null,null,{"$f":"IFERROR(VLOOKUP(IF(C1674=\"\",B1674&\"||\"&B1674,C1674&\"||\"&B1674),Worktags!AR:AV,5,FALSE),\"\")","v":""}]
["",null,null,null,null,{"$f":"IFERROR(VLOOKUP(IF(C1675=\"\",B1675&\"||\"&B1675,C1675&\"||\"&B1675),Worktags!AR:AV,5,FALSE),\"\")","v":""}]
["",null,null,null,null,{"$f":"IFERROR(VLOOKUP(IF(C1676=\"\",B1676&\"||\"&B1676,C1676&\"||\"&B1676),Worktags!AR:AV,5,FALSE),\"\")","v":""}]
["",null,null,null,null,{"$f":"IFERROR(VLOOKUP(IF(C1677=\"\",B1677&\"||\"&B1677,C1677&\"||\"&B1677),Worktags!AR:AV,5,FALSE),\"\")","v":""}]
["",null,null,null,null,{"$f":"IFERROR(VLOOKUP(IF(C1678=\"\",B1678&\"||\"&B1678,C1678&\"||\"&B1678),Worktags!AR:AV,5,FALSE),\"\")","v":""}]
["",null,null,null,null,{"$f":"IFERROR(VLOOKUP(IF(C1679=\"\",B1679&\"||\"&B1679,C1679&\"||\"&B1679),Worktags!AR:AV,5,FALSE),\"\")","v":""}]
["",null,null,null,null,{"$f":"IFERROR(VLOOKUP(IF(C1680=\"\",B1680&\"||\"&B1680,C1680&\"||\"&B1680),Worktags!AR:AV,5,FALSE),\"\")","v":""}]
["",null,null,null,null,{"$f":"IFERROR(VLOOKUP(IF(C1681=\"\",B1681&\"||\"&B1681,C1681&\"||\"&B1681),Worktags!AR:AV,5,FALSE),\"\")","v":""}]
["",null,null,null,null,{"$f":"IFERROR(VLOOKUP(IF(C1682=\"\",B1682&\"||\"&B1682,C1682&\"||\"&B1682),Worktags!AR:AV,5,FALSE),\"\")","v":""}]
["",null,null,null,null,{"$f":"IFERROR(VLOOKUP(IF(C1683=\"\",B1683&\"||\"&B1683,C1683&\"||\"&B1683),Worktags!AR:AV,5,FALSE),\"\")","v":""}]
["",null,null,null,null,{"$f":"IFERROR(VLOOKUP(IF(C1684=\"\",B1684&\"||\"&B1684,C1684&\"||\"&B1684),Worktags!AR:AV,5,FALSE),\"\")","v":""}]
["",null,null,null,null,{"$f":"IFERROR(VLOOKUP(IF(C1685=\"\",B1685&\"||\"&B1685,C1685&\"||\"&B1685),Worktags!AR:AV,5,FALSE),\"\")","v":""}]
["",null,null,null,null,{"$f":"IFERROR(VLOOKUP(IF(C1686=\"\",B1686&\"||\"&B1686,C1686&\"||\"&B1686),Worktags!AR:AV,5,FALSE),\"\")","v":""}]
["",null,null,null,null,{"$f":"IFERROR(VLOOKUP(IF(C1687=\"\",B1687&\"||\"&B1687,C1687&\"||\"&B1687),Worktags!AR:AV,5,FALSE),\"\")","v":""}]
["",null,null,null,null,{"$f":"IFERROR(VLOOKUP(IF(C1688=\"\",B1688&\"||\"&B1688,C1688&\"||\"&B1688),Worktags!AR:AV,5,FALSE),\"\")","v":""}]
["",null,null,null,null,{"$f":"IFERROR(VLOOKUP(IF(C1689=\"\",B1689&\"||\"&B1689,C1689&\"||\"&B1689),Worktags!AR:AV,5,FALSE),\"\")","v":""}]
["",null,null,null,null,{"$f":"IFERROR(VLOOKUP(IF(C1690=\"\",B1690&\"||\"&B1690,C1690&\"||\"&B1690),Worktags!AR:AV,5,FALSE),\"\")","v":""}]
["",null,null,null,null,{"$f":"IFERROR(VLOOKUP(IF(C1691=\"\",B1691&\"||\"&B1691,C1691&\"||\"&B1691),Worktags!AR:AV,5,FALSE),\"\")","v":""}]
["",null,null,null,null,{"$f":"IFERROR(VLOOKUP(IF(C1692=\"\",B1692&\"||\"&B1692,C1692&\"||\"&B1692),Worktags!AR:AV,5,FALSE),\"\")","v":""}]
["",null,null,null,null,{"$f":"IFERROR(VLOOKUP(IF(C1693=\"\",B1693&\"||\"&B1693,C1693&\"||\"&B1693),Worktags!AR:AV,5,FALSE),\"\")","v":""}]
["",null,null,null,null,{"$f":"IFERROR(VLOOKUP(IF(C1694=\"\",B1694&\"||\"&B1694,C1694&\"||\"&B1694),Worktags!AR:AV,5,FALSE),\"\")","v":""}]
["",null,null,null,null,{"$f":"IFERROR(VLOOKUP(IF(C1695=\"\",B1695&\"||\"&B1695,C1695&\"||\"&B1695),Worktags!AR:AV,5,FALSE),\"\")","v":""}]
["",null,null,null,null,{"$f":"IFERROR(VLOOKUP(IF(C1696=\"\",B1696&\"||\"&B1696,C1696&\"||\"&B1696),Worktags!AR:AV,5,FALSE),\"\")","v":""}]
["",null,null,null,null,{"$f":"IFERROR(VLOOKUP(IF(C1697=\"\",B1697&\"||\"&B1697,C1697&\"||\"&B1697),Worktags!AR:AV,5,FALSE),\"\")","v":""}]
["",null,null,null,null,{"$f":"IFERROR(VLOOKUP(IF(C1698=\"\",B1698&\"||\"&B1698,C1698&\"||\"&B1698),Worktags!AR:AV,5,FALSE),\"\")","v":""}]
["",null,null,null,null,{"$f":"IFERROR(VLOOKUP(IF(C1699=\"\",B1699&\"||\"&B1699,C1699&\"||\"&B1699),Worktags!AR:AV,5,FALSE),\"\")","v":""}]
["",null,null,null,null,{"$f":"IFERROR(VLOOKUP(IF(C1700=\"\",B1700&\"||\"&B1700,C1700&\"||\"&B1700),Worktags!AR:AV,5,FALSE),\"\")","v":""}]
["",null,null,null,null,{"$f":"IFERROR(VLOOKUP(IF(C1701=\"\",B1701&\"||\"&B1701,C1701&\"||\"&B1701),Worktags!AR:AV,5,FALSE),\"\")","v":""}]
["",null,null,null,null,{"$f":"IFERROR(VLOOKUP(IF(C1702=\"\",B1702&\"||\"&B1702,C1702&\"||\"&B1702),Worktags!AR:AV,5,FALSE),\"\")","v":""}]
["",null,null,null,null,{"$f":"IFERROR(VLOOKUP(IF(C1703=\"\",B1703&\"||\"&B1703,C1703&\"||\"&B1703),Worktags!AR:AV,5,FALSE),\"\")","v":""}]
["",null,null,null,null,{"$f":"IFERROR(VLOOKUP(IF(C1704=\"\",B1704&\"||\"&B1704,C1704&\"||\"&B1704),Worktags!AR:AV,5,FALSE),\"\")","v":""}]
["",null,null,null,null,{"$f":"IFERROR(VLOOKUP(IF(C1705=\"\",B1705&\"||\"&B1705,C1705&\"||\"&B1705),Worktags!AR:AV,5,FALSE),\"\")","v":""}]
["",null,null,null,null,{"$f":"IFERROR(VLOOKUP(IF(C1706=\"\",B1706&\"||\"&B1706,C1706&\"||\"&B1706),Worktags!AR:AV,5,FALSE),\"\")","v":""}]
["",null,null,null,null,{"$f":"IFERROR(VLOOKUP(IF(C1707=\"\",B1707&\"||\"&B1707,C1707&\"||\"&B1707),Worktags!AR:AV,5,FALSE),\"\")","v":""}]
["",null,null,null,null,{"$f":"IFERROR(VLOOKUP(IF(C1708=\"\",B1708&\"||\"&B1708,C1708&\"||\"&B1708),Worktags!AR:AV,5,FALSE),\"\")","v":""}]
["",null,null,null,null,{"$f":"IFERROR(VLOOKUP(IF(C1709=\"\",B1709&\"||\"&B1709,C1709&\"||\"&B1709),Worktags!AR:AV,5,FALSE),\"\")","v":""}]
["",null,null,null,null,{"$f":"IFERROR(VLOOKUP(IF(C1710=\"\",B1710&\"||\"&B1710,C1710&\"||\"&B1710),Worktags!AR:AV,5,FALSE),\"\")","v":""}]
["",null,null,null,null,{"$f":"IFERROR(VLOOKUP(IF(C1711=\"\",B1711&\"||\"&B1711,C1711&\"||\"&B1711),Worktags!AR:AV,5,FALSE),\"\")","v":""}]
["",null,null,null,null,{"$f":"IFERROR(VLOOKUP(IF(C1712=\"\",B1712&\"||\"&B1712,C1712&\"||\"&B1712),Worktags!AR:AV,5,FALSE),\"\")","v":""}]
["",null,null,null,null,{"$f":"IFERROR(VLOOKUP(IF(C1713=\"\",B1713&\"||\"&B1713,C1713&\"||\"&B1713),Worktags!AR:AV,5,FALSE),\"\")","v":""}]
["",null,null,null,null,{"$f":"IFERROR(VLOOKUP(IF(C1714=\"\",B1714&\"||\"&B1714,C1714&\"||\"&B1714),Worktags!AR:AV,5,FALSE),\"\")","v":""}]
["",null,null,null,null,{"$f":"IFERROR(VLOOKUP(IF(C1715=\"\",B1715&\"||\"&B1715,C1715&\"||\"&B1715),Worktags!AR:AV,5,FALSE),\"\")","v":""}]
["",null,null,null,null,{"$f":"IFERROR(VLOOKUP(IF(C1716=\"\",B1716&\"||\"&B1716,C1716&\"||\"&B1716),Worktags!AR:AV,5,FALSE),\"\")","v":""}]
["",null,null,null,null,{"$f":"IFERROR(VLOOKUP(IF(C1717=\"\",B1717&\"||\"&B1717,C1717&\"||\"&B1717),Worktags!AR:AV,5,FALSE),\"\")","v":""}]
["",null,null,null,null,{"$f":"IFERROR(VLOOKUP(IF(C1718=\"\",B1718&\"||\"&B1718,C1718&\"||\"&B1718),Worktags!AR:AV,5,FALSE),\"\")","v":""}]
["",null,null,null,null,{"$f":"IFERROR(VLOOKUP(IF(C1719=\"\",B1719&\"||\"&B1719,C1719&\"||\"&B1719),Worktags!AR:AV,5,FALSE),\"\")","v":""}]
["",null,null,null,null,{"$f":"IFERROR(VLOOKUP(IF(C1720=\"\",B1720&\"||\"&B1720,C1720&\"||\"&B1720),Worktags!AR:AV,5,FALSE),\"\")","v":""}]
["",null,null,null,null,{"$f":"IFERROR(VLOOKUP(IF(C1721=\"\",B1721&\"||\"&B1721,C1721&\"||\"&B1721),Worktags!AR:AV,5,FALSE),\"\")","v":""}]
["",null,null,null,null,{"$f":"IFERROR(VLOOKUP(IF(C1722=\"\",B1722&\"||\"&B1722,C1722&\"||\"&B1722),Worktags!AR:AV,5,FALSE),\"\")","v":""}]
["",null,null,null,null,{"$f":"IFERROR(VLOOKUP(IF(C1723=\"\",B1723&\"||\"&B1723,C1723&\"||\"&B1723),Worktags!AR:AV,5,FALSE),\"\")","v":""}]
["",null,null,null,null,{"$f":"IFERROR(VLOOKUP(IF(C1724=\"\",B1724&\"||\"&B1724,C1724&\"||\"&B1724),Worktags!AR:AV,5,FALSE),\"\")","v":""}]
["",null,null,null,null,{"$f":"IFERROR(VLOOKUP(IF(C1725=\"\",B1725&\"||\"&B1725,C1725&\"||\"&B1725),Worktags!AR:AV,5,FALSE),\"\")","v":""}]
["",null,null,null,null,{"$f":"IFERROR(VLOOKUP(IF(C1726=\"\",B1726&\"||\"&B1726,C1726&\"||\"&B1726),Worktags!AR:AV,5,FALSE),\"\")","v":""}]
["",null,null,null,null,{"$f":"IFERROR(VLOOKUP(IF(C1727=\"\",B1727&\"||\"&B1727,C1727&\"||\"&B1727),Worktags!AR:AV,5,FALSE),\"\")","v":""}]
["",null,null,null,null,{"$f":"IFERROR(VLOOKUP(IF(C1728=\"\",B1728&\"||\"&B1728,C1728&\"||\"&B1728),Worktags!AR:AV,5,FALSE),\"\")","v":""}]
["",null,null,null,null,{"$f":"IFERROR(VLOOKUP(IF(C1729=\"\",B1729&\"||\"&B1729,C1729&\"||\"&B1729),Worktags!AR:AV,5,FALSE),\"\")","v":""}]
[{"$f":"IF(B1730<>\"\",IF(C1730<>\"\",B1730&\"_\"&C1730&\" \"&D1730&\"/\"&E1730,B1730&\" \"&D1730),\"\")","v":""},null,null,null,null,{"$f":"IFERROR(VLOOKUP(IF(C1730=\"\",B1730&\"||\"&B1730,C1730&\"||\"&B1730),Worktags!AR:AV,5,FALSE),\"\")","v":""}]
["",null,null,null,null,{"$f":"IFERROR(VLOOKUP(IF(C1731=\"\",B1731&\"||\"&B1731,C1731&\"||\"&B1731),Worktags!AR:AV,5,FALSE),\"\")","v":""}]
["",null,null,null,null,{"$f":"IFERROR(VLOOKUP(IF(C1732=\"\",B1732&\"||\"&B1732,C1732&\"||\"&B1732),Worktags!AR:AV,5,FALSE),\"\")","v":""}]
["",null,null,null,null,{"$f":"IFERROR(VLOOKUP(IF(C1733=\"\",B1733&\"||\"&B1733,C1733&\"||\"&B1733),Worktags!AR:AV,5,FALSE),\"\")","v":""}]
["",null,null,null,null,{"$f":"IFERROR(VLOOKUP(IF(C1734=\"\",B1734&\"||\"&B1734,C1734&\"||\"&B1734),Worktags!AR:AV,5,FALSE),\"\")","v":""}]
["",null,null,null,null,{"$f":"IFERROR(VLOOKUP(IF(C1735=\"\",B1735&\"||\"&B1735,C1735&\"||\"&B1735),Worktags!AR:AV,5,FALSE),\"\")","v":""}]
["",null,null,null,null,{"$f":"IFERROR(VLOOKUP(IF(C1736=\"\",B1736&\"||\"&B1736,C1736&\"||\"&B1736),Worktags!AR:AV,5,FALSE),\"\")","v":""}]
["",null,null,null,null,{"$f":"IFERROR(VLOOKUP(IF(C1737=\"\",B1737&\"||\"&B1737,C1737&\"||\"&B1737),Worktags!AR:AV,5,FALSE),\"\")","v":""}]
["",null,null,null,null,{"$f":"IFERROR(VLOOKUP(IF(C1738=\"\",B1738&\"||\"&B1738,C1738&\"||\"&B1738),Worktags!AR:AV,5,FALSE),\"\")","v":""}]
["",null,null,null,null,{"$f":"IFERROR(VLOOKUP(IF(C1739=\"\",B1739&\"||\"&B1739,C1739&\"||\"&B1739),Worktags!AR:AV,5,FALSE),\"\")","v":""}]
["",null,null,null,null,{"$f":"IFERROR(VLOOKUP(IF(C1740=\"\",B1740&\"||\"&B1740,C1740&\"||\"&B1740),Worktags!AR:AV,5,FALSE),\"\")","v":""}]
["",null,null,null,null,{"$f":"IFERROR(VLOOKUP(IF(C1741=\"\",B1741&\"||\"&B1741,C1741&\"||\"&B1741),Worktags!AR:AV,5,FALSE),\"\")","v":""}]
["",null,null,null,null,{"$f":"IFERROR(VLOOKUP(IF(C1742=\"\",B1742&\"||\"&B1742,C1742&\"||\"&B1742),Worktags!AR:AV,5,FALSE),\"\")","v":""}]
["",null,null,null,null,{"$f":"IFERROR(VLOOKUP(IF(C1743=\"\",B1743&\"||\"&B1743,C1743&\"||\"&B1743),Worktags!AR:AV,5,FALSE),\"\")","v":""}]
["",null,null,null,null,{"$f":"IFERROR(VLOOKUP(IF(C1744=\"\",B1744&\"||\"&B1744,C1744&\"||\"&B1744),Worktags!AR:AV,5,FALSE),\"\")","v":""}]
["",null,null,null,null,{"$f":"IFERROR(VLOOKUP(IF(C1745=\"\",B1745&\"||\"&B1745,C1745&\"||\"&B1745),Worktags!AR:AV,5,FALSE),\"\")","v":""}]
["",null,null,null,null,{"$f":"IFERROR(VLOOKUP(IF(C1746=\"\",B1746&\"||\"&B1746,C1746&\"||\"&B1746),Worktags!AR:AV,5,FALSE),\"\")","v":""}]
["",null,null,null,null,{"$f":"IFERROR(VLOOKUP(IF(C1747=\"\",B1747&\"||\"&B1747,C1747&\"||\"&B1747),Worktags!AR:AV,5,FALSE),\"\")","v":""}]
["",null,null,null,null,{"$f":"IFERROR(VLOOKUP(IF(C1748=\"\",B1748&\"||\"&B1748,C1748&\"||\"&B1748),Worktags!AR:AV,5,FALSE),\"\")","v":""}]
["",null,null,null,null,{"$f":"IFERROR(VLOOKUP(IF(C1749=\"\",B1749&\"||\"&B1749,C1749&\"||\"&B1749),Worktags!AR:AV,5,FALSE),\"\")","v":""}]
["",null,null,null,null,{"$f":"IFERROR(VLOOKUP(IF(C1750=\"\",B1750&\"||\"&B1750,C1750&\"||\"&B1750),Worktags!AR:AV,5,FALSE),\"\")","v":""}]
["",null,null,null,null,{"$f":"IFERROR(VLOOKUP(IF(C1751=\"\",B1751&\"||\"&B1751,C1751&\"||\"&B1751),Worktags!AR:AV,5,FALSE),\"\")","v":""}]
["",null,null,null,null,{"$f":"IFERROR(VLOOKUP(IF(C1752=\"\",B1752&\"||\"&B1752,C1752&\"||\"&B1752),Worktags!AR:AV,5,FALSE),\"\")","v":""}]
["",null,null,null,null,{"$f":"IFERROR(VLOOKUP(IF(C1753=\"\",B1753&\"||\"&B1753,C1753&\"||\"&B1753),Worktags!AR:AV,5,FALSE),\"\")","v":""}]
["",null,null,null,null,{"$f":"IFERROR(VLOOKUP(IF(C1754=\"\",B1754&\"||\"&B1754,C1754&\"||\"&B1754),Worktags!AR:AV,5,FALSE),\"\")","v":""}]
["",null,null,null,null,{"$f":"IFERROR(VLOOKUP(IF(C1755=\"\",B1755&\"||\"&B1755,C1755&\"||\"&B1755),Worktags!AR:AV,5,FALSE),\"\")","v":""}]
["",null,null,null,null,{"$f":"IFERROR(VLOOKUP(IF(C1756=\"\",B1756&\"||\"&B1756,C1756&\"||\"&B1756),Worktags!AR:AV,5,FALSE),\"\")","v":""}]
["",null,null,null,null,{"$f":"IFERROR(VLOOKUP(IF(C1757=\"\",B1757&\"||\"&B1757,C1757&\"||\"&B1757),Worktags!AR:AV,5,FALSE),\"\")","v":""}]
["",null,null,null,null,{"$f":"IFERROR(VLOOKUP(IF(C1758=\"\",B1758&\"||\"&B1758,C1758&\"||\"&B1758),Worktags!AR:AV,5,FALSE),\"\")","v":""}]
["",null,null,null,null,{"$f":"IFERROR(VLOOKUP(IF(C1759=\"\",B1759&\"||\"&B1759,C1759&\"||\"&B1759),Worktags!AR:AV,5,FALSE),\"\")","v":""}]
["",null,null,null,null,{"$f":"IFERROR(VLOOKUP(IF(C1760=\"\",B1760&\"||\"&B1760,C1760&\"||\"&B1760),Worktags!AR:AV,5,FALSE),\"\")","v":""}]
["",null,null,null,null,{"$f":"IFERROR(VLOOKUP(IF(C1761=\"\",B1761&\"||\"&B1761,C1761&\"||\"&B1761),Worktags!AR:AV,5,FALSE),\"\")","v":""}]
["",null,null,null,null,{"$f":"IFERROR(VLOOKUP(IF(C1762=\"\",B1762&\"||\"&B1762,C1762&\"||\"&B1762),Worktags!AR:AV,5,FALSE),\"\")","v":""}]
["",null,null,null,null,{"$f":"IFERROR(VLOOKUP(IF(C1763=\"\",B1763&\"||\"&B1763,C1763&\"||\"&B1763),Worktags!AR:AV,5,FALSE),\"\")","v":""}]
["",null,null,null,null,{"$f":"IFERROR(VLOOKUP(IF(C1764=\"\",B1764&\"||\"&B1764,C1764&\"||\"&B1764),Worktags!AR:AV,5,FALSE),\"\")","v":""}]
["",null,null,null,null,{"$f":"IFERROR(VLOOKUP(IF(C1765=\"\",B1765&\"||\"&B1765,C1765&\"||\"&B1765),Worktags!AR:AV,5,FALSE),\"\")","v":""}]
["",null,null,null,null,{"$f":"IFERROR(VLOOKUP(IF(C1766=\"\",B1766&\"||\"&B1766,C1766&\"||\"&B1766),Worktags!AR:AV,5,FALSE),\"\")","v":""}]
["",null,null,null,null,{"$f":"IFERROR(VLOOKUP(IF(C1767=\"\",B1767&\"||\"&B1767,C1767&\"||\"&B1767),Worktags!AR:AV,5,FALSE),\"\")","v":""}]
["",null,null,null,null,{"$f":"IFERROR(VLOOKUP(IF(C1768=\"\",B1768&\"||\"&B1768,C1768&\"||\"&B1768),Worktags!AR:AV,5,FALSE),\"\")","v":""}]
["",null,null,null,null,{"$f":"IFERROR(VLOOKUP(IF(C1769=\"\",B1769&\"||\"&B1769,C1769&\"||\"&B1769),Worktags!AR:AV,5,FALSE),\"\")","v":""}]
["",null,null,null,null,{"$f":"IFERROR(VLOOKUP(IF(C1770=\"\",B1770&\"||\"&B1770,C1770&\"||\"&B1770),Worktags!AR:AV,5,FALSE),\"\")","v":""}]
["",null,null,null,null,{"$f":"IFERROR(VLOOKUP(IF(C1771=\"\",B1771&\"||\"&B1771,C1771&\"||\"&B1771),Worktags!AR:AV,5,FALSE),\"\")","v":""}]
["",null,null,null,null,{"$f":"IFERROR(VLOOKUP(IF(C1772=\"\",B1772&\"||\"&B1772,C1772&\"||\"&B1772),Worktags!AR:AV,5,FALSE),\"\")","v":""}]
["",null,null,null,null,{"$f":"IFERROR(VLOOKUP(IF(C1773=\"\",B1773&\"||\"&B1773,C1773&\"||\"&B1773),Worktags!AR:AV,5,FALSE),\"\")","v":""}]
["",null,null,null,null,{"$f":"IFERROR(VLOOKUP(IF(C1774=\"\",B1774&\"||\"&B1774,C1774&\"||\"&B1774),Worktags!AR:AV,5,FALSE),\"\")","v":""}]
["",null,null,null,null,{"$f":"IFERROR(VLOOKUP(IF(C1775=\"\",B1775&\"||\"&B1775,C1775&\"||\"&B1775),Worktags!AR:AV,5,FALSE),\"\")","v":""}]
["",null,null,null,null,{"$f":"IFERROR(VLOOKUP(IF(C1776=\"\",B1776&\"||\"&B1776,C1776&\"||\"&B1776),Worktags!AR:AV,5,FALSE),\"\")","v":""}]
["",null,null,null,null,{"$f":"IFERROR(VLOOKUP(IF(C1777=\"\",B1777&\"||\"&B1777,C1777&\"||\"&B1777),Worktags!AR:AV,5,FALSE),\"\")","v":""}]
["",null,null,null,null,{"$f":"IFERROR(VLOOKUP(IF(C1778=\"\",B1778&\"||\"&B1778,C1778&\"||\"&B1778),Worktags!AR:AV,5,FALSE),\"\")","v":""}]
["",null,null,null,null,{"$f":"IFERROR(VLOOKUP(IF(C1779=\"\",B1779&\"||\"&B1779,C1779&\"||\"&B1779),Worktags!AR:AV,5,FALSE),\"\")","v":""}]
["",null,null,null,null,{"$f":"IFERROR(VLOOKUP(IF(C1780=\"\",B1780&\"||\"&B1780,C1780&\"||\"&B1780),Worktags!AR:AV,5,FALSE),\"\")","v":""}]
["",null,null,null,null,{"$f":"IFERROR(VLOOKUP(IF(C1781=\"\",B1781&\"||\"&B1781,C1781&\"||\"&B1781),Worktags!AR:AV,5,FALSE),\"\")","v":""}]
["",null,null,null,null,{"$f":"IFERROR(VLOOKUP(IF(C1782=\"\",B1782&\"||\"&B1782,C1782&\"||\"&B1782),Worktags!AR:AV,5,FALSE),\"\")","v":""}]
["",null,null,null,null,{"$f":"IFERROR(VLOOKUP(IF(C1783=\"\",B1783&\"||\"&B1783,C1783&\"||\"&B1783),Worktags!AR:AV,5,FALSE),\"\")","v":""}]
["",null,null,null,null,{"$f":"IFERROR(VLOOKUP(IF(C1784=\"\",B1784&\"||\"&B1784,C1784&\"||\"&B1784),Worktags!AR:AV,5,FALSE),\"\")","v":""}]
["",null,null,null,null,{"$f":"IFERROR(VLOOKUP(IF(C1785=\"\",B1785&\"||\"&B1785,C1785&\"||\"&B1785),Worktags!AR:AV,5,FALSE),\"\")","v":""}]
["",null,null,null,null,{"$f":"IFERROR(VLOOKUP(IF(C1786=\"\",B1786&\"||\"&B1786,C1786&\"||\"&B1786),Worktags!AR:AV,5,FALSE),\"\")","v":""}]
["",null,null,null,null,{"$f":"IFERROR(VLOOKUP(IF(C1787=\"\",B1787&\"||\"&B1787,C1787&\"||\"&B1787),Worktags!AR:AV,5,FALSE),\"\")","v":""}]
["",null,null,null,null,{"$f":"IFERROR(VLOOKUP(IF(C1788=\"\",B1788&\"||\"&B1788,C1788&\"||\"&B1788),Worktags!AR:AV,5,FALSE),\"\")","v":""}]
["",null,null,null,null,{"$f":"IFERROR(VLOOKUP(IF(C1789=\"\",B1789&\"||\"&B1789,C1789&\"||\"&B1789),Worktags!AR:AV,5,FALSE),\"\")","v":""}]
["",null,null,null,null,{"$f":"IFERROR(VLOOKUP(IF(C1790=\"\",B1790&\"||\"&B1790,C1790&\"||\"&B1790),Worktags!AR:AV,5,FALSE),\"\")","v":""}]
["",null,null,null,null,{"$f":"IFERROR(VLOOKUP(IF(C1791=\"\",B1791&\"||\"&B1791,C1791&\"||\"&B1791),Worktags!AR:AV,5,FALSE),\"\")","v":""}]
["",null,null,null,null,{"$f":"IFERROR(VLOOKUP(IF(C1792=\"\",B1792&\"||\"&B1792,C1792&\"||\"&B1792),Worktags!AR:AV,5,FALSE),\"\")","v":""}]
["",null,null,null,null,{"$f":"IFERROR(VLOOKUP(IF(C1793=\"\",B1793&\"||\"&B1793,C1793&\"||\"&B1793),Worktags!AR:AV,5,FALSE),\"\")","v":""}]
[{"$f":"IF(B1794<>\"\",IF(C1794<>\"\",B1794&\"_\"&C1794&\" \"&D1794&\"/\"&E1794,B1794&\" \"&D1794),\"\")","v":""},null,null,null,null,{"$f":"IFERROR(VLOOKUP(IF(C1794=\"\",B1794&\"||\"&B1794,C1794&\"||\"&B1794),Worktags!AR:AV,5,FALSE),\"\")","v":""}]
["",null,null,null,null,{"$f":"IFERROR(VLOOKUP(IF(C1795=\"\",B1795&\"||\"&B1795,C1795&\"||\"&B1795),Worktags!AR:AV,5,FALSE),\"\")","v":""}]
["",null,null,null,null,{"$f":"IFERROR(VLOOKUP(IF(C1796=\"\",B1796&\"||\"&B1796,C1796&\"||\"&B1796),Worktags!AR:AV,5,FALSE),\"\")","v":""}]
["",null,null,null,null,{"$f":"IFERROR(VLOOKUP(IF(C1797=\"\",B1797&\"||\"&B1797,C1797&\"||\"&B1797),Worktags!AR:AV,5,FALSE),\"\")","v":""}]
["",null,null,null,null,{"$f":"IFERROR(VLOOKUP(IF(C1798=\"\",B1798&\"||\"&B1798,C1798&\"||\"&B1798),Worktags!AR:AV,5,FALSE),\"\")","v":""}]
["",null,null,null,null,{"$f":"IFERROR(VLOOKUP(IF(C1799=\"\",B1799&\"||\"&B1799,C1799&\"||\"&B1799),Worktags!AR:AV,5,FALSE),\"\")","v":""}]
["",null,null,null,null,{"$f":"IFERROR(VLOOKUP(IF(C1800=\"\",B1800&\"||\"&B1800,C1800&\"||\"&B1800),Worktags!AR:AV,5,FALSE),\"\")","v":""}]
["",null,null,null,null,{"$f":"IFERROR(VLOOKUP(IF(C1801=\"\",B1801&\"||\"&B1801,C1801&\"||\"&B1801),Worktags!AR:AV,5,FALSE),\"\")","v":""}]
["",null,null,null,null,{"$f":"IFERROR(VLOOKUP(IF(C1802=\"\",B1802&\"||\"&B1802,C1802&\"||\"&B1802),Worktags!AR:AV,5,FALSE),\"\")","v":""}]
["",null,null,null,null,{"$f":"IFERROR(VLOOKUP(IF(C1803=\"\",B1803&\"||\"&B1803,C1803&\"||\"&B1803),Worktags!AR:AV,5,FALSE),\"\")","v":""}]
["",null,null,null,null,{"$f":"IFERROR(VLOOKUP(IF(C1804=\"\",B1804&\"||\"&B1804,C1804&\"||\"&B1804),Worktags!AR:AV,5,FALSE),\"\")","v":""}]
["",null,null,null,null,{"$f":"IFERROR(VLOOKUP(IF(C1805=\"\",B1805&\"||\"&B1805,C1805&\"||\"&B1805),Worktags!AR:AV,5,FALSE),\"\")","v":""}]
["",null,null,null,null,{"$f":"IFERROR(VLOOKUP(IF(C1806=\"\",B1806&\"||\"&B1806,C1806&\"||\"&B1806),Worktags!AR:AV,5,FALSE),\"\")","v":""}]
["",null,null,null,null,{"$f":"IFERROR(VLOOKUP(IF(C1807=\"\",B1807&\"||\"&B1807,C1807&\"||\"&B1807),Worktags!AR:AV,5,FALSE),\"\")","v":""}]
["",null,null,null,null,{"$f":"IFERROR(VLOOKUP(IF(C1808=\"\",B1808&\"||\"&B1808,C1808&\"||\"&B1808),Worktags!AR:AV,5,FALSE),\"\")","v":""}]
["",null,null,null,null,{"$f":"IFERROR(VLOOKUP(IF(C1809=\"\",B1809&\"||\"&B1809,C1809&\"||\"&B1809),Worktags!AR:AV,5,FALSE),\"\")","v":""}]
["",null,null,null,null,{"$f":"IFERROR(VLOOKUP(IF(C1810=\"\",B1810&\"||\"&B1810,C1810&\"||\"&B1810),Worktags!AR:AV,5,FALSE),\"\")","v":""}]
["",null,null,null,null,{"$f":"IFERROR(VLOOKUP(IF(C1811=\"\",B1811&\"||\"&B1811,C1811&\"||\"&B1811),Worktags!AR:AV,5,FALSE),\"\")","v":""}]
["",null,null,null,null,{"$f":"IFERROR(VLOOKUP(IF(C1812=\"\",B1812&\"||\"&B1812,C1812&\"||\"&B1812),Worktags!AR:AV,5,FALSE),\"\")","v":""}]
["",null,null,null,null,{"$f":"IFERROR(VLOOKUP(IF(C1813=\"\",B1813&\"||\"&B1813,C1813&\"||\"&B1813),Worktags!AR:AV,5,FALSE),\"\")","v":""}]
["",null,null,null,null,{"$f":"IFERROR(VLOOKUP(IF(C1814=\"\",B1814&\"||\"&B1814,C1814&\"||\"&B1814),Worktags!AR:AV,5,FALSE),\"\")","v":""}]
["",null,null,null,null,{"$f":"IFERROR(VLOOKUP(IF(C1815=\"\",B1815&\"||\"&B1815,C1815&\"||\"&B1815),Worktags!AR:AV,5,FALSE),\"\")","v":""}]
["",null,null,null,null,{"$f":"IFERROR(VLOOKUP(IF(C1816=\"\",B1816&\"||\"&B1816,C1816&\"||\"&B1816),Worktags!AR:AV,5,FALSE),\"\")","v":""}]
["",null,null,null,null,{"$f":"IFERROR(VLOOKUP(IF(C1817=\"\",B1817&\"||\"&B1817,C1817&\"||\"&B1817),Worktags!AR:AV,5,FALSE),\"\")","v":""}]
["",null,null,null,null,{"$f":"IFERROR(VLOOKUP(IF(C1818=\"\",B1818&\"||\"&B1818,C1818&\"||\"&B1818),Worktags!AR:AV,5,FALSE),\"\")","v":""}]
["",null,null,null,null,{"$f":"IFERROR(VLOOKUP(IF(C1819=\"\",B1819&\"||\"&B1819,C1819&\"||\"&B1819),Worktags!AR:AV,5,FALSE),\"\")","v":""}]
["",null,null,null,null,{"$f":"IFERROR(VLOOKUP(IF(C1820=\"\",B1820&\"||\"&B1820,C1820&\"||\"&B1820),Worktags!AR:AV,5,FALSE),\"\")","v":""}]
["",null,null,null,null,{"$f":"IFERROR(VLOOKUP(IF(C1821=\"\",B1821&\"||\"&B1821,C1821&\"||\"&B1821),Worktags!AR:AV,5,FALSE),\"\")","v":""}]
["",null,null,null,null,{"$f":"IFERROR(VLOOKUP(IF(C1822=\"\",B1822&\"||\"&B1822,C1822&\"||\"&B1822),Worktags!AR:AV,5,FALSE),\"\")","v":""}]
["",null,null,null,null,{"$f":"IFERROR(VLOOKUP(IF(C1823=\"\",B1823&\"||\"&B1823,C1823&\"||\"&B1823),Worktags!AR:AV,5,FALSE),\"\")","v":""}]
["",null,null,null,null,{"$f":"IFERROR(VLOOKUP(IF(C1824=\"\",B1824&\"||\"&B1824,C1824&\"||\"&B1824),Worktags!AR:AV,5,FALSE),\"\")","v":""}]
["",null,null,null,null,{"$f":"IFERROR(VLOOKUP(IF(C1825=\"\",B1825&\"||\"&B1825,C1825&\"||\"&B1825),Worktags!AR:AV,5,FALSE),\"\")","v":""}]
["",null,null,null,null,{"$f":"IFERROR(VLOOKUP(IF(C1826=\"\",B1826&\"||\"&B1826,C1826&\"||\"&B1826),Worktags!AR:AV,5,FALSE),\"\")","v":""}]
["",null,null,null,null,{"$f":"IFERROR(VLOOKUP(IF(C1827=\"\",B1827&\"||\"&B1827,C1827&\"||\"&B1827),Worktags!AR:AV,5,FALSE),\"\")","v":""}]
["",null,null,null,null,{"$f":"IFERROR(VLOOKUP(IF(C1828=\"\",B1828&\"||\"&B1828,C1828&\"||\"&B1828),Worktags!AR:AV,5,FALSE),\"\")","v":""}]
["",null,null,null,null,{"$f":"IFERROR(VLOOKUP(IF(C1829=\"\",B1829&\"||\"&B1829,C1829&\"||\"&B1829),Worktags!AR:AV,5,FALSE),\"\")","v":""}]
["",null,null,null,null,{"$f":"IFERROR(VLOOKUP(IF(C1830=\"\",B1830&\"||\"&B1830,C1830&\"||\"&B1830),Worktags!AR:AV,5,FALSE),\"\")","v":""}]
["",null,null,null,null,{"$f":"IFERROR(VLOOKUP(IF(C1831=\"\",B1831&\"||\"&B1831,C1831&\"||\"&B1831),Worktags!AR:AV,5,FALSE),\"\")","v":""}]
["",null,null,null,null,{"$f":"IFERROR(VLOOKUP(IF(C1832=\"\",B1832&\"||\"&B1832,C1832&\"||\"&B1832),Worktags!AR:AV,5,FALSE),\"\")","v":""}]
["",null,null,null,null,{"$f":"IFERROR(VLOOKUP(IF(C1833=\"\",B1833&\"||\"&B1833,C1833&\"||\"&B1833),Worktags!AR:AV,5,FALSE),\"\")","v":""}]
["",null,null,null,null,{"$f":"IFERROR(VLOOKUP(IF(C1834=\"\",B1834&\"||\"&B1834,C1834&\"||\"&B1834),Worktags!AR:AV,5,FALSE),\"\")","v":""}]
["",null,null,null,null,{"$f":"IFERROR(VLOOKUP(IF(C1835=\"\",B1835&\"||\"&B1835,C1835&\"||\"&B1835),Worktags!AR:AV,5,FALSE),\"\")","v":""}]
["",null,null,null,null,{"$f":"IFERROR(VLOOKUP(IF(C1836=\"\",B1836&\"||\"&B1836,C1836&\"||\"&B1836),Worktags!AR:AV,5,FALSE),\"\")","v":""}]
["",null,null,null,null,{"$f":"IFERROR(VLOOKUP(IF(C1837=\"\",B1837&\"||\"&B1837,C1837&\"||\"&B1837),Worktags!AR:AV,5,FALSE),\"\")","v":""}]
["",null,null,null,null,{"$f":"IFERROR(VLOOKUP(IF(C1838=\"\",B1838&\"||\"&B1838,C1838&\"||\"&B1838),Worktags!AR:AV,5,FALSE),\"\")","v":""}]
["",null,null,null,null,{"$f":"IFERROR(VLOOKUP(IF(C1839=\"\",B1839&\"||\"&B1839,C1839&\"||\"&B1839),Worktags!AR:AV,5,FALSE),\"\")","v":""}]
["",null,null,null,null,{"$f":"IFERROR(VLOOKUP(IF(C1840=\"\",B1840&\"||\"&B1840,C1840&\"||\"&B1840),Worktags!AR:AV,5,FALSE),\"\")","v":""}]
["",null,null,null,null,{"$f":"IFERROR(VLOOKUP(IF(C1841=\"\",B1841&\"||\"&B1841,C1841&\"||\"&B1841),Worktags!AR:AV,5,FALSE),\"\")","v":""}]
["",null,null,null,null,{"$f":"IFERROR(VLOOKUP(IF(C1842=\"\",B1842&\"||\"&B1842,C1842&\"||\"&B1842),Worktags!AR:AV,5,FALSE),\"\")","v":""}]
["",null,null,null,null,{"$f":"IFERROR(VLOOKUP(IF(C1843=\"\",B1843&\"||\"&B1843,C1843&\"||\"&B1843),Worktags!AR:AV,5,FALSE),\"\")","v":""}]
["",null,null,null,null,{"$f":"IFERROR(VLOOKUP(IF(C1844=\"\",B1844&\"||\"&B1844,C1844&\"||\"&B1844),Worktags!AR:AV,5,FALSE),\"\")","v":""}]
["",null,null,null,null,{"$f":"IFERROR(VLOOKUP(IF(C1845=\"\",B1845&\"||\"&B1845,C1845&\"||\"&B1845),Worktags!AR:AV,5,FALSE),\"\")","v":""}]
["",null,null,null,null,{"$f":"IFERROR(VLOOKUP(IF(C1846=\"\",B1846&\"||\"&B1846,C1846&\"||\"&B1846),Worktags!AR:AV,5,FALSE),\"\")","v":""}]
["",null,null,null,null,{"$f":"IFERROR(VLOOKUP(IF(C1847=\"\",B1847&\"||\"&B1847,C1847&\"||\"&B1847),Worktags!AR:AV,5,FALSE),\"\")","v":""}]
["",null,null,null,null,{"$f":"IFERROR(VLOOKUP(IF(C1848=\"\",B1848&\"||\"&B1848,C1848&\"||\"&B1848),Worktags!AR:AV,5,FALSE),\"\")","v":""}]
["",null,null,null,null,{"$f":"IFERROR(VLOOKUP(IF(C1849=\"\",B1849&\"||\"&B1849,C1849&\"||\"&B1849),Worktags!AR:AV,5,FALSE),\"\")","v":""}]
["",null,null,null,null,{"$f":"IFERROR(VLOOKUP(IF(C1850=\"\",B1850&\"||\"&B1850,C1850&\"||\"&B1850),Worktags!AR:AV,5,FALSE),\"\")","v":""}]
["",null,null,null,null,{"$f":"IFERROR(VLOOKUP(IF(C1851=\"\",B1851&\"||\"&B1851,C1851&\"||\"&B1851),Worktags!AR:AV,5,FALSE),\"\")","v":""}]
["",null,null,null,null,{"$f":"IFERROR(VLOOKUP(IF(C1852=\"\",B1852&\"||\"&B1852,C1852&\"||\"&B1852),Worktags!AR:AV,5,FALSE),\"\")","v":""}]
["",null,null,null,null,{"$f":"IFERROR(VLOOKUP(IF(C1853=\"\",B1853&\"||\"&B1853,C1853&\"||\"&B1853),Worktags!AR:AV,5,FALSE),\"\")","v":""}]
["",null,null,null,null,{"$f":"IFERROR(VLOOKUP(IF(C1854=\"\",B1854&\"||\"&B1854,C1854&\"||\"&B1854),Worktags!AR:AV,5,FALSE),\"\")","v":""}]
["",null,null,null,null,{"$f":"IFERROR(VLOOKUP(IF(C1855=\"\",B1855&\"||\"&B1855,C1855&\"||\"&B1855),Worktags!AR:AV,5,FALSE),\"\")","v":""}]
["",null,null,null,null,{"$f":"IFERROR(VLOOKUP(IF(C1856=\"\",B1856&\"||\"&B1856,C1856&\"||\"&B1856),Worktags!AR:AV,5,FALSE),\"\")","v":""}]
["",null,null,null,null,{"$f":"IFERROR(VLOOKUP(IF(C1857=\"\",B1857&\"||\"&B1857,C1857&\"||\"&B1857),Worktags!AR:AV,5,FALSE),\"\")","v":""}]
[{"$f":"IF(B1858<>\"\",IF(C1858<>\"\",B1858&\"_\"&C1858&\" \"&D1858&\"/\"&E1858,B1858&\" \"&D1858),\"\")","v":""},null,null,null,null,{"$f":"IFERROR(VLOOKUP(IF(C1858=\"\",B1858&\"||\"&B1858,C1858&\"||\"&B1858),Worktags!AR:AV,5,FALSE),\"\")","v":""}]
["",null,null,null,null,{"$f":"IFERROR(VLOOKUP(IF(C1859=\"\",B1859&\"||\"&B1859,C1859&\"||\"&B1859),Worktags!AR:AV,5,FALSE),\"\")","v":""}]
["",null,null,null,null,{"$f":"IFERROR(VLOOKUP(IF(C1860=\"\",B1860&\"||\"&B1860,C1860&\"||\"&B1860),Worktags!AR:AV,5,FALSE),\"\")","v":""}]
["",null,null,null,null,{"$f":"IFERROR(VLOOKUP(IF(C1861=\"\",B1861&\"||\"&B1861,C1861&\"||\"&B1861),Worktags!AR:AV,5,FALSE),\"\")","v":""}]
["",null,null,null,null,{"$f":"IFERROR(VLOOKUP(IF(C1862=\"\",B1862&\"||\"&B1862,C1862&\"||\"&B1862),Worktags!AR:AV,5,FALSE),\"\")","v":""}]
["",null,null,null,null,{"$f":"IFERROR(VLOOKUP(IF(C1863=\"\",B1863&\"||\"&B1863,C1863&\"||\"&B1863),Worktags!AR:AV,5,FALSE),\"\")","v":""}]
["",null,null,null,null,{"$f":"IFERROR(VLOOKUP(IF(C1864=\"\",B1864&\"||\"&B1864,C1864&\"||\"&B1864),Worktags!AR:AV,5,FALSE),\"\")","v":""}]
["",null,null,null,null,{"$f":"IFERROR(VLOOKUP(IF(C1865=\"\",B1865&\"||\"&B1865,C1865&\"||\"&B1865),Worktags!AR:AV,5,FALSE),\"\")","v":""}]
["",null,null,null,null,{"$f":"IFERROR(VLOOKUP(IF(C1866=\"\",B1866&\"||\"&B1866,C1866&\"||\"&B1866),Worktags!AR:AV,5,FALSE),\"\")","v":""}]
["",null,null,null,null,{"$f":"IFERROR(VLOOKUP(IF(C1867=\"\",B1867&\"||\"&B1867,C1867&\"||\"&B1867),Worktags!AR:AV,5,FALSE),\"\")","v":""}]
["",null,null,null,null,{"$f":"IFERROR(VLOOKUP(IF(C1868=\"\",B1868&\"||\"&B1868,C1868&\"||\"&B1868),Worktags!AR:AV,5,FALSE),\"\")","v":""}]
["",null,null,null,null,{"$f":"IFERROR(VLOOKUP(IF(C1869=\"\",B1869&\"||\"&B1869,C1869&\"||\"&B1869),Worktags!AR:AV,5,FALSE),\"\")","v":""}]
["",null,null,null,null,{"$f":"IFERROR(VLOOKUP(IF(C1870=\"\",B1870&\"||\"&B1870,C1870&\"||\"&B1870),Worktags!AR:AV,5,FALSE),\"\")","v":""}]
["",null,null,null,null,{"$f":"IFERROR(VLOOKUP(IF(C1871=\"\",B1871&\"||\"&B1871,C1871&\"||\"&B1871),Worktags!AR:AV,5,FALSE),\"\")","v":""}]
["",null,null,null,null,{"$f":"IFERROR(VLOOKUP(IF(C1872=\"\",B1872&\"||\"&B1872,C1872&\"||\"&B1872),Worktags!AR:AV,5,FALSE),\"\")","v":""}]
["",null,null,null,null,{"$f":"IFERROR(VLOOKUP(IF(C1873=\"\",B1873&\"||\"&B1873,C1873&\"||\"&B1873),Worktags!AR:AV,5,FALSE),\"\")","v":""}]
["",null,null,null,null,{"$f":"IFERROR(VLOOKUP(IF(C1874=\"\",B1874&\"||\"&B1874,C1874&\"||\"&B1874),Worktags!AR:AV,5,FALSE),\"\")","v":""}]
["",null,null,null,null,{"$f":"IFERROR(VLOOKUP(IF(C1875=\"\",B1875&\"||\"&B1875,C1875&\"||\"&B1875),Worktags!AR:AV,5,FALSE),\"\")","v":""}]
["",null,null,null,null,{"$f":"IFERROR(VLOOKUP(IF(C1876=\"\",B1876&\"||\"&B1876,C1876&\"||\"&B1876),Worktags!AR:AV,5,FALSE),\"\")","v":""}]
["",null,null,null,null,{"$f":"IFERROR(VLOOKUP(IF(C1877=\"\",B1877&\"||\"&B1877,C1877&\"||\"&B1877),Worktags!AR:AV,5,FALSE),\"\")","v":""}]
["",null,null,null,null,{"$f":"IFERROR(VLOOKUP(IF(C1878=\"\",B1878&\"||\"&B1878,C1878&\"||\"&B1878),Worktags!AR:AV,5,FALSE),\"\")","v":""}]
["",null,null,null,null,{"$f":"IFERROR(VLOOKUP(IF(C1879=\"\",B1879&\"||\"&B1879,C1879&\"||\"&B1879),Worktags!AR:AV,5,FALSE),\"\")","v":""}]
["",null,null,null,null,{"$f":"IFERROR(VLOOKUP(IF(C1880=\"\",B1880&\"||\"&B1880,C1880&\"||\"&B1880),Worktags!AR:AV,5,FALSE),\"\")","v":""}]
["",null,null,null,null,{"$f":"IFERROR(VLOOKUP(IF(C1881=\"\",B1881&\"||\"&B1881,C1881&\"||\"&B1881),Worktags!AR:AV,5,FALSE),\"\")","v":""}]
["",null,null,null,null,{"$f":"IFERROR(VLOOKUP(IF(C1882=\"\",B1882&\"||\"&B1882,C1882&\"||\"&B1882),Worktags!AR:AV,5,FALSE),\"\")","v":""}]
["",null,null,null,null,{"$f":"IFERROR(VLOOKUP(IF(C1883=\"\",B1883&\"||\"&B1883,C1883&\"||\"&B1883),Worktags!AR:AV,5,FALSE),\"\")","v":""}]
["",null,null,null,null,{"$f":"IFERROR(VLOOKUP(IF(C1884=\"\",B1884&\"||\"&B1884,C1884&\"||\"&B1884),Worktags!AR:AV,5,FALSE),\"\")","v":""}]
["",null,null,null,null,{"$f":"IFERROR(VLOOKUP(IF(C1885=\"\",B1885&\"||\"&B1885,C1885&\"||\"&B1885),Worktags!AR:AV,5,FALSE),\"\")","v":""}]
["",null,null,null,null,{"$f":"IFERROR(VLOOKUP(IF(C1886=\"\",B1886&\"||\"&B1886,C1886&\"||\"&B1886),Worktags!AR:AV,5,FALSE),\"\")","v":""}]
["",null,null,null,null,{"$f":"IFERROR(VLOOKUP(IF(C1887=\"\",B1887&\"||\"&B1887,C1887&\"||\"&B1887),Worktags!AR:AV,5,FALSE),\"\")","v":""}]
["",null,null,null,null,{"$f":"IFERROR(VLOOKUP(IF(C1888=\"\",B1888&\"||\"&B1888,C1888&\"||\"&B1888),Worktags!AR:AV,5,FALSE),\"\")","v":""}]
["",null,null,null,null,{"$f":"IFERROR(VLOOKUP(IF(C1889=\"\",B1889&\"||\"&B1889,C1889&\"||\"&B1889),Worktags!AR:AV,5,FALSE),\"\")","v":""}]
["",null,null,null,null,{"$f":"IFERROR(VLOOKUP(IF(C1890=\"\",B1890&\"||\"&B1890,C1890&\"||\"&B1890),Worktags!AR:AV,5,FALSE),\"\")","v":""}]
["",null,null,null,null,{"$f":"IFERROR(VLOOKUP(IF(C1891=\"\",B1891&\"||\"&B1891,C1891&\"||\"&B1891),Worktags!AR:AV,5,FALSE),\"\")","v":""}]
["",null,null,null,null,{"$f":"IFERROR(VLOOKUP(IF(C1892=\"\",B1892&\"||\"&B1892,C1892&\"||\"&B1892),Worktags!AR:AV,5,FALSE),\"\")","v":""}]
["",null,null,null,null,{"$f":"IFERROR(VLOOKUP(IF(C1893=\"\",B1893&\"||\"&B1893,C1893&\"||\"&B1893),Worktags!AR:AV,5,FALSE),\"\")","v":""}]
["",null,null,null,null,{"$f":"IFERROR(VLOOKUP(IF(C1894=\"\",B1894&\"||\"&B1894,C1894&\"||\"&B1894),Worktags!AR:AV,5,FALSE),\"\")","v":""}]
["",null,null,null,null,{"$f":"IFERROR(VLOOKUP(IF(C1895=\"\",B1895&\"||\"&B1895,C1895&\"||\"&B1895),Worktags!AR:AV,5,FALSE),\"\")","v":""}]
["",null,null,null,null,{"$f":"IFERROR(VLOOKUP(IF(C1896=\"\",B1896&\"||\"&B1896,C1896&\"||\"&B1896),Worktags!AR:AV,5,FALSE),\"\")","v":""}]
["",null,null,null,null,{"$f":"IFERROR(VLOOKUP(IF(C1897=\"\",B1897&\"||\"&B1897,C1897&\"||\"&B1897),Worktags!AR:AV,5,FALSE),\"\")","v":""}]
["",null,null,null,null,{"$f":"IFERROR(VLOOKUP(IF(C1898=\"\",B1898&\"||\"&B1898,C1898&\"||\"&B1898),Worktags!AR:AV,5,FALSE),\"\")","v":""}]
["",null,null,null,null,{"$f":"IFERROR(VLOOKUP(IF(C1899=\"\",B1899&\"||\"&B1899,C1899&\"||\"&B1899),Worktags!AR:AV,5,FALSE),\"\")","v":""}]
["",null,null,null,null,{"$f":"IFERROR(VLOOKUP(IF(C1900=\"\",B1900&\"||\"&B1900,C1900&\"||\"&B1900),Worktags!AR:AV,5,FALSE),\"\")","v":""}]
["",null,null,null,null,{"$f":"IFERROR(VLOOKUP(IF(C1901=\"\",B1901&\"||\"&B1901,C1901&\"||\"&B1901),Worktags!AR:AV,5,FALSE),\"\")","v":""}]
["",null,null,null,null,{"$f":"IFERROR(VLOOKUP(IF(C1902=\"\",B1902&\"||\"&B1902,C1902&\"||\"&B1902),Worktags!AR:AV,5,FALSE),\"\")","v":""}]
["",null,null,null,null,{"$f":"IFERROR(VLOOKUP(IF(C1903=\"\",B1903&\"||\"&B1903,C1903&\"||\"&B1903),Worktags!AR:AV,5,FALSE),\"\")","v":""}]
["",null,null,null,null,{"$f":"IFERROR(VLOOKUP(IF(C1904=\"\",B1904&\"||\"&B1904,C1904&\"||\"&B1904),Worktags!AR:AV,5,FALSE),\"\")","v":""}]
["",null,null,null,null,{"$f":"IFERROR(VLOOKUP(IF(C1905=\"\",B1905&\"||\"&B1905,C1905&\"||\"&B1905),Worktags!AR:AV,5,FALSE),\"\")","v":""}]
["",null,null,null,null,{"$f":"IFERROR(VLOOKUP(IF(C1906=\"\",B1906&\"||\"&B1906,C1906&\"||\"&B1906),Worktags!AR:AV,5,FALSE),\"\")","v":""}]
["",null,null,null,null,{"$f":"IFERROR(VLOOKUP(IF(C1907=\"\",B1907&\"||\"&B1907,C1907&\"||\"&B1907),Worktags!AR:AV,5,FALSE),\"\")","v":""}]
["",null,null,null,null,{"$f":"IFERROR(VLOOKUP(IF(C1908=\"\",B1908&\"||\"&B1908,C1908&\"||\"&B1908),Worktags!AR:AV,5,FALSE),\"\")","v":""}]
["",null,null,null,null,{"$f":"IFERROR(VLOOKUP(IF(C1909=\"\",B1909&\"||\"&B1909,C1909&\"||\"&B1909),Worktags!AR:AV,5,FALSE),\"\")","v":""}]
["",null,null,null,null,{"$f":"IFERROR(VLOOKUP(IF(C1910=\"\",B1910&\"||\"&B1910,C1910&\"||\"&B1910),Worktags!AR:AV,5,FALSE),\"\")","v":""}]
["",null,null,null,null,{"$f":"IFERROR(VLOOKUP(IF(C1911=\"\",B1911&\"||\"&B1911,C1911&\"||\"&B1911),Worktags!AR:AV,5,FALSE),\"\")","v":""}]
["",null,null,null,null,{"$f":"IFERROR(VLOOKUP(IF(C1912=\"\",B1912&\"||\"&B1912,C1912&\"||\"&B1912),Worktags!AR:AV,5,FALSE),\"\")","v":""}]
["",null,null,null,null,{"$f":"IFERROR(VLOOKUP(IF(C1913=\"\",B1913&\"||\"&B1913,C1913&\"||\"&B1913),Worktags!AR:AV,5,FALSE),\"\")","v":""}]
["",null,null,null,null,{"$f":"IFERROR(VLOOKUP(IF(C1914=\"\",B1914&\"||\"&B1914,C1914&\"||\"&B1914),Worktags!AR:AV,5,FALSE),\"\")","v":""}]
["",null,null,null,null,{"$f":"IFERROR(VLOOKUP(IF(C1915=\"\",B1915&\"||\"&B1915,C1915&\"||\"&B1915),Worktags!AR:AV,5,FALSE),\"\")","v":""}]
["",null,null,null,null,{"$f":"IFERROR(VLOOKUP(IF(C1916=\"\",B1916&\"||\"&B1916,C1916&\"||\"&B1916),Worktags!AR:AV,5,FALSE),\"\")","v":""}]
["",null,null,null,null,{"$f":"IFERROR(VLOOKUP(IF(C1917=\"\",B1917&\"||\"&B1917,C1917&\"||\"&B1917),Worktags!AR:AV,5,FALSE),\"\")","v":""}]
["",null,null,null,null,{"$f":"IFERROR(VLOOKUP(IF(C1918=\"\",B1918&\"||\"&B1918,C1918&\"||\"&B1918),Worktags!AR:AV,5,FALSE),\"\")","v":""}]
["",null,null,null,null,{"$f":"IFERROR(VLOOKUP(IF(C1919=\"\",B1919&\"||\"&B1919,C1919&\"||\"&B1919),Worktags!AR:AV,5,FALSE),\"\")","v":""}]
["",null,null,null,null,{"$f":"IFERROR(VLOOKUP(IF(C1920=\"\",B1920&\"||\"&B1920,C1920&\"||\"&B1920),Worktags!AR:AV,5,FALSE),\"\")","v":""}]
["",null,null,null,null,{"$f":"IFERROR(VLOOKUP(IF(C1921=\"\",B1921&\"||\"&B1921,C1921&\"||\"&B1921),Worktags!AR:AV,5,FALSE),\"\")","v":""}]
[{"$f":"IF(B1922<>\"\",IF(C1922<>\"\",B1922&\"_\"&C1922&\" \"&D1922&\"/\"&E1922,B1922&\" \"&D1922),\"\")","v":""},null,null,null,null,{"$f":"IFERROR(VLOOKUP(IF(C1922=\"\",B1922&\"||\"&B1922,C1922&\"||\"&B1922),Worktags!AR:AV,5,FALSE),\"\")","v":""}]
["",null,null,null,null,{"$f":"IFERROR(VLOOKUP(IF(C1923=\"\",B1923&\"||\"&B1923,C1923&\"||\"&B1923),Worktags!AR:AV,5,FALSE),\"\")","v":""}]
["",null,null,null,null,{"$f":"IFERROR(VLOOKUP(IF(C1924=\"\",B1924&\"||\"&B1924,C1924&\"||\"&B1924),Worktags!AR:AV,5,FALSE),\"\")","v":""}]
["",null,null,null,null,{"$f":"IFERROR(VLOOKUP(IF(C1925=\"\",B1925&\"||\"&B1925,C1925&\"||\"&B1925),Worktags!AR:AV,5,FALSE),\"\")","v":""}]
["",null,null,null,null,{"$f":"IFERROR(VLOOKUP(IF(C1926=\"\",B1926&\"||\"&B1926,C1926&\"||\"&B1926),Worktags!AR:AV,5,FALSE),\"\")","v":""}]
["",null,null,null,null,{"$f":"IFERROR(VLOOKUP(IF(C1927=\"\",B1927&\"||\"&B1927,C1927&\"||\"&B1927),Worktags!AR:AV,5,FALSE),\"\")","v":""}]
["",null,null,null,null,{"$f":"IFERROR(VLOOKUP(IF(C1928=\"\",B1928&\"||\"&B1928,C1928&\"||\"&B1928),Worktags!AR:AV,5,FALSE),\"\")","v":""}]
["",null,null,null,null,{"$f":"IFERROR(VLOOKUP(IF(C1929=\"\",B1929&\"||\"&B1929,C1929&\"||\"&B1929),Worktags!AR:AV,5,FALSE),\"\")","v":""}]
["",null,null,null,null,{"$f":"IFERROR(VLOOKUP(IF(C1930=\"\",B1930&\"||\"&B1930,C1930&\"||\"&B1930),Worktags!AR:AV,5,FALSE),\"\")","v":""}]
["",null,null,null,null,{"$f":"IFERROR(VLOOKUP(IF(C1931=\"\",B1931&\"||\"&B1931,C1931&\"||\"&B1931),Worktags!AR:AV,5,FALSE),\"\")","v":""}]
["",null,null,null,null,{"$f":"IFERROR(VLOOKUP(IF(C1932=\"\",B1932&\"||\"&B1932,C1932&\"||\"&B1932),Worktags!AR:AV,5,FALSE),\"\")","v":""}]
["",null,null,null,null,{"$f":"IFERROR(VLOOKUP(IF(C1933=\"\",B1933&\"||\"&B1933,C1933&\"||\"&B1933),Worktags!AR:AV,5,FALSE),\"\")","v":""}]
["",null,null,null,null,{"$f":"IFERROR(VLOOKUP(IF(C1934=\"\",B1934&\"||\"&B1934,C1934&\"||\"&B1934),Worktags!AR:AV,5,FALSE),\"\")","v":""}]
["",null,null,null,null,{"$f":"IFERROR(VLOOKUP(IF(C1935=\"\",B1935&\"||\"&B1935,C1935&\"||\"&B1935),Worktags!AR:AV,5,FALSE),\"\")","v":""}]
["",null,null,null,null,{"$f":"IFERROR(VLOOKUP(IF(C1936=\"\",B1936&\"||\"&B1936,C1936&\"||\"&B1936),Worktags!AR:AV,5,FALSE),\"\")","v":""}]
["",null,null,null,null,{"$f":"IFERROR(VLOOKUP(IF(C1937=\"\",B1937&\"||\"&B1937,C1937&\"||\"&B1937),Worktags!AR:AV,5,FALSE),\"\")","v":""}]
["",null,null,null,null,{"$f":"IFERROR(VLOOKUP(IF(C1938=\"\",B1938&\"||\"&B1938,C1938&\"||\"&B1938),Worktags!AR:AV,5,FALSE),\"\")","v":""}]
["",null,null,null,null,{"$f":"IFERROR(VLOOKUP(IF(C1939=\"\",B1939&\"||\"&B1939,C1939&\"||\"&B1939),Worktags!AR:AV,5,FALSE),\"\")","v":""}]
["",null,null,null,null,{"$f":"IFERROR(VLOOKUP(IF(C1940=\"\",B1940&\"||\"&B1940,C1940&\"||\"&B1940),Worktags!AR:AV,5,FALSE),\"\")","v":""}]
["",null,null,null,null,{"$f":"IFERROR(VLOOKUP(IF(C1941=\"\",B1941&\"||\"&B1941,C1941&\"||\"&B1941),Worktags!AR:AV,5,FALSE),\"\")","v":""}]
["",null,null,null,null,{"$f":"IFERROR(VLOOKUP(IF(C1942=\"\",B1942&\"||\"&B1942,C1942&\"||\"&B1942),Worktags!AR:AV,5,FALSE),\"\")","v":""}]
["",null,null,null,null,{"$f":"IFERROR(VLOOKUP(IF(C1943=\"\",B1943&\"||\"&B1943,C1943&\"||\"&B1943),Worktags!AR:AV,5,FALSE),\"\")","v":""}]
["",null,null,null,null,{"$f":"IFERROR(VLOOKUP(IF(C1944=\"\",B1944&\"||\"&B1944,C1944&\"||\"&B1944),Worktags!AR:AV,5,FALSE),\"\")","v":""}]
["",null,null,null,null,{"$f":"IFERROR(VLOOKUP(IF(C1945=\"\",B1945&\"||\"&B1945,C1945&\"||\"&B1945),Worktags!AR:AV,5,FALSE),\"\")","v":""}]
["",null,null,null,null,{"$f":"IFERROR(VLOOKUP(IF(C1946=\"\",B1946&\"||\"&B1946,C1946&\"||\"&B1946),Worktags!AR:AV,5,FALSE),\"\")","v":""}]
["",null,null,null,null,{"$f":"IFERROR(VLOOKUP(IF(C1947=\"\",B1947&\"||\"&B1947,C1947&\"||\"&B1947),Worktags!AR:AV,5,FALSE),\"\")","v":""}]
["",null,null,null,null,{"$f":"IFERROR(VLOOKUP(IF(C1948=\"\",B1948&\"||\"&B1948,C1948&\"||\"&B1948),Worktags!AR:AV,5,FALSE),\"\")","v":""}]
["",null,null,null,null,{"$f":"IFERROR(VLOOKUP(IF(C1949=\"\",B1949&\"||\"&B1949,C1949&\"||\"&B1949),Worktags!AR:AV,5,FALSE),\"\")","v":""}]
["",null,null,null,null,{"$f":"IFERROR(VLOOKUP(IF(C1950=\"\",B1950&\"||\"&B1950,C1950&\"||\"&B1950),Worktags!AR:AV,5,FALSE),\"\")","v":""}]
["",null,null,null,null,{"$f":"IFERROR(VLOOKUP(IF(C1951=\"\",B1951&\"||\"&B1951,C1951&\"||\"&B1951),Worktags!AR:AV,5,FALSE),\"\")","v":""}]
["",null,null,null,null,{"$f":"IFERROR(VLOOKUP(IF(C1952=\"\",B1952&\"||\"&B1952,C1952&\"||\"&B1952),Worktags!AR:AV,5,FALSE),\"\")","v":""}]
["",null,null,null,null,{"$f":"IFERROR(VLOOKUP(IF(C1953=\"\",B1953&\"||\"&B1953,C1953&\"||\"&B1953),Worktags!AR:AV,5,FALSE),\"\")","v":""}]
["",null,null,null,null,{"$f":"IFERROR(VLOOKUP(IF(C1954=\"\",B1954&\"||\"&B1954,C1954&\"||\"&B1954),Worktags!AR:AV,5,FALSE),\"\")","v":""}]
["",null,null,null,null,{"$f":"IFERROR(VLOOKUP(IF(C1955=\"\",B1955&\"||\"&B1955,C1955&\"||\"&B1955),Worktags!AR:AV,5,FALSE),\"\")","v":""}]
["",null,null,null,null,{"$f":"IFERROR(VLOOKUP(IF(C1956=\"\",B1956&\"||\"&B1956,C1956&\"||\"&B1956),Worktags!AR:AV,5,FALSE),\"\")","v":""}]
["",null,null,null,null,{"$f":"IFERROR(VLOOKUP(IF(C1957=\"\",B1957&\"||\"&B1957,C1957&\"||\"&B1957),Worktags!AR:AV,5,FALSE),\"\")","v":""}]
["",null,null,null,null,{"$f":"IFERROR(VLOOKUP(IF(C1958=\"\",B1958&\"||\"&B1958,C1958&\"||\"&B1958),Worktags!AR:AV,5,FALSE),\"\")","v":""}]
["",null,null,null,null,{"$f":"IFERROR(VLOOKUP(IF(C1959=\"\",B1959&\"||\"&B1959,C1959&\"||\"&B1959),Worktags!AR:AV,5,FALSE),\"\")","v":""}]
["",null,null,null,null,{"$f":"IFERROR(VLOOKUP(IF(C1960=\"\",B1960&\"||\"&B1960,C1960&\"||\"&B1960),Worktags!AR:AV,5,FALSE),\"\")","v":""}]
["",null,null,null,null,{"$f":"IFERROR(VLOOKUP(IF(C1961=\"\",B1961&\"||\"&B1961,C1961&\"||\"&B1961),Worktags!AR:AV,5,FALSE),\"\")","v":""}]
["",null,null,null,null,{"$f":"IFERROR(VLOOKUP(IF(C1962=\"\",B1962&\"||\"&B1962,C1962&\"||\"&B1962),Worktags!AR:AV,5,FALSE),\"\")","v":""}]
["",null,null,null,null,{"$f":"IFERROR(VLOOKUP(IF(C1963=\"\",B1963&\"||\"&B1963,C1963&\"||\"&B1963),Worktags!AR:AV,5,FALSE),\"\")","v":""}]
["",null,null,null,null,{"$f":"IFERROR(VLOOKUP(IF(C1964=\"\",B1964&\"||\"&B1964,C1964&\"||\"&B1964),Worktags!AR:AV,5,FALSE),\"\")","v":""}]
["",null,null,null,null,{"$f":"IFERROR(VLOOKUP(IF(C1965=\"\",B1965&\"||\"&B1965,C1965&\"||\"&B1965),Worktags!AR:AV,5,FALSE),\"\")","v":""}]
["",null,null,null,null,{"$f":"IFERROR(VLOOKUP(IF(C1966=\"\",B1966&\"||\"&B1966,C1966&\"||\"&B1966),Worktags!AR:AV,5,FALSE),\"\")","v":""}]
["",null,null,null,null,{"$f":"IFERROR(VLOOKUP(IF(C1967=\"\",B1967&\"||\"&B1967,C1967&\"||\"&B1967),Worktags!AR:AV,5,FALSE),\"\")","v":""}]
["",null,null,null,null,{"$f":"IFERROR(VLOOKUP(IF(C1968=\"\",B1968&\"||\"&B1968,C1968&\"||\"&B1968),Worktags!AR:AV,5,FALSE),\"\")","v":""}]
["",null,null,null,null,{"$f":"IFERROR(VLOOKUP(IF(C1969=\"\",B1969&\"||\"&B1969,C1969&\"||\"&B1969),Worktags!AR:AV,5,FALSE),\"\")","v":""}]
["",null,null,null,null,{"$f":"IFERROR(VLOOKUP(IF(C1970=\"\",B1970&\"||\"&B1970,C1970&\"||\"&B1970),Worktags!AR:AV,5,FALSE),\"\")","v":""}]
["",null,null,null,null,{"$f":"IFERROR(VLOOKUP(IF(C1971=\"\",B1971&\"||\"&B1971,C1971&\"||\"&B1971),Worktags!AR:AV,5,FALSE),\"\")","v":""}]
["",null,null,null,null,{"$f":"IFERROR(VLOOKUP(IF(C1972=\"\",B1972&\"||\"&B1972,C1972&\"||\"&B1972),Worktags!AR:AV,5,FALSE),\"\")","v":""}]
["",null,null,null,null,{"$f":"IFERROR(VLOOKUP(IF(C1973=\"\",B1973&\"||\"&B1973,C1973&\"||\"&B1973),Worktags!AR:AV,5,FALSE),\"\")","v":""}]
["",null,null,null,null,{"$f":"IFERROR(VLOOKUP(IF(C1974=\"\",B1974&\"||\"&B1974,C1974&\"||\"&B1974),Worktags!AR:AV,5,FALSE),\"\")","v":""}]
["",null,null,null,null,{"$f":"IFERROR(VLOOKUP(IF(C1975=\"\",B1975&\"||\"&B1975,C1975&\"||\"&B1975),Worktags!AR:AV,5,FALSE),\"\")","v":""}]
["",null,null,null,null,{"$f":"IFERROR(VLOOKUP(IF(C1976=\"\",B1976&\"||\"&B1976,C1976&\"||\"&B1976),Worktags!AR:AV,5,FALSE),\"\")","v":""}]
["",null,null,null,null,{"$f":"IFERROR(VLOOKUP(IF(C1977=\"\",B1977&\"||\"&B1977,C1977&\"||\"&B1977),Worktags!AR:AV,5,FALSE),\"\")","v":""}]
["",null,null,null,null,{"$f":"IFERROR(VLOOKUP(IF(C1978=\"\",B1978&\"||\"&B1978,C1978&\"||\"&B1978),Worktags!AR:AV,5,FALSE),\"\")","v":""}]
["",null,null,null,null,{"$f":"IFERROR(VLOOKUP(IF(C1979=\"\",B1979&\"||\"&B1979,C1979&\"||\"&B1979),Worktags!AR:AV,5,FALSE),\"\")","v":""}]
["",null,null,null,null,{"$f":"IFERROR(VLOOKUP(IF(C1980=\"\",B1980&\"||\"&B1980,C1980&\"||\"&B1980),Worktags!AR:AV,5,FALSE),\"\")","v":""}]
["",null,null,null,null,{"$f":"IFERROR(VLOOKUP(IF(C1981=\"\",B1981&\"||\"&B1981,C1981&\"||\"&B1981),Worktags!AR:AV,5,FALSE),\"\")","v":""}]
["",null,null,null,null,{"$f":"IFERROR(VLOOKUP(IF(C1982=\"\",B1982&\"||\"&B1982,C1982&\"||\"&B1982),Worktags!AR:AV,5,FALSE),\"\")","v":""}]
["",null,null,null,null,{"$f":"IFERROR(VLOOKUP(IF(C1983=\"\",B1983&\"||\"&B1983,C1983&\"||\"&B1983),Worktags!AR:AV,5,FALSE),\"\")","v":""}]
["",null,null,null,null,{"$f":"IFERROR(VLOOKUP(IF(C1984=\"\",B1984&\"||\"&B1984,C1984&\"||\"&B1984),Worktags!AR:AV,5,FALSE),\"\")","v":""}]
["",null,null,null,null,{"$f":"IFERROR(VLOOKUP(IF(C1985=\"\",B1985&\"||\"&B1985,C1985&\"||\"&B1985),Worktags!AR:AV,5,FALSE),\"\")","v":""}]
[{"$f":"IF(B1986<>\"\",IF(C1986<>\"\",B1986&\"_\"&C1986&\" \"&D1986&\"/\"&E1986,B1986&\" \"&D1986),\"\")","v":""},null,null,null,null,{"$f":"IFERROR(VLOOKUP(IF(C1986=\"\",B1986&\"||\"&B1986,C1986&\"||\"&B1986),Worktags!AR:AV,5,FALSE),\"\")","v":""}]
["",null,null,null,null,{"$f":"IFERROR(VLOOKUP(IF(C1987=\"\",B1987&\"||\"&B1987,C1987&\"||\"&B1987),Worktags!AR:AV,5,FALSE),\"\")","v":""}]
["",null,null,null,null,{"$f":"IFERROR(VLOOKUP(IF(C1988=\"\",B1988&\"||\"&B1988,C1988&\"||\"&B1988),Worktags!AR:AV,5,FALSE),\"\")","v":""}]
["",null,null,null,null,{"$f":"IFERROR(VLOOKUP(IF(C1989=\"\",B1989&\"||\"&B1989,C1989&\"||\"&B1989),Worktags!AR:AV,5,FALSE),\"\")","v":""}]
["",null,null,null,null,{"$f":"IFERROR(VLOOKUP(IF(C1990=\"\",B1990&\"||\"&B1990,C1990&\"||\"&B1990),Worktags!AR:AV,5,FALSE),\"\")","v":""}]
["",null,null,null,null,{"$f":"IFERROR(VLOOKUP(IF(C1991=\"\",B1991&\"||\"&B1991,C1991&\"||\"&B1991),Worktags!AR:AV,5,FALSE),\"\")","v":""}]
["",null,null,null,null,{"$f":"IFERROR(VLOOKUP(IF(C1992=\"\",B1992&\"||\"&B1992,C1992&\"||\"&B1992),Worktags!AR:AV,5,FALSE),\"\")","v":""}]
["",null,null,null,null,{"$f":"IFERROR(VLOOKUP(IF(C1993=\"\",B1993&\"||\"&B1993,C1993&\"||\"&B1993),Worktags!AR:AV,5,FALSE),\"\")","v":""}]
["",null,null,null,null,{"$f":"IFERROR(VLOOKUP(IF(C1994=\"\",B1994&\"||\"&B1994,C1994&\"||\"&B1994),Worktags!AR:AV,5,FALSE),\"\")","v":""}]
["",null,null,null,null,{"$f":"IFERROR(VLOOKUP(IF(C1995=\"\",B1995&\"||\"&B1995,C1995&\"||\"&B1995),Worktags!AR:AV,5,FALSE),\"\")","v":""}]
["",null,null,null,null,{"$f":"IFERROR(VLOOKUP(IF(C1996=\"\",B1996&\"||\"&B1996,C1996&\"||\"&B1996),Worktags!AR:AV,5,FALSE),\"\")","v":""}]
["",null,null,null,null,{"$f":"IFERROR(VLOOKUP(IF(C1997=\"\",B1997&\"||\"&B1997,C1997&\"||\"&B1997),Worktags!AR:AV,5,FALSE),\"\")","v":""}]
["",null,null,null,null,{"$f":"IFERROR(VLOOKUP(IF(C1998=\"\",B1998&\"||\"&B1998,C1998&\"||\"&B1998),Worktags!AR:AV,5,FALSE),\"\")","v":""}]
["",null,null,null,null,{"$f":"IFERROR(VLOOKUP(IF(C1999=\"\",B1999&\"||\"&B1999,C1999&\"||\"&B1999),Worktags!AR:AV,5,FALSE),\"\")","v":""}]
["",null,null,null,null,{"$f":"IFERROR(VLOOKUP(IF(C2000=\"\",B2000&\"||\"&B2000,C2000&\"||\"&B2000),Worktags!AR:AV,5,FALSE),\"\")","v":""}]
["",null,null,null,null,{"$f":"IFERROR(VLOOKUP(IF(C2001=\"\",B2001&\"||\"&B2001,C2001&\"||\"&B2001),Worktags!AR:AV,5,FALSE),\"\")","v":""}]
["",null,null,null,null,{"$f":"IFERROR(VLOOKUP(IF(C2002=\"\",B2002&\"||\"&B2002,C2002&\"||\"&B2002),Worktags!AR:AV,5,FALSE),\"\")","v":""}]
["",null,null,null,null,{"$f":"IFERROR(VLOOKUP(IF(C2003=\"\",B2003&\"||\"&B2003,C2003&\"||\"&B2003),Worktags!AR:AV,5,FALSE),\"\")","v":""}]
["",null,null,null,null,{"$f":"IFERROR(VLOOKUP(IF(C2004=\"\",B2004&\"||\"&B2004,C2004&\"||\"&B2004),Worktags!AR:AV,5,FALSE),\"\")","v":""}]
["",null,null,null,null,{"$f":"IFERROR(VLOOKUP(IF(C2005=\"\",B2005&\"||\"&B2005,C2005&\"||\"&B2005),Worktags!AR:AV,5,FALSE),\"\")","v":""}]
["",null,null,null,null,{"$f":"IFERROR(VLOOKUP(IF(C2006=\"\",B2006&\"||\"&B2006,C2006&\"||\"&B2006),Worktags!AR:AV,5,FALSE),\"\")","v":""}]
["",null,null,null,null,{"$f":"IFERROR(VLOOKUP(IF(C2007=\"\",B2007&\"||\"&B2007,C2007&\"||\"&B2007),Worktags!AR:AV,5,FALSE),\"\")","v":""}]
["",null,null,null,null,{"$f":"IFERROR(VLOOKUP(IF(C2008=\"\",B2008&\"||\"&B2008,C2008&\"||\"&B2008),Worktags!AR:AV,5,FALSE),\"\")","v":""}]
["",null,null,null,null,{"$f":"IFERROR(VLOOKUP(IF(C2009=\"\",B2009&\"||\"&B2009,C2009&\"||\"&B2009),Worktags!AR:AV,5,FALSE),\"\")","v":""}]
["",null,null,null,null,{"$f":"IFERROR(VLOOKUP(IF(C2010=\"\",B2010&\"||\"&B2010,C2010&\"||\"&B2010),Worktags!AR:AV,5,FALSE),\"\")","v":""}]
["",null,null,null,null,{"$f":"IFERROR(VLOOKUP(IF(C2011=\"\",B2011&\"||\"&B2011,C2011&\"||\"&B2011),Worktags!AR:AV,5,FALSE),\"\")","v":""}]
["",null,null,null,null,{"$f":"IFERROR(VLOOKUP(IF(C2012=\"\",B2012&\"||\"&B2012,C2012&\"||\"&B2012),Worktags!AR:AV,5,FALSE),\"\")","v":""}]
["",null,null,null,null,{"$f":"IFERROR(VLOOKUP(IF(C2013=\"\",B2013&\"||\"&B2013,C2013&\"||\"&B2013),Worktags!AR:AV,5,FALSE),\"\")","v":""}]
["",null,null,null,null,{"$f":"IFERROR(VLOOKUP(IF(C2014=\"\",B2014&\"||\"&B2014,C2014&\"||\"&B2014),Worktags!AR:AV,5,FALSE),\"\")","v":""}]
["",null,null,null,null,{"$f":"IFERROR(VLOOKUP(IF(C2015=\"\",B2015&\"||\"&B2015,C2015&\"||\"&B2015),Worktags!AR:AV,5,FALSE),\"\")","v":""}]
["",null,null,null,null,{"$f":"IFERROR(VLOOKUP(IF(C2016=\"\",B2016&\"||\"&B2016,C2016&\"||\"&B2016),Worktags!AR:AV,5,FALSE),\"\")","v":""}]
["",null,null,null,null,{"$f":"IFERROR(VLOOKUP(IF(C2017=\"\",B2017&\"||\"&B2017,C2017&\"||\"&B2017),Worktags!AR:AV,5,FALSE),\"\")","v":""}]
["",null,null,null,null,{"$f":"IFERROR(VLOOKUP(IF(C2018=\"\",B2018&\"||\"&B2018,C2018&\"||\"&B2018),Worktags!AR:AV,5,FALSE),\"\")","v":""}]
["",null,null,null,null,{"$f":"IFERROR(VLOOKUP(IF(C2019=\"\",B2019&\"||\"&B2019,C2019&\"||\"&B2019),Worktags!AR:AV,5,FALSE),\"\")","v":""}]
["",null,null,null,null,{"$f":"IFERROR(VLOOKUP(IF(C2020=\"\",B2020&\"||\"&B2020,C2020&\"||\"&B2020),Worktags!AR:AV,5,FALSE),\"\")","v":""}]
["",null,null,null,null,{"$f":"IFERROR(VLOOKUP(IF(C2021=\"\",B2021&\"||\"&B2021,C2021&\"||\"&B2021),Worktags!AR:AV,5,FALSE),\"\")","v":""}]
["",null,null,null,null,{"$f":"IFERROR(VLOOKUP(IF(C2022=\"\",B2022&\"||\"&B2022,C2022&\"||\"&B2022),Worktags!AR:AV,5,FALSE),\"\")","v":""}]
["",null,null,null,null,{"$f":"IFERROR(VLOOKUP(IF(C2023=\"\",B2023&\"||\"&B2023,C2023&\"||\"&B2023),Worktags!AR:AV,5,FALSE),\"\")","v":""}]
["",null,null,null,null,{"$f":"IFERROR(VLOOKUP(IF(C2024=\"\",B2024&\"||\"&B2024,C2024&\"||\"&B2024),Worktags!AR:AV,5,FALSE),\"\")","v":""}]
["",null,null,null,null,{"$f":"IFERROR(VLOOKUP(IF(C2025=\"\",B2025&\"||\"&B2025,C2025&\"||\"&B2025),Worktags!AR:AV,5,FALSE),\"\")","v":""}]
["",null,null,null,null,{"$f":"IFERROR(VLOOKUP(IF(C2026=\"\",B2026&\"||\"&B2026,C2026&\"||\"&B2026),Worktags!AR:AV,5,FALSE),\"\")","v":""}]
["",null,null,null,null,{"$f":"IFERROR(VLOOKUP(IF(C2027=\"\",B2027&\"||\"&B2027,C2027&\"||\"&B2027),Worktags!AR:AV,5,FALSE),\"\")","v":""}]
["",null,null,null,null,{"$f":"IFERROR(VLOOKUP(IF(C2028=\"\",B2028&\"||\"&B2028,C2028&\"||\"&B2028),Worktags!AR:AV,5,FALSE),\"\")","v":""}]
["",null,null,null,null,{"$f":"IFERROR(VLOOKUP(IF(C2029=\"\",B2029&\"||\"&B2029,C2029&\"||\"&B2029),Worktags!AR:AV,5,FALSE),\"\")","v":""}]
["",null,null,null,null,{"$f":"IFERROR(VLOOKUP(IF(C2030=\"\",B2030&\"||\"&B2030,C2030&\"||\"&B2030),Worktags!AR:AV,5,FALSE),\"\")","v":""}]
["",null,null,null,null,{"$f":"IFERROR(VLOOKUP(IF(C2031=\"\",B2031&\"||\"&B2031,C2031&\"||\"&B2031),Worktags!AR:AV,5,FALSE),\"\")","v":""}]
["",null,null,null,null,{"$f":"IFERROR(VLOOKUP(IF(C2032=\"\",B2032&\"||\"&B2032,C2032&\"||\"&B2032),Worktags!AR:AV,5,FALSE),\"\")","v":""}]
["",null,null,null,null,{"$f":"IFERROR(VLOOKUP(IF(C2033=\"\",B2033&\"||\"&B2033,C2033&\"||\"&B2033),Worktags!AR:AV,5,FALSE),\"\")","v":""}]
["",null,null,null,null,{"$f":"IFERROR(VLOOKUP(IF(C2034=\"\",B2034&\"||\"&B2034,C2034&\"||\"&B2034),Worktags!AR:AV,5,FALSE),\"\")","v":""}]
["",null,null,null,null,{"$f":"IFERROR(VLOOKUP(IF(C2035=\"\",B2035&\"||\"&B2035,C2035&\"||\"&B2035),Worktags!AR:AV,5,FALSE),\"\")","v":""}]
["",null,null,null,null,{"$f":"IFERROR(VLOOKUP(IF(C2036=\"\",B2036&\"||\"&B2036,C2036&\"||\"&B2036),Worktags!AR:AV,5,FALSE),\"\")","v":""}]
["",null,null,null,null,{"$f":"IFERROR(VLOOKUP(IF(C2037=\"\",B2037&\"||\"&B2037,C2037&\"||\"&B2037),Worktags!AR:AV,5,FALSE),\"\")","v":""}]
["",null,null,null,null,{"$f":"IFERROR(VLOOKUP(IF(C2038=\"\",B2038&\"||\"&B2038,C2038&\"||\"&B2038),Worktags!AR:AV,5,FALSE),\"\")","v":""}]
["",null,null,null,null,{"$f":"IFERROR(VLOOKUP(IF(C2039=\"\",B2039&\"||\"&B2039,C2039&\"||\"&B2039),Worktags!AR:AV,5,FALSE),\"\")","v":""}]
["",null,null,null,null,{"$f":"IFERROR(VLOOKUP(IF(C2040=\"\",B2040&\"||\"&B2040,C2040&\"||\"&B2040),Worktags!AR:AV,5,FALSE),\"\")","v":""}]
["",null,null,null,null,{"$f":"IFERROR(VLOOKUP(IF(C2041=\"\",B2041&\"||\"&B2041,C2041&\"||\"&B2041),Worktags!AR:AV,5,FALSE),\"\")","v":""}]
["",null,null,null,null,{"$f":"IFERROR(VLOOKUP(IF(C2042=\"\",B2042&\"||\"&B2042,C2042&\"||\"&B2042),Worktags!AR:AV,5,FALSE),\"\")","v":""}]
["",null,null,null,null,{"$f":"IFERROR(VLOOKUP(IF(C2043=\"\",B2043&\"||\"&B2043,C2043&\"||\"&B2043),Worktags!AR:AV,5,FALSE),\"\")","v":""}]
["",null,null,null,null,{"$f":"IFERROR(VLOOKUP(IF(C2044=\"\",B2044&\"||\"&B2044,C2044&\"||\"&B2044),Worktags!AR:AV,5,FALSE),\"\")","v":""}]
["",null,null,null,null,{"$f":"IFERROR(VLOOKUP(IF(C2045=\"\",B2045&\"||\"&B2045,C2045&\"||\"&B2045),Worktags!AR:AV,5,FALSE),\"\")","v":""}]
["",null,null,null,null,{"$f":"IFERROR(VLOOKUP(IF(C2046=\"\",B2046&\"||\"&B2046,C2046&\"||\"&B2046),Worktags!AR:AV,5,FALSE),\"\")","v":""}]
["",null,null,null,null,{"$f":"IFERROR(VLOOKUP(IF(C2047=\"\",B2047&\"||\"&B2047,C2047&\"||\"&B2047),Worktags!AR:AV,5,FALSE),\"\")","v":""}]
["",null,null,null,null,{"$f":"IFERROR(VLOOKUP(IF(C2048=\"\",B2048&\"||\"&B2048,C2048&\"||\"&B2048),Worktags!AR:AV,5,FALSE),\"\")","v":""}]
["",null,null,null,null,{"$f":"IFERROR(VLOOKUP(IF(C2049=\"\",B2049&\"||\"&B2049,C2049&\"||\"&B2049),Worktags!AR:AV,5,FALSE),\"\")","v":""}]
[{"$f":"IF(B2050<>\"\",IF(C2050<>\"\",B2050&\"_\"&C2050&\" \"&D2050&\"/\"&E2050,B2050&\" \"&D2050),\"\")","v":""},null,null,null,null,{"$f":"IFERROR(VLOOKUP(IF(C2050=\"\",B2050&\"||\"&B2050,C2050&\"||\"&B2050),Worktags!AR:AV,5,FALSE),\"\")","v":""}]
["",null,null,null,null,{"$f":"IFERROR(VLOOKUP(IF(C2051=\"\",B2051&\"||\"&B2051,C2051&\"||\"&B2051),Worktags!AR:AV,5,FALSE),\"\")","v":""}]
["",null,null,null,null,{"$f":"IFERROR(VLOOKUP(IF(C2052=\"\",B2052&\"||\"&B2052,C2052&\"||\"&B2052),Worktags!AR:AV,5,FALSE),\"\")","v":""}]
["",null,null,null,null,{"$f":"IFERROR(VLOOKUP(IF(C2053=\"\",B2053&\"||\"&B2053,C2053&\"||\"&B2053),Worktags!AR:AV,5,FALSE),\"\")","v":""}]
["",null,null,null,null,{"$f":"IFERROR(VLOOKUP(IF(C2054=\"\",B2054&\"||\"&B2054,C2054&\"||\"&B2054),Worktags!AR:AV,5,FALSE),\"\")","v":""}]
["",null,null,null,null,{"$f":"IFERROR(VLOOKUP(IF(C2055=\"\",B2055&\"||\"&B2055,C2055&\"||\"&B2055),Worktags!AR:AV,5,FALSE),\"\")","v":""}]
["",null,null,null,null,{"$f":"IFERROR(VLOOKUP(IF(C2056=\"\",B2056&\"||\"&B2056,C2056&\"||\"&B2056),Worktags!AR:AV,5,FALSE),\"\")","v":""}]
["",null,null,null,null,{"$f":"IFERROR(VLOOKUP(IF(C2057=\"\",B2057&\"||\"&B2057,C2057&\"||\"&B2057),Worktags!AR:AV,5,FALSE),\"\")","v":""}]
["",null,null,null,null,{"$f":"IFERROR(VLOOKUP(IF(C2058=\"\",B2058&\"||\"&B2058,C2058&\"||\"&B2058),Worktags!AR:AV,5,FALSE),\"\")","v":""}]
["",null,null,null,null,{"$f":"IFERROR(VLOOKUP(IF(C2059=\"\",B2059&\"||\"&B2059,C2059&\"||\"&B2059),Worktags!AR:AV,5,FALSE),\"\")","v":""}]
["",null,null,null,null,{"$f":"IFERROR(VLOOKUP(IF(C2060=\"\",B2060&\"||\"&B2060,C2060&\"||\"&B2060),Worktags!AR:AV,5,FALSE),\"\")","v":""}]
["",null,null,null,null,{"$f":"IFERROR(VLOOKUP(IF(C2061=\"\",B2061&\"||\"&B2061,C2061&\"||\"&B2061),Worktags!AR:AV,5,FALSE),\"\")","v":""}]
["",null,null,null,null,{"$f":"IFERROR(VLOOKUP(IF(C2062=\"\",B2062&\"||\"&B2062,C2062&\"||\"&B2062),Worktags!AR:AV,5,FALSE),\"\")","v":""}]
["",null,null,null,null,{"$f":"IFERROR(VLOOKUP(IF(C2063=\"\",B2063&\"||\"&B2063,C2063&\"||\"&B2063),Worktags!AR:AV,5,FALSE),\"\")","v":""}]
["",null,null,null,null,{"$f":"IFERROR(VLOOKUP(IF(C2064=\"\",B2064&\"||\"&B2064,C2064&\"||\"&B2064),Worktags!AR:AV,5,FALSE),\"\")","v":""}]
["",null,null,null,null,{"$f":"IFERROR(VLOOKUP(IF(C2065=\"\",B2065&\"||\"&B2065,C2065&\"||\"&B2065),Worktags!AR:AV,5,FALSE),\"\")","v":""}]
["",null,null,null,null,{"$f":"IFERROR(VLOOKUP(IF(C2066=\"\",B2066&\"||\"&B2066,C2066&\"||\"&B2066),Worktags!AR:AV,5,FALSE),\"\")","v":""}]
["",null,null,null,null,{"$f":"IFERROR(VLOOKUP(IF(C2067=\"\",B2067&\"||\"&B2067,C2067&\"||\"&B2067),Worktags!AR:AV,5,FALSE),\"\")","v":""}]
["",null,null,null,null,{"$f":"IFERROR(VLOOKUP(IF(C2068=\"\",B2068&\"||\"&B2068,C2068&\"||\"&B2068),Worktags!AR:AV,5,FALSE),\"\")","v":""}]
["",null,null,null,null,{"$f":"IFERROR(VLOOKUP(IF(C2069=\"\",B2069&\"||\"&B2069,C2069&\"||\"&B2069),Worktags!AR:AV,5,FALSE),\"\")","v":""}]
["",null,null,null,null,{"$f":"IFERROR(VLOOKUP(IF(C2070=\"\",B2070&\"||\"&B2070,C2070&\"||\"&B2070),Worktags!AR:AV,5,FALSE),\"\")","v":""}]
["",null,null,null,null,{"$f":"IFERROR(VLOOKUP(IF(C2071=\"\",B2071&\"||\"&B2071,C2071&\"||\"&B2071),Worktags!AR:AV,5,FALSE),\"\")","v":""}]
["",null,null,null,null,{"$f":"IFERROR(VLOOKUP(IF(C2072=\"\",B2072&\"||\"&B2072,C2072&\"||\"&B2072),Worktags!AR:AV,5,FALSE),\"\")","v":""}]
["",null,null,null,null,{"$f":"IFERROR(VLOOKUP(IF(C2073=\"\",B2073&\"||\"&B2073,C2073&\"||\"&B2073),Worktags!AR:AV,5,FALSE),\"\")","v":""}]
["",null,null,null,null,{"$f":"IFERROR(VLOOKUP(IF(C2074=\"\",B2074&\"||\"&B2074,C2074&\"||\"&B2074),Worktags!AR:AV,5,FALSE),\"\")","v":""}]
["",null,null,null,null,{"$f":"IFERROR(VLOOKUP(IF(C2075=\"\",B2075&\"||\"&B2075,C2075&\"||\"&B2075),Worktags!AR:AV,5,FALSE),\"\")","v":""}]
["",null,null,null,null,{"$f":"IFERROR(VLOOKUP(IF(C2076=\"\",B2076&\"||\"&B2076,C2076&\"||\"&B2076),Worktags!AR:AV,5,FALSE),\"\")","v":""}]
["",null,null,null,null,{"$f":"IFERROR(VLOOKUP(IF(C2077=\"\",B2077&\"||\"&B2077,C2077&\"||\"&B2077),Worktags!AR:AV,5,FALSE),\"\")","v":""}]
["",null,null,null,null,{"$f":"IFERROR(VLOOKUP(IF(C2078=\"\",B2078&\"||\"&B2078,C2078&\"||\"&B2078),Worktags!AR:AV,5,FALSE),\"\")","v":""}]
["",null,null,null,null,{"$f":"IFERROR(VLOOKUP(IF(C2079=\"\",B2079&\"||\"&B2079,C2079&\"||\"&B2079),Worktags!AR:AV,5,FALSE),\"\")","v":""}]
["",null,null,null,null,{"$f":"IFERROR(VLOOKUP(IF(C2080=\"\",B2080&\"||\"&B2080,C2080&\"||\"&B2080),Worktags!AR:AV,5,FALSE),\"\")","v":""}]
["",null,null,null,null,{"$f":"IFERROR(VLOOKUP(IF(C2081=\"\",B2081&\"||\"&B2081,C2081&\"||\"&B2081),Worktags!AR:AV,5,FALSE),\"\")","v":""}]
["",null,null,null,null,{"$f":"IFERROR(VLOOKUP(IF(C2082=\"\",B2082&\"||\"&B2082,C2082&\"||\"&B2082),Worktags!AR:AV,5,FALSE),\"\")","v":""}]
["",null,null,null,null,{"$f":"IFERROR(VLOOKUP(IF(C2083=\"\",B2083&\"||\"&B2083,C2083&\"||\"&B2083),Worktags!AR:AV,5,FALSE),\"\")","v":""}]
["",null,null,null,null,{"$f":"IFERROR(VLOOKUP(IF(C2084=\"\",B2084&\"||\"&B2084,C2084&\"||\"&B2084),Worktags!AR:AV,5,FALSE),\"\")","v":""}]
["",null,null,null,null,{"$f":"IFERROR(VLOOKUP(IF(C2085=\"\",B2085&\"||\"&B2085,C2085&\"||\"&B2085),Worktags!AR:AV,5,FALSE),\"\")","v":""}]
["",null,null,null,null,{"$f":"IFERROR(VLOOKUP(IF(C2086=\"\",B2086&\"||\"&B2086,C2086&\"||\"&B2086),Worktags!AR:AV,5,FALSE),\"\")","v":""}]
["",null,null,null,null,{"$f":"IFERROR(VLOOKUP(IF(C2087=\"\",B2087&\"||\"&B2087,C2087&\"||\"&B2087),Worktags!AR:AV,5,FALSE),\"\")","v":""}]
["",null,null,null,null,{"$f":"IFERROR(VLOOKUP(IF(C2088=\"\",B2088&\"||\"&B2088,C2088&\"||\"&B2088),Worktags!AR:AV,5,FALSE),\"\")","v":""}]
["",null,null,null,null,{"$f":"IFERROR(VLOOKUP(IF(C2089=\"\",B2089&\"||\"&B2089,C2089&\"||\"&B2089),Worktags!AR:AV,5,FALSE),\"\")","v":""}]
["",null,null,null,null,{"$f":"IFERROR(VLOOKUP(IF(C2090=\"\",B2090&\"||\"&B2090,C2090&\"||\"&B2090),Worktags!AR:AV,5,FALSE),\"\")","v":""}]
["",null,null,null,null,{"$f":"IFERROR(VLOOKUP(IF(C2091=\"\",B2091&\"||\"&B2091,C2091&\"||\"&B2091),Worktags!AR:AV,5,FALSE),\"\")","v":""}]
["",null,null,null,null,{"$f":"IFERROR(VLOOKUP(IF(C2092=\"\",B2092&\"||\"&B2092,C2092&\"||\"&B2092),Worktags!AR:AV,5,FALSE),\"\")","v":""}]
["",null,null,null,null,{"$f":"IFERROR(VLOOKUP(IF(C2093=\"\",B2093&\"||\"&B2093,C2093&\"||\"&B2093),Worktags!AR:AV,5,FALSE),\"\")","v":""}]
["",null,null,null,null,{"$f":"IFERROR(VLOOKUP(IF(C2094=\"\",B2094&\"||\"&B2094,C2094&\"||\"&B2094),Worktags!AR:AV,5,FALSE),\"\")","v":""}]
["",null,null,null,null,{"$f":"IFERROR(VLOOKUP(IF(C2095=\"\",B2095&\"||\"&B2095,C2095&\"||\"&B2095),Worktags!AR:AV,5,FALSE),\"\")","v":""}]
["",null,null,null,null,{"$f":"IFERROR(VLOOKUP(IF(C2096=\"\",B2096&\"||\"&B2096,C2096&\"||\"&B2096),Worktags!AR:AV,5,FALSE),\"\")","v":""}]
["",null,null,null,null,{"$f":"IFERROR(VLOOKUP(IF(C2097=\"\",B2097&\"||\"&B2097,C2097&\"||\"&B2097),Worktags!AR:AV,5,FALSE),\"\")","v":""}]
["",null,null,null,null,{"$f":"IFERROR(VLOOKUP(IF(C2098=\"\",B2098&\"||\"&B2098,C2098&\"||\"&B2098),Worktags!AR:AV,5,FALSE),\"\")","v":""}]
["",null,null,null,null,{"$f":"IFERROR(VLOOKUP(IF(C2099=\"\",B2099&\"||\"&B2099,C2099&\"||\"&B2099),Worktags!AR:AV,5,FALSE),\"\")","v":""}]
["",null,null,null,null,{"$f":"IFERROR(VLOOKUP(IF(C2100=\"\",B2100&\"||\"&B2100,C2100&\"||\"&B2100),Worktags!AR:AV,5,FALSE),\"\")","v":""}]
["",null,null,null,null,{"$f":"IFERROR(VLOOKUP(IF(C2101=\"\",B2101&\"||\"&B2101,C2101&\"||\"&B2101),Worktags!AR:AV,5,FALSE),\"\")","v":""}]
["",null,null,null,null,{"$f":"IFERROR(VLOOKUP(IF(C2102=\"\",B2102&\"||\"&B2102,C2102&\"||\"&B2102),Worktags!AR:AV,5,FALSE),\"\")","v":""}]
["",null,null,null,null,{"$f":"IFERROR(VLOOKUP(IF(C2103=\"\",B2103&\"||\"&B2103,C2103&\"||\"&B2103),Worktags!AR:AV,5,FALSE),\"\")","v":""}]
["",null,null,null,null,{"$f":"IFERROR(VLOOKUP(IF(C2104=\"\",B2104&\"||\"&B2104,C2104&\"||\"&B2104),Worktags!AR:AV,5,FALSE),\"\")","v":""}]
["",null,null,null,null,{"$f":"IFERROR(VLOOKUP(IF(C2105=\"\",B2105&\"||\"&B2105,C2105&\"||\"&B2105),Worktags!AR:AV,5,FALSE),\"\")","v":""}]
["",null,null,null,null,{"$f":"IFERROR(VLOOKUP(IF(C2106=\"\",B2106&\"||\"&B2106,C2106&\"||\"&B2106),Worktags!AR:AV,5,FALSE),\"\")","v":""}]
["",null,null,null,null,{"$f":"IFERROR(VLOOKUP(IF(C2107=\"\",B2107&\"||\"&B2107,C2107&\"||\"&B2107),Worktags!AR:AV,5,FALSE),\"\")","v":""}]
["",null,null,null,null,{"$f":"IFERROR(VLOOKUP(IF(C2108=\"\",B2108&\"||\"&B2108,C2108&\"||\"&B2108),Worktags!AR:AV,5,FALSE),\"\")","v":""}]
["",null,null,null,null,{"$f":"IFERROR(VLOOKUP(IF(C2109=\"\",B2109&\"||\"&B2109,C2109&\"||\"&B2109),Worktags!AR:AV,5,FALSE),\"\")","v":""}]
["",null,null,null,null,{"$f":"IFERROR(VLOOKUP(IF(C2110=\"\",B2110&\"||\"&B2110,C2110&\"||\"&B2110),Worktags!AR:AV,5,FALSE),\"\")","v":""}]
["",null,null,null,null,{"$f":"IFERROR(VLOOKUP(IF(C2111=\"\",B2111&\"||\"&B2111,C2111&\"||\"&B2111),Worktags!AR:AV,5,FALSE),\"\")","v":""}]
["",null,null,null,null,{"$f":"IFERROR(VLOOKUP(IF(C2112=\"\",B2112&\"||\"&B2112,C2112&\"||\"&B2112),Worktags!AR:AV,5,FALSE),\"\")","v":""}]
["",null,null,null,null,{"$f":"IFERROR(VLOOKUP(IF(C2113=\"\",B2113&\"||\"&B2113,C2113&\"||\"&B2113),Worktags!AR:AV,5,FALSE),\"\")","v":""}]
[{"$f":"IF(B2114<>\"\",IF(C2114<>\"\",B2114&\"_\"&C2114&\" \"&D2114&\"/\"&E2114,B2114&\" \"&D2114),\"\")","v":""},null,null,null,null,{"$f":"IFERROR(VLOOKUP(IF(C2114=\"\",B2114&\"||\"&B2114,C2114&\"||\"&B2114),Worktags!AR:AV,5,FALSE),\"\")","v":""}]
["",null,null,null,null,{"$f":"IFERROR(VLOOKUP(IF(C2115=\"\",B2115&\"||\"&B2115,C2115&\"||\"&B2115),Worktags!AR:AV,5,FALSE),\"\")","v":""}]
["",null,null,null,null,{"$f":"IFERROR(VLOOKUP(IF(C2116=\"\",B2116&\"||\"&B2116,C2116&\"||\"&B2116),Worktags!AR:AV,5,FALSE),\"\")","v":""}]
["",null,null,null,null,{"$f":"IFERROR(VLOOKUP(IF(C2117=\"\",B2117&\"||\"&B2117,C2117&\"||\"&B2117),Worktags!AR:AV,5,FALSE),\"\")","v":""}]
["",null,null,null,null,{"$f":"IFERROR(VLOOKUP(IF(C2118=\"\",B2118&\"||\"&B2118,C2118&\"||\"&B2118),Worktags!AR:AV,5,FALSE),\"\")","v":""}]
["",null,null,null,null,{"$f":"IFERROR(VLOOKUP(IF(C2119=\"\",B2119&\"||\"&B2119,C2119&\"||\"&B2119),Worktags!AR:AV,5,FALSE),\"\")","v":""}]
["",null,null,null,null,{"$f":"IFERROR(VLOOKUP(IF(C2120=\"\",B2120&\"||\"&B2120,C2120&\"||\"&B2120),Worktags!AR:AV,5,FALSE),\"\")","v":""}]
["",null,null,null,null,{"$f":"IFERROR(VLOOKUP(IF(C2121=\"\",B2121&\"||\"&B2121,C2121&\"||\"&B2121),Worktags!AR:AV,5,FALSE),\"\")","v":""}]
["",null,null,null,null,{"$f":"IFERROR(VLOOKUP(IF(C2122=\"\",B2122&\"||\"&B2122,C2122&\"||\"&B2122),Worktags!AR:AV,5,FALSE),\"\")","v":""}]
["",null,null,null,null,{"$f":"IFERROR(VLOOKUP(IF(C2123=\"\",B2123&\"||\"&B2123,C2123&\"||\"&B2123),Worktags!AR:AV,5,FALSE),\"\")","v":""}]
["",null,null,null,null,{"$f":"IFERROR(VLOOKUP(IF(C2124=\"\",B2124&\"||\"&B2124,C2124&\"||\"&B2124),Worktags!AR:AV,5,FALSE),\"\")","v":""}]
["",null,null,null,null,{"$f":"IFERROR(VLOOKUP(IF(C2125=\"\",B2125&\"||\"&B2125,C2125&\"||\"&B2125),Worktags!AR:AV,5,FALSE),\"\")","v":""}]
["",null,null,null,null,{"$f":"IFERROR(VLOOKUP(IF(C2126=\"\",B2126&\"||\"&B2126,C2126&\"||\"&B2126),Worktags!AR:AV,5,FALSE),\"\")","v":""}]
["",null,null,null,null,{"$f":"IFERROR(VLOOKUP(IF(C2127=\"\",B2127&\"||\"&B2127,C2127&\"||\"&B2127),Worktags!AR:AV,5,FALSE),\"\")","v":""}]
["",null,null,null,null,{"$f":"IFERROR(VLOOKUP(IF(C2128=\"\",B2128&\"||\"&B2128,C2128&\"||\"&B2128),Worktags!AR:AV,5,FALSE),\"\")","v":""}]
["",null,null,null,null,{"$f":"IFERROR(VLOOKUP(IF(C2129=\"\",B2129&\"||\"&B2129,C2129&\"||\"&B2129),Worktags!AR:AV,5,FALSE),\"\")","v":""}]
["",null,null,null,null,{"$f":"IFERROR(VLOOKUP(IF(C2130=\"\",B2130&\"||\"&B2130,C2130&\"||\"&B2130),Worktags!AR:AV,5,FALSE),\"\")","v":""}]
["",null,null,null,null,{"$f":"IFERROR(VLOOKUP(IF(C2131=\"\",B2131&\"||\"&B2131,C2131&\"||\"&B2131),Worktags!AR:AV,5,FALSE),\"\")","v":""}]
["",null,null,null,null,{"$f":"IFERROR(VLOOKUP(IF(C2132=\"\",B2132&\"||\"&B2132,C2132&\"||\"&B2132),Worktags!AR:AV,5,FALSE),\"\")","v":""}]
["",null,null,null,null,{"$f":"IFERROR(VLOOKUP(IF(C2133=\"\",B2133&\"||\"&B2133,C2133&\"||\"&B2133),Worktags!AR:AV,5,FALSE),\"\")","v":""}]
["",null,null,null,null,{"$f":"IFERROR(VLOOKUP(IF(C2134=\"\",B2134&\"||\"&B2134,C2134&\"||\"&B2134),Worktags!AR:AV,5,FALSE),\"\")","v":""}]
["",null,null,null,null,{"$f":"IFERROR(VLOOKUP(IF(C2135=\"\",B2135&\"||\"&B2135,C2135&\"||\"&B2135),Worktags!AR:AV,5,FALSE),\"\")","v":""}]
["",null,null,null,null,{"$f":"IFERROR(VLOOKUP(IF(C2136=\"\",B2136&\"||\"&B2136,C2136&\"||\"&B2136),Worktags!AR:AV,5,FALSE),\"\")","v":""}]
["",null,null,null,null,{"$f":"IFERROR(VLOOKUP(IF(C2137=\"\",B2137&\"||\"&B2137,C2137&\"||\"&B2137),Worktags!AR:AV,5,FALSE),\"\")","v":""}]
["",null,null,null,null,{"$f":"IFERROR(VLOOKUP(IF(C2138=\"\",B2138&\"||\"&B2138,C2138&\"||\"&B2138),Worktags!AR:AV,5,FALSE),\"\")","v":""}]
["",null,null,null,null,{"$f":"IFERROR(VLOOKUP(IF(C2139=\"\",B2139&\"||\"&B2139,C2139&\"||\"&B2139),Worktags!AR:AV,5,FALSE),\"\")","v":""}]
["",null,null,null,null,{"$f":"IFERROR(VLOOKUP(IF(C2140=\"\",B2140&\"||\"&B2140,C2140&\"||\"&B2140),Worktags!AR:AV,5,FALSE),\"\")","v":""}]
["",null,null,null,null,{"$f":"IFERROR(VLOOKUP(IF(C2141=\"\",B2141&\"||\"&B2141,C2141&\"||\"&B2141),Worktags!AR:AV,5,FALSE),\"\")","v":""}]
["",null,null,null,null,{"$f":"IFERROR(VLOOKUP(IF(C2142=\"\",B2142&\"||\"&B2142,C2142&\"||\"&B2142),Worktags!AR:AV,5,FALSE),\"\")","v":""}]
["",null,null,null,null,{"$f":"IFERROR(VLOOKUP(IF(C2143=\"\",B2143&\"||\"&B2143,C2143&\"||\"&B2143),Worktags!AR:AV,5,FALSE),\"\")","v":""}]
["",null,null,null,null,{"$f":"IFERROR(VLOOKUP(IF(C2144=\"\",B2144&\"||\"&B2144,C2144&\"||\"&B2144),Worktags!AR:AV,5,FALSE),\"\")","v":""}]
["",null,null,null,null,{"$f":"IFERROR(VLOOKUP(IF(C2145=\"\",B2145&\"||\"&B2145,C2145&\"||\"&B2145),Worktags!AR:AV,5,FALSE),\"\")","v":""}]
["",null,null,null,null,{"$f":"IFERROR(VLOOKUP(IF(C2146=\"\",B2146&\"||\"&B2146,C2146&\"||\"&B2146),Worktags!AR:AV,5,FALSE),\"\")","v":""}]
["",null,null,null,null,{"$f":"IFERROR(VLOOKUP(IF(C2147=\"\",B2147&\"||\"&B2147,C2147&\"||\"&B2147),Worktags!AR:AV,5,FALSE),\"\")","v":""}]
["",null,null,null,null,{"$f":"IFERROR(VLOOKUP(IF(C2148=\"\",B2148&\"||\"&B2148,C2148&\"||\"&B2148),Worktags!AR:AV,5,FALSE),\"\")","v":""}]
["",null,null,null,null,{"$f":"IFERROR(VLOOKUP(IF(C2149=\"\",B2149&\"||\"&B2149,C2149&\"||\"&B2149),Worktags!AR:AV,5,FALSE),\"\")","v":""}]
["",null,null,null,null,{"$f":"IFERROR(VLOOKUP(IF(C2150=\"\",B2150&\"||\"&B2150,C2150&\"||\"&B2150),Worktags!AR:AV,5,FALSE),\"\")","v":""}]
["",null,null,null,null,{"$f":"IFERROR(VLOOKUP(IF(C2151=\"\",B2151&\"||\"&B2151,C2151&\"||\"&B2151),Worktags!AR:AV,5,FALSE),\"\")","v":""}]
["",null,null,null,null,{"$f":"IFERROR(VLOOKUP(IF(C2152=\"\",B2152&\"||\"&B2152,C2152&\"||\"&B2152),Worktags!AR:AV,5,FALSE),\"\")","v":""}]
["",null,null,null,null,{"$f":"IFERROR(VLOOKUP(IF(C2153=\"\",B2153&\"||\"&B2153,C2153&\"||\"&B2153),Worktags!AR:AV,5,FALSE),\"\")","v":""}]
["",null,null,null,null,{"$f":"IFERROR(VLOOKUP(IF(C2154=\"\",B2154&\"||\"&B2154,C2154&\"||\"&B2154),Worktags!AR:AV,5,FALSE),\"\")","v":""}]
["",null,null,null,null,{"$f":"IFERROR(VLOOKUP(IF(C2155=\"\",B2155&\"||\"&B2155,C2155&\"||\"&B2155),Worktags!AR:AV,5,FALSE),\"\")","v":""}]
["",null,null,null,null,{"$f":"IFERROR(VLOOKUP(IF(C2156=\"\",B2156&\"||\"&B2156,C2156&\"||\"&B2156),Worktags!AR:AV,5,FALSE),\"\")","v":""}]
["",null,null,null,null,{"$f":"IFERROR(VLOOKUP(IF(C2157=\"\",B2157&\"||\"&B2157,C2157&\"||\"&B2157),Worktags!AR:AV,5,FALSE),\"\")","v":""}]
["",null,null,null,null,{"$f":"IFERROR(VLOOKUP(IF(C2158=\"\",B2158&\"||\"&B2158,C2158&\"||\"&B2158),Worktags!AR:AV,5,FALSE),\"\")","v":""}]
["",null,null,null,null,{"$f":"IFERROR(VLOOKUP(IF(C2159=\"\",B2159&\"||\"&B2159,C2159&\"||\"&B2159),Worktags!AR:AV,5,FALSE),\"\")","v":""}]
["",null,null,null,null,{"$f":"IFERROR(VLOOKUP(IF(C2160=\"\",B2160&\"||\"&B2160,C2160&\"||\"&B2160),Worktags!AR:AV,5,FALSE),\"\")","v":""}]
["",null,null,null,null,{"$f":"IFERROR(VLOOKUP(IF(C2161=\"\",B2161&\"||\"&B2161,C2161&\"||\"&B2161),Worktags!AR:AV,5,FALSE),\"\")","v":""}]
["",null,null,null,null,{"$f":"IFERROR(VLOOKUP(IF(C2162=\"\",B2162&\"||\"&B2162,C2162&\"||\"&B2162),Worktags!AR:AV,5,FALSE),\"\")","v":""}]
["",null,null,null,null,{"$f":"IFERROR(VLOOKUP(IF(C2163=\"\",B2163&\"||\"&B2163,C2163&\"||\"&B2163),Worktags!AR:AV,5,FALSE),\"\")","v":""}]
["",null,null,null,null,{"$f":"IFERROR(VLOOKUP(IF(C2164=\"\",B2164&\"||\"&B2164,C2164&\"||\"&B2164),Worktags!AR:AV,5,FALSE),\"\")","v":""}]
["",null,null,null,null,{"$f":"IFERROR(VLOOKUP(IF(C2165=\"\",B2165&\"||\"&B2165,C2165&\"||\"&B2165),Worktags!AR:AV,5,FALSE),\"\")","v":""}]
["",null,null,null,null,{"$f":"IFERROR(VLOOKUP(IF(C2166=\"\",B2166&\"||\"&B2166,C2166&\"||\"&B2166),Worktags!AR:AV,5,FALSE),\"\")","v":""}]
["",null,null,null,null,{"$f":"IFERROR(VLOOKUP(IF(C2167=\"\",B2167&\"||\"&B2167,C2167&\"||\"&B2167),Worktags!AR:AV,5,FALSE),\"\")","v":""}]
["",null,null,null,null,{"$f":"IFERROR(VLOOKUP(IF(C2168=\"\",B2168&\"||\"&B2168,C2168&\"||\"&B2168),Worktags!AR:AV,5,FALSE),\"\")","v":""}]
["",null,null,null,null,{"$f":"IFERROR(VLOOKUP(IF(C2169=\"\",B2169&\"||\"&B2169,C2169&\"||\"&B2169),Worktags!AR:AV,5,FALSE),\"\")","v":""}]
["",null,null,null,null,{"$f":"IFERROR(VLOOKUP(IF(C2170=\"\",B2170&\"||\"&B2170,C2170&\"||\"&B2170),Worktags!AR:AV,5,FALSE),\"\")","v":""}]
["",null,null,null,null,{"$f":"IFERROR(VLOOKUP(IF(C2171=\"\",B2171&\"||\"&B2171,C2171&\"||\"&B2171),Worktags!AR:AV,5,FALSE),\"\")","v":""}]
["",null,null,null,null,{"$f":"IFERROR(VLOOKUP(IF(C2172=\"\",B2172&\"||\"&B2172,C2172&\"||\"&B2172),Worktags!AR:AV,5,FALSE),\"\")","v":""}]
["",null,null,null,null,{"$f":"IFERROR(VLOOKUP(IF(C2173=\"\",B2173&\"||\"&B2173,C2173&\"||\"&B2173),Worktags!AR:AV,5,FALSE),\"\")","v":""}]
["",null,null,null,null,{"$f":"IFERROR(VLOOKUP(IF(C2174=\"\",B2174&\"||\"&B2174,C2174&\"||\"&B2174),Worktags!AR:AV,5,FALSE),\"\")","v":""}]
["",null,null,null,null,{"$f":"IFERROR(VLOOKUP(IF(C2175=\"\",B2175&\"||\"&B2175,C2175&\"||\"&B2175),Worktags!AR:AV,5,FALSE),\"\")","v":""}]
["",null,null,null,null,{"$f":"IFERROR(VLOOKUP(IF(C2176=\"\",B2176&\"||\"&B2176,C2176&\"||\"&B2176),Worktags!AR:AV,5,FALSE),\"\")","v":""}]
["",null,null,null,null,{"$f":"IFERROR(VLOOKUP(IF(C2177=\"\",B2177&\"||\"&B2177,C2177&\"||\"&B2177),Worktags!AR:AV,5,FALSE),\"\")","v":""}]
[{"$f":"IF(B2178<>\"\",IF(C2178<>\"\",B2178&\"_\"&C2178&\" \"&D2178&\"/\"&E2178,B2178&\" \"&D2178),\"\")","v":""},null,null,null,null,{"$f":"IFERROR(VLOOKUP(IF(C2178=\"\",B2178&\"||\"&B2178,C2178&\"||\"&B2178),Worktags!AR:AV,5,FALSE),\"\")","v":""}]
["",null,null,null,null,{"$f":"IFERROR(VLOOKUP(IF(C2179=\"\",B2179&\"||\"&B2179,C2179&\"||\"&B2179),Worktags!AR:AV,5,FALSE),\"\")","v":""}]
["",null,null,null,null,{"$f":"IFERROR(VLOOKUP(IF(C2180=\"\",B2180&\"||\"&B2180,C2180&\"||\"&B2180),Worktags!AR:AV,5,FALSE),\"\")","v":""}]
["",null,null,null,null,{"$f":"IFERROR(VLOOKUP(IF(C2181=\"\",B2181&\"||\"&B2181,C2181&\"||\"&B2181),Worktags!AR:AV,5,FALSE),\"\")","v":""}]
["",null,null,null,null,{"$f":"IFERROR(VLOOKUP(IF(C2182=\"\",B2182&\"||\"&B2182,C2182&\"||\"&B2182),Worktags!AR:AV,5,FALSE),\"\")","v":""}]
["",null,null,null,null,{"$f":"IFERROR(VLOOKUP(IF(C2183=\"\",B2183&\"||\"&B2183,C2183&\"||\"&B2183),Worktags!AR:AV,5,FALSE),\"\")","v":""}]
["",null,null,null,null,{"$f":"IFERROR(VLOOKUP(IF(C2184=\"\",B2184&\"||\"&B2184,C2184&\"||\"&B2184),Worktags!AR:AV,5,FALSE),\"\")","v":""}]
["",null,null,null,null,{"$f":"IFERROR(VLOOKUP(IF(C2185=\"\",B2185&\"||\"&B2185,C2185&\"||\"&B2185),Worktags!AR:AV,5,FALSE),\"\")","v":""}]
["",null,null,null,null,{"$f":"IFERROR(VLOOKUP(IF(C2186=\"\",B2186&\"||\"&B2186,C2186&\"||\"&B2186),Worktags!AR:AV,5,FALSE),\"\")","v":""}]
["",null,null,null,null,{"$f":"IFERROR(VLOOKUP(IF(C2187=\"\",B2187&\"||\"&B2187,C2187&\"||\"&B2187),Worktags!AR:AV,5,FALSE),\"\")","v":""}]
["",null,null,null,null,{"$f":"IFERROR(VLOOKUP(IF(C2188=\"\",B2188&\"||\"&B2188,C2188&\"||\"&B2188),Worktags!AR:AV,5,FALSE),\"\")","v":""}]
["",null,null,null,null,{"$f":"IFERROR(VLOOKUP(IF(C2189=\"\",B2189&\"||\"&B2189,C2189&\"||\"&B2189),Worktags!AR:AV,5,FALSE),\"\")","v":""}]
["",null,null,null,null,{"$f":"IFERROR(VLOOKUP(IF(C2190=\"\",B2190&\"||\"&B2190,C2190&\"||\"&B2190),Worktags!AR:AV,5,FALSE),\"\")","v":""}]
["",null,null,null,null,{"$f":"IFERROR(VLOOKUP(IF(C2191=\"\",B2191&\"||\"&B2191,C2191&\"||\"&B2191),Worktags!AR:AV,5,FALSE),\"\")","v":""}]
["",null,null,null,null,{"$f":"IFERROR(VLOOKUP(IF(C2192=\"\",B2192&\"||\"&B2192,C2192&\"||\"&B2192),Worktags!AR:AV,5,FALSE),\"\")","v":""}]
["",null,null,null,null,{"$f":"IFERROR(VLOOKUP(IF(C2193=\"\",B2193&\"||\"&B2193,C2193&\"||\"&B2193),Worktags!AR:AV,5,FALSE),\"\")","v":""}]
["",null,null,null,null,{"$f":"IFERROR(VLOOKUP(IF(C2194=\"\",B2194&\"||\"&B2194,C2194&\"||\"&B2194),Worktags!AR:AV,5,FALSE),\"\")","v":""}]
["",null,null,null,null,{"$f":"IFERROR(VLOOKUP(IF(C2195=\"\",B2195&\"||\"&B2195,C2195&\"||\"&B2195),Worktags!AR:AV,5,FALSE),\"\")","v":""}]
["",null,null,null,null,{"$f":"IFERROR(VLOOKUP(IF(C2196=\"\",B2196&\"||\"&B2196,C2196&\"||\"&B2196),Worktags!AR:AV,5,FALSE),\"\")","v":""}]
["",null,null,null,null,{"$f":"IFERROR(VLOOKUP(IF(C2197=\"\",B2197&\"||\"&B2197,C2197&\"||\"&B2197),Worktags!AR:AV,5,FALSE),\"\")","v":""}]
["",null,null,null,null,{"$f":"IFERROR(VLOOKUP(IF(C2198=\"\",B2198&\"||\"&B2198,C2198&\"||\"&B2198),Worktags!AR:AV,5,FALSE),\"\")","v":""}]
["",null,null,null,null,{"$f":"IFERROR(VLOOKUP(IF(C2199=\"\",B2199&\"||\"&B2199,C2199&\"||\"&B2199),Worktags!AR:AV,5,FALSE),\"\")","v":""}]
["",null,null,null,null,{"$f":"IFERROR(VLOOKUP(IF(C2200=\"\",B2200&\"||\"&B2200,C2200&\"||\"&B2200),Worktags!AR:AV,5,FALSE),\"\")","v":""}]
["",null,null,null,null,{"$f":"IFERROR(VLOOKUP(IF(C2201=\"\",B2201&\"||\"&B2201,C2201&\"||\"&B2201),Worktags!AR:AV,5,FALSE),\"\")","v":""}]
["",null,null,null,null,{"$f":"IFERROR(VLOOKUP(IF(C2202=\"\",B2202&\"||\"&B2202,C2202&\"||\"&B2202),Worktags!AR:AV,5,FALSE),\"\")","v":""}]
["",null,null,null,null,{"$f":"IFERROR(VLOOKUP(IF(C2203=\"\",B2203&\"||\"&B2203,C2203&\"||\"&B2203),Worktags!AR:AV,5,FALSE),\"\")","v":""}]
["",null,null,null,null,{"$f":"IFERROR(VLOOKUP(IF(C2204=\"\",B2204&\"||\"&B2204,C2204&\"||\"&B2204),Worktags!AR:AV,5,FALSE),\"\")","v":""}]
["",null,null,null,null,{"$f":"IFERROR(VLOOKUP(IF(C2205=\"\",B2205&\"||\"&B2205,C2205&\"||\"&B2205),Worktags!AR:AV,5,FALSE),\"\")","v":""}]
["",null,null,null,null,{"$f":"IFERROR(VLOOKUP(IF(C2206=\"\",B2206&\"||\"&B2206,C2206&\"||\"&B2206),Worktags!AR:AV,5,FALSE),\"\")","v":""}]
["",null,null,null,null,{"$f":"IFERROR(VLOOKUP(IF(C2207=\"\",B2207&\"||\"&B2207,C2207&\"||\"&B2207),Worktags!AR:AV,5,FALSE),\"\")","v":""}]
["",null,null,null,null,{"$f":"IFERROR(VLOOKUP(IF(C2208=\"\",B2208&\"||\"&B2208,C2208&\"||\"&B2208),Worktags!AR:AV,5,FALSE),\"\")","v":""}]
["",null,null,null,null,{"$f":"IFERROR(VLOOKUP(IF(C2209=\"\",B2209&\"||\"&B2209,C2209&\"||\"&B2209),Worktags!AR:AV,5,FALSE),\"\")","v":""}]
["",null,null,null,null,{"$f":"IFERROR(VLOOKUP(IF(C2210=\"\",B2210&\"||\"&B2210,C2210&\"||\"&B2210),Worktags!AR:AV,5,FALSE),\"\")","v":""}]
["",null,null,null,null,{"$f":"IFERROR(VLOOKUP(IF(C2211=\"\",B2211&\"||\"&B2211,C2211&\"||\"&B2211),Worktags!AR:AV,5,FALSE),\"\")","v":""}]
["",null,null,null,null,{"$f":"IFERROR(VLOOKUP(IF(C2212=\"\",B2212&\"||\"&B2212,C2212&\"||\"&B2212),Worktags!AR:AV,5,FALSE),\"\")","v":""}]
["",null,null,null,null,{"$f":"IFERROR(VLOOKUP(IF(C2213=\"\",B2213&\"||\"&B2213,C2213&\"||\"&B2213),Worktags!AR:AV,5,FALSE),\"\")","v":""}]
["",null,null,null,null,{"$f":"IFERROR(VLOOKUP(IF(C2214=\"\",B2214&\"||\"&B2214,C2214&\"||\"&B2214),Worktags!AR:AV,5,FALSE),\"\")","v":""}]
["",null,null,null,null,{"$f":"IFERROR(VLOOKUP(IF(C2215=\"\",B2215&\"||\"&B2215,C2215&\"||\"&B2215),Worktags!AR:AV,5,FALSE),\"\")","v":""}]
["",null,null,null,null,{"$f":"IFERROR(VLOOKUP(IF(C2216=\"\",B2216&\"||\"&B2216,C2216&\"||\"&B2216),Worktags!AR:AV,5,FALSE),\"\")","v":""}]
["",null,null,null,null,{"$f":"IFERROR(VLOOKUP(IF(C2217=\"\",B2217&\"||\"&B2217,C2217&\"||\"&B2217),Worktags!AR:AV,5,FALSE),\"\")","v":""}]
["",null,null,null,null,{"$f":"IFERROR(VLOOKUP(IF(C2218=\"\",B2218&\"||\"&B2218,C2218&\"||\"&B2218),Worktags!AR:AV,5,FALSE),\"\")","v":""}]
["",null,null,null,null,{"$f":"IFERROR(VLOOKUP(IF(C2219=\"\",B2219&\"||\"&B2219,C2219&\"||\"&B2219),Worktags!AR:AV,5,FALSE),\"\")","v":""}]
["",null,null,null,null,{"$f":"IFERROR(VLOOKUP(IF(C2220=\"\",B2220&\"||\"&B2220,C2220&\"||\"&B2220),Worktags!AR:AV,5,FALSE),\"\")","v":""}]
["",null,null,null,null,{"$f":"IFERROR(VLOOKUP(IF(C2221=\"\",B2221&\"||\"&B2221,C2221&\"||\"&B2221),Worktags!AR:AV,5,FALSE),\"\")","v":""}]
["",null,null,null,null,{"$f":"IFERROR(VLOOKUP(IF(C2222=\"\",B2222&\"||\"&B2222,C2222&\"||\"&B2222),Worktags!AR:AV,5,FALSE),\"\")","v":""}]
["",null,null,null,null,{"$f":"IFERROR(VLOOKUP(IF(C2223=\"\",B2223&\"||\"&B2223,C2223&\"||\"&B2223),Worktags!AR:AV,5,FALSE),\"\")","v":""}]
["",null,null,null,null,{"$f":"IFERROR(VLOOKUP(IF(C2224=\"\",B2224&\"||\"&B2224,C2224&\"||\"&B2224),Worktags!AR:AV,5,FALSE),\"\")","v":""}]
["",null,null,null,null,{"$f":"IFERROR(VLOOKUP(IF(C2225=\"\",B2225&\"||\"&B2225,C2225&\"||\"&B2225),Worktags!AR:AV,5,FALSE),\"\")","v":""}]
["",null,null,null,null,{"$f":"IFERROR(VLOOKUP(IF(C2226=\"\",B2226&\"||\"&B2226,C2226&\"||\"&B2226),Worktags!AR:AV,5,FALSE),\"\")","v":""}]
["",null,null,null,null,{"$f":"IFERROR(VLOOKUP(IF(C2227=\"\",B2227&\"||\"&B2227,C2227&\"||\"&B2227),Worktags!AR:AV,5,FALSE),\"\")","v":""}]
["",null,null,null,null,{"$f":"IFERROR(VLOOKUP(IF(C2228=\"\",B2228&\"||\"&B2228,C2228&\"||\"&B2228),Worktags!AR:AV,5,FALSE),\"\")","v":""}]
["",null,null,null,null,{"$f":"IFERROR(VLOOKUP(IF(C2229=\"\",B2229&\"||\"&B2229,C2229&\"||\"&B2229),Worktags!AR:AV,5,FALSE),\"\")","v":""}]
["",null,null,null,null,{"$f":"IFERROR(VLOOKUP(IF(C2230=\"\",B2230&\"||\"&B2230,C2230&\"||\"&B2230),Worktags!AR:AV,5,FALSE),\"\")","v":""}]
["",null,null,null,null,{"$f":"IFERROR(VLOOKUP(IF(C2231=\"\",B2231&\"||\"&B2231,C2231&\"||\"&B2231),Worktags!AR:AV,5,FALSE),\"\")","v":""}]
["",null,null,null,null,{"$f":"IFERROR(VLOOKUP(IF(C2232=\"\",B2232&\"||\"&B2232,C2232&\"||\"&B2232),Worktags!AR:AV,5,FALSE),\"\")","v":""}]
["",null,null,null,null,{"$f":"IFERROR(VLOOKUP(IF(C2233=\"\",B2233&\"||\"&B2233,C2233&\"||\"&B2233),Worktags!AR:AV,5,FALSE),\"\")","v":""}]
["",null,null,null,null,{"$f":"IFERROR(VLOOKUP(IF(C2234=\"\",B2234&\"||\"&B2234,C2234&\"||\"&B2234),Worktags!AR:AV,5,FALSE),\"\")","v":""}]
["",null,null,null,null,{"$f":"IFERROR(VLOOKUP(IF(C2235=\"\",B2235&\"||\"&B2235,C2235&\"||\"&B2235),Worktags!AR:AV,5,FALSE),\"\")","v":""}]
["",null,null,null,null,{"$f":"IFERROR(VLOOKUP(IF(C2236=\"\",B2236&\"||\"&B2236,C2236&\"||\"&B2236),Worktags!AR:AV,5,FALSE),\"\")","v":""}]
["",null,null,null,null,{"$f":"IFERROR(VLOOKUP(IF(C2237=\"\",B2237&\"||\"&B2237,C2237&\"||\"&B2237),Worktags!AR:AV,5,FALSE),\"\")","v":""}]
["",null,null,null,null,{"$f":"IFERROR(VLOOKUP(IF(C2238=\"\",B2238&\"||\"&B2238,C2238&\"||\"&B2238),Worktags!AR:AV,5,FALSE),\"\")","v":""}]
["",null,null,null,null,{"$f":"IFERROR(VLOOKUP(IF(C2239=\"\",B2239&\"||\"&B2239,C2239&\"||\"&B2239),Worktags!AR:AV,5,FALSE),\"\")","v":""}]
["",null,null,null,null,{"$f":"IFERROR(VLOOKUP(IF(C2240=\"\",B2240&\"||\"&B2240,C2240&\"||\"&B2240),Worktags!AR:AV,5,FALSE),\"\")","v":""}]
["",null,null,null,null,{"$f":"IFERROR(VLOOKUP(IF(C2241=\"\",B2241&\"||\"&B2241,C2241&\"||\"&B2241),Worktags!AR:AV,5,FALSE),\"\")","v":""}]
[{"$f":"IF(B2242<>\"\",IF(C2242<>\"\",B2242&\"_\"&C2242&\" \"&D2242&\"/\"&E2242,B2242&\" \"&D2242),\"\")","v":""},null,null,null,null,{"$f":"IFERROR(VLOOKUP(IF(C2242=\"\",B2242&\"||\"&B2242,C2242&\"||\"&B2242),Worktags!AR:AV,5,FALSE),\"\")","v":""}]
["",null,null,null,null,{"$f":"IFERROR(VLOOKUP(IF(C2243=\"\",B2243&\"||\"&B2243,C2243&\"||\"&B2243),Worktags!AR:AV,5,FALSE),\"\")","v":""}]
["",null,null,null,null,{"$f":"IFERROR(VLOOKUP(IF(C2244=\"\",B2244&\"||\"&B2244,C2244&\"||\"&B2244),Worktags!AR:AV,5,FALSE),\"\")","v":""}]
["",null,null,null,null,{"$f":"IFERROR(VLOOKUP(IF(C2245=\"\",B2245&\"||\"&B2245,C2245&\"||\"&B2245),Worktags!AR:AV,5,FALSE),\"\")","v":""}]
["",null,null,null,null,{"$f":"IFERROR(VLOOKUP(IF(C2246=\"\",B2246&\"||\"&B2246,C2246&\"||\"&B2246),Worktags!AR:AV,5,FALSE),\"\")","v":""}]
["",null,null,null,null,{"$f":"IFERROR(VLOOKUP(IF(C2247=\"\",B2247&\"||\"&B2247,C2247&\"||\"&B2247),Worktags!AR:AV,5,FALSE),\"\")","v":""}]
["",null,null,null,null,{"$f":"IFERROR(VLOOKUP(IF(C2248=\"\",B2248&\"||\"&B2248,C2248&\"||\"&B2248),Worktags!AR:AV,5,FALSE),\"\")","v":""}]
["",null,null,null,null,{"$f":"IFERROR(VLOOKUP(IF(C2249=\"\",B2249&\"||\"&B2249,C2249&\"||\"&B2249),Worktags!AR:AV,5,FALSE),\"\")","v":""}]
["",null,null,null,null,{"$f":"IFERROR(VLOOKUP(IF(C2250=\"\",B2250&\"||\"&B2250,C2250&\"||\"&B2250),Worktags!AR:AV,5,FALSE),\"\")","v":""}]
["",null,null,null,null,{"$f":"IFERROR(VLOOKUP(IF(C2251=\"\",B2251&\"||\"&B2251,C2251&\"||\"&B2251),Worktags!AR:AV,5,FALSE),\"\")","v":""}]
["",null,null,null,null,{"$f":"IFERROR(VLOOKUP(IF(C2252=\"\",B2252&\"||\"&B2252,C2252&\"||\"&B2252),Worktags!AR:AV,5,FALSE),\"\")","v":""}]
["",null,null,null,null,{"$f":"IFERROR(VLOOKUP(IF(C2253=\"\",B2253&\"||\"&B2253,C2253&\"||\"&B2253),Worktags!AR:AV,5,FALSE),\"\")","v":""}]
["",null,null,null,null,{"$f":"IFERROR(VLOOKUP(IF(C2254=\"\",B2254&\"||\"&B2254,C2254&\"||\"&B2254),Worktags!AR:AV,5,FALSE),\"\")","v":""}]
["",null,null,null,null,{"$f":"IFERROR(VLOOKUP(IF(C2255=\"\",B2255&\"||\"&B2255,C2255&\"||\"&B2255),Worktags!AR:AV,5,FALSE),\"\")","v":""}]
["",null,null,null,null,{"$f":"IFERROR(VLOOKUP(IF(C2256=\"\",B2256&\"||\"&B2256,C2256&\"||\"&B2256),Worktags!AR:AV,5,FALSE),\"\")","v":""}]
["",null,null,null,null,{"$f":"IFERROR(VLOOKUP(IF(C2257=\"\",B2257&\"||\"&B2257,C2257&\"||\"&B2257),Worktags!AR:AV,5,FALSE),\"\")","v":""}]
["",null,null,null,null,{"$f":"IFERROR(VLOOKUP(IF(C2258=\"\",B2258&\"||\"&B2258,C2258&\"||\"&B2258),Worktags!AR:AV,5,FALSE),\"\")","v":""}]
["",null,null,null,null,{"$f":"IFERROR(VLOOKUP(IF(C2259=\"\",B2259&\"||\"&B2259,C2259&\"||\"&B2259),Worktags!AR:AV,5,FALSE),\"\")","v":""}]
["",null,null,null,null,{"$f":"IFERROR(VLOOKUP(IF(C2260=\"\",B2260&\"||\"&B2260,C2260&\"||\"&B2260),Worktags!AR:AV,5,FALSE),\"\")","v":""}]
["",null,null,null,null,{"$f":"IFERROR(VLOOKUP(IF(C2261=\"\",B2261&\"||\"&B2261,C2261&\"||\"&B2261),Worktags!AR:AV,5,FALSE),\"\")","v":""}]
["",null,null,null,null,{"$f":"IFERROR(VLOOKUP(IF(C2262=\"\",B2262&\"||\"&B2262,C2262&\"||\"&B2262),Worktags!AR:AV,5,FALSE),\"\")","v":""}]
["",null,null,null,null,{"$f":"IFERROR(VLOOKUP(IF(C2263=\"\",B2263&\"||\"&B2263,C2263&\"||\"&B2263),Worktags!AR:AV,5,FALSE),\"\")","v":""}]
["",null,null,null,null,{"$f":"IFERROR(VLOOKUP(IF(C2264=\"\",B2264&\"||\"&B2264,C2264&\"||\"&B2264),Worktags!AR:AV,5,FALSE),\"\")","v":""}]
["",null,null,null,null,{"$f":"IFERROR(VLOOKUP(IF(C2265=\"\",B2265&\"||\"&B2265,C2265&\"||\"&B2265),Worktags!AR:AV,5,FALSE),\"\")","v":""}]
["",null,null,null,null,{"$f":"IFERROR(VLOOKUP(IF(C2266=\"\",B2266&\"||\"&B2266,C2266&\"||\"&B2266),Worktags!AR:AV,5,FALSE),\"\")","v":""}]
["",null,null,null,null,{"$f":"IFERROR(VLOOKUP(IF(C2267=\"\",B2267&\"||\"&B2267,C2267&\"||\"&B2267),Worktags!AR:AV,5,FALSE),\"\")","v":""}]
["",null,null,null,null,{"$f":"IFERROR(VLOOKUP(IF(C2268=\"\",B2268&\"||\"&B2268,C2268&\"||\"&B2268),Worktags!AR:AV,5,FALSE),\"\")","v":""}]
["",null,null,null,null,{"$f":"IFERROR(VLOOKUP(IF(C2269=\"\",B2269&\"||\"&B2269,C2269&\"||\"&B2269),Worktags!AR:AV,5,FALSE),\"\")","v":""}]
["",null,null,null,null,{"$f":"IFERROR(VLOOKUP(IF(C2270=\"\",B2270&\"||\"&B2270,C2270&\"||\"&B2270),Worktags!AR:AV,5,FALSE),\"\")","v":""}]
["",null,null,null,null,{"$f":"IFERROR(VLOOKUP(IF(C2271=\"\",B2271&\"||\"&B2271,C2271&\"||\"&B2271),Worktags!AR:AV,5,FALSE),\"\")","v":""}]
["",null,null,null,null,{"$f":"IFERROR(VLOOKUP(IF(C2272=\"\",B2272&\"||\"&B2272,C2272&\"||\"&B2272),Worktags!AR:AV,5,FALSE),\"\")","v":""}]
["",null,null,null,null,{"$f":"IFERROR(VLOOKUP(IF(C2273=\"\",B2273&\"||\"&B2273,C2273&\"||\"&B2273),Worktags!AR:AV,5,FALSE),\"\")","v":""}]
["",null,null,null,null,{"$f":"IFERROR(VLOOKUP(IF(C2274=\"\",B2274&\"||\"&B2274,C2274&\"||\"&B2274),Worktags!AR:AV,5,FALSE),\"\")","v":""}]
["",null,null,null,null,{"$f":"IFERROR(VLOOKUP(IF(C2275=\"\",B2275&\"||\"&B2275,C2275&\"||\"&B2275),Worktags!AR:AV,5,FALSE),\"\")","v":""}]
["",null,null,null,null,{"$f":"IFERROR(VLOOKUP(IF(C2276=\"\",B2276&\"||\"&B2276,C2276&\"||\"&B2276),Worktags!AR:AV,5,FALSE),\"\")","v":""}]
["",null,null,null,null,{"$f":"IFERROR(VLOOKUP(IF(C2277=\"\",B2277&\"||\"&B2277,C2277&\"||\"&B2277),Worktags!AR:AV,5,FALSE),\"\")","v":""}]
["",null,null,null,null,{"$f":"IFERROR(VLOOKUP(IF(C2278=\"\",B2278&\"||\"&B2278,C2278&\"||\"&B2278),Worktags!AR:AV,5,FALSE),\"\")","v":""}]
["",null,null,null,null,{"$f":"IFERROR(VLOOKUP(IF(C2279=\"\",B2279&\"||\"&B2279,C2279&\"||\"&B2279),Worktags!AR:AV,5,FALSE),\"\")","v":""}]
["",null,null,null,null,{"$f":"IFERROR(VLOOKUP(IF(C2280=\"\",B2280&\"||\"&B2280,C2280&\"||\"&B2280),Worktags!AR:AV,5,FALSE),\"\")","v":""}]
["",null,null,null,null,{"$f":"IFERROR(VLOOKUP(IF(C2281=\"\",B2281&\"||\"&B2281,C2281&\"||\"&B2281),Worktags!AR:AV,5,FALSE),\"\")","v":""}]
["",null,null,null,null,{"$f":"IFERROR(VLOOKUP(IF(C2282=\"\",B2282&\"||\"&B2282,C2282&\"||\"&B2282),Worktags!AR:AV,5,FALSE),\"\")","v":""}]
["",null,null,null,null,{"$f":"IFERROR(VLOOKUP(IF(C2283=\"\",B2283&\"||\"&B2283,C2283&\"||\"&B2283),Worktags!AR:AV,5,FALSE),\"\")","v":""}]
["",null,null,null,null,{"$f":"IFERROR(VLOOKUP(IF(C2284=\"\",B2284&\"||\"&B2284,C2284&\"||\"&B2284),Worktags!AR:AV,5,FALSE),\"\")","v":""}]
["",null,null,null,null,{"$f":"IFERROR(VLOOKUP(IF(C2285=\"\",B2285&\"||\"&B2285,C2285&\"||\"&B2285),Worktags!AR:AV,5,FALSE),\"\")","v":""}]
["",null,null,null,null,{"$f":"IFERROR(VLOOKUP(IF(C2286=\"\",B2286&\"||\"&B2286,C2286&\"||\"&B2286),Worktags!AR:AV,5,FALSE),\"\")","v":""}]
["",null,null,null,null,{"$f":"IFERROR(VLOOKUP(IF(C2287=\"\",B2287&\"||\"&B2287,C2287&\"||\"&B2287),Worktags!AR:AV,5,FALSE),\"\")","v":""}]
["",null,null,null,null,{"$f":"IFERROR(VLOOKUP(IF(C2288=\"\",B2288&\"||\"&B2288,C2288&\"||\"&B2288),Worktags!AR:AV,5,FALSE),\"\")","v":""}]
["",null,null,null,null,{"$f":"IFERROR(VLOOKUP(IF(C2289=\"\",B2289&\"||\"&B2289,C2289&\"||\"&B2289),Worktags!AR:AV,5,FALSE),\"\")","v":""}]
["",null,null,null,null,{"$f":"IFERROR(VLOOKUP(IF(C2290=\"\",B2290&\"||\"&B2290,C2290&\"||\"&B2290),Worktags!AR:AV,5,FALSE),\"\")","v":""}]
["",null,null,null,null,{"$f":"IFERROR(VLOOKUP(IF(C2291=\"\",B2291&\"||\"&B2291,C2291&\"||\"&B2291),Worktags!AR:AV,5,FALSE),\"\")","v":""}]
["",null,null,null,null,{"$f":"IFERROR(VLOOKUP(IF(C2292=\"\",B2292&\"||\"&B2292,C2292&\"||\"&B2292),Worktags!AR:AV,5,FALSE),\"\")","v":""}]
["",null,null,null,null,{"$f":"IFERROR(VLOOKUP(IF(C2293=\"\",B2293&\"||\"&B2293,C2293&\"||\"&B2293),Worktags!AR:AV,5,FALSE),\"\")","v":""}]
["",null,null,null,null,{"$f":"IFERROR(VLOOKUP(IF(C2294=\"\",B2294&\"||\"&B2294,C2294&\"||\"&B2294),Worktags!AR:AV,5,FALSE),\"\")","v":""}]
["",null,null,null,null,{"$f":"IFERROR(VLOOKUP(IF(C2295=\"\",B2295&\"||\"&B2295,C2295&\"||\"&B2295),Worktags!AR:AV,5,FALSE),\"\")","v":""}]
["",null,null,null,null,{"$f":"IFERROR(VLOOKUP(IF(C2296=\"\",B2296&\"||\"&B2296,C2296&\"||\"&B2296),Worktags!AR:AV,5,FALSE),\"\")","v":""}]
["",null,null,null,null,{"$f":"IFERROR(VLOOKUP(IF(C2297=\"\",B2297&\"||\"&B2297,C2297&\"||\"&B2297),Worktags!AR:AV,5,FALSE),\"\")","v":""}]
["",null,null,null,null,{"$f":"IFERROR(VLOOKUP(IF(C2298=\"\",B2298&\"||\"&B2298,C2298&\"||\"&B2298),Worktags!AR:AV,5,FALSE),\"\")","v":""}]
["",null,null,null,null,{"$f":"IFERROR(VLOOKUP(IF(C2299=\"\",B2299&\"||\"&B2299,C2299&\"||\"&B2299),Worktags!AR:AV,5,FALSE),\"\")","v":""}]
["",null,null,null,null,{"$f":"IFERROR(VLOOKUP(IF(C2300=\"\",B2300&\"||\"&B2300,C2300&\"||\"&B2300),Worktags!AR:AV,5,FALSE),\"\")","v":""}]
["",null,null,null,null,{"$f":"IFERROR(VLOOKUP(IF(C2301=\"\",B2301&\"||\"&B2301,C2301&\"||\"&B2301),Worktags!AR:AV,5,FALSE),\"\")","v":""}]
["",null,null,null,null,{"$f":"IFERROR(VLOOKUP(IF(C2302=\"\",B2302&\"||\"&B2302,C2302&\"||\"&B2302),Worktags!AR:AV,5,FALSE),\"\")","v":""}]
["",null,null,null,null,{"$f":"IFERROR(VLOOKUP(IF(C2303=\"\",B2303&\"||\"&B2303,C2303&\"||\"&B2303),Worktags!AR:AV,5,FALSE),\"\")","v":""}]
["",null,null,null,null,{"$f":"IFERROR(VLOOKUP(IF(C2304=\"\",B2304&\"||\"&B2304,C2304&\"||\"&B2304),Worktags!AR:AV,5,FALSE),\"\")","v":""}]
["",null,null,null,null,{"$f":"IFERROR(VLOOKUP(IF(C2305=\"\",B2305&\"||\"&B2305,C2305&\"||\"&B2305),Worktags!AR:AV,5,FALSE),\"\")","v":""}]
[{"$f":"IF(B2306<>\"\",IF(C2306<>\"\",B2306&\"_\"&C2306&\" \"&D2306&\"/\"&E2306,B2306&\" \"&D2306),\"\")","v":""},null,null,null,null,{"$f":"IFERROR(VLOOKUP(IF(C2306=\"\",B2306&\"||\"&B2306,C2306&\"||\"&B2306),Worktags!AR:AV,5,FALSE),\"\")","v":""}]
["",null,null,null,null,{"$f":"IFERROR(VLOOKUP(IF(C2307=\"\",B2307&\"||\"&B2307,C2307&\"||\"&B2307),Worktags!AR:AV,5,FALSE),\"\")","v":""}]
["",null,null,null,null,{"$f":"IFERROR(VLOOKUP(IF(C2308=\"\",B2308&\"||\"&B2308,C2308&\"||\"&B2308),Worktags!AR:AV,5,FALSE),\"\")","v":""}]
["",null,null,null,null,{"$f":"IFERROR(VLOOKUP(IF(C2309=\"\",B2309&\"||\"&B2309,C2309&\"||\"&B2309),Worktags!AR:AV,5,FALSE),\"\")","v":""}]
["",null,null,null,null,{"$f":"IFERROR(VLOOKUP(IF(C2310=\"\",B2310&\"||\"&B2310,C2310&\"||\"&B2310),Worktags!AR:AV,5,FALSE),\"\")","v":""}]
["",null,null,null,null,{"$f":"IFERROR(VLOOKUP(IF(C2311=\"\",B2311&\"||\"&B2311,C2311&\"||\"&B2311),Worktags!AR:AV,5,FALSE),\"\")","v":""}]
["",null,null,null,null,{"$f":"IFERROR(VLOOKUP(IF(C2312=\"\",B2312&\"||\"&B2312,C2312&\"||\"&B2312),Worktags!AR:AV,5,FALSE),\"\")","v":""}]
["",null,null,null,null,{"$f":"IFERROR(VLOOKUP(IF(C2313=\"\",B2313&\"||\"&B2313,C2313&\"||\"&B2313),Worktags!AR:AV,5,FALSE),\"\")","v":""}]
["",null,null,null,null,{"$f":"IFERROR(VLOOKUP(IF(C2314=\"\",B2314&\"||\"&B2314,C2314&\"||\"&B2314),Worktags!AR:AV,5,FALSE),\"\")","v":""}]
["",null,null,null,null,{"$f":"IFERROR(VLOOKUP(IF(C2315=\"\",B2315&\"||\"&B2315,C2315&\"||\"&B2315),Worktags!AR:AV,5,FALSE),\"\")","v":""}]
["",null,null,null,null,{"$f":"IFERROR(VLOOKUP(IF(C2316=\"\",B2316&\"||\"&B2316,C2316&\"||\"&B2316),Worktags!AR:AV,5,FALSE),\"\")","v":""}]
["",null,null,null,null,{"$f":"IFERROR(VLOOKUP(IF(C2317=\"\",B2317&\"||\"&B2317,C2317&\"||\"&B2317),Worktags!AR:AV,5,FALSE),\"\")","v":""}]
["",null,null,null,null,{"$f":"IFERROR(VLOOKUP(IF(C2318=\"\",B2318&\"||\"&B2318,C2318&\"||\"&B2318),Worktags!AR:AV,5,FALSE),\"\")","v":""}]
["",null,null,null,null,{"$f":"IFERROR(VLOOKUP(IF(C2319=\"\",B2319&\"||\"&B2319,C2319&\"||\"&B2319),Worktags!AR:AV,5,FALSE),\"\")","v":""}]
["",null,null,null,null,{"$f":"IFERROR(VLOOKUP(IF(C2320=\"\",B2320&\"||\"&B2320,C2320&\"||\"&B2320),Worktags!AR:AV,5,FALSE),\"\")","v":""}]
["",null,null,null,null,{"$f":"IFERROR(VLOOKUP(IF(C2321=\"\",B2321&\"||\"&B2321,C2321&\"||\"&B2321),Worktags!AR:AV,5,FALSE),\"\")","v":""}]
["",null,null,null,null,{"$f":"IFERROR(VLOOKUP(IF(C2322=\"\",B2322&\"||\"&B2322,C2322&\"||\"&B2322),Worktags!AR:AV,5,FALSE),\"\")","v":""}]
["",null,null,null,null,{"$f":"IFERROR(VLOOKUP(IF(C2323=\"\",B2323&\"||\"&B2323,C2323&\"||\"&B2323),Worktags!AR:AV,5,FALSE),\"\")","v":""}]
["",null,null,null,null,{"$f":"IFERROR(VLOOKUP(IF(C2324=\"\",B2324&\"||\"&B2324,C2324&\"||\"&B2324),Worktags!AR:AV,5,FALSE),\"\")","v":""}]
["",null,null,null,null,{"$f":"IFERROR(VLOOKUP(IF(C2325=\"\",B2325&\"||\"&B2325,C2325&\"||\"&B2325),Worktags!AR:AV,5,FALSE),\"\")","v":""}]
["",null,null,null,null,{"$f":"IFERROR(VLOOKUP(IF(C2326=\"\",B2326&\"||\"&B2326,C2326&\"||\"&B2326),Worktags!AR:AV,5,FALSE),\"\")","v":""}]
["",null,null,null,null,{"$f":"IFERROR(VLOOKUP(IF(C2327=\"\",B2327&\"||\"&B2327,C2327&\"||\"&B2327),Worktags!AR:AV,5,FALSE),\"\")","v":""}]
["",null,null,null,null,{"$f":"IFERROR(VLOOKUP(IF(C2328=\"\",B2328&\"||\"&B2328,C2328&\"||\"&B2328),Worktags!AR:AV,5,FALSE),\"\")","v":""}]
["",null,null,null,null,{"$f":"IFERROR(VLOOKUP(IF(C2329=\"\",B2329&\"||\"&B2329,C2329&\"||\"&B2329),Worktags!AR:AV,5,FALSE),\"\")","v":""}]
["",null,null,null,null,{"$f":"IFERROR(VLOOKUP(IF(C2330=\"\",B2330&\"||\"&B2330,C2330&\"||\"&B2330),Worktags!AR:AV,5,FALSE),\"\")","v":""}]
["",null,null,null,null,{"$f":"IFERROR(VLOOKUP(IF(C2331=\"\",B2331&\"||\"&B2331,C2331&\"||\"&B2331),Worktags!AR:AV,5,FALSE),\"\")","v":""}]
["",null,null,null,null,{"$f":"IFERROR(VLOOKUP(IF(C2332=\"\",B2332&\"||\"&B2332,C2332&\"||\"&B2332),Worktags!AR:AV,5,FALSE),\"\")","v":""}]
["",null,null,null,null,{"$f":"IFERROR(VLOOKUP(IF(C2333=\"\",B2333&\"||\"&B2333,C2333&\"||\"&B2333),Worktags!AR:AV,5,FALSE),\"\")","v":""}]
["",null,null,null,null,{"$f":"IFERROR(VLOOKUP(IF(C2334=\"\",B2334&\"||\"&B2334,C2334&\"||\"&B2334),Worktags!AR:AV,5,FALSE),\"\")","v":""}]
["",null,null,null,null,{"$f":"IFERROR(VLOOKUP(IF(C2335=\"\",B2335&\"||\"&B2335,C2335&\"||\"&B2335),Worktags!AR:AV,5,FALSE),\"\")","v":""}]
["",null,null,null,null,{"$f":"IFERROR(VLOOKUP(IF(C2336=\"\",B2336&\"||\"&B2336,C2336&\"||\"&B2336),Worktags!AR:AV,5,FALSE),\"\")","v":""}]
["",null,null,null,null,{"$f":"IFERROR(VLOOKUP(IF(C2337=\"\",B2337&\"||\"&B2337,C2337&\"||\"&B2337),Worktags!AR:AV,5,FALSE),\"\")","v":""}]
["",null,null,null,null,{"$f":"IFERROR(VLOOKUP(IF(C2338=\"\",B2338&\"||\"&B2338,C2338&\"||\"&B2338),Worktags!AR:AV,5,FALSE),\"\")","v":""}]
["",null,null,null,null,{"$f":"IFERROR(VLOOKUP(IF(C2339=\"\",B2339&\"||\"&B2339,C2339&\"||\"&B2339),Worktags!AR:AV,5,FALSE),\"\")","v":""}]
["",null,null,null,null,{"$f":"IFERROR(VLOOKUP(IF(C2340=\"\",B2340&\"||\"&B2340,C2340&\"||\"&B2340),Worktags!AR:AV,5,FALSE),\"\")","v":""}]
["",null,null,null,null,{"$f":"IFERROR(VLOOKUP(IF(C2341=\"\",B2341&\"||\"&B2341,C2341&\"||\"&B2341),Worktags!AR:AV,5,FALSE),\"\")","v":""}]
["",null,null,null,null,{"$f":"IFERROR(VLOOKUP(IF(C2342=\"\",B2342&\"||\"&B2342,C2342&\"||\"&B2342),Worktags!AR:AV,5,FALSE),\"\")","v":""}]
["",null,null,null,null,{"$f":"IFERROR(VLOOKUP(IF(C2343=\"\",B2343&\"||\"&B2343,C2343&\"||\"&B2343),Worktags!AR:AV,5,FALSE),\"\")","v":""}]
["",null,null,null,null,{"$f":"IFERROR(VLOOKUP(IF(C2344=\"\",B2344&\"||\"&B2344,C2344&\"||\"&B2344),Worktags!AR:AV,5,FALSE),\"\")","v":""}]
["",null,null,null,null,{"$f":"IFERROR(VLOOKUP(IF(C2345=\"\",B2345&\"||\"&B2345,C2345&\"||\"&B2345),Worktags!AR:AV,5,FALSE),\"\")","v":""}]
["",null,null,null,null,{"$f":"IFERROR(VLOOKUP(IF(C2346=\"\",B2346&\"||\"&B2346,C2346&\"||\"&B2346),Worktags!AR:AV,5,FALSE),\"\")","v":""}]
["",null,null,null,null,{"$f":"IFERROR(VLOOKUP(IF(C2347=\"\",B2347&\"||\"&B2347,C2347&\"||\"&B2347),Worktags!AR:AV,5,FALSE),\"\")","v":""}]
["",null,null,null,null,{"$f":"IFERROR(VLOOKUP(IF(C2348=\"\",B2348&\"||\"&B2348,C2348&\"||\"&B2348),Worktags!AR:AV,5,FALSE),\"\")","v":""}]
["",null,null,null,null,{"$f":"IFERROR(VLOOKUP(IF(C2349=\"\",B2349&\"||\"&B2349,C2349&\"||\"&B2349),Worktags!AR:AV,5,FALSE),\"\")","v":""}]
["",null,null,null,null,{"$f":"IFERROR(VLOOKUP(IF(C2350=\"\",B2350&\"||\"&B2350,C2350&\"||\"&B2350),Worktags!AR:AV,5,FALSE),\"\")","v":""}]
["",null,null,null,null,{"$f":"IFERROR(VLOOKUP(IF(C2351=\"\",B2351&\"||\"&B2351,C2351&\"||\"&B2351),Worktags!AR:AV,5,FALSE),\"\")","v":""}]
["",null,null,null,null,{"$f":"IFERROR(VLOOKUP(IF(C2352=\"\",B2352&\"||\"&B2352,C2352&\"||\"&B2352),Worktags!AR:AV,5,FALSE),\"\")","v":""}]
["",null,null,null,null,{"$f":"IFERROR(VLOOKUP(IF(C2353=\"\",B2353&\"||\"&B2353,C2353&\"||\"&B2353),Worktags!AR:AV,5,FALSE),\"\")","v":""}]
["",null,null,null,null,{"$f":"IFERROR(VLOOKUP(IF(C2354=\"\",B2354&\"||\"&B2354,C2354&\"||\"&B2354),Worktags!AR:AV,5,FALSE),\"\")","v":""}]
["",null,null,null,null,{"$f":"IFERROR(VLOOKUP(IF(C2355=\"\",B2355&\"||\"&B2355,C2355&\"||\"&B2355),Worktags!AR:AV,5,FALSE),\"\")","v":""}]
["",null,null,null,null,{"$f":"IFERROR(VLOOKUP(IF(C2356=\"\",B2356&\"||\"&B2356,C2356&\"||\"&B2356),Worktags!AR:AV,5,FALSE),\"\")","v":""}]
["",null,null,null,null,{"$f":"IFERROR(VLOOKUP(IF(C2357=\"\",B2357&\"||\"&B2357,C2357&\"||\"&B2357),Worktags!AR:AV,5,FALSE),\"\")","v":""}]
["",null,null,null,null,{"$f":"IFERROR(VLOOKUP(IF(C2358=\"\",B2358&\"||\"&B2358,C2358&\"||\"&B2358),Worktags!AR:AV,5,FALSE),\"\")","v":""}]
["",null,null,null,null,{"$f":"IFERROR(VLOOKUP(IF(C2359=\"\",B2359&\"||\"&B2359,C2359&\"||\"&B2359),Worktags!AR:AV,5,FALSE),\"\")","v":""}]
["",null,null,null,null,{"$f":"IFERROR(VLOOKUP(IF(C2360=\"\",B2360&\"||\"&B2360,C2360&\"||\"&B2360),Worktags!AR:AV,5,FALSE),\"\")","v":""}]
["",null,null,null,null,{"$f":"IFERROR(VLOOKUP(IF(C2361=\"\",B2361&\"||\"&B2361,C2361&\"||\"&B2361),Worktags!AR:AV,5,FALSE),\"\")","v":""}]
["",null,null,null,null,{"$f":"IFERROR(VLOOKUP(IF(C2362=\"\",B2362&\"||\"&B2362,C2362&\"||\"&B2362),Worktags!AR:AV,5,FALSE),\"\")","v":""}]
["",null,null,null,null,{"$f":"IFERROR(VLOOKUP(IF(C2363=\"\",B2363&\"||\"&B2363,C2363&\"||\"&B2363),Worktags!AR:AV,5,FALSE),\"\")","v":""}]
["",null,null,null,null,{"$f":"IFERROR(VLOOKUP(IF(C2364=\"\",B2364&\"||\"&B2364,C2364&\"||\"&B2364),Worktags!AR:AV,5,FALSE),\"\")","v":""}]
["",null,null,null,null,{"$f":"IFERROR(VLOOKUP(IF(C2365=\"\",B2365&\"||\"&B2365,C2365&\"||\"&B2365),Worktags!AR:AV,5,FALSE),\"\")","v":""}]
["",null,null,null,null,{"$f":"IFERROR(VLOOKUP(IF(C2366=\"\",B2366&\"||\"&B2366,C2366&\"||\"&B2366),Worktags!AR:AV,5,FALSE),\"\")","v":""}]
["",null,null,null,null,{"$f":"IFERROR(VLOOKUP(IF(C2367=\"\",B2367&\"||\"&B2367,C2367&\"||\"&B2367),Worktags!AR:AV,5,FALSE),\"\")","v":""}]
["",null,null,null,null,{"$f":"IFERROR(VLOOKUP(IF(C2368=\"\",B2368&\"||\"&B2368,C2368&\"||\"&B2368),Worktags!AR:AV,5,FALSE),\"\")","v":""}]
["",null,null,null,null,{"$f":"IFERROR(VLOOKUP(IF(C2369=\"\",B2369&\"||\"&B2369,C2369&\"||\"&B2369),Worktags!AR:AV,5,FALSE),\"\")","v":""}]
[{"$f":"IF(B2370<>\"\",IF(C2370<>\"\",B2370&\"_\"&C2370&\" \"&D2370&\"/\"&E2370,B2370&\" \"&D2370),\"\")","v":""},null,null,null,null,{"$f":"IFERROR(VLOOKUP(IF(C2370=\"\",B2370&\"||\"&B2370,C2370&\"||\"&B2370),Worktags!AR:AV,5,FALSE),\"\")","v":""}]
["",null,null,null,null,{"$f":"IFERROR(VLOOKUP(IF(C2371=\"\",B2371&\"||\"&B2371,C2371&\"||\"&B2371),Worktags!AR:AV,5,FALSE),\"\")","v":""}]
["",null,null,null,null,{"$f":"IFERROR(VLOOKUP(IF(C2372=\"\",B2372&\"||\"&B2372,C2372&\"||\"&B2372),Worktags!AR:AV,5,FALSE),\"\")","v":""}]
["",null,null,null,null,{"$f":"IFERROR(VLOOKUP(IF(C2373=\"\",B2373&\"||\"&B2373,C2373&\"||\"&B2373),Worktags!AR:AV,5,FALSE),\"\")","v":""}]
["",null,null,null,null,{"$f":"IFERROR(VLOOKUP(IF(C2374=\"\",B2374&\"||\"&B2374,C2374&\"||\"&B2374),Worktags!AR:AV,5,FALSE),\"\")","v":""}]
["",null,null,null,null,{"$f":"IFERROR(VLOOKUP(IF(C2375=\"\",B2375&\"||\"&B2375,C2375&\"||\"&B2375),Worktags!AR:AV,5,FALSE),\"\")","v":""}]
["",null,null,null,null,{"$f":"IFERROR(VLOOKUP(IF(C2376=\"\",B2376&\"||\"&B2376,C2376&\"||\"&B2376),Worktags!AR:AV,5,FALSE),\"\")","v":""}]
["",null,null,null,null,{"$f":"IFERROR(VLOOKUP(IF(C2377=\"\",B2377&\"||\"&B2377,C2377&\"||\"&B2377),Worktags!AR:AV,5,FALSE),\"\")","v":""}]
["",null,null,null,null,{"$f":"IFERROR(VLOOKUP(IF(C2378=\"\",B2378&\"||\"&B2378,C2378&\"||\"&B2378),Worktags!AR:AV,5,FALSE),\"\")","v":""}]
["",null,null,null,null,{"$f":"IFERROR(VLOOKUP(IF(C2379=\"\",B2379&\"||\"&B2379,C2379&\"||\"&B2379),Worktags!AR:AV,5,FALSE),\"\")","v":""}]
["",null,null,null,null,{"$f":"IFERROR(VLOOKUP(IF(C2380=\"\",B2380&\"||\"&B2380,C2380&\"||\"&B2380),Worktags!AR:AV,5,FALSE),\"\")","v":""}]
["",null,null,null,null,{"$f":"IFERROR(VLOOKUP(IF(C2381=\"\",B2381&\"||\"&B2381,C2381&\"||\"&B2381),Worktags!AR:AV,5,FALSE),\"\")","v":""}]
["",null,null,null,null,{"$f":"IFERROR(VLOOKUP(IF(C2382=\"\",B2382&\"||\"&B2382,C2382&\"||\"&B2382),Worktags!AR:AV,5,FALSE),\"\")","v":""}]
["",null,null,null,null,{"$f":"IFERROR(VLOOKUP(IF(C2383=\"\",B2383&\"||\"&B2383,C2383&\"||\"&B2383),Worktags!AR:AV,5,FALSE),\"\")","v":""}]
["",null,null,null,null,{"$f":"IFERROR(VLOOKUP(IF(C2384=\"\",B2384&\"||\"&B2384,C2384&\"||\"&B2384),Worktags!AR:AV,5,FALSE),\"\")","v":""}]
["",null,null,null,null,{"$f":"IFERROR(VLOOKUP(IF(C2385=\"\",B2385&\"||\"&B2385,C2385&\"||\"&B2385),Worktags!AR:AV,5,FALSE),\"\")","v":""}]
["",null,null,null,null,{"$f":"IFERROR(VLOOKUP(IF(C2386=\"\",B2386&\"||\"&B2386,C2386&\"||\"&B2386),Worktags!AR:AV,5,FALSE),\"\")","v":""}]
["",null,null,null,null,{"$f":"IFERROR(VLOOKUP(IF(C2387=\"\",B2387&\"||\"&B2387,C2387&\"||\"&B2387),Worktags!AR:AV,5,FALSE),\"\")","v":""}]
["",null,null,null,null,{"$f":"IFERROR(VLOOKUP(IF(C2388=\"\",B2388&\"||\"&B2388,C2388&\"||\"&B2388),Worktags!AR:AV,5,FALSE),\"\")","v":""}]
["",null,null,null,null,{"$f":"IFERROR(VLOOKUP(IF(C2389=\"\",B2389&\"||\"&B2389,C2389&\"||\"&B2389),Worktags!AR:AV,5,FALSE),\"\")","v":""}]
["",null,null,null,null,{"$f":"IFERROR(VLOOKUP(IF(C2390=\"\",B2390&\"||\"&B2390,C2390&\"||\"&B2390),Worktags!AR:AV,5,FALSE),\"\")","v":""}]
["",null,null,null,null,{"$f":"IFERROR(VLOOKUP(IF(C2391=\"\",B2391&\"||\"&B2391,C2391&\"||\"&B2391),Worktags!AR:AV,5,FALSE),\"\")","v":""}]
["",null,null,null,null,{"$f":"IFERROR(VLOOKUP(IF(C2392=\"\",B2392&\"||\"&B2392,C2392&\"||\"&B2392),Worktags!AR:AV,5,FALSE),\"\")","v":""}]
["",null,null,null,null,{"$f":"IFERROR(VLOOKUP(IF(C2393=\"\",B2393&\"||\"&B2393,C2393&\"||\"&B2393),Worktags!AR:AV,5,FALSE),\"\")","v":""}]
["",null,null,null,null,{"$f":"IFERROR(VLOOKUP(IF(C2394=\"\",B2394&\"||\"&B2394,C2394&\"||\"&B2394),Worktags!AR:AV,5,FALSE),\"\")","v":""}]
["",null,null,null,null,{"$f":"IFERROR(VLOOKUP(IF(C2395=\"\",B2395&\"||\"&B2395,C2395&\"||\"&B2395),Worktags!AR:AV,5,FALSE),\"\")","v":""}]
["",null,null,null,null,{"$f":"IFERROR(VLOOKUP(IF(C2396=\"\",B2396&\"||\"&B2396,C2396&\"||\"&B2396),Worktags!AR:AV,5,FALSE),\"\")","v":""}]
["",null,null,null,null,{"$f":"IFERROR(VLOOKUP(IF(C2397=\"\",B2397&\"||\"&B2397,C2397&\"||\"&B2397),Worktags!AR:AV,5,FALSE),\"\")","v":""}]
["",null,null,null,null,{"$f":"IFERROR(VLOOKUP(IF(C2398=\"\",B2398&\"||\"&B2398,C2398&\"||\"&B2398),Worktags!AR:AV,5,FALSE),\"\")","v":""}]
["",null,null,null,null,{"$f":"IFERROR(VLOOKUP(IF(C2399=\"\",B2399&\"||\"&B2399,C2399&\"||\"&B2399),Worktags!AR:AV,5,FALSE),\"\")","v":""}]
["",null,null,null,null,{"$f":"IFERROR(VLOOKUP(IF(C2400=\"\",B2400&\"||\"&B2400,C2400&\"||\"&B2400),Worktags!AR:AV,5,FALSE),\"\")","v":""}]
["",null,null,null,null,{"$f":"IFERROR(VLOOKUP(IF(C2401=\"\",B2401&\"||\"&B2401,C2401&\"||\"&B2401),Worktags!AR:AV,5,FALSE),\"\")","v":""}]
["",null,null,null,null,{"$f":"IFERROR(VLOOKUP(IF(C2402=\"\",B2402&\"||\"&B2402,C2402&\"||\"&B2402),Worktags!AR:AV,5,FALSE),\"\")","v":""}]
["",null,null,null,null,{"$f":"IFERROR(VLOOKUP(IF(C2403=\"\",B2403&\"||\"&B2403,C2403&\"||\"&B2403),Worktags!AR:AV,5,FALSE),\"\")","v":""}]
["",null,null,null,null,{"$f":"IFERROR(VLOOKUP(IF(C2404=\"\",B2404&\"||\"&B2404,C2404&\"||\"&B2404),Worktags!AR:AV,5,FALSE),\"\")","v":""}]
["",null,null,null,null,{"$f":"IFERROR(VLOOKUP(IF(C2405=\"\",B2405&\"||\"&B2405,C2405&\"||\"&B2405),Worktags!AR:AV,5,FALSE),\"\")","v":""}]
["",null,null,null,null,{"$f":"IFERROR(VLOOKUP(IF(C2406=\"\",B2406&\"||\"&B2406,C2406&\"||\"&B2406),Worktags!AR:AV,5,FALSE),\"\")","v":""}]
["",null,null,null,null,{"$f":"IFERROR(VLOOKUP(IF(C2407=\"\",B2407&\"||\"&B2407,C2407&\"||\"&B2407),Worktags!AR:AV,5,FALSE),\"\")","v":""}]
["",null,null,null,null,{"$f":"IFERROR(VLOOKUP(IF(C2408=\"\",B2408&\"||\"&B2408,C2408&\"||\"&B2408),Worktags!AR:AV,5,FALSE),\"\")","v":""}]
["",null,null,null,null,{"$f":"IFERROR(VLOOKUP(IF(C2409=\"\",B2409&\"||\"&B2409,C2409&\"||\"&B2409),Worktags!AR:AV,5,FALSE),\"\")","v":""}]
["",null,null,null,null,{"$f":"IFERROR(VLOOKUP(IF(C2410=\"\",B2410&\"||\"&B2410,C2410&\"||\"&B2410),Worktags!AR:AV,5,FALSE),\"\")","v":""}]
["",null,null,null,null,{"$f":"IFERROR(VLOOKUP(IF(C2411=\"\",B2411&\"||\"&B2411,C2411&\"||\"&B2411),Worktags!AR:AV,5,FALSE),\"\")","v":""}]
["",null,null,null,null,{"$f":"IFERROR(VLOOKUP(IF(C2412=\"\",B2412&\"||\"&B2412,C2412&\"||\"&B2412),Worktags!AR:AV,5,FALSE),\"\")","v":""}]
["",null,null,null,null,{"$f":"IFERROR(VLOOKUP(IF(C2413=\"\",B2413&\"||\"&B2413,C2413&\"||\"&B2413),Worktags!AR:AV,5,FALSE),\"\")","v":""}]
["",null,null,null,null,{"$f":"IFERROR(VLOOKUP(IF(C2414=\"\",B2414&\"||\"&B2414,C2414&\"||\"&B2414),Worktags!AR:AV,5,FALSE),\"\")","v":""}]
["",null,null,null,null,{"$f":"IFERROR(VLOOKUP(IF(C2415=\"\",B2415&\"||\"&B2415,C2415&\"||\"&B2415),Worktags!AR:AV,5,FALSE),\"\")","v":""}]
["",null,null,null,null,{"$f":"IFERROR(VLOOKUP(IF(C2416=\"\",B2416&\"||\"&B2416,C2416&\"||\"&B2416),Worktags!AR:AV,5,FALSE),\"\")","v":""}]
["",null,null,null,null,{"$f":"IFERROR(VLOOKUP(IF(C2417=\"\",B2417&\"||\"&B2417,C2417&\"||\"&B2417),Worktags!AR:AV,5,FALSE),\"\")","v":""}]
["",null,null,null,null,{"$f":"IFERROR(VLOOKUP(IF(C2418=\"\",B2418&\"||\"&B2418,C2418&\"||\"&B2418),Worktags!AR:AV,5,FALSE),\"\")","v":""}]
["",null,null,null,null,{"$f":"IFERROR(VLOOKUP(IF(C2419=\"\",B2419&\"||\"&B2419,C2419&\"||\"&B2419),Worktags!AR:AV,5,FALSE),\"\")","v":""}]
["",null,null,null,null,{"$f":"IFERROR(VLOOKUP(IF(C2420=\"\",B2420&\"||\"&B2420,C2420&\"||\"&B2420),Worktags!AR:AV,5,FALSE),\"\")","v":""}]
["",null,null,null,null,{"$f":"IFERROR(VLOOKUP(IF(C2421=\"\",B2421&\"||\"&B2421,C2421&\"||\"&B2421),Worktags!AR:AV,5,FALSE),\"\")","v":""}]
["",null,null,null,null,{"$f":"IFERROR(VLOOKUP(IF(C2422=\"\",B2422&\"||\"&B2422,C2422&\"||\"&B2422),Worktags!AR:AV,5,FALSE),\"\")","v":""}]
["",null,null,null,null,{"$f":"IFERROR(VLOOKUP(IF(C2423=\"\",B2423&\"||\"&B2423,C2423&\"||\"&B2423),Worktags!AR:AV,5,FALSE),\"\")","v":""}]
["",null,null,null,null,{"$f":"IFERROR(VLOOKUP(IF(C2424=\"\",B2424&\"||\"&B2424,C2424&\"||\"&B2424),Worktags!AR:AV,5,FALSE),\"\")","v":""}]
["",null,null,null,null,{"$f":"IFERROR(VLOOKUP(IF(C2425=\"\",B2425&\"||\"&B2425,C2425&\"||\"&B2425),Worktags!AR:AV,5,FALSE),\"\")","v":""}]
["",null,null,null,null,{"$f":"IFERROR(VLOOKUP(IF(C2426=\"\",B2426&\"||\"&B2426,C2426&\"||\"&B2426),Worktags!AR:AV,5,FALSE),\"\")","v":""}]
["",null,null,null,null,{"$f":"IFERROR(VLOOKUP(IF(C2427=\"\",B2427&\"||\"&B2427,C2427&\"||\"&B2427),Worktags!AR:AV,5,FALSE),\"\")","v":""}]
["",null,null,null,null,{"$f":"IFERROR(VLOOKUP(IF(C2428=\"\",B2428&\"||\"&B2428,C2428&\"||\"&B2428),Worktags!AR:AV,5,FALSE),\"\")","v":""}]
["",null,null,null,null,{"$f":"IFERROR(VLOOKUP(IF(C2429=\"\",B2429&\"||\"&B2429,C2429&\"||\"&B2429),Worktags!AR:AV,5,FALSE),\"\")","v":""}]
["",null,null,null,null,{"$f":"IFERROR(VLOOKUP(IF(C2430=\"\",B2430&\"||\"&B2430,C2430&\"||\"&B2430),Worktags!AR:AV,5,FALSE),\"\")","v":""}]
["",null,null,null,null,{"$f":"IFERROR(VLOOKUP(IF(C2431=\"\",B2431&\"||\"&B2431,C2431&\"||\"&B2431),Worktags!AR:AV,5,FALSE),\"\")","v":""}]
["",null,null,null,null,{"$f":"IFERROR(VLOOKUP(IF(C2432=\"\",B2432&\"||\"&B2432,C2432&\"||\"&B2432),Worktags!AR:AV,5,FALSE),\"\")","v":""}]
["",null,null,null,null,{"$f":"IFERROR(VLOOKUP(IF(C2433=\"\",B2433&\"||\"&B2433,C2433&\"||\"&B2433),Worktags!AR:AV,5,FALSE),\"\")","v":""}]
[{"$f":"IF(B2434<>\"\",IF(C2434<>\"\",B2434&\"_\"&C2434&\" \"&D2434&\"/\"&E2434,B2434&\" \"&D2434),\"\")","v":""},null,null,null,null,{"$f":"IFERROR(VLOOKUP(IF(C2434=\"\",B2434&\"||\"&B2434,C2434&\"||\"&B2434),Worktags!AR:AV,5,FALSE),\"\")","v":""}]
["",null,null,null,null,{"$f":"IFERROR(VLOOKUP(IF(C2435=\"\",B2435&\"||\"&B2435,C2435&\"||\"&B2435),Worktags!AR:AV,5,FALSE),\"\")","v":""}]
["",null,null,null,null,{"$f":"IFERROR(VLOOKUP(IF(C2436=\"\",B2436&\"||\"&B2436,C2436&\"||\"&B2436),Worktags!AR:AV,5,FALSE),\"\")","v":""}]
["",null,null,null,null,{"$f":"IFERROR(VLOOKUP(IF(C2437=\"\",B2437&\"||\"&B2437,C2437&\"||\"&B2437),Worktags!AR:AV,5,FALSE),\"\")","v":""}]
["",null,null,null,null,{"$f":"IFERROR(VLOOKUP(IF(C2438=\"\",B2438&\"||\"&B2438,C2438&\"||\"&B2438),Worktags!AR:AV,5,FALSE),\"\")","v":""}]
["",null,null,null,null,{"$f":"IFERROR(VLOOKUP(IF(C2439=\"\",B2439&\"||\"&B2439,C2439&\"||\"&B2439),Worktags!AR:AV,5,FALSE),\"\")","v":""}]
["",null,null,null,null,{"$f":"IFERROR(VLOOKUP(IF(C2440=\"\",B2440&\"||\"&B2440,C2440&\"||\"&B2440),Worktags!AR:AV,5,FALSE),\"\")","v":""}]
["",null,null,null,null,{"$f":"IFERROR(VLOOKUP(IF(C2441=\"\",B2441&\"||\"&B2441,C2441&\"||\"&B2441),Worktags!AR:AV,5,FALSE),\"\")","v":""}]
["",null,null,null,null,{"$f":"IFERROR(VLOOKUP(IF(C2442=\"\",B2442&\"||\"&B2442,C2442&\"||\"&B2442),Worktags!AR:AV,5,FALSE),\"\")","v":""}]
["",null,null,null,null,{"$f":"IFERROR(VLOOKUP(IF(C2443=\"\",B2443&\"||\"&B2443,C2443&\"||\"&B2443),Worktags!AR:AV,5,FALSE),\"\")","v":""}]
["",null,null,null,null,{"$f":"IFERROR(VLOOKUP(IF(C2444=\"\",B2444&\"||\"&B2444,C2444&\"||\"&B2444),Worktags!AR:AV,5,FALSE),\"\")","v":""}]
["",null,null,null,null,{"$f":"IFERROR(VLOOKUP(IF(C2445=\"\",B2445&\"||\"&B2445,C2445&\"||\"&B2445),Worktags!AR:AV,5,FALSE),\"\")","v":""}]
["",null,null,null,null,{"$f":"IFERROR(VLOOKUP(IF(C2446=\"\",B2446&\"||\"&B2446,C2446&\"||\"&B2446),Worktags!AR:AV,5,FALSE),\"\")","v":""}]
["",null,null,null,null,{"$f":"IFERROR(VLOOKUP(IF(C2447=\"\",B2447&\"||\"&B2447,C2447&\"||\"&B2447),Worktags!AR:AV,5,FALSE),\"\")","v":""}]
["",null,null,null,null,{"$f":"IFERROR(VLOOKUP(IF(C2448=\"\",B2448&\"||\"&B2448,C2448&\"||\"&B2448),Worktags!AR:AV,5,FALSE),\"\")","v":""}]
["",null,null,null,null,{"$f":"IFERROR(VLOOKUP(IF(C2449=\"\",B2449&\"||\"&B2449,C2449&\"||\"&B2449),Worktags!AR:AV,5,FALSE),\"\")","v":""}]
["",null,null,null,null,{"$f":"IFERROR(VLOOKUP(IF(C2450=\"\",B2450&\"||\"&B2450,C2450&\"||\"&B2450),Worktags!AR:AV,5,FALSE),\"\")","v":""}]
["",null,null,null,null,{"$f":"IFERROR(VLOOKUP(IF(C2451=\"\",B2451&\"||\"&B2451,C2451&\"||\"&B2451),Worktags!AR:AV,5,FALSE),\"\")","v":""}]
["",null,null,null,null,{"$f":"IFERROR(VLOOKUP(IF(C2452=\"\",B2452&\"||\"&B2452,C2452&\"||\"&B2452),Worktags!AR:AV,5,FALSE),\"\")","v":""}]
["",null,null,null,null,{"$f":"IFERROR(VLOOKUP(IF(C2453=\"\",B2453&\"||\"&B2453,C2453&\"||\"&B2453),Worktags!AR:AV,5,FALSE),\"\")","v":""}]
["",null,null,null,null,{"$f":"IFERROR(VLOOKUP(IF(C2454=\"\",B2454&\"||\"&B2454,C2454&\"||\"&B2454),Worktags!AR:AV,5,FALSE),\"\")","v":""}]
["",null,null,null,null,{"$f":"IFERROR(VLOOKUP(IF(C2455=\"\",B2455&\"||\"&B2455,C2455&\"||\"&B2455),Worktags!AR:AV,5,FALSE),\"\")","v":""}]
["",null,null,null,null,{"$f":"IFERROR(VLOOKUP(IF(C2456=\"\",B2456&\"||\"&B2456,C2456&\"||\"&B2456),Worktags!AR:AV,5,FALSE),\"\")","v":""}]
["",null,null,null,null,{"$f":"IFERROR(VLOOKUP(IF(C2457=\"\",B2457&\"||\"&B2457,C2457&\"||\"&B2457),Worktags!AR:AV,5,FALSE),\"\")","v":""}]
["",null,null,null,null,{"$f":"IFERROR(VLOOKUP(IF(C2458=\"\",B2458&\"||\"&B2458,C2458&\"||\"&B2458),Worktags!AR:AV,5,FALSE),\"\")","v":""}]
["",null,null,null,null,{"$f":"IFERROR(VLOOKUP(IF(C2459=\"\",B2459&\"||\"&B2459,C2459&\"||\"&B2459),Worktags!AR:AV,5,FALSE),\"\")","v":""}]
["",null,null,null,null,{"$f":"IFERROR(VLOOKUP(IF(C2460=\"\",B2460&\"||\"&B2460,C2460&\"||\"&B2460),Worktags!AR:AV,5,FALSE),\"\")","v":""}]
["",null,null,null,null,{"$f":"IFERROR(VLOOKUP(IF(C2461=\"\",B2461&\"||\"&B2461,C2461&\"||\"&B2461),Worktags!AR:AV,5,FALSE),\"\")","v":""}]
["",null,null,null,null,{"$f":"IFERROR(VLOOKUP(IF(C2462=\"\",B2462&\"||\"&B2462,C2462&\"||\"&B2462),Worktags!AR:AV,5,FALSE),\"\")","v":""}]
["",null,null,null,null,{"$f":"IFERROR(VLOOKUP(IF(C2463=\"\",B2463&\"||\"&B2463,C2463&\"||\"&B2463),Worktags!AR:AV,5,FALSE),\"\")","v":""}]
["",null,null,null,null,{"$f":"IFERROR(VLOOKUP(IF(C2464=\"\",B2464&\"||\"&B2464,C2464&\"||\"&B2464),Worktags!AR:AV,5,FALSE),\"\")","v":""}]
["",null,null,null,null,{"$f":"IFERROR(VLOOKUP(IF(C2465=\"\",B2465&\"||\"&B2465,C2465&\"||\"&B2465),Worktags!AR:AV,5,FALSE),\"\")","v":""}]
["",null,null,null,null,{"$f":"IFERROR(VLOOKUP(IF(C2466=\"\",B2466&\"||\"&B2466,C2466&\"||\"&B2466),Worktags!AR:AV,5,FALSE),\"\")","v":""}]
["",null,null,null,null,{"$f":"IFERROR(VLOOKUP(IF(C2467=\"\",B2467&\"||\"&B2467,C2467&\"||\"&B2467),Worktags!AR:AV,5,FALSE),\"\")","v":""}]
["",null,null,null,null,{"$f":"IFERROR(VLOOKUP(IF(C2468=\"\",B2468&\"||\"&B2468,C2468&\"||\"&B2468),Worktags!AR:AV,5,FALSE),\"\")","v":""}]
["",null,null,null,null,{"$f":"IFERROR(VLOOKUP(IF(C2469=\"\",B2469&\"||\"&B2469,C2469&\"||\"&B2469),Worktags!AR:AV,5,FALSE),\"\")","v":""}]
["",null,null,null,null,{"$f":"IFERROR(VLOOKUP(IF(C2470=\"\",B2470&\"||\"&B2470,C2470&\"||\"&B2470),Worktags!AR:AV,5,FALSE),\"\")","v":""}]
["",null,null,null,null,{"$f":"IFERROR(VLOOKUP(IF(C2471=\"\",B2471&\"||\"&B2471,C2471&\"||\"&B2471),Worktags!AR:AV,5,FALSE),\"\")","v":""}]
["",null,null,null,null,{"$f":"IFERROR(VLOOKUP(IF(C2472=\"\",B2472&\"||\"&B2472,C2472&\"||\"&B2472),Worktags!AR:AV,5,FALSE),\"\")","v":""}]
["",null,null,null,null,{"$f":"IFERROR(VLOOKUP(IF(C2473=\"\",B2473&\"||\"&B2473,C2473&\"||\"&B2473),Worktags!AR:AV,5,FALSE),\"\")","v":""}]
["",null,null,null,null,{"$f":"IFERROR(VLOOKUP(IF(C2474=\"\",B2474&\"||\"&B2474,C2474&\"||\"&B2474),Worktags!AR:AV,5,FALSE),\"\")","v":""}]
["",null,null,null,null,{"$f":"IFERROR(VLOOKUP(IF(C2475=\"\",B2475&\"||\"&B2475,C2475&\"||\"&B2475),Worktags!AR:AV,5,FALSE),\"\")","v":""}]
["",null,null,null,null,{"$f":"IFERROR(VLOOKUP(IF(C2476=\"\",B2476&\"||\"&B2476,C2476&\"||\"&B2476),Worktags!AR:AV,5,FALSE),\"\")","v":""}]
["",null,null,null,null,{"$f":"IFERROR(VLOOKUP(IF(C2477=\"\",B2477&\"||\"&B2477,C2477&\"||\"&B2477),Worktags!AR:AV,5,FALSE),\"\")","v":""}]
["",null,null,null,null,{"$f":"IFERROR(VLOOKUP(IF(C2478=\"\",B2478&\"||\"&B2478,C2478&\"||\"&B2478),Worktags!AR:AV,5,FALSE),\"\")","v":""}]
["",null,null,null,null,{"$f":"IFERROR(VLOOKUP(IF(C2479=\"\",B2479&\"||\"&B2479,C2479&\"||\"&B2479),Worktags!AR:AV,5,FALSE),\"\")","v":""}]
["",null,null,null,null,{"$f":"IFERROR(VLOOKUP(IF(C2480=\"\",B2480&\"||\"&B2480,C2480&\"||\"&B2480),Worktags!AR:AV,5,FALSE),\"\")","v":""}]
["",null,null,null,null,{"$f":"IFERROR(VLOOKUP(IF(C2481=\"\",B2481&\"||\"&B2481,C2481&\"||\"&B2481),Worktags!AR:AV,5,FALSE),\"\")","v":""}]
["",null,null,null,null,{"$f":"IFERROR(VLOOKUP(IF(C2482=\"\",B2482&\"||\"&B2482,C2482&\"||\"&B2482),Worktags!AR:AV,5,FALSE),\"\")","v":""}]
["",null,null,null,null,{"$f":"IFERROR(VLOOKUP(IF(C2483=\"\",B2483&\"||\"&B2483,C2483&\"||\"&B2483),Worktags!AR:AV,5,FALSE),\"\")","v":""}]
["",null,null,null,null,{"$f":"IFERROR(VLOOKUP(IF(C2484=\"\",B2484&\"||\"&B2484,C2484&\"||\"&B2484),Worktags!AR:AV,5,FALSE),\"\")","v":""}]
["",null,null,null,null,{"$f":"IFERROR(VLOOKUP(IF(C2485=\"\",B2485&\"||\"&B2485,C2485&\"||\"&B2485),Worktags!AR:AV,5,FALSE),\"\")","v":""}]
["",null,null,null,null,{"$f":"IFERROR(VLOOKUP(IF(C2486=\"\",B2486&\"||\"&B2486,C2486&\"||\"&B2486),Worktags!AR:AV,5,FALSE),\"\")","v":""}]
["",null,null,null,null,{"$f":"IFERROR(VLOOKUP(IF(C2487=\"\",B2487&\"||\"&B2487,C2487&\"||\"&B2487),Worktags!AR:AV,5,FALSE),\"\")","v":""}]
["",null,null,null,null,{"$f":"IFERROR(VLOOKUP(IF(C2488=\"\",B2488&\"||\"&B2488,C2488&\"||\"&B2488),Worktags!AR:AV,5,FALSE),\"\")","v":""}]
["",null,null,null,null,{"$f":"IFERROR(VLOOKUP(IF(C2489=\"\",B2489&\"||\"&B2489,C2489&\"||\"&B2489),Worktags!AR:AV,5,FALSE),\"\")","v":""}]
["",null,null,null,null,{"$f":"IFERROR(VLOOKUP(IF(C2490=\"\",B2490&\"||\"&B2490,C2490&\"||\"&B2490),Worktags!AR:AV,5,FALSE),\"\")","v":""}]
["",null,null,null,null,{"$f":"IFERROR(VLOOKUP(IF(C2491=\"\",B2491&\"||\"&B2491,C2491&\"||\"&B2491),Worktags!AR:AV,5,FALSE),\"\")","v":""}]
["",null,null,null,null,{"$f":"IFERROR(VLOOKUP(IF(C2492=\"\",B2492&\"||\"&B2492,C2492&\"||\"&B2492),Worktags!AR:AV,5,FALSE),\"\")","v":""}]
["",null,null,null,null,{"$f":"IFERROR(VLOOKUP(IF(C2493=\"\",B2493&\"||\"&B2493,C2493&\"||\"&B2493),Worktags!AR:AV,5,FALSE),\"\")","v":""}]
["",null,null,null,null,{"$f":"IFERROR(VLOOKUP(IF(C2494=\"\",B2494&\"||\"&B2494,C2494&\"||\"&B2494),Worktags!AR:AV,5,FALSE),\"\")","v":""}]
["",null,null,null,null,{"$f":"IFERROR(VLOOKUP(IF(C2495=\"\",B2495&\"||\"&B2495,C2495&\"||\"&B2495),Worktags!AR:AV,5,FALSE),\"\")","v":""}]
["",null,null,null,null,{"$f":"IFERROR(VLOOKUP(IF(C2496=\"\",B2496&\"||\"&B2496,C2496&\"||\"&B2496),Worktags!AR:AV,5,FALSE),\"\")","v":""}]
["",null,null,null,null,{"$f":"IFERROR(VLOOKUP(IF(C2497=\"\",B2497&\"||\"&B2497,C2497&\"||\"&B2497),Worktags!AR:AV,5,FALSE),\"\")","v":""}]
[{"$f":"IF(B2498<>\"\",IF(C2498<>\"\",B2498&\"_\"&C2498&\" \"&D2498&\"/\"&E2498,B2498&\" \"&D2498),\"\")","v":""},null,null,null,null,{"$f":"IFERROR(VLOOKUP(IF(C2498=\"\",B2498&\"||\"&B2498,C2498&\"||\"&B2498),Worktags!AR:AV,5,FALSE),\"\")","v":""}]
["",null,null,null,null,{"$f":"IFERROR(VLOOKUP(IF(C2499=\"\",B2499&\"||\"&B2499,C2499&\"||\"&B2499),Worktags!AR:AV,5,FALSE),\"\")","v":""}]
["",null,null,null,null,{"$f":"IFERROR(VLOOKUP(IF(C2500=\"\",B2500&\"||\"&B2500,C2500&\"||\"&B2500),Worktags!AR:AV,5,FALSE),\"\")","v":""}]
["",null,null,null,null,{"$f":"IFERROR(VLOOKUP(IF(C2501=\"\",B2501&\"||\"&B2501,C2501&\"||\"&B2501),Worktags!AR:AV,5,FALSE),\"\")","v":""}]
["",null,null,null,null,{"$f":"IFERROR(VLOOKUP(IF(C2502=\"\",B2502&\"||\"&B2502,C2502&\"||\"&B2502),Worktags!AR:AV,5,FALSE),\"\")","v":""}]
["",null,null,null,null,{"$f":"IFERROR(VLOOKUP(IF(C2503=\"\",B2503&\"||\"&B2503,C2503&\"||\"&B2503),Worktags!AR:AV,5,FALSE),\"\")","v":""}]
["",null,null,null,null,{"$f":"IFERROR(VLOOKUP(IF(C2504=\"\",B2504&\"||\"&B2504,C2504&\"||\"&B2504),Worktags!AR:AV,5,FALSE),\"\")","v":""}]
["",null,null,null,null,{"$f":"IFERROR(VLOOKUP(IF(C2505=\"\",B2505&\"||\"&B2505,C2505&\"||\"&B2505),Worktags!AR:AV,5,FALSE),\"\")","v":""}]
["",null,null,null,null,{"$f":"IFERROR(VLOOKUP(IF(C2506=\"\",B2506&\"||\"&B2506,C2506&\"||\"&B2506),Worktags!AR:AV,5,FALSE),\"\")","v":""}]
["",null,null,null,null,{"$f":"IFERROR(VLOOKUP(IF(C2507=\"\",B2507&\"||\"&B2507,C2507&\"||\"&B2507),Worktags!AR:AV,5,FALSE),\"\")","v":""}]
["",null,null,null,null,{"$f":"IFERROR(VLOOKUP(IF(C2508=\"\",B2508&\"||\"&B2508,C2508&\"||\"&B2508),Worktags!AR:AV,5,FALSE),\"\")","v":""}]
["",null,null,null,null,{"$f":"IFERROR(VLOOKUP(IF(C2509=\"\",B2509&\"||\"&B2509,C2509&\"||\"&B2509),Worktags!AR:AV,5,FALSE),\"\")","v":""}]
["",null,null,null,null,{"$f":"IFERROR(VLOOKUP(IF(C2510=\"\",B2510&\"||\"&B2510,C2510&\"||\"&B2510),Worktags!AR:AV,5,FALSE),\"\")","v":""}]
["",null,null,null,null,{"$f":"IFERROR(VLOOKUP(IF(C2511=\"\",B2511&\"||\"&B2511,C2511&\"||\"&B2511),Worktags!AR:AV,5,FALSE),\"\")","v":""}]
["",null,null,null,null,{"$f":"IFERROR(VLOOKUP(IF(C2512=\"\",B2512&\"||\"&B2512,C2512&\"||\"&B2512),Worktags!AR:AV,5,FALSE),\"\")","v":""}]
["",null,null,null,null,{"$f":"IFERROR(VLOOKUP(IF(C2513=\"\",B2513&\"||\"&B2513,C2513&\"||\"&B2513),Worktags!AR:AV,5,FALSE),\"\")","v":""}]
["",null,null,null,null,{"$f":"IFERROR(VLOOKUP(IF(C2514=\"\",B2514&\"||\"&B2514,C2514&\"||\"&B2514),Worktags!AR:AV,5,FALSE),\"\")","v":""}]
["",null,null,null,null,{"$f":"IFERROR(VLOOKUP(IF(C2515=\"\",B2515&\"||\"&B2515,C2515&\"||\"&B2515),Worktags!AR:AV,5,FALSE),\"\")","v":""}]
["",null,null,null,null,{"$f":"IFERROR(VLOOKUP(IF(C2516=\"\",B2516&\"||\"&B2516,C2516&\"||\"&B2516),Worktags!AR:AV,5,FALSE),\"\")","v":""}]
["",null,null,null,null,{"$f":"IFERROR(VLOOKUP(IF(C2517=\"\",B2517&\"||\"&B2517,C2517&\"||\"&B2517),Worktags!AR:AV,5,FALSE),\"\")","v":""}]
["",null,null,null,null,{"$f":"IFERROR(VLOOKUP(IF(C2518=\"\",B2518&\"||\"&B2518,C2518&\"||\"&B2518),Worktags!AR:AV,5,FALSE),\"\")","v":""}]
["",null,null,null,null,{"$f":"IFERROR(VLOOKUP(IF(C2519=\"\",B2519&\"||\"&B2519,C2519&\"||\"&B2519),Worktags!AR:AV,5,FALSE),\"\")","v":""}]
["",null,null,null,null,{"$f":"IFERROR(VLOOKUP(IF(C2520=\"\",B2520&\"||\"&B2520,C2520&\"||\"&B2520),Worktags!AR:AV,5,FALSE),\"\")","v":""}]
["",null,null,null,null,{"$f":"IFERROR(VLOOKUP(IF(C2521=\"\",B2521&\"||\"&B2521,C2521&\"||\"&B2521),Worktags!AR:AV,5,FALSE),\"\")","v":""}]
["",null,null,null,null,{"$f":"IFERROR(VLOOKUP(IF(C2522=\"\",B2522&\"||\"&B2522,C2522&\"||\"&B2522),Worktags!AR:AV,5,FALSE),\"\")","v":""}]
["",null,null,null,null,{"$f":"IFERROR(VLOOKUP(IF(C2523=\"\",B2523&\"||\"&B2523,C2523&\"||\"&B2523),Worktags!AR:AV,5,FALSE),\"\")","v":""}]
["",null,null,null,null,{"$f":"IFERROR(VLOOKUP(IF(C2524=\"\",B2524&\"||\"&B2524,C2524&\"||\"&B2524),Worktags!AR:AV,5,FALSE),\"\")","v":""}]
["",null,null,null,null,{"$f":"IFERROR(VLOOKUP(IF(C2525=\"\",B2525&\"||\"&B2525,C2525&\"||\"&B2525),Worktags!AR:AV,5,FALSE),\"\")","v":""}]
["",null,null,null,null,{"$f":"IFERROR(VLOOKUP(IF(C2526=\"\",B2526&\"||\"&B2526,C2526&\"||\"&B2526),Worktags!AR:AV,5,FALSE),\"\")","v":""}]
["",null,null,null,null,{"$f":"IFERROR(VLOOKUP(IF(C2527=\"\",B2527&\"||\"&B2527,C2527&\"||\"&B2527),Worktags!AR:AV,5,FALSE),\"\")","v":""}]
["",null,null,null,null,{"$f":"IFERROR(VLOOKUP(IF(C2528=\"\",B2528&\"||\"&B2528,C2528&\"||\"&B2528),Worktags!AR:AV,5,FALSE),\"\")","v":""}]
["",null,null,null,null,{"$f":"IFERROR(VLOOKUP(IF(C2529=\"\",B2529&\"||\"&B2529,C2529&\"||\"&B2529),Worktags!AR:AV,5,FALSE),\"\")","v":""}]
["",null,null,null,null,{"$f":"IFERROR(VLOOKUP(IF(C2530=\"\",B2530&\"||\"&B2530,C2530&\"||\"&B2530),Worktags!AR:AV,5,FALSE),\"\")","v":""}]
["",null,null,null,null,{"$f":"IFERROR(VLOOKUP(IF(C2531=\"\",B2531&\"||\"&B2531,C2531&\"||\"&B2531),Worktags!AR:AV,5,FALSE),\"\")","v":""}]
["",null,null,null,null,{"$f":"IFERROR(VLOOKUP(IF(C2532=\"\",B2532&\"||\"&B2532,C2532&\"||\"&B2532),Worktags!AR:AV,5,FALSE),\"\")","v":""}]
["",null,null,null,null,{"$f":"IFERROR(VLOOKUP(IF(C2533=\"\",B2533&\"||\"&B2533,C2533&\"||\"&B2533),Worktags!AR:AV,5,FALSE),\"\")","v":""}]
["",null,null,null,null,{"$f":"IFERROR(VLOOKUP(IF(C2534=\"\",B2534&\"||\"&B2534,C2534&\"||\"&B2534),Worktags!AR:AV,5,FALSE),\"\")","v":""}]
["",null,null,null,null,{"$f":"IFERROR(VLOOKUP(IF(C2535=\"\",B2535&\"||\"&B2535,C2535&\"||\"&B2535),Worktags!AR:AV,5,FALSE),\"\")","v":""}]
["",null,null,null,null,{"$f":"IFERROR(VLOOKUP(IF(C2536=\"\",B2536&\"||\"&B2536,C2536&\"||\"&B2536),Worktags!AR:AV,5,FALSE),\"\")","v":""}]
["",null,null,null,null,{"$f":"IFERROR(VLOOKUP(IF(C2537=\"\",B2537&\"||\"&B2537,C2537&\"||\"&B2537),Worktags!AR:AV,5,FALSE),\"\")","v":""}]
["",null,null,null,null,{"$f":"IFERROR(VLOOKUP(IF(C2538=\"\",B2538&\"||\"&B2538,C2538&\"||\"&B2538),Worktags!AR:AV,5,FALSE),\"\")","v":""}]
["",null,null,null,null,{"$f":"IFERROR(VLOOKUP(IF(C2539=\"\",B2539&\"||\"&B2539,C2539&\"||\"&B2539),Worktags!AR:AV,5,FALSE),\"\")","v":""}]
["",null,null,null,null,{"$f":"IFERROR(VLOOKUP(IF(C2540=\"\",B2540&\"||\"&B2540,C2540&\"||\"&B2540),Worktags!AR:AV,5,FALSE),\"\")","v":""}]
["",null,null,null,null,{"$f":"IFERROR(VLOOKUP(IF(C2541=\"\",B2541&\"||\"&B2541,C2541&\"||\"&B2541),Worktags!AR:AV,5,FALSE),\"\")","v":""}]
["",null,null,null,null,{"$f":"IFERROR(VLOOKUP(IF(C2542=\"\",B2542&\"||\"&B2542,C2542&\"||\"&B2542),Worktags!AR:AV,5,FALSE),\"\")","v":""}]
["",null,null,null,null,{"$f":"IFERROR(VLOOKUP(IF(C2543=\"\",B2543&\"||\"&B2543,C2543&\"||\"&B2543),Worktags!AR:AV,5,FALSE),\"\")","v":""}]
["",null,null,null,null,{"$f":"IFERROR(VLOOKUP(IF(C2544=\"\",B2544&\"||\"&B2544,C2544&\"||\"&B2544),Worktags!AR:AV,5,FALSE),\"\")","v":""}]
["",null,null,null,null,{"$f":"IFERROR(VLOOKUP(IF(C2545=\"\",B2545&\"||\"&B2545,C2545&\"||\"&B2545),Worktags!AR:AV,5,FALSE),\"\")","v":""}]
["",null,null,null,null,{"$f":"IFERROR(VLOOKUP(IF(C2546=\"\",B2546&\"||\"&B2546,C2546&\"||\"&B2546),Worktags!AR:AV,5,FALSE),\"\")","v":""}]
["",null,null,null,null,{"$f":"IFERROR(VLOOKUP(IF(C2547=\"\",B2547&\"||\"&B2547,C2547&\"||\"&B2547),Worktags!AR:AV,5,FALSE),\"\")","v":""}]
["",null,null,null,null,{"$f":"IFERROR(VLOOKUP(IF(C2548=\"\",B2548&\"||\"&B2548,C2548&\"||\"&B2548),Worktags!AR:AV,5,FALSE),\"\")","v":""}]
["",null,null,null,null,{"$f":"IFERROR(VLOOKUP(IF(C2549=\"\",B2549&\"||\"&B2549,C2549&\"||\"&B2549),Worktags!AR:AV,5,FALSE),\"\")","v":""}]
["",null,null,null,null,{"$f":"IFERROR(VLOOKUP(IF(C2550=\"\",B2550&\"||\"&B2550,C2550&\"||\"&B2550),Worktags!AR:AV,5,FALSE),\"\")","v":""}]
["",null,null,null,null,{"$f":"IFERROR(VLOOKUP(IF(C2551=\"\",B2551&\"||\"&B2551,C2551&\"||\"&B2551),Worktags!AR:AV,5,FALSE),\"\")","v":""}]
["",null,null,null,null,{"$f":"IFERROR(VLOOKUP(IF(C2552=\"\",B2552&\"||\"&B2552,C2552&\"||\"&B2552),Worktags!AR:AV,5,FALSE),\"\")","v":""}]
["",null,null,null,null,{"$f":"IFERROR(VLOOKUP(IF(C2553=\"\",B2553&\"||\"&B2553,C2553&\"||\"&B2553),Worktags!AR:AV,5,FALSE),\"\")","v":""}]
["",null,null,null,null,{"$f":"IFERROR(VLOOKUP(IF(C2554=\"\",B2554&\"||\"&B2554,C2554&\"||\"&B2554),Worktags!AR:AV,5,FALSE),\"\")","v":""}]
["",null,null,null,null,{"$f":"IFERROR(VLOOKUP(IF(C2555=\"\",B2555&\"||\"&B2555,C2555&\"||\"&B2555),Worktags!AR:AV,5,FALSE),\"\")","v":""}]
["",null,null,null,null,{"$f":"IFERROR(VLOOKUP(IF(C2556=\"\",B2556&\"||\"&B2556,C2556&\"||\"&B2556),Worktags!AR:AV,5,FALSE),\"\")","v":""}]
["",null,null,null,null,{"$f":"IFERROR(VLOOKUP(IF(C2557=\"\",B2557&\"||\"&B2557,C2557&\"||\"&B2557),Worktags!AR:AV,5,FALSE),\"\")","v":""}]
["",null,null,null,null,{"$f":"IFERROR(VLOOKUP(IF(C2558=\"\",B2558&\"||\"&B2558,C2558&\"||\"&B2558),Worktags!AR:AV,5,FALSE),\"\")","v":""}]
["",null,null,null,null,{"$f":"IFERROR(VLOOKUP(IF(C2559=\"\",B2559&\"||\"&B2559,C2559&\"||\"&B2559),Worktags!AR:AV,5,FALSE),\"\")","v":""}]
["",null,null,null,null,{"$f":"IFERROR(VLOOKUP(IF(C2560=\"\",B2560&\"||\"&B2560,C2560&\"||\"&B2560),Worktags!AR:AV,5,FALSE),\"\")","v":""}]
["",null,null,null,null,{"$f":"IFERROR(VLOOKUP(IF(C2561=\"\",B2561&\"||\"&B2561,C2561&\"||\"&B2561),Worktags!AR:AV,5,FALSE),\"\")","v":""}]
[{"$f":"IF(B2562<>\"\",IF(C2562<>\"\",B2562&\"_\"&C2562&\" \"&D2562&\"/\"&E2562,B2562&\" \"&D2562),\"\")","v":""},null,null,null,null,{"$f":"IFERROR(VLOOKUP(IF(C2562=\"\",B2562&\"||\"&B2562,C2562&\"||\"&B2562),Worktags!AR:AV,5,FALSE),\"\")","v":""}]
["",null,null,null,null,{"$f":"IFERROR(VLOOKUP(IF(C2563=\"\",B2563&\"||\"&B2563,C2563&\"||\"&B2563),Worktags!AR:AV,5,FALSE),\"\")","v":""}]
["",null,null,null,null,{"$f":"IFERROR(VLOOKUP(IF(C2564=\"\",B2564&\"||\"&B2564,C2564&\"||\"&B2564),Worktags!AR:AV,5,FALSE),\"\")","v":""}]
["",null,null,null,null,{"$f":"IFERROR(VLOOKUP(IF(C2565=\"\",B2565&\"||\"&B2565,C2565&\"||\"&B2565),Worktags!AR:AV,5,FALSE),\"\")","v":""}]
["",null,null,null,null,{"$f":"IFERROR(VLOOKUP(IF(C2566=\"\",B2566&\"||\"&B2566,C2566&\"||\"&B2566),Worktags!AR:AV,5,FALSE),\"\")","v":""}]
["",null,null,null,null,{"$f":"IFERROR(VLOOKUP(IF(C2567=\"\",B2567&\"||\"&B2567,C2567&\"||\"&B2567),Worktags!AR:AV,5,FALSE),\"\")","v":""}]
["",null,null,null,null,{"$f":"IFERROR(VLOOKUP(IF(C2568=\"\",B2568&\"||\"&B2568,C2568&\"||\"&B2568),Worktags!AR:AV,5,FALSE),\"\")","v":""}]
["",null,null,null,null,{"$f":"IFERROR(VLOOKUP(IF(C2569=\"\",B2569&\"||\"&B2569,C2569&\"||\"&B2569),Worktags!AR:AV,5,FALSE),\"\")","v":""}]
["",null,null,null,null,{"$f":"IFERROR(VLOOKUP(IF(C2570=\"\",B2570&\"||\"&B2570,C2570&\"||\"&B2570),Worktags!AR:AV,5,FALSE),\"\")","v":""}]
["",null,null,null,null,{"$f":"IFERROR(VLOOKUP(IF(C2571=\"\",B2571&\"||\"&B2571,C2571&\"||\"&B2571),Worktags!AR:AV,5,FALSE),\"\")","v":""}]
["",null,null,null,null,{"$f":"IFERROR(VLOOKUP(IF(C2572=\"\",B2572&\"||\"&B2572,C2572&\"||\"&B2572),Worktags!AR:AV,5,FALSE),\"\")","v":""}]
["",null,null,null,null,{"$f":"IFERROR(VLOOKUP(IF(C2573=\"\",B2573&\"||\"&B2573,C2573&\"||\"&B2573),Worktags!AR:AV,5,FALSE),\"\")","v":""}]
["",null,null,null,null,{"$f":"IFERROR(VLOOKUP(IF(C2574=\"\",B2574&\"||\"&B2574,C2574&\"||\"&B2574),Worktags!AR:AV,5,FALSE),\"\")","v":""}]
["",null,null,null,null,{"$f":"IFERROR(VLOOKUP(IF(C2575=\"\",B2575&\"||\"&B2575,C2575&\"||\"&B2575),Worktags!AR:AV,5,FALSE),\"\")","v":""}]
["",null,null,null,null,{"$f":"IFERROR(VLOOKUP(IF(C2576=\"\",B2576&\"||\"&B2576,C2576&\"||\"&B2576),Worktags!AR:AV,5,FALSE),\"\")","v":""}]
["",null,null,null,null,{"$f":"IFERROR(VLOOKUP(IF(C2577=\"\",B2577&\"||\"&B2577,C2577&\"||\"&B2577),Worktags!AR:AV,5,FALSE),\"\")","v":""}]
["",null,null,null,null,{"$f":"IFERROR(VLOOKUP(IF(C2578=\"\",B2578&\"||\"&B2578,C2578&\"||\"&B2578),Worktags!AR:AV,5,FALSE),\"\")","v":""}]
["",null,null,null,null,{"$f":"IFERROR(VLOOKUP(IF(C2579=\"\",B2579&\"||\"&B2579,C2579&\"||\"&B2579),Worktags!AR:AV,5,FALSE),\"\")","v":""}]
["",null,null,null,null,{"$f":"IFERROR(VLOOKUP(IF(C2580=\"\",B2580&\"||\"&B2580,C2580&\"||\"&B2580),Worktags!AR:AV,5,FALSE),\"\")","v":""}]
["",null,null,null,null,{"$f":"IFERROR(VLOOKUP(IF(C2581=\"\",B2581&\"||\"&B2581,C2581&\"||\"&B2581),Worktags!AR:AV,5,FALSE),\"\")","v":""}]
["",null,null,null,null,{"$f":"IFERROR(VLOOKUP(IF(C2582=\"\",B2582&\"||\"&B2582,C2582&\"||\"&B2582),Worktags!AR:AV,5,FALSE),\"\")","v":""}]
["",null,null,null,null,{"$f":"IFERROR(VLOOKUP(IF(C2583=\"\",B2583&\"||\"&B2583,C2583&\"||\"&B2583),Worktags!AR:AV,5,FALSE),\"\")","v":""}]
["",null,null,null,null,{"$f":"IFERROR(VLOOKUP(IF(C2584=\"\",B2584&\"||\"&B2584,C2584&\"||\"&B2584),Worktags!AR:AV,5,FALSE),\"\")","v":""}]
["",null,null,null,null,{"$f":"IFERROR(VLOOKUP(IF(C2585=\"\",B2585&\"||\"&B2585,C2585&\"||\"&B2585),Worktags!AR:AV,5,FALSE),\"\")","v":""}]
["",null,null,null,null,{"$f":"IFERROR(VLOOKUP(IF(C2586=\"\",B2586&\"||\"&B2586,C2586&\"||\"&B2586),Worktags!AR:AV,5,FALSE),\"\")","v":""}]
["",null,null,null,null,{"$f":"IFERROR(VLOOKUP(IF(C2587=\"\",B2587&\"||\"&B2587,C2587&\"||\"&B2587),Worktags!AR:AV,5,FALSE),\"\")","v":""}]
["",null,null,null,null,{"$f":"IFERROR(VLOOKUP(IF(C2588=\"\",B2588&\"||\"&B2588,C2588&\"||\"&B2588),Worktags!AR:AV,5,FALSE),\"\")","v":""}]
["",null,null,null,null,{"$f":"IFERROR(VLOOKUP(IF(C2589=\"\",B2589&\"||\"&B2589,C2589&\"||\"&B2589),Worktags!AR:AV,5,FALSE),\"\")","v":""}]
["",null,null,null,null,{"$f":"IFERROR(VLOOKUP(IF(C2590=\"\",B2590&\"||\"&B2590,C2590&\"||\"&B2590),Worktags!AR:AV,5,FALSE),\"\")","v":""}]
["",null,null,null,null,{"$f":"IFERROR(VLOOKUP(IF(C2591=\"\",B2591&\"||\"&B2591,C2591&\"||\"&B2591),Worktags!AR:AV,5,FALSE),\"\")","v":""}]
["",null,null,null,null,{"$f":"IFERROR(VLOOKUP(IF(C2592=\"\",B2592&\"||\"&B2592,C2592&\"||\"&B2592),Worktags!AR:AV,5,FALSE),\"\")","v":""}]
["",null,null,null,null,{"$f":"IFERROR(VLOOKUP(IF(C2593=\"\",B2593&\"||\"&B2593,C2593&\"||\"&B2593),Worktags!AR:AV,5,FALSE),\"\")","v":""}]
["",null,null,null,null,{"$f":"IFERROR(VLOOKUP(IF(C2594=\"\",B2594&\"||\"&B2594,C2594&\"||\"&B2594),Worktags!AR:AV,5,FALSE),\"\")","v":""}]
["",null,null,null,null,{"$f":"IFERROR(VLOOKUP(IF(C2595=\"\",B2595&\"||\"&B2595,C2595&\"||\"&B2595),Worktags!AR:AV,5,FALSE),\"\")","v":""}]
["",null,null,null,null,{"$f":"IFERROR(VLOOKUP(IF(C2596=\"\",B2596&\"||\"&B2596,C2596&\"||\"&B2596),Worktags!AR:AV,5,FALSE),\"\")","v":""}]
["",null,null,null,null,{"$f":"IFERROR(VLOOKUP(IF(C2597=\"\",B2597&\"||\"&B2597,C2597&\"||\"&B2597),Worktags!AR:AV,5,FALSE),\"\")","v":""}]
["",null,null,null,null,{"$f":"IFERROR(VLOOKUP(IF(C2598=\"\",B2598&\"||\"&B2598,C2598&\"||\"&B2598),Worktags!AR:AV,5,FALSE),\"\")","v":""}]
["",null,null,null,null,{"$f":"IFERROR(VLOOKUP(IF(C2599=\"\",B2599&\"||\"&B2599,C2599&\"||\"&B2599),Worktags!AR:AV,5,FALSE),\"\")","v":""}]
["",null,null,null,null,{"$f":"IFERROR(VLOOKUP(IF(C2600=\"\",B2600&\"||\"&B2600,C2600&\"||\"&B2600),Worktags!AR:AV,5,FALSE),\"\")","v":""}]
["",null,null,null,null,{"$f":"IFERROR(VLOOKUP(IF(C2601=\"\",B2601&\"||\"&B2601,C2601&\"||\"&B2601),Worktags!AR:AV,5,FALSE),\"\")","v":""}]
["",null,null,null,null,{"$f":"IFERROR(VLOOKUP(IF(C2602=\"\",B2602&\"||\"&B2602,C2602&\"||\"&B2602),Worktags!AR:AV,5,FALSE),\"\")","v":""}]
["",null,null,null,null,{"$f":"IFERROR(VLOOKUP(IF(C2603=\"\",B2603&\"||\"&B2603,C2603&\"||\"&B2603),Worktags!AR:AV,5,FALSE),\"\")","v":""}]
["",null,null,null,null,{"$f":"IFERROR(VLOOKUP(IF(C2604=\"\",B2604&\"||\"&B2604,C2604&\"||\"&B2604),Worktags!AR:AV,5,FALSE),\"\")","v":""}]
["",null,null,null,null,{"$f":"IFERROR(VLOOKUP(IF(C2605=\"\",B2605&\"||\"&B2605,C2605&\"||\"&B2605),Worktags!AR:AV,5,FALSE),\"\")","v":""}]
["",null,null,null,null,{"$f":"IFERROR(VLOOKUP(IF(C2606=\"\",B2606&\"||\"&B2606,C2606&\"||\"&B2606),Worktags!AR:AV,5,FALSE),\"\")","v":""}]
["",null,null,null,null,{"$f":"IFERROR(VLOOKUP(IF(C2607=\"\",B2607&\"||\"&B2607,C2607&\"||\"&B2607),Worktags!AR:AV,5,FALSE),\"\")","v":""}]
["",null,null,null,null,{"$f":"IFERROR(VLOOKUP(IF(C2608=\"\",B2608&\"||\"&B2608,C2608&\"||\"&B2608),Worktags!AR:AV,5,FALSE),\"\")","v":""}]
["",null,null,null,null,{"$f":"IFERROR(VLOOKUP(IF(C2609=\"\",B2609&\"||\"&B2609,C2609&\"||\"&B2609),Worktags!AR:AV,5,FALSE),\"\")","v":""}]
["",null,null,null,null,{"$f":"IFERROR(VLOOKUP(IF(C2610=\"\",B2610&\"||\"&B2610,C2610&\"||\"&B2610),Worktags!AR:AV,5,FALSE),\"\")","v":""}]
["",null,null,null,null,{"$f":"IFERROR(VLOOKUP(IF(C2611=\"\",B2611&\"||\"&B2611,C2611&\"||\"&B2611),Worktags!AR:AV,5,FALSE),\"\")","v":""}]
["",null,null,null,null,{"$f":"IFERROR(VLOOKUP(IF(C2612=\"\",B2612&\"||\"&B2612,C2612&\"||\"&B2612),Worktags!AR:AV,5,FALSE),\"\")","v":""}]
["",null,null,null,null,{"$f":"IFERROR(VLOOKUP(IF(C2613=\"\",B2613&\"||\"&B2613,C2613&\"||\"&B2613),Worktags!AR:AV,5,FALSE),\"\")","v":""}]
["",null,null,null,null,{"$f":"IFERROR(VLOOKUP(IF(C2614=\"\",B2614&\"||\"&B2614,C2614&\"||\"&B2614),Worktags!AR:AV,5,FALSE),\"\")","v":""}]
["",null,null,null,null,{"$f":"IFERROR(VLOOKUP(IF(C2615=\"\",B2615&\"||\"&B2615,C2615&\"||\"&B2615),Worktags!AR:AV,5,FALSE),\"\")","v":""}]
["",null,null,null,null,{"$f":"IFERROR(VLOOKUP(IF(C2616=\"\",B2616&\"||\"&B2616,C2616&\"||\"&B2616),Worktags!AR:AV,5,FALSE),\"\")","v":""}]
["",null,null,null,null,{"$f":"IFERROR(VLOOKUP(IF(C2617=\"\",B2617&\"||\"&B2617,C2617&\"||\"&B2617),Worktags!AR:AV,5,FALSE),\"\")","v":""}]
["",null,null,null,null,{"$f":"IFERROR(VLOOKUP(IF(C2618=\"\",B2618&\"||\"&B2618,C2618&\"||\"&B2618),Worktags!AR:AV,5,FALSE),\"\")","v":""}]
["",null,null,null,null,{"$f":"IFERROR(VLOOKUP(IF(C2619=\"\",B2619&\"||\"&B2619,C2619&\"||\"&B2619),Worktags!AR:AV,5,FALSE),\"\")","v":""}]
["",null,null,null,null,{"$f":"IFERROR(VLOOKUP(IF(C2620=\"\",B2620&\"||\"&B2620,C2620&\"||\"&B2620),Worktags!AR:AV,5,FALSE),\"\")","v":""}]
["",null,null,null,null,{"$f":"IFERROR(VLOOKUP(IF(C2621=\"\",B2621&\"||\"&B2621,C2621&\"||\"&B2621),Worktags!AR:AV,5,FALSE),\"\")","v":""}]
["",null,null,null,null,{"$f":"IFERROR(VLOOKUP(IF(C2622=\"\",B2622&\"||\"&B2622,C2622&\"||\"&B2622),Worktags!AR:AV,5,FALSE),\"\")","v":""}]
["",null,null,null,null,{"$f":"IFERROR(VLOOKUP(IF(C2623=\"\",B2623&\"||\"&B2623,C2623&\"||\"&B2623),Worktags!AR:AV,5,FALSE),\"\")","v":""}]
["",null,null,null,null,{"$f":"IFERROR(VLOOKUP(IF(C2624=\"\",B2624&\"||\"&B2624,C2624&\"||\"&B2624),Worktags!AR:AV,5,FALSE),\"\")","v":""}]
["",null,null,null,null,{"$f":"IFERROR(VLOOKUP(IF(C2625=\"\",B2625&\"||\"&B2625,C2625&\"||\"&B2625),Worktags!AR:AV,5,FALSE),\"\")","v":""}]
[{"$f":"IF(B2626<>\"\",IF(C2626<>\"\",B2626&\"_\"&C2626&\" \"&D2626&\"/\"&E2626,B2626&\" \"&D2626),\"\")","v":""},null,null,null,null,{"$f":"IFERROR(VLOOKUP(IF(C2626=\"\",B2626&\"||\"&B2626,C2626&\"||\"&B2626),Worktags!AR:AV,5,FALSE),\"\")","v":""}]
["",null,null,null,null,{"$f":"IFERROR(VLOOKUP(IF(C2627=\"\",B2627&\"||\"&B2627,C2627&\"||\"&B2627),Worktags!AR:AV,5,FALSE),\"\")","v":""}]
["",null,null,null,null,{"$f":"IFERROR(VLOOKUP(IF(C2628=\"\",B2628&\"||\"&B2628,C2628&\"||\"&B2628),Worktags!AR:AV,5,FALSE),\"\")","v":""}]
["",null,null,null,null,{"$f":"IFERROR(VLOOKUP(IF(C2629=\"\",B2629&\"||\"&B2629,C2629&\"||\"&B2629),Worktags!AR:AV,5,FALSE),\"\")","v":""}]
["",null,null,null,null,{"$f":"IFERROR(VLOOKUP(IF(C2630=\"\",B2630&\"||\"&B2630,C2630&\"||\"&B2630),Worktags!AR:AV,5,FALSE),\"\")","v":""}]
["",null,null,null,null,{"$f":"IFERROR(VLOOKUP(IF(C2631=\"\",B2631&\"||\"&B2631,C2631&\"||\"&B2631),Worktags!AR:AV,5,FALSE),\"\")","v":""}]
["",null,null,null,null,{"$f":"IFERROR(VLOOKUP(IF(C2632=\"\",B2632&\"||\"&B2632,C2632&\"||\"&B2632),Worktags!AR:AV,5,FALSE),\"\")","v":""}]
["",null,null,null,null,{"$f":"IFERROR(VLOOKUP(IF(C2633=\"\",B2633&\"||\"&B2633,C2633&\"||\"&B2633),Worktags!AR:AV,5,FALSE),\"\")","v":""}]
["",null,null,null,null,{"$f":"IFERROR(VLOOKUP(IF(C2634=\"\",B2634&\"||\"&B2634,C2634&\"||\"&B2634),Worktags!AR:AV,5,FALSE),\"\")","v":""}]
["",null,null,null,null,{"$f":"IFERROR(VLOOKUP(IF(C2635=\"\",B2635&\"||\"&B2635,C2635&\"||\"&B2635),Worktags!AR:AV,5,FALSE),\"\")","v":""}]
["",null,null,null,null,{"$f":"IFERROR(VLOOKUP(IF(C2636=\"\",B2636&\"||\"&B2636,C2636&\"||\"&B2636),Worktags!AR:AV,5,FALSE),\"\")","v":""}]
["",null,null,null,null,{"$f":"IFERROR(VLOOKUP(IF(C2637=\"\",B2637&\"||\"&B2637,C2637&\"||\"&B2637),Worktags!AR:AV,5,FALSE),\"\")","v":""}]
["",null,null,null,null,{"$f":"IFERROR(VLOOKUP(IF(C2638=\"\",B2638&\"||\"&B2638,C2638&\"||\"&B2638),Worktags!AR:AV,5,FALSE),\"\")","v":""}]
["",null,null,null,null,{"$f":"IFERROR(VLOOKUP(IF(C2639=\"\",B2639&\"||\"&B2639,C2639&\"||\"&B2639),Worktags!AR:AV,5,FALSE),\"\")","v":""}]
["",null,null,null,null,{"$f":"IFERROR(VLOOKUP(IF(C2640=\"\",B2640&\"||\"&B2640,C2640&\"||\"&B2640),Worktags!AR:AV,5,FALSE),\"\")","v":""}]
["",null,null,null,null,{"$f":"IFERROR(VLOOKUP(IF(C2641=\"\",B2641&\"||\"&B2641,C2641&\"||\"&B2641),Worktags!AR:AV,5,FALSE),\"\")","v":""}]
["",null,null,null,null,{"$f":"IFERROR(VLOOKUP(IF(C2642=\"\",B2642&\"||\"&B2642,C2642&\"||\"&B2642),Worktags!AR:AV,5,FALSE),\"\")","v":""}]
["",null,null,null,null,{"$f":"IFERROR(VLOOKUP(IF(C2643=\"\",B2643&\"||\"&B2643,C2643&\"||\"&B2643),Worktags!AR:AV,5,FALSE),\"\")","v":""}]
["",null,null,null,null,{"$f":"IFERROR(VLOOKUP(IF(C2644=\"\",B2644&\"||\"&B2644,C2644&\"||\"&B2644),Worktags!AR:AV,5,FALSE),\"\")","v":""}]
["",null,null,null,null,{"$f":"IFERROR(VLOOKUP(IF(C2645=\"\",B2645&\"||\"&B2645,C2645&\"||\"&B2645),Worktags!AR:AV,5,FALSE),\"\")","v":""}]
["",null,null,null,null,{"$f":"IFERROR(VLOOKUP(IF(C2646=\"\",B2646&\"||\"&B2646,C2646&\"||\"&B2646),Worktags!AR:AV,5,FALSE),\"\")","v":""}]
["",null,null,null,null,{"$f":"IFERROR(VLOOKUP(IF(C2647=\"\",B2647&\"||\"&B2647,C2647&\"||\"&B2647),Worktags!AR:AV,5,FALSE),\"\")","v":""}]
["",null,null,null,null,{"$f":"IFERROR(VLOOKUP(IF(C2648=\"\",B2648&\"||\"&B2648,C2648&\"||\"&B2648),Worktags!AR:AV,5,FALSE),\"\")","v":""}]
["",null,null,null,null,{"$f":"IFERROR(VLOOKUP(IF(C2649=\"\",B2649&\"||\"&B2649,C2649&\"||\"&B2649),Worktags!AR:AV,5,FALSE),\"\")","v":""}]
["",null,null,null,null,{"$f":"IFERROR(VLOOKUP(IF(C2650=\"\",B2650&\"||\"&B2650,C2650&\"||\"&B2650),Worktags!AR:AV,5,FALSE),\"\")","v":""}]
["",null,null,null,null,{"$f":"IFERROR(VLOOKUP(IF(C2651=\"\",B2651&\"||\"&B2651,C2651&\"||\"&B2651),Worktags!AR:AV,5,FALSE),\"\")","v":""}]
["",null,null,null,null,{"$f":"IFERROR(VLOOKUP(IF(C2652=\"\",B2652&\"||\"&B2652,C2652&\"||\"&B2652),Worktags!AR:AV,5,FALSE),\"\")","v":""}]
["",null,null,null,null,{"$f":"IFERROR(VLOOKUP(IF(C2653=\"\",B2653&\"||\"&B2653,C2653&\"||\"&B2653),Worktags!AR:AV,5,FALSE),\"\")","v":""}]
["",null,null,null,null,{"$f":"IFERROR(VLOOKUP(IF(C2654=\"\",B2654&\"||\"&B2654,C2654&\"||\"&B2654),Worktags!AR:AV,5,FALSE),\"\")","v":""}]
["",null,null,null,null,{"$f":"IFERROR(VLOOKUP(IF(C2655=\"\",B2655&\"||\"&B2655,C2655&\"||\"&B2655),Worktags!AR:AV,5,FALSE),\"\")","v":""}]
["",null,null,null,null,{"$f":"IFERROR(VLOOKUP(IF(C2656=\"\",B2656&\"||\"&B2656,C2656&\"||\"&B2656),Worktags!AR:AV,5,FALSE),\"\")","v":""}]
["",null,null,null,null,{"$f":"IFERROR(VLOOKUP(IF(C2657=\"\",B2657&\"||\"&B2657,C2657&\"||\"&B2657),Worktags!AR:AV,5,FALSE),\"\")","v":""}]
["",null,null,null,null,{"$f":"IFERROR(VLOOKUP(IF(C2658=\"\",B2658&\"||\"&B2658,C2658&\"||\"&B2658),Worktags!AR:AV,5,FALSE),\"\")","v":""}]
["",null,null,null,null,{"$f":"IFERROR(VLOOKUP(IF(C2659=\"\",B2659&\"||\"&B2659,C2659&\"||\"&B2659),Worktags!AR:AV,5,FALSE),\"\")","v":""}]
["",null,null,null,null,{"$f":"IFERROR(VLOOKUP(IF(C2660=\"\",B2660&\"||\"&B2660,C2660&\"||\"&B2660),Worktags!AR:AV,5,FALSE),\"\")","v":""}]
["",null,null,null,null,{"$f":"IFERROR(VLOOKUP(IF(C2661=\"\",B2661&\"||\"&B2661,C2661&\"||\"&B2661),Worktags!AR:AV,5,FALSE),\"\")","v":""}]
["",null,null,null,null,{"$f":"IFERROR(VLOOKUP(IF(C2662=\"\",B2662&\"||\"&B2662,C2662&\"||\"&B2662),Worktags!AR:AV,5,FALSE),\"\")","v":""}]
["",null,null,null,null,{"$f":"IFERROR(VLOOKUP(IF(C2663=\"\",B2663&\"||\"&B2663,C2663&\"||\"&B2663),Worktags!AR:AV,5,FALSE),\"\")","v":""}]
["",null,null,null,null,{"$f":"IFERROR(VLOOKUP(IF(C2664=\"\",B2664&\"||\"&B2664,C2664&\"||\"&B2664),Worktags!AR:AV,5,FALSE),\"\")","v":""}]
["",null,null,null,null,{"$f":"IFERROR(VLOOKUP(IF(C2665=\"\",B2665&\"||\"&B2665,C2665&\"||\"&B2665),Worktags!AR:AV,5,FALSE),\"\")","v":""}]
["",null,null,null,null,{"$f":"IFERROR(VLOOKUP(IF(C2666=\"\",B2666&\"||\"&B2666,C2666&\"||\"&B2666),Worktags!AR:AV,5,FALSE),\"\")","v":""}]
["",null,null,null,null,{"$f":"IFERROR(VLOOKUP(IF(C2667=\"\",B2667&\"||\"&B2667,C2667&\"||\"&B2667),Worktags!AR:AV,5,FALSE),\"\")","v":""}]
["",null,null,null,null,{"$f":"IFERROR(VLOOKUP(IF(C2668=\"\",B2668&\"||\"&B2668,C2668&\"||\"&B2668),Worktags!AR:AV,5,FALSE),\"\")","v":""}]
["",null,null,null,null,{"$f":"IFERROR(VLOOKUP(IF(C2669=\"\",B2669&\"||\"&B2669,C2669&\"||\"&B2669),Worktags!AR:AV,5,FALSE),\"\")","v":""}]
["",null,null,null,null,{"$f":"IFERROR(VLOOKUP(IF(C2670=\"\",B2670&\"||\"&B2670,C2670&\"||\"&B2670),Worktags!AR:AV,5,FALSE),\"\")","v":""}]
["",null,null,null,null,{"$f":"IFERROR(VLOOKUP(IF(C2671=\"\",B2671&\"||\"&B2671,C2671&\"||\"&B2671),Worktags!AR:AV,5,FALSE),\"\")","v":""}]
["",null,null,null,null,{"$f":"IFERROR(VLOOKUP(IF(C2672=\"\",B2672&\"||\"&B2672,C2672&\"||\"&B2672),Worktags!AR:AV,5,FALSE),\"\")","v":""}]
["",null,null,null,null,{"$f":"IFERROR(VLOOKUP(IF(C2673=\"\",B2673&\"||\"&B2673,C2673&\"||\"&B2673),Worktags!AR:AV,5,FALSE),\"\")","v":""}]
["",null,null,null,null,{"$f":"IFERROR(VLOOKUP(IF(C2674=\"\",B2674&\"||\"&B2674,C2674&\"||\"&B2674),Worktags!AR:AV,5,FALSE),\"\")","v":""}]
["",null,null,null,null,{"$f":"IFERROR(VLOOKUP(IF(C2675=\"\",B2675&\"||\"&B2675,C2675&\"||\"&B2675),Worktags!AR:AV,5,FALSE),\"\")","v":""}]
["",null,null,null,null,{"$f":"IFERROR(VLOOKUP(IF(C2676=\"\",B2676&\"||\"&B2676,C2676&\"||\"&B2676),Worktags!AR:AV,5,FALSE),\"\")","v":""}]
["",null,null,null,null,{"$f":"IFERROR(VLOOKUP(IF(C2677=\"\",B2677&\"||\"&B2677,C2677&\"||\"&B2677),Worktags!AR:AV,5,FALSE),\"\")","v":""}]
["",null,null,null,null,{"$f":"IFERROR(VLOOKUP(IF(C2678=\"\",B2678&\"||\"&B2678,C2678&\"||\"&B2678),Worktags!AR:AV,5,FALSE),\"\")","v":""}]
["",null,null,null,null,{"$f":"IFERROR(VLOOKUP(IF(C2679=\"\",B2679&\"||\"&B2679,C2679&\"||\"&B2679),Worktags!AR:AV,5,FALSE),\"\")","v":""}]
["",null,null,null,null,{"$f":"IFERROR(VLOOKUP(IF(C2680=\"\",B2680&\"||\"&B2680,C2680&\"||\"&B2680),Worktags!AR:AV,5,FALSE),\"\")","v":""}]
["",null,null,null,null,{"$f":"IFERROR(VLOOKUP(IF(C2681=\"\",B2681&\"||\"&B2681,C2681&\"||\"&B2681),Worktags!AR:AV,5,FALSE),\"\")","v":""}]
["",null,null,null,null,{"$f":"IFERROR(VLOOKUP(IF(C2682=\"\",B2682&\"||\"&B2682,C2682&\"||\"&B2682),Worktags!AR:AV,5,FALSE),\"\")","v":""}]
["",null,null,null,null,{"$f":"IFERROR(VLOOKUP(IF(C2683=\"\",B2683&\"||\"&B2683,C2683&\"||\"&B2683),Worktags!AR:AV,5,FALSE),\"\")","v":""}]
["",null,null,null,null,{"$f":"IFERROR(VLOOKUP(IF(C2684=\"\",B2684&\"||\"&B2684,C2684&\"||\"&B2684),Worktags!AR:AV,5,FALSE),\"\")","v":""}]
["",null,null,null,null,{"$f":"IFERROR(VLOOKUP(IF(C2685=\"\",B2685&\"||\"&B2685,C2685&\"||\"&B2685),Worktags!AR:AV,5,FALSE),\"\")","v":""}]
["",null,null,null,null,{"$f":"IFERROR(VLOOKUP(IF(C2686=\"\",B2686&\"||\"&B2686,C2686&\"||\"&B2686),Worktags!AR:AV,5,FALSE),\"\")","v":""}]
["",null,null,null,null,{"$f":"IFERROR(VLOOKUP(IF(C2687=\"\",B2687&\"||\"&B2687,C2687&\"||\"&B2687),Worktags!AR:AV,5,FALSE),\"\")","v":""}]
["",null,null,null,null,{"$f":"IFERROR(VLOOKUP(IF(C2688=\"\",B2688&\"||\"&B2688,C2688&\"||\"&B2688),Worktags!AR:AV,5,FALSE),\"\")","v":""}]
["",null,null,null,null,{"$f":"IFERROR(VLOOKUP(IF(C2689=\"\",B2689&\"||\"&B2689,C2689&\"||\"&B2689),Worktags!AR:AV,5,FALSE),\"\")","v":""}]
[{"$f":"IF(B2690<>\"\",IF(C2690<>\"\",B2690&\"_\"&C2690&\" \"&D2690&\"/\"&E2690,B2690&\" \"&D2690),\"\")","v":""},null,null,null,null,{"$f":"IFERROR(VLOOKUP(IF(C2690=\"\",B2690&\"||\"&B2690,C2690&\"||\"&B2690),Worktags!AR:AV,5,FALSE),\"\")","v":""}]
["",null,null,null,null,{"$f":"IFERROR(VLOOKUP(IF(C2691=\"\",B2691&\"||\"&B2691,C2691&\"||\"&B2691),Worktags!AR:AV,5,FALSE),\"\")","v":""}]
["",null,null,null,null,{"$f":"IFERROR(VLOOKUP(IF(C2692=\"\",B2692&\"||\"&B2692,C2692&\"||\"&B2692),Worktags!AR:AV,5,FALSE),\"\")","v":""}]
["",null,null,null,null,{"$f":"IFERROR(VLOOKUP(IF(C2693=\"\",B2693&\"||\"&B2693,C2693&\"||\"&B2693),Worktags!AR:AV,5,FALSE),\"\")","v":""}]
["",null,null,null,null,{"$f":"IFERROR(VLOOKUP(IF(C2694=\"\",B2694&\"||\"&B2694,C2694&\"||\"&B2694),Worktags!AR:AV,5,FALSE),\"\")","v":""}]
["",null,null,null,null,{"$f":"IFERROR(VLOOKUP(IF(C2695=\"\",B2695&\"||\"&B2695,C2695&\"||\"&B2695),Worktags!AR:AV,5,FALSE),\"\")","v":""}]
["",null,null,null,null,{"$f":"IFERROR(VLOOKUP(IF(C2696=\"\",B2696&\"||\"&B2696,C2696&\"||\"&B2696),Worktags!AR:AV,5,FALSE),\"\")","v":""}]
["",null,null,null,null,{"$f":"IFERROR(VLOOKUP(IF(C2697=\"\",B2697&\"||\"&B2697,C2697&\"||\"&B2697),Worktags!AR:AV,5,FALSE),\"\")","v":""}]
["",null,null,null,null,{"$f":"IFERROR(VLOOKUP(IF(C2698=\"\",B2698&\"||\"&B2698,C2698&\"||\"&B2698),Worktags!AR:AV,5,FALSE),\"\")","v":""}]
["",null,null,null,null,{"$f":"IFERROR(VLOOKUP(IF(C2699=\"\",B2699&\"||\"&B2699,C2699&\"||\"&B2699),Worktags!AR:AV,5,FALSE),\"\")","v":""}]
["",null,null,null,null,{"$f":"IFERROR(VLOOKUP(IF(C2700=\"\",B2700&\"||\"&B2700,C2700&\"||\"&B2700),Worktags!AR:AV,5,FALSE),\"\")","v":""}]
["",null,null,null,null,{"$f":"IFERROR(VLOOKUP(IF(C2701=\"\",B2701&\"||\"&B2701,C2701&\"||\"&B2701),Worktags!AR:AV,5,FALSE),\"\")","v":""}]
["",null,null,null,null,{"$f":"IFERROR(VLOOKUP(IF(C2702=\"\",B2702&\"||\"&B2702,C2702&\"||\"&B2702),Worktags!AR:AV,5,FALSE),\"\")","v":""}]
["",null,null,null,null,{"$f":"IFERROR(VLOOKUP(IF(C2703=\"\",B2703&\"||\"&B2703,C2703&\"||\"&B2703),Worktags!AR:AV,5,FALSE),\"\")","v":""}]
["",null,null,null,null,{"$f":"IFERROR(VLOOKUP(IF(C2704=\"\",B2704&\"||\"&B2704,C2704&\"||\"&B2704),Worktags!AR:AV,5,FALSE),\"\")","v":""}]
["",null,null,null,null,{"$f":"IFERROR(VLOOKUP(IF(C2705=\"\",B2705&\"||\"&B2705,C2705&\"||\"&B2705),Worktags!AR:AV,5,FALSE),\"\")","v":""}]
["",null,null,null,null,{"$f":"IFERROR(VLOOKUP(IF(C2706=\"\",B2706&\"||\"&B2706,C2706&\"||\"&B2706),Worktags!AR:AV,5,FALSE),\"\")","v":""}]
["",null,null,null,null,{"$f":"IFERROR(VLOOKUP(IF(C2707=\"\",B2707&\"||\"&B2707,C2707&\"||\"&B2707),Worktags!AR:AV,5,FALSE),\"\")","v":""}]
["",null,null,null,null,{"$f":"IFERROR(VLOOKUP(IF(C2708=\"\",B2708&\"||\"&B2708,C2708&\"||\"&B2708),Worktags!AR:AV,5,FALSE),\"\")","v":""}]
["",null,null,null,null,{"$f":"IFERROR(VLOOKUP(IF(C2709=\"\",B2709&\"||\"&B2709,C2709&\"||\"&B2709),Worktags!AR:AV,5,FALSE),\"\")","v":""}]
["",null,null,null,null,{"$f":"IFERROR(VLOOKUP(IF(C2710=\"\",B2710&\"||\"&B2710,C2710&\"||\"&B2710),Worktags!AR:AV,5,FALSE),\"\")","v":""}]
["",null,null,null,null,{"$f":"IFERROR(VLOOKUP(IF(C2711=\"\",B2711&\"||\"&B2711,C2711&\"||\"&B2711),Worktags!AR:AV,5,FALSE),\"\")","v":""}]
["",null,null,null,null,{"$f":"IFERROR(VLOOKUP(IF(C2712=\"\",B2712&\"||\"&B2712,C2712&\"||\"&B2712),Worktags!AR:AV,5,FALSE),\"\")","v":""}]
["",null,null,null,null,{"$f":"IFERROR(VLOOKUP(IF(C2713=\"\",B2713&\"||\"&B2713,C2713&\"||\"&B2713),Worktags!AR:AV,5,FALSE),\"\")","v":""}]
["",null,null,null,null,{"$f":"IFERROR(VLOOKUP(IF(C2714=\"\",B2714&\"||\"&B2714,C2714&\"||\"&B2714),Worktags!AR:AV,5,FALSE),\"\")","v":""}]
["",null,null,null,null,{"$f":"IFERROR(VLOOKUP(IF(C2715=\"\",B2715&\"||\"&B2715,C2715&\"||\"&B2715),Worktags!AR:AV,5,FALSE),\"\")","v":""}]
["",null,null,null,null,{"$f":"IFERROR(VLOOKUP(IF(C2716=\"\",B2716&\"||\"&B2716,C2716&\"||\"&B2716),Worktags!AR:AV,5,FALSE),\"\")","v":""}]
["",null,null,null,null,{"$f":"IFERROR(VLOOKUP(IF(C2717=\"\",B2717&\"||\"&B2717,C2717&\"||\"&B2717),Worktags!AR:AV,5,FALSE),\"\")","v":""}]
["",null,null,null,null,{"$f":"IFERROR(VLOOKUP(IF(C2718=\"\",B2718&\"||\"&B2718,C2718&\"||\"&B2718),Worktags!AR:AV,5,FALSE),\"\")","v":""}]
["",null,null,null,null,{"$f":"IFERROR(VLOOKUP(IF(C2719=\"\",B2719&\"||\"&B2719,C2719&\"||\"&B2719),Worktags!AR:AV,5,FALSE),\"\")","v":""}]
["",null,null,null,null,{"$f":"IFERROR(VLOOKUP(IF(C2720=\"\",B2720&\"||\"&B2720,C2720&\"||\"&B2720),Worktags!AR:AV,5,FALSE),\"\")","v":""}]
["",null,null,null,null,{"$f":"IFERROR(VLOOKUP(IF(C2721=\"\",B2721&\"||\"&B2721,C2721&\"||\"&B2721),Worktags!AR:AV,5,FALSE),\"\")","v":""}]
["",null,null,null,null,{"$f":"IFERROR(VLOOKUP(IF(C2722=\"\",B2722&\"||\"&B2722,C2722&\"||\"&B2722),Worktags!AR:AV,5,FALSE),\"\")","v":""}]
["",null,null,null,null,{"$f":"IFERROR(VLOOKUP(IF(C2723=\"\",B2723&\"||\"&B2723,C2723&\"||\"&B2723),Worktags!AR:AV,5,FALSE),\"\")","v":""}]
["",null,null,null,null,{"$f":"IFERROR(VLOOKUP(IF(C2724=\"\",B2724&\"||\"&B2724,C2724&\"||\"&B2724),Worktags!AR:AV,5,FALSE),\"\")","v":""}]
["",null,null,null,null,{"$f":"IFERROR(VLOOKUP(IF(C2725=\"\",B2725&\"||\"&B2725,C2725&\"||\"&B2725),Worktags!AR:AV,5,FALSE),\"\")","v":""}]
["",null,null,null,null,{"$f":"IFERROR(VLOOKUP(IF(C2726=\"\",B2726&\"||\"&B2726,C2726&\"||\"&B2726),Worktags!AR:AV,5,FALSE),\"\")","v":""}]
["",null,null,null,null,{"$f":"IFERROR(VLOOKUP(IF(C2727=\"\",B2727&\"||\"&B2727,C2727&\"||\"&B2727),Worktags!AR:AV,5,FALSE),\"\")","v":""}]
["",null,null,null,null,{"$f":"IFERROR(VLOOKUP(IF(C2728=\"\",B2728&\"||\"&B2728,C2728&\"||\"&B2728),Worktags!AR:AV,5,FALSE),\"\")","v":""}]
["",null,null,null,null,{"$f":"IFERROR(VLOOKUP(IF(C2729=\"\",B2729&\"||\"&B2729,C2729&\"||\"&B2729),Worktags!AR:AV,5,FALSE),\"\")","v":""}]
["",null,null,null,null,{"$f":"IFERROR(VLOOKUP(IF(C2730=\"\",B2730&\"||\"&B2730,C2730&\"||\"&B2730),Worktags!AR:AV,5,FALSE),\"\")","v":""}]
["",null,null,null,null,{"$f":"IFERROR(VLOOKUP(IF(C2731=\"\",B2731&\"||\"&B2731,C2731&\"||\"&B2731),Worktags!AR:AV,5,FALSE),\"\")","v":""}]
["",null,null,null,null,{"$f":"IFERROR(VLOOKUP(IF(C2732=\"\",B2732&\"||\"&B2732,C2732&\"||\"&B2732),Worktags!AR:AV,5,FALSE),\"\")","v":""}]
["",null,null,null,null,{"$f":"IFERROR(VLOOKUP(IF(C2733=\"\",B2733&\"||\"&B2733,C2733&\"||\"&B2733),Worktags!AR:AV,5,FALSE),\"\")","v":""}]
["",null,null,null,null,{"$f":"IFERROR(VLOOKUP(IF(C2734=\"\",B2734&\"||\"&B2734,C2734&\"||\"&B2734),Worktags!AR:AV,5,FALSE),\"\")","v":""}]
["",null,null,null,null,{"$f":"IFERROR(VLOOKUP(IF(C2735=\"\",B2735&\"||\"&B2735,C2735&\"||\"&B2735),Worktags!AR:AV,5,FALSE),\"\")","v":""}]
["",null,null,null,null,{"$f":"IFERROR(VLOOKUP(IF(C2736=\"\",B2736&\"||\"&B2736,C2736&\"||\"&B2736),Worktags!AR:AV,5,FALSE),\"\")","v":""}]
["",null,null,null,null,{"$f":"IFERROR(VLOOKUP(IF(C2737=\"\",B2737&\"||\"&B2737,C2737&\"||\"&B2737),Worktags!AR:AV,5,FALSE),\"\")","v":""}]
["",null,null,null,null,{"$f":"IFERROR(VLOOKUP(IF(C2738=\"\",B2738&\"||\"&B2738,C2738&\"||\"&B2738),Worktags!AR:AV,5,FALSE),\"\")","v":""}]
["",null,null,null,null,{"$f":"IFERROR(VLOOKUP(IF(C2739=\"\",B2739&\"||\"&B2739,C2739&\"||\"&B2739),Worktags!AR:AV,5,FALSE),\"\")","v":""}]
["",null,null,null,null,{"$f":"IFERROR(VLOOKUP(IF(C2740=\"\",B2740&\"||\"&B2740,C2740&\"||\"&B2740),Worktags!AR:AV,5,FALSE),\"\")","v":""}]
["",null,null,null,null,{"$f":"IFERROR(VLOOKUP(IF(C2741=\"\",B2741&\"||\"&B2741,C2741&\"||\"&B2741),Worktags!AR:AV,5,FALSE),\"\")","v":""}]
["",null,null,null,null,{"$f":"IFERROR(VLOOKUP(IF(C2742=\"\",B2742&\"||\"&B2742,C2742&\"||\"&B2742),Worktags!AR:AV,5,FALSE),\"\")","v":""}]
["",null,null,null,null,{"$f":"IFERROR(VLOOKUP(IF(C2743=\"\",B2743&\"||\"&B2743,C2743&\"||\"&B2743),Worktags!AR:AV,5,FALSE),\"\")","v":""}]
["",null,null,null,null,{"$f":"IFERROR(VLOOKUP(IF(C2744=\"\",B2744&\"||\"&B2744,C2744&\"||\"&B2744),Worktags!AR:AV,5,FALSE),\"\")","v":""}]
["",null,null,null,null,{"$f":"IFERROR(VLOOKUP(IF(C2745=\"\",B2745&\"||\"&B2745,C2745&\"||\"&B2745),Worktags!AR:AV,5,FALSE),\"\")","v":""}]
["",null,null,null,null,{"$f":"IFERROR(VLOOKUP(IF(C2746=\"\",B2746&\"||\"&B2746,C2746&\"||\"&B2746),Worktags!AR:AV,5,FALSE),\"\")","v":""}]
["",null,null,null,null,{"$f":"IFERROR(VLOOKUP(IF(C2747=\"\",B2747&\"||\"&B2747,C2747&\"||\"&B2747),Worktags!AR:AV,5,FALSE),\"\")","v":""}]
["",null,null,null,null,{"$f":"IFERROR(VLOOKUP(IF(C2748=\"\",B2748&\"||\"&B2748,C2748&\"||\"&B2748),Worktags!AR:AV,5,FALSE),\"\")","v":""}]
["",null,null,null,null,{"$f":"IFERROR(VLOOKUP(IF(C2749=\"\",B2749&\"||\"&B2749,C2749&\"||\"&B2749),Worktags!AR:AV,5,FALSE),\"\")","v":""}]
["",null,null,null,null,{"$f":"IFERROR(VLOOKUP(IF(C2750=\"\",B2750&\"||\"&B2750,C2750&\"||\"&B2750),Worktags!AR:AV,5,FALSE),\"\")","v":""}]
["",null,null,null,null,{"$f":"IFERROR(VLOOKUP(IF(C2751=\"\",B2751&\"||\"&B2751,C2751&\"||\"&B2751),Worktags!AR:AV,5,FALSE),\"\")","v":""}]
["",null,null,null,null,{"$f":"IFERROR(VLOOKUP(IF(C2752=\"\",B2752&\"||\"&B2752,C2752&\"||\"&B2752),Worktags!AR:AV,5,FALSE),\"\")","v":""}]
["",null,null,null,null,{"$f":"IFERROR(VLOOKUP(IF(C2753=\"\",B2753&\"||\"&B2753,C2753&\"||\"&B2753),Worktags!AR:AV,5,FALSE),\"\")","v":""}]
[{"$f":"IF(B2754<>\"\",IF(C2754<>\"\",B2754&\"_\"&C2754&\" \"&D2754&\"/\"&E2754,B2754&\" \"&D2754),\"\")","v":""},null,null,null,null,{"$f":"IFERROR(VLOOKUP(IF(C2754=\"\",B2754&\"||\"&B2754,C2754&\"||\"&B2754),Worktags!AR:AV,5,FALSE),\"\")","v":""}]
["",null,null,null,null,{"$f":"IFERROR(VLOOKUP(IF(C2755=\"\",B2755&\"||\"&B2755,C2755&\"||\"&B2755),Worktags!AR:AV,5,FALSE),\"\")","v":""}]
["",null,null,null,null,{"$f":"IFERROR(VLOOKUP(IF(C2756=\"\",B2756&\"||\"&B2756,C2756&\"||\"&B2756),Worktags!AR:AV,5,FALSE),\"\")","v":""}]
["",null,null,null,null,{"$f":"IFERROR(VLOOKUP(IF(C2757=\"\",B2757&\"||\"&B2757,C2757&\"||\"&B2757),Worktags!AR:AV,5,FALSE),\"\")","v":""}]
["",null,null,null,null,{"$f":"IFERROR(VLOOKUP(IF(C2758=\"\",B2758&\"||\"&B2758,C2758&\"||\"&B2758),Worktags!AR:AV,5,FALSE),\"\")","v":""}]
["",null,null,null,null,{"$f":"IFERROR(VLOOKUP(IF(C2759=\"\",B2759&\"||\"&B2759,C2759&\"||\"&B2759),Worktags!AR:AV,5,FALSE),\"\")","v":""}]
["",null,null,null,null,{"$f":"IFERROR(VLOOKUP(IF(C2760=\"\",B2760&\"||\"&B2760,C2760&\"||\"&B2760),Worktags!AR:AV,5,FALSE),\"\")","v":""}]
["",null,null,null,null,{"$f":"IFERROR(VLOOKUP(IF(C2761=\"\",B2761&\"||\"&B2761,C2761&\"||\"&B2761),Worktags!AR:AV,5,FALSE),\"\")","v":""}]
["",null,null,null,null,{"$f":"IFERROR(VLOOKUP(IF(C2762=\"\",B2762&\"||\"&B2762,C2762&\"||\"&B2762),Worktags!AR:AV,5,FALSE),\"\")","v":""}]
["",null,null,null,null,{"$f":"IFERROR(VLOOKUP(IF(C2763=\"\",B2763&\"||\"&B2763,C2763&\"||\"&B2763),Worktags!AR:AV,5,FALSE),\"\")","v":""}]
["",null,null,null,null,{"$f":"IFERROR(VLOOKUP(IF(C2764=\"\",B2764&\"||\"&B2764,C2764&\"||\"&B2764),Worktags!AR:AV,5,FALSE),\"\")","v":""}]
["",null,null,null,null,{"$f":"IFERROR(VLOOKUP(IF(C2765=\"\",B2765&\"||\"&B2765,C2765&\"||\"&B2765),Worktags!AR:AV,5,FALSE),\"\")","v":""}]
["",null,null,null,null,{"$f":"IFERROR(VLOOKUP(IF(C2766=\"\",B2766&\"||\"&B2766,C2766&\"||\"&B2766),Worktags!AR:AV,5,FALSE),\"\")","v":""}]
["",null,null,null,null,{"$f":"IFERROR(VLOOKUP(IF(C2767=\"\",B2767&\"||\"&B2767,C2767&\"||\"&B2767),Worktags!AR:AV,5,FALSE),\"\")","v":""}]
["",null,null,null,null,{"$f":"IFERROR(VLOOKUP(IF(C2768=\"\",B2768&\"||\"&B2768,C2768&\"||\"&B2768),Worktags!AR:AV,5,FALSE),\"\")","v":""}]
["",null,null,null,null,{"$f":"IFERROR(VLOOKUP(IF(C2769=\"\",B2769&\"||\"&B2769,C2769&\"||\"&B2769),Worktags!AR:AV,5,FALSE),\"\")","v":""}]
["",null,null,null,null,{"$f":"IFERROR(VLOOKUP(IF(C2770=\"\",B2770&\"||\"&B2770,C2770&\"||\"&B2770),Worktags!AR:AV,5,FALSE),\"\")","v":""}]
["",null,null,null,null,{"$f":"IFERROR(VLOOKUP(IF(C2771=\"\",B2771&\"||\"&B2771,C2771&\"||\"&B2771),Worktags!AR:AV,5,FALSE),\"\")","v":""}]
["",null,null,null,null,{"$f":"IFERROR(VLOOKUP(IF(C2772=\"\",B2772&\"||\"&B2772,C2772&\"||\"&B2772),Worktags!AR:AV,5,FALSE),\"\")","v":""}]
["",null,null,null,null,{"$f":"IFERROR(VLOOKUP(IF(C2773=\"\",B2773&\"||\"&B2773,C2773&\"||\"&B2773),Worktags!AR:AV,5,FALSE),\"\")","v":""}]
["",null,null,null,null,{"$f":"IFERROR(VLOOKUP(IF(C2774=\"\",B2774&\"||\"&B2774,C2774&\"||\"&B2774),Worktags!AR:AV,5,FALSE),\"\")","v":""}]
["",null,null,null,null,{"$f":"IFERROR(VLOOKUP(IF(C2775=\"\",B2775&\"||\"&B2775,C2775&\"||\"&B2775),Worktags!AR:AV,5,FALSE),\"\")","v":""}]
["",null,null,null,null,{"$f":"IFERROR(VLOOKUP(IF(C2776=\"\",B2776&\"||\"&B2776,C2776&\"||\"&B2776),Worktags!AR:AV,5,FALSE),\"\")","v":""}]
["",null,null,null,null,{"$f":"IFERROR(VLOOKUP(IF(C2777=\"\",B2777&\"||\"&B2777,C2777&\"||\"&B2777),Worktags!AR:AV,5,FALSE),\"\")","v":""}]
["",null,null,null,null,{"$f":"IFERROR(VLOOKUP(IF(C2778=\"\",B2778&\"||\"&B2778,C2778&\"||\"&B2778),Worktags!AR:AV,5,FALSE),\"\")","v":""}]
["",null,null,null,null,{"$f":"IFERROR(VLOOKUP(IF(C2779=\"\",B2779&\"||\"&B2779,C2779&\"||\"&B2779),Worktags!AR:AV,5,FALSE),\"\")","v":""}]
["",null,null,null,null,{"$f":"IFERROR(VLOOKUP(IF(C2780=\"\",B2780&\"||\"&B2780,C2780&\"||\"&B2780),Worktags!AR:AV,5,FALSE),\"\")","v":""}]
["",null,null,null,null,{"$f":"IFERROR(VLOOKUP(IF(C2781=\"\",B2781&\"||\"&B2781,C2781&\"||\"&B2781),Worktags!AR:AV,5,FALSE),\"\")","v":""}]
["",null,null,null,null,{"$f":"IFERROR(VLOOKUP(IF(C2782=\"\",B2782&\"||\"&B2782,C2782&\"||\"&B2782),Worktags!AR:AV,5,FALSE),\"\")","v":""}]
["",null,null,null,null,{"$f":"IFERROR(VLOOKUP(IF(C2783=\"\",B2783&\"||\"&B2783,C2783&\"||\"&B2783),Worktags!AR:AV,5,FALSE),\"\")","v":""}]
["",null,null,null,null,{"$f":"IFERROR(VLOOKUP(IF(C2784=\"\",B2784&\"||\"&B2784,C2784&\"||\"&B2784),Worktags!AR:AV,5,FALSE),\"\")","v":""}]
["",null,null,null,null,{"$f":"IFERROR(VLOOKUP(IF(C2785=\"\",B2785&\"||\"&B2785,C2785&\"||\"&B2785),Worktags!AR:AV,5,FALSE),\"\")","v":""}]
["",null,null,null,null,{"$f":"IFERROR(VLOOKUP(IF(C2786=\"\",B2786&\"||\"&B2786,C2786&\"||\"&B2786),Worktags!AR:AV,5,FALSE),\"\")","v":""}]
["",null,null,null,null,{"$f":"IFERROR(VLOOKUP(IF(C2787=\"\",B2787&\"||\"&B2787,C2787&\"||\"&B2787),Worktags!AR:AV,5,FALSE),\"\")","v":""}]
["",null,null,null,null,{"$f":"IFERROR(VLOOKUP(IF(C2788=\"\",B2788&\"||\"&B2788,C2788&\"||\"&B2788),Worktags!AR:AV,5,FALSE),\"\")","v":""}]
["",null,null,null,null,{"$f":"IFERROR(VLOOKUP(IF(C2789=\"\",B2789&\"||\"&B2789,C2789&\"||\"&B2789),Worktags!AR:AV,5,FALSE),\"\")","v":""}]
["",null,null,null,null,{"$f":"IFERROR(VLOOKUP(IF(C2790=\"\",B2790&\"||\"&B2790,C2790&\"||\"&B2790),Worktags!AR:AV,5,FALSE),\"\")","v":""}]
["",null,null,null,null,{"$f":"IFERROR(VLOOKUP(IF(C2791=\"\",B2791&\"||\"&B2791,C2791&\"||\"&B2791),Worktags!AR:AV,5,FALSE),\"\")","v":""}]
["",null,null,null,null,{"$f":"IFERROR(VLOOKUP(IF(C2792=\"\",B2792&\"||\"&B2792,C2792&\"||\"&B2792),Worktags!AR:AV,5,FALSE),\"\")","v":""}]
["",null,null,null,null,{"$f":"IFERROR(VLOOKUP(IF(C2793=\"\",B2793&\"||\"&B2793,C2793&\"||\"&B2793),Worktags!AR:AV,5,FALSE),\"\")","v":""}]
["",null,null,null,null,{"$f":"IFERROR(VLOOKUP(IF(C2794=\"\",B2794&\"||\"&B2794,C2794&\"||\"&B2794),Worktags!AR:AV,5,FALSE),\"\")","v":""}]
["",null,null,null,null,{"$f":"IFERROR(VLOOKUP(IF(C2795=\"\",B2795&\"||\"&B2795,C2795&\"||\"&B2795),Worktags!AR:AV,5,FALSE),\"\")","v":""}]
["",null,null,null,null,{"$f":"IFERROR(VLOOKUP(IF(C2796=\"\",B2796&\"||\"&B2796,C2796&\"||\"&B2796),Worktags!AR:AV,5,FALSE),\"\")","v":""}]
["",null,null,null,null,{"$f":"IFERROR(VLOOKUP(IF(C2797=\"\",B2797&\"||\"&B2797,C2797&\"||\"&B2797),Worktags!AR:AV,5,FALSE),\"\")","v":""}]
["",null,null,null,null,{"$f":"IFERROR(VLOOKUP(IF(C2798=\"\",B2798&\"||\"&B2798,C2798&\"||\"&B2798),Worktags!AR:AV,5,FALSE),\"\")","v":""}]
["",null,null,null,null,{"$f":"IFERROR(VLOOKUP(IF(C2799=\"\",B2799&\"||\"&B2799,C2799&\"||\"&B2799),Worktags!AR:AV,5,FALSE),\"\")","v":""}]
["",null,null,null,null,{"$f":"IFERROR(VLOOKUP(IF(C2800=\"\",B2800&\"||\"&B2800,C2800&\"||\"&B2800),Worktags!AR:AV,5,FALSE),\"\")","v":""}]
["",null,null,null,null,{"$f":"IFERROR(VLOOKUP(IF(C2801=\"\",B2801&\"||\"&B2801,C2801&\"||\"&B2801),Worktags!AR:AV,5,FALSE),\"\")","v":""}]
["",null,null,null,null,{"$f":"IFERROR(VLOOKUP(IF(C2802=\"\",B2802&\"||\"&B2802,C2802&\"||\"&B2802),Worktags!AR:AV,5,FALSE),\"\")","v":""}]
["",null,null,null,null,{"$f":"IFERROR(VLOOKUP(IF(C2803=\"\",B2803&\"||\"&B2803,C2803&\"||\"&B2803),Worktags!AR:AV,5,FALSE),\"\")","v":""}]
["",null,null,null,null,{"$f":"IFERROR(VLOOKUP(IF(C2804=\"\",B2804&\"||\"&B2804,C2804&\"||\"&B2804),Worktags!AR:AV,5,FALSE),\"\")","v":""}]
["",null,null,null,null,{"$f":"IFERROR(VLOOKUP(IF(C2805=\"\",B2805&\"||\"&B2805,C2805&\"||\"&B2805),Worktags!AR:AV,5,FALSE),\"\")","v":""}]
["",null,null,null,null,{"$f":"IFERROR(VLOOKUP(IF(C2806=\"\",B2806&\"||\"&B2806,C2806&\"||\"&B2806),Worktags!AR:AV,5,FALSE),\"\")","v":""}]
["",null,null,null,null,{"$f":"IFERROR(VLOOKUP(IF(C2807=\"\",B2807&\"||\"&B2807,C2807&\"||\"&B2807),Worktags!AR:AV,5,FALSE),\"\")","v":""}]
["",null,null,null,null,{"$f":"IFERROR(VLOOKUP(IF(C2808=\"\",B2808&\"||\"&B2808,C2808&\"||\"&B2808),Worktags!AR:AV,5,FALSE),\"\")","v":""}]
["",null,null,null,null,{"$f":"IFERROR(VLOOKUP(IF(C2809=\"\",B2809&\"||\"&B2809,C2809&\"||\"&B2809),Worktags!AR:AV,5,FALSE),\"\")","v":""}]
["",null,null,null,null,{"$f":"IFERROR(VLOOKUP(IF(C2810=\"\",B2810&\"||\"&B2810,C2810&\"||\"&B2810),Worktags!AR:AV,5,FALSE),\"\")","v":""}]
["",null,null,null,null,{"$f":"IFERROR(VLOOKUP(IF(C2811=\"\",B2811&\"||\"&B2811,C2811&\"||\"&B2811),Worktags!AR:AV,5,FALSE),\"\")","v":""}]
["",null,null,null,null,{"$f":"IFERROR(VLOOKUP(IF(C2812=\"\",B2812&\"||\"&B2812,C2812&\"||\"&B2812),Worktags!AR:AV,5,FALSE),\"\")","v":""}]
["",null,null,null,null,{"$f":"IFERROR(VLOOKUP(IF(C2813=\"\",B2813&\"||\"&B2813,C2813&\"||\"&B2813),Worktags!AR:AV,5,FALSE),\"\")","v":""}]
["",null,null,null,null,{"$f":"IFERROR(VLOOKUP(IF(C2814=\"\",B2814&\"||\"&B2814,C2814&\"||\"&B2814),Worktags!AR:AV,5,FALSE),\"\")","v":""}]
["",null,null,null,null,{"$f":"IFERROR(VLOOKUP(IF(C2815=\"\",B2815&\"||\"&B2815,C2815&\"||\"&B2815),Worktags!AR:AV,5,FALSE),\"\")","v":""}]
["",null,null,null,null,{"$f":"IFERROR(VLOOKUP(IF(C2816=\"\",B2816&\"||\"&B2816,C2816&\"||\"&B2816),Worktags!AR:AV,5,FALSE),\"\")","v":""}]
["",null,null,null,null,{"$f":"IFERROR(VLOOKUP(IF(C2817=\"\",B2817&\"||\"&B2817,C2817&\"||\"&B2817),Worktags!AR:AV,5,FALSE),\"\")","v":""}]
[{"$f":"IF(B2818<>\"\",IF(C2818<>\"\",B2818&\"_\"&C2818&\" \"&D2818&\"/\"&E2818,B2818&\" \"&D2818),\"\")","v":""},null,null,null,null,{"$f":"IFERROR(VLOOKUP(IF(C2818=\"\",B2818&\"||\"&B2818,C2818&\"||\"&B2818),Worktags!AR:AV,5,FALSE),\"\")","v":""}]
["",null,null,null,null,{"$f":"IFERROR(VLOOKUP(IF(C2819=\"\",B2819&\"||\"&B2819,C2819&\"||\"&B2819),Worktags!AR:AV,5,FALSE),\"\")","v":""}]
["",null,null,null,null,{"$f":"IFERROR(VLOOKUP(IF(C2820=\"\",B2820&\"||\"&B2820,C2820&\"||\"&B2820),Worktags!AR:AV,5,FALSE),\"\")","v":""}]
["",null,null,null,null,{"$f":"IFERROR(VLOOKUP(IF(C2821=\"\",B2821&\"||\"&B2821,C2821&\"||\"&B2821),Worktags!AR:AV,5,FALSE),\"\")","v":""}]
["",null,null,null,null,{"$f":"IFERROR(VLOOKUP(IF(C2822=\"\",B2822&\"||\"&B2822,C2822&\"||\"&B2822),Worktags!AR:AV,5,FALSE),\"\")","v":""}]
["",null,null,null,null,{"$f":"IFERROR(VLOOKUP(IF(C2823=\"\",B2823&\"||\"&B2823,C2823&\"||\"&B2823),Worktags!AR:AV,5,FALSE),\"\")","v":""}]
["",null,null,null,null,{"$f":"IFERROR(VLOOKUP(IF(C2824=\"\",B2824&\"||\"&B2824,C2824&\"||\"&B2824),Worktags!AR:AV,5,FALSE),\"\")","v":""}]
["",null,null,null,null,{"$f":"IFERROR(VLOOKUP(IF(C2825=\"\",B2825&\"||\"&B2825,C2825&\"||\"&B2825),Worktags!AR:AV,5,FALSE),\"\")","v":""}]
["",null,null,null,null,{"$f":"IFERROR(VLOOKUP(IF(C2826=\"\",B2826&\"||\"&B2826,C2826&\"||\"&B2826),Worktags!AR:AV,5,FALSE),\"\")","v":""}]
["",null,null,null,null,{"$f":"IFERROR(VLOOKUP(IF(C2827=\"\",B2827&\"||\"&B2827,C2827&\"||\"&B2827),Worktags!AR:AV,5,FALSE),\"\")","v":""}]
["",null,null,null,null,{"$f":"IFERROR(VLOOKUP(IF(C2828=\"\",B2828&\"||\"&B2828,C2828&\"||\"&B2828),Worktags!AR:AV,5,FALSE),\"\")","v":""}]
["",null,null,null,null,{"$f":"IFERROR(VLOOKUP(IF(C2829=\"\",B2829&\"||\"&B2829,C2829&\"||\"&B2829),Worktags!AR:AV,5,FALSE),\"\")","v":""}]
["",null,null,null,null,{"$f":"IFERROR(VLOOKUP(IF(C2830=\"\",B2830&\"||\"&B2830,C2830&\"||\"&B2830),Worktags!AR:AV,5,FALSE),\"\")","v":""}]
["",null,null,null,null,{"$f":"IFERROR(VLOOKUP(IF(C2831=\"\",B2831&\"||\"&B2831,C2831&\"||\"&B2831),Worktags!AR:AV,5,FALSE),\"\")","v":""}]
["",null,null,null,null,{"$f":"IFERROR(VLOOKUP(IF(C2832=\"\",B2832&\"||\"&B2832,C2832&\"||\"&B2832),Worktags!AR:AV,5,FALSE),\"\")","v":""}]
["",null,null,null,null,{"$f":"IFERROR(VLOOKUP(IF(C2833=\"\",B2833&\"||\"&B2833,C2833&\"||\"&B2833),Worktags!AR:AV,5,FALSE),\"\")","v":""}]
["",null,null,null,null,{"$f":"IFERROR(VLOOKUP(IF(C2834=\"\",B2834&\"||\"&B2834,C2834&\"||\"&B2834),Worktags!AR:AV,5,FALSE),\"\")","v":""}]
["",null,null,null,null,{"$f":"IFERROR(VLOOKUP(IF(C2835=\"\",B2835&\"||\"&B2835,C2835&\"||\"&B2835),Worktags!AR:AV,5,FALSE),\"\")","v":""}]
["",null,null,null,null,{"$f":"IFERROR(VLOOKUP(IF(C2836=\"\",B2836&\"||\"&B2836,C2836&\"||\"&B2836),Worktags!AR:AV,5,FALSE),\"\")","v":""}]
["",null,null,null,null,{"$f":"IFERROR(VLOOKUP(IF(C2837=\"\",B2837&\"||\"&B2837,C2837&\"||\"&B2837),Worktags!AR:AV,5,FALSE),\"\")","v":""}]
["",null,null,null,null,{"$f":"IFERROR(VLOOKUP(IF(C2838=\"\",B2838&\"||\"&B2838,C2838&\"||\"&B2838),Worktags!AR:AV,5,FALSE),\"\")","v":""}]
["",null,null,null,null,{"$f":"IFERROR(VLOOKUP(IF(C2839=\"\",B2839&\"||\"&B2839,C2839&\"||\"&B2839),Worktags!AR:AV,5,FALSE),\"\")","v":""}]
["",null,null,null,null,{"$f":"IFERROR(VLOOKUP(IF(C2840=\"\",B2840&\"||\"&B2840,C2840&\"||\"&B2840),Worktags!AR:AV,5,FALSE),\"\")","v":""}]
["",null,null,null,null,{"$f":"IFERROR(VLOOKUP(IF(C2841=\"\",B2841&\"||\"&B2841,C2841&\"||\"&B2841),Worktags!AR:AV,5,FALSE),\"\")","v":""}]
["",null,null,null,null,{"$f":"IFERROR(VLOOKUP(IF(C2842=\"\",B2842&\"||\"&B2842,C2842&\"||\"&B2842),Worktags!AR:AV,5,FALSE),\"\")","v":""}]
["",null,null,null,null,{"$f":"IFERROR(VLOOKUP(IF(C2843=\"\",B2843&\"||\"&B2843,C2843&\"||\"&B2843),Worktags!AR:AV,5,FALSE),\"\")","v":""}]
["",null,null,null,null,{"$f":"IFERROR(VLOOKUP(IF(C2844=\"\",B2844&\"||\"&B2844,C2844&\"||\"&B2844),Worktags!AR:AV,5,FALSE),\"\")","v":""}]
["",null,null,null,null,{"$f":"IFERROR(VLOOKUP(IF(C2845=\"\",B2845&\"||\"&B2845,C2845&\"||\"&B2845),Worktags!AR:AV,5,FALSE),\"\")","v":""}]
["",null,null,null,null,{"$f":"IFERROR(VLOOKUP(IF(C2846=\"\",B2846&\"||\"&B2846,C2846&\"||\"&B2846),Worktags!AR:AV,5,FALSE),\"\")","v":""}]
["",null,null,null,null,{"$f":"IFERROR(VLOOKUP(IF(C2847=\"\",B2847&\"||\"&B2847,C2847&\"||\"&B2847),Worktags!AR:AV,5,FALSE),\"\")","v":""}]
["",null,null,null,null,{"$f":"IFERROR(VLOOKUP(IF(C2848=\"\",B2848&\"||\"&B2848,C2848&\"||\"&B2848),Worktags!AR:AV,5,FALSE),\"\")","v":""}]
["",null,null,null,null,{"$f":"IFERROR(VLOOKUP(IF(C2849=\"\",B2849&\"||\"&B2849,C2849&\"||\"&B2849),Worktags!AR:AV,5,FALSE),\"\")","v":""}]
["",null,null,null,null,{"$f":"IFERROR(VLOOKUP(IF(C2850=\"\",B2850&\"||\"&B2850,C2850&\"||\"&B2850),Worktags!AR:AV,5,FALSE),\"\")","v":""}]
["",null,null,null,null,{"$f":"IFERROR(VLOOKUP(IF(C2851=\"\",B2851&\"||\"&B2851,C2851&\"||\"&B2851),Worktags!AR:AV,5,FALSE),\"\")","v":""}]
["",null,null,null,null,{"$f":"IFERROR(VLOOKUP(IF(C2852=\"\",B2852&\"||\"&B2852,C2852&\"||\"&B2852),Worktags!AR:AV,5,FALSE),\"\")","v":""}]
["",null,null,null,null,{"$f":"IFERROR(VLOOKUP(IF(C2853=\"\",B2853&\"||\"&B2853,C2853&\"||\"&B2853),Worktags!AR:AV,5,FALSE),\"\")","v":""}]
["",null,null,null,null,{"$f":"IFERROR(VLOOKUP(IF(C2854=\"\",B2854&\"||\"&B2854,C2854&\"||\"&B2854),Worktags!AR:AV,5,FALSE),\"\")","v":""}]
["",null,null,null,null,{"$f":"IFERROR(VLOOKUP(IF(C2855=\"\",B2855&\"||\"&B2855,C2855&\"||\"&B2855),Worktags!AR:AV,5,FALSE),\"\")","v":""}]
["",null,null,null,null,{"$f":"IFERROR(VLOOKUP(IF(C2856=\"\",B2856&\"||\"&B2856,C2856&\"||\"&B2856),Worktags!AR:AV,5,FALSE),\"\")","v":""}]
["",null,null,null,null,{"$f":"IFERROR(VLOOKUP(IF(C2857=\"\",B2857&\"||\"&B2857,C2857&\"||\"&B2857),Worktags!AR:AV,5,FALSE),\"\")","v":""}]
["",null,null,null,null,{"$f":"IFERROR(VLOOKUP(IF(C2858=\"\",B2858&\"||\"&B2858,C2858&\"||\"&B2858),Worktags!AR:AV,5,FALSE),\"\")","v":""}]
["",null,null,null,null,{"$f":"IFERROR(VLOOKUP(IF(C2859=\"\",B2859&\"||\"&B2859,C2859&\"||\"&B2859),Worktags!AR:AV,5,FALSE),\"\")","v":""}]
["",null,null,null,null,{"$f":"IFERROR(VLOOKUP(IF(C2860=\"\",B2860&\"||\"&B2860,C2860&\"||\"&B2860),Worktags!AR:AV,5,FALSE),\"\")","v":""}]
["",null,null,null,null,{"$f":"IFERROR(VLOOKUP(IF(C2861=\"\",B2861&\"||\"&B2861,C2861&\"||\"&B2861),Worktags!AR:AV,5,FALSE),\"\")","v":""}]
["",null,null,null,null,{"$f":"IFERROR(VLOOKUP(IF(C2862=\"\",B2862&\"||\"&B2862,C2862&\"||\"&B2862),Worktags!AR:AV,5,FALSE),\"\")","v":""}]
["",null,null,null,null,{"$f":"IFERROR(VLOOKUP(IF(C2863=\"\",B2863&\"||\"&B2863,C2863&\"||\"&B2863),Worktags!AR:AV,5,FALSE),\"\")","v":""}]
["",null,null,null,null,{"$f":"IFERROR(VLOOKUP(IF(C2864=\"\",B2864&\"||\"&B2864,C2864&\"||\"&B2864),Worktags!AR:AV,5,FALSE),\"\")","v":""}]
["",null,null,null,null,{"$f":"IFERROR(VLOOKUP(IF(C2865=\"\",B2865&\"||\"&B2865,C2865&\"||\"&B2865),Worktags!AR:AV,5,FALSE),\"\")","v":""}]
["",null,null,null,null,{"$f":"IFERROR(VLOOKUP(IF(C2866=\"\",B2866&\"||\"&B2866,C2866&\"||\"&B2866),Worktags!AR:AV,5,FALSE),\"\")","v":""}]
["",null,null,null,null,{"$f":"IFERROR(VLOOKUP(IF(C2867=\"\",B2867&\"||\"&B2867,C2867&\"||\"&B2867),Worktags!AR:AV,5,FALSE),\"\")","v":""}]
["",null,null,null,null,{"$f":"IFERROR(VLOOKUP(IF(C2868=\"\",B2868&\"||\"&B2868,C2868&\"||\"&B2868),Worktags!AR:AV,5,FALSE),\"\")","v":""}]
["",null,null,null,null,{"$f":"IFERROR(VLOOKUP(IF(C2869=\"\",B2869&\"||\"&B2869,C2869&\"||\"&B2869),Worktags!AR:AV,5,FALSE),\"\")","v":""}]
["",null,null,null,null,{"$f":"IFERROR(VLOOKUP(IF(C2870=\"\",B2870&\"||\"&B2870,C2870&\"||\"&B2870),Worktags!AR:AV,5,FALSE),\"\")","v":""}]
["",null,null,null,null,{"$f":"IFERROR(VLOOKUP(IF(C2871=\"\",B2871&\"||\"&B2871,C2871&\"||\"&B2871),Worktags!AR:AV,5,FALSE),\"\")","v":""}]
["",null,null,null,null,{"$f":"IFERROR(VLOOKUP(IF(C2872=\"\",B2872&\"||\"&B2872,C2872&\"||\"&B2872),Worktags!AR:AV,5,FALSE),\"\")","v":""}]
["",null,null,null,null,{"$f":"IFERROR(VLOOKUP(IF(C2873=\"\",B2873&\"||\"&B2873,C2873&\"||\"&B2873),Worktags!AR:AV,5,FALSE),\"\")","v":""}]
["",null,null,null,null,{"$f":"IFERROR(VLOOKUP(IF(C2874=\"\",B2874&\"||\"&B2874,C2874&\"||\"&B2874),Worktags!AR:AV,5,FALSE),\"\")","v":""}]
["",null,null,null,null,{"$f":"IFERROR(VLOOKUP(IF(C2875=\"\",B2875&\"||\"&B2875,C2875&\"||\"&B2875),Worktags!AR:AV,5,FALSE),\"\")","v":""}]
["",null,null,null,null,{"$f":"IFERROR(VLOOKUP(IF(C2876=\"\",B2876&\"||\"&B2876,C2876&\"||\"&B2876),Worktags!AR:AV,5,FALSE),\"\")","v":""}]
["",null,null,null,null,{"$f":"IFERROR(VLOOKUP(IF(C2877=\"\",B2877&\"||\"&B2877,C2877&\"||\"&B2877),Worktags!AR:AV,5,FALSE),\"\")","v":""}]
["",null,null,null,null,{"$f":"IFERROR(VLOOKUP(IF(C2878=\"\",B2878&\"||\"&B2878,C2878&\"||\"&B2878),Worktags!AR:AV,5,FALSE),\"\")","v":""}]
["",null,null,null,null,{"$f":"IFERROR(VLOOKUP(IF(C2879=\"\",B2879&\"||\"&B2879,C2879&\"||\"&B2879),Worktags!AR:AV,5,FALSE),\"\")","v":""}]
["",null,null,null,null,{"$f":"IFERROR(VLOOKUP(IF(C2880=\"\",B2880&\"||\"&B2880,C2880&\"||\"&B2880),Worktags!AR:AV,5,FALSE),\"\")","v":""}]
["",null,null,null,null,{"$f":"IFERROR(VLOOKUP(IF(C2881=\"\",B2881&\"||\"&B2881,C2881&\"||\"&B2881),Worktags!AR:AV,5,FALSE),\"\")","v":""}]
[{"$f":"IF(B2882<>\"\",IF(C2882<>\"\",B2882&\"_\"&C2882&\" \"&D2882&\"/\"&E2882,B2882&\" \"&D2882),\"\")","v":""},null,null,null,null,{"$f":"IFERROR(VLOOKUP(IF(C2882=\"\",B2882&\"||\"&B2882,C2882&\"||\"&B2882),Worktags!AR:AV,5,FALSE),\"\")","v":""}]
["",null,null,null,null,{"$f":"IFERROR(VLOOKUP(IF(C2883=\"\",B2883&\"||\"&B2883,C2883&\"||\"&B2883),Worktags!AR:AV,5,FALSE),\"\")","v":""}]
["",null,null,null,null,{"$f":"IFERROR(VLOOKUP(IF(C2884=\"\",B2884&\"||\"&B2884,C2884&\"||\"&B2884),Worktags!AR:AV,5,FALSE),\"\")","v":""}]
["",null,null,null,null,{"$f":"IFERROR(VLOOKUP(IF(C2885=\"\",B2885&\"||\"&B2885,C2885&\"||\"&B2885),Worktags!AR:AV,5,FALSE),\"\")","v":""}]
["",null,null,null,null,{"$f":"IFERROR(VLOOKUP(IF(C2886=\"\",B2886&\"||\"&B2886,C2886&\"||\"&B2886),Worktags!AR:AV,5,FALSE),\"\")","v":""}]
["",null,null,null,null,{"$f":"IFERROR(VLOOKUP(IF(C2887=\"\",B2887&\"||\"&B2887,C2887&\"||\"&B2887),Worktags!AR:AV,5,FALSE),\"\")","v":""}]
["",null,null,null,null,{"$f":"IFERROR(VLOOKUP(IF(C2888=\"\",B2888&\"||\"&B2888,C2888&\"||\"&B2888),Worktags!AR:AV,5,FALSE),\"\")","v":""}]
["",null,null,null,null,{"$f":"IFERROR(VLOOKUP(IF(C2889=\"\",B2889&\"||\"&B2889,C2889&\"||\"&B2889),Worktags!AR:AV,5,FALSE),\"\")","v":""}]
["",null,null,null,null,{"$f":"IFERROR(VLOOKUP(IF(C2890=\"\",B2890&\"||\"&B2890,C2890&\"||\"&B2890),Worktags!AR:AV,5,FALSE),\"\")","v":""}]
["",null,null,null,null,{"$f":"IFERROR(VLOOKUP(IF(C2891=\"\",B2891&\"||\"&B2891,C2891&\"||\"&B2891),Worktags!AR:AV,5,FALSE),\"\")","v":""}]
["",null,null,null,null,{"$f":"IFERROR(VLOOKUP(IF(C2892=\"\",B2892&\"||\"&B2892,C2892&\"||\"&B2892),Worktags!AR:AV,5,FALSE),\"\")","v":""}]
["",null,null,null,null,{"$f":"IFERROR(VLOOKUP(IF(C2893=\"\",B2893&\"||\"&B2893,C2893&\"||\"&B2893),Worktags!AR:AV,5,FALSE),\"\")","v":""}]
["",null,null,null,null,{"$f":"IFERROR(VLOOKUP(IF(C2894=\"\",B2894&\"||\"&B2894,C2894&\"||\"&B2894),Worktags!AR:AV,5,FALSE),\"\")","v":""}]
["",null,null,null,null,{"$f":"IFERROR(VLOOKUP(IF(C2895=\"\",B2895&\"||\"&B2895,C2895&\"||\"&B2895),Worktags!AR:AV,5,FALSE),\"\")","v":""}]
["",null,null,null,null,{"$f":"IFERROR(VLOOKUP(IF(C2896=\"\",B2896&\"||\"&B2896,C2896&\"||\"&B2896),Worktags!AR:AV,5,FALSE),\"\")","v":""}]
["",null,null,null,null,{"$f":"IFERROR(VLOOKUP(IF(C2897=\"\",B2897&\"||\"&B2897,C2897&\"||\"&B2897),Worktags!AR:AV,5,FALSE),\"\")","v":""}]
["",null,null,null,null,{"$f":"IFERROR(VLOOKUP(IF(C2898=\"\",B2898&\"||\"&B2898,C2898&\"||\"&B2898),Worktags!AR:AV,5,FALSE),\"\")","v":""}]
["",null,null,null,null,{"$f":"IFERROR(VLOOKUP(IF(C2899=\"\",B2899&\"||\"&B2899,C2899&\"||\"&B2899),Worktags!AR:AV,5,FALSE),\"\")","v":""}]
["",null,null,null,null,{"$f":"IFERROR(VLOOKUP(IF(C2900=\"\",B2900&\"||\"&B2900,C2900&\"||\"&B2900),Worktags!AR:AV,5,FALSE),\"\")","v":""}]
["",null,null,null,null,{"$f":"IFERROR(VLOOKUP(IF(C2901=\"\",B2901&\"||\"&B2901,C2901&\"||\"&B2901),Worktags!AR:AV,5,FALSE),\"\")","v":""}]
["",null,null,null,null,{"$f":"IFERROR(VLOOKUP(IF(C2902=\"\",B2902&\"||\"&B2902,C2902&\"||\"&B2902),Worktags!AR:AV,5,FALSE),\"\")","v":""}]
["",null,null,null,null,{"$f":"IFERROR(VLOOKUP(IF(C2903=\"\",B2903&\"||\"&B2903,C2903&\"||\"&B2903),Worktags!AR:AV,5,FALSE),\"\")","v":""}]
["",null,null,null,null,{"$f":"IFERROR(VLOOKUP(IF(C2904=\"\",B2904&\"||\"&B2904,C2904&\"||\"&B2904),Worktags!AR:AV,5,FALSE),\"\")","v":""}]
["",null,null,null,null,{"$f":"IFERROR(VLOOKUP(IF(C2905=\"\",B2905&\"||\"&B2905,C2905&\"||\"&B2905),Worktags!AR:AV,5,FALSE),\"\")","v":""}]
["",null,null,null,null,{"$f":"IFERROR(VLOOKUP(IF(C2906=\"\",B2906&\"||\"&B2906,C2906&\"||\"&B2906),Worktags!AR:AV,5,FALSE),\"\")","v":""}]
["",null,null,null,null,{"$f":"IFERROR(VLOOKUP(IF(C2907=\"\",B2907&\"||\"&B2907,C2907&\"||\"&B2907),Worktags!AR:AV,5,FALSE),\"\")","v":""}]
["",null,null,null,null,{"$f":"IFERROR(VLOOKUP(IF(C2908=\"\",B2908&\"||\"&B2908,C2908&\"||\"&B2908),Worktags!AR:AV,5,FALSE),\"\")","v":""}]
["",null,null,null,null,{"$f":"IFERROR(VLOOKUP(IF(C2909=\"\",B2909&\"||\"&B2909,C2909&\"||\"&B2909),Worktags!AR:AV,5,FALSE),\"\")","v":""}]
["",null,null,null,null,{"$f":"IFERROR(VLOOKUP(IF(C2910=\"\",B2910&\"||\"&B2910,C2910&\"||\"&B2910),Worktags!AR:AV,5,FALSE),\"\")","v":""}]
["",null,null,null,null,{"$f":"IFERROR(VLOOKUP(IF(C2911=\"\",B2911&\"||\"&B2911,C2911&\"||\"&B2911),Worktags!AR:AV,5,FALSE),\"\")","v":""}]
["",null,null,null,null,{"$f":"IFERROR(VLOOKUP(IF(C2912=\"\",B2912&\"||\"&B2912,C2912&\"||\"&B2912),Worktags!AR:AV,5,FALSE),\"\")","v":""}]
["",null,null,null,null,{"$f":"IFERROR(VLOOKUP(IF(C2913=\"\",B2913&\"||\"&B2913,C2913&\"||\"&B2913),Worktags!AR:AV,5,FALSE),\"\")","v":""}]
["",null,null,null,null,{"$f":"IFERROR(VLOOKUP(IF(C2914=\"\",B2914&\"||\"&B2914,C2914&\"||\"&B2914),Worktags!AR:AV,5,FALSE),\"\")","v":""}]
["",null,null,null,null,{"$f":"IFERROR(VLOOKUP(IF(C2915=\"\",B2915&\"||\"&B2915,C2915&\"||\"&B2915),Worktags!AR:AV,5,FALSE),\"\")","v":""}]
["",null,null,null,null,{"$f":"IFERROR(VLOOKUP(IF(C2916=\"\",B2916&\"||\"&B2916,C2916&\"||\"&B2916),Worktags!AR:AV,5,FALSE),\"\")","v":""}]
["",null,null,null,null,{"$f":"IFERROR(VLOOKUP(IF(C2917=\"\",B2917&\"||\"&B2917,C2917&\"||\"&B2917),Worktags!AR:AV,5,FALSE),\"\")","v":""}]
["",null,null,null,null,{"$f":"IFERROR(VLOOKUP(IF(C2918=\"\",B2918&\"||\"&B2918,C2918&\"||\"&B2918),Worktags!AR:AV,5,FALSE),\"\")","v":""}]
["",null,null,null,null,{"$f":"IFERROR(VLOOKUP(IF(C2919=\"\",B2919&\"||\"&B2919,C2919&\"||\"&B2919),Worktags!AR:AV,5,FALSE),\"\")","v":""}]
["",null,null,null,null,{"$f":"IFERROR(VLOOKUP(IF(C2920=\"\",B2920&\"||\"&B2920,C2920&\"||\"&B2920),Worktags!AR:AV,5,FALSE),\"\")","v":""}]
["",null,null,null,null,{"$f":"IFERROR(VLOOKUP(IF(C2921=\"\",B2921&\"||\"&B2921,C2921&\"||\"&B2921),Worktags!AR:AV,5,FALSE),\"\")","v":""}]
["",null,null,null,null,{"$f":"IFERROR(VLOOKUP(IF(C2922=\"\",B2922&\"||\"&B2922,C2922&\"||\"&B2922),Worktags!AR:AV,5,FALSE),\"\")","v":""}]
["",null,null,null,null,{"$f":"IFERROR(VLOOKUP(IF(C2923=\"\",B2923&\"||\"&B2923,C2923&\"||\"&B2923),Worktags!AR:AV,5,FALSE),\"\")","v":""}]
["",null,null,null,null,{"$f":"IFERROR(VLOOKUP(IF(C2924=\"\",B2924&\"||\"&B2924,C2924&\"||\"&B2924),Worktags!AR:AV,5,FALSE),\"\")","v":""}]
["",null,null,null,null,{"$f":"IFERROR(VLOOKUP(IF(C2925=\"\",B2925&\"||\"&B2925,C2925&\"||\"&B2925),Worktags!AR:AV,5,FALSE),\"\")","v":""}]
["",null,null,null,null,{"$f":"IFERROR(VLOOKUP(IF(C2926=\"\",B2926&\"||\"&B2926,C2926&\"||\"&B2926),Worktags!AR:AV,5,FALSE),\"\")","v":""}]
["",null,null,null,null,{"$f":"IFERROR(VLOOKUP(IF(C2927=\"\",B2927&\"||\"&B2927,C2927&\"||\"&B2927),Worktags!AR:AV,5,FALSE),\"\")","v":""}]
["",null,null,null,null,{"$f":"IFERROR(VLOOKUP(IF(C2928=\"\",B2928&\"||\"&B2928,C2928&\"||\"&B2928),Worktags!AR:AV,5,FALSE),\"\")","v":""}]
["",null,null,null,null,{"$f":"IFERROR(VLOOKUP(IF(C2929=\"\",B2929&\"||\"&B2929,C2929&\"||\"&B2929),Worktags!AR:AV,5,FALSE),\"\")","v":""}]
["",null,null,null,null,{"$f":"IFERROR(VLOOKUP(IF(C2930=\"\",B2930&\"||\"&B2930,C2930&\"||\"&B2930),Worktags!AR:AV,5,FALSE),\"\")","v":""}]
["",null,null,null,null,{"$f":"IFERROR(VLOOKUP(IF(C2931=\"\",B2931&\"||\"&B2931,C2931&\"||\"&B2931),Worktags!AR:AV,5,FALSE),\"\")","v":""}]
["",null,null,null,null,{"$f":"IFERROR(VLOOKUP(IF(C2932=\"\",B2932&\"||\"&B2932,C2932&\"||\"&B2932),Worktags!AR:AV,5,FALSE),\"\")","v":""}]
["",null,null,null,null,{"$f":"IFERROR(VLOOKUP(IF(C2933=\"\",B2933&\"||\"&B2933,C2933&\"||\"&B2933),Worktags!AR:AV,5,FALSE),\"\")","v":""}]
["",null,null,null,null,{"$f":"IFERROR(VLOOKUP(IF(C2934=\"\",B2934&\"||\"&B2934,C2934&\"||\"&B2934),Worktags!AR:AV,5,FALSE),\"\")","v":""}]
["",null,null,null,null,{"$f":"IFERROR(VLOOKUP(IF(C2935=\"\",B2935&\"||\"&B2935,C2935&\"||\"&B2935),Worktags!AR:AV,5,FALSE),\"\")","v":""}]
["",null,null,null,null,{"$f":"IFERROR(VLOOKUP(IF(C2936=\"\",B2936&\"||\"&B2936,C2936&\"||\"&B2936),Worktags!AR:AV,5,FALSE),\"\")","v":""}]
["",null,null,null,null,{"$f":"IFERROR(VLOOKUP(IF(C2937=\"\",B2937&\"||\"&B2937,C2937&\"||\"&B2937),Worktags!AR:AV,5,FALSE),\"\")","v":""}]
["",null,null,null,null,{"$f":"IFERROR(VLOOKUP(IF(C2938=\"\",B2938&\"||\"&B2938,C2938&\"||\"&B2938),Worktags!AR:AV,5,FALSE),\"\")","v":""}]
["",null,null,null,null,{"$f":"IFERROR(VLOOKUP(IF(C2939=\"\",B2939&\"||\"&B2939,C2939&\"||\"&B2939),Worktags!AR:AV,5,FALSE),\"\")","v":""}]
["",null,null,null,null,{"$f":"IFERROR(VLOOKUP(IF(C2940=\"\",B2940&\"||\"&B2940,C2940&\"||\"&B2940),Worktags!AR:AV,5,FALSE),\"\")","v":""}]
["",null,null,null,null,{"$f":"IFERROR(VLOOKUP(IF(C2941=\"\",B2941&\"||\"&B2941,C2941&\"||\"&B2941),Worktags!AR:AV,5,FALSE),\"\")","v":""}]
["",null,null,null,null,{"$f":"IFERROR(VLOOKUP(IF(C2942=\"\",B2942&\"||\"&B2942,C2942&\"||\"&B2942),Worktags!AR:AV,5,FALSE),\"\")","v":""}]
["",null,null,null,null,{"$f":"IFERROR(VLOOKUP(IF(C2943=\"\",B2943&\"||\"&B2943,C2943&\"||\"&B2943),Worktags!AR:AV,5,FALSE),\"\")","v":""}]
["",null,null,null,null,{"$f":"IFERROR(VLOOKUP(IF(C2944=\"\",B2944&\"||\"&B2944,C2944&\"||\"&B2944),Worktags!AR:AV,5,FALSE),\"\")","v":""}]
["",null,null,null,null,{"$f":"IFERROR(VLOOKUP(IF(C2945=\"\",B2945&\"||\"&B2945,C2945&\"||\"&B2945),Worktags!AR:AV,5,FALSE),\"\")","v":""}]
[{"$f":"IF(B2946<>\"\",IF(C2946<>\"\",B2946&\"_\"&C2946&\" \"&D2946&\"/\"&E2946,B2946&\" \"&D2946),\"\")","v":""},null,null,null,null,{"$f":"IFERROR(VLOOKUP(IF(C2946=\"\",B2946&\"||\"&B2946,C2946&\"||\"&B2946),Worktags!AR:AV,5,FALSE),\"\")","v":""}]
["",null,null,null,null,{"$f":"IFERROR(VLOOKUP(IF(C2947=\"\",B2947&\"||\"&B2947,C2947&\"||\"&B2947),Worktags!AR:AV,5,FALSE),\"\")","v":""}]
["",null,null,null,null,{"$f":"IFERROR(VLOOKUP(IF(C2948=\"\",B2948&\"||\"&B2948,C2948&\"||\"&B2948),Worktags!AR:AV,5,FALSE),\"\")","v":""}]
["",null,null,null,null,{"$f":"IFERROR(VLOOKUP(IF(C2949=\"\",B2949&\"||\"&B2949,C2949&\"||\"&B2949),Worktags!AR:AV,5,FALSE),\"\")","v":""}]
["",null,null,null,null,{"$f":"IFERROR(VLOOKUP(IF(C2950=\"\",B2950&\"||\"&B2950,C2950&\"||\"&B2950),Worktags!AR:AV,5,FALSE),\"\")","v":""}]
["",null,null,null,null,{"$f":"IFERROR(VLOOKUP(IF(C2951=\"\",B2951&\"||\"&B2951,C2951&\"||\"&B2951),Worktags!AR:AV,5,FALSE),\"\")","v":""}]
["",null,null,null,null,{"$f":"IFERROR(VLOOKUP(IF(C2952=\"\",B2952&\"||\"&B2952,C2952&\"||\"&B2952),Worktags!AR:AV,5,FALSE),\"\")","v":""}]
["",null,null,null,null,{"$f":"IFERROR(VLOOKUP(IF(C2953=\"\",B2953&\"||\"&B2953,C2953&\"||\"&B2953),Worktags!AR:AV,5,FALSE),\"\")","v":""}]
["",null,null,null,null,{"$f":"IFERROR(VLOOKUP(IF(C2954=\"\",B2954&\"||\"&B2954,C2954&\"||\"&B2954),Worktags!AR:AV,5,FALSE),\"\")","v":""}]
["",null,null,null,null,{"$f":"IFERROR(VLOOKUP(IF(C2955=\"\",B2955&\"||\"&B2955,C2955&\"||\"&B2955),Worktags!AR:AV,5,FALSE),\"\")","v":""}]
["",null,null,null,null,{"$f":"IFERROR(VLOOKUP(IF(C2956=\"\",B2956&\"||\"&B2956,C2956&\"||\"&B2956),Worktags!AR:AV,5,FALSE),\"\")","v":""}]
["",null,null,null,null,{"$f":"IFERROR(VLOOKUP(IF(C2957=\"\",B2957&\"||\"&B2957,C2957&\"||\"&B2957),Worktags!AR:AV,5,FALSE),\"\")","v":""}]
["",null,null,null,null,{"$f":"IFERROR(VLOOKUP(IF(C2958=\"\",B2958&\"||\"&B2958,C2958&\"||\"&B2958),Worktags!AR:AV,5,FALSE),\"\")","v":""}]
["",null,null,null,null,{"$f":"IFERROR(VLOOKUP(IF(C2959=\"\",B2959&\"||\"&B2959,C2959&\"||\"&B2959),Worktags!AR:AV,5,FALSE),\"\")","v":""}]
["",null,null,null,null,{"$f":"IFERROR(VLOOKUP(IF(C2960=\"\",B2960&\"||\"&B2960,C2960&\"||\"&B2960),Worktags!AR:AV,5,FALSE),\"\")","v":""}]
["",null,null,null,null,{"$f":"IFERROR(VLOOKUP(IF(C2961=\"\",B2961&\"||\"&B2961,C2961&\"||\"&B2961),Worktags!AR:AV,5,FALSE),\"\")","v":""}]
["",null,null,null,null,{"$f":"IFERROR(VLOOKUP(IF(C2962=\"\",B2962&\"||\"&B2962,C2962&\"||\"&B2962),Worktags!AR:AV,5,FALSE),\"\")","v":""}]
["",null,null,null,null,{"$f":"IFERROR(VLOOKUP(IF(C2963=\"\",B2963&\"||\"&B2963,C2963&\"||\"&B2963),Worktags!AR:AV,5,FALSE),\"\")","v":""}]
["",null,null,null,null,{"$f":"IFERROR(VLOOKUP(IF(C2964=\"\",B2964&\"||\"&B2964,C2964&\"||\"&B2964),Worktags!AR:AV,5,FALSE),\"\")","v":""}]
["",null,null,null,null,{"$f":"IFERROR(VLOOKUP(IF(C2965=\"\",B2965&\"||\"&B2965,C2965&\"||\"&B2965),Worktags!AR:AV,5,FALSE),\"\")","v":""}]
["",null,null,null,null,{"$f":"IFERROR(VLOOKUP(IF(C2966=\"\",B2966&\"||\"&B2966,C2966&\"||\"&B2966),Worktags!AR:AV,5,FALSE),\"\")","v":""}]
["",null,null,null,null,{"$f":"IFERROR(VLOOKUP(IF(C2967=\"\",B2967&\"||\"&B2967,C2967&\"||\"&B2967),Worktags!AR:AV,5,FALSE),\"\")","v":""}]
["",null,null,null,null,{"$f":"IFERROR(VLOOKUP(IF(C2968=\"\",B2968&\"||\"&B2968,C2968&\"||\"&B2968),Worktags!AR:AV,5,FALSE),\"\")","v":""}]
["",null,null,null,null,{"$f":"IFERROR(VLOOKUP(IF(C2969=\"\",B2969&\"||\"&B2969,C2969&\"||\"&B2969),Worktags!AR:AV,5,FALSE),\"\")","v":""}]
["",null,null,null,null,{"$f":"IFERROR(VLOOKUP(IF(C2970=\"\",B2970&\"||\"&B2970,C2970&\"||\"&B2970),Worktags!AR:AV,5,FALSE),\"\")","v":""}]
["",null,null,null,null,{"$f":"IFERROR(VLOOKUP(IF(C2971=\"\",B2971&\"||\"&B2971,C2971&\"||\"&B2971),Worktags!AR:AV,5,FALSE),\"\")","v":""}]
["",null,null,null,null,{"$f":"IFERROR(VLOOKUP(IF(C2972=\"\",B2972&\"||\"&B2972,C2972&\"||\"&B2972),Worktags!AR:AV,5,FALSE),\"\")","v":""}]
["",null,null,null,null,{"$f":"IFERROR(VLOOKUP(IF(C2973=\"\",B2973&\"||\"&B2973,C2973&\"||\"&B2973),Worktags!AR:AV,5,FALSE),\"\")","v":""}]
["",null,null,null,null,{"$f":"IFERROR(VLOOKUP(IF(C2974=\"\",B2974&\"||\"&B2974,C2974&\"||\"&B2974),Worktags!AR:AV,5,FALSE),\"\")","v":""}]
["",null,null,null,null,{"$f":"IFERROR(VLOOKUP(IF(C2975=\"\",B2975&\"||\"&B2975,C2975&\"||\"&B2975),Worktags!AR:AV,5,FALSE),\"\")","v":""}]
["",null,null,null,null,{"$f":"IFERROR(VLOOKUP(IF(C2976=\"\",B2976&\"||\"&B2976,C2976&\"||\"&B2976),Worktags!AR:AV,5,FALSE),\"\")","v":""}]
["",null,null,null,null,{"$f":"IFERROR(VLOOKUP(IF(C2977=\"\",B2977&\"||\"&B2977,C2977&\"||\"&B2977),Worktags!AR:AV,5,FALSE),\"\")","v":""}]
["",null,null,null,null,{"$f":"IFERROR(VLOOKUP(IF(C2978=\"\",B2978&\"||\"&B2978,C2978&\"||\"&B2978),Worktags!AR:AV,5,FALSE),\"\")","v":""}]
["",null,null,null,null,{"$f":"IFERROR(VLOOKUP(IF(C2979=\"\",B2979&\"||\"&B2979,C2979&\"||\"&B2979),Worktags!AR:AV,5,FALSE),\"\")","v":""}]
["",null,null,null,null,{"$f":"IFERROR(VLOOKUP(IF(C2980=\"\",B2980&\"||\"&B2980,C2980&\"||\"&B2980),Worktags!AR:AV,5,FALSE),\"\")","v":""}]
["",null,null,null,null,{"$f":"IFERROR(VLOOKUP(IF(C2981=\"\",B2981&\"||\"&B2981,C2981&\"||\"&B2981),Worktags!AR:AV,5,FALSE),\"\")","v":""}]
["",null,null,null,null,{"$f":"IFERROR(VLOOKUP(IF(C2982=\"\",B2982&\"||\"&B2982,C2982&\"||\"&B2982),Worktags!AR:AV,5,FALSE),\"\")","v":""}]
["",null,null,null,null,{"$f":"IFERROR(VLOOKUP(IF(C2983=\"\",B2983&\"||\"&B2983,C2983&\"||\"&B2983),Worktags!AR:AV,5,FALSE),\"\")","v":""}]
["",null,null,null,null,{"$f":"IFERROR(VLOOKUP(IF(C2984=\"\",B2984&\"||\"&B2984,C2984&\"||\"&B2984),Worktags!AR:AV,5,FALSE),\"\")","v":""}]
["",null,null,null,null,{"$f":"IFERROR(VLOOKUP(IF(C2985=\"\",B2985&\"||\"&B2985,C2985&\"||\"&B2985),Worktags!AR:AV,5,FALSE),\"\")","v":""}]
["",null,null,null,null,{"$f":"IFERROR(VLOOKUP(IF(C2986=\"\",B2986&\"||\"&B2986,C2986&\"||\"&B2986),Worktags!AR:AV,5,FALSE),\"\")","v":""}]
["",null,null,null,null,{"$f":"IFERROR(VLOOKUP(IF(C2987=\"\",B2987&\"||\"&B2987,C2987&\"||\"&B2987),Worktags!AR:AV,5,FALSE),\"\")","v":""}]
["",null,null,null,null,{"$f":"IFERROR(VLOOKUP(IF(C2988=\"\",B2988&\"||\"&B2988,C2988&\"||\"&B2988),Worktags!AR:AV,5,FALSE),\"\")","v":""}]
["",null,null,null,null,{"$f":"IFERROR(VLOOKUP(IF(C2989=\"\",B2989&\"||\"&B2989,C2989&\"||\"&B2989),Worktags!AR:AV,5,FALSE),\"\")","v":""}]
["",null,null,null,null,{"$f":"IFERROR(VLOOKUP(IF(C2990=\"\",B2990&\"||\"&B2990,C2990&\"||\"&B2990),Worktags!AR:AV,5,FALSE),\"\")","v":""}]
["",null,null,null,null,{"$f":"IFERROR(VLOOKUP(IF(C2991=\"\",B2991&\"||\"&B2991,C2991&\"||\"&B2991),Worktags!AR:AV,5,FALSE),\"\")","v":""}]
["",null,null,null,null,{"$f":"IFERROR(VLOOKUP(IF(C2992=\"\",B2992&\"||\"&B2992,C2992&\"||\"&B2992),Worktags!AR:AV,5,FALSE),\"\")","v":""}]
["",null,null,null,null,{"$f":"IFERROR(VLOOKUP(IF(C2993=\"\",B2993&\"||\"&B2993,C2993&\"||\"&B2993),Worktags!AR:AV,5,FALSE),\"\")","v":""}]
["",null,null,null,null,{"$f":"IFERROR(VLOOKUP(IF(C2994=\"\",B2994&\"||\"&B2994,C2994&\"||\"&B2994),Worktags!AR:AV,5,FALSE),\"\")","v":""}]
["",null,null,null,null,{"$f":"IFERROR(VLOOKUP(IF(C2995=\"\",B2995&\"||\"&B2995,C2995&\"||\"&B2995),Worktags!AR:AV,5,FALSE),\"\")","v":""}]
["",null,null,null,null,{"$f":"IFERROR(VLOOKUP(IF(C2996=\"\",B2996&\"||\"&B2996,C2996&\"||\"&B2996),Worktags!AR:AV,5,FALSE),\"\")","v":""}]
["",null,null,null,null,{"$f":"IFERROR(VLOOKUP(IF(C2997=\"\",B2997&\"||\"&B2997,C2997&\"||\"&B2997),Worktags!AR:AV,5,FALSE),\"\")","v":""}]
["",null,null,null,null,{"$f":"IFERROR(VLOOKUP(IF(C2998=\"\",B2998&\"||\"&B2998,C2998&\"||\"&B2998),Worktags!AR:AV,5,FALSE),\"\")","v":""}]
["",null,null,null,null,{"$f":"IFERROR(VLOOKUP(IF(C2999=\"\",B2999&\"||\"&B2999,C2999&\"||\"&B2999),Worktags!AR:AV,5,FALSE),\"\")","v":""}]
["",null,null,null,null,{"$f":"IFERROR(VLOOKUP(IF(C3000=\"\",B3000&\"||\"&B3000,C3000&\"||\"&B3000),Worktags!AR:AV,5,FALSE),\"\")","v":""}]
["",null,null,null,null,{"$f":"IFERROR(VLOOKUP(IF(C3001=\"\",B3001&\"||\"&B3001,C3001&\"||\"&B3001),Worktags!AR:AV,5,FALSE),\"\")","v":""}]
["",null,null,null,null,{"$f":"IFERROR(VLOOKUP(IF(C3002=\"\",B3002&\"||\"&B3002,C3002&\"||\"&B3002),Worktags!AR:AV,5,FALSE),\"\")","v":""}]
["",null,null,null,null,{"$f":"IFERROR(VLOOKUP(IF(C3003=\"\",B3003&\"||\"&B3003,C3003&\"||\"&B3003),Worktags!AR:AV,5,FALSE),\"\")","v":""}]
["",null,null,null,null,{"$f":"IFERROR(VLOOKUP(IF(C3004=\"\",B3004&\"||\"&B3004,C3004&\"||\"&B3004),Worktags!AR:AV,5,FALSE),\"\")","v":""}]
["",null,null,null,null,{"$f":"IFERROR(VLOOKUP(IF(C3005=\"\",B3005&\"||\"&B3005,C3005&\"||\"&B3005),Worktags!AR:AV,5,FALSE),\"\")","v":""}]
["",null,null,null,null,{"$f":"IFERROR(VLOOKUP(IF(C3006=\"\",B3006&\"||\"&B3006,C3006&\"||\"&B3006),Worktags!AR:AV,5,FALSE),\"\")","v":""}]
["",null,null,null,null,{"$f":"IFERROR(VLOOKUP(IF(C3007=\"\",B3007&\"||\"&B3007,C3007&\"||\"&B3007),Worktags!AR:AV,5,FALSE),\"\")","v":""}]
["",null,null,null,null,{"$f":"IFERROR(VLOOKUP(IF(C3008=\"\",B3008&\"||\"&B3008,C3008&\"||\"&B3008),Worktags!AR:AV,5,FALSE),\"\")","v":""}]
["",null,null,null,null,{"$f":"IFERROR(VLOOKUP(IF(C3009=\"\",B3009&\"||\"&B3009,C3009&\"||\"&B3009),Worktags!AR:AV,5,FALSE),\"\")","v":""}]
[{"$f":"IF(B3010<>\"\",IF(C3010<>\"\",B3010&\"_\"&C3010&\" \"&D3010&\"/\"&E3010,B3010&\" \"&D3010),\"\")","v":""},null,null,null,null,{"$f":"IFERROR(VLOOKUP(IF(C3010=\"\",B3010&\"||\"&B3010,C3010&\"||\"&B3010),Worktags!AR:AV,5,FALSE),\"\")","v":""}]
["",null,null,null,null,{"$f":"IFERROR(VLOOKUP(IF(C3011=\"\",B3011&\"||\"&B3011,C3011&\"||\"&B3011),Worktags!AR:AV,5,FALSE),\"\")","v":""}]
["",null,null,null,null,{"$f":"IFERROR(VLOOKUP(IF(C3012=\"\",B3012&\"||\"&B3012,C3012&\"||\"&B3012),Worktags!AR:AV,5,FALSE),\"\")","v":""}]
["",null,null,null,null,{"$f":"IFERROR(VLOOKUP(IF(C3013=\"\",B3013&\"||\"&B3013,C3013&\"||\"&B3013),Worktags!AR:AV,5,FALSE),\"\")","v":""}]
["",null,null,null,null,{"$f":"IFERROR(VLOOKUP(IF(C3014=\"\",B3014&\"||\"&B3014,C3014&\"||\"&B3014),Worktags!AR:AV,5,FALSE),\"\")","v":""}]
["",null,null,null,null,{"$f":"IFERROR(VLOOKUP(IF(C3015=\"\",B3015&\"||\"&B3015,C3015&\"||\"&B3015),Worktags!AR:AV,5,FALSE),\"\")","v":""}]
["",null,null,null,null,{"$f":"IFERROR(VLOOKUP(IF(C3016=\"\",B3016&\"||\"&B3016,C3016&\"||\"&B3016),Worktags!AR:AV,5,FALSE),\"\")","v":""}]
["",null,null,null,null,{"$f":"IFERROR(VLOOKUP(IF(C3017=\"\",B3017&\"||\"&B3017,C3017&\"||\"&B3017),Worktags!AR:AV,5,FALSE),\"\")","v":""}]
["",null,null,null,null,{"$f":"IFERROR(VLOOKUP(IF(C3018=\"\",B3018&\"||\"&B3018,C3018&\"||\"&B3018),Worktags!AR:AV,5,FALSE),\"\")","v":""}]
["",null,null,null,null,{"$f":"IFERROR(VLOOKUP(IF(C3019=\"\",B3019&\"||\"&B3019,C3019&\"||\"&B3019),Worktags!AR:AV,5,FALSE),\"\")","v":""}]
["",null,null,null,null,{"$f":"IFERROR(VLOOKUP(IF(C3020=\"\",B3020&\"||\"&B3020,C3020&\"||\"&B3020),Worktags!AR:AV,5,FALSE),\"\")","v":""}]
["",null,null,null,null,{"$f":"IFERROR(VLOOKUP(IF(C3021=\"\",B3021&\"||\"&B3021,C3021&\"||\"&B3021),Worktags!AR:AV,5,FALSE),\"\")","v":""}]
["",null,null,null,null,{"$f":"IFERROR(VLOOKUP(IF(C3022=\"\",B3022&\"||\"&B3022,C3022&\"||\"&B3022),Worktags!AR:AV,5,FALSE),\"\")","v":""}]
["",null,null,null,null,{"$f":"IFERROR(VLOOKUP(IF(C3023=\"\",B3023&\"||\"&B3023,C3023&\"||\"&B3023),Worktags!AR:AV,5,FALSE),\"\")","v":""}]
["",null,null,null,null,{"$f":"IFERROR(VLOOKUP(IF(C3024=\"\",B3024&\"||\"&B3024,C3024&\"||\"&B3024),Worktags!AR:AV,5,FALSE),\"\")","v":""}]
["",null,null,null,null,{"$f":"IFERROR(VLOOKUP(IF(C3025=\"\",B3025&\"||\"&B3025,C3025&\"||\"&B3025),Worktags!AR:AV,5,FALSE),\"\")","v":""}]
["",null,null,null,null,{"$f":"IFERROR(VLOOKUP(IF(C3026=\"\",B3026&\"||\"&B3026,C3026&\"||\"&B3026),Worktags!AR:AV,5,FALSE),\"\")","v":""}]
["",null,null,null,null,{"$f":"IFERROR(VLOOKUP(IF(C3027=\"\",B3027&\"||\"&B3027,C3027&\"||\"&B3027),Worktags!AR:AV,5,FALSE),\"\")","v":""}]
["",null,null,null,null,{"$f":"IFERROR(VLOOKUP(IF(C3028=\"\",B3028&\"||\"&B3028,C3028&\"||\"&B3028),Worktags!AR:AV,5,FALSE),\"\")","v":""}]
["",null,null,null,null,{"$f":"IFERROR(VLOOKUP(IF(C3029=\"\",B3029&\"||\"&B3029,C3029&\"||\"&B3029),Worktags!AR:AV,5,FALSE),\"\")","v":""}]
["",null,null,null,null,{"$f":"IFERROR(VLOOKUP(IF(C3030=\"\",B3030&\"||\"&B3030,C3030&\"||\"&B3030),Worktags!AR:AV,5,FALSE),\"\")","v":""}]
["",null,null,null,null,{"$f":"IFERROR(VLOOKUP(IF(C3031=\"\",B3031&\"||\"&B3031,C3031&\"||\"&B3031),Worktags!AR:AV,5,FALSE),\"\")","v":""}]
["",null,null,null,null,{"$f":"IFERROR(VLOOKUP(IF(C3032=\"\",B3032&\"||\"&B3032,C3032&\"||\"&B3032),Worktags!AR:AV,5,FALSE),\"\")","v":""}]
["",null,null,null,null,{"$f":"IFERROR(VLOOKUP(IF(C3033=\"\",B3033&\"||\"&B3033,C3033&\"||\"&B3033),Worktags!AR:AV,5,FALSE),\"\")","v":""}]
["",null,null,null,null,{"$f":"IFERROR(VLOOKUP(IF(C3034=\"\",B3034&\"||\"&B3034,C3034&\"||\"&B3034),Worktags!AR:AV,5,FALSE),\"\")","v":""}]
["",null,null,null,null,{"$f":"IFERROR(VLOOKUP(IF(C3035=\"\",B3035&\"||\"&B3035,C3035&\"||\"&B3035),Worktags!AR:AV,5,FALSE),\"\")","v":""}]
["",null,null,null,null,{"$f":"IFERROR(VLOOKUP(IF(C3036=\"\",B3036&\"||\"&B3036,C3036&\"||\"&B3036),Worktags!AR:AV,5,FALSE),\"\")","v":""}]
["",null,null,null,null,{"$f":"IFERROR(VLOOKUP(IF(C3037=\"\",B3037&\"||\"&B3037,C3037&\"||\"&B3037),Worktags!AR:AV,5,FALSE),\"\")","v":""}]
["",null,null,null,null,{"$f":"IFERROR(VLOOKUP(IF(C3038=\"\",B3038&\"||\"&B3038,C3038&\"||\"&B3038),Worktags!AR:AV,5,FALSE),\"\")","v":""}]
["",null,null,null,null,{"$f":"IFERROR(VLOOKUP(IF(C3039=\"\",B3039&\"||\"&B3039,C3039&\"||\"&B3039),Worktags!AR:AV,5,FALSE),\"\")","v":""}]
["",null,null,null,null,{"$f":"IFERROR(VLOOKUP(IF(C3040=\"\",B3040&\"||\"&B3040,C3040&\"||\"&B3040),Worktags!AR:AV,5,FALSE),\"\")","v":""}]
["",null,null,null,null,{"$f":"IFERROR(VLOOKUP(IF(C3041=\"\",B3041&\"||\"&B3041,C3041&\"||\"&B3041),Worktags!AR:AV,5,FALSE),\"\")","v":""}]
["",null,null,null,null,{"$f":"IFERROR(VLOOKUP(IF(C3042=\"\",B3042&\"||\"&B3042,C3042&\"||\"&B3042),Worktags!AR:AV,5,FALSE),\"\")","v":""}]
["",null,null,null,null,{"$f":"IFERROR(VLOOKUP(IF(C3043=\"\",B3043&\"||\"&B3043,C3043&\"||\"&B3043),Worktags!AR:AV,5,FALSE),\"\")","v":""}]
["",null,null,null,null,{"$f":"IFERROR(VLOOKUP(IF(C3044=\"\",B3044&\"||\"&B3044,C3044&\"||\"&B3044),Worktags!AR:AV,5,FALSE),\"\")","v":""}]
["",null,null,null,null,{"$f":"IFERROR(VLOOKUP(IF(C3045=\"\",B3045&\"||\"&B3045,C3045&\"||\"&B3045),Worktags!AR:AV,5,FALSE),\"\")","v":""}]
["",null,null,null,null,{"$f":"IFERROR(VLOOKUP(IF(C3046=\"\",B3046&\"||\"&B3046,C3046&\"||\"&B3046),Worktags!AR:AV,5,FALSE),\"\")","v":""}]
["",null,null,null,null,{"$f":"IFERROR(VLOOKUP(IF(C3047=\"\",B3047&\"||\"&B3047,C3047&\"||\"&B3047),Worktags!AR:AV,5,FALSE),\"\")","v":""}]
["",null,null,null,null,{"$f":"IFERROR(VLOOKUP(IF(C3048=\"\",B3048&\"||\"&B3048,C3048&\"||\"&B3048),Worktags!AR:AV,5,FALSE),\"\")","v":""}]
["",null,null,null,null,{"$f":"IFERROR(VLOOKUP(IF(C3049=\"\",B3049&\"||\"&B3049,C3049&\"||\"&B3049),Worktags!AR:AV,5,FALSE),\"\")","v":""}]
["",null,null,null,null,{"$f":"IFERROR(VLOOKUP(IF(C3050=\"\",B3050&\"||\"&B3050,C3050&\"||\"&B3050),Worktags!AR:AV,5,FALSE),\"\")","v":""}]
["",null,null,null,null,{"$f":"IFERROR(VLOOKUP(IF(C3051=\"\",B3051&\"||\"&B3051,C3051&\"||\"&B3051),Worktags!AR:AV,5,FALSE),\"\")","v":""}]
["",null,null,null,null,{"$f":"IFERROR(VLOOKUP(IF(C3052=\"\",B3052&\"||\"&B3052,C3052&\"||\"&B3052),Worktags!AR:AV,5,FALSE),\"\")","v":""}]
["",null,null,null,null,{"$f":"IFERROR(VLOOKUP(IF(C3053=\"\",B3053&\"||\"&B3053,C3053&\"||\"&B3053),Worktags!AR:AV,5,FALSE),\"\")","v":""}]
["",null,null,null,null,{"$f":"IFERROR(VLOOKUP(IF(C3054=\"\",B3054&\"||\"&B3054,C3054&\"||\"&B3054),Worktags!AR:AV,5,FALSE),\"\")","v":""}]
["",null,null,null,null,{"$f":"IFERROR(VLOOKUP(IF(C3055=\"\",B3055&\"||\"&B3055,C3055&\"||\"&B3055),Worktags!AR:AV,5,FALSE),\"\")","v":""}]
["",null,null,null,null,{"$f":"IFERROR(VLOOKUP(IF(C3056=\"\",B3056&\"||\"&B3056,C3056&\"||\"&B3056),Worktags!AR:AV,5,FALSE),\"\")","v":""}]
["",null,null,null,null,{"$f":"IFERROR(VLOOKUP(IF(C3057=\"\",B3057&\"||\"&B3057,C3057&\"||\"&B3057),Worktags!AR:AV,5,FALSE),\"\")","v":""}]
["",null,null,null,null,{"$f":"IFERROR(VLOOKUP(IF(C3058=\"\",B3058&\"||\"&B3058,C3058&\"||\"&B3058),Worktags!AR:AV,5,FALSE),\"\")","v":""}]
["",null,null,null,null,{"$f":"IFERROR(VLOOKUP(IF(C3059=\"\",B3059&\"||\"&B3059,C3059&\"||\"&B3059),Worktags!AR:AV,5,FALSE),\"\")","v":""}]
["",null,null,null,null,{"$f":"IFERROR(VLOOKUP(IF(C3060=\"\",B3060&\"||\"&B3060,C3060&\"||\"&B3060),Worktags!AR:AV,5,FALSE),\"\")","v":""}]
["",null,null,null,null,{"$f":"IFERROR(VLOOKUP(IF(C3061=\"\",B3061&\"||\"&B3061,C3061&\"||\"&B3061),Worktags!AR:AV,5,FALSE),\"\")","v":""}]
["",null,null,null,null,{"$f":"IFERROR(VLOOKUP(IF(C3062=\"\",B3062&\"||\"&B3062,C3062&\"||\"&B3062),Worktags!AR:AV,5,FALSE),\"\")","v":""}]
["",null,null,null,null,{"$f":"IFERROR(VLOOKUP(IF(C3063=\"\",B3063&\"||\"&B3063,C3063&\"||\"&B3063),Worktags!AR:AV,5,FALSE),\"\")","v":""}]
["",null,null,null,null,{"$f":"IFERROR(VLOOKUP(IF(C3064=\"\",B3064&\"||\"&B3064,C3064&\"||\"&B3064),Worktags!AR:AV,5,FALSE),\"\")","v":""}]
["",null,null,null,null,{"$f":"IFERROR(VLOOKUP(IF(C3065=\"\",B3065&\"||\"&B3065,C3065&\"||\"&B3065),Worktags!AR:AV,5,FALSE),\"\")","v":""}]
["",null,null,null,null,{"$f":"IFERROR(VLOOKUP(IF(C3066=\"\",B3066&\"||\"&B3066,C3066&\"||\"&B3066),Worktags!AR:AV,5,FALSE),\"\")","v":""}]
["",null,null,null,null,{"$f":"IFERROR(VLOOKUP(IF(C3067=\"\",B3067&\"||\"&B3067,C3067&\"||\"&B3067),Worktags!AR:AV,5,FALSE),\"\")","v":""}]
["",null,null,null,null,{"$f":"IFERROR(VLOOKUP(IF(C3068=\"\",B3068&\"||\"&B3068,C3068&\"||\"&B3068),Worktags!AR:AV,5,FALSE),\"\")","v":""}]
["",null,null,null,null,{"$f":"IFERROR(VLOOKUP(IF(C3069=\"\",B3069&\"||\"&B3069,C3069&\"||\"&B3069),Worktags!AR:AV,5,FALSE),\"\")","v":""}]
["",null,null,null,null,{"$f":"IFERROR(VLOOKUP(IF(C3070=\"\",B3070&\"||\"&B3070,C3070&\"||\"&B3070),Worktags!AR:AV,5,FALSE),\"\")","v":""}]
["",null,null,null,null,{"$f":"IFERROR(VLOOKUP(IF(C3071=\"\",B3071&\"||\"&B3071,C3071&\"||\"&B3071),Worktags!AR:AV,5,FALSE),\"\")","v":""}]
["",null,null,null,null,{"$f":"IFERROR(VLOOKUP(IF(C3072=\"\",B3072&\"||\"&B3072,C3072&\"||\"&B3072),Worktags!AR:AV,5,FALSE),\"\")","v":""}]
["",null,null,null,null,{"$f":"IFERROR(VLOOKUP(IF(C3073=\"\",B3073&\"||\"&B3073,C3073&\"||\"&B3073),Worktags!AR:AV,5,FALSE),\"\")","v":""}]
[{"$f":"IF(B3074<>\"\",IF(C3074<>\"\",B3074&\"_\"&C3074&\" \"&D3074&\"/\"&E3074,B3074&\" \"&D3074),\"\")","v":""},null,null,null,null,{"$f":"IFERROR(VLOOKUP(IF(C3074=\"\",B3074&\"||\"&B3074,C3074&\"||\"&B3074),Worktags!AR:AV,5,FALSE),\"\")","v":""}]
["",null,null,null,null,{"$f":"IFERROR(VLOOKUP(IF(C3075=\"\",B3075&\"||\"&B3075,C3075&\"||\"&B3075),Worktags!AR:AV,5,FALSE),\"\")","v":""}]
["",null,null,null,null,{"$f":"IFERROR(VLOOKUP(IF(C3076=\"\",B3076&\"||\"&B3076,C3076&\"||\"&B3076),Worktags!AR:AV,5,FALSE),\"\")","v":""}]
["",null,null,null,null,{"$f":"IFERROR(VLOOKUP(IF(C3077=\"\",B3077&\"||\"&B3077,C3077&\"||\"&B3077),Worktags!AR:AV,5,FALSE),\"\")","v":""}]
["",null,null,null,null,{"$f":"IFERROR(VLOOKUP(IF(C3078=\"\",B3078&\"||\"&B3078,C3078&\"||\"&B3078),Worktags!AR:AV,5,FALSE),\"\")","v":""}]
["",null,null,null,null,{"$f":"IFERROR(VLOOKUP(IF(C3079=\"\",B3079&\"||\"&B3079,C3079&\"||\"&B3079),Worktags!AR:AV,5,FALSE),\"\")","v":""}]
["",null,null,null,null,{"$f":"IFERROR(VLOOKUP(IF(C3080=\"\",B3080&\"||\"&B3080,C3080&\"||\"&B3080),Worktags!AR:AV,5,FALSE),\"\")","v":""}]
["",null,null,null,null,{"$f":"IFERROR(VLOOKUP(IF(C3081=\"\",B3081&\"||\"&B3081,C3081&\"||\"&B3081),Worktags!AR:AV,5,FALSE),\"\")","v":""}]
["",null,null,null,null,{"$f":"IFERROR(VLOOKUP(IF(C3082=\"\",B3082&\"||\"&B3082,C3082&\"||\"&B3082),Worktags!AR:AV,5,FALSE),\"\")","v":""}]
["",null,null,null,null,{"$f":"IFERROR(VLOOKUP(IF(C3083=\"\",B3083&\"||\"&B3083,C3083&\"||\"&B3083),Worktags!AR:AV,5,FALSE),\"\")","v":""}]
["",null,null,null,null,{"$f":"IFERROR(VLOOKUP(IF(C3084=\"\",B3084&\"||\"&B3084,C3084&\"||\"&B3084),Worktags!AR:AV,5,FALSE),\"\")","v":""}]
["",null,null,null,null,{"$f":"IFERROR(VLOOKUP(IF(C3085=\"\",B3085&\"||\"&B3085,C3085&\"||\"&B3085),Worktags!AR:AV,5,FALSE),\"\")","v":""}]
["",null,null,null,null,{"$f":"IFERROR(VLOOKUP(IF(C3086=\"\",B3086&\"||\"&B3086,C3086&\"||\"&B3086),Worktags!AR:AV,5,FALSE),\"\")","v":""}]
["",null,null,null,null,{"$f":"IFERROR(VLOOKUP(IF(C3087=\"\",B3087&\"||\"&B3087,C3087&\"||\"&B3087),Worktags!AR:AV,5,FALSE),\"\")","v":""}]
["",null,null,null,null,{"$f":"IFERROR(VLOOKUP(IF(C3088=\"\",B3088&\"||\"&B3088,C3088&\"||\"&B3088),Worktags!AR:AV,5,FALSE),\"\")","v":""}]
["",null,null,null,null,{"$f":"IFERROR(VLOOKUP(IF(C3089=\"\",B3089&\"||\"&B3089,C3089&\"||\"&B3089),Worktags!AR:AV,5,FALSE),\"\")","v":""}]
["",null,null,null,null,{"$f":"IFERROR(VLOOKUP(IF(C3090=\"\",B3090&\"||\"&B3090,C3090&\"||\"&B3090),Worktags!AR:AV,5,FALSE),\"\")","v":""}]
["",null,null,null,null,{"$f":"IFERROR(VLOOKUP(IF(C3091=\"\",B3091&\"||\"&B3091,C3091&\"||\"&B3091),Worktags!AR:AV,5,FALSE),\"\")","v":""}]
["",null,null,null,null,{"$f":"IFERROR(VLOOKUP(IF(C3092=\"\",B3092&\"||\"&B3092,C3092&\"||\"&B3092),Worktags!AR:AV,5,FALSE),\"\")","v":""}]
["",null,null,null,null,{"$f":"IFERROR(VLOOKUP(IF(C3093=\"\",B3093&\"||\"&B3093,C3093&\"||\"&B3093),Worktags!AR:AV,5,FALSE),\"\")","v":""}]
["",null,null,null,null,{"$f":"IFERROR(VLOOKUP(IF(C3094=\"\",B3094&\"||\"&B3094,C3094&\"||\"&B3094),Worktags!AR:AV,5,FALSE),\"\")","v":""}]
["",null,null,null,null,{"$f":"IFERROR(VLOOKUP(IF(C3095=\"\",B3095&\"||\"&B3095,C3095&\"||\"&B3095),Worktags!AR:AV,5,FALSE),\"\")","v":""}]
["",null,null,null,null,{"$f":"IFERROR(VLOOKUP(IF(C3096=\"\",B3096&\"||\"&B3096,C3096&\"||\"&B3096),Worktags!AR:AV,5,FALSE),\"\")","v":""}]
["",null,null,null,null,{"$f":"IFERROR(VLOOKUP(IF(C3097=\"\",B3097&\"||\"&B3097,C3097&\"||\"&B3097),Worktags!AR:AV,5,FALSE),\"\")","v":""}]
["",null,null,null,null,{"$f":"IFERROR(VLOOKUP(IF(C3098=\"\",B3098&\"||\"&B3098,C3098&\"||\"&B3098),Worktags!AR:AV,5,FALSE),\"\")","v":""}]
["",null,null,null,null,{"$f":"IFERROR(VLOOKUP(IF(C3099=\"\",B3099&\"||\"&B3099,C3099&\"||\"&B3099),Worktags!AR:AV,5,FALSE),\"\")","v":""}]
["",null,null,null,null,{"$f":"IFERROR(VLOOKUP(IF(C3100=\"\",B3100&\"||\"&B3100,C3100&\"||\"&B3100),Worktags!AR:AV,5,FALSE),\"\")","v":""}]
["",null,null,null,null,{"$f":"IFERROR(VLOOKUP(IF(C3101=\"\",B3101&\"||\"&B3101,C3101&\"||\"&B3101),Worktags!AR:AV,5,FALSE),\"\")","v":""}]
["",null,null,null,null,{"$f":"IFERROR(VLOOKUP(IF(C3102=\"\",B3102&\"||\"&B3102,C3102&\"||\"&B3102),Worktags!AR:AV,5,FALSE),\"\")","v":""}]
["",null,null,null,null,{"$f":"IFERROR(VLOOKUP(IF(C3103=\"\",B3103&\"||\"&B3103,C3103&\"||\"&B3103),Worktags!AR:AV,5,FALSE),\"\")","v":""}]
["",null,null,null,null,{"$f":"IFERROR(VLOOKUP(IF(C3104=\"\",B3104&\"||\"&B3104,C3104&\"||\"&B3104),Worktags!AR:AV,5,FALSE),\"\")","v":""}]
["",null,null,null,null,{"$f":"IFERROR(VLOOKUP(IF(C3105=\"\",B3105&\"||\"&B3105,C3105&\"||\"&B3105),Worktags!AR:AV,5,FALSE),\"\")","v":""}]
["",null,null,null,null,{"$f":"IFERROR(VLOOKUP(IF(C3106=\"\",B3106&\"||\"&B3106,C3106&\"||\"&B3106),Worktags!AR:AV,5,FALSE),\"\")","v":""}]
[null,null,null,null,null,{"$f":"IFERROR(VLOOKUP(IF(C3107=\"\",B3107&\"||\"&B3107,C3107&\"||\"&B3107),Worktags!AR:AV,5,FALSE),\"\")","v":""}]
[null,null,null,null,null,{"$f":"IFERROR(VLOOKUP(IF(C3108=\"\",B3108&\"||\"&B3108,C3108&\"||\"&B3108),Worktags!AR:AV,5,FALSE),\"\")","v":""}]
[null,null,null,null,null,{"$f":"IFERROR(VLOOKUP(IF(C3109=\"\",B3109&\"||\"&B3109,C3109&\"||\"&B3109),Worktags!AR:AV,5,FALSE),\"\")","v":""}]
[null,null,null,null,null,{"$f":"IFERROR(VLOOKUP(IF(C3110=\"\",B3110&\"||\"&B3110,C3110&\"||\"&B3110),Worktags!AR:AV,5,FALSE),\"\")","v":""}]
[null,null,null,null,null,{"$f":"IFERROR(VLOOKUP(IF(C3111=\"\",B3111&\"||\"&B3111,C3111&\"||\"&B3111),Worktags!AR:AV,5,FALSE),\"\")","v":""}]
[null,null,null,null,null,{"$f":"IFERROR(VLOOKUP(IF(C3112=\"\",B3112&\"||\"&B3112,C3112&\"||\"&B3112),Worktags!AR:AV,5,FALSE),\"\")","v":""}]
[null,null,null,null,null,{"$f":"IFERROR(VLOOKUP(IF(C3113=\"\",B3113&\"||\"&B3113,C3113&\"||\"&B3113),Worktags!AR:AV,5,FALSE),\"\")","v":""}]
[null,null,null,null,null,{"$f":"IFERROR(VLOOKUP(IF(C3114=\"\",B3114&\"||\"&B3114,C3114&\"||\"&B3114),Worktags!AR:AV,5,FALSE),\"\")","v":""}]
[null,null,null,null,null,{"$f":"IFERROR(VLOOKUP(IF(C3115=\"\",B3115&\"||\"&B3115,C3115&\"||\"&B3115),Worktags!AR:AV,5,FALSE),\"\")","v":""}]
[null,null,null,null,null,{"$f":"IFERROR(VLOOKUP(IF(C3116=\"\",B3116&\"||\"&B3116,C3116&\"||\"&B3116),Worktags!AR:AV,5,FALSE),\"\")","v":""}]
[null,null,null,null,null,{"$f":"IFERROR(VLOOKUP(IF(C3117=\"\",B3117&\"||\"&B3117,C3117&\"||\"&B3117),Worktags!AR:AV,5,FALSE),\"\")","v":""}]
[null,null,null,null,null,{"$f":"IFERROR(VLOOKUP(IF(C3118=\"\",B3118&\"||\"&B3118,C3118&\"||\"&B3118),Worktags!AR:AV,5,FALSE),\"\")","v":""}]
[null,null,null,null,null,{"$f":"IFERROR(VLOOKUP(IF(C3119=\"\",B3119&\"||\"&B3119,C3119&\"||\"&B3119),Worktags!AR:AV,5,FALSE),\"\")","v":""}]
[null,null,null,null,null,{"$f":"IFERROR(VLOOKUP(IF(C3120=\"\",B3120&\"||\"&B3120,C3120&\"||\"&B3120),Worktags!AR:AV,5,FALSE),\"\")","v":""}]
[null,null,null,null,null,{"$f":"IFERROR(VLOOKUP(IF(C3121=\"\",B3121&\"||\"&B3121,C3121&\"||\"&B3121),Worktags!AR:AV,5,FALSE),\"\")","v":""}]
[null,null,null,null,null,{"$f":"IFERROR(VLOOKUP(IF(C3122=\"\",B3122&\"||\"&B3122,C3122&\"||\"&B3122),Worktags!AR:AV,5,FALSE),\"\")","v":""}]
[null,null,null,null,null,{"$f":"IFERROR(VLOOKUP(IF(C3123=\"\",B3123&\"||\"&B3123,C3123&\"||\"&B3123),Worktags!AR:AV,5,FALSE),\"\")","v":""}]
[null,null,null,null,null,{"$f":"IFERROR(VLOOKUP(IF(C3124=\"\",B3124&\"||\"&B3124,C3124&\"||\"&B3124),Worktags!AR:AV,5,FALSE),\"\")","v":""}]
[null,null,null,null,null,{"$f":"IFERROR(VLOOKUP(IF(C3125=\"\",B3125&\"||\"&B3125,C3125&\"||\"&B3125),Worktags!AR:AV,5,FALSE),\"\")","v":""}]
[null,null,null,null,null,{"$f":"IFERROR(VLOOKUP(IF(C3126=\"\",B3126&\"||\"&B3126,C3126&\"||\"&B3126),Worktags!AR:AV,5,FALSE),\"\")","v":""}]
[null,null,null,null,null,{"$f":"IFERROR(VLOOKUP(IF(C3127=\"\",B3127&\"||\"&B3127,C3127&\"||\"&B3127),Worktags!AR:AV,5,FALSE),\"\")","v":""}]
[null,null,null,null,null,{"$f":"IFERROR(VLOOKUP(IF(C3128=\"\",B3128&\"||\"&B3128,C3128&\"||\"&B3128),Worktags!AR:AV,5,FALSE),\"\")","v":""}]
[null,null,null,null,null,{"$f":"IFERROR(VLOOKUP(IF(C3129=\"\",B3129&\"||\"&B3129,C3129&\"||\"&B3129),Worktags!AR:AV,5,FALSE),\"\")","v":""}]
[null,null,null,null,null,{"$f":"IFERROR(VLOOKUP(IF(C3130=\"\",B3130&\"||\"&B3130,C3130&\"||\"&B3130),Worktags!AR:AV,5,FALSE),\"\")","v":""}]
[null,null,null,null,null,{"$f":"IFERROR(VLOOKUP(IF(C3131=\"\",B3131&\"||\"&B3131,C3131&\"||\"&B3131),Worktags!AR:AV,5,FALSE),\"\")","v":""}]
[null,null,null,null,null,{"$f":"IFERROR(VLOOKUP(IF(C3132=\"\",B3132&\"||\"&B3132,C3132&\"||\"&B3132),Worktags!AR:AV,5,FALSE),\"\")","v":""}]
[null,null,null,null,null,{"$f":"IFERROR(VLOOKUP(IF(C3133=\"\",B3133&\"||\"&B3133,C3133&\"||\"&B3133),Worktags!AR:AV,5,FALSE),\"\")","v":""}]
[null,null,null,null,null,{"$f":"IFERROR(VLOOKUP(IF(C3134=\"\",B3134&\"||\"&B3134,C3134&\"||\"&B3134),Worktags!AR:AV,5,FALSE),\"\")","v":""}]
[null,null,null,null,null,{"$f":"IFERROR(VLOOKUP(IF(C3135=\"\",B3135&\"||\"&B3135,C3135&\"||\"&B3135),Worktags!AR:AV,5,FALSE),\"\")","v":""}]
[null,null,null,null,null,{"$f":"IFERROR(VLOOKUP(IF(C3136=\"\",B3136&\"||\"&B3136,C3136&\"||\"&B3136),Worktags!AR:AV,5,FALSE),\"\")","v":""}]
[null,null,null,null,null,{"$f":"IFERROR(VLOOKUP(IF(C3137=\"\",B3137&\"||\"&B3137,C3137&\"||\"&B3137),Worktags!AR:AV,5,FALSE),\"\")","v":""}]
[null,null,null,null,null,{"$f":"IFERROR(VLOOKUP(IF(C3138=\"\",B3138&\"||\"&B3138,C3138&\"||\"&B3138),Worktags!AR:AV,5,FALSE),\"\")","v":""}]
[null,null,null,null,null,{"$f":"IFERROR(VLOOKUP(IF(C3139=\"\",B3139&\"||\"&B3139,C3139&\"||\"&B3139),Worktags!AR:AV,5,FALSE),\"\")","v":""}]
[null,null,null,null,null,{"$f":"IFERROR(VLOOKUP(IF(C3140=\"\",B3140&\"||\"&B3140,C3140&\"||\"&B3140),Worktags!AR:AV,5,FALSE),\"\")","v":""}]
[null,null,null,null,null,{"$f":"IFERROR(VLOOKUP(IF(C3141=\"\",B3141&\"||\"&B3141,C3141&\"||\"&B3141),Worktags!AR:AV,5,FALSE),\"\")","v":""}]
[null,null,null,null,null,{"$f":"IFERROR(VLOOKUP(IF(C3142=\"\",B3142&\"||\"&B3142,C3142&\"||\"&B3142),Worktags!AR:AV,5,FALSE),\"\")","v":""}]
[null,null,null,null,null,{"$f":"IFERROR(VLOOKUP(IF(C3143=\"\",B3143&\"||\"&B3143,C3143&\"||\"&B3143),Worktags!AR:AV,5,FALSE),\"\")","v":""}]
[null,null,null,null,null,{"$f":"IFERROR(VLOOKUP(IF(C3144=\"\",B3144&\"||\"&B3144,C3144&\"||\"&B3144),Worktags!AR:AV,5,FALSE),\"\")","v":""}]
[null,null,null,null,null,{"$f":"IFERROR(VLOOKUP(IF(C3145=\"\",B3145&\"||\"&B3145,C3145&\"||\"&B3145),Worktags!AR:AV,5,FALSE),\"\")","v":""}]
[null,null,null,null,null,{"$f":"IFERROR(VLOOKUP(IF(C3146=\"\",B3146&\"||\"&B3146,C3146&\"||\"&B3146),Worktags!AR:AV,5,FALSE),\"\")","v":""}]
[null,null,null,null,null,{"$f":"IFERROR(VLOOKUP(IF(C3147=\"\",B3147&\"||\"&B3147,C3147&\"||\"&B3147),Worktags!AR:AV,5,FALSE),\"\")","v":""}]
[null,null,null,null,null,{"$f":"IFERROR(VLOOKUP(IF(C3148=\"\",B3148&\"||\"&B3148,C3148&\"||\"&B3148),Worktags!AR:AV,5,FALSE),\"\")","v":""}]
[null,null,null,null,null,{"$f":"IFERROR(VLOOKUP(IF(C3149=\"\",B3149&\"||\"&B3149,C3149&\"||\"&B3149),Worktags!AR:AV,5,FALSE),\"\")","v":""}]
[null,null,null,null,null,{"$f":"IFERROR(VLOOKUP(IF(C3150=\"\",B3150&\"||\"&B3150,C3150&\"||\"&B3150),Worktags!AR:AV,5,FALSE),\"\")","v":""}]
[null,null,null,null,null,{"$f":"IFERROR(VLOOKUP(IF(C3151=\"\",B3151&\"||\"&B3151,C3151&\"||\"&B3151),Worktags!AR:AV,5,FALSE),\"\")","v":""}]
[null,null,null,null,null,{"$f":"IFERROR(VLOOKUP(IF(C3152=\"\",B3152&\"||\"&B3152,C3152&\"||\"&B3152),Worktags!AR:AV,5,FALSE),\"\")","v":""}]
[null,null,null,null,null,{"$f":"IFERROR(VLOOKUP(IF(C3153=\"\",B3153&\"||\"&B3153,C3153&\"||\"&B3153),Worktags!AR:AV,5,FALSE),\"\")","v":""}]
[null,null,null,null,null,{"$f":"IFERROR(VLOOKUP(IF(C3154=\"\",B3154&\"||\"&B3154,C3154&\"||\"&B3154),Worktags!AR:AV,5,FALSE),\"\")","v":""}]
[null,null,null,null,null,{"$f":"IFERROR(VLOOKUP(IF(C3155=\"\",B3155&\"||\"&B3155,C3155&\"||\"&B3155),Worktags!AR:AV,5,FALSE),\"\")","v":""}]
[null,null,null,null,null,{"$f":"IFERROR(VLOOKUP(IF(C3156=\"\",B3156&\"||\"&B3156,C3156&\"||\"&B3156),Worktags!AR:AV,5,FALSE),\"\")","v":""}]
[null,null,null,null,null,{"$f":"IFERROR(VLOOKUP(IF(C3157=\"\",B3157&\"||\"&B3157,C3157&\"||\"&B3157),Worktags!AR:AV,5,FALSE),\"\")","v":""}]
[null,null,null,null,null,{"$f":"IFERROR(VLOOKUP(IF(C3158=\"\",B3158&\"||\"&B3158,C3158&\"||\"&B3158),Worktags!AR:AV,5,FALSE),\"\")","v":""}]
[null,null,null,null,null,{"$f":"IFERROR(VLOOKUP(IF(C3159=\"\",B3159&\"||\"&B3159,C3159&\"||\"&B3159),Worktags!AR:AV,5,FALSE),\"\")","v":""}]
[null,null,null,null,null,{"$f":"IFERROR(VLOOKUP(IF(C3160=\"\",B3160&\"||\"&B3160,C3160&\"||\"&B3160),Worktags!AR:AV,5,FALSE),\"\")","v":""}]
[null,null,null,null,null,{"$f":"IFERROR(VLOOKUP(IF(C3161=\"\",B3161&\"||\"&B3161,C3161&\"||\"&B3161),Worktags!AR:AV,5,FALSE),\"\")","v":""}]
[null,null,null,null,null,{"$f":"IFERROR(VLOOKUP(IF(C3162=\"\",B3162&\"||\"&B3162,C3162&\"||\"&B3162),Worktags!AR:AV,5,FALSE),\"\")","v":""}]
[null,null,null,null,null,{"$f":"IFERROR(VLOOKUP(IF(C3163=\"\",B3163&\"||\"&B3163,C3163&\"||\"&B3163),Worktags!AR:AV,5,FALSE),\"\")","v":""}]
[null,null,null,null,null,{"$f":"IFERROR(VLOOKUP(IF(C3164=\"\",B3164&\"||\"&B3164,C3164&\"||\"&B3164),Worktags!AR:AV,5,FALSE),\"\")","v":""}]
[null,null,null,null,null,{"$f":"IFERROR(VLOOKUP(IF(C3165=\"\",B3165&\"||\"&B3165,C3165&\"||\"&B3165),Worktags!AR:AV,5,FALSE),\"\")","v":""}]
[null,null,null,null,null,{"$f":"IFERROR(VLOOKUP(IF(C3166=\"\",B3166&\"||\"&B3166,C3166&\"||\"&B3166),Worktags!AR:AV,5,FALSE),\"\")","v":""}]
[null,null,null,null,null,{"$f":"IFERROR(VLOOKUP(IF(C3167=\"\",B3167&\"||\"&B3167,C3167&\"||\"&B3167),Worktags!AR:AV,5,FALSE),\"\")","v":""}]
[null,null,null,null,null,{"$f":"IFERROR(VLOOKUP(IF(C3168=\"\",B3168&\"||\"&B3168,C3168&\"||\"&B3168),Worktags!AR:AV,5,FALSE),\"\")","v":""}]
[null,null,null,null,null,{"$f":"IFERROR(VLOOKUP(IF(C3169=\"\",B3169&\"||\"&B3169,C3169&\"||\"&B3169),Worktags!AR:AV,5,FALSE),\"\")","v":""}]
[null,null,null,null,null,{"$f":"IFERROR(VLOOKUP(IF(C3170=\"\",B3170&\"||\"&B3170,C3170&\"||\"&B3170),Worktags!AR:AV,5,FALSE),\"\")","v":""}]
[null,null,null,null,null,{"$f":"IFERROR(VLOOKUP(IF(C3171=\"\",B3171&\"||\"&B3171,C3171&\"||\"&B3171),Worktags!AR:AV,5,FALSE),\"\")","v":""}]
[null,null,null,null,null,{"$f":"IFERROR(VLOOKUP(IF(C3172=\"\",B3172&\"||\"&B3172,C3172&\"||\"&B3172),Worktags!AR:AV,5,FALSE),\"\")","v":""}]
[null,null,null,null,null,{"$f":"IFERROR(VLOOKUP(IF(C3173=\"\",B3173&\"||\"&B3173,C3173&\"||\"&B3173),Worktags!AR:AV,5,FALSE),\"\")","v":""}]
[null,null,null,null,null,{"$f":"IFERROR(VLOOKUP(IF(C3174=\"\",B3174&\"||\"&B3174,C3174&\"||\"&B3174),Worktags!AR:AV,5,FALSE),\"\")","v":""}]
[null,null,null,null,null,{"$f":"IFERROR(VLOOKUP(IF(C3175=\"\",B3175&\"||\"&B3175,C3175&\"||\"&B3175),Worktags!AR:AV,5,FALSE),\"\")","v":""}]
[null,null,null,null,null,{"$f":"IFERROR(VLOOKUP(IF(C3176=\"\",B3176&\"||\"&B3176,C3176&\"||\"&B3176),Worktags!AR:AV,5,FALSE),\"\")","v":""}]
[null,null,null,null,null,{"$f":"IFERROR(VLOOKUP(IF(C3177=\"\",B3177&\"||\"&B3177,C3177&\"||\"&B3177),Worktags!AR:AV,5,FALSE),\"\")","v":""}]
[null,null,null,null,null,{"$f":"IFERROR(VLOOKUP(IF(C3178=\"\",B3178&\"||\"&B3178,C3178&\"||\"&B3178),Worktags!AR:AV,5,FALSE),\"\")","v":""}]
[null,null,null,null,null,{"$f":"IFERROR(VLOOKUP(IF(C3179=\"\",B3179&\"||\"&B3179,C3179&\"||\"&B3179),Worktags!AR:AV,5,FALSE),\"\")","v":""}]
[null,null,null,null,null,{"$f":"IFERROR(VLOOKUP(IF(C3180=\"\",B3180&\"||\"&B3180,C3180&\"||\"&B3180),Worktags!AR:AV,5,FALSE),\"\")","v":""}]
[null,null,null,null,null,{"$f":"IFERROR(VLOOKUP(IF(C3181=\"\",B3181&\"||\"&B3181,C3181&\"||\"&B3181),Worktags!AR:AV,5,FALSE),\"\")","v":""}]
[null,null,null,null,null,{"$f":"IFERROR(VLOOKUP(IF(C3182=\"\",B3182&\"||\"&B3182,C3182&\"||\"&B3182),Worktags!AR:AV,5,FALSE),\"\")","v":""}]
[null,null,null,null,null,{"$f":"IFERROR(VLOOKUP(IF(C3183=\"\",B3183&\"||\"&B3183,C3183&\"||\"&B3183),Worktags!AR:AV,5,FALSE),\"\")","v":""}]
[null,null,null,null,null,{"$f":"IFERROR(VLOOKUP(IF(C3184=\"\",B3184&\"||\"&B3184,C3184&\"||\"&B3184),Worktags!AR:AV,5,FALSE),\"\")","v":""}]
[null,null,null,null,null,{"$f":"IFERROR(VLOOKUP(IF(C3185=\"\",B3185&\"||\"&B3185,C3185&\"||\"&B3185),Worktags!AR:AV,5,FALSE),\"\")","v":""}]
[null,null,null,null,null,{"$f":"IFERROR(VLOOKUP(IF(C3186=\"\",B3186&\"||\"&B3186,C3186&\"||\"&B3186),Worktags!AR:AV,5,FALSE),\"\")","v":""}]
[null,null,null,null,null,{"$f":"IFERROR(VLOOKUP(IF(C3187=\"\",B3187&\"||\"&B3187,C3187&\"||\"&B3187),Worktags!AR:AV,5,FALSE),\"\")","v":""}]
[null,null,null,null,null,{"$f":"IFERROR(VLOOKUP(IF(C3188=\"\",B3188&\"||\"&B3188,C3188&\"||\"&B3188),Worktags!AR:AV,5,FALSE),\"\")","v":""}]
[null,null,null,null,null,{"$f":"IFERROR(VLOOKUP(IF(C3189=\"\",B3189&\"||\"&B3189,C3189&\"||\"&B3189),Worktags!AR:AV,5,FALSE),\"\")","v":""}]
[null,null,null,null,null,{"$f":"IFERROR(VLOOKUP(IF(C3190=\"\",B3190&\"||\"&B3190,C3190&\"||\"&B3190),Worktags!AR:AV,5,FALSE),\"\")","v":""}]
[null,null,null,null,null,{"$f":"IFERROR(VLOOKUP(IF(C3191=\"\",B3191&\"||\"&B3191,C3191&\"||\"&B3191),Worktags!AR:AV,5,FALSE),\"\")","v":""}]
[null,null,null,null,null,{"$f":"IFERROR(VLOOKUP(IF(C3192=\"\",B3192&\"||\"&B3192,C3192&\"||\"&B3192),Worktags!AR:AV,5,FALSE),\"\")","v":""}]
[null,null,null,null,null,{"$f":"IFERROR(VLOOKUP(IF(C3193=\"\",B3193&\"||\"&B3193,C3193&\"||\"&B3193),Worktags!AR:AV,5,FALSE),\"\")","v":""}]
[null,null,null,null,null,{"$f":"IFERROR(VLOOKUP(IF(C3194=\"\",B3194&\"||\"&B3194,C3194&\"||\"&B3194),Worktags!AR:AV,5,FALSE),\"\")","v":""}]
[null,null,null,null,null,{"$f":"IFERROR(VLOOKUP(IF(C3195=\"\",B3195&\"||\"&B3195,C3195&\"||\"&B3195),Worktags!AR:AV,5,FALSE),\"\")","v":""}]
[null,null,null,null,null,{"$f":"IFERROR(VLOOKUP(IF(C3196=\"\",B3196&\"||\"&B3196,C3196&\"||\"&B3196),Worktags!AR:AV,5,FALSE),\"\")","v":""}]
[null,null,null,null,null,{"$f":"IFERROR(VLOOKUP(IF(C3197=\"\",B3197&\"||\"&B3197,C3197&\"||\"&B3197),Worktags!AR:AV,5,FALSE),\"\")","v":""}]
[null,null,null,null,null,{"$f":"IFERROR(VLOOKUP(IF(C3198=\"\",B3198&\"||\"&B3198,C3198&\"||\"&B3198),Worktags!AR:AV,5,FALSE),\"\")","v":""}]
[null,null,null,null,null,{"$f":"IFERROR(VLOOKUP(IF(C3199=\"\",B3199&\"||\"&B3199,C3199&\"||\"&B3199),Worktags!AR:AV,5,FALSE),\"\")","v":""}]
[null,null,null,null,null,{"$f":"IFERROR(VLOOKUP(IF(C3200=\"\",B3200&\"||\"&B3200,C3200&\"||\"&B3200),Worktags!AR:AV,5,FALSE),\"\")","v":""}]
[null,null,null,null,null,{"$f":"IFERROR(VLOOKUP(IF(C3201=\"\",B3201&\"||\"&B3201,C3201&\"||\"&B3201),Worktags!AR:AV,5,FALSE),\"\")","v":""}]
[null,null,null,null,null,{"$f":"IFERROR(VLOOKUP(IF(C3202=\"\",B3202&\"||\"&B3202,C3202&\"||\"&B3202),Worktags!AR:AV,5,FALSE),\"\")","v":""}]
[null,null,null,null,null,{"$f":"IFERROR(VLOOKUP(IF(C3203=\"\",B3203&\"||\"&B3203,C3203&\"||\"&B3203),Worktags!AR:AV,5,FALSE),\"\")","v":""}]
[null,null,null,null,null,{"$f":"IFERROR(VLOOKUP(IF(C3204=\"\",B3204&\"||\"&B3204,C3204&\"||\"&B3204),Worktags!AR:AV,5,FALSE),\"\")","v":""}]
[null,null,null,null,null,{"$f":"IFERROR(VLOOKUP(IF(C3205=\"\",B3205&\"||\"&B3205,C3205&\"||\"&B3205),Worktags!AR:AV,5,FALSE),\"\")","v":""}]
[null,null,null,null,null,{"$f":"IFERROR(VLOOKUP(IF(C3206=\"\",B3206&\"||\"&B3206,C3206&\"||\"&B3206),Worktags!AR:AV,5,FALSE),\"\")","v":""}]
[null,null,null,null,null,{"$f":"IFERROR(VLOOKUP(IF(C3207=\"\",B3207&\"||\"&B3207,C3207&\"||\"&B3207),Worktags!AR:AV,5,FALSE),\"\")","v":""}]
[null,null,null,null,null,{"$f":"IFERROR(VLOOKUP(IF(C3208=\"\",B3208&\"||\"&B3208,C3208&\"||\"&B3208),Worktags!AR:AV,5,FALSE),\"\")","v":""}]
[null,null,null,null,null,{"$f":"IFERROR(VLOOKUP(IF(C3209=\"\",B3209&\"||\"&B3209,C3209&\"||\"&B3209),Worktags!AR:AV,5,FALSE),\"\")","v":""}]
[null,null,null,null,null,{"$f":"IFERROR(VLOOKUP(IF(C3210=\"\",B3210&\"||\"&B3210,C3210&\"||\"&B3210),Worktags!AR:AV,5,FALSE),\"\")","v":""}]
[null,null,null,null,null,{"$f":"IFERROR(VLOOKUP(IF(C3211=\"\",B3211&\"||\"&B3211,C3211&\"||\"&B3211),Worktags!AR:AV,5,FALSE),\"\")","v":""}]
[null,null,null,null,null,{"$f":"IFERROR(VLOOKUP(IF(C3212=\"\",B3212&\"||\"&B3212,C3212&\"||\"&B3212),Worktags!AR:AV,5,FALSE),\"\")","v":""}]
[null,null,null,null,null,{"$f":"IFERROR(VLOOKUP(IF(C3213=\"\",B3213&\"||\"&B3213,C3213&\"||\"&B3213),Worktags!AR:AV,5,FALSE),\"\")","v":""}]
[null,null,null,null,null,{"$f":"IFERROR(VLOOKUP(IF(C3214=\"\",B3214&\"||\"&B3214,C3214&\"||\"&B3214),Worktags!AR:AV,5,FALSE),\"\")","v":""}]
[null,null,null,null,null,{"$f":"IFERROR(VLOOKUP(IF(C3215=\"\",B3215&\"||\"&B3215,C3215&\"||\"&B3215),Worktags!AR:AV,5,FALSE),\"\")","v":""}]
[null,null,null,null,null,{"$f":"IFERROR(VLOOKUP(IF(C3216=\"\",B3216&\"||\"&B3216,C3216&\"||\"&B3216),Worktags!AR:AV,5,FALSE),\"\")","v":""}]
[null,null,null,null,null,{"$f":"IFERROR(VLOOKUP(IF(C3217=\"\",B3217&\"||\"&B3217,C3217&\"||\"&B3217),Worktags!AR:AV,5,FALSE),\"\")","v":""}]
[null,null,null,null,null,{"$f":"IFERROR(VLOOKUP(IF(C3218=\"\",B3218&\"||\"&B3218,C3218&\"||\"&B3218),Worktags!AR:AV,5,FALSE),\"\")","v":""}]
[null,null,null,null,null,{"$f":"IFERROR(VLOOKUP(IF(C3219=\"\",B3219&\"||\"&B3219,C3219&\"||\"&B3219),Worktags!AR:AV,5,FALSE),\"\")","v":""}]
[null,null,null,null,null,{"$f":"IFERROR(VLOOKUP(IF(C3220=\"\",B3220&\"||\"&B3220,C3220&\"||\"&B3220),Worktags!AR:AV,5,FALSE),\"\")","v":""}]
[null,null,null,null,null,{"$f":"IFERROR(VLOOKUP(IF(C3221=\"\",B3221&\"||\"&B3221,C3221&\"||\"&B3221),Worktags!AR:AV,5,FALSE),\"\")","v":""}]

{"sheet":"Import Accounting Journal","index":5,"n_rows":6,"n_cols":28,"rows_kept":6,"cut":false,"hidden":true,"merged":[[0,0,0,27],[1,1,1,5],[1,6,1,27]]}
["Import Accounting Journal - v41.2"]
["Area","All",null,null,null,null,"Accounting Journal Data (All)"]
["Restrictions","Required","Optional","Optional","Optional","Optional","Optional","Optional","Optional","Optional","Optional","Required","Required","Required","Optional","Required","Required","Optional","Optional. May have multiples","Optional","Optional","Optional","Optional","Optional","Optional","Optional","Optional","Optional"]
["Format","Text","Y/N","Y/N","Accounting_Journal_ID","Y/N","Text","Y/N","Y/N","Y/N","Text","Company_Reference_ID","Currency_ID","Ledger_Type_ID","Book_Code_ID","YYYY-MM-DD","Journal_Source_ID","Fund_ID","Academic_Level_ID","Text","Text","Y/N","Y/N","YYYY-MM-DD","Number (26,6)","Currency_Rate_Type_ID","Currency_Rate_Type_ID","Y/N"]
["Fields","Header Key*","Add Only","Create Journal with Errors","Existing Accounting Journal Ref ID","Auto Complete","Accounting Journal Ref ID","Submit","Disable Optional Worktag Balancing","Journal for All Ledgers","Journal Number","Company*","Currency*","Ledger Type*","Book Code","Accounting Date*","Journal Source*","Balancing Worktag","Optional Balancing Worktags+","Journal Entry Memo","External Reference ID","Adjustment Journal","Create Reversal","Reversal Date","Control Total Amount","Currency Rate Type","Alternate Ledger Currency Rate Type","Discard On Exit Validation Error"]
[null,{"$f":"IF(Template!$A$8<>\"\",Template!$A$8,\"\")","v":""},{"$f":"IF($B$6<>\"\",\"N\",\"\")","v":""},null,null,null,null,{"$f":"IF($B$6<>\"\",\"Y\",\"\")","v":""},null,null,null,{"$f":"IF($B$6<>\"\",INDEX(Worktags!$B$4:$D$36,MATCH(Template!$D$8,Worktags!$C$4:$C$36,0),1),\"\")","v":""},{"$f":"IF($B$6<>\"\",Template!$G$8,\"\")","v":""},{"$f":"IF($B$6<>\"\",Template!$E$8,\"\")","v":""},{"$f":"IF($B$6<>\"\",VLOOKUP(Template!$F$8,Tenant!$T:$U,2,FALSE),\"\")","v":""},{"$f":"IF($B$6<>\"\",TEXT(Template!$B$8,\"yyyy-mm-dd\"),\"\")","v":""},{"$f":"IF($B$6<>\"\",VLOOKUP(Template!$C$8,Tenant!$P:$Q,2,FALSE),\"\")","v":""},{"$f":"IF($B$6<>\"\",VLOOKUP(INDEX(Template!$L$8:$M$2000,MATCH(Template!$A$8,Template!$L$8:$L$2000,0),2),Worktags!$I:$K,3,FALSE),\"\")","v":""},null,{"$f":"IF($B$6<>\"\",Template!$I$8,\"\")","v":""},{"$f":"IF($B$6<>\"\",Template!$H$8,\"\")","v":""}]

{"sheet":"Journal Entry Line Replacement","index":6,"n_rows":7,"n_cols":31,"rows_kept":7,"cut":false,"hidden":true,"merged":[[0,0,0,29],[1,1,1,30]]}
["Journal Entry Line Replacement Data"]
["Area","All"]
["Restrictions","Required","Required","Optional","Optional","Optional","Optional","Optional","Optional","Optional","Optional","Optional","Optional","Optional","Optional","Optional","Optional","Optional","Optional","Optional","Optional","Optional","Optional","Optional","Optional","Optional","Optional","Optional","Optional","Optional","Optional"]
["Format","Text","Text","Company_Reference_ID","Ledger_Account_ID","Account_Set_ID","Number (26,6)","Number (26,6)","Currency_ID","Number (24,12)","Number (18,3)","Number (18,3)","Text","Text","Spend_Category_ID","Revenue_Category_ID","Cost_Center_Reference_ID","Custom_Organization_Reference_ID","Gift_Reference_ID","Grant_ID","Project_ID","Fund_ID","Program_ID","Custom_Organization_Reference_ID","Custom_Organization_Reference_ID","Custom_Organization_Reference_ID","Custom_Worktag_06_ID","Donor_ID","Location_ID","Custom_Worktag_3_ID","Bank_Account_ID"]
["Fields","Header Key","Line Key","Line Company","Ledger Account","Account Set","Debit Amount","Credit Amount","Currency","Currency Rate","Ledger Debit Amount","Ledger Credit Amount","Memo","External Reference ID","Spend Category","Revenue Category","Cost Center","Activity","Gift","Grant","Project","Fund","Program","Class","Assignee","Student Experience","Intra Campus Transactions","Donor","Location","External Payment Type","Bank Account"]
[null,{"$f":"Template!$L$8","v":0},1,{"$f":"IF(Template!$AB$8<>\"\",INDEX(Worktags!$B$4:$D$36,MATCH(Template!$AB$8,Worktags!$C$4:$C$36,0),1),\"\")","v":""},{"$f":"IF(Template!$P$8<>\"\",Template!$P$8,\"\")","v":""},"BYU_Child",50,null,null,null,null,null,{"$f":"IF(Template!$R$8<>\"\",Template!$R$8,\"\")","v":""},{"$f":"IF(Template!$AE$8<>\"\",Template!$AE$8,\"\")","v":""},{"$f":"IF(LEFT(Template!$Q$8,2)=\"SC\",Template!$Q$8,\"\")","v":""},{"$f":"IF(LEFT(Template!$Q$8,2)=\"RC\",Template!$Q$8,\"\")","v":""},{"$f":"IF(LEFT(Template!$O$8,2)=\"CC\",Template!$O$8,\"\")","v":""},{"$f":"IF(LEFT(Template!$O$8,2)=\"AC\",Template!$O$8,\"\")","v":""},{"$f":"IF(LEFT(Template!$O$8,2)=\"GF\",Template!$O$8,\"\")","v":""},{"$f":"IF(LEFT(Template!$O$8,2)=\"GR\",Template!$O$8,\"\")","v":""},{"$f":"IF(OR(LEFT(Template!$O$8,2)=\"PJ\", LEFT(Template!$O$8,2)=\"PR\"),Template!$O$8,\"\")","v":""},{"$f":"IF(Template!$AC$8<>\"\",Template!$AC$8,\"\")","v":""},null,{"$f":"IF(Template!$Y$8<>\"\",Template!$Y$8,\"\")","v":""},{"$f":"IF(Template!$Z$8<>\"\",Template!$Z$8,\"\")","v":""},{"$f":"IF(Template!$AA$8<>\"\",Template!$AA$8,\"\")","v":""},{"$f":"IF(Template!$AD$8=\"Yes\",Template!$AD$8,\"\")","v":""},null,null,null,{"$f":"IF(LEFT(Template!$Q$8,2)=\"BK\",Template!$Q$8,\"\")","v":""}]
[null,{"$f":"Template!$L$9","v":0},{"$f":"IF(B7=B6,C6+1,1)","v":2},{"$f":"IF(Template!$AB$9<>\"\",INDEX(Worktags!$B$4:$D$36,MATCH(Template!$AB$9,Worktags!$C$4:$C$36,0),1),\"\")","v":""},{"$f":"IF(Template!$P$9<>\"\",Template!$P$9,\"\")","v":""},"BYU_Child",null,50,null,null,null,null,{"$f":"IF(Template!$R$9<>\"\",Template!$R$9,\"\")","v":""},{"$f":"IF(Template!$AE$9<>\"\",Template!$AE$9,\"\")","v":""},{"$f":"IF(LEFT(Template!$Q$9,2)=\"SC\",Template!$Q$9,\"\")","v":""},{"$f":"IF(LEFT(Template!$Q$9,2)=\"RC\",Template!$Q$9,\"\")","v":""},{"$f":"IF(LEFT(Template!$O$9,2)=\"CC\",Template!$O$9,\"\")","v":""},{"$f":"IF(LEFT(Template!$O$9,2)=\"AC\",Template!$O$9,\"\")","v":""},{"$f":"IF(LEFT(Template!$O$9,2)=\"GF\",Template!$O$9,\"\")","v":""},{"$f":"IF(LEFT(Template!$O$9,2)=\"GR\",Template!$O$9,\"\")","v":""},{"$f":"IF(OR(LEFT(Template!$O$9,2)=\"PJ\", LEFT(Template!$O$9,2)=\"PR\"),Template!$O$9,\"\")","v":""},{"$f":"IF(Template!$AC$9<>\"\",Template!$AC$9,\"\")","v":""},null,{"$f":"IF(Template!$Y$9<>\"\",Template!$Y$9,\"\")","v":""},{"$f":"IF(Template!$Z$9<>\"\",Template!$Z$9,\"\")","v":""},{"$f":"IF(Template!$AA$9<>\"\",Template!$AA$9,\"\")","v":""},{"$f":"IF(Template!$AD$9=\"Yes\",Template!$AD$9,\"\")","v":""},null,null,null,{"$f":"IF(LEFT(Template!$Q$9,2)=\"BK\",Template!$Q$9,\"\")","v":""}]