{"text_format":"1","workbook":"xlsx","n_sheets":8,"sheets":["Template","Error Log","Support","Worktags","Tenant","AccountSCRC_Concat","Import Accounting Journal","Journal Entry Line Replacement"],"not_rendered":{"charts":0,"images":0,"macros":1,"external_links":0,"defined_names":70,"comments":2,"pivot_tables":0},"unopened":[],"bounds":{"document_bytes":16777216,"sheet_cells":100000,"rows_first":2000,"rows_last":500,"rows_between":2000,"halvings":0,"cell_chars":16384,"cell_head_chars":4096},"cells_cut":0,"cells_raw":0,"read":"whole","date_system":"1900"}

{"sheet":"Template","index":0,"n_rows":57,"n_cols":33,"rows_kept":57,"cut":false,"hidden":false,"merged":[]}
["Journal Entry",null,null,null,null,null,null,null,null,null,null,null,null,null,null,null,null,null,null,null,null,null,null,null,null,null,null,null,null,null,false,false]
["Prepared by:",null,null,null,null,null,null,null,null,"Tenant",null,null,null,null,null,null,null,null,null,null,null,null,null,null,null,null,null,null,null,null,null,true]
[null,null,null,null,null,null,null,null,null,"Production",null,null,null,null,null,null,null,null,null,null,null,null,null,null,null,null,null,null,null,null,null,true]
[null,null,null,null,null,null,null,null,null,null,null,null,null,null,null,null,null,null,null,null,null,null,null,null,null,null,null,null,null,null,null,300]
[]
["Journal Entry Header Information",null,null,null,null,null,null,null,null,null,null,"Journal Entry Lines"]
["JE #","Journal Date","JE Source","Company","Ledger","Book","Currency","External Ref ID","Header Memo","Total JE Amount",null,"JE #","Driver Worktag-Description","Account-Spend/Revenue Category-Description","Driver Worktag","Account","Spend/Revenue Category","Line Memo","Debit","Credit","Class-Description","Assignee-Description","Exp Learning & Research","Fund-Description","Class","Assignee","Exp Learning & Research","Company","Fund","Intracampus","Reference",0,"Y"]
[null,null,null,null,null,null,null,null,null,{"$f":"IF(A8<>\"\",ROUND(SUMIFS(DebitCol,JEcol,A8),2)-ROUND(SUMIFS(CreditCol,JEcol,A8),2),\"\")","v":""}]
[null,null,null,null,null,null,null,null,null,{"$f":"IF(A9<>\"\",ROUND(SUMIFS(DebitCol,JEcol,A9),2)-ROUND(SUMIFS(CreditCol,JEcol,A9),2),\"\")","v":""}]
[null,null,null,null,null,null,null,null,null,{"$f":"IF(A10<>\"\",ROUND(SUMIFS(DebitCol,JEcol,A10),2)-ROUND(SUMIFS(CreditCol,JEcol,A10),2),\"\")","v":""}]
[null,null,null,null,null,null,null,null,null,{"$f":"IF(A11<>\"\",ROUND(SUMIFS(DebitCol,JEcol,A11),2)-ROUND(SUMIFS(CreditCol,JEcol,A11),2),\"\")","v":""}]
[null,null,null,null,null,null,null,null,null,{"$f":"IF(A12<>\"\",ROUND(SUMIFS(DebitCol,JEcol,A12),2)-ROUND(SUMIFS(CreditCol,JEcol,A12),2),\"\")","v":""}]
[null,null,null,null,null,null,null,null,null,{"$f":"IF(A13<>\"\",ROUND(SUMIFS(DebitCol,JEcol,A13),2)-ROUND(SUMIFS(CreditCol,JEcol,A13),2),\"\")","v":""}]
[null,null,null,null,null,null,null,null,null,{"$f":"IF(A14<>\"\",ROUND(SUMIFS(DebitCol,JEcol,A14),2)-ROUND(SUMIFS(CreditCol,JEcol,A14),2),\"\")","v":""}]
[null,null,null,null,null,null,null,null,null,{"$f":"IF(A15<>\"\",ROUND(SUMIFS(DebitCol,JEcol,A15),2)-ROUND(SUMIFS(CreditCol,JEcol,A15),2),\"\")","v":""}]
[null,null,null,null,null,null,null,null,null,{"$f":"IF(A16<>\"\",ROUND(SUMIFS(DebitCol,JEcol,A16),2)-ROUND(SUMIFS(CreditCol,JEcol,A16),2),\"\")","v":""}]
[null,null,null,null,null,null,null,null,null,{"$f":"IF(A17<>\"\",ROUND(SUMIFS(DebitCol,JEcol,A17),2)-ROUND(SUMIFS(CreditCol,JEcol,A17),2),\"\")","v":""}]
[null,null,null,null,null,null,null,null,null,{"$f":"IF(A18<>\"\",ROUND(SUMIFS(DebitCol,JEcol,A18),2)-ROUND(SUMIFS(CreditCol,JEcol,A18),2),\"\")","v":""}]
[null,null,null,null,null,null,null,null,null,{"$f":"IF(A19<>\"\",ROUND(SUMIFS(DebitCol,JEcol,A19),2)-ROUND(SUMIFS(CreditCol,JEcol,A19),2),\"\")","v":""}]
[null,null,null,null,null,null,null,null,null,{"$f":"IF(A20<>\"\",ROUND(SUMIFS(DebitCol,JEcol,A20),2)-ROUND(SUMIFS(CreditCol,JEcol,A20),2),\"\")","v":""}]
[null,null,null,null,null,null,null,null,null,{"$f":"IF(A21<>\"\",ROUND(SUMIFS(DebitCol,JEcol,A21),2)-ROUND(SUMIFS(CreditCol,JEcol,A21),2),\"\")","v":""}]
[null,null,null,null,null,null,null,null,null,{"$f":"IF(A22<>\"\",ROUND(SUMIFS(DebitCol,JEcol,A22),2)-ROUND(SUMIFS(CreditCol,JEcol,A22),2),\"\")","v":""}]
[null,null,null,null,null,null,null,null,null,{"$f":"IF(A23<>\"\",ROUND(SUMIFS(DebitCol,JEcol,A23),2)-ROUND(SUMIFS(CreditCol,JEcol,A23),2),\"\")","v":""}]
[null,null,null,null,null,null,null,null,null,{"$f":"IF(A24<>\"\",ROUND(SUMIFS(DebitCol,JEcol,A24),2)-ROUND(SUMIFS(CreditCol,JEcol,A24),2),\"\")","v":""}]
[null,null,null,null,null,null,null,null,null,{"$f":"IF(A25<>\"\",ROUND(SUMIFS(DebitCol,JEcol,A25),2)-ROUND(SUMIFS(CreditCol,JEcol,A25),2),\"\")","v":""}]
[null,null,null,null,null,null,null,null,null,{"$f":"IF(A26<>\"\",ROUND(SUMIFS(DebitCol,JEcol,A26),2)-ROUND(SUMIFS(CreditCol,JEcol,A26),2),\"\")","v":""}]
[null,null,null,null,null,null,null,null,null,{"$f":"IF(A27<>\"\",ROUND(SUMIFS(DebitCol,JEcol,A27),2)-ROUND(SUMIFS(CreditCol,JEcol,A27),2),\"\")","v":""}]
[null,null,null,null,null,null,null,null,null,{"$f":"IF(A28<>\"\",ROUND(SUMIFS(DebitCol,JEcol,A28),2)-ROUND(SUMIFS(CreditCol,JEcol,A28),2),\"\")","v":""}]
[null,null,null,null,null,null,null,null,null,{"$f":"IF(A29<>\"\",ROUND(SUMIFS(DebitCol,JEcol,A29),2)-ROUND(SUMIFS(CreditCol,JEcol,A29),2),\"\")","v":""}]
[null,null,null,null,null,null,null,null,null,{"$f":"IF(A30<>\"\",ROUND(SUMIFS(DebitCol,JEcol,A30),2)-ROUND(SUMIFS(CreditCol,JEcol,A30),2),\"\")","v":""}]
[null,null,null,null,null,null,null,null,null,{"$f":"IF(A31<>\"\",ROUND(SUMIFS(DebitCol,JEcol,A31),2)-ROUND(SUMIFS(CreditCol,JEcol,A31),2),\"\")","v":""}]
[null,null,null,null,null,null,null,null,null,{"$f":"IF(A32<>\"\",ROUND(SUMIFS(DebitCol,JEcol,A32),2)-ROUND(SUMIFS(CreditCol,JEcol,A32),2),\"\")","v":""}]
[null,null,null,null,null,null,null,null,null,{"$f":"IF(A33<>\"\",ROUND(SUMIFS(DebitCol,JEcol,A33),2)-ROUND(SUMIFS(CreditCol,JEcol,A33),2),\"\")","v":""}]
[null,null,null,null,null,null,null,null,null,{"$f":"IF(A34<>\"\",ROUND(SUMIFS(DebitCol,JEcol,A34),2)-ROUND(SUMIFS(CreditCol,JEcol,A34),2),\"\")","v":""}]
[null,null,null,null,null,null,null,null,null,{"$f":"IF(A35<>\"\",ROUND(SUMIFS(DebitCol,JEcol,A35),2)-ROUND(SUMIFS(CreditCol,JEcol,A35),2),\"\")","v":""}]
[null,null,null,null,null,null,null,null,null,{"$f":"IF(A36<>\"\",ROUND(SUMIFS(DebitCol,JEcol,A36),2)-ROUND(SUMIFS(CreditCol,JEcol,A36),2),\"\")","v":""}]
[null,null,null,null,null,null,null,null,null,{"$f":"IF(A37<>\"\",ROUND(SUMIFS(DebitCol,JEcol,A37),2)-ROUND(SUMIFS(CreditCol,JEcol,A37),2),\"\")","v":""}]
[null,null,null,null,null,null,null,null,null,{"$f":"IF(A38<>\"\",ROUND(SUMIFS(DebitCol,JEcol,A38),2)-ROUND(SUMIFS(CreditCol,JEcol,A38),2),\"\")","v":""}]
[null,null,null,null,null,null,null,null,null,{"$f":"IF(A39<>\"\",ROUND(SUMIFS(DebitCol,JEcol,A39),2)-ROUND(SUMIFS(CreditCol,JEcol,A39),2),\"\")","v":""}]
[null,null,null,null,null,null,null,null,null,{"$f":"IF(A40<>\"\",ROUND(SUMIFS(DebitCol,JEcol,A40),2)-ROUND(SUMIFS(CreditCol,JEcol,A40),2),\"\")","v":""}]
[null,null,null,null,null,null,null,null,null,{"$f":"IF(A41<>\"\",ROUND(SUMIFS(DebitCol,JEcol,A41),2)-ROUND(SUMIFS(CreditCol,JEcol,A41),2),\"\")","v":""}]
[null,null,null,null,null,null,null,null,null,{"$f":"IF(A42<>\"\",ROUND(SUMIFS(DebitCol,JEcol,A42),2)-ROUND(SUMIFS(CreditCol,JEcol,A42),2),\"\")","v":""}]
[null,null,null,null,null,null,null,null,null,{"$f":"IF(A43<>\"\",ROUND(SUMIFS(DebitCol,JEcol,A43),2)-ROUND(SUMIFS(CreditCol,JEcol,A43),2),\"\")","v":""}]
[null,null,null,null,null,null,null,null,null,{"$f":"IF(A44<>\"\",ROUND(SUMIFS(DebitCol,JEcol,A44),2)-ROUND(SUMIFS(CreditCol,JEcol,A44),2),\"\")","v":""}]
[null,null,null,null,null,null,null,null,null,{"$f":"IF(A45<>\"\",ROUND(SUMIFS(DebitCol,JEcol,A45),2)-ROUND(SUMIFS(CreditCol,JEcol,A45),2),\"\")","v":""}]
[null,null,null,null,null,null,null,null,null,{"$f":"IF(A46<>\"\",ROUND(SUMIFS(DebitCol,JEcol,A46),2)-ROUND(SUMIFS(CreditCol,JEcol,A46),2),\"\")","v":""}]
[null,null,null,null,null,null,null,null,null,{"$f":"IF(A47<>\"\",ROUND(SUMIFS(DebitCol,JEcol,A47),2)-ROUND(SUMIFS(CreditCol,JEcol,A47),2),\"\")","v":""}]
[null,null,null,null,null,null,null,null,null,{"$f":"IF(A48<>\"\",ROUND(SUMIFS(DebitCol,JEcol,A48),2)-ROUND(SUMIFS(CreditCol,JEcol,A48),2),\"\")","v":""}]
[null,null,null,null,null,null,null,null,null,{"$f":"IF(A49<>\"\",ROUND(SUMIFS(DebitCol,JEcol,A49),2)-ROUND(SUMIFS(CreditCol,JEcol,A49),2),\"\")","v":""}]
[null,null,null,null,null,null,null,null,null,{"$f":"IF(A50<>\"\",ROUND(SUMIFS(DebitCol,JEcol,A50),2)-ROUND(SUMIFS(CreditCol,JEcol,A50),2),\"\")","v":""}]
[null,null,null,null,null,null,null,null,null,{"$f":"IF(A51<>\"\",ROUND(SUMIFS(DebitCol,JEcol,A51),2)-ROUND(SUMIFS(CreditCol,JEcol,A51),2),\"\")","v":""}]
[null,null,null,null,null,null,null,null,null,{"$f":"IF(A52<>\"\",ROUND(SUMIFS(DebitCol,JEcol,A52),2)-ROUND(SUMIFS(CreditCol,JEcol,A52),2),\"\")","v":""}]
[null,null,null,null,null,null,null,null,null,{"$f":"IF(A53<>\"\",ROUND(SUMIFS(DebitCol,JEcol,A53),2)-ROUND(SUMIFS(CreditCol,JEcol,A53),2),\"\")","v":""}]
[null,null,null,null,null,null,null,null,null,{"$f":"IF(A54<>\"\",ROUND(SUMIFS(DebitCol,JEcol,A54),2)-ROUND(SUMIFS(CreditCol,JEcol,A54),2),\"\")","v":""}]
[null,null,null,null,null,null,null,null,null,{"$f":"IF(A55<>\"\",ROUND(SUMIFS(DebitCol,JEcol,A55),2)-ROUND(SUMIFS(CreditCol,JEcol,A55),2),\"\")","v":""}]
[null,null,null,null,null,null,null,null,null,{"$f":"IF(A56<>\"\",ROUND(SUMIFS(DebitCol,JEcol,A56),2)-ROUND(SUMIFS(CreditCol,JEcol,A56),2),\"\")","v":""}]
[null,null,null,null,null,null,null,null,null,{"$f":"IF(A57<>\"\",ROUND(SUMIFS(DebitCol,JEcol,A57),2)-ROUND(SUMIFS(CreditCol,JEcol,A57),2),\"\")","v":""}]

{"sheet":"Error Log","index":1,"n_rows":2,"n_cols":4,"rows_kept":2,"cut":false,"hidden":false,"merged":[[0,0,0,3]]}
["DO NOT delete this sheet                                           -  Error Log  -                                                 DO NOT delete this sheet"]
["Journal Header","Journal Line","Excel Row #","Error Message"]

{"sheet":"Support","index":2,"n_rows":0,"n_cols":0,"rows_kept":0,"cut":false,"hidden":false,"merged":[]}

{"sheet":"Worktags","index":3,"n_rows":48990,"n_cols":68,"rows_kept":2250,"cut":true,"hidden":true,"merged":[[1,37,1,40],[1,1,1,4],[1,14,1,19],[1,27,1,30],[1,32,1,35],[1,6,1,12],[1,21,1,25],[1,54,1,57],[1,59,1,62],[1,66,1,67],[1,42,1,47],[1,49,1,52]],"bounds":{"rows_first":1000,"rows_last":250,"rows_between":1000,"halvings":1}}
[]
[null,"Company",null,null,null,null,"Driver",null,null,null,null,null,null,null,"Category",null,null,null,null,null,null,"Class",null,null,null,null,null,"Assignee",null,null,null,null,"Student Experience",null,null,null,null,"Account",null,null,null,null,"Account Validation",null,null,null,null,null,null,"Account",null,null,null,null,"Fund",null,null,null,null,"Plan Name",null,null,null,null,"Amendment Type",null,"Plan Structure"]
[null,null,null,null,null,null,"DRIVER_ID",null,"DRIVER","DRIVER_TYPE","DRIVER_REQUIREMENT","STATUS","UPDATED_AT",null,"CATEGORY_ID","CATEGORY_NAME","CATEGORY","CATEGORY_TYPE","STATUS","CAT_REQUIREMENT",null,"CLASS_ID","CLASS_NAME","CLASS","STATUS","UPDATED_AT",null,"ASSIGNEE_ID","ASSIGNEE_NAME","ASSIGNEE","STATUS",null,"STUDENT_EXPERIENCE_ID","STUDENT_EXPERIENCE_NAME","STU_EXP","STATUS",null,"ACCOUNT_ID","ACCOUNT_NAME","ACCOUNT","TYPE",null,"CATEGORY_ID","VALID_COMBO","ACCOUNT_ID","ACCOUNT_NAME","PRIMARY","AUTHORIZED_JOURNAL_SOURCES"," ","ACCOUNT_ID","ACCOUNT_NAME","ACCOUNT","CATEGORY",null,"Fund","Description","Hierarchy","Name",null,null,null,null,null,null,null,null,"STRUCTURE","STRUCTURE_ID"]
[null,"ALU","Brigham Young University Alumni, LLC","ALU-Brigham Young University Alumni, LLC","Active",null,"AC00001","[ADM] Jerusalem Center Support","AC00001-[ADM] Jerusalem Center Support","Activity","FD01","Active","2025-03-17T16:11:50.579797+00:00",null,"BK1001","Wells Fargo Concentration 2494","BK1001-Wells Fargo Concentration 2494","Bank Account","Active",null,null,"00001","Invalid","00001-Invalid",null,null,null,"AS000045543","Sharon Offley (000045543) Culinary Support Center","AS000045543-Sharon Offley (000045543) Culinary Support Center","Active",null,"SE000","Not applicable","SE000-Not applicable","Active",null,"0100","Budget Carryover/Unallocated","0100-Budget Carryover/Unallocated","Expense",null,"","1001||1001","1001","Cash ILS","Primary","All",null,100,"Budget Carryover/Unallocated","0100-Budget Carryover/Unallocated","Expense",null,"FD01","Appropriated","Unrestricted","FD01-Appropriated",null,"ALU Capital FY25","ALU Capital FY25","Consolidated_Budget_Structure_Capital","ALU",null,"Allocations Amendment",null,"Consolidated Budget Capital","Consolidated_Budget_Structure_Capital"]
[null,"BYU","Brigham Young University","BYU-Brigham Young University","Active",null,"AC00002","[ADM] Presidential Inauguration","AC00002-[ADM] Presidential Inauguration","Activity","FD01","Active","2025-03-17T16:11:50.579797+00:00",null,"BK1002","Wells Fargo Depository 0001","BK1002-Wells Fargo Depository 0001","Bank Account","Active",null,null,"00002","Test Gen Accounting","00002-Test Gen Accounting",null,null,null,"AS000419700","LaVay Talk (000419700) Multicultural","AS000419700-LaVay Talk (000419700) Multicultural","Active",null,"SE001","Experiential Learning","SE001-Experiential Learning","Active",null,"1000","Cash USD","1000-Cash USD","Asset",null,"","1002||1002","1002","Cash GBP","Primary","All",null,1000,"Cash USD","1000-Cash USD","Asset",null,"FD02","Self Supporting","Unrestricted","FD02-Self Supporting",null,"ALU Operating FY25","ALU Operating FY25","Consolidated_Budget_Structure_Operating","ALU",null,"Carryovers Amendment (Budget Office use only)",null,"Consolidated Budget Operating","Consolidated_Budget_Structure_Operating"]
[null,"CAN","EFY-Canada Foundation","CAN-EFY-Canada Foundation","Active",null,"AC00003","[ADM] President's Home","AC00003-[ADM] President's Home","Activity","FD01","Active","2025-03-17T16:11:50.579797+00:00",null,"BK1003","Wells Fargo Disbursement 0217","BK1003-Wells Fargo Disbursement 0217","Bank Account","Active",null,null,"00051","Winter","00051-Winter",null,null,null,"AS000419701","Gian Pierotti","AS000419701-Gian Pierotti","Active",null,"SE002","Research - Basic","SE002-Research - Basic","Active",null,"1001","Cash ILS","1001-Cash ILS","Asset",null,"","1004||1004","1004","CASH CAD","Primary","All",null,1001,"Cash ILS","1001-Cash ILS","Asset",null,"FD03","Designated","Unrestricted","FD03-Designated",null,"BYU Capital FY25","BYU Capital FY25","Consolidated_Budget_Structure_Capital","BYU",null,"Current Year Amendment"]
[null,"CEE","CE Events, LLC","CEE-CE Events, LLC","Active",null,"AC00004","[ADM] President's Remembrances","AC00004-[ADM] President's Remembrances","Activity","FD01","Active","2025-03-17T16:11:50.579797+00:00",null,"BK1004","Wells Fargo Payroll 0118","BK1004-Wells Fargo Payroll 0118","Bank Account","Active",null,null,"00053","Spring","00053-Spring",null,null,null,"AS000419702","James Robertson","AS000419702-James Robertson","Active",null,"SE003","Research - Applied","SE003-Research - Applied","Active",null,"1002","Cash GBP","1002-Cash GBP","Asset",null,"","1040||1040","1040","Petty Cash","Primary","All",null,1002,"Cash GBP","1002-Cash GBP","Asset",null,"FD04","Faculty Consolidation","Unrestricted","FD04-Faculty Consolidation",null,"BYU Operating FY25","BYU Operating FY25","Consolidated_Budget_Structure_Operating","BYU",null,"Faculty Consolidation Amendment"]
[null,"FSY","FSY, LLC","FSY-FSY, LLC","Active",null,"AC00005","[ADM] Legal Fees","AC00005-[ADM] Legal Fees","Activity","FD01","Active","2025-03-17T16:11:50.579797+00:00",null,"BK1005","Wells Fargo Agency 3757","BK1005-Wells Fargo Agency 3757","Bank Account","Active",null,null,"00054","Summer","00054-Summer",null,null,null,"AS000419703","Amber McLain","AS000419703-Amber McLain","Active",null,"SE004","Research - Development","SE004-Research - Development","Active",null,"1003","Cash EUR","1003-Cash EUR","Asset",null,"","1050||1050","1050","Change Funds","Primary","All",null,1003,"Cash EUR","1003-Cash EUR","Asset",null,"FD05","Sponsored Awards","Sponsor Fund","FD05-Sponsored Awards",null,"CAN Capital FY25","CAN Capital FY25","Consolidated_Budget_Structure_Capital","CAN",null,"Original Amendment (Budget Office use only)"]
[null,"HED","HEDL, LLC","HED-HEDL, LLC","Active",null,"AC00006","[ADM] Risk-Loss Control Training","AC00006-[ADM] Risk-Loss Control Training","Activity","FD03","Active","2025-03-17T16:11:50.579797+00:00",null,"BK1006","Wells Fargo Fed Funds 2462","BK1006-Wells Fargo Fed Funds 2462","Bank Account","Active",null,null,"00055","Fall","00055-Fall",null,null,null,"AS000449989","Jenn Price (000449989) Indefinite Leaves","AS000449989-Jenn Price (000449989) Indefinite Leaves","Active",null,"SE005","Both Research Basic & Experiential Learning","SE005-Both Research Basic & Experiential Learning","Active",null,"1004","Cash CAD","1004-Cash CAD","Asset",null,"","1090||1090","1090","Clearing-Cash","Primary","All",null,1004,"Cash CAD","1004-Cash CAD","Asset",null,"FD06","Plant Fund","Unrestricted","FD06-Plant Fund",null,"CAN Operating FY25","CAN Operating FY25","Consolidated_Budget_Structure_Operating","CAN",null,"Permanent Amendment"]
[null,"IHS","HSDL, LLC","IHS-HSDL, LLC","Active",null,"AC00007","[ADM] Insurance and Claims Reserve","AC00007-[ADM] Insurance and Claims Reserve","Activity","FD03","Active","2025-03-17T16:11:50.579797+00:00",null,"BK1020","JPMorgan Per Diem 5898","BK1020-JPMorgan Per Diem 5898","Bank Account","Active",null,null,"00060","Invoiced","00060-Invoiced",null,null,null,"AS000712079","Gary Rex (000712079) Advancement VP","AS000712079-Gary Rex (000712079) Advancement VP","Active",null,"SE006","Both Research Applied & Experiential Learning","SE006-Both Research Applied & Experiential Learning","Active",null,"1040","Petty Cash","1040-Petty Cash","Asset",null,"","1120||1120","1120","Investment Pool","Primary","JE_Gift|JE_Override",null,1040,"Petty Cash","1040-Petty Cash","Asset",null,"FD07","Agency","Unrestricted","FD07-Agency",null,"CEE Capital FY25","CEE Capital FY25","Consolidated_Budget_Structure_Capital","CEE",null,"Project Amendment"]
[null,"INT","BYU International, LLC","INT-BYU International, LLC","Active",null,"AC00008","[ADM] Alumni Questionnaire","AC00008-[ADM] Alumni Questionnaire","Activity","FD03","Active","2025-03-17T16:11:50.579797+00:00",null,"BK1021","JPMorgan SUA Account","BK1021-JPMorgan SUA Account","Bank Account","Active",null,null,"00061","Cash Received","00061-Cash Received",null,null,null,"AS000858151","Michael Miles (000858151) College of Engineering - Manufacturing Engineering","AS000858151-Michael Miles (000858151) College of Engineering - Manufacturing Engineering","Active",null,"SE007","Both Research Development & Experiential Learning","SE007-Both Research Development & Experiential Learning","Active",null,"1050","Change Funds","1050-Change Funds","Asset",null,"","1121||1121","1121","Investments - Book Value","Primary","JE_Gift|JE_Override",null,1050,"Change Funds","1050-Change Funds","Asset",null,"FD20","Gift Unrestricted","Unrestricted","FD20-Gift Unrestricted",null,"CEE Operating FY25","CEE Operating FY25","Consolidated_Budget_Structure_Operating","CEE",null,"Project Transfers Amendment"]
[null,"JER","The Jerusalem Center for Near Eastern Studies","JER-The Jerusalem Center for Near Eastern Studies","Active",null,"AC00009","[ADM] University Accreditation","AC00009-[ADM] University Accreditation","Activity","FD01","Active","2025-03-17T16:11:50.579797+00:00",null,"BK1030","CUBS BYU 3920","BK1030-CUBS BYU 3920","Bank Account","Active",null,null,"00062","Unbilled","00062-Unbilled",null,null,null,"AS000925729","Todd Blickenstaff (000925729) Athletics - Corporate Sponsorships","AS000925729-Todd Blickenstaff (000925729) Athletics - Corporate Sponsorships","Active",null,null,null,null,null,null,"1055","Gift Cards","1055-Gift Cards","Asset",null,"","1122||1122","1122","Investments - Fair Market Value","Primary","JE_Gift|JE_Override",null,1055,"Gift Cards","1055-Gift Cards","Asset",null,"FD21","Gift Temporarily Restricted","Temporarily Restricted","FD21-Gift Temporarily Restricted",null,"FSY Capital FY25","FSY Capital FY25","Consolidated_Budget_Structure_Capital","FSY",null,"Sponsored Award Amendment"]
[null,"LDN","Brigham Young University, Ltd.","LDN-Brigham Young University, Ltd.","Active",null,"AC00010","[ADM] Academic Support Unit Reviews","AC00010-[ADM] Academic Support Unit Reviews","Activity","FD01","Active","2025-03-17T16:11:50.579797+00:00",null,"BK1032","Ensign Peak BYU","BK1032-Ensign Peak BYU","Bank Account","Active",null,null,"00098","Fixed Price Closeout F&A","00098-Fixed Price Closeout F&A",null,null,null,"AS001479845","Ian Bacon (001479845) College of Engineering - Mechanical Engineering","AS001479845-Ian Bacon (001479845) College of Engineering - Mechanical Engineering","Active",null,null,null,null,null,null,"1090","Clearing-Cash","1090-Clearing-Cash","Asset",null,"","1150||1150","1150","Other Equity Securities","Primary","JE_Gift|JE_Override",null,1090,"Clearing-Cash","1090-Clearing-Cash","Asset",null,"FD22","Endowment Payout","Temporarily Restricted","FD22-Endowment Payout",null,"FSY Operating FY25","FSY Operating FY25","Consolidated_Budget_Structure_Operating","FSY"]
[null,null,null,null,null,null,"AC00011","[ADM] Unit Reviews- Academic","AC00011-[ADM] Unit Reviews- Academic","Activity","FD01","Active","2025-03-17T16:11:50.579797+00:00",null,"BK1040","Jerusalem Payroll ILS 0039","BK1040-Jerusalem Payroll ILS 0039","Bank Account","Active",null,null,"00099","Project Overrun","00099-Project Overrun",null,null,null,"AS001501244","Katelyn Williams (001501244) Athletics - Marketing and Fan Experience","AS001501244-Katelyn Williams (001501244) Athletics - Marketing and Fan Experience","Active",null,null,null,null,null,null,"1120","Investment Pool","1120-Investment Pool","Asset",null,"","1160||1160","1160","Other Fixed Income Securities","Primary","JE_Gift|JE_Override",null,1120,"Investment Pool","1120-Investment Pool","Asset",null,"FD23","Endowment Spending","Unrestricted","FD23-Endowment Spending",null,"HED Capital FY25","HED Capital FY25","Consolidated_Budget_Structure_Capital","HED"]
[null,null,null,null,null,null,"AC00012","[ADM] Honorarium","AC00012-[ADM] Honorarium","Activity","FD03","Active","2025-03-17T16:11:50.579797+00:00",null,"BK1041","Jerusalem Operations USD 7144","BK1041-Jerusalem Operations USD 7144","Bank Account","Active",null,null,"00100","Land","00100-Land",null,null,null,"AS001687233","Chris Johnson (001687233) OIT Core - Tech Operations & Support","AS001687233-Chris Johnson (001687233) OIT Core - Tech Operations & Support","Active",null,null,null,null,null,null,"1121","Investments - Book Value","1121-Investments - Book Value","Asset",null,"","1170||1170","1170","Other Investments","Primary","JE_Gift|JE_Override",null,1121,"Investments - Book Value","1121-Investments - Book Value","Asset",null,"FD24","Endowment Earnings","Temporarily Restricted","FD24-Endowment Earnings",null,"HED Operating FY25","HED Operating FY25","Consolidated_Budget_Structure_Operating","HED"]
[null,null,null,null,null,null,"AC00013","[STLF] Stdnt Success & Inclusion","AC00013-[STLF] Stdnt Success & Inclusion","Activity","FD01","Active","2025-03-17T16:11:50.579797+00:00",null,"BK1042","Jerusalem Operations ILS 3566","BK1042-Jerusalem Operations ILS 3566","Bank Account","Active",null,null,"00101","Water Rights","00101-Water Rights",null,null,null,"AS001823663","Sherie Rogde (001823663) International Center for Law and Religion Studies (ICLRS)","AS001823663-Sherie Rogde (001823663) International Center for Law and Religion Studies (ICLRS)","Active",null,null,null,null,null,null,"1122","Investments - Fair Market Value","1122-Investments - Fair Market Value","Asset",null,"","1200||1200","1200","Department Receivable","Primary","All",null,1122,"Investments - Fair Market Value","1122-Investments - Fair Market Value","Asset",null,"FD25","True Endowment Principal","Permanently Restricted","FD25-True Endowment Principal",null,"IHS Capital FY25","IHS Capital FY25","Consolidated_Budget_Structure_Capital","IHS"]
[null,null,null,null,null,null,"AC00014","[JC] Jerusalem Administration","AC00014-[JC] Jerusalem Administration","Activity","FD01","Active","2025-03-17T16:11:50.579797+00:00",null,"BK1043","Jerusalem Investment Non-Operating USD 7147-S","BK1043-Jerusalem Investment Non-Operating USD 7147-S","Bank Account","Active",null,null,"00110","University Building","00110-University Building",null,null,null,"AS001862197","Shea Owens (001862197) Fine Arts & Communications - School of Music","AS001862197-Shea Owens (001862197) Fine Arts & Communications - School of Music","Active",null,null,null,null,null,null,"1150","Other Equity Securities","1150-Other Equity Securities","Asset",null,"","1210||1210","1210","Off Campus Receivable","Primary","All",null,1150,"Other Equity Securities","1150-Other Equity Securities","Asset",null,"FD26","Quasi Endowment Earnings","Unrestricted","FD26-Quasi Endowment Earnings",null,"IHS Operating FY25","IHS Operating FY25","Consolidated_Budget_Structure_Operating","IHS"]
[null,null,null,null,null,null,"AC00015","[JC] Jerusalem Library","AC00015-[JC] Jerusalem Library","Activity","FD01","Active","2025-03-17T16:11:50.579797+00:00",null,"BK1050","BNP Paris Study Abroad 0376","BK1050-BNP Paris Study Abroad 0376","Bank Account","Active",null,null,"00111","University Residences","00111-University Residences",null,null,null,"AS002029145","Jackelyn Knight (002029145) Athletics - Football Sport Performance","AS002029145-Jackelyn Knight (002029145) Athletics - Football Sport Performance","Active",null,null,null,null,null,null,"1160","Other Fixed Income Securities","1160-Other Fixed Income Securities","Asset",null,"","1220||1220","1220","Student Receivable","Primary","All",null,1160,"Other Fixed Income Securities","1160-Other Fixed Income Securities","Asset",null,"FD27","Permanently Restricted - Other","Permanently Restricted","FD27-Permanently Restricted - Other",null,"INT Capital FY25","INT Capital FY25","Consolidated_Budget_Structure_Capital","INT"]
[null,null,null,null,null,null,"AC00016","[JC] Jerusalem Academic","AC00016-[JC] Jerusalem Academic","Activity","FD01","Active","2025-03-17T16:11:50.579797+00:00",null,"BK1051","Unicredit Bank of Austria Study Abroad 1501","BK1051-Unicredit Bank of Austria Study Abroad 1501","Bank Account","Active",null,null,"00120","Building Improvements","00120-Building Improvements",null,null,null,"AS002033817","Stacey Christensen (002033817) Humanities - Asian & Near Eastern Languages","AS002033817-Stacey Christensen (002033817) Humanities - Asian & Near Eastern Languages","Active",null,null,null,null,null,null,"1170","Other Investments","1170-Other Investments","Asset",null,"","1230||1230","1230","Church Receivable","Primary","All",null,1170,"Other Investments","1170-Other Investments","Asset",null,"FD28","Restricted Gifts Spending","Unrestricted","FD28-Restricted Gifts Spending",null,"INT Operating FY25","INT Operating FY25","Consolidated_Budget_Structure_Operating","INT"]
[null,null,null,null,null,null,"AC00017","[JC] Jerusalem Utilities","AC00017-[JC] Jerusalem Utilities","Activity","FD01","Active","2025-03-17T16:11:50.579797+00:00",null,"BK1052","La Caixa Bank Madrid-Study Abroad 3299","BK1052-La Caixa Bank Madrid-Study Abroad 3299","Bank Account","Active",null,null,"00121","Building Exterior Imprvmnts","00121-Building Exterior Imprvmnts",null,null,null,"AS002313328","Ben Ward (002313328) PF AVP Office","AS002313328-Ben Ward (002313328) PF AVP Office","Active",null,null,null,null,null,null,"1200","Department Receivable","1200-Department Receivable","Asset",null,"","1235||1235","1235","Sponsored Programs Receivable","Primary","JE_Research|JE_Override",null,1200,"Department Receivable","1200-Department Receivable","Asset",null,"FD29","Quasi Endowment Spending","Unrestricted","FD29-Quasi Endowment Spending",null,"JER Capital FY25","JER Capital FY25","Consolidated_Budget_Structure_Capital","JER"]
[null,null,null,null,null,null,"AC00018","[JC] Jerusalem Mechanical","AC00018-[JC] Jerusalem Mechanical","Activity","FD01","Active","2025-03-17T16:11:50.579797+00:00",null,"BK1060","HSBC London Centre Checking 3184","BK1060-HSBC London Centre Checking 3184","Bank Account","Active",null,null,"00122","General Campus Imprvmnts","00122-General Campus Imprvmnts",null,null,null,"AS002544665","Brent Anderson (002544665) Athletics - Women's Soccer","AS002544665-Brent Anderson (002544665) Athletics - Women's Soccer","Active",null,null,null,null,null,null,"1210","Off Campus Receivable","1210-Off Campus Receivable","Asset",null,"","1236||1236","1236","Unbilled Sponsored Programs Receivable","Primary","JE_Research|JE_Override",null,1210,"Off Campus Receivable","1210-Off Campus Receivable","Asset",null,"FD30","Quasi Endowment Principal","Unrestricted","FD30-Quasi Endowment Principal",null,"JER Operating FY25","JER Operating FY25","Consolidated_Budget_Structure_Operating","JER"]
[null,null,null,null,null,null,"AC00019","[JC] Jerusalem Custodial","AC00019-[JC] Jerusalem Custodial","Activity","FD01","Active","2025-03-17T16:11:50.579797+00:00",null,"BK1061","HSBC London Centre Savings 1810","BK1061-HSBC London Centre Savings 1810","Bank Account","Active",null,null,"00123","Building Campus Improvements","00123-Building Campus Improvements",null,null,null,"AS002736935","Stacie Conrad (002736935) Dining Services","AS002736935-Stacie Conrad (002736935) Dining Services","Active",null,null,null,null,null,null,"1220","Student Receivable","1220-Student Receivable","Asset",null,"","1240||1240","1240","Advances Receivable","Primary","All",null,1220,"Student Receivable","1220-Student Receivable","Asset",null,"FD31","Term Endowment Principal","Temporarily Restricted","FD31-Term Endowment Principal",null,"LDN Capital FY25","LDN Capital FY25","Consolidated_Budget_Structure_Capital","LDN"]
[null,null,null,null,null,null,"AC00020","[JC] Jerusalem Grounds","AC00020-[JC] Jerusalem Grounds","Activity","FD01","Active","2025-03-17T16:11:50.579797+00:00",null,"BK1062","HSBC London Centre AD 7943","BK1062-HSBC London Centre AD 7943","Bank Account","Active",null,null,"00124","Technical Electronic Systems","00124-Technical Electronic Systems",null,null,null,"AS003040913","Jake Styer (003040913) BYU Police Operations - Patrol","AS003040913-Jake Styer (003040913) BYU Police Operations - Patrol","Active",null,null,null,null,null,null,"1230","Church Receivable","1230-Church Receivable","Asset",null,"","1241||1241","1241","Employee Receivable","Primary","All",null,1230,"Church Receivable","1230-Church Receivable","Asset",null,null,null,null,null,null,"LDN Operating FY25","LDN Operating FY25","Consolidated_Budget_Structure_Operating","LDN"]
[null,null,null,null,null,null,"AC00021","[JC] Jerusalem Security","AC00021-[JC] Jerusalem Security","Activity","FD01","Active","2025-03-17T16:11:50.579797+00:00",null,"RC1210","Off Campus Receivable","RC1210-Off Campus Receivable","Revenue Category","Active",null,null,"00130","Furnishings","00130-Furnishings",null,null,null,"AS003283501","Kyle Stapley (003283501) Fine Arts & Communications - Theatre & Media Arts","AS003283501-Kyle Stapley (003283501) Fine Arts & Communications - Theatre & Media Arts","Active",null,null,null,null,null,null,"1235","Sponsored Programs Receivable","1235-Sponsored Programs Receivable","Asset",null,"","1260||1260","1260","Notes Receivable","Primary","All",null,1235,"Sponsored Programs Receivable","1235-Sponsored Programs Receivable","Asset"]
[null,null,null,null,null,null,"AC00022","[JC] Jerusalem Mor Co Admin","AC00022-[JC] Jerusalem Mor Co Admin","Activity","FD01","Active","2025-03-17T16:11:50.579797+00:00",null,"RC1230","Church Receivable","RC1230-Church Receivable","Revenue Category","Active",null,null,"00131","Fixtures","00131-Fixtures",null,null,null,"AS003300518","Trevor Thiriot (003300518) OIT Leadership - Enterprise Data Management and Finance","AS003300518-Trevor Thiriot (003300518) OIT Leadership - Enterprise Data Management and Finance","Active",null,null,null,null,null,null,"1236","Unbilled Sponsored Programs Receivable","1236-Unbilled Sponsored Programs Receivable","Asset",null,"","1270||1270","1270","Student Loan Receivable-Short Term","Primary","All",null,1236,"Unbilled Sponsored Programs Receivable","1236-Unbilled Sponsored Programs Receivable","Asset"]
[null,null,null,null,null,null,"AC00023","[JC] Housing","AC00023-[JC] Housing","Activity","FD02","Active","2025-03-17T16:11:50.579797+00:00",null,"RC1290","Clearing-Receivable","RC1290-Clearing-Receivable","Revenue Category","Active",null,null,"00140","Software","00140-Software",null,null,null,"AS003333348","Mark Christensen (003333348) PF Central Heating Plant","AS003333348-Mark Christensen (003333348) PF Central Heating Plant","Active",null,null,null,null,null,null,"1240","Advances Receivable","1240-Advances Receivable","Asset",null,"","1275||1275","1275","Student Loan Receivable-Long Term","Primary","All",null,1240,"Advances Receivable","1240-Advances Receivable","Asset"]
[null,null,null,null,null,null,"AC00024","[JC] Food Services","AC00024-[JC] Food Services","Activity","FD02","Active","2025-03-17T16:11:50.579797+00:00",null,"RC1298","Special Recovery","RC1298-Special Recovery","Revenue Category","Active",null,null,"00160","Lee Library Books","00160-Lee Library Books",null,null,null,"AS003482207","Connor Stokes (003482207) CE EFY","AS003482207-Connor Stokes (003482207) CE EFY","Active",null,null,null,null,null,null,"1241","Employee Receivable","1241-Employee Receivable","Asset",null,"","1280||1280","1280","Pledges Receivable","Primary","All",null,1241,"Employee Receivable","1241-Employee Receivable","Asset"]
[null,null,null,null,null,null,"AC00025","[JC] Motorpool","AC00025-[JC] Motorpool","Activity","FD02","Active","2025-03-17T16:11:50.579797+00:00",null,"RC2300","Deposits Receivable","RC2300-Deposits Receivable","Revenue Category","Active",null,null,"00161","Law Library Books","00161-Law Library Books",null,null,null,"AS003697782","Rob Eaton (003697782) Religious Education - Church History & Doctrine","AS003697782-Rob Eaton (003697782) Religious Education - Church History & Doctrine","Active",null,null,null,null,null,null,"1260","Notes Receivable","1260-Notes Receivable","Asset",null,"","1285||1285","1285","Deferred Gifts","Primary","All",null,1260,"Notes Receivable","1260-Notes Receivable","Asset"]
[null,null,null,null,null,null,"AC00026","[JC] Book & Supply","AC00026-[JC] Book & Supply","Activity","FD02","Active","2025-03-17T16:11:50.579797+00:00",null,"RC4001","Church Appropriation","RC4001-Church Appropriation","Revenue Category","Active",null,null,"00201","Computer Lab Equipment","00201-Computer Lab Equipment",null,null,null,"AS003861576","Paul Adams (003861576) Fine Arts & Communications - Design","AS003861576-Paul Adams (003861576) Fine Arts & Communications - Design","Active",null,null,null,null,null,null,"1270","Student Loan Receivable-Short Term","1270-Student Loan Receivable-Short Term","Asset",null,"","1289||1289","1289","Pledges/Def Gifts Rec Reserve","Primary","All",null,1270,"Student Loan Receivable-Short Term","1270-Student Loan Receivable-Short Term","Asset"]
[null,null,null,null,null,null,"AC00027","[JC] Laundry","AC00027-[JC] Laundry","Activity","FD02","Active","2025-03-17T16:11:50.579797+00:00",null,"RC4002","University Allocation","RC4002-University Allocation","Revenue Category","Active",null,null,"00202","Research Equipment","00202-Research Equipment",null,null,null,"AS003962074","Brian Tanner (003962074) BYU Broadcasting - BYU Radio","AS003962074-Brian Tanner (003962074) BYU Broadcasting - BYU Radio","Active",null,null,null,null,null,null,"1275","Student Loan Receivable-Long Term","1275-Student Loan Receivable-Long Term","Asset",null,"","1290||1290","1290","Clearing-Receivable","Primary","All",null,1275,"Student Loan Receivable-Long Term","1275-Student Loan Receivable-Long Term","Asset"]
[null,null,null,null,null,null,"AC00028","[JC] Field Trip","AC00028-[JC] Field Trip","Activity","FD02","Active","2025-03-17T16:11:50.579797+00:00",null,"RC4101","Tuition","RC4101-Tuition","Revenue Category","Active",null,null,"00218","CIP Transfer to Asset","00218-CIP Transfer to Asset",null,null,null,"AS004054734","Trisha Peay (004054734) PF Building Operations","AS004054734-Trisha Peay (004054734) PF Building Operations","Active",null,null,null,null,null,null,"1280","Pledges Receivable","1280-Pledges Receivable","Asset",null,"","1291||1291","1291","Clearing-Receivable Bank Cards","Primary","All",null,1280,"Pledges Receivable","1280-Pledges Receivable","Asset"]
[null,null,null,null,null,null,"AC00029","[JC] Provo Administration","AC00029-[JC] Provo Administration","Activity","FD01","Active","2025-03-17T16:11:50.579797+00:00",null,"RC4102","Student Fee Distribution","RC4102-Student Fee Distribution","Revenue Category","Active",null,null,"00219","CIP Disposal","00219-CIP Disposal",null,null,null,"AS004239108","Darren Chipman (004239108) Indefinite Leaves","AS004239108-Darren Chipman (004239108) Indefinite Leaves","Active",null,null,null,null,null,null,"1285","Deferred Gifts","1285-Deferred Gifts","Asset",null,"","1299||1299","1299","Account/Note Rec Reserve","Primary","All",null,1285,"Deferred Gifts","1285-Deferred Gifts","Asset"]
[null,null,null,null,null,null,"AC00030","[JC] Provo Library","AC00030-[JC] Provo Library","Activity","FD01","Active","2025-03-17T16:11:50.579797+00:00",null,"RC4103","Non-Credit Income","RC4103-Non-Credit Income","Revenue Category","Active",null,null,"00230","Church-21Y's","00230-Church-21Y's",null,null,null,"AS004391937","John Alius (004391937) PF Building Operations","AS004391937-John Alius (004391937) PF Building Operations","Active",null,null,null,null,null,null,"1289","Pledges/Def Gifts Rec Reserve","1289-Pledges/Def Gifts Rec Reserve","Asset",null,"","1350||1350","1350","Inventory-Work in Process","Primary","All",null,1289,"Pledges/Def Gifts Rec Reserve","1289-Pledges/Def Gifts Rec Reserve","Asset"]
[null,null,null,null,null,null,"AC00031","[JC] Provo Academic","AC00031-[JC] Provo Academic","Activity","FD01","Active","2025-03-17T16:11:50.579797+00:00",null,"RC4104","Student Fees","RC4104-Student Fees","Revenue Category","Active",null,null,"00231","Church-CNA Projects","00231-Church-CNA Projects",null,null,null,"AS004531494","Bart Robbins (004531494) University Accessibility Center","AS004531494-Bart Robbins (004531494) University Accessibility Center","Active",null,null,null,null,null,null,"1290","Clearing-Receivable","1290-Clearing-Receivable","Asset",null,"","1390||1390","1390","Clearing-Inventory","Primary","All",null,1290,"Clearing-Receivable","1290-Clearing-Receivable","Asset"]
[null,null,null,null,null,null,"AC00032","[JC] Provo Office","AC00032-[JC] Provo Office","Activity","FD01","Active","2025-03-17T16:11:50.579797+00:00",null,"RC4110","Grad Service Fee","RC4110-Grad Service Fee","Revenue Category","Active",null,null,"00232","Church-MTC Projects","00232-Church-MTC Projects",null,null,null,"AS004583304","JoNell Stoddard (004583304) Special Events","AS004583304-JoNell Stoddard (004583304) Special Events","Active",null,null,null,null,null,null,"1291","Clearing-Receivable Bank Cards","1291-Clearing-Receivable Bank Cards","Asset",null,"","1399||1399","1399","Inventory Reserve","Primary","All",null,1291,"Clearing-Receivable Bank Cards","1291-Clearing-Receivable Bank Cards","Asset"]
[null,null,null,null,null,null,"AC00033","[JC] Jerusalem Center-Provo","AC00033-[JC] Jerusalem Center-Provo","Activity","FD02","Active","2025-03-17T16:11:50.579797+00:00",null,"RC4111","Admission Fees","RC4111-Admission Fees","Revenue Category","Active",null,null,"00234","Church-Jerusalem Center Proj's","00234-Church-Jerusalem Center Proj's",null,null,null,"AS004792646","Lamar Howarth (004792646) PF AVP Office","AS004792646-Lamar Howarth (004792646) PF AVP Office","Active",null,null,null,null,null,null,"1299","Account/Note Rec Reserve","1299-Account/Note Rec Reserve","Asset",null,"","1400||1400","1400","Prepaid Expenses","Primary","All",null,1299,"Account/Note Rec Reserve","1299-Account/Note Rec Reserve","Asset"]
[null,null,null,null,null,null,"AC00034","[AVP] Deans Salaries","AC00034-[AVP] Deans Salaries","Activity","FD01","Active","2025-03-17T16:11:50.579797+00:00",null,"RC4112","Graduation Fees","RC4112-Graduation Fees","Revenue Category","Active",null,null,"00235","Church-Retainages","00235-Church-Retainages",null,null,null,"AS004801072","Scott Kavanaugh (004801072) Special Events","AS004801072-Scott Kavanaugh (004801072) Special Events","Active",null,null,null,null,null,null,"1300","Inventory - Workday","1300-Inventory - Workday","Asset",null,"","1410||1410","1410","Deposits","Primary","All",null,1300,"Inventory - Workday","1300-Inventory - Workday","Asset"]
[null,null,null,null,null,null,"AC00035","[AVP] University Programs","AC00035-[AVP] University Programs","Activity","FD01","Active","2025-03-17T16:11:50.579797+00:00",null,"RC4113","Transcript Fees","RC4113-Transcript Fees","Revenue Category","Active",null,null,"00241","Church ITI Projects","00241-Church ITI Projects",null,null,null,"AS004801171","Daniel Jones (004801171) Athletics - Women's Volleyball","AS004801171-Daniel Jones (004801171) Athletics - Women's Volleyball","Active",null,null,null,null,null,null,"1310","Inventory - Campus Subsystems","1310-Inventory - Campus Subsystems","Asset",null,"","1429||1429","1429","Other Assets Reserve","Primary","All",null,1310,"Inventory - Campus Subsystems","1310-Inventory - Campus Subsystems","Asset"]
[null,null,null,null,null,null,"AC00036","[AVP] Faculty Advisory Council","AC00036-[AVP] Faculty Advisory Council","Activity","FD01","Active","2025-03-17T16:11:50.579797+00:00",null,"RC4114","Special Exam Fees","RC4114-Special Exam Fees","Revenue Category","Active",null,null,"00243","Info Sys Development Projects","00243-Info Sys Development Projects",null,null,null,"AS004845810","KrisTina Carlston (004845810) Student Life VP","AS004845810-KrisTina Carlston (004845810) Student Life VP","Active",null,null,null,null,null,null,"1350","Inventory-Work in Process","1350-Inventory-Work in Process","Asset",null,"","1430||1430","1430","Right of Use Asset","Primary","All",null,1350,"Inventory-Work in Process","1350-Inventory-Work in Process","Asset"]
[null,null,null,null,null,null,"AC00037","[AVP] Summer Inservice Trn","AC00037-[AVP] Summer Inservice Trn","Activity","FD01","Active","2025-03-17T16:11:50.579797+00:00",null,"RC4115","ACT Test Fees","RC4115-ACT Test Fees","Revenue Category","Active",null,null,"00244","IT SOFTWARE PROJECTS","00244-IT SOFTWARE PROJECTS",null,null,null,"AS004874370","Sharon Offley (000045543) Culinary Support Center","AS004874370-Sharon Offley (000045543) Culinary Support Center","Active",null,null,null,null,null,null,"1390","Clearing-Inventory","1390-Clearing-Inventory","Asset",null,"","1435||1435","1435","Deferred Tax Asset","Primary","All",null,1390,"Clearing-Inventory","1390-Clearing-Inventory","Asset"]
[null,null,null,null,null,null,"AC00038","[AVP] Expansion","AC00038-[AVP] Expansion","Activity","FD01","Active","2025-03-17T16:11:50.579797+00:00",null,"RC4116","Library Fines","RC4116-Library Fines","Revenue Category","Active",null,null,"00246","BYUB Content Development","00246-BYUB Content Development",null,null,null,"AS004923619","Stephen Yanchar (004923619) MSE - Instructional Psychology & Technology","AS004923619-Stephen Yanchar (004923619) MSE - Instructional Psychology & Technology","Active",null,null,null,null,null,null,"1399","Inventory Reserve","1399-Inventory Reserve","Asset",null,"","1440||1440","1440","Valuation Allowance - DTA","Primary","All",null,1399,"Inventory Reserve","1399-Inventory Reserve","Asset"]
[null,null,null,null,null,null,"AC00039","[AVP] Sp-Su Experience","AC00039-[AVP] Sp-Su Experience","Activity","FD01","Active","2025-03-17T16:11:50.579797+00:00",null,"RC4117","Locker Rentals","RC4117-Locker Rentals","Revenue Category","Active",null,null,"00250","Capital Gifts in Kind","00250-Capital Gifts in Kind",null,null,null,"AS004930048","Heidi Chewning (004930048) AVP - Associate AVP, Research and Graduate Studies","AS004930048-Heidi Chewning (004930048) AVP - Associate AVP, Research and Graduate Studies","Active",null,null,null,null,null,null,"1400","Prepaid Expenses","1400-Prepaid Expenses","Asset",null,"","1450||1450","1450","Retire Postretire Benefit Asset","Primary","All",null,1400,"Prepaid Expenses","1400-Prepaid Expenses","Asset"]
[null,null,null,null,null,null,"AC00040","[AVP] AVP Bottleneck","AC00040-[AVP] AVP Bottleneck","Activity","FD01","Active","2025-03-17T16:11:50.579797+00:00",null,"RC4199","Tuition and Fees (reclass)","RC4199-Tuition and Fees (reclass)","Revenue Category","Active",null,null,"00251","Non-Capital Gifts in Kind","00251-Non-Capital Gifts in Kind",null,null,null,"AS005075133","Aaron Rose (005075133) Kennedy International Center","AS005075133-Aaron Rose (005075133) Kennedy International Center","Active",null,null,null,null,null,null,"1410","Deposits","1410-Deposits","Asset",null,"","1490||1490","1490","Clearing-Prepaid and Other","Primary","All",null,1410,"Deposits","1410-Deposits","Asset"]
[null,null,null,null,null,null,"AC00041","[AVP] Teaching and Learning","AC00041-[AVP] Teaching and Learning","Activity","FD01","Active","2025-03-17T16:11:50.579797+00:00",null,"RC4201","Gift Revenue-Cash","RC4201-Gift Revenue-Cash","Revenue Category","Active",null,null,"00252","Gifts-Art/Artifacts","00252-Gifts-Art/Artifacts",null,null,null,"AS005098540","Jared Morris (005098540) MSE - Counseling Psychology & Special Ed","AS005098540-Jared Morris (005098540) MSE - Counseling Psychology & Special Ed","Active",null,null,null,null,null,null,"1420","Other Assets","1420-Other Assets","Asset",null,"","1500||1500","1500","Securities Held/Liquidation","Primary","JE_Gift|JE_Override",null,1420,"Other Assets","1420-Other Assets","Asset"]
[null,null,null,null,null,null,"AC00042","[AVP] Rank & Status Replenishment","AC00042-[AVP] Rank & Status Replenishment","Activity","FD01","Active","2025-03-17T16:11:50.579797+00:00",null,"RC4202","Gift Revenue-Securities","RC4202-Gift Revenue-Securities","Revenue Category","Active",null,null,"00259","Other Gifts in Kind","00259-Other Gifts in Kind",null,null,null,"AS005149055","Allison Lee (005149055) FHSS - Anthropology","AS005149055-Allison Lee (005149055) FHSS - Anthropology","Active",null,null,null,null,null,null,"1429","Other Assets Reserve","1429-Other Assets Reserve","Asset",null,"","1510||1510","1510","Real Estate Held/Liquidation","Primary","JE_Gift|JE_Override",null,1429,"Other Assets Reserve","1429-Other Assets Reserve","Asset"]
[null,null,null,null,null,null,"AC00043","[AVP] AVP Personnel","AC00043-[AVP] AVP Personnel","Activity","FD01","Active","2025-07-09T15:05:28.551075+00:00",null,"RC4203","Gift Revenue - Tangible Property","RC4203-Gift Revenue - Tangible Property","Revenue Category","Active",null,null,"00293","Super Computer Eng/Tech","00293-Super Computer Eng/Tech",null,null,null,"AS005212352","Erin Wilson (005212352) Fine Arts & Communications - School of Music","AS005212352-Erin Wilson (005212352) Fine Arts & Communications - School of Music","Active",null,null,null,null,null,null,"1430","Right of Use Asset","1430-Right of Use Asset","Asset",null,"","1520||1520","1520","Other Assets Held/Liquidation","Primary","JE_Gift|JE_Override",null,1430,"Right of Use Asset","1430-Right of Use Asset","Asset"]
[null,null,null,null,null,null,"AC00044","[AVP] Matching Funds","AC00044-[AVP] Matching Funds","Activity","FD01","Active","2025-03-17T16:11:50.579797+00:00",null,"RC4204","Sponsored Program Revenue","RC4204-Sponsored Program Revenue","Revenue Category","Active",null,null,"00297","Washington Center","00297-Washington Center",null,null,null,"AS005680969","Rachael Cardon (005680969) CE Customer Support","AS005680969-Rachael Cardon (005680969) CE Customer Support","Active",null,null,null,null,null,null,"1435","Deferred Tax Asset","1435-Deferred Tax Asset","Asset",null,"","1590||1590","1590","Clearing-Assets Held/Liquidation","Primary","JE_Gift|JE_Override",null,1435,"Deferred Tax Asset","1435-Deferred Tax Asset","Asset"]
[null,null,null,null,null,null,"AC00045","[AER] AVP - Graduation","AC00045-[AER] AVP - Graduation","Activity","FD01","Active","2025-07-16T02:03:20.730988+00:00",null,"RC4299","Gift Revenue (reclass)","RC4299-Gift Revenue (reclass)","Revenue Category","Active",null,null,"00300","New Facilities Construction","00300-New Facilities Construction",null,null,null,"AS005769310","Greg Danklef (005769310) AVP Human Resources Office","AS005769310-Greg Danklef (005769310) AVP Human Resources Office","Active",null,null,null,null,null,null,"1440","Valuation Allowance - DTA","1440-Valuation Allowance - DTA","Asset",null,"","1599||1599","1599","Assets Held/Liquidation Reserve","Primary","JE_Gift|JE_Override",null,1440,"Valuation Allowance - DTA","1440-Valuation Allowance - DTA","Asset"]
[null,null,null,null,null,null,"AC00046","[AVP] College of Health & Human Perf","AC00046-[AVP] College of Health & Human Perf","Activity","FD01","Active","2025-03-17T16:11:50.579797+00:00",null,"RC4301","Investment Dividend Income","RC4301-Investment Dividend Income","Revenue Category","Active",null,null,"00310","Shop Time/Materials","00310-Shop Time/Materials",null,null,null,"AS005924088","Sarah Whitaker (005924088) CE IS Course Dev - Victor's Students","AS005924088-Sarah Whitaker (005924088) CE IS Course Dev - Victor's Students","Active",null,null,null,null,null,null,"1450","Retire Postretire Benefit Asset","1450-Retire Postretire Benefit Asset","Asset",null,"","1650||1650","1650","Construction in Progress","Primary","JE_PPE|JE_Override",null,1450,"Retire Postretire Benefit Asset","1450-Retire Postretire Benefit Asset","Asset"]
[null,null,null,null,null,null,"AC00047","[AVP] Smith Institute","AC00047-[AVP] Smith Institute","Activity","FD01","Active","2025-03-17T16:11:50.579797+00:00",null,"RC4302","Investment Interest Income","RC4302-Investment Interest Income","Revenue Category","Active",null,null,"00320","Architectural Fees","00320-Architectural Fees",null,null,null,"AS005946921","Kenny Baldwin (005946921) Copyright Licensing Office","AS005946921-Kenny Baldwin (005946921) Copyright Licensing Office","Active",null,null,null,null,null,null,"1490","Clearing-Prepaid and Other","1490-Clearing-Prepaid and Other","Asset",null,"","1651||1651","1651","Construction in Progress (Non-Workday Projects)","Primary","All",null,1490,"Clearing-Prepaid and Other","1490-Clearing-Prepaid and Other","Asset"]
[null,null,null,null,null,null,"AC00048","[AVP] Faculty Women's Association","AC00048-[AVP] Faculty Women's Association","Activity","FD02","Active","2025-12-23T03:03:46.402357+00:00",null,"RC4311","Investment Gains/Losses","RC4311-Investment Gains/Losses","Revenue Category","Active",null,null,"00330","Capital Equipment","00330-Capital Equipment",null,null,null,"AS006045488","Bryce Isaacson (006045488) Fine Arts & Communications - School of Communications","AS006045488-Bryce Isaacson (006045488) Fine Arts & Communications - School of Communications","Active",null,null,null,null,null,null,"1500","Securities Held/Liquidation","1500-Securities Held/Liquidation","Asset",null,"","2000||2000","2000","Accounts Payable","Primary","JE_Override",null,1500,"Securities Held/Liquidation","1500-Securities Held/Liquidation","Asset"]
[null,null,null,null,null,null,"AC00049","[AVP] CID-ERG","AC00049-[AVP] CID-ERG","Activity","FD02","Active","2025-03-17T16:11:50.579797+00:00",null,"RC4312","Investment Income Assets Held for Liquidation","RC4312-Investment Income Assets Held for Liquidation","Revenue Category","Active",null,null,"00350","Repairs and Maintenance","00350-Repairs and Maintenance",null,null,null,"AS006079197","Suzy Nichols (006079197) Fine Arts & Communications - School of Music","AS006079197-Suzy Nichols (006079197) Fine Arts & Communications - School of Music","Active",null,null,null,null,null,null,"1510","Real Estate Held/Liquidation","1510-Real Estate Held/Liquidation","Asset",null,"","2025||2025","2025","Payroll Net Pay Clearing","Primary","JE_Payroll|JE_Override",null,1510,"Real Estate Held/Liquidation","1510-Real Estate Held/Liquidation","Asset"]
[null,null,null,null,null,null,"AC00050","[AVP] College Initatives/Univ Object","AC00050-[AVP] College Initatives/Univ Object","Activity","FD03","Active","2025-03-17T16:11:50.579797+00:00",null,"RC4313","Unrealized Investment Gains/Losses","RC4313-Unrealized Investment Gains/Losses","Revenue Category","Active",null,null,"00360","Media Services","00360-Media Services",null,null,null,"AS006093507","Heather Sturman (006093507) Humanities - Linguistics","AS006093507-Heather Sturman (006093507) Humanities - Linguistics","Active",null,null,null,null,null,null,"1520","Other Assets Held/Liquidation","1520-Other Assets Held/Liquidation","Asset",null,"","2090||2090","2090","Clearing-Accounts Payable","Primary","All",null,1520,"Other Assets Held/Liquidation","1520-Other Assets Held/Liquidation","Asset"]
[null,null,null,null,null,null,"AC00051","[AVP] AVP Internships/SALT","AC00051-[AVP] AVP Internships/SALT","Activity","FD03","Active","2025-03-17T16:11:50.579797+00:00",null,"RC4401","Sale of Services","RC4401-Sale of Services","Revenue Category","Active",null,null,"00390","Administrative Costs","00390-Administrative Costs",null,null,null,"AS006206342","Bart Olsen (006206342) MSB - Public Service & Ethics","AS006206342-Bart Olsen (006206342) MSB - Public Service & Ethics","Active",null,null,null,null,null,null,"1590","Clearing-Assets Held/Liquidation","1590-Clearing-Assets Held/Liquidation","Asset",null,"","2200||2200","2200","Accrued Liabilities","Primary","All",null,1590,"Clearing-Assets Held/Liquidation","1590-Clearing-Assets Held/Liquidation","Asset"]
[null,null,null,null,null,null,"AC00052","[AVP] Semester Away","AC00052-[AVP] Semester Away","Activity","FD03","Active","2025-03-17T16:11:50.579797+00:00",null,"RC4402","Sale of Services-Campus Appropriation","RC4402-Sale of Services-Campus Appropriation","Revenue Category","Active",null,null,"00391","Retainage Interest","00391-Retainage Interest",null,null,null,"AS006465846","Beth Verbanatz (006465846) CMS - Mathematics Education","AS006465846-Beth Verbanatz (006465846) CMS - Mathematics Education","Active",null,null,null,null,null,null,"1599","Assets Held/Liquidation Reserve","1599-Assets Held/Liquidation Reserve","Asset",null,"","2210||2210","2210","Accrued Payroll-Biweekly","Primary","All",null,1599,"Assets Held/Liquidation Reserve","1599-Assets Held/Liquidation Reserve","Asset"]
[null,null,null,null,null,null,"AC00053","[AVP] Meg/Orca Grants Fund","AC00053-[AVP] Meg/Orca Grants Fund","Activity","FD03","Active","2025-03-17T16:11:50.579797+00:00",null,"RC4403","Sale of Services-Campus Other","RC4403-Sale of Services-Campus Other","Revenue Category","Active",null,null,"00473","Payout Income to Principal","00473-Payout Income to Principal",null,null,null,"AS006852006","Kerry Muhlestein (006852006) Religious Education - Ancient Scripture","AS006852006-Kerry Muhlestein (006852006) Religious Education - Ancient Scripture","Active",null,null,null,null,null,null,"1600","Land","1600-Land","Asset",null,"","2215||2215","2215","Accrued Payroll-Faculty","Primary","All",null,1600,"Land","1600-Land","Asset"]
[null,null,null,null,null,null,"AC00054","[AVP] University Support Funds (USF)","AC00054-[AVP] University Support Funds (USF)","Activity","FD03","Active","2025-03-17T16:11:50.579797+00:00",null,"RC4404","Sale of Services-Taxable","RC4404-Sale of Services-Taxable","Revenue Category","Active",null,null,"00501","Sales Tax-Misc","00501-Sales Tax-Misc",null,null,null,"AS007183379","Kelly Summers (007183379) FHSS - History","AS007183379-Kelly Summers (007183379) FHSS - History","Active",null,null,null,null,null,null,"1605","Buildings","1605-Buildings","Asset",null,"","2220||2220","2220","Accrued Payroll Benefits","Primary","All",null,1605,"Buildings","1605-Buildings","Asset"]
[null,null,null,null,null,null,"AC00055","[AVP] Mentoring Grants Donations","AC00055-[AVP] Mentoring Grants Donations","Activity","FD03","Active","2025-03-17T16:11:50.579797+00:00",null,"RC4405","Sale of Services-Refunds","RC4405-Sale of Services-Refunds","Revenue Category","Active",null,null,"00541","Accumulated Earnings","00541-Accumulated Earnings",null,null,null,"AS007243247","Deren Hansen (007243247) OIT Portfolio - Campus & Student Life","AS007243247-Deren Hansen (007243247) OIT Portfolio - Campus & Student Life","Active",null,null,null,null,null,null,"1610","Building Improvements","1610-Building Improvements","Asset",null,"","2230||2230","2230","Accrued Vacation","Primary","All",null,1610,"Building Improvements","1610-Building Improvements","Asset"]
[null,null,null,null,null,null,"AC00057","[AVP] General Endowment AVP","AC00057-[AVP] General Endowment AVP","Activity","FD03","Active","2025-03-17T16:11:50.579797+00:00",null,"RC4406","Sponsorship Revenue","RC4406-Sponsorship Revenue","Revenue Category","Active",null,null,"00543","Accum Transfers","00543-Accum Transfers",null,null,null,"AS007399155","Scott Weber (007399155) AVP - Dean, Life Sciences","AS007399155-Scott Weber (007399155) AVP - Dean, Life Sciences","Active",null,null,null,null,null,null,"1615","Other Improvements","1615-Other Improvements","Asset",null,"","2491||2491","2491","Inter-Company Receivable/Payable","Primary","JE_Override",null,1615,"Other Improvements","1615-Other Improvements","Asset"]
[null,null,null,null,null,null,"AC00058","[AVP] College Initatives/Univ Object","AC00058-[AVP] College Initatives/Univ Object","Activity","FD03","Active","2025-03-17T16:11:50.579797+00:00",null,"RC4407","Publishing Revenue","RC4407-Publishing Revenue","Revenue Category","Active",null,null,"00700","Student Fee Distribution","00700-Student Fee Distribution",null,null,null,"AS007456124","Riley Nelson (007456124) Life Sciences - Biology","AS007456124-Riley Nelson (007456124) Life Sciences - Biology","Active",null,null,null,null,null,null,"1620","Furnishings and Fixtures","1620-Furnishings and Fixtures","Asset",null,"","2492||2492","2492","Inter-Worktag Receivable/Payable","Primary","JE_Override",null,1620,"Furnishings and Fixtures","1620-Furnishings and Fixtures","Asset"]
[null,null,null,null,null,null,"AC00059","[AVP] Mentored Learning","AC00059-[AVP] Mentored Learning","Activity","FD03","Active","2025-03-17T16:11:50.579797+00:00",null,"RC4408","Digital Download Revenue","RC4408-Digital Download Revenue","Revenue Category","Active",null,null,"00701","Evening School","00701-Evening School",null,null,null,"AS007521659","David Pendlebury (007521659) Wilkinson Center","AS007521659-David Pendlebury (007521659) Wilkinson Center","Active",null,null,null,null,null,null,"1625","Capital Equipment","1625-Capital Equipment","Asset",null,"","2550||2550","2550","Lease Liability","Primary","All",null,1625,"Capital Equipment","1625-Capital Equipment","Asset"]
[null,null,null,null,null,null,"AC00060","[AVP] Experiential Learning","AC00060-[AVP] Experiential Learning","Activity","FD03","Active","2025-03-17T16:11:50.579797+00:00",null,"RC4409","Digital Streaming Revenue","RC4409-Digital Streaming Revenue","Revenue Category","Active",null,null,"00702","Salt Lake Center","00702-Salt Lake Center",null,null,null,"AS007590304","Angela Baxter (007590304) Academic Advisement Center","AS007590304-Angela Baxter (007590304) Academic Advisement Center","Active",null,null,null,null,null,null,"1630","Vehicles","1630-Vehicles","Asset",null,"","2600||2600","2600","Deferred Revenue","Primary","All",null,1630,"Vehicles","1630-Vehicles","Asset"]
[null,null,null,null,null,null,"AC00061","[AVP] Insp Learn Spec Proj","AC00061-[AVP] Insp Learn Spec Proj","Activity","FD03","Active","2025-03-17T16:11:50.579797+00:00",null,"RC4499","Sale of Services (reclass)","RC4499-Sale of Services (reclass)","Revenue Category","Active",null,null,"00706","International Studies Program","00706-International Studies Program",null,null,null,"AS007630468","Margaret McCabe (007630468) FHSS - Sociology","AS007630468-Margaret McCabe (007630468) FHSS - Sociology","Active",null,null,null,null,null,null,"1632","Library Content","1632-Library Content","Asset",null,"","2700||2700","2700","Retire Postretire Benefit Obligation","Primary","All",null,1632,"Library Content","1632-Library Content","Asset"]
[null,null,null,null,null,null,"AC00062","[AVP] External Review","AC00062-[AVP] External Review","Activity","FD03","Active","2025-03-17T16:11:50.579797+00:00",null,"RC4501","Sale of Goods","RC4501-Sale of Goods","Revenue Category","Active",null,null,"00710","Wooley Allocations","00710-Wooley Allocations",null,null,null,"AS007713057","Chao Pang (007713057) CMS - Chemistry and Biochemistry","AS007713057-Chao Pang (007713057) CMS - Chemistry and Biochemistry","Active",null,null,null,null,null,null,"1635","Misc Capital Assets","1635-Misc Capital Assets","Asset",null,"","2710||2710","2710","Deferred Tax Liability","Primary","All",null,1635,"Misc Capital Assets","1635-Misc Capital Assets","Asset"]
[null,null,null,null,null,null,"AC00063","[AVP] Award Stipends","AC00063-[AVP] Award Stipends","Activity","FD03","Active","2025-03-17T16:11:50.579797+00:00",null,"RC4502","Sale of Goods-Taxable","RC4502-Sale of Goods-Taxable","Revenue Category","Active",null,null,"00713","Jerusalem Center","00713-Jerusalem Center",null,null,null,"AS007713662","Amy Bernards (007713662) CE SLC - Administration","AS007713662-Amy Bernards (007713662) CE SLC - Administration","Active",null,null,null,null,null,null,"1637","Software","1637-Software","Asset",null,"","3400||3400","3400","Net Assets (prior year)","Primary","JE_Override",null,1637,"Software","1637-Software","Asset"]
[null,null,null,null,null,null,"AC00064","[AVP] In-Service Training","AC00064-[AVP] In-Service Training","Activity","FD03","Active","2025-03-17T16:11:50.579797+00:00",null,"RC4503","Sale of Goods-Discount/Returns","RC4503-Sale of Goods-Discount/Returns","Revenue Category","Active",null,null,"00750","Administrative Vacation Accrua","00750-Administrative Vacation Accrua",null,null,null,"AS008098758","Mark Longhurst (008098758) OIT Portfolio - CES Network Center (CNC)","AS008098758-Mark Longhurst (008098758) OIT Portfolio - CES Network Center (CNC)","Active",null,null,null,null,null,null,"1638","Media","1638-Media","Asset",null,"","3500||3500","3500","Net Assets","Primary","JE_Override",null,1638,"Media","1638-Media","Asset"]
[null,null,null,null,null,null,"AC00065","[AVP] Maxwell Institute","AC00065-[AVP] Maxwell Institute","Activity","FD01","Active","2025-03-17T16:11:50.579797+00:00",null,"RC4504","Sales - Online and Out of State","RC4504-Sales - Online and Out of State","Revenue Category","Active",null,null,"00754","Staff Vacation Accrual","00754-Staff Vacation Accrual",null,null,null,"AS008585696","Nate Walton (008585696) OIT Portfolio - Teaching, Learning, & Research / Dev Tools","AS008585696-Nate Walton (008585696) OIT Portfolio - Teaching, Learning, & Research / Dev Tools","Active",null,null,null,null,null,null,"1650","Construction in Progress","1650-Construction in Progress","Asset",null,"","3600||3600","3600","Net Assets-Reserve","Primary","All",null,1650,"Construction in Progress","1650-Construction in Progress","Asset"]
[null,null,null,null,null,null,"AC00066","[AVP] Maxwell Institute","AC00066-[AVP] Maxwell Institute","Activity","FD02","Active","2025-07-12T02:03:19.00179+00:00",null,"RC4505","Ticket Sales","RC4505-Ticket Sales","Revenue Category","Active",null,null,"0075E","Executive Vacation Accrual","0075E-Executive Vacation Accrual",null,null,null,"AS008724205","Joseph Rich (008724205) Chemical Engineering","AS008724205-Joseph Rich (008724205) Chemical Engineering","Active",null,null,null,null,null,null,"1651","Construction In Progress (Non-Workday Projects)","1651-Construction In Progress (Non-Workday Projects)","Asset",null,"","3609||3609","3609","Net Assets (Reserve Offset)","Primary","All",null,1651,"Construction In Progress (Non-Workday Projects)","1651-Construction In Progress (Non-Workday Projects)","Asset"]
[null,null,null,null,null,null,"AC00067","[AVP] Vatican Manuscripts","AC00067-[AVP] Vatican Manuscripts","Activity","FD03","Active","2025-03-17T16:11:50.579797+00:00",null,"RC4506","Ticket Sales-Taxable","RC4506-Ticket Sales-Taxable","Revenue Category","Active",null,null,"00812","Heritage Housing Phase I Note","00812-Heritage Housing Phase I Note",null,null,null,"AS008743277","Abigail Nelson (008743277) HS General Medicine - Nursing","AS008743277-Abigail Nelson (008743277) HS General Medicine - Nursing","Active",null,null,null,null,null,null,"1700","Accumulated Depreciation","1700-Accumulated Depreciation","Asset",null,"","3650||3650","3650","W/O Donor Restrictions - Operations","Primary","JE_Override",null,1700,"Accumulated Depreciation","1700-Accumulated Depreciation","Asset"]
[null,null,null,null,null,null,"AC00069","[AVP] Maxwell Experiential Learning","AC00069-[AVP] Maxwell Experiential Learning","Activity","FD03","Active","2025-03-17T16:11:50.579797+00:00",null,"RC4507","Ticket Sales-Refunds","RC4507-Ticket Sales-Refunds","Revenue Category","Active",null,null,"00813","Heritage Housing Phase II Note","00813-Heritage Housing Phase II Note",null,null,null,"AS008978398","Patricia Ware (008978398) Admissions Office","AS008978398-Patricia Ware (008978398) Admissions Office","Active",null,null,null,null,null,null,"2000","Accounts Payable","2000-Accounts Payable","Liability",null,"","3651||3651","3651","W/O Donor Restrictions - Board-designated Endowments","Primary","JE_Override",null,2000,"Accounts Payable","2000-Accounts Payable","Liability"]
[null,null,null,null,null,null,"AC00070","[AVP] Ancient Studies","AC00070-[AVP] Ancient Studies","Activity","FD01","Active","2025-03-17T16:11:50.579797+00:00",null,"RC4599","Sale of Goods (reclass)","RC4599-Sale of Goods (reclass)","Revenue Category","Active",null,null,"00814","Heritage Housing Phas III Note","00814-Heritage Housing Phas III Note",null,null,null,"AS008989282","Zhiping Zhang (008989282) CMS - Chemistry and Biochemistry","AS008989282-Zhiping Zhang (008989282) CMS - Chemistry and Biochemistry","Active",null,null,null,null,null,null,"2010","Procurement Card Payable","2010-Procurement Card Payable","Liability",null,"","3652||3652","3652","W/O Donor Restrictions - Invested in Land, Buildings, and Equipment","Primary","JE_Override",null,2010,"Procurement Card Payable","2010-Procurement Card Payable","Liability"]
[null,null,null,null,null,null,"AC00071","[AVP] BYU STUDIES","AC00071-[AVP] BYU STUDIES","Activity","FD02","Active","2025-03-17T16:11:50.579797+00:00",null,"RC4701","Non-Investment-Dividend Income","RC4701-Non-Investment-Dividend Income","Revenue Category","Active",null,null,"00815","Heritage Housing Phas IV Note","00815-Heritage Housing Phas IV Note",null,null,null,"AS009052786","James Woods (009052786) Athletics - Football","AS009052786-James Woods (009052786) Athletics - Football","Active",null,null,null,null,null,null,"2020","Other and Retainages Payable","2020-Other and Retainages Payable","Liability",null,"","3660||3660","3660","With Donor Restrictions - Operations","Primary","JE_Override",null,2020,"Other and Retainages Payable","2020-Other and Retainages Payable","Liability"]
[null,null,null,null,null,null,"AC00072","[AVP] College Support Funds (CSF)","AC00072-[AVP] College Support Funds (CSF)","Activity","FD01","Active","2025-03-17T16:11:50.579797+00:00",null,"RC4702","Non-Investment-Interest Income","RC4702-Non-Investment-Interest Income","Revenue Category","Active",null,null,"00816","Heritage Housing Phas V Note","00816-Heritage Housing Phas V Note",null,null,null,"AS009074247","Previn Menon (009074247) Mechanical Engineering","AS009074247-Previn Menon (009074247) Mechanical Engineering","Active",null,null,null,null,null,null,"2025","Payroll Net Pay Clearing","2025-Payroll Net Pay Clearing","Liability",null,"","3661||3661","3661","With Donor Restrictions - Beneficial Interest In Trusts","Primary","JE_Override",null,2025,"Payroll Net Pay Clearing","2025-Payroll Net Pay Clearing","Liability"]
[null,null,null,null,null,null,"AC00073","[AVP] WRI Grants","AC00073-[AVP] WRI Grants","Activity","FD01","Active","2025-03-17T16:11:50.579797+00:00",null,"RC4703","Non-Investment-Gains/Losses","RC4703-Non-Investment-Gains/Losses","Revenue Category","Active",null,null,"00902","Amanda Rees","00902-Amanda Rees",null,null,null,"AS009167987","John Hilton (009167987) Religious Education - Ancient Scripture","AS009167987-John Hilton (009167987) Religious Education - Ancient Scripture","Active",null,null,null,null,null,null,"2030","Other Payroll Deducts Payable","2030-Other Payroll Deducts Payable","Liability",null,"","3662||3662","3662","With Donor Restrictions - Board-designated Endowments","Primary","JE_Override",null,2030,"Other Payroll Deducts Payable","2030-Other Payroll Deducts Payable","Liability"]
[null,null,null,null,null,null,"AC00074","[AVP] AAVP Research Fixed-Prc Rsdls","AC00074-[AVP] AAVP Research Fixed-Prc Rsdls","Activity","FD03","Active","2025-03-17T16:11:50.579797+00:00",null,"RC4704","Rental Income","RC4704-Rental Income","Revenue Category","Active",null,null,"00909","Jenny Wheeler","00909-Jenny Wheeler",null,null,null,"AS009194176","Sydney Rodriguez (009194176) Student Wellness","AS009194176-Sydney Rodriguez (009194176) Student Wellness","Active",null,null,null,null,null,null,"2090","Clearing-Accounts Payable","2090-Clearing-Accounts Payable","Liability",null,"","3663||3663","3663","With Donor Restrictions - Endowments","Primary","JE_Override",null,2090,"Clearing-Accounts Payable","2090-Clearing-Accounts Payable","Liability"]
[null,null,null,null,null,null,"AC00075","[AVP] Waived Indirect Cost","AC00075-[AVP] Waived Indirect Cost","Activity","FD01","Active","2025-03-17T16:11:50.579797+00:00",null,"RC4705","Agency Deposits","RC4705-Agency Deposits","Revenue Category","Active",null,null,"00910","Janalee Davis","00910-Janalee Davis",null,null,null,"AS009241627","Kim Sandoval (HUM)","AS009241627-Kim Sandoval (HUM)","Active",null,null,null,null,null,null,"2100","FICA Payable","2100-FICA Payable","Liability",null,"","3670||3670","3670","Retirement Beneifts Adjustment","Primary","JE_Override",null,2100,"FICA Payable","2100-FICA Payable","Liability"]
[null,null,null,null,null,null,"AC00076","[AVP] Microscopy Lab","AC00076-[AVP] Microscopy Lab","Activity","FD02","Active","2025-03-17T16:11:50.579797+00:00",null,"RC4706","Club Association Dues and Fees","RC4706-Club Association Dues and Fees","Revenue Category","Active",null,null,"00914","Ben Fales","00914-Ben Fales",null,null,null,"AS009495064","Monte Marshall (009495064) AVP - Dean, Computational, Math,& Physical (CMS)","AS009495064-Monte Marshall (009495064) AVP - Dean, Computational, Math,& Physical (CMS)","Active",null,null,null,null,null,null,"2105","Federal Withholding Payable","2105-Federal Withholding Payable","Liability",null,"","3680||3680","3680","Cumulative Translation Adjustment","Primary","JE_Override",null,2105,"Federal Withholding Payable","2105-Federal Withholding Payable","Liability"]
[null,null,null,null,null,null,"AC00077","[AVP] Graduate Studies","AC00077-[AVP] Graduate Studies","Activity","FD01","Active","2025-03-17T16:11:50.579797+00:00",null,"RC4707","Royalty Income","RC4707-Royalty Income","Revenue Category","Active",null,null,"00916","Annalaura Solomon","00916-Annalaura Solomon",null,null,null,"AS009633151","Marden Clark (009633151) Benefits, Human Resources Operations","AS009633151-Marden Clark (009633151) Benefits, Human Resources Operations","Active",null,null,null,null,null,null,"2110","State Payroll Taxes Payable","2110-State Payroll Taxes Payable","Liability",null,"","3690||3690","3690","Net Assets (Proj Conv P&L)","Primary","JE_Override",null,2110,"State Payroll Taxes Payable","2110-State Payroll Taxes Payable","Liability"]
[null,null,null,null,null,null,"AC00078","[AVP] Graduate Studies Dean","AC00078-[AVP] Graduate Studies Dean","Activity","FD01","Active","2025-03-17T16:11:50.579797+00:00",null,"RC4708","Distributed Royalty Income","RC4708-Distributed Royalty Income","Revenue Category","Active",null,null,"00918","Karren Williamson","00918-Karren Williamson",null,null,null,"AS009645727","Brooke Browne (HUM)","AS009645727-Brooke Browne (HUM)","Active",null,null,null,null,null,null,"2130","Sales Tax Payable - Utah","2130-Sales Tax Payable - Utah","Liability",null,"","4780||4780","4780","Inter-Company Contribution Revenue","Primary","All",null,2130,"Sales Tax Payable - Utah","2130-Sales Tax Payable - Utah","Liability"]
[null,null,null,null,null,null,"AC00079","[AVP] Graduate Student Society","AC00079-[AVP] Graduate Student Society","Activity","FD01","Active","2025-03-17T16:11:50.579797+00:00",null,"RC4709","Over/Short","RC4709-Over/Short","Revenue Category","Active",null,null,"00921","Heather Adams (Jeanine Bell)","00921-Heather Adams (Jeanine Bell)",null,null,null,"AS009674234","Richard Williams (009674234) FHSS - Psychology","AS009674234-Richard Williams (009674234) FHSS - Psychology","Active",null,null,null,null,null,null,"2132","Sales Tax Payable - Other States","2132-Sales Tax Payable - Other States","Liability",null,"","9250||9250","9250","Funds Transfer","Primary","All",null,2132,"Sales Tax Payable - Other States","2132-Sales Tax Payable - Other States","Liability"]
[null,null,null,null,null,null,"AC00080","[AVP] Annual Fund Scholarships","AC00080-[AVP] Annual Fund Scholarships","Activity","FD01","Active","2025-03-17T16:11:50.579797+00:00",null,"RC4710","Other Income","RC4710-Other Income","Revenue Category","Active",null,null,"00923","David Nelson","00923-David Nelson",null,null,null,"AS009694795","Caroline Thorne (009694795) MSB - Information Systems","AS009694795-Caroline Thorne (009694795) MSB - Information Systems","Active",null,null,null,null,null,null,"2140","Property Tax Payable","2140-Property Tax Payable","Liability",null,"","9780||9780","9780","Inter-Company Donation Expense","Primary","All",null,2140,"Property Tax Payable","2140-Property Tax Payable","Liability"]
[null,null,null,null,null,null,"AC00081","[AVP] Graduate Financial Aids","AC00081-[AVP] Graduate Financial Aids","Activity","FD01","Active","2025-03-17T16:11:50.579797+00:00",null,"RC4711","Restricted Transfers (UFSonly)","RC4711-Restricted Transfers (UFSonly)","Revenue Category","Active",null,null,"00924","Allen Arnoldsen","00924-Allen Arnoldsen",null,null,null,"AS009829922","Scott Hart (009829922) Alumni Aspen Grove","AS009829922-Scott Hart (009829922) Alumni Aspen Grove","Active",null,null,null,null,null,null,"2150","UBIT Payable","2150-UBIT Payable","Liability",null,"","9981||9981","9981","Next Year Estimated Payout","Primary","JE_Gift|JE_Override",null,2150,"UBIT Payable","2150-UBIT Payable","Liability"]
[null,null,null,null,null,null,"AC00082","[AVP] Dean's Research","AC00082-[AVP] Dean's Research","Activity","FD01","Active","2025-03-17T16:11:50.579797+00:00",null,"RC4712","Interest Alloc-Claim on Cash","RC4712-Interest Alloc-Claim on Cash","Revenue Category","Active",null,null,"00926","Ellen Hernandez","00926-Ellen Hernandez",null,null,null,"AS009885780","Bonnie Young (FHSS)","AS009885780-Bonnie Young (FHSS)","Active",null,null,null,null,null,null,"2160","Other Taxes Payable","2160-Other Taxes Payable","Liability",null,"","9990||9990","9990","SFAS 158 Annual Pension Adj","Primary","All",null,2160,"Other Taxes Payable","2160-Other Taxes Payable","Liability"]
[null,null,null,null,null,null,"AC00083","[AVP] Annual Fund Scholarships","AC00083-[AVP] Annual Fund Scholarships","Activity","FD03","Active","2025-03-17T16:11:50.579797+00:00",null,"RC4713","Gain/Loss Sale of Asset","RC4713-Gain/Loss Sale of Asset","Revenue Category","Active",null,null,"00927","Katrina Bricker","00927-Katrina Bricker",null,null,null,"AS009898189","Tanya Harmon (009898189) Business Career Center","AS009898189-Tanya Harmon (009898189) Business Career Center","Active",null,null,null,null,null,null,"2200","Accrued Liabilities","2200-Accrued Liabilities","Liability",null,"BK1001","BK1001||1000","1000","Cash USD","Primary","JE_Override",null,2200,"Accrued Liabilities","2200-Accrued Liabilities","Liability"]
[null,null,null,null,null,null,"AC00084","[AVP] Graduate Tuition Scholarship","AC00084-[AVP] Graduate Tuition Scholarship","Activity","FD03","Active","2025-03-17T16:11:50.579797+00:00",null,"RC4714","Legal Fees Reimbursement","RC4714-Legal Fees Reimbursement","Revenue Category","Active",null,null,"00931","Greg Burton","00931-Greg Burton",null,null,null,"AS009973870","Hannah Hurd (009973870) Fine Arts & Communications - Dance","AS009973870-Hannah Hurd (009973870) Fine Arts & Communications - Dance","Active",null,null,null,null,null,null,"2210","Accrued Payroll-Biweekly","2210-Accrued Payroll-Biweekly","Liability",null,"BK1002","BK1002||1000","1000","Cash USD","Primary","JE_Override",null,2210,"Accrued Payroll-Biweekly","2210-Accrued Payroll-Biweekly","Liability"]
[null,null,null,null,null,null,"AC00085","[AVP] Graduate Studies Applications","AC00085-[AVP] Graduate Studies Applications","Activity","FD03","Active","2025-03-17T16:11:50.579797+00:00",null,"RC4715","Realized Currency Gain/Loss","RC4715-Realized Currency Gain/Loss","Revenue Category","Active",null,null,"00932","Joseph Hall","00932-Joseph Hall",null,null,null,"AS010177334","Laura Lee Gillespie (010177334) MSE - Counseling Psychology & Special Ed","AS010177334-Laura Lee Gillespie (010177334) MSE - Counseling Psychology & Special Ed","Active",null,null,null,null,null,null,"2215","Accrued Payroll-Faculty","2215-Accrued Payroll-Faculty","Liability",null,"BK1003","BK1003||1000","1000","Cash USD","Primary","JE_Override",null,2215,"Accrued Payroll-Faculty","2215-Accrued Payroll-Faculty","Liability"]
[null,null,null,null,null,null,"AC00086","[AVP] Sunshine Fund - Grad Studies","AC00086-[AVP] Sunshine Fund - Grad Studies","Activity","FD07","Active","2025-03-17T16:11:50.579797+00:00",null,"RC4716","Unrealized Currency Gain/Loss","RC4716-Unrealized Currency Gain/Loss","Revenue Category","Active",null,null,"00933","Matthew Allen","00933-Matthew Allen",null,null,null,"AS010491584","Noelani Porter (010491584) Student Life VP","AS010491584-Noelani Porter (010491584) Student Life VP","Active",null,null,null,null,null,null,"2220","Accrued Payroll Benefits","2220-Accrued Payroll Benefits","Liability",null,"BK1004","BK1004||1000","1000","Cash USD","Primary","JE_Override",null,2220,"Accrued Payroll Benefits","2220-Accrued Payroll Benefits","Liability"]
[null,null,null,null,null,null,"AC00087","[AVP] Copyright Services","AC00087-[AVP] Copyright Services","Activity","FD02","Active","2025-03-17T16:11:50.579797+00:00",null,"RC4717","Credit Card Merchant Fee","RC4717-Credit Card Merchant Fee","Revenue Category","Active",null,null,"00935","Russell Hansen","00935-Russell Hansen",null,null,null,"AS010616464","Rick Patterson (010616464) Business Career Center","AS010616464-Rick Patterson (010616464) Business Career Center","Active",null,null,null,null,null,null,"2230","Accrued Vacation","2230-Accrued Vacation","Liability",null,"BK1005","BK1005||1000","1000","Cash USD","Primary","JE_Override",null,2230,"Accrued Vacation","2230-Accrued Vacation","Liability"]
[null,null,null,null,null,null,"AC00088","[AVP] Copyright Services Sal Support","AC00088-[AVP] Copyright Services Sal Support","Activity","FD03","Active","2025-03-17T16:11:50.579797+00:00",null,"RC4799","Other Income (reclass)","RC4799-Other Income (reclass)","Revenue Category","Active",null,null,"00937","Michelle Hirsche","00937-Michelle Hirsche",null,null,null,"AS010634205","Megan Nielson (010634205) CMS - Chemistry and Biochemistry","AS010634205-Megan Nielson (010634205) CMS - Chemistry and Biochemistry","Active",null,null,null,null,null,null,"2300","Deposits Payable","2300-Deposits Payable","Liability",null,"BK1006","BK1006||1000","1000","Cash USD","Primary","JE_Override",null,2300,"Deposits Payable","2300-Deposits Payable","Liability"]
[null,null,null,null,null,null,"AC00089","[AVP] Creative Works","AC00089-[AVP] Creative Works","Activity","FD03","Active","2025-03-17T16:11:50.579797+00:00",null,"RC4800","Intra-Division Sales","RC4800-Intra-Division Sales","Revenue Category","Active",null,null,"00940","Matt Imbler","00940-Matt Imbler",null,null,null,"AS010648601","Bret Rowley (010648601) PF Electrical Shop","AS010648601-Bret Rowley (010648601) PF Electrical Shop","Active",null,null,null,null,null,null,"2400","Annuities Payable","2400-Annuities Payable","Liability",null,"BK1008","BK1008||1000","1000","Cash USD","Primary","JE_Override",null,2400,"Annuities Payable","2400-Annuities Payable","Liability"]
[null,null,null,null,null,null,"AC00090","[AVP] CW Catalog","AC00090-[AVP] CW Catalog","Activity","FD03","Active","2025-03-17T16:11:50.579797+00:00",null,"RC4850","Intra-Division Purchases","RC4850-Intra-Division Purchases","Revenue Category","Active",null,null,"00942","Jeff Wilks","00942-Jeff Wilks",null,null,null,"AS010703821","Alison Bawden (010703821) Deans Office BYU Marriott","AS010703821-Alison Bawden (010703821) Deans Office BYU Marriott","Active",null,null,null,null,null,null,"2491","Inter-Company Receivable/Payable","2491-Inter-Company Receivable/Payable","Liability",null,"BK1020","BK1020||1000","1000","Cash USD","Primary","JE_Override",null,2491,"Inter-Company Receivable/Payable","2491-Inter-Company Receivable/Payable","Liability"]
[null,null,null,null,null,null,"AC00091","[AVP] BYU Store Catalog Sales","AC00091-[AVP] BYU Store Catalog Sales","Activity","FD03","Active","2025-03-17T16:11:50.579797+00:00",null,"RC4890","Release Restrictions (UFSonly)","RC4890-Release Restrictions (UFSonly)","Revenue Category","Active",null,null,"00943","Michael Searcy","00943-Michael Searcy",null,null,null,"AS011187185","Trent Tanner (011187185) CE Continuing Education","AS011187185-Trent Tanner (011187185) CE Continuing Education","Active",null,null,null,null,null,null,"2492","Inter-Worktag Receivable/Payable","2492-Inter-Worktag Receivable/Payable","Liability",null,"BK1030","BK1030||1000","1000","Cash USD","Primary","JE_Override",null,2492,"Inter-Worktag Receivable/Payable","2492-Inter-Worktag Receivable/Payable","Liability"]
[null,null,null,null,null,null,"AC00092","[AVP] CW Clearance","AC00092-[AVP] CW Clearance","Activity","FD03","Active","2025-03-17T16:11:50.579797+00:00",null,"RC4891","Endowment Payout Distribution","RC4891-Endowment Payout Distribution","Revenue Category","Active",null,null,"00945","Melanie von Bose","00945-Melanie von Bose",null,null,null,"AS011324388","Lisa Argyle (011324388) FHSS - Political Science","AS011324388-Lisa Argyle (011324388) FHSS - Political Science","Active",null,null,null,null,null,null,"2500","Notes Payable","2500-Notes Payable","Liability",null,"BK1040","BK1040||1001","1001","Cash ILS","Primary","JE_Override",null,2500,"Notes Payable","2500-Notes Payable","Liability"]
[null,null,null,null,null,null,"AC00093","[AVP] Tech Transfer Operations","AC00093-[AVP] Tech Transfer Operations","Activity","FD03","Active","2025-03-17T16:11:50.579797+00:00",null,"RC4892","Endowment Payout Spendable Available","RC4892-Endowment Payout Spendable Available","Revenue Category","Active",null,null,"00950","Holly Madsen","00950-Holly Madsen",null,null,null,"AS011395899","Adam Cuppett (011395899) College of Engineering - Civil & Construction Engineering","AS011395899-Adam Cuppett (011395899) College of Engineering - Civil & Construction Engineering","Active",null,null,null,null,null,null,"2510","Notes Payable - Church","2510-Notes Payable - Church","Liability",null,"BK1041","BK1041||1000","1000","Cash USD","Primary","JE_Override",null,2510,"Notes Payable - Church","2510-Notes Payable - Church","Liability"]
[null,null,null,null,null,null,"AC00094","[AVP] Royalties-Administration","AC00094-[AVP] Royalties-Administration","Activity","FD03","Active","2025-03-17T16:11:50.579797+00:00",null,"RC4893","Reinvestment","RC4893-Reinvestment","Revenue Category","Active",null,null,"00959","Paul Stavast","00959-Paul Stavast",null,null,null,"AS011619868","Heather Erwin (011619868) Retail Services - Product Acquisition","AS011619868-Heather Erwin (011619868) Retail Services - Product Acquisition","Active",null,null,null,null,null,null,"2550","Lease Liability","2550-Lease Liability","Liability",null,"BK1042","BK1042||1001","1001","Cash ILS","Primary","JE_Override",null,2550,"Lease Liability","2550-Lease Liability","Liability"]
[null,null,null,null,null,null,"AC00095","[AVP] Technology Transfer","AC00095-[AVP] Technology Transfer","Activity","FD03","Active","2025-03-17T16:11:50.579797+00:00",null,"RC4897","Investment Transfer In/Out (FS only)","RC4897-Investment Transfer In/Out (FS only)","Revenue Category","Active",null,null,"00961","Cindy Brightenburg","00961-Cindy Brightenburg",null,null,null,"AS011820551","Deborah Hall (011820551) First-Year Experience (FYE) - Peer Mentoring","AS011820551-Deborah Hall (011820551) First-Year Experience (FYE) - Peer Mentoring","Active",null,null,null,null,null,null,"2600","Deferred Revenue","2600-Deferred Revenue","Liability",null,"BK1053","BK1053||1003","1003","Cash EUR","Primary","JE_Override",null,2600,"Deferred Revenue","2600-Deferred Revenue","Liability"]
[null,null,null,null,null,null,"AC00096","[AVP] Centralized Animal Care","AC00096-[AVP] Centralized Animal Care","Activity","FD02","Active","2025-10-23T02:03:57.302131+00:00",null,"SC0101","Forward Balance (Budget Only)","SC0101-Forward Balance (Budget Only)","Spend Category","Active",null,null,"00966","Curtis Isaak","00966-Curtis Isaak",null,null,null,"AS011887947","Timothy Davis (011887947) Research & Learning - Humanities","AS011887947-Timothy Davis (011887947) Research & Learning - Humanities","Active",null,null,null,null,null,null,"2700","Retire Postretire Benefit Obligation","2700-Retire Postretire Benefit Obligation","Liability",null,"BK1054","BK1054||1003","1003","Cash EUR","Primary","JE_Override",null,2700,"Retire Postretire Benefit Obligation","2700-Retire Postretire Benefit Obligation","Liability"]
[null,null,null,null,null,null,"AC00097","[ADM] Faculty Moving","AC00097-[ADM] Faculty Moving","Activity","FD01","Active","2025-03-17T16:11:50.579797+00:00",null,"SC0102","Annual Flexible Budget (Budget Only)","SC0102-Annual Flexible Budget (Budget Only)","Spend Category","Active",null,null,"00969","Arlene Cleverley","00969-Arlene Cleverley",null,null,null,"AS012082452","Camey Andersen (012082452) MSB - Management","AS012082452-Camey Andersen (012082452) MSB - Management","Active",null,null,null,null,null,null,"2710","Deferred Tax Liability","2710-Deferred Tax Liability","Liability",null,"BK1055","BK1055||1003","1003","Cash EUR","Primary","JE_Override",null,2710,"Deferred Tax Liability","2710-Deferred Tax Liability","Liability"]
[null,null,null,null,null,null,"AC00098","[ADM] Faculty Recruitment","AC00098-[ADM] Faculty Recruitment","Activity","FD01","Active","2025-03-17T16:11:50.579797+00:00",null,"SC0103","Budget Unallocated (Budget Only)","SC0103-Budget Unallocated (Budget Only)","Spend Category","Active",null,null,"00974","Tammy Miner","00974-Tammy Miner",null,null,null,"AS012664224","Ben Harry (012664224) Research & Learning - Special Collections","AS012664224-Ben Harry (012664224) Research & Learning - Special Collections","Active",null,null,null,null,null,null,"3400","Net Assets (prior year)","3400-Net Assets (prior year)","Equity",null,"RC1210","RC1210||1210","1210","Off Campus Receivable","Primary","All",null,3400,"Net Assets (prior year)","3400-Net Assets (prior year)","Equity"]
[null,null,null,null,null,null,"AC00099","[AVP] Forums","AC00099-[AVP] Forums","Activity","FD01","Active","2025-03-17T16:11:50.579797+00:00",null,"SC0104","Research Carryover (Budget Only)","SC0104-Research Carryover (Budget Only)","Spend Category","Active",null,null,"00975","Cheri Koford","00975-Cheri Koford",null,null,null,"AS012703001","Kenneth Bean (012703001) College of Engineering - Mechanical Engineering","AS012703001-Kenneth Bean (012703001) College of Engineering - Mechanical Engineering","Active",null,null,null,null,null,null,"3500","Net Assets","3500-Net Assets","Equity",null,"RC1230","RC1230||1230","1230","Church Receivable",null,"All",null,3500,"Net Assets","3500-Net Assets","Equity"]
[null,null,null,null,null,null,"AC00100","[AVP] Advisor Prof Dev Committee","AC00100-[AVP] Advisor Prof Dev Committee","Activity","FD01","Active","2025-06-05T02:03:05.249352+00:00",null,"SC0610","Materials and Supplies (Budget Only)","SC0610-Materials and Supplies (Budget Only)","Spend Category","Active",null,null,"00979","Erin Rowan","00979-Erin Rowan",null,null,null,"AS012823792","Jason Stucki (012823792) CMS - Geological Sciences","AS012823792-Jason Stucki (012823792) CMS - Geological Sciences","Active",null,null,null,null,null,null,"3600","Net Assets-Reserve","3600-Net Assets-Reserve","Equity",null,"RC1290","RC1290||1290","1290","Clearing-Receivable","Primary","All",null,3600,"Net Assets-Reserve","3600-Net Assets-Reserve","Equity"]
[null,null,null,null,null,null,"AC00101","[AVP] Center for Teaching & Learning","AC00101-[AVP] Center for Teaching & Learning","Activity","FD02","Active","2025-03-17T16:11:50.579797+00:00",null,"SC0630","Student Aid (Budget Only)","SC0630-Student Aid (Budget Only)","Spend Category","Active",null,null,"00986","Rob Holcombe","00986-Rob Holcombe",null,null,null,"AS013125210","Kevin Bauer (013125210) BYU Broadcasting - Digital Media","AS013125210-Kevin Bauer (013125210) BYU Broadcasting - Digital Media","Active",null,null,null,null,null,null,"3609","Net Assets (Reserve Offset)","3609-Net Assets (Reserve Offset)","Equity",null,"RC1298","RC1298||1299","1299","Account/Note Rec Reserve","Primary","All",null,3609,"Net Assets (Reserve Offset)","3609-Net Assets (Reserve Offset)","Equity"]
[null,null,null,null,null,null,"AC00102","[AVP] Testing Services","AC00102-[AVP] Testing Services","Activity","FD01","Active","2025-03-27T02:04:07.663585+00:00",null,"SC0640","General and Administrative (Budget Only)","SC0640-General and Administrative (Budget Only)","Spend Category","Active",null,null,"00987","Jennefer Johnson","00987-Jennefer Johnson",null,null,null,"AS013153304","Brad Taylor (013153304) Academic Vice President","AS013153304-Brad Taylor (013153304) Academic Vice President","Active",null,null,null,null,null,null,"3650","W/O Donor Restr - Oper","3650-W/O Donor Restr - Oper","Equity",null,"RC2300","RC2300||2300","2300","Deposits Payable","Primary","All",null,3650,"W/O Donor Restr - Oper","3650-W/O Donor Restr - Oper","Equity"]
[null,null,null,null,null,null,"AC00103","[AVP] Exp Learning and Intern","AC00103-[AVP] Exp Learning and Intern","Activity","FD01","Active","2025-03-17T16:11:50.579797+00:00",null,"SC0670","Physical Facilities (Budget Only)","SC0670-Physical Facilities (Budget Only)","Spend Category","Active",null,null,"00989","Ben McKinnon","00989-Ben McKinnon",null,null,null,"AS013240110","Jared Chapman (013240110)","AS013240110-Jared Chapman (013240110)","Active",null,null,null,null,null,null,"3651","W/O Donor Restr - Board-desig Endow","3651-W/O Donor Restr - Board-desig Endow","Equity",null,"RC4001","RC4001||2600","2600","Deferred Revenue",null,"All",null,3651,"W/O Donor Restr - Board-desig Endow","3651-W/O Donor Restr - Board-desig Endow","Equity"]
[null,null,null,null,null,null,"AC00104","[AVP] STEM Fair","AC00104-[AVP] STEM Fair","Activity","FD02","Active","2025-03-17T16:11:50.579797+00:00",null,"SC0691","Equipment (Budget Only)","SC0691-Equipment (Budget Only)","Spend Category","Active",null,null,"00990","Jessica Roberts","00990-Jessica Roberts",null,null,null,"AS013277357","Wendy Williamson (013277357) PF Building Operations","AS013277357-Wendy Williamson (013277357) PF Building Operations","Active",null,null,null,null,null,null,"3652","W/O Donor Restr - Invested in PPE","3652-W/O Donor Restr - Invested in PPE","Equity",null,"RC4001","RC4001||4000","4000","Appropriations","Primary","All",null,3652,"W/O Donor Restr - Invested in PPE","3652-W/O Donor Restr - Invested in PPE","Equity"]
[null,null,null,null,null,null,"AC00105","[AVP] Career Fair","AC00105-[AVP] Career Fair","Activity","FD02","Active","2025-03-17T16:11:50.579797+00:00",null,"SC0692","Converted Equipment (Budget Only)","SC0692-Converted Equipment (Budget Only)","Spend Category","Active",null,null,"00992","Becky Lueck/SL Center","00992-Becky Lueck/SL Center",null,null,null,"AS013404757","Bryan Howell (013404757) Fine Arts & Communications - Design","AS013404757-Bryan Howell (013404757) Fine Arts & Communications - Design","Active",null,null,null,null,null,null,"3660","With Donor Restr - Oper","3660-With Donor Restr - Oper","Equity",null,"RC4002","RC4002||2600","2600","Deferred Revenue",null,"All",null,3660,"With Donor Restr - Oper","3660-With Donor Restr - Oper","Equity"]
[null,null,null,null,null,null,"AC00106","[AVP] Career  Programs","AC00106-[AVP] Career  Programs","Activity","FD03","Active","2025-03-17T16:11:50.579797+00:00",null,"SC0693","Equipment Maintenance (Budget Only)","SC0693-Equipment Maintenance (Budget Only)","Spend Category","Active",null,null,"00ESA","Economic Student Association","00ESA-Economic Student Association",null,null,null,"AS013464292","Tony Grover (013464292) AVP - Dean, Clark Law School","AS013464292-Tony Grover (013464292) AVP - Dean, Clark Law School","Active",null,null,null,null,null,null,"3661","With Donor Restr - Trusts","3661-With Donor Restr - Trusts","Equity",null,"RC4002","RC4002||4000","4000","Appropriations","Primary","All",null,3661,"With Donor Restr - Trusts","3661-With Donor Restr - Trusts","Equity"]
[null,null,null,null,null,null,"AC00107","[AVP] Alcuin Awards","AC00107-[AVP] Alcuin Awards","Activity","FD01","Active","2025-03-17T16:11:50.579797+00:00",null,"SC0694","Software (Budget Only)","SC0694-Software (Budget Only)","Spend Category","Active",null,null,"00GAS","Gas Cylinders","00GAS-Gas Cylinders",null,null,null,"AS013542053","Isaac Smith (013542053) MSB - Management","AS013542053-Isaac Smith (013542053) MSB - Management","Active",null,null,null,null,null,null,"3662","With Donor Restr - Board-desig Endow","3662-With Donor Restr - Board-desig Endow","Equity",null,"RC4101","RC4101||2600","2600","Deferred Revenue",null,"All",null,3662,"With Donor Restr - Board-desig Endow","3662-With Donor Restr - Board-desig Endow","Equity"]
[null,null,null,null,null,null,"AC00108","[AVP] Natl Scholar Fellow & Progs","AC00108-[AVP] Natl Scholar Fellow & Progs","Activity","FD01","Active","2025-03-17T16:11:50.579797+00:00",null,"SC0695","Converted Software (Budget Only)","SC0695-Converted Software (Budget Only)","Spend Category","Active",null,null,"00I20","I-20 International Students","00I20-I-20 International Students",null,null,null,"AS013584809","Deena Hastings (013584809) Retail Services - Product Acquisition","AS013584809-Deena Hastings (013584809) Retail Services - Product Acquisition","Active",null,null,null,null,null,null,"3663","With Donor Restr - Endow","3663-With Donor Restr - Endow","Equity",null,"RC4101","RC4101||4100","4100","Tuition and Fees","Primary","All",null,3663,"With Donor Restr - Endow","3663-With Donor Restr - Endow","Equity"]
[null,null,null,null,null,null,"AC00109","[AVP] UE Communications","AC00109-[AVP] UE Communications","Activity","FD01","Active","2025-03-17T16:11:50.579797+00:00",null,"SC0696","Library Content (Budget Only)","SC0696-Library Content (Budget Only)","Spend Category","Active",null,null,"01001","Vending Room","01001-Vending Room",null,null,null,"AS013664321","Taylor Morris (013664321) Performing Arts Management - Artist Management","AS013664321-Taylor Morris (013664321) Performing Arts Management - Artist Management","Active",null,null,null,null,null,null,"3670","Retirement Benefits Adjustment","3670-Retirement Benefits Adjustment","Equity",null,"RC4102","RC4102||2600","2600","Deferred Revenue",null,"All",null,3670,"Retirement Benefits Adjustment","3670-Retirement Benefits Adjustment","Equity"]
[null,null,null,null,null,null,"AC00110","[AVP] PES Phi Eta Sigma","AC00110-[AVP] PES Phi Eta Sigma","Activity","FD02","Active","2025-03-17T16:11:50.579797+00:00",null,"SC0697","Converted Library Content (Budget Only)","SC0697-Converted Library Content (Budget Only)","Spend Category","Active",null,null,"01003","Vending Machines","01003-Vending Machines",null,null,null,"AS013758513","Megan Goodman (013758513) Purchasing and Travel - Continuing Education Operations","AS013758513-Megan Goodman (013758513) Purchasing and Travel - Continuing Education Operations","Active",null,null,null,null,null,null,"3680","Cumulative Translation Adjustment","3680-Cumulative Translation Adjustment","Equity",null,"RC4102","RC4102||4100","4100","Tuition and Fees","Primary","All",null,3680,"Cumulative Translation Adjustment","3680-Cumulative Translation Adjustment","Equity"]
[null,null,null,null,null,null,"AC00111","[AVP] Phi Kappa Phi","AC00111-[AVP] Phi Kappa Phi","Activity","FD02","Active","2025-03-17T16:11:50.579797+00:00",null,"SC1055","Gift Cards","SC1055-Gift Cards","Spend Category","Active",null,null,"01004","Shannon Sanders","01004-Shannon Sanders",null,null,null,"AS013951239","Roger Dean (013951239) Retail Services - General Administration","AS013951239-Roger Dean (013951239) Retail Services - General Administration","Active",null,null,null,null,null,null,"3690","Net Assets (Proj Conv P&L)","3690-Net Assets (Proj Conv P&L)","Equity",null,"RC4103","RC4103||2600","2600","Deferred Revenue",null,"All",null,3690,"Net Assets (Proj Conv P&L)","3690-Net Assets (Proj Conv P&L)","Equity"]
[null,null,null,null,null,null,"AC00112","[AVP] Golden Key Intl Honor Society","AC00112-[AVP] Golden Key Intl Honor Society","Activity","FD02","Active","2025-03-17T16:11:50.579797+00:00",null,"SC1218","Utah Sales Tax","SC1218-Utah Sales Tax","Spend Category","Active",null,null,"01005","Roma Hardy","01005-Roma Hardy",null,null,null,"AS013974932","Tevita Hola (013974932) Honor Code Office","AS013974932-Tevita Hola (013974932) Honor Code Office","Active",null,null,null,null,null,null,"4000","Appropriations","4000-Appropriations","Income",null,"RC4103","RC4103||4100","4100","Tuition and Fees","Primary","All",null,4000,"Appropriations","4000-Appropriations","Income"]
[null,null,null,null,null,null,"AC00113","[AVP] Student/Faculty Mentoring","AC00113-[AVP] Student/Faculty Mentoring","Activity","FD03","Active","2025-03-17T16:11:50.579797+00:00",null,"SC1290","MFC Refunds","SC1290-MFC Refunds","Spend Category","Active",null,null,"01016","Daniel Niu","01016-Daniel Niu",null,null,null,"AS013983916","Ray Bernier (013983916) Asst Adm VP Physical Facil","AS013983916-Ray Bernier (013983916) Asst Adm VP Physical Facil","Active",null,null,null,null,null,null,"4100","Tuition and Fees","4100-Tuition and Fees","Income",null,"RC4104","RC4104||2600","2600","Deferred Revenue",null,"All",null,4100,"Tuition and Fees","4100-Tuition and Fees","Income"]
[null,null,null,null,null,null,"AC00114","[AVP] First Year Experience","AC00114-[AVP] First Year Experience","Activity","FD01","Active","2025-04-09T02:03:42.464861+00:00",null,"SC1300","Inventory - Workday","SC1300-Inventory - Workday","Spend Category","Active",null,null,"01032","Jolene Johnson","01032-Jolene Johnson",null,null,null,"AS014079663","Keri Elmer (014079663) Life Sciences - Microbiology & Molecular Biology","AS014079663-Keri Elmer (014079663) Life Sciences - Microbiology & Molecular Biology","Active",null,null,null,null,null,null,"4198","Tuition and Fees (Contra)","4198-Tuition and Fees (Contra)","Income",null,"RC4104","RC4104||4100","4100","Tuition and Fees","Primary","All",null,4198,"Tuition and Fees (Contra)","4198-Tuition and Fees (Contra)","Income"]
[null,null,null,null,null,null,"AC00115","[AVP] Freshman Year NSO","AC00115-[AVP] Freshman Year NSO","Activity","FD02","Active","2025-03-17T16:11:50.579797+00:00",null,"SC1310","Inventory - Campus Subsystems","SC1310-Inventory - Campus Subsystems","Spend Category","Active",null,null,"01055","Carrie Scoresby","01055-Carrie Scoresby",null,null,null,"AS014451246","Tim Smith (014451246) Athletics - Sports Camps","AS014451246-Tim Smith (014451246) Athletics - Sports Camps","Active",null,null,null,null,null,null,"4200","Gifts and Grants","4200-Gifts and Grants","Income",null,"RC4110","RC4110||2600","2600","Deferred Revenue",null,"All",null,4200,"Gifts and Grants","4200-Gifts and Grants","Income"]
[null,null,null,null,null,null,"AC00116","[AVP] New Student Orientation - All","AC00116-[AVP] New Student Orientation - All","Activity","FD03","Active","2025-03-17T16:11:50.579797+00:00",null,"SC1390","Inventory - Clearing (Conversion Only)","SC1390-Inventory - Clearing (Conversion Only)","Spend Category","Active",null,null,"01058","Nick Hawkins","01058-Nick Hawkins",null,null,null,"AS014567267","Darcy Christensen (014567267) Retail Services - Product Acquisition","AS014567267-Darcy Christensen (014567267) Retail Services - Product Acquisition","Active",null,null,null,null,null,null,"4300","Investment Income","4300-Investment Income","Income",null,"RC4110","RC4110||4100","4100","Tuition and Fees","Primary","All",null,4300,"Investment Income","4300-Investment Income","Income"]
[null,null,null,null,null,null,"AC00118","[AVP] General Education","AC00118-[AVP] General Education","Activity","FD01","Active","2025-03-17T16:11:50.579797+00:00",null,"SC1400","Prepaid Expenses","SC1400-Prepaid Expenses","Spend Category","Active",null,null,"01059","Mark Ormsby","01059-Mark Ormsby",null,null,null,"AS014746000","David Morgan (014746000) Fine Arts & Communications - Design","AS014746000-David Morgan (014746000) Fine Arts & Communications - Design","Active",null,null,null,null,null,null,"4310","Investment Gains and Losses","4310-Investment Gains and Losses","Income",null,"RC4111","RC4111||2600","2600","Deferred Revenue",null,"All",null,4310,"Investment Gains and Losses","4310-Investment Gains and Losses","Income"]
[null,null,null,null,null,null,"AC00119","[AVP] Honors","AC00119-[AVP] Honors","Activity","FD01","Active","2025-06-19T02:03:00.496075+00:00",null,"SC1420","Other Assets","SC1420-Other Assets","Spend Category","Active",null,null,"01061","Mandi Johnson","01061-Mandi Johnson",null,null,null,"AS014888494","Amy Roper (014888494) Humanities - English","AS014888494-Amy Roper (014888494) Humanities - English","Active",null,null,null,null,null,null,"4400","Sale of Services","4400-Sale of Services","Income",null,"RC4111","RC4111||4100","4100","Tuition and Fees","Primary","All",null,4400,"Sale of Services","4400-Sale of Services","Income"]
[null,null,null,null,null,null,"AC00120","[AVP] Honors Advisement","AC00120-[AVP] Honors Advisement","Activity","FD01","Active","2025-03-17T16:11:50.579797+00:00",null,"SC1490","Clearing-Prepaid and Other (Conversion Only)","SC1490-Clearing-Prepaid and Other (Conversion Only)","Spend Category","Active",null,null,"01076","Nieves Knapp","01076-Nieves Knapp",null,null,null,"AS014924130","Katie Gneiting (014924130) Computer Science","AS014924130-Katie Gneiting (014924130) Computer Science","Active",null,null,null,null,null,null,"4500","Sale of Goods","4500-Sale of Goods","Income",null,"RC4112","RC4112||2600","2600","Deferred Revenue",null,"All",null,4500,"Sale of Goods","4500-Sale of Goods","Income"]
[null,null,null,null,null,null,"AC00121","[LIB] Library Departments","AC00121-[LIB] Library Departments","Activity","FD01","Active","2025-03-17T16:11:50.579797+00:00",null,"SC1600","Land","SC1600-Land","Spend Category","Active",null,null,"01089","Rick Miller","01089-Rick Miller",null,null,null,"AS014932898","Patty Jones (014932898) School of Music - Financial Support","AS014932898-Patty Jones (014932898) School of Music - Financial Support","Active",null,null,null,null,null,null,"4700","Other Income","4700-Other Income","Income",null,"RC4112","RC4112||4100","4100","Tuition and Fees","Primary","All",null,4700,"Other Income","4700-Other Income","Income"]
[null,null,null,null,null,null,"AC00122","[LIB] Business Office","AC00122-[LIB] Business Office","Activity","FD01","Active","2025-03-17T16:11:50.579797+00:00",null,"SC1605","Buildings","SC1605-Buildings","Spend Category","Active",null,null,"01102","Renata Forste","01102-Renata Forste",null,null,null,"AS014999341","Darren Hawkins (014999341) FHSS - Political Science","AS014999341-Darren Hawkins (014999341) FHSS - Political Science","Active",null,null,null,null,null,null,"4780","Inter-Company Contribution Revenue","4780-Inter-Company Contribution Revenue","Income",null,"RC4113","RC4113||2600","2600","Deferred Revenue",null,"All",null,4780,"Inter-Company Contribution Revenue","4780-Inter-Company Contribution Revenue","Income"]
[null,null,null,null,null,null,"AC00123","[LIB] LAO Secretaries/Events","AC00123-[LIB] LAO Secretaries/Events","Activity","FD01","Active","2025-03-17T16:11:50.579797+00:00",null,"SC1615","Other Improvements","SC1615-Other Improvements","Spend Category","Active",null,null,"01116","Judy Stoudt","01116-Judy Stoudt",null,null,null,"AS015095144","Jason Alleger (015095144) MSB - Marketing & Global Supply Chain","AS015095144-Jason Alleger (015095144) MSB - Marketing & Global Supply Chain","Active",null,null,null,null,null,null,"4800","Intra-Division Sales","4800-Intra-Division Sales","Income",null,"RC4113","RC4113||4100","4100","Tuition and Fees","Primary","All",null,4800,"Intra-Division Sales","4800-Intra-Division Sales","Income"]
[null,null,null,null,null,null,"AC00124","[LIB] Student Library Association","AC00124-[LIB] Student Library Association","Activity","FD02","Active","2025-03-17T16:11:50.579797+00:00",null,"SC1635","Misc Capital Assets","SC1635-Misc Capital Assets","Spend Category","Active",null,null,"01122","David A. Wood","01122-David A. Wood",null,null,null,"AS015137540","Robyn Schwartz (015137540) Humanities - English","AS015137540-Robyn Schwartz (015137540) Humanities - English","Active",null,null,null,null,null,null,"4850","Intra-Division Purchases","4850-Intra-Division Purchases","Income",null,"RC4114","RC4114||2600","2600","Deferred Revenue",null,"All",null,4850,"Intra-Division Purchases","4850-Intra-Division Purchases","Income"]
[null,null,null,null,null,null,"AC00125","[LIB] NDLTD","AC00125-[LIB] NDLTD","Activity","FD02","Active","2025-03-17T16:11:50.579797+00:00",null,"SC2010","Procurement Card Payable","SC2010-Procurement Card Payable","Spend Category","Active",null,null,"01124","Michael Larson","01124-Michael Larson",null,null,null,"AS015304960","Lorelie Sander (015304960) CE Large Programs","AS015304960-Lorelie Sander (015304960) CE Large Programs","Active",null,null,null,null,null,null,"4890","Release of Restrictions","4890-Release of Restrictions","Income",null,"RC4114","RC4114||4100","4100","Tuition and Fees","Primary","All",null,4890,"Release of Restrictions","4890-Release of Restrictions","Income"]
[null,null,null,null,null,null,"AC00126","[LIB] Library Royalties","AC00126-[LIB] Library Royalties","Activity","FD03","Active","2025-03-17T16:11:50.579797+00:00",null,"SC2011","Virtual Card Payable","SC2011-Virtual Card Payable","Spend Category","Active",null,null,"01128","Jennifer Johnson","01128-Jennifer Johnson",null,null,null,"AS015995395","Tim Barlow (015995395) Concessions","AS015995395-Tim Barlow (015995395) Concessions","Active",null,null,null,null,null,null,"4900","Cost of Sales","4900-Cost of Sales","Expense",null,"RC4115","RC4115||2600","2600","Deferred Revenue",null,"All",null,4900,"Cost of Sales","4900-Cost of Sales","Expense"]
[null,null,null,null,null,null,"AC00128","[LIB] Library Experiental Learning","AC00128-[LIB] Library Experiental Learning","Activity","FD03","Active","2025-03-17T16:11:50.579797+00:00",null,"SC2020","Other and Retainages Payable","SC2020-Other and Retainages Payable","Spend Category","Active",null,null,"01139","Ty Hopkins","01139-Ty Hopkins",null,null,null,"AS015996884","Jacob Gibb (015996884) Athletics - Creative Strategy - Graphic Design","AS015996884-Jacob Gibb (015996884) Athletics - Creative Strategy - Graphic Design","Active",null,null,null,null,null,null,"5000","Salaries and Wages","5000-Salaries and Wages","Expense",null,"RC4115","RC4115||4100","4100","Tuition and Fees","Primary","All",null,5000,"Salaries and Wages","5000-Salaries and Wages","Expense"]
[null,null,null,null,null,null,"AC00129","[LIB] Exhibits","AC00129-[LIB] Exhibits","Activity","FD01","Active","2025-03-17T16:11:50.579797+00:00",null,"SC2021","Escheatment Expense","SC2021-Escheatment Expense","Spend Category","Active",null,null,"01150","Julianne Holt-Lunstad","01150-Julianne Holt-Lunstad",null,null,null,"AS016014282","Mary Chapman (016014282) Research & Learning - Humanities","AS016014282-Mary Chapman (016014282) Research & Learning - Humanities","Active",null,null,null,null,null,null,"5800","Project Labor Cost","5800-Project Labor Cost","Expense",null,"RC4116","RC4116||4100","4100","Tuition and Fees","Primary","All",null,5800,"Project Labor Cost","5800-Project Labor Cost","Expense"]
[null,null,null,null,null,null,"AC00130","[LIB] Cataloging Spec. Collections","AC00130-[LIB] Cataloging Spec. Collections","Activity","FD01","Active","2025-03-17T16:11:50.579797+00:00",null,"SC2030","Other Payroll Deducts Payable","SC2030-Other Payroll Deducts Payable","Spend Category","Active",null,null,"01168","David Nelson/Malaysia","01168-David Nelson/Malaysia",null,null,null,"AS016196969","Todd Weiler (016196969) Law School","AS016196969-Todd Weiler (016196969) Law School","Active",null,null,null,null,null,null,"5801","Project Labor Cost Recovery","5801-Project Labor Cost Recovery","Expense",null,"RC4117","RC4117||2600","2600","Deferred Revenue",null,"All",null,5801,"Project Labor Cost Recovery","5801-Project Labor Cost Recovery","Expense"]
[null,null,null,null,null,null,"AC00131","[LIB] Archival Processing Section","AC00131-[LIB] Archival Processing Section","Activity","FD01","Active","2025-03-17T16:11:50.579797+00:00",null,"SC2031","Garnishments","SC2031-Garnishments","Spend Category","Active",null,null,"01172","Jared Warren","01172-Jared Warren",null,null,null,"AS016499569","Cecilia Peek (016499569) Kennedy International Center","AS016499569-Cecilia Peek (016499569) Kennedy International Center","Active",null,null,null,null,null,null,"5900","Benefits","5900-Benefits","Expense",null,"RC4117","RC4117||4100","4100","Tuition and Fees","Primary","All",null,5900,"Benefits","5900-Benefits","Expense"]
[null,null,null,null,null,null,"AC00133","[LIB] Technology Supplies","AC00133-[LIB] Technology Supplies","Activity","FD01","Active","2025-07-11T02:03:28.541925+00:00",null,"SC2032","Employee Passthrough Donations","SC2032-Employee Passthrough Donations","Spend Category","Active",null,null,"01176","Monte Swain","01176-Monte Swain",null,null,null,"AS016528162","Craig Cozzens (016528162) PF Grounds - Site & Landscape Construction","AS016528162-Craig Cozzens (016528162) PF Grounds - Site & Landscape Construction","Active",null,null,null,null,null,null,"6100","Materials and Supplies","6100-Materials and Supplies","Expense",null,"RC4199","RC4199||2600","2600","Deferred Revenue",null,"All",null,6100,"Materials and Supplies","6100-Materials and Supplies","Expense"]
[null,null,null,null,null,null,"AC00134","[LIB] Library Printing","AC00134-[LIB] Library Printing","Activity","FD01","Active","2025-06-17T02:03:13.050417+00:00",null,"SC2033","FICA Offset/Recollect","SC2033-FICA Offset/Recollect","Spend Category","Active",null,null,"01189","Benjamin Gibbs","01189-Benjamin Gibbs",null,null,null,"AS016720648","Lemikki Westlund (016720648) OIT Core - Finance","AS016720648-Lemikki Westlund (016720648) OIT Core - Finance","Active",null,null,null,null,null,null,"6300","Student Aid","6300-Student Aid","Expense",null,"RC4199","RC4199||4100","4100","Tuition and Fees","Primary","All",null,6300,"Student Aid","6300-Student Aid","Expense"]
[null,null,null,null,null,null,"AC00135","[LIB] Journal of Western Archives","AC00135-[LIB] Journal of Western Archives","Activity","FD02","Active","2025-03-17T16:11:50.579797+00:00",null,"SC2090","Clearing-Accounts Payable","SC2090-Clearing-Accounts Payable","Spend Category","Active",null,null,"01194","Andrew Ludlow","01194-Andrew Ludlow",null,null,null,"AS017005018","Ryan Moffat (017005018) Life Sciences - Public Health","AS017005018-Ryan Moffat (017005018) Life Sciences - Public Health","Active",null,null,null,null,null,null,"6400","General and Administrative","6400-General and Administrative","Expense",null,"RC4201","RC4201||4200","4200","Gifts and Grants","Primary","JE_Gift|JE_Override",null,6400,"General and Administrative","6400-General and Administrative","Expense"]
[null,null,null,null,null,null,"AC00136","[LIB] Music Book Sales","AC00136-[LIB] Music Book Sales","Activity","FD02","Active","2025-03-17T16:11:50.579797+00:00",null,"SC2100","FICA Payable","SC2100-FICA Payable","Spend Category","Active",null,null,"01195","Cami Cornia","01195-Cami Cornia",null,null,null,"AS017093289","Patti Freeman (017093289) MSB - Experience Design & Management","AS017093289-Patti Freeman (017093289) MSB - Experience Design & Management","Active",null,null,null,null,null,null,"6498","General and Administrative (Contra)","6498-General and Administrative (Contra)","Expense",null,"RC4202","RC4202||4200","4200","Gifts and Grants","Primary","JE_Gift|JE_Override",null,6498,"General and Administrative (Contra)","6498-General and Administrative (Contra)","Expense"]
[null,null,null,null,null,null,"AC00137","[LIB] Library Income","AC00137-[LIB] Library Income","Activity","FD02","Active","2025-06-04T02:03:21.461319+00:00",null,"SC2105","Federal Withholding Payable","SC2105-Federal Withholding Payable","Spend Category","Active",null,null,"01197","Leslie Miles","01197-Leslie Miles",null,null,null,"AS017161511","Luke Penrod (017161511) Concessions","AS017161511-Luke Penrod (017161511) Concessions","Active",null,null,null,null,null,null,"6600","Interest Expense","6600-Interest Expense","Expense",null,"RC4203","RC4203||4200","4200","Gifts and Grants","Primary","JE_Gift|JE_Override",null,6600,"Interest Expense","6600-Interest Expense","Expense"]
[null,null,null,null,null,null,"AC00138","[LIB] FMA - CD Series","AC00138-[LIB] FMA - CD Series","Activity","FD02","Active","2025-03-17T16:11:50.579797+00:00",null,"SC2110","State Payroll Taxes Payable","SC2110-State Payroll Taxes Payable","Spend Category","Active",null,null,"01198","Kathryn Tucker[Kris Moretnsen]","01198-Kathryn Tucker[Kris Moretnsen]",null,null,null,"AS017418640","Jamie Hansen (017418640) Research & Learning - Social Sciences","AS017418640-Jamie Hansen (017418640) Research & Learning - Social Sciences","Active",null,null,null,null,null,null,"6700","Physical Facilities","6700-Physical Facilities","Expense",null,"RC4204","RC4204||4200","4200","Gifts and Grants","Primary","All",null,6700,"Physical Facilities","6700-Physical Facilities","Expense"]
[null,null,null,null,null,null,"AC00139","[LIB] FMA - Publisher Royalty Paymnt","AC00139-[LIB] FMA - Publisher Royalty Paymnt","Activity","FD02","Active","2025-03-17T16:11:50.579797+00:00",null,"SC2130","Sales Tax Payable - Utah","SC2130-Sales Tax Payable - Utah","Spend Category","Active",null,null,"01200","Justin Harper","01200-Justin Harper",null,null,null,"AS017608938","Jenelle Cox (017608938) Humanities - Linguistics","AS017608938-Jenelle Cox (017608938) Humanities - Linguistics","Active",null,null,null,null,null,null,"6900","Equipment, Software, Library","6900-Equipment, Software, Library","Expense",null,"RC4299","RC4299||4200","4200","Gifts and Grants","Primary","All",null,6900,"Equipment, Software, Library","6900-Equipment, Software, Library","Expense"]
[null,null,null,null,null,null,"AC00143","[LIB] Family History","AC00143-[LIB] Family History","Activity","FD02","Active","2025-03-17T16:11:50.579797+00:00",null,"SC2132","Sales Tax Payable - Other States","SC2132-Sales Tax Payable - Other States","Spend Category","Active",null,null,"01205","Jacob Hickman","01205-Jacob Hickman",null,null,null,"AS017661858","Brandon Mitchell (017661858) HS General Medicine","AS017661858-Brandon Mitchell (017661858) HS General Medicine","Active",null,null,null,null,null,null,"7000","Travel","7000-Travel","Expense",null,"RC4301","RC4301||4300","4300","Investment Income","Primary","All",null,7000,"Travel","7000-Travel","Expense"]
[null,null,null,null,null,null,"AC00144","[LIB] Children's Book Rev","AC00144-[LIB] Children's Book Rev","Activity","FD02","Active","2025-03-17T16:11:50.579797+00:00",null,"SC2140","Property Tax Payable","SC2140-Property Tax Payable","Spend Category","Active",null,null,"01230","Doug Prawitt","01230-Doug Prawitt",null,null,null,"AS017846329","Elisabeth Eisenhut (017846329) Fine Arts & Communications - Dance","AS017846329-Elisabeth Eisenhut (017846329) Fine Arts & Communications - Dance","Active",null,null,null,null,null,null,"8000","Depreciation","8000-Depreciation","Expense",null,"RC4302","RC4302||4300","4300","Investment Income","Primary","All",null,8000,"Depreciation","8000-Depreciation","Expense"]
[null,null,null,null,null,null,"AC00146","[LIB] Information Literacy Award","AC00146-[LIB] Information Literacy Award","Activity","FD03","Active","2025-03-17T16:11:50.579797+00:00",null,"SC2150","UBIT Payable","SC2150-UBIT Payable","Spend Category","Active",null,null,"01233","Scott R Braithwaite","01233-Scott R Braithwaite",null,null,null,"AS017918284","Zack Beddoes (017918284) MSE  - Teacher Education","AS017918284-Zack Beddoes (017918284) MSE  - Teacher Education","Active",null,null,null,null,null,null,"9199","AM Offset Default","9199-AM Offset Default","Expense",null,"RC4311","RC4311||4310","4310","Investment Gains and Losses","Primary","All",null,9199,"AM Offset Default","9199-AM Offset Default","Expense"]
[null,null,null,null,null,null,"AC00149","[LIB] Software Training","AC00149-[LIB] Software Training","Activity","FD01","Active","2025-03-17T16:11:50.579797+00:00",null,"SC2160","Other Taxes Payable","SC2160-Other Taxes Payable","Spend Category","Active",null,null,"01238","William Tayler","01238-William Tayler",null,null,null,"AS017971256","Carina Coria (017971256) Humanities - Spanish & Portuguese","AS017971256-Carina Coria (017971256) Humanities - Spanish & Portuguese","Active",null,null,null,null,null,null,"9250","Funds Transfer","9250-Funds Transfer","Expense",null,"RC4312","RC4312||4310","4310","Investment Gains and Losses","Primary","All",null,9250,"Funds Transfer","9250-Funds Transfer","Expense"]
[null,null,null,null,null,null,"AC00150","[LIB] Maker Space","AC00150-[LIB] Maker Space","Activity","FD01","Active","2025-03-17T16:11:50.579797+00:00",null,"SC2200","Accrued Liabilities (Conversion Only)","SC2200-Accrued Liabilities (Conversion Only)","Spend Category","Active",null,null,"01246","Petty Cash Broadcasting Expens","01246-Petty Cash Broadcasting Expens",null,null,null,"AS018009477","Anthony Schaefer (018009477) CMS - Chemistry and Biochemistry","AS018009477-Anthony Schaefer (018009477) CMS - Chemistry and Biochemistry","Active",null,null,null,null,null,null,"9780","Inter-Company Donation Expense","9780-Inter-Company Donation Expense","Expense",null,"RC4313","RC4313||4310","4310","Investment Gains and Losses","Primary","All",null,9780,"Inter-Company Donation Expense","9780-Inter-Company Donation Expense","Expense"]
[null,null,null,null,null,null,"AC00151","[LIB] Media Production & Equip. Room","AC00151-[LIB] Media Production & Equip. Room","Activity","FD01","Active","2025-03-17T16:11:50.579797+00:00",null,"SC2300","Deposits Payable","SC2300-Deposits Payable","Spend Category","Active",null,null,"01255","Craig Hart","01255-Craig Hart",null,null,null,"AS018010965","Val Anderson (018010965) Life Sciences - Plant & Wildlife Sciences","AS018010965-Val Anderson (018010965) Life Sciences - Plant & Wildlife Sciences","Active",null,null,null,null,null,null,"9981","Next Year Estimated Payout","9981-Next Year Estimated Payout","Expense",null,"RC4401","RC4401||2600","2600","Deferred Revenue",null,"All",null,9981,"Next Year Estimated Payout","9981-Next Year Estimated Payout","Expense"]
[null,null,null,null,null,null,"AC00152","[LIB] Media Production & Equip. Room","AC00152-[LIB] Media Production & Equip. Room","Activity","FD02","Active","2025-03-17T16:11:50.579797+00:00",null,"SC2400","Annuities Payable","SC2400-Annuities Payable","Spend Category","Active",null,null,"01256","Rebecca Lundwall","01256-Rebecca Lundwall",null,null,null,"AS018019821","Taylor Nadauld (018019821) AVP - Dean, Marriott School of Business (MSB)","AS018019821-Taylor Nadauld (018019821) AVP - Dean, Marriott School of Business (MSB)","Active",null,null,null,null,null,null,"9990","SFAS 158 Annual Pension Adj","9990-SFAS 158 Annual Pension Adj","Expense",null,"RC4401","RC4401||4400","4400","Sale of Services","Primary","All",null,9990,"SFAS 158 Annual Pension Adj","9990-SFAS 158 Annual Pension Adj","Expense"]
[null,null,null,null,null,null,"AC00154","[LIB] Library Remodeling","AC00154-[LIB] Library Remodeling","Activity","FD01","Active","2025-03-17T16:11:50.579797+00:00",null,"SC2500","Notes Payable","SC2500-Notes Payable","Spend Category","Active",null,null,"01262","Lora Cook","01262-Lora Cook",null,null,null,"AS018119026","Pamela Rock (018119026) FHSS - School of Family Life","AS018119026-Pamela Rock (018119026) FHSS - School of Family Life","Active",null,null,null,null,null,null,"9994","Retainage Interest Clearing","9994-Retainage Interest Clearing","Liability",null,"RC4402","RC4402||4400","4400","Sale of Services","Primary","All",null,9994,"Retainage Interest Clearing","9994-Retainage Interest Clearing","Liability"]
[null,null,null,null,null,null,"AC00156","[LIB] Conservation","AC00156-[LIB] Conservation","Activity","FD01","Active","2025-03-20T02:04:12.994064+00:00",null,"SC2510","Notes Payable - Church","SC2510-Notes Payable - Church","Spend Category","Active",null,null,"01264","Richard West","01264-Richard West",null,null,null,"AS018224850","Kathryn Knudsen (018224850) Fine Arts & Communications - Art","AS018224850-Kathryn Knudsen (018224850) Fine Arts & Communications - Art","Active",null,null,null,null,null,null,"9995","Allocation Clearing","9995-Allocation Clearing","Liability",null,"RC4403","RC4403||4400","4400","Sale of Services","Primary","All",null,9995,"Allocation Clearing","9995-Allocation Clearing","Liability"]
[null,null,null,null,null,null,"AC00157","[LIB] Collections Mgmt-General","AC00157-[LIB] Collections Mgmt-General","Activity","FD01","Active","2025-03-17T16:11:50.579797+00:00",null,"SC4000","Returnable","SC4000-Returnable","Spend Category","Active",null,null,"01284","Anton Bowden","01284-Anton Bowden",null,null,null,"AS018283196","Jane Brady (018283196) Humanities - English","AS018283196-Jane Brady (018283196) Humanities - English","Active",null,null,null,null,null,null,"9996","Cash Conversion (Fin Serv Only)","9996-Cash Conversion (Fin Serv Only)","Expense",null,"RC4404","RC4404||2600","2600","Deferred Revenue",null,"All",null,9996,"Cash Conversion (Fin Serv Only)","9996-Cash Conversion (Fin Serv Only)","Expense"]
[null,null,null,null,null,null,"AC00158","[LIB] Collections Mgmt-Special","AC00158-[LIB] Collections Mgmt-Special","Activity","FD01","Active","2025-03-17T16:11:50.579797+00:00",null,"SC4100","Tuition and Fees Refunds","SC4100-Tuition and Fees Refunds","Spend Category","Active",null,null,"01298","Ben Jenkins","01298-Ben Jenkins",null,null,null,"AS018372900","Haley Dunkley (018372900) OIT Core -  CES Privacy & Records Mgmt","AS018372900-Haley Dunkley (018372900) OIT Core -  CES Privacy & Records Mgmt","Active",null,null,null,null,null,null,"9997E","Conversion Grant Expense","9997E-Conversion Grant Expense","Expense",null,"RC4404","RC4404||4400","4400","Sale of Services","Primary","All",null,"9997E","Conversion Grant Expense","9997E-Conversion Grant Expense","Expense"]
[null,null,null,null,null,null,"AC00159","[LIB] Collections Mgmt-Auxiliary","AC00159-[LIB] Collections Mgmt-Auxiliary","Activity","FD01","Active","2025-03-17T16:11:50.579797+00:00",null,"SC4400","Sale of Services Refunds","SC4400-Sale of Services Refunds","Spend Category","Active",null,null,"01301","Teresa Harper","01301-Teresa Harper",null,null,null,"AS018408225","Tegwyn Ellingson (018408225) PF Grounds & Landscape Management","AS018408225-Tegwyn Ellingson (018408225) PF Grounds & Landscape Management","Active",null,null,null,null,null,null,"9997R","Conversion Grant Revenue","9997R-Conversion Grant Revenue","Income",null,"RC4405","RC4405||2600","2600","Deferred Revenue",null,"All",null,"9997R","Conversion Grant Revenue","9997R-Conversion Grant Revenue","Income"]
[null,null,null,null,null,null,"AC00160","[LIB] Interlibrary Loan","AC00160-[LIB] Interlibrary Loan","Activity","FD02","Active","2025-03-17T16:11:50.579797+00:00",null,"SC4500","Sale of Goods Refunds","SC4500-Sale of Goods Refunds","Spend Category","Active",null,null,"01302","Terisa P Gabrielsen","01302-Terisa P Gabrielsen",null,null,null,"AS018542884","Melissa Larson (018542884) MSB - School of Accountancy","AS018542884-Melissa Larson (018542884) MSB - School of Accountancy","Active",null,null,null,null,null,null,"9998","Inventory Conversion","9998-Inventory Conversion","Asset",null,"RC4405","RC4405||4400","4400","Sale of Services","Primary","All",null,9998,"Inventory Conversion","9998-Inventory Conversion","Asset"]
[null,null,null,null,null,null,"AC00162","[LIB] Library Collections","AC00162-[LIB] Library Collections","Activity","FD01","Active","2025-03-17T16:11:50.579797+00:00",null,"SC4700","Other Income Refunds","SC4700-Other Income Refunds","Spend Category","Active",null,null,"01306","Kelly Bready","01306-Kelly Bready",null,null,null,"AS018545473","John Adams (018545473) Museum of Art - Financial Support","AS018545473-John Adams (018545473) Museum of Art - Financial Support","Active",null,null,null,null,null,null,"9999","Conversion Grant Receviable","9999-Conversion Grant Receviable","Asset",null,"RC4406","RC4406||2600","2600","Deferred Revenue",null,"All",null,9999,"Conversion Grant Receviable","9999-Conversion Grant Receviable","Asset"]
[null,null,null,null,null,null,"AC00163","[LIB] Monographs","AC00163-[LIB] Monographs","Activity","FD01","Active","2025-03-17T16:11:50.579797+00:00",null,"SC4901","Cost of Goods Sold (not otherwise specified)","SC4901-Cost of Goods Sold (not otherwise specified)","Spend Category","Active",null,null,"01307","Marc Killpack","01307-Marc Killpack",null,null,null,"AS018613633","Veeren Chengalaram (018613633) Catering Services","AS018613633-Veeren Chengalaram (018613633) Catering Services","Active",null,null,null,null,null,null,null,null,null,null,null,"RC4406","RC4406||4400","4400","Sale of Services","Primary","All"]
[null,null,null,null,null,null,"AC00164","[LIB] Access Fees","AC00164-[LIB] Access Fees","Activity","FD01","Active","2025-03-17T16:11:50.579797+00:00",null,"SC4902","Inventory Adjustment","SC4902-Inventory Adjustment","Spend Category","Active",null,null,"01327","Lance Erickson","01327-Lance Erickson",null,null,null,"AS018757946","Cindy Brewer (018757946) Humanities - German & Russian","AS018757946-Cindy Brewer (018757946) Humanities - German & Russian","Active",null,null,null,null,null,null,null,null,null,null,null,"RC4407","RC4407||2600","2600","Deferred Revenue",null,"All"]
[null,null,null,null,null,null,"AC00165","[LIB] E-Books","AC00165-[LIB] E-Books","Activity","FD01","Active","2025-03-17T16:11:50.579797+00:00",null,"SC4903","Freight-In","SC4903-Freight-In","Spend Category","Active",null,null,"01330","Amy Gabbitas","01330-Amy Gabbitas",null,null,null,"AS018762637","Ransford Sorensen (018762637) PF Moving, Receiving, & Office Furniture","AS018762637-Ransford Sorensen (018762637) PF Moving, Receiving, & Office Furniture","Active",null,null,null,null,null,null,null,null,null,null,null,"RC4407","RC4407||4400","4400","Sale of Services","Primary","All"]
[null,null,null,null,null,null,"AC00166","[LIB] Spec Coll.-Approval","AC00166-[LIB] Spec Coll.-Approval","Activity","FD01","Active","2025-03-17T16:11:50.579797+00:00",null,"SC4904","Purchase Discounts Earned","SC4904-Purchase Discounts Earned","Spend Category","Active",null,null,"01341","Chien-Ti Lee","01341-Chien-Ti Lee",null,null,null,"AS018943446","Pedro Fernandez (018943446) Culinary Support Center","AS018943446-Pedro Fernandez (018943446) Culinary Support Center","Active",null,null,null,null,null,null,null,null,null,null,null,"RC4408","RC4408||2600","2600","Deferred Revenue",null,"All"]
[null,null,null,null,null,null,"AC00167","[LIB] Spec. Coll.-Standing Order","AC00167-[LIB] Spec. Coll.-Standing Order","Activity","FD01","Active","2025-03-17T16:11:50.579797+00:00",null,"SC4910","Cost of Goods Sold - Food and Beverages","SC4910-Cost of Goods Sold - Food and Beverages","Spend Category","Active",null,null,"01344","Daniel Kay","01344-Daniel Kay",null,null,null,"AS018999930","Kelly Taylor (018999930) OIT Portfolio - Business, Finance, & HR","AS018999930-Kelly Taylor (018999930) OIT Portfolio - Business, Finance, & HR","Active",null,null,null,null,null,null,null,null,null,null,null,"RC4408","RC4408||4400","4400","Sale of Services","Primary","All"]
[null,null,null,null,null,null,"AC00168","[LIB] Databases One-Time","AC00168-[LIB] Databases One-Time","Activity","FD01","Active","2025-03-17T16:11:50.579797+00:00",null,"SC4911","Cost of Goods Sold - Clothing","SC4911-Cost of Goods Sold - Clothing","Spend Category","Active",null,null,"01346","Scott Sanders","01346-Scott Sanders",null,null,null,"AS019040568","Greg Zippi (019040568) MSB - Marketing & Global Supply Chain","AS019040568-Greg Zippi (019040568) MSB - Marketing & Global Supply Chain","Active",null,null,null,null,null,null,null,null,null,null,null,"RC4409","RC4409||2600","2600","Deferred Revenue",null,"All"]
[null,null,null,null,null,null,"AC00169","[LIB] Databases","AC00169-[LIB] Databases","Activity","FD01","Active","2025-03-17T16:11:50.579797+00:00",null,"SC4912","Cost of Goods Sold - Art/Craft Supplies","SC4912-Cost of Goods Sold - Art/Craft Supplies","Spend Category","Active",null,null,"01354","Aaron Miller","01354-Aaron Miller",null,null,null,"AS019164465","Blake Peterson (019164465) CMS - Mathematics Education","AS019164465-Blake Peterson (019164465) CMS - Mathematics Education","Active",null,null,null,null,null,null,null,null,null,null,null,"RC4409","RC4409||4400","4400","Sale of Services","Primary","All"]
[null,null,null,null,null,null,"AC00170","[LIB] Commercial Binding/Travel","AC00170-[LIB] Commercial Binding/Travel","Activity","FD01","Active","2025-03-17T16:11:50.579797+00:00",null,"SC4913","Cost of Goods Sold - Paper/Print Supplies","SC4913-Cost of Goods Sold - Paper/Print Supplies","Spend Category","Active",null,null,"01356","Alexis Davis","01356-Alexis Davis",null,null,null,"AS019286404","Becca Laubaugh (HUM)","AS019286404-Becca Laubaugh (HUM)","Active",null,null,null,null,null,null,null,null,null,null,null,"RC4499","RC4499||2600","2600","Deferred Revenue",null,"All"]
[null,null,null,null,null,null,"AC00171","[LIB] Approval","AC00171-[LIB] Approval","Activity","FD01","Active","2025-03-17T16:11:50.579797+00:00",null,"SC5000","Staff Exempt Salaries","SC5000-Staff Exempt Salaries","Spend Category","Active",null,null,"01357","Shiegrid Hernandez","01357-Shiegrid Hernandez",null,null,null,"AS019343441","Heidi Engh (019343441) Academic Advisement Center","AS019343441-Heidi Engh (019343441) Academic Advisement Center","Active",null,null,null,null,null,null,null,null,null,null,null,"RC4499","RC4499||4400","4400","Sale of Services","Primary","All"]
[null,null,null,null,null,null,"AC00172","[LIB] Serials-Print","AC00172-[LIB] Serials-Print","Activity","FD01","Active","2025-03-17T16:11:50.579797+00:00",null,"SC5009","Staff Exempt Salaries (reclass)","SC5009-Staff Exempt Salaries (reclass)","Spend Category","Active",null,null,"01359","Karla Ward","01359-Karla Ward",null,null,null,"AS019488149","Anna Khorenko (019488149) Wilkinson Center","AS019488149-Anna Khorenko (019488149) Wilkinson Center","Active",null,null,null,null,null,null,null,null,null,null,null,"RC4501","RC4501||2600","2600","Deferred Revenue",null,"All"]
[null,null,null,null,null,null,"AC00173","[LIB] Serials-Electronic","AC00173-[LIB] Serials-Electronic","Activity","FD01","Active","2025-03-17T16:11:50.579797+00:00",null,"SC5030","Staff Exempt Salaries (Overload)","SC5030-Staff Exempt Salaries (Overload)","Spend Category","Active",null,null,"01364","Christensen, McKay Scienc Fair","01364-Christensen, McKay Scienc Fair",null,null,null,"AS019681629","Ben Beck (019681629) MSB - Marketing & Global Supply Chain","AS019681629-Ben Beck (019681629) MSB - Marketing & Global Supply Chain","Active",null,null,null,null,null,null,null,null,null,null,null,"RC4501","RC4501||4500","4500","Sale of Goods","Primary","All"]
[null,null,null,null,null,null,"AC00174","[LIB] Memberships","AC00174-[LIB] Memberships","Activity","FD01","Active","2025-03-17T16:11:50.579797+00:00",null,"SC5100","Faculty Salaries","SC5100-Faculty Salaries","Spend Category","Active",null,null,"01366","Craig Hart/Toronto, FHSS","01366-Craig Hart/Toronto, FHSS",null,null,null,"AS019738012","Timothy Gubler (019738012) MSB - Management","AS019738012-Timothy Gubler (019738012) MSB - Management","Active",null,null,null,null,null,null,null,null,null,null,null,"RC4502","RC4502||2600","2600","Deferred Revenue",null,"All"]
[null,null,null,null,null,null,"AC00175","[LIB] Standing Order - Open","AC00175-[LIB] Standing Order - Open","Activity","FD01","Active","2025-03-17T16:11:50.579797+00:00",null,"SC5109","Faculty Salaries (reclass)","SC5109-Faculty Salaries (reclass)","Spend Category","Active",null,null,"01367","Sherina Saasa","01367-Sherina Saasa",null,null,null,"AS019844751","Steve Driggs (019844751) Fine Arts & Communications - School of Communications","AS019844751-Steve Driggs (019844751) Fine Arts & Communications - School of Communications","Active",null,null,null,null,null,null,null,null,null,null,null,"RC4502","RC4502||4500","4500","Sale of Goods","Primary","All"]
[null,null,null,null,null,null,"AC00176","[LIB] Coll. Dev.-Strategic","AC00176-[LIB] Coll. Dev.-Strategic","Activity","FD01","Active","2025-03-17T16:11:50.579797+00:00",null,"SC5120","Faculty Spring Summer Salaries","SC5120-Faculty Spring Summer Salaries","Spend Category","Active",null,null,"01368","Michael J Larson, FHSS-Psychol","01368-Michael J Larson, FHSS-Psychol",null,null,null,"AS019877473","Jonathan Pike (019877473) Wheatley Institute - Student Programs","AS019877473-Jonathan Pike (019877473) Wheatley Institute - Student Programs","Active",null,null,null,null,null,null,null,null,null,null,null,"RC4503","RC4503||2600","2600","Deferred Revenue",null,"All"]
[null,null,null,null,null,null,"AC00177","[LIB] CCLA One-Time","AC00177-[LIB] CCLA One-Time","Activity","FD01","Active","2025-03-17T16:11:50.579797+00:00",null,"SC5130","Faculty Salaries (Supplemental/Overload)","SC5130-Faculty Salaries (Supplemental/Overload)","Spend Category","Active",null,null,"01369","Rich Christianson","01369-Rich Christianson",null,null,null,"AS019877600","Brandt Redd (019877600) College of Engineering - Electrical & Computer Engineering","AS019877600-Brandt Redd (019877600) College of Engineering - Electrical & Computer Engineering","Active",null,null,null,null,null,null,null,null,null,null,null,"RC4503","RC4503||4500","4500","Sale of Goods","Primary","All"]
[null,null,null,null,null,null,"AC00178","[LIB] CES Shared Resources","AC00178-[LIB] CES Shared Resources","Activity","FD01","Active","2025-03-17T16:11:50.579797+00:00",null,"SC5150","Faculty Professorship / Fellowship","SC5150-Faculty Professorship / Fellowship","Spend Category","Active",null,null,"01370","Melissa Kagi","01370-Melissa Kagi",null,null,null,"AS019967479","Laura Hinton (019967479) Registrar's Office","AS019967479-Laura Hinton (019967479) Registrar's Office","Active",null,null,null,null,null,null,null,null,null,null,null,"RC4504","RC4504||2600","2600","Deferred Revenue",null,"All"]
[null,null,null,null,null,null,"AC00179","[LIB] Journal Packages","AC00179-[LIB] Journal Packages","Activity","FD01","Active","2025-03-17T16:11:50.579797+00:00",null,"SC5190","Faculty Visiting and Researcher","SC5190-Faculty Visiting and Researcher","Spend Category","Active",null,null,"01371","Sherinah Saasa","01371-Sherinah Saasa",null,null,null,"AS020236009","Rick Johnson (020236009) Office of Research Computing","AS020236009-Rick Johnson (020236009) Office of Research Computing","Active",null,null,null,null,null,null,null,null,null,null,null,"RC4504","RC4504||4500","4500","Sale of Goods","Primary","All"]
[null,null,null,null,null,null,"AC00180","[LIB] Open Access","AC00180-[LIB] Open Access","Activity","FD01","Active","2025-03-17T16:11:50.579797+00:00",null,"SC5300","Faculty Adjunct Salaries","SC5300-Faculty Adjunct Salaries","Spend Category","Active",null,null,"01D20","Campus Network Modernization","01D20-Campus Network Modernization",null,null,null,"AS020370344","Melissa Puente (020370344) BYU Broadcasting - Producers Group","AS020370344-Melissa Puente (020370344) BYU Broadcasting - Producers Group","Active",null,null,null,null,null,null,null,null,null,null,null,"RC4505","RC4505||2600","2600","Deferred Revenue",null,"All"]
[null,null,null,null,null,null,"AC00181","[LIB] Book Replacement","AC00181-[LIB] Book Replacement","Activity","FD02","Active","2025-03-17T16:11:50.579797+00:00",null,"SC5309","Faculty Adjunct Salaries (reclass)","SC5309-Faculty Adjunct Salaries (reclass)","Spend Category","Active",null,null,"01D21","Campus Network Modernization","01D21-Campus Network Modernization",null,null,null,"AS020525807","Bonnie Anderson (020525807) AVP - Dean, Marriott School of Business (MSB)","AS020525807-Bonnie Anderson (020525807) AVP - Dean, Marriott School of Business (MSB)","Active",null,null,null,null,null,null,null,null,null,null,null,"RC4505","RC4505||4500","4500","Sale of Goods","Primary","All"]
[null,null,null,null,null,null,"AC00183","[REL] Prof Develop  Leave","AC00183-[REL] Prof Develop  Leave","Activity","FD01","Active","2025-03-17T16:11:50.579797+00:00",null,"SC5320","Faculty Adjunct Salaries - Part Benefits","SC5320-Faculty Adjunct Salaries - Part Benefits","Spend Category","Active",null,null,"02D20","Hybrid Classrooms","02D20-Hybrid Classrooms",null,null,null,"AS020644133","Mike Montague (020644133) PF Building Operations","AS020644133-Mike Montague (020644133) PF Building Operations","Active",null,null,null,null,null,null,null,null,null,null,null,"RC4506","RC4506||2600","2600","Deferred Revenue",null,"All"]
[null,null,null,null,null,null,"AC00184","[REL] Univ Research Support","AC00184-[REL] Univ Research Support","Activity","FD01","Active","2025-03-17T16:11:50.579797+00:00",null,"SC5400","Staff Non-Exempt Wages","SC5400-Staff Non-Exempt Wages","Spend Category","Active",null,null,"02D21","CES Network Modernization","02D21-CES Network Modernization",null,null,null,"AS020830771","Christopher Blythe (020830771) Humanities - English","AS020830771-Christopher Blythe (020830771) Humanities - English","Active",null,null,null,null,null,null,null,null,null,null,null,"RC4506","RC4506||4500","4500","Sale of Goods","Primary","All"]
[null,null,null,null,null,null,"AC00185","[REL] R L Evans Chair","AC00185-[REL] R L Evans Chair","Activity","FD01","Active","2025-03-17T16:11:50.579797+00:00",null,"SC5409","Staff Non-Exempt Wages (reclass)","SC5409-Staff Non-Exempt Wages (reclass)","Spend Category","Active",null,null,"03D20","Network Security Framework","03D20-Network Security Framework",null,null,null,"AS021068280","Alana Tilley (021068280) BYU Broadcasting - Unit Production Manager Group","AS021068280-Alana Tilley (021068280) BYU Broadcasting - Unit Production Manager Group","Active",null,null,null,null,null,null,null,null,null,null,null,"RC4507","RC4507||2600","2600","Deferred Revenue",null,"All"]
[null,null,null,null,null,null,"AC00186","[REL] Religious Ed Graduate Support","AC00186-[REL] Religious Ed Graduate Support","Activity","FD01","Active","2025-03-17T16:11:50.579797+00:00",null,"SC5430","Staff Non-Exempt Wages (Overtime/Premium)","SC5430-Staff Non-Exempt Wages (Overtime/Premium)","Spend Category","Active",null,null,"05CON","ITS Contingency","05CON-ITS Contingency",null,null,null,"AS021468034","Erika Price (021468034) BYU Broadcasting - BYU Radio","AS021468034-Erika Price (021468034) BYU Broadcasting - BYU Radio","Active",null,null,null,null,null,null,null,null,null,null,null,"RC4507","RC4507||4500","4500","Sale of Goods","Primary","All"]
[null,null,null,null,null,null,"AC00187","[REL] Faculty Resource Center","AC00187-[REL] Faculty Resource Center","Activity","FD01","Active","2025-03-17T16:11:50.579797+00:00",null,"SC5500","Student Contract Research Assistant Salaries","SC5500-Student Contract Research Assistant Salaries","Spend Category","Active",null,null,"05D16","Classroom Technology Moderniza","05D16-Classroom Technology Moderniza",null,null,null,"AS021523180","Bruce Patrick (021523180) Brand & Creative","AS021523180-Bruce Patrick (021523180) Brand & Creative","Active",null,null,null,null,null,null,null,null,null,null,null,"RC4599","RC4599||2600","2600","Deferred Revenue",null,"All"]
[null,null,null,null,null,null,"AC00188","[REL] Associate Dean - Teaching","AC00188-[REL] Associate Dean - Teaching","Activity","FD01","Active","2025-03-17T16:11:50.579797+00:00",null,"SC5502","Student Contract Research Assistant Salaries-FICA","SC5502-Student Contract Research Assistant Salaries-FICA","Spend Category","Active",null,null,"05D19","Class Technology Modernization","05D19-Class Technology Modernization",null,null,null,"AS021557994","Preston Manwaring (021557994) College of Engineering - Electrical & Computer Engineering","AS021557994-Preston Manwaring (021557994) College of Engineering - Electrical & Computer Engineering","Active",null,null,null,null,null,null,null,null,null,null,null,"RC4599","RC4599||4500","4500","Sale of Goods","Primary","All"]
[null,null,null,null,null,null,"AC00189","[REL] Associate Dean - Scholarship/Research","AC00189-[REL] Associate Dean - Scholarship/Research","Activity","FD01","Active","2025-03-17T16:11:50.579797+00:00",null,"SC5503","Student Contract Teaching Assistant Salaries","SC5503-Student Contract Teaching Assistant Salaries","Spend Category","Active",null,null,"05D20","Classroom Technology Moderniza","05D20-Classroom Technology Moderniza",null,null,null,"AS021718504","John Newman (021718504) Executive Chef","AS021718504-John Newman (021718504) Executive Chef","Active",null,null,null,null,null,null,null,null,null,null,null,"RC4701","RC4701||4700","4700","Other Income","Primary","All"]
[null,null,null,null,null,null,"AC00190","[REL] Technology Support","AC00190-[REL] Technology Support","Activity","FD01","Active","2025-03-17T16:11:50.579797+00:00",null,"SC5504","Student Contract Teaching Assistant Salaries - FICA","SC5504-Student Contract Teaching Assistant Salaries - FICA","Spend Category","Active",null,null,"05D21","Classroom Technology Moderniz","05D21-Classroom Technology Moderniz",null,null,null,"AS021766623","Nate Pototschnik (021766623) Athletics - Football Sport Performance","AS021766623-Nate Pototschnik (021766623) Athletics - Football Sport Performance","Active",null,null,null,null,null,null,null,null,null,null,null,"RC4702","RC4702||4700","4700","Other Income","Primary","All"]
[null,null,null,null,null,null,"AC00191","[REL] Appropriated NonStudent Suppor","AC00191-[REL] Appropriated NonStudent Suppor","Activity","FD01","Active","2025-03-17T16:11:50.579797+00:00",null,"SC5509","Student Contract Salaries (reclass)","SC5509-Student Contract Salaries (reclass)","Spend Category","Active",null,null,"06D18","Production/Theatrical Tech","06D18-Production/Theatrical Tech",null,null,null,"AS021769172","Andrew Roberts (021769172) Humanities Advisement & Careers","AS021769172-Andrew Roberts (021769172) Humanities Advisement & Careers","Active",null,null,null,null,null,null,null,null,null,null,null,"RC4703","RC4703||4700","4700","Other Income","Primary","All"]
[null,null,null,null,null,null,"AC00192","[REL] Interfaith Engagement (RO)","AC00192-[REL] Interfaith Engagement (RO)","Activity","FD01","Active","2025-03-17T16:11:50.579797+00:00",null,"SC5540","Student Contract Wages - Other","SC5540-Student Contract Wages - Other","Spend Category","Active",null,null,"06D20","Production/Theatrical Tech","06D20-Production/Theatrical Tech",null,null,null,"AS022209827","Laurie Denning (HUM)","AS022209827-Laurie Denning (HUM)","Active",null,null,null,null,null,null,null,null,null,null,null,"RC4704","RC4704||2600","2600","Deferred Revenue",null,"All"]
[null,null,null,null,null,null,"AC00193","[AVP] RSC Endowment Appropriation","AC00193-[AVP] RSC Endowment Appropriation","Activity","FD01","Active","2025-08-29T02:04:09.097892+00:00",null,"SC5542","Student Contract Wages - Other FICA","SC5542-Student Contract Wages - Other FICA","Spend Category","Active",null,null,"06D21","Production/Theatrical Tech","06D21-Production/Theatrical Tech",null,null,null,"AS022295621","Jared Parrotti (022295621) PF Central Heating Plant","AS022295621-Jared Parrotti (022295621) PF Central Heating Plant","Active",null,null,null,null,null,null,null,null,null,null,null,"RC4704","RC4704||4700","4700","Other Income","Primary","All"]
[null,null,null,null,null,null,"AC00194","[REL] Gospel Sch Media Appropriation","AC00194-[REL] Gospel Sch Media Appropriation","Activity","FD01","Active","2025-03-17T16:11:50.579797+00:00",null,"SC5600","Student Hourly Wages","SC5600-Student Hourly Wages","Spend Category","Active",null,null,"079T3","JRCB WIRELESS  464-517 19322","079T3-JRCB WIRELESS  464-517 19322",null,null,null,"AS022317019","Terryl Givens (022317019) Neal A. Maxwell Institute","AS022317019-Terryl Givens (022317019) Neal A. Maxwell Institute","Active",null,null,null,null,null,null,null,null,null,null,null,"RC4705","RC4705||4700","4700","Other Income","Primary","All"]
[null,null,null,null,null,null,"AC00195","[REL] Inspiring Learning Appropriati","AC00195-[REL] Inspiring Learning Appropriati","Activity","FD01","Active","2025-03-17T16:11:50.579797+00:00",null,"SC5602","Student Hourly Wages-FICA","SC5602-Student Hourly Wages-FICA","Spend Category","Active",null,null,"07D20","AV Cable Plant Infrastucture","07D20-AV Cable Plant Infrastucture",null,null,null,"AS022417354","Sherilyn Farnes (022417354) Religious Education - Church History & Doctrine","AS022417354-Sherilyn Farnes (022417354) Religious Education - Church History & Doctrine","Active",null,null,null,null,null,null,null,null,null,null,null,"RC4706","RC4706||4700","4700","Other Income","Primary","All"]
[null,null,null,null,null,null,"AC00196","[REL] RELED Grad Programs","AC00196-[REL] RELED Grad Programs","Activity","FD01","Active","2025-03-17T16:11:50.579797+00:00",null,"SC5603","Student Hourly Teaching Assistant Wages","SC5603-Student Hourly Teaching Assistant Wages","Spend Category","Active",null,null,"08D20","Life Safety Comm Systems","08D20-Life Safety Comm Systems",null,null,null,"AS022826946","Kierica McPherson (022826946) Fine Arts & Communications - Dance","AS022826946-Kierica McPherson (022826946) Fine Arts & Communications - Dance","Active",null,null,null,null,null,null,null,null,null,null,null,"RC4707","RC4707||4700","4700","Other Income","Primary","All"]
[null,null,null,null,null,null,"AC00197","[REL] Ugrad Mentoring Block Grants","AC00197-[REL] Ugrad Mentoring Block Grants","Activity","FD01","Active","2025-03-17T16:11:50.579797+00:00",null,"SC5604","Student Hourly Teaching Assistant Wages - FICA","SC5604-Student Hourly Teaching Assistant Wages - FICA","Spend Category","Active",null,null,"08D21","Life Safety Comm Systems","08D21-Life Safety Comm Systems",null,null,null,"AS022937338","Albert Tay (022937338) College of Engineering - Electrical & Computer Engineering","AS022937338-Albert Tay (022937338) College of Engineering - Electrical & Computer Engineering","Active",null,null,null,null,null,null,null,null,null,null,null,"RC4708","RC4708||4700","4700","Other Income","Primary","All"]
[null,null,null,null,null,null,"AC00198","[REL] Interfaith Club","AC00198-[REL] Interfaith Club","Activity","FD02","Active","2025-03-17T16:11:50.579797+00:00",null,"SC5605","Student Hourly Research Assistant Wages","SC5605-Student Hourly Research Assistant Wages","Spend Category","Active",null,null,"09015","Zions Bank Escrow Haz","09015-Zions Bank Escrow Haz",null,null,null,"AS022988593","Osiris Buelvas Morelos (022988593) PF Building Operations","AS022988593-Osiris Buelvas Morelos (022988593) PF Building Operations","Active",null,null,null,null,null,null,null,null,null,null,null,"RC4709","RC4709||4700","4700","Other Income","Primary","All"]
[null,null,null,null,null,null,"AC00199","[REL] Conference Travel Grants","AC00199-[REL] Conference Travel Grants","Activity","FD03","Active","2025-03-17T16:11:50.579797+00:00",null,"SC5606","Student Hourly Research Assistant Wages - FICA","SC5606-Student Hourly Research Assistant Wages - FICA","Spend Category","Active",null,null,"09020","Receipts-Transact Extracts","09020-Receipts-Transact Extracts",null,null,null,"AS023224089","Scott Lee (023224089) Dining Administration","AS023224089-Scott Lee (023224089) Dining Administration","Active",null,null,null,null,null,null,null,null,null,null,null,"RC4710","RC4710||4700","4700","Other Income","Primary","All"]
[null,null,null,null,null,null,"AC00200","[REL] RSC Grant Reserve","AC00200-[REL] RSC Grant Reserve","Activity","FD03","Active","2025-03-17T16:11:50.579797+00:00",null,"SC5609","Student Hourly Wages (Reclass)","SC5609-Student Hourly Wages (Reclass)","Spend Category","Active",null,null,"09021","Receipts-Pay My Tuition","09021-Receipts-Pay My Tuition",null,null,null,"AS023225392","Preston Back (023225392) Indefinite Leaves","AS023225392-Preston Back (023225392) Indefinite Leaves","Active",null,null,null,null,null,null,null,null,null,null,null,"RC4711","RC4711||4700","4700","Other Income","Primary","JE_Gift|JE_Override"]
[null,null,null,null,null,null,"AC00201","[REL] Faculty-Student Mentoring","AC00201-[REL] Faculty-Student Mentoring","Activity","FD03","Active","2025-03-17T16:11:50.579797+00:00",null,"SC5700","Part-time Wages - No Benefits","SC5700-Part-time Wages - No Benefits","Spend Category","Active",null,null,"09022","CIBC","09022-CIBC",null,null,null,"AS023429296","Kristene Gillum (023429296) Retail Services - General Administration","AS023429296-Kristene Gillum (023429296) Retail Services - General Administration","Active",null,null,null,null,null,null,null,null,null,null,null,"RC4712","RC4712||4700","4700","Other Income","Primary","JE_Override"]
[null,null,null,null,null,null,"AC00202","[REL] RELED Research Royalties","AC00202-[REL] RELED Research Royalties","Activity","FD03","Active","2025-03-17T16:11:50.579797+00:00",null,"SC5709","Part-time Wages (reclass)","SC5709-Part-time Wages (reclass)","Spend Category","Active",null,null,"09025","Receipts-On Campus POS","09025-Receipts-On Campus POS",null,null,null,"AS023653877","Brian Blumer (023653877) AVP - Dean, College of Engineering","AS023653877-Brian Blumer (023653877) AVP - Dean, College of Engineering","Active",null,null,null,null,null,null,null,null,null,null,null,"RC4713","RC4713||4700","4700","Other Income","Primary","JE_PPE|JE_Override"]
[null,null,null,null,null,null,"AC00203","[REL] Religious Outreach","AC00203-[REL] Religious Outreach","Activity","FD03","Active","2025-03-17T16:11:50.579797+00:00",null,"SC5730","Part-time Wages - Part Benefits","SC5730-Part-time Wages - Part Benefits","Spend Category","Active",null,null,"09026","Receipts- Std Aux Svcs- Check","09026-Receipts- Std Aux Svcs- Check",null,null,null,"AS023754042","Korianne Johnson (023754042) Fine Arts & Communications - School of Music","AS023754042-Korianne Johnson (023754042) Fine Arts & Communications - School of Music","Active",null,null,null,null,null,null,null,null,null,null,null,"RC4714","RC4714||4700","4700","Other Income","Primary","All"]
[null,null,null,null,null,null,"AC00204","[REL] Experiential Learning","AC00204-[REL] Experiential Learning","Activity","FD03","Active","2025-03-17T16:11:50.579797+00:00",null,"SC5740","Part-time Contract Wages","SC5740-Part-time Contract Wages","Spend Category","Active",null,null,"09030","Receipts-BYU Bookstore","09030-Receipts-BYU Bookstore",null,null,null,"AS023771842","Jennifer Benson (023771842) College of Nursing","AS023771842-Jennifer Benson (023771842) College of Nursing","Active",null,null,null,null,null,null,null,null,null,null,null,"RC4715","RC4715||4700","4700","Other Income","Primary","JE_Override"]
[null,null,null,null,null,null,"AC00205","[REL] REL ED Sunshine Fund","AC00205-[REL] REL ED Sunshine Fund","Activity","FD07","Active","2025-03-17T16:11:50.579797+00:00",null,"SC5800","Taxable Payroll Additions","SC5800-Taxable Payroll Additions","Spend Category","Active",null,null,"09035","Receipts-Marriott Center","09035-Receipts-Marriott Center",null,null,null,"AS023913367","Janelle Bullock (HUM)","AS023913367-Janelle Bullock (HUM)","Active",null,null,null,null,null,null,null,null,null,null,null,"RC4716","RC4716||4700","4700","Other Income","Primary","JE_Override"]
[null,null,null,null,null,null,"AC00206","[REL] Egyptian Dig","AC00206-[REL] Egyptian Dig","Activity","FD01","Active","2025-03-17T16:11:50.579797+00:00",null,"SC5860","Moving Reimbursement","SC5860-Moving Reimbursement","Spend Category","Active",null,null,"09040","Receipts-Print Services","09040-Receipts-Print Services",null,null,null,"AS023915470","Hiroko Tsuiki (023915470) Humanities - Asian & Near Eastern Languages","AS023915470-Hiroko Tsuiki (023915470) Humanities - Asian & Near Eastern Languages","Active",null,null,null,null,null,null,null,null,null,null,null,"RC4717","RC4717||4700","4700","Other Income","Primary","All"]
[null,null,null,null,null,null,"AC00208","[AVP] RSC NonReligion Faculty Awards","AC00208-[AVP] RSC NonReligion Faculty Awards","Activity","FD01","Active","2025-03-17T16:11:50.579797+00:00",null,"SC5890","Project Labor Cost","SC5890-Project Labor Cost","Spend Category","Active",null,null,"09045","Receipts-BYU Broadcasting","09045-Receipts-BYU Broadcasting",null,null,null,"AS024217202","Jose Salmeron (024217202) PMPC Administration","AS024217202-Jose Salmeron (024217202) PMPC Administration","Active",null,null,null,null,null,null,null,null,null,null,null,"RC4799","RC4799||4700","4700","Other Income","Primary","All"]
[null,null,null,null,null,null,"AC00209","[AVP] The Religious Educator","AC00209-[AVP] The Religious Educator","Activity","FD02","Active","2025-03-17T16:11:50.579797+00:00",null,"SC5891","Project Labor Cost Recovery","SC5891-Project Labor Cost Recovery","Spend Category","Active",null,null,"09050","Receipts-Continuing Ed","09050-Receipts-Continuing Ed",null,null,null,"AS024233410","Jake Peterson (024233410) BYU Broadcasting - Unit Production Manager Group","AS024233410-Jake Peterson (024233410) BYU Broadcasting - Unit Production Manager Group","Active",null,null,null,null,null,null,null,null,null,null,null,"RC4800","RC4800||4800","4800","Intra-Division Sales","Primary","All"]
[null,null,null,null,null,null,"AC00210","[AVP] RSC Publications","AC00210-[AVP] RSC Publications","Activity","FD02","Active","2025-03-17T16:11:50.579797+00:00",null,"SC5892","Project Labor Cost Non-Capital","SC5892-Project Labor Cost Non-Capital","Spend Category","Active",null,null,"09055","Receipts-Aspen Grove","09055-Receipts-Aspen Grove",null,null,null,"AS024253975","Kathryn Blair (024253975) AVP - Dean, Clark Law School","AS024253975-Kathryn Blair (024253975) AVP - Dean, Clark Law School","Active",null,null,null,null,null,null,null,null,null,null,null,"RC4850","RC4850||4850","4850","Intra-Division Purchases","Primary","All"]
[null,null,null,null,null,null,"AC00212","[REL] Rel Educ Student Computer Lab","AC00212-[REL] Rel Educ Student Computer Lab","Activity","FD01","Active","2025-03-17T16:11:50.579797+00:00",null,"SC5893","Project Labor Cost Non-Capital Recovery","SC5893-Project Labor Cost Non-Capital Recovery","Spend Category","Active",null,null,"09060","Receipts-Student Health Ctr","09060-Receipts-Student Health Ctr",null,null,null,"AS024362791","James Gaskin (024362791) MSB - Information Systems","AS024362791-James Gaskin (024362791) MSB - Information Systems","Active",null,null,null,null,null,null,null,null,null,null,null,"RC4890","RC4890||4890","4890","Release of Restrictions","Primary","JE_Gift|JE_Override"]
[null,null,null,null,null,null,"AC00213","[REL] CHTS Admin","AC00213-[REL] CHTS Admin","Activity","FD01","Active","2025-03-17T16:11:50.579797+00:00",null,"SC5899","Taxable Payroll Additions (reclass)","SC5899-Taxable Payroll Additions (reclass)","Spend Category","Active",null,null,"09065","Receipts-BYU Sales (Treasury)","09065-Receipts-BYU Sales (Treasury)",null,null,null,"AS024539682","Chitral Chatterjee (024539682) CMS - Chemistry and Biochemistry","AS024539682-Chitral Chatterjee (024539682) CMS - Chemistry and Biochemistry","Active",null,null,null,null,null,null,null,null,null,null,null,"RC4891","RC4891||4890","4890","Release of Restrictions","Primary","JE_Gift|JE_Override"]
[null,null,null,null,null,null,"AC00214","[REL] Stance for the Family","AC00214-[REL] Stance for the Family","Activity","FD02","Active","2025-03-17T16:11:50.579797+00:00",null,"SC5900","Staff Exempt Benefits","SC5900-Staff Exempt Benefits","Spend Category","Active",null,null,"09070","Receipts-Dining Services","09070-Receipts-Dining Services",null,null,null,"AS024690920","Amy Easton-Flake (024690920) Religious Education - Ancient Scripture","AS024690920-Amy Easton-Flake (024690920) Religious Education - Ancient Scripture","Active",null,null,null,null,null,null,null,null,null,null,null,"RC4892","RC4892||4890","4890","Release of Restrictions","Primary","JE_Gift|JE_Override"]
[null,null,null,null,null,null,"AC00215","[REL] Foundations of Faith","AC00215-[REL] Foundations of Faith","Activity","FD03","Active","2025-03-17T16:11:50.579797+00:00",null,"SC5905","Staff Exempt Overload Benefits","SC5905-Staff Exempt Overload Benefits","Spend Category","Active",null,null,"09075","Receipts-Campus Life","09075-Receipts-Campus Life",null,null,null,"AS025101628","Corbin Emerick (025101628) Research Accounting","AS025101628-Corbin Emerick (025101628) Research Accounting","Active",null,null,null,null,null,null,null,null,null,null,null,"RC4893","RC4893||4890","4890","Release of Restrictions","Primary","JE_Gift|JE_Override"]
[null,null,null,null,null,null,"AC00217","[FHSS] Research Support","AC00217-[FHSS] Research Support","Activity","FD01","Active","2025-03-17T16:11:50.579797+00:00",null,"SC5910","Faculty Benefits","SC5910-Faculty Benefits","Spend Category","Active",null,null,"09080","Receipts-Alumni","09080-Receipts-Alumni",null,null,null,"AS025162505","David Wiseman (025162505) Humanities - Spanish & Portuguese","AS025162505-David Wiseman (025162505) Humanities - Spanish & Portuguese","Active",null,null,null,null,null,null,null,null,null,null,null,"RC6402","RC6402||6400","6400","General and Administrative","Primary","All"]
[null,null,null,null,null,null,"AC00218","[FHSS] FHSS Advisement Center","AC00218-[FHSS] FHSS Advisement Center","Activity","FD01","Active","2025-08-06T02:03:38.402011+00:00",null,"SC5915","Faculty Supplemental/Overload Benefits","SC5915-Faculty Supplemental/Overload Benefits","Spend Category","Active",null,null,"09085","Receipts-PERSS","09085-Receipts-PERSS",null,null,null,"AS025183689","Sophie Stanley (025183689) Fine Arts & Communications - School of Music","AS025183689-Sophie Stanley (025183689) Fine Arts & Communications - School of Music","Active",null,null,null,null,null,null,null,null,null,null,null,"RC6403","RC6403||6400","6400","General and Administrative","Primary","All"]
[null,null,null,null,null,null,"AC00219","[FHSS] FHSS Computing Services","AC00219-[FHSS] FHSS Computing Services","Activity","FD01","Active","2025-04-26T02:03:25.371428+00:00",null,"SC5930","Faculty Adjunct Benefits","SC5930-Faculty Adjunct Benefits","Spend Category","Active",null,null,"09090","Receipts-Cougar Club","09090-Receipts-Cougar Club",null,null,null,"AS025187751","Jeanice Woodbrey (025187751) Fine Arts & Communications - School of Music","AS025187751-Jeanice Woodbrey (025187751) Fine Arts & Communications - School of Music","Active",null,null,null,null,null,null,null,null,null,null,null,"SC0101","SC0101||0100","0100","Budget Carryover/Unallocated","Budget_Only","JE_Override"]
[null,null,null,null,null,null,"AC00220","[FHSS] FHSS Writing Lab","AC00220-[FHSS] FHSS Writing Lab","Activity","FD01","Active","2025-09-03T02:03:41.92783+00:00",null,"SC5940","Staff Non-Exempt Benefits","SC5940-Staff Non-Exempt Benefits","Spend Category","Active",null,null,"09095","Receipts-BYU Music Group","09095-Receipts-BYU Music Group",null,null,null,"AS025389540","Jared Wilkey (025389540) Culinary Support Center","AS025389540-Jared Wilkey (025389540) Culinary Support Center","Active",null,null,null,null,null,null,null,null,null,null,null,"SC0102","SC0102||0100","0100","Budget Carryover/Unallocated","Budget_Only","JE_Override"]
[null,null,null,null,null,null,"AC00221","[FHSS] MRI Facility","AC00221-[FHSS] MRI Facility","Activity","FD01","Active","2025-09-14T02:07:09.382047+00:00",null,"SC5945","Staff Non-Exempt Overtime/Premium Benefits","SC5945-Staff Non-Exempt Overtime/Premium Benefits","Spend Category","Active",null,null,"09100","Receipts-Outdoors Unlimited","09100-Receipts-Outdoors Unlimited",null,null,null,"AS025510924","Jeff Hill (025510924) College of Engineering - Mechanical Engineering","AS025510924-Jeff Hill (025510924) College of Engineering - Mechanical Engineering","Active",null,null,null,null,null,null,null,null,null,null,null,"SC0103","SC0103||0100","0100","Budget Carryover/Unallocated","Budget_Only","JE_Override"]
[null,null,null,null,null,null,"AC00222","[FHSS] FHSS Belonging and Diversity","AC00222-[FHSS] FHSS Belonging and Diversity","Activity","FD01","Active","2025-03-17T16:11:50.579797+00:00",null,"SC5950","Student Benefits","SC5950-Student Benefits","Spend Category","Active",null,null,"09115","Receipts-Marriott School","09115-Receipts-Marriott School",null,null,null,"AS025583430","Douglas Walker (025583430) Dining Finance","AS025583430-Douglas Walker (025583430) Dining Finance","Active",null,null,null,null,null,null,null,null,null,null,null,"SC0104","SC0104||0100","0100","Budget Carryover/Unallocated","Budget_Only","JE_Override"]
[null,null,null,null,null,null,"AC00223","[FHSS] MRI Facility Operations","AC00223-[FHSS] MRI Facility Operations","Activity","FD02","Active","2025-03-17T16:11:50.579797+00:00",null,"SC5970","Part-time Benefits","SC5970-Part-time Benefits","Spend Category","Active",null,null,"09120","Receipts - BYU Law School","09120-Receipts - BYU Law School",null,null,null,"AS025690788","Danae Hamilton-Whitcomb (025690788) Research Accounting","AS025690788-Danae Hamilton-Whitcomb (025690788) Research Accounting","Active",null,null,null,null,null,null,null,null,null,null,null,"SC0610","SC0610||6100","6100","Materials and Supplies","Budget_Only","JE_Override"]
[null,null,null,null,null,null,"AC00224","[FHSS] Prof Dev-Fh & Ss","AC00224-[FHSS] Prof Dev-Fh & Ss","Activity","FD03","Active","2025-03-17T16:11:50.579797+00:00",null,"SC5990","Other Local/State Payroll Tax","SC5990-Other Local/State Payroll Tax","Spend Category","Active",null,null,"09125","Web Credit Card Payments","09125-Web Credit Card Payments",null,null,null,"AS025767806","Peter Gardner (025767806) Brand & Creative","AS025767806-Peter Gardner (025767806) Brand & Creative","Active",null,null,null,null,null,null,null,null,null,null,null,"SC0630","SC0630||6300","6300","Student Aid","Budget_Only","JE_Override"]
[null,null,null,null,null,null,"AC00225","[FHSS] Diversity, Collaboration & Inc","AC00225-[FHSS] Diversity, Collaboration & Inc","Activity","FD03","Active","2025-03-17T16:11:50.579797+00:00",null,"SC5995","University Benefits-Payments","SC5995-University Benefits-Payments","Spend Category","Active",null,null,"09527","Investment Adj","09527-Investment Adj",null,null,null,"AS025827379","Brian Olson (025827379) Fine Arts & Communications - Theatre & Media Arts","AS025827379-Brian Olson (025827379) Fine Arts & Communications - Theatre & Media Arts","Active",null,null,null,null,null,null,null,null,null,null,null,"SC0640","SC0640||6400","6400","General and Administrative","Budget_Only","JE_Override"]
[null,null,null,null,null,null,"AC00227","[FHSS] FHSS ELF","AC00227-[FHSS] FHSS ELF","Activity","FD03","Active","2025-03-17T16:11:50.579797+00:00",null,"SC5998","FICA Clearing (Payroll System Only)","SC5998-FICA Clearing (Payroll System Only)","Spend Category","Active",null,null,"09610","Agency Checks","09610-Agency Checks",null,null,null,"AS026056907","Tracy Nuttall (026056907) Law School","AS026056907-Tracy Nuttall (026056907) Law School","Active",null,null,null,null,null,null,null,null,null,null,null,"SC0670","SC0670||6700","6700","Physical Facilities","Budget_Only","JE_Override"]
[null,null,null,null,null,null,"AC00228","[FHSS] Washington Sem Housn","AC00228-[FHSS] Washington Sem Housn","Activity","FD02","Active","2025-09-03T02:03:41.92783+00:00",null,"SC5999","Benefits (reclass)","SC5999-Benefits (reclass)","Spend Category","Active",null,null,"09699","Receipt Adjustments","09699-Receipt Adjustments",null,null,null,"AS026277052","Eric Blum (026277052) MSB - Public Service & Ethics","AS026277052-Eric Blum (026277052) MSB - Public Service & Ethics","Active",null,null,null,null,null,null,null,null,null,null,null,"SC0691","SC0691||6900","6900","Equipment, Software, Library","Budget_Only","JE_Override"]
[null,null,null,null,null,null,"AC00230","[FHSS] American Hertg Book Royalty","AC00230-[FHSS] American Hertg Book Royalty","Activity","FD03","Active","2025-03-17T16:11:52.138121+00:00",null,"SC6101","Animal Supplies","SC6101-Animal Supplies","Spend Category","Active",null,null,"09799","Disbursement Adjustments","09799-Disbursement Adjustments",null,null,null,"AS026423163","Andrea Richards (026423163) Dining Finance","AS026423163-Andrea Richards (026423163) Dining Finance","Active",null,null,null,null,null,null,null,null,null,null,null,"SC0692","SC0692||6900","6900","Equipment, Software, Library","Budget_Only","JE_Override"]
[null,null,null,null,null,null,"AC00231","[FHSS] Redd Public History","AC00231-[FHSS] Redd Public History","Activity","FD03","Active","2025-03-17T16:11:52.138121+00:00",null,"SC6102","Animals","SC6102-Animals","Spend Category","Active",null,null,"09900","Disbursements-A/P","09900-Disbursements-A/P",null,null,null,"AS026563312","Sarah Warcup","AS026563312-Sarah Warcup","Active",null,null,null,null,null,null,null,null,null,null,null,"SC0693","SC0693||6900","6900","Equipment, Software, Library","Budget_Only","JE_Override"]
[null,null,null,null,null,null,"AC00232","[FHSS] Charles Redd Center ELF","AC00232-[FHSS] Charles Redd Center ELF","Activity","FD03","Active","2025-03-17T16:11:52.138121+00:00",null,"SC6103","Art","SC6103-Art","Spend Category","Active",null,null,"10000","Executive Director UCS","10000-Executive Director UCS",null,null,null,"AS026681880","Kevin Worthen (026681880) AVP - Dean, Clark Law School","AS026681880-Kevin Worthen (026681880) AVP - Dean, Clark Law School","Active",null,null,null,null,null,null,null,null,null,null,null,"SC0694","SC0694||6900","6900","Equipment, Software, Library","Budget_Only","JE_Override"]
[null,null,null,null,null,null,"AC00233","[FHSS] Civic Engagement Activities","AC00233-[FHSS] Civic Engagement Activities","Activity","FD03","Active","2025-03-17T16:11:52.138121+00:00",null,"SC6104","Art Supplies","SC6104-Art Supplies","Spend Category","Active",null,null,"10001","Special Projects","10001-Special Projects",null,null,null,"AS026743714","Jessica Harrison (026743714) MSE - Communication Disorders","AS026743714-Jessica Harrison (026743714) MSE - Communication Disorders","Active",null,null,null,null,null,null,null,null,null,null,null,"SC0695","SC0695||6900","6900","Equipment, Software, Library","Budget_Only","JE_Override"]
[null,null,null,null,null,null,"AC00234","[FHSS] Comprehensive Clinic Collections","AC00234-[FHSS] Comprehensive Clinic Collections","Activity","FD02","Active","2025-09-14T02:07:09.382047+00:00",null,"SC6105","Athletic Supplies","SC6105-Athletic Supplies","Spend Category","Active",null,null,"10025","Faculty Profile System - BYU-H","10025-Faculty Profile System - BYU-H",null,null,null,"AS026852607","Clint Payne (026852607) CE Classroom Programs","AS026852607-Clint Payne (026852607) CE Classroom Programs","Active",null,null,null,null,null,null,null,null,null,null,null,"SC0696","SC0696||6900","6900","Equipment, Software, Library","Budget_Only","JE_Override"]
[null,null,null,null,null,null,"AC00235","[FHSS] Archaeology Field School","AC00235-[FHSS] Archaeology Field School","Activity","FD01","Active","2025-12-23T03:03:46.402357+00:00",null,"SC6106","Audio Visual Supplies","SC6106-Audio Visual Supplies","Spend Category","Active",null,null,"10165","Emergency Systems","10165-Emergency Systems",null,null,null,"AS026889994","Moni Tiatia (026889994) Fine Arts & Communications - Dance","AS026889994-Moni Tiatia (026889994) Fine Arts & Communications - Dance","Active",null,null,null,null,null,null,null,null,null,null,null,"SC0697","SC0697||6900","6900","Equipment, Software, Library","Budget_Only","JE_Override"]
[null,null,null,null,null,null,"AC00236","[FHSS] Anthropology Grad Student Funds","AC00236-[FHSS] Anthropology Grad Student Funds","Activity","FD01","Active","2025-09-14T02:07:09.382047+00:00",null,"SC6107","Clothing, Uniforms, Linens","SC6107-Clothing, Uniforms, Linens","Spend Category","Active",null,null,"10332","OIT Key Deposits","10332-OIT Key Deposits",null,null,null,"AS026968306","Kara Stephenson (026968306) Special Events","AS026968306-Kara Stephenson (026968306) Special Events","Active",null,null,null,null,null,null,null,null,null,null,null,"SC1055","SC1055||1055","1055","Gift Cards","Primary","All"]
[null,null,null,null,null,null,"AC00237","[FHSS] Anthropology Club","AC00237-[FHSS] Anthropology Club","Activity","FD02","Active","2025-03-17T16:11:52.138121+00:00",null,"SC6108","Data Network Supplies","SC6108-Data Network Supplies","Spend Category","Active",null,null,"10365","Non Restr-Contract","10365-Non Restr-Contract",null,null,null,"AS027018184","Cougar Hall (027018184) Life Sciences - Public Health","AS027018184-Cougar Hall (027018184) Life Sciences - Public Health","Active",null,null,null,null,null,null,null,null,null,null,null,"SC1218","SC1218||1200","1200","Department Receivable","Primary","All"]
[null,null,null,null,null,null,"AC00238","[FHSS] Publications in Archaeology","AC00238-[FHSS] Publications in Archaeology","Activity","FD03","Active","2025-03-17T16:11:52.138121+00:00",null,"SC6109","Floral Supplies","SC6109-Floral Supplies","Spend Category","Active",null,null,"1042S","IRS Form 1042S Tax","1042S-IRS Form 1042S Tax",null,null,null,"AS027047970","Sarah Dethloff (027047970) Management Department","AS027047970-Sarah Dethloff (027047970) Management Department","Active",null,null,null,null,null,null,null,null,null,null,null,"SC1218","SC1218||1210","1210","Off Campus Receivable",null,"All"]
[null,null,null,null,null,null,"AC00239","[FHSS] Zachary Chase GMA","AC00239-[FHSS] Zachary Chase GMA","Activity","FD03","Active","2025-03-17T16:11:52.138121+00:00",null,"SC6110","Food and Beverages","SC6110-Food and Beverages","Spend Category","Active",null,null,"10501","Student Workshops","10501-Student Workshops",null,null,null,"AS027094351","Joyce Guidi (027094351) Humanities - French & Italian Languages","AS027094351-Joyce Guidi (027094351) Humanities - French & Italian Languages","Active",null,null,null,null,null,null,null,null,null,null,null,"SC1290","SC1290||1290","1290","Clearing-Receivable","Primary","All"]
[null,null,null,null,null,null,"AC00241","[FHSS] Anthropology Field Schools","AC00241-[FHSS] Anthropology Field Schools","Activity","FD03","Active","2025-03-17T16:11:52.138121+00:00",null,"SC6111","Food Service Disposables","SC6111-Food Service Disposables","Spend Category","Active",null,null,"10545","Computer Associates","10545-Computer Associates",null,null,null,"AS027184603","Tim Law (027184603) BYU Broadcasting - Digital Media","AS027184603-Tim Law (027184603) BYU Broadcasting - Digital Media","Active",null,null,null,null,null,null,null,null,null,null,null,"SC1300","SC1300||1300","1300","Inventory - Workday","Primary","All"]
[null,null,null,null,null,null,"AC00243","[FHSS] Anthropology ELF","AC00243-[FHSS] Anthropology ELF","Activity","FD03","Active","2025-03-17T16:11:52.138121+00:00",null,"SC6112","Food Service Supplies","SC6112-Food Service Supplies","Spend Category","Active",null,null,"10580","Autodesk","10580-Autodesk",null,null,null,"AS027211109","Chris Grant (027211109) CMS - Mathematics","AS027211109-Chris Grant (027211109) CMS - Mathematics","Active",null,null,null,null,null,null,null,null,null,null,null,"SC1310","SC1310||1310","1310","Inventory - Campus Subsystems","Primary","All"]
[null,null,null,null,null,null,"AC00244","[FHSS] Museum People-Fees","AC00244-[FHSS] Museum People-Fees","Activity","FD03","Active","2025-03-17T16:11:52.138121+00:00",null,"SC6113","Fuel","SC6113-Fuel","Spend Category","Active",null,null,"10583","Software - Microsoft (Campus)","10583-Software - Microsoft (Campus)",null,null,null,"AS027489315","Chris Cloward (027489315) PF Building Operations","AS027489315-Chris Cloward (027489315) PF Building Operations","Active",null,null,null,null,null,null,null,null,null,null,null,"SC1390","SC1390||1390","1390","Clearing-Inventory","Primary","All"]
[null,null,null,null,null,null,"AC00245","[FHSS] MPC Joint Projects","AC00245-[FHSS] MPC Joint Projects","Activity","FD03","Active","2025-03-17T16:11:52.138121+00:00",null,"SC6114","Hazardous Chemicals","SC6114-Hazardous Chemicals","Spend Category","Active",null,null,"10597","Environments","10597-Environments",null,null,null,"AS027512956","Michael Dorff (027512956) CMS - Mathematics","AS027512956-Michael Dorff (027512956) CMS - Mathematics","Active",null,null,null,null,null,null,null,null,null,null,null,"SC1400","SC1400||1400","1400","Prepaid Expenses","Primary","All"]
[null,null,null,null,null,null,"AC00246","[FHSS] New World Arch Found Pubs","AC00246-[FHSS] New World Arch Found Pubs","Activity","FD03","Active","2025-03-17T16:11:52.138121+00:00",null,"SC6115","Janitorial Supplies","SC6115-Janitorial Supplies","Spend Category","Active",null,null,"10626","Business Support","10626-Business Support",null,null,null,"AS027997521","Jeff Weier (027997521) Culinary Support Center","AS027997521-Jeff Weier (027997521) Culinary Support Center","Active",null,null,null,null,null,null,null,null,null,null,null,"SC1420","SC1420||1420","1420","Other Assets","Primary","All"]
[null,null,null,null,null,null,"AC00248","[FHSS] Economics Club","AC00248-[FHSS] Economics Club","Activity","FD02","Active","2025-03-17T16:11:52.138121+00:00",null,"SC6116","Laundry Supplies","SC6116-Laundry Supplies","Spend Category","Active",null,null,"10703","BYU Departments","10703-BYU Departments",null,null,null,"AS028045615","Mike Gibson (028045615) Enrollment Services Executive Director's Office","AS028045615-Mike Gibson (028045615) Enrollment Services Executive Director's Office","Active",null,null,null,null,null,null,null,null,null,null,null,"SC1490","SC1490||1490","1490","Clearing-Prepaid and Other","Primary","All"]
[null,null,null,null,null,null,"AC00249","[FHSS] Record Linking Lab","AC00249-[FHSS] Record Linking Lab","Activity","FD02","Active","2025-09-08T16:54:03.077577+00:00",null,"SC6117","Medical Supplies","SC6117-Medical Supplies","Spend Category","Active",null,null,"10707","Subscriptions/Periodicals","10707-Subscriptions/Periodicals",null,null,null,"AS028158881","Jonathan Love (028158881) Law School","AS028158881-Jonathan Love (028158881) Law School","Active",null,null,null,null,null,null,null,null,null,null,null,"SC1600","SC1600||1600","1600","Land","Primary","JE_PPE|JE_Override"]
[null,null,null,null,null,null,"AC00250","[FHSS] P-Ship-Economics-Jrk","AC00250-[FHSS] P-Ship-Economics-Jrk","Activity","FD03","Active","2025-11-27T03:04:27.110132+00:00",null,"SC6118","Musical Instrument Supplies","SC6118-Musical Instrument Supplies","Spend Category","Active",null,null,"10708","Dues and Memberships","10708-Dues and Memberships",null,null,null,"AS028181473","Douglas Watson (028181473) Student Life VP","AS028181473-Douglas Watson (028181473) Student Life VP","Active",null,null,null,null,null,null,null,null,null,null,null,"SC1605","SC1605||1605","1605","Buildings","Primary","JE_PPE|JE_Override"]
[null,null,null,null,null,null,"AC00252","[FHSS] Economics ELF","AC00252-[FHSS] Economics ELF","Activity","FD03","Active","2025-03-17T16:11:52.138121+00:00",null,"SC6119","Office Supplies","SC6119-Office Supplies","Spend Category","Active",null,null,"10711","Graduate Studies","10711-Graduate Studies",null,null,null,"AS028209109","Hannah Steinagel (028209109) HS General Medicine - Nursing","AS028209109-Hannah Steinagel (028209109) HS General Medicine - Nursing","Active",null,null,null,null,null,null,null,null,null,null,null,"SC1605","SC1605||1700","1700","Accumulated Depreciation",null,"JE_PPE|JE_Override"]
[null,null,null,null,null,null,"AC00253","[FHSS] Geography Student Association","AC00253-[FHSS] Geography Student Association","Activity","FD02","Active","2025-03-17T16:11:52.138121+00:00",null,"SC6120","Other Expense","SC6120-Other Expense","Spend Category","Active",null,null,"10726","Investigation-Infrastructure","10726-Investigation-Infrastructure",null,null,null,"AS028317569","Liege Pradera (028317569) Humanities - Spanish & Portuguese","AS028317569-Liege Pradera (028317569) Humanities - Spanish & Portuguese","Active",null,null,null,null,null,null,null,null,null,null,null,"SC1605","SC1605||8000","8000","Depreciation",null,"JE_PPE|JE_Override"]
[null,null,null,null,null,null,"AC00254","[FHSS] SUPA","AC00254-[FHSS] SUPA","Activity","FD02","Active","2025-03-17T16:11:52.138121+00:00",null,"SC6121","Packaging","SC6121-Packaging","Spend Category","Active",null,null,"10745","Post Office","10745-Post Office",null,null,null,"AS028472569","Angela Bradford (028472569) FHSS - School of Family Life","AS028472569-Angela Bradford (028472569) FHSS - School of Family Life","Active",null,null,null,null,null,null,null,null,null,null,null,"SC1615","SC1615||1615","1615","Other Improvements",null,"JE_PPE|JE_Override"]
[null,null,null,null,null,null,"AC00255","[FHSS] Praemon Student Association","AC00255-[FHSS] Praemon Student Association","Activity","FD02","Active","2025-05-16T02:03:32.606431+00:00",null,"SC6122","Paper","SC6122-Paper","Spend Category","Active",null,null,"10759","Computer Rental","10759-Computer Rental",null,null,null,"AS028735751","Chris Verhaaren (028735751) CMS - Physics and Astronomy","AS028735751-Chris Verhaaren (028735751) CMS - Physics and Astronomy","Active",null,null,null,null,null,null,null,null,null,null,null,"SC1635","SC1635||1635","1635","Misc Capital Assets","Primary","JE_PPE|JE_Override"]
[null,null,null,null,null,null,"AC00256","[FHSS] Cartographic Lab","AC00256-[FHSS] Cartographic Lab","Activity","FD03","Active","2025-03-17T16:11:52.138121+00:00",null,"SC6123","Photography Supplies","SC6123-Photography Supplies","Spend Category","Active",null,null,"10775","Specialized AV Systems","10775-Specialized AV Systems",null,null,null,"AS028827741","Spencer James (028827741) FHSS - School of Family Life","AS028827741-Spencer James (028827741) FHSS - School of Family Life","Active",null,null,null,null,null,null,null,null,null,null,null,"SC1635","SC1635||1700","1700","Accumulated Depreciation",null,"JE_PPE|JE_Override"]
[null,null,null,null,null,null,"AC00258","[FHSS] Geography ELF","AC00258-[FHSS] Geography ELF","Activity","FD03","Active","2025-03-17T16:11:52.138121+00:00",null,"SC6124","Printed Media","SC6124-Printed Media","Spend Category","Active",null,null,"10777","Open Access Computer Lab","10777-Open Access Computer Lab",null,null,null,"AS028889696","Jorge Morales (028889696) Research and Reporting","AS028889696-Jorge Morales (028889696) Research and Reporting","Active",null,null,null,null,null,null,null,null,null,null,null,"SC1635","SC1635||8000","8000","Depreciation",null,"JE_PPE|JE_Override"]
[null,null,null,null,null,null,"AC00259","[FHSS] Phi Alpha Theta","AC00259-[FHSS] Phi Alpha Theta","Activity","FD02","Active","2025-03-17T16:11:52.138121+00:00",null,"SC6125","Printing Supplies","SC6125-Printing Supplies","Spend Category","Active",null,null,"10800","Consulting Services","10800-Consulting Services",null,null,null,"AS028945590","Marianne Ohran (028945590) Fine Arts & Communications - Theatre & Media Arts","AS028945590-Marianne Ohran (028945590) Fine Arts & Communications - Theatre & Media Arts","Active",null,null,null,null,null,null,null,null,null,null,null,"SC2010","SC2010||2010","2010","Procurement Card Payable","Primary","All"]
[null,null,null,null,null,null,"AC00260","[FHSS] Native American Rights","AC00260-[FHSS] Native American Rights","Activity","FD03","Active","2025-03-17T16:11:52.138121+00:00",null,"SC6126","Scientific and Engineering Supplies","SC6126-Scientific and Engineering Supplies","Spend Category","Active",null,null,"10850","Advisement Tools","10850-Advisement Tools",null,null,null,"AS029024551","Janelle Macintosh (029024551) AVP - Dean, College of Nursing","AS029024551-Janelle Macintosh (029024551) AVP - Dean, College of Nursing","Active",null,null,null,null,null,null,null,null,null,null,null,"SC2011","SC2011||2010","2010","Procurement Card Payable","Primary","All"]
[null,null,null,null,null,null,"AC00262","[FHSS] HIstory ELF","AC00262-[FHSS] HIstory ELF","Activity","FD03","Active","2025-03-17T16:11:52.138121+00:00",null,"SC6127","Special Collections","SC6127-Special Collections","Spend Category","Active",null,null,"10877","Recruiting Tools","10877-Recruiting Tools",null,null,null,"AS029076241","Tesia Tsai (029076241) Humanities - English","AS029076241-Tesia Tsai (029076241) Humanities - English","Active",null,null,null,null,null,null,null,null,null,null,null,"SC2020","SC2020||2020","2020","Other and Retainages Payable","Primary","All"]
[null,null,null,null,null,null,"AC00264","[FHSS] Pi Sigma Alpha","AC00264-[FHSS] Pi Sigma Alpha","Activity","FD02","Active","2025-03-17T16:11:52.138121+00:00",null,"SC6128","Special Collections Sales Proceeds","SC6128-Special Collections Sales Proceeds","Spend Category","Active",null,null,"10878","Registration Tools","10878-Registration Tools",null,null,null,"AS029154702","Sofia Pesci (029154702) Athletics - Corporate Sponsorships","AS029154702-Sofia Pesci (029154702) Athletics - Corporate Sponsorships","Active",null,null,null,null,null,null,null,null,null,null,null,"SC2021","SC2021||2020","2020","Other and Retainages Payable","Primary","All"]
[null,null,null,null,null,null,"AC00265","[FHSS] Tocqueville Group","AC00265-[FHSS] Tocqueville Group","Activity","FD02","Active","2025-03-17T16:11:52.138121+00:00",null,"SC6129","Supplies (not otherwise specified)","SC6129-Supplies (not otherwise specified)","Spend Category","Active",null,null,"10881","Scheduling Systems","10881-Scheduling Systems",null,null,null,"AS029227462","Jan Christensen (029227462) FHSS - School of Family Life","AS029227462-Jan Christensen (029227462) FHSS - School of Family Life","Active",null,null,null,null,null,null,null,null,null,null,null,"SC2030","SC2030||2030","2030","Other Payroll Deducts Payable","Primary","All"]
[null,null,null,null,null,null,"AC00266","[FHSS] College Repub Club","AC00266-[FHSS] College Repub Club","Activity","FD02","Active","2025-03-17T16:11:52.138121+00:00",null,"SC6130","Teaching Supplies","SC6130-Teaching Supplies","Spend Category","Active",null,null,"10942","Custom Training","10942-Custom Training",null,null,null,"AS029391794","Don Powell (029391794) AVP - Dean, Fine Arts and Communications","AS029391794-Don Powell (029391794) AVP - Dean, Fine Arts and Communications","Active",null,null,null,null,null,null,null,null,null,null,null,"SC2031","SC2031||2030","2030","Other Payroll Deducts Payable","Primary","All"]
[null,null,null,null,null,null,"AC00267","[FHSS] College Democrats of BYU","AC00267-[FHSS] College Democrats of BYU","Activity","FD02","Active","2025-03-17T16:11:52.138121+00:00",null,"SC6131","Telecom Supplies","SC6131-Telecom Supplies","Spend Category","Active",null,null,"10959","Media Engineering","10959-Media Engineering",null,null,null,"AS029788789","Brian Spilker (029788789) MSB - School of Accountancy","AS029788789-Brian Spilker (029788789) MSB - School of Accountancy","Active",null,null,null,null,null,null,null,null,null,null,null,"SC2032","SC2032||2030","2030","Other Payroll Deducts Payable","Primary","All"]
[null,null,null,null,null,null,"AC00268","[FHSS] Prof-Pol-Sci-Magleby","AC00268-[FHSS] Prof-Pol-Sci-Magleby","Activity","FD03","Active","2025-03-17T16:11:52.138121+00:00",null,"SC6132","Vehicle Supplies","SC6132-Vehicle Supplies","Spend Category","Active",null,null,"10971","Research & Development","10971-Research & Development",null,null,null,"AS029808262","Rachel Christensen (029808262) Fine Arts & Communications - School of Music","AS029808262-Rachel Christensen (029808262) Fine Arts & Communications - School of Music","Active",null,null,null,null,null,null,null,null,null,null,null,"SC2033","SC2033||2030","2030","Other Payroll Deducts Payable","Primary","All"]
[null,null,null,null,null,null,"AC00270","[FHSS] Global Politics Lab - GPL","AC00270-[FHSS] Global Politics Lab - GPL","Activity","FD03","Active","2025-03-17T16:11:52.138121+00:00",null,"SC6133","Lab Gases and Cryogenics","SC6133-Lab Gases and Cryogenics","Spend Category","Active",null,null,"10997","Print Services","10997-Print Services",null,null,null,"AS029853108","Jessica Mullen (029853108) Athletics - Academic Advisement","AS029853108-Jessica Mullen (029853108) Athletics - Academic Advisement","Active",null,null,null,null,null,null,null,null,null,null,null,"SC2090","SC2090||2090","2090","Clearing-Accounts Payable","Primary","All"]
[null,null,null,null,null,null,"AC00272","[FHSS] Political Science ELF","AC00272-[FHSS] Political Science ELF","Activity","FD03","Active","2025-03-17T16:11:52.138121+00:00",null,"SC6199","Materials and Supplies (reclass)","SC6199-Materials and Supplies (reclass)","Spend Category","Active",null,null,"11100","Alabama-Birmingham","11100-Alabama-Birmingham",null,null,null,"AS029871649","Jennefer Dayton (029871649) HS Administration","AS029871649-Jennefer Dayton (029871649) HS Administration","Active",null,null,null,null,null,null,null,null,null,null,null,"SC2100","SC2100||2100","2100","FICA Payable","Primary","All"]
[null,null,null,null,null,null,"AC00273","[FHSS] Poli Sci Sunshine Fund","AC00273-[FHSS] Poli Sci Sunshine Fund","Activity","FD07","Active","2025-03-17T16:11:52.138121+00:00",null,"SC6301","Scholarships","SC6301-Scholarships","Spend Category","Active",null,null,"11103","Colorado-Colorado Springs","11103-Colorado-Colorado Springs",null,null,null,"AS030130011","Lori Denning (030130011) Religious Education - Ancient Scripture","AS030130011-Lori Denning (030130011) Religious Education - Ancient Scripture","Active",null,null,null,null,null,null,null,null,null,null,null,"SC2105","SC2105||2105","2105","Federal Withholding Payable","Primary","All"]
[null,null,null,null,null,null,"AC00274","[FHSS] CSED Project","AC00274-[FHSS] CSED Project","Activity","FD03","Active","2025-03-17T16:11:52.138121+00:00",null,"SC6302","Graduate Fellowship","SC6302-Graduate Fellowship","Spend Category","Active",null,null,"11105","Florida-Tallahassee","11105-Florida-Tallahassee",null,null,null,"AS030164319","Evan Brandley (030164319) Restaurants","AS030164319-Evan Brandley (030164319) Restaurants","Active",null,null,null,null,null,null,null,null,null,null,null,"SC2110","SC2110||2110","2110","State Payroll Taxes Payable","Primary","All"]
[null,null,null,null,null,null,"AC00275","[FHSS] American Family Survey","AC00275-[FHSS] American Family Survey","Activity","FD03","Active","2025-03-17T16:11:52.138121+00:00",null,"SC6303","Grant","SC6303-Grant","Spend Category","Active",null,null,"11110","Nevada-Reno","11110-Nevada-Reno",null,null,null,"AS030213000","James Halgren (ENG)","AS030213000-James Halgren (ENG)","Active",null,null,null,null,null,null,null,null,null,null,null,"SC2130","SC2130||2130","2130","Sales Tax Payable - Utah","Primary","All"]
[null,null,null,null,null,null,"AC00276","[FHSS] Psychology Grad Student Funds","AC00276-[FHSS] Psychology Grad Student Funds","Activity","FD01","Active","2025-06-22T02:03:33.493241+00:00",null,"SC6304","Leadership Award","SC6304-Leadership Award","Spend Category","Active",null,null,"11111","New York-New York","11111-New York-New York",null,null,null,"AS030306005","Jean-Francois Van Huele (030306005) CMS - Physics and Astronomy","AS030306005-Jean-Francois Van Huele (030306005) CMS - Physics and Astronomy","Active",null,null,null,null,null,null,null,null,null,null,null,"SC2132","SC2132||2132","2132","Sales Tax Payable-Other States","Primary","All"]
[null,null,null,null,null,null,"AC00278","[FHSS] Clinical Psychology","AC00278-[FHSS] Clinical Psychology","Activity","FD02","Active","2025-08-15T02:03:09.598414+00:00",null,"SC6305","Tuition Assistance NonBYU Student","SC6305-Tuition Assistance NonBYU Student","Spend Category","Active",null,null,"11112","Ohio-Columbus","11112-Ohio-Columbus",null,null,null,"AS030308835","Brigitte Madrian (030308835) Academic Vice President","AS030308835-Brigitte Madrian (030308835) Academic Vice President","Active",null,null,null,null,null,null,null,null,null,null,null,"SC2140","SC2140||2140","2140","Property Tax Payable","Primary","All"]
[null,null,null,null,null,null,"AC00279","[FHSS] Clinical Neuropsych Externship","AC00279-[FHSS] Clinical Neuropsych Externship","Activity","FD02","Active","2025-03-17T16:11:52.138121+00:00",null,"SC6306","Employee Benefit Tuition Assistance","SC6306-Employee Benefit Tuition Assistance","Spend Category","Active",null,null,"11113","Oregon-Eugene","11113-Oregon-Eugene",null,null,null,"AS030556343","Jacqueline Deaton (030556343) Humanities - Spanish & Portuguese","AS030556343-Jacqueline Deaton (030556343) Humanities - Spanish & Portuguese","Active",null,null,null,null,null,null,null,null,null,null,null,"SC2150","SC2150||2150","2150","UBIT Payable","Primary","All"]
[null,null,null,null,null,null,"AC00280","[FHSS] Psi Chi","AC00280-[FHSS] Psi Chi","Activity","FD02","Active","2025-03-17T16:11:52.138121+00:00",null,"SC6307","Other Student Aid","SC6307-Other Student Aid","Spend Category","Active",null,null,"11116","Tennessee-Chattanooga","11116-Tennessee-Chattanooga",null,null,null,"AS030875626","Paul Gillespie (030875626) CE Advisement","AS030875626-Paul Gillespie (030875626) CE Advisement","Active",null,null,null,null,null,null,null,null,null,null,null,"SC2160","SC2160||2160","2160","Other Taxes Payable","Primary","All"]
[null,null,null,null,null,null,"AC00281","[FHSS] EEG/ERP Training & Research","AC00281-[FHSS] EEG/ERP Training & Research","Activity","FD03","Active","2025-03-17T16:11:52.138121+00:00",null,"SC6308","Research Fellowships","SC6308-Research Fellowships","Spend Category","Active",null,null,"11117","Tennessee-Knoxville","11117-Tennessee-Knoxville",null,null,null,"AS030949929","Brandon Smith (030949929) OIT Core - Tech Operations","AS030949929-Brandon Smith (030949929) OIT Core - Tech Operations","Active",null,null,null,null,null,null,null,null,null,null,null,"SC2200","SC2200||2200","2200","Accrued Liabilities","Primary","All"]
[null,null,null,null,null,null,"AC00282","[FHSS] Steven Luke Psychology","AC00282-[FHSS] Steven Luke Psychology","Activity","FD03","Active","2025-03-17T16:11:52.138121+00:00",null,"SC6399","Student Aid (reclass)","SC6399-Student Aid (reclass)","Spend Category","Active",null,null,"11118","Tennessee-Nashville","11118-Tennessee-Nashville",null,null,null,"AS030975637","Jennifer Chamberlain (030975637) CE Online Learning","AS030975637-Jennifer Chamberlain (030975637) CE Online Learning","Active",null,null,null,null,null,null,null,null,null,null,null,"SC2300","SC2300||2300","2300","Deposits Payable","Primary","All"]
[null,null,null,null,null,null,"AC00285","[FHSS] B Brown Translation Medicine","AC00285-[FHSS] B Brown Translation Medicine","Activity","FD03","Active","2025-03-17T16:11:52.138121+00:00",null,"SC6401","Advertising","SC6401-Advertising","Spend Category","Active",null,null,"11119","Texas-Austin","11119-Texas-Austin",null,null,null,"AS031137958","Sharlan Montgomery Dunn (031137958) College of Engineering - Civil & Construction Engineering","AS031137958-Sharlan Montgomery Dunn (031137958) College of Engineering - Civil & Construction Engineering","Active",null,null,null,null,null,null,null,null,null,null,null,"SC2400","SC2400||2400","2400","Annuities Payable","Primary","All"]
[null,null,null,null,null,null,"AC00287","[FHSS] Psychology ELF","AC00287-[FHSS] Psychology ELF","Activity","FD03","Active","2025-06-03T02:03:16.537088+00:00",null,"SC6402","Allocated Indirect Costs","SC6402-Allocated Indirect Costs","Spend Category","Active",null,null,"11120","Texas-San Antonio","11120-Texas-San Antonio",null,null,null,"AS031321791","Becca Pike (031321791) Admissions Office","AS031321791-Becca Pike (031321791) Admissions Office","Active",null,null,null,null,null,null,null,null,null,null,null,"SC2500","SC2500||2500","2500","Notes Payable","Primary","All"]
[null,null,null,null,null,null,"AC00288","[FHSS] MFHD Graduate Funds","AC00288-[FHSS] MFHD Graduate Funds","Activity","FD01","Active","2025-03-17T16:11:52.138121+00:00",null,"SC6403","Animal Services","SC6403-Animal Services","Spend Category","Active",null,null,"11121","Utah-Iron","11121-Utah-Iron",null,null,null,"AS031368018","Jen Watson (031368018) Fine Arts & Communications - Art","AS031368018-Jen Watson (031368018) Fine Arts & Communications - Art","Active",null,null,null,null,null,null,null,null,null,null,null,"SC2510","SC2510||2510","2510","Notes Payable-Church","Primary","All"]
[null,null,null,null,null,null,"AC00289","[FHSS] MFT Graduate Funds","AC00289-[FHSS] MFT Graduate Funds","Activity","FD01","Active","2025-03-17T16:11:52.138121+00:00",null,"SC6404","Architectural or Engineering Services","SC6404-Architectural or Engineering Services","Spend Category","Active",null,null,"11122","Texas-Lubbock","11122-Texas-Lubbock",null,null,null,"AS031530403","Kyle Grossarth (031530403) Athletics - Track & Field","AS031530403-Kyle Grossarth (031530403) Athletics - Track & Field","Active",null,null,null,null,null,null,null,null,null,null,null,"SC4100","SC4100||1090","1090","Clearing-Cash","Primary","All"]
[null,null,null,null,null,null,"AC00290","[FHSS] Relate Institute","AC00290-[FHSS] Relate Institute","Activity","FD02","Active","2025-03-17T16:11:52.138121+00:00",null,"SC6405","Art, Design, and Photography Services","SC6405-Art, Design, and Photography Services","Spend Category","Active",null,null,"11126","Washington-Tacoma","11126-Washington-Tacoma",null,null,null,"AS031559035","Machelle Johnson (031559035) HS Administration","AS031559035-Machelle Johnson (031559035) HS Administration","Active",null,null,null,null,null,null,null,null,null,null,null,"SC4100","SC4100||1200","1200","Department Receivable",null,"All"]
[null,null,null,null,null,null,"AC00291","[FHSS] Sewing Lab 185","AC00291-[FHSS] Sewing Lab 185","Activity","FD02","Active","2025-03-17T16:11:52.138121+00:00",null,"SC6406","Athletic Events","SC6406-Athletic Events","Spend Category","Active",null,null,"11127","Washington-Tri-Cities","11127-Washington-Tri-Cities",null,null,null,"AS031820797","Catherine Hendricks (031820797) Asst Adm VP Human Resources","AS031820797-Catherine Hendricks (031820797) Asst Adm VP Human Resources","Active",null,null,null,null,null,null,null,null,null,null,null,"SC4100","SC4100||2600","2600","Deferred Revenue",null,"All"]
[null,null,null,null,null,null,"AC00292","[FHSS] Family Life Education Support","AC00292-[FHSS] Family Life Education Support","Activity","FD02","Active","2025-03-17T16:11:52.138121+00:00",null,"SC6407","Audio Visual Media Duplication","SC6407-Audio Visual Media Duplication","Spend Category","Active",null,null,"11128","Washington-Spokane","11128-Washington-Spokane",null,null,null,"AS032014107","Alyssa Dixon (032014107) CITES","AS032014107-Alyssa Dixon (032014107) CITES","Active",null,null,null,null,null,null,null,null,null,null,null,"SC4100","SC4100||4100","4100","Tuition and Fees","Primary","All"]
[null,null,null,null,null,null,"AC00293","[FHSS] Schl of Fam Life Student Assoc","AC00293-[FHSS] Schl of Fam Life Student Assoc","Activity","FD02","Active","2025-07-16T02:03:20.730988+00:00",null,"SC6408","Bank, Trust, Collection Fees","SC6408-Bank, Trust, Collection Fees","Spend Category","Active",null,null,"11129","Washington-Vancouver","11129-Washington-Vancouver",null,null,null,"AS032078028","Richard Vanfleet (032078028) CMS - Physics and Astronomy","AS032078028-Richard Vanfleet (032078028) CMS - Physics and Astronomy","Active",null,null,null,null,null,null,null,null,null,null,null,"SC4400","SC4400||4400","4400","Sale of Services","Primary","All"]
[null,null,null,null,null,null,"AC00294","[FHSS] Food Preparation Lab","AC00294-[FHSS] Food Preparation Lab","Activity","FD02","Active","2025-03-17T16:11:52.138121+00:00",null,"SC6409","Bad Debt Expense","SC6409-Bad Debt Expense","Spend Category","Active",null,null,"11130","WI Milwaukee","11130-WI Milwaukee",null,null,null,"AS032236373","Jane Fonua (032236373) Enrollment Services Office","AS032236373-Jane Fonua (032236373) Enrollment Services Office","Active",null,null,null,null,null,null,null,null,null,null,null,"SC4500","SC4500||4500","4500","Sale of Goods","Primary","All"]
[null,null,null,null,null,null,"AC00295","[FHSS] U3 Research","AC00295-[FHSS] U3 Research","Activity","FD03","Active","2025-03-17T16:11:52.138121+00:00",null,"SC6410","Broadcast Services","SC6410-Broadcast Services","Spend Category","Active",null,null,"11131","WI Madison","11131-WI Madison",null,null,null,"AS032236657","Dennis Tolley (032236657) CMS - Statistics","AS032236657-Dennis Tolley (032236657) CMS - Statistics","Active",null,null,null,null,null,null,null,null,null,null,null,"SC4700","SC4700||4700","4700","Other Income","Primary","All"]
[null,null,null,null,null,null,"AC00296","[FHSS] Sexual Mindfulness","AC00296-[FHSS] Sexual Mindfulness","Activity","FD03","Active","2025-03-17T16:11:52.138121+00:00",null,"SC6411","Cash Prizes and Contest Payments","SC6411-Cash Prizes and Contest Payments","Spend Category","Active",null,null,"11145","Singapore-Singapore","11145-Singapore-Singapore",null,null,null,"AS032391768","Mark Choate (032391768) FHSS - History","AS032391768-Mark Choate (032391768) FHSS - History","Active",null,null,null,null,null,null,null,null,null,null,null,"SC4901","SC4901||4900","4900","Cost of Sales","Primary","All"]
[null,null,null,null,null,null,"AC00297","[FHSS] Family Finance Research - F2R3","AC00297-[FHSS] Family Finance Research - F2R3","Activity","FD03","Active","2025-03-17T16:11:52.138121+00:00",null,"SC6412","Cell Phones and Plans","SC6412-Cell Phones and Plans","Spend Category","Active",null,null,"11149","New Mexico-Farmington","11149-New Mexico-Farmington",null,null,null,"AS032404620","Jeff Peters (032404620) Dean's Office - College of Engineering","AS032404620-Jeff Peters (032404620) Dean's Office - College of Engineering","Active",null,null,null,null,null,null,null,null,null,null,null,"SC4902","SC4902||4900","4900","Cost of Sales","Primary","All"]
[null,null,null,null,null,null,"AC00298","[FHSS] Jackling Home Economics Fund","AC00298-[FHSS] Jackling Home Economics Fund","Activity","FD03","Active","2025-03-17T16:11:52.138121+00:00",null,"SC6413","Competition Officiating","SC6413-Competition Officiating","Spend Category","Active",null,null,"11150","Leadership Conference","11150-Leadership Conference",null,null,null,"AS032435928","Anna Bates (032435928) Museum of Art - Exhibit Design","AS032435928-Anna Bates (032435928) Museum of Art - Exhibit Design","Active",null,null,null,null,null,null,null,null,null,null,null,"SC4903","SC4903||4900","4900","Cost of Sales","Primary","All"]
[null,null,null,null,null,null,"AC00299","[FHSS] Health Sexuality Research","AC00299-[FHSS] Health Sexuality Research","Activity","FD03","Active","2025-03-17T16:11:52.138121+00:00",null,"SC6414","Computer Services","SC6414-Computer Services","Spend Category","Active",null,null,"11151","Alaska, Anchorage","11151-Alaska, Anchorage",null,null,null,"AS032480110","Robert Johnson (032480110) Life Sciences - Biology","AS032480110-Robert Johnson (032480110) Life Sciences - Biology","Active",null,null,null,null,null,null,null,null,null,null,null,"SC4904","SC4904||4900","4900","Cost of Sales","Primary","All"]
[null,null,null,null,null,null,"AC00300","[FHSS] MFT Process Project","AC00300-[FHSS] MFT Process Project","Activity","FD03","Active","2025-09-23T02:04:06.26973+00:00",null,"SC6415","Conference and Events Hosting","SC6415-Conference and Events Hosting","Spend Category","Active",null,null,"11153","Ohio, Cleveland","11153-Ohio, Cleveland",null,null,null,"AS032528222","Dustin Jones (032528222) CE Online Learning","AS032528222-Dustin Jones (032528222) CE Online Learning","Active",null,null,null,null,null,null,null,null,null,null,null,"SC4910","SC4910||4900","4900","Cost of Sales","Primary","All"]
[null,null,null,null,null,null,"AC00301","[FHSS] PACIFIC Project","AC00301-[FHSS] PACIFIC Project","Activity","FD03","Active","2025-03-17T16:11:52.138121+00:00",null,"SC6416","Conference Registration","SC6416-Conference Registration","Spend Category","Active",null,null,"11206","Honored Alumni","11206-Honored Alumni",null,null,null,"AS032671402","Robert Ramos (032671402) Advance VP - Director, Athletics","AS032671402-Robert Ramos (032671402) Advance VP - Director, Athletics","Active",null,null,null,null,null,null,null,null,null,null,null,"SC4911","SC4911||4900","4900","Cost of Sales","Primary","All"]
[null,null,null,null,null,null,"AC00302","[FHSS] Media Project","AC00302-[FHSS] Media Project","Activity","FD03","Active","2025-03-17T16:11:52.138121+00:00",null,"SC6417","Consulting - Financial and Research","SC6417-Consulting - Financial and Research","Spend Category","Active",null,null,"11300","ATH Office Administration","11300-ATH Office Administration",null,null,null,"AS032715097","Valori Tanner (032715097) Retail Services - BYU Store","AS032715097-Valori Tanner (032715097) Retail Services - BYU Store","Active",null,null,null,null,null,null,null,null,null,null,null,"SC4912","SC4912||4900","4900","Cost of Sales","Primary","All"]
[null,null,null,null,null,null,"AC00303","[FHSS] Williams Prof-ship C H Hart","AC00303-[FHSS] Williams Prof-ship C H Hart","Activity","FD03","Active","2025-03-17T16:11:52.138121+00:00",null,"SC6418","Credit Card Merchant Fees","SC6418-Credit Card Merchant Fees","Spend Category","Active",null,null,"11303","ATH E Club","11303-ATH E Club",null,null,null,"AS032720112","Brooke Anderson (032720112) Advisement Computing, Math and Science","AS032720112-Brooke Anderson (032720112) Advisement Computing, Math and Science","Active",null,null,null,null,null,null,null,null,null,null,null,"SC4913","SC4913||4900","4900","Cost of Sales","Primary","All"]
[null,null,null,null,null,null,"AC00304","[FHSS] READY Project","AC00304-[FHSS] READY Project","Activity","FD03","Active","2025-03-17T16:11:52.138121+00:00",null,"SC6419","Data Connectivity Services","SC6419-Data Connectivity Services","Spend Category","Active",null,null,"11307","ATH Cougar Room","11307-ATH Cougar Room",null,null,null,"AS032878961","David P Stringfellow (032878961) PF Building Projects, Maintenance & Transportation Services","AS032878961-David P Stringfellow (032878961) PF Building Projects, Maintenance & Transportation Services","Active",null,null,null,null,null,null,null,null,null,null,null,"SC5000","SC5000||5000","5000","Salaries and Wages","Primary","JE_Payroll|JE_Override"]
[null,null,null,null,null,null,"AC00305","[FHSS] American Families of Faith","AC00305-[FHSS] American Families of Faith","Activity","FD03","Active","2025-03-17T16:11:52.138121+00:00",null,"SC6420","Educational Facilities - Rent/Lease <=1yr","SC6420-Educational Facilities - Rent/Lease <=1yr","Spend Category","Active",null,null,"11310","Golf Events","11310-Golf Events",null,null,null,"AS032973061","Joseph McMurray (032973061) FHSS - Economics","AS032973061-Joseph McMurray (032973061) FHSS - Economics","Active",null,null,null,null,null,null,null,null,null,null,null,"SC5009","SC5009||5000","5000","Salaries and Wages","Primary","All"]
[null,null,null,null,null,null,"AC00306","[FHSS] CREATE Project","AC00306-[FHSS] CREATE Project","Activity","FD03","Active","2025-03-25T02:03:53.792937+00:00",null,"SC6421","Employee Development Services","SC6421-Employee Development Services","Spend Category","Active",null,null,"11311","ATH Hall of Fame","11311-ATH Hall of Fame",null,null,null,"AS032979023","Julee Braithwaite (032979023) Fine Arts & Communications - Dean's Office","AS032979023-Julee Braithwaite (032979023) Fine Arts & Communications - Dean's Office","Active",null,null,null,null,null,null,null,null,null,null,null,"SC5030","SC5030||5000","5000","Salaries and Wages","Primary","JE_Payroll|JE_Override"]
[null,null,null,null,null,null,"AC00307","[FHSS] CHAMPS Project","AC00307-[FHSS] CHAMPS Project","Activity","FD03","Active","2025-03-17T16:11:52.138121+00:00",null,"SC6422","Food Services and Caterers","SC6422-Food Services and Caterers","Spend Category","Active",null,null,"11312","ATH Legacy","11312-ATH Legacy",null,null,null,"AS033040609","Ben Bagley (033040609) BYU Broadcasting - Sports","AS033040609-Ben Bagley (033040609) BYU Broadcasting - Sports","Active",null,null,null,null,null,null,null,null,null,null,null,"SC5100","SC5100||5000","5000","Salaries and Wages","Primary","JE_Payroll|JE_Override"]
[null,null,null,null,null,null,"AC00309","[FHSS] ADEPT Project","AC00309-[FHSS] ADEPT Project","Activity","FD03","Active","2025-03-17T16:11:52.138121+00:00",null,"SC6423","Foreign Exchange Payment Gain/Loss","SC6423-Foreign Exchange Payment Gain/Loss","Spend Category","Active",null,null,"11313","ATH CC Trip","11313-ATH CC Trip",null,null,null,"AS033275920","Robyn Damon (033275920) Student Connection and Leadership Center","AS033275920-Robyn Damon (033275920) Student Connection and Leadership Center","Active",null,null,null,null,null,null,null,null,null,null,null,"SC5109","SC5109||5000","5000","Salaries and Wages","Primary","All"]
[null,null,null,null,null,null,"AC00310","[FHSS] Global Families Research","AC00310-[FHSS] Global Families Research","Activity","FD03","Active","2025-03-17T16:11:52.138121+00:00",null,"SC6424","Franchise Fees","SC6424-Franchise Fees","Spend Category","Active",null,null,"11318","ATH Cougar Strong","11318-ATH Cougar Strong",null,null,null,"AS033285124","Kory Staheli (033285124) Law School - Law Library","AS033285124-Kory Staheli (033285124) Law School - Law Library","Active",null,null,null,null,null,null,null,null,null,null,null,"SC5120","SC5120||5000","5000","Salaries and Wages","Primary","JE_Payroll|JE_Override"]
[null,null,null,null,null,null,"AC00312","[FHSS] SFL Writing Program","AC00312-[FHSS] SFL Writing Program","Activity","FD03","Active","2025-03-17T16:11:52.138121+00:00",null,"SC6425","Government Fees","SC6425-Government Fees","Spend Category","Active",null,null,"11319","ATH GoCougs.com","11319-ATH GoCougs.com",null,null,null,"AS033334487","Julia Qiao (033334487) Alumni Aspen Grove","AS033334487-Julia Qiao (033334487) Alumni Aspen Grove","Active",null,null,null,null,null,null,null,null,null,null,null,"SC5130","SC5130||5000","5000","Salaries and Wages","Primary","JE_Payroll|JE_Override"]
[null,null,null,null,null,null,"AC00313","[FHSS] RESTARTS","AC00313-[FHSS] RESTARTS","Activity","FD03","Active","2025-03-17T16:11:52.138121+00:00",null,"SC6426","Grants Subawards","SC6426-Grants Subawards","Spend Category","Active",null,null,"11323","ATH Cougar Room","11323-ATH Cougar Room",null,null,null,"AS033363707","Jon Rodriguez (033363707) Lee Library - Information Technology","AS033363707-Jon Rodriguez (033363707) Lee Library - Information Technology","Active",null,null,null,null,null,null,null,null,null,null,null,"SC5190","SC5190||5000","5000","Salaries and Wages","Primary","JE_Payroll|JE_Override"]
[null,null,null,null,null,null,"AC00314","[FHSS] Child Marriage in Ghana","AC00314-[FHSS] Child Marriage in Ghana","Activity","FD03","Active","2025-03-17T16:11:52.138121+00:00",null,"SC6427","Event Admissions/Entertainment","SC6427-Event Admissions/Entertainment","Spend Category","Active",null,null,"11324","ATH ATH CC Same Day Trips","11324-ATH ATH CC Same Day Trips",null,null,null,"AS033388524","Christopher Flood (033388524) Humanities - French & Italian Languages","AS033388524-Christopher Flood (033388524) Humanities - French & Italian Languages","Active",null,null,null,null,null,null,null,null,null,null,null,"SC5300","SC5300||5000","5000","Salaries and Wages","Primary","JE_Payroll|JE_Override"]
[null,null,null,null,null,null,"AC00315","[FHSS] Festivals Project","AC00315-[FHSS] Festivals Project","Activity","FD03","Active","2025-03-17T16:11:52.138121+00:00",null,"SC6428","Hosted Meals","SC6428-Hosted Meals","Spend Category","Active",null,null,"11325","ATH Y Fan","11325-ATH Y Fan",null,null,null,"AS033469928","Dan Graham (033469928) Athletics - Olympic Sport Medicine","AS033469928-Dan Graham (033469928) Athletics - Olympic Sport Medicine","Active",null,null,null,null,null,null,null,null,null,null,null,"SC5309","SC5309||5000","5000","Salaries and Wages","Primary","All"]
[null,null,null,null,null,null,"AC00318","[FHSS] SFL ELF","AC00318-[FHSS] SFL ELF","Activity","FD03","Active","2025-03-17T16:11:52.138121+00:00",null,"SC6429","Insurance","SC6429-Insurance","Spend Category","Active",null,null,"11326","ATH Regular Cougar","11326-ATH Regular Cougar",null,null,null,"AS033487669","Karen Abbott (033487669) Indefinite Leaves","AS033487669-Karen Abbott (033487669) Indefinite Leaves","Active",null,null,null,null,null,null,null,null,null,null,null,"SC5320","SC5320||5000","5000","Salaries and Wages","Primary","JE_Payroll|JE_Override"]
[null,null,null,null,null,null,"AC00319","[FHSS] Home Economics Sunshine Fund","AC00319-[FHSS] Home Economics Sunshine Fund","Activity","FD07","Active","2025-03-17T16:11:52.138121+00:00",null,"SC6430","Janitorial Services","SC6430-Janitorial Services","Spend Category","Active",null,null,"11327","ATH Bronze Cougar","11327-ATH Bronze Cougar",null,null,null,"AS033938754","Patrick Weaver (033938754) Cougareat","AS033938754-Patrick Weaver (033938754) Cougareat","Active",null,null,null,null,null,null,null,null,null,null,null,"SC5400","SC5400||5000","5000","Salaries and Wages","Primary","JE_Payroll|JE_Override"]
[null,null,null,null,null,null,"AC00320","[FHSS] Flourishing Families II","AC00320-[FHSS] Flourishing Families II","Activity","FD03","Active","2025-03-17T16:11:52.138121+00:00",null,"SC6431","Laundry Services","SC6431-Laundry Services","Spend Category","Active",null,null,"11328","ATH Platinum Cougar","11328-ATH Platinum Cougar",null,null,null,"AS034049120","Rob Martinsen (034049120) Humanities - Spanish & Portuguese","AS034049120-Rob Martinsen (034049120) Humanities - Spanish & Portuguese","Active",null,null,null,null,null,null,null,null,null,null,null,"SC5409","SC5409||5000","5000","Salaries and Wages","Primary","All"]
[null,null,null,null,null,null,"AC00321","[FHSS] Fam Clinic Fam Consl","AC00321-[FHSS] Fam Clinic Fam Consl","Activity","FD02","Active","2025-03-17T16:11:52.138121+00:00",null,"SC6432","Legal Services","SC6432-Legal Services","Spend Category","Active",null,null,"11329","ATH Silver Cougar","11329-ATH Silver Cougar",null,null,null,"AS034199857","David Brownell (034199857) Lee Library - Information Technology","AS034199857-David Brownell (034199857) Lee Library - Information Technology","Active",null,null,null,null,null,null,null,null,null,null,null,"SC5430","SC5430||5000","5000","Salaries and Wages","Primary","JE_Payroll|JE_Override"]
[null,null,null,null,null,null,"AC00322","[FHSS] C&FSL Business Operations","AC00322-[FHSS] C&FSL Business Operations","Activity","FD02","Active","2025-07-15T02:03:16.915809+00:00",null,"SC6433","Medical Services","SC6433-Medical Services","Spend Category","Active",null,null,"11330","ATH Golden Cougar","11330-ATH Golden Cougar",null,null,null,"AS034332558","Cheree Caldwell (034332558) MSE  - Teacher Education","AS034332558-Cheree Caldwell (034332558) MSE  - Teacher Education","Active",null,null,null,null,null,null,null,null,null,null,null,"SC5500","SC5500||5000","5000","Salaries and Wages","Primary","JE_Payroll|JE_Override"]
[null,null,null,null,null,null,"AC00323","[FHSS] Social Work Grad Student Funds","AC00323-[FHSS] Social Work Grad Student Funds","Activity","FD01","Active","2025-06-22T02:03:33.493241+00:00",null,"SC6434","Membership Dues","SC6434-Membership Dues","Spend Category","Active",null,null,"11331","ATH ATH CC Football Trip","11331-ATH ATH CC Football Trip",null,null,null,"AS034432760","Ronnie Foo (034432760) Cannon Center","AS034432760-Ronnie Foo (034432760) Cannon Center","Active",null,null,null,null,null,null,null,null,null,null,null,"SC5502","SC5502||5000","5000","Salaries and Wages","Primary","JE_Payroll|JE_Override"]
[null,null,null,null,null,null,"AC00324","[FHSS] Master of Social Work St Assoc","AC00324-[FHSS] Master of Social Work St Assoc","Activity","FD02","Active","2025-03-17T16:11:52.138121+00:00",null,"SC6435","Misc Independent Contractors","SC6435-Misc Independent Contractors","Spend Category","Active",null,null,"11332","ATH Legacy 2","11332-ATH Legacy 2",null,null,null,"AS034526225","Laura Dahl (034526225) CMS - Computer Science","AS034526225-Laura Dahl (034526225) CMS - Computer Science","Active",null,null,null,null,null,null,null,null,null,null,null,"SC5503","SC5503||5000","5000","Salaries and Wages","Primary","JE_Payroll|JE_Override"]
[null,null,null,null,null,null,"AC00326","[FHSS] Social Work ELF","AC00326-[FHSS] Social Work ELF","Activity","FD03","Active","2025-03-17T16:11:52.138121+00:00",null,"SC6436","Non-BYU Tuition Payment","SC6436-Non-BYU Tuition Payment","Spend Category","Active",null,null,"11333","ATH Legacy 3","11333-ATH Legacy 3",null,null,null,"AS034669016","Akash Sebastian (034669016) Athletics - Men's Basketball","AS034669016-Akash Sebastian (034669016) Athletics - Men's Basketball","Active",null,null,null,null,null,null,null,null,null,null,null,"SC5504","SC5504||5000","5000","Salaries and Wages","Primary","JE_Payroll|JE_Override"]
[null,null,null,null,null,null,"AC00327","[FHSS] Sociology Graduate Prog.","AC00327-[FHSS] Sociology Graduate Prog.","Activity","FD01","Active","2025-03-17T16:11:52.138121+00:00",null,"SC6437","Out of State Worker Contracts","SC6437-Out of State Worker Contracts","Spend Category","Active",null,null,"11334","ATH Legacy 4","11334-ATH Legacy 4",null,null,null,"AS035026299","Jeff Bednar (035026299) MSB - Management","AS035026299-Jeff Bednar (035026299) MSB - Management","Active",null,null,null,null,null,null,null,null,null,null,null,"SC5509","SC5509||5000","5000","Salaries and Wages","Primary","All"]
[null,null,null,null,null,null,"AC00329","[FHSS] Sociology Student Association","AC00329-[FHSS] Sociology Student Association","Activity","FD02","Active","2025-03-17T16:11:52.138121+00:00",null,"SC6438","Performers/Presenters","SC6438-Performers/Presenters","Spend Category","Active",null,null,"11335","ATH Legacy 5","11335-ATH Legacy 5",null,null,null,"AS035118477","Soraya Cullimore (035118477)","AS035118477-Soraya Cullimore (035118477)","Active",null,null,null,null,null,null,null,null,null,null,null,"SC5540","SC5540||5000","5000","Salaries and Wages","Primary","JE_Payroll|JE_Override"]
[null,null,null,null,null,null,"AC00330","[FHSS] Rural Socialogy Journal","AC00330-[FHSS] Rural Socialogy Journal","Activity","FD02","Active","2025-03-17T16:11:52.138121+00:00",null,"SC6439","Pest Control Services","SC6439-Pest Control Services","Spend Category","Active",null,null,"11336","ATH Legacy 6","11336-ATH Legacy 6",null,null,null,"AS035310543","Niwako Yamawaki (035310543) AVP - Dean, Family Home Social Science (FHSS)","AS035310543-Niwako Yamawaki (035310543) AVP - Dean, Family Home Social Science (FHSS)","Active",null,null,null,null,null,null,null,null,null,null,null,"SC5542","SC5542||5000","5000","Salaries and Wages","Primary","JE_Payroll|JE_Override"]
[null,null,null,null,null,null,"AC00332","[FHSS] Graduate Studies (TR)","AC00332-[FHSS] Graduate Studies (TR)","Activity","FD03","Active","2025-03-17T16:11:52.138121+00:00",null,"SC6440","Portable Structures-Rent/Lease <=1yr","SC6440-Portable Structures-Rent/Lease <=1yr","Spend Category","Active",null,null,"11338","Fund Raising","11338-Fund Raising",null,null,null,"AS035345304","Craig Shaw (035345304) College of Engineering - Civil & Construction Engineering","AS035345304-Craig Shaw (035345304) College of Engineering - Civil & Construction Engineering","Active",null,null,null,null,null,null,null,null,null,null,null,"SC5600","SC5600||5000","5000","Salaries and Wages","Primary","JE_Payroll|JE_Override"]
[null,null,null,null,null,null,"AC00333","[FHSS] Fatherhood Research Project","AC00333-[FHSS] Fatherhood Research Project","Activity","FD03","Active","2025-03-17T16:11:52.138121+00:00",null,"SC6441","Postage, Shipping and Freight","SC6441-Postage, Shipping and Freight","Spend Category","Active",null,null,"11339","ATH AD Circle","11339-ATH AD Circle",null,null,null,"AS035448980","Christina Johnson (035448980) Dean's Office Humanities","AS035448980-Christina Johnson (035448980) Dean's Office Humanities","Active",null,null,null,null,null,null,null,null,null,null,null,"SC5602","SC5602||5000","5000","Salaries and Wages","Primary","JE_Payroll|JE_Override"]
[null,null,null,null,null,null,"AC00335","[FHSS] Sociology ELF","AC00335-[FHSS] Sociology ELF","Activity","FD03","Active","2025-03-17T16:11:52.138121+00:00",null,"SC6442","Printing Services","SC6442-Printing Services","Spend Category","Active",null,null,"11342","Lifetime Silver","11342-Lifetime Silver",null,null,null,"AS035589209","Julie Kaio (035589209) PMPC Administration","AS035589209-Julie Kaio (035589209) PMPC Administration","Active",null,null,null,null,null,null,null,null,null,null,null,"SC5603","SC5603||5000","5000","Salaries and Wages","Primary","JE_Payroll|JE_Override"]
[null,null,null,null,null,null,"AC00336","[LFSC] Life Sciences Communications","AC00336-[LFSC] Life Sciences Communications","Activity","FD01","Active","2025-03-17T16:11:52.138121+00:00",null,"SC6443","Production Services","SC6443-Production Services","Spend Category","Active",null,null,"11352","Events","11352-Events",null,null,null,"AS035603264","Selma Alexandre (035603264) Lee Library - Metadata & IT Division","AS035603264-Selma Alexandre (035603264) Lee Library - Metadata & IT Division","Active",null,null,null,null,null,null,null,null,null,null,null,"SC5604","SC5604||5000","5000","Salaries and Wages","Primary","JE_Payroll|JE_Override"]
[null,null,null,null,null,null,"AC00337","[LFSC] Research & Prof Dev","AC00337-[LFSC] Research & Prof Dev","Activity","FD01","Active","2025-03-17T16:11:52.138121+00:00",null,"SC6444","Promotional and Branded Items","SC6444-Promotional and Branded Items","Spend Category","Active",null,null,"11353","Football","11353-Football",null,null,null,"AS035657201","JanaLee Longhurst (035657201) Jerusalem Center","AS035657201-JanaLee Longhurst (035657201) Jerusalem Center","Active",null,null,null,null,null,null,null,null,null,null,null,"SC5605","SC5605||5000","5000","Salaries and Wages","Primary","JE_Payroll|JE_Override"]
[null,null,null,null,null,null,"AC00338","[LFSC] Unallocated Research","AC00338-[LFSC] Unallocated Research","Activity","FD01","Active","2025-03-17T16:11:52.138121+00:00",null,"SC6445","Public Safety Services","SC6445-Public Safety Services","Spend Category","Active",null,null,"11354","Basketball Men's","11354-Basketball Men's",null,null,null,"AS035783483","James Oldroyd (035783483) MSB - Management","AS035783483-James Oldroyd (035783483) MSB - Management","Active",null,null,null,null,null,null,null,null,null,null,null,"SC5606","SC5606||5000","5000","Salaries and Wages","Primary","JE_Payroll|JE_Override"]
[null,null,null,null,null,null,"AC00339","[LFSC] LFSC Fac Research Publications","AC00339-[LFSC] LFSC Fac Research Publications","Activity","FD01","Active","2025-03-17T16:11:52.138121+00:00",null,"SC6446","Publication Services","SC6446-Publication Services","Spend Category","Active",null,null,"11355","Band Day","11355-Band Day",null,null,null,"AS035835926","Tyson Hutchins (035835926) Athletics - External Relations","AS035835926-Tyson Hutchins (035835926) Athletics - External Relations","Active",null,null,null,null,null,null,null,null,null,null,null,"SC5609","SC5609||5000","5000","Salaries and Wages","Primary","All"]
[null,null,null,null,null,null,"AC00340","[LFSC] Life Sciences Replacement","AC00340-[LFSC] Life Sciences Replacement","Activity","FD01","Active","2025-03-17T16:11:52.138121+00:00",null,"SC6447","Real Estate - Rent/Lease <=1yr","SC6447-Real Estate - Rent/Lease <=1yr","Spend Category","Active",null,null,"11358","Basketball Women's","11358-Basketball Women's",null,null,null,"AS035905773","Todd Cope (035905773) HS General Medicine - Nursing","AS035905773-Todd Cope (035905773) HS General Medicine - Nursing","Active",null,null,null,null,null,null,null,null,null,null,null,"SC5700","SC5700||5000","5000","Salaries and Wages","Primary","JE_Payroll|JE_Override"]
[null,null,null,null,null,null,"AC00341","[LFSC] Research Development","AC00341-[LFSC] Research Development","Activity","FD01","Active","2025-11-01T02:03:34.052015+00:00",null,"SC6448","Real Estate - Rent/Lease >1yr","SC6448-Real Estate - Rent/Lease >1yr","Spend Category","Active",null,null,"11359","Gymnastics","11359-Gymnastics",null,null,null,"AS036096603","Kasey Walker (036096603) CE FSY West","AS036096603-Kasey Walker (036096603) CE FSY West","Active",null,null,null,null,null,null,null,null,null,null,null,"SC5709","SC5709||5000","5000","Salaries and Wages","Primary","All"]
[null,null,null,null,null,null,"AC00342","[LFSC] LFSC-Internship Travel Grants","AC00342-[LFSC] LFSC-Internship Travel Grants","Activity","FD01","Active","2025-03-17T16:11:52.138121+00:00",null,"SC6449","Rent/Lease < = 1 year","SC6449-Rent/Lease < = 1 year","Spend Category","Active",null,null,"11360","Christmas Around the World","11360-Christmas Around the World",null,null,null,"AS036185835","David Lund (036185835) CE Student Success Center","AS036185835-David Lund (036185835) CE Student Success Center","Active",null,null,null,null,null,null,null,null,null,null,null,"SC5730","SC5730||5000","5000","Salaries and Wages","Primary","JE_Payroll|JE_Override"]
[null,null,null,null,null,null,"AC00343","[LFSC] Life Sciences Special Projects","AC00343-[LFSC] Life Sciences Special Projects","Activity","FD01","Active","2025-03-17T16:11:52.138121+00:00",null,"SC6450","Rent/Lease >1 Year","SC6450-Rent/Lease >1 Year","Spend Category","Active",null,null,"11361","Ballroom Dance - Sport","11361-Ballroom Dance - Sport",null,null,null,"AS036343192","Stephen Banks (036343192) PF Grounds - Landscaping Specialty","AS036343192-Stephen Banks (036343192) PF Grounds - Landscaping Specialty","Active",null,null,null,null,null,null,null,null,null,null,null,"SC5800","SC5800||5000","5000","Salaries and Wages","Primary","JE_Payroll|JE_Override"]
[null,null,null,null,null,null,"AC00344","[LFSC] Ugrad Mentored Learning Suppt","AC00344-[LFSC] Ugrad Mentored Learning Suppt","Activity","FD01","Active","2025-03-17T16:11:52.138121+00:00",null,"SC6451","Research Subjects","SC6451-Research Subjects","Spend Category","Active",null,null,"11362","Ballroom Dance - Concert","11362-Ballroom Dance - Concert",null,null,null,"AS036388489","Maddie Blonquist (036388489) Museum of Art","AS036388489-Maddie Blonquist (036388489) Museum of Art","Active",null,null,null,null,null,null,null,null,null,null,null,"SC5860","SC5860||5000","5000","Salaries and Wages","Primary","JE_Payroll|JE_Override"]
[null,null,null,null,null,null,"AC00345","[LFSC] Operational Fndrsg Replac-LSDO","AC00345-[LFSC] Operational Fndrsg Replac-LSDO","Activity","FD01","Active","2025-03-17T16:11:52.138121+00:00",null,"SC6452","Royalties and Licensing Fees","SC6452-Royalties and Licensing Fees","Spend Category","Active",null,null,"11363","Korean Club Bobsim","11363-Korean Club Bobsim",null,null,null,"AS036395666","Amy Tanner (036395666) CMS - Mathematics Education","AS036395666-Amy Tanner (036395666) CMS - Mathematics Education","Active",null,null,null,null,null,null,null,null,null,null,null,"SC5890","SC5890||5800","5800","Project Labor Cost","Primary","JE_Payroll|JE_Override"]
[null,null,null,null,null,null,"AC00346","[LFSC] LFSC Belonging","AC00346-[LFSC] LFSC Belonging","Activity","FD01","Active","2025-03-17T16:11:52.138121+00:00",null,"SC6453","Scientific Services","SC6453-Scientific Services","Spend Category","Active",null,null,"11364","Stadium of Fire","11364-Stadium of Fire",null,null,null,"AS036515720","John Burton (036515720) MSB - Experience Design & Management","AS036515720-John Burton (036515720) MSB - Experience Design & Management","Active",null,null,null,null,null,null,null,null,null,null,null,"SC5891","SC5891||5801","5801","Project Labor Cost Recovery","Primary","JE_Payroll|JE_Override"]
[null,null,null,null,null,null,"AC00347","[LFSC] Beef Field Day","AC00347-[LFSC] Beef Field Day","Activity","FD02","Active","2025-03-17T16:11:52.138121+00:00",null,"SC6454","Screening Services","SC6454-Screening Services","Spend Category","Active",null,null,"11365","Museum Exhibit","11365-Museum Exhibit",null,null,null,"AS036534225","Mark Tanner (036534225) Humanities - Linguistics","AS036534225-Mark Tanner (036534225) Humanities - Linguistics","Active",null,null,null,null,null,null,null,null,null,null,null,"SC5892","SC5892||5800","5800","Project Labor Cost","Primary","JE_Payroll|JE_Override"]
[null,null,null,null,null,null,"AC00348","[LFSC] Life Sciences Royalties","AC00348-[LFSC] Life Sciences Royalties","Activity","FD03","Active","2025-03-17T16:11:52.138121+00:00",null,"SC6455","Services (not otherwise specified)","SC6455-Services (not otherwise specified)","Spend Category","Active",null,null,"11368","Other Events","11368-Other Events",null,null,null,"AS036625497","James Swensen (036625497) Humanities - Comparative Arts & Letters","AS036625497-James Swensen (036625497) Humanities - Comparative Arts & Letters","Active",null,null,null,null,null,null,null,null,null,null,null,"SC5893","SC5893||5801","5801","Project Labor Cost Recovery","Primary","JE_Payroll|JE_Override"]
[null,null,null,null,null,null,"AC00349","[LFSC] Equol Technology Royalties","AC00349-[LFSC] Equol Technology Royalties","Activity","FD03","Active","2025-03-17T16:11:52.138121+00:00",null,"SC6456","Shared Partner Services","SC6456-Shared Partner Services","Spend Category","Active",null,null,"11374","Novelties","11374-Novelties",null,null,null,"AS036662118","Fenima Price (036662118) College of Engineering - Mechanical Engineering","AS036662118-Fenima Price (036662118) College of Engineering - Mechanical Engineering","Active",null,null,null,null,null,null,null,null,null,null,null,"SC5899","SC5899||5000","5000","Salaries and Wages","Primary","All"]
[null,null,null,null,null,null,"AC00350","[LFSC] Turkey Vaccine Study","AC00350-[LFSC] Turkey Vaccine Study","Activity","FD03","Active","2025-03-17T16:11:52.138121+00:00",null,"SC6457","Student Teacher Supervision","SC6457-Student Teacher Supervision","Spend Category","Active",null,null,"11376","Concessions","11376-Concessions",null,null,null,"AS036712284","Morgan Davis (036712284) Neal A. Maxwell Institute","AS036712284-Morgan Davis (036712284) Neal A. Maxwell Institute","Active",null,null,null,null,null,null,null,null,null,null,null,"SC5900","SC5900||5900","5900","Benefits","Primary","JE_Payroll|JE_Override"]
[null,null,null,null,null,null,"AC00351","[LFSC] Undergrd Experintl Learng-LSDO","AC00351-[LFSC] Undergrd Experintl Learng-LSDO","Activity","FD03","Active","2025-03-17T16:11:52.138121+00:00",null,"SC6458","Subscriptions","SC6458-Subscriptions","Spend Category","Active",null,null,"11377","Facility Rm Rent","11377-Facility Rm Rent",null,null,null,"AS036967697","Todd Fluckiger (036967697) Chemistry and Biochemistry","AS036967697-Todd Fluckiger (036967697) Chemistry and Biochemistry","Active",null,null,null,null,null,null,null,null,null,null,null,"SC5905","SC5905||5900","5900","Benefits","Primary","JE_Payroll|JE_Override"]
[null,null,null,null,null,null,"AC00352","[LFSC] CURA Indirect Student Aid-LSDO","AC00352-[LFSC] CURA Indirect Student Aid-LSDO","Activity","FD03","Active","2025-03-17T16:11:52.138121+00:00",null,"SC6459","Taxes","SC6459-Taxes","Spend Category","Active",null,null,"11378","P/P MC Projects","11378-P/P MC Projects",null,null,null,"AS037313380","Ernest Perry (037313380) Civil and Construction Enginee","AS037313380-Ernest Perry (037313380) Civil and Construction Enginee","Active",null,null,null,null,null,null,null,null,null,null,null,"SC5910","SC5910||5900","5900","Benefits","Primary","JE_Payroll|JE_Override"]
[null,null,null,null,null,null,"AC00353","[LFSC] CURA Direct Student Aid-LSDO","AC00353-[LFSC] CURA Direct Student Aid-LSDO","Activity","FD03","Active","2025-03-17T16:11:52.138121+00:00",null,"SC6460","Testing Services","SC6460-Testing Services","Spend Category","Active",null,null,"11379","P/P Stadium Projects","11379-P/P Stadium Projects",null,null,null,"AS037487026","Steve Blanthorn (037487026) HS Administration","AS037487026-Steve Blanthorn (037487026) HS Administration","Active",null,null,null,null,null,null,null,null,null,null,null,"SC5915","SC5915||5900","5900","Benefits","Primary","JE_Payroll|JE_Override"]
[null,null,null,null,null,null,"AC00354","[LFSC] Sunshine Fund-LFSC Dean's Off","AC00354-[LFSC] Sunshine Fund-LFSC Dean's Off","Activity","FD07","Active","2025-03-17T16:11:52.138121+00:00",null,"SC6461","TV, Media Subscription Services","SC6461-TV, Media Subscription Services","Spend Category","Active",null,null,"11380","P/P MC Events","11380-P/P MC Events",null,null,null,"AS037491809","Chelsea Cole (037491809) MSE  - Teacher Education","AS037491809-Chelsea Cole (037491809) MSE  - Teacher Education","Active",null,null,null,null,null,null,null,null,null,null,null,"SC5930","SC5930||5900","5900","Benefits","Primary","JE_Payroll|JE_Override"]
[null,null,null,null,null,null,"AC00355","[LFSC] LS Stockroom Inventory","AC00355-[LFSC] LS Stockroom Inventory","Activity","FD02","Active","2025-03-17T16:11:52.138121+00:00",null,"SC6462","University Donations","SC6462-University Donations","Spend Category","Active",null,null,"11381","P/P Stadium Events","11381-P/P Stadium Events",null,null,null,"AS037502553","Josh Price (037502553) CMS - Chemistry and Biochemistry","AS037502553-Josh Price (037502553) CMS - Chemistry and Biochemistry","Active",null,null,null,null,null,null,null,null,null,null,null,"SC5940","SC5940||5900","5900","Benefits","Primary","JE_Payroll|JE_Override"]
[null,null,null,null,null,null,"AC00356","[LFSC] Life Scs Student Council Club","AC00356-[LFSC] Life Scs Student Council Club","Activity","FD02","Active","2025-03-17T16:11:52.138121+00:00",null,"SC6463","Waste Disposal Services","SC6463-Waste Disposal Services","Spend Category","Active",null,null,"11382","Media Services Events","11382-Media Services Events",null,null,null,"AS037546469","John Patten (037546469) AVP - Dean, McKay School of Education (MSE)","AS037546469-John Patten (037546469) AVP - Dean, McKay School of Education (MSE)","Active",null,null,null,null,null,null,null,null,null,null,null,"SC5945","SC5945||5900","5900","Benefits","Primary","JE_Payroll|JE_Override"]
[null,null,null,null,null,null,"AC00357","[LFSC] Scientists in Business Club","AC00357-[LFSC] Scientists in Business Club","Activity","FD02","Active","2025-03-17T16:11:52.138121+00:00",null,"SC6464","Facilities and Administration Expense","SC6464-Facilities and Administration Expense","Spend Category","Active",null,null,"11386","Safety Office Events","11386-Safety Office Events",null,null,null,"AS037553377","Adam Brewer (037553377) FHSS - History","AS037553377-Adam Brewer (037553377) FHSS - History","Active",null,null,null,null,null,null,null,null,null,null,null,"SC5950","SC5950||5900","5900","Benefits","Primary","JE_Payroll|JE_Override"]
[null,null,null,null,null,null,"AC00358","[LFSC] LFSC IT Computer Servers","AC00358-[LFSC] LFSC IT Computer Servers","Activity","FD01","Active","2025-03-17T16:11:52.138121+00:00",null,"SC6465","Facilities and Administration Recovery","SC6465-Facilities and Administration Recovery","Spend Category","Active",null,null,"11387","Security Events","11387-Security Events",null,null,null,"AS037652184","Rachel McGovern (037652184) FHSS - School of Family Life","AS037652184-Rachel McGovern (037652184) FHSS - School of Family Life","Active",null,null,null,null,null,null,null,null,null,null,null,"SC5970","SC5970||5900","5900","Benefits","Primary","JE_Payroll|JE_Override"]
[null,null,null,null,null,null,"AC00359","[LFSC] LFSC-Fulton-Chair-LSIT","AC00359-[LFSC] LFSC-Fulton-Chair-LSIT","Activity","FD03","Active","2025-03-17T16:11:52.138121+00:00",null,"SC6466","Income Taxes","SC6466-Income Taxes","Spend Category","Active",null,null,"11388","Print Fee","11388-Print Fee",null,null,null,"AS037842686","Nina Whitehead (037842686) Marketing, Communications, & Technology","AS037842686-Nina Whitehead (037842686) Marketing, Communications, & Technology","Active",null,null,null,null,null,null,null,null,null,null,null,"SC5990","SC5990||5900","5900","Benefits","Primary","JE_Payroll|JE_Override"]
[null,null,null,null,null,null,"AC00360","[LFSC] Undergrd Experintl Learng-LSIT","AC00360-[LFSC] Undergrd Experintl Learng-LSIT","Activity","FD03","Active","2025-03-17T16:11:52.138121+00:00",null,"SC6467","Donation to Affiliate","SC6467-Donation to Affiliate","Spend Category","Active",null,null,"11390","Ticket Office Service Fee","11390-Ticket Office Service Fee",null,null,null,"AS037893603","Eric Eliason (037893603) Humanities - English","AS037893603-Eric Eliason (037893603) Humanities - English","Active",null,null,null,null,null,null,null,null,null,null,null,"SC5995","SC5995||5900","5900","Benefits","Primary","JE_Payroll|JE_Override"]
[null,null,null,null,null,null,"AC00361","[LFSC] Grad Studies-NEURO","AC00361-[LFSC] Grad Studies-NEURO","Activity","FD01","Active","2025-03-17T16:11:52.138121+00:00",null,"SC6498","Sponsored Program Income","SC6498-Sponsored Program Income","Spend Category","Active",null,null,"11391","Gift Cards","11391-Gift Cards",null,null,null,"AS037908516","Jared Barrott (037908516) Life Sciences - Cell Biology & Physiology","AS037908516-Jared Barrott (037908516) Life Sciences - Cell Biology & Physiology","Active",null,null,null,null,null,null,null,null,null,null,null,"SC5998","SC5998||5900","5900","Benefits","Primary","JE_Payroll|JE_Override"]
[null,null,null,null,null,null,"AC00362","[LFSC] Neuroscience Club","AC00362-[LFSC] Neuroscience Club","Activity","FD02","Active","2025-03-17T16:11:52.138121+00:00",null,"SC6499","General and Administrative (reclass)","SC6499-General and Administrative (reclass)","Spend Category","Active",null,null,"11392","FB Cougar Club Tent","11392-FB Cougar Club Tent",null,null,null,"AS038007991","Tom Halladay (038007991) PF Dining and MTC Maintenance","AS038007991-Tom Halladay (038007991) PF Dining and MTC Maintenance","Active",null,null,null,null,null,null,null,null,null,null,null,"SC5999","SC5999||5900","5900","Benefits","Primary","All"]
[null,null,null,null,null,null,"AC00363","[LFSC] Neuroscience Center","AC00363-[LFSC] Neuroscience Center","Activity","FD03","Active","2025-03-17T16:11:52.138121+00:00",null,"SC6610","Interest Expense","SC6610-Interest Expense","Spend Category","Active",null,null,"11393","FB Varsity Tent","11393-FB Varsity Tent",null,null,null,"AS038129523","Emily Leslie (038129523) FHSS - Economics","AS038129523-Emily Leslie (038129523) FHSS - Economics","Active",null,null,null,null,null,null,null,null,null,null,null,"SC6101","SC6101||1400","1400","Prepaid Expenses",null,"All"]
[null,null,null,null,null,null,"AC00364","[LFSC] LFSC-Fulton-Chair-NEURO","AC00364-[LFSC] LFSC-Fulton-Chair-NEURO","Activity","FD03","Active","2025-03-17T16:11:52.138121+00:00",null,"SC6701","Building Access Supplies","SC6701-Building Access Supplies","Spend Category","Active",null,null,"11394","ATH FB Backyard Tent","11394-ATH FB Backyard Tent",null,null,null,"AS038220462","Karen Seely (038220462) Brand & Creative","AS038220462-Karen Seely (038220462) Brand & Creative","Active",null,null,null,null,null,null,null,null,null,null,null,"SC6101","SC6101||6100","6100","Materials and Supplies","Primary","All"]
[null,null,null,null,null,null,"AC00365","[LFSC] LFSC Farm / Skaggs Fund-NEURO","AC00365-[LFSC] LFSC Farm / Skaggs Fund-NEURO","Activity","FD03","Active","2025-03-17T16:11:52.138121+00:00",null,"SC6702","Building Construction and Improvements","SC6702-Building Construction and Improvements","Spend Category","Active",null,null,"11415","Living Legends","11415-Living Legends",null,null,null,"AS038337912","Jim Armstrong (038337912) Dean's Office - Life Sciences","AS038337912-Jim Armstrong (038337912) Dean's Office - Life Sciences","Active",null,null,null,null,null,null,null,null,null,null,null,"SC6102","SC6102||1400","1400","Prepaid Expenses",null,"All"]
[null,null,null,null,null,null,"AC00366","[LFSC] Undergrd Experintl Learng-NEUR","AC00366-[LFSC] Undergrd Experintl Learng-NEUR","Activity","FD03","Active","2025-03-17T16:11:52.138121+00:00",null,"SC6703","Building Furnishings","SC6703-Building Furnishings","Spend Category","Active",null,null,"11416","Men's Chorus","11416-Men's Chorus",null,null,null,"AS038391352","Darren Aiello (038391352) MSB - Finance","AS038391352-Darren Aiello (038391352) MSB - Finance","Active",null,null,null,null,null,null,null,null,null,null,null,"SC6102","SC6102||6100","6100","Materials and Supplies","Primary","All"]
[null,null,null,null,null,null,"AC00367","[LFSC] CURA Indirect Student Aid-NEUR","AC00367-[LFSC] CURA Indirect Student Aid-NEUR","Activity","FD03","Active","2025-03-17T16:11:52.138121+00:00",null,"SC6704","Building Materials - Finishing","SC6704-Building Materials - Finishing","Spend Category","Active",null,null,"11419","Theater Ballet","11419-Theater Ballet",null,null,null,"AS038401493","Katharina Paxman (038401493) Humanities - Philosophy","AS038401493-Katharina Paxman (038401493) Humanities - Philosophy","Active",null,null,null,null,null,null,null,null,null,null,null,"SC6103","SC6103||1400","1400","Prepaid Expenses",null,"All"]
[null,null,null,null,null,null,"AC00368","[LFSC] CURA Direct Student Aid-NEUR","AC00368-[LFSC] CURA Direct Student Aid-NEUR","Activity","FD03","Active","2025-03-17T16:11:52.138121+00:00",null,"SC6705","Building Materials - Raw","SC6705-Building Materials - Raw","Spend Category","Active",null,null,"11422","Young Ambassadors","11422-Young Ambassadors",null,null,null,"AS038520514","Lisa Mortensen (038520514) Risk Management & Safety - Risk Management & Insurance","AS038520514-Lisa Mortensen (038520514) Risk Management & Safety - Risk Management & Insurance","Active",null,null,null,null,null,null,null,null,null,null,null,"SC6103","SC6103||6100","6100","Materials and Supplies","Primary","All"]
[null,null,null,null,null,null,"AC00369","[LFSC] MLBM Student Educators","AC00369-[LFSC] MLBM Student Educators","Activity","FD01","Active","2025-03-17T16:11:52.138121+00:00",null,"SC6706","Electrical Devices","SC6706-Electrical Devices","Spend Category","Active",null,null,"11423","Young Company","11423-Young Company",null,null,null,"AS038547214","Hwasun Lee (038547214) Humanities - Asian & Near Eastern Languages","AS038547214-Hwasun Lee (038547214) Humanities - Asian & Near Eastern Languages","Active",null,null,null,null,null,null,null,null,null,null,null,"SC6104","SC6104||1400","1400","Prepaid Expenses",null,"All"]
[null,null,null,null,null,null,"AC00370","[LFSC] Western N. American Naturalist","AC00370-[LFSC] Western N. American Naturalist","Activity","FD01","Active","2025-04-17T02:04:04.000638+00:00",null,"SC6707","Electrical Supplies","SC6707-Electrical Supplies","Spend Category","Active",null,null,"11424","Alexa Anderson","11424-Alexa Anderson",null,null,null,"AS038691148","Kevan Kovacs (038691148) PF Building Operations","AS038691148-Kevan Kovacs (038691148) PF Building Operations","Active",null,null,null,null,null,null,null,null,null,null,null,"SC6104","SC6104||6100","6100","Materials and Supplies","Primary","All"]
[null,null,null,null,null,null,"AC00371","[LFSC] Operational Fndrsg Replac-MLBM","AC00371-[LFSC] Operational Fndrsg Replac-MLBM","Activity","FD01","Active","2025-03-17T16:11:52.138121+00:00",null,"SC6708","Fans/Furnaces","SC6708-Fans/Furnaces","Spend Category","Active",null,null,"11425","Amanda Cox","11425-Amanda Cox",null,null,null,"AS038692554","Hunter Henrichsen (038692554) Management Department","AS038692554-Hunter Henrichsen (038692554) Management Department","Active",null,null,null,null,null,null,null,null,null,null,null,"SC6105","SC6105||1400","1400","Prepaid Expenses",null,"All"]
[null,null,null,null,null,null,"AC00372","[LFSC] MLBM Educational Programs","AC00372-[LFSC] MLBM Educational Programs","Activity","FD02","Active","2025-03-17T16:11:52.138121+00:00",null,"SC6709","Flooring Materials","SC6709-Flooring Materials","Spend Category","Active",null,null,"11426","Nicol Legakis","11426-Nicol Legakis",null,null,null,"AS038790598","Joseph Roberson (038790598) CE BYU Online High School","AS038790598-Joseph Roberson (038790598) CE BYU Online High School","Active",null,null,null,null,null,null,null,null,null,null,null,"SC6105","SC6105||6100","6100","Materials and Supplies","Primary","All"]
[null,null,null,null,null,null,"AC00373","[LFSC] Bean Museum Online Sales","AC00373-[LFSC] Bean Museum Online Sales","Activity","FD02","Active","2025-03-17T16:11:52.138121+00:00",null,"SC6710","Furnishing Accessories","SC6710-Furnishing Accessories","Spend Category","Active",null,null,"11428","Mike Cunningham","11428-Mike Cunningham",null,null,null,"AS038874886","Doug Thomas (038874886) Fine Arts & Communications - Design","AS038874886-Doug Thomas (038874886) Fine Arts & Communications - Design","Active",null,null,null,null,null,null,null,null,null,null,null,"SC6106","SC6106||1400","1400","Prepaid Expenses",null,"All"]
[null,null,null,null,null,null,"AC00374","[LFSC] Whiting, M-Young Scholar","AC00374-[LFSC] Whiting, M-Young Scholar","Activity","FD03","Active","2025-03-17T16:11:52.138121+00:00",null,"SC6711","Grounds and Landscaping Supplies","SC6711-Grounds and Landscaping Supplies","Spend Category","Active",null,null,"11429","Alissa Lines","11429-Alissa Lines",null,null,null,"AS039054501","Terri Summers (039054501) Teacher Education","AS039054501-Terri Summers (039054501) Teacher Education","Active",null,null,null,null,null,null,null,null,null,null,null,"SC6106","SC6106||1650","1650","Construction in Progress",null,"JE_PPE|JE_Override"]
[null,null,null,null,null,null,"AC00375","[LFSC] Bean Museum Projects","AC00375-[LFSC] Bean Museum Projects","Activity","FD03","Active","2025-03-17T16:11:52.138121+00:00",null,"SC6712","Grounds Services","SC6712-Grounds Services","Spend Category","Active",null,null,"11431","Scott Miller","11431-Scott Miller",null,null,null,"AS039175395","Bill Oldroyd (039175395) Enrollment Services Office","AS039175395-Bill Oldroyd (039175395) Enrollment Services Office","Active",null,null,null,null,null,null,null,null,null,null,null,"SC6106","SC6106||1651","1651","Construction in Progress (Non-Workday Projects)",null,"All"]
[null,null,null,null,null,null,"AC00376","[LFSC] Western N. American Naturalist","AC00376-[LFSC] Western N. American Naturalist","Activity","FD03","Active","2025-04-17T02:04:04.000638+00:00",null,"SC6713","Industrial Fixtures","SC6713-Industrial Fixtures","Spend Category","Active",null,null,"11435","Jason Brown","11435-Jason Brown",null,null,null,"AS039392058","Allan Guymon (039392058) College of Engineering - Chemical Engineering","AS039392058-Allan Guymon (039392058) College of Engineering - Chemical Engineering","Active",null,null,null,null,null,null,null,null,null,null,null,"SC6106","SC6106||4900","4900","Cost of Sales",null,"All"]
[null,null,null,null,null,null,"AC00378","[LFSC] Fish Curation-Shiozawa","AC00378-[LFSC] Fish Curation-Shiozawa","Activity","FD03","Active","2025-03-17T16:11:52.138121+00:00",null,"SC6714","Lighting Fixtures and Lamps","SC6714-Lighting Fixtures and Lamps","Spend Category","Active",null,null,"11436","Seth McCullach","11436-Seth McCullach",null,null,null,"AS039447169","John Gardner (039447169) MSB - Marketing & Global Supply Chain","AS039447169-John Gardner (039447169) MSB - Marketing & Global Supply Chain","Active",null,null,null,null,null,null,null,null,null,null,null,"SC6106","SC6106||6100","6100","Materials and Supplies","Primary","All"]
[null,null,null,null,null,null,"AC00379","[LFSC] LFSC Farm / Skaggs Fund-MLBM","AC00379-[LFSC] LFSC Farm / Skaggs Fund-MLBM","Activity","FD03","Active","2025-03-17T16:11:52.138121+00:00",null,"SC6715","Plumbing Fixtures","SC6715-Plumbing Fixtures","Spend Category","Active",null,null,"11437","Stephanie Andrewsen","11437-Stephanie Andrewsen",null,null,null,"AS039489742","Reese Purser (039489742) Fine Arts & Communications - Theatre & Media Arts","AS039489742-Reese Purser (039489742) Fine Arts & Communications - Theatre & Media Arts","Active",null,null,null,null,null,null,null,null,null,null,null,"SC6107","SC6107||1400","1400","Prepaid Expenses",null,"All"]
[null,null,null,null,null,null,"AC00380","[LFSC] LFSC-Fulton-Chair-MLBM","AC00380-[LFSC] LFSC-Fulton-Chair-MLBM","Activity","FD03","Active","2025-03-17T16:11:52.138121+00:00",null,"SC6716","Retainage","SC6716-Retainage","Spend Category","Active",null,null,"11439","Curtis Isaak","11439-Curtis Isaak",null,null,null,"AS039534394","Kenneth Plummer (039534394) Center for Teaching & Learning - Academic Technology","AS039534394-Kenneth Plummer (039534394) Center for Teaching & Learning - Academic Technology","Active",null,null,null,null,null,null,null,null,null,null,null,"SC6107","SC6107||1650","1650","Construction in Progress",null,"JE_PPE|JE_Override"]
[null,null,null,null,null,null,"AC00382","[LFSC] Undergrd Experintl Learng-MLBM","AC00382-[LFSC] Undergrd Experintl Learng-MLBM","Activity","FD03","Active","2025-03-17T16:11:52.138121+00:00",null,"SC6717","Retainage Interest","SC6717-Retainage Interest","Spend Category","Active",null,null,"11440","Andy Bay","11440-Andy Bay",null,null,null,"AS039578575","Lynn Williams (039578575) Humanities - Spanish & Portuguese","AS039578575-Lynn Williams (039578575) Humanities - Spanish & Portuguese","Active",null,null,null,null,null,null,null,null,null,null,null,"SC6107","SC6107||4900","4900","Cost of Sales",null,"All"]
[null,null,null,null,null,null,"AC00383","[LFSC] Sunshine Fund-MLBM","AC00383-[LFSC] Sunshine Fund-MLBM","Activity","FD07","Active","2025-03-17T16:11:52.138121+00:00",null,"SC6718","Signage, Electronic","SC6718-Signage, Electronic","Spend Category","Active",null,null,"11441","Kathy Taylor","11441-Kathy Taylor",null,null,null,"AS039615711","Mariana Call (039615711) PF Building Operations","AS039615711-Mariana Call (039615711) PF Building Operations","Active",null,null,null,null,null,null,null,null,null,null,null,"SC6107","SC6107||6100","6100","Materials and Supplies","Primary","All"]
[null,null,null,null,null,null,"AC00384","[LFSC] Bean Museum Gift Shp","AC00384-[LFSC] Bean Museum Gift Shp","Activity","FD02","Active","2025-03-17T16:11:52.138121+00:00",null,"SC6719","Signage, Non-electronic","SC6719-Signage, Non-electronic","Spend Category","Active",null,null,"11442","Matt Sherry","11442-Matt Sherry",null,null,null,"AS039620863","Stanford Owen (039620863) Law School","AS039620863-Stanford Owen (039620863) Law School","Active",null,null,null,null,null,null,null,null,null,null,null,"SC6108","SC6108||1400","1400","Prepaid Expenses",null,"All"]
[null,null,null,null,null,null,"AC00385","[LFSC] Lytle Preserve","AC00385-[LFSC] Lytle Preserve","Activity","FD03","Active","2025-03-17T16:11:52.138121+00:00",null,"SC6720","Specialized Trade Services - Physical Facilities","SC6720-Specialized Trade Services - Physical Facilities","Spend Category","Active",null,null,"11445","NY Syracuse","11445-NY Syracuse",null,null,null,"AS039628310","Amy Richins (039628310) FHSS - Dean's Office","AS039628310-Amy Richins (039628310) FHSS - Dean's Office","Active",null,null,null,null,null,null,null,null,null,null,null,"SC6108","SC6108||1650","1650","Construction in Progress",null,"JE_PPE|JE_Override"]
[null,null,null,null,null,null,"AC00386","[LFSC] Lytle Preserve Univ Support","AC00386-[LFSC] Lytle Preserve Univ Support","Activity","FD03","Active","2025-03-17T16:11:52.138121+00:00",null,"SC6721","Stage and Studio Lighting (Asset Track)","SC6721-Stage and Studio Lighting (Asset Track)","Spend Category","Active",null,null,"11446","Arkansas-Northwest","11446-Arkansas-Northwest",null,null,null,"AS039692183","Adam Stevens (039692183) Technology Transfer Office","AS039692183-Adam Stevens (039692183) Technology Transfer Office","Active",null,null,null,null,null,null,null,null,null,null,null,"SC6108","SC6108||1651","1651","Construction in Progress (Non-Workday Projects)",null,"All"]
[null,null,null,null,null,null,"AC00387","[LFSC] Biology 100","AC00387-[LFSC] Biology 100","Activity","FD01","Active","2025-03-17T16:11:52.138121+00:00",null,"SC6722","Utilities, Electricity","SC6722-Utilities, Electricity","Spend Category","Active",null,null,"11447","Tour Lodging","11447-Tour Lodging",null,null,null,"AS039811149","Heather Chewning (039811149) MSB - Public Service & Ethics","AS039811149-Heather Chewning (039811149) MSB - Public Service & Ethics","Active",null,null,null,null,null,null,null,null,null,null,null,"SC6108","SC6108||4900","4900","Cost of Sales",null,"All"]
[null,null,null,null,null,null,"AC00388","[LFSC] Grad Student Funding-BIO","AC00388-[LFSC] Grad Student Funding-BIO","Activity","FD01","Active","2025-03-17T16:11:52.138121+00:00",null,"SC6723","Utilities, Garbage Hauling","SC6723-Utilities, Garbage Hauling","Spend Category","Active",null,null,"11453","Arizona-Phoenix","11453-Arizona-Phoenix",null,null,null,"AS039836146","Savanna Bagley (039836146) Dining Designs","AS039836146-Savanna Bagley (039836146) Dining Designs","Active",null,null,null,null,null,null,null,null,null,null,null,"SC6108","SC6108||6100","6100","Materials and Supplies","Primary","All"]
[null,null,null,null,null,null,"AC00389","[LFSC] Operational Fndrsg Replacm-BIO","AC00389-[LFSC] Operational Fndrsg Replacm-BIO","Activity","FD01","Active","2025-03-17T16:11:52.138121+00:00",null,"SC6724","Utilities, Heat/Cool Unit","SC6724-Utilities, Heat/Cool Unit","Spend Category","Active",null,null,"11454","Arizona-Tucson","11454-Arizona-Tucson",null,null,null,"AS039884947","Rachel Platt (039884947) College of Nursing","AS039884947-Rachel Platt (039884947) College of Nursing","Active",null,null,null,null,null,null,null,null,null,null,null,"SC6109","SC6109||1400","1400","Prepaid Expenses",null,"All"]
[null,null,null,null,null,null,"AC00390","[LFSC] BYU Pre-Veterinary Club","AC00390-[LFSC] BYU Pre-Veterinary Club","Activity","FD02","Active","2025-03-17T16:11:52.138121+00:00",null,"SC6725","Utilities, Natural Gas","SC6725-Utilities, Natural Gas","Spend Category","Active",null,null,"11456","California-East Bay","11456-California-East Bay",null,null,null,"AS039965057","Lisa Sun (039965057) AVP - Dean, Clark Law School","AS039965057-Lisa Sun (039965057) AVP - Dean, Clark Law School","Active",null,null,null,null,null,null,null,null,null,null,null,"SC6109","SC6109||6100","6100","Materials and Supplies","Primary","All"]
[null,null,null,null,null,null,"AC00391","[LFSC] Tanner Entomology Club","AC00391-[LFSC] Tanner Entomology Club","Activity","FD02","Active","2025-03-17T16:11:52.138121+00:00",null,"SC6726","Utilities, Other","SC6726-Utilities, Other","Spend Category","Active",null,null,"11457","California-Fresno","11457-California-Fresno",null,null,null,"AS039965505","Anna Metcalf (039965505) Athletics - External Relations","AS039965505-Anna Metcalf (039965505) Athletics - External Relations","Active",null,null,null,null,null,null,null,null,null,null,null,"SC6110","SC6110||1400","1400","Prepaid Expenses",null,"All"]
[null,null,null,null,null,null,"AC00392","[LFSC] Bioinformatics Resrch Club","AC00392-[LFSC] Bioinformatics Resrch Club","Activity","FD02","Active","2025-03-17T16:11:52.138121+00:00",null,"SC6727","Utilities, Sewer","SC6727-Utilities, Sewer","Spend Category","Active",null,null,"11460","California-Orange County","11460-California-Orange County",null,null,null,"AS040159463","Justin Dyer (040159463) Religious Education - Church History & Doctrine","AS040159463-Justin Dyer (040159463) Religious Education - Church History & Doctrine","Active",null,null,null,null,null,null,null,null,null,null,null,"SC6110","SC6110||1650","1650","Construction in Progress",null,"JE_PPE|JE_Override"]
[null,null,null,null,null,null,"AC00393","[LFSC] Marine Biology Club","AC00393-[LFSC] Marine Biology Club","Activity","FD02","Active","2025-03-17T16:11:52.138121+00:00",null,"SC6728","Utilities, Water","SC6728-Utilities, Water","Spend Category","Active",null,null,"11462","California-Sacramento","11462-California-Sacramento",null,null,null,"AS040411844","James Hansen (040411844) MSB - School of Accountancy","AS040411844-James Hansen (040411844) MSB - School of Accountancy","Active",null,null,null,null,null,null,null,null,null,null,null,"SC6110","SC6110||4900","4900","Cost of Sales",null,"All"]
[null,null,null,null,null,null,"AC00394","[LFSC] Life Sci Pacific Islander Club","AC00394-[LFSC] Life Sci Pacific Islander Club","Activity","FD02","Active","2025-03-17T16:11:52.138121+00:00",null,"SC6729","Warehouse Fixtures","SC6729-Warehouse Fixtures","Spend Category","Active",null,null,"11463","California-San Diego","11463-California-San Diego",null,null,null,"AS040582603","Julie Averett (040582603) School of Accountancy","AS040582603-Julie Averett (040582603) School of Accountancy","Active",null,null,null,null,null,null,null,null,null,null,null,"SC6110","SC6110||6100","6100","Materials and Supplies","Primary","All"]
[null,null,null,null,null,null,"AC00395","[LFSC] Genomic and Bioinformatics Center (GBC)","AC00395-[LFSC] Genomic and Bioinformatics Center (GBC)","Activity","FD02","Active","2025-04-17T02:04:04.000638+00:00",null,"SC6730","Window Treatments","SC6730-Window Treatments","Spend Category","Active",null,null,"11466","Colorado-Denver","11466-Colorado-Denver",null,null,null,"AS040582729","Michael Ralls (040582729) OIT Portfolio - CES Network Center (CNC)","AS040582729-Michael Ralls (040582729) OIT Portfolio - CES Network Center (CNC)","Active",null,null,null,null,null,null,null,null,null,null,null,"SC6111","SC6111||1400","1400","Prepaid Expenses",null,"All"]
[null,null,null,null,null,null,"AC00396","[LFSC] Biology Scholarships","AC00396-[LFSC] Biology Scholarships","Activity","FD03","Active","2025-03-17T16:11:52.138121+00:00",null,"SC6731","Stage and Studio Lighting (Only Workday Inventory Module)","SC6731-Stage and Studio Lighting (Only Workday Inventory Module)","Spend Category","Active",null,null,"11467","Georgia-Atlanta","11467-Georgia-Atlanta",null,null,null,"AS040921974","Kellie Barnhurst (040921974) HS Administration","AS040921974-Kellie Barnhurst (040921974) HS Administration","Active",null,null,null,null,null,null,null,null,null,null,null,"SC6111","SC6111||1650","1650","Construction in Progress",null,"JE_PPE|JE_Override"]
[null,null,null,null,null,null,"AC00397","[LFSC] LFSC Farm / Skaggs Fund-BIOL","AC00397-[LFSC] LFSC Farm / Skaggs Fund-BIOL","Activity","FD03","Active","2025-03-17T16:11:52.138121+00:00",null,"SC6799","Physical Facilities (reclass)","SC6799-Physical Facilities (reclass)","Spend Category","Active",null,null,"11469","Idaho-Boise","11469-Idaho-Boise",null,null,null,"AS040944422","Jay Anderson (040944422) Dean's Office - College of Engineering","AS040944422-Jay Anderson (040944422) Dean's Office - College of Engineering","Active",null,null,null,null,null,null,null,null,null,null,null,"SC6111","SC6111||4900","4900","Cost of Sales",null,"All"]
[null,null,null,null,null,null,"AC00398","[LFSC] GMA Petrol fly genome S.Bybee","AC00398-[LFSC] GMA Petrol fly genome S.Bybee","Activity","FD03","Active","2025-03-17T16:11:52.138121+00:00",null,"SC6901","Art Equipment","SC6901-Art Equipment","Spend Category","Active",null,null,"11470","Idaho-Idaho Falls","11470-Idaho-Idaho Falls",null,null,null,"AS041240744","Michael Standing (041240744) Microscopy","AS041240744-Michael Standing (041240744) Microscopy","Active",null,null,null,null,null,null,null,null,null,null,null,"SC6111","SC6111||6100","6100","Materials and Supplies","Primary","All"]
[null,null,null,null,null,null,"AC00399","[LFSC] Grad Mentoring Award-P.Ridge","AC00399-[LFSC] Grad Mentoring Award-P.Ridge","Activity","FD03","Active","2025-03-17T16:11:52.138121+00:00",null,"SC6902","Athletic Equipment","SC6902-Athletic Equipment","Spend Category","Active",null,null,"11471","Idaho-Pocatello","11471-Idaho-Pocatello",null,null,null,"AS041282040","Javier Romo (041282040) Humanities - Spanish & Portuguese","AS041282040-Javier Romo (041282040) Humanities - Spanish & Portuguese","Active",null,null,null,null,null,null,null,null,null,null,null,"SC6112","SC6112||1400","1400","Prepaid Expenses",null,"All"]
[null,null,null,null,null,null,"AC00400","[LFSC] Grad Mentoring Award-J.Jensen","AC00400-[LFSC] Grad Mentoring Award-J.Jensen","Activity","FD03","Active","2025-03-17T16:11:52.138121+00:00",null,"SC6903","Audio Visual Equipment (Asset Track)","SC6903-Audio Visual Equipment (Asset Track)","Spend Category","Active",null,null,"11472","Idaho-Twin Falls","11472-Idaho-Twin Falls",null,null,null,"AS041564784","Jianting Shi (041564784) College of Engineering - Civil & Construction Engineering","AS041564784-Jianting Shi (041564784) College of Engineering - Civil & Construction Engineering","Active",null,null,null,null,null,null,null,null,null,null,null,"SC6112","SC6112||6100","6100","Materials and Supplies","Primary","All"]
[null,null,null,null,null,null,"AC00401","[LFSC] Grad Mentoring Award-J.Johnson","AC00401-[LFSC] Grad Mentoring Award-J.Johnson","Activity","FD03","Active","2025-03-17T16:11:52.138121+00:00",null,"SC6904","Communication Devices (Asset Track)","SC6904-Communication Devices (Asset Track)","Spend Category","Active",null,null,"11473","Illinois-Chicago","11473-Illinois-Chicago",null,null,null,"AS041692304","Jonathan Black (041692304) OIT Resource - Platform Engineering","AS041692304-Jonathan Black (041692304) OIT Resource - Platform Engineering","Active",null,null,null,null,null,null,null,null,null,null,null,"SC6113","SC6113||1400","1400","Prepaid Expenses",null,"All"]
[null,null,null,null,null,null,"AC00402","[LFSC] LFSC-Fulton-Chair-BIOL","AC00402-[LFSC] LFSC-Fulton-Chair-BIOL","Activity","FD03","Active","2025-03-17T16:11:52.138121+00:00",null,"SC6905","Computer Hardware (Asset Track)","SC6905-Computer Hardware (Asset Track)","Spend Category","Active",null,null,"11476","Minnesota-Minneapolis/St.Paul","11476-Minnesota-Minneapolis/St.Paul",null,null,null,"AS041699320","Brian Baird (041699320) PMPC Administration","AS041699320-Brian Baird (041699320) PMPC Administration","Active",null,null,null,null,null,null,null,null,null,null,null,"SC6113","SC6113||6100","6100","Materials and Supplies","Primary","All"]
[null,null,null,null,null,null,"AC00403","[LFSC] Adams, BJ-Young Scholar","AC00403-[LFSC] Adams, BJ-Young Scholar","Activity","FD03","Active","2025-03-17T16:11:52.138121+00:00",null,"SC6906","Data Network Equipment (Asset Track)","SC6906-Data Network Equipment (Asset Track)","Spend Category","Active",null,null,"11477","Missouri-Kansas City","11477-Missouri-Kansas City",null,null,null,"AS042554455","Laura Bond (042554455) Student Connection and Leadership Center","AS042554455-Laura Bond (042554455) Student Connection and Leadership Center","Active",null,null,null,null,null,null,null,null,null,null,null,"SC6114","SC6114||1400","1400","Prepaid Expenses",null,"All"]
[null,null,null,null,null,null,"AC00405","[LFSC] CURA Indirect Student Aid-BIOL","AC00405-[LFSC] CURA Indirect Student Aid-BIOL","Activity","FD03","Active","2025-03-17T16:11:52.138121+00:00",null,"SC6907","Equipment (not otherwise specified) (Asset Track)","SC6907-Equipment (not otherwise specified) (Asset Track)","Spend Category","Active",null,null,"11479","Nebraska-Omaha","11479-Nebraska-Omaha",null,null,null,"AS042618934","Paul Joshua Hurst (042618934) CMS - Chemistry and Biochemistry","AS042618934-Paul Joshua Hurst (042618934) CMS - Chemistry and Biochemistry","Active",null,null,null,null,null,null,null,null,null,null,null,"SC6114","SC6114||1650","1650","Construction in Progress",null,"JE_PPE|JE_Override"]
[null,null,null,null,null,null,"AC00406","[LFSC] Undergrd Experintl Learng-BIOL","AC00406-[LFSC] Undergrd Experintl Learng-BIOL","Activity","FD03","Active","2025-03-17T16:11:52.138121+00:00",null,"SC6908","Equipment Maintenance (not otherwise specified)","SC6908-Equipment Maintenance (not otherwise specified)","Spend Category","Active",null,null,"11480","Nevada-Las Vegas","11480-Nevada-Las Vegas",null,null,null,"AS042626057","Derek Sainsbury (042626057) Religious Education - Church History & Doctrine","AS042626057-Derek Sainsbury (042626057) Religious Education - Church History & Doctrine","Active",null,null,null,null,null,null,null,null,null,null,null,"SC6114","SC6114||4900","4900","Cost of Sales",null,"All"]
[null,null,null,null,null,null,"AC00407","[LFSC] CURA Direct Student Aid-BIOL","AC00407-[LFSC] CURA Direct Student Aid-BIOL","Activity","FD03","Active","2025-03-17T16:11:52.138121+00:00",null,"SC6909","Firearms","SC6909-Firearms","Spend Category","Active",null,null,"11481","New Jersey-North Jersey","11481-New Jersey-North Jersey",null,null,null,"AS042950870","Mike Maynor (042950870) PF Building Operations","AS042950870-Mike Maynor (042950870) PF Building Operations","Active",null,null,null,null,null,null,null,null,null,null,null,"SC6114","SC6114||6100","6100","Materials and Supplies","Primary","All"]
[null,null,null,null,null,null,"AC00408","[LFSC] Sunshine Fund-BIOL","AC00408-[LFSC] Sunshine Fund-BIOL","Activity","FD07","Active","2025-03-17T16:11:52.138121+00:00",null,"SC6910","Food Service Equipment","SC6910-Food Service Equipment","Spend Category","Active",null,null,"11482","New Mexico-Albuquerque","11482-New Mexico-Albuquerque",null,null,null,"AS042952793","Katelyn Staley (042952793) PF Grounds - Landscaping Specialty","AS042952793-Katelyn Staley (042952793) PF Grounds - Landscaping Specialty","Active",null,null,null,null,null,null,null,null,null,null,null,"SC6115","SC6115||1400","1400","Prepaid Expenses",null,"All"]
[null,null,null,null,null,null,"AC00409","[LFSC] Grad Studies-Deborah Johnson","AC00409-[LFSC] Grad Studies-Deborah Johnson","Activity","FD01","Active","2025-03-17T16:11:52.138121+00:00",null,"SC6911","Grants Capital Equipment","SC6911-Grants Capital Equipment","Spend Category","Active",null,null,"11485","North Carolina-Charlotte","11485-North Carolina-Charlotte",null,null,null,"AS043026334","Quin Swallow (043026334) OIT Resource - Tech Operations - Enterprise Apps","AS043026334-Quin Swallow (043026334) OIT Resource - Tech Operations - Enterprise Apps","Active",null,null,null,null,null,null,null,null,null,null,null,"SC6115","SC6115||6100","6100","Materials and Supplies","Primary","All"]
[null,null,null,null,null,null,"AC00410","[LFSC] Grad Studies-Devan Bursey","AC00410-[LFSC] Grad Studies-Devan Bursey","Activity","FD01","Active","2025-03-17T16:11:52.138121+00:00",null,"SC6912","Grants Non-Capital Equipment","SC6912-Grants Non-Capital Equipment","Spend Category","Active",null,null,"11486","North Carolina-Raleigh/Durham","11486-North Carolina-Raleigh/Durham",null,null,null,"AS043140250","Kirk Rich (043140250) Dining Administration","AS043140250-Kirk Rich (043140250) Dining Administration","Active",null,null,null,null,null,null,null,null,null,null,null,"SC6116","SC6116||1400","1400","Prepaid Expenses",null,"All"]
[null,null,null,null,null,null,"AC00411","[LFSC] Grad Student Funding-MMBIO","AC00411-[LFSC] Grad Student Funding-MMBIO","Activity","FD01","Active","2025-03-17T16:11:52.138121+00:00",null,"SC6913","Grounds Equipment","SC6913-Grounds Equipment","Spend Category","Active",null,null,"11487","Ohio-Cincinnati","11487-Ohio-Cincinnati",null,null,null,"AS043171855","Andy Bay (043171855) Alumni Relations","AS043171855-Andy Bay (043171855) Alumni Relations","Active",null,null,null,null,null,null,null,null,null,null,null,"SC6116","SC6116||6100","6100","Materials and Supplies","Primary","All"]
[null,null,null,null,null,null,"AC00412","[LFSC] Grad Studies-Stewart Morley","AC00412-[LFSC] Grad Studies-Stewart Morley","Activity","FD01","Active","2025-03-17T16:11:52.138121+00:00",null,"SC6914","Industrial Equipment","SC6914-Industrial Equipment","Spend Category","Active",null,null,"11488","Oklahoma-Tulsa","11488-Oklahoma-Tulsa",null,null,null,"AS043238269","Erin Bailey (043238269) Fine Arts & Communications - School of Music","AS043238269-Erin Bailey (043238269) Fine Arts & Communications - School of Music","Active",null,null,null,null,null,null,null,null,null,null,null,"SC6117","SC6117||1400","1400","Prepaid Expenses",null,"All"]
[null,null,null,null,null,null,"AC00413","[LFSC] Operational Fndrsg Replc-MMBIO","AC00413-[LFSC] Operational Fndrsg Replc-MMBIO","Activity","FD01","Active","2025-03-17T16:11:52.138121+00:00",null,"SC6915","Janitorial Equipment","SC6915-Janitorial Equipment","Spend Category","Active",null,null,"11490","Texas-Dallas/Ft.Worth","11490-Texas-Dallas/Ft.Worth",null,null,null,"AS043281326","Grayson Morgan (043281326) FHSS - Geography","AS043281326-Grayson Morgan (043281326) FHSS - Geography","Active",null,null,null,null,null,null,null,null,null,null,null,"SC6117","SC6117||6100","6100","Materials and Supplies","Primary","All"]
[null,null,null,null,null,null,"AC00414","[LFSC] Aquatic Phylogenetics Lab","AC00414-[LFSC] Aquatic Phylogenetics Lab","Activity","FD02","Active","2025-03-17T16:11:52.138121+00:00",null,"SC6916","Janitorial Equipment Maintenance","SC6916-Janitorial Equipment Maintenance","Spend Category","Active",null,null,"11491","Texas-El Paso/Las Cruces","11491-Texas-El Paso/Las Cruces",null,null,null,"AS043310669","Kristen Erekson (043310669) AVP - Dean, College of Nursing","AS043310669-Kristen Erekson (043310669) AVP - Dean, College of Nursing","Active",null,null,null,null,null,null,null,null,null,null,null,"SC6118","SC6118||1400","1400","Prepaid Expenses",null,"All"]
[null,null,null,null,null,null,"AC00415","[LFSC] MMBIO Club","AC00415-[LFSC] MMBIO Club","Activity","FD02","Active","2025-03-17T16:11:52.138121+00:00",null,"SC6917","Laundry Equipment","SC6917-Laundry Equipment","Spend Category","Active",null,null,"11492","Texas-Houston","11492-Texas-Houston",null,null,null,"AS043323198","Kevin John (043323198) Fine Arts & Communications - School of Communications","AS043323198-Kevin John (043323198) Fine Arts & Communications - School of Communications","Active",null,null,null,null,null,null,null,null,null,null,null,"SC6118","SC6118||6100","6100","Materials and Supplies","Primary","All"]
[null,null,null,null,null,null,"AC00416","[LFSC] Res Instru Core Facil (RICF)","AC00416-[LFSC] Res Instru Core Facil (RICF)","Activity","FD02","Active","2025-03-17T16:11:52.138121+00:00",null,"SC6918","Library Content","SC6918-Library Content","Spend Category","Active",null,null,"11494","Utah-Cache Valley","11494-Utah-Cache Valley",null,null,null,"AS044032831","John Clawson (044032831) College of Engineering - Electrical & Computer Engineering","AS044032831-John Clawson (044032831) College of Engineering - Electrical & Computer Engineering","Active",null,null,null,null,null,null,null,null,null,null,null,"SC6119","SC6119||1400","1400","Prepaid Expenses",null,"All"]
[null,null,null,null,null,null,"AC00417","[LFSC] Medical Lab Science Club","AC00417-[LFSC] Medical Lab Science Club","Activity","FD02","Active","2025-03-17T16:11:52.138121+00:00",null,"SC6919","Library Subscriptions","SC6919-Library Subscriptions","Spend Category","Active",null,null,"11495","Utah-Ogden","11495-Utah-Ogden",null,null,null,"AS044370492","Jay Brown (044370492) Housing Administration","AS044370492-Jay Brown (044370492) Housing Administration","Active",null,null,null,null,null,null,null,null,null,null,null,"SC6119","SC6119||1650","1650","Construction in Progress",null,"JE_PPE|JE_Override"]
[null,null,null,null,null,null,"AC00418","[LFSC] Life Sciences Graduate Club","AC00418-[LFSC] Life Sciences Graduate Club","Activity","FD02","Active","2025-03-17T16:11:52.138121+00:00",null,"SC6920","Media Content","SC6920-Media Content","Spend Category","Active",null,null,"11496","Utah-Salt Lake City","11496-Utah-Salt Lake City",null,null,null,"AS044418697","Nicole Clawson (044418697) Humanities - English","AS044418697-Nicole Clawson (044418697) Humanities - English","Active",null,null,null,null,null,null,null,null,null,null,null,"SC6119","SC6119||4900","4900","Cost of Sales",null,"All"]
[null,null,null,null,null,null,"AC00419","[LFSC] Undergrad Resrch & Intern Club","AC00419-[LFSC] Undergrad Resrch & Intern Club","Activity","FD02","Active","2025-03-17T16:11:52.138121+00:00",null,"SC6921","Medical Equipment","SC6921-Medical Equipment","Spend Category","Active",null,null,"11497","PA Susquehanna Valley","11497-PA Susquehanna Valley",null,null,null,"AS044555761","James Cardon (044555761) FHSS - Economics","AS044555761-James Cardon (044555761) FHSS - Economics","Active",null,null,null,null,null,null,null,null,null,null,null,"SC6119","SC6119||6100","6100","Materials and Supplies","Primary","All"]
[null,null,null,null,null,null,"AC00420","[LFSC] Pre-Genetic Counseling Club","AC00420-[LFSC] Pre-Genetic Counseling Club","Activity","FD02","Active","2025-03-17T16:11:52.138121+00:00",null,"SC6922","Medical Equipment - Maintenance","SC6922-Medical Equipment - Maintenance","Spend Category","Active",null,null,"11499","Washington-Seattle","11499-Washington-Seattle",null,null,null,"AS045035609","TaraLee Cook (045035609) Management Department","AS045035609-TaraLee Cook (045035609) Management Department","Active",null,null,null,null,null,null,null,null,null,null,null,"SC6120","SC6120||1400","1400","Prepaid Expenses",null,"All"]
[null,null,null,null,null,null,"AC00421","[LFSC] Operation Outbreak Club","AC00421-[LFSC] Operation Outbreak Club","Activity","FD02","Active","2025-03-17T16:11:52.138121+00:00",null,"SC6923","Musical Instruments","SC6923-Musical Instruments","Spend Category","Active",null,null,"114T3","ESC ACCESS C411A-A1 13594","114T3-ESC ACCESS C411A-A1 13594",null,null,null,"AS045167865","Brett Scharffs (045167865) AVP - Dean, Clark Law School","AS045167865-Brett Scharffs (045167865) AVP - Dean, Clark Law School","Active",null,null,null,null,null,null,null,null,null,null,null,"SC6120","SC6120||6100","6100","Materials and Supplies","Primary","All"]
[null,null,null,null,null,null,"AC00422","[LFSC] Enlightenment Society Club","AC00422-[LFSC] Enlightenment Society Club","Activity","FD02","Active","2025-03-17T16:11:52.138121+00:00",null,"SC6924","Office Equipment (Asset Track)","SC6924-Office Equipment (Asset Track)","Spend Category","Active",null,null,"11500","Washington-Central/Moses Lake","11500-Washington-Central/Moses Lake",null,null,null,"AS045325744","Brent Moore (045325744) OIT Leadership - CES Architecture","AS045325744-Brent Moore (045325744) OIT Leadership - CES Architecture","Active",null,null,null,null,null,null,null,null,null,null,null,"SC6121","SC6121||1400","1400","Prepaid Expenses",null,"All"]
[null,null,null,null,null,null,"AC00423","[LFSC] Graduate Studies-MMBIO RRGSE","AC00423-[LFSC] Graduate Studies-MMBIO RRGSE","Activity","FD03","Active","2025-03-17T16:11:52.138121+00:00",null,"SC6925","Office Equipment - Maintenance","SC6925-Office Equipment - Maintenance","Spend Category","Active",null,null,"11502","PA-Greater Philadelphia","11502-PA-Greater Philadelphia",null,null,null,"AS045666134","Ray Merritt (045666134) Asst Adm VP Physical Facil","AS045666134-Ray Merritt (045666134) Asst Adm VP Physical Facil","Active",null,null,null,null,null,null,null,null,null,null,null,"SC6121","SC6121||1650","1650","Construction in Progress",null,"JE_PPE|JE_Override"]
[null,null,null,null,null,null,"AC00424","[LFSC] Phage Hunter's Class Royalties","AC00424-[LFSC] Phage Hunter's Class Royalties","Activity","FD03","Active","2025-03-17T16:11:52.138121+00:00",null,"SC6926","Photography Equipment","SC6926-Photography Equipment","Spend Category","Active",null,null,"11503","Utah-Utah County","11503-Utah-Utah County",null,null,null,"AS045860515","Eric Butler (045860515) PF Building Operations","AS045860515-Eric Butler (045860515) PF Building Operations","Active",null,null,null,null,null,null,null,null,null,null,null,"SC6121","SC6121||4900","4900","Cost of Sales",null,"All"]
[null,null,null,null,null,null,"AC00425","[LFSC] Robison, R-Prostratin","AC00425-[LFSC] Robison, R-Prostratin","Activity","FD03","Active","2025-03-17T16:11:52.138121+00:00",null,"SC6927","Portable Structures","SC6927-Portable Structures","Spend Category","Active",null,null,"11504","Florida-Orlando","11504-Florida-Orlando",null,null,null,"AS046004146","Brian Jeffs (046004146) College of Engineering - Electrical & Computer Engineering","AS046004146-Brian Jeffs (046004146) College of Engineering - Electrical & Computer Engineering","Active",null,null,null,null,null,null,null,null,null,null,null,"SC6121","SC6121||6100","6100","Materials and Supplies","Primary","All"]
[null,null,null,null,null,null,"AC00426","[LFSC] Grad Mentoring Award-S.Anderso","AC00426-[LFSC] Grad Mentoring Award-S.Anderso","Activity","FD03","Active","2025-03-17T16:11:52.138121+00:00",null,"SC6928","Printing Equipment","SC6928-Printing Equipment","Spend Category","Active",null,null,"11505","Florida-South/Miami","11505-Florida-South/Miami",null,null,null,"AS046066685","Klint Hobbs (046066685) Student Life VP","AS046066685-Klint Hobbs (046066685) Student Life VP","Active",null,null,null,null,null,null,null,null,null,null,null,"SC6122","SC6122||1400","1400","Prepaid Expenses",null,"All"]
[null,null,null,null,null,null,"AC00427","[LFSC] LFSC Farm / Skaggs Fund-MMBIO","AC00427-[LFSC] LFSC Farm / Skaggs Fund-MMBIO","Activity","FD03","Active","2025-03-17T16:11:52.138121+00:00",null,"SC6929","Scientific and Engineering Equipment","SC6929-Scientific and Engineering Equipment","Spend Category","Active",null,null,"11506","Florida-Tampa","11506-Florida-Tampa",null,null,null,"AS046095448","Laurel Martinelli (HUM)","AS046095448-Laurel Martinelli (HUM)","Active",null,null,null,null,null,null,null,null,null,null,null,"SC6122","SC6122||6100","6100","Materials and Supplies","Primary","All"]
[null,null,null,null,null,null,"AC00428","[LFSC] Grad Mentoring Award-D.Erickso","AC00428-[LFSC] Grad Mentoring Award-D.Erickso","Activity","FD03","Active","2025-03-17T16:11:52.138121+00:00",null,"SC6930","Scientific Equipment - Maintenance","SC6930-Scientific Equipment - Maintenance","Spend Category","Active",null,null,"11507","Mississippi-Jackson","11507-Mississippi-Jackson",null,null,null,"AS046299199","Nicholas Mason (046299199) Humanities - English","AS046299199-Nicholas Mason (046299199) Humanities - English","Active",null,null,null,null,null,null,null,null,null,null,null,"SC6123","SC6123||1400","1400","Prepaid Expenses",null,"All"]
[null,null,null,null,null,null,"AC00429","[LFSC] LFSC-Fulton-Chair-MMBIO","AC00429-[LFSC] LFSC-Fulton-Chair-MMBIO","Activity","FD03","Active","2025-03-17T16:11:52.138121+00:00",null,"SC6931","Security Equipment (Asset Track)","SC6931-Security Equipment (Asset Track)","Spend Category","Active",null,null,"11508","Nevada-Elko","11508-Nevada-Elko",null,null,null,"AS046399270","Cameron Schuetzler (046399270) Campus Scheduling","AS046399270-Cameron Schuetzler (046399270) Campus Scheduling","Active",null,null,null,null,null,null,null,null,null,null,null,"SC6123","SC6123||6100","6100","Materials and Supplies","Primary","All"]
[null,null,null,null,null,null,"AC00431","[LFSC] CURA Indirect Studnt Aid-MMBIO","AC00431-[LFSC] CURA Indirect Studnt Aid-MMBIO","Activity","FD03","Active","2025-03-17T16:11:52.138121+00:00",null,"SC6932","Small Appliances","SC6932-Small Appliances","Spend Category","Active",null,null,"11511","Tailgates-Campus/HC","11511-Tailgates-Campus/HC",null,null,null,"AS046482685","David Dahl (046482685) AVP - Dean, Computational, Math,& Physical (CMS)","AS046482685-David Dahl (046482685) AVP - Dean, Computational, Math,& Physical (CMS)","Active",null,null,null,null,null,null,null,null,null,null,null,"SC6124","SC6124||1400","1400","Prepaid Expenses",null,"All"]
[null,null,null,null,null,null,"AC00432","[LFSC] Undergrd Experintl Learng-MMBI","AC00432-[LFSC] Undergrd Experintl Learng-MMBI","Activity","FD03","Active","2025-03-17T16:11:52.138121+00:00",null,"SC6933","Software","SC6933-Software","Spend Category","Active",null,null,"11512","Tailgates-Off Campus","11512-Tailgates-Off Campus",null,null,null,"AS046579839","Otavio Souza (046579839) Athletics - Men's Volleyball","AS046579839-Otavio Souza (046579839) Athletics - Men's Volleyball","Active",null,null,null,null,null,null,null,null,null,null,null,"SC6124","SC6124||6100","6100","Materials and Supplies","Primary","All"]
[null,null,null,null,null,null,"AC00433","[LFSC] CURA Direct Student Aid-MMBIO","AC00433-[LFSC] CURA Direct Student Aid-MMBIO","Activity","FD03","Active","2025-03-17T16:11:52.138121+00:00",null,"SC6934","Software and Media - Licenses","SC6934-Software and Media - Licenses","Spend Category","Active",null,null,"11513","Tailgates-Bowl Games","11513-Tailgates-Bowl Games",null,null,null,"AS046866186","Jani Radebaugh (046866186) CMS - Geological Sciences","AS046866186-Jani Radebaugh (046866186) CMS - Geological Sciences","Active",null,null,null,null,null,null,null,null,null,null,null,"SC6125","SC6125||1400","1400","Prepaid Expenses",null,"All"]
[null,null,null,null,null,null,"AC00434","[LFSC] Sunshine Fund-MMBIO","AC00434-[LFSC] Sunshine Fund-MMBIO","Activity","FD07","Active","2025-03-17T16:11:52.138121+00:00",null,"SC6935","Telecom Equipment","SC6935-Telecom Equipment","Spend Category","Active",null,null,"11521","Conferencing Odd Year","11521-Conferencing Odd Year",null,null,null,"AS046927915","Shannon Keeley (046927915) Marketing, Communications, & Technology","AS046927915-Shannon Keeley (046927915) Marketing, Communications, & Technology","Active",null,null,null,null,null,null,null,null,null,null,null,"SC6125","SC6125||1650","1650","Construction in Progress",null,"JE_PPE|JE_Override"]
[null,null,null,null,null,null,"AC00435","[LFSC] Grad Student Funding-NDFS","AC00435-[LFSC] Grad Student Funding-NDFS","Activity","FD01","Active","2025-03-17T16:11:52.138121+00:00",null,"SC6936","Vehicles Services","SC6936-Vehicles Services","Spend Category","Active",null,null,"11522","Conferencing Even Year","11522-Conferencing Even Year",null,null,null,"AS047049476","Kameron Cooper (047049476) Fine Arts & Communications - Design","AS047049476-Kameron Cooper (047049476) Fine Arts & Communications - Design","Active",null,null,null,null,null,null,null,null,null,null,null,"SC6125","SC6125||4900","4900","Cost of Sales",null,"All"]
[null,null,null,null,null,null,"AC00436","[LFSC] Dietetics Education","AC00436-[LFSC] Dietetics Education","Activity","FD02","Active","2025-03-17T16:11:52.138121+00:00",null,"SC6937","Vehicles, Motor","SC6937-Vehicles, Motor","Spend Category","Active",null,null,"11525","Family Camp Odd Year","11525-Family Camp Odd Year",null,null,null,"AS047197454","Jodelle Roberts (047197454) PF Building Operations","AS047197454-Jodelle Roberts (047197454) PF Building Operations","Active",null,null,null,null,null,null,null,null,null,null,null,"SC6125","SC6125||6100","6100","Materials and Supplies","Primary","All"]
[null,null,null,null,null,null,"AC00437","[LFSC] Pendulum Court Dining","AC00437-[LFSC] Pendulum Court Dining","Activity","FD02","Active","2025-03-17T16:11:52.138121+00:00",null,"SC6938","Vehicles, Off-Road","SC6938-Vehicles, Off-Road","Spend Category","Active",null,null,"11528","Family Camp Even Year","11528-Family Camp Even Year",null,null,null,"AS047330929","Kessia Robinson (047330929) Humanities - English","AS047330929-Kessia Robinson (047330929) Humanities - English","Active",null,null,null,null,null,null,null,null,null,null,null,"SC6126","SC6126||1400","1400","Prepaid Expenses",null,"All"]
[null,null,null,null,null,null,"AC00438","[LFSC] Food Sciences Club","AC00438-[LFSC] Food Sciences Club","Activity","FD02","Active","2025-03-17T16:11:52.138121+00:00",null,"SC6939","Warehouse Equipment","SC6939-Warehouse Equipment","Spend Category","Active",null,null,"11533","Football General","11533-Football General",null,null,null,"AS047441517","Cameron Hee (047441517) Student Life VP","AS047441517-Cameron Hee (047441517) Student Life VP","Active",null,null,null,null,null,null,null,null,null,null,null,"SC6126","SC6126||1650","1650","Construction in Progress",null,"JE_PPE|JE_Override"]
[null,null,null,null,null,null,"AC00439","[LFSC] Std Dietetic Assn Club","AC00439-[LFSC] Std Dietetic Assn Club","Activity","FD02","Active","2025-03-17T16:11:52.138121+00:00",null,"SC6940","Audio Visual Equipment (Only Workday Inventory Module)","SC6940-Audio Visual Equipment (Only Workday Inventory Module)","Spend Category","Active",null,null,"11536","Freedom Festival","11536-Freedom Festival",null,null,null,"AS047509842","Taylor Glad (047509842) OIT Resource - AV Events","AS047509842-Taylor Glad (047509842) OIT Resource - AV Events","Active",null,null,null,null,null,null,null,null,null,null,null,"SC6126","SC6126||4900","4900","Cost of Sales",null,"All"]
[null,null,null,null,null,null,"AC00440","[LFSC] Food Product Development","AC00440-[LFSC] Food Product Development","Activity","FD02","Active","2025-03-17T16:11:52.138121+00:00",null,"SC6941","Communication Devices (Only Workday Inventory Module)","SC6941-Communication Devices (Only Workday Inventory Module)","Spend Category","Active",null,null,"11545","Cart 1","11545-Cart 1",null,null,null,"AS047801238","Brayden Woodall (047801238) Athletics - Football","AS047801238-Brayden Woodall (047801238) Athletics - Football","Active",null,null,null,null,null,null,null,null,null,null,null,"SC6126","SC6126||6100","6100","Materials and Supplies","Primary","All"]
[null,null,null,null,null,null,"AC00441","[LFSC] Metabolomics Center","AC00441-[LFSC] Metabolomics Center","Activity","FD02","Active","2025-06-27T02:03:25.610515+00:00",null,"SC6942","Computer Hardware (Only Workday Inventory Module)","SC6942-Computer Hardware (Only Workday Inventory Module)","Spend Category","Active",null,null,"11546","Cart 2","11546-Cart 2",null,null,null,"AS047860039","Cade Charlton (047860039) MSE - Counseling Psychology & Special Ed","AS047860039-Cade Charlton (047860039) MSE - Counseling Psychology & Special Ed","Active",null,null,null,null,null,null,null,null,null,null,null,"SC6127","SC6127||1400","1400","Prepaid Expenses",null,"All"]
[null,null,null,null,null,null,"AC00442","[LFSC] Nutritional Science Club","AC00442-[LFSC] Nutritional Science Club","Activity","FD02","Active","2025-03-17T16:11:52.138121+00:00",null,"SC6943","Data Network Equipment (Only Workday Inventory Module)","SC6943-Data Network Equipment (Only Workday Inventory Module)","Spend Category","Active",null,null,"11547","Cart 3","11547-Cart 3",null,null,null,"AS047927218","Lisa Peck (047927218) FHSS - Internships","AS047927218-Lisa Peck (047927218) FHSS - Internships","Active",null,null,null,null,null,null,null,null,null,null,null,"SC6127","SC6127||6100","6100","Materials and Supplies","Primary","All"]
[null,null,null,null,null,null,"AC00443","[LFSC] Food Science Capstone","AC00443-[LFSC] Food Science Capstone","Activity","FD02","Active","2025-03-17T16:11:52.138121+00:00",null,"SC6944","Equipment (not otherwise specified) (Only Workday Inventory Module)","SC6944-Equipment (not otherwise specified) (Only Workday Inventory Module)","Spend Category","Active",null,null,"11548","Cart 4","11548-Cart 4",null,null,null,"AS048357616","Lauren Barnes (048357616) FHSS - School of Family Life","AS048357616-Lauren Barnes (048357616) FHSS - School of Family Life","Active",null,null,null,null,null,null,null,null,null,null,null,"SC6128","SC6128||6100","6100","Materials and Supplies","Primary","All"]
[null,null,null,null,null,null,"AC00444","[LFSC] Food Micro Expr Lrng Projects","AC00444-[LFSC] Food Micro Expr Lrng Projects","Activity","FD02","Active","2025-03-17T16:11:52.138121+00:00",null,"SC6945","Office Equipment (Only Workday Inventory Module)","SC6945-Office Equipment (Only Workday Inventory Module)","Spend Category","Active",null,null,"11549","Cart 5","11549-Cart 5",null,null,null,"AS048456520","Chris Gordon (048456520) BYU Broadcasting Administration","AS048456520-Chris Gordon (048456520) BYU Broadcasting Administration","Active",null,null,null,null,null,null,null,null,null,null,null,"SC6129","SC6129||1400","1400","Prepaid Expenses",null,"All"]
[null,null,null,null,null,null,"AC00445","[LFSC] Women in Science Club","AC00445-[LFSC] Women in Science Club","Activity","FD02","Active","2025-03-17T16:11:52.138121+00:00",null,"SC6946","Security Equipment (Only Workday Inventory Module)","SC6946-Security Equipment (Only Workday Inventory Module)","Spend Category","Active",null,null,"11550","Cart 6","11550-Cart 6",null,null,null,"AS048510154","Alexandra White (048510154) Athletics - Women's Golf","AS048510154-Alexandra White (048510154) Athletics - Women's Golf","Active",null,null,null,null,null,null,null,null,null,null,null,"SC6129","SC6129||1650","1650","Construction in Progress",null,"JE_PPE|JE_Override"]
[null,null,null,null,null,null,"AC00446","[LFSC] Food Sensory Paneling","AC00446-[LFSC] Food Sensory Paneling","Activity","FD03","Active","2025-03-17T16:11:52.138121+00:00",null,"SC6999","Equipment (reclass)","SC6999-Equipment (reclass)","Spend Category","Active",null,null,"11560","Commencement","11560-Commencement",null,null,null,"AS048530014","Shelly Reed (048530014) AVP - Dean, College of Nursing","AS048530014-Shelly Reed (048530014) AVP - Dean, College of Nursing","Active",null,null,null,null,null,null,null,null,null,null,null,"SC6129","SC6129||1651","1651","Construction in Progress (Non-Workday Projects)",null,"All"]
[null,null,null,null,null,null,"AC00447","[LFSC] Student Support Scholarship","AC00447-[LFSC] Student Support Scholarship","Activity","FD03","Active","2025-03-17T16:11:52.138121+00:00",null,"SC7001","Travel","SC7001-Travel","Spend Category","Active",null,null,"11562","Sorenson Center","11562-Sorenson Center",null,null,null,"AS048845092","Ryan Smith (048845092) AVP - Dean, Marriott School of Business (MSB)","AS048845092-Ryan Smith (048845092) AVP - Dean, Marriott School of Business (MSB)","Active",null,null,null,null,null,null,null,null,null,null,null,"SC6129","SC6129||4900","4900","Cost of Sales",null,"All"]
[null,null,null,null,null,null,"AC00448","[LFSC] NDFS Mentoring","AC00448-[LFSC] NDFS Mentoring","Activity","FD03","Active","2025-03-17T16:11:52.322069+00:00",null,"SC7002","Airfare Domestic","SC7002-Airfare Domestic","Spend Category","Active",null,null,"11563","Campus Model","11563-Campus Model",null,null,null,"AS048878987","Nick Frederick (048878987) Religious Education - Ancient Scripture","AS048878987-Nick Frederick (048878987) Religious Education - Ancient Scripture","Active",null,null,null,null,null,null,null,null,null,null,null,"SC6129","SC6129||6100","6100","Materials and Supplies","Primary","All"]
[null,null,null,null,null,null,"AC00449","[LFSC] LFSC Farm / Skaggs Fund-NDFS","AC00449-[LFSC] LFSC Farm / Skaggs Fund-NDFS","Activity","FD03","Active","2025-03-17T16:11:52.322069+00:00",null,"SC7003","Airfare Foreign","SC7003-Airfare Foreign","Spend Category","Active",null,null,"11565","Block Y","11565-Block Y",null,null,null,"AS048974113","Valinda Rose (048974113) OIT Core - Business Process & Project Mgmt","AS048974113-Valinda Rose (048974113) OIT Core - Business Process & Project Mgmt","Active",null,null,null,null,null,null,null,null,null,null,null,"SC6130","SC6130||1400","1400","Prepaid Expenses",null,"All"]
[null,null,null,null,null,null,"AC00450","[LFSC] Grad Mentoring Award-J.Tessem","AC00450-[LFSC] Grad Mentoring Award-J.Tessem","Activity","FD03","Active","2025-03-17T16:11:52.322069+00:00",null,"SC7004","Transportation Services","SC7004-Transportation Services","Spend Category","Active",null,null,"11570","Unassigned","11570-Unassigned",null,null,null,"AS049047915","Reid Grawe (049047915) Business Career Center","AS049047915-Reid Grawe (049047915) Business Career Center","Active",null,null,null,null,null,null,null,null,null,null,null,"SC6130","SC6130||6100","6100","Materials and Supplies","Primary","All"]
[null,null,null,null,null,null,"AC00451","[LFSC] Grad Mentoring Award-J.LeChemi","AC00451-[LFSC] Grad Mentoring Award-J.LeChemi","Activity","FD03","Active","2025-03-17T16:11:52.322069+00:00",null,"SC7005","Travel - Lodging","SC7005-Travel - Lodging","Spend Category","Active",null,null,"11581","Donations and Sponsorships","11581-Donations and Sponsorships",null,null,null,"AS049318272","Ryan Jensen (049318272) FHSS - Geography","AS049318272-Ryan Jensen (049318272) FHSS - Geography","Active",null,null,null,null,null,null,null,null,null,null,null,"SC6131","SC6131||1400","1400","Prepaid Expenses",null,"All"]
[null,null,null,null,null,null,"AC00452","[LFSC] LFSC-Fulton-Chair-NDFS","AC00452-[LFSC] LFSC-Fulton-Chair-NDFS","Activity","FD03","Active","2025-03-17T16:11:52.322069+00:00",null,"SC7006","Travel - Tour Guide Services","SC7006-Travel - Tour Guide Services","Spend Category","Active",null,null,"11587","UW Day of Caring","11587-UW Day of Caring",null,null,null,"AS049628686","Rochelle Sink (049628686) AVP - Dean, Fine Arts and Communications","AS049628686-Rochelle Sink (049628686) AVP - Dean, Fine Arts and Communications","Active",null,null,null,null,null,null,null,null,null,null,null,"SC6131","SC6131||1650","1650","Construction in Progress",null,"JE_PPE|JE_Override"]
[null,null,null,null,null,null,"AC00454","[LFSC] Undergrd Experintl Learng-NDFS","AC00454-[LFSC] Undergrd Experintl Learng-NDFS","Activity","FD03","Active","2025-03-17T16:11:52.322069+00:00",null,"SC7099","Travel (reclass)","SC7099-Travel (reclass)","Spend Category","Active",null,null,"11588","United Way Campaign-Kick-Off","11588-United Way Campaign-Kick-Off",null,null,null,"AS049753059","Joseph Stuart (049753059) FHSS - History","AS049753059-Joseph Stuart (049753059) FHSS - History","Active",null,null,null,null,null,null,null,null,null,null,null,"SC6131","SC6131||1651","1651","Construction in Progress (Non-Workday Projects)",null,"All"]
[null,null,null,null,null,null,"AC00455","[LFSC] CURA Indirect Student Aid-NDFS","AC00455-[LFSC] CURA Indirect Student Aid-NDFS","Activity","FD03","Active","2025-03-17T16:11:52.322069+00:00",null,"SC9250","Grants Fixed Price Funds Transfer","SC9250-Grants Fixed Price Funds Transfer","Spend Category","Active",null,null,"11593","UW Campaign","11593-UW Campaign",null,null,null,"AS050014425","Annalyn Sorensen (HUM)","AS050014425-Annalyn Sorensen (HUM)","Active",null,null,null,null,null,null,null,null,null,null,null,"SC6131","SC6131||4900","4900","Cost of Sales",null,"All"]
[null,null,null,null,null,null,"AC00456","[LFSC] CURA Direct Student Aid-NDFS","AC00456-[LFSC] CURA Direct Student Aid-NDFS","Activity","FD03","Active","2025-03-17T16:11:52.322069+00:00",null,"SC9996","Cash Conversion","SC9996-Cash Conversion","Spend Category","Active",null,null,"11600","Event 21","11600-Event 21",null,null,null,"AS050065111","Robert Davis (050065111) CMS - Physics and Astronomy","AS050065111-Robert Davis (050065111) CMS - Physics and Astronomy","Active",null,null,null,null,null,null,null,null,null,null,null,"SC6131","SC6131||6100","6100","Materials and Supplies","Primary","All"]
[null,null,null,null,null,null,"AC00457","[LFSC] Sunshine Fund-NDFS","AC00457-[LFSC] Sunshine Fund-NDFS","Activity","FD07","Active","2025-03-17T16:11:52.322069+00:00",null,null,null,null,null,null,null,null,"11601","Event 22","11601-Event 22",null,null,null,"AS050481372","Jaren Pope (050481372) FHSS - Economics","AS050481372-Jaren Pope (050481372) FHSS - Economics","Active",null,null,null,null,null,null,null,null,null,null,null,"SC6132","SC6132||1400","1400","Prepaid Expenses",null,"All"]
[null,null,null,null,null,null,"AC00458","[LFSC] Grad Student Funding-CELL","AC00458-[LFSC] Grad Student Funding-CELL","Activity","FD01","Active","2025-03-17T16:11:52.322069+00:00",null,null,null,null,null,null,null,null,"11603","Campus Showcase","11603-Campus Showcase",null,null,null,"AS050557255","Forrest Hansen (050557255) Law School - External Relations","AS050557255-Forrest Hansen (050557255) Law School - External Relations","Active",null,null,null,null,null,null,null,null,null,null,null,"SC6132","SC6132||6100","6100","Materials and Supplies","Primary","All"]
[null,null,null,null,null,null,"AC00459","[LFSC] Confocal Microscope Facility","AC00459-[LFSC] Confocal Microscope Facility","Activity","FD02","Active","2025-03-17T16:11:52.322069+00:00",null,null,null,null,null,null,null,null,"11604","Big 12","11604-Big 12",null,null,null,"AS050558249","Kyle Mammen (050558249) CE Classroom Programs","AS050558249-Kyle Mammen (050558249) CE Classroom Programs","Active",null,null,null,null,null,null,null,null,null,null,null,"SC6133","SC6133||1400","1400","Prepaid Expenses",null,"All"]
[null,null,null,null,null,null,"AC00460","[LFSC] Diabetes Awareness Events","AC00460-[LFSC] Diabetes Awareness Events","Activity","FD03","Active","2025-03-17T16:11:52.322069+00:00",null,null,null,null,null,null,null,null,"11609","Event 30","11609-Event 30",null,null,null,"AS050613103","Katie Palfreyman (050613103) Humanities - English","AS050613103-Katie Palfreyman (050613103) Humanities - English","Active",null,null,null,null,null,null,null,null,null,null,null,"SC6133","SC6133||1650","1650","Construction in Progress",null,"JE_PPE|JE_Override"]
[null,null,null,null,null,null,"AC00461","[LFSC] Grad Studies-CELL","AC00461-[LFSC] Grad Studies-CELL","Activity","FD03","Active","2025-03-17T16:11:52.322069+00:00",null,null,null,null,null,null,null,null,"11659","Summit","11659-Summit",null,null,null,"AS050636631","Jennie Voorhis (050636631) CE Business Services","AS050636631-Jennie Voorhis (050636631) CE Business Services","Active",null,null,null,null,null,null,null,null,null,null,null,"SC6133","SC6133||4900","4900","Cost of Sales",null,"All"]
[null,null,null,null,null,null,"AC00462","[LFSC] LFSC Farm / Skaggs Fund-CELL","AC00462-[LFSC] LFSC Farm / Skaggs Fund-CELL","Activity","FD03","Active","2025-03-17T16:11:52.322069+00:00",null,null,null,null,null,null,null,null,"11666","Comp Ticket Misc Cultural Arts","11666-Comp Ticket Misc Cultural Arts",null,null,null,"AS050749641","Mike Holdaway (050749641) OIT Portfolio - CES Network Center (CNC)","AS050749641-Mike Holdaway (050749641) OIT Portfolio - CES Network Center (CNC)","Active",null,null,null,null,null,null,null,null,null,null,null,"SC6133","SC6133||6100","6100","Materials and Supplies","Primary","All"]
[null,null,null,null,null,null,"AC00463","[LFSC] Grad Mentoring Award-J.Edwards","AC00463-[LFSC] Grad Mentoring Award-J.Edwards","Activity","FD03","Active","2025-03-17T16:11:52.322069+00:00",null,null,null,null,null,null,null,null,"11667","Comp Ticket Misc Athletic-No f","11667-Comp Ticket Misc Athletic-No f",null,null,null,"AS051347479","Gary Sujeta (051347479) PF Paint & Sign Shop","AS051347479-Gary Sujeta (051347479) PF Paint & Sign Shop","Active",null,null,null,null,null,null,null,null,null,null,null,"SC6199","SC6199||1400","1400","Prepaid Expenses",null,"All"]
[null,null,null,null,null,null,"AC00464","[LFSC] Grad Mentoring Award-J.Hansen","AC00464-[LFSC] Grad Mentoring Award-J.Hansen","Activity","FD03","Active","2025-03-17T16:11:52.322069+00:00",null,null,null,null,null,null,null,null,"11668","BYU Management Society","11668-BYU Management Society",null,null,null,"AS051641497","Neil Thornock (051641497) Fine Arts & Communications - School of Music","AS051641497-Neil Thornock (051641497) Fine Arts & Communications - School of Music","Active",null,null,null,null,null,null,null,null,null,null,null,"SC6199","SC6199||1650","1650","Construction in Progress",null,"JE_PPE|JE_Override"]
[null,null,null,null,null,null,"AC00465","[LFSC] Grad Mentoring Award-D.Kooyman","AC00465-[LFSC] Grad Mentoring Award-D.Kooyman","Activity","FD03","Active","2025-03-17T16:11:52.322069+00:00",null,null,null,null,null,null,null,null,"11675","Comp Basketball Season tickets","11675-Comp Basketball Season tickets",null,null,null,"AS051756218","Jared Bell (051756218) Athletics - Corporate Sponsorships","AS051756218-Jared Bell (051756218) Athletics - Corporate Sponsorships","Active",null,null,null,null,null,null,null,null,null,null,null,"SC6199","SC6199||1651","1651","Construction in Progress (Non-Workday Projects)",null,"All"]
[null,null,null,null,null,null,"AC00466","[LFSC] Grad Mentoring Award-D.Thomson","AC00466-[LFSC] Grad Mentoring Award-D.Thomson","Activity","FD03","Active","2025-03-17T16:11:52.322069+00:00",null,null,null,null,null,null,null,null,"11685","ROTC","11685-ROTC",null,null,null,"AS051762343","Jennine Hollingshaus (051762343) Fine Arts & Communications - Theatre & Media Arts","AS051762343-Jennine Hollingshaus (051762343) Fine Arts & Communications - Theatre & Media Arts","Active",null,null,null,null,null,null,null,null,null,null,null,"SC6199","SC6199||6100","6100","Materials and Supplies","Primary","All"]
[null,null,null,null,null,null,"AC00467","[LFSC] D Kooyman Translation Medicine","AC00467-[LFSC] D Kooyman Translation Medicine","Activity","FD03","Active","2025-03-17T16:11:52.322069+00:00",null,null,null,null,null,null,null,null,"11686","SC Spartanburg","11686-SC Spartanburg",null,null,null,"AS051841946","Heidi Vogeler (051841946) MSE - Counseling Psychology & Special Ed","AS051841946-Heidi Vogeler (051841946) MSE - Counseling Psychology & Special Ed","Active",null,null,null,null,null,null,null,null,null,null,null,"SC6301","SC6301||6300","6300","Student Aid","Primary","All"]
[null,null,null,null,null,null,"AC00468","[LFSC] T Jenkins Translation Medicine","AC00468-[LFSC] T Jenkins Translation Medicine","Activity","FD03","Active","2025-03-17T16:11:52.322069+00:00",null,null,null,null,null,null,null,null,"11687","Ballroom","11687-Ballroom",null,null,null,"AS051989848","Sariah Lunsford (051989848) CE Classroom Programs","AS051989848-Sariah Lunsford (051989848) CE Classroom Programs","Active",null,null,null,null,null,null,null,null,null,null,null,"SC6302","SC6302||6300","6300","Student Aid","Primary","All"]
[null,null,null,null,null,null,"AC00469","[LFSC] LFSC-Fulton-Chair-CELL","AC00469-[LFSC] LFSC-Fulton-Chair-CELL","Activity","FD03","Active","2025-03-17T16:11:52.322069+00:00",null,null,null,null,null,null,null,null,"11688","Michael Johanson","11688-Michael Johanson",null,null,null,"AS052054401","Laura Wilson (052054401) Enterprise Solutions - HCM","AS052054401-Laura Wilson (052054401) Enterprise Solutions - HCM","Active",null,null,null,null,null,null,null,null,null,null,null,"SC6303","SC6303||6300","6300","Student Aid","Primary","All"]
[null,null,null,null,null,null,"AC00471","[LFSC] CURA Indirect Studnt Aid-CELL","AC00471-[LFSC] CURA Indirect Studnt Aid-CELL","Activity","FD03","Active","2025-03-17T16:11:52.322069+00:00",null,null,null,null,null,null,null,null,"11689","Washer/Dryer Income","11689-Washer/Dryer Income",null,null,null,"AS052191006","Charlene Clark (052191006) FHSS - School of Social Work","AS052191006-Charlene Clark (052191006) FHSS - School of Social Work","Active",null,null,null,null,null,null,null,null,null,null,null,"SC6304","SC6304||6300","6300","Student Aid","Primary","All"]
[null,null,null,null,null,null,"AC00472","[LFSC] Undergrd Experintl Learng-CELL","AC00472-[LFSC] Undergrd Experintl Learng-CELL","Activity","FD03","Active","2025-03-17T16:11:52.322069+00:00",null,null,null,null,null,null,null,null,"11690","Affinity - Young Ambassadors","11690-Affinity - Young Ambassadors",null,null,null,"AS052205547","Ryan Flake (052205547) BYU Broadcasting - Post Production","AS052205547-Ryan Flake (052205547) BYU Broadcasting - Post Production","Active",null,null,null,null,null,null,null,null,null,null,null,"SC6305","SC6305||6300","6300","Student Aid","Primary","All"]
[null,null,null,null,null,null,"AC00473","[LFSC] CURA Direct Student Aid-CELL","AC00473-[LFSC] CURA Direct Student Aid-CELL","Activity","FD03","Active","2025-03-17T16:11:52.322069+00:00",null,null,null,null,null,null,null,null,"11692","Affinity - Vocal Point","11692-Affinity - Vocal Point",null,null,null,"AS052304264","Ken Lau (052304264) PF Building Operations","AS052304264-Ken Lau (052304264) PF Building Operations","Active",null,null,null,null,null,null,null,null,null,null,null,"SC6306","SC6306||6300","6300","Student Aid","Primary","All"]
[null,null,null,null,null,null,"AC00474","[LFSC] Sunshine Fund-CELL","AC00474-[LFSC] Sunshine Fund-CELL","Activity","FD07","Active","2025-03-17T16:11:52.322069+00:00",null,null,null,null,null,null,null,null,"11694","Former Student Officer Society","11694-Former Student Officer Society",null,null,null,"AS052378482","Ruth Ellis (052378482) Fine Arts & Communications - School of Music","AS052378482-Ruth Ellis (052378482) Fine Arts & Communications - School of Music","Active",null,null,null,null,null,null,null,null,null,null,null,"SC6307","SC6307||6300","6300","Student Aid","Primary","All"]
[null,null,null,null,null,null,"AC00475","[LFSC] Grad Studies-S.StClair","AC00475-[LFSC] Grad Studies-S.StClair","Activity","FD01","Active","2025-03-17T16:11:52.322069+00:00",null,null,null,null,null,null,null,null,"11695","Affinity-Cougarettes","11695-Affinity-Cougarettes",null,null,null,"AS052394475","Suzanne Julian (052394475) Research & Learning - Library Instruction","AS052394475-Suzanne Julian (052394475) Research & Learning - Library Instruction","Active",null,null,null,null,null,null,null,null,null,null,null,"SC6308","SC6308||6300","6300","Student Aid","Primary","All"]
[null,null,null,null,null,null,"AC00476","[LFSC] Grad Student Funding-PWS","AC00476-[LFSC] Grad Student Funding-PWS","Activity","FD01","Active","2025-03-17T16:11:52.322069+00:00",null,null,null,null,null,null,null,null,"11696","Affinity-Folk Dance","11696-Affinity-Folk Dance",null,null,null,"AS052429999","Talita Wiener-Osman (052429999) Humanities - German & Russian","AS052429999-Talita Wiener-Osman (052429999) Humanities - German & Russian","Active",null,null,null,null,null,null,null,null,null,null,null,"SC6399","SC6399||6300","6300","Student Aid","Primary","All"]
[null,null,null,null,null,null,"AC00477","[LFSC] Operational Fndrsg Replacm-PWS","AC00477-[LFSC] Operational Fndrsg Replacm-PWS","Activity","FD01","Active","2025-03-17T16:11:52.322069+00:00",null,null,null,null,null,null,null,null,"11697","Affinity-Living Legends","11697-Affinity-Living Legends",null,null,null,"AS052561772","Michael White (052561772) Humanities - Asian & Near Eastern Languages","AS052561772-Michael White (052561772) Humanities - Asian & Near Eastern Languages","Active",null,null,null,null,null,null,null,null,null,null,null,"SC6401","SC6401||1400","1400","Prepaid Expenses",null,"All"]
[null,null,null,null,null,null,"AC00478","[LFSC] Farm Research Plots","AC00478-[LFSC] Farm Research Plots","Activity","FD01","Active","2025-03-17T16:11:52.322069+00:00",null,null,null,null,null,null,null,null,"11698","Affinity-Men's Chorus","11698-Affinity-Men's Chorus",null,null,null,"AS052603694","Adam Law (052603694) Athletics - Baseball","AS052603694-Adam Law (052603694) Athletics - Baseball","Active",null,null,null,null,null,null,null,null,null,null,null,"SC6401","SC6401||6400","6400","General and Administrative","Primary","All"]
[null,null,null,null,null,null,"AC00479","[LFSC] Plant and Wildlife Sciences","AC00479-[LFSC] Plant and Wildlife Sciences","Activity","FD02","Active","2025-03-17T16:11:52.322069+00:00",null,null,null,null,null,null,null,null,"11699","Affinity-Nursing Society","11699-Affinity-Nursing Society",null,null,null,"AS052697389","Jon Brewer (052697389) Financial Aid and Scholarships","AS052697389-Jon Brewer (052697389) Financial Aid and Scholarships","Active",null,null,null,null,null,null,null,null,null,null,null,"SC6402","SC6402||6400","6400","General and Administrative","Primary","All"]
[null,null,null,null,null,null,"AC00480","[LFSC] Greenhouse Projects","AC00480-[LFSC] Greenhouse Projects","Activity","FD02","Active","2025-03-17T16:11:52.322069+00:00",null,null,null,null,null,null,null,null,"11700","Affinity-BYU Ballet","11700-Affinity-BYU Ballet",null,null,null,"AS052730332","Jennifer Cardon (052730332) CE Facilties & Emergency Coordination","AS052730332-Jennifer Cardon (052730332) CE Facilties & Emergency Coordination","Active",null,null,null,null,null,null,null,null,null,null,null,"SC6403","SC6403||1400","1400","Prepaid Expenses",null,"All"]
[null,null,null,null,null,null,"AC00481","[LFSC] Environmental Analytical Lab","AC00481-[LFSC] Environmental Analytical Lab","Activity","FD02","Active","2025-07-02T02:03:08.801274+00:00",null,null,null,null,null,null,null,null,"11703","Affinity-Film and TV Connectio","11703-Affinity-Film and TV Connectio",null,null,null,"AS052767711","Kerry Kartchner (052767711) FHSS - Political Science","AS052767711-Kerry Kartchner (052767711) FHSS - Political Science","Active",null,null,null,null,null,null,null,null,null,null,null,"SC6403","SC6403||6400","6400","General and Administrative","Primary","All"]
[null,null,null,null,null,null,"AC00482","[LFSC] Environmental Science Club","AC00482-[LFSC] Environmental Science Club","Activity","FD02","Active","2025-03-17T16:11:52.322069+00:00",null,null,null,null,null,null,null,null,"11704","Subscriptions/Periodicals","11704-Subscriptions/Periodicals",null,null,null,"AS052852966","Tamalin Christen (052852966) BYU Broadcasting - Marketing","AS052852966-Tamalin Christen (052852966) BYU Broadcasting - Marketing","Active",null,null,null,null,null,null,null,null,null,null,null,"SC6404","SC6404||1400","1400","Prepaid Expenses",null,"All"]
[null,null,null,null,null,null,"AC00483","[LFSC] Landscape Management Club","AC00483-[LFSC] Landscape Management Club","Activity","FD02","Active","2025-03-17T16:11:52.322069+00:00",null,null,null,null,null,null,null,null,"11705","Swim & Dive Chapter","11705-Swim & Dive Chapter",null,null,null,"AS053011563","Maddison Colvin (053011563) Fine Arts & Communications - Art","AS053011563-Maddison Colvin (053011563) Fine Arts & Communications - Art","Active",null,null,null,null,null,null,null,null,null,null,null,"SC6404","SC6404||1650","1650","Construction in Progress",null,"JE_PPE|JE_Override"]
[null,null,null,null,null,null,"AC00484","[LFSC] Ecological Restoration Club","AC00484-[LFSC] Ecological Restoration Club","Activity","FD02","Active","2025-11-13T03:04:06.850523+00:00",null,null,null,null,null,null,null,null,"11706","Geography Chapter","11706-Geography Chapter",null,null,null,"AS053113933","Kathryn Ottosson (053113933) Lee Library - Collections Access","AS053113933-Kathryn Ottosson (053113933) Lee Library - Collections Access","Active",null,null,null,null,null,null,null,null,null,null,null,"SC6404","SC6404||1651","1651","Construction in Progress (Non-Workday Projects)",null,"All"]
[null,null,null,null,null,null,"AC00485","[LFSC] Geographic Info System(GIS)Lab","AC00485-[LFSC] Geographic Info System(GIS)Lab","Activity","FD02","Active","2025-03-17T16:11:52.322069+00:00",null,null,null,null,null,null,null,null,"11707","Montana - Billings","11707-Montana - Billings",null,null,null,"AS053123721","Rob Smoot (053123721) Athletics - Cougar Club","AS053123721-Rob Smoot (053123721) Athletics - Cougar Club","Active",null,null,null,null,null,null,null,null,null,null,null,"SC6404","SC6404||6400","6400","General and Administrative","Primary","All"]
[null,null,null,null,null,null,"AC00486","[LFSC] Cementum Analysis Laboratory","AC00486-[LFSC] Cementum Analysis Laboratory","Activity","FD02","Active","2025-03-17T16:11:52.322069+00:00",null,null,null,null,null,null,null,null,"11710","Alumni Chapter Directors","11710-Alumni Chapter Directors",null,null,null,"AS053173168","Derek Griner (053173168) Student Life VP","AS053173168-Derek Griner (053173168) Student Life VP","Active",null,null,null,null,null,null,null,null,null,null,null,"SC6405","SC6405||1400","1400","Prepaid Expenses",null,"All"]
[null,null,null,null,null,null,"AC00487","[LFSC] Genetics and Biotech Club","AC00487-[LFSC] Genetics and Biotech Club","Activity","FD02","Active","2025-03-17T16:11:52.322069+00:00",null,null,null,null,null,null,null,null,"11711","South Carolina - Columbia","11711-South Carolina - Columbia",null,null,null,"AS053328098","Michael Hansen (053328098) Advancement Vice President","AS053328098-Michael Hansen (053328098) Advancement Vice President","Active",null,null,null,null,null,null,null,null,null,null,null,"SC6405","SC6405||6400","6400","General and Administrative","Primary","All"]
[null,null,null,null,null,null,"AC00488","[LFSC] Wildlife & Range Club","AC00488-[LFSC] Wildlife & Range Club","Activity","FD02","Active","2025-03-17T16:11:52.322069+00:00",null,null,null,null,null,null,null,null,"11713","Tennessee - Memphis","11713-Tennessee - Memphis",null,null,null,"AS053393841","Bill Pitt (053393841) College of Engineering - Chemical Engineering","AS053393841-Bill Pitt (053393841) College of Engineering - Chemical Engineering","Active",null,null,null,null,null,null,null,null,null,null,null,"SC6406","SC6406||1400","1400","Prepaid Expenses",null,"All"]
[null,null,null,null,null,null,"AC00489","[LFSC] Society for Range Mgmt Club","AC00489-[LFSC] Society for Range Mgmt Club","Activity","FD02","Active","2025-03-17T16:11:52.322069+00:00",null,null,null,null,null,null,null,null,"11714","Kansas - Wichita","11714-Kansas - Wichita",null,null,null,"AS053506341","Kara Stowers (053506341) CMS - Chemistry and Biochemistry","AS053506341-Kara Stowers (053506341) CMS - Chemistry and Biochemistry","Active",null,null,null,null,null,null,null,null,null,null,null,"SC6406","SC6406||6400","6400","General and Administrative","Primary","All"]
[null,null,null,null,null,null,"AC00490","[LFSC] Spotted Wilt","AC00490-[LFSC] Spotted Wilt","Activity","FD03","Active","2025-03-17T16:11:52.322069+00:00",null,null,null,null,null,null,null,null,"11715","Utah - St. George","11715-Utah - St. George",null,null,null,"AS053793368","Giovanni Tata (053793368) AVP - Associate AVP, Research and Graduate Studies","AS053793368-Giovanni Tata (053793368) AVP - Associate AVP, Research and Graduate Studies","Active",null,null,null,null,null,null,null,null,null,null,null,"SC6407","SC6407||1400","1400","Prepaid Expenses",null,"All"]
[null,null,null,null,null,null,"AC00491","[LFSC] National Assc of Landscape Pro","AC00491-[LFSC] National Assc of Landscape Pro","Activity","FD03","Active","2025-10-25T02:04:16.484531+00:00",null,null,null,null,null,null,null,null,"11728","American Samoa","11728-American Samoa",null,null,null,"AS053834421","Tommy Terooatea (053834421) Life Sciences - Biology","AS053834421-Tommy Terooatea (053834421) Life Sciences - Biology","Active",null,null,null,null,null,null,null,null,null,null,null,"SC6407","SC6407||6400","6400","General and Administrative","Primary","All"]
[null,null,null,null,null,null,"AC00492","[LFSC] LFSC Farm / Skaggs Fund-PWS","AC00492-[LFSC] LFSC Farm / Skaggs Fund-PWS","Activity","FD03","Active","2025-03-17T16:11:52.322069+00:00",null,null,null,null,null,null,null,null,"11739","Delaware - Wilmington","11739-Delaware - Wilmington",null,null,null,"AS053906103","Annie Thunell (053906103) Heritage Halls","AS053906103-Annie Thunell (053906103) Heritage Halls","Active",null,null,null,null,null,null,null,null,null,null,null,"SC6408","SC6408||6400","6400","General and Administrative","Primary","All"]
[null,null,null,null,null,null,"AC00493","[LFSC] Grad Mentoring Award-B.Abbott","AC00493-[LFSC] Grad Mentoring Award-B.Abbott","Activity","FD03","Active","2025-03-17T16:11:52.322069+00:00",null,null,null,null,null,null,null,null,"11742","Iowa-Des Moines","11742-Iowa-Des Moines",null,null,null,"AS053929956","Bart Chidester (053929956) BYU Broadcasting - Post Production","AS053929956-Bart Chidester (053929956) BYU Broadcasting - Post Production","Active",null,null,null,null,null,null,null,null,null,null,null,"SC6409","SC6409||6400","6400","General and Administrative","Primary","All"]
[null,null,null,null,null,null,"AC00494","[LFSC] LFSC-Fulton-Chair-PWS","AC00494-[LFSC] LFSC-Fulton-Chair-PWS","Activity","FD03","Active","2025-03-17T16:11:52.322069+00:00",null,null,null,null,null,null,null,null,"11752","Speeches","11752-Speeches",null,null,null,"AS053957372","Abby Prince (053957372) PF Building Operations","AS053957372-Abby Prince (053957372) PF Building Operations","Active",null,null,null,null,null,null,null,null,null,null,null,"SC6410","SC6410||1400","1400","Prepaid Expenses",null,"All"]
[null,null,null,null,null,null,"AC00496","[LFSC] CURA Indirect Student Aid-PWS","AC00496-[LFSC] CURA Indirect Student Aid-PWS","Activity","FD03","Active","2025-03-17T16:11:52.322069+00:00",null,null,null,null,null,null,null,null,"11753","Website Maintenance","11753-Website Maintenance",null,null,null,"AS054052529","Mark Preston (054052529) BYU Broadcasting - Marketing","AS054052529-Mark Preston (054052529) BYU Broadcasting - Marketing","Active",null,null,null,null,null,null,null,null,null,null,null,"SC6410","SC6410||6400","6400","General and Administrative","Primary","All"]
[null,null,null,null,null,null,"AC00497","[LFSC] Undergrd Experintl Learng-PWS","AC00497-[LFSC] Undergrd Experintl Learng-PWS","Activity","FD03","Active","2025-03-17T16:11:52.322069+00:00",null,null,null,null,null,null,null,null,"11754","April Commencement","11754-April Commencement",null,null,null,"AS054225613","Jackson DeMille (054225613) Helaman Halls","AS054225613-Jackson DeMille (054225613) Helaman Halls","Active",null,null,null,null,null,null,null,null,null,null,null,"SC6411","SC6411||6400","6400","General and Administrative","Primary","All"]
[null,null,null,null,null,null,"AC00498","[LFSC] CURA Direct Student Aid-PWS","AC00498-[LFSC] CURA Direct Student Aid-PWS","Activity","FD03","Active","2025-03-17T16:11:52.322069+00:00",null,null,null,null,null,null,null,null,"11760","Student Designers","11760-Student Designers",null,null,null,"AS054459686","Ed Adams (054459686) Academic Vice President","AS054459686-Ed Adams (054459686) Academic Vice President","Active",null,null,null,null,null,null,null,null,null,null,null,"SC6412","SC6412||1400","1400","Prepaid Expenses",null,"All"]
[null,null,null,null,null,null,"AC00499","[LFSC] Sunshine Fund-PWS","AC00499-[LFSC] Sunshine Fund-PWS","Activity","FD07","Active","2025-03-17T16:11:52.322069+00:00",null,null,null,null,null,null,null,null,"11761","Student Computing","11761-Student Computing",null,null,null,"AS054479354","Elizabeth Clark (054479354) Law School - International Center for Law and Religion","AS054479354-Elizabeth Clark (054479354) Law School - International Center for Law and Religion","Active",null,null,null,null,null,null,null,null,null,null,null,"SC6412","SC6412||6400","6400","General and Administrative","Primary","All"]
[null,null,null,null,null,null,"AC00500","[LFSC] Human Performance Research","AC00500-[LFSC] Human Performance Research","Activity","FD01","Active","2025-03-17T16:11:52.322069+00:00",null,null,null,null,null,null,null,null,"11762","Student Secretaries","11762-Student Secretaries",null,null,null,"AS054483461","Reed Peterson (054483461) Humanities - Asian & Near Eastern Languages","AS054483461-Reed Peterson (054483461) Humanities - Asian & Near Eastern Languages","Active",null,null,null,null,null,null,null,null,null,null,null,"SC6413","SC6413||1400","1400","Prepaid Expenses",null,"All"]
[null,null,null,null,null,null,"AC00501","[LFSC] Grad Student Funding-EXSC","AC00501-[LFSC] Grad Student Funding-EXSC","Activity","FD01","Active","2025-03-17T16:11:52.322069+00:00",null,null,null,null,null,null,null,null,"11763","Student Editors","11763-Student Editors",null,null,null,"AS054509286","D. J. Lee (054509286) College of Engineering - Electrical & Computer Engineering","AS054509286-D. J. Lee (054509286) College of Engineering - Electrical & Computer Engineering","Active",null,null,null,null,null,null,null,null,null,null,null,"SC6413","SC6413||6400","6400","General and Administrative","Primary","All"]
[null,null,null,null,null,null,"AC00502","[LFSC] Grad Studies-Sunku Kwon","AC00502-[LFSC] Grad Studies-Sunku Kwon","Activity","FD01","Active","2025-03-17T16:11:52.322069+00:00",null,null,null,null,null,null,null,null,"11764","Student Photography","11764-Student Photography",null,null,null,"AS054511304","Lance Mckinney (054511304) PF AVP Office","AS054511304-Lance Mckinney (054511304) PF AVP Office","Active",null,null,null,null,null,null,null,null,null,null,null,"SC6414","SC6414||1400","1400","Prepaid Expenses",null,"All"]
[null,null,null,null,null,null,"AC00503","[LFSC] Phy/Occupational Therapy Club","AC00503-[LFSC] Phy/Occupational Therapy Club","Activity","FD02","Active","2025-03-17T16:11:52.322069+00:00",null,null,null,null,null,null,null,null,"11765","Student Translators","11765-Student Translators",null,null,null,"AS054803398","Christine Tanner (054803398) Enrollment Services Executive Director's Office","AS054803398-Christine Tanner (054803398) Enrollment Services Executive Director's Office","Active",null,null,null,null,null,null,null,null,null,null,null,"SC6414","SC6414||1650","1650","Construction in Progress",null,"JE_PPE|JE_Override"]
[null,null,null,null,null,null,"AC00504","[LFSC] Cougar Athletic Training Club","AC00504-[LFSC] Cougar Athletic Training Club","Activity","FD02","Active","2025-03-17T16:11:52.322069+00:00",null,null,null,null,null,null,null,null,"11766","Student SEO/Marketing","11766-Student SEO/Marketing",null,null,null,"AS054806940","Mindy Harmon (054806940) CE FSY Central","AS054806940-Mindy Harmon (054806940) CE FSY Central","Active",null,null,null,null,null,null,null,null,null,null,null,"SC6414","SC6414||1651","1651","Construction in Progress (Non-Workday Projects)",null,"All"]
[null,null,null,null,null,null,"AC00505","[LFSC] Exercise Sciences Y-Be-Fit","AC00505-[LFSC] Exercise Sciences Y-Be-Fit","Activity","FD02","Active","2025-03-17T16:11:52.322069+00:00",null,null,null,null,null,null,null,null,"11767","Student Video Editing","11767-Student Video Editing",null,null,null,"AS054835693","Stephanie Andrewsen (054835693) Alumni and External Relations","AS054835693-Stephanie Andrewsen (054835693) Alumni and External Relations","Active",null,null,null,null,null,null,null,null,null,null,null,"SC6414","SC6414||6400","6400","General and Administrative","Primary","All"]
[null,null,null,null,null,null,"AC00506","[LFSC] Fitness for Life","AC00506-[LFSC] Fitness for Life","Activity","FD03","Active","2025-03-17T16:11:52.322069+00:00",null,null,null,null,null,null,null,null,"11770","Photography","11770-Photography",null,null,null,"AS054923615","Mike Diede (054923615) Life Sciences - Exercise Sciences","AS054923615-Mike Diede (054923615) Life Sciences - Exercise Sciences","Active",null,null,null,null,null,null,null,null,null,null,null,"SC6415","SC6415||1400","1400","Prepaid Expenses",null,"All"]
[null,null,null,null,null,null,"AC00507","[LFSC] Jesse Knight Profrshp-K Knight","AC00507-[LFSC] Jesse Knight Profrshp-K Knight","Activity","FD03","Active","2025-03-17T16:11:52.322069+00:00",null,null,null,null,null,null,null,null,"11772","Electronic Media","11772-Electronic Media",null,null,null,"AS054940732","Rich Patterson (054940732) FHSS - Economics","AS054940732-Rich Patterson (054940732) FHSS - Economics","Active",null,null,null,null,null,null,null,null,null,null,null,"SC6415","SC6415||6400","6400","General and Administrative","Primary","All"]
[null,null,null,null,null,null,"AC00508","[LFSC] Hopkins, Tyson-Young Scholar","AC00508-[LFSC] Hopkins, Tyson-Young Scholar","Activity","FD03","Active","2025-03-17T16:11:52.322069+00:00",null,null,null,null,null,null,null,null,"11773","Fonts","11773-Fonts",null,null,null,"AS055255631","Julie Peery (055255631) MSE  - Teacher Education","AS055255631-Julie Peery (055255631) MSE  - Teacher Education","Active",null,null,null,null,null,null,null,null,null,null,null,"SC6416","SC6416||1400","1400","Prepaid Expenses",null,"All"]
[null,null,null,null,null,null,"AC00509","[LFSC] Grad Mentoring Award-J.Gifford","AC00509-[LFSC] Grad Mentoring Award-J.Gifford","Activity","FD03","Active","2025-03-17T16:11:52.322069+00:00",null,null,null,null,null,null,null,null,"11775","Subscriptions","11775-Subscriptions",null,null,null,"AS055337058","Josh Richey (055337058) Enrollment Services Executive Director's Office","AS055337058-Josh Richey (055337058) Enrollment Services Executive Director's Office","Active",null,null,null,null,null,null,null,null,null,null,null,"SC6416","SC6416||6400","6400","General and Administrative","Primary","All"]
[null,null,null,null,null,null,"AC00510","[LFSC] LFSC-Fulton-Chair-EXSC","AC00510-[LFSC] LFSC-Fulton-Chair-EXSC","Activity","FD03","Active","2025-03-17T16:11:52.322069+00:00",null,null,null,null,null,null,null,null,"11776","Dues & Memberships","11776-Dues & Memberships",null,null,null,"AS055660543","Kerry Soper (055660543) AVP - Dean, Humanities","AS055660543-Kerry Soper (055660543) AVP - Dean, Humanities","Active",null,null,null,null,null,null,null,null,null,null,null,"SC6417","SC6417||1400","1400","Prepaid Expenses",null,"All"]
[null,null,null,null,null,null,"AC00512","[LFSC] Undergrd Experintl Learng-EXSC","AC00512-[LFSC] Undergrd Experintl Learng-EXSC","Activity","FD03","Active","2025-03-17T16:11:52.322069+00:00",null,null,null,null,null,null,null,null,"11777","Entry Fees","11777-Entry Fees",null,null,null,"AS055837095","Suvinia Purcell (055837095) PF Building Operations","AS055837095-Suvinia Purcell (055837095) PF Building Operations","Active",null,null,null,null,null,null,null,null,null,null,null,"SC6417","SC6417||6400","6400","General and Administrative","Primary","All"]
[null,null,null,null,null,null,"AC00513","[LFSC] CURA Indirect Student Aid-EXSC","AC00513-[LFSC] CURA Indirect Student Aid-EXSC","Activity","FD03","Active","2025-03-17T16:11:52.322069+00:00",null,null,null,null,null,null,null,null,"11800","Billable MU","11800-Billable MU",null,null,null,"AS055857647","Maggie Kopp (055857647) Research & Learning - Special Collections","AS055857647-Maggie Kopp (055857647) Research & Learning - Special Collections","Active",null,null,null,null,null,null,null,null,null,null,null,"SC6418","SC6418||6400","6400","General and Administrative","Primary","All"]
[null,null,null,null,null,null,"AC00514","[LFSC] CURA Direct Student Aid-EXSC","AC00514-[LFSC] CURA Direct Student Aid-EXSC","Activity","FD03","Active","2025-03-17T16:11:52.322069+00:00",null,null,null,null,null,null,null,null,"11801","Billable NMU","11801-Billable NMU",null,null,null,"AS055911815","Amanda Smith (HUM)","AS055911815-Amanda Smith (HUM)","Active",null,null,null,null,null,null,null,null,null,null,null,"SC6419","SC6419||1400","1400","Prepaid Expenses",null,"All"]
[null,null,null,null,null,null,"AC00515","[LFSC] Sunshine Fund-EXSC","AC00515-[LFSC] Sunshine Fund-EXSC","Activity","FD07","Active","2025-03-17T16:11:52.322069+00:00",null,null,null,null,null,null,null,null,"11850","Magazine Printing","11850-Magazine Printing",null,null,null,"AS056008210","Mech Tenney (056008210) Enterprise Solutions - HCM","AS056008210-Mech Tenney (056008210) Enterprise Solutions - HCM","Active",null,null,null,null,null,null,null,null,null,null,null,"SC6419","SC6419||6400","6400","General and Administrative","Primary","All"]
[null,null,null,null,null,null,"AC00516","[LFSC] Grad Student Funding-HLTH","AC00516-[LFSC] Grad Student Funding-HLTH","Activity","FD01","Active","2025-03-17T16:11:52.322069+00:00",null,null,null,null,null,null,null,null,"11851","Graphic Design","11851-Graphic Design",null,null,null,"AS056059275","Tamara Moss (056059275) CE Customer Support","AS056059275-Tamara Moss (056059275) CE Customer Support","Active",null,null,null,null,null,null,null,null,null,null,null,"SC6420","SC6420||1400","1400","Prepaid Expenses",null,"All"]
[null,null,null,null,null,null,"AC00517","[LFSC] Master of Public Health","AC00517-[LFSC] Master of Public Health","Activity","FD01","Active","2025-03-17T16:11:52.322069+00:00",null,null,null,null,null,null,null,null,"11852","BYU Today","11852-BYU Today",null,null,null,"AS056069198","John Wiscombe (056069198) PF Central Heating Plant","AS056069198-John Wiscombe (056069198) PF Central Heating Plant","Active",null,null,null,null,null,null,null,null,null,null,null,"SC6420","SC6420||6400","6400","General and Administrative","Primary","All"]
[null,null,null,null,null,null,"AC00518","[LFSC] BYU Public Health Assoc Club","AC00518-[LFSC] BYU Public Health Assoc Club","Activity","FD02","Active","2025-03-17T16:11:52.322069+00:00",null,null,null,null,null,null,null,null,"11853","U.S. Mailing","11853-U.S. Mailing",null,null,null,"AS056353237","Philip Hatch (056353237) PF Grounds - Landscaping Specialty","AS056353237-Philip Hatch (056353237) PF Grounds - Landscaping Specialty","Active",null,null,null,null,null,null,null,null,null,null,null,"SC6421","SC6421||1400","1400","Prepaid Expenses",null,"All"]
[null,null,null,null,null,null,"AC00519","[LFSC] Hepatitis B Virus Club","AC00519-[LFSC] Hepatitis B Virus Club","Activity","FD02","Active","2025-03-17T16:11:52.322069+00:00",null,null,null,null,null,null,null,null,"11854","Foreign Mailing","11854-Foreign Mailing",null,null,null,"AS056691258","Mark Wilson (056691258) Dean's Office Humanities","AS056691258-Mark Wilson (056691258) Dean's Office Humanities","Active",null,null,null,null,null,null,null,null,null,null,null,"SC6421","SC6421||6400","6400","General and Administrative","Primary","All"]
[null,null,null,null,null,null,"AC00520","[LFSC] ASSP Student Accoc. Club","AC00520-[LFSC] ASSP Student Accoc. Club","Activity","FD02","Active","2025-03-17T16:11:52.322069+00:00",null,null,null,null,null,null,null,null,"11855","BYU Mag Video Prep","11855-BYU Mag Video Prep",null,null,null,"AS056755503","Adam Brown (056755503) FHSS - Political Science","AS056755503-Adam Brown (056755503) FHSS - Political Science","Active",null,null,null,null,null,null,null,null,null,null,null,"SC6422","SC6422||1400","1400","Prepaid Expenses",null,"All"]
[null,null,null,null,null,null,"AC00521","[LFSC] The BYU Rotaract Club","AC00521-[LFSC] The BYU Rotaract Club","Activity","FD02","Active","2025-03-17T16:11:52.322069+00:00",null,null,null,null,null,null,null,null,"11856","BYU Magazine website","11856-BYU Magazine website",null,null,null,"AS056921368","Daniel Zappala (056921368) CMS - Computer Science","AS056921368-Daniel Zappala (056921368) CMS - Computer Science","Active",null,null,null,null,null,null,null,null,null,null,null,"SC6422","SC6422||6400","6400","General and Administrative","Primary","All"]
[null,null,null,null,null,null,"AC00522","[LFSC] IDR Redelfs/Lopez Integration","AC00522-[LFSC] IDR Redelfs/Lopez Integration","Activity","FD03","Active","2025-03-17T16:11:52.322069+00:00",null,null,null,null,null,null,null,null,"11857","Y Mag Podcast","11857-Y Mag Podcast",null,null,null,"AS056963913","Dustin Pead (056963913) Law School","AS056963913-Dustin Pead (056963913) Law School","Active",null,null,null,null,null,null,null,null,null,null,null,"SC6423","SC6423||6400","6400","General and Administrative","Primary","All"]
[null,null,null,null,null,null,"AC00523","[LFSC] LFSC-Fulton-Chair-PH","AC00523-[LFSC] LFSC-Fulton-Chair-PH","Activity","FD03","Active","2025-03-17T16:11:52.322069+00:00",null,null,null,null,null,null,null,null,"11860","Reunion 1","11860-Reunion 1",null,null,null,"AS057391302","Scott Raines (057391302) Religious Education - Church History & Doctrine","AS057391302-Scott Raines (057391302) Religious Education - Church History & Doctrine","Active",null,null,null,null,null,null,null,null,null,null,null,"SC6424","SC6424||1400","1400","Prepaid Expenses",null,"All"]
[null,null,null,null,null,null,"AC00525","[LFSC] CURA Indirect Student Aid-PH","AC00525-[LFSC] CURA Indirect Student Aid-PH","Activity","FD03","Active","2025-03-17T16:11:52.322069+00:00",null,null,null,null,null,null,null,null,"11861","Kentucky - Lexington","11861-Kentucky - Lexington",null,null,null,"AS057473288","Jennifer Harper (057473288) OIT Resource - CES Network Center (CNC) - Installation","AS057473288-Jennifer Harper (057473288) OIT Resource - CES Network Center (CNC) - Installation","Active",null,null,null,null,null,null,null,null,null,null,null,"SC6424","SC6424||6400","6400","General and Administrative","Primary","All"]
[null,null,null,null,null,null,"AC00526","[LFSC] Undergrd Experintl Learng-HLTH","AC00526-[LFSC] Undergrd Experintl Learng-HLTH","Activity","FD03","Active","2025-03-17T16:11:52.322069+00:00",null,null,null,null,null,null,null,null,"11862","Geology","11862-Geology",null,null,null,"AS057686851","Josh DeWitt (057686851) OIT Leadership - Enterprise Data Management and Finance","AS057686851-Josh DeWitt (057686851) OIT Leadership - Enterprise Data Management and Finance","Active",null,null,null,null,null,null,null,null,null,null,null,"SC6425","SC6425||1400","1400","Prepaid Expenses",null,"All"]
[null,null,null,null,null,null,"AC00527","[LFSC] CURA Direct Student Aid-PH","AC00527-[LFSC] CURA Direct Student Aid-PH","Activity","FD03","Active","2025-03-17T16:11:52.322069+00:00",null,null,null,null,null,null,null,null,"11863","Latino","11863-Latino",null,null,null,"AS057714922","Grant Hart (057714922) CMS - Physics and Astronomy","AS057714922-Grant Hart (057714922) CMS - Physics and Astronomy","Active",null,null,null,null,null,null,null,null,null,null,null,"SC6425","SC6425||6400","6400","General and Administrative","Primary","All"]
[null,null,null,null,null,null,"AC00528","[LFSC] Sunshine Fund-PH","AC00528-[LFSC] Sunshine Fund-PH","Activity","FD07","Active","2025-03-17T16:11:52.322069+00:00",null,null,null,null,null,null,null,null,"11867","LDS Educators Society","11867-LDS Educators Society",null,null,null,"AS057719021","Robyn Bretzing (057719021) MSE  - Teacher Education","AS057719021-Robyn Bretzing (057719021) MSE  - Teacher Education","Active",null,null,null,null,null,null,null,null,null,null,null,"SC6426","SC6426||6400","6400","General and Administrative","Primary","All"]
[null,null,null,null,null,null,"AC00530","[LAWS] J Reuben Clark Law Socty &Chap","AC00530-[LAWS] J Reuben Clark Law Socty &Chap","Activity","FD03","Active","2025-03-17T16:11:52.322069+00:00",null,null,null,null,null,null,null,null,"11868","Reunion 9","11868-Reunion 9",null,null,null,"AS058122752","Matthew Shumway (058122752) FHSS - Geography","AS058122752-Matthew Shumway (058122752) FHSS - Geography","Active",null,null,null,null,null,null,null,null,null,null,null,"SC6427","SC6427||1400","1400","Prepaid Expenses",null,"All"]
[null,null,null,null,null,null,"AC00531","[LAWS] Research Support","AC00531-[LAWS] Research Support","Activity","FD01","Active","2025-03-17T16:11:52.322069+00:00",null,null,null,null,null,null,null,null,"11879","TN Northeast","11879-TN Northeast",null,null,null,"AS058228598","Matthew Carlin (058228598) Fine Arts & Communications - Theatre & Media Arts","AS058228598-Matthew Carlin (058228598) Fine Arts & Communications - Theatre & Media Arts","Active",null,null,null,null,null,null,null,null,null,null,null,"SC6427","SC6427||6400","6400","General and Administrative","Primary","All"]
[null,null,null,null,null,null,"AC00532","[LAWS] Law School Scholar","AC00532-[LAWS] Law School Scholar","Activity","FD01","Active","2025-03-17T16:11:52.322069+00:00",null,null,null,null,null,null,null,null,"11885","45 Year Reunion","11885-45 Year Reunion",null,null,null,"AS058259212","Kimball Germane (058259212) CMS - Computer Science","AS058259212-Kimball Germane (058259212) CMS - Computer Science","Active",null,null,null,null,null,null,null,null,null,null,null,"SC6428","SC6428||1400","1400","Prepaid Expenses",null,"All"]
[null,null,null,null,null,null,"AC00533","[LAWS] Corpus Linguistics Project","AC00533-[LAWS] Corpus Linguistics Project","Activity","FD01","Active","2025-03-17T16:11:52.322069+00:00",null,null,null,null,null,null,null,null,"11889","Joy Weller","11889-Joy Weller",null,null,null,"AS058350365","Carol Salmon (058350365) CE Broadcast & Streaming Video","AS058350365-Carol Salmon (058350365) CE Broadcast & Streaming Video","Active",null,null,null,null,null,null,null,null,null,null,null,"SC6428","SC6428||6400","6400","General and Administrative","Primary","All"]
[null,null,null,null,null,null,"AC00534","[LAWS] MLSA","AC00534-[LAWS] MLSA","Activity","FD02","Active","2025-03-17T16:11:52.322069+00:00",null,null,null,null,null,null,null,null,"11957","Publications printing/graphics","11957-Publications printing/graphics",null,null,null,"AS058388706","Christian Brown (058388706) Staff and Student Recruiting","AS058388706-Christian Brown (058388706) Staff and Student Recruiting","Active",null,null,null,null,null,null,null,null,null,null,null,"SC6429","SC6429||1400","1400","Prepaid Expenses",null,"All"]
[null,null,null,null,null,null,"AC00535","[LAWS] Student Bar Assoc","AC00535-[LAWS] Student Bar Assoc","Activity","FD02","Active","2025-03-17T16:11:52.322069+00:00",null,null,null,null,null,null,null,null,"11959","CLC","11959-CLC",null,null,null,"AS058552581","Virginia Rosenthal (058552581) Humanities - German & Russian","AS058552581-Virginia Rosenthal (058552581) Humanities - German & Russian","Active",null,null,null,null,null,null,null,null,null,null,null,"SC6429","SC6429||6400","6400","General and Administrative","Primary","All"]
[null,null,null,null,null,null,"AC00536","[LAWS] Law Partners","AC00536-[LAWS] Law Partners","Activity","FD02","Active","2025-03-17T16:11:52.322069+00:00",null,null,null,null,null,null,null,null,"11965","Crafters License","11965-Crafters License",null,null,null,"AS058906896","Patrick Spencer (058906896) Fine Arts & Communications - Design","AS058906896-Patrick Spencer (058906896) Fine Arts & Communications - Design","Active",null,null,null,null,null,null,null,null,null,null,null,"SC6430","SC6430||1400","1400","Prepaid Expenses",null,"All"]
[null,null,null,null,null,null,"AC00537","[LAWS] Women in the Law","AC00537-[LAWS] Women in the Law","Activity","FD02","Active","2025-03-17T16:11:52.322069+00:00",null,null,null,null,null,null,null,null,"11981","Athletics","11981-Athletics",null,null,null,"AS059241497","Michael Adams (059241497) Student Life VP","AS059241497-Michael Adams (059241497) Student Life VP","Active",null,null,null,null,null,null,null,null,null,null,null,"SC6430","SC6430||6400","6400","General and Administrative","Primary","All"]
[null,null,null,null,null,null,"AC00538","[LAWS] BYU Federal Soc","AC00538-[LAWS] BYU Federal Soc","Activity","FD02","Active","2025-03-17T16:11:52.322069+00:00",null,null,null,null,null,null,null,null,"11A00","OIT Infrastruct - Distribution","11A00-OIT Infrastruct - Distribution",null,null,null,"AS059416261","Tom Meservy (059416261) AVP - Dean, Marriott School of Business (MSB)","AS059416261-Tom Meservy (059416261) AVP - Dean, Marriott School of Business (MSB)","Active",null,null,null,null,null,null,null,null,null,null,null,"SC6431","SC6431||1400","1400","Prepaid Expenses",null,"All"]
[null,null,null,null,null,null,"AC00539","[LAWS] ILSA","AC00539-[LAWS] ILSA","Activity","FD02","Active","2025-03-17T16:11:52.322069+00:00",null,null,null,null,null,null,null,null,"11A12","TV Headend Distribution","11A12-TV Headend Distribution",null,null,null,"AS059514570","Ammon Ho (059514570) PF Paint & Sign Shop","AS059514570-Ammon Ho (059514570) PF Paint & Sign Shop","Active",null,null,null,null,null,null,null,null,null,null,null,"SC6431","SC6431||6400","6400","General and Administrative","Primary","All"]
[null,null,null,null,null,null,"AC00540","[LAWS] DC Legal Society","AC00540-[LAWS] DC Legal Society","Activity","FD02","Active","2025-03-17T16:11:52.322069+00:00",null,null,null,null,null,null,null,null,"11A81","Network Core","11A81-Network Core",null,null,null,"AS059560897","Laura Muhlestein (059560897) Deans Office BYU Marriott","AS059560897-Laura Muhlestein (059560897) Deans Office BYU Marriott","Active",null,null,null,null,null,null,null,null,null,null,null,"SC6432","SC6432||1400","1400","Prepaid Expenses",null,"All"]
[null,null,null,null,null,null,"AC00541","[LAWS] Native Am Law St Asc","AC00541-[LAWS] Native Am Law St Asc","Activity","FD02","Active","2025-03-17T16:11:52.322069+00:00",null,null,null,null,null,null,null,null,"11A82","Network Distribution Equipment","11A82-Network Distribution Equipment",null,null,null,"AS059594692","Jen Nishiguchi (059594692) International VP","AS059594692-Jen Nishiguchi (059594692) International VP","Active",null,null,null,null,null,null,null,null,null,null,null,"SC6432","SC6432||6400","6400","General and Administrative","Primary","All"]
[null,null,null,null,null,null,"AC00542","[LAWS] ADR Society","AC00542-[LAWS] ADR Society","Activity","FD02","Active","2025-03-17T16:11:52.322069+00:00",null,null,null,null,null,null,null,null,"11A84","UPS","11A84-UPS",null,null,null,"AS059755157","Katelyn Williams (059755157) Student Wellness","AS059755157-Katelyn Williams (059755157) Student Wellness","Active",null,null,null,null,null,null,null,null,null,null,null,"SC6433","SC6433||1400","1400","Prepaid Expenses",null,"All"]
[null,null,null,null,null,null,"AC00543","[LAWS] Govt and Politics Law Society","AC00543-[LAWS] Govt and Politics Law Society","Activity","FD02","Active","2025-03-17T16:11:52.322069+00:00",null,null,null,null,null,null,null,null,"11A91","Wire Cable - Feeder (Trunk)","11A91-Wire Cable - Feeder (Trunk)",null,null,null,"AS059842597","Brandon Plewe (059842597) FHSS - Geography","AS059842597-Brandon Plewe (059842597) FHSS - Geography","Active",null,null,null,null,null,null,null,null,null,null,null,"SC6433","SC6433||6400","6400","General and Administrative","Primary","All"]
[null,null,null,null,null,null,"AC00544","[LAWS] Public Interest Law Foundation","AC00544-[LAWS] Public Interest Law Foundation","Activity","FD02","Active","2025-03-17T16:11:52.322069+00:00",null,null,null,null,null,null,null,null,"11A92","Wire Cable - Riser","11A92-Wire Cable - Riser",null,null,null,"AS059922615","Jon McBride (059922615) Athletics - External Relations","AS059922615-Jon McBride (059922615) Athletics - External Relations","Active",null,null,null,null,null,null,null,null,null,null,null,"SC6434","SC6434||1400","1400","Prepaid Expenses",null,"All"]
[null,null,null,null,null,null,"AC00545","[LAWS] EERS","AC00545-[LAWS] EERS","Activity","FD02","Active","2025-03-17T16:11:52.322069+00:00",null,null,null,null,null,null,null,null,"11A93","Wire Cable - Station","11A93-Wire Cable - Station",null,null,null,"AS060137761","Steve Christensen (060137761) AVP - Dean, McKay School of Education (MSE)","AS060137761-Steve Christensen (060137761) AVP - Dean, McKay School of Education (MSE)","Active",null,null,null,null,null,null,null,null,null,null,null,"SC6434","SC6434||6400","6400","General and Administrative","Primary","All"]
[null,null,null,null,null,null,"AC00546","[LAWS] SIPLA","AC00546-[LAWS] SIPLA","Activity","FD02","Active","2025-03-17T16:11:52.322069+00:00",null,null,null,null,null,null,null,null,"11A95","Fiber Cable - Feeder","11A95-Fiber Cable - Feeder",null,null,null,"AS060169501","Robert Means (060169501) Research & Learning - Humanities","AS060169501-Robert Means (060169501) Research & Learning - Humanities","Active",null,null,null,null,null,null,null,null,null,null,null,"SC6435","SC6435||1400","1400","Prepaid Expenses",null,"All"]
[null,null,null,null,null,null,"AC00547","[LAWS] SPENT(Sport/Entertainment Law)","AC00547-[LAWS] SPENT(Sport/Entertainment Law)","Activity","FD02","Active","2025-03-17T16:11:52.322069+00:00",null,null,null,null,null,null,null,null,"11A97","Fiber Station Cable","11A97-Fiber Station Cable",null,null,null,"AS060654770","Natalie Jensen (060654770) FHSS - Economics","AS060654770-Natalie Jensen (060654770) FHSS - Economics","Active",null,null,null,null,null,null,null,null,null,null,null,"SC6435","SC6435||1650","1650","Construction in Progress",null,"JE_PPE|JE_Override"]
[null,null,null,null,null,null,"AC00548","[LAWS] Law School Support","AC00548-[LAWS] Law School Support","Activity","FD02","Active","2025-03-17T16:11:52.322069+00:00",null,null,null,null,null,null,null,null,"11A98","Fiber Cable - Tie","11A98-Fiber Cable - Tie",null,null,null,"AS060781695","Jeanette Geslison (060781695) Fine Arts & Communications - Dance","AS060781695-Jeanette Geslison (060781695) Fine Arts & Communications - Dance","Active",null,null,null,null,null,null,null,null,null,null,null,"SC6435","SC6435||1651","1651","Construction in Progress (Non-Workday Projects)",null,"All"]
[null,null,null,null,null,null,"AC00549","[LAWS] Community Legal Clinic","AC00549-[LAWS] Community Legal Clinic","Activity","FD02","Active","2025-03-17T16:11:52.322069+00:00",null,null,null,null,null,null,null,null,"11AA1","Computer Racks","11AA1-Computer Racks",null,null,null,"AS060853265","Lola Taylor (060853265) Indefinite Leaves","AS060853265-Lola Taylor (060853265) Indefinite Leaves","Active",null,null,null,null,null,null,null,null,null,null,null,"SC6435","SC6435||6400","6400","General and Administrative","Primary","All"]
[null,null,null,null,null,null,"AC00550","[LAWS] Class Consulting Projects","AC00550-[LAWS] Class Consulting Projects","Activity","FD02","Active","2025-03-17T16:11:52.322069+00:00",null,null,null,null,null,null,null,null,"11AA2","Communications Racks","11AA2-Communications Racks",null,null,null,"AS060874409","Almy Hollis (060874409) Mechanical Engineering","AS060874409-Almy Hollis (060874409) Mechanical Engineering","Active",null,null,null,null,null,null,null,null,null,null,null,"SC6436","SC6436||6400","6400","General and Administrative","Primary","All"]
[null,null,null,null,null,null,"AC00551","[LAWS] BYU Law Review","AC00551-[LAWS] BYU Law Review","Activity","FD02","Active","2025-03-17T16:11:52.322069+00:00",null,null,null,null,null,null,null,null,"11B00","OIT Infrastruct-Presentation","11B00-OIT Infrastruct-Presentation",null,null,null,"AS061044013","Gary Smith (061044013) CE Software Development","AS061044013-Gary Smith (061044013) CE Software Development","Active",null,null,null,null,null,null,null,null,null,null,null,"SC6437","SC6437||6400","6400","General and Administrative","Primary","All"]
[null,null,null,null,null,null,"AC00552","[LAWS] Antitrust Society","AC00552-[LAWS] Antitrust Society","Activity","FD02","Active","2025-03-17T16:11:52.322069+00:00",null,null,null,null,null,null,null,null,"11B18","VIDEO/DATA PROJECTORS","11B18-VIDEO/DATA PROJECTORS",null,null,null,"AS061093642","Barry Holman (061093642) PF Campus Projects - Mechanical Engineering","AS061093642-Barry Holman (061093642) PF Campus Projects - Mechanical Engineering","Active",null,null,null,null,null,null,null,null,null,null,null,"SC6438","SC6438||1400","1400","Prepaid Expenses",null,"All"]
[null,null,null,null,null,null,"AC00553","[LAWS] American Constitution Society","AC00553-[LAWS] American Constitution Society","Activity","FD02","Active","2025-03-17T16:11:52.322069+00:00",null,null,null,null,null,null,null,null,"11B1J","Building Shared Equip","11B1J-Building Shared Equip",null,null,null,"AS061188345","Gary Lawlor (061188345) CMS - Mathematics","AS061188345-Gary Lawlor (061188345) CMS - Mathematics","Active",null,null,null,null,null,null,null,null,null,null,null,"SC6438","SC6438||6400","6400","General and Administrative","Primary","All"]
[null,null,null,null,null,null,"AC00554","[LAWS] Latino/a Law Student Assoc","AC00554-[LAWS] Latino/a Law Student Assoc","Activity","FD02","Active","2025-03-17T16:11:52.322069+00:00",null,null,null,null,null,null,null,null,"11B21","SPEAKERS-INSTAL&PERFORM SYS","11B21-SPEAKERS-INSTAL&PERFORM SYS",null,null,null,"AS061424253","Robert Coleman (061424253) PF Major Projects - Construction","AS061424253-Robert Coleman (061424253) PF Major Projects - Construction","Active",null,null,null,null,null,null,null,null,null,null,null,"SC6439","SC6439||1400","1400","Prepaid Expenses",null,"All"]
[null,null,null,null,null,null,"AC00555","[LAWS] Law School Professor Acct.","AC00555-[LAWS] Law School Professor Acct.","Activity","FD03","Active","2025-03-17T16:11:52.322069+00:00",null,null,null,null,null,null,null,null,"11B22","INSTALLED SOUND REINFORCEMNT S","11B22-INSTALLED SOUND REINFORCEMNT S",null,null,null,"AS061438825","Brooklyn Roemer (061438825) Brand & Creative","AS061438825-Brooklyn Roemer (061438825) Brand & Creative","Active",null,null,null,null,null,null,null,null,null,null,null,"SC6439","SC6439||6400","6400","General and Administrative","Primary","All"]
[null,null,null,null,null,null,"AC00556","[LAWS] Prfshp-Law-Welch","AC00556-[LAWS] Prfshp-Law-Welch","Activity","FD03","Active","2025-03-17T16:11:52.322069+00:00",null,null,null,null,null,null,null,null,"11B24","CAMPUS EP/BGM-DIS,BROADCST CNT","11B24-CAMPUS EP/BGM-DIS,BROADCST CNT",null,null,null,"AS061475058","Brian Chantry (061475058) Enrollment Services Executive Director's Office","AS061475058-Brian Chantry (061475058) Enrollment Services Executive Director's Office","Active",null,null,null,null,null,null,null,null,null,null,null,"SC6440","SC6440||1400","1400","Prepaid Expenses",null,"All"]
[null,null,null,null,null,null,"AC00557","[LAWS] Law & Social Change nonstudent","AC00557-[LAWS] Law & Social Change nonstudent","Activity","FD03","Active","2025-03-17T16:11:52.322069+00:00",null,null,null,null,null,null,null,null,"11B25","AUD-INTRCM SYS-INS-WIRE&WIRELS","11B25-AUD-INTRCM SYS-INS-WIRE&WIRELS",null,null,null,"AS061540758","Danielle LaFata (061540758) Athletics - Olympic Sport Medicine","AS061540758-Danielle LaFata (061540758) Athletics - Olympic Sport Medicine","Active",null,null,null,null,null,null,null,null,null,null,null,"SC6440","SC6440||6400","6400","General and Administrative","Primary","All"]
[null,null,null,null,null,null,"AC00558","[LAWS] Law - President's Innovation","AC00558-[LAWS] Law - President's Innovation","Activity","FD03","Active","2025-03-17T16:11:52.322069+00:00",null,null,null,null,null,null,null,null,"11B26","INPUT SOURCE-PLAYBCK DECK&MIC","11B26-INPUT SOURCE-PLAYBCK DECK&MIC",null,null,null,"AS061704489","Tara Carpenter Estrada (061704489) Fine Arts & Communications - Art","AS061704489-Tara Carpenter Estrada (061704489) Fine Arts & Communications - Art","Active",null,null,null,null,null,null,null,null,null,null,null,"SC6441","SC6441||1400","1400","Prepaid Expenses",null,"All"]
[null,null,null,null,null,null,"AC00560","[LAWS] Student/Faculty Mentoring","AC00560-[LAWS] Student/Faculty Mentoring","Activity","FD03","Active","2025-03-17T16:11:52.322069+00:00",null,null,null,null,null,null,null,null,"11B27","BLDG EP/BGM ORIG&PROC-AMP&TUNE","11B27-BLDG EP/BGM ORIG&PROC-AMP&TUNE",null,null,null,"AS061742652","Chad Carlos (061742652) MSB - Management","AS061742652-Chad Carlos (061742652) MSB - Management","Active",null,null,null,null,null,null,null,null,null,null,null,"SC6441","SC6441||6400","6400","General and Administrative","Primary","All"]
[null,null,null,null,null,null,"AC00561","[LAWS] Mediation Lab&Training Project","AC00561-[LAWS] Mediation Lab&Training Project","Activity","FD03","Active","2025-03-17T16:11:52.322069+00:00",null,null,null,null,null,null,null,null,"11B28","BLDG EP/BGM SPKR-VOL,WIRE&CONT","11B28-BLDG EP/BGM SPKR-VOL,WIRE&CONT",null,null,null,"AS061751916","Jeff Hardy (061751916) FHSS - History","AS061751916-Jeff Hardy (061751916) FHSS - History","Active",null,null,null,null,null,null,null,null,null,null,null,"SC6442","SC6442||1400","1400","Prepaid Expenses",null,"All"]
[null,null,null,null,null,null,"AC00562","[LAWS] Experiential Learning","AC00562-[LAWS] Experiential Learning","Activity","FD03","Active","2025-03-17T16:11:52.322069+00:00",null,null,null,null,null,null,null,null,"11B2Z","AUDIO/PAGING MISC.","11B2Z-AUDIO/PAGING MISC.",null,null,null,"AS061886773","Chris Smith (061886773) Fine Arts & Communications - School of Music","AS061886773-Chris Smith (061886773) Fine Arts & Communications - School of Music","Active",null,null,null,null,null,null,null,null,null,null,null,"SC6442","SC6442||6400","6400","General and Administrative","Primary","All"]
[null,null,null,null,null,null,"AC00563","[LAWS] Teaching Programs","AC00563-[LAWS] Teaching Programs","Activity","FD01","Active","2025-03-17T16:11:52.322069+00:00",null,null,null,null,null,null,null,null,"11B32","DIMMER PACKS","11B32-DIMMER PACKS",null,null,null,"AS061987570","Kelly Russell (061987570) Kennedy International Center","AS061987570-Kelly Russell (061987570) Kennedy International Center","Active",null,null,null,null,null,null,null,null,null,null,null,"SC6443","SC6443||1400","1400","Prepaid Expenses",null,"All"]
[null,null,null,null,null,null,"AC00564","[LAWS] Hosted & Regional Conferences","AC00564-[LAWS] Hosted & Regional Conferences","Activity","FD01","Active","2025-03-17T16:11:52.322069+00:00",null,null,null,null,null,null,null,null,"11B61","VIDEO CAM-INCL BROADCST CAMCOR","11B61-VIDEO CAM-INCL BROADCST CAMCOR",null,null,null,"AS062002515","Jason Adams (062002515) Life Sciences - Cell Biology & Physiology","AS062002515-Jason Adams (062002515) Life Sciences - Cell Biology & Physiology","Active",null,null,null,null,null,null,null,null,null,null,null,"SC6443","SC6443||6400","6400","General and Administrative","Primary","All"]
[null,null,null,null,null,null,"AC00565","[LAWS] Other Conferences","AC00565-[LAWS] Other Conferences","Activity","FD01","Active","2025-03-17T16:11:52.322069+00:00",null,null,null,null,null,null,null,null,"11B6B","Video Recording System","11B6B-Video Recording System",null,null,null,"AS062066510","Julian Riley (062066510) OIT Resource - AV Events","AS062066510-Julian Riley (062066510) OIT Resource - AV Events","Active",null,null,null,null,null,null,null,null,null,null,null,"SC6444","SC6444||1400","1400","Prepaid Expenses",null,"All"]
[null,null,null,null,null,null,"AC00566","[LAWS] Professorship - W. Cole Durham","AC00566-[LAWS] Professorship - W. Cole Durham","Activity","FD03","Active","2025-03-17T16:11:52.322069+00:00",null,null,null,null,null,null,null,null,"11B6E","VIDEO   TEST EQUIPMENT","11B6E-VIDEO   TEST EQUIPMENT",null,null,null,"AS062412154","Jim Sawka (062412154) PF Building Projects, Maintenance & Transportation Services","AS062412154-Jim Sawka (062412154) PF Building Projects, Maintenance & Transportation Services","Active",null,null,null,null,null,null,null,null,null,null,null,"SC6444","SC6444||6400","6400","General and Administrative","Primary","All"]
[null,null,null,null,null,null,"AC00567","[LAWS] Int'l Law & Religious Center","AC00567-[LAWS] Int'l Law & Religious Center","Activity","FD03","Active","2025-03-17T16:11:52.322069+00:00",null,null,null,null,null,null,null,null,"11B6F","Video Playback System","11B6F-Video Playback System",null,null,null,"AS062429828","Jon Ward (062429828) CE SLC - Administration","AS062429828-Jon Ward (062429828) CE SLC - Administration","Active",null,null,null,null,null,null,null,null,null,null,null,"SC6445","SC6445||1400","1400","Prepaid Expenses",null,"All"]
[null,null,null,null,null,null,"AC00568","[LAWS] Law & Religion Fellows","AC00568-[LAWS] Law & Religion Fellows","Activity","FD03","Active","2025-03-17T16:11:52.322069+00:00",null,null,null,null,null,null,null,null,"11C00","OIT Access","11C00-OIT Access",null,null,null,"AS063197888","Stephanie Dautel (063197888) BYU Broadcasting - Marketing","AS063197888-Stephanie Dautel (063197888) BYU Broadcasting - Marketing","Active",null,null,null,null,null,null,null,null,null,null,null,"SC6445","SC6445||6400","6400","General and Administrative","Primary","All"]
[null,null,null,null,null,null,"AC00569","[ENG] Mentored Learning","AC00569-[ENG] Mentored Learning","Activity","FD01","Active","2025-03-17T16:11:52.322069+00:00",null,null,null,null,null,null,null,null,"11D00","OIT Infrastruct-Servers","11D00-OIT Infrastruct-Servers",null,null,null,"AS063335072","Molly Rosenbaum (063335072) MSE - Counseling Psychology & Special Ed","AS063335072-Molly Rosenbaum (063335072) MSE - Counseling Psychology & Special Ed","Active",null,null,null,null,null,null,null,null,null,null,null,"SC6446","SC6446||1400","1400","Prepaid Expenses",null,"All"]
[null,null,null,null,null,null,"AC00570","[ENG] Named Professorships","AC00570-[ENG] Named Professorships","Activity","FD01","Active","2025-03-17T16:11:52.322069+00:00",null,null,null,null,null,null,null,null,"11D11","It Server - Speciality","11D11-It Server - Speciality",null,null,null,"AS063351279","Gary Crye (063351279) OIT Portfolio - Teaching, Learning, & Research / Dev Tools","AS063351279-Gary Crye (063351279) OIT Portfolio - Teaching, Learning, & Research / Dev Tools","Active",null,null,null,null,null,null,null,null,null,null,null,"SC6446","SC6446||6400","6400","General and Administrative","Primary","All"]
[null,null,null,null,null,null,"AC00571","[ENG] Dean's Ofc Operation","AC00571-[ENG] Dean's Ofc Operation","Activity","FD01","Active","2025-03-17T16:11:52.322069+00:00",null,null,null,null,null,null,null,null,"11D25","Department Server - Storage","11D25-Department Server - Storage",null,null,null,"AS063556313","Esteban Garcia (063556313) CE Systems Admin","AS063556313-Esteban Garcia (063556313) CE Systems Admin","Active",null,null,null,null,null,null,null,null,null,null,null,"SC6447","SC6447||1400","1400","Prepaid Expenses",null,"All"]
[null,null,null,null,null,null,"AC00572","[ENG] Research Support","AC00572-[ENG] Research Support","Activity","FD01","Active","2025-03-17T16:11:52.322069+00:00",null,null,null,null,null,null,null,null,"11D41","Central Server - Application","11D41-Central Server - Application",null,null,null,"AS063658480","Nate Garrett (063658480) PF Air Conditioning Shop","AS063658480-Nate Garrett (063658480) PF Air Conditioning Shop","Active",null,null,null,null,null,null,null,null,null,null,null,"SC6447","SC6447||6400","6400","General and Administrative","Primary","All"]
[null,null,null,null,null,null,"AC00573","[ENG] CAEDM","AC00573-[ENG] CAEDM","Activity","FD01","Active","2025-05-02T02:03:03.227541+00:00",null,null,null,null,null,null,null,null,"11E00","Software - Misc","11E00-Software - Misc",null,null,null,"AS064065708","Kristina Baardson (064065708) Purchasing and Travel - International Travel","AS064065708-Kristina Baardson (064065708) Purchasing and Travel - International Travel","Active",null,null,null,null,null,null,null,null,null,null,null,"SC6448","SC6448||1400","1400","Prepaid Expenses",null,"All"]
[null,null,null,null,null,null,"AC00574","[ENG] Department Supplemental","AC00574-[ENG] Department Supplemental","Activity","FD01","Active","2025-03-17T16:11:52.322069+00:00",null,null,null,null,null,null,null,null,"11E21","Enterprise Management Softwar","11E21-Enterprise Management Softwar",null,null,null,"AS064260018","Evan Parry (064260018) MSB - Public Service & Ethics","AS064260018-Evan Parry (064260018) MSB - Public Service & Ethics","Active",null,null,null,null,null,null,null,null,null,null,null,"SC6448","SC6448||6400","6400","General and Administrative","Primary","All"]
[null,null,null,null,null,null,"AC00575","[ENG] College Relations Operations","AC00575-[ENG] College Relations Operations","Activity","FD01","Active","2025-03-17T16:11:52.322069+00:00",null,null,null,null,null,null,null,null,"11E41","Application Software","11E41-Application Software",null,null,null,"AS064455119","Ryan Hardy (064455119) CE FSY","AS064455119-Ryan Hardy (064455119) CE FSY","Active",null,null,null,null,null,null,null,null,null,null,null,"SC6449","SC6449||1400","1400","Prepaid Expenses",null,"All"]
[null,null,null,null,null,null,"AC00576","[ENG] CAEDM Compt Lab","AC00576-[ENG] CAEDM Compt Lab","Activity","FD01","Active","2025-03-17T16:11:52.322069+00:00",null,null,null,null,null,null,null,null,"11SLA","McKay School of Education","11SLA-McKay School of Education",null,null,null,"AS064546661","Matthew Johnson (064546661) OIT Portfolio - Business, Finance, & HR","AS064546661-Matthew Johnson (064546661) OIT Portfolio - Business, Finance, & HR","Active",null,null,null,null,null,null,null,null,null,null,null,"SC6449","SC6449||1650","1650","Construction in Progress",null,"JE_PPE|JE_Override"]
[null,null,null,null,null,null,"AC00577","[ENG] College Communications","AC00577-[ENG] College Communications","Activity","FD01","Active","2025-03-17T16:11:52.322069+00:00",null,null,null,null,null,null,null,null,"12000","General Airlines","12000-General Airlines",null,null,null,"AS064699868","Matt Porter (064699868) PF Central Heating Plant","AS064699868-Matt Porter (064699868) PF Central Heating Plant","Active",null,null,null,null,null,null,null,null,null,null,null,"SC6449","SC6449||1651","1651","Construction in Progress (Non-Workday Projects)",null,"All"]
[null,null,null,null,null,null,"AC00578","[ENG] Research Development","AC00578-[ENG] Research Development","Activity","FD01","Active","2025-03-17T16:11:52.322069+00:00",null,null,null,null,null,null,null,null,"12001","Hotels","12001-Hotels",null,null,null,"AS065004973","Eden Peterson (065004973) MSB - Public Service & Ethics","AS065004973-Eden Peterson (065004973) MSB - Public Service & Ethics","Active",null,null,null,null,null,null,null,null,null,null,null,"SC6449","SC6449||6400","6400","General and Administrative","Primary","All"]
[null,null,null,null,null,null,"AC00579","[ENG] Precision Machining Lab Supprt","AC00579-[ENG] Precision Machining Lab Supprt","Activity","FD01","Active","2025-03-17T16:11:52.322069+00:00",null,null,null,null,null,null,null,null,"12002","Rental Cars","12002-Rental Cars",null,null,null,"AS065021516","Jared Franson (065021516) Athletics - Olympic Sport Medicine","AS065021516-Jared Franson (065021516) Athletics - Olympic Sport Medicine","Active",null,null,null,null,null,null,null,null,null,null,null,"SC6450","SC6450||1400","1400","Prepaid Expenses",null,"All"]
[null,null,null,null,null,null,"AC00580","[ENG] Engineering Research Travel","AC00580-[ENG] Engineering Research Travel","Activity","FD01","Active","2025-09-14T02:07:09.382047+00:00",null,null,null,null,null,null,null,null,"12005","Corporate Card","12005-Corporate Card",null,null,null,"AS065072862","Sariah Fales (065072862) Humanities - English","AS065072862-Sariah Fales (065072862) Humanities - English","Active",null,null,null,null,null,null,null,null,null,null,null,"SC6450","SC6450||1650","1650","Construction in Progress",null,"JE_PPE|JE_Override"]
[null,null,null,null,null,null,"AC00581","[ENG] Coll of Eng Student Council","AC00581-[ENG] Coll of Eng Student Council","Activity","FD02","Active","2025-03-17T16:11:52.322069+00:00",null,null,null,null,null,null,null,null,"12006","JPMorgan Rebate","12006-JPMorgan Rebate",null,null,null,"AS065151407","Geoff Johnson (065151407) PF Auxiliary Maintenance","AS065151407-Geoff Johnson (065151407) PF Auxiliary Maintenance","Active",null,null,null,null,null,null,null,null,null,null,null,"SC6450","SC6450||1651","1651","Construction in Progress (Non-Workday Projects)",null,"All"]
[null,null,null,null,null,null,"AC00582","[ENG] Precision Machining Lab","AC00582-[ENG] Precision Machining Lab","Activity","FD02","Active","2025-03-17T16:11:52.322069+00:00",null,null,null,null,null,null,null,null,"12007","Sabre Incentive","12007-Sabre Incentive",null,null,null,"AS065155580","Cody Reeves (065155580) MSB - Management","AS065155580-Cody Reeves (065155580) MSB - Management","Active",null,null,null,null,null,null,null,null,null,null,null,"SC6450","SC6450||6400","6400","General and Administrative","Primary","All"]
[null,null,null,null,null,null,"AC00583","[ENG] Coll of Eng Royalty","AC00583-[ENG] Coll of Eng Royalty","Activity","FD03","Active","2025-03-17T16:11:52.322069+00:00",null,null,null,null,null,null,null,null,"12015","Passport Services","12015-Passport Services",null,null,null,"AS065216056","Jacqueline Torres (065216056) Culinary Support Center","AS065216056-Jacqueline Torres (065216056) Culinary Support Center","Active",null,null,null,null,null,null,null,null,null,null,null,"SC6451","SC6451||1400","1400","Prepaid Expenses",null,"All"]
[null,null,null,null,null,null,"AC00584","[ENG] CAEDM","AC00584-[ENG] CAEDM","Activity","FD03","Active","2025-03-17T16:11:52.322069+00:00",null,null,null,null,null,null,null,null,"12020","General Office","12020-General Office",null,null,null,"AS065242203","Myrna Layton (065242203) Lee Library - Admin, Research & Learning","AS065242203-Myrna Layton (065242203) Lee Library - Admin, Research & Learning","Active",null,null,null,null,null,null,null,null,null,null,null,"SC6451","SC6451||6400","6400","General and Administrative","Primary","All"]
[null,null,null,null,null,null,"AC00585","[ENG] Prof Dev-Engineering","AC00585-[ENG] Prof Dev-Engineering","Activity","FD03","Active","2025-03-17T16:11:52.322069+00:00",null,null,null,null,null,null,null,null,"12022","Lori Sowards","12022-Lori Sowards",null,null,null,"AS065373396","Maggie Marchant (065373396) Research & Learning - Social Sciences","AS065373396-Maggie Marchant (065373396) Research & Learning - Social Sciences","Active",null,null,null,null,null,null,null,null,null,null,null,"SC6452","SC6452||1400","1400","Prepaid Expenses",null,"All"]
[null,null,null,null,null,null,"AC00586","[ENG] Mentoring Grants","AC00586-[ENG] Mentoring Grants","Activity","FD03","Active","2025-03-17T16:11:52.322069+00:00",null,null,null,null,null,null,null,null,"12023","Debbie Hall","12023-Debbie Hall",null,null,null,"AS065578519","Alisa Kesler Lund (065578519) FHSS - History","AS065578519-Alisa Kesler Lund (065578519) FHSS - History","Active",null,null,null,null,null,null,null,null,null,null,null,"SC6452","SC6452||6400","6400","General and Administrative","Primary","All"]
[null,null,null,null,null,null,"AC00587","[ENG] CSR - Engineering (CAEDM)","AC00587-[ENG] CSR - Engineering (CAEDM)","Activity","FD03","Active","2025-03-17T16:11:52.322069+00:00",null,null,null,null,null,null,null,null,"12024","Wendy Baumgarten","12024-Wendy Baumgarten",null,null,null,"AS065677979","Brad Barber (065677979) Law School","AS065677979-Brad Barber (065677979) Law School","Active",null,null,null,null,null,null,null,null,null,null,null,"SC6453","SC6453||1400","1400","Prepaid Expenses",null,"All"]
[null,null,null,null,null,null,"AC00589","[ENG] Experiential Learning","AC00589-[ENG] Experiential Learning","Activity","FD03","Active","2025-03-17T16:11:52.322069+00:00",null,null,null,null,null,null,null,null,"12026","Annette Landon","12026-Annette Landon",null,null,null,"AS065775978","Michael Goodrich (065775978) CMS - Computer Science","AS065775978-Michael Goodrich (065775978) CMS - Computer Science","Active",null,null,null,null,null,null,null,null,null,null,null,"SC6453","SC6453||6400","6400","General and Administrative","Primary","All"]
[null,null,null,null,null,null,"AC00590","[ENG] Technology Education Club","AC00590-[ENG] Technology Education Club","Activity","FD02","Active","2025-03-17T16:11:52.322069+00:00",null,null,null,null,null,null,null,null,"12028","Cindi ONeal","12028-Cindi ONeal",null,null,null,"AS065897875","Jack Stoneman (065897875) Humanities - Asian & Near Eastern Languages","AS065897875-Jack Stoneman (065897875) Humanities - Asian & Near Eastern Languages","Active",null,null,null,null,null,null,null,null,null,null,null,"SC6454","SC6454||1400","1400","Prepaid Expenses",null,"All"]
[null,null,null,null,null,null,"AC00591","[ENG] Woods Stores","AC00591-[ENG] Woods Stores","Activity","FD02","Active","2025-03-17T16:11:52.322069+00:00",null,null,null,null,null,null,null,null,"12029","Lori Ann Andersen","12029-Lori Ann Andersen",null,null,null,"AS066096561","Steven Bednar (066096561) Law School","AS066096561-Steven Bednar (066096561) Law School","Active",null,null,null,null,null,null,null,null,null,null,null,"SC6454","SC6454||6400","6400","General and Administrative","Primary","All"]
[null,null,null,null,null,null,"AC00592","[ENG] Prototype Lab","AC00592-[ENG] Prototype Lab","Activity","FD02","Active","2025-03-17T16:11:52.322069+00:00",null,null,null,null,null,null,null,null,"12030","Todd Bird","12030-Todd Bird",null,null,null,"AS066282438","Barbara Hunt (LFSC)","AS066282438-Barbara Hunt (LFSC)","Active",null,null,null,null,null,null,null,null,null,null,null,"SC6455","SC6455||1400","1400","Prepaid Expenses",null,"All"]
[null,null,null,null,null,null,"AC00593","[ENG] Metals Stores","AC00593-[ENG] Metals Stores","Activity","FD02","Active","2025-03-17T16:11:52.322069+00:00",null,null,null,null,null,null,null,null,"12031","Erin Howe","12031-Erin Howe",null,null,null,"AS066549145","June Standley (066549145) Enrollment Services Marketing and Communications","AS066549145-June Standley (066549145) Enrollment Services Marketing and Communications","Active",null,null,null,null,null,null,null,null,null,null,null,"SC6455","SC6455||1650","1650","Construction in Progress",null,"JE_PPE|JE_Override"]
[null,null,null,null,null,null,"AC00594","[ENG] Multi-Media Stores","AC00594-[ENG] Multi-Media Stores","Activity","FD02","Active","2025-03-17T16:11:52.322069+00:00",null,null,null,null,null,null,null,null,"12032","Lei Liua","12032-Lei Liua",null,null,null,"AS066645543","Curt Holman (066645543) Fine Arts & Communications - Dance","AS066645543-Curt Holman (066645543) Fine Arts & Communications - Dance","Active",null,null,null,null,null,null,null,null,null,null,null,"SC6455","SC6455||1651","1651","Construction in Progress (Non-Workday Projects)",null,"All"]
[null,null,null,null,null,null,"AC00595","[ENG] BYU Utah Underwater Robotics","AC00595-[ENG] BYU Utah Underwater Robotics","Activity","FD02","Active","2025-03-17T16:11:52.322069+00:00",null,null,null,null,null,null,null,null,"12034","Karen Brereton","12034-Karen Brereton",null,null,null,"AS066657479","Angela Jones (066657479) CMS - Computer Science","AS066657479-Angela Jones (066657479) CMS - Computer Science","Active",null,null,null,null,null,null,null,null,null,null,null,"SC6455","SC6455||6400","6400","General and Administrative","Primary","All"]
[null,null,null,null,null,null,"AC00596","[ENG] Digital Magicians","AC00596-[ENG] Digital Magicians","Activity","FD02","Active","2025-03-17T16:11:52.322069+00:00",null,null,null,null,null,null,null,null,"12037","Kristina Baardon","12037-Kristina Baardon",null,null,null,"AS066791363","Carolyn Billings (066791363) Athletics - Olympic Sport Medicine","AS066791363-Carolyn Billings (066791363) Athletics - Olympic Sport Medicine","Active",null,null,null,null,null,null,null,null,null,null,null,"SC6456","SC6456||1400","1400","Prepaid Expenses",null,"All"]
[null,null,null,null,null,null,"AC00597","[ENG] EXPERIENTIAL LEARNING TEE","AC00597-[ENG] EXPERIENTIAL LEARNING TEE","Activity","FD03","Active","2025-03-17T16:11:52.322069+00:00",null,null,null,null,null,null,null,null,"12040","Heather Hughes","12040-Heather Hughes",null,null,null,"AS066794452","Hans-Wilhelm Kelling (066794452) Humanities - German & Russian","AS066794452-Hans-Wilhelm Kelling (066794452) Humanities - German & Russian","Active",null,null,null,null,null,null,null,null,null,null,null,"SC6456","SC6456||6400","6400","General and Administrative","Primary","All"]
[null,null,null,null,null,null,"AC00598","[ENG] Belonging & Diversity Initiati","AC00598-[ENG] Belonging & Diversity Initiati","Activity","FD01","Active","2025-03-17T16:11:52.322069+00:00",null,null,null,null,null,null,null,null,"12041","Alison Lopez","12041-Alison Lopez",null,null,null,"AS067108432","Jarica Watts (067108432) Humanities - English","AS067108432-Jarica Watts (067108432) Humanities - English","Active",null,null,null,null,null,null,null,null,null,null,null,"SC6457","SC6457||1400","1400","Prepaid Expenses",null,"All"]
[null,null,null,null,null,null,"AC00599","[ENG] Animation","AC00599-[ENG] Animation","Activity","FD01","Active","2025-03-17T16:11:52.322069+00:00",null,null,null,null,null,null,null,null,"12042","Carter Brown","12042-Carter Brown",null,null,null,"AS067170317","Stephen Ricks (067170317) Humanities - Asian & Near Eastern Languages","AS067170317-Stephen Ricks (067170317) Humanities - Asian & Near Eastern Languages","Active",null,null,null,null,null,null,null,null,null,null,null,"SC6457","SC6457||6400","6400","General and Administrative","Primary","All"]
[null,null,null,null,null,null,"AC00600","[ENG] BYU Center for Animation 2","AC00600-[ENG] BYU Center for Animation 2","Activity","FD01","Active","2025-03-17T16:11:52.322069+00:00",null,null,null,null,null,null,null,null,"12043","Jaelynn Christensen","12043-Jaelynn Christensen",null,null,null,"AS067325976","Deanna O'Hara (067325976) PF Building Operations","AS067325976-Deanna O'Hara (067325976) PF Building Operations","Active",null,null,null,null,null,null,null,null,null,null,null,"SC6458","SC6458||1400","1400","Prepaid Expenses",null,"All"]
[null,null,null,null,null,null,"AC00601","[ENG] Kip Christensen","AC00601-[ENG] Kip Christensen","Activity","FD01","Active","2025-03-17T16:11:52.322069+00:00",null,null,null,null,null,null,null,null,"12044","Kelly Van Sickle","12044-Kelly Van Sickle",null,null,null,"AS067480259","Lita Little Giddins (067480259) Belonging Vice President","AS067480259-Lita Little Giddins (067480259) Belonging Vice President","Active",null,null,null,null,null,null,null,null,null,null,null,"SC6458","SC6458||6400","6400","General and Administrative","Primary","All"]
[null,null,null,null,null,null,"AC00602","[ENG] Skaggs, Paul Research","AC00602-[ENG] Skaggs, Paul Research","Activity","FD01","Active","2025-03-17T16:11:52.322069+00:00",null,null,null,null,null,null,null,null,"12045","Rachel Gunnell","12045-Rachel Gunnell",null,null,null,"AS067962948","Kirsten Russell (067962948) MSE - Communication Disorders","AS067962948-Kirsten Russell (067962948) MSE - Communication Disorders","Active",null,null,null,null,null,null,null,null,null,null,null,"SC6459","SC6459||1400","1400","Prepaid Expenses",null,"All"]
[null,null,null,null,null,null,"AC00603","[ENG] Industrial Design","AC00603-[ENG] Industrial Design","Activity","FD01","Active","2025-03-17T16:11:52.322069+00:00",null,null,null,null,null,null,null,null,"12046","Teri Walker","12046-Teri Walker",null,null,null,"AS067971939","Cathleen Barney (067971939) Enrollment Services Marketing and Communications","AS067971939-Cathleen Barney (067971939) Enrollment Services Marketing and Communications","Active",null,null,null,null,null,null,null,null,null,null,null,"SC6459","SC6459||6400","6400","General and Administrative","Primary","All"]
[null,null,null,null,null,null,"AC00604","[ENG] EXPERIENTIAL LEARNING ID","AC00604-[ENG] EXPERIENTIAL LEARNING ID","Activity","FD03","Active","2025-03-17T16:11:52.322069+00:00",null,null,null,null,null,null,null,null,"12047","Tiffany Barney","12047-Tiffany Barney",null,null,null,"AS068021830","Randy Clement (068021830) BYU Police Operations - Patrol","AS068021830-Randy Clement (068021830) BYU Police Operations - Patrol","Active",null,null,null,null,null,null,null,null,null,null,null,"SC6460","SC6460||1400","1400","Prepaid Expenses",null,"All"]
[null,null,null,null,null,null,"AC00605","[ENG] School of Technology","AC00605-[ENG] School of Technology","Activity","FD01","Active","2025-03-17T16:11:52.322069+00:00",null,null,null,null,null,null,null,null,"12060","BYU-Hawaii","12060-BYU-Hawaii",null,null,null,"AS068474825","Nathan Leonhardt (068474825) FHSS - School of Family Life","AS068474825-Nathan Leonhardt (068474825) FHSS - School of Family Life","Active",null,null,null,null,null,null,null,null,null,null,null,"SC6460","SC6460||6400","6400","General and Administrative","Primary","All"]
[null,null,null,null,null,null,"AC00606","[ENG] MFGEN Stores","AC00606-[ENG] MFGEN Stores","Activity","FD01","Active","2025-03-17T16:11:52.322069+00:00",null,null,null,null,null,null,null,null,"12071","Alumni Cell Phone","12071-Alumni Cell Phone",null,null,null,"AS068696210","Kim Underwood (068696210) Fine Arts & Communications - School of Music","AS068696210-Kim Underwood (068696210) Fine Arts & Communications - School of Music","Active",null,null,null,null,null,null,null,null,null,null,null,"SC6461","SC6461||1400","1400","Prepaid Expenses",null,"All"]
[null,null,null,null,null,null,"AC00607","[ENG] TECM Computer Lab","AC00607-[ENG] TECM Computer Lab","Activity","FD01","Active","2025-03-17T16:11:52.322069+00:00",null,null,null,null,null,null,null,null,"12072","PT Employee Cell Phone","12072-PT Employee Cell Phone",null,null,null,"AS068791480","Jeff Worthen (068791480) Executive Chef","AS068791480-Jeff Worthen (068791480) Executive Chef","Active",null,null,null,null,null,null,null,null,null,null,null,"SC6461","SC6461||6400","6400","General and Administrative","Primary","All"]
[null,null,null,null,null,null,"AC00608","[ENG] MFGEN Computer Lab","AC00608-[ENG] MFGEN Computer Lab","Activity","FD01","Active","2025-03-17T16:11:52.322069+00:00",null,null,null,null,null,null,null,null,"12073","Retiree Cell Phone","12073-Retiree Cell Phone",null,null,null,"AS068792487","Jess Lyons (068792487) OIT Portfolio - Identity","AS068792487-Jess Lyons (068792487) OIT Portfolio - Identity","Active",null,null,null,null,null,null,null,null,null,null,null,"SC6462","SC6462||6400","6400","General and Administrative","Primary","All"]
[null,null,null,null,null,null,"AC00609","[ENG] MFGEN - Grad Studies","AC00609-[ENG] MFGEN - Grad Studies","Activity","FD01","Active","2025-03-17T16:11:52.322069+00:00",null,null,null,null,null,null,null,null,"12074","Student Cell Phone","12074-Student Cell Phone",null,null,null,"AS068871759","Coleman Madsen (068871759) Dining Services","AS068871759-Coleman Madsen (068871759) Dining Services","Active",null,null,null,null,null,null,null,null,null,null,null,"SC6463","SC6463||1400","1400","Prepaid Expenses",null,"All"]
[null,null,null,null,null,null,"AC00610","[ENG] School of Technology Director","AC00610-[ENG] School of Technology Director","Activity","FD01","Active","2025-03-17T16:11:52.322069+00:00",null,null,null,null,null,null,null,null,"12075","Employee Cell Phone","12075-Employee Cell Phone",null,null,null,"AS069028046","Noelani Wayas (069028046) Business Career Center","AS069028046-Noelani Wayas (069028046) Business Career Center","Active",null,null,null,null,null,null,null,null,null,null,null,"SC6463","SC6463||6400","6400","General and Administrative","Primary","All"]
[null,null,null,null,null,null,"AC00611","[ENG] Ekstrom, Joseph Research","AC00611-[ENG] Ekstrom, Joseph Research","Activity","FD01","Active","2025-03-17T16:11:52.322069+00:00",null,null,null,null,null,null,null,null,"12076","BYU-Pathways Cell Phone","12076-BYU-Pathways Cell Phone",null,null,null,"AS069190747","Jake Naugle (069190747) Enrollment Services Marketing and Communications","AS069190747-Jake Naugle (069190747) Enrollment Services Marketing and Communications","Active",null,null,null,null,null,null,null,null,null,null,null,"SC6464","SC6464||6400","6400","General and Administrative","Primary","JE_Research|JE_Override"]
[null,null,null,null,null,null,"AC00612","[ENG] School of Technology Oper","AC00612-[ENG] School of Technology Oper","Activity","FD01","Active","2025-03-17T16:11:52.322069+00:00",null,null,null,null,null,null,null,null,"12077","Prev Employee Cell Phone","12077-Prev Employee Cell Phone",null,null,null,"AS069320555","Steven Palica (069320555) OIT Resource - Tech Operations - Enterprise Apps","AS069320555-Steven Palica (069320555) OIT Resource - Tech Operations - Enterprise Apps","Active",null,null,null,null,null,null,null,null,null,null,null,"SC6465","SC6465||6400","6400","General and Administrative","Primary","JE_Research|JE_Override"]
[null,null,null,null,null,null,"AC00613","[ENG] MFET Tech Trans","AC00613-[ENG] MFET Tech Trans","Activity","FD03","Active","2025-03-17T16:11:52.322069+00:00",null,null,null,null,null,null,null,null,"12132","Admission Fees","12132-Admission Fees",null,null,null,"AS069351973","Rose Combs (069351973) OIT Resource - Application Engineering","AS069351973-Rose Combs (069351973) OIT Resource - Application Engineering","Active",null,null,null,null,null,null,null,null,null,null,null,"SC6466","SC6466||1400","1400","Prepaid Expenses",null,"All"]
[null,null,null,null,null,null,"AC00614","[ENG] MFGEN - Machine Burden","AC00614-[ENG] MFGEN - Machine Burden","Activity","FD03","Active","2025-03-17T16:11:52.322069+00:00",null,null,null,null,null,null,null,null,"12300","R0480010 5-22410","12300-R0480010 5-22410",null,null,null,"AS069389994","Michelle Hirsche (069389994) PF Business Support and Compliance","AS069389994-Michelle Hirsche (069389994) PF Business Support and Compliance","Active",null,null,null,null,null,null,null,null,null,null,null,"SC6466","SC6466||6400","6400","General and Administrative","Primary","All"]
[null,null,null,null,null,null,"AC00615","[ENG] Technology-Grad Student Funds","AC00615-[ENG] Technology-Grad Student Funds","Activity","FD03","Active","2025-03-17T16:11:52.322069+00:00",null,null,null,null,null,null,null,null,"12301","R0480023 5-22323","12301-R0480023 5-22323",null,null,null,"AS069577692","Maren Fischer (069577692) Registrar's Office","AS069577692-Maren Fischer (069577692) Registrar's Office","Active",null,null,null,null,null,null,null,null,null,null,null,"SC6467","SC6467||6400","6400","General and Administrative","Primary","JE_Override"]
[null,null,null,null,null,null,"AC00616","[ENG] General Study Account","AC00616-[ENG] General Study Account","Activity","FD03","Active","2025-03-17T16:11:52.322069+00:00",null,null,null,null,null,null,null,null,"12302","CAPSTONE","12302-CAPSTONE",null,null,null,"AS069598894","Chad Hancock (069598894) Life Sciences - Nutrition, Dietetics, & Food Science","AS069598894-Chad Hancock (069598894) Life Sciences - Nutrition, Dietetics, & Food Science","Active",null,null,null,null,null,null,null,null,null,null,null,"SC6499","SC6499||1400","1400","Prepaid Expenses",null,"All"]
[null,null,null,null,null,null,"AC00617","[ENG] EXPERIENTIAL LEARNING SOT","AC00617-[ENG] EXPERIENTIAL LEARNING SOT","Activity","FD03","Active","2025-03-17T16:11:52.322069+00:00",null,null,null,null,null,null,null,null,"12303","R0480004 5-21004","12303-R0480004 5-21004",null,null,null,"AS069635491","Amy Soto (069635491) University Advisement Center","AS069635491-Amy Soto (069635491) University Advisement Center","Active",null,null,null,null,null,null,null,null,null,null,null,"SC6499","SC6499||1650","1650","Construction in Progress",null,"JE_PPE|JE_Override"]
[null,null,null,null,null,null,"AC00618","[ENG] Mentoring Grant - Brent Adams","AC00618-[ENG] Mentoring Grant - Brent Adams","Activity","FD03","Active","2025-03-17T16:11:52.322069+00:00",null,null,null,null,null,null,null,null,"12304","R0480006 5-21006","12304-R0480006 5-21006",null,null,null,"AS069772710","Alberto Puertas (069772710) University Advisement Center","AS069772710-Alberto Puertas (069772710) University Advisement Center","Active",null,null,null,null,null,null,null,null,null,null,null,"SC6499","SC6499||1651","1651","Construction in Progress (Non-Workday Projects)",null,"All"]
[null,null,null,null,null,null,"AC00619","[ENG] Faculty Mentoring 3","AC00619-[ENG] Faculty Mentoring 3","Activity","FD03","Active","2025-03-17T16:11:52.322069+00:00",null,null,null,null,null,null,null,null,"12305","R0500616 5-22616","12305-R0500616 5-22616",null,null,null,"AS069777568","Craig Giles (069777568) PF Keys, Locks, & Access Control","AS069777568-Craig Giles (069777568) PF Keys, Locks, & Access Control","Active",null,null,null,null,null,null,null,null,null,null,null,"SC6499","SC6499||6400","6400","General and Administrative","Primary","All"]
[null,null,null,null,null,null,"AC00620","[ENG] Faculty Mentoring 4","AC00620-[ENG] Faculty Mentoring 4","Activity","FD03","Active","2025-03-17T16:11:52.322069+00:00",null,null,null,null,null,null,null,null,"12307","R0480007 5-21007","12307-R0480007 5-21007",null,null,null,"AS069827661","Clark Asay (069827661) AVP - Dean, Clark Law School","AS069827661-Clark Asay (069827661) AVP - Dean, Clark Law School","Active",null,null,null,null,null,null,null,null,null,null,null,"SC6610","SC6610||6600","6600","Interest Expense","Primary","All"]
[null,null,null,null,null,null,"AC00621","[ENG] Faculty Mentoring 5","AC00621-[ENG] Faculty Mentoring 5","Activity","FD03","Active","2025-03-17T16:11:52.322069+00:00",null,null,null,null,null,null,null,null,"12309","R0300991 5-20991","12309-R0300991 5-20991",null,null,null,"AS070056977","Laura Greer (070056977) Humanities - Spanish & Portuguese","AS070056977-Laura Greer (070056977) Humanities - Spanish & Portuguese","Active",null,null,null,null,null,null,null,null,null,null,null,"SC6701","SC6701||1400","1400","Prepaid Expenses",null,"All"]
[null,null,null,null,null,null,"AC00622","[ENG] ChE JJ Christensen Profsrship","AC00622-[ENG] ChE JJ Christensen Profsrship","Activity","FD01","Active","2025-03-17T16:11:52.322069+00:00",null,null,null,null,null,null,null,null,"12310","R0201007","12310-R0201007",null,null,null,"AS070309145","Lorenzo Hubbert (070309145) CE Marketing & Outreach","AS070309145-Lorenzo Hubbert (070309145) CE Marketing & Outreach","Active",null,null,null,null,null,null,null,null,null,null,null,"SC6701","SC6701||1635","1635","Misc Capital Assets",null,"JE_PPE|JE_Override"]
[null,null,null,null,null,null,"AC00623","[ENG] Chem Engr Compt Lab","AC00623-[ENG] Chem Engr Compt Lab","Activity","FD01","Active","2025-03-17T16:11:52.322069+00:00",null,null,null,null,null,null,null,null,"12315","R0700039 5-22039","12315-R0700039 5-22039",null,null,null,"AS070311203","Trevor Wilson (070311203) Advancement Vice President","AS070311203-Trevor Wilson (070311203) Advancement Vice President","Active",null,null,null,null,null,null,null,null,null,null,null,"SC6701","SC6701||1650","1650","Construction in Progress",null,"JE_PPE|JE_Override"]
[null,null,null,null,null,null,"AC00624","[ENG] John Harb","AC00624-[ENG] John Harb","Activity","FD01","Active","2025-03-17T16:11:52.322069+00:00",null,null,null,null,null,null,null,null,"12316","R0481000","12316-R0481000",null,null,null,"AS070435816","Laurel Hornberger (070435816) CE Test Prep & Youth Programs","AS070435816-Laurel Hornberger (070435816) CE Test Prep & Youth Programs","Active",null,null,null,null,null,null,null,null,null,null,null,"SC6701","SC6701||1651","1651","Construction in Progress (Non-Workday Projects)",null,"All"]
[null,null,null,null,null,null,"AC00625","[ENG] Chem Engr Graduate Studies","AC00625-[ENG] Chem Engr Graduate Studies","Activity","FD01","Active","2025-03-17T16:11:52.322069+00:00",null,null,null,null,null,null,null,null,"12317","R0501006","12317-R0501006",null,null,null,"AS070485150","Richard Osguthorpe (070485150) Academic Vice President","AS070485150-Richard Osguthorpe (070485150) Academic Vice President","Active",null,null,null,null,null,null,null,null,null,null,null,"SC6701","SC6701||1700","1700","Accumulated Depreciation",null,"JE_PPE|JE_Override"]
[null,null,null,null,null,null,"AC00626","[ENG] KAS Research","AC00626-[ENG] KAS Research","Activity","FD01","Active","2025-03-17T16:11:52.322069+00:00",null,null,null,null,null,null,null,null,"12318","R0201028","12318-R0201028",null,null,null,"AS070916873","Loreen Allphin (070916873) AVP - Dean, Life Sciences","AS070916873-Loreen Allphin (070916873) AVP - Dean, Life Sciences","Active",null,null,null,null,null,null,null,null,null,null,null,"SC6701","SC6701||6700","6700","Physical Facilities","Primary","All"]
[null,null,null,null,null,null,"AC00627","[ENG] AICHE-Student Chapter","AC00627-[ENG] AICHE-Student Chapter","Activity","FD02","Active","2025-03-17T16:11:52.322069+00:00",null,null,null,null,null,null,null,null,"12319","R0701000","12319-R0701000",null,null,null,"AS071004251","Steve Hatch (071004251) PF Building Operations","AS071004251-Steve Hatch (071004251) PF Building Operations","Active",null,null,null,null,null,null,null,null,null,null,null,"SC6701","SC6701||8000","8000","Depreciation",null,"JE_PPE|JE_Override"]
[null,null,null,null,null,null,"AC00628","[ENG] BYU-DIPPR Lab","AC00628-[ENG] BYU-DIPPR Lab","Activity","FD02","Active","2025-03-25T02:03:53.792937+00:00",null,null,null,null,null,null,null,null,"12320","R0131001","12320-R0131001",null,null,null,"AS071229464","Brian Maynes (071229464) OIT Core - Finance - Materials Mgmt","AS071229464-Brian Maynes (071229464) OIT Core - Finance - Materials Mgmt","Active",null,null,null,null,null,null,null,null,null,null,null,"SC6702","SC6702||1400","1400","Prepaid Expenses",null,"All"]
[null,null,null,null,null,null,"AC00629","[ENG] Polymer Analysis Lab","AC00629-[ENG] Polymer Analysis Lab","Activity","FD02","Active","2025-03-17T16:11:52.322069+00:00",null,null,null,null,null,null,null,null,"12321","R0601027","12321-R0601027",null,null,null,"AS071437415","Jon Jensen (071437415) PF Campus Projects - Mechanical Engineering","AS071437415-Jon Jensen (071437415) PF Campus Projects - Mechanical Engineering","Active",null,null,null,null,null,null,null,null,null,null,null,"SC6702","SC6702||1610","1610","Building Improvements",null,"JE_PPE|JE_Override"]
[null,null,null,null,null,null,"AC00630","[ENG] 2ft Prosthetics","AC00630-[ENG] 2ft Prosthetics","Activity","FD02","Active","2025-03-17T16:11:52.322069+00:00",null,null,null,null,null,null,null,null,"12322","R0701001","12322-R0701001",null,null,null,"AS071482089","George Monsivais (071482089) CE Research, Planning & Asmnt","AS071482089-George Monsivais (071482089) CE Research, Planning & Asmnt","Active",null,null,null,null,null,null,null,null,null,null,null,"SC6702","SC6702||1650","1650","Construction in Progress",null,"JE_PPE|JE_Override"]
[null,null,null,null,null,null,"AC00631","[ENG] American Nuclear Society","AC00631-[ENG] American Nuclear Society","Activity","FD02","Active","2025-03-17T16:11:52.322069+00:00",null,null,null,null,null,null,null,null,"12323","R0481001","12323-R0481001",null,null,null,"AS071907233","Craig Merrill (071907233) MSB - Finance","AS071907233-Craig Merrill (071907233) MSB - Finance","Active",null,null,null,null,null,null,null,null,null,null,null,"SC6702","SC6702||1651","1651","Construction in Progress (Non-Workday Projects)",null,"All"]
[null,null,null,null,null,null,"AC00632","[ENG] Engineers in Business","AC00632-[ENG] Engineers in Business","Activity","FD02","Active","2025-03-17T16:11:52.322069+00:00",null,null,null,null,null,null,null,null,"12324","R0481002","12324-R0481002",null,null,null,"AS072208327","Kirk Jacobs (072208327) PF Building Projects, Maintenance & Transportation Services","AS072208327-Kirk Jacobs (072208327) PF Building Projects, Maintenance & Transportation Services","Active",null,null,null,null,null,null,null,null,null,null,null,"SC6702","SC6702||1700","1700","Accumulated Depreciation",null,"JE_PPE|JE_Override"]
[null,null,null,null,null,null,"AC00633","[ENG] Global Eng Outreach GEO Club","AC00633-[ENG] Global Eng Outreach GEO Club","Activity","FD02","Active","2025-03-17T16:11:52.322069+00:00",null,null,null,null,null,null,null,null,"12325","R0701002","12325-R0701002",null,null,null,"AS072791261","Steven Johnson (072791261) AVP - Dean, Computational, Math,& Physical (CMS)","AS072791261-Steven Johnson (072791261) AVP - Dean, Computational, Math,& Physical (CMS)","Active",null,null,null,null,null,null,null,null,null,null,null,"SC6702","SC6702||6700","6700","Physical Facilities","Primary","All"]
[null,null,null,null,null,null,"AC00634","[ENG] BYU Chapter SPE","AC00634-[ENG] BYU Chapter SPE","Activity","FD02","Active","2025-03-17T16:11:52.322069+00:00",null,null,null,null,null,null,null,null,"12326","R0201057","12326-R0201057",null,null,null,"AS072864443","Danny Yeo (072864443) Dean's Office - Life Sciences","AS072864443-Danny Yeo (072864443) Dean's Office - Life Sciences","Active",null,null,null,null,null,null,null,null,null,null,null,"SC6702","SC6702||8000","8000","Depreciation",null,"JE_PPE|JE_Override"]
[null,null,null,null,null,null,"AC00635","[ENG] Energy Club","AC00635-[ENG] Energy Club","Activity","FD02","Active","2025-03-17T16:11:52.322069+00:00",null,null,null,null,null,null,null,null,"12327","R0701003","12327-R0701003",null,null,null,"AS072995413","Ashley Fraser (072995413) FHSS - School of Family Life","AS072995413-Ashley Fraser (072995413) FHSS - School of Family Life","Active",null,null,null,null,null,null,null,null,null,null,null,"SC6703","SC6703||1400","1400","Prepaid Expenses",null,"All"]
[null,null,null,null,null,null,"AC00636","[ENG] Chem Engr Equip Repl","AC00636-[ENG] Chem Engr Equip Repl","Activity","FD03","Active","2025-03-17T16:11:52.322069+00:00",null,null,null,null,null,null,null,null,"12328","R0301052","12328-R0301052",null,null,null,"AS073019648","Tia Looney (073019648) BYU Security Operations - Police Dispatch","AS073019648-Tia Looney (073019648) BYU Security Operations - Police Dispatch","Active",null,null,null,null,null,null,null,null,null,null,null,"SC6703","SC6703||1620","1620","Furnishings and Fixtures",null,"JE_PPE|JE_Override"]
[null,null,null,null,null,null,"AC00637","[ENG] Plasma Reactro Maint","AC00637-[ENG] Plasma Reactro Maint","Activity","FD03","Active","2025-03-17T16:11:52.322069+00:00",null,null,null,null,null,null,null,null,"12329","R0701004","12329-R0701004",null,null,null,"AS073116030","Makay Jackman (073116030) Cannon Center","AS073116030-Makay Jackman (073116030) Cannon Center","Active",null,null,null,null,null,null,null,null,null,null,null,"SC6703","SC6703||1650","1650","Construction in Progress",null,"JE_PPE|JE_Override"]
[null,null,null,null,null,null,"AC00638","[ENG] Pitt License Royalty","AC00638-[ENG] Pitt License Royalty","Activity","FD03","Active","2025-03-17T16:11:52.322069+00:00",null,null,null,null,null,null,null,null,"12331","R0601050","12331-R0601050",null,null,null,"AS073120070","Robert Richardson (073120070) CMS - Statistics","AS073120070-Robert Richardson (073120070) CMS - Statistics","Active",null,null,null,null,null,null,null,null,null,null,null,"SC6703","SC6703||1651","1651","Construction in Progress (Non-Workday Projects)",null,"All"]
[null,null,null,null,null,null,"AC00639","[ENG] WVW Resid Funds","AC00639-[ENG] WVW Resid Funds","Activity","FD03","Active","2025-03-17T16:11:52.322069+00:00",null,null,null,null,null,null,null,null,"12332","R0601051","12332-R0601051",null,null,null,"AS073238647","Stephen Kelson (073238647) Law School","AS073238647-Stephen Kelson (073238647) Law School","Active",null,null,null,null,null,null,null,null,null,null,null,"SC6703","SC6703||1700","1700","Accumulated Depreciation",null,"JE_PPE|JE_Override"]
[null,null,null,null,null,null,"AC00640","[ENG] Pope, Bill J Fellowship","AC00640-[ENG] Pope, Bill J Fellowship","Activity","FD03","Active","2025-03-17T16:11:52.322069+00:00",null,null,null,null,null,null,null,null,"12333","R0701006","12333-R0701006",null,null,null,"AS073706975","Kristy Christensen (073706975) FHSS - Anthropology","AS073706975-Kristy Christensen (073706975) FHSS - Anthropology","Active",null,null,null,null,null,null,null,null,null,null,null,"SC6703","SC6703||6700","6700","Physical Facilities","Primary","All"]
[null,null,null,null,null,null,"AC00641","[ENG] CHB Prof Account","AC00641-[ENG] CHB Prof Account","Activity","FD03","Active","2025-03-17T16:11:52.322069+00:00",null,null,null,null,null,null,null,null,"12335","R0481003","12335-R0481003",null,null,null,"AS073955008","D Keith Willmore (073955008) HS General Medicine","AS073955008-D Keith Willmore (073955008) HS General Medicine","Active",null,null,null,null,null,null,null,null,null,null,null,"SC6703","SC6703||8000","8000","Depreciation",null,"JE_PPE|JE_Override"]
[null,null,null,null,null,null,"AC00642","[ENG] Bradley C. Bundy Grad Mentor","AC00642-[ENG] Bradley C. Bundy Grad Mentor","Activity","FD03","Active","2025-03-17T16:11:52.322069+00:00",null,null,null,null,null,null,null,null,"12336","R0131004","12336-R0131004",null,null,null,"AS074084978","Coleby Clawson (074084978) Advance VP - Director, Athletics","AS074084978-Coleby Clawson (074084978) Advance VP - Director, Athletics","Active",null,null,null,null,null,null,null,null,null,null,null,"SC6704","SC6704||1400","1400","Prepaid Expenses",null,"All"]
[null,null,null,null,null,null,"AC00643","[ENG] Alonzo D. Cook Grad Mentor","AC00643-[ENG] Alonzo D. Cook Grad Mentor","Activity","FD03","Active","2025-03-17T16:11:52.322069+00:00",null,null,null,null,null,null,null,null,"12337","R0201097","12337-R0201097",null,null,null,"AS074189672","Adam Dyer (074189672) Fine Arts & Communications - Dance","AS074189672-Adam Dyer (074189672) Fine Arts & Communications - Dance","Active",null,null,null,null,null,null,null,null,null,null,null,"SC6704","SC6704||1610","1610","Building Improvements",null,"JE_PPE|JE_Override"]
[null,null,null,null,null,null,"AC00644","[ENG] W Pitt Interdispl Research","AC00644-[ENG] W Pitt Interdispl Research","Activity","FD03","Active","2025-03-17T16:11:52.322069+00:00",null,null,null,null,null,null,null,null,"12340","R0702001","12340-R0702001",null,null,null,"AS074432079","Marilyn Richards (074432079) University Advisement Center","AS074432079-Marilyn Richards (074432079) University Advisement Center","Active",null,null,null,null,null,null,null,null,null,null,null,"SC6704","SC6704||1650","1650","Construction in Progress",null,"JE_PPE|JE_Override"]
[null,null,null,null,null,null,"AC00645","[ENG] Doug Tree - IDR Grant 2020","AC00645-[ENG] Doug Tree - IDR Grant 2020","Activity","FD03","Active","2025-03-17T16:11:52.322069+00:00",null,null,null,null,null,null,null,null,"12341","R0202038","12341-R0202038",null,null,null,"AS074495546","Lynne Kganetso (074495546) MSE  - Teacher Education","AS074495546-Lynne Kganetso (074495546) MSE  - Teacher Education","Active",null,null,null,null,null,null,null,null,null,null,null,"SC6704","SC6704||1651","1651","Construction in Progress (Non-Workday Projects)",null,"All"]
[null,null,null,null,null,null,"AC00647","[ENG] EXPERIENTIAL LEARNING CHE","AC00647-[ENG] EXPERIENTIAL LEARNING CHE","Activity","FD03","Active","2025-03-17T16:11:52.322069+00:00",null,null,null,null,null,null,null,null,"12343","R0502013","12343-R0502013",null,null,null,"AS074733418","Kevin Wilson (074733418) Alumni and External Relations","AS074733418-Kevin Wilson (074733418) Alumni and External Relations","Active",null,null,null,null,null,null,null,null,null,null,null,"SC6704","SC6704||1700","1700","Accumulated Depreciation",null,"JE_PPE|JE_Override"]
[null,null,null,null,null,null,"AC00648","[ENG] Mentoring Grant R Rowley","AC00648-[ENG] Mentoring Grant R Rowley","Activity","FD03","Active","2025-03-17T16:11:52.322069+00:00",null,null,null,null,null,null,null,null,"12344","COE","12344-COE",null,null,null,"AS074884027","Gil Fellingham (074884027) CMS - Statistics","AS074884027-Gil Fellingham (074884027) CMS - Statistics","Active",null,null,null,null,null,null,null,null,null,null,null,"SC6704","SC6704||6700","6700","Physical Facilities","Primary","All"]
[null,null,null,null,null,null,"AC00649","[ENG] Faculty Mentoring 1","AC00649-[ENG] Faculty Mentoring 1","Activity","FD03","Active","2025-03-17T16:11:52.322069+00:00",null,null,null,null,null,null,null,null,"12345","R0482002","12345-R0482002",null,null,null,"AS074918829","Brett McInelly (074918829) Humanities - English","AS074918829-Brett McInelly (074918829) Humanities - English","Active",null,null,null,null,null,null,null,null,null,null,null,"SC6704","SC6704||8000","8000","Depreciation",null,"JE_PPE|JE_Override"]
[null,null,null,null,null,null,"AC00650","[ENG] Faculty Mentoring 2","AC00650-[ENG] Faculty Mentoring 2","Activity","FD03","Active","2025-03-17T16:11:52.322069+00:00",null,null,null,null,null,null,null,null,"12346","R0482003","12346-R0482003",null,null,null,"AS075710348","Scott Bradford (075710348) FHSS - Economics","AS075710348-Scott Bradford (075710348) FHSS - Economics","Active",null,null,null,null,null,null,null,null,null,null,null,"SC6705","SC6705||1400","1400","Prepaid Expenses",null,"All"]
[null,null,null,null,null,null,"AC00651","[ENG] Faculty Mentoring 3","AC00651-[ENG] Faculty Mentoring 3","Activity","FD03","Active","2025-03-17T16:11:52.322069+00:00",null,null,null,null,null,null,null,null,"12347","R0482004","12347-R0482004",null,null,null,"AS075946174","Kyle Rollins (075946174) College of Engineering - Civil & Construction Engineering","AS075946174-Kyle Rollins (075946174) College of Engineering - Civil & Construction Engineering","Active",null,null,null,null,null,null,null,null,null,null,null,"SC6705","SC6705||1610","1610","Building Improvements",null,"JE_PPE|JE_Override"]
[null,null,null,null,null,null,"AC00652","[ENG] Faculty Mentoring 4","AC00652-[ENG] Faculty Mentoring 4","Activity","FD03","Active","2025-03-17T16:11:52.322069+00:00",null,null,null,null,null,null,null,null,"12348","R0482005","12348-R0482005",null,null,null,"AS076001278","Ryan Biddulph (076001278) Fine Arts & Communications - Dance","AS076001278-Ryan Biddulph (076001278) Fine Arts & Communications - Dance","Active",null,null,null,null,null,null,null,null,null,null,null,"SC6705","SC6705||1650","1650","Construction in Progress",null,"JE_PPE|JE_Override"]
[null,null,null,null,null,null,"AC00653","[ENG] Combustion Lab","AC00653-[ENG] Combustion Lab","Activity","FD01","Active","2025-03-17T16:11:52.322069+00:00",null,null,null,null,null,null,null,null,"12349","R0702004","12349-R0702004",null,null,null,"AS076203614","Clifton Fleming (076203614) AVP - Dean, Clark Law School","AS076203614-Clifton Fleming (076203614) AVP - Dean, Clark Law School","Active",null,null,null,null,null,null,null,null,null,null,null,"SC6705","SC6705||1651","1651","Construction in Progress (Non-Workday Projects)",null,"All"]
[null,null,null,null,null,null,"AC00654","[ENG] NSF Entertainment","AC00654-[ENG] NSF Entertainment","Activity","FD01","Active","2025-03-17T16:11:52.322069+00:00",null,null,null,null,null,null,null,null,"12350","R0702005","12350-R0702005",null,null,null,"AS076237443","Susan Facer (076237443) Registrar's Office","AS076237443-Susan Facer (076237443) Registrar's Office","Active",null,null,null,null,null,null,null,null,null,null,null,"SC6705","SC6705||1700","1700","Accumulated Depreciation",null,"JE_PPE|JE_Override"]
[null,null,null,null,null,null,"AC00655","[ENG] Combustion Computer","AC00655-[ENG] Combustion Computer","Activity","FD03","Active","2025-03-17T16:11:52.322069+00:00",null,null,null,null,null,null,null,null,"12351","R0702006","12351-R0702006",null,null,null,"AS076335336","Sydney Brustad (076335336) Enrollment Services Marketing and Communications","AS076335336-Sydney Brustad (076335336) Enrollment Services Marketing and Communications","Active",null,null,null,null,null,null,null,null,null,null,null,"SC6705","SC6705||6700","6700","Physical Facilities","Primary","All"]
[null,null,null,null,null,null,"AC00656","[ENG] ACERC Industrial Fnd","AC00656-[ENG] ACERC Industrial Fnd","Activity","FD03","Active","2025-03-17T16:11:52.322069+00:00",null,null,null,null,null,null,null,null,"12352","R0702007","12352-R0702007",null,null,null,"AS076425921","Shayla Bott (076425921) AVP - Dean, Fine Arts and Communications","AS076425921-Shayla Bott (076425921) AVP - Dean, Fine Arts and Communications","Active",null,null,null,null,null,null,null,null,null,null,null,"SC6705","SC6705||8000","8000","Depreciation",null,"JE_PPE|JE_Override"]
[null,null,null,null,null,null,"AC00657","[ENG] ACERC Id Cost Share","AC00657-[ENG] ACERC Id Cost Share","Activity","FD03","Active","2025-03-17T16:11:52.322069+00:00",null,null,null,null,null,null,null,null,"12353","R0482024","12353-R0482024",null,null,null,"AS076467577","Scott Lesser (076467577) Fine Arts & Communications - School of Music","AS076467577-Scott Lesser (076467577) Fine Arts & Communications - School of Music","Active",null,null,null,null,null,null,null,null,null,null,null,"SC6706","SC6706||1400","1400","Prepaid Expenses",null,"All"]
[null,null,null,null,null,null,"AC00658","[ENG] ACERC 4G Cost Share","AC00658-[ENG] ACERC 4G Cost Share","Activity","FD03","Active","2025-03-17T16:11:52.322069+00:00",null,null,null,null,null,null,null,null,"12354","R0482023","12354-R0482023",null,null,null,"AS076572580","Matt Greene (076572580) CE Classroom Programs","AS076572580-Matt Greene (076572580) CE Classroom Programs","Active",null,null,null,null,null,null,null,null,null,null,null,"SC6706","SC6706||1610","1610","Building Improvements",null,"JE_PPE|JE_Override"]
[null,null,null,null,null,null,"AC00659","[ENG] ACERC 6I Cost Share","AC00659-[ENG] ACERC 6I Cost Share","Activity","FD03","Active","2025-03-17T16:11:52.322069+00:00",null,null,null,null,null,null,null,null,"12355","R0482022","12355-R0482022",null,null,null,"AS076871747","Michael Barber (076871747) FHSS - Political Science","AS076871747-Michael Barber (076871747) FHSS - Political Science","Active",null,null,null,null,null,null,null,null,null,null,null,"SC6706","SC6706||1650","1650","Construction in Progress",null,"JE_PPE|JE_Override"]
[null,null,null,null,null,null,"AC00660","[ENG] ACERC 6C Cost Share","AC00660-[ENG] ACERC 6C Cost Share","Activity","FD03","Active","2025-03-17T16:11:52.322069+00:00",null,null,null,null,null,null,null,null,"12357","R0482025","12357-R0482025",null,null,null,"AS076949728","Miguel Pomar (076949728) Business Career Center","AS076949728-Miguel Pomar (076949728) Business Career Center","Active",null,null,null,null,null,null,null,null,null,null,null,"SC6706","SC6706||1651","1651","Construction in Progress (Non-Workday Projects)",null,"All"]
[null,null,null,null,null,null,"AC00661","[ENG] ACERC Operations","AC00661-[ENG] ACERC Operations","Activity","FD03","Active","2025-03-17T16:11:52.322069+00:00",null,null,null,null,null,null,null,null,"12399","RC Profit Offset","12399-RC Profit Offset",null,null,null,"AS077036480","Brian Capt (077036480) College of Engineering - Civil & Construction Engineering","AS077036480-Brian Capt (077036480) College of Engineering - Civil & Construction Engineering","Active",null,null,null,null,null,null,null,null,null,null,null,"SC6706","SC6706||1700","1700","Accumulated Depreciation",null,"JE_PPE|JE_Override"]
[null,null,null,null,null,null,"AC00662","[ENG] Simmons (SCCR) Fellowships","AC00662-[ENG] Simmons (SCCR) Fellowships","Activity","FD03","Active","2025-03-17T16:11:52.322069+00:00",null,null,null,null,null,null,null,null,"12499","Participant Support Cost (NSF)","12499-Participant Support Cost (NSF)",null,null,null,"AS077196723","Kathleen Reyes (077196723) Dean's Office FHSS","AS077196723-Kathleen Reyes (077196723) Dean's Office FHSS","Active",null,null,null,null,null,null,null,null,null,null,null,"SC6706","SC6706||6700","6700","Physical Facilities","Primary","All"]
[null,null,null,null,null,null,"AC00663","[ENG] ACERC Instrument","AC00663-[ENG] ACERC Instrument","Activity","FD03","Active","2025-03-17T16:11:52.322069+00:00",null,null,null,null,null,null,null,null,"12500","Minimum Pension Liability","12500-Minimum Pension Liability",null,null,null,"AS077213193","Jason Keeler (077213193) Center for Language Studies","AS077213193-Jason Keeler (077213193) Center for Language Studies","Active",null,null,null,null,null,null,null,null,null,null,null,"SC6706","SC6706||8000","8000","Depreciation",null,"JE_PPE|JE_Override"]
[null,null,null,null,null,null,"AC00664","[ENG] ACERC Equipment","AC00664-[ENG] ACERC Equipment","Activity","FD03","Active","2025-03-17T16:11:52.322069+00:00",null,null,null,null,null,null,null,null,"12600","FS Prof Development Council","12600-FS Prof Development Council",null,null,null,"AS077355719","Shiegrid Hernandez (077355719) Multicultural","AS077355719-Shiegrid Hernandez (077355719) Multicultural","Active",null,null,null,null,null,null,null,null,null,null,null,"SC6707","SC6707||1400","1400","Prepaid Expenses",null,"All"]
[null,null,null,null,null,null,"AC00665","[ENG] ACERC Software Supp","AC00665-[ENG] ACERC Software Supp","Activity","FD03","Active","2025-03-17T16:11:52.563115+00:00",null,null,null,null,null,null,null,null,"12601","FS Annual Activities Council","12601-FS Annual Activities Council",null,null,null,"AS077676615","Brian King (077676615) OIT Resource - Platform Engineering","AS077676615-Brian King (077676615) OIT Resource - Platform Engineering","Active",null,null,null,null,null,null,null,null,null,null,null,"SC6707","SC6707||1650","1650","Construction in Progress",null,"JE_PPE|JE_Override"]
[null,null,null,null,null,null,"AC00666","[ENG] Combustion Lab Publ","AC00666-[ENG] Combustion Lab Publ","Activity","FD03","Active","2025-03-17T16:11:52.563115+00:00",null,null,null,null,null,null,null,null,"12602","FS Employee Engagement Council","12602-FS Employee Engagement Council",null,null,null,"AS077761957","Brandon Bodily (077761957) Cannon Center","AS077761957-Brandon Bodily (077761957) Cannon Center","Active",null,null,null,null,null,null,null,null,null,null,null,"SC6707","SC6707||1651","1651","Construction in Progress (Non-Workday Projects)",null,"All"]
[null,null,null,null,null,null,"AC00667","[ENG] ACERC Indirect Cost Share","AC00667-[ENG] ACERC Indirect Cost Share","Activity","FD03","Active","2025-03-17T16:11:52.563115+00:00",null,null,null,null,null,null,null,null,"12603","FS Newsletter Council","12603-FS Newsletter Council",null,null,null,"AS078081441","Scott Beck (078081441) PF Central Heating Plant","AS078081441-Scott Beck (078081441) PF Central Heating Plant","Active",null,null,null,null,null,null,null,null,null,null,null,"SC6707","SC6707||4900","4900","Cost of Sales",null,"All"]
[null,null,null,null,null,null,"AC00668","[ENG] Multi Burner Optimiz","AC00668-[ENG] Multi Burner Optimiz","Activity","FD03","Active","2025-03-17T16:11:52.563115+00:00",null,null,null,null,null,null,null,null,"12604","FS Division Meeting Council","12604-FS Division Meeting Council",null,null,null,"AS078265269","Ben Abbott (078265269) Life Sciences - Plant & Wildlife Sciences","AS078265269-Ben Abbott (078265269) Life Sciences - Plant & Wildlife Sciences","Active",null,null,null,null,null,null,null,null,null,null,null,"SC6707","SC6707||6700","6700","Physical Facilities","Primary","All"]
[null,null,null,null,null,null,"AC00669","[ENG] Civil Engr Compt Lab","AC00669-[ENG] Civil Engr Compt Lab","Activity","FD01","Active","2025-03-17T16:11:52.563115+00:00",null,null,null,null,null,null,null,null,"12605","[FIN] Finance Business Partner Council Retreat","12605-[FIN] Finance Business Partner Council Retreat",null,null,null,"AS078265449","Bethany Kramer (078265449) Staff Compensation","AS078265449-Bethany Kramer (078265449) Staff Compensation","Active",null,null,null,null,null,null,null,null,null,null,null,"SC6708","SC6708||1400","1400","Prepaid Expenses",null,"All"]
[null,null,null,null,null,null,"AC00670","[ENG] Ecgl","AC00670-[ENG] Ecgl","Activity","FD01","Active","2025-03-17T16:11:52.563115+00:00",null,null,null,null,null,null,null,null,"12SLA","College of Nursing","12SLA-College of Nursing",null,null,null,"AS078429420","Byron Johnson (078429420) Chemical Engineering","AS078429420-Byron Johnson (078429420) Chemical Engineering","Active",null,null,null,null,null,null,null,null,null,null,null,"SC6708","SC6708||1610","1610","Building Improvements",null,"JE_PPE|JE_Override"]
[null,null,null,null,null,null,"AC00671","[ENG] Civil Engineering","AC00671-[ENG] Civil Engineering","Activity","FD01","Active","2025-03-17T16:11:52.563115+00:00",null,null,null,null,null,null,null,null,"13003","[LFSC] LSMM MMBIO 385 (Phage Genetics)","13003-[LFSC] LSMM MMBIO 385 (Phage Genetics)",null,null,null,"AS078487300","Brandan Beerli (078487300) MSE - Dean's Office, McKay School of Education","AS078487300-Brandan Beerli (078487300) MSE - Dean's Office, McKay School of Education","Active",null,null,null,null,null,null,null,null,null,null,null,"SC6708","SC6708||1650","1650","Construction in Progress",null,"JE_PPE|JE_Override"]
[null,null,null,null,null,null,"AC00672","[ENG] American Soc of Civil Engineer","AC00672-[ENG] American Soc of Civil Engineer","Activity","FD02","Active","2025-03-17T16:11:52.563115+00:00",null,null,null,null,null,null,null,null,"13065","LSDO Shipping","13065-LSDO Shipping",null,null,null,"AS078578788","Bekki Brau (078578788) MSB - Marketing & Global Supply Chain","AS078578788-Bekki Brau (078578788) MSB - Marketing & Global Supply Chain","Active",null,null,null,null,null,null,null,null,null,null,null,"SC6708","SC6708||1651","1651","Construction in Progress (Non-Workday Projects)",null,"All"]
[null,null,null,null,null,null,"AC00673","[ENG] The Earthquake Engrg Rsch Inst","AC00673-[ENG] The Earthquake Engrg Rsch Inst","Activity","FD02","Active","2025-03-17T16:11:52.563115+00:00",null,null,null,null,null,null,null,null,"13067","LSDO Posilac","13067-LSDO Posilac",null,null,null,"AS079167675","Lisa Walker (079167675) Digital Printing","AS079167675-Lisa Walker (079167675) Digital Printing","Active",null,null,null,null,null,null,null,null,null,null,null,"SC6708","SC6708||1700","1700","Accumulated Depreciation",null,"JE_PPE|JE_Override"]
[null,null,null,null,null,null,"AC00674","[ENG] BYU AISC Steel Bridge","AC00674-[ENG] BYU AISC Steel Bridge","Activity","FD02","Active","2025-03-17T16:11:52.563115+00:00",null,null,null,null,null,null,null,null,"13125","LSDO Event Coordinator","13125-LSDO Event Coordinator",null,null,null,"AS079242464","Devan Jensen (079242464) Religious Education - Ancient Scripture","AS079242464-Devan Jensen (079242464) Religious Education - Ancient Scripture","Active",null,null,null,null,null,null,null,null,null,null,null,"SC6708","SC6708||6700","6700","Physical Facilities","Primary","All"]
[null,null,null,null,null,null,"AC00675","[ENG] Women in Civil Engineering","AC00675-[ENG] Women in Civil Engineering","Activity","FD02","Active","2025-03-17T16:11:52.563115+00:00",null,null,null,null,null,null,null,null,"13126","LSDO Leadership Council (LSLC)","13126-LSDO Leadership Council (LSLC)",null,null,null,"AS079396687","Sarah Rollo (079396687) McKay School of Education Assistant Dean External Relations","AS079396687-Sarah Rollo (079396687) McKay School of Education Assistant Dean External Relations","Active",null,null,null,null,null,null,null,null,null,null,null,"SC6708","SC6708||8000","8000","Depreciation",null,"JE_PPE|JE_Override"]
[null,null,null,null,null,null,"AC00676","[ENG] Women in Construction","AC00676-[ENG] Women in Construction","Activity","FD02","Active","2025-03-17T16:11:52.563115+00:00",null,null,null,null,null,null,null,null,"13129","LSDO 1st Gen Insprg Learng-DSA","13129-LSDO 1st Gen Insprg Learng-DSA",null,null,null,"AS079530594","Ben Lambert (079530594) Rollins Center Entrep & Tech","AS079530594-Ben Lambert (079530594) Rollins Center Entrep & Tech","Active",null,null,null,null,null,null,null,null,null,null,null,"SC6709","SC6709||1400","1400","Prepaid Expenses",null,"All"]
[null,null,null,null,null,null,"AC00677","[ENG] BYU AREMA Student Chapter","AC00677-[ENG] BYU AREMA Student Chapter","Activity","FD02","Active","2025-03-17T16:11:52.563115+00:00",null,null,null,null,null,null,null,null,"13130","LSDO_COMMS-PLC Activities","13130-LSDO_COMMS-PLC Activities",null,null,null,"AS079533006","Kazuhiko Yamashita (079533006) Humanities - Asian & Near Eastern Languages","AS079533006-Kazuhiko Yamashita (079533006) Humanities - Asian & Near Eastern Languages","Active",null,null,null,null,null,null,null,null,null,null,null,"SC6709","SC6709||1610","1610","Building Improvements",null,"JE_PPE|JE_Override"]
[null,null,null,null,null,null,"AC00678","[ENG] Tau Beta Pi","AC00678-[ENG] Tau Beta Pi","Activity","FD02","Active","2025-03-17T16:11:52.563115+00:00",null,null,null,null,null,null,null,null,"13131","LSDO Interdisc Rsrch Awd (IDR)","13131-LSDO Interdisc Rsrch Awd (IDR)",null,null,null,"AS079587356","Lynnett Rands (079587356) AVP - Dean, Clark Law School","AS079587356-Lynnett Rands (079587356) AVP - Dean, Clark Law School","Active",null,null,null,null,null,null,null,null,null,null,null,"SC6709","SC6709||1650","1650","Construction in Progress",null,"JE_PPE|JE_Override"]
[null,null,null,null,null,null,"AC00679","[ENG] BYU Ite Student Chap","AC00679-[ENG] BYU Ite Student Chap","Activity","FD02","Active","2025-03-17T16:11:52.563115+00:00",null,null,null,null,null,null,null,null,"13150","LSDO Remodeling","13150-LSDO Remodeling",null,null,null,"AS079654515","Greg Sessions (079654515) PF Paint & Sign Shop","AS079654515-Greg Sessions (079654515) PF Paint & Sign Shop","Active",null,null,null,null,null,null,null,null,null,null,null,"SC6709","SC6709||1651","1651","Construction in Progress (Non-Workday Projects)",null,"All"]
[null,null,null,null,null,null,"AC00680","[ENG] Environmental Model Rsch Lab","AC00680-[ENG] Environmental Model Rsch Lab","Activity","FD03","Active","2025-03-17T16:11:52.563115+00:00",null,null,null,null,null,null,null,null,"13156","LSDO Facilities","13156-LSDO Facilities",null,null,null,"AS079740344","Nelia Justiniano (079740344) Center for Language Studies","AS079740344-Nelia Justiniano (079740344) Center for Language Studies","Active",null,null,null,null,null,null,null,null,null,null,null,"SC6709","SC6709||1700","1700","Accumulated Depreciation",null,"JE_PPE|JE_Override"]
[null,null,null,null,null,null,"AC00681","[ENG] CEEn Schlrshp Soc Symposium","AC00681-[ENG] CEEn Schlrshp Soc Symposium","Activity","FD03","Active","2025-03-17T16:11:52.563115+00:00",null,null,null,null,null,null,null,null,"13158","LSDO Furnishings","13158-LSDO Furnishings",null,null,null,"AS080052346","Craig Vandyke (080052346) CMS - Computer Science","AS080052346-Craig Vandyke (080052346) CMS - Computer Science","Active",null,null,null,null,null,null,null,null,null,null,null,"SC6709","SC6709||6700","6700","Physical Facilities","Primary","All"]
[null,null,null,null,null,null,"AC00682","[ENG] Vehicle Delay Estimation","AC00682-[ENG] Vehicle Delay Estimation","Activity","FD03","Active","2025-03-17T16:11:52.563115+00:00",null,null,null,null,null,null,null,null,"13160","LSDO Facilities Equipment","13160-LSDO Facilities Equipment",null,null,null,"AS080370425","Tod Myers (080370425) CE FSY","AS080370425-Tod Myers (080370425) CE FSY","Active",null,null,null,null,null,null,null,null,null,null,null,"SC6709","SC6709||8000","8000","Depreciation",null,"JE_PPE|JE_Override"]
[null,null,null,null,null,null,"AC00683","[ENG] Applied Optimization","AC00683-[ENG] Applied Optimization","Activity","FD03","Active","2025-03-17T16:11:52.563115+00:00",null,null,null,null,null,null,null,null,"13200","LSDO Unallocated Expense","13200-LSDO Unallocated Expense",null,null,null,"AS080550255","Paul Reynolds (080550255) Life Sciences - Cell Biology & Physiology","AS080550255-Paul Reynolds (080550255) Life Sciences - Cell Biology & Physiology","Active",null,null,null,null,null,null,null,null,null,null,null,"SC6710","SC6710||1400","1400","Prepaid Expenses",null,"All"]
[null,null,null,null,null,null,"AC00684","[ENG] UDOT Residual","AC00684-[ENG] UDOT Residual","Activity","FD03","Active","2025-03-17T16:11:52.563115+00:00",null,null,null,null,null,null,null,null,"13201","LSDO Facility/Land Improvement","13201-LSDO Facility/Land Improvement",null,null,null,"AS080612947","Gerrit van Dyk (080612947) Research & Learning - Social Sciences","AS080612947-Gerrit van Dyk (080612947) Research & Learning - Social Sciences","Active",null,null,null,null,null,null,null,null,null,null,null,"SC6710","SC6710||1620","1620","Furnishings and Fixtures",null,"JE_PPE|JE_Override"]
[null,null,null,null,null,null,"AC00685","[ENG] J Nelson Grad Mentoring Grant","AC00685-[ENG] J Nelson Grad Mentoring Grant","Activity","FD03","Active","2025-03-17T16:11:52.563115+00:00",null,null,null,null,null,null,null,null,"13202","LSDO Central UT Science Fair","13202-LSDO Central UT Science Fair",null,null,null,"AS080945711","Kylee Sullivan (080945711) Heritage Halls","AS080945711-Kylee Sullivan (080945711) Heritage Halls","Active",null,null,null,null,null,null,null,null,null,null,null,"SC6710","SC6710||1650","1650","Construction in Progress",null,"JE_PPE|JE_Override"]
[null,null,null,null,null,null,"AC00686","[ENG] Civil Engr Royalties","AC00686-[ENG] Civil Engr Royalties","Activity","FD03","Active","2025-03-17T16:11:52.563115+00:00",null,null,null,null,null,null,null,null,"13204","LSDO 3-Minute Thesis Competiti","13204-LSDO 3-Minute Thesis Competiti",null,null,null,"AS081084485","Jessica Zurcher (081084485) Fine Arts & Communications - School of Communications","AS081084485-Jessica Zurcher (081084485) Fine Arts & Communications - School of Communications","Active",null,null,null,null,null,null,null,null,null,null,null,"SC6710","SC6710||1651","1651","Construction in Progress (Non-Workday Projects)",null,"All"]
[null,null,null,null,null,null,"AC00687","[ENG] Civil Eng Equip Repl","AC00687-[ENG] Civil Eng Equip Repl","Activity","FD03","Active","2025-03-17T16:11:52.563115+00:00",null,null,null,null,null,null,null,null,"13205","LSDO LFSC IT Advisory Committe","13205-LSDO LFSC IT Advisory Committe",null,null,null,"AS081166921","Brandon Dailey (081166921) Student Financial Services","AS081166921-Brandon Dailey (081166921) Student Financial Services","Active",null,null,null,null,null,null,null,null,null,null,null,"SC6710","SC6710||1700","1700","Accumulated Depreciation",null,"JE_PPE|JE_Override"]
[null,null,null,null,null,null,"AC00689","[ENG] EXPERIENTIAL LEARNING CEE","AC00689-[ENG] EXPERIENTIAL LEARNING CEE","Activity","FD03","Active","2025-03-17T16:11:52.563115+00:00",null,null,null,null,null,null,null,null,"13206","[LFSC] Careers and Grad School Prep","13206-[LFSC] Careers and Grad School Prep",null,null,null,"AS081226254","Casey Deccio (081226254) CMS - Computer Science","AS081226254-Casey Deccio (081226254) CMS - Computer Science","Active",null,null,null,null,null,null,null,null,null,null,null,"SC6710","SC6710||6700","6700","Physical Facilities","Primary","All"]
[null,null,null,null,null,null,"AC00690","[ENG] Mentoring Grant - S Guthrie","AC00690-[ENG] Mentoring Grant - S Guthrie","Activity","FD03","Active","2025-03-17T16:11:52.563115+00:00",null,null,null,null,null,null,null,null,"13214","LSDO Equity-Ut Coop Assoc","13214-LSDO Equity-Ut Coop Assoc",null,null,null,"AS081278056","Danny Allen (081278056) BYU Police Operations - Patrol","AS081278056-Danny Allen (081278056) BYU Police Operations - Patrol","Active",null,null,null,null,null,null,null,null,null,null,null,"SC6710","SC6710||8000","8000","Depreciation",null,"JE_PPE|JE_Override"]
[null,null,null,null,null,null,"AC00691","[ENG] Mentoring Grant J. Nelson","AC00691-[ENG] Mentoring Grant J. Nelson","Activity","FD03","Active","2025-03-17T16:11:52.563115+00:00",null,null,null,null,null,null,null,null,"13215","LSDO Equity-Valley Wide Cooper","13215-LSDO Equity-Valley Wide Cooper",null,null,null,"AS081556291","Jordan Johnson (081556291)","AS081556291-Jordan Johnson (081556291)","Active",null,null,null,null,null,null,null,null,null,null,null,"SC6711","SC6711||1400","1400","Prepaid Expenses",null,"All"]
[null,null,null,null,null,null,"AC00692","[ENG] Mentoring Grant - Kyle Rollins","AC00692-[ENG] Mentoring Grant - Kyle Rollins","Activity","FD03","Active","2025-03-17T16:11:52.563115+00:00",null,null,null,null,null,null,null,null,"13216","LSDO Equity-Mountainland Apple","13216-LSDO Equity-Mountainland Apple",null,null,null,"AS081618275","Autumn Mosis (081618275) Heritage Halls","AS081618275-Autumn Mosis (081618275) Heritage Halls","Active",null,null,null,null,null,null,null,null,null,null,null,"SC6711","SC6711||1615","1615","Other Improvements",null,"JE_PPE|JE_Override"]
[null,null,null,null,null,null,"AC00693","[ENG] Faculty Mentoring 2","AC00693-[ENG] Faculty Mentoring 2","Activity","FD03","Active","2025-03-17T16:11:52.563115+00:00",null,null,null,null,null,null,null,null,"13217","LSDO Equity-Raft River Electri","13217-LSDO Equity-Raft River Electri",null,null,null,"AS081653032","Enoch Boekweg (081653032) Electrical and Computer Eng","AS081653032-Enoch Boekweg (081653032) Electrical and Computer Eng","Active",null,null,null,null,null,null,null,null,null,null,null,"SC6711","SC6711||1650","1650","Construction in Progress",null,"JE_PPE|JE_Override"]
[null,null,null,null,null,null,"AC00694","[ENG] Faculty Mentoring 3","AC00694-[ENG] Faculty Mentoring 3","Activity","FD03","Active","2025-03-17T16:11:52.563115+00:00",null,null,null,null,null,null,null,null,"13218","LSDO Equity-Western Dairy","13218-LSDO Equity-Western Dairy",null,null,null,"AS081765401","Chris Huff (081765401) PF Building Operations","AS081765401-Chris Huff (081765401) PF Building Operations","Active",null,null,null,null,null,null,null,null,null,null,null,"SC6711","SC6711||1651","1651","Construction in Progress (Non-Workday Projects)",null,"All"]
[null,null,null,null,null,null,"AC00695","[ENG] Faculty Mentoring 4","AC00695-[ENG] Faculty Mentoring 4","Activity","FD03","Active","2025-03-17T16:11:52.563115+00:00",null,null,null,null,null,null,null,null,"13220","LSDO Bench to Bedside Event","13220-LSDO Bench to Bedside Event",null,null,null,"AS081822585","Elizabeth Merrill (081822585) CE BYU Online High School","AS081822585-Elizabeth Merrill (081822585) CE BYU Online High School","Active",null,null,null,null,null,null,null,null,null,null,null,"SC6711","SC6711||1700","1700","Accumulated Depreciation",null,"JE_PPE|JE_Override"]
[null,null,null,null,null,null,"AC00696","[ENG] Construction Management","AC00696-[ENG] Construction Management","Activity","FD01","Active","2025-03-17T16:11:52.563115+00:00",null,null,null,null,null,null,null,null,"13221","LSDO \"Super\" Internship-Fellow","13221-LSDO \"Super\" Internship-Fellow",null,null,null,"AS081827389","Dave Laws (081827389) College of Engineering - Mechanical Engineering","AS081827389-Dave Laws (081827389) College of Engineering - Mechanical Engineering","Active",null,null,null,null,null,null,null,null,null,null,null,"SC6711","SC6711||6700","6700","Physical Facilities","Primary","All"]
[null,null,null,null,null,null,"AC00697","[ENG] Const. Managemnt Club","AC00697-[ENG] Const. Managemnt Club","Activity","FD02","Active","2025-03-17T16:11:52.563115+00:00",null,null,null,null,null,null,null,null,"13222","LSDO Horse Barn (LSRL)","13222-LSDO Horse Barn (LSRL)",null,null,null,"AS081990395","Stash Dabrowski (081990395) Athletics - Olympic Sport Medicine","AS081990395-Stash Dabrowski (081990395) Athletics - Olympic Sport Medicine","Active",null,null,null,null,null,null,null,null,null,null,null,"SC6711","SC6711||8000","8000","Depreciation",null,"JE_PPE|JE_Override"]
[null,null,null,null,null,null,"AC00698","[ENG] Construction Stores","AC00698-[ENG] Construction Stores","Activity","FD02","Active","2025-03-17T16:11:52.563115+00:00",null,null,null,null,null,null,null,null,"13223","LSDO Sponsored Research Recogn","13223-LSDO Sponsored Research Recogn",null,null,null,"AS082159155","Tommy Cox (082159155) Dean's Office - College of Engineering","AS082159155-Tommy Cox (082159155) Dean's Office - College of Engineering","Active",null,null,null,null,null,null,null,null,null,null,null,"SC6712","SC6712||1400","1400","Prepaid Expenses",null,"All"]
[null,null,null,null,null,null,"AC00699","[ENG] Power/Energy","AC00699-[ENG] Power/Energy","Activity","FD02","Active","2025-03-17T16:11:52.563115+00:00",null,null,null,null,null,null,null,null,"13224","LSDO BioUtah/BioHive","13224-LSDO BioUtah/BioHive",null,null,null,"AS082281630","Kevin Douglas Whitehead (082281630) AVP - Dean, Religious Education","AS082281630-Kevin Douglas Whitehead (082281630) AVP - Dean, Religious Education","Active",null,null,null,null,null,null,null,null,null,null,null,"SC6712","SC6712||6700","6700","Physical Facilities","Primary","All"]
[null,null,null,null,null,null,"AC00700","[ENG] Plastics/Upholstery Stores","AC00700-[ENG] Plastics/Upholstery Stores","Activity","FD02","Active","2025-03-17T16:11:52.563115+00:00",null,null,null,null,null,null,null,null,"13225","LSDO IGEM","13225-LSDO IGEM",null,null,null,"AS082326281","Cramer England (082326281) BYU Broadcasting - Post Production","AS082326281-Cramer England (082326281) BYU Broadcasting - Post Production","Active",null,null,null,null,null,null,null,null,null,null,null,"SC6713","SC6713||1400","1400","Prepaid Expenses",null,"All"]
[null,null,null,null,null,null,"AC00701","[ENG] Architecture Club","AC00701-[ENG] Architecture Club","Activity","FD02","Active","2025-03-17T16:11:52.563115+00:00",null,null,null,null,null,null,null,null,"13226","LSDO Dean/Assoc. Dean Fac. Out","13226-LSDO Dean/Assoc. Dean Fac. Out",null,null,null,"AS082372531","Oliver Johnson (082372531) College of Engineering - Mechanical Engineering","AS082372531-Oliver Johnson (082372531) College of Engineering - Mechanical Engineering","Active",null,null,null,null,null,null,null,null,null,null,null,"SC6713","SC6713||1610","1610","Building Improvements",null,"JE_PPE|JE_Override"]
[null,null,null,null,null,null,"AC00702","[ENG] EXPERIENTIAL LEARNING CFM","AC00702-[ENG] EXPERIENTIAL LEARNING CFM","Activity","FD03","Active","2025-03-17T16:11:52.563115+00:00",null,null,null,null,null,null,null,null,"13227","LSDO Faculty & Staff Developme","13227-LSDO Faculty & Staff Developme",null,null,null,"AS082401814","Kurt Jensen (082401814) PF Dining and MTC Maintenance","AS082401814-Kurt Jensen (082401814) PF Dining and MTC Maintenance","Active",null,null,null,null,null,null,null,null,null,null,null,"SC6713","SC6713||1650","1650","Construction in Progress",null,"JE_PPE|JE_Override"]
[null,null,null,null,null,null,"AC00703","[ENG] Facilities and Property Mgmt","AC00703-[ENG] Facilities and Property Mgmt","Activity","FD01","Active","2025-03-17T16:11:52.563115+00:00",null,null,null,null,null,null,null,null,"13228","LSDO STEM-Y-Faculty Institute","13228-LSDO STEM-Y-Faculty Institute",null,null,null,"AS082405720","Jeffery Barrow (082405720) Life Sciences - Cell Biology & Physiology","AS082405720-Jeffery Barrow (082405720) Life Sciences - Cell Biology & Physiology","Active",null,null,null,null,null,null,null,null,null,null,null,"SC6713","SC6713||1651","1651","Construction in Progress (Non-Workday Projects)",null,"All"]
[null,null,null,null,null,null,"AC00704","[ENG] Campbell, Jeffery Research","AC00704-[ENG] Campbell, Jeffery Research","Activity","FD01","Active","2025-03-17T16:11:52.563115+00:00",null,null,null,null,null,null,null,null,"13229","LSDO Faculty Buyback Support","13229-LSDO Faculty Buyback Support",null,null,null,"AS082411637","Derek Gurr (082411637) BYU Studies","AS082411637-Derek Gurr (082411637) BYU Studies","Active",null,null,null,null,null,null,null,null,null,null,null,"SC6713","SC6713||1700","1700","Accumulated Depreciation",null,"JE_PPE|JE_Override"]
[null,null,null,null,null,null,"AC00705","[ENG] BYU IFMA","AC00705-[ENG] BYU IFMA","Activity","FD02","Active","2025-03-17T16:11:52.563115+00:00",null,null,null,null,null,null,null,null,"13230","LSDO BELONGING-First Generatio","13230-LSDO BELONGING-First Generatio",null,null,null,"AS082436747","Tara Haubner (082436747) CE FSY Travel","AS082436747-Tara Haubner (082436747) CE FSY Travel","Active",null,null,null,null,null,null,null,null,null,null,null,"SC6713","SC6713||6700","6700","Physical Facilities","Primary","All"]
[null,null,null,null,null,null,"AC00706","[ENG] Center for Remote Sensing","AC00706-[ENG] Center for Remote Sensing","Activity","FD01","Active","2025-03-17T16:11:52.563115+00:00",null,null,null,null,null,null,null,null,"13231","LSDO Interdisciplinary Resrch","13231-LSDO Interdisciplinary Resrch",null,null,null,"AS082439498","Jason Walker (082439498) MSB - Public Service & Ethics","AS082439498-Jason Walker (082439498) MSB - Public Service & Ethics","Active",null,null,null,null,null,null,null,null,null,null,null,"SC6713","SC6713||8000","8000","Depreciation",null,"JE_PPE|JE_Override"]
[null,null,null,null,null,null,"AC00707","[ENG] Elec Engr Compt Lab","AC00707-[ENG] Elec Engr Compt Lab","Activity","FD01","Active","2025-03-17T16:11:52.563115+00:00",null,null,null,null,null,null,null,null,"13232","LSDO Dept Chair Leadership Dev","13232-LSDO Dept Chair Leadership Dev",null,null,null,"AS082698950","Jennifer Wimmer (082698950) MSE  - Teacher Education","AS082698950-Jennifer Wimmer (082698950) MSE  - Teacher Education","Active",null,null,null,null,null,null,null,null,null,null,null,"SC6714","SC6714||1400","1400","Prepaid Expenses",null,"All"]
[null,null,null,null,null,null,"AC00708","[ENG] College - UAV","AC00708-[ENG] College - UAV","Activity","FD01","Active","2025-03-17T16:11:52.563115+00:00",null,null,null,null,null,null,null,null,"13233","LSDO COMMS-Sesquicentennial","13233-LSDO COMMS-Sesquicentennial",null,null,null,"AS082878943","Don Fairchild (082878943) OIT Resource - Enterprise Data Management and BI Engineering","AS082878943-Don Fairchild (082878943) OIT Resource - Enterprise Data Management and BI Engineering","Active",null,null,null,null,null,null,null,null,null,null,null,"SC6714","SC6714||1620","1620","Furnishings and Fixtures",null,"JE_PPE|JE_Override"]
[null,null,null,null,null,null,"AC00709","[ENG] Electrical Engineering","AC00709-[ENG] Electrical Engineering","Activity","FD01","Active","2025-03-17T16:11:52.563115+00:00",null,null,null,null,null,null,null,null,"13234","LSDO Equity-Intermountain Farm","13234-LSDO Equity-Intermountain Farm",null,null,null,"AS083023921","Drew Johnson (083023921) PMPC Administration","AS083023921-Drew Johnson (083023921) PMPC Administration","Active",null,null,null,null,null,null,null,null,null,null,null,"SC6714","SC6714||1650","1650","Construction in Progress",null,"JE_PPE|JE_Override"]
[null,null,null,null,null,null,"AC00710","[ENG] MERS Laboratory","AC00710-[ENG] MERS Laboratory","Activity","FD01","Active","2025-03-17T16:11:52.563115+00:00",null,null,null,null,null,null,null,null,"13235","LSDO Stockroom-Inventory to be","13235-LSDO Stockroom-Inventory to be",null,null,null,"AS083061589","Conner Deichman (083061589)","AS083061589-Conner Deichman (083061589)","Active",null,null,null,null,null,null,null,null,null,null,null,"SC6714","SC6714||1651","1651","Construction in Progress (Non-Workday Projects)",null,"All"]
[null,null,null,null,null,null,"AC00711","[ENG] EUCLID","AC00711-[ENG] EUCLID","Activity","FD01","Active","2025-03-17T16:11:52.563115+00:00",null,null,null,null,null,null,null,null,"13236","LSDO Sci Spt Shop-Shop Tools","13236-LSDO Sci Spt Shop-Shop Tools",null,null,null,"AS083269696","Jordan Jones (083269696) Humanities - Spanish & Portuguese","AS083269696-Jordan Jones (083269696) Humanities - Spanish & Portuguese","Active",null,null,null,null,null,null,null,null,null,null,null,"SC6714","SC6714||1700","1700","Accumulated Depreciation",null,"JE_PPE|JE_Override"]
[null,null,null,null,null,null,"AC00712","[ENG] MAGICC Laboratory","AC00712-[ENG] MAGICC Laboratory","Activity","FD01","Active","2025-03-17T16:11:52.563115+00:00",null,null,null,null,null,null,null,null,"13237","LSDO Sci Spt Shop-Shop Repairs","13237-LSDO Sci Spt Shop-Shop Repairs",null,null,null,"AS083311104","Brandon Dunson (083311104) Athletics - Men's Basketball","AS083311104-Brandon Dunson (083311104) Athletics - Men's Basketball","Active",null,null,null,null,null,null,null,null,null,null,null,"SC6714","SC6714||6700","6700","Physical Facilities","Primary","All"]
[null,null,null,null,null,null,"AC00713","[ENG] Auto Pilot Tech Transfer","AC00713-[ENG] Auto Pilot Tech Transfer","Activity","FD01","Active","2025-03-17T16:11:52.563115+00:00",null,null,null,null,null,null,null,null,"13238","LSDO Stockroom-Loan Items","13238-LSDO Stockroom-Loan Items",null,null,null,"AS083756334","Brye Williamson (083756334) PF Building Operations","AS083756334-Brye Williamson (083756334) PF Building Operations","Active",null,null,null,null,null,null,null,null,null,null,null,"SC6714","SC6714||8000","8000","Depreciation",null,"JE_PPE|JE_Override"]
[null,null,null,null,null,null,"AC00714","[ENG] Cleanroom Consumables","AC00714-[ENG] Cleanroom Consumables","Activity","FD01","Active","2025-03-17T16:11:52.563115+00:00",null,null,null,null,null,null,null,null,"13239","LSDO Stockroom-Sell Items","13239-LSDO Stockroom-Sell Items",null,null,null,"AS083786435","Roberta Larsen (083786435) Life Sciences - Biology","AS083786435-Roberta Larsen (083786435) Life Sciences - Biology","Active",null,null,null,null,null,null,null,null,null,null,null,"SC6715","SC6715||1400","1400","Prepaid Expenses",null,"All"]
[null,null,null,null,null,null,"AC00715","[ENG] Soc of Hispanic Prof Eng","AC00715-[ENG] Soc of Hispanic Prof Eng","Activity","FD02","Active","2025-03-17T16:11:52.563115+00:00",null,null,null,null,null,null,null,null,"13240","LSDO Stockroom-Sell Items-\"R\"","13240-LSDO Stockroom-Sell Items-\"R\"",null,null,null,"AS083874358","Sheli Sillito Walker (083874358) MSB - Management","AS083874358-Sheli Sillito Walker (083874358) MSB - Management","Active",null,null,null,null,null,null,null,null,null,null,null,"SC6715","SC6715||1620","1620","Furnishings and Fixtures",null,"JE_PPE|JE_Override"]
[null,null,null,null,null,null,"AC00716","[ENG] Eta Kappa Nu","AC00716-[ENG] Eta Kappa Nu","Activity","FD02","Active","2025-03-17T16:11:52.563115+00:00",null,null,null,null,null,null,null,null,"13250","LSDO ADVISE-Career Research","13250-LSDO ADVISE-Career Research",null,null,null,"AS083875837","Jeff Wilks (083875837) AVP - Dean, Marriott School of Business (MSB)","AS083875837-Jeff Wilks (083875837) AVP - Dean, Marriott School of Business (MSB)","Active",null,null,null,null,null,null,null,null,null,null,null,"SC6715","SC6715||1650","1650","Construction in Progress",null,"JE_PPE|JE_Override"]
[null,null,null,null,null,null,"AC00717","[ENG] IEEE Club","AC00717-[ENG] IEEE Club","Activity","FD02","Active","2025-03-17T16:11:52.563115+00:00",null,null,null,null,null,null,null,null,"13251","LSDO ADVISE-ETS Biology Exams","13251-LSDO ADVISE-ETS Biology Exams",null,null,null,"AS083905404","Isaac King (083905404) Museum of Art","AS083905404-Isaac King (083905404) Museum of Art","Active",null,null,null,null,null,null,null,null,null,null,null,"SC6715","SC6715||1651","1651","Construction in Progress (Non-Workday Projects)",null,"All"]
[null,null,null,null,null,null,"AC00718","[ENG] Elect Engr Stores","AC00718-[ENG] Elect Engr Stores","Activity","FD02","Active","2025-03-17T16:11:52.563115+00:00",null,null,null,null,null,null,null,null,"13252","LSDO ADVISE-Career Services","13252-LSDO ADVISE-Career Services",null,null,null,"AS084014736","Siri Schneck (084014736) HS General Medicine - Nursing","AS084014736-Siri Schneck (084014736) HS General Medicine - Nursing","Active",null,null,null,null,null,null,null,null,null,null,null,"SC6715","SC6715||1700","1700","Accumulated Depreciation",null,"JE_PPE|JE_Override"]
[null,null,null,null,null,null,"AC00719","[ENG] Cleanroom","AC00719-[ENG] Cleanroom","Activity","FD02","Active","2025-03-17T16:11:52.563115+00:00",null,null,null,null,null,null,null,null,"13253","LSDO ADVISE-Communication","13253-LSDO ADVISE-Communication",null,null,null,"AS084026095","Robert Walz (084026095) Fine Arts & Communications - School of Communications","AS084026095-Robert Walz (084026095) Fine Arts & Communications - School of Communications","Active",null,null,null,null,null,null,null,null,null,null,null,"SC6715","SC6715||6700","6700","Physical Facilities","Primary","All"]
[null,null,null,null,null,null,"AC00720","[ENG] BYU Spacecraft Club","AC00720-[ENG] BYU Spacecraft Club","Activity","FD02","Active","2025-03-17T16:11:52.563115+00:00",null,null,null,null,null,null,null,null,"13254","LSDO ADVISE-Development","13254-LSDO ADVISE-Development",null,null,null,"AS084189517","Gustavious Williams (084189517) College of Engineering - Civil & Construction Engineering","AS084189517-Gustavious Williams (084189517) College of Engineering - Civil & Construction Engineering","Active",null,null,null,null,null,null,null,null,null,null,null,"SC6715","SC6715||8000","8000","Depreciation",null,"JE_PPE|JE_Override"]
[null,null,null,null,null,null,"AC00721","[ENG] Local Inspir for Future Engin","AC00721-[ENG] Local Inspir for Future Engin","Activity","FD02","Active","2025-07-09T15:05:28.551075+00:00",null,null,null,null,null,null,null,null,"13255","LSDO ADVISE-Graduation","13255-LSDO ADVISE-Graduation",null,null,null,"AS084222944","Steve Perry (084222944) BYU Broadcasting - BYU Radio","AS084222944-Steve Perry (084222944) BYU Broadcasting - BYU Radio","Active",null,null,null,null,null,null,null,null,null,null,null,"SC6716","SC6716||1650","1650","Construction in Progress",null,"JE_PPE|JE_Override"]
[null,null,null,null,null,null,"AC00722","[ENG] Briarwood Web Develpoment","AC00722-[ENG] Briarwood Web Develpoment","Activity","FD02","Active","2025-03-17T16:11:52.563115+00:00",null,null,null,null,null,null,null,null,"13256","LSDO ADVISE-Internship/Ment","13256-LSDO ADVISE-Internship/Ment",null,null,null,"AS084567411","Joseph Staker (084567411) PF Central Heating Plant","AS084567411-Joseph Staker (084567411) PF Central Heating Plant","Active",null,null,null,null,null,null,null,null,null,null,null,"SC6716","SC6716||1651","1651","Construction in Progress (Non-Workday Projects)",null,"All"]
[null,null,null,null,null,null,"AC00723","[ENG] CERS Operations","AC00723-[ENG] CERS Operations","Activity","FD03","Active","2025-03-17T16:11:52.563115+00:00",null,null,null,null,null,null,null,null,"13257","LSDO ADVISE-New Student Orien","13257-LSDO ADVISE-New Student Orien",null,null,null,"AS084662261","Brian Christensen (084662261) Fine Arts & Communications - Art","AS084662261-Brian Christensen (084662261) Fine Arts & Communications - Art","Active",null,null,null,null,null,null,null,null,null,null,null,"SC6716","SC6716||6700","6700","Physical Facilities","Primary","All"]
[null,null,null,null,null,null,"AC00724","[ENG] Coray Professorship DG Long","AC00724-[ENG] Coray Professorship DG Long","Activity","FD03","Active","2025-03-17T16:11:52.563115+00:00",null,null,null,null,null,null,null,null,"13258","LSDO ADVISE-Office Operations","13258-LSDO ADVISE-Office Operations",null,null,null,"AS084663531","Scott Walters (084663531) PF Building Operations","AS084663531-Scott Walters (084663531) PF Building Operations","Active",null,null,null,null,null,null,null,null,null,null,null,"SC6717","SC6717||1650","1650","Construction in Progress",null,"JE_PPE|JE_Override"]
[null,null,null,null,null,null,"AC00725","[ENG] Elec Eng Equip Repl","AC00725-[ENG] Elec Eng Equip Repl","Activity","FD03","Active","2025-03-17T16:11:52.563115+00:00",null,null,null,null,null,null,null,null,"13259","LSDO ADVISE-Promotional Mate","13259-LSDO ADVISE-Promotional Mate",null,null,null,"AS084953801","Anthony Perez (084953801) Brand & Creative","AS084953801-Anthony Perez (084953801) Brand & Creative","Active",null,null,null,null,null,null,null,null,null,null,null,"SC6717","SC6717||1651","1651","Construction in Progress (Non-Workday Projects)",null,"All"]
[null,null,null,null,null,null,"AC00726","[ENG] Sigproc Royalty","AC00726-[ENG] Sigproc Royalty","Activity","FD03","Active","2025-03-17T16:11:52.563115+00:00",null,null,null,null,null,null,null,null,"13260","LSDO ADVISE-Scholarships","13260-LSDO ADVISE-Scholarships",null,null,null,"AS085060780","Brad Hewitt (085060780) OIT Resource - CES Network Center (CNC) - Installation","AS085060780-Brad Hewitt (085060780) OIT Resource - CES Network Center (CNC) - Installation","Active",null,null,null,null,null,null,null,null,null,null,null,"SC6717","SC6717||6700","6700","Physical Facilities","Primary","All"]
[null,null,null,null,null,null,"AC00727","[ENG] Sig Process Research","AC00727-[ENG] Sig Process Research","Activity","FD03","Active","2025-03-17T16:11:52.563115+00:00",null,null,null,null,null,null,null,null,"13261","LSDO ADVISE-Und Student Counc","13261-LSDO ADVISE-Und Student Counc",null,null,null,"AS085239152","Steven Luke (085239152) FHSS - Psychology","AS085239152-Steven Luke (085239152) FHSS - Psychology","Active",null,null,null,null,null,null,null,null,null,null,null,"SC6718","SC6718||1400","1400","Prepaid Expenses",null,"All"]
[null,null,null,null,null,null,"AC00728","[ENG] KF Warnick-Young Scholar","AC00728-[ENG] KF Warnick-Young Scholar","Activity","FD03","Active","2025-03-17T16:11:52.563115+00:00",null,null,null,null,null,null,null,null,"13262","LSDO ADVISE-LFSC Consultant","13262-LSDO ADVISE-LFSC Consultant",null,null,null,"AS085269220","Travis Coyne (085269220) Fine Arts & Communications - Theatre & Media Arts","AS085269220-Travis Coyne (085269220) Fine Arts & Communications - Theatre & Media Arts","Active",null,null,null,null,null,null,null,null,null,null,null,"SC6718","SC6718||1620","1620","Furnishings and Fixtures",null,"JE_PPE|JE_Override"]
[null,null,null,null,null,null,"AC00729","[ENG] Dept Secretarial Support","AC00729-[ENG] Dept Secretarial Support","Activity","FD03","Active","2025-03-17T16:11:52.563115+00:00",null,null,null,null,null,null,null,null,"13263","LSDO ADVISE-LFSCI 101","13263-LSDO ADVISE-LFSCI 101",null,null,null,"AS085379998","Paul Richards (085379998) College of Engineering - Civil & Construction Engineering","AS085379998-Paul Richards (085379998) College of Engineering - Civil & Construction Engineering","Active",null,null,null,null,null,null,null,null,null,null,null,"SC6718","SC6718||1650","1650","Construction in Progress",null,"JE_PPE|JE_Override"]
[null,null,null,null,null,null,"AC00730","[ENG] Young Scholar - Brad Hutchings","AC00730-[ENG] Young Scholar - Brad Hutchings","Activity","FD03","Active","2025-03-17T16:11:52.563115+00:00",null,null,null,null,null,null,null,null,"13264","LSDO ADVISE-Learning Center","13264-LSDO ADVISE-Learning Center",null,null,null,"AS085544891","Matt Butler (085544891) FHSS - Economics","AS085544891-Matt Butler (085544891) FHSS - Economics","Active",null,null,null,null,null,null,null,null,null,null,null,"SC6718","SC6718||1651","1651","Construction in Progress (Non-Workday Projects)",null,"All"]
[null,null,null,null,null,null,"AC00731","[ENG] Automated Accom","AC00731-[ENG] Automated Accom","Activity","FD03","Active","2025-03-17T16:11:52.563115+00:00",null,null,null,null,null,null,null,null,"13265","LSDO Choose to Give","13265-LSDO Choose to Give",null,null,null,"AS085618274","John Chaston (085618274) Life Sciences - Plant & Wildlife Sciences","AS085618274-John Chaston (085618274) Life Sciences - Plant & Wildlife Sciences","Active",null,null,null,null,null,null,null,null,null,null,null,"SC6718","SC6718||1700","1700","Accumulated Depreciation",null,"JE_PPE|JE_Override"]
[null,null,null,null,null,null,"AC00732","[ENG] Microsphere Resonant","AC00732-[ENG] Microsphere Resonant","Activity","FD03","Active","2025-03-17T16:11:52.563115+00:00",null,null,null,null,null,null,null,null,"13270","LSDO LSIT-Service Desk","13270-LSDO LSIT-Service Desk",null,null,null,"AS085963895","Joshua Price (085963895) FHSS - Economics","AS085963895-Joshua Price (085963895) FHSS - Economics","Active",null,null,null,null,null,null,null,null,null,null,null,"SC6718","SC6718||6700","6700","Physical Facilities","Primary","All"]
[null,null,null,null,null,null,"AC00733","[ENG] Auto Pilot Tech Transfer","AC00733-[ENG] Auto Pilot Tech Transfer","Activity","FD03","Active","2025-03-17T16:11:52.563115+00:00",null,null,null,null,null,null,null,null,"13271","LSDO LSIT-Engineering","13271-LSDO LSIT-Engineering",null,null,null,"AS086020728","Jyothish Joy (086020728) CMS - Chemistry and Biochemistry","AS086020728-Jyothish Joy (086020728) CMS - Chemistry and Biochemistry","Active",null,null,null,null,null,null,null,null,null,null,null,"SC6718","SC6718||8000","8000","Depreciation",null,"JE_PPE|JE_Override"]
[null,null,null,null,null,null,"AC00734","[ENG] IML Equipment Replacement","AC00734-[ENG] IML Equipment Replacement","Activity","FD03","Active","2025-03-17T16:11:52.563115+00:00",null,null,null,null,null,null,null,null,"13272","LSDO LSIT-Development","13272-LSDO LSIT-Development",null,null,null,"AS086077890","Chad Brimley (086077890) Dean of Students","AS086077890-Chad Brimley (086077890) Dean of Students","Active",null,null,null,null,null,null,null,null,null,null,null,"SC6719","SC6719||1400","1400","Prepaid Expenses",null,"All"]
[null,null,null,null,null,null,"AC00735","[ENG] Pattern Generator","AC00735-[ENG] Pattern Generator","Activity","FD03","Active","2025-03-17T16:11:52.563115+00:00",null,null,null,null,null,null,null,null,"13273","LSDO LSIT-Design","13273-LSDO LSIT-Design",null,null,null,"AS086106508","Mikayla Robins (086106508) CE Education Week","AS086106508-Mikayla Robins (086106508) CE Education Week","Active",null,null,null,null,null,null,null,null,null,null,null,"SC6719","SC6719||1620","1620","Furnishings and Fixtures",null,"JE_PPE|JE_Override"]
[null,null,null,null,null,null,"AC00736","[ENG] CSR - Engineering (ECE)","AC00736-[ENG] CSR - Engineering (ECE)","Activity","FD03","Active","2025-03-17T16:11:52.563115+00:00",null,null,null,null,null,null,null,null,"13275","LSDO NEURO-Grad Students-Maste","13275-LSDO NEURO-Grad Students-Maste",null,null,null,"AS086170895","Richard Warr (086170895) CMS - Statistics","AS086170895-Richard Warr (086170895) CMS - Statistics","Active",null,null,null,null,null,null,null,null,null,null,null,"SC6719","SC6719||1650","1650","Construction in Progress",null,"JE_PPE|JE_Override"]
[null,null,null,null,null,null,"AC00737","[ENG] IMMERSE Consolidated","AC00737-[ENG] IMMERSE Consolidated","Activity","FD03","Active","2025-03-17T16:11:52.563115+00:00",null,null,null,null,null,null,null,null,"13276","LSDO NEURO-Graduate Students-D","13276-LSDO NEURO-Graduate Students-D",null,null,null,"AS086393576","Eric Swenson (086393576) CMS - Mathematics","AS086393576-Eric Swenson (086393576) CMS - Mathematics","Active",null,null,null,null,null,null,null,null,null,null,null,"SC6719","SC6719||1651","1651","Construction in Progress (Non-Workday Projects)",null,"All"]
[null,null,null,null,null,null,"AC00738","[ENG] A Hawkins Grad Mentoring Award","AC00738-[ENG] A Hawkins Grad Mentoring Award","Activity","FD03","Active","2025-03-17T16:11:52.563115+00:00",null,null,null,null,null,null,null,null,"13277","LSDO NEURO-Mentored Resch Fac","13277-LSDO NEURO-Mentored Resch Fac",null,null,null,"AS086418765","Bonnie Bingham (086418765) Dean's Office Humanities","AS086418765-Bonnie Bingham (086418765) Dean's Office Humanities","Active",null,null,null,null,null,null,null,null,null,null,null,"SC6719","SC6719||1700","1700","Accumulated Depreciation",null,"JE_PPE|JE_Override"]
[null,null,null,null,null,null,"AC00739","[ENG] D Smalley - PIA 2020 - ECEn","AC00739-[ENG] D Smalley - PIA 2020 - ECEn","Activity","FD03","Active","2025-03-17T16:11:52.563115+00:00",null,null,null,null,null,null,null,null,"13278","LSDO Michael Stark","13278-LSDO Michael Stark",null,null,null,"AS086472691","Brody Blair (086472691) PF Auxiliary Maintenance","AS086472691-Brody Blair (086472691) PF Auxiliary Maintenance","Active",null,null,null,null,null,null,null,null,null,null,null,"SC6719","SC6719||6700","6700","Physical Facilities","Primary","All"]
[null,null,null,null,null,null,"AC00740","[ENG] Interdisciplinary Robotics","AC00740-[ENG] Interdisciplinary Robotics","Activity","FD03","Active","2025-03-17T16:11:52.563115+00:00",null,null,null,null,null,null,null,null,"13279","LSDO Benjamin Crookston","13279-LSDO Benjamin Crookston",null,null,null,"AS086530432","Erik Larson (086530432) Humanities - Spanish & Portuguese","AS086530432-Erik Larson (086530432) Humanities - Spanish & Portuguese","Active",null,null,null,null,null,null,null,null,null,null,null,"SC6719","SC6719||8000","8000","Depreciation",null,"JE_PPE|JE_Override"]
[null,null,null,null,null,null,"AC00741","[ENG] Y-Ride -PIA2022 ? ECEn","AC00741-[ENG] Y-Ride -PIA2022 ? ECEn","Activity","FD03","Active","2025-03-17T16:11:52.563115+00:00",null,null,null,null,null,null,null,null,"13280","LSDO Brian Johnson","13280-LSDO Brian Johnson",null,null,null,"AS086584610","Rebecca Hunter (086584610) MSE  - Teacher Education","AS086584610-Rebecca Hunter (086584610) MSE  - Teacher Education","Active",null,null,null,null,null,null,null,null,null,null,null,"SC6720","SC6720||1400","1400","Prepaid Expenses",null,"All"]
[null,null,null,null,null,null,"AC00743","[ENG] EXPERIENTIAL LEARNING ECE","AC00743-[ENG] EXPERIENTIAL LEARNING ECE","Activity","FD03","Active","2025-03-17T16:11:52.563115+00:00",null,null,null,null,null,null,null,null,"13281","LSDO Loreen Flinders","13281-LSDO Loreen Flinders",null,null,null,"AS086585781","Tim Wilda (086585781) PF Transportation & Manufacturing Services","AS086585781-Tim Wilda (086585781) PF Transportation & Manufacturing Services","Active",null,null,null,null,null,null,null,null,null,null,null,"SC6720","SC6720||1650","1650","Construction in Progress",null,"JE_PPE|JE_Override"]
[null,null,null,null,null,null,"AC00744","[ENG] Faculty Mentoring 2","AC00744-[ENG] Faculty Mentoring 2","Activity","FD03","Active","2025-03-17T16:11:52.563115+00:00",null,null,null,null,null,null,null,null,"13282","LSDO Josh Leavitt","13282-LSDO Josh Leavitt",null,null,null,"AS086625637","Annalee Hickman Pierson (086625637) Law School - Law Library","AS086625637-Annalee Hickman Pierson (086625637) Law School - Law Library","Active",null,null,null,null,null,null,null,null,null,null,null,"SC6720","SC6720||1651","1651","Construction in Progress (Non-Workday Projects)",null,"All"]
[null,null,null,null,null,null,"AC00745","[ENG] Faculty Mentoring 3","AC00745-[ENG] Faculty Mentoring 3","Activity","FD03","Active","2025-03-17T16:11:52.563115+00:00",null,null,null,null,null,null,null,null,"13283","LSDO Susan Fullmer","13283-LSDO Susan Fullmer",null,null,null,"AS086643686","Johanne Hillam (086643686) French and Italian Languages","AS086643686-Johanne Hillam (086643686) French and Italian Languages","Active",null,null,null,null,null,null,null,null,null,null,null,"SC6720","SC6720||6700","6700","Physical Facilities","Primary","All"]
[null,null,null,null,null,null,"AC00746","[ENG] Faculty Mentoring 4","AC00746-[ENG] Faculty Mentoring 4","Activity","FD03","Active","2025-03-17T16:11:52.563115+00:00",null,null,null,null,null,null,null,null,"13284","LSDO Tonya Fischio","13284-LSDO Tonya Fischio",null,null,null,"AS086649489","Matthew Rudy (HUM)","AS086649489-Matthew Rudy (HUM)","Active",null,null,null,null,null,null,null,null,null,null,null,"SC6721","SC6721||1400","1400","Prepaid Expenses",null,"All"]
[null,null,null,null,null,null,"AC00747","[ENG] Faculty Mentoring 5","AC00747-[ENG] Faculty Mentoring 5","Activity","FD03","Active","2025-03-17T16:11:52.563115+00:00",null,null,null,null,null,null,null,null,"13285","LSDO Michael Barnes","13285-LSDO Michael Barnes",null,null,null,"AS086667644","Celeste Beesley (086667644) FHSS - Political Science","AS086667644-Celeste Beesley (086667644) FHSS - Political Science","Active",null,null,null,null,null,null,null,null,null,null,null,"SC6721","SC6721||1620","1620","Furnishings and Fixtures",null,"JE_PPE|JE_Override"]
[null,null,null,null,null,null,"AC00748","[ENG] Information Technology","AC00748-[ENG] Information Technology","Activity","FD01","Active","2025-03-17T16:11:52.563115+00:00",null,null,null,null,null,null,null,null,"13286","LSDO Rebecca Scholl","13286-LSDO Rebecca Scholl",null,null,null,"AS086950517","Rebecca Hornberger (086950517) HS Administration","AS086950517-Rebecca Hornberger (086950517) HS Administration","Active",null,null,null,null,null,null,null,null,null,null,null,"SC6721","SC6721||1650","1650","Construction in Progress",null,"JE_PPE|JE_Override"]
[null,null,null,null,null,null,"AC00749","[ENG] Lunt, Barry Research","AC00749-[ENG] Lunt, Barry Research","Activity","FD01","Active","2025-03-17T16:11:52.563115+00:00",null,null,null,null,null,null,null,null,"13287","LSDO Terri Moser","13287-LSDO Terri Moser",null,null,null,"AS087251463","Sandra Sephton (087251463) FHSS - Psychology","AS087251463-Sandra Sephton (087251463) FHSS - Psychology","Active",null,null,null,null,null,null,null,null,null,null,null,"SC6721","SC6721||1651","1651","Construction in Progress (Non-Workday Projects)",null,"All"]
[null,null,null,null,null,null,"AC00750","[ENG] IT Stores","AC00750-[ENG] IT Stores","Activity","FD02","Active","2025-03-17T16:11:52.563115+00:00",null,null,null,null,null,null,null,null,"13288","LSDO Russell Nielson","13288-LSDO Russell Nielson",null,null,null,"AS087450572","Tyler Shumway (087450572) MSB - Finance","AS087450572-Tyler Shumway (087450572) MSB - Finance","Active",null,null,null,null,null,null,null,null,null,null,null,"SC6721","SC6721||1700","1700","Accumulated Depreciation",null,"JE_PPE|JE_Override"]
[null,null,null,null,null,null,"AC00751","[ENG] Information Tech Studnt Assoc","AC00751-[ENG] Information Tech Studnt Assoc","Activity","FD02","Active","2025-03-17T16:11:52.563115+00:00",null,null,null,null,null,null,null,null,"13289","LSDO Laura Bridgewater","13289-LSDO Laura Bridgewater",null,null,null,"AS087539527","Tyler Griffin (087539527) AVP - Dean, Religious Education","AS087539527-Tyler Griffin (087539527) AVP - Dean, Religious Education","Active",null,null,null,null,null,null,null,null,null,null,null,"SC6721","SC6721||6700","6700","Physical Facilities","Primary","All"]
[null,null,null,null,null,null,"AC00752","[ENG] CSSAA","AC00752-[ENG] CSSAA","Activity","FD02","Active","2025-03-17T16:11:52.563115+00:00",null,null,null,null,null,null,null,null,"13290","LSDO Student Secretary","13290-LSDO Student Secretary",null,null,null,"AS087606974","Ron Goodman (087606974) PF Central Heating Plant","AS087606974-Ron Goodman (087606974) PF Central Heating Plant","Active",null,null,null,null,null,null,null,null,null,null,null,"SC6721","SC6721||8000","8000","Depreciation",null,"JE_PPE|JE_Override"]
[null,null,null,null,null,null,"AC00753","[ARTS] User Experience Design Club","AC00753-[ARTS] User Experience Design Club","Activity","FD02","Active","2025-07-22T02:03:23.773892+00:00",null,null,null,null,null,null,null,null,"13291","LSDO YSA 3rd Stake-#503266","13291-LSDO YSA 3rd Stake-#503266",null,null,null,"AS087946977","Sherri Hadfield (087946977) Humanities - Linguistics","AS087946977-Sherri Hadfield (087946977) Humanities - Linguistics","Active",null,null,null,null,null,null,null,null,null,null,null,"SC6722","SC6722||1400","1400","Prepaid Expenses",null,"All"]
[null,null,null,null,null,null,"AC00754","[ENG] International Internships","AC00754-[ENG] International Internships","Activity","FD03","Active","2025-03-17T16:11:52.563115+00:00",null,null,null,null,null,null,null,null,"13292","LSDO COMMS-Student","13292-LSDO COMMS-Student",null,null,null,"AS088222291","Annalyn Osborn (088222291) Humanities - Spanish & Portuguese","AS088222291-Annalyn Osborn (088222291) Humanities - Spanish & Portuguese","Active",null,null,null,null,null,null,null,null,null,null,null,"SC6722","SC6722||6700","6700","Physical Facilities","Primary","All"]
[null,null,null,null,null,null,"AC00755","[ENG] EXPERIENTIAL LEARNING IT","AC00755-[ENG] EXPERIENTIAL LEARNING IT","Activity","FD03","Active","2025-03-17T16:11:52.563115+00:00",null,null,null,null,null,null,null,null,"13293","LSDO COMMS-Student Events","13293-LSDO COMMS-Student Events",null,null,null,"AS088368339","Brett Hashimoto (088368339) Humanities - Linguistics","AS088368339-Brett Hashimoto (088368339) Humanities - Linguistics","Active",null,null,null,null,null,null,null,null,null,null,null,"SC6723","SC6723||1400","1400","Prepaid Expenses",null,"All"]
[null,null,null,null,null,null,"AC00756","[ENG] Mechanical Engineering","AC00756-[ENG] Mechanical Engineering","Activity","FD01","Active","2025-03-17T16:11:52.563115+00:00",null,null,null,null,null,null,null,null,"13294","LSDO COMMS-Writer","13294-LSDO COMMS-Writer",null,null,null,"AS088387496","Craig Fisher (088387496) PF Grounds - Site & Landscape Construction","AS088387496-Craig Fisher (088387496) PF Grounds - Site & Landscape Construction","Active",null,null,null,null,null,null,null,null,null,null,null,"SC6723","SC6723||6700","6700","Physical Facilities","Primary","All"]
[null,null,null,null,null,null,"AC00757","[ENG] Mech Engr Compt Lab","AC00757-[ENG] Mech Engr Compt Lab","Activity","FD01","Active","2025-03-17T16:11:52.563115+00:00",null,null,null,null,null,null,null,null,"13295","LSDO COMMS-Internal Communicat","13295-LSDO COMMS-Internal Communicat",null,null,null,"AS088427572","Lee McCullough (088427572) Law School","AS088427572-Lee McCullough (088427572) Law School","Active",null,null,null,null,null,null,null,null,null,null,null,"SC6724","SC6724||1400","1400","Prepaid Expenses",null,"All"]
[null,null,null,null,null,null,"AC00758","[ENG] Spencer Magleby","AC00758-[ENG] Spencer Magleby","Activity","FD01","Active","2025-03-17T16:11:52.563115+00:00",null,null,null,null,null,null,null,null,"13296","LSDO COMMS-Social Media","13296-LSDO COMMS-Social Media",null,null,null,"AS088607893","Alyson Ball (088607893) MTC Dining","AS088607893-Alyson Ball (088607893) MTC Dining","Active",null,null,null,null,null,null,null,null,null,null,null,"SC6724","SC6724||6700","6700","Physical Facilities","Primary","All"]
[null,null,null,null,null,null,"AC00759","[ENG] Mechanical Engineering","AC00759-[ENG] Mechanical Engineering","Activity","FD01","Active","2025-03-17T16:11:52.563115+00:00",null,null,null,null,null,null,null,null,"13297","LSDO COMMS-Video/Photography","13297-LSDO COMMS-Video/Photography",null,null,null,"AS088712716","Va Fewell (088712716) MTC Dining","AS088712716-Va Fewell (088712716) MTC Dining","Active",null,null,null,null,null,null,null,null,null,null,null,"SC6725","SC6725||1400","1400","Prepaid Expenses",null,"All"]
[null,null,null,null,null,null,"AC00760","[ENG] Am Soc of Mech Eng","AC00760-[ENG] Am Soc of Mech Eng","Activity","FD02","Active","2025-03-17T16:11:52.563115+00:00",null,null,null,null,null,null,null,null,"13298","LSDO COMMS-Design","13298-LSDO COMMS-Design",null,null,null,"AS088807559","Amber Jensen (088807559) Humanities - English","AS088807559-Amber Jensen (088807559) Humanities - English","Active",null,null,null,null,null,null,null,null,null,null,null,"SC6725","SC6725||6700","6700","Physical Facilities","Primary","All"]
[null,null,null,null,null,null,"AC00761","[ENG] Am Inst of Aero-Astr","AC00761-[ENG] Am Inst of Aero-Astr","Activity","FD02","Active","2025-03-17T16:11:52.563115+00:00",null,null,null,null,null,null,null,null,"13299","LSDO BELONGING-Women in Life S","13299-LSDO BELONGING-Women in Life S",null,null,null,"AS089085651","Josh Lee (089085651) MSB - School of Accountancy","AS089085651-Josh Lee (089085651) MSB - School of Accountancy","Active",null,null,null,null,null,null,null,null,null,null,null,"SC6726","SC6726||1400","1400","Prepaid Expenses",null,"All"]
[null,null,null,null,null,null,"AC00762","[ENG] Society of Women Engineers","AC00762-[ENG] Society of Women Engineers","Activity","FD02","Active","2025-05-01T02:03:59.307091+00:00",null,null,null,null,null,null,null,null,"13305","LSB Research at BYU","13305-LSB Research at BYU",null,null,null,"AS089272986","Bart Stoddard (089272986) Housing Administration","AS089272986-Bart Stoddard (089272986) Housing Administration","Active",null,null,null,null,null,null,null,null,null,null,null,"SC6726","SC6726||6700","6700","Physical Facilities","Primary","All"]
[null,null,null,null,null,null,"AC00763","[ENG] Soc. of Automotive Eng. BYU","AC00763-[ENG] Soc. of Automotive Eng. BYU","Activity","FD02","Active","2025-03-17T16:11:52.563115+00:00",null,null,null,null,null,null,null,null,"13307","LSB Administrator/Donor Confer","13307-LSB Administrator/Donor Confer",null,null,null,"AS089308063","Lauren Davies (089308063) MSE - Communication Disorders","AS089308063-Lauren Davies (089308063) MSE - Communication Disorders","Active",null,null,null,null,null,null,null,null,null,null,null,"SC6727","SC6727||1400","1400","Prepaid Expenses",null,"All"]
[null,null,null,null,null,null,"AC00764","[ENG] BYU Mechatronics Club","AC00764-[ENG] BYU Mechatronics Club","Activity","FD02","Active","2025-03-17T16:11:52.563115+00:00",null,null,null,null,null,null,null,null,"13332","LSB Student Keys","13332-LSB Student Keys",null,null,null,"AS089356046","Jackson Behling (089356046) Electrical and Computer Eng","AS089356046-Jackson Behling (089356046) Electrical and Computer Eng","Active",null,null,null,null,null,null,null,null,null,null,null,"SC6727","SC6727||6700","6700","Physical Facilities","Primary","All"]
[null,null,null,null,null,null,"AC00765","[ENG] BYU Rocketry Club","AC00765-[ENG] BYU Rocketry Club","Activity","FD02","Active","2025-03-17T16:11:52.563115+00:00",null,null,null,null,null,null,null,null,"13333","LSB Copiers","13333-LSB Copiers",null,null,null,"AS089398090","Blake Barker (089398090) CMS - Mathematics","AS089398090-Blake Barker (089398090) CMS - Mathematics","Active",null,null,null,null,null,null,null,null,null,null,null,"SC6728","SC6728||1400","1400","Prepaid Expenses",null,"All"]
[null,null,null,null,null,null,"AC00766","[ENG] BYU Drone Team","AC00766-[ENG] BYU Drone Team","Activity","FD02","Active","2025-03-17T16:11:52.563115+00:00",null,null,null,null,null,null,null,null,"13335","LSB Christmas","13335-LSB Christmas",null,null,null,"AS089405044","Sherrie Bangerter (089405044) CE FSY","AS089405044-Sherrie Bangerter (089405044) CE FSY","Active",null,null,null,null,null,null,null,null,null,null,null,"SC6728","SC6728||6700","6700","Physical Facilities","Primary","All"]
[null,null,null,null,null,null,"AC00767","[ENG] BYU Aeronautics Club","AC00767-[ENG] BYU Aeronautics Club","Activity","FD02","Active","2025-03-17T16:11:52.563115+00:00",null,null,null,null,null,null,null,null,"13342","LSB Outreach","13342-LSB Outreach",null,null,null,"AS089471812","Darrell Goff (089471812) Mechanical Engineering","AS089471812-Darrell Goff (089471812) Mechanical Engineering","Active",null,null,null,null,null,null,null,null,null,null,null,"SC6729","SC6729||1400","1400","Prepaid Expenses",null,"All"]
[null,null,null,null,null,null,"AC00768","[ENG] OMEGA","AC00768-[ENG] OMEGA","Activity","FD02","Active","2025-03-17T16:11:52.563115+00:00",null,null,null,null,null,null,null,null,"13356","LSDO Annual Giving Replacement","13356-LSDO Annual Giving Replacement",null,null,null,"AS089938606","Pattie Shumway (089938606) MSB - Experience Design & Management","AS089938606-Pattie Shumway (089938606) MSB - Experience Design & Management","Active",null,null,null,null,null,null,null,null,null,null,null,"SC6729","SC6729||1620","1620","Furnishings and Fixtures",null,"JE_PPE|JE_Override"]
[null,null,null,null,null,null,"AC00769","[ENG] BYU Supermileage Club","AC00769-[ENG] BYU Supermileage Club","Activity","FD02","Active","2025-03-17T16:11:52.563115+00:00",null,null,null,null,null,null,null,null,"13357","LSDO Cancer Research Replaceme","13357-LSDO Cancer Research Replaceme",null,null,null,"AS090325831","Scott Champion (090325831) BYU Broadcasting - Creative Services","AS090325831-Scott Champion (090325831) BYU Broadcasting - Creative Services","Active",null,null,null,null,null,null,null,null,null,null,null,"SC6729","SC6729||1650","1650","Construction in Progress",null,"JE_PPE|JE_Override"]
[null,null,null,null,null,null,"AC00770","[ENG] BYU Engineering Design","AC00770-[ENG] BYU Engineering Design","Activity","FD02","Active","2025-03-17T16:11:52.563115+00:00",null,null,null,null,null,null,null,null,"13358","LSDO Exhibit Replacement","13358-LSDO Exhibit Replacement",null,null,null,"AS090428073","Logan Matthews (090428073) Athletics - Olympic Sport Medicine","AS090428073-Logan Matthews (090428073) Athletics - Olympic Sport Medicine","Active",null,null,null,null,null,null,null,null,null,null,null,"SC6729","SC6729||1651","1651","Construction in Progress (Non-Workday Projects)",null,"All"]
[null,null,null,null,null,null,"AC00771","[ENG] BYU Wind Energy Club","AC00771-[ENG] BYU Wind Energy Club","Activity","FD02","Active","2025-05-01T02:03:59.307091+00:00",null,null,null,null,null,null,null,null,"13359","LSDO MMBIO Research Replacemen","13359-LSDO MMBIO Research Replacemen",null,null,null,"AS090428666","Bryan Hutchison (ARTS)","AS090428666-Bryan Hutchison (ARTS)","Active",null,null,null,null,null,null,null,null,null,null,null,"SC6729","SC6729||1700","1700","Accumulated Depreciation",null,"JE_PPE|JE_Override"]
[null,null,null,null,null,null,"AC00772","[ENG] Biomedical Engineering Club","AC00772-[ENG] Biomedical Engineering Club","Activity","FD02","Active","2025-03-17T16:11:52.563115+00:00",null,null,null,null,null,null,null,null,"13360","LSDO R.Robison Lab Replacement","13360-LSDO R.Robison Lab Replacement",null,null,null,"AS090471404","Deborah Himes (090471404) AVP - Dean, College of Nursing","AS090471404-Deborah Himes (090471404) AVP - Dean, College of Nursing","Active",null,null,null,null,null,null,null,null,null,null,null,"SC6729","SC6729||6700","6700","Physical Facilities","Primary","All"]
[null,null,null,null,null,null,"AC00773","[ENG] Mech Engr Equip Repl","AC00773-[ENG] Mech Engr Equip Repl","Activity","FD03","Active","2025-03-17T16:11:52.563115+00:00",null,null,null,null,null,null,null,null,"13361","LSDO K.O'Neill Lab Replacement","13361-LSDO K.O'Neill Lab Replacement",null,null,null,"AS090634933","Jeffrey Niven (090634933) College of Engineering - Mechanical Engineering","AS090634933-Jeffrey Niven (090634933) College of Engineering - Mechanical Engineering","Active",null,null,null,null,null,null,null,null,null,null,null,"SC6729","SC6729||8000","8000","Depreciation",null,"JE_PPE|JE_Override"]
[null,null,null,null,null,null,"AC00774","[ENG] LL Howell-Univ Professorship","AC00774-[ENG] LL Howell-Univ Professorship","Activity","FD03","Active","2025-03-17T16:11:52.563115+00:00",null,null,null,null,null,null,null,null,"13362","LSDO Andean Crops Replacement","13362-LSDO Andean Crops Replacement",null,null,null,"AS090673468","Kimberly Wright (090673468) Fine Arts & Communications - Theatre & Media Arts","AS090673468-Kimberly Wright (090673468) Fine Arts & Communications - Theatre & Media Arts","Active",null,null,null,null,null,null,null,null,null,null,null,"SC6730","SC6730||1400","1400","Prepaid Expenses",null,"All"]
[null,null,null,null,null,null,"AC00775","[ENG] Heat Transfer","AC00775-[ENG] Heat Transfer","Activity","FD03","Active","2025-03-17T16:11:52.563115+00:00",null,null,null,null,null,null,null,null,"13363","LSDO Environmental Toxicol Rep","13363-LSDO Environmental Toxicol Rep",null,null,null,"AS090692682","Mark Johnson (090692682) MSB - Finance","AS090692682-Mark Johnson (090692682) MSB - Finance","Active",null,null,null,null,null,null,null,null,null,null,null,"SC6730","SC6730||1620","1620","Furnishings and Fixtures",null,"JE_PPE|JE_Override"]
[null,null,null,null,null,null,"AC00776","[ENG] Magleby Royalties","AC00776-[ENG] Magleby Royalties","Activity","FD03","Active","2025-03-17T16:11:52.563115+00:00",null,null,null,null,null,null,null,null,"13400","LSPW Campus Visitor","13400-LSPW Campus Visitor",null,null,null,"AS090754573","Martha Carter (090754573) Cannon Center","AS090754573-Martha Carter (090754573) Cannon Center","Active",null,null,null,null,null,null,null,null,null,null,null,"SC6730","SC6730||1650","1650","Construction in Progress",null,"JE_PPE|JE_Override"]
[null,null,null,null,null,null,"AC00777","[ENG] Howell Study","AC00777-[ENG] Howell Study","Activity","FD03","Active","2025-03-17T16:11:52.563115+00:00",null,null,null,null,null,null,null,null,"13401","LSPW PWS Teach.& Resear. Labor","13401-LSPW PWS Teach.& Resear. Labor",null,null,null,"AS090902923","Erin Ricks (090902923) Purchasing and Travel - Campus Finance","AS090902923-Erin Ricks (090902923) Purchasing and Travel - Campus Finance","Active",null,null,null,null,null,null,null,null,null,null,null,"SC6730","SC6730||1651","1651","Construction in Progress (Non-Workday Projects)",null,"All"]
[null,null,null,null,null,null,"AC00778","[ENG] CD Sorensen-Duffin Fellowship","AC00778-[ENG] CD Sorensen-Duffin Fellowship","Activity","FD03","Active","2025-03-17T16:11:52.563115+00:00",null,null,null,null,null,null,null,null,"13402","LSPW Microscopy Laboratory","13402-LSPW Microscopy Laboratory",null,null,null,"AS090924308","Kathy Taylor (090924308) Alumni Relations","AS090924308-Kathy Taylor (090924308) Alumni Relations","Active",null,null,null,null,null,null,null,null,null,null,null,"SC6730","SC6730||1700","1700","Accumulated Depreciation",null,"JE_PPE|JE_Override"]
[null,null,null,null,null,null,"AC00779","[ENG] Batch Melter Modeling Sys - BW","AC00779-[ENG] Batch Melter Modeling Sys - BW","Activity","FD03","Active","2025-03-17T16:11:52.563115+00:00",null,null,null,null,null,null,null,null,"13403","LSPW V-PW5V 2019 FORDSTruck/Mc","13403-LSPW V-PW5V 2019 FORDSTruck/Mc",null,null,null,"AS090941769","Ezra Smith (090941769) Lee Library - Acquisitions","AS090941769-Ezra Smith (090941769) Lee Library - Acquisitions","Active",null,null,null,null,null,null,null,null,null,null,null,"SC6730","SC6730||6700","6700","Physical Facilities","Primary","All"]
[null,null,null,null,null,null,"AC00780","[ENG] DMAC R&D","AC00780-[ENG] DMAC R&D","Activity","FD03","Active","2025-03-17T16:11:52.563115+00:00",null,null,null,null,null,null,null,null,"13404","LSPW V-PW8V 2014 GMC Sierra/PW","13404-LSPW V-PW8V 2014 GMC Sierra/PW",null,null,null,"AS091090788","Cree Jones (091090788) AVP - Dean, Clark Law School","AS091090788-Cree Jones (091090788) AVP - Dean, Clark Law School","Active",null,null,null,null,null,null,null,null,null,null,null,"SC6730","SC6730||8000","8000","Depreciation",null,"JE_PPE|JE_Override"]
[null,null,null,null,null,null,"AC00781","[ENG] AFOSR UAV Carryover","AC00781-[ENG] AFOSR UAV Carryover","Activity","FD03","Active","2025-03-17T16:11:52.563115+00:00",null,null,null,null,null,null,null,null,"13405","LSPW V-PW9V 2013 TOY T.Truck/A","13405-LSPW V-PW9V 2013 TOY T.Truck/A",null,null,null,"AS091140327","Teresa Thompson (091140327) Lee Library - Acquisitions","AS091140327-Teresa Thompson (091140327) Lee Library - Acquisitions","Active",null,null,null,null,null,null,null,null,null,null,null,"SC6731","SC6731||1300","1300","Inventory","Primary","All"]
[null,null,null,null,null,null,"AC00782","[ENG] Mattson Royalty Acct","AC00782-[ENG] Mattson Royalty Acct","Activity","FD03","Active","2025-03-17T16:11:52.563115+00:00",null,null,null,null,null,null,null,null,"13406","LSPW V-PW28 2016 ECHO TRLR/McM","13406-LSPW V-PW28 2016 ECHO TRLR/McM",null,null,null,"AS091329105","Tony Martinez (091329105) CMS - Computer Science","AS091329105-Tony Martinez (091329105) CMS - Computer Science","Active",null,null,null,null,null,null,null,null,null,null,null,"SC6731","SC6731||1650","1650","Construction in Progress",null,"JE_PPE|JE_Override"]
[null,null,null,null,null,null,"AC00783","[ENG] C-UAS Membership Carryover","AC00783-[ENG] C-UAS Membership Carryover","Activity","FD03","Active","2025-03-17T16:11:52.563115+00:00",null,null,null,null,null,null,null,null,"13407","LSPW V-PW34VV 2021 TOYTTruck/M","13407-LSPW V-PW34VV 2021 TOYTTruck/M",null,null,null,"AS091388504","David Quittner (091388504) PMPC Administration","AS091388504-David Quittner (091388504) PMPC Administration","Active",null,null,null,null,null,null,null,null,null,null,null,"SC6731","SC6731||4900","4900","Cost of Sales",null,"All"]
[null,null,null,null,null,null,"AC00784","[ENG] T Munro Grad Mentoring Grant","AC00784-[ENG] T Munro Grad Mentoring Grant","Activity","FD03","Active","2025-03-17T16:11:52.563115+00:00",null,null,null,null,null,null,null,null,"13408","LSPW V-PW42 2013 Polaris ATV/A","13408-LSPW V-PW42 2013 Polaris ATV/A",null,null,null,"AS091416029","Mark Wolfersberger (HUM)","AS091416029-Mark Wolfersberger (HUM)","Active",null,null,null,null,null,null,null,null,null,null,null,"SC6731","SC6731||6700","6700","Physical Facilities",null,"All"]
[null,null,null,null,null,null,"AC00785","[ENG] M Colton Grad Mentoring Grant","AC00785-[ENG] M Colton Grad Mentoring Grant","Activity","FD03","Active","2025-03-17T16:11:52.563115+00:00",null,null,null,null,null,null,null,null,"13409","LSPW V-PW44 2018 HOND ATV/McMi","13409-LSPW V-PW44 2018 HOND ATV/McMi",null,null,null,"AS091471725","Amanda Pope (091471725) MSB - School of Accountancy","AS091471725-Amanda Pope (091471725) MSB - School of Accountancy","Active",null,null,null,null,null,null,null,null,null,null,null,"SC6799","SC6799||1400","1400","Prepaid Expenses",null,"All"]
[null,null,null,null,null,null,"AC00786","[ENG] Design Collective Operation","AC00786-[ENG] Design Collective Operation","Activity","FD03","Active","2025-03-17T16:11:52.563115+00:00",null,null,null,null,null,null,null,null,"13410","LSPW V-PW45 2018 HOND ATV/McMi","13410-LSPW V-PW45 2018 HOND ATV/McMi",null,null,null,"AS091601248","Ben Cookson (091601248) Retail Services - Information Technology","AS091601248-Ben Cookson (091601248) Retail Services - Information Technology","Active",null,null,null,null,null,null,null,null,null,null,null,"SC6799","SC6799||1650","1650","Construction in Progress",null,"JE_PPE|JE_Override"]
[null,null,null,null,null,null,"AC00787","[ENG] A Bowden GMA","AC00787-[ENG] A Bowden GMA","Activity","FD03","Active","2025-03-17T16:11:52.563115+00:00",null,null,null,null,null,null,null,null,"13411","LSPW PWS 480 Env Capstone: DA&","13411-LSPW PWS 480 Env Capstone: DA&",null,null,null,"AS091888194","David Erickson (091888194) Life Sciences - Microbiology & Molecular Biology","AS091888194-David Erickson (091888194) Life Sciences - Microbiology & Molecular Biology","Active",null,null,null,null,null,null,null,null,null,null,null,"SC6799","SC6799||1651","1651","Construction in Progress (Non-Workday Projects)",null,"All"]
[null,null,null,null,null,null,"AC00788","[ENG] D Cook Graduate Studies","AC00788-[ENG] D Cook Graduate Studies","Activity","FD03","Active","2025-03-17T16:11:52.563115+00:00",null,null,null,null,null,null,null,null,"13412","LSPW De Santiago Lazalde, Josh","13412-LSPW De Santiago Lazalde, Josh",null,null,null,"AS091896615","Patricia Febres Aragon (091896615) MTC Dining","AS091896615-Patricia Febres Aragon (091896615) MTC Dining","Active",null,null,null,null,null,null,null,null,null,null,null,"SC6799","SC6799||6700","6700","Physical Facilities","Primary","All"]
[null,null,null,null,null,null,"AC00789","[ENG] J Blotter Techprep  Grant","AC00789-[ENG] J Blotter Techprep  Grant","Activity","FD03","Active","2025-03-17T16:11:52.563115+00:00",null,null,null,null,null,null,null,null,"13413","LSPW Vawdrey, Wendy","13413-LSPW Vawdrey, Wendy",null,null,null,"AS092017795","Nicole Brady (092017795) Fine Arts & Communications - School of Music","AS092017795-Nicole Brady (092017795) Fine Arts & Communications - School of Music","Active",null,null,null,null,null,null,null,null,null,null,null,"SC6901","SC6901||1400","1400","Prepaid Expenses",null,"All"]
[null,null,null,null,null,null,"AC00790","[ENG] J Blotter Grad Mentoring Grant","AC00790-[ENG] J Blotter Grad Mentoring Grant","Activity","FD03","Active","2025-03-17T16:11:52.563115+00:00",null,null,null,null,null,null,null,null,"13414","LSPW Hall, Brianna Wells","13414-LSPW Hall, Brianna Wells",null,null,null,"AS092130398","Shawn Nevers (092130398) AVP - Dean, Clark Law School","AS092130398-Shawn Nevers (092130398) AVP - Dean, Clark Law School","Active",null,null,null,null,null,null,null,null,null,null,null,"SC6901","SC6901||1625","1625","Capital Equipment",null,"JE_PPE|JE_Override"]
[null,null,null,null,null,null,"AC00791","[ENG] J Blotter-IDR Grant","AC00791-[ENG] J Blotter-IDR Grant","Activity","FD03","Active","2025-03-17T16:11:52.563115+00:00",null,null,null,null,null,null,null,null,"13415","LSPW Tuckett/Wges/Experiential","13415-LSPW Tuckett/Wges/Experiential",null,null,null,"AS092360852","Rust Tippett (092360852) Law School","AS092360852-Rust Tippett (092360852) Law School","Active",null,null,null,null,null,null,null,null,null,null,null,"SC6901","SC6901||1650","1650","Construction in Progress",null,"JE_PPE|JE_Override"]
[null,null,null,null,null,null,"AC00792","[ENG] Capstone Surplus","AC00792-[ENG] Capstone Surplus","Activity","FD03","Active","2025-03-17T16:11:52.563115+00:00",null,null,null,null,null,null,null,null,"13416","LSPW Vermeulen/Wges/Experienti","13416-LSPW Vermeulen/Wges/Experienti",null,null,null,"AS092499390","Kristi Aase (092499390) CE BYU Online","AS092499390-Kristi Aase (092499390) CE BYU Online","Active",null,null,null,null,null,null,null,null,null,null,null,"SC6901","SC6901||1651","1651","Construction in Progress (Non-Workday Projects)",null,"All"]
[null,null,null,null,null,null,"AC00793","[ENG] BYU Propulsion Research Team","AC00793-[ENG] BYU Propulsion Research Team","Activity","FD03","Active","2025-03-17T16:11:52.563115+00:00",null,null,null,null,null,null,null,null,"13417","LSPW Calder, Bridget","13417-LSPW Calder, Bridget",null,null,null,"AS092583590","Diljeet Taylor (092583590) Athletics - Administration","AS092583590-Diljeet Taylor (092583590) Athletics - Administration","Active",null,null,null,null,null,null,null,null,null,null,null,"SC6901","SC6901||1700","1700","Accumulated Depreciation",null,"JE_PPE|JE_Override"]
[null,null,null,null,null,null,"AC00794","[ENG] Student  Leadership Grant","AC00794-[ENG] Student  Leadership Grant","Activity","FD03","Active","2025-12-05T03:13:48.150281+00:00",null,null,null,null,null,null,null,null,"13418","LSPW Featherstone, Janilyn","13418-LSPW Featherstone, Janilyn",null,null,null,"AS092942493","Quin Monson (092942493) FHSS - Political Science","AS092942493-Quin Monson (092942493) FHSS - Political Science","Active",null,null,null,null,null,null,null,null,null,null,null,"SC6901","SC6901||6900","6900","Equipment, Software, Library","Primary","All"]
[null,null,null,null,null,null,"AC00795","[ENG] SAE Baja Competition","AC00795-[ENG] SAE Baja Competition","Activity","FD03","Active","2025-03-17T16:11:52.563115+00:00",null,null,null,null,null,null,null,null,"13419","LSPW Wilcox, Susan","13419-LSPW Wilcox, Susan",null,null,null,"AS092988811","Jane Hinckley (092988811) Humanities - Comparative Arts & Letters","AS092988811-Jane Hinckley (092988811) Humanities - Comparative Arts & Letters","Active",null,null,null,null,null,null,null,null,null,null,null,"SC6901","SC6901||8000","8000","Depreciation",null,"JE_PPE|JE_Override"]
[null,null,null,null,null,null,"AC00796","[ENG] Join Plastics - Nelson","AC00796-[ENG] Join Plastics - Nelson","Activity","FD03","Active","2025-03-17T16:11:52.563115+00:00",null,null,null,null,null,null,null,null,"13420","LSPW V-PW26 2020 A-FB TRLR/McM","13420-LSPW V-PW26 2020 A-FB TRLR/McM",null,null,null,"AS093236604","Melissa Newberry (093236604) MSE  - Teacher Education","AS093236604-Melissa Newberry (093236604) MSE  - Teacher Education","Active",null,null,null,null,null,null,null,null,null,null,null,"SC6902","SC6902||1400","1400","Prepaid Expenses",null,"All"]
[null,null,null,null,null,null,"AC00798","[ENG] EXPERIENTIAL LEARNING ME","AC00798-[ENG] EXPERIENTIAL LEARNING ME","Activity","FD03","Active","2025-03-17T16:11:52.563115+00:00",null,null,null,null,null,null,null,null,"13421","LSPW Kent, Scott Dunlop","13421-LSPW Kent, Scott Dunlop",null,null,null,"AS093350422","Genie Lamb (093350422) Retail Services - MTC Store","AS093350422-Genie Lamb (093350422) Retail Services - MTC Store","Active",null,null,null,null,null,null,null,null,null,null,null,"SC6902","SC6902||1625","1625","Capital Equipment",null,"JE_PPE|JE_Override"]
[null,null,null,null,null,null,"AC00799","[ENG] Mentoring Grant D Maynes","AC00799-[ENG] Mentoring Grant D Maynes","Activity","FD03","Active","2025-03-17T16:11:52.563115+00:00",null,null,null,null,null,null,null,null,"13422","LSPW V-PW65 2019 YAMA GATV/McM","13422-LSPW V-PW65 2019 YAMA GATV/McM",null,null,null,"AS093396688","Mike MacKay (093396688) Religious Education - Church History & Doctrine","AS093396688-Mike MacKay (093396688) Religious Education - Church History & Doctrine","Active",null,null,null,null,null,null,null,null,null,null,null,"SC6902","SC6902||1650","1650","Construction in Progress",null,"JE_PPE|JE_Override"]
[null,null,null,null,null,null,"AC00800","[ENG] Faculty Mentoring 1","AC00800-[ENG] Faculty Mentoring 1","Activity","FD03","Active","2025-03-17T16:11:52.563115+00:00",null,null,null,null,null,null,null,null,"13423","LSPW V-PW35 2005 GMC 8 Van/Abb","13423-LSPW V-PW35 2005 GMC 8 Van/Abb",null,null,null,"AS093486263","LeAnna Florence Willmore (093486263) Fine Arts & Communications - School of Music","AS093486263-LeAnna Florence Willmore (093486263) Fine Arts & Communications - School of Music","Active",null,null,null,null,null,null,null,null,null,null,null,"SC6902","SC6902||1651","1651","Construction in Progress (Non-Workday Projects)",null,"All"]
[null,null,null,null,null,null,"AC00801","[ENG] Faculty Mentoring 2","AC00801-[ENG] Faculty Mentoring 2","Activity","FD03","Active","2025-03-17T16:11:52.563115+00:00",null,null,null,null,null,null,null,null,"13424","LSPW DB31 1979 Boat/Aanderud","13424-LSPW DB31 1979 Boat/Aanderud",null,null,null,"AS093516232","Kimberlee Quinn (093516232) CE FSY West","AS093516232-Kimberlee Quinn (093516232) CE FSY West","Active",null,null,null,null,null,null,null,null,null,null,null,"SC6902","SC6902||1700","1700","Accumulated Depreciation",null,"JE_PPE|JE_Override"]
[null,null,null,null,null,null,"AC00802","[ENG] Faculty Mentoring 3","AC00802-[ENG] Faculty Mentoring 3","Activity","FD03","Active","2025-03-17T16:11:52.563115+00:00",null,null,null,null,null,null,null,null,"13425","LSPW Charles Redd Center","13425-LSPW Charles Redd Center",null,null,null,"AS093594587","Chad Nielson (093594587) PF Flooring & Upholstery Shop","AS093594587-Chad Nielson (093594587) PF Flooring & Upholstery Shop","Active",null,null,null,null,null,null,null,null,null,null,null,"SC6902","SC6902||6900","6900","Equipment, Software, Library","Primary","All"]
[null,null,null,null,null,null,"AC00803","[ENG] Manufacturing Engineering","AC00803-[ENG] Manufacturing Engineering","Activity","FD01","Active","2025-12-23T03:03:46.402357+00:00",null,null,null,null,null,null,null,null,"13426","LSPW V-PW21 2019 ECHO TRLR/Hop","13426-LSPW V-PW21 2019 ECHO TRLR/Hop",null,null,null,"AS093654513","Bob Ridge (093654513) FHSS - Psychology","AS093654513-Bob Ridge (093654513) FHSS - Psychology","Active",null,null,null,null,null,null,null,null,null,null,null,"SC6902","SC6902||8000","8000","Depreciation",null,"JE_PPE|JE_Override"]
[null,null,null,null,null,null,"AC00804","[ENG] Brent Strong","AC00804-[ENG] Brent Strong","Activity","FD01","Active","2025-03-17T16:11:52.563115+00:00",null,null,null,null,null,null,null,null,"13427","LSPW V-PW75 2018 SRTC/Larsen","13427-LSPW V-PW75 2018 SRTC/Larsen",null,null,null,"AS093734228","Randy Corbett (093734228) Fine Arts & Communications - School of Music","AS093734228-Randy Corbett (093734228) Fine Arts & Communications - School of Music","Active",null,null,null,null,null,null,null,null,null,null,null,"SC6903","SC6903||1400","1400","Prepaid Expenses",null,"All"]
[null,null,null,null,null,null,"AC00805","[ENG] Charles Harrell","AC00805-[ENG] Charles Harrell","Activity","FD01","Active","2025-03-17T16:11:52.563115+00:00",null,null,null,null,null,null,null,null,"13428","LSPW V-PW18 2018 SRTC/Larsen","13428-LSPW V-PW18 2018 SRTC/Larsen",null,null,null,"AS093794797","Natalie Broekman (093794797) Athletics - Gymnastics","AS093794797-Natalie Broekman (093794797) Athletics - Gymnastics","Active",null,null,null,null,null,null,null,null,null,null,null,"SC6903","SC6903||1625","1625","Capital Equipment",null,"JE_PPE|JE_Override"]
[null,null,null,null,null,null,"AC00806","[ENG] Venture Factory","AC00806-[ENG] Venture Factory","Activity","FD02","Active","2025-03-17T16:11:52.563115+00:00",null,null,null,null,null,null,null,null,"13429","LSPW V-PW93 2016 UTV/Hansen N.","13429-LSPW V-PW93 2016 UTV/Hansen N.",null,null,null,"AS094053349","Kaika Cole (094053349) Fine Arts & Communications - Dance","AS094053349-Kaika Cole (094053349) Fine Arts & Communications - Dance","Active",null,null,null,null,null,null,null,null,null,null,null,"SC6903","SC6903||1650","1650","Construction in Progress",null,"JE_PPE|JE_Override"]
[null,null,null,null,null,null,"AC00807","[ENG] SAMPE-BYU St Chpt","AC00807-[ENG] SAMPE-BYU St Chpt","Activity","FD02","Active","2025-09-25T02:03:47.482912+00:00",null,null,null,null,null,null,null,null,"13430","LSPW PWS 168 Personal Genomics","13430-LSPW PWS 168 Personal Genomics",null,null,null,"AS094249479","Shaun Sessions (094249479) OIT Resource - CES Network Center (CNC )- Engineering","AS094249479-Shaun Sessions (094249479) OIT Resource - CES Network Center (CNC )- Engineering","Active",null,null,null,null,null,null,null,null,null,null,null,"SC6903","SC6903||1651","1651","Construction in Progress (Non-Workday Projects)",null,"All"]
[null,null,null,null,null,null,"AC00808","[ENG] Society of Mfg Engineers","AC00808-[ENG] Society of Mfg Engineers","Activity","FD02","Active","2025-03-17T16:11:52.563115+00:00",null,null,null,null,null,null,null,null,"13431","LSPW PWS 335 Comp. Animal Nutr","13431-LSPW PWS 335 Comp. Animal Nutr",null,null,null,"AS094297332","Melanie Cox (094297332) Religious Education - Church History & Doctrine","AS094297332-Melanie Cox (094297332) Religious Education - Church History & Doctrine","Active",null,null,null,null,null,null,null,null,null,null,null,"SC6903","SC6903||1700","1700","Accumulated Depreciation",null,"JE_PPE|JE_Override"]
[null,null,null,null,null,null,"AC00809","[ENG] Rapid Prototype Machine","AC00809-[ENG] Rapid Prototype Machine","Activity","FD02","Active","2025-03-17T16:11:52.563115+00:00",null,null,null,null,null,null,null,null,"13432","LSPW PWS 155 Careers in Env. S","13432-LSPW PWS 155 Careers in Env. S",null,null,null,"AS094488103","Jason Douglas (094488103) OIT Leadership - CES Architecture","AS094488103-Jason Douglas (094488103) OIT Leadership - CES Architecture","Active",null,null,null,null,null,null,null,null,null,null,null,"SC6903","SC6903||6900","6900","Equipment, Software, Library","Primary","All"]
[null,null,null,null,null,null,"AC00810","[ENG] Waterjet Machine","AC00810-[ENG] Waterjet Machine","Activity","FD02","Active","2025-03-17T16:11:52.563115+00:00",null,null,null,null,null,null,null,null,"13433","LSPW PWS 481 S.Studies/Land.Ma","13433-LSPW PWS 481 S.Studies/Land.Ma",null,null,null,"AS094493845","Chad Turley (094493845) CE Online Learning","AS094493845-Chad Turley (094493845) CE Online Learning","Active",null,null,null,null,null,null,null,null,null,null,null,"SC6903","SC6903||8000","8000","Depreciation",null,"JE_PPE|JE_Override"]
[null,null,null,null,null,null,"AC00811","[ENG] BYU Women in Manufacturing","AC00811-[ENG] BYU Women in Manufacturing","Activity","FD02","Active","2025-03-17T16:11:52.563115+00:00",null,null,null,null,null,null,null,null,"13434","LSPW Nelson, Shannon","13434-LSPW Nelson, Shannon",null,null,null,"AS094506491","Carrie Sandholtz (094506491) Humanities - Spanish & Portuguese","AS094506491-Carrie Sandholtz (094506491) Humanities - Spanish & Portuguese","Active",null,null,null,null,null,null,null,null,null,null,null,"SC6904","SC6904||1400","1400","Prepaid Expenses",null,"All"]
[null,null,null,null,null,null,"AC00812","[ENG] Strong Residual","AC00812-[ENG] Strong Residual","Activity","FD03","Active","2025-03-17T16:11:52.563115+00:00",null,null,null,null,null,null,null,null,"13435","LSPW HC Golf Extrav.&Career Fa","13435-LSPW HC Golf Extrav.&Career Fa",null,null,null,"AS094613092","Kathy Behling (094613092) FHSS - History","AS094613092-Kathy Behling (094613092) FHSS - History","Active",null,null,null,null,null,null,null,null,null,null,null,"SC6904","SC6904||1625","1625","Capital Equipment",null,"JE_PPE|JE_Override"]
[null,null,null,null,null,null,"AC00813","[ENG] Development Research","AC00813-[ENG] Development Research","Activity","FD03","Active","2025-03-17T16:11:52.563115+00:00",null,null,null,null,null,null,null,null,"13436","LSPW PWS 315 Conflict Resol. M","13436-LSPW PWS 315 Conflict Resol. M",null,null,null,"AS094633696","Michael Pease (094633696) Student Wellness","AS094633696-Michael Pease (094633696) Student Wellness","Active",null,null,null,null,null,null,null,null,null,null,null,"SC6904","SC6904||1650","1650","Construction in Progress",null,"JE_PPE|JE_Override"]
[null,null,null,null,null,null,"AC00814","[ENG] Residual-Cadsimulati","AC00814-[ENG] Residual-Cadsimulati","Activity","FD03","Active","2025-03-17T16:11:52.563115+00:00",null,null,null,null,null,null,null,null,"13437","LSPW PWS 405 Envir. Chemistry","13437-LSPW PWS 405 Envir. Chemistry",null,null,null,"AS094715756","Shannon Mahana (094715756) Food To-Go","AS094715756-Shannon Mahana (094715756) Food To-Go","Active",null,null,null,null,null,null,null,null,null,null,null,"SC6904","SC6904||1651","1651","Construction in Progress (Non-Workday Projects)",null,"All"]
[null,null,null,null,null,null,"AC00815","[ENG] T Nelson-Contract Funds","AC00815-[ENG] T Nelson-Contract Funds","Activity","FD03","Active","2025-03-17T16:11:52.563115+00:00",null,null,null,null,null,null,null,null,"13438","LSPW PWS 406 Envir. Chemistry","13438-LSPW PWS 406 Envir. Chemistry",null,null,null,"AS095019039","Derryck Dunn (095019039) Retail Services - Product Acquisition","AS095019039-Derryck Dunn (095019039) Retail Services - Product Acquisition","Active",null,null,null,null,null,null,null,null,null,null,null,"SC6904","SC6904||1700","1700","Accumulated Depreciation",null,"JE_PPE|JE_Override"]
[null,null,null,null,null,null,"AC00816","[ENG] AB Strong-GE Professorship","AC00816-[ENG] AB Strong-GE Professorship","Activity","FD03","Active","2025-03-17T16:11:52.563115+00:00",null,null,null,null,null,null,null,null,"13439","LSPW PWS 513 Envir. Field Intr","13439-LSPW PWS 513 Envir. Field Intr",null,null,null,"AS095061117","Laura Padilla-Walker (095061117) Academic Vice President","AS095061117-Laura Padilla-Walker (095061117) Academic Vice President","Active",null,null,null,null,null,null,null,null,null,null,null,"SC6904","SC6904||6900","6900","Equipment, Software, Library","Primary","All"]
[null,null,null,null,null,null,"AC00818","[ENG] EXPERIENTIAL LEARNING MET","AC00818-[ENG] EXPERIENTIAL LEARNING MET","Activity","FD03","Active","2025-03-17T16:11:52.563115+00:00",null,null,null,null,null,null,null,null,"13440","LSPW PWS 586 Plant Cell Biolog","13440-LSPW PWS 586 Plant Cell Biolog",null,null,null,"AS095115976","Jason Sorensen (095115976) CMS - Chemistry and Biochemistry","AS095115976-Jason Sorensen (095115976) CMS - Chemistry and Biochemistry","Active",null,null,null,null,null,null,null,null,null,null,null,"SC6904","SC6904||8000","8000","Depreciation",null,"JE_PPE|JE_Override"]
[null,null,null,null,null,null,"AC00819","[HUM] Research Support","AC00819-[HUM] Research Support","Activity","FD01","Active","2025-03-17T16:11:52.563115+00:00",null,null,null,null,null,null,null,null,"13441","LSPW PWS 634 Analysis of Popul","13441-LSPW PWS 634 Analysis of Popul",null,null,null,"AS095284696","Cori Reynolds (095284696) AVP - Dean, College of Nursing","AS095284696-Cori Reynolds (095284696) AVP - Dean, College of Nursing","Active",null,null,null,null,null,null,null,null,null,null,null,"SC6905","SC6905||1400","1400","Prepaid Expenses",null,"All"]
[null,null,null,null,null,null,"AC00820","[HUM] Humanities DMAC","AC00820-[HUM] Humanities DMAC","Activity","FD01","Active","2025-10-29T02:04:15.530507+00:00",null,null,null,null,null,null,null,null,"13442","LSPW PWS 660 Envir. Site Evalu","13442-LSPW PWS 660 Envir. Site Evalu",null,null,null,"AS095380991","Natalie H Miles (095380991) Brand & Creative","AS095380991-Natalie H Miles (095380991) Brand & Creative","Active",null,null,null,null,null,null,null,null,null,null,null,"SC6905","SC6905||1625","1625","Capital Equipment",null,"JE_PPE|JE_Override"]
[null,null,null,null,null,null,"AC00821","[HUM] International Cinema","AC00821-[HUM] International Cinema","Activity","FD01","Active","2025-03-17T16:11:52.563115+00:00",null,null,null,null,null,null,null,null,"13443","LSPW PWS 588/469 Metagenomics","13443-LSPW PWS 588/469 Metagenomics",null,null,null,"AS095433130","Christopher Reeves (095433130) PMPC Administration","AS095433130-Christopher Reeves (095433130) PMPC Administration","Active",null,null,null,null,null,null,null,null,null,null,null,"SC6905","SC6905||1650","1650","Construction in Progress",null,"JE_PPE|JE_Override"]
[null,null,null,null,null,null,"AC00822","[HUM] Foreign Language Teacher Summer Institute","AC00822-[HUM] Foreign Language Teacher Summer Institute","Activity","FD01","Active","2025-03-17T16:11:52.563115+00:00",null,null,null,null,null,null,null,null,"13444","LSPW PWS 470 Genomic Analysis","13444-LSPW PWS 470 Genomic Analysis",null,null,null,"AS095509230","Michael Larson (095509230) FHSS - Psychology","AS095509230-Michael Larson (095509230) FHSS - Psychology","Active",null,null,null,null,null,null,null,null,null,null,null,"SC6905","SC6905||1651","1651","Construction in Progress (Non-Workday Projects)",null,"All"]
[null,null,null,null,null,null,"AC00824","[HUM] Humanities Copy Machines","AC00824-[HUM] Humanities Copy Machines","Activity","FD02","Active","2025-03-17T16:11:52.563115+00:00",null,null,null,null,null,null,null,null,"13445","LSPW PWS 553 Restoration Ecolo","13445-LSPW PWS 553 Restoration Ecolo",null,null,null,"AS095564660","Brandon Rogers (095564660) Humanities - Spanish & Portuguese","AS095564660-Brandon Rogers (095564660) Humanities - Spanish & Portuguese","Active",null,null,null,null,null,null,null,null,null,null,null,"SC6905","SC6905||1700","1700","Accumulated Depreciation",null,"JE_PPE|JE_Override"]
[null,null,null,null,null,null,"AC00825","[HUM] Humanities Royalties","AC00825-[HUM] Humanities Royalties","Activity","FD03","Active","2025-03-17T16:11:52.563115+00:00",null,null,null,null,null,null,null,null,"13447","LSPW V-PW63 2019 Honda ATV/Rob","13447-LSPW V-PW63 2019 Honda ATV/Rob",null,null,null,"AS095654939","David Moore (095654939) Academic Vice President","AS095654939-David Moore (095654939) Academic Vice President","Active",null,null,null,null,null,null,null,null,null,null,null,"SC6905","SC6905||6900","6900","Equipment, Software, Library","Primary","All"]
[null,null,null,null,null,null,"AC00826","[HUM] Hum Faculty Research Grants","AC00826-[HUM] Hum Faculty Research Grants","Activity","FD03","Active","2025-03-17T16:11:52.563115+00:00",null,null,null,null,null,null,null,null,"13448","LSPW V-PW13 2014 F Trailer/Lar","13448-LSPW V-PW13 2014 F Trailer/Lar",null,null,null,"AS095690725","Christian McClellan (095690725) Student Wellness","AS095690725-Christian McClellan (095690725) Student Wellness","Active",null,null,null,null,null,null,null,null,null,null,null,"SC6905","SC6905||8000","8000","Depreciation",null,"JE_PPE|JE_Override"]
[null,null,null,null,null,null,"AC00827","[HUM] Humanities Internship Program","AC00827-[HUM] Humanities Internship Program","Activity","FD03","Active","2025-03-17T16:11:52.563115+00:00",null,null,null,null,null,null,null,null,"13449","LSPW Alcaligenes Project/Aande","13449-LSPW Alcaligenes Project/Aande",null,null,null,"AS095763998","Caroline Potter (095763998) Helaman Halls","AS095763998-Caroline Potter (095763998) Helaman Halls","Active",null,null,null,null,null,null,null,null,null,null,null,"SC6906","SC6906||1400","1400","Prepaid Expenses",null,"All"]
[null,null,null,null,null,null,"AC00829","[HUM] Humanities Exp Learning","AC00829-[HUM] Humanities Exp Learning","Activity","FD03","Active","2025-03-17T16:11:52.563115+00:00",null,null,null,null,null,null,null,null,"13450","LSPW Ranjana Pal","13450-LSPW Ranjana Pal",null,null,null,"AS095798542","Kevin Paxton (095798542) Risk Management and Safety","AS095798542-Kevin Paxton (095798542) Risk Management and Safety","Active",null,null,null,null,null,null,null,null,null,null,null,"SC6906","SC6906||1625","1625","Capital Equipment",null,"JE_PPE|JE_Override"]
[null,null,null,null,null,null,"AC00830","[HUM] WSTAR Research Group","AC00830-[HUM] WSTAR Research Group","Activity","FD01","Active","2025-03-17T16:11:52.563115+00:00",null,null,null,null,null,null,null,null,"13451","LSPW V-PW22 2019SnakeRTrail/Al","13451-LSPW V-PW22 2019SnakeRTrail/Al",null,null,null,"AS095811804","Christian Tupou (095811804) Athletics - Football Sport Performance","AS095811804-Christian Tupou (095811804) Athletics - Football Sport Performance","Active",null,null,null,null,null,null,null,null,null,null,null,"SC6906","SC6906||1650","1650","Construction in Progress",null,"JE_PPE|JE_Override"]
[null,null,null,null,null,null,"AC00831","[HUM] Translation Studies Research Group","AC00831-[HUM] Translation Studies Research Group","Activity","FD01","Active","2025-03-17T16:11:52.563115+00:00",null,null,null,null,null,null,null,null,"13452","LSPW V-PW25 2019SnakeRTrailer/","13452-LSPW V-PW25 2019SnakeRTrailer/",null,null,null,"AS095964435","Tuckett Slade (095964435) Athletics - Baseball","AS095964435-Tuckett Slade (095964435) Athletics - Baseball","Active",null,null,null,null,null,null,null,null,null,null,null,"SC6906","SC6906||1651","1651","Construction in Progress (Non-Workday Projects)",null,"All"]
[null,null,null,null,null,null,"AC00833","[HUM] Black Music Research Group","AC00833-[HUM] Black Music Research Group","Activity","FD01","Active","2025-03-17T16:11:52.563115+00:00",null,null,null,null,null,null,null,null,"13453","LSPW V-PW 1 2017 TOYT T.Truck/","13453-LSPW V-PW 1 2017 TOYT T.Truck/",null,null,null,"AS096148278","Vianey Villamizar Gonzalez (096148278) CMS - Mathematics","AS096148278-Vianey Villamizar Gonzalez (096148278) CMS - Mathematics","Active",null,null,null,null,null,null,null,null,null,null,null,"SC6906","SC6906||1700","1700","Accumulated Depreciation",null,"JE_PPE|JE_Override"]
[null,null,null,null,null,null,"AC00835","[HUM] Theology & Humanities Research Group","AC00835-[HUM] Theology & Humanities Research Group","Activity","FD01","Active","2025-03-17T16:11:52.563115+00:00",null,null,null,null,null,null,null,null,"13454","LSPW V-PW2V 2021TOYT TRUCK/DEP","13454-LSPW V-PW2V 2021TOYT TRUCK/DEP",null,null,null,"AS096207426","Holly Kolb (HUM)","AS096207426-Holly Kolb (HUM)","Active",null,null,null,null,null,null,null,null,null,null,null,"SC6906","SC6906||6900","6900","Equipment, Software, Library","Primary","All"]
[null,null,null,null,null,null,"AC00837","[HUM] Applied Humanities Research Group","AC00837-[HUM] Applied Humanities Research Group","Activity","FD01","Active","2025-03-17T16:11:52.563115+00:00",null,null,null,null,null,null,null,null,"13455","LSPW V-PW2V 2017 TOYT.PTruck/P","13455-LSPW V-PW2V 2017 TOYT.PTruck/P",null,null,null,"AS096234010","Eric Smith (096234010) OIT Portfolio - Business, Finance, & HR","AS096234010-Eric Smith (096234010) OIT Portfolio - Business, Finance, & HR","Active",null,null,null,null,null,null,null,null,null,null,null,"SC6906","SC6906||8000","8000","Depreciation",null,"JE_PPE|JE_Override"]
[null,null,null,null,null,null,"AC00838","[HUM] Boarding School Stories Reasearch Group","AC00838-[HUM] Boarding School Stories Reasearch Group","Activity","FD01","Active","2025-03-17T16:11:52.563115+00:00",null,null,null,null,null,null,null,null,"13456","LSPW V-PW4V 2016 TOYT T.Truck/","13456-LSPW V-PW4V 2016 TOYT T.Truck/",null,null,null,"AS096289421","Mike Hill (096289421) Lee Library - R&L Library Instruction","AS096289421-Mike Hill (096289421) Lee Library - R&L Library Instruction","Active",null,null,null,null,null,null,null,null,null,null,null,"SC6907","SC6907||1400","1400","Prepaid Expenses",null,"All"]
[null,null,null,null,null,null,"AC00839","[HUM] Greek & Latin Translation Research Group","AC00839-[HUM] Greek & Latin Translation Research Group","Activity","FD01","Active","2025-03-17T16:11:52.563115+00:00",null,null,null,null,null,null,null,null,"13457","LSPW V-PW6V 2016 TOYT TC Truck","13457-LSPW V-PW6V 2016 TOYT TC Truck",null,null,null,"AS096380687","Shannon Brodie (096380687) Heritage Halls","AS096380687-Shannon Brodie (096380687) Heritage Halls","Active",null,null,null,null,null,null,null,null,null,null,null,"SC6907","SC6907||1625","1625","Capital Equipment",null,"JE_PPE|JE_Override"]
[null,null,null,null,null,null,"AC00840","[HUM] Editing & Publishing Research Group","AC00840-[HUM] Editing & Publishing Research Group","Activity","FD01","Active","2025-03-17T16:11:52.563115+00:00",null,null,null,null,null,null,null,null,"13458","LSPW V-PW5V 2017 FORD Truck/La","13458-LSPW V-PW5V 2017 FORD Truck/La",null,null,null,"AS096543172","Mark Davies (096543172) Dining Services","AS096543172-Mark Davies (096543172) Dining Services","Active",null,null,null,null,null,null,null,null,null,null,null,"SC6907","SC6907||1650","1650","Construction in Progress",null,"JE_PPE|JE_Override"]
[null,null,null,null,null,null,"AC00841","[HUM] Romantic & Victorian Research Group","AC00841-[HUM] Romantic & Victorian Research Group","Activity","FD01","Active","2025-03-17T16:11:52.563115+00:00",null,null,null,null,null,null,null,null,"13459","LSPW V-PW7V 2017 TOYTTruck/St","13459-LSPW V-PW7V 2017 TOYTTruck/St",null,null,null,"AS097060501","Wendy Birmingham (097060501) FHSS - Dean's Office","AS097060501-Wendy Birmingham (097060501) FHSS - Dean's Office","Active",null,null,null,null,null,null,null,null,null,null,null,"SC6907","SC6907||1651","1651","Construction in Progress (Non-Workday Projects)",null,"All"]
[null,null,null,null,null,null,"AC00842","[HUM] MARS Research Group","AC00842-[HUM] MARS Research Group","Activity","FD01","Active","2025-03-17T16:11:52.563115+00:00",null,null,null,null,null,null,null,null,"13460","LSPW V-PW9 2018 TOYT T.Truck/A","13460-LSPW V-PW9 2018 TOYT T.Truck/A",null,null,null,"AS097130319","Stephen Bay (097130319) Humanities - Comparative Arts & Letters","AS097130319-Stephen Bay (097130319) Humanities - Comparative Arts & Letters","Active",null,null,null,null,null,null,null,null,null,null,null,"SC6907","SC6907||1700","1700","Accumulated Depreciation",null,"JE_PPE|JE_Override"]
[null,null,null,null,null,null,"AC00843","[HUM] Literature/Belief Symposium","AC00843-[HUM] Literature/Belief Symposium","Activity","FD03","Active","2025-04-25T02:03:34.420085+00:00",null,null,null,null,null,null,null,null,"13461","LSPW V-PW4V 2018 TOYT T.Truck/","13461-LSPW V-PW4V 2018 TOYT T.Truck/",null,null,null,"AS097295280","Josh Stanfield (097295280) Risk Management & Safety - Environmental Health & Safety","AS097295280-Josh Stanfield (097295280) Risk Management & Safety - Environmental Health & Safety","Active",null,null,null,null,null,null,null,null,null,null,null,"SC6907","SC6907||6900","6900","Equipment, Software, Library","Primary","All"]
[null,null,null,null,null,null,"AC00844","[HUM] Humanities Belonging","AC00844-[HUM] Humanities Belonging","Activity","FD01","Active","2025-03-17T16:11:52.563115+00:00",null,null,null,null,null,null,null,null,"13462","LSPW V-PW6V 2018 TOYTTCTruck/L","13462-LSPW V-PW6V 2018 TOYTTCTruck/L",null,null,null,"AS097305350","Sergei Burov (097305350) CE Software Development","AS097305350-Sergei Burov (097305350) CE Software Development","Active",null,null,null,null,null,null,null,null,null,null,null,"SC6907","SC6907||8000","8000","Depreciation",null,"JE_PPE|JE_Override"]
[null,null,null,null,null,null,"AC00845","[HUM] Humanities Leadership Council","AC00845-[HUM] Humanities Leadership Council","Activity","FD02","Active","2025-03-17T16:11:52.563115+00:00",null,null,null,null,null,null,null,null,"13463","LSPW V-PW16 2017 UNK TRLR/Lars","13463-LSPW V-PW16 2017 UNK TRLR/Lars",null,null,null,"AS097527377","Lisa Hale (097527377) Humanities - English","AS097527377-Lisa Hale (097527377) Humanities - English","Active",null,null,null,null,null,null,null,null,null,null,null,"SC6908","SC6908||1400","1400","Prepaid Expenses",null,"All"]
[null,null,null,null,null,null,"AC00846","[HUM] Translation & Localization Club","AC00846-[HUM] Translation & Localization Club","Activity","FD02","Active","2025-03-17T16:11:52.563115+00:00",null,null,null,null,null,null,null,null,"13464","LSPW V-PW15 2012 JAY TRLR/McMi","13464-LSPW V-PW15 2012 JAY TRLR/McMi",null,null,null,"AS097734838","Alexandre Campos (097734838) PF Building Operations","AS097734838-Alexandre Campos (097734838) PF Building Operations","Active",null,null,null,null,null,null,null,null,null,null,null,"SC6908","SC6908||6900","6900","Equipment, Software, Library","Primary","All"]
[null,null,null,null,null,null,"AC00847","[HUM] Medical Humanities Club","AC00847-[HUM] Medical Humanities Club","Activity","FD02","Active","2025-03-17T16:11:52.563115+00:00",null,null,null,null,null,null,null,null,"13465","LSPW V-PW36 2020 CHV BOLT EV/A","13465-LSPW V-PW36 2020 CHV BOLT EV/A",null,null,null,"AS097763274","Briley Roundy (HUM)","AS097763274-Briley Roundy (HUM)","Active",null,null,null,null,null,null,null,null,null,null,null,"SC6909","SC6909||1400","1400","Prepaid Expenses",null,"All"]
[null,null,null,null,null,null,"AC00848","[HUM] Humanities to Business Club","AC00848-[HUM] Humanities to Business Club","Activity","FD02","Active","2025-03-17T16:11:52.563115+00:00",null,null,null,null,null,null,null,null,"13466","LSPW V-PW59 2013 HOND ATV/Smit","13466-LSPW V-PW59 2013 HOND ATV/Smit",null,null,null,"AS097770556","Matt Curtis (097770556) CE Marketing & Outreach","AS097770556-Matt Curtis (097770556) CE Marketing & Outreach","Active",null,null,null,null,null,null,null,null,null,null,null,"SC6909","SC6909||1625","1625","Capital Equipment",null,"JE_PPE|JE_Override"]
[null,null,null,null,null,null,"AC00849","[HUM] Chinese Club","AC00849-[HUM] Chinese Club","Activity","FD02","Active","2025-03-17T16:11:52.563115+00:00",null,null,null,null,null,null,null,null,"13467","LSPW V-PW60 2010 KUBO TRAC/Arr","13467-LSPW V-PW60 2010 KUBO TRAC/Arr",null,null,null,"AS097944718","Jon Hardy (097944718) Treasury Services","AS097944718-Jon Hardy (097944718) Treasury Services","Active",null,null,null,null,null,null,null,null,null,null,null,"SC6909","SC6909||1700","1700","Accumulated Depreciation",null,"JE_PPE|JE_Override"]
[null,null,null,null,null,null,"AC00850","[HUM] Korean Language & Culture Club","AC00850-[HUM] Korean Language & Culture Club","Activity","FD02","Active","2025-03-17T16:11:52.563115+00:00",null,null,null,null,null,null,null,null,"13468","LSPW V-PW55 2015 Artic Cat ATV","13468-LSPW V-PW55 2015 Artic Cat ATV",null,null,null,"AS097983968","McKenzie Rees (097983968) MSB - Management","AS097983968-McKenzie Rees (097983968) MSB - Management","Active",null,null,null,null,null,null,null,null,null,null,null,"SC6909","SC6909||6900","6900","Equipment, Software, Library","Primary","All"]
[null,null,null,null,null,null,"AC00851","[HUM] Japan Club","AC00851-[HUM] Japan Club","Activity","FD02","Active","2025-03-17T16:11:52.563115+00:00",null,null,null,null,null,null,null,null,"13469","LSPW V-PW56 2014 Honda ATV/Lar","13469-LSPW V-PW56 2014 Honda ATV/Lar",null,null,null,"AS098317976","Anton Bowden (098317976) College of Engineering - Mechanical Engineering","AS098317976-Anton Bowden (098317976) College of Engineering - Mechanical Engineering","Active",null,null,null,null,null,null,null,null,null,null,null,"SC6909","SC6909||8000","8000","Depreciation",null,"JE_PPE|JE_Override"]
[null,null,null,null,null,null,"AC00852","[HUM] Japanese Language Fair","AC00852-[HUM] Japanese Language Fair","Activity","FD02","Active","2025-03-17T16:11:52.563115+00:00",null,null,null,null,null,null,null,null,"13470","LSPW V-PW65 2007 Honda ATV/Lar","13470-LSPW V-PW65 2007 Honda ATV/Lar",null,null,null,"AS098330149","David Morris (098330149) Regulatory Accounting","AS098330149-David Morris (098330149) Regulatory Accounting","Active",null,null,null,null,null,null,null,null,null,null,null,"SC6910","SC6910||1400","1400","Prepaid Expenses",null,"All"]
[null,null,null,null,null,null,"AC00853","[HUM] Japan Student Assoc","AC00853-[HUM] Japan Student Assoc","Activity","FD02","Active","2025-03-17T16:11:52.563115+00:00",null,null,null,null,null,null,null,null,"13471","LSPW V-PW89 2000KubotaTrac/Mad","13471-LSPW V-PW89 2000KubotaTrac/Mad",null,null,null,"AS098407041","Pania Sagapolutele (098407041) CE FSY Travel","AS098407041-Pania Sagapolutele (098407041) CE FSY Travel","Active",null,null,null,null,null,null,null,null,null,null,null,"SC6910","SC6910||1625","1625","Capital Equipment",null,"JE_PPE|JE_Override"]
[null,null,null,null,null,null,"AC00854","[HUM] BYU Hebrew Student Association","AC00854-[HUM] BYU Hebrew Student Association","Activity","FD02","Active","2025-03-17T16:11:52.563115+00:00",null,null,null,null,null,null,null,null,"13472","LSPW V-PW92V 1997 Sierra Trail","13472-LSPW V-PW92V 1997 Sierra Trail",null,null,null,"AS098504004","Taylor Wells (098504004) MSB - Information Systems","AS098504004-Taylor Wells (098504004) MSB - Information Systems","Active",null,null,null,null,null,null,null,null,null,null,null,"SC6910","SC6910||1650","1650","Construction in Progress",null,"JE_PPE|JE_Override"]
[null,null,null,null,null,null,"AC00855","[HUM] Arabic Club","AC00855-[HUM] Arabic Club","Activity","FD02","Active","2025-03-17T16:11:52.563115+00:00",null,null,null,null,null,null,null,null,"13473","LSPW V-PW58 2015 Honda ATV/Smi","13473-LSPW V-PW58 2015 Honda ATV/Smi",null,null,null,"AS098635396","David Robertson (098635396) CE Software Development","AS098635396-David Robertson (098635396) CE Software Development","Active",null,null,null,null,null,null,null,null,null,null,null,"SC6910","SC6910||1651","1651","Construction in Progress (Non-Workday Projects)",null,"All"]
[null,null,null,null,null,null,"AC00856","[HUM] Nihongo Program","AC00856-[HUM] Nihongo Program","Activity","FD03","Active","2025-03-17T16:11:52.563115+00:00",null,null,null,null,null,null,null,null,"13474","LSPW V-PW66 2015 BIG TRLR/Arri","13474-LSPW V-PW66 2015 BIG TRLR/Arri",null,null,null,"AS098686472","Charles Tuua (098686472) MTC Dining","AS098686472-Charles Tuua (098686472) MTC Dining","Active",null,null,null,null,null,null,null,null,null,null,null,"SC6910","SC6910||1700","1700","Accumulated Depreciation",null,"JE_PPE|JE_Override"]
[null,null,null,null,null,null,"AC00857","[HUM] Ind Study Course Development","AC00857-[HUM] Ind Study Course Development","Activity","FD03","Active","2025-03-17T16:11:52.563115+00:00",null,null,null,null,null,null,null,null,"13475","LSPW V-PW67 2012 BIG TRLR/Arri","13475-LSPW V-PW67 2012 BIG TRLR/Arri",null,null,null,"AS098724750","Taylor Landon (FHSS)","AS098724750-Taylor Landon (FHSS)","Active",null,null,null,null,null,null,null,null,null,null,null,"SC6910","SC6910||6900","6900","Equipment, Software, Library","Primary","All"]
[null,null,null,null,null,null,"AC00859","[HUM] American Sign Language","AC00859-[HUM] American Sign Language","Activity","FD01","Active","2025-12-06T03:03:38.279382+00:00",null,null,null,null,null,null,null,null,"13476","LSPW V-PW82 2014 Polaris SNO/L","13476-LSPW V-PW82 2014 Polaris SNO/L",null,null,null,"AS098946008","Spencer Waddell (098946008) Fine Arts & Communications - Dance","AS098946008-Spencer Waddell (098946008) Fine Arts & Communications - Dance","Active",null,null,null,null,null,null,null,null,null,null,null,"SC6910","SC6910||8000","8000","Depreciation",null,"JE_PPE|JE_Override"]
[null,null,null,null,null,null,"AC00860","[HUM] CLS-Measurement & Evaluation","AC00860-[HUM] CLS-Measurement & Evaluation","Activity","FD01","Active","2025-03-17T16:11:52.563115+00:00",null,null,null,null,null,null,null,null,"13477","LSPW V-PW68 2016 Honda ATV/All","13477-LSPW V-PW68 2016 Honda ATV/All",null,null,null,"AS098989264","Brian Santiago (098989264) Advance VP - Director, Athletics","AS098989264-Brian Santiago (098989264) Advance VP - Director, Athletics","Active",null,null,null,null,null,null,null,null,null,null,null,"SC6911","SC6911||1400","1400","Prepaid Expenses",null,"All"]
[null,null,null,null,null,null,"AC00861","[HUM] CLS-Research & Proficiency Srvcs","AC00861-[HUM] CLS-Research & Proficiency Srvcs","Activity","FD01","Active","2025-08-16T02:03:35.658414+00:00",null,null,null,null,null,null,null,null,"13478","LSPW V-PW41 2016 YAMA ATV/Ande","13478-LSPW V-PW41 2016 YAMA ATV/Ande",null,null,null,"AS099054981","Marin Barney (099054981) Marketing and Production - Marketing Services","AS099054981-Marin Barney (099054981) Marketing and Production - Marketing Services","Active",null,null,null,null,null,null,null,null,null,null,null,"SC6911","SC6911||1625","1625","Capital Equipment",null,"JE_PPE|JE_Override"]
[null,null,null,null,null,null,"AC00862","[HUM] CLS-Translation & Localization","AC00862-[HUM] CLS-Translation & Localization","Activity","FD01","Active","2025-03-17T16:11:52.563115+00:00",null,null,null,null,null,null,null,null,"13479","LSPWV-PW3V 2015 Ram Truck/Ande","13479-LSPWV-PW3V 2015 Ram Truck/Ande",null,null,null,"AS099166466","Lauryn Wilde (099166466) Humanities WordCruncher Office","AS099166466-Lauryn Wilde (099166466) Humanities WordCruncher Office","Active",null,null,null,null,null,null,null,null,null,null,null,"SC6911","SC6911||1700","1700","Accumulated Depreciation",null,"JE_PPE|JE_Override"]
[null,null,null,null,null,null,"AC00863","[HUM] CLS-Curriculum & Instruction","AC00863-[HUM] CLS-Curriculum & Instruction","Activity","FD01","Active","2025-12-03T03:06:59.182694+00:00",null,null,null,null,null,null,null,null,"13480","LSPW V-PW20 2017 Ram Truck/Pet","13480-LSPW V-PW20 2017 Ram Truck/Pet",null,null,null,"AS099261636","Bridger Lisonbee (099261636)","AS099261636-Bridger Lisonbee (099261636)","Active",null,null,null,null,null,null,null,null,null,null,null,"SC6911","SC6911||6900","6900","Equipment, Software, Library","Primary","All"]
[null,null,null,null,null,null,"AC00864","[HUM] CES-Global Education Support","AC00864-[HUM] CES-Global Education Support","Activity","FD01","Active","2025-03-17T16:11:52.563115+00:00",null,null,null,null,null,null,null,null,"13481","LSPW V-PW32V 2017 TOYT Truck/P","13481-LSPW V-PW32V 2017 TOYT Truck/P",null,null,null,"AS099403160","Blaine Winters (099403160) AVP - Dean, College of Nursing","AS099403160-Blaine Winters (099403160) AVP - Dean, College of Nursing","Active",null,null,null,null,null,null,null,null,null,null,null,"SC6911","SC6911||8000","8000","Depreciation",null,"JE_PPE|JE_Override"]
[null,null,null,null,null,null,"AC00865","[HUM] American Sign Language Club","AC00865-[HUM] American Sign Language Club","Activity","FD02","Active","2025-03-17T16:11:52.563115+00:00",null,null,null,null,null,null,null,null,"13482","LSPW V-PW80 2018 AL Trailer/An","13482-LSPW V-PW80 2018 AL Trailer/An",null,null,null,"AS099746864","Garrett Boden (099746864) Lee Library - R&L Library Instruction","AS099746864-Garrett Boden (099746864) Lee Library - R&L Library Instruction","Active",null,null,null,null,null,null,null,null,null,null,null,"SC6912","SC6912||1400","1400","Prepaid Expenses",null,"All"]
[null,null,null,null,null,null,"AC00866","[HUM] CLS Graduate","AC00866-[HUM] CLS Graduate","Activity","FD01","Active","2025-03-17T16:11:52.563115+00:00",null,null,null,null,null,null,null,null,"13483","LSPW V-PW31 Welding TRLR/Madse","13483-LSPW V-PW31 Welding TRLR/Madse",null,null,null,"AS099753917","Yina Patterson (099753917) Humanities - Asian & Near Eastern Languages","AS099753917-Yina Patterson (099753917) Humanities - Asian & Near Eastern Languages","Active",null,null,null,null,null,null,null,null,null,null,null,"SC6912","SC6912||6900","6900","Equipment, Software, Library","Primary","All"]
[null,null,null,null,null,null,"AC00867","[HUM] WebCAPE","AC00867-[HUM] WebCAPE","Activity","FD03","Active","2025-03-17T16:11:52.563115+00:00",null,null,null,null,null,null,null,null,"13484","LSPW V-PW75 1980 Home Trailer/","13484-LSPW V-PW75 1980 Home Trailer/",null,null,null,"AS099967397","Tanner Eastmond (099967397) FHSS - Economics","AS099967397-Tanner Eastmond (099967397) FHSS - Economics","Active",null,null,null,null,null,null,null,null,null,null,null,"SC6913","SC6913||1400","1400","Prepaid Expenses",null,"All"]
[null,null,null,null,null,null,"AC00868","[HUM] Mentored Learning-Ext Funded","AC00868-[HUM] Mentored Learning-Ext Funded","Activity","FD03","Active","2025-03-17T16:11:52.563115+00:00",null,null,null,null,null,null,null,null,"13485","LSPW V-PW31 2018 GMC STruck/PW","13485-LSPW V-PW31 2018 GMC STruck/PW",null,null,null,"AS100036881","David Neilsen (100036881) CMS - Physics and Astronomy","AS100036881-David Neilsen (100036881) CMS - Physics and Astronomy","Active",null,null,null,null,null,null,null,null,null,null,null,"SC6913","SC6913||1625","1625","Capital Equipment",null,"JE_PPE|JE_Override"]
[null,null,null,null,null,null,"AC00869","[HUM] Eye Tracking Research Grant","AC00869-[HUM] Eye Tracking Research Grant","Activity","FD03","Active","2025-03-17T16:11:52.563115+00:00",null,null,null,null,null,null,null,null,"13486","LSPW V-PW51 2018 YAMA ATV/Lars","13486-LSPW V-PW51 2018 YAMA ATV/Lars",null,null,null,"AS100411981","Sarah Alatorre (100411981) Alumni Aspen Grove","AS100411981-Sarah Alatorre (100411981) Alumni Aspen Grove","Active",null,null,null,null,null,null,null,null,null,null,null,"SC6913","SC6913||1700","1700","Accumulated Depreciation",null,"JE_PPE|JE_Override"]
[null,null,null,null,null,null,"AC00870","[HUM] Comp Adaptive Lang Test: CALT","AC00870-[HUM] Comp Adaptive Lang Test: CALT","Activity","FD03","Active","2025-03-17T16:11:52.563115+00:00",null,null,null,null,null,null,null,null,"13487","LSPW V-PW65V 2013 YAMA ATV/Lar","13487-LSPW V-PW65V 2013 YAMA ATV/Lar",null,null,null,"AS100524882","Michael Biggerstaff (100524882) Religious Education - Ancient Scripture","AS100524882-Michael Biggerstaff (100524882) Religious Education - Ancient Scripture","Active",null,null,null,null,null,null,null,null,null,null,null,"SC6913","SC6913||6900","6900","Equipment, Software, Library","Primary","All"]
[null,null,null,null,null,null,"AC00872","[HUM] Machine Learning&LASER-PIA2022","AC00872-[HUM] Machine Learning&LASER-PIA2022","Activity","FD03","Active","2025-03-17T16:11:52.563115+00:00",null,null,null,null,null,null,null,null,"13488","LSPW VRI/PWS Dep/Hansen&Hopkin","13488-LSPW VRI/PWS Dep/Hansen&Hopkin",null,null,null,"AS100537744","Lia Saunders (100537744) Cougareat","AS100537744-Lia Saunders (100537744) Cougareat","Active",null,null,null,null,null,null,null,null,null,null,null,"SC6913","SC6913||8000","8000","Depreciation",null,"JE_PPE|JE_Override"]
[null,null,null,null,null,null,"AC00873","[HUM] CLS-ASL (non-budgeted)","AC00873-[HUM] CLS-ASL (non-budgeted)","Activity","FD03","Active","2025-04-25T02:03:34.420085+00:00",null,null,null,null,null,null,null,null,"13489","LSPW VRI/Geography Dep/Jenson","13489-LSPW VRI/Geography Dep/Jenson",null,null,null,"AS100575024","Lincoln Blumell (100575024) Religious Education - Ancient Scripture","AS100575024-Lincoln Blumell (100575024) Religious Education - Ancient Scripture","Active",null,null,null,null,null,null,null,null,null,null,null,"SC6914","SC6914||1400","1400","Prepaid Expenses",null,"All"]
[null,null,null,null,null,null,"AC00874","[HUM] CLS-GES (non-budgeted)","AC00874-[HUM] CLS-GES (non-budgeted)","Activity","FD03","Active","2025-04-25T02:03:34.420085+00:00",null,null,null,null,null,null,null,null,"13490","LSPW VRI/Statistics Dep/Heaton","13490-LSPW VRI/Statistics Dep/Heaton",null,null,null,"AS100660268","Dustin Bruening (100660268) Life Sciences - Exercise Sciences","AS100660268-Dustin Bruening (100660268) Life Sciences - Exercise Sciences","Active",null,null,null,null,null,null,null,null,null,null,null,"SC6914","SC6914||1625","1625","Capital Equipment",null,"JE_PPE|JE_Override"]
[null,null,null,null,null,null,"AC00875","[HUM] CLS-R&PS (non-budgeted)","AC00875-[HUM] CLS-R&PS (non-budgeted)","Activity","FD03","Active","2025-04-25T02:03:34.420085+00:00",null,null,null,null,null,null,null,null,"13491","LSPW Native AmerGrant/Stewart","13491-LSPW Native AmerGrant/Stewart",null,null,null,"AS100851493","Chooi Low (100851493) Culinary Support Center","AS100851493-Chooi Low (100851493) Culinary Support Center","Active",null,null,null,null,null,null,null,null,null,null,null,"SC6914","SC6914||1650","1650","Construction in Progress",null,"JE_PPE|JE_Override"]
[null,null,null,null,null,null,"AC00877","[HUM] Language Houses","AC00877-[HUM] Language Houses","Activity","FD02","Active","2025-03-17T16:11:52.563115+00:00",null,null,null,null,null,null,null,null,"13492","LSPW Charles Redd Center/Smith","13492-LSPW Charles Redd Center/Smith",null,null,null,"AS101152079","Charles White (101152079) PF Paint & Sign Shop","AS101152079-Charles White (101152079) PF Paint & Sign Shop","Active",null,null,null,null,null,null,null,null,null,null,null,"SC6914","SC6914||1651","1651","Construction in Progress (Non-Workday Projects)",null,"All"]
[null,null,null,null,null,null,"AC00879","[HUM] Italian Language House","AC00879-[HUM] Italian Language House","Activity","FD02","Active","2025-03-17T16:11:52.563115+00:00",null,null,null,null,null,null,null,null,"13493","LSPW SANT-Bears Ears Research-","13493-LSPW SANT-Bears Ears Research-",null,null,null,"AS101219233","Kyoko Jensen (101219233) Humanities - Asian & Near Eastern Languages","AS101219233-Kyoko Jensen (101219233) Humanities - Asian & Near Eastern Languages","Active",null,null,null,null,null,null,null,null,null,null,null,"SC6914","SC6914||1700","1700","Accumulated Depreciation",null,"JE_PPE|JE_Override"]
[null,null,null,null,null,null,"AC00880","[HUM] French Language House","AC00880-[HUM] French Language House","Activity","FD02","Active","2025-03-17T16:11:52.698977+00:00",null,null,null,null,null,null,null,null,"13494","LSPW Kennedy Center","13494-LSPW Kennedy Center",null,null,null,"AS101323358","Gary McGinn (101323358) FHSS - Geography","AS101323358-Gary McGinn (101323358) FHSS - Geography","Active",null,null,null,null,null,null,null,null,null,null,null,"SC6914","SC6914||6900","6900","Equipment, Software, Library","Primary","All"]
[null,null,null,null,null,null,"AC00881","[HUM] Spanish Language House","AC00881-[HUM] Spanish Language House","Activity","FD02","Active","2025-03-17T16:11:52.698977+00:00",null,null,null,null,null,null,null,null,"13495","LSPW Agbiochem/Bacteria/Geary","13495-LSPW Agbiochem/Bacteria/Geary",null,null,null,"AS101341694","Alyssa Erickson (101341694) CE Online Learning","AS101341694-Alyssa Erickson (101341694) CE Online Learning","Active",null,null,null,null,null,null,null,null,null,null,null,"SC6914","SC6914||8000","8000","Depreciation",null,"JE_PPE|JE_Override"]
[null,null,null,null,null,null,"AC00882","[HUM] Portuguese Language House","AC00882-[HUM] Portuguese Language House","Activity","FD02","Active","2025-03-17T16:11:52.698977+00:00",null,null,null,null,null,null,null,null,"13496","LSPW Wastewater SARS-COV-2/Aan","13496-LSPW Wastewater SARS-COV-2/Aan",null,null,null,"AS101365331","Kent Minson (101365331) Retail Services - Course Materials","AS101365331-Kent Minson (101365331) Retail Services - Course Materials","Active",null,null,null,null,null,null,null,null,null,null,null,"SC6915","SC6915||1400","1400","Prepaid Expenses",null,"All"]
[null,null,null,null,null,null,"AC00883","[HUM] Russian Language House","AC00883-[HUM] Russian Language House","Activity","FD02","Active","2025-03-17T16:11:52.698977+00:00",null,null,null,null,null,null,null,null,"13497","LSPW Charles Redd Center/St Cl","13497-LSPW Charles Redd Center/St Cl",null,null,null,"AS101541513","Adam Stout (101541513) OIT Portfolio - Enterprise Data Management","AS101541513-Adam Stout (101541513) OIT Portfolio - Enterprise Data Management","Active",null,null,null,null,null,null,null,null,null,null,null,"SC6915","SC6915||1625","1625","Capital Equipment",null,"JE_PPE|JE_Override"]
[null,null,null,null,null,null,"AC00884","[HUM] German Language House","AC00884-[HUM] German Language House","Activity","FD02","Active","2025-03-17T16:11:52.698977+00:00",null,null,null,null,null,null,null,null,"13498","LSPW Charles Redd Center/Stewa","13498-LSPW Charles Redd Center/Stewa",null,null,null,"AS102153395","Samantha Larsen (HUM)","AS102153395-Samantha Larsen (HUM)","Active",null,null,null,null,null,null,null,null,null,null,null,"SC6915","SC6915||1650","1650","Construction in Progress",null,"JE_PPE|JE_Override"]
[null,null,null,null,null,null,"AC00885","[HUM] Japanese Language House","AC00885-[HUM] Japanese Language House","Activity","FD02","Active","2025-03-17T16:11:52.698977+00:00",null,null,null,null,null,null,null,null,"13499","LSPW Charles Redd Center/Allph","13499-LSPW Charles Redd Center/Allph",null,null,null,"AS102434188","Clay Aucoin (102434188) Athletics - Football","AS102434188-Clay Aucoin (102434188) Athletics - Football","Active",null,null,null,null,null,null,null,null,null,null,null,"SC6915","SC6915||1651","1651","Construction in Progress (Non-Workday Projects)",null,"All"]
[null,null,null,null,null,null,"AC00886","[HUM] Chinese Language House","AC00886-[HUM] Chinese Language House","Activity","FD02","Active","2025-03-17T16:11:52.698977+00:00",null,null,null,null,null,null,null,null,"13500","LSBM Director","13500-LSBM Director",null,null,null,"AS102715566","Jeff Goeders (102715566) College of Engineering - Electrical & Computer Engineering","AS102715566-Jeff Goeders (102715566) College of Engineering - Electrical & Computer Engineering","Active",null,null,null,null,null,null,null,null,null,null,null,"SC6915","SC6915||1700","1700","Accumulated Depreciation",null,"JE_PPE|JE_Override"]
[null,null,null,null,null,null,"AC00887","[HUM] Hebrew Language House","AC00887-[HUM] Hebrew Language House","Activity","FD02","Active","2025-03-17T16:11:52.698977+00:00",null,null,null,null,null,null,null,null,"13501","LSBM Roberta Larsen","13501-LSBM Roberta Larsen",null,null,null,"AS103108258","Mike Moser (103108258) Athletics - Administration","AS103108258-Mike Moser (103108258) Athletics - Administration","Active",null,null,null,null,null,null,null,null,null,null,null,"SC6915","SC6915||6900","6900","Equipment, Software, Library","Primary","All"]
[null,null,null,null,null,null,"AC00888","[HUM] Korean Language House","AC00888-[HUM] Korean Language House","Activity","FD02","Active","2025-03-17T16:11:52.698977+00:00",null,null,null,null,null,null,null,null,"13502","LSBM Museum Bldg","13502-LSBM Museum Bldg",null,null,null,"AS103157340","Jason Christensen (103157340) Management Department","AS103157340-Jason Christensen (103157340) Management Department","Active",null,null,null,null,null,null,null,null,null,null,null,"SC6915","SC6915||8000","8000","Depreciation",null,"JE_PPE|JE_Override"]
[null,null,null,null,null,null,"AC00889","[HUM] Arabic Language House","AC00889-[HUM] Arabic Language House","Activity","FD02","Active","2025-03-17T16:11:52.698977+00:00",null,null,null,null,null,null,null,null,"13504","LSBM VLR4-Ford Dump Bed (gas o","13504-LSBM VLR4-Ford Dump Bed (gas o",null,null,null,"AS103158501","Bruce Bailey (103158501) Life Sciences - Exercise Sciences","AS103158501-Bruce Bailey (103158501) Life Sciences - Exercise Sciences","Active",null,null,null,null,null,null,null,null,null,null,null,"SC6916","SC6916||1400","1400","Prepaid Expenses",null,"All"]
[null,null,null,null,null,null,"AC00890","[HUM] Writing Center","AC00890-[HUM] Writing Center","Activity","FD01","Active","2025-03-17T16:11:52.698977+00:00",null,null,null,null,null,null,null,null,"13505","LSBM Lytle vehicle maintenance","13505-LSBM Lytle vehicle maintenance",null,null,null,"AS103188899","Matt Finlayson (103188899) OIT Resource - AV Events","AS103188899-Matt Finlayson (103188899) OIT Resource - AV Events","Active",null,null,null,null,null,null,null,null,null,null,null,"SC6916","SC6916||6900","6900","Equipment, Software, Library","Primary","All"]
[null,null,null,null,null,null,"AC00891","[HUM] English Graduate","AC00891-[HUM] English Graduate","Activity","FD01","Active","2025-03-17T16:11:52.698977+00:00",null,null,null,null,null,null,null,null,"13506","LSBM Packer, Ken","13506-LSBM Packer, Ken",null,null,null,"AS103287836","Rob Neilson (103287836) Athletics - Cougar Club","AS103287836-Rob Neilson (103287836) Athletics - Cougar Club","Active",null,null,null,null,null,null,null,null,null,null,null,"SC6917","SC6917||1400","1400","Prepaid Expenses",null,"All"]
[null,null,null,null,null,null,"AC00892","[HUM] University Writing","AC00892-[HUM] University Writing","Activity","FD01","Active","2025-03-17T16:11:52.698977+00:00",null,null,null,null,null,null,null,null,"13507","LSBM Hammari, Josh","13507-LSBM Hammari, Josh",null,null,null,"AS103862017","Nathanial Brown (103862017) OIT Resource - CES Network Center (CNC) - Installation","AS103862017-Nathanial Brown (103862017) OIT Resource - CES Network Center (CNC) - Installation","Active",null,null,null,null,null,null,null,null,null,null,null,"SC6917","SC6917||1625","1625","Capital Equipment",null,"JE_PPE|JE_Override"]
[null,null,null,null,null,null,"AC00893","[HUM] Writing Across the Curriculum","AC00893-[HUM] Writing Across the Curriculum","Activity","FD01","Active","2025-03-17T16:11:52.698977+00:00",null,null,null,null,null,null,null,null,"13508","LSBM Kite, Taylor","13508-LSBM Kite, Taylor",null,null,null,"AS103926048","Linda Chahal (103926048) PF Business Support and Compliance","AS103926048-Linda Chahal (103926048) PF Business Support and Compliance","Active",null,null,null,null,null,null,null,null,null,null,null,"SC6917","SC6917||1650","1650","Construction in Progress",null,"JE_PPE|JE_Override"]
[null,null,null,null,null,null,"AC00894","[HUM] Writing Fellows","AC00894-[HUM] Writing Fellows","Activity","FD01","Active","2025-03-17T16:11:52.698977+00:00",null,null,null,null,null,null,null,null,"13509","LSBM Knight, Katy","13509-LSBM Knight, Katy",null,null,null,"AS104186036","Huistean Kay (104186036) Food to Go Services","AS104186036-Huistean Kay (104186036) Food to Go Services","Active",null,null,null,null,null,null,null,null,null,null,null,"SC6917","SC6917||1651","1651","Construction in Progress (Non-Workday Projects)",null,"All"]
[null,null,null,null,null,null,"AC00895","[HUM] Inscape Magazine","AC00895-[HUM] Inscape Magazine","Activity","FD02","Active","2025-03-17T16:11:52.698977+00:00",null,null,null,null,null,null,null,null,"13510","LSBM Dallin Leota","13510-LSBM Dallin Leota",null,null,null,"AS104461069","Vince Stroud (104461069) Athletics - Administration","AS104461069-Vince Stroud (104461069) Athletics - Administration","Active",null,null,null,null,null,null,null,null,null,null,null,"SC6917","SC6917||1700","1700","Accumulated Depreciation",null,"JE_PPE|JE_Override"]
[null,null,null,null,null,null,"AC00896","[HUM] English Society","AC00896-[HUM] English Society","Activity","FD02","Active","2025-03-17T16:11:52.698977+00:00",null,null,null,null,null,null,null,null,"13511","LSBM VLR1 - 2013 GMC (gas only","13511-LSBM VLR1 - 2013 GMC (gas only",null,null,null,"AS104510559","Byron Noel (104510559) Human Resource Business Partners","AS104510559-Byron Noel (104510559) Human Resource Business Partners","Active",null,null,null,null,null,null,null,null,null,null,null,"SC6917","SC6917||6900","6900","Equipment, Software, Library","Primary","All"]
[null,null,null,null,null,null,"AC00897","[HUM] English Graduate Society","AC00897-[HUM] English Graduate Society","Activity","FD02","Active","2025-03-17T16:11:52.698977+00:00",null,null,null,null,null,null,null,null,"13512","LSBM Diesel Storage","13512-LSBM Diesel Storage",null,null,null,"AS104822464","Candilyn Newell (104822464) Careers & Experiential Learning - Career Services","AS104822464-Candilyn Newell (104822464) Careers & Experiential Learning - Career Services","Active",null,null,null,null,null,null,null,null,null,null,null,"SC6917","SC6917||8000","8000","Depreciation",null,"JE_PPE|JE_Override"]
[null,null,null,null,null,null,"AC00898","[HUM] Central Utah Writing Project","AC00898-[HUM] Central Utah Writing Project","Activity","FD02","Active","2025-03-17T16:11:52.698977+00:00",null,null,null,null,null,null,null,null,"13513","LSBM Petroleum (non-diesel) St","13513-LSBM Petroleum (non-diesel) St",null,null,null,"AS105110905","Joe Belnap (105110905) OIT Resource - Application Engineering","AS105110905-Joe Belnap (105110905) OIT Resource - Application Engineering","Active",null,null,null,null,null,null,null,null,null,null,null,"SC6918","SC6918||1400","1400","Prepaid Expenses",null,"All"]
[null,null,null,null,null,null,"AC00899","[HUM] Fourth Genre","AC00899-[HUM] Fourth Genre","Activity","FD02","Active","2025-03-17T16:11:52.698977+00:00",null,null,null,null,null,null,null,null,"13514","LSBM Janene Auger","13514-LSBM Janene Auger",null,null,null,"AS105157189","Catherine Green (105157189) Catering Services","AS105157189-Catherine Green (105157189) Catering Services","Active",null,null,null,null,null,null,null,null,null,null,null,"SC6918","SC6918||1632","1632","Library Content",null,"JE_PPE|JE_Override"]
[null,null,null,null,null,null,"AC00900","[HUM] Writing 150 Royalties","AC00900-[HUM] Writing 150 Royalties","Activity","FD03","Active","2025-03-17T16:11:52.698977+00:00",null,null,null,null,null,null,null,null,"13515","LSBM Schenck, Travis","13515-LSBM Schenck, Travis",null,null,null,"AS105291972","Melissa Hawkley (105291972) Religious Education - Ancient Scripture","AS105291972-Melissa Hawkley (105291972) Religious Education - Ancient Scripture","Active",null,null,null,null,null,null,null,null,null,null,null,"SC6918","SC6918||1700","1700","Accumulated Depreciation",null,"JE_PPE|JE_Override"]
[null,null,null,null,null,null,"AC00901","[HUM] English Internship Program","AC00901-[HUM] English Internship Program","Activity","FD03","Active","2025-03-17T16:11:52.698977+00:00",null,null,null,null,null,null,null,null,"13516","LSBM Hadfied, Robert","13516-LSBM Hadfied, Robert",null,null,null,"AS105381758","Jon Ostenson (105381758) Humanities - English","AS105381758-Jon Ostenson (105381758) Humanities - English","Active",null,null,null,null,null,null,null,null,null,null,null,"SC6918","SC6918||6900","6900","Equipment, Software, Library","Primary","All"]
[null,null,null,null,null,null,"AC00902","[HUM] Graduate Studies - English (TR)","AC00902-[HUM] Graduate Studies - English (TR)","Activity","FD03","Active","2025-04-25T02:03:34.420085+00:00",null,null,null,null,null,null,null,null,"13517","LSBM Skidmore, Skip","13517-LSBM Skidmore, Skip",null,null,null,"AS105603909","Karl Diether (105603909) MSB - Finance","AS105603909-Karl Diether (105603909) MSB - Finance","Active",null,null,null,null,null,null,null,null,null,null,null,"SC6918","SC6918||8000","8000","Depreciation",null,"JE_PPE|JE_Override"]
[null,null,null,null,null,null,"AC00903","[HUM] Grad Studies Mentor Grant - English","AC00903-[HUM] Grad Studies Mentor Grant - English","Activity","FD03","Active","2025-04-25T02:03:34.420085+00:00",null,null,null,null,null,null,null,null,"13519","LSBM Baker, Randy","13519-LSBM Baker, Randy",null,null,null,"AS105622997","Roger Harrison (105622997) CMS - Chemistry and Biochemistry","AS105622997-Roger Harrison (105622997) CMS - Chemistry and Biochemistry","Active",null,null,null,null,null,null,null,null,null,null,null,"SC6919","SC6919||1400","1400","Prepaid Expenses",null,"All"]
[null,null,null,null,null,null,"AC00904","[HUM] Advanced Writing Royalties","AC00904-[HUM] Advanced Writing Royalties","Activity","FD03","Active","2025-03-17T16:11:52.698977+00:00",null,null,null,null,null,null,null,null,"13520","LSBM Exhibits General","13520-LSBM Exhibits General",null,null,null,"AS106135949","Mike Robinson (106135949) AVP - Dean, College of Nursing","AS106135949-Mike Robinson (106135949) AVP - Dean, College of Nursing","Active",null,null,null,null,null,null,null,null,null,null,null,"SC6919","SC6919||6900","6900","Equipment, Software, Library","Primary","All"]
[null,null,null,null,null,null,"AC00906","[HUM] English Dept Sunshine Fund","AC00906-[HUM] English Dept Sunshine Fund","Activity","FD07","Active","2025-03-17T16:11:52.698977+00:00",null,null,null,null,null,null,null,null,"13521","LSBM Citizen Science Center","13521-LSBM Citizen Science Center",null,null,null,"AS106247348","Charity Wyatt (106247348) AVP - Dean, Clark Law School","AS106247348-Charity Wyatt (106247348) AVP - Dean, Clark Law School","Active",null,null,null,null,null,null,null,null,null,null,null,"SC6920","SC6920||1400","1400","Prepaid Expenses",null,"All"]
[null,null,null,null,null,null,"AC00907","[HUM] Italian Club","AC00907-[HUM] Italian Club","Activity","FD02","Active","2025-03-17T16:11:52.698977+00:00",null,null,null,null,null,null,null,null,"13522","LSBM Date Night","13522-LSBM Date Night",null,null,null,"AS106323990","Craig Youngs (106323990) OIT Leadership - CES Security Mgmt","AS106323990-Craig Youngs (106323990) OIT Leadership - CES Security Mgmt","Active",null,null,null,null,null,null,null,null,null,null,null,"SC6920","SC6920||1638","1638","Media",null,"JE_PPE|JE_Override"]
[null,null,null,null,null,null,"AC00908","[HUM] Pi Delta Phi","AC00908-[HUM] Pi Delta Phi","Activity","FD02","Active","2025-03-17T16:11:52.698977+00:00",null,null,null,null,null,null,null,null,"13523","LSBM Education Other","13523-LSBM Education Other",null,null,null,"AS106463112","Kurt Sandholtz (106463112) MSB - Public Service & Ethics","AS106463112-Kurt Sandholtz (106463112) MSB - Public Service & Ethics","Active",null,null,null,null,null,null,null,null,null,null,null,"SC6920","SC6920||1700","1700","Accumulated Depreciation",null,"JE_PPE|JE_Override"]
[null,null,null,null,null,null,"AC00909","[HUM] The French Club","AC00909-[HUM] The French Club","Activity","FD02","Active","2025-03-17T16:11:52.698977+00:00",null,null,null,null,null,null,null,null,"13524","LSBM Junior Naturalist","13524-LSBM Junior Naturalist",null,null,null,"AS106484257","Robert Johns (106484257) CE FSY Central","AS106484257-Robert Johns (106484257) CE FSY Central","Active",null,null,null,null,null,null,null,null,null,null,null,"SC6920","SC6920||6900","6900","Equipment, Software, Library","Primary","All"]
[null,null,null,null,null,null,"AC00910","[HUM] French Language Fair","AC00910-[HUM] French Language Fair","Activity","FD02","Active","2025-03-17T16:11:52.698977+00:00",null,null,null,null,null,null,null,null,"13525","LSBM Outreach","13525-LSBM Outreach",null,null,null,"AS106494435","Brent Feland (106494435) Life Sciences - Exercise Sciences","AS106494435-Brent Feland (106494435) Life Sciences - Exercise Sciences","Active",null,null,null,null,null,null,null,null,null,null,null,"SC6920","SC6920||8000","8000","Depreciation",null,"JE_PPE|JE_Override"]
[null,null,null,null,null,null,"AC00911","[HUM] NCFS","AC00911-[HUM] NCFS","Activity","FD02","Active","2025-03-17T16:11:52.698977+00:00",null,null,null,null,null,null,null,null,"13526","LSBM Educ. Collection Rental","13526-LSBM Educ. Collection Rental",null,null,null,"AS106528642","LeeAnn Broderick (HUM)","AS106528642-LeeAnn Broderick (HUM)","Active",null,null,null,null,null,null,null,null,null,null,null,"SC6921","SC6921||1400","1400","Prepaid Expenses",null,"All"]
[null,null,null,null,null,null,"AC00912","[HUM] Their Story is Our Story","AC00912-[HUM] Their Story is Our Story","Activity","FD02","Active","2025-03-17T16:11:52.698977+00:00",null,null,null,null,null,null,null,null,"13527","LSBM Nature Experienceships","13527-LSBM Nature Experienceships",null,null,null,"AS106775394","Michael Davie (106775394) Athletics - Olympic Sport Medicine","AS106775394-Michael Davie (106775394) Athletics - Olympic Sport Medicine","Active",null,null,null,null,null,null,null,null,null,null,null,"SC6921","SC6921||1625","1625","Capital Equipment",null,"JE_PPE|JE_Override"]
[null,null,null,null,null,null,"AC00913","[HUM] French Language Experience","AC00913-[HUM] French Language Experience","Activity","FD03","Active","2025-03-17T16:11:52.698977+00:00",null,null,null,null,null,null,null,null,"13528","LSBM Darwin Day","13528-LSBM Darwin Day",null,null,null,"AS107037544","Melissa Gibbs (107037544) School of Communications","AS107037544-Melissa Gibbs (107037544) School of Communications","Active",null,null,null,null,null,null,null,null,null,null,null,"SC6921","SC6921||1650","1650","Construction in Progress",null,"JE_PPE|JE_Override"]
[null,null,null,null,null,null,"AC00914","[HUM] Graduate Studies - French & Italian (TR)","AC00914-[HUM] Graduate Studies - French & Italian (TR)","Activity","FD03","Active","2025-04-25T02:03:34.420085+00:00",null,null,null,null,null,null,null,null,"13529","LSBM Bio-Box Rental","13529-LSBM Bio-Box Rental",null,null,null,"AS107316947","Sarah Hall (107316947) Life Sciences - Public Health","AS107316947-Sarah Hall (107316947) Life Sciences - Public Health","Active",null,null,null,null,null,null,null,null,null,null,null,"SC6921","SC6921||1651","1651","Construction in Progress (Non-Workday Projects)",null,"All"]
[null,null,null,null,null,null,"AC00916","[HUM] French & Italian Sunshine Fund","AC00916-[HUM] French & Italian Sunshine Fund","Activity","FD07","Active","2025-03-17T16:11:52.698977+00:00",null,null,null,null,null,null,null,null,"13530","LSBM Biology Boot Camp","13530-LSBM Biology Boot Camp",null,null,null,"AS107371388","Lilibeth Blas (107371388) Cannon Center","AS107371388-Lilibeth Blas (107371388) Cannon Center","Active",null,null,null,null,null,null,null,null,null,null,null,"SC6921","SC6921||1700","1700","Accumulated Depreciation",null,"JE_PPE|JE_Override"]
[null,null,null,null,null,null,"AC00917","[HUM] German Language Fair","AC00917-[HUM] German Language Fair","Activity","FD02","Active","2025-03-17T16:11:52.698977+00:00",null,null,null,null,null,null,null,null,"13531","LSBM Trivia Night","13531-LSBM Trivia Night",null,null,null,"AS107489318","Hien Nguyen (107489318) HS Administration","AS107489318-Hien Nguyen (107489318) HS Administration","Active",null,null,null,null,null,null,null,null,null,null,null,"SC6921","SC6921||6900","6900","Equipment, Software, Library","Primary","All"]
[null,null,null,null,null,null,"AC00918","[HUM] The German Society","AC00918-[HUM] The German Society","Activity","FD02","Active","2025-11-15T03:03:52.331617+00:00",null,null,null,null,null,null,null,null,"13532","LSBM Critter Camp","13532-LSBM Critter Camp",null,null,null,"AS107495401","Michelle Davis (107495401) PF Grounds Maintenance","AS107495401-Michelle Davis (107495401) PF Grounds Maintenance","Active",null,null,null,null,null,null,null,null,null,null,null,"SC6921","SC6921||8000","8000","Depreciation",null,"JE_PPE|JE_Override"]
[null,null,null,null,null,null,"AC00919","[HUM] Russian Club","AC00919-[HUM] Russian Club","Activity","FD02","Active","2025-11-15T03:03:52.331617+00:00",null,null,null,null,null,null,null,null,"13533","LSBM Clark, Shawn-Research","13533-LSBM Clark, Shawn-Research",null,null,null,"AS107513872","Ryan Kerr (107513872) Special Events","AS107513872-Ryan Kerr (107513872) Special Events","Active",null,null,null,null,null,null,null,null,null,null,null,"SC6922","SC6922||1400","1400","Prepaid Expenses",null,"All"]
[null,null,null,null,null,null,"AC00920","[HUM] German Honor Society","AC00920-[HUM] German Honor Society","Activity","FD02","Active","2025-03-17T16:11:52.698977+00:00",null,null,null,null,null,null,null,null,"13534","LSBM Baumann, Richard-Research","13534-LSBM Baumann, Richard-Research",null,null,null,"AS107524522","Benjamin Bikman (107524522) Life Sciences - Cell Biology & Physiology","AS107524522-Benjamin Bikman (107524522) Life Sciences - Cell Biology & Physiology","Active",null,null,null,null,null,null,null,null,null,null,null,"SC6922","SC6922||6900","6900","Equipment, Software, Library","Primary","All"]
[null,null,null,null,null,null,"AC00921","[HUM] Russian Honor Society","AC00921-[HUM] Russian Honor Society","Activity","FD02","Active","2025-03-17T16:11:52.698977+00:00",null,null,null,null,null,null,null,null,"13535","LSBM Game Night","13535-LSBM Game Night",null,null,null,"AS107556193","Cindy Busard (107556193) BYU Store Support-Admin Service","AS107556193-Cindy Busard (107556193) BYU Store Support-Admin Service","Active",null,null,null,null,null,null,null,null,null,null,null,"SC6923","SC6923||1400","1400","Prepaid Expenses",null,"All"]
[null,null,null,null,null,null,"AC00922","[HUM] Slovene Linguistics Studies","AC00922-[HUM] Slovene Linguistics Studies","Activity","FD02","Active","2025-03-17T16:11:52.698977+00:00",null,null,null,null,null,null,null,null,"13536","LSBM Family Home Evening","13536-LSBM Family Home Evening",null,null,null,"AS107594780","Steve Liddle (107594780) MSB - Information Systems","AS107594780-Steve Liddle (107594780) MSB - Information Systems","Active",null,null,null,null,null,null,null,null,null,null,null,"SC6923","SC6923||1625","1625","Capital Equipment",null,"JE_PPE|JE_Override"]
[null,null,null,null,null,null,"AC00924","[HUM] ODH Ticcit","AC00924-[HUM] ODH Ticcit","Activity","FD01","Active","2025-03-17T16:11:52.698977+00:00",null,null,null,null,null,null,null,null,"13537","LSBM Whiting, Mike-Insect-Rese","13537-LSBM Whiting, Mike-Insect-Rese",null,null,null,"AS107742924","Linda Godfrey (107742924) International Vice President","AS107742924-Linda Godfrey (107742924) International Vice President","Active",null,null,null,null,null,null,null,null,null,null,null,"SC6923","SC6923||1700","1700","Accumulated Depreciation",null,"JE_PPE|JE_Override"]
[null,null,null,null,null,null,"AC00925","[HUM] DigHT","AC00925-[HUM] DigHT","Activity","FD01","Active","2025-03-17T16:11:52.698977+00:00",null,null,null,null,null,null,null,null,"13539","LSBM Rogers, Duke-Research","13539-LSBM Rogers, Duke-Research",null,null,null,"AS107796095","Ashley Pun Eveson (107796095) The Neal A. Maxwell Institute","AS107796095-Ashley Pun Eveson (107796095) The Neal A. Maxwell Institute","Active",null,null,null,null,null,null,null,null,null,null,null,"SC6923","SC6923||6900","6900","Equipment, Software, Library","Primary","All"]
[null,null,null,null,null,null,"AC00926","[HUM] CLIPS","AC00926-[HUM] CLIPS","Activity","FD02","Active","2025-03-17T16:11:52.698977+00:00",null,null,null,null,null,null,null,null,"13540","LSBM Utah Flora 5th Edition","13540-LSBM Utah Flora 5th Edition",null,null,null,"AS108275287","Jared Ludlow (108275287) AVP - Assistant AVP, Religious Publications","AS108275287-Jared Ludlow (108275287) AVP - Assistant AVP, Religious Publications","Active",null,null,null,null,null,null,null,null,null,null,null,"SC6923","SC6923||8000","8000","Depreciation",null,"JE_PPE|JE_Override"]
[null,null,null,null,null,null,"AC00927","[HUM] FLATS","AC00927-[HUM] FLATS","Activity","FD03","Active","2025-03-17T16:11:52.698977+00:00",null,null,null,null,null,null,null,null,"13542","LSBM Whiting, Alison-Research","13542-LSBM Whiting, Alison-Research",null,null,null,"AS108586581","Christian Asplund (108586581) Fine Arts & Communications - School of Music","AS108586581-Christian Asplund (108586581) Fine Arts & Communications - School of Music","Active",null,null,null,null,null,null,null,null,null,null,null,"SC6924","SC6924||1400","1400","Prepaid Expenses",null,"All"]
[null,null,null,null,null,null,"AC00928","[HUM] Research Match Funds","AC00928-[HUM] Research Match Funds","Activity","FD03","Active","2025-03-17T16:11:52.698977+00:00",null,null,null,null,null,null,null,null,"13543","LSBM Bybee, Seth-Research","13543-LSBM Bybee, Seth-Research",null,null,null,"AS108807243","Lindsay Von Forell (108807243) CE Controller","AS108807243-Lindsay Von Forell (108807243) CE Controller","Active",null,null,null,null,null,null,null,null,null,null,null,"SC6924","SC6924||1625","1625","Capital Equipment",null,"JE_PPE|JE_Override"]
[null,null,null,null,null,null,"AC00930","[HUM] WordCruncher Operations, RTG","AC00930-[HUM] WordCruncher Operations, RTG","Activity","FD02","Active","2025-03-17T16:11:52.698977+00:00",null,null,null,null,null,null,null,null,"13544","LSBM Adams, Byron-Research","13544-LSBM Adams, Byron-Research",null,null,null,"AS109639638","Brad Bailey (109639638) OIT Leadership - Enterprise Data Management and Finance","AS109639638-Brad Bailey (109639638) OIT Leadership - Enterprise Data Management and Finance","Active",null,null,null,null,null,null,null,null,null,null,null,"SC6924","SC6924||1650","1650","Construction in Progress",null,"JE_PPE|JE_Override"]
[null,null,null,null,null,null,"AC00931","[HUM] Comparative Studies-Graduates","AC00931-[HUM] Comparative Studies-Graduates","Activity","FD01","Active","2025-03-17T16:11:52.698977+00:00",null,null,null,null,null,null,null,null,"13546","LSBM Shiozawa, Dennis-Research","13546-LSBM Shiozawa, Dennis-Research",null,null,null,"AS109700517","Amanda Boden (109700517) CE FSY Central","AS109700517-Amanda Boden (109700517) CE FSY Central","Active",null,null,null,null,null,null,null,null,null,null,null,"SC6924","SC6924||1651","1651","Construction in Progress (Non-Workday Projects)",null,"All"]
[null,null,null,null,null,null,"AC00932","[HUM] Scandinavian Program","AC00932-[HUM] Scandinavian Program","Activity","FD01","Active","2025-03-17T16:11:52.698977+00:00",null,null,null,null,null,null,null,null,"13547","LSBM Johnson, J - Fishes-Resea","13547-LSBM Johnson, J - Fishes-Resea",null,null,null,"AS109830211","Jacquelyn Christensen (109830211) Humanities - Linguistics","AS109830211-Jacquelyn Christensen (109830211) Humanities - Linguistics","Active",null,null,null,null,null,null,null,null,null,null,null,"SC6924","SC6924||1700","1700","Accumulated Depreciation",null,"JE_PPE|JE_Override"]
[null,null,null,null,null,null,"AC00933","[HUM] Art History Association","AC00933-[HUM] Art History Association","Activity","FD02","Active","2025-03-17T16:11:52.698977+00:00",null,null,null,null,null,null,null,null,"13549","LSBM Museum Remodel","13549-LSBM Museum Remodel",null,null,null,"AS110311183","Timothy Mabey (110311183) Helaman Halls","AS110311183-Timothy Mabey (110311183) Helaman Halls","Active",null,null,null,null,null,null,null,null,null,null,null,"SC6924","SC6924||6900","6900","Equipment, Software, Library","Primary","All"]
[null,null,null,null,null,null,"AC00934","[HUM] IHUM CLUB","AC00934-[HUM] IHUM CLUB","Activity","FD02","Active","2025-03-17T16:11:52.698977+00:00",null,null,null,null,null,null,null,null,"13550","LSBM CITES","13550-LSBM CITES",null,null,null,"AS110533256","David Jones (110533256) PMPC Administration","AS110533256-David Jones (110533256) PMPC Administration","Active",null,null,null,null,null,null,null,null,null,null,null,"SC6924","SC6924||8000","8000","Depreciation",null,"JE_PPE|JE_Override"]
[null,null,null,null,null,null,"AC00935","[HUM] Eta Sigma Phi","AC00935-[HUM] Eta Sigma Phi","Activity","FD02","Active","2025-03-17T16:11:52.698977+00:00",null,null,null,null,null,null,null,null,"13551","LSBM Probst, Taylor-Research","13551-LSBM Probst, Taylor-Research",null,null,null,"AS110789490","J. Craig Beals (110789490) Production Services","AS110789490-J. Craig Beals (110789490) Production Services","Active",null,null,null,null,null,null,null,null,null,null,null,"SC6925","SC6925||1400","1400","Prepaid Expenses",null,"All"]
[null,null,null,null,null,null,"AC00936","[HUM] American Society of Papryologists","AC00936-[HUM] American Society of Papryologists","Activity","FD02","Active","2025-03-17T16:11:52.698977+00:00",null,null,null,null,null,null,null,null,"13553","LSBM Lichens Curration","13553-LSBM Lichens Curration",null,null,null,"AS110798678","Paige Despain (110798678) Office of Research Computing","AS110798678-Paige Despain (110798678) Office of Research Computing","Active",null,null,null,null,null,null,null,null,null,null,null,"SC6925","SC6925||6900","6900","Equipment, Software, Library","Primary","All"]
[null,null,null,null,null,null,"AC00937","[HUM] Journal of American Culture","AC00937-[HUM] Journal of American Culture","Activity","FD02","Active","2025-03-17T16:11:52.698977+00:00",null,null,null,null,null,null,null,null,"13554","LSBM Data Basing - Leigh","13554-LSBM Data Basing - Leigh",null,null,null,"AS110845320","Scott Murff (110845320) MSB - Management","AS110845320-Scott Murff (110845320) MSB - Management","Active",null,null,null,null,null,null,null,null,null,null,null,"SC6926","SC6926||1400","1400","Prepaid Expenses",null,"All"]
[null,null,null,null,null,null,"AC00938","[HUM] BYU Scandinavian Club","AC00938-[HUM] BYU Scandinavian Club","Activity","FD02","Active","2025-03-17T16:11:52.698977+00:00",null,null,null,null,null,null,null,null,"13555","LSBM Data Basing-Mike","13555-LSBM Data Basing-Mike",null,null,null,"AS110874617","Ben Drewry (110874617) Careers & Experiential Learning - Career Services","AS110874617-Ben Drewry (110874617) Careers & Experiential Learning - Career Services","Active",null,null,null,null,null,null,null,null,null,null,null,"SC6926","SC6926||1625","1625","Capital Equipment",null,"JE_PPE|JE_Override"]
[null,null,null,null,null,null,"AC00939","[HUM] Scandinavian Internshp Program","AC00939-[HUM] Scandinavian Internshp Program","Activity","FD03","Active","2025-03-17T16:11:52.698977+00:00",null,null,null,null,null,null,null,null,"13557","LSBM Johnson, Leigh-Research","13557-LSBM Johnson, Leigh-Research",null,null,null,"AS111308486","Hattie Norcross Eppel (111308486) Title IX","AS111308486-Hattie Norcross Eppel (111308486) Title IX","Active",null,null,null,null,null,null,null,null,null,null,null,"SC6926","SC6926||1700","1700","Accumulated Depreciation",null,"JE_PPE|JE_Override"]
[null,null,null,null,null,null,"AC00940","[HUM] HUM 101 Course Support","AC00940-[HUM] HUM 101 Course Support","Activity","FD03","Active","2025-03-17T16:11:52.698977+00:00",null,null,null,null,null,null,null,null,"13558","LSBM Johnson, Robert-Research","13558-LSBM Johnson, Robert-Research",null,null,null,"AS111742893","Carina Alleman (111742893) AVP - Dean, Family Home Social Science (FHSS)","AS111742893-Carina Alleman (111742893) AVP - Dean, Family Home Social Science (FHSS)","Active",null,null,null,null,null,null,null,null,null,null,null,"SC6926","SC6926||6900","6900","Equipment, Software, Library","Primary","All"]
[null,null,null,null,null,null,"AC00942","[HUM] Humanities Publication Center-Editors","AC00942-[HUM] Humanities Publication Center-Editors","Activity","FD01","Active","2025-04-17T02:04:04.000638+00:00",null,null,null,null,null,null,null,null,"13559","LSBM Quest for Knowledge","13559-LSBM Quest for Knowledge",null,null,null,"AS111858564","Emma Warr (111858564) Wilkinson Center","AS111858564-Emma Warr (111858564) Wilkinson Center","Active",null,null,null,null,null,null,null,null,null,null,null,"SC6926","SC6926||8000","8000","Depreciation",null,"JE_PPE|JE_Override"]
[null,null,null,null,null,null,"AC00943","[HUM] Move and Stance Research Group","AC00943-[HUM] Move and Stance Research Group","Activity","FD01","Active","2025-03-17T16:11:52.698977+00:00",null,null,null,null,null,null,null,null,"13560","LSBM Hunter, Kennedy Rsrch","13560-LSBM Hunter, Kennedy Rsrch",null,null,null,"AS111965440","Carri Jenkins (111965440) Advancement Vice President","AS111965440-Carri Jenkins (111965440) Advancement Vice President","Active",null,null,null,null,null,null,null,null,null,null,null,"SC6927","SC6927||1400","1400","Prepaid Expenses",null,"All"]
[null,null,null,null,null,null,"AC00944","[HUM] Linguistics Graduate","AC00944-[HUM] Linguistics Graduate","Activity","FD01","Active","2025-03-17T16:11:52.698977+00:00",null,null,null,null,null,null,null,null,"13562","LSBM Sale/Expense-Mounts","13562-LSBM Sale/Expense-Mounts",null,null,null,"AS112047555","Bruce Money (112047555) MSB - Marketing & Global Supply Chain","AS112047555-Bruce Money (112047555) MSB - Marketing & Global Supply Chain","Active",null,null,null,null,null,null,null,null,null,null,null,"SC6927","SC6927||1625","1625","Capital Equipment",null,"JE_PPE|JE_Override"]
[null,null,null,null,null,null,"AC00945","[HUM] Humanities Publication Center-Operations","AC00945-[HUM] Humanities Publication Center-Operations","Activity","FD02","Active","2025-03-17T16:11:52.698977+00:00",null,null,null,null,null,null,null,null,"13563","LSBM Grants/Awards","13563-LSBM Grants/Awards",null,null,null,"AS112181328","Paula Moore (112181328) MSB - Dean's Office, Marriott School of Business","AS112181328-Paula Moore (112181328) MSB - Dean's Office, Marriott School of Business","Active",null,null,null,null,null,null,null,null,null,null,null,"SC6927","SC6927||1650","1650","Construction in Progress",null,"JE_PPE|JE_Override"]
[null,null,null,null,null,null,"AC00946","[HUM] The Leading Edge","AC00946-[HUM] The Leading Edge","Activity","FD02","Active","2025-12-05T03:13:48.150281+00:00",null,null,null,null,null,null,null,null,"13564","LSBM Nelson, Riley-Research","13564-LSBM Nelson, Riley-Research",null,null,null,"AS113098638","Megan Sanborn Jones (113098638) AVP - Dean, Fine Arts and Communications","AS113098638-Megan Sanborn Jones (113098638) AVP - Dean, Fine Arts and Communications","Active",null,null,null,null,null,null,null,null,null,null,null,"SC6927","SC6927||1651","1651","Construction in Progress (Non-Workday Projects)",null,"All"]
[null,null,null,null,null,null,"AC00947","[HUM] Linguistics Student Society","AC00947-[HUM] Linguistics Student Society","Activity","FD02","Active","2025-03-17T16:11:52.698977+00:00",null,null,null,null,null,null,null,null,"13565","LSBM Frandsen, Paul - Research","13565-LSBM Frandsen, Paul - Research",null,null,null,"AS113324354","Rebecca Lewis (113324354) Fine Arts & Communications - Dance","AS113324354-Rebecca Lewis (113324354) Fine Arts & Communications - Dance","Active",null,null,null,null,null,null,null,null,null,null,null,"SC6927","SC6927||1700","1700","Accumulated Depreciation",null,"JE_PPE|JE_Override"]
[null,null,null,null,null,null,"AC00948","[HUM] STET - The Editors Network","AC00948-[HUM] STET - The Editors Network","Activity","FD02","Active","2025-03-17T16:11:52.698977+00:00",null,null,null,null,null,null,null,null,"13566","LSBM Whipple, Clint - Research","13566-LSBM Whipple, Clint - Research",null,null,null,"AS113348858","Mark Epling (113348858) OIT Leadership - CES Architecture","AS113348858-Mark Epling (113348858) OIT Leadership - CES Architecture","Active",null,null,null,null,null,null,null,null,null,null,null,"SC6927","SC6927||6900","6900","Equipment, Software, Library","Primary","All"]
[null,null,null,null,null,null,"AC00949","[HUM] ELING 430R Stowaway Magazine","AC00949-[HUM] ELING 430R Stowaway Magazine","Activity","FD02","Active","2025-05-08T02:03:56.807741+00:00",null,null,null,null,null,null,null,null,"13567","LSBM Tree of Life Exhibit","13567-LSBM Tree of Life Exhibit",null,null,null,"AS113451975","Scott Baldwin (113451975) FHSS - Psychology","AS113451975-Scott Baldwin (113451975) FHSS - Psychology","Active",null,null,null,null,null,null,null,null,null,null,null,"SC6927","SC6927||8000","8000","Depreciation",null,"JE_PPE|JE_Override"]
[null,null,null,null,null,null,"AC00950","[HUM] Lingusitics Royalties","AC00950-[HUM] Lingusitics Royalties","Activity","FD03","Active","2025-04-25T02:03:34.420085+00:00",null,null,null,null,null,null,null,null,"13568","LSBM Social Media","13568-LSBM Social Media",null,null,null,"AS113453562","Michael Pack (113453562) Sorensen Center","AS113453562-Michael Pack (113453562) Sorensen Center","Active",null,null,null,null,null,null,null,null,null,null,null,"SC6928","SC6928||1400","1400","Prepaid Expenses",null,"All"]
[null,null,null,null,null,null,"AC00951","[HUM] Graduate Studies - Linguistics (TR)","AC00951-[HUM] Graduate Studies - Linguistics (TR)","Activity","FD03","Active","2025-04-25T02:03:34.420085+00:00",null,null,null,null,null,null,null,null,"13569","LSBM Book-Lichen","13569-LSBM Book-Lichen",null,null,null,"AS113777939","Jeff Batt (113777939) MSE - Instructional Psychology & Technology","AS113777939-Jeff Batt (113777939) MSE - Instructional Psychology & Technology","Active",null,null,null,null,null,null,null,null,null,null,null,"SC6928","SC6928||1625","1625","Capital Equipment",null,"JE_PPE|JE_Override"]
[null,null,null,null,null,null,"AC00952","[HUM] Editing Internship Enhancement","AC00952-[HUM] Editing Internship Enhancement","Activity","FD03","Active","2025-04-26T02:03:25.371428+00:00",null,null,null,null,null,null,null,null,"13570","LSBM Infromation Desk Supplies","13570-LSBM Infromation Desk Supplies",null,null,null,"AS113815654","Shane Wright (113815654) International VP","AS113815654-Shane Wright (113815654) International VP","Active",null,null,null,null,null,null,null,null,null,null,null,"SC6928","SC6928||1650","1650","Construction in Progress",null,"JE_PPE|JE_Override"]
[null,null,null,null,null,null,"AC00955","[HUM] Spanish and Portuguese Graduate","AC00955-[HUM] Spanish and Portuguese Graduate","Activity","FD01","Active","2025-12-10T03:04:34.808345+00:00",null,null,null,null,null,null,null,null,"13571","LSBM Recycling Exhibit","13571-LSBM Recycling Exhibit",null,null,null,"AS113878491","Scott McClellan (113878491) Facilities Planning and Design - Campus Projects","AS113878491-Scott McClellan (113878491) Facilities Planning and Design - Campus Projects","Active",null,null,null,null,null,null,null,null,null,null,null,"SC6928","SC6928||1651","1651","Construction in Progress (Non-Workday Projects)",null,"All"]
[null,null,null,null,null,null,"AC00956","[HUM] Spanish Resource Center","AC00956-[HUM] Spanish Resource Center","Activity","FD01","Active","2025-03-17T16:11:52.698977+00:00",null,null,null,null,null,null,null,null,"13572","LSBM Africa Room Exhibit","13572-LSBM Africa Room Exhibit",null,null,null,"AS114057097","Catherine Pavia (114057097) Humanities - English","AS114057097-Catherine Pavia (114057097) Humanities - English","Active",null,null,null,null,null,null,null,null,null,null,null,"SC6928","SC6928||1700","1700","Accumulated Depreciation",null,"JE_PPE|JE_Override"]
[null,null,null,null,null,null,"AC00957","[HUM] Educational Outreach-S&P","AC00957-[HUM] Educational Outreach-S&P","Activity","FD02","Active","2025-03-17T16:11:52.698977+00:00",null,null,null,null,null,null,null,null,"13573","LSBM Connections Exhibit","13573-LSBM Connections Exhibit",null,null,null,"AS114158363","Jonathan Wade (114158363) Humanities - Spanish & Portuguese","AS114158363-Jonathan Wade (114158363) Humanities - Spanish & Portuguese","Active",null,null,null,null,null,null,null,null,null,null,null,"SC6928","SC6928||6900","6900","Equipment, Software, Library","Primary","All"]
[null,null,null,null,null,null,"AC00958","[HUM] Spanish Musical Group","AC00958-[HUM] Spanish Musical Group","Activity","FD02","Active","2025-03-17T16:11:52.698977+00:00",null,null,null,null,null,null,null,null,"13574","LSBM Insect Color Exhibit","13574-LSBM Insect Color Exhibit",null,null,null,"AS114164260","Matthew Owens (114164260) PF Air Conditioning Shop","AS114164260-Matthew Owens (114164260) PF Air Conditioning Shop","Active",null,null,null,null,null,null,null,null,null,null,null,"SC6928","SC6928||8000","8000","Depreciation",null,"JE_PPE|JE_Override"]
[null,null,null,null,null,null,"AC00959","[HUM] Sigma Delta Pi","AC00959-[HUM] Sigma Delta Pi","Activity","FD02","Active","2025-03-17T16:11:52.698977+00:00",null,null,null,null,null,null,null,null,"13575","LSBM Covid Exhibit","13575-LSBM Covid Exhibit",null,null,null,"AS114204612","Michelle Prososki","AS114204612-Michelle Prososki","Active",null,null,null,null,null,null,null,null,null,null,null,"SC6929","SC6929||1400","1400","Prepaid Expenses",null,"All"]
[null,null,null,null,null,null,"AC00960","[HUM] Phi Lambda Beta - Beta Ypsilon","AC00960-[HUM] Phi Lambda Beta - Beta Ypsilon","Activity","FD02","Active","2025-03-17T16:11:52.698977+00:00",null,null,null,null,null,null,null,null,"13576","LSBM Climate Change Exhibit","13576-LSBM Climate Change Exhibit",null,null,null,"AS114287004","Merry Bird (114287004) PF Building Operations","AS114287004-Merry Bird (114287004) PF Building Operations","Active",null,null,null,null,null,null,null,null,null,null,null,"SC6929","SC6929||1625","1625","Capital Equipment",null,"JE_PPE|JE_Override"]
[null,null,null,null,null,null,"AC00961","[HUM] Spanish 321 Royalties","AC00961-[HUM] Spanish 321 Royalties","Activity","FD03","Active","2025-03-17T16:11:52.698977+00:00",null,null,null,null,null,null,null,null,"13577","LSBM Seeds Exhibit","13577-LSBM Seeds Exhibit",null,null,null,"AS114308799","Joe Merrill (114308799) Retail Services - General Administration","AS114308799-Joe Merrill (114308799) Retail Services - General Administration","Active",null,null,null,null,null,null,null,null,null,null,null,"SC6929","SC6929||1650","1650","Construction in Progress",null,"JE_PPE|JE_Override"]
[null,null,null,null,null,null,"AC00963","[HUM] Span & Port Sunshine Fund","AC00963-[HUM] Span & Port Sunshine Fund","Activity","FD07","Active","2025-03-17T16:11:52.698977+00:00",null,null,null,null,null,null,null,null,"13578","LSBM Diversification Exhibit","13578-LSBM Diversification Exhibit",null,null,null,"AS114478265","Taylor Burrell (114478265) PF Air Conditioning Shop","AS114478265-Taylor Burrell (114478265) PF Air Conditioning Shop","Active",null,null,null,null,null,null,null,null,null,null,null,"SC6929","SC6929||1651","1651","Construction in Progress (Non-Workday Projects)",null,"All"]
[null,null,null,null,null,null,"AC00964","[MSE] School Research","AC00964-[MSE] School Research","Activity","FD01","Active","2025-03-17T16:11:52.698977+00:00",null,null,null,null,null,null,null,null,"13579","LSBM Donation Box","13579-LSBM Donation Box",null,null,null,"AS114545215","Brent Barson (114545215) AVP - Dean, Fine Arts and Communications","AS114545215-Brent Barson (114545215) AVP - Dean, Fine Arts and Communications","Active",null,null,null,null,null,null,null,null,null,null,null,"SC6929","SC6929||1700","1700","Accumulated Depreciation",null,"JE_PPE|JE_Override"]
[null,null,null,null,null,null,"AC00965","[MSE] Ed Inquiry, Measurement, Eval","AC00965-[MSE] Ed Inquiry, Measurement, Eval","Activity","FD01","Active","2025-03-17T16:11:52.698977+00:00",null,null,null,null,null,null,null,null,"13580","LSBM Photo Show","13580-LSBM Photo Show",null,null,null,"AS114817681","Christopher Burgess (114817681) Athletics - Men's Basketball","AS114817681-Christopher Burgess (114817681) Athletics - Men's Basketball","Active",null,null,null,null,null,null,null,null,null,null,null,"SC6929","SC6929||6900","6900","Equipment, Software, Library","Primary","All"]
[null,null,null,null,null,null,"AC00966","[MSE] University Research","AC00966-[MSE] University Research","Activity","FD01","Active","2025-03-17T16:11:52.698977+00:00",null,null,null,null,null,null,null,null,"13581","LSBM LM-1 Truck","13581-LSBM LM-1 Truck",null,null,null,"AS115006992","Pam Dansie (115006992) PF Building Operations","AS115006992-Pam Dansie (115006992) PF Building Operations","Active",null,null,null,null,null,null,null,null,null,null,null,"SC6929","SC6929||8000","8000","Depreciation",null,"JE_PPE|JE_Override"]
[null,null,null,null,null,null,"AC00967","[MSE] Visiting Scholars","AC00967-[MSE] Visiting Scholars","Activity","FD01","Active","2025-03-17T16:11:52.698977+00:00",null,null,null,null,null,null,null,null,"13584","LSBM LM-2 Camry -Grey","13584-LSBM LM-2 Camry -Grey",null,null,null,"AS115055430","Amy Foote (115055430) General Accounting","AS115055430-Amy Foote (115055430) General Accounting","Active",null,null,null,null,null,null,null,null,null,null,null,"SC6930","SC6930||1400","1400","Prepaid Expenses",null,"All"]
[null,null,null,null,null,null,"AC00968","[MSE] PPAT Student Support","AC00968-[MSE] PPAT Student Support","Activity","FD01","Active","2025-03-17T16:11:52.698977+00:00",null,null,null,null,null,null,null,null,"13586","Lytle Improvements","13586-Lytle Improvements",null,null,null,"AS115130085","Courtney Stephens (115130085) CE IS Course Dev - World Languages","AS115130085-Courtney Stephens (115130085) CE IS Course Dev - World Languages","Active",null,null,null,null,null,null,null,null,null,null,null,"SC6930","SC6930||6900","6900","Equipment, Software, Library","Primary","All"]
[null,null,null,null,null,null,"AC00969","[MSE] Student Teaching Sup","AC00969-[MSE] Student Teaching Sup","Activity","FD01","Active","2025-03-17T16:11:52.698977+00:00",null,null,null,null,null,null,null,null,"13587","LSBM LM-1 Truck Rental","13587-LSBM LM-1 Truck Rental",null,null,null,"AS115241136","Kylie Patterson (115241136) Special Events","AS115241136-Kylie Patterson (115241136) Special Events","Active",null,null,null,null,null,null,null,null,null,null,null,"SC6931","SC6931||1400","1400","Prepaid Expenses",null,"All"]
[null,null,null,null,null,null,"AC00970","[MSE] Grad Student Support","AC00970-[MSE] Grad Student Support","Activity","FD01","Active","2025-03-17T16:11:52.698977+00:00",null,null,null,null,null,null,null,null,"13588","LSBM Leavitt, Steve-Research","13588-LSBM Leavitt, Steve-Research",null,null,null,"AS115640550","Todd Brown (115640550) CES Information Security Operations Center (CESSOC)","AS115640550-Todd Brown (115640550) CES Information Security Operations Center (CESSOC)","Active",null,null,null,null,null,null,null,null,null,null,null,"SC6931","SC6931||1625","1625","Capital Equipment",null,"JE_PPE|JE_Override"]
[null,null,null,null,null,null,"AC00971","[MSE] Coop Teach Cash","AC00971-[MSE] Coop Teach Cash","Activity","FD01","Active","2025-03-17T16:11:52.698977+00:00",null,null,null,null,null,null,null,null,"13589","LSBM Tanner Lecture","13589-LSBM Tanner Lecture",null,null,null,"AS115778561","Maren Johnson (115778561) Humanities - English","AS115778561-Maren Johnson (115778561) Humanities - English","Active",null,null,null,null,null,null,null,null,null,null,null,"SC6931","SC6931||1650","1650","Construction in Progress",null,"JE_PPE|JE_Override"]
[null,null,null,null,null,null,"AC00972","[MSE] Education Advisement","AC00972-[MSE] Education Advisement","Activity","FD01","Active","2025-03-17T16:11:52.698977+00:00",null,null,null,null,null,null,null,null,"13590","LSBM Halloween Family Night","13590-LSBM Halloween Family Night",null,null,null,"AS116023355","Wiley Ben Hill (116023355)","AS116023355-Wiley Ben Hill (116023355)","Active",null,null,null,null,null,null,null,null,null,null,null,"SC6931","SC6931||1651","1651","Construction in Progress (Non-Workday Projects)",null,"All"]
[null,null,null,null,null,null,"AC00973","[MSE] Accounting","AC00973-[MSE] Accounting","Activity","FD01","Active","2025-03-17T16:11:52.698977+00:00",null,null,null,null,null,null,null,null,"13591","LSBM Easter Family Night","13591-LSBM Easter Family Night",null,null,null,"AS116029884","Kristen Betts (116029884) MSE  - Teacher Education","AS116029884-Kristen Betts (116029884) MSE  - Teacher Education","Active",null,null,null,null,null,null,null,null,null,null,null,"SC6931","SC6931||1700","1700","Accumulated Depreciation",null,"JE_PPE|JE_Override"]
[null,null,null,null,null,null,"AC00974","[MSE] MSE Multicultural Committee","AC00974-[MSE] MSE Multicultural Committee","Activity","FD01","Active","2025-03-17T16:11:52.698977+00:00",null,null,null,null,null,null,null,null,"13592","LSBM Night at the Museums","13592-LSBM Night at the Museums",null,null,null,"AS116053592","Jared Bellon (116053592) PMPC Administration","AS116053592-Jared Bellon (116053592) PMPC Administration","Active",null,null,null,null,null,null,null,null,null,null,null,"SC6931","SC6931||6900","6900","Equipment, Software, Library","Primary","All"]
[null,null,null,null,null,null,"AC00975","[MSE] Tech Lab","AC00975-[MSE] Tech Lab","Activity","FD01","Active","2025-03-17T16:11:52.698977+00:00",null,null,null,null,null,null,null,null,"13593","LSBM Promotional Giveaways","13593-LSBM Promotional Giveaways",null,null,null,"AS116189748","Greg Hooke (116189748) Asst Adm VP Physical Facil","AS116189748-Greg Hooke (116189748) Asst Adm VP Physical Facil","Active",null,null,null,null,null,null,null,null,null,null,null,"SC6931","SC6931||8000","8000","Depreciation",null,"JE_PPE|JE_Override"]
[null,null,null,null,null,null,"AC00976","[MSE] Education Computing Support","AC00976-[MSE] Education Computing Support","Activity","FD01","Active","2025-03-17T16:11:52.698977+00:00",null,null,null,null,null,null,null,null,"13594","LSBM Discover Utah-Shelf Exhib","13594-LSBM Discover Utah-Shelf Exhib",null,null,null,"AS116207011","Valerie Buck (116207011) Lee Library - Metadata & IT Division","AS116207011-Valerie Buck (116207011) Lee Library - Metadata & IT Division","Active",null,null,null,null,null,null,null,null,null,null,null,"SC6932","SC6932||1400","1400","Prepaid Expenses",null,"All"]
[null,null,null,null,null,null,"AC00977","[MSE] Accreditation Assessment","AC00977-[MSE] Accreditation Assessment","Activity","FD01","Active","2025-03-17T16:11:52.698977+00:00",null,null,null,null,null,null,null,null,"13595","LSBM Marketing","13595-LSBM Marketing",null,null,null,"AS116234850","Elsa Torgersen (116234850) CE FSY Logistics","AS116234850-Elsa Torgersen (116234850) CE FSY Logistics","Active",null,null,null,null,null,null,null,null,null,null,null,"SC6932","SC6932||1625","1625","Capital Equipment",null,"JE_PPE|JE_Override"]
[null,null,null,null,null,null,"AC00978","[MSE] CITES Fellowship","AC00978-[MSE] CITES Fellowship","Activity","FD01","Active","2025-03-17T16:11:52.698977+00:00",null,null,null,null,null,null,null,null,"13596","LSBM Lytle Max-Planck-Inst-cle","13596-LSBM Lytle Max-Planck-Inst-cle",null,null,null,"AS116373126","Aaron Nielson (116373126) AVP - Dean, Clark Law School","AS116373126-Aaron Nielson (116373126) AVP - Dean, Clark Law School","Active",null,null,null,null,null,null,null,null,null,null,null,"SC6932","SC6932||1650","1650","Construction in Progress",null,"JE_PPE|JE_Override"]
[null,null,null,null,null,null,"AC00979","[MSE] Grant Specialist","AC00979-[MSE] Grant Specialist","Activity","FD01","Active","2025-03-17T16:11:52.698977+00:00",null,null,null,null,null,null,null,null,"13597","LSBM Lytle Land","13597-LSBM Lytle Land",null,null,null,"AS117041348","Shawn Trauntvein (117041348) Financial Aid and Scholarships","AS117041348-Shawn Trauntvein (117041348) Financial Aid and Scholarships","Active",null,null,null,null,null,null,null,null,null,null,null,"SC6932","SC6932||1651","1651","Construction in Progress (Non-Workday Projects)",null,"All"]
[null,null,null,null,null,null,"AC00980","[MSE] Research Office","AC00980-[MSE] Research Office","Activity","FD01","Active","2025-03-17T16:11:52.698977+00:00",null,null,null,null,null,null,null,null,"13598","LSBM Residual Const Funds","13598-LSBM Residual Const Funds",null,null,null,"AS117156772","Laura Lamoreaux (117156772) College of Engineering - Chemical Engineering","AS117156772-Laura Lamoreaux (117156772) College of Engineering - Chemical Engineering","Active",null,null,null,null,null,null,null,null,null,null,null,"SC6932","SC6932||1700","1700","Accumulated Depreciation",null,"JE_PPE|JE_Override"]
[null,null,null,null,null,null,"AC00981","[MSE] AIME Club","AC00981-[MSE] AIME Club","Activity","FD02","Active","2025-03-17T16:11:52.698977+00:00",null,null,null,null,null,null,null,null,"13599","LSBM Lytle home remodel","13599-LSBM Lytle home remodel",null,null,null,"AS117318368","Daniel Quarnberg (117318368) Law School","AS117318368-Daniel Quarnberg (117318368) Law School","Active",null,null,null,null,null,null,null,null,null,null,null,"SC6932","SC6932||6900","6900","Equipment, Software, Library","Primary","All"]
[null,null,null,null,null,null,"AC00982","[MSE] Student Teaching Fee","AC00982-[MSE] Student Teaching Fee","Activity","FD03","Active","2025-03-17T16:11:52.698977+00:00",null,null,null,null,null,null,null,null,"13600","LSBI Res Cycle Sequencing","13600-LSBI Res Cycle Sequencing",null,null,null,"AS117344720","Joseph Hall (117344720) Dean's Office - CMS","AS117344720-Joseph Hall (117344720) Dean's Office - CMS","Active",null,null,null,null,null,null,null,null,null,null,null,"SC6932","SC6932||8000","8000","Depreciation",null,"JE_PPE|JE_Override"]
[null,null,null,null,null,null,"AC00983","[MSE] Beede Project User Payments","AC00983-[MSE] Beede Project User Payments","Activity","FD03","Active","2025-03-17T16:11:52.698977+00:00",null,null,null,null,null,null,null,null,"13601","LSBI Res Lane Usage","13601-LSBI Res Lane Usage",null,null,null,"AS117548330","Julia Ashworth (117548330) Fine Arts & Communications - Theatre & Media Arts","AS117548330-Julia Ashworth (117548330) Fine Arts & Communications - Theatre & Media Arts","Active",null,null,null,null,null,null,null,null,null,null,null,"SC6933","SC6933||1400","1400","Prepaid Expenses",null,"All"]
[null,null,null,null,null,null,"AC00984","[MSE] Critical Thinking","AC00984-[MSE] Critical Thinking","Activity","FD03","Active","2025-03-17T16:11:52.698977+00:00",null,null,null,null,null,null,null,null,"13602","LSBI Res Fragment Analysis","13602-LSBI Res Fragment Analysis",null,null,null,"AS117745761","Curtis Child (117745761) AVP - Dean, Family Home Social Science (FHSS)","AS117745761-Curtis Child (117745761) AVP - Dean, Family Home Social Science (FHSS)","Active",null,null,null,null,null,null,null,null,null,null,null,"SC6933","SC6933||1637","1637","Software",null,"JE_PPE|JE_Override"]
[null,null,null,null,null,null,"AC00985","[MSE] What's Best for Matthew Paymnt","AC00985-[MSE] What's Best for Matthew Paymnt","Activity","FD03","Active","2025-03-17T16:11:52.698977+00:00",null,null,null,null,null,null,null,null,"13603","LSBI Res Big Dye","13603-LSBI Res Big Dye",null,null,null,"AS117773720","Steve Hill (117773720) Enrollment Services Executive Director's Office","AS117773720-Steve Hill (117773720) Enrollment Services Executive Director's Office","Active",null,null,null,null,null,null,null,null,null,null,null,"SC6933","SC6933||1700","1700","Accumulated Depreciation",null,"JE_PPE|JE_Override"]
[null,null,null,null,null,null,"AC00986","[MSE] Beede Distribution Account","AC00986-[MSE] Beede Distribution Account","Activity","FD03","Active","2025-03-17T16:11:52.698977+00:00",null,null,null,null,null,null,null,null,"13604","LSBI Res PacBio Sequel","13604-LSBI Res PacBio Sequel",null,null,null,"AS117842228","Cordell Briggs (117842228) Dining Services","AS117842228-Cordell Briggs (117842228) Dining Services","Active",null,null,null,null,null,null,null,null,null,null,null,"SC6933","SC6933||6900","6900","Equipment, Software, Library","Primary","All"]
[null,null,null,null,null,null,"AC00987","[MSE] Live Text Licensing Fee","AC00987-[MSE] Live Text Licensing Fee","Activity","FD03","Active","2025-03-17T16:11:52.698977+00:00",null,null,null,null,null,null,null,null,"13605","LSBI Res Illumina","13605-LSBI Res Illumina",null,null,null,"AS118085270","Gina Jackson (118085270) College of Nursing","AS118085270-Gina Jackson (118085270) College of Nursing","Active",null,null,null,null,null,null,null,null,null,null,null,"SC6933","SC6933||8000","8000","Depreciation",null,"JE_PPE|JE_Override"]
[null,null,null,null,null,null,"AC00988","[MSE] Student Teachers","AC00988-[MSE] Student Teachers","Activity","FD03","Active","2025-03-17T16:11:52.698977+00:00",null,null,null,null,null,null,null,null,"13606","LSBI Res pg and Agilent bioana","13606-LSBI Res pg and Agilent bioana",null,null,null,"AS118518496","Phillip Hartog (118518496) Athletics - Olympic Sport Medicine","AS118518496-Phillip Hartog (118518496) Athletics - Olympic Sport Medicine","Active",null,null,null,null,null,null,null,null,null,null,null,"SC6934","SC6934||1400","1400","Prepaid Expenses",null,"All"]
[null,null,null,null,null,null,"AC00989","[MSE] MSE Professional Development","AC00989-[MSE] MSE Professional Development","Activity","FD03","Active","2025-03-17T16:11:52.698977+00:00",null,null,null,null,null,null,null,null,"13607","LSBI Womens Resrch Init 2020","13607-LSBI Womens Resrch Init 2020",null,null,null,"AS118901715","Pace Nielsen (118901715) CMS - Mathematics","AS118901715-Pace Nielsen (118901715) CMS - Mathematics","Active",null,null,null,null,null,null,null,null,null,null,null,"SC6934","SC6934||6900","6900","Equipment, Software, Library","Primary","All"]
[null,null,null,null,null,null,"AC00990","[MSE] Education - President's Innova","AC00990-[MSE] Education - President's Innova","Activity","FD03","Active","2025-03-17T16:11:52.698977+00:00",null,null,null,null,null,null,null,null,"13608","LSBI Bio 550 Behavioral Ecolog","13608-LSBI Bio 550 Behavioral Ecolog",null,null,null,"AS119095763","David Sims (119095763) FHSS - Economics","AS119095763-David Sims (119095763) FHSS - Economics","Active",null,null,null,null,null,null,null,null,null,null,null,"SC6935","SC6935||1400","1400","Prepaid Expenses",null,"All"]
[null,null,null,null,null,null,"AC00991","[MSE] Experiential Inspiring Learn","AC00991-[MSE] Experiential Inspiring Learn","Activity","FD03","Active","2025-03-17T16:11:52.698977+00:00",null,null,null,null,null,null,null,null,"13609","LSBI EEL Facility-Research","13609-LSBI EEL Facility-Research",null,null,null,"AS119110661","Mark Beecher (119110661) Student Life VP","AS119110661-Mark Beecher (119110661) Student Life VP","Active",null,null,null,null,null,null,null,null,null,null,null,"SC6935","SC6935||1625","1625","Capital Equipment",null,"JE_PPE|JE_Override"]
[null,null,null,null,null,null,"AC00992","[MSE] Teacher ED Sunshine Fund","AC00992-[MSE] Teacher ED Sunshine Fund","Activity","FD07","Active","2025-03-17T16:11:52.698977+00:00",null,null,null,null,null,null,null,null,"13610","LSBI Bio 235 Field Botany","13610-LSBI Bio 235 Field Botany",null,null,null,"AS119352652","Travis Dance (119352652) PF Planning & Construction - Major Projects","AS119352652-Travis Dance (119352652) PF Planning & Construction - Major Projects","Active",null,null,null,null,null,null,null,null,null,null,null,"SC6935","SC6935||1650","1650","Construction in Progress",null,"JE_PPE|JE_Override"]
[null,null,null,null,null,null,"AC00993","[MSE] HR- Student Teachers","AC00993-[MSE] HR- Student Teachers","Activity","FD03","Active","2025-03-17T16:11:52.698977+00:00",null,null,null,null,null,null,null,null,"13611","LSBI Bio 364 Bioinfomatics Alg","13611-LSBI Bio 364 Bioinfomatics Alg",null,null,null,"AS119433638","Emilee Barrett (119433638) CE Test Prep & Youth Programs","AS119433638-Emilee Barrett (119433638) CE Test Prep & Youth Programs","Active",null,null,null,null,null,null,null,null,null,null,null,"SC6935","SC6935||1651","1651","Construction in Progress (Non-Workday Projects)",null,"All"]
[null,null,null,null,null,null,"AC00994","[MSE] Database/Web","AC00994-[MSE] Database/Web","Activity","FD01","Active","2025-03-17T16:11:52.698977+00:00",null,null,null,null,null,null,null,null,"13612","LSBI Bio 291R Vet Med Seminar","13612-LSBI Bio 291R Vet Med Seminar",null,null,null,"AS119461870","Troy Wilde (119461870) OIT Portfolio - Identity","AS119461870-Troy Wilde (119461870) OIT Portfolio - Identity","Active",null,null,null,null,null,null,null,null,null,null,null,"SC6935","SC6935||1700","1700","Accumulated Depreciation",null,"JE_PPE|JE_Override"]
[null,null,null,null,null,null,"AC00995","[MSE] Ext. Relations/Creative","AC00995-[MSE] Ext. Relations/Creative","Activity","FD01","Active","2025-03-17T16:11:52.698977+00:00",null,null,null,null,null,null,null,null,"13613","LSBI Bio 392R Prevet Preceptor","13613-LSBI Bio 392R Prevet Preceptor",null,null,null,"AS119593747","Cindy Monson Litchford (119593747) Athletics - Track & Field","AS119593747-Cindy Monson Litchford (119593747) Athletics - Track & Field","Active",null,null,null,null,null,null,null,null,null,null,null,"SC6935","SC6935||6900","6900","Equipment, Software, Library","Primary","All"]
[null,null,null,null,null,null,"AC00996","[MSE] Ed Society/Alumni","AC00996-[MSE] Ed Society/Alumni","Activity","FD01","Active","2025-03-17T16:11:52.698977+00:00",null,null,null,null,null,null,null,null,"13614","LSBI Bio 120 Field Biology","13614-LSBI Bio 120 Field Biology",null,null,null,"AS119743920","Kris Nelson (119743920) Academic Vice President","AS119743920-Kris Nelson (119743920) Academic Vice President","Active",null,null,null,null,null,null,null,null,null,null,null,"SC6935","SC6935||8000","8000","Depreciation",null,"JE_PPE|JE_Override"]
[null,null,null,null,null,null,"AC00997","[MSE] Recruitment","AC00997-[MSE] Recruitment","Activity","FD01","Active","2025-03-17T16:11:52.698977+00:00",null,null,null,null,null,null,null,null,"13615","LSBI Bio 380 Animal Phys Anato","13615-LSBI Bio 380 Animal Phys Anato",null,null,null,"AS119812781","Bill Keenan (119812781) Business Career Center","AS119812781-Bill Keenan (119812781) Business Career Center","Active",null,null,null,null,null,null,null,null,null,null,null,"SC6936","SC6936||1400","1400","Prepaid Expenses",null,"All"]
[null,null,null,null,null,null,"AC00998","[MSE] Grad Studies/COMD Scholarship","AC00998-[MSE] Grad Studies/COMD Scholarship","Activity","FD01","Active","2025-03-17T16:11:52.698977+00:00",null,null,null,null,null,null,null,null,"13616","LSBI Bio 447 Mammology","13616-LSBI Bio 447 Mammology",null,null,null,"AS119933025","Samuel Payne (119933025) Life Sciences - Biology","AS119933025-Samuel Payne (119933025) Life Sciences - Biology","Active",null,null,null,null,null,null,null,null,null,null,null,"SC6936","SC6936||6900","6900","Equipment, Software, Library","Primary","All"]
[null,null,null,null,null,null,"AC00999","[MSE] NSSLHA","AC00999-[MSE] NSSLHA","Activity","FD02","Active","2025-03-17T16:11:52.698977+00:00",null,null,null,null,null,null,null,null,"13617","LSBI Bio 557 Stream Ecology","13617-LSBI Bio 557 Stream Ecology",null,null,null,"AS120315123","Jordan Brady (120315123) Athletics - Men's Basketball","AS120315123-Jordan Brady (120315123) Athletics - Men's Basketball","Active",null,null,null,null,null,null,null,null,null,null,null,"SC6937","SC6937||1400","1400","Prepaid Expenses",null,"All"]
[null,null,null,null,null,null,"AC01000","[MSE] Audiology Clinic","AC01000-[MSE] Audiology Clinic","Activity","FD03","Active","2025-03-17T16:11:52.698977+00:00",null,null,null,null,null,null,null,null,"13618","LSBI Bio 443 Icthyology","13618-LSBI Bio 443 Icthyology",null,null,null,"AS120405939","Ann Marie Lambert (120405939) Honor Code Office","AS120405939-Ann Marie Lambert (120405939) Honor Code Office","Active",null,null,null,null,null,null,null,null,null,null,null,"SC6937","SC6937||1630","1630","Vehicles",null,"JE_PPE|JE_Override"]
[null,null,null,null,null,null,"AC01001","[MSE] Speech-Language Clinic","AC01001-[MSE] Speech-Language Clinic","Activity","FD03","Active","2025-10-09T02:03:54.019749+00:00",null,null,null,null,null,null,null,null,"13619","LSBI Bio 194 Intro to Mentored","13619-LSBI Bio 194 Intro to Mentored",null,null,null,"AS120420148","Victor Pinto (120420148) PF Paint & Sign Shop","AS120420148-Victor Pinto (120420148) PF Paint & Sign Shop","Active",null,null,null,null,null,null,null,null,null,null,null,"SC6937","SC6937||1700","1700","Accumulated Depreciation",null,"JE_PPE|JE_Override"]
[null,null,null,null,null,null,"AC01002","[MSE] PIF - Stroke Study","AC01002-[MSE] PIF - Stroke Study","Activity","FD03","Active","2025-04-11T02:03:42.982071+00:00",null,null,null,null,null,null,null,null,"13620","LSBI Dept Funds Allocation-Fun","13620-LSBI Dept Funds Allocation-Fun",null,null,null,"AS120428382","Jennifer Schill (120428382) Research & Learning - Social Sciences","AS120428382-Jennifer Schill (120428382) Research & Learning - Social Sciences","Active",null,null,null,null,null,null,null,null,null,null,null,"SC6937","SC6937||6900","6900","Equipment, Software, Library","Primary","All"]
[null,null,null,null,null,null,"AC01003","[MSE] Discretionary Research Fund","AC01003-[MSE] Discretionary Research Fund","Activity","FD03","Active","2025-03-17T16:11:52.698977+00:00",null,null,null,null,null,null,null,null,"13621","LSBI South Pacific Projects","13621-LSBI South Pacific Projects",null,null,null,"AS120510499","Iz Boekweg (120510499) PF Grounds - Site & Landscape Construction","AS120510499-Iz Boekweg (120510499) PF Grounds - Site & Landscape Construction","Active",null,null,null,null,null,null,null,null,null,null,null,"SC6937","SC6937||8000","8000","Depreciation",null,"JE_PPE|JE_Override"]
[null,null,null,null,null,null,"AC01005","[MSE] Counseling and Special","AC01005-[MSE] Counseling and Special","Activity","FD01","Active","2025-03-17T16:11:52.698977+00:00",null,null,null,null,null,null,null,null,"13622","LSBI AD1 (McMillian)","13622-LSBI AD1 (McMillian)",null,null,null,"AS120636344","Scott Webb (120636344) MSB - Marketing & Global Supply Chain","AS120636344-Scott Webb (120636344) MSB - Marketing & Global Supply Chain","Active",null,null,null,null,null,null,null,null,null,null,null,"SC6938","SC6938||1400","1400","Prepaid Expenses",null,"All"]
[null,null,null,null,null,null,"AC01006","[MSE] Academy of Spiritual Center","AC01006-[MSE] Academy of Spiritual Center","Activity","FD01","Active","2025-03-17T16:11:52.698977+00:00",null,null,null,null,null,null,null,null,"13623","LSBI Alzheimer s Disease","13623-LSBI Alzheimer s Disease",null,null,null,"AS120701340","Aaron Moody (120701340) CE Registration & Cashier","AS120701340-Aaron Moody (120701340) CE Registration & Cashier","Active",null,null,null,null,null,null,null,null,null,null,null,"SC6938","SC6938||1625","1625","Capital Equipment",null,"JE_PPE|JE_Override"]
[null,null,null,null,null,null,"AC01007","[MSE] St Council Exceptional Childrn","AC01007-[MSE] St Council Exceptional Childrn","Activity","FD02","Active","2025-03-17T16:11:52.698977+00:00",null,null,null,null,null,null,null,null,"13624","LSBI Bio 264 Stat Analy for Bi","13624-LSBI Bio 264 Stat Analy for Bi",null,null,null,"AS120882572","Kalani Sitake (120882572) Advance VP - Director, Athletics","AS120882572-Kalani Sitake (120882572) Advance VP - Director, Athletics","Active",null,null,null,null,null,null,null,null,null,null,null,"SC6938","SC6938||1700","1700","Accumulated Depreciation",null,"JE_PPE|JE_Override"]
[null,null,null,null,null,null,"AC01008","[MSE] Spiritual Foundations","AC01008-[MSE] Spiritual Foundations","Activity","FD03","Active","2025-03-17T16:11:52.698977+00:00",null,null,null,null,null,null,null,null,"13625","LSBI Leavitt, Steve","13625-LSBI Leavitt, Steve",null,null,null,"AS120961401","Stephanie Breinholt (120961401) Fine Arts & Communications - Theatre & Media Arts","AS120961401-Stephanie Breinholt (120961401) Fine Arts & Communications - Theatre & Media Arts","Active",null,null,null,null,null,null,null,null,null,null,null,"SC6938","SC6938||6900","6900","Equipment, Software, Library","Primary","All"]
[null,null,null,null,null,null,"AC01009","[MSE] Autism Project","AC01009-[MSE] Autism Project","Activity","FD03","Active","2025-03-17T16:11:52.698977+00:00",null,null,null,null,null,null,null,null,"13626","LSBI Bio 100 Online Developmen","13626-LSBI Bio 100 Online Developmen",null,null,null,"AS121137236","Bryan Hamblin (121137236) AVP - Dean, Clark Law School","AS121137236-Bryan Hamblin (121137236) AVP - Dean, Clark Law School","Active",null,null,null,null,null,null,null,null,null,null,null,"SC6938","SC6938||8000","8000","Depreciation",null,"JE_PPE|JE_Override"]
[null,null,null,null,null,null,"AC01010","[MSE] IDR Suicide Risk Grant","AC01010-[MSE] IDR Suicide Risk Grant","Activity","FD03","Active","2025-03-17T16:11:52.698977+00:00",null,null,null,null,null,null,null,null,"13627","LSBI Evolution Display Case","13627-LSBI Evolution Display Case",null,null,null,"AS121169186","William Rust (121169186) College of Engineering - Mechanical Engineering","AS121169186-William Rust (121169186) College of Engineering - Mechanical Engineering","Active",null,null,null,null,null,null,null,null,null,null,null,"SC6939","SC6939||1400","1400","Prepaid Expenses",null,"All"]
[null,null,null,null,null,null,"AC01011","[MSE] E. Cutrer Grad Mentoring Award","AC01011-[MSE] E. Cutrer Grad Mentoring Award","Activity","FD03","Active","2025-03-17T16:11:52.698977+00:00",null,null,null,null,null,null,null,null,"13628","LSBI Bio 445 Herpetology","13628-LSBI Bio 445 Herpetology",null,null,null,"AS121548413","Quint Colman (121548413) PMPC Administration","AS121548413-Quint Colman (121548413) PMPC Administration","Active",null,null,null,null,null,null,null,null,null,null,null,"SC6939","SC6939||1625","1625","Capital Equipment",null,"JE_PPE|JE_Override"]
[null,null,null,null,null,null,"AC01013","[MSE] Ed Leadership and Foundations","AC01013-[MSE] Ed Leadership and Foundations","Activity","FD01","Active","2025-03-17T16:11:52.698977+00:00",null,null,null,null,null,null,null,null,"13629","LSBI Bio 265 Bio Data Science","13629-LSBI Bio 265 Bio Data Science",null,null,null,"AS121668778","Bethany Duerst (121668778) Staff Compensation","AS121668778-Bethany Duerst (121668778) Staff Compensation","Active",null,null,null,null,null,null,null,null,null,null,null,"SC6939","SC6939||1650","1650","Construction in Progress",null,"JE_PPE|JE_Override"]
[null,null,null,null,null,null,"AC01014","[MSE] Principals Academy Fellowship","AC01014-[MSE] Principals Academy Fellowship","Activity","FD01","Active","2025-03-17T16:11:52.698977+00:00",null,null,null,null,null,null,null,null,"13630","LSBI Bio 511 Lichenology","13630-LSBI Bio 511 Lichenology",null,null,null,"AS121684964","Jenny Wheeler (121684964) AAVP, Faculty Dev - University Librarian, Lee Library","AS121684964-Jenny Wheeler (121684964) AAVP, Faculty Dev - University Librarian, Lee Library","Active",null,null,null,null,null,null,null,null,null,null,null,"SC6939","SC6939||1651","1651","Construction in Progress (Non-Workday Projects)",null,"All"]
[null,null,null,null,null,null,"AC01015","[MSE] Ed Law Journal","AC01015-[MSE] Ed Law Journal","Activity","FD02","Active","2025-03-17T16:11:52.698977+00:00",null,null,null,null,null,null,null,null,"13631","LSBI Speciation and Phylogeogr","13631-LSBI Speciation and Phylogeogr",null,null,null,"AS121802238","Tom Pittman (121802238) Dean's Office FHSS","AS121802238-Tom Pittman (121802238) Dean's Office FHSS","Active",null,null,null,null,null,null,null,null,null,null,null,"SC6939","SC6939||1700","1700","Accumulated Depreciation",null,"JE_PPE|JE_Override"]
[null,null,null,null,null,null,"AC01016","[MSE] Leadership R & D","AC01016-[MSE] Leadership R & D","Activity","FD03","Active","2025-03-17T16:11:52.698977+00:00",null,null,null,null,null,null,null,null,"13632","LSBI Bio 316 Adv Sci Writing a","13632-LSBI Bio 316 Adv Sci Writing a",null,null,null,"AS121934274","Inho Jung (121934274) Humanities - Asian & Near Eastern Languages","AS121934274-Inho Jung (121934274) Humanities - Asian & Near Eastern Languages","Active",null,null,null,null,null,null,null,null,null,null,null,"SC6939","SC6939||6900","6900","Equipment, Software, Library","Primary","All"]
[null,null,null,null,null,null,"AC01018","[MSE] Instruct Material L","AC01018-[MSE] Instruct Material L","Activity","FD01","Active","2025-03-17T16:11:52.698977+00:00",null,null,null,null,null,null,null,null,"13633","LSBI Bio 450 Conservation Biol","13633-LSBI Bio 450 Conservation Biol",null,null,null,"AS121944169","Duncan Larsen (121944169) Dean's Office - College of Engineering","AS121944169-Duncan Larsen (121944169) Dean's Office - College of Engineering","Active",null,null,null,null,null,null,null,null,null,null,null,"SC6939","SC6939||8000","8000","Depreciation",null,"JE_PPE|JE_Override"]
[null,null,null,null,null,null,"AC01019","[MSE] Instructional Science","AC01019-[MSE] Instructional Science","Activity","FD01","Active","2025-03-17T16:11:52.698977+00:00",null,null,null,null,null,null,null,null,"13634","LSBI Bio 378 Practicum in Bio","13634-LSBI Bio 378 Practicum in Bio",null,null,null,"AS121995597","Eric Bybee (121995597) MSE  - Teacher Education","AS121995597-Eric Bybee (121995597) MSE  - Teacher Education","Active",null,null,null,null,null,null,null,null,null,null,null,"SC6940","SC6940||1300","1300","Inventory","Primary","All"]
[null,null,null,null,null,null,"AC01020","[MSE] Undergrad Research Training","AC01020-[MSE] Undergrad Research Training","Activity","FD01","Active","2025-03-17T16:11:52.698977+00:00",null,null,null,null,null,null,null,null,"13635","LSBI Bio 541 Aquatic Entomolog","13635-LSBI Bio 541 Aquatic Entomolog",null,null,null,"AS122125065","David Burnett (122125065) OIT Core -  Tech Support","AS122125065-David Burnett (122125065) OIT Core -  Tech Support","Active",null,null,null,null,null,null,null,null,null,null,null,"SC6940","SC6940||1650","1650","Construction in Progress",null,"JE_PPE|JE_Override"]
[null,null,null,null,null,null,"AC01021","[MSE] Grad Study Robert Bodily","AC01021-[MSE] Grad Study Robert Bodily","Activity","FD01","Active","2025-03-17T16:11:52.698977+00:00",null,null,null,null,null,null,null,null,"13636","LSBI Great Basin","13636-LSBI Great Basin",null,null,null,"AS122238061","Eusebio Enciso (122238061) Culinary Support Center","AS122238061-Eusebio Enciso (122238061) Culinary Support Center","Active",null,null,null,null,null,null,null,null,null,null,null,"SC6940","SC6940||4900","4900","Cost of Sales",null,"All"]
[null,null,null,null,null,null,"AC01022","[MSE] Inst Psych & Tech Student Org","AC01022-[MSE] Inst Psych & Tech Student Org","Activity","FD02","Active","2025-03-17T16:11:52.698977+00:00",null,null,null,null,null,null,null,null,"13637","LSBI Willes B of M Studies","13637-LSBI Willes B of M Studies",null,null,null,"AS122333112","Brigham Talbot (122333112) Registrar's Office","AS122333112-Brigham Talbot (122333112) Registrar's Office","Active",null,null,null,null,null,null,null,null,null,null,null,"SC6940","SC6940||6900","6900","Equipment, Software, Library",null,"All"]
[null,null,null,null,null,null,"AC01023","[MSE] Graduate Studies-Inst Psy","AC01023-[MSE] Graduate Studies-Inst Psy","Activity","FD03","Active","2025-03-17T16:11:52.698977+00:00",null,null,null,null,null,null,null,null,"13638","LSBI Bio 379 Class Mgmt and La","13638-LSBI Bio 379 Class Mgmt and La",null,null,null,"AS122381038","James White (122381038) Cougareat","AS122381038-James White (122381038) Cougareat","Active",null,null,null,null,null,null,null,null,null,null,null,"SC6941","SC6941||1300","1300","Inventory","Primary","All"]
[null,null,null,null,null,null,"AC01024","[MSE] IP&T Designated Funds","AC01024-[MSE] IP&T Designated Funds","Activity","FD03","Active","2025-03-17T16:11:52.698977+00:00",null,null,null,null,null,null,null,null,"13639","LSBI Clark, Shawn","13639-LSBI Clark, Shawn",null,null,null,"AS122448945","E.J. Caffaro (122448945) Enrollment Services Office","AS122448945-E.J. Caffaro (122448945) Enrollment Services Office","Active",null,null,null,null,null,null,null,null,null,null,null,"SC6941","SC6941||1650","1650","Construction in Progress",null,"JE_PPE|JE_Override"]
[null,null,null,null,null,null,"AC01026","[MSE] CITES District Operations","AC01026-[MSE] CITES District Operations","Activity","FD01","Active","2025-03-17T16:11:52.698977+00:00",null,null,null,null,null,null,null,null,"13640","LSBI Summer Student Wages","13640-LSBI Summer Student Wages",null,null,null,"AS122455676","Daniel Bradshaw (122455676) Fine Arts & Communications - School of Music","AS122455676-Daniel Bradshaw (122455676) Fine Arts & Communications - School of Music","Active",null,null,null,null,null,null,null,null,null,null,null,"SC6941","SC6941||4900","4900","Cost of Sales",null,"All"]
[null,null,null,null,null,null,"AC01027","[MSE] Science & Engineering Fair","AC01027-[MSE] Science & Engineering Fair","Activity","FD02","Active","2025-04-19T02:04:07.079842+00:00",null,null,null,null,null,null,null,null,"13641","LSBI Bio 455 Plant Ecology","13641-LSBI Bio 455 Plant Ecology",null,null,null,"AS122543874","Eric Howard (122543874) Lee Library - Communications","AS122543874-Eric Howard (122543874) Lee Library - Communications","Active",null,null,null,null,null,null,null,null,null,null,null,"SC6941","SC6941||6900","6900","Equipment, Software, Library",null,"All"]
[null,null,null,null,null,null,"AC01028","[MSE] Technology Project","AC01028-[MSE] Technology Project","Activity","FD03","Active","2025-03-17T16:11:52.698977+00:00",null,null,null,null,null,null,null,null,"13642","LSBI Griffen, Blaine","13642-LSBI Griffen, Blaine",null,null,null,"AS122597533","Kendall Wilson (122597533) PF Carpenter Shop","AS122597533-Kendall Wilson (122597533) PF Carpenter Shop","Active",null,null,null,null,null,null,null,null,null,null,null,"SC6942","SC6942||1300","1300","Inventory","Primary","All"]
[null,null,null,null,null,null,"AC01029","[MSE] BYU Partnership Renewal","AC01029-[MSE] BYU Partnership Renewal","Activity","FD03","Active","2025-03-17T16:11:52.698977+00:00",null,null,null,null,null,null,null,null,"13643","LSBI Bio 463 Genetics of Human","13643-LSBI Bio 463 Genetics of Human",null,null,null,"AS122658126","Steven Wood (122658126) CMS - Chemistry and Biochemistry","AS122658126-Steven Wood (122658126) CMS - Chemistry and Biochemistry","Active",null,null,null,null,null,null,null,null,null,null,null,"SC6942","SC6942||1650","1650","Construction in Progress",null,"JE_PPE|JE_Override"]
[null,null,null,null,null,null,"AC01030","[MSE] CI-MTSS","AC01030-[MSE] CI-MTSS","Activity","FD03","Active","2025-03-17T16:11:52.698977+00:00",null,null,null,null,null,null,null,null,"13644","LSBI Bio 476 Biology Student T","13644-LSBI Bio 476 Biology Student T",null,null,null,"AS123043357","Kiri Case (123043357) Humanities - English","AS123043357-Kiri Case (123043357) Humanities - English","Active",null,null,null,null,null,null,null,null,null,null,null,"SC6942","SC6942||4900","4900","Cost of Sales",null,"All"]
[null,null,null,null,null,null,"AC01032","[MSE] Cites Capital Campaign","AC01032-[MSE] Cites Capital Campaign","Activity","FD03","Active","2025-03-17T16:11:52.698977+00:00",null,null,null,null,null,null,null,null,"13645","LSBI Bio 496R Secondary teachi","13645-LSBI Bio 496R Secondary teachi",null,null,null,"AS123392561","Debbie Tehrani (123392561) PF Building Projects, Maintenance & Transportation Services","AS123392561-Debbie Tehrani (123392561) PF Building Projects, Maintenance & Transportation Services","Active",null,null,null,null,null,null,null,null,null,null,null,"SC6942","SC6942||6900","6900","Equipment, Software, Library",null,"All"]
[null,null,null,null,null,null,"AC01033","[MSE] CITES Sunshine Fund","AC01033-[MSE] CITES Sunshine Fund","Activity","FD07","Active","2025-03-17T16:11:52.698977+00:00",null,null,null,null,null,null,null,null,"13646","LSBI Bio 503 Research Orientat","13646-LSBI Bio 503 Research Orientat",null,null,null,"AS123417982","Ansalee Greenwood (123417982) Humanities - English","AS123417982-Ansalee Greenwood (123417982) Humanities - English","Active",null,null,null,null,null,null,null,null,null,null,null,"SC6943","SC6943||1300","1300","Inventory","Primary","All"]
[null,null,null,null,null,null,"AC01034","[MSE] Teacher Ed Grad Scholarships","AC01034-[MSE] Teacher Ed Grad Scholarships","Activity","FD01","Active","2025-03-17T16:11:52.698977+00:00",null,null,null,null,null,null,null,null,"13647","LSBI Bio 510 Bio Systematics C","13647-LSBI Bio 510 Bio Systematics C",null,null,null,"AS123433674","Othello Richards (123433674) Fine Arts & Communications - School of Communications","AS123433674-Othello Richards (123433674) Fine Arts & Communications - School of Communications","Active",null,null,null,null,null,null,null,null,null,null,null,"SC6943","SC6943||1650","1650","Construction in Progress",null,"JE_PPE|JE_Override"]
[null,null,null,null,null,null,"AC01035","[MSE] Materials Account - Nebo Dist","AC01035-[MSE] Materials Account - Nebo Dist","Activity","FD01","Active","2025-03-17T16:11:52.698977+00:00",null,null,null,null,null,null,null,null,"13648","LSBI Bio 512 Angiosperm Phylog","13648-LSBI Bio 512 Angiosperm Phylog",null,null,null,"AS123542369","Gary Whitaker (123542369) Dining Administration","AS123542369-Gary Whitaker (123542369) Dining Administration","Active",null,null,null,null,null,null,null,null,null,null,null,"SC6943","SC6943||4900","4900","Cost of Sales",null,"All"]
[null,null,null,null,null,null,"AC01036","[MSE] Materials Account - Jordan Dis","AC01036-[MSE] Materials Account - Jordan Dis","Activity","FD01","Active","2025-03-17T16:11:52.698977+00:00",null,null,null,null,null,null,null,null,"13649","LSBI Bio 517 Pub in Peer Rev J","13649-LSBI Bio 517 Pub in Peer Rev J",null,null,null,"AS123563353","Nicole Donahoo (123563353) MSB - School of Accountancy","AS123563353-Nicole Donahoo (123563353) MSB - School of Accountancy","Active",null,null,null,null,null,null,null,null,null,null,null,"SC6943","SC6943||6900","6900","Equipment, Software, Library",null,"All"]
[null,null,null,null,null,null,"AC01037","[MSE] Materials Account - Provo Dist","AC01037-[MSE] Materials Account - Provo Dist","Activity","FD01","Active","2025-03-17T16:11:52.698977+00:00",null,null,null,null,null,null,null,null,"13650","LSPW CURA-Aanderud, Zachary","13650-LSPW CURA-Aanderud, Zachary",null,null,null,"AS123697382","Jeff Copas (123697382) PF Building Operations","AS123697382-Jeff Copas (123697382) PF Building Operations","Active",null,null,null,null,null,null,null,null,null,null,null,"SC6944","SC6944||1300","1300","Inventory","Primary","All"]
[null,null,null,null,null,null,"AC01038","[MSE] Materials Account - Wasatch","AC01038-[MSE] Materials Account - Wasatch","Activity","FD01","Active","2025-03-17T16:11:52.698977+00:00",null,null,null,null,null,null,null,null,"13651","LSPW CURA-Abbott, Benjamin","13651-LSPW CURA-Abbott, Benjamin",null,null,null,"AS123812983","Mira Larsen (123812983) Fine Arts & Communications - Dance","AS123812983-Mira Larsen (123812983) Fine Arts & Communications - Dance","Active",null,null,null,null,null,null,null,null,null,null,null,"SC6944","SC6944||1650","1650","Construction in Progress",null,"JE_PPE|JE_Override"]
[null,null,null,null,null,null,"AC01039","[MSE] Materials Account - Alpine Dis","AC01039-[MSE] Materials Account - Alpine Dis","Activity","FD01","Active","2025-03-17T16:11:52.698977+00:00",null,null,null,null,null,null,null,null,"13652","LSPW CURA-Allen, Phil","13652-LSPW CURA-Allen, Phil",null,null,null,"AS123820240","Ron Hager (123820240) Life Sciences - Exercise Sciences","AS123820240-Ron Hager (123820240) Life Sciences - Exercise Sciences","Active",null,null,null,null,null,null,null,null,null,null,null,"SC6944","SC6944||4900","4900","Cost of Sales",null,"All"]
[null,null,null,null,null,null,"AC01040","[MSE] Materials Account - ECE","AC01040-[MSE] Materials Account - ECE","Activity","FD01","Active","2025-03-17T16:11:52.698977+00:00",null,null,null,null,null,null,null,null,"13653","LSPW CURA-Allphin, Loreen","13653-LSPW CURA-Allphin, Loreen",null,null,null,"AS123985964","Stephen Done (123985964) BYU Broadcasting - Digital Media","AS123985964-Stephen Done (123985964) BYU Broadcasting - Digital Media","Active",null,null,null,null,null,null,null,null,null,null,null,"SC6944","SC6944||6900","6900","Equipment, Software, Library",null,"All"]
[null,null,null,null,null,null,"AC01041","[MSE] Student Mentoring Program","AC01041-[MSE] Student Mentoring Program","Activity","FD01","Active","2025-03-17T16:11:52.698977+00:00",null,null,null,null,null,null,null,null,"13654","LSPW CURA-Anderson, Val","13654-LSPW CURA-Anderson, Val",null,null,null,"AS124120943","Randa Alvord (124120943) Advisement, College of Fine Arts and Communications","AS124120943-Randa Alvord (124120943) Advisement, College of Fine Arts and Communications","Active",null,null,null,null,null,null,null,null,null,null,null,"SC6945","SC6945||1300","1300","Inventory","Primary","All"]
[null,null,null,null,null,null,"AC01042","[MSE] Student Academic Assoc","AC01042-[MSE] Student Academic Assoc","Activity","FD01","Active","2025-03-17T16:11:52.698977+00:00",null,null,null,null,null,null,null,null,"13655","LSPW CURA-Arrington, Matthew","13655-LSPW CURA-Arrington, Matthew",null,null,null,"AS124472486","Layne Peterson (124472486) Fine Arts & Communications - School of Communications","AS124472486-Layne Peterson (124472486) Fine Arts & Communications - School of Communications","Active",null,null,null,null,null,null,null,null,null,null,null,"SC6945","SC6945||1650","1650","Construction in Progress",null,"JE_PPE|JE_Override"]
[null,null,null,null,null,null,"AC01043","[MSE] Pre Intern Workshop","AC01043-[MSE] Pre Intern Workshop","Activity","FD01","Active","2025-03-17T16:11:52.698977+00:00",null,null,null,null,null,null,null,null,"13656","LSPW CURA-Chaston, John","13656-LSPW CURA-Chaston, John",null,null,null,"AS124508116","Jen Yamamoto (124508116) CMS - Statistics","AS124508116-Jen Yamamoto (124508116) CMS - Statistics","Active",null,null,null,null,null,null,null,null,null,null,null,"SC6945","SC6945||4900","4900","Cost of Sales",null,"All"]
[null,null,null,null,null,null,"AC01044","[MSE] BYU Reading Council","AC01044-[MSE] BYU Reading Council","Activity","FD02","Active","2025-03-17T16:11:52.698977+00:00",null,null,null,null,null,null,null,null,"13657","LSPW CURA-Standring, Sam","13657-LSPW CURA-Standring, Sam",null,null,null,"AS124732026","Mark Ellison (124732026) Religious Education - Ancient Scripture","AS124732026-Mark Ellison (124732026) Religious Education - Ancient Scripture","Active",null,null,null,null,null,null,null,null,null,null,null,"SC6945","SC6945||6900","6900","Equipment, Software, Library",null,"All"]
[null,null,null,null,null,null,"AC01045","[MSE] Early Childhood Ed Club","AC01045-[MSE] Early Childhood Ed Club","Activity","FD02","Active","2025-03-17T16:11:52.698977+00:00",null,null,null,null,null,null,null,null,"13658","LSPW CURA-Frandsen, Paul","13658-LSPW CURA-Frandsen, Paul",null,null,null,"AS124891767","Emily Sumsion (124891767) CE FSY West","AS124891767-Emily Sumsion (124891767) CE FSY West","Active",null,null,null,null,null,null,null,null,null,null,null,"SC6946","SC6946||1300","1300","Inventory","Primary","All"]
[null,null,null,null,null,null,"AC01046","[MSE] Learning/Teaching Tech Lab","AC01046-[MSE] Learning/Teaching Tech Lab","Activity","FD02","Active","2025-03-17T16:11:52.698977+00:00",null,null,null,null,null,null,null,null,"13659","LSPW CURA-Geary, Bradley","13659-LSPW CURA-Geary, Bradley",null,null,null,"AS125090296","Clifton Farnsworth (125090296) College of Engineering - Civil & Construction Engineering","AS125090296-Clifton Farnsworth (125090296) College of Engineering - Civil & Construction Engineering","Active",null,null,null,null,null,null,null,null,null,null,null,"SC6946","SC6946||1650","1650","Construction in Progress",null,"JE_PPE|JE_Override"]
[null,null,null,null,null,null,"AC01047","[MSE] Teacher Education LRC","AC01047-[MSE] Teacher Education LRC","Activity","FD03","Active","2025-03-17T16:11:52.698977+00:00",null,null,null,null,null,null,null,null,"13660","LSPW CURA-Hansen, Neil","13660-LSPW CURA-Hansen, Neil",null,null,null,"AS125095502","Blake Hansen (125095502) MSE - Counseling Psychology & Special Ed","AS125095502-Blake Hansen (125095502) MSE - Counseling Psychology & Special Ed","Active",null,null,null,null,null,null,null,null,null,null,null,"SC6946","SC6946||4900","4900","Cost of Sales",null,"All"]
[null,null,null,null,null,null,"AC01048","[MSE] PETE Fulton Funds","AC01048-[MSE] PETE Fulton Funds","Activity","FD03","Active","2025-03-17T16:11:52.698977+00:00",null,null,null,null,null,null,null,null,"13661","LSPW CURA-Hopkins, Bryan","13661-LSPW CURA-Hopkins, Bryan",null,null,null,"AS125815511","Bonnie Geldmacher (125815511) Law Library","AS125815511-Bonnie Geldmacher (125815511) Law Library","Active",null,null,null,null,null,null,null,null,null,null,null,"SC6946","SC6946||6900","6900","Equipment, Software, Library",null,"All"]
[null,null,null,null,null,null,"AC01049","[MSE] SEEL Project","AC01049-[MSE] SEEL Project","Activity","FD03","Active","2025-04-19T02:04:07.079842+00:00",null,null,null,null,null,null,null,null,"13662","LSPW CURA-Hulet, April","13662-LSPW CURA-Hulet, April",null,null,null,"AS125840977","Jeremy Fraser (125840977) PF Moving, Receiving, & Office Furniture","AS125840977-Jeremy Fraser (125840977) PF Moving, Receiving, & Office Furniture","Active",null,null,null,null,null,null,null,null,null,null,null,"SC6999","SC6999||1400","1400","Prepaid Expenses",null,"All"]
[null,null,null,null,null,null,"AC01051","[MSB] MSB Graduate Scholarships","AC01051-[MSB] MSB Graduate Scholarships","Activity","FD01","Active","2025-03-17T16:11:52.698977+00:00",null,null,null,null,null,null,null,null,"13663","LSPW CURA-Jarvis, David","13663-LSPW CURA-Jarvis, David",null,null,null,"AS126243836","Tyson Williamson (126243836) College of Engineering - Civil & Construction Engineering","AS126243836-Tyson Williamson (126243836) College of Engineering - Civil & Construction Engineering","Active",null,null,null,null,null,null,null,null,null,null,null,"SC6999","SC6999||1650","1650","Construction in Progress",null,"JE_PPE|JE_Override"]
[null,null,null,null,null,null,"AC01052","[MSB] Driggs Chair","AC01052-[MSB] Driggs Chair","Activity","FD01","Active","2025-03-17T16:11:52.698977+00:00",null,null,null,null,null,null,null,null,"13664","LSPW CURA-Jellen, Eric","13664-LSPW CURA-Jellen, Eric",null,null,null,"AS126333697","Mark Hughes (126333697) CMS - Mathematics","AS126333697-Mark Hughes (126333697) CMS - Mathematics","Active",null,null,null,null,null,null,null,null,null,null,null,"SC6999","SC6999||1651","1651","Construction in Progress (Non-Workday Projects)",null,"All"]
[null,null,null,null,null,null,"AC01053","[MSB] MSB Transfers & Services","AC01053-[MSB] MSB Transfers & Services","Activity","FD02","Active","2025-03-17T16:11:52.698977+00:00",null,null,null,null,null,null,null,null,"13665","LSPW CURA-Jolley, Greg","13665-LSPW CURA-Jolley, Greg",null,null,null,"AS126379521","Yvette Anderson (126379521) Master of Business Administration","AS126379521-Yvette Anderson (126379521) Master of Business Administration","Active",null,null,null,null,null,null,null,null,null,null,null,"SC6999","SC6999||6900","6900","Equipment, Software, Library","Primary","All"]
[null,null,null,null,null,null,"AC01054","[MSB] MSB Tuition Transfers","AC01054-[MSB] MSB Tuition Transfers","Activity","FD03","Active","2025-03-17T16:11:52.698977+00:00",null,null,null,null,null,null,null,null,"13666","LSPW CURA-Larsen, Randy","13666-LSPW CURA-Larsen, Randy",null,null,null,"AS126545477","Tara Marquez (126545477) Athletics - Olympic Sport Medicine","AS126545477-Tara Marquez (126545477) Athletics - Olympic Sport Medicine","Active",null,null,null,null,null,null,null,null,null,null,null,"SC7001","SC7001||1400","1400","Prepaid Expenses",null,"All"]
[null,null,null,null,null,null,"AC01055","[MSB] Marriott School Transfers","AC01055-[MSB] Marriott School Transfers","Activity","FD03","Active","2025-03-17T16:11:52.698977+00:00",null,null,null,null,null,null,null,null,"13667","LSPW CURA-Madsen, Matthew","13667-LSPW CURA-Madsen, Matthew",null,null,null,"AS126590901","Zack Warren (126590901) Athletics - Administration","AS126590901-Zack Warren (126590901) Athletics - Administration","Active",null,null,null,null,null,null,null,null,null,null,null,"SC7001","SC7001||7000","7000","Travel","Primary","All"]
[null,null,null,null,null,null,"AC01056","[MSB] BYU DAC Learn Do Become","AC01056-[MSB] BYU DAC Learn Do Become","Activity","FD03","Active","2025-03-17T16:11:52.698977+00:00",null,null,null,null,null,null,null,null,"13668","LSPW CURA-Maughan, Jeff","13668-LSPW CURA-Maughan, Jeff",null,null,null,"AS126632870","Julie Rivers (126632870) International VP Office","AS126632870-Julie Rivers (126632870) International VP Office","Active",null,null,null,null,null,null,null,null,null,null,null,"SC7002","SC7002||1400","1400","Prepaid Expenses",null,"All"]
[null,null,null,null,null,null,"AC01058","[MSB] BYU Experiential Learning","AC01058-[MSB] BYU Experiential Learning","Activity","FD03","Active","2025-03-17T16:11:52.698977+00:00",null,null,null,null,null,null,null,null,"13669","LSPW CURA-McMillan, Brock","13669-LSPW CURA-McMillan, Brock",null,null,null,"AS126634758","Kirsten Thompson (126634758) Center for Teaching and Learning","AS126634758-Kirsten Thompson (126634758) Center for Teaching and Learning","Active",null,null,null,null,null,null,null,null,null,null,null,"SC7002","SC7002||7000","7000","Travel","Primary","All"]
[null,null,null,null,null,null,"AC01059","[MSB] NAC Spouses Sunshine Fund","AC01059-[MSB] NAC Spouses Sunshine Fund","Activity","FD07","Active","2025-03-17T16:11:52.698977+00:00",null,null,null,null,null,null,null,null,"13670","LSPW CURA-Petersen, Steven","13670-LSPW CURA-Petersen, Steven",null,null,null,"AS126682227","Earl Brown (126682227) Humanities - Linguistics","AS126682227-Earl Brown (126682227) Humanities - Linguistics","Active",null,null,null,null,null,null,null,null,null,null,null,"SC7003","SC7003||1400","1400","Prepaid Expenses",null,"All"]
[null,null,null,null,null,null,"AC01060","[MSB] WACSB (Western Assoc of Coll)","AC01060-[MSB] WACSB (Western Assoc of Coll)","Activity","FD07","Active","2025-03-17T16:11:52.698977+00:00",null,null,null,null,null,null,null,null,"13671","LSPW CURA-Robinson, Todd","13671-LSPW CURA-Robinson, Todd",null,null,null,"AS127277455","Brook Gotberg (127277455) AVP - Dean, Clark Law School","AS127277455-Brook Gotberg (127277455) AVP - Dean, Clark Law School","Active",null,null,null,null,null,null,null,null,null,null,null,"SC7003","SC7003||7000","7000","Travel","Primary","All"]
[null,null,null,null,null,null,"AC01061","[MSB] Executive Lectures","AC01061-[MSB] Executive Lectures","Activity","FD01","Active","2025-03-17T16:11:52.698977+00:00",null,null,null,null,null,null,null,null,"13672","LSPW CURA-Smith, Thomas","13672-LSPW CURA-Smith, Thomas",null,null,null,"AS127470044","Nathan Haines (127470044) Fine Arts & Communications - School of Music","AS127470044-Nathan Haines (127470044) Fine Arts & Communications - School of Music","Active",null,null,null,null,null,null,null,null,null,null,null,"SC7004","SC7004||1400","1400","Prepaid Expenses",null,"All"]
[null,null,null,null,null,null,"AC01062","[MSB] Research Support","AC01062-[MSB] Research Support","Activity","FD01","Active","2025-03-17T16:11:52.698977+00:00",null,null,null,null,null,null,null,null,"13673","LSPW CURA-St. Clair, Sam","13673-LSPW CURA-St. Clair, Sam",null,null,null,"AS127546071","Anna Duvall (127546071) Fine Arts & Communications - Dance","AS127546071-Anna Duvall (127546071) Fine Arts & Communications - Dance","Active",null,null,null,null,null,null,null,null,null,null,null,"SC7004","SC7004||7000","7000","Travel","Primary","All"]
[null,null,null,null,null,null,"AC01063","[MSB] MSB Student Council","AC01063-[MSB] MSB Student Council","Activity","FD01","Active","2025-03-17T16:11:52.698977+00:00",null,null,null,null,null,null,null,null,"13674","LSPW CURA-Stewart, J. Ryan","13674-LSPW CURA-Stewart, J. Ryan",null,null,null,"AS127614029","Marsh Morford (127614029) BYU Broadcasting - Post Production","AS127614029-Marsh Morford (127614029) BYU Broadcasting - Post Production","Active",null,null,null,null,null,null,null,null,null,null,null,"SC7005","SC7005||1400","1400","Prepaid Expenses",null,"All"]
[null,null,null,null,null,null,"AC01064","[MSB] MSB Student Council","AC01064-[MSB] MSB Student Council","Activity","FD02","Active","2025-03-17T16:11:52.698977+00:00",null,null,null,null,null,null,null,null,"13675","LSPW Colman/Noorda, Ch.","13675-LSPW Colman/Noorda, Ch.",null,null,null,"AS127769758","Scott Payne (127769758) OIT Core - Business Process & Project Mgmt","AS127769758-Scott Payne (127769758) OIT Core - Business Process & Project Mgmt","Active",null,null,null,null,null,null,null,null,null,null,null,"SC7005","SC7005||7000","7000","Travel","Primary","All"]
[null,null,null,null,null,null,"AC01065","[MSB] Marriott School Support","AC01065-[MSB] Marriott School Support","Activity","FD03","Active","2025-09-17T02:03:57.679994+00:00",null,null,null,null,null,null,null,null,"13676","LSPW Hopkins/Cole D.","13676-LSPW Hopkins/Cole D.",null,null,null,"AS127929233","Brooke Downs (127929233) Humanities - English","AS127929233-Brooke Downs (127929233) Humanities - English","Active",null,null,null,null,null,null,null,null,null,null,null,"SC7006","SC7006||1400","1400","Prepaid Expenses",null,"All"]
[null,null,null,null,null,null,"AC01066","[MSB] MSB Dean`s Sunshine Fund","AC01066-[MSB] MSB Dean`s Sunshine Fund","Activity","FD07","Active","2025-03-17T16:11:52.698977+00:00",null,null,null,null,null,null,null,null,"13677","LSPW Frandsen/Tolman E.","13677-LSPW Frandsen/Tolman E.",null,null,null,"AS128083483","Gregory Macfarlane (128083483) College of Engineering - Civil & Construction Engineering","AS128083483-Gregory Macfarlane (128083483) College of Engineering - Civil & Construction Engineering","Active",null,null,null,null,null,null,null,null,null,null,null,"SC7006","SC7006||7000","7000","Travel","Primary","All"]
[null,null,null,null,null,null,"AC01067","[MSB] MSB National  Advisory Council","AC01067-[MSB] MSB National  Advisory Council","Activity","FD03","Active","2025-03-17T16:11:52.698977+00:00",null,null,null,null,null,null,null,null,"13678","LSPW Smith/Raj V.","13678-LSPW Smith/Raj V.",null,null,null,"AS128447981","Todd Uffens (128447981) Retail Services - General Administration","AS128447981-Todd Uffens (128447981) Retail Services - General Administration","Active",null,null,null,null,null,null,null,null,null,null,null,"SC7099","SC7099||1400","1400","Prepaid Expenses",null,"All"]
[null,null,null,null,null,null,"AC01068","[MSB] MSB Women in Business","AC01068-[MSB] MSB Women in Business","Activity","FD02","Active","2025-03-17T16:11:52.698977+00:00",null,null,null,null,null,null,null,null,"13679","LSPW Frandsen/Bursell M","13679-LSPW Frandsen/Bursell M",null,null,null,"AS128595921","David Draper (128595921) Mechanical Engineering","AS128595921-David Draper (128595921) Mechanical Engineering","Active",null,null,null,null,null,null,null,null,null,null,null,"SC7099","SC7099||7000","7000","Travel","Primary","All"]
[null,null,null,null,null,null,"AC01069","[MSB] Inclusion in Business Society","AC01069-[MSB] Inclusion in Business Society","Activity","FD02","Active","2025-03-17T16:11:52.698977+00:00",null,null,null,null,null,null,null,null,"13680","LSPW Jellen/Taylor J.","13680-LSPW Jellen/Taylor J.",null,null,null,"AS128725151","Emma Felin (HUM)","AS128725151-Emma Felin (HUM)","Active",null,null,null,null,null,null,null,null,null,null,null,"SC9250","SC9250||9250","9250","Funds Transfer",null,"JE_Research|JE_Override"]
[null,null,null,null,null,null,"AC01070","[MSB] Latino Finance & Accounting","AC01070-[MSB] Latino Finance & Accounting","Activity","FD02","Active","2025-03-17T16:11:52.698977+00:00",null,null,null,null,null,null,null,null,"13681","LSPW Abbott/Norris A.","13681-LSPW Abbott/Norris A.",null,null,null,"AS128774011","Traci Neilsen (128774011) CMS - Physics and Astronomy","AS128774011-Traci Neilsen (128774011) CMS - Physics and Astronomy","Active"]
[null,null,null,null,null,null,"AC01071","[MSB] MSB External Relations","AC01071-[MSB] MSB External Relations","Activity","FD03","Active","2025-09-25T02:03:47.482912+00:00",null,null,null,null,null,null,null,null,"13682","LSPW Abbott/Stanford T.","13682-LSPW Abbott/Stanford T.",null,null,null,"AS128853436","Greg Corlett (128853436) Computer Science","AS128853436-Greg Corlett (128853436) Computer Science","Active"]
[null,null,null,null,null,null,"AC01072","[MSB] MSB Tech Society","AC01072-[MSB] MSB Tech Society","Activity","FD02","Active","2025-03-17T16:11:52.698977+00:00",null,null,null,null,null,null,null,null,"13683","LSPW Robinson/Billin T.","13683-LSPW Robinson/Billin T.",null,null,null,"AS129016922","Jeff Lyon (129016922) Lee Library - Metadata & IT Division","AS129016922-Jeff Lyon (129016922) Lee Library - Metadata & IT Division","Active"]
[null,null,null,null,null,null,"AC01073","[MSB] BCC Transfer & Income","AC01073-[MSB] BCC Transfer & Income","Activity","FD02","Active","2025-03-17T16:11:52.698977+00:00",null,null,null,null,null,null,null,null,"13684","LSPW Chaston/Gottfredson S.","13684-LSPW Chaston/Gottfredson S.",null,null,null,"AS129251124","Greg Conner (129251124) CMS - Mathematics","AS129251124-Greg Conner (129251124) CMS - Mathematics","Active"]
[null,null,null,null,null,null,"AC01074","[MSB] White Business Career Center","AC01074-[MSB] White Business Career Center","Activity","FD03","Active","2025-03-17T16:11:52.698977+00:00",null,null,null,null,null,null,null,null,"13685","LSPW Geary/Nielson E.","13685-LSPW Geary/Nielson E.",null,null,null,"AS129666591","Eric Hansen (129666591) OIT Resource - Application Engineering","AS129666591-Eric Hansen (129666591) OIT Resource - Application Engineering","Active"]
[null,null,null,null,null,null,"AC01075","[MSB] BCC Sunshine Fund","AC01075-[MSB] BCC Sunshine Fund","Activity","FD07","Active","2025-03-17T16:11:52.698977+00:00",null,null,null,null,null,null,null,null,"13686","LSPW Frandsen/Coenen E.","13686-LSPW Frandsen/Coenen E.",null,null,null,"AS130025478","Heather Leary (130025478) MSE - Instructional Psychology & Technology","AS130025478-Heather Leary (130025478) MSE - Instructional Psychology & Technology","Active"]
[null,null,null,null,null,null,"AC01076","[MSB] Exp Learning and Field Studies","AC01076-[MSB] Exp Learning and Field Studies","Activity","FD02","Active","2025-03-17T16:11:52.698977+00:00",null,null,null,null,null,null,null,null,"13687","LSPW Chaston/Davis M.","13687-LSPW Chaston/Davis M.",null,null,null,"AS130212271","Justin Peatross (130212271) CMS - Physics and Astronomy","AS130212271-Justin Peatross (130212271) CMS - Physics and Astronomy","Active"]
[null,null,null,null,null,null,"AC01077","[MSB] Pre-Business Student Associatn","AC01077-[MSB] Pre-Business Student Associatn","Activity","FD02","Active","2025-03-17T16:11:52.698977+00:00",null,null,null,null,null,null,null,null,"13688","LSPW Allen/Flake A.","13688-LSPW Allen/Flake A.",null,null,null,"AS130331894","Jason Hansen (130331894) Life Sciences - Cell Biology & Physiology","AS130331894-Jason Hansen (130331894) Life Sciences - Cell Biology & Physiology","Active"]
[null,null,null,null,null,null,"AC01078","[MSB] MSB Mental Health Transfers","AC01078-[MSB] MSB Mental Health Transfers","Activity","FD03","Active","2025-03-17T16:11:52.698977+00:00",null,null,null,null,null,null,null,null,"13689","LSPW Abbott/Frandsen B.","13689-LSPW Abbott/Frandsen B.",null,null,null,"AS130360669","Dani Goebel (130360669) CE FSY Logistics","AS130360669-Dani Goebel (130360669) CE FSY Logistics","Active"]
[null,null,null,null,null,null,"AC01079","[MSB] Entrepreneurship Club","AC01079-[MSB] Entrepreneurship Club","Activity","FD02","Active","2025-03-17T16:11:52.698977+00:00",null,null,null,null,null,null,null,null,"13690","LSPW Audubon Group/W&R Club","13690-LSPW Audubon Group/W&R Club",null,null,null,"AS130365989","David Orton (130365989) OIT Portfolio - Tech Planning CES","AS130365989-David Orton (130365989) OIT Portfolio - Tech Planning CES","Active"]
[null,null,null,null,null,null,"AC01111","[MSB] Silver Student Invest Oper","AC01111-[MSB] Silver Student Invest Oper","Activity","FD03","Active","2025-03-17T16:11:52.869001+00:00",null,null,null,null,null,null,null,null,"13722","LSDO Team Life Group","13722-LSDO Team Life Group",null,null,null,"AS134234256","Rebekka Weidmann (134234256) FHSS - Psychology","AS134234256-Rebekka Weidmann (134234256) FHSS - Psychology","Active"]
[null,null,null,null,null,null,"AC01140","[MSB] Marketing Operating Account","AC01140-[MSB] Marketing Operating Account","Activity","FD03","Active","2025-03-17T16:11:52.869001+00:00",null,null,null,null,null,null,null,null,"13748","LSDO College Awards","13748-LSDO College Awards",null,null,null,"AS137831706","Laren Hawkins (137831706) AVP - Dean, Religious Education","AS137831706-Laren Hawkins (137831706) AVP - Dean, Religious Education","Active"]
[null,null,null,null,null,null,"AC01248","[ARTS] External Relations","AC01248-[ARTS] External Relations","Activity","FD01","Active","2025-08-28T02:03:12.597297+00:00",null,null,null,null,null,null,null,null,"14041","Platform As A Service (PaaS)","14041-Platform As A Service (PaaS)",null,null,null,"AS148797670","Blaine Evanson (148797670) Law School","AS148797670-Blaine Evanson (148797670) Law School","Active"]
[null,null,null,null,null,null,"AC01283","[ARTS] Contemporary Dance Area","AC01283-[ARTS] Contemporary Dance Area","Activity","FD02","Active","2025-03-17T16:11:52.869001+00:00",null,null,null,null,null,null,null,null,"14098","Non-Campus Guest","14098-Non-Campus Guest",null,null,null,"AS153801482","Landon Badoni (153801482) CE EFY","AS153801482-Landon Badoni (153801482) CE EFY","Active"]
[null,null,null,null,null,null,"AC01331","[ARTS] BRAVO-In-Lieu Funds","AC01331-[ARTS] BRAVO-In-Lieu Funds","Activity","FD01","Active","2025-03-17T16:11:53.01151+00:00",null,null,null,null,null,null,null,null,"14220","Salon Services","14220-Salon Services",null,null,null,"AS162410857","McKenzie Eschmeyer (162410857) CE FSY Hiring","AS162410857-McKenzie Eschmeyer (162410857) CE FSY Hiring","Active"]
[null,null,null,null,null,null,"AC01365","[ARTS] Instrument Shop","AC01365-[ARTS] Instrument Shop","Activity","FD02","Active","2025-03-17T16:11:53.01151+00:00",null,null,null,null,null,null,null,null,"14901","Textbook Rental Fees","14901-Textbook Rental Fees",null,null,null,"AS167857991","Ken Larsen (167857991) Catering Services","AS167857991-Ken Larsen (167857991) Catering Services","Active"]
[null,null,null,null,null,null,"AC01415","[ARTS] TMA Graduate Studies","AC01415-[ARTS] TMA Graduate Studies","Activity","FD01","Active","2025-03-17T16:11:53.01151+00:00",null,null,null,null,null,null,null,null,"15065","International Club","15065-International Club",null,null,null,"AS178135553","Seth Jones (178135553) PF Moving, Receiving, & Office Furniture","AS178135553-Seth Jones (178135553) PF Moving, Receiving, & Office Furniture","Active"]
[null,null,null,null,null,null,"AC01473","[ARTS] MOA Store","AC01473-[ARTS] MOA Store","Activity","FD02","Active","2025-03-17T16:11:53.01151+00:00",null,null,null,null,null,null,null,null,"15219","Fingerprint","15219-Fingerprint",null,null,null,"AS188206510","Bob Schirmer (188206510) Athletics - Finance and Strategy","AS188206510-Bob Schirmer (188206510) Athletics - Finance and Strategy","Active"]
[null,null,null,null,null,null,"AC01502","[CMS] Virtual ChemLab Royalties","AC01502-[CMS] Virtual ChemLab Royalties","Activity","FD03","Active","2025-03-17T16:11:53.01151+00:00",null,null,null,null,null,null,null,null,"15306","MTC","15306-MTC",null,null,null,"AS194761095","Justin Top (194761095) Religious Education - Ancient Scripture","AS194761095-Justin Top (194761095) Religious Education - Ancient Scripture","Active"]
[null,null,null,null,null,null,"AC01589","[CMS] BYU Audio Engineering Society","AC01589-[CMS] BYU Audio Engineering Society","Activity","FD02","Active","2025-03-17T16:11:53.126618+00:00",null,null,null,null,null,null,null,null,"15592","Hospice","15592-Hospice",null,null,null,"AS209869797","Jenne Jones (209869797) Lee Library - Admin, Facilities & HR","AS209869797-Jenne Jones (209869797) Lee Library - Admin, Facilities & HR","Active"]
[null,null,null,null,null,null,"AC01624","[ADM] IT Audiovisual Community","AC01624-[ADM] IT Audiovisual Community","Activity","FD03","Active","2025-03-17T16:11:53.126618+00:00",null,null,null,null,null,null,null,null,"15672","Handball Club","15672-Handball Club",null,null,null,"AS217291524","Shelli Spotts (217291524) Humanities - English","AS217291524-Shelli Spotts (217291524) Humanities - English","Active"]
[null,null,null,null,null,null,"AC01657","[FIN] Institutional Memberships","AC01657-[FIN] Institutional Memberships","Activity","FD01","Active","2025-03-17T16:11:53.126618+00:00",null,null,null,null,null,null,null,null,"15707","BYUSA SAC","15707-BYUSA SAC",null,null,null,"AS223040400","Joshua Matson (223040400) Religious Education - Ancient Scripture","AS223040400-Joshua Matson (223040400) Religious Education - Ancient Scripture","Active"]
[null,null,null,null,null,null,"AC01708","[ADM] Aux & Programs Reserve","AC01708-[ADM] Aux & Programs Reserve","Activity","FD02","Active","2025-03-17T16:11:53.126618+00:00",null,null,null,null,null,null,null,null,"15773","Amateur Radio Club","15773-Amateur Radio Club",null,null,null,"AS232231019","Amy Jex (232231019) Fine Arts & Communications - Dance","AS232231019-Amy Jex (232231019) Fine Arts & Communications - Dance","Active"]
[null,null,null,null,null,null,"AC01797","[STLF] Multicultural Grants","AC01797-[STLF] Multicultural Grants","Activity","FD01","Active","2025-03-17T16:11:53.24074+00:00",null,null,null,null,null,null,null,null,"15854","Asian Culinary Club","15854-Asian Culinary Club",null,null,null,"AS247452400","Dallin Fredrickson (247452400) Treasury Services","AS247452400-Dallin Fredrickson (247452400) Treasury Services","Active"]
[null,null,null,null,null,null,"AC01846","[ENRL] US Army Tuition Benefits","AC01846-[ENRL] US Army Tuition Benefits","Activity","FD07","Active","2025-03-17T16:11:53.24074+00:00",null,null,null,null,null,null,null,null,"15905","Confidential Advocate","15905-Confidential Advocate",null,null,null,"AS259584506","Colby Purnell (259584506) PF Carpenter Shop","AS259584506-Colby Purnell (259584506) PF Carpenter Shop","Active"]
[null,null,null,null,null,null,"AC01897","[ADM] University Photographer","AC01897-[ADM] University Photographer","Activity","FD01","Active","2025-05-28T02:03:06.602933+00:00",null,null,null,null,null,null,null,null,"16123","Placement Monographs","16123-Placement Monographs",null,null,null,"AS267730835","Ken Sumsion (267730835) Dining Technology Group","AS267730835-Ken Sumsion (267730835) Dining Technology Group","Active"]
[null,null,null,null,null,null,"AC01928","[AER] Alumni Records","AC01928-[AER] Alumni Records","Activity","FD01","Active","2025-03-17T16:11:53.24074+00:00",null,null,null,null,null,null,null,null,"16250","Student Computer Consultants","16250-Student Computer Consultants",null,null,null,"AS272441158","Degan Kettles (272441158) MSB - Information Systems","AS272441158-Degan Kettles (272441158) MSB - Information Systems","Active"]
[null,null,null,null,null,null,"AC01961","[AER] AZ Tucson","AC01961-[AER] AZ Tucson","Activity","FD02","Active","2025-03-17T16:11:53.24074+00:00",null,null,null,null,null,null,null,null,"16307","Wellbeing","16307-Wellbeing",null,null,null,"AS276605128","Brett Pickett (276605128) Life Sciences - Microbiology & Molecular Biology","AS276605128-Brett Pickett (276605128) Life Sciences - Microbiology & Molecular Biology","Active"]
[null,null,null,null,null,null,"AC02044","[ATH] Women Athletic Administratio","AC02044-[ATH] Women Athletic Administratio","Activity","FD02","Active","2025-03-17T16:11:53.337779+00:00",null,null,null,null,null,null,null,null,"16704","JRCLS Annual Conference","16704-JRCLS Annual Conference",null,null,null,"AS292832453","MarLayne Sinclair (292832453) Wheatley Institute","AS292832453-MarLayne Sinclair (292832453) Wheatley Institute","Active"]
[null,null,null,null,null,null,"AC02075","[ATH] Sports Camps-Admin Reserves","AC02075-[ATH] Sports Camps-Admin Reserves","Activity","FD02","Active","2025-03-17T16:11:53.337779+00:00",null,null,null,null,null,null,null,null,"16805","Religious Freedom Summit","16805-Religious Freedom Summit",null,null,null,"AS300646841","Dianne Tice (300646841) FHSS - Psychology","AS300646841-Dianne Tice (300646841) FHSS - Psychology","Active"]
[null,null,null,null,null,null,"AC02125","[ATH] Sports Camps-Winter Softball","AC02125-[ATH] Sports Camps-Winter Softball","Activity","FD02","Active","2025-03-17T16:11:53.337779+00:00",null,null,null,null,null,null,null,null,"16936","Israel","16936-Israel",null,null,null,"AS310482819","RuthAnn Johnson","AS310482819-RuthAnn Johnson","Active"]
[null,null,null,null,null,null,"AC02175","[KC] Women Studies","AC02175-[KC] Women Studies","Activity","FD01","Active","2025-04-17T02:04:04.000638+00:00",null,null,null,null,null,null,null,null,"17066","[ATH] Courtside Cougars","17066-[ATH] Courtside Cougars",null,null,null,"AS319182529","Elodie Petelo (319182529) Humanities - French & Italian Languages","AS319182529-Elodie Petelo (319182529) Humanities - French & Italian Languages","Active"]
[null,null,null,null,null,null,"AC02208","[KC] ISP Program","AC02208-[KC] ISP Program","Activity","FD02","Active","2025-03-17T16:11:53.431221+00:00",null,null,null,null,null,null,null,null,"17142","ATH Track - Alumni X-Country","17142-ATH Track - Alumni X-Country",null,null,null,"AS327170201","Kim Scott (327170201) Indefinite Leaves","AS327170201-Kim Scott (327170201) Indefinite Leaves","Active"]
[null,null,null,null,null,null,"AC02257","[KC] Taiwan National Taiwan Normal","AC02257-[KC] Taiwan National Taiwan Normal","Activity","FD02","Active","2025-03-17T16:11:53.431221+00:00",null,null,null,null,null,null,null,null,"17460","ATH All Sport Pass","17460-ATH All Sport Pass",null,null,null,"AS335331355","Max Stevens Price (335331355) CE Research, Evaluation & Data Analytics","AS335331355-Max Stevens Price (335331355) CE Research, Evaluation & Data Analytics","Active"]
[null,null,null,null,null,null,"AC02289","[KC] International Accounting","AC02289-[KC] International Accounting","Activity","FD02","Active","2025-03-17T16:11:53.431221+00:00",null,null,null,null,null,null,null,null,"17630","ATH Indoor Track","17630-ATH Indoor Track",null,null,null,"AS341986374","Ryan Sondrup (341986374) PMPC Administration","AS341986374-Ryan Sondrup (341986374) PMPC Administration","Active"]
[null,null,null,null,null,null,"AC02370","[KC] Global Health Fiji","AC02370-[KC] Global Health Fiji","Activity","FD02","Active","2025-03-17T16:11:53.431221+00:00",null,null,null,null,null,null,null,null,"17856","ATH 7 Peaks tickets","17856-ATH 7 Peaks tickets",null,null,null,"AS356376044","Rich Ziegler (356376044) Mechanical Engineering","AS356376044-Rich Ziegler (356376044) Mechanical Engineering","Active"]
[null,null,null,null,null,null,"AC02403","[OIT] GENERAL - Motor Pool","AC02403-[OIT] GENERAL - Motor Pool","Activity","FD01","Active","2025-10-14T03:30:48.782137+00:00",null,null,null,null,null,null,null,null,"17911","ATH Odd Year Game 10","17911-ATH Odd Year Game 10",null,null,null,"AS361822600","Jenny Brooks (361822600)","AS361822600-Jenny Brooks (361822600)","Active"]
[null,null,null,null,null,null,"AC02451","[ADM] General Fund Transactions","AC02451-[ADM] General Fund Transactions","Activity","FD01","Active","2025-03-17T16:11:53.504097+00:00",null,null,null,null,null,null,null,null,"19024","Harb, John","19024-Harb, John",null,null,null,"AS370213066","Andrew Crane (370213066) Fine Arts & Communications - School of Music","AS370213066-Andrew Crane (370213066) Fine Arts & Communications - School of Music","Active"]
[null,null,null,null,null,null,"AC02484","[ADM] Resv Doubtful Accts","AC02484-[ADM] Resv Doubtful Accts","Activity","FD01","Active","2025-03-17T16:11:53.504097+00:00",null,null,null,null,null,null,null,null,"19120","Rodney Mayo","19120-Rodney Mayo",null,null,null,"AS376377647","Jon Spackman (376377647) OIT Leadership - CIO","AS376377647-Jon Spackman (376377647) OIT Leadership - CIO","Active"]
[null,null,null,null,null,null,"AC02534","[FIN] PCA-Operation & Maintenance","AC02534-[FIN] PCA-Operation & Maintenance","Activity","FD06","Active","2025-03-17T16:11:53.504097+00:00",null,null,null,null,null,null,null,null,"19317","Jones, Matthew","19317-Jones, Matthew",null,null,null,"AS385914564","Eric Nord (385914564) Dining Technology Group","AS385914564-Eric Nord (385914564) Dining Technology Group","Active"]
[null,null,null,null,null,null,"AC02580","[OIT] IT Access","AC02580-[OIT] IT Access","Activity","FD06","Active","2025-03-20T02:04:12.994064+00:00",null,null,null,null,null,null,null,null,"19410","Michael Scott - Spec RA Money","19410-Michael Scott - Spec RA Money",null,null,null,"AS394998913","Karl Roylance (394998913) PF Business Support - Warehouse","AS394998913-Karl Roylance (394998913) PF Business Support - Warehouse","Active"]
[null,null,null,null,null,null,"AC02655","[CE] University Womens Conference","AC02655-[CE] University Womens Conference","Activity","FD03","Active","2025-03-17T16:11:53.590488+00:00",null,null,null,null,null,null,null,null,"19594","Brady Davies","19594-Brady Davies",null,null,null,"AS406979596","David Grimsman (406979596) CMS - Computer Science","AS406979596-David Grimsman (406979596) CMS - Computer Science","Active"]
[null,null,null,null,null,null,"AC02704","[CE] UN GEOG 212: Intro to GIS","AC02704-[CE] UN GEOG 212: Intro to GIS","Activity","FD02","Active","2025-03-17T16:11:53.590488+00:00",null,null,null,null,null,null,null,null,"19756","Clint Bybee","19756-Clint Bybee",null,null,null,"AS415662175","Stanton Woods (415662175) Facilities Planning and Design - Campus Projects","AS415662175-Stanton Woods (415662175) Facilities Planning and Design - Campus Projects","Active"]
[null,null,null,null,null,null,"AC02737","[CE] UN PSYCH 341: Personality","AC02737-[CE] UN PSYCH 341: Personality","Activity","FD02","Active","2025-03-17T16:11:53.590488+00:00",null,null,null,null,null,null,null,null,"19857","BYU Biomedical","19857-BYU Biomedical",null,null,null,"AS421659285","Peter Sentz (421659285) OIT Core - Business Process & Project Mgmt","AS421659285-Peter Sentz (421659285) OIT Core - Business Process & Project Mgmt","Active"]
[null,null,null,null,null,null,"AC02816","[CE] UN CHIN 441: Classical and Literary Chinese","AC02816-[CE] UN CHIN 441: Classical and Literary Chinese","Activity","FD02","Active","2025-03-17T16:11:53.660064+00:00",null,null,null,null,null,null,null,null,"20267","Anth - Michael Searcy","20267-Anth - Michael Searcy",null,null,null,"AS434803305","Karin Mallard (434803305) AVP - Dean, Computational, Math,& Physical (CMS)","AS434803305-Karin Mallard (434803305) AVP - Dean, Computational, Math,& Physical (CMS)","Active"]
[null,null,null,null,null,null,"AC02867","[CE] UN HEB 132: First-Year Biblical Hebrew","AC02867-[CE] UN HEB 132: First-Year Biblical Hebrew","Activity","FD02","Active","2025-03-17T16:11:53.660064+00:00",null,null,null,null,null,null,null,null,"20888","Mexico Education II","20888-Mexico Education II",null,null,null,"AS444114681","Les Syme (444114681) Indefinite Leaves","AS444114681-Les Syme (444114681) Indefinite Leaves","Active"]
[null,null,null,null,null,null,"AC02900","[CE] UN HLTH 345: Principles of Epidemiology","AC02900-[CE] UN HLTH 345: Principles of Epidemiology","Activity","FD02","Active","2025-03-17T16:11:53.660064+00:00",null,null,null,null,null,null,null,null,"20970","Students of Ancient Near East","20970-Students of Ancient Near East",null,null,null,"AS448254590","Steven Allen (448254590) AVP - Dean, Family Home Social Science (FHSS)","AS448254590-Steven Allen (448254590) AVP - Dean, Family Home Social Science (FHSS)","Active"]
[null,null,null,null,null,null,"AC02949","[CE] UN NURS 333: End of Life Care","AC02949-[CE] UN NURS 333: End of Life Care","Activity","FD02","Active","2025-03-17T16:11:53.660064+00:00",null,null,null,null,null,null,null,null,"21164","Communications Studies","21164-Communications Studies",null,null,null,"AS455692439","Darin Loertscher (455692439) McKay School of Education - Human Resources/Operations","AS455692439-Darin Loertscher (455692439) McKay School of Education - Human Resources/Operations","Active"]
[null,null,null,null,null,null,"AC02993","[CE] UN REL C 333: The Living Prophets","AC02993-[CE] UN REL C 333: The Living Prophets","Activity","FD02","Active","2025-03-17T16:11:53.660064+00:00",null,null,null,null,null,null,null,null,"21363","Programs","21363-Programs",null,null,null,"AS462759474","Jeffrey Walker (462759474) Law School","AS462759474-Jeffrey Walker (462759474) Law School","Active"]
[null,null,null,null,null,null,"AC03014","[CE] HS ART 043: Art Foundations, Part 2","AC03014-[CE] HS ART 043: Art Foundations, Part 2","Activity","FD02","Active","2025-03-17T16:11:53.660064+00:00",null,null,null,null,null,null,null,null,"21431","Dean","21431-Dean",null,null,null,"AS466660925","Adam Pomeroy (466660925) Law School","AS466660925-Adam Pomeroy (466660925) Law School","Active"]
[null,null,null,null,null,null,"AC03063","[CE] HS XPLR 043: Character Education, Exploring Values, Part 2","AC03063-[CE] HS XPLR 043: Character Education, Exploring Values, Part 2","Activity","FD02","Active","2025-03-17T16:11:53.760059+00:00",null,null,null,null,null,null,null,null,"21546","MOA Exhibit Education","21546-MOA Exhibit Education",null,null,null,"AS473878913","Ashley Shuldberg (473878913) OIT Portfolio - Business, Finance, & HR","AS473878913-Ashley Shuldberg (473878913) OIT Portfolio - Business, Finance, & HR","Active"]
[null,null,null,null,null,null,"AC03144","[CE] HS BMATH 043: Business and Consumer Math, Part 2","AC03144-[CE] HS BMATH 043: Business and Consumer Math, Part 2","Activity","FD02","Active","2025-03-17T16:11:53.760059+00:00",null,null,null,null,null,null,null,null,"21705","Jensen, Amy","21705-Jensen, Amy",null,null,null,"AS488409294","Janet Losser (488409294) AVP - Associate AVP, Undergraduate Studies","AS488409294-Janet Losser (488409294) AVP - Associate AVP, Undergraduate Studies","Active"]
[null,null,null,null,null,null,"AC03169","[CE] HS WALK 041: Walking Fitness","AC03169-[CE] HS WALK 041: Walking Fitness","Activity","FD02","Active","2025-03-17T16:11:53.760059+00:00",null,null,null,null,null,null,null,null,"21730","Loosli, Kelly","21730-Loosli, Kelly",null,null,null,"AS493025701","Tad Morley (493025701) School of Accountancy","AS493025701-Tad Morley (493025701) School of Accountancy","Active"]
[null,null,null,null,null,null,"AC03225","[CE] HS HIST 062: World History, Eastern Hemisphere","AC03225-[CE] HS HIST 062: World History, Eastern Hemisphere","Activity","FD02","Active","2025-03-17T16:11:53.814975+00:00",null,null,null,null,null,null,null,null,"21SLA","BYU Broadcasting","21SLA-BYU Broadcasting",null,null,null,"AS503080619","Tasha Bell (503080619) Athletics - Women's Soccer","AS503080619-Tasha Bell (503080619) Athletics - Women's Soccer","Active"]
[null,null,null,null,null,null,"AC03258","[CE] HS FREN 053: Second-Year French, Part 2","AC03258-[CE] HS FREN 053: Second-Year French, Part 2","Activity","FD02","Active","2025-03-17T16:11:53.814975+00:00",null,null,null,null,null,null,null,null,"22358","LISR German","22358-LISR German",null,null,null,"AS512501880","Blake Harris (512501880) PF Plumbing & Mechanical Shop","AS512501880-Blake Harris (512501880) PF Plumbing & Mechanical Shop","Active"]
[null,null,null,null,null,null,"AC03307","[CE] BYUO ASL 320: History of Modern Deaf Culture","AC03307-[CE] BYUO ASL 320: History of Modern Deaf Culture","Activity","FD02","Active","2025-03-17T16:11:53.814975+00:00",null,null,null,null,null,null,null,null,"22437","WC prof development","22437-WC prof development",null,null,null,"AS521794765","Tara Hall (521794765) MSE  - Teacher Education","AS521794765-Tara Hall (521794765) MSE  - Teacher Education","Active"]
[null,null,null,null,null,null,"AC03352","[CE] BYUO DIGHT 496R: Technology Internship","AC03352-[CE] BYUO DIGHT 496R: Technology Internship","Activity","FD02","Active","2025-03-17T16:11:53.814975+00:00",null,null,null,null,null,null,null,null,"22921","Hum Dean's Office","22921-Hum Dean's Office",null,null,null,"AS528975130","Brent Christensen (528975130) FHSS - Political Science","AS528975130-Brent Christensen (528975130) FHSS - Political Science","Active"]
[null,null,null,null,null,null,"AC03422","[CE] BYUO IHUM 201: Western Humanities 1: Antiquity to Renaissance","AC03422-[CE] BYUO IHUM 201: Western Humanities 1: Antiquity to Renaissance","Activity","FD02","Active","2025-03-17T16:11:53.814975+00:00",null,null,null,null,null,null,null,null,"23087","Sarah Caswell","23087-Sarah Caswell",null,null,null,"AS544438709","Yung-Wei Wang (544438709) Humanities - Asian & Near Eastern Languages","AS544438709-Yung-Wei Wang (544438709) Humanities - Asian & Near Eastern Languages","Active"]
[null,null,null,null,null,null,"AC03471","[CE] BYUO IP&T 747: Structural Equation Modeling","AC03471-[CE] BYUO IP&T 747: Structural Equation Modeling","Activity","FD02","Active","2025-03-17T16:11:53.906813+00:00",null,null,null,null,null,null,null,null,"23270","Bret Lyman","23270-Bret Lyman",null,null,null,"AS555266100","Luke Rowley (555266100) Enterprise Solutions - Data and Reporting","AS555266100-Luke Rowley (555266100) Enterprise Solutions - Data and Reporting","Active"]
[null,null,null,null,null,null,"AC03504","[CE] BYUO MMBIO 240: Molecular Biology","AC03504-[CE] BYUO MMBIO 240: Molecular Biology","Activity","FD02","Active","2025-03-17T16:11:53.906813+00:00",null,null,null,null,null,null,null,null,"23562","Stephen McKean","23562-Stephen McKean",null,null,null,"AS561495212","Jeff Parker (561495212) Humanities - Linguistics","AS561495212-Jeff Parker (561495212) Humanities - Linguistics","Active"]
[null,null,null,null,null,null,"AC03575","[CE] BYUO REL A 212: The New Testament","AC03575-[CE] BYUO REL A 212: The New Testament","Activity","FD02","Active","2025-03-17T16:11:53.906813+00:00",null,null,null,null,null,null,null,null,"23846","Beth Luthy","23846-Beth Luthy",null,null,null,"AS575670628","CJ Madsen (575670628) Fine Arts & Communications - School of Music","AS575670628-CJ Madsen (575670628) Fine Arts & Communications - School of Music","Active"]
[null,null,null,null,null,null,"AC03634","[CE] BYUO SWELL 139: Running","AC03634-[CE] BYUO SWELL 139: Running","Activity","FD02","Active","2025-03-17T16:11:53.906813+00:00",null,null,null,null,null,null,null,null,"24025","Copies/Copier Maintenance","24025-Copies/Copier Maintenance",null,null,null,"AS586929873","Riki Sanford (586929873) BYU Broadcasting - Marketing","AS586929873-Riki Sanford (586929873) BYU Broadcasting - Marketing","Active"]
[null,null,null,null,null,null,"AC03713","[CE] FSY TN Memphis","AC03713-[CE] FSY TN Memphis","Activity","FD02","Active","2025-03-17T16:11:53.988465+00:00",null,null,null,null,null,null,null,null,"24154","Stkrm-Organic-2 (Student)","24154-Stkrm-Organic-2 (Student)",null,null,null,"AS591066619","Randall Sheen (591066619) Enrollment Services Executive Director's Office","AS591066619-Randall Sheen (591066619) Enrollment Services Executive Director's Office","Active"]
[null,null,null,null,null,null,"AC03903","[CE] FSY VA Williamsburg","AC03903-[CE] FSY VA Williamsburg","Activity","FD02","Active","2025-03-17T16:11:53.988465+00:00",null,null,null,null,null,null,null,null,"24591","Grant Jensen","24591-Grant Jensen",null,null,null,"AS599890251","Jeremy Lindsay (599890251) Wilkinson Center","AS599890251-Jeremy Lindsay (599890251) Wilkinson Center","Active"]
[null,null,null,null,null,null,"AC03978","[CE] EFY Special Edition NY Palmyra 03","AC03978-[CE] EFY Special Edition NY Palmyra 03","Activity","FD02","Active","2025-03-17T16:11:53.988465+00:00",null,null,null,null,null,null,null,null,"24903","Scott R. Burt","24903-Scott R. Burt",null,null,null,"AS604513928","Carson Trautman (604513928) International VP Office","AS604513928-Carson Trautman (604513928) International VP Office","Active"]
[null,null,null,null,null,null,"AC04044","[CE] SL MPA 630: Statistical Analysis","AC04044-[CE] SL MPA 630: Statistical Analysis","Activity","FD02","Active","2025-03-17T16:11:53.988465+00:00",null,null,null,null,null,null,null,null,"25036","Mercer, Eric","25036-Mercer, Eric",null,null,null,"AS612607886","David Romney (612607886) FHSS - Political Science","AS612607886-David Romney (612607886) FHSS - Political Science","Active"]
[null,null,null,null,null,null,"AC04077","[CE] SL HIST 404: South US Family History","AC04077-[CE] SL HIST 404: South US Family History","Activity","FD02","Active","2025-03-17T16:11:53.988465+00:00",null,null,null,null,null,null,null,null,"25075","[CMS] TA CS 340","25075-[CMS] TA CS 340",null,null,null,"AS617894086","Glen Sawyer (617894086) OIT Resource - Application Engineering","AS617894086-Glen Sawyer (617894086) OIT Resource - Application Engineering","Active"]
[null,null,null,null,null,null,"AC04150","[CE] SL GEOL 103: Life of the Past","AC04150-[CE] SL GEOL 103: Life of the Past","Activity","FD02","Active","2025-03-17T16:11:54.091948+00:00",null,null,null,null,null,null,null,null,"25312","Li, Xian-Jin","25312-Li, Xian-Jin",null,null,null,"AS631359335","Larry Tucker (631359335) Life Sciences - Exercise Sciences","AS631359335-Larry Tucker (631359335) Life Sciences - Exercise Sciences","Active"]
[null,null,null,null,null,null,"AC04206","[CE] SL VA 115: Two Dimensional Design","AC04206-[CE] SL VA 115: Two Dimensional Design","Activity","FD02","Active","2025-03-17T16:11:54.091948+00:00",null,null,null,null,null,null,null,null,"25398","Honorarium","25398-Honorarium",null,null,null,"AS641443529","Geoff Reynolds (641443529) Fine Arts & Communications - Theatre & Media Arts","AS641443529-Geoff Reynolds (641443529) Fine Arts & Communications - Theatre & Media Arts","Active"]
[null,null,null,null,null,null,"AC04239","[CE] SL ENGL 391: Intro to Folklore","AC04239-[CE] SL ENGL 391: Intro to Folklore","Activity","FD02","Active","2025-03-17T16:11:54.091948+00:00",null,null,null,null,null,null,null,null,"25440","Math Counts","25440-Math Counts",null,null,null,"AS647088502","Justin Paulsen (647088502) Assessment & Planning - Institutional Research","AS647088502-Justin Paulsen (647088502) Assessment & Planning - Institutional Research","Active"]
[null,null,null,null,null,null,"AC04272","[CE] SL REL A 327: Pearl of Great Price","AC04272-[CE] SL REL A 327: Pearl of Great Price","Activity","FD02","Active","2025-03-17T16:11:54.091948+00:00",null,null,null,null,null,null,null,null,"25608","Acoustics","25608-Acoustics",null,null,null,"AS653239207","Angela Blomquist (653239207) Dean of Students Office","AS653239207-Angela Blomquist (653239207) Dean of Students Office","Active"]
[null,null,null,null,null,null,"AC04326","[CE] EC CFM 650: Construction Company Development -- now CFM 550","AC04326-[CE] EC CFM 650: Construction Company Development -- now CFM 550","Activity","FD02","Active","2025-03-17T16:11:54.159986+00:00",null,null,null,null,null,null,null,null,"25681","Unassigned","25681-Unassigned",null,null,null,"AS662629046","Kelly Kitchen (662629046) Lee Library - R&L Library Instruction","AS662629046-Kelly Kitchen (662629046) Lee Library - R&L Library Instruction","Active"]
[null,null,null,null,null,null,"AC04401","[CE] EC GEOG 271: Middle East","AC04401-[CE] EC GEOG 271: Middle East","Activity","FD02","Active","2025-03-17T16:11:54.159986+00:00",null,null,null,null,null,null,null,null,"25805","Consulting Center","25805-Consulting Center",null,null,null,"AS674965702","Simone Fails (674965702) Humanities - Spanish & Portuguese","AS674965702-Simone Fails (674965702) Humanities - Spanish & Portuguese","Active"]
[null,null,null,null,null,null,"AC04450","[CE] EC DES 394R: Special Topics","AC04450-[CE] EC DES 394R: Special Topics","Activity","FD02","Active","2025-03-17T16:11:54.159986+00:00",null,null,null,null,null,null,null,null,"25907","[CMS] Donor Gifts","25907-[CMS] Donor Gifts",null,null,null,"AS682631879","Jaelyn Meador (682631879) Registrar's Office","AS682631879-Jaelyn Meador (682631879) Registrar's Office","Active"]
[null,null,null,null,null,null,"AC04483","[CE] EC ART 125: Art Framing","AC04483-[CE] EC ART 125: Art Framing","Activity","FD02","Active","2025-03-17T16:11:54.159986+00:00",null,null,null,null,null,null,null,null,"25942","Luncheons: Admin/Staff","25942-Luncheons: Admin/Staff",null,null,null,"AS687454110","Weston Johnson (687454110) Wilkinson Center","AS687454110-Weston Johnson (687454110) Wilkinson Center","Active"]
[null,null,null,null,null,null,"AC04507","[CE] EC COMMS 310: Writing Branded Content","AC04507-[CE] EC COMMS 310: Writing Branded Content","Activity","FD02","Active","2025-03-17T16:11:54.222705+00:00",null,null,null,null,null,null,null,null,"26011","Faculty Guests","26011-Faculty Guests",null,null,null,"AS691195523","Adam Forbes (691195523) OIT Resource - AV Events","AS691195523-Adam Forbes (691195523) OIT Resource - AV Events","Active"]
[null,null,null,null,null,null,"AC04564","[CE] EC MUSIC 135: Basic Conducting","AC04564-[CE] EC MUSIC 135: Basic Conducting","Activity","FD02","Active","2025-03-17T16:11:54.222705+00:00",null,null,null,null,null,null,null,null,"26074","MBA International Lunches","26074-MBA International Lunches",null,null,null,"AS701210535","Jeff Jewkes (701210535) BYU Police Operations - Patrol","AS701210535-Jeff Jewkes (701210535) BYU Police Operations - Patrol","Active"]
[null,null,null,null,null,null,"AC04645","[CE] EC FLANG 202R: Second-Year Language Study","AC04645-[CE] EC FLANG 202R: Second-Year Language Study","Activity","FD02","Active","2025-03-17T16:11:54.222705+00:00",null,null,null,null,null,null,null,null,"26164","MPA Sabbatical","26164-MPA Sabbatical",null,null,null,"AS717616730","Betsy Lyons (717616730) AVP - Dean, Fine Arts and Communications","AS717616730-Betsy Lyons (717616730) AVP - Dean, Fine Arts and Communications","Active"]
[null,null,null,null,null,null,"AC04678","[CE] EC HILIG 330: Advanced Language and Culture: Ilonggo/Hiligaynon","AC04678-[CE] EC HILIG 330: Advanced Language and Culture: Ilonggo/Hiligaynon","Activity","FD02","Active","2025-03-17T16:11:54.222705+00:00",null,null,null,null,null,null,null,null,"26203","GBC SWAG","26203-GBC SWAG",null,null,null,"AS725126286","Nyle Elison (725126286) OIT Portfolio - AV / Life Safety","AS725126286-Nyle Elison (725126286) OIT Portfolio - AV / Life Safety","Active"]
[null,null,null,null,null,null,"AC04730","[CE] EC TAHTN 330: Advanced Language and Culture: Tahitian","AC04730-[CE] EC TAHTN 330: Advanced Language and Culture: Tahitian","Activity","FD02","Active","2025-03-17T16:11:54.281822+00:00",null,null,null,null,null,null,null,null,"26258","Project #44","26258-Project #44",null,null,null,"AS733547439","Simon Greathead (733547439) MSB - Marketing & Global Supply Chain","AS733547439-Simon Greathead (733547439) MSB - Marketing & Global Supply Chain","Active"]
[null,null,null,null,null,null,"AC04759","[CE] EC WELSH 201: Second-Year Welsh","AC04759-[CE] EC WELSH 201: Second-Year Welsh","Activity","FD02","Active","2025-03-17T16:11:54.281822+00:00",null,null,null,null,null,null,null,null,"26290","Research Coordinator","26290-Research Coordinator",null,null,null,"AS740252303","Pamalyn Andersen (740252303) PF Building Operations","AS740252303-Pamalyn Andersen (740252303) PF Building Operations","Active"]
[null,null,null,null,null,null,"AC04808","[CE] EC ICLND 202: Second-Year Icelandic","AC04808-[CE] EC ICLND 202: Second-Year Icelandic","Activity","FD02","Active","2025-03-17T16:11:54.281822+00:00",null,null,null,null,null,null,null,null,"26342","[MSB] Stress Less Week","26342-[MSB] Stress Less Week",null,null,null,"AS748370125","Curtis Isaak (748370125) Alumni Relations","AS748370125-Curtis Isaak (748370125) Alumni Relations","Active"]
[null,null,null,null,null,null,"AC04841","[CE] EC ARTHC 350: Modern Art","AC04841-[CE] EC ARTHC 350: Modern Art","Activity","FD02","Active","2025-03-17T16:11:54.281822+00:00",null,null,null,null,null,null,null,null,"26428","RIPM RA-Heist","26428-RIPM RA-Heist",null,null,null,"AS755193242","Tammy Taylor (755193242) Creameries","AS755193242-Tammy Taylor (755193242) Creameries","Active"]
[null,null,null,null,null,null,"AC04911","[CE] EC CHIN 347: Business Chinese","AC04911-[CE] EC CHIN 347: Business Chinese","Activity","FD02","Active","2025-03-17T16:11:54.281822+00:00",null,null,null,null,null,null,null,null,"26519","Career Fair","26519-Career Fair",null,null,null,"AS767189716","Casey Allen (767189716) Humanities - English","AS767189716-Casey Allen (767189716) Humanities - English","Active"]
[null,null,null,null,null,null,"AC04970","[CE] EC HLTH 403R: Special Topics","AC04970-[CE] EC HLTH 403R: Special Topics","Activity","FD02","Active","2025-03-17T16:11:54.368072+00:00",null,null,null,null,null,null,null,null,"26583","Paul Godfrey","26583-Paul Godfrey",null,null,null,"AS777608061","Roland Nelson (777608061) Purchasing and Travel - Procurement Operations","AS777608061-Roland Nelson (777608061) Purchasing and Travel - Procurement Operations","Active"]
[null,null,null,null,null,null,"AC05003","[CE] EC MSB 490R: Topics in Business Management","AC05003-[CE] EC MSB 490R: Topics in Business Management","Activity","FD02","Active","2025-03-17T16:11:54.368072+00:00",null,null,null,null,null,null,null,null,"26651","Project 89","26651-Project 89",null,null,null,"AS782909812","Garrett Giles (782909812) PF Carpenter Shop","AS782909812-Garrett Giles (782909812) PF Carpenter Shop","Active"]
[null,null,null,null,null,null,"AC05052","[CE] EC REL C 325: Doctrine and Covenants","AC05052-[CE] EC REL C 325: Doctrine and Covenants","Activity","FD02","Active","2025-03-17T16:11:54.368072+00:00",null,null,null,null,null,null,null,null,"26768","Founders Launchpad","26768-Founders Launchpad",null,null,null,"AS791183239","Heidi Goodsell (791183239) Center for Service & Learning","AS791183239-Heidi Goodsell (791183239) Center for Service & Learning","Active"]
[null,null,null,null,null,null,"AC05084","[CE] EC SWELL 171: Swimming, Beginning","AC05084-[CE] EC SWELL 171: Swimming, Beginning","Activity","FD02","Active","2025-03-17T16:11:54.368072+00:00",null,null,null,null,null,null,null,null,"26818","Entrepreneurship","26818-Entrepreneurship",null,null,null,"AS797323507","Chad Gibbs (797323507) FHSS - School of Family Life","AS797323507-Chad Gibbs (797323507) FHSS - School of Family Life","Active"]
[null,null,null,null,null,null,"AC05214","[CE] CW Young Authors Academy Express","AC05214-[CE] CW Young Authors Academy Express","Activity","FD02","Active","2025-03-17T16:11:54.421438+00:00",null,null,null,null,null,null,null,null,"26950","Alumni Student Engagement","26950-Alumni Student Engagement",null,null,null,"AS816373252","R. Chet Loftis (816373252) MSB - Management","AS816373252-R. Chet Loftis (816373252) MSB - Management","Active"]
[null,null,null,null,null,null,"AC05309","[CE] CW EMT Advanced Certification","AC05309-[CE] CW EMT Advanced Certification","Activity","FD02","Active","2025-03-17T16:11:54.421438+00:00",null,null,null,null,null,null,null,null,"27013","Locker and Video Game Fees","27013-Locker and Video Game Fees",null,null,null,"AS824230020","Erin Cranor (824230020) CE Continuing Education","AS824230020-Erin Cranor (824230020) CE Continuing Education","Active"]
[null,null,null,null,null,null,"AC05332","[STLF] Chun, Sami Research","AC05332-[STLF] Chun, Sami Research","Activity","FD01","Active","2025-05-03T02:02:57.862155+00:00",null,null,null,null,null,null,null,null,"27071","Christmas","27071-Christmas",null,null,null,"AS827842237","Ray Stewart (827842237) Athletics - Academic Advisement","AS827842237-Ray Stewart (827842237) Athletics - Academic Advisement","Active"]
[null,null,null,null,null,null,"AC05378","[LAWS] Sports Club","AC05378-[LAWS] Sports Club","Activity","FD02","Active","2025-03-17T16:11:54.483487+00:00",null,null,null,null,null,null,null,null,"27171","Helaman Creamery","27171-Helaman Creamery",null,null,null,"AS834706177","Matt Zweifel (834706177) PF Grounds - Site & Landscape Construction","AS834706177-Matt Zweifel (834706177) PF Grounds - Site & Landscape Construction","Active"]
[null,null,null,null,null,null,"AC05427","[MSB] VIA Award Scholarship","AC05427-[MSB] VIA Award Scholarship","Activity","FD03","Active","2025-03-17T16:11:54.483487+00:00",null,null,null,null,null,null,null,null,"27280","Contract Late Fee","27280-Contract Late Fee",null,null,null,"AS842724834","Lennard Bakker (842724834) CMS - Mathematics","AS842724834-Lennard Bakker (842724834) CMS - Mathematics","Active"]
[null,null,null,null,null,null,"AC05514","[STLF] Preece, Julie E Research","AC05514-[STLF] Preece, Julie E Research","Activity","FD01","Active","2025-03-17T16:11:54.483487+00:00",null,null,null,null,null,null,null,null,"27563","LDS Business College","27563-LDS Business College",null,null,null,"AS858693660","Donald Parry (858693660) Humanities - Asian & Near Eastern Languages","AS858693660-Donald Parry (858693660) Humanities - Asian & Near Eastern Languages","Active"]
[null,null,null,null,null,null,"AC05561","[REL] Mark Ogletree - Faculty Consolidated","AC05561-[REL] Mark Ogletree - Faculty Consolidated","Activity","FD04","Active","2025-03-17T16:11:54.536451+00:00",null,null,null,null,null,null,null,null,"28235","Faculty Showcase Concert","28235-Faculty Showcase Concert",null,null,null,"AS869690956","Garlan McCoy (869690956) Purchasing and Travel","AS869690956-Garlan McCoy (869690956) Purchasing and Travel","Active"]
[null,null,null,null,null,null,"AC05595","[REL] Daniel Belnap - Faculty Consolidated","AC05595-[REL] Daniel Belnap - Faculty Consolidated","Activity","FD04","Active","2025-03-17T16:11:54.536451+00:00",null,null,null,null,null,null,null,null,"28404","LSPH Ntambwe-Kalala, Ayugi","28404-LSPH Ntambwe-Kalala, Ayugi",null,null,null,"AS875732621","Daniel Zacharias (875732621) CMS - Physics and Astronomy","AS875732621-Daniel Zacharias (875732621) CMS - Physics and Astronomy","Active"]
[null,null,null,null,null,null,"AC05628","[CMS] Phil White - Faculty Consolidated","AC05628-[CMS] Phil White - Faculty Consolidated","Activity","FD04","Active","2025-03-17T16:11:54.536451+00:00",null,null,null,null,null,null,null,null,"28440","LSPH Chaney, Robert","28440-LSPH Chaney, Robert",null,null,null,"AS880926898","Julie Walker (880926898) University Communications","AS880926898-Julie Walker (880926898) University Communications","Active"]
[null,null,null,null,null,null,"AC05677","[CMS] B. Frandsen Faculty Consolidated","AC05677-[CMS] B. Frandsen Faculty Consolidated","Activity","FD04","Active","2025-03-17T16:11:54.536451+00:00",null,null,null,null,null,null,null,null,"28540","LSES YBFit-Other Service","28540-LSES YBFit-Other Service",null,null,null,"AS893654205","Camille Roundy (893654205) Life Sciences - Public Health","AS893654205-Camille Roundy (893654205) Life Sciences - Public Health","Active"]
[null,null,null,null,null,null,"AC05742","[CMS] Barry Bickmore - Faculty Consolidated","AC05742-[CMS] Barry Bickmore - Faculty Consolidated","Activity","FD04","Active","2025-03-17T16:11:54.536451+00:00",null,null,null,null,null,null,null,null,"28725","EXDM Activity Class","28725-EXDM Activity Class",null,null,null,"AS907056510","Allie Sensinger","AS907056510-Allie Sensinger","Active"]
[null,null,null,null,null,null,"AC05790","[CMS] Grimsman, David - Faculty Consolidated","AC05790-[CMS] Grimsman, David - Faculty Consolidated","Activity","FD04","Active","2025-03-17T16:11:54.593212+00:00",null,null,null,null,null,null,null,null,"29051","GE Administrator","29051-GE Administrator",null,null,null,"AS914970819","Aubrey Rushing (914970819) Athletics - Men's Volleyball","AS914970819-Aubrey Rushing (914970819) Athletics - Men's Volleyball","Active"]
[null,null,null,null,null,null,"AC05839","[CMS] Scott R. Burt Faculty Consolidated","AC05839-[CMS] Scott R. Burt Faculty Consolidated","Activity","FD04","Active","2025-03-17T16:11:54.593212+00:00",null,null,null,null,null,null,null,null,"29330","Post Cards","29330-Post Cards",null,null,null,"AS924407619","Ross Storey (924407619) MSB - Experience Design & Management","AS924407619-Ross Storey (924407619) MSB - Experience Design & Management","Active"]
[null,null,null,null,null,null,"AC05872","[MSE] K. MacKay - Faculty Consolidated","AC05872-[MSE] K. MacKay - Faculty Consolidated","Activity","FD04","Active","2025-03-17T16:11:54.593212+00:00",null,null,null,null,null,null,null,null,"29663","The Hub","29663-The Hub",null,null,null,"AS931027705","Sterling Hilton (931027705) MSE - Educational Leadership & Foundations","AS931027705-Sterling Hilton (931027705) MSE - Educational Leadership & Foundations","Active"]
[null,null,null,null,null,null,"AC05918","[MSE] A Jackson - Faculty Consolidated","AC05918-[MSE] A Jackson - Faculty Consolidated","Activity","FD04","Active","2025-04-11T02:03:42.982071+00:00",null,null,null,null,null,null,null,null,"29915","Devotional","29915-Devotional",null,null,null,"AS938944716","Olivia Hales (938944716) PF Paint & Sign Shop","AS938944716-Olivia Hales (938944716) PF Paint & Sign Shop","Active"]
[null,null,null,null,null,null,"AC05953","[MSB] Doug Prawitt Faculty Consolidated","AC05953-[MSB] Doug Prawitt Faculty Consolidated","Activity","FD04","Active","2025-03-17T16:11:54.593212+00:00",null,null,null,null,null,null,null,null,"30005","LSPW Jellen, Eric","30005-LSPW Jellen, Eric",null,null,null,"AS945669946","Eric Barker (945669946) Electrical and Computer Eng","AS945669946-Eric Barker (945669946) Electrical and Computer Eng","Active"]
[null,null,null,null,null,null,"AC06036","[MSB] Chad Carlos - Faculty Consolidated","AC06036-[MSB] Chad Carlos - Faculty Consolidated","Activity","FD04","Active","2025-03-17T16:11:54.652844+00:00",null,null,null,null,null,null,null,null,"30087","LSPW McMillan, Brock","30087-LSPW McMillan, Brock",null,null,null,"AS964015718","Julie Tucker (964015718) Athletics - Academic Advisement","AS964015718-Julie Tucker (964015718) Athletics - Academic Advisement","Active"]
[null,null,null,null,null,null,"AC06090","[MSB] Katy Reese Faculty Consolidated","AC06090-[MSB] Katy Reese Faculty Consolidated","Activity","FD04","Active","2025-03-17T16:11:54.652844+00:00",null,null,null,null,null,null,null,null,"30132","LSPW St. Clair, Sam","30132-LSPW St. Clair, Sam",null,null,null,"AS974208496","Porter Nielsen (974208496) CMS - Mathematics Education","AS974208496-Porter Nielsen (974208496) CMS - Mathematics Education","Active"]
[null,null,null,null,null,null,"AC06106","[MSB] Taylor Nadauld - Faculty Consolidated","AC06106-[MSB] Taylor Nadauld - Faculty Consolidated","Activity","FD04","Active","2025-03-17T16:11:54.652844+00:00",null,null,null,null,null,null,null,null,"30150","LSPW V-PW12 1980 TRLR/Anderson","30150-LSPW V-PW12 1980 TRLR/Anderson",null,null,null,"AS976350576","Westin Dangerfield (976350576) MSB - Management","AS976350576-Westin Dangerfield (976350576) MSB - Management","Active"]
[null,null,null,null,null,null,"AC06171","[LFSC] Frandsen, Paul - Faculty Consolidated","AC06171-[LFSC] Frandsen, Paul - Faculty Consolidated","Activity","FD04","Active","2025-03-21T02:04:04.659901+00:00",null,null,null,null,null,null,null,null,"30215","LSBI Jensen, Jamie","30215-LSBI Jensen, Jamie",null,null,null,"AS987579767","Ben Nzojibwami (987579767) MSB - Public Service & Ethics","AS987579767-Ben Nzojibwami (987579767) MSB - Public Service & Ethics","Active"]
[null,null,null,null,null,null,"AC06208","[LFSC] Eddington, David - Faculty Consolidated","AC06208-[LFSC] Eddington, David - Faculty Consolidated","Activity","FD04","Active","2025-03-21T02:04:06.631604+00:00",null,null,null,null,null,null,null,null,"30257","LSBI Wilcox, Edward R","30257-LSBI Wilcox, Edward R",null,null,null,"AS995330815","Robert Dickerson (995330815) College of Nursing - Technology","AS995330815-Robert Dickerson (995330815) College of Nursing - Technology","Active"]
[null,null,null,null,null,null,"AC06289","[LFSC] Wood, Rachel - Faculty Consolidated","AC06289-[LFSC] Wood, Rachel - Faculty Consolidated","Activity","FD04","Active","2025-03-21T02:04:06.631604+00:00",null,null,null,null,null,null,null,null,"30354","LSBI BIO 441 Entomology","30354-LSBI BIO 441 Entomology"]
[null,null,null,null,null,null,"AC06333","[LIB] Tom Wells Faculty Consolidated","AC06333-[LIB] Tom Wells Faculty Consolidated","Activity","FD04","Active","2025-03-17T16:11:54.704116+00:00",null,null,null,null,null,null,null,null,"30415","LSND Richards, Rickelle","30415-LSND Richards, Rickelle"]
[null,null,null,null,null,null,"AC06370","[HUM] Knapp, Nieves - Faculty Consolidated","AC06370-[HUM] Knapp, Nieves - Faculty Consolidated","Activity","FD04","Active","2025-03-17T16:11:54.704116+00:00",null,null,null,null,null,null,null,null,"30457","LSND Dietetics","30457-LSND Dietetics"]
[null,null,null,null,null,null,"AC06403","[HUM] Miller, Taylor - Grey - Faculty Consolidated","AC06403-[HUM] Miller, Taylor - Grey - Faculty Consolidated","Activity","FD04","Active","2025-03-17T16:11:54.800235+00:00",null,null,null,null,null,null,null,null,"30507","LSMM Egypt Microbiome (Evans)","30507-LSMM Egypt Microbiome (Evans)"]
[null,null,null,null,null,null,"AC06480","[HUM] Mason, Nicholas - Faculty Consolidated","AC06480-[HUM] Mason, Nicholas - Faculty Consolidated","Activity","FD04","Active","2025-03-17T16:11:54.800235+00:00",null,null,null,null,null,null,null,null,"30583","LSMM MMBIO 510","30583-LSMM MMBIO 510"]
[null,null,null,null,null,null,"AC06485","[HUM] Rowan, Jamin - Faculty Consolidated","AC06485-[HUM] Rowan, Jamin - Faculty Consolidated","Activity","FD04","Active","2025-03-17T16:11:54.800235+00:00",null,null,null,null,null,null,null,null,"30588","LSMM MMBIO 491","30588-LSMM MMBIO 491"]
[null,null,null,null,null,null,"AC06535","[HUM] Parry, Joe - Faculty Consolidated","AC06535-[HUM] Parry, Joe - Faculty Consolidated","Activity","FD04","Active","2025-03-17T16:11:54.800235+00:00",null,null,null,null,null,null,null,null,"30704","LSCE Department Repair","30704-LSCE Department Repair"]
[null,null,null,null,null,null,"AC06616","[PHIL] Craig Preece","AC06616-[PHIL] Craig Preece","Activity","FD07","Active","2025-03-17T16:11:54.842818+00:00",null,null,null,null,null,null,null,null,"30902","LSPW V-PW11V 2021 TOYTTRUCK/Mc","30902-LSPW V-PW11V 2021 TOYTTRUCK/Mc"]
[null,null,null,null,null,null,"AC06662","[ARTS] Will Kimball - Faculty Consolidated","AC06662-[ARTS] Will Kimball - Faculty Consolidated","Activity","FD04","Active","2025-03-17T16:11:54.842818+00:00",null,null,null,null,null,null,null,null,"30948","LSPW V-PW2V 2007 GMC Truck/PWS","30948-LSPW V-PW2V 2007 GMC Truck/PWS"]
[null,null,null,null,null,null,"AC06697","[ARTS] Merrill, Aaron - Faculty Consolidated","AC06697-[ARTS] Merrill, Aaron - Faculty Consolidated","Activity","FD04","Active","2025-03-17T16:11:54.842818+00:00",null,null,null,null,null,null,null,null,"30983","LSPW V-PW83 2020 SKIDOSnow/Lar","30983-LSPW V-PW83 2020 SKIDOSnow/Lar"]
[null,null,null,null,null,null,"AC06730","[ARTS] Adams, Ed - Faculty Consolidated","AC06730-[ARTS] Adams, Ed - Faculty Consolidated","Activity","FD04","Active","2025-03-17T16:11:54.842818+00:00",null,null,null,null,null,null,null,null,"32200","Accounts Receivable Sales","32200-Accounts Receivable Sales"]
[null,null,null,null,null,null,"AC06779","[ARTS] Karen Jensen - Faculty Consolidated","AC06779-[ARTS] Karen Jensen - Faculty Consolidated","Activity","FD04","Active","2025-03-17T16:11:54.842818+00:00",null,null,null,null,null,null,null,null,"32279","Weldatron Shrinkwrap - Manual","32279-Weldatron Shrinkwrap - Manual"]
[null,null,null,null,null,null,"AC06840","[FHSS] James Spencer - Faculty Consolidated","AC06840-[FHSS] James Spencer - Faculty Consolidated","Activity","FD04","Active","2025-03-17T16:11:54.9036+00:00",null,null,null,null,null,null,null,null,"34020","Faculty Research","34020-Faculty Research"]
[null,null,null,null,null,null,"AC06899","[FHSS] Tice, Dianne Faculty Consolidated","AC06899-[FHSS] Tice, Dianne Faculty Consolidated","Activity","FD04","Active","2025-03-17T16:11:54.9036+00:00",null,null,null,null,null,null,null,null,"34125","History - General","34125-History - General"]
[null,null,null,null,null,null,"AC06951","[FHSS] Pulsipher, Jenny - Faculty Consolidated","AC06951-[FHSS] Pulsipher, Jenny - Faculty Consolidated","Activity","FD04","Active","2025-03-17T16:11:54.9036+00:00",null,null,null,null,null,null,null,null,"34207","Costume & Fashion","34207-Costume & Fashion"]
[null,null,null,null,null,null,"AC06988","[FHSS] J Spencer Fluhman - Faculty Consolidated","AC06988-[FHSS] J Spencer Fluhman - Faculty Consolidated","Activity","FD04","Active","2025-03-17T16:11:54.9036+00:00",null,null,null,null,null,null,null,null,"34247","Computer Science","34247-Computer Science"]
[null,null,null,null,null,null,"AC07048","[FHSS] Ure, Scott M. - Faculty Consolidated","AC07048-[FHSS] Ure, Scott M. - Faculty Consolidated","Activity","FD04","Active","2025-03-17T16:11:54.957842+00:00",null,null,null,null,null,null,null,null,"34351","Americana In Print","34351-Americana In Print"]
[null,null,null,null,null,null,"AC07146","[ENG] J Salmon - Faculty Consolidated","AC07146-[ENG] J Salmon - Faculty Consolidated","Activity","FD04","Active","2025-03-17T16:11:54.957842+00:00",null,null,null,null,null,null,null,null,"35119","Art Ed Stdnt FT","35119-Art Ed Stdnt FT"]
[null,null,null,null,null,null,"AC07179","[ENG] Gregory Nordin - Faculty Consolidated","AC07179-[ENG] Gregory Nordin - Faculty Consolidated","Activity","FD04","Active","2025-03-17T16:11:54.957842+00:00",null,null,null,null,null,null,null,null,"35185","Sculpture","35185-Sculpture"]
[null,null,null,null,null,null,"AC07228","[ENG] Randy Lewis - Faculty Consolidated","AC07228-[ENG] Randy Lewis - Faculty Consolidated","Activity","FD04","Active","2025-03-17T16:11:55.003647+00:00",null,null,null,null,null,null,null,null,"35303","Knudsen,Kathryn","35303-Knudsen,Kathryn"]
[null,null,null,null,null,null,"AC07285","[LAWS] Lee, Tom - Faculty Consolidated","AC07285-[LAWS] Lee, Tom - Faculty Consolidated","Activity","FD04","Active","2025-03-17T16:11:55.003647+00:00",null,null,null,null,null,null,null,null,"35447","EFY-DPD: Especially for Youth","35447-EFY-DPD: Especially for Youth"]
[null,null,null,null,null,null,"AC07293","[LAWS] Laureen Urquiaga - Faculty Consolidated","AC07293-[LAWS] Laureen Urquiaga - Faculty Consolidated","Activity","FD04","Active","2025-03-17T16:11:55.003647+00:00",null,null,null,null,null,null,null,null,"35455","DSM-Danny Boy:YMP002,YMP003","35455-DSM-Danny Boy:YMP002,YMP003"]
[null,null,null,null,null,null,"AC07344","[CE] EC TIBET 101: First-Year Tibetan","AC07344-[CE] EC TIBET 101: First-Year Tibetan","Activity","FD02","Active","2025-03-17T16:11:55.003647+00:00",null,null,null,null,null,null,null,null,"35611","QDP 'Q'd Up' CD","35611-QDP 'Q'd Up' CD"]
[null,null,null,null,null,null,"AC07436","[CE] EC MATH 213: Elementary Linear Algebra","AC07436-[CE] EC MATH 213: Elementary Linear Algebra","Activity","FD02","Active","2025-03-17T16:11:55.052098+00:00",null,null,null,null,null,null,null,null,"35696","STJ 'at the exactest point' CD","35696-STJ 'at the exactest point' CD"]
[null,null,null,null,null,null,"AC07481","[OIT] CORE - Operations","AC07481-[OIT] CORE - Operations","Activity","FD01","Active","2025-03-17T16:11:55.052098+00:00",null,null,null,null,null,null,null,null,"35772","Laurellee Zimmerman","35772-Laurellee Zimmerman"]
[null,null,null,null,null,null,"AC07519","[LFSC] Neuroscience-Grad Studies","AC07519-[LFSC] Neuroscience-Grad Studies","Activity","FD03","Active","2025-03-17T16:11:55.052098+00:00",null,null,null,null,null,null,null,null,"35831","MMN 'Mormoniana' CD","35831-MMN 'Mormoniana' CD"]
[null,null,null,null,null,null,"AC07552","[MTC] MTC Projects","AC07552-[MTC] MTC Projects","Activity","FD07","Active","2025-03-17T16:11:55.052098+00:00",null,null,null,null,null,null,null,null,"35870","Laycock Center Grant","35870-Laycock Center Grant"]
[null,null,null,null,null,null,"AC07624","[MSE] Fuentes, Debra - Faculty Consolidated","AC07624-[MSE] Fuentes, Debra - Faculty Consolidated","Activity","FD04","Active","2025-03-17T16:11:55.052098+00:00",null,null,null,null,null,null,null,null,"36021","Fijian","36021-Fijian"]
[null,null,null,null,null,null,"AC07686","[ARTS] Ostraff, Kaleb - Faculty Consolidated","AC07686-[ARTS] Ostraff, Kaleb - Faculty Consolidated","Activity","FD04","Active","2025-05-23T02:03:47.7154+00:00",null,null,null,null,null,null,null,null,"36335","Training Area Specialist","36335-Training Area Specialist"]
[null,null,null,null,null,null,"AC07719","[ADM] Dining-Choices","AC07719-[ADM] Dining-Choices","Activity","FD01","Active","2025-03-17T16:11:55.095375+00:00",null,null,null,null,null,null,null,null,"36519","Misc. MTC Hosting Events","36519-Misc. MTC Hosting Events"]
[null,null,null,null,null,null,"AC07769","[CE] FSY Travel & P-Card (Tod)","AC07769-[CE] FSY Travel & P-Card (Tod)","Activity","FD02","Active","2025-03-17T16:11:55.095375+00:00",null,null,null,null,null,null,null,null,"36968","MTC President's Condo","36968-MTC President's Condo"]
[null,null,null,null,null,null,"AC07809","[AVP] Access Equip Testing Services","AC07809-[AVP] Access Equip Testing Services","Activity","FD01","Active","2025-03-17T16:11:55.095375+00:00",null,null,null,null,null,null,null,null,"38065","Travel Exp-Contract Services","38065-Travel Exp-Contract Services"]
[null,null,null,null,null,null,"AC07850","[ATH] CST - Golf Tournament","AC07850-[ATH] CST - Golf Tournament","Activity","FD02","Active","2025-03-17T16:11:55.134434+00:00",null,null,null,null,null,null,null,null,"38244","AS - Administration","38244-AS - Administration"]
[null,null,null,null,null,null,"AC07935","[HR] Recruiter (Non-Appropriated)","AC07935-[HR] Recruiter (Non-Appropriated)","Activity","FD02","Active","2025-07-16T02:03:20.730988+00:00",null,null,null,null,null,null,null,null,"38843","Translation","38843-Translation"]
[null,null,null,null,null,null,"AC07968","[ADM] AR-Vernal Utah Temple","AC07968-[ADM] AR-Vernal Utah Temple","Activity","FD01","Active","2025-11-07T03:05:19.61625+00:00",null,null,null,null,null,null,null,null,"38902","CE Alloc - Financial Services","38902-CE Alloc - Financial Services"]
[null,null,null,null,null,null,"AC07989","[ATH] Swim Cougar Aquatics","AC07989-[ATH] Swim Cougar Aquatics","Activity","FD02","Active","2025-05-13T02:03:47.468671+00:00",null,null,null,null,null,null,null,null,"38F25","FSY 2025","38F25-FSY 2025"]
[null,null,null,null,null,null,"AC08049","[CE] UN CHEM 481: Biochemistry","AC08049-[CE] UN CHEM 481: Biochemistry","Activity","FD02","Active","2025-07-16T02:03:20.730988+00:00",null,null,null,null,null,null,null,null,"39632","ProfDev -Jenny","39632-ProfDev -Jenny"]
[null,null,null,null,null,null,"AC08083","[CE] EC GEOG 222: Statistics for Geographers 1","AC08083-[CE] EC GEOG 222: Statistics for Geographers 1","Activity","FD02","Active","2025-08-15T02:03:09.598414+00:00",null,null,null,null,null,null,null,null,"39726","FDS New Faculty Mentoring","39726-FDS New Faculty Mentoring"]
[null,null,null,null,null,null,"AC08133","[CE] EC SOC 329: Medical Sociology","AC08133-[CE] EC SOC 329: Medical Sociology","Activity","FD02","Active","2025-09-14T02:07:09.382047+00:00",null,null,null,null,null,null,null,null,"42036","BYU Organ Workshop","42036-BYU Organ Workshop"]
[null,null,null,null,null,null,"AC08220","[CE] EC HIST 206R: Regional and Thematic Family History","AC08220-[CE] EC HIST 206R: Regional and Thematic Family History","Activity","FD02","Active","2025-11-15T03:03:52.331617+00:00",null,null,null,null,null,null,null,null,"47804","Employee Appreciation","47804-Employee Appreciation"]
[null,null,null,null,null,null,"AC08263","[SOM] Financial Aid","AC08263-[SOM] Financial Aid","Activity","FD01","Active","2025-12-09T03:06:20.494927+00:00",null,null,null,null,null,null,null,null,"47860","[AVP] CCLF","47860-[AVP] CCLF"]
[null,null,null,null,null,null,"AC08296","[MSB] MBA Finance Retreat","AC08296-[MSB] MBA Finance Retreat","Activity","FD03","Active","2025-12-24T03:03:55.445306+00:00",null,null,null,null,null,null,null,null,"48010","Church History Symposium","48010-Church History Symposium"]
[null,null,null,null,null,null,"AC08329","[ENG] Baird, Sterling - Faculty Consolidated","AC08329-[ENG] Baird, Sterling - Faculty Consolidated","Activity","FD04","Active","2026-01-03T03:03:44.023784+00:00",null,null,null,null,null,null,null,null,"48476","[AVP] Sorensen 5","48476-[AVP] Sorensen 5"]
[null,null,null,null,null,null,"CC10057","[AVP] RSC Operating Budget","CC10057-[AVP] RSC Operating Budget","Cost Center","FD01","Active","2025-11-13T03:04:02.199226+00:00",null,null,null,null,null,null,null,null,"4D111","Automated Testing Tools","4D111-Automated Testing Tools"]
[null,null,null,null,null,null,"CC10119","[HUM] Flagship Internship","CC10119-[HUM] Flagship Internship","Cost Center","FD03","Active","2025-11-13T03:04:02.199226+00:00",null,null,null,null,null,null,null,null,"51147","Vernon Parent/Insurance Policy","51147-Vernon Parent/Insurance Policy"]
[null,null,null,null,null,null,"CC10168","[MSB] HR","CC10168-[MSB] HR","Cost Center","FD01","Active","2025-11-13T03:04:02.199226+00:00",null,null,null,null,null,null,null,null,"52033","Sabey, Burns V-241401710","52033-Sabey, Burns V-241401710"]
[null,null,null,null,null,null,"CC10201","[ADM] Office BYU Police & Security","CC10201-[ADM] Office BYU Police & Security","Cost Center","FD01","Active","2025-11-13T03:04:05.473612+00:00",null,null,null,null,null,null,null,null,"52202","Matsuzaka Family-241400548","52202-Matsuzaka Family-241400548"]
[null,null,null,null,null,null,"CC10238","[DINE] Creamery Too-Wyview","CC10238-[DINE] Creamery Too-Wyview","Cost Center","FD02","Active","2025-11-13T03:04:05.473612+00:00",null,null,null,null,null,null,null,null,"52285","Taylor, David A-961500667","52285-Taylor, David A-961500667"]
[null,null,null,null,null,null,"CC10282","[PROD] Bindery","CC10282-[PROD] Bindery","Cost Center","FD02","Active","2025-11-13T03:04:05.706274+00:00",null,null,null,null,null,null,null,null,"52415","White, Ronald-961401163","52415-White, Ronald-961401163"]
[null,null,null,null,null,null,"CC10363","[ENRL] Admissions","CC10363-[ENRL] Admissions","Cost Center","FD01","Active","2025-11-13T03:04:05.706274+00:00",null,null,null,null,null,null,null,null,"52606","Howell, Ann C 2014 243002326","52606-Howell, Ann C 2014 243002326"]
[null,null,null,null,null,null,"CC10396","[BYUB] BYUtv Sports","CC10396-[BYUB] BYUtv Sports","Cost Center","FD02","Active","2025-11-13T03:04:05.89304+00:00",null,null,null,null,null,null,null,null,"52649","[ADM] HOWELL 2024 #3 243001657","52649-[ADM] HOWELL 2024 #3 243001657"]
[null,null,null,null,null,null,"CC10414","[ATH] Event Services","CC10414-[ATH] Event Services","Cost Center","FD02","Active","2025-11-13T03:04:05.89304+00:00",null,null,null,null,null,null,null,null,"53807","Richards, Douglas J/Insurance","53807-Richards, Douglas J/Insurance"]
[null,null,null,null,null,null,"CC10477","[OIT] ADMIN - Research Computing","CC10477-[OIT] ADMIN - Research Computing","Cost Center","FD01","Active","2025-11-13T03:04:06.063824+00:00",null,null,null,null,null,null,null,null,"55221","Alumni Board Exec. Committee","55221-Alumni Board Exec. Committee"]
[null,null,null,null,null,null,"CC10535","[CE] IT Information Technology","CC10535-[CE] IT Information Technology","Cost Center","FD02","Active","2025-11-13T03:04:06.063824+00:00",null,null,null,null,null,null,null,null,"55298","BYUMS Asia","55298-BYUMS Asia"]
[null,null,null,null,null,null,"CC10574","[ADM] Confidential Salaries - Public Service Auxiliary","CC10574-[ADM] Confidential Salaries - Public Service Auxiliary","Cost Center","FD01","Active","2025-11-13T03:04:06.063824+00:00",null,null,null,null,null,null,null,null,"57045","Guest Artist","57045-Guest Artist"]
[null,null,null,null,null,null,"GF00005","[ADM] QE - BYU General Endowment","GF00005-[ADM] QE - BYU General Endowment","Gift","FD29","Active","2025-06-28T02:03:27.066142+00:00",null,null,null,null,null,null,null,null,"57160","DMV-NW: You Say","57160-DMV-NW: You Say"]
[null,null,null,null,null,null,"GF00054","[ATH] QE - Marriott Ctr Annex Maint Fund","GF00054-[ATH] QE - Marriott Ctr Annex Maint Fund","Gift","FD29","Active","2025-06-28T02:03:27.066142+00:00",null,null,null,null,null,null,null,null,"57212","SRO 'Standing Room Only' (DPD)","57212-SRO 'Standing Room Only' (DPD)"]
[null,null,null,null,null,null,"GF00087","[LAWS] QE - Anderson-Royalties","GF00087-[LAWS] QE - Anderson-Royalties","Gift","FD29","Active","2025-06-28T02:03:27.066142+00:00",null,null,null,null,null,null,null,null,"57246","IP1 'Irene Peery-Fox V1' (DPD)","57246-IP1 'Irene Peery-Fox V1' (DPD)"]
[null,null,null,null,null,null,"GF00154","[NURS] QE - Burns, Fritz NLC Endowment","GF00154-[NURS] QE - Burns, Fritz NLC Endowment","Gift","FD29","Active","2025-06-28T02:03:27.241793+00:00",null,null,null,null,null,null,null,null,"57330","BA TARTS","57330-BA TARTS"]
[null,null,null,null,null,null,"GF00168","[STLF] QE - Pluym, Herman","GF00168-[STLF] QE - Pluym, Herman","Gift","FD29","Active","2025-06-28T02:03:27.241793+00:00",null,null,null,null,null,null,null,null,"57429","Still","57429-Still"]
[null,null,null,null,null,null,"GF00249","[ARTS] QE - Arts Production","GF00249-[ARTS] QE - Arts Production","Gift","FD29","Active","2025-06-28T02:03:27.241793+00:00",null,null,null,null,null,null,null,null,"57560","Music Video Expense (AMT)","57560-Music Video Expense (AMT)"]
[null,null,null,null,null,null,"GF00298","[ARTS] QE - Crandall, Hazel","GF00298-[ARTS] QE - Crandall, Hazel","Gift","FD29","Active","2025-06-28T02:03:27.505408+00:00",null,null,null,null,null,null,null,null,"57614","WHM-DPD: Welcome Home","57614-WHM-DPD: Welcome Home"]
[null,null,null,null,null,null,"GF00330","[INVP] QE - Internatnl Initiatives","GF00330-[INVP] QE - Internatnl Initiatives","Gift","FD29","Active","2025-06-28T02:03:27.505408+00:00",null,null,null,null,null,null,null,null,"57653","VP-SNGL: You Raise Me Up","57653-VP-SNGL: You Raise Me Up"]
[null,null,null,null,null,null,"GF00363","[LFSC] QE - Life Sciences Farm Fund","GF00363-[LFSC] QE - Life Sciences Farm Fund","Gift","FD29","Active","2025-06-28T02:03:27.505408+00:00",null,null,null,null,null,null,null,null,"57691","DMV-VP: Brave","57691-DMV-VP: Brave"]
[null,null,null,null,null,null,"GF00412","[MSB] QE - Romney, IB & Elanor Profesrshp","GF00412-[MSB] QE - Romney, IB & Elanor Profesrshp","Gift","FD29","Active","2025-06-28T02:03:27.505408+00:00",null,null,null,null,null,null,null,null,"57743","VP-CLB: WhenYouBelieve-Hollens","57743-VP-CLB: WhenYouBelieve-Hollens"]
[null,null,null,null,null,null,"GF00493","[CMS] QE - Geology Alumni","GF00493-[CMS] QE - Geology Alumni","Gift","FD29","Active","2025-06-28T02:03:27.781689+00:00",null,null,null,null,null,null,null,null,"57843","DSM-I See the Light:YMP012","57843-DSM-I See the Light:YMP012"]
[null,null,null,null,null,null,"GF00506","[AVP] QE - Cancer Education","GF00506-[AVP] QE - Cancer Education","Gift","FD29","Active","2025-06-28T02:03:27.781689+00:00",null,null,null,null,null,null,null,null,"57857","DSM-O Holy Night: YMP040","57857-DSM-O Holy Night: YMP040"]
[null,null,null,null,null,null,"GF00574","[FIN] QE - Osier, Ruth and Richard Mem","GF00574-[FIN] QE - Osier, Ruth and Richard Mem","Gift","FD29","Active","2025-06-28T02:03:27.781689+00:00",null,null,null,null,null,null,null,null,"57926","DMV-US: It's You I Like","57926-DMV-US: It's You I Like"]
[null,null,null,null,null,null,"GF00607","[ATH] TE - Norris, Thomas D","GF00607-[ATH] TE - Norris, Thomas D","Gift","FD23","Active","2025-06-25T22:37:33.370915+00:00",null,null,null,null,null,null,null,null,"57959","DMV-YA: The Wizard and I","57959-DMV-YA: The Wizard and I"]
[null,null,null,null,null,null,"GF00656","[ATH] TE - Bingham, Jacob D. Football","GF00656-[ATH] TE - Bingham, Jacob D. Football","Gift","FD23","Active","2025-06-25T22:37:33.370915+00:00",null,null,null,null,null,null,null,null,"58502","Warner, John Mitchell/Pepsico","58502-Warner, John Mitchell/Pepsico"]
[null,null,null,null,null,null,"GF00687","[ATH] TE - Staffieri, Anthony J","GF00687-[ATH] TE - Staffieri, Anthony J","Gift","FD23","Active","2025-06-25T22:37:33.483708+00:00",null,null,null,null,null,null,null,null,"60253","Pat Ware, Intl Adm Asst","60253-Pat Ware, Intl Adm Asst"]
[null,null,null,null,null,null,"GF00769","[LAWS] TE - Latin American Rel Freedom","GF00769-[LAWS] TE - Latin American Rel Freedom","Gift","FD23","Active","2025-06-25T22:37:33.591915+00:00",null,null,null,null,null,null,null,null,"61500","Fire Protection Sys FLSR","61500-Fire Protection Sys FLSR"]
[null,null,null,null,null,null,"GF00818","[LAWS] TE - Earl, Allan R. and Stephen C.","GF00818-[LAWS] TE - Earl, Allan R. and Stephen C.","Gift","FD23","Active","2025-06-25T22:37:33.591915+00:00",null,null,null,null,null,null,null,null,"61552","Upgrade Wireless Network","61552-Upgrade Wireless Network"]
[null,null,null,null,null,null,"GF00851","[ENG] TE - Black, Joseph Layne","GF00851-[ENG] TE - Black, Joseph Layne","Gift","FD23","Active","2025-06-25T22:37:33.591915+00:00",null,null,null,null,null,null,null,null,"61586","Repl Furnaces WP 2024","61586-Repl Furnaces WP 2024"]
[null,null,null,null,null,null,"GF00911","[ENG] TE - Foulkrod, Ella B. Family","GF00911-[ENG] TE - Foulkrod, Ella B. Family","Gift","FD23","Active","2025-06-25T22:37:33.591915+00:00",null,null,null,null,null,null,null,null,"61645","Repl mattresses WP2,3,4","61645-Repl mattresses WP2,3,4"]
[null,null,null,null,null,null,"GF00933","[ENG] TE - Barrus, Joseph P","GF00933-[ENG] TE - Barrus, Joseph P","Gift","FD23","Active","2025-06-25T22:37:33.683163+00:00",null,null,null,null,null,null,null,null,"61667","Remodel Traditions Lounge","61667-Remodel Traditions Lounge"]
[null,null,null,null,null,null,"GF01014","[NURS] TE - Sandra Rogers Endowed Scholarship for Nursing","GF01014-[NURS] TE - Sandra Rogers Endowed Scholarship for Nursing","Gift","FD23","Active","2025-06-25T22:37:33.683163+00:00",null,null,null,null,null,null,null,null,"62113","G Event 3","62113-G Event 3"]
[null,null,null,null,null,null,"GF01057","[STLF] TE - Lawlor/Williams Non Mormon","GF01057-[STLF] TE - Lawlor/Williams Non Mormon","Gift","FD23","Active","2025-06-25T22:37:33.683163+00:00",null,null,null,null,null,null,null,null,"62361","C Co-Sponsorship-Off Campus","62361-C Co-Sponsorship-Off Campus"]
[null,null,null,null,null,null,"GF01095","[ENRL] TE - Miller, William & Jean","GF01095-[ENRL] TE - Miller, William & Jean","Gift","FD23","Active","2025-06-25T22:37:33.777111+00:00",null,null,null,null,null,null,null,null,"62616","F Event 6","62616-F Event 6"]
[null,null,null,null,null,null,"GF01128","[ENRL] TE - De Motta, Jeanette","GF01128-[ENRL] TE - De Motta, Jeanette","Gift","FD23","Active","2025-06-25T22:37:33.777111+00:00",null,null,null,null,null,null,null,null,"63010","Remodel Legends Grille","63010-Remodel Legends Grille"]
[null,null,null,null,null,null,"GF01177","[ENRL] TE - Simonson, Clarence","GF01177-[ENRL] TE - Simonson, Clarence","Gift","FD23","Active","2025-06-25T22:37:33.777111+00:00",null,null,null,null,null,null,null,null,"64298","VP Campus Show 1/13-14/23","64298-VP Campus Show 1/13-14/23"]
[null,null,null,null,null,null,"GF01238","[ENRL] TE - Franklin, Robert K","GF01238-[ENRL] TE - Franklin, Robert K","Gift","FD23","Active","2025-06-25T22:37:33.777111+00:00",null,null,null,null,null,null,null,null,"64359","NW/VP Burley, ID 2/16/24","64359-NW/VP Burley, ID 2/16/24"]
[null,null,null,null,null,null,"GF01306","[ENRL] TE - Smith, Samuel F. & Lulu J.","GF01306-[ENRL] TE - Smith, Samuel F. & Lulu J.","Gift","FD23","Active","2025-06-25T22:37:33.860266+00:00",null,null,null,null,null,null,null,null,"64427","[INVP] MS Study Abroad Fair 9/18/25","64427-[INVP] MS Study Abroad Fair 9/18/25"]
[null,null,null,null,null,null,"GF01339","[ENRL] TE - Stalder, Jamie Olsen","GF01339-[ENRL] TE - Stalder, Jamie Olsen","Gift","FD23","Active","2025-06-25T22:37:33.860266+00:00",null,null,null,null,null,null,null,null,"64460","[INVP] AE Caldwell, ID 11/5/2025","64460-[INVP] AE Caldwell, ID 11/5/2025"]
[null,null,null,null,null,null,"GF01372","[ENRL] TE - Logan, Ruby and Everett","GF01372-[ENRL] TE - Logan, Ruby and Everett","Gift","FD23","Active","2025-06-25T22:37:33.860266+00:00",null,null,null,null,null,null,null,null,"65005","Naitonals","65005-Naitonals"]
[null,null,null,null,null,null,"GF01414","[ENRL] TE - Taggart, Hal and Phyllis","GF01414-[ENRL] TE - Taggart, Hal and Phyllis","Gift","FD23","Active","2025-06-25T22:37:33.860266+00:00",null,null,null,null,null,null,null,null,"65148","Legally Mine","65148-Legally Mine"]
[null,null,null,null,null,null,"GF01453","[FHSS] TE - Sant-Gerontology","GF01453-[FHSS] TE - Sant-Gerontology","Gift","FD23","Active","2025-06-25T22:37:33.860266+00:00",null,null,null,null,null,null,null,null,"65277","Utah Dept of Health","65277-Utah Dept of Health"]
[null,null,null,null,null,null,"GF01502","[FHSS] TE - Warner, Ted J. and Doris","GF01502-[FHSS] TE - Warner, Ted J. and Doris","Gift","FD23","Active","2025-06-25T22:37:33.95198+00:00",null,null,null,null,null,null,null,null,"65375","Walnut Golf Club","65375-Walnut Golf Club"]
[null,null,null,null,null,null,"GF01583","[ARTS] TE - Meiling, Jane Sprunt Schlrshp","GF01583-[ARTS] TE - Meiling, Jane Sprunt Schlrshp","Gift","FD23","Active","2025-06-25T22:37:34.073611+00:00",null,null,null,null,null,null,null,null,"65458","[ATH] Tommy Gun's","65458-[ATH] Tommy Gun's"]
[null,null,null,null,null,null,"GF01595","[ARTS] TE - Richards, Nancy","GF01595-[ARTS] TE - Richards, Nancy","Gift","FD23","Active","2025-06-25T22:37:34.073611+00:00",null,null,null,null,null,null,null,null,"66158","Cougar Cap/DeepSee","66158-Cougar Cap/DeepSee"]
[null,null,null,null,null,null,"GF01664","[ARTS] TE - Draper, Nephi and Helen","GF01664-[ARTS] TE - Draper, Nephi and Helen","Gift","FD23","Active","2025-06-25T22:37:34.146061+00:00",null,null,null,null,null,null,null,null,"67120","Police 3/4 time","67120-Police 3/4 time"]
[null,null,null,null,null,null,"GF01697","[HUM] TE - Class 61-Humanities","GF01697-[HUM] TE - Class 61-Humanities","Gift","FD23","Active","2025-06-25T22:37:34.146061+00:00",null,null,null,null,null,null,null,null,"67153","Egan,Cherie","67153-Egan,Cherie"]
[null,null,null,null,null,null,"GF01778","[LIB] TE - Kitley, Susan Ann","GF01778-[LIB] TE - Kitley, Susan Ann","Gift","FD23","Active","2025-06-25T22:37:34.146061+00:00",null,null,null,null,null,null,null,null,"80001","Research","80001-Research"]
[null,null,null,null,null,null,"GF01819","[LFSC] TE - Reid, Vanice","GF01819-[LFSC] TE - Reid, Vanice","Gift","FD23","Active","2025-06-25T22:37:34.219219+00:00",null,null,null,null,null,null,null,null,"80051","LSCE Woodbury,Dixon-Research","80051-LSCE Woodbury,Dixon-Research"]
[null,null,null,null,null,null,"GF01860","[LFSC] TE - Terry, Clyde Lynn","GF01860-[LFSC] TE - Terry, Clyde Lynn","Gift","FD23","Active","2025-06-25T22:37:34.219219+00:00",null,null,null,null,null,null,null,null,"80516","LSES Sorensen, Jake - Research","80516-LSES Sorensen, Jake - Research"]
[null,null,null,null,null,null,"GF01909","[MSB] TE - Mecham-Schl Managmnt","GF01909-[MSB] TE - Mecham-Schl Managmnt","Gift","FD23","Active","2025-06-25T22:37:34.219219+00:00",null,null,null,null,null,null,null,null,"89D19","Enhance Service Management","89D19-Enhance Service Management"]
[null,null,null,null,null,null,"GF01942","[MSB] TE - Zinn, Ray - MSB","GF01942-[MSB] TE - Zinn, Ray - MSB","Gift","FD23","Active","2025-06-25T22:37:34.219219+00:00",null,null,null,null,null,null,null,null,"ACHRI","ACHRI","ACHRI-ACHRI"]
[null,null,null,null,null,null,"GF02000","[MSB] TE - Global Mgmt Center Donor Fund","GF02000-[MSB] TE - Global Mgmt Center Donor Fund","Gift","FD23","Active","2025-06-25T22:37:34.300281+00:00",null,null,null,null,null,null,null,null,"APCFT","ATL Principle Cast FTE","APCFT-ATL Principle Cast FTE"]
[null,null,null,null,null,null,"GF02071","[MSB] TE - Livingstone, Donald","GF02071-[MSB] TE - Livingstone, Donald","Gift","FD23","Active","2025-06-25T22:37:34.300281+00:00",null,null,null,null,null,null,null,null,"BG135","Athletics Recruiting","BG135-Athletics Recruiting"]
[null,null,null,null,null,null,"GF02104","[MSB] TE - Peacock, J. Bruce","GF02104-[MSB] TE - Peacock, J. Bruce","Gift","FD23","Active","2025-06-25T22:37:34.300281+00:00",null,null,null,null,null,null,null,null,"BG173","WIFI management","BG173-WIFI management"]
[null,null,null,null,null,null,"GF02153","[MSE] TE - Wade, Vern J","GF02153-[MSE] TE - Wade, Vern J","Gift","FD23","Active","2025-06-25T22:37:34.300281+00:00",null,null,null,null,null,null,null,null,"BKECK","Keck, Brent","BKECK-Keck, Brent"]
[null,null,null,null,null,null,"GF02176","[MSE] TE - Shirts, Elmo and Marla","GF02176-[MSE] TE - Shirts, Elmo and Marla","Gift","FD23","Active","2025-06-25T22:37:34.381107+00:00",null,null,null,null,null,null,null,null,"BS155","Website Management","BS155-Website Management"]
[null,null,null,null,null,null,"GF02218","[MSE] TE - Porter, Ann R.","GF02218-[MSE] TE - Porter, Ann R.","Gift","FD23","Active","2025-06-25T22:37:34.381107+00:00",null,null,null,null,null,null,null,null,"C1514","ALL WEATHER WATERPROOFING","C1514-ALL WEATHER WATERPROOFING"]
[null,null,null,null,null,null,"GF02267","[CMS] TE - Garrick, B. John Scholarship","GF02267-[CMS] TE - Garrick, B. John Scholarship","Gift","FD23","Active","2025-06-25T22:37:34.381107+00:00",null,null,null,null,null,null,null,null,"C1578","Louis A. Roser Company","C1578-Louis A. Roser Company"]
[null,null,null,null,null,null,"GF02322","[AVP] TE - Burch, Russell and Jan","GF02322-[AVP] TE - Burch, Russell and Jan","Gift","FD23","Active","2025-06-25T22:37:34.436946+00:00",null,null,null,null,null,null,null,null,"C1646","Otis Elevator Company","C1646-Otis Elevator Company"]
[null,null,null,null,null,null,"GF02380","[FIN] TE - Olsen, Joseph E","GF02380-[FIN] TE - Olsen, Joseph E","Gift","FD23","Active","2025-06-25T22:37:34.436946+00:00",null,null,null,null,null,null,null,null,"CAP34","Capstone Team 34","CAP34-Capstone Team 34"]
[null,null,null,null,null,null,"GF02430","[ENRL] DG - Murdock, Dale & Louise- Deferred Gift","GF02430-[ENRL] DG - Murdock, Dale & Louise- Deferred Gift","Gift","FD27","Active","2025-06-25T22:37:34.436946+00:00",null,null,null,null,null,null,null,null,"CBHEV","Building Hope Marketing Campaign-Events","CBHEV-Building Hope Marketing Campaign-Events"]
[null,null,null,null,null,null,"GF02463","[ARTS] DG - Volkel, Marjorie Young- Deferred Gift","GF02463-[ARTS] DG - Volkel, Marjorie Young- Deferred Gift","Gift","FD27","Active","2025-06-25T22:37:34.497216+00:00",null,null,null,null,null,null,null,null,"CBTDM","BYUtv Cmpn-Digital","CBTDM-BYUtv Cmpn-Digital"]
[null,null,null,null,null,null,"GF02548","[FIN] PM - N-Woolley, Mary Oil Gas Rylts","GF02548-[FIN] PM - N-Woolley, Mary Oil Gas Rylts","Gift","FD27","Active","2025-06-25T22:37:34.497216+00:00",null,null,null,null,null,null,null,null,"CELLP","Cell Phone Personal Use","CELLP-Cell Phone Personal Use"]
[null,null,null,null,null,null,"GF02594","[FIN] PM - Kirkland, Scott","GF02594-[FIN] PM - Kirkland, Scott","Gift","FD20","Active","2025-06-25T22:37:34.497216+00:00",null,null,null,null,null,null,null,null,"CG145","Online Video Management","CG145-Online Video Management"]
[null,null,null,null,null,null,"GF02630","[AER] BG - CA Inland Empire","GF02630-[AER] BG - CA Inland Empire","Gift","FD20","Active","2025-06-25T22:37:34.497216+00:00",null,null,null,null,null,null,null,null,"CG502","Signature Card","CG502-Signature Card"]
[null,null,null,null,null,null,"GF02680","[AER] BG - ID Twin Falls","GF02680-[AER] BG - ID Twin Falls","Gift","FD20","Active","2025-06-25T22:37:34.561107+00:00",null,null,null,null,null,null,null,null,"CGHPI","How Got Here Cmpn-Promo Item","CGHPI-How Got Here Cmpn-Promo Item"]
[null,null,null,null,null,null,"GF02733","[ATH] BG - Cougar Club-Swimming","GF02733-[ATH] BG - Cougar Club-Swimming","Gift","FD20","Active","2025-06-25T22:37:34.561107+00:00",null,null,null,null,null,null,null,null,"CKAEV","Kaboom Cmpn-Events","CKAEV-Kaboom Cmpn-Events"]
[null,null,null,null,null,null,"GF02795","[LAWS] BG - Douglas Parker Award","GF02795-[LAWS] BG - Douglas Parker Award","Gift","FD20","Active","2025-06-25T22:37:34.616135+00:00",null,null,null,null,null,null,null,null,"CNLMD","New Leash on Life Marketing Campaign-Marketing Day","CNLMD-New Leash on Life Marketing Campaign-Marketing Day"]
[null,null,null,null,null,null,"GF02845","[ENG] BG - CIBA Vision Fellowship","GF02845-[ENG] BG - CIBA Vision Fellowship","Gift","FD20","Active","2025-06-25T22:37:34.616135+00:00",null,null,null,null,null,null,null,null,"CPBOF","Radio DeepBl Cmpn-Offline Mktg","CPBOF-Radio DeepBl Cmpn-Offline Mktg"]
[null,null,null,null,null,null,"GF02879","[ENG] BG - Glen Calder Scholarship","GF02879-[ENG] BG - Glen Calder Scholarship","Gift","FD20","Active","2025-06-25T22:37:34.616135+00:00",null,null,null,null,null,null,null,null,"CPYRM","Copy Room Supply","CPYRM-Copy Room Supply"]
[null,null,null,null,null,null,"GF02913","[ENG] BG - National Instruments Gift Account","GF02913-[ENG] BG - National Instruments Gift Account","Gift","FD20","Active","2025-06-25T22:37:34.616135+00:00",null,null,null,null,null,null,null,null,"CRWEV","Ruby & Well Cmpn-Events","CRWEV-Ruby & Well Cmpn-Events"]
[null,null,null,null,null,null,"GF02962","[NURS] BG - College of Nursing","GF02962-[NURS] BG - College of Nursing","Gift","FD20","Active","2025-06-25T22:37:34.716844+00:00",null,null,null,null,null,null,null,null,"CSBMD","Coach ShowBB Cmpn-Mktg Day","CSBMD-Coach ShowBB Cmpn-Mktg Day"]
[null,null,null,null,null,null,"GF02997","[ENRL] BG - Debt Management","GF02997-[ENRL] BG - Debt Management","Gift","FD20","Active","2025-06-25T22:37:34.716844+00:00",null,null,null,null,null,null,null,null,"CSFOT","Coach ShowFB Cmpn-Other","CSFOT-Coach ShowFB Cmpn-Other"]
[null,null,null,null,null,null,"GF03047","[ENRL] BG - Kevin & Tawna Pryor Sig Schola","GF03047-[ENRL] BG - Kevin & Tawna Pryor Sig Schola","Gift","FD20","Active","2025-06-25T22:37:34.716844+00:00",null,null,null,null,null,null,null,null,"CSPSM","Sports Cmpn-Social Mktg","CSPSM-Sports Cmpn-Social Mktg"]
[null,null,null,null,null,null,"GF03100","[ENRL] BG - Marcia L. Hippen Sig. Scholars","GF03100-[ENRL] BG - Marcia L. Hippen Sig. Scholars","Gift","FD20","Active","2025-06-25T22:37:34.716844+00:00",null,null,null,null,null,null,null,null,"CTXCM","Commerce City CO City Tax","CTXCM-Commerce City CO City Tax"]
[null,null,null,null,null,null,"GF03179","[ENRL] BG - Thorstenson, Hunter Sig Schola","GF03179-[ENRL] BG - Thorstenson, Hunter Sig Schola","Gift","FD20","Active","2025-06-25T22:37:34.777193+00:00",null,null,null,null,null,null,null,null,"CWKOF","CW Kids Cmpn-Offline Mktg","CWKOF-CW Kids Cmpn-Offline Mktg"]
[null,null,null,null,null,null,"GF03226","[FHSS] BG - School Family Life Gifts","GF03226-[FHSS] BG - School Family Life Gifts","Gift","FD20","Active","2025-06-25T22:37:34.777193+00:00",null,null,null,null,null,null,null,null,"D4552","Gifted & Talented Endorsement","D4552-Gifted & Talented Endorsement"]
[null,null,null,null,null,null,"GF03260","[ARTS] BG - Barlow Foundation Gift","GF03260-[ARTS] BG - Barlow Foundation Gift","Gift","FD20","Active","2025-06-25T22:37:34.777193+00:00",null,null,null,null,null,null,null,null,"DA460","Dance History to 1850","DA460-Dance History to 1850"]
[null,null,null,null,null,null,"GF03344","[HUM] BG - ENGL Together 4 GRT","GF03344-[HUM] BG - ENGL Together 4 GRT","Gift","FD20","Active","2025-06-25T22:37:34.831943+00:00",null,null,null,null,null,null,null,null,"DM024","x2019 Estimates Project","DM024-x2019 Estimates Project"]
[null,null,null,null,null,null,"GF03401","[LFSC] BG - MLBM Direct Student Aid","GF03401-[LFSC] BG - MLBM Direct Student Aid","Gift","FD20","Active","2025-06-25T22:37:34.882322+00:00",null,null,null,null,null,null,null,null,"DM081","BYUB, Wireless Installation","DM081-BYUB, Wireless Installation"]
[null,null,null,null,null,null,"GF03440","[LFSC] BG - Nutr, Diet, Food Sci Gifts","GF03440-[LFSC] BG - Nutr, Diet, Food Sci Gifts","Gift","FD20","Active","2025-06-25T22:37:34.882322+00:00",null,null,null,null,null,null,null,null,"E1888","EX18Marketing","E1888-EX18Marketing"]
[null,null,null,null,null,null,"GF03515","[MSB] BG - Healthcare Leadership Collabor","GF03515-[MSB] BG - Healthcare Leadership Collabor","Gift","FD20","Active","2025-09-20T02:03:45.414067+00:00",null,null,null,null,null,null,null,null,"EFYOR","EFY OR Tax Withholding","EFYOR-EFY OR Tax Withholding"]
[null,null,null,null,null,null,"GF03535","[MSB] BG - Marketing Student Support","GF03535-[MSB] BG - Marketing Student Support","Gift","FD20","Active","2025-06-25T22:37:34.882322+00:00",null,null,null,null,null,null,null,null,"EJN44","E. James Nelson","EJN44-E. James Nelson"]
[null,null,null,null,null,null,"GF03602","[MSE] BG - PFM-Language Instruction","GF03602-[MSE] BG - PFM-Language Instruction","Gift","FD20","Active","2025-06-25T22:37:34.937504+00:00",null,null,null,null,null,null,null,null,"EX221","[LFSC] EXSC 221 Wellness","EX221-[LFSC] EXSC 221 Wellness"]
[null,null,null,null,null,null,"GF03683","[CMS] BG - Physics Summer Mentorships","GF03683-[CMS] BG - Physics Summer Mentorships","Gift","FD20","Active","2025-06-25T22:37:34.937504+00:00",null,null,null,null,null,null,null,null,"G0531","Graduate CRC Fellowships","G0531-Graduate CRC Fellowships"]
[null,null,null,null,null,null,"GF03717","[REL] BG - Gospel Scholarship Media Projs","GF03717-[REL] BG - Gospel Scholarship Media Projs","Gift","FD20","Active","2025-06-25T22:37:34.998362+00:00",null,null,null,null,null,null,null,null,"GCFEE","Gift Card Bank Fees","GCFEE-Gift Card Bank Fees"]
[null,null,null,null,null,null,"GF03770","[BYUB] RG- Misc. TV Production Funds","GF03770-[BYUB] RG- Misc. TV Production Funds","Gift","FD28","Active","2025-06-25T22:37:34.998362+00:00",null,null,null,null,null,null,null,null,"GRNDS","Grounds/Landscaping","GRNDS-Grounds/Landscaping"]
[null,null,null,null,null,null,"GF03826","[STLF] RG- Davenport International","GF03826-[STLF] RG- Davenport International","Gift","FD28","Active","2025-06-25T22:37:34.998362+00:00",null,null,null,null,null,null,null,null,"GUNDE","Underwood, Grant","GUNDE-Underwood, Grant"]
[null,null,null,null,null,null,"GF03866","[KC] RG- Australia / New Zealand Fund","GF03866-[KC] RG- Australia / New Zealand Fund","Gift","FD28","Active","2025-06-25T22:37:34.998362+00:00",null,null,null,null,null,null,null,null,"HRMON","Tyson Harmon","HRMON-Tyson Harmon"]
[null,null,null,null,null,null,"GF03935","[ENRL] DG - Yentzer, Edwin John- Deferred Gift","GF03935-[ENRL] DG - Yentzer, Edwin John- Deferred Gift","Gift","FD21","Active","2025-06-25T22:37:35.064182+00:00",null,null,null,null,null,null,null,null,"ID243","xNetwork API NIT 2","ID243-xNetwork API NIT 2"]
[null,null,null,null,null,null,"GF04002","[JC] II - JC-Motorpool","GF04002-[JC] II - JC-Motorpool","Gift","FD02","Active","2025-06-25T22:37:35.064182+00:00",null,null,null,null,null,null,null,null,"JLGRS","LSND LeCheminant, James-Grad R","JLGRS-LSND LeCheminant, James-Grad R"]
[null,null,null,null,null,null,"GF04052","[AVP] BG - Graduate Belonging Fellowships","GF04052-[AVP] BG - Graduate Belonging Fellowships","Gift","FD20","Active","2025-06-25T22:37:35.114525+00:00",null,null,null,null,null,null,null,null,"K0082","Computer Repl","K0082-Computer Repl"]
[null,null,null,null,null,null,"GF04117","[LFSC] BG - LFSC Alzheimer's-student aid","GF04117-[LFSC] BG - LFSC Alzheimer's-student aid","Gift","FD20","Active","2025-06-25T22:37:35.114525+00:00",null,null,null,null,null,null,null,null,"K0412","Multi-Image Monitoring","K0412-Multi-Image Monitoring"]
[null,null,null,null,null,null,"GF04151","[CMS] TE - Parent, Katie and Alexander","GF04151-[CMS] TE - Parent, Katie and Alexander","Gift","FD23","Active","2025-06-25T22:37:35.114525+00:00",null,null,null,null,null,null,null,null,"KHAR0","Kenneth Hartvigsen","KHAR0-Kenneth Hartvigsen"]
[null,null,null,null,null,null,"GF04201","[ATH] TE - Cara L. Haslam Endowed Athletic Scholarship Fund","GF04201-[ATH] TE - Cara L. Haslam Endowed Athletic Scholarship Fund","Gift","FD23","Active","2025-10-03T02:03:12.247445+00:00",null,null,null,null,null,null,null,null,"LODGE","Lodging Supplement","LODGE-Lodging Supplement"]
[null,null,null,null,null,null,"GF04284","[ENRL] TE - Samuel and Gloria Bangerter and Thomas E. Ogden Endowed Scholarship Fund","GF04284-[ENRL] TE - Samuel and Gloria Bangerter and Thomas E. Ogden Endowed Scholarship Fund","Gift","FD23","Active","2025-06-25T22:37:35.167775+00:00",null,null,null,null,null,null,null,null,"M1941","Monitoring for Defibrillators","M1941-Monitoring for Defibrillators"]
[null,null,null,null,null,null,"GF04333","[ATH] TE - Les and Sheralyn Brown Endowed Athletic Scholarship Fund","GF04333-[ATH] TE - Les and Sheralyn Brown Endowed Athletic Scholarship Fund","Gift","FD23","Active","2025-06-25T22:37:35.167775+00:00",null,null,null,null,null,null,null,null,"M2005","Landscape Sprinklers - MTC","M2005-Landscape Sprinklers - MTC"]
[null,null,null,null,null,null,"GF04378","[AER] BG - Social Work - Alumni Chapter Scholarships","GF04378-[AER] BG - Social Work - Alumni Chapter Scholarships","Gift","FD20","Active","2025-06-25T22:37:35.218384+00:00",null,null,null,null,null,null,null,null,"M2058","Security Desk Architecture-T4","M2058-Security Desk Architecture-T4"]
[null,null,null,null,null,null,"GF04398","[AER] BG - NC Central - Alumni Chapter Scholarships","GF04398-[AER] BG - NC Central - Alumni Chapter Scholarships","Gift","FD20","Active","2025-06-25T22:37:35.218384+00:00",null,null,null,null,null,null,null,null,"M2090","Network Maintenance - S2","M2090-Network Maintenance - S2"]
[null,null,null,null,null,null,"GF04448","[ARTS] TE -Delynne B. and Garth H. Peay World Dance Scholarship Fund","GF04448-[ARTS] TE -Delynne B. and Garth H. Peay World Dance Scholarship Fund","Gift","FD23","Active","2025-06-25T22:37:35.218384+00:00",null,null,null,null,null,null,null,null,"M2157","Ntwrk Wireless Replacemnts R2","M2157-Ntwrk Wireless Replacemnts R2"]
[null,null,null,null,null,null,"GF04529","[ENG] BG - Student Research Experiences","GF04529-[ENG] BG - Student Research Experiences","Gift","FD20","Active","2025-06-25T22:37:35.218384+00:00",null,null,null,null,null,null,null,null,"M2293","T3 Integrated AV Repairs","M2293-T3 Integrated AV Repairs"]
[null,null,null,null,null,null,"GF04560","[STLF] QE - Tender Mercies UAC Endowment","GF04560-[STLF] QE - Tender Mercies UAC Endowment","Gift","FD29","Active","2025-10-08T02:03:12.548243+00:00",null,null,null,null,null,null,null,null,"M2326","S3 Water Heater/Storage Tank","M2326-S3 Water Heater/Storage Tank"]
[null,null,null,null,null,null,"GF04610","[HUM] PE - Karen Lynne Hammond Flake Endowed Fund","GF04610-[HUM] PE - Karen Lynne Hammond Flake Endowed Fund","Gift","FD21","Active","2025-12-27T03:03:12.099251+00:00",null,null,null,null,null,null,null,null,"M2418","T4 Replace Grass with Groundco","M2418-T4 Replace Grass with Groundco"]
[null,null,null,null,null,null,"GR00029","[ENG] AW00187 Fed Subaward 22-0578-Aquaveo","GR00029-[ENG] AW00187 Fed Subaward 22-0578-Aquaveo","Grant","FD05","Active","2025-12-17T03:23:01.977995+00:00",null,null,null,null,null,null,null,null,"M2458","[MTC] S3 Fan Coil & Mechanicl Cntrls","M2458-[MTC] S3 Fan Coil & Mechanicl Cntrls"]
[null,null,null,null,null,null,"GR00899","[CMS] Ess-NSF-Theory and Design of Dinuclear","GR00899-[CMS] Ess-NSF-Theory and Design of Dinuclear","Grant","FD05","Active","2025-11-19T03:03:14.598076+00:00",null,null,null,null,null,null,null,null,"M4147","PFNB 101C Update","M4147-PFNB 101C Update"]
[null,null,null,null,null,null,"GR01212","[LFSC] Frandsen-NSF-IntBIO: Silk Protein Innovatio","GR01212-[LFSC] Frandsen-NSF-IntBIO: Silk Protein Innovatio","Grant","FD05","Active","2025-11-04T03:03:50.906654+00:00",null,null,null,null,null,null,null,null,"M6792","JFSB BSMT, Research Lab","M6792-JFSB BSMT, Research Lab"]
[null,null,null,null,null,null,"GR01499","[ENG] Allen-Pratt and Whitney-Characterizing the Damping and","GR01499-[ENG] Allen-Pratt and Whitney-Characterizing the Damping and","Grant","FD05","Active","2025-08-19T16:57:36.835376+00:00",null,null,null,null,null,null,null,null,"M9706","HCEB 451B Remodel","M9706-HCEB 451B Remodel"]
[null,null,null,null,null,null,"GR01622","[CMS] Dearden-NSF 2403998-Probing Molecular Folding and Unfolding Rates","GR01622-[CMS] Dearden-NSF 2403998-Probing Molecular Folding and Unfolding Rates","Grant","FD05","Active","2025-12-17T03:23:01.977995+00:00",null,null,null,null,null,null,null,null,"MDGRS","LSND Dunn, Mike-Grad Research","MDGRS-LSND Dunn, Mike-Grad Research"]
[null,null,null,null,null,null,"GR01671","[LFSC] Ahlborn-WDC 2024-2026-Polydopamine Coated Magnet Beads as a Means for Identification and Removal of Pathogens from Milk","GR01671-[LFSC] Ahlborn-WDC 2024-2026-Polydopamine Coated Magnet Beads as a Means for Identification and Removal of Pathogens from Milk","Grant","FD05","Active","2025-12-06T03:03:38.279382+00:00",null,null,null,null,null,null,null,null,"ME426","ME426","ME426-ME426"]
[null,null,null,null,null,null,"GR01758","[ENG] Peterson-CAAMS Industry-Cooperative Reasoning of UAVs in Multi-Objective Missions using Shared Event Memory","GR01758-[ENG] Peterson-CAAMS Industry-Cooperative Reasoning of UAVs in Multi-Objective Missions using Shared Event Memory","Grant","FD05","Active","2025-12-17T03:23:02.149496+00:00",null,null,null,null,null,null,null,null,"MESPL","MESPL","MESPL-MESPL"]
[null,null,null,null,null,null,"GR01810","[ENG ] Ning-DOD GATECH AWD-005496-S1-MATCHES: Multi-Agent Teaming for Cooperative Hypersonic Engagement and Strike","GR01810-[ENG ] Ning-DOD GATECH AWD-005496-S1-MATCHES: Multi-Agent Teaming for Cooperative Hypersonic Engagement and Strike","Grant","FD05","Active","2025-12-11T03:02:53.122922+00:00",null,null,null,null,null,null,null,null,"MISCM","Misc men","MISCM-Misc men"]
[null,null,null,null,null,null,"GR02112","[ENG] Long-TechSource/DOE-Sparge Tube WRO.Task6.242K12.C4596.BYU1","GR02112-[ENG] Long-TechSource/DOE-Sparge Tube WRO.Task6.242K12.C4596.BYU1","Grant","FD05","Active","2025-08-21T02:03:31.69307+00:00",null,null,null,null,null,null,null,null,"MTLPS","Multi Teleprompter Payroll","MTLPS-Multi Teleprompter Payroll"]
[null,null,null,null,null,null,"GR02123","[ENG] Snell-DOD-CSA Participant Support Costs","GR02123-[ENG] Snell-DOD-CSA Participant Support Costs","Grant","FD05","Active","2025-12-11T03:02:53.122922+00:00",null,null,null,null,null,null,null,null,"MVCPS","Multi Video Ctrl Payroll","MVCPS-Multi Video Ctrl Payroll"]
[null,null,null,null,null,null,"GR02211","[LFSC] Whiting-UA&M-Operating Support 2025 261507","GR02211-[LFSC] Whiting-UA&M-Operating Support 2025 261507","Grant","FD05","Active","2025-12-19T03:03:29.41569+00:00",null,null,null,null,null,null,null,null,"N2490","S2 Mailrm Parcel Locker Design","N2490-S2 Mailrm Parcel Locker Design"]
[null,null,null,null,null,null,"PJ000000043","[AVP] Niche of Lights","PJ000000043-[AVP] Niche of Lights","Project","FD03","Active","2025-06-01T02:03:32.951058+00:00",null,null,null,null,null,null,null,null,"N3865","CMPS Retrofit Bldg Controls","N3865-CMPS Retrofit Bldg Controls"]
[null,null,null,null,null,null,"PJ000000146","[ARTS] High School Preview Day","PJ000000146-[ARTS] High School Preview Day","Project","FD02","Active","2025-11-04T03:03:47.505354+00:00",null,null,null,null,null,null,null,null,"N5160","ITB 3024 Remodel","N5160-ITB 3024 Remodel"]
[null,null,null,null,null,null,"PJ000000232","[ARTS] Fall-BYU Syncopation","PJ000000232-[ARTS] Fall-BYU Syncopation","Project","FD02","Active","2025-07-09T15:05:26.077231+00:00",null,null,null,null,null,null,null,null,"ND251","NDFS 251","ND251-NDFS 251"]
[null,null,null,null,null,null,"PJ000000289","[ARTS] Winter-BYU Philharmonic","PJ000000289-[ARTS] Winter-BYU Philharmonic","Project","FD02","Active","2025-07-09T15:05:26.077231+00:00",null,null,null,null,null,null,null,null,"NSRES","LSND Stokes, Nathan - Research","NSRES-LSND Stokes, Nathan - Research"]
[null,null,null,null,null,null,"PJ000000528","[BYUB] Remodel Rm 1223-BYUB","PJ000000528-[BYUB] Remodel Rm 1223-BYUB","Project","FD02","Active","2025-09-25T02:03:44.924994+00:00",null,null,null,null,null,null,null,null,"P0404","Architectural Designer","P0404-Architectural Designer"]
[null,null,null,null,null,null,"PJ000000746","[AVP] Beede General Fund","PJ000000746-[AVP] Beede General Fund","Project","FD03","Active","2025-06-01T02:03:33.311463+00:00",null,null,null,null,null,null,null,null,"P0903","Gardening Supervisor - C","P0903-Gardening Supervisor - C"]
[null,null,null,null,null,null,"PJ000000802","[AVP] Second Language Instruction","PJ000000802-[AVP] Second Language Instruction","Project","FD03","Active","2025-06-01T02:03:33.476072+00:00",null,null,null,null,null,null,null,null,"P2409","Carpenter Projects 3","P2409-Carpenter Projects 3"]
[null,null,null,null,null,null,"PJ000000833","[AVP] Lifesong General Fund","PJ000000833-[AVP] Lifesong General Fund","Project","FD03","Active","2025-06-01T02:03:33.311463+00:00",null,null,null,null,null,null,null,null,"P2703","Key System Developer","P2703-Key System Developer"]
[null,null,null,null,null,null,"PJ000000923","[ARTS] Winter-Q'd Up","PJ000000923-[ARTS] Winter-Q'd Up","Project","FD02","Active","2025-07-09T15:05:26.077231+00:00",null,null,null,null,null,null,null,null,"PC203","Cust Area 20 TNRB 2","PC203-Cust Area 20 TNRB 2"]
[null,null,null,null,null,null,"PJ000000972","[AVP] Invertebrate ID Guide","PJ000000972-[AVP] Invertebrate ID Guide","Project","FD03","Active","2025-06-01T02:03:33.400533+00:00",null,null,null,null,null,null,null,null,"PC852","Cust Area 85 TLRB","PC852-Cust Area 85 TLRB"]
[null,null,null,null,null,null,"PJ000000997","[AVP] CHOREOMUSICOLOGY in Practice","PJ000000997-[AVP] CHOREOMUSICOLOGY in Practice","Project","FD03","Active","2025-06-01T02:03:33.538516+00:00",null,null,null,null,null,null,null,null,"PCWOA","Constant Won Promo-On-air","PCWOA-Constant Won Promo-On-air"]
[null,null,null,null,null,null,"PJ000001055","[AVP] Animated Strategy Mini-Lecture","PJ000001055-[AVP] Animated Strategy Mini-Lecture","Project","FD03","Active","2025-06-01T02:03:33.538516+00:00",null,null,null,null,null,null,null,null,"PGETR","Post General Travel","PGETR-Post General Travel"]
[null,null,null,null,null,null,"PJ000001092","[AVP] L154 Phenolic Compounds","PJ000001092-[AVP] L154 Phenolic Compounds","Project","FD03","Active","2025-06-01T02:03:33.400533+00:00",null,null,null,null,null,null,null,null,"PH796","xFLSR Laundry Card Reader Upgr","PH796-xFLSR Laundry Card Reader Upgr"]
[null,null,null,null,null,null,"PJ000001322","[ADM] RPLC 20 ONGOING Light Fixtures","PJ000001322-[ADM] RPLC 20 ONGOING Light Fixtures","Project","FD06","Active","2025-06-01T02:03:31.547547+00:00",null,null,null,null,null,null,null,null,"PS001","Service Station Management","PS001-Service Station Management"]
[null,null,null,null,null,null,"PJ000001408","[ADM] ELECTRICAL PANEL & FEEDER-MC","PJ000001408-[ADM] ELECTRICAL PANEL & FEEDER-MC","Project","FD06","Active","2026-01-06T03:03:16.177871+00:00",null,null,null,null,null,null,null,null,"RAYTH","RAYTHEON","RAYTH-RAYTHEON"]
[null,null,null,null,null,null,"PJ000001489","[AVP] D2014-016 Dynamic Descendancy","PJ000001489-[AVP] D2014-016 Dynamic Descendancy","Project","FD03","Active","2025-06-01T02:03:33.476072+00:00",null,null,null,null,null,null,null,null,"RGEOE","Radio General Other","RGEOE-Radio General Other"]
[null,null,null,null,null,null,"PJ000001596","[ADM] NetSuite Closeout to 1699","PJ000001596-[ADM] NetSuite Closeout to 1699","Project","FD06","Active","2025-06-01T02:03:31.709694+00:00",null,null,null,null,null,null,null,null,"SAAS1","SaaS Software Licenses","SAAS1-SaaS Software Licenses"]
[null,null,null,null,null,null,"PJ000001632","[AVP] D2018 002 Prosthetic V Valve","PJ000001632-[AVP] D2018 002 Prosthetic V Valve","Project","FD03","Active","2025-06-01T02:03:33.476072+00:00",null,null,null,null,null,null,null,null,"SBGRS","LSND Bellini, Sarah - Grad Res","SBGRS-LSND Bellini, Sarah - Grad Res"]
[null,null,null,null,null,null,"PJ000001760","[AVP] D2012-067 Improve OCR Output","PJ000001760-[AVP] D2012-067 Improve OCR Output","Project","FD03","Active","2025-06-01T02:03:33.476072+00:00",null,null,null,null,null,null,null,null,"STXAL","State Tax - AL","STXAL-State Tax - AL"]
[null,null,null,null,null,null,"PJ000001832","[AVP] D2015-065 Table app Arch Srvy","PJ000001832-[AVP] D2015-065 Table app Arch Srvy","Project","FD03","Active","2025-06-01T02:03:33.476072+00:00",null,null,null,null,null,null,null,null,"STXWY","State Tax - WY","STXWY-State Tax - WY"]
[null,null,null,null,null,null,"PJ000001882","[BYUB] How I Got Here season 2","PJ000001882-[BYUB] How I Got Here season 2","Project","FD02","Active","2025-06-01T02:03:31.880615+00:00",null,null,null,null,null,null,null,null,"SV034","Apps & Software","SV034-Apps & Software"]
[null,null,null,null,null,null,"PJ000001956","[BYUB] Womens Conference 2023","PJ000001956-[BYUB] Womens Conference 2023","Project","FD02","Active","2025-11-14T03:03:38.875496+00:00",null,null,null,null,null,null,null,null,"TNNER","Kristine Tanner","TNNER-Kristine Tanner"]
[null,null,null,null,null,null,"PJ000001982","[AVP] L38 Design Synthesis","PJ000001982-[AVP] L38 Design Synthesis","Project","FD03","Active","2025-06-01T02:03:33.476072+00:00",null,null,null,null,null,null,null,null,"TRV34","Heating Plant Travel","TRV34-Heating Plant Travel"]
[null,null,null,null,null,null,"PJ000002063","[ARTS] Women's Conference","PJ000002063-[ARTS] Women's Conference","Project","FD02","Active","2025-06-01T02:03:33.600377+00:00",null,null,null,null,null,null,null,null,"VMCDS","Visa/Mastercard/Discover cards","VMCDS-Visa/Mastercard/Discover cards"]
[null,null,null,null,null,null,"PJ000002245","[AVP] Assessment Literacy Case","PJ000002245-[AVP] Assessment Literacy Case","Project","FD03","Active","2025-06-01T02:03:33.476072+00:00",null,null,null,null,null,null,null,null,"Z0112","Z01 Exhibition Shipping","Z0112-Z01 Exhibition Shipping"]
[null,null,null,null,null,null,"PJ000002447","[ADM] ONGOING ORGAN RETROFIT-JRMC","PJ000002447-[ADM] ONGOING ORGAN RETROFIT-JRMC","Project","FD06","Active","2025-06-01T02:03:32.335822+00:00",null,null,null,null,null,null,null,null,"Z1111","Z11 Exhibition Loan Fees","Z1111-Z11 Exhibition Loan Fees"]
[null,null,null,null,null,null,"PJ000002567","[ARTS] Fall-BYU Jazz Lab Band","PJ000002567-[ARTS] Fall-BYU Jazz Lab Band","Project","FD02","Active","2025-06-01T02:03:33.600377+00:00",null,null,null,null,null,null,null,null,"Z1614","Z16 Conservation","Z1614-Z16 Conservation"]
[null,null,null,null,null,null,"PJ000002696","[BYUB] Soccer 2023","PJ000002696-[BYUB] Soccer 2023","Project","FD02","Active","2025-11-14T03:03:38.875496+00:00"]
[null,null,null,null,null,null,"PJ000002823","[ADM] REMODEL OFFICE 350G - MCKB","PJ000002823-[ADM] REMODEL OFFICE 350G - MCKB","Project","FD06","Active","2025-09-25T02:03:44.924994+00:00"]
[null,null,null,null,null,null,"PJ000002935","[BYUB] Artful 6","PJ000002935-[BYUB] Artful 6","Project","FD02","Active","2025-06-01T02:03:32.559776+00:00"]
[null,null,null,null,null,null,"PJ000003056","[ADM] Elevator 1 -RB","PJ000003056-[ADM] Elevator 1 -RB","Project","FD06","Active","2026-01-06T03:03:16.177871+00:00"]
[null,null,null,null,null,null,"PJ000003098","[ADM] Protective Traffic Coat-TNRP","PJ000003098-[ADM] Protective Traffic Coat-TNRP","Project","FD06","Active","2025-09-25T02:03:44.924994+00:00"]
[null,null,null,null,null,null,"PJ000003158","[ADM] Oprble Wall/Overhead Door-CMPS","PJ000003158-[ADM] Oprble Wall/Overhead Door-CMPS","Project","FD06","Active","2025-11-20T03:03:04.300912+00:00"]
[null,null,null,null,null,null,"PJ000003243","[ARTS] F24 TMA Crazy for You","PJ000003243-[ARTS] F24 TMA Crazy for You","Project","FD02","Active","2025-07-09T15:05:26.077231+00:00"]
[null,null,null,null,null,null,"PJ000003309","[ADM] Lights in 183 -ASB","PJ000003309-[ADM] Lights in 183 -ASB","Project","FD06","Active","2025-09-25T02:03:44.924994+00:00"]
[null,null,null,null,null,null,"PJ000003377","[ADM] BTU Meter Rplcmts-CMPS","PJ000003377-[ADM] BTU Meter Rplcmts-CMPS","Project","FD06","Active","2025-06-01T02:03:32.794795+00:00"]
[null,null,null,null,null,null,"PJ000003439","[ADM] Light Control 151 & 251 -TNRB","PJ000003439-[ADM] Light Control 151 & 251 -TNRB","Project","FD06","Active","2025-06-01T02:03:32.794795+00:00"]
[null,null,null,null,null,null,"PJ000003507","[ADM] MODIFY DARK RM 1147&1149-HBLL","PJ000003507-[ADM] MODIFY DARK RM 1147&1149-HBLL","Project","FD06","Active","2025-06-01T02:03:32.794795+00:00"]
[null,null,null,null,null,null,"PJ000003552","[ADM] NEW FURNITURE 514 - TNRB","PJ000003552-[ADM] NEW FURNITURE 514 - TNRB","Project","FD06","Active","2025-09-25T02:03:44.924994+00:00"]
[null,null,null,null,null,null,"PJ000003589","[ATH] DESIGN SEATING SEC 3 & 4 - MC","PJ000003589-[ATH] DESIGN SEATING SEC 3 & 4 - MC","Project","FD02","Active","2026-01-06T03:03:16.177871+00:00"]
[null,null,null,null,null,null,"PJ000003649","[BYUB] Coordinators Corner 2024","PJ000003649-[BYUB] Coordinators Corner 2024","Project","FD02","Active","2025-06-01T02:03:32.895376+00:00"]
[null,null,null,null,null,null,"PJ000003718","[ADM] TV, WTBD BKCS, UPHLST CHR-MSRB","PJ000003718-[ADM] TV, WTBD BKCS, UPHLST CHR-MSRB","Project","FD06","Active","2025-09-25T02:03:47.138779+00:00"]
[null,null,null,null,null,null,"PJ000003775","[BYUB] Insurmountable","PJ000003775-[BYUB] Insurmountable","Project","FD02","Active","2025-06-01T02:03:32.895376+00:00"]
[null,null,null,null,null,null,"PJ000003825","[ADM] 2025 CNA Panel E1A - TPLE","PJ000003825-[ADM] 2025 CNA Panel E1A - TPLE","Project","FD06","Active","2025-08-27T02:03:25.749965+00:00"]
[null,null,null,null,null,null,"PJ000003874","[ADM] 2025 CNA Man Lift ML-22 - CMPS","PJ000003874-[ADM] 2025 CNA Man Lift ML-22 - CMPS","Project","FD06","Active","2025-08-28T02:03:10.309715+00:00"]
[null,null,null,null,null,null,"PJ000003906","[ADM] 2025 CNA Q Mark ElectrHtr-SPHV","PJ000003906-[ADM] 2025 CNA Q Mark ElectrHtr-SPHV","Project","FD06","Active","2025-08-28T02:03:10.309715+00:00"]
[null,null,null,null,null,null,"PJ000003988","[ADM] RLCT DR & FRNTR CHGS 2056B LSB","PJ000003988-[ADM] RLCT DR & FRNTR CHGS 2056B LSB","Project","FD06","Active","2025-11-20T03:03:04.300912+00:00"]
[null,null,null,null,null,null,"PJ000004021","[ADM] REFRESH SPACE 3760 K - HBLL","PJ000004021-[ADM] REFRESH SPACE 3760 K - HBLL","Project","FD02","Active","2025-06-01T02:03:34.017089+00:00"]
[null,null,null,null,null,null,"PJ000004051","[AER] RNVT ENTRY WY RQTBL CRT - ARQT","PJ000004051-[AER] RNVT ENTRY WY RQTBL CRT - ARQT","Project","FD02","Active","2025-06-01T02:03:34.017089+00:00"]
[null,null,null,null,null,null,"PJ000004101","[ADM] 2025 ITI AV Services Replacement","PJ000004101-[ADM] 2025 ITI AV Services Replacement","Project","FD06","Active","2025-08-26T02:03:56.455732+00:00"]
[null,null,null,null,null,null,"PJ000004157","[PFAC] LANDSCAPING: SEATING AREA (6) TREES AND LIGHTING - MC - N8079","PJ000004157-[PFAC] LANDSCAPING: SEATING AREA (6) TREES AND LIGHTING - MC - N8079","Project","FD06","Active","2025-10-23T02:03:54.846348+00:00"]
[null,null,null,null,null,null,"PJ000004246","2025 CNA RETROFIT - Restroom Retrofits - CMPS","PJ000004246-2025 CNA RETROFIT - Restroom Retrofits - CMPS","Project","FD06","Active","2025-08-27T02:03:27.861799+00:00"]
[null,null,null,null,null,null,"PJ000004293","[JER] 2025 CNA REPLACE - Audio Visual in Upper Auditorium","PJ000004293-[JER] 2025 CNA REPLACE - Audio Visual in Upper Auditorium","Project","FD06","Active","2025-06-01T02:03:36.249717+00:00"]
[null,null,null,null,null,null,"PJ000004327","[PFAC] POWER 115 - HGB","PJ000004327-[PFAC] POWER 115 - HGB","Project","FD06","Active","2025-08-22T02:03:16.895778+00:00"]
[null,null,null,null,null,null,"PJ000004359","[STLF] 2025 Replace Lights WSC Restrooms","PJ000004359-[STLF] 2025 Replace Lights WSC Restrooms","Project","FD02","Active","2025-06-01T02:03:36.367587+00:00"]
[null,null,null,null,null,null,"PJ000004392","[PFAC] NEW CONF ROOM TABLES, TV AND AV CONTROLS 324 - WSC","PJ000004392-[PFAC] NEW CONF ROOM TABLES, TV AND AV CONTROLS 324 - WSC","Project","FD02","Active","2025-08-22T02:03:16.895778+00:00"]
[null,null,null,null,null,null,"PJ000004468","2025 CNA OTHER - REPLACE POOL PUMP SEAL, SHAFT SLEEVE, IMPELLER - RB","PJ000004468-2025 CNA OTHER - REPLACE POOL PUMP SEAL, SHAFT SLEEVE, IMPELLER - RB","Project","FD06","Active","2025-10-18T02:04:13.952159+00:00"]
[null,null,null,null,null,null,"PJ000004521","[PFAC] School of Medicine Planning - BYUW - R1602","PJ000004521-[PFAC] School of Medicine Planning - BYUW - R1602","Project","FD06","Active","2025-07-09T15:05:26.077231+00:00"]
[null,null,null,null,null,null,"PJ000004572","[ARTS] Faculty Film Showcase","PJ000004572-[ARTS] Faculty Film Showcase","Project","FD02","Active","2025-12-13T03:02:47.022553+00:00"]
[null,null,null,null,null,null,"PJ000004605","[BYUB] Faith Representation and Societal Impact Study","PJ000004605-[BYUB] Faith Representation and Societal Impact Study","Project","FD02","Active","2025-08-14T09:31:04.917418+00:00"]
[null,null,null,null,null,null,"PJ000004652","[PFAC] REFRESH OFFICE FOR NEW DIRECTOR 540A - TNRB - R1434","PJ000004652-[PFAC] REFRESH OFFICE FOR NEW DIRECTOR 540A - TNRB - R1434","Project","FD06","Active","2025-09-24T02:03:43.557427+00:00"]
[null,null,null,null,null,null,"PJ000004687","[KC] Global Product Development 2026","PJ000004687-[KC] Global Product Development 2026","Project","FD02","Active","2025-10-04T02:03:37.483956+00:00"]
[null,null,null,null,null,null,"PJ000004770","[KC] Communications in Chile DE","PJ000004770-[KC] Communications in Chile DE","Project","FD02","Active","2025-10-22T02:03:25.291784+00:00"]
[null,null,null,null,null,null,"PJ000004803","[KC] Nursing SA Veteran","PJ000004803-[KC] Nursing SA Veteran","Project","FD02","Active","2025-10-22T02:03:25.291784+00:00"]
[null,null,null,null,null,null,"PJ000004830","[KC] Global Communications: Media & Culture in Europe SA 2026","PJ000004830-[KC] Global Communications: Media & Culture in Europe SA 2026","Project","FD02","Active","2025-10-23T02:03:54.846348+00:00"]
[null,null,null,null,null,null,"PJ000004884","[PFAC] NEW FURNITURE - MCKB - R2567","PJ000004884-[PFAC] NEW FURNITURE - MCKB - R2567","Project","FD06","Active","2025-11-06T03:04:41.164007+00:00"]
[null,null,null,null,null,null,"PJ000004934","[BYUB] Random Acts: Easter Special 2026","PJ000004934-[BYUB] Random Acts: Easter Special 2026","Project","FD02","Active","2025-12-19T03:03:27.504612+00:00"]
[null,null,null,null,null,null,"PJCECD-00000010_MultiMedia","300, New/Revision, Life of the Past: CE Course Design > MultiMedia    (Starts: 01/01/2025)","PJCECD-00000010_MultiMedia-300, New/Revision, Life of the Past: CE Course Design > MultiMedia    (Starts: 01/01/2025)","Project Plan","FD02","Active","2025-12-30T21:16:34.941699+00:00"]
[null,null,null,null,null,null,"PJCECD-00000028_AuthorPayment","300, New, First-Year French, Part 1: CE Course Design > Author Payment    (Starts: 01/01/2025)","PJCECD-00000028_AuthorPayment-300, New, First-Year French, Part 1: CE Course Design > Author Payment    (Starts: 01/01/2025)","Project Plan","FD02","Active","2025-12-30T21:16:34.941699+00:00"]
[null,null,null,null,null,null,"PJCECD-00000040_Instructional_Design","300, New, Health Education, Part 2: CE Course Design > Instructional Design    (Starts: 01/01/2025)","PJCECD-00000040_Instructional_Design-300, New, Health Education, Part 2: CE Course Design > Instructional Design    (Starts: 01/01/2025)","Project Plan","FD02","Active","2025-12-30T21:16:34.969167+00:00"]
[null,null,null,null,null,null,"PJCECD-00000048_MultiMedia","300, New, Eighth-Grade English, Part 1: CE Course Design > MultiMedia    (Starts: 01/01/2025)","PJCECD-00000048_MultiMedia-300, New, Eighth-Grade English, Part 1: CE Course Design > MultiMedia    (Starts: 01/01/2025)","Project Plan","FD02","Active","2025-12-30T21:16:34.941699+00:00"]
[null,null,null,null,null,null,"PJCECD-00000067_Instructional_Design","General Biology: Health and Disease: CE Course Design > Instructional Design    (Starts: 01/01/2025)","PJCECD-00000067_Instructional_Design-General Biology: Health and Disease: CE Course Design > Instructional Design    (Starts: 01/01/2025)","Project Plan","FD02","Active","2025-12-30T21:16:34.969167+00:00"]
[null,null,null,null,null,null,"PJCECD-00000070_3rdParty","Introduction to Health Professions: CE Course Design > 3rd Party    (Starts: 01/01/2025)","PJCECD-00000070_3rdParty-Introduction to Health Professions: CE Course Design > 3rd Party    (Starts: 01/01/2025)","Project Plan","FD02","Active","2025-12-30T21:16:34.969167+00:00"]
[null,null,null,null,null,null,"PJCECD-00000090_AuthorPayment","CE Course Design > Author Payment    (Starts: 01/01/2025)","PJCECD-00000090_AuthorPayment-CE Course Design > Author Payment    (Starts: 01/01/2025)","Project Plan","FD02","Active","2025-12-30T21:16:34.99753+00:00"]
[null,null,null,null,null,null,"PJCECD-00000184","[CE] ENGL 037: Eighth-Grade English, Part 2","PJCECD-00000184-[CE] ENGL 037: Eighth-Grade English, Part 2","Project","FD02","Active","2025-07-03T02:02:41.112297+00:00"]
[null,null,null,null,null,null,"PJCECD-00000225","[CE] UN PSYCH 310: Psychological Research Design and Analysis","PJCECD-00000225-[CE] UN PSYCH 310: Psychological Research Design and Analysis","Project","FD02","Active","2025-07-03T02:02:41.112297+00:00"]
[null,null,null,null,null,null,"PJCECD-00000250","[CE] HS GERM 051: Second-Year German, Part 1","PJCECD-00000250-[CE] HS GERM 051: Second-Year German, Part 1","Project","FD02","Active","2025-08-01T02:03:39.03295+00:00"]
[null,null,null,null,null,null,"PJIT-000000110","P-TNRB 151 (M3728), ceiling repairs","PJIT-000000110-P-TNRB 151 (M3728), ceiling repairs","Project","FD06","Active","2025-07-15T02:03:15.114334+00:00"]
[null,null,null,null,null,null,"PJIT-000000240","Arts 2224, Proscenium Visit Prod, (M7503) 240","PJIT-000000240-Arts 2224, Proscenium Visit Prod, (M7503) 240","Project","FD06","Active","2025-10-25T02:04:14.209509+00:00"]
[null,null,null,null,null,null,"PJIT-000000262","Arts 3145, Graphic Design Classroom 2,(M7503)  262","PJIT-000000262-Arts 3145, Graphic Design Classroom 2,(M7503)  262","Project","FD06","Active","2025-10-25T02:04:14.209509+00:00"]
[null,null,null,null,null,null,"PJIT-000000366","HBLL 4th Floor North Remodel - Paging Speakers (N2588)","PJIT-000000366-HBLL 4th Floor North Remodel - Paging Speakers (N2588)","Project","FD06","Active","2025-09-24T02:03:41.847221+00:00"]
[null,null,null,null,null,null,"PJIT-000000430","MC Lighting Control (PRJ-9763)","PJIT-000000430-MC Lighting Control (PRJ-9763)","Project","FD06","Active","2025-12-04T21:19:59.521603+00:00"]
[null,null,null,null,null,null,"PJIT-000000661","JRCB 318, Replace ''Audio Recording System'' (PRJ-10451)","PJIT-000000661-JRCB 318, Replace ''Audio Recording System'' (PRJ-10451)","Project","FD06","Active","2025-12-04T21:19:59.521603+00:00"]
[null,null,null,null,null,null,"PJIT-000000865","MSRB 250, Ceiling Replacement Temp R&R AV (M4670) (PRJ-11237)","PJIT-000000865-MSRB 250, Ceiling Replacement Temp R&R AV (M4670) (PRJ-11237)","Project","FD06","Active","2025-11-13T03:04:06.253408+00:00"]
[null,null,null,null,null,null,"PJIT-000001100","PPCW Security Camera Entrance Additions (PRJ-11661)","PJIT-000001100-PPCW Security Camera Entrance Additions (PRJ-11661)","Project","FD06","Active","2025-10-07T02:03:24.698273+00:00"]
[null,null,null,null,null,null,"PJIT-000001518","BYU Identity - Modernization Apps Dependent on PRO (Discovery)","PJIT-000001518-BYU Identity - Modernization Apps Dependent on PRO (Discovery)","Project","FD06","Active","2025-09-24T02:03:41.847221+00:00"]
[null,null,null,null,null,null,"PJIT-000001552","CB 392, Classroom Presentation System","PJIT-000001552-CB 392, Classroom Presentation System","Project","FD06","Active","2025-12-17T03:23:01.553586+00:00"]
[null,null,null,null,null,null,"PJIT-000001627","JKB 1129, Classroom Presentation System","PJIT-000001627-JKB 1129, Classroom Presentation System","Project","FD06","Active","2025-12-17T03:23:01.772599+00:00"]
[null,null,null,null,null,null,"PJIT-000001640","ESC Addition A100 Hallway, Install 75'' TV for Digital Signage (N5689)","PJIT-000001640-ESC Addition A100 Hallway, Install 75'' TV for Digital Signage (N5689)","Project","FD06","Active","2025-09-17T02:03:55.716196+00:00"]
[null,null,null,null,null,null,"PJIT-000001727","P-ELLB 104, Cat6A Upgrade","PJIT-000001727-P-ELLB 104, Cat6A Upgrade","Project","FD06","Active","2025-10-30T02:03:09.8437+00:00"]
[null,null,null,null,null,null,"PJIT-000001782","TNRB 439_442, Install (2) Apple TVs for Existing FPDs in Two Offices(N7741)","PJIT-000001782-TNRB 439_442, Install (2) Apple TVs for Existing FPDs in Two Offices(N7741)","Project","FD06","Active","2025-06-01T02:03:36.169046+00:00"]
[null,null,null,null,null,null,"PJIT-000001822","Powerstore 1 Support Renewal","PJIT-000001822-Powerstore 1 Support Renewal","Project","FD06","Active","2025-12-06T03:03:36.596228+00:00"]
[null,null,null,null,null,null,"PJIT-000001870","CB, Purchase 2 75'' FPDs to replace broken digital signage","PJIT-000001870-CB, Purchase 2 75'' FPDs to replace broken digital signage","Project","FD01","Active","2025-08-27T02:03:27.861799+00:00"]
[null,null,null,null,null,null,"PJIT-000001905","HCEB 243, Upgrade Conference Room AV","PJIT-000001905-HCEB 243, Upgrade Conference Room AV","Project","FD02","Active","2025-06-01T02:03:36.418385+00:00"]
[null,null,null,null,null,null,"PJIT-000001978","P-PBV1, Wireless Upgrade","PJIT-000001978-P-PBV1, Wireless Upgrade","Project","FD06","Active","2025-12-12T03:03:51.029197+00:00"]
[null,null,null,null,null,null,"PJIT-000002043","MB Entrances Security Camera Installations","PJIT-000002043-MB Entrances Security Camera Installations","Project","FD06","Active","2025-10-30T02:03:11.748559+00:00"]
[null,null,null,null,null,null,"PJIT-000002083","Mendix Platform Evaluation","PJIT-000002083-Mendix Platform Evaluation","Project","FD06","Active","2026-01-07T03:03:52.546525+00:00"]
[null,null,null,null,null,null,"PJIT-000002120","CMPS, Enhance & Increase Parking Enforcement","PJIT-000002120-CMPS, Enhance & Increase Parking Enforcement","Project","FD06","Active","2025-11-06T03:04:41.164007+00:00"]
[null,null,null,null,null,null,"PJIT-000002180","ENSN 910, Add AppleTV","PJIT-000002180-ENSN 910, Add AppleTV","Project","FD06","Active","2026-01-07T03:03:52.546525+00:00"]
[null,null,null,null,null,null,"PJIT-000002264","Telephone Handset Purchase","PJIT-000002264-Telephone Handset Purchase","Project","FD01","Active","2025-11-18T03:03:36.3026+00:00"]
[null,null,null,null,null,null,"PJIT-000002265","ESC S253, Install FPD, Apple TV, HDMI and Network Jack N","PJIT-000002265-ESC S253, Install FPD, Apple TV, HDMI and Network Jack N","Project","FD06","Active","2025-12-16T03:03:21.069838+00:00"]
[null,null,null,null,null,null,"PJOP-000000153","Learning & Research Tools","PJOP-000000153-Learning & Research Tools","Project","FD01","Active","2025-10-17T02:03:50.702369+00:00"]
[null,null,null,null,null,null,"PJOP-000000186","WVLB Nike Invitational 9/5/24-9/7/24 (PRJ-11335)","PJOP-000000186-WVLB Nike Invitational 9/5/24-9/7/24 (PRJ-11335)","Project","FD01","Active","2025-06-01T02:03:33.538516+00:00"]
[null,null,null,null,null,null,"PJOP-000000285","WBKB v Wyoming 11/9/24 (PRJ-11729)","PJOP-000000285-WBKB v Wyoming 11/9/24 (PRJ-11729)","Project","FD01","Active","2025-06-01T02:03:34.083341+00:00"]
[null,null,null,null,null,null,"PJOP-000000334","Provo YSA/Married Wards/Stakes Multimedia Support 2025","PJOP-000000334-Provo YSA/Married Wards/Stakes Multimedia Support 2025","Project","FD01","Active","2026-01-06T03:03:16.177871+00:00"]
[null,null,null,null,null,null,"PJOP-000000463","2025 Windows Management Operational","PJOP-000000463-2025 Windows Management Operational","Project","FD01","Active","2025-10-28T02:03:17.287068+00:00"]
[null,null,null,null,null,null,"PJOP-000000558","SOFT v Arizona 3/27/25","PJOP-000000558-SOFT v Arizona 3/27/25","Project","FD01","Active","2025-10-03T02:03:10.265704+00:00"]
[null,null,null,null,null,null,"PJOP-000000602","Commencement 4/23/25-4/24/25","PJOP-000000602-Commencement 4/23/25-4/24/25","Project","FD01","Active","2025-11-20T03:03:04.300912+00:00"]
[null,null,null,null,null,null,"PJOP-000000682","WSOC v Cincinnati 9/27/25","PJOP-000000682-WSOC v Cincinnati 9/27/25","Project","FD01","Active","2025-10-24T02:03:07.639277+00:00"]
[null,null,null,null,null,null,"PJOP-000000723","WVLB v Arizona 11/19/25","PJOP-000000723-WVLB v Arizona 11/19/25","Project","FD01","Active","2025-10-24T02:03:09.961792+00:00"]
[null,null,null,null,null,null,"PJOP-000000813","Sesquicentennial Celebration Performance 10/14/25-10/16/25","PJOP-000000813-Sesquicentennial Celebration Performance 10/14/25-10/16/25","Project","FD01","Active","2025-10-21T02:03:36.36194+00:00"]
[null,null,null,null,null,null,"PJOP-000000878","MBKB v UC Riverside 12/13/25","PJOP-000000878-MBKB v UC Riverside 12/13/25","Project","FD01","Active","2026-01-07T03:03:52.546525+00:00"]
[null,null,null,null,null,null,"PJOP-000000915","2026 Student Financial Account","PJOP-000000915-2026 Student Financial Account","Project","FD01","Active","2026-01-06T03:03:16.177871+00:00"]
[null,null,null,null,null,null,"PJOP-000000965","2026 Development Tools","PJOP-000000965-2026 Development Tools","Project","FD01","Active","2026-01-06T03:03:18.180366+00:00"]
[null,null,null,null,null,null,"PJPF-000000014","[PFAC] BENCHES FOR CITIZEN SCIENCE CENTER 2003 - MLBM - R3196","PJPF-000000014-[PFAC] BENCHES FOR CITIZEN SCIENCE CENTER 2003 - MLBM - R3196","Project","FD02","Active","2025-11-27T03:04:27.110132+00:00"]
[null,null,null,null,null,null,"PP000000034_FA_Production>Creative","FA Production > Creative    (Starts: 12/30/2023)","PP000000034_FA_Production>Creative-FA Production > Creative    (Starts: 12/30/2023)","Project Plan","FD02","Active","2025-12-30T21:16:20.786926+00:00"]
[null,null,null,null,null,null,"PP000000034_FA_Production>FA_Makeup_Hair","FA Production > FA Makeup & Hair    (Starts: 12/30/2023)","PP000000034_FA_Production>FA_Makeup_Hair-FA Production > FA Makeup & Hair    (Starts: 12/30/2023)","Project Plan","FD02","Active","2025-12-30T21:16:20.812104+00:00"]
[null,null,null,null,null,null,"PP000000082_FA_Production>Other","FA Production > Other    (Starts: 12/30/2023)","PP000000082_FA_Production>Other-FA Production > Other    (Starts: 12/30/2023)","Project Plan","FD02","Active","2025-12-30T21:16:20.837932+00:00"]
[null,null,null,null,null,null,"PP000000100_FA_Production>Scene_Shop","FA Production > Scene Shop    (Starts: 12/30/2023)","PP000000100_FA_Production>Scene_Shop-FA Production > Scene Shop    (Starts: 12/30/2023)","Project Plan","FD02","Active","2025-12-30T21:16:20.863811+00:00"]
[null,null,null,null,null,null,"PP000000132_FA_Production>Audio","FA Production > Audio    (Starts: 12/30/2023)","PP000000132_FA_Production>Audio-FA Production > Audio    (Starts: 12/30/2023)","Project Plan","FD02","Active","2025-12-30T21:16:20.916604+00:00"]
[null,null,null,null,null,null,"PP000000136_FA_Production>FA_Makeup_Hair","FA Production > FA Makeup & Hair    (Starts: 12/30/2023)","PP000000136_FA_Production>FA_Makeup_Hair-FA Production > FA Makeup & Hair    (Starts: 12/30/2023)","Project Plan","FD02","Active","2025-12-30T21:16:20.916604+00:00"]
[null,null,null,null,null,null,"PP000000146_FA_Production>FA_Makeup_Hair","FA Production > FA Makeup & Hair    (Starts: 12/30/2023)","PP000000146_FA_Production>FA_Makeup_Hair-FA Production > FA Makeup & Hair    (Starts: 12/30/2023)","Project Plan","FD02","Active","2025-12-30T21:16:21.081+00:00"]
[null,null,null,null,null,null,"PP000000152_FA_Production>Scene_Shop","FA Production > Scene Shop    (Starts: 12/30/2023)","PP000000152_FA_Production>Scene_Shop-FA Production > Scene Shop    (Starts: 12/30/2023)","Project Plan","FD02","Active","2025-12-30T21:16:21.107687+00:00"]
[null,null,null,null,null,null,"PP000000155_FA_Production>Stage_Operations","FA Production > Stage Operations    (Starts: 12/30/2023)","PP000000155_FA_Production>Stage_Operations-FA Production > Stage Operations    (Starts: 12/30/2023)","Project Plan","FD02","Active","2025-12-30T21:16:21.136891+00:00"]
[null,null,null,null,null,null,"PP000000159_FA_Production>FA_Makeup_Hair","FA Production > FA Makeup & Hair    (Starts: 12/30/2023)","PP000000159_FA_Production>FA_Makeup_Hair-FA Production > FA Makeup & Hair    (Starts: 12/30/2023)","Project Plan","FD02","Active","2025-12-30T21:16:21.136891+00:00"]
[null,null,null,null,null,null,"PP000000163_FA_Production>Lighting","FA Production > Lighting    (Starts: 12/30/2023)","PP000000163_FA_Production>Lighting-FA Production > Lighting    (Starts: 12/30/2023)","Project Plan","FD02","Active","2025-12-30T21:16:21.16227+00:00"]
[null,null,null,null,null,null,"PP000000164_FA_Production>Projection","FA Production > Projection    (Starts: 12/30/2023)","PP000000164_FA_Production>Projection-FA Production > Projection    (Starts: 12/30/2023)","Project Plan","FD02","Active","2025-12-30T21:16:21.136891+00:00"]
[null,null,null,null,null,null,"PP000000171_FA_Production>Audio","FA Production > Audio    (Starts: 12/30/2023)","PP000000171_FA_Production>Audio-FA Production > Audio    (Starts: 12/30/2023)","Project Plan","FD02","Active","2025-12-30T21:16:21.16227+00:00"]
[null,null,null,null,null,null,"PP000000173_FA_Production>FA_Makeup_Hair","FA Production > FA Makeup & Hair    (Starts: 12/30/2023)","PP000000173_FA_Production>FA_Makeup_Hair-FA Production > FA Makeup & Hair    (Starts: 12/30/2023)","Project Plan","FD02","Active","2025-12-30T21:16:21.16227+00:00"]
[null,null,null,null,null,null,"PP000000177_FA_Production>Costume_Shop","FA Production > Costume    (Starts: 12/30/2023)","PP000000177_FA_Production>Costume_Shop-FA Production > Costume    (Starts: 12/30/2023)","Project Plan","FD02","Active","2025-12-30T21:16:21.189542+00:00"]
[null,null,null,null,null,null,"PP000000180_FA_Production>Projection","Youth Ballroom Dance Camp: FA Production > Projection    (Starts: 12/30/2023)","PP000000180_FA_Production>Projection-Youth Ballroom Dance Camp: FA Production > Projection    (Starts: 12/30/2023)","Project Plan","FD02","Active","2025-12-30T21:16:21.16227+00:00"]
[null,null,null,null,null,null,"PP000000189_FA_Production>Audio","BYU Belongs: FA Production > Audio    (Starts: 12/30/2023)","PP000000189_FA_Production>Audio-BYU Belongs: FA Production > Audio    (Starts: 12/30/2023)","Project Plan","FD02","Active","2025-12-30T21:16:21.216517+00:00"]
[null,null,null,null,null,null,"PP000000189_FA_Production>Costume_Shop","BYU Belongs: FA Production > Costume    (Starts: 12/30/2023)","PP000000189_FA_Production>Costume_Shop-BYU Belongs: FA Production > Costume    (Starts: 12/30/2023)","Project Plan","FD02","Active","2025-12-30T21:16:21.216517+00:00"]
[null,null,null,null,null,null,"PP000000193_FA_Production>Creative","FA Production > Creative    (Starts: 12/30/2023)","PP000000193_FA_Production>Creative-FA Production > Creative    (Starts: 12/30/2023)","Project Plan","FD02","Active","2025-12-30T21:16:21.216517+00:00"]
[null,null,null,null,null,null,"PP000000201_FA_Production>Props","FA Production > Props    (Starts: 06/20/2024)","PP000000201_FA_Production>Props-FA Production > Props    (Starts: 06/20/2024)","Project Plan","FD02","Active","2025-12-30T21:16:21.242042+00:00"]
[null,null,null,null,null,null,"PP000000203_FA_Production>Stage_Manager","FA Production > Stage Manager    (Starts: 12/30/2023)","PP000000203_FA_Production>Stage_Manager-FA Production > Stage Manager    (Starts: 12/30/2023)","Project Plan","FD02","Active","2025-12-30T21:16:21.242042+00:00"]
[null,null,null,null,null,null,"PP000000206_FA_Production>Costume_Shop","Guest Artists: FA Production > Costume    (Starts: 12/30/2023)","PP000000206_FA_Production>Costume_Shop-Guest Artists: FA Production > Costume    (Starts: 12/30/2023)","Project Plan","FD02","Active","2025-12-30T21:16:21.216517+00:00"]
[null,null,null,null,null,null,"PP000000212_FA_Production>Audio","FA Production > Audio    (Starts: 12/30/2023)","PP000000212_FA_Production>Audio-FA Production > Audio    (Starts: 12/30/2023)","Project Plan","FD02","Active","2025-12-30T21:16:21.242042+00:00"]
[null,null,null,null,null,null,"PP000000214_FA_Production>Props","FA Production > Props    (Starts: 12/30/2023)","PP000000214_FA_Production>Props-FA Production > Props    (Starts: 12/30/2023)","Project Plan","FD02","Active","2025-12-30T21:16:21.242042+00:00"]
[null,null,null,null,null,null,"PP000000217_FA_Production>Stage_Operations","FA Production > Stage Operations    (Starts: 12/30/2023)","PP000000217_FA_Production>Stage_Operations-FA Production > Stage Operations    (Starts: 12/30/2023)","Project Plan","FD02","Active","2025-12-30T21:16:21.272576+00:00"]
[null,null,null,null,null,null,"PP000000220_FA_Production>Creative","FA Production > Creative    (Starts: 12/30/2023)","PP000000220_FA_Production>Creative-FA Production > Creative    (Starts: 12/30/2023)","Project Plan","FD02","Active","2025-12-30T21:16:21.242042+00:00"]
[null,null,null,null,null,null,"PP000000224_FA_Production>Costume_Shop","FA Production > Costume    (Starts: 12/30/2023)","PP000000224_FA_Production>Costume_Shop-FA Production > Costume    (Starts: 12/30/2023)","Project Plan","FD02","Active","2025-12-30T21:16:21.242042+00:00"]
[null,null,null,null,null,null,"PP000000225_FA_Production>Producer","FA Production > Producer    (Starts: 12/30/2023)","PP000000225_FA_Production>Producer-FA Production > Producer    (Starts: 12/30/2023)","Project Plan","FD02","Active","2025-12-30T21:16:21.305147+00:00"]
[null,null,null,null,null,null,"PP000000230_FA_Production>Stage_Operations","FA Production > Stage Operations    (Starts: 12/30/2023)","PP000000230_FA_Production>Stage_Operations-FA Production > Stage Operations    (Starts: 12/30/2023)","Project Plan","FD02","Active","2025-12-30T21:16:21.272576+00:00"]
[null,null,null,null,null,null,"PP000000233_FA_Production>Scene_Shop","FA Production > Scene Shop    (Starts: 12/30/2023)","PP000000233_FA_Production>Scene_Shop-FA Production > Scene Shop    (Starts: 12/30/2023)","Project Plan","FD02","Active","2025-12-30T21:16:21.305147+00:00"]
[null,null,null,null,null,null,"PP000000236_FA_Production>Lighting","FA Production > Lighting    (Starts: 12/30/2023)","PP000000236_FA_Production>Lighting-FA Production > Lighting    (Starts: 12/30/2023)","Project Plan","FD02","Active","2025-12-30T21:16:21.305147+00:00"]
[null,null,null,null,null,null,"PP000000238_FA_Production>Producer","FA Production > Producer    (Starts: 12/30/2023)","PP000000238_FA_Production>Producer-FA Production > Producer    (Starts: 12/30/2023)","Project Plan","FD02","Active","2025-12-30T21:16:21.305147+00:00"]
[null,null,null,null,null,null,"PP000000241_FA_Production>Scene_Shop","FA Production > Scene Shop    (Starts: 12/30/2023)","PP000000241_FA_Production>Scene_Shop-FA Production > Scene Shop    (Starts: 12/30/2023)","Project Plan","FD02","Active","2025-12-30T21:16:21.305147+00:00"]
[null,null,null,null,null,null,"PP000000245_FA_Production>Producer","FA Production > Producer    (Starts: 12/30/2023)","PP000000245_FA_Production>Producer-FA Production > Producer    (Starts: 12/30/2023)","Project Plan","FD02","Active","2025-12-30T21:16:21.33216+00:00"]
[null,null,null,null,null,null,"PP000000249_FA_Production>Lighting","FA Production > Lighting    (Starts: 12/30/2023)","PP000000249_FA_Production>Lighting-FA Production > Lighting    (Starts: 12/30/2023)","Project Plan","FD02","Active","2025-12-30T21:16:20.943423+00:00"]
[null,null,null,null,null,null,"PP000000252_FA_Production>Projection","FA Production > Projection    (Starts: 12/30/2023)","PP000000252_FA_Production>Projection-FA Production > Projection    (Starts: 12/30/2023)","Project Plan","FD02","Active","2025-12-30T21:16:20.999541+00:00"]
[null,null,null,null,null,null,"PP000000254_FA_Production>Scene_Shop","FA Production > Scene Shop    (Starts: 12/30/2023)","PP000000254_FA_Production>Scene_Shop-FA Production > Scene Shop    (Starts: 12/30/2023)","Project Plan","FD02","Active","2025-12-30T21:16:20.999541+00:00"]
[null,null,null,null,null,null,"PP000000257_FA_Production>Projection","FA Production > Projection    (Starts: 12/30/2023)","PP000000257_FA_Production>Projection-FA Production > Projection    (Starts: 12/30/2023)","Project Plan","FD02","Active","2025-12-30T21:16:20.971891+00:00"]
[null,null,null,null,null,null,"PP000000260_FA_Production>FA_Makeup_Hair","FA Production > FA Makeup & Hair    (Starts: 12/30/2023)","PP000000260_FA_Production>FA_Makeup_Hair-FA Production > FA Makeup & Hair    (Starts: 12/30/2023)","Project Plan","FD02","Active","2025-12-30T21:16:20.999541+00:00"]
[null,null,null,null,null,null,"PP000000265_FA_Production>Projection","FA Production > Projection    (Starts: 12/30/2023)","PP000000265_FA_Production>Projection-FA Production > Projection    (Starts: 12/30/2023)","Project Plan","FD02","Active","2025-12-30T21:16:20.999541+00:00"]
[null,null,null,null,null,null,"PP000000269_FA_Production>Stage_Manager","FA Production > Stage Manager    (Starts: 12/30/2023)","PP000000269_FA_Production>Stage_Manager-FA Production > Stage Manager    (Starts: 12/30/2023)","Project Plan","FD02","Active","2025-12-30T21:16:20.999541+00:00"]
[null,null,null,null,null,null,"PP000000273_FA_Production>Other","FA Production > Other    (Starts: 12/30/2023)","PP000000273_FA_Production>Other-FA Production > Other    (Starts: 12/30/2023)","Project Plan","FD02","Active","2025-12-30T21:16:21.33216+00:00"]
[null,null,null,null,null,null,"PP000000274_FA_Production>FA_Makeup_Hair","FA Production > FA Makeup & Hair    (Starts: 12/30/2023)","PP000000274_FA_Production>FA_Makeup_Hair-FA Production > FA Makeup & Hair    (Starts: 12/30/2023)","Project Plan","FD02","Active","2025-12-30T21:16:21.33216+00:00"]
[null,null,null,null,null,null,"PP000000277_FA_Production>Other","FA Production > Other    (Starts: 12/30/2023)","PP000000277_FA_Production>Other-FA Production > Other    (Starts: 12/30/2023)","Project Plan","FD02","Active","2025-12-30T21:16:21.33216+00:00"]
[null,null,null,null,null,null,"PP000000282_FA_Production>Stage_Manager","FA Production > Stage Manager    (Starts: 12/30/2023)","PP000000282_FA_Production>Stage_Manager-FA Production > Stage Manager    (Starts: 12/30/2023)","Project Plan","FD02","Active","2025-12-30T21:16:21.33216+00:00"]
[null,null,null,null,null,null,"PP000000285_FA_Production>FA_Makeup_Hair","FA Production > FA Makeup & Hair    (Starts: 12/30/2023)","PP000000285_FA_Production>FA_Makeup_Hair-FA Production > FA Makeup & Hair    (Starts: 12/30/2023)","Project Plan","FD02","Active","2025-12-30T21:16:21.029116+00:00"]
[null,null,null,null,null,null,"PP000000289_FA_Production>Front_of_House","FA Production > Front of House    (Starts: 12/30/2023)","PP000000289_FA_Production>Front_of_House-FA Production > Front of House    (Starts: 12/30/2023)","Project Plan","FD02","Active","2025-12-30T21:16:21.029116+00:00"]
[null,null,null,null,null,null,"PP000000291_FA_Production>Other","FA Production > Other    (Starts: 12/30/2023)","PP000000291_FA_Production>Other-FA Production > Other    (Starts: 12/30/2023)","Project Plan","FD02","Active","2025-12-30T21:16:21.029116+00:00"]
[null,null,null,null,null,null,"PP000000763_FA_Production>Props","FA Production > Props    (Starts: 05/01/2024)","PP000000763_FA_Production>Props-FA Production > Props    (Starts: 05/01/2024)","Project Plan","FD02","Active","2025-12-30T21:16:21.029116+00:00"]
[null,null,null,null,null,null,"PP000000863_FA_Production>FA_Makeup_Hair","FA Production > FA Makeup & Hair    (Starts: 12/30/2023)","PP000000863_FA_Production>FA_Makeup_Hair-FA Production > FA Makeup & Hair    (Starts: 12/30/2023)","Project Plan","FD02","Active","2025-12-30T21:16:21.081+00:00"]
[null,null,null,null,null,null,"PP000000893_FA_Production>FA_Makeup_Hair","FA Production > FA Makeup & Hair    (Starts: 12/30/2023)","PP000000893_FA_Production>FA_Makeup_Hair-FA Production > FA Makeup & Hair    (Starts: 12/30/2023)","Project Plan","FD02","Active","2025-12-30T21:16:21.081+00:00"]
[null,null,null,null,null,null,"PP000000922_FA_Production>Other","FA Production > Other    (Starts: 12/30/2023)","PP000000922_FA_Production>Other-FA Production > Other    (Starts: 12/30/2023)","Project Plan","FD02","Active","2025-12-30T21:16:21.081+00:00"]
[null,null,null,null,null,null,"PP000000924_FA_Production>Stage_Operations","FA Production > Stage Operations    (Starts: 12/30/2023)","PP000000924_FA_Production>Stage_Operations-FA Production > Stage Operations    (Starts: 12/30/2023)","Project Plan","FD02","Active","2025-12-30T21:16:21.107687+00:00"]
[null,null,null,null,null,null,"PP000001027_FA_Production>Stage_Manager","FA Production > Stage Manager    (Starts: 12/30/2023)","PP000001027_FA_Production>Stage_Manager-FA Production > Stage Manager    (Starts: 12/30/2023)","Project Plan","FD02","Active","2025-12-30T21:16:21.189542+00:00"]
[null,null,null,null,null,null,"PP000001031_FA_Production>Costume_Shop","FA Production > Costume    (Starts: 12/30/2023)","PP000001031_FA_Production>Costume_Shop-FA Production > Costume    (Starts: 12/30/2023)","Project Plan","FD02","Active","2025-12-30T21:16:21.216517+00:00"]
[null,null,null,null,null,null,"PP000001073_Above_the_Line>Producers","Above the Line > Producers    (Starts: 01/01/2024)","PP000001073_Above_the_Line>Producers-Above the Line > Producers    (Starts: 01/01/2024)","Project Plan","FD02","Active","2025-12-30T21:16:14.529769+00:00"]
[null,null,null,null,null,null,"PP000001073_General>Production_Assistants","General > Production Assistants    (Starts: 01/01/2024)","PP000001073_General>Production_Assistants-General > Production Assistants    (Starts: 01/01/2024)","Project Plan","FD02","Active","2025-12-30T21:16:14.529769+00:00"]
[null,null,null,null,null,null,"PP000001085_General>Production_Assistants","General > Production Assistants    (Starts: 01/01/2022)","PP000001085_General>Production_Assistants-General > Production Assistants    (Starts: 01/01/2022)","Project Plan","FD02","Active","2025-12-30T21:16:17.188925+00:00"]
[null,null,null,null,null,null,"PP000001086_Development>Art","BYUB Development > Art    (Starts: 01/01/2022)","PP000001086_Development>Art-BYUB Development > Art    (Starts: 01/01/2022)","Project Plan","FD02","Active","2025-12-30T21:16:17.188925+00:00"]
[null,null,null,null,null,null,"PP000001086_Production>Engineering","Production > Engineering    (Starts: 01/01/2022)","PP000001086_Production>Engineering-Production > Engineering    (Starts: 01/01/2022)","Project Plan","FD02","Active","2025-12-30T21:16:17.188925+00:00"]
[null,null,null,null,null,null,"PP000001567_OIT_a_Deliver","OIT > Deliver  (01/01/2025 - 12/31/2025)","PP000001567_OIT_a_Deliver-OIT > Deliver  (01/01/2025 - 12/31/2025)","Project Plan","FD06","Active","2025-12-30T21:16:34.83419+00:00"]
[null,null,null,null,null,null,"PP000001620_OIT_a_Deliver","OIT > Deliver  (01/01/2025 - 12/31/2025)","PP000001620_OIT_a_Deliver-OIT > Deliver  (01/01/2025 - 12/31/2025)","Project Plan","FD06","Active","2025-12-30T21:16:35.052633+00:00"]
[null,null,null,null,null,null,"PP000001654_OIT_a_Deliver","OIT > Deliver  (01/01/2025 - 12/31/2025)","PP000001654_OIT_a_Deliver-OIT > Deliver  (01/01/2025 - 12/31/2025)","Project Plan","FD06","Active","2025-12-30T21:16:34.99753+00:00"]
[null,null,null,null,null,null,"PP000001687_OIT_a_Deliver","OIT > Deliver  (01/01/2025 - 12/31/2025)","PP000001687_OIT_a_Deliver-OIT > Deliver  (01/01/2025 - 12/31/2025)","Project Plan","FD06","Active","2025-12-30T21:16:34.99753+00:00"]
[null,null,null,null,null,null,"PP000001762_OIT_a_Deliver","OIT > Deliver  (01/01/2025 - 12/31/2025)","PP000001762_OIT_a_Deliver-OIT > Deliver  (01/01/2025 - 12/31/2025)","Project Plan","FD01","Active","2025-12-30T21:16:35.179879+00:00"]
[null,null,null,null,null,null,"PP000001780_OIT_a_Deliver","OIT > Deliver  (01/01/2025 - 12/31/2025)","PP000001780_OIT_a_Deliver-OIT > Deliver  (01/01/2025 - 12/31/2025)","Project Plan","FD06","Active","2026-01-06T03:03:18.180366+00:00"]
[null,null,null,null,null,null,"PP000001799_Post_Production>Editing","Post Production > Editing    (Starts: 04/20/2022)","PP000001799_Post_Production>Editing-Post Production > Editing    (Starts: 04/20/2022)","Project Plan","FD02","Active","2025-12-30T21:16:18.806365+00:00"]
[null,null,null,null,null,null,"PP000001800_Production>Locations","Production > Locations    (Starts: 01/02/2024)","PP000001800_Production>Locations-Production > Locations    (Starts: 01/02/2024)","Project Plan","FD02","Active","2025-12-30T21:16:18.83494+00:00"]
[null,null,null,null,null,null,"PP000001801_Development>Rights","BYUB Development > Rights    (Starts: 01/01/2024)","PP000001801_Development>Rights-BYUB Development > Rights    (Starts: 01/01/2024)","Project Plan","FD02","Active","2025-12-30T21:16:18.83494+00:00"]
[null,null,null,null,null,null,"PP000001802_Above_the_Line>Director","Above the Line > Director    (Starts: 04/20/2022)","PP000001802_Above_the_Line>Director-Above the Line > Director    (Starts: 04/20/2022)","Project Plan","FD02","Active","2025-12-30T21:16:18.83494+00:00"]
[null,null,null,null,null,null,"PP000001802_Post_Production>QC","Post Production > QC    (Starts: 04/20/2022)","PP000001802_Post_Production>QC-Post Production > QC    (Starts: 04/20/2022)","Project Plan","FD02","Active","2025-12-30T21:16:18.83494+00:00"]
[null,null,null,null,null,null,"PP000001803_Production>Production_Assistants","Production > Production Assistants    (Starts: 01/01/2024)","PP000001803_Production>Production_Assistants-Production > Production Assistants    (Starts: 01/01/2024)","Project Plan","FD02","Active","2025-12-30T21:16:18.863299+00:00"]
[null,null,null,null,null,null,"PP000001804_Above_the_Line>Executive_Producer_Management","Above the Line > Executive Producer/Management    (Starts: 04/20/2022)","PP000001804_Above_the_Line>Executive_Producer_Management-Above the Line > Executive Producer/Management    (Starts: 04/20/2022)","Project Plan","FD02","Active","2025-12-30T21:16:17.188925+00:00"]
[null,null,null,null,null,null,"PP000001805_Above_the_Line>Producers","Above the Line > Producers    (Starts: 01/02/2024)","PP000001805_Above_the_Line>Producers-Above the Line > Producers    (Starts: 01/02/2024)","Project Plan","FD02","Active","2025-12-30T21:16:17.488969+00:00"]
[null,null,null,null,null,null,"PP000001805_Production>Rights","Production > Rights    (Starts: 01/02/2024)","PP000001805_Production>Rights-Production > Rights    (Starts: 01/02/2024)","Project Plan","FD02","Active","2025-12-30T21:16:17.488969+00:00"]
[null,null,null,null,null,null,"PP000001806_General>Production_Assistants","General > Production Assistants    (Starts: 08/01/2024)","PP000001806_General>Production_Assistants-General > Production Assistants    (Starts: 08/01/2024)","Project Plan","FD02","Active","2025-12-30T21:16:17.339255+00:00"]
[null,null,null,null,null,null,"PP000001807_Production>Art","Production > Art    (Starts: 01/02/2024)","PP000001807_Production>Art-Production > Art    (Starts: 01/02/2024)","Project Plan","FD02","Active","2025-12-30T21:16:17.607597+00:00"]
[null,null,null,null,null,null,"PP000001808_Key_Creative>Marketing_Day","BYUB Marketing/Key Creative > Marketing Day    (Starts: 08/01/2024)","PP000001808_Key_Creative>Marketing_Day-BYUB Marketing/Key Creative > Marketing Day    (Starts: 08/01/2024)","Project Plan","FD02","Active","2025-12-30T21:16:17.339255+00:00"]
[null,null,null,null,null,null,"PP000001808_Production>Tape","Production > Tape    (Starts: 08/01/2024)","PP000001808_Production>Tape-Production > Tape    (Starts: 08/01/2024)","Project Plan","FD02","Active","2025-12-30T21:16:17.339255+00:00"]
[null,null,null,null,null,null,"PP000001809_Production>Production_Assistants","Production > Production Assistants    (Starts: 08/01/2024)","PP000001809_Production>Production_Assistants-Production > Production Assistants    (Starts: 08/01/2024)","Project Plan","FD02","Active","2025-12-30T21:16:17.607597+00:00"]
[null,null,null,null,null,null,"PP000001810_Development>Casting","BYUB Development > Casting    (Starts: 01/02/2024)","PP000001810_Development>Casting-BYUB Development > Casting    (Starts: 01/02/2024)","Project Plan","FD02","Active","2025-12-30T21:16:17.339255+00:00"]
[null,null,null,null,null,null,"PP000001810_Production>Engineering","Production > Engineering    (Starts: 01/02/2024)","PP000001810_Production>Engineering-Production > Engineering    (Starts: 01/02/2024)","Project Plan","FD02","Active","2025-12-30T21:16:17.339255+00:00"]
[null,null,null,null,null,null,"PP000001811_OIT_a_Deliver","OIT > Deliver  (01/01/2025 - 12/31/2025)","PP000001811_OIT_a_Deliver-OIT > Deliver  (01/01/2025 - 12/31/2025)","Project Plan","FD06","Active","2026-01-07T03:03:53.142333+00:00"]
[null,null,null,null,null,null,"PP000001812_Production>Electric","Production > Electric    (Starts: 04/20/2022)","PP000001812_Production>Electric-Production > Electric    (Starts: 04/20/2022)","Project Plan","FD02","Active","2025-12-30T21:16:17.488969+00:00"]
[null,null,null,null,null,null,"PP000001813_Development>Locations","BYUB Development > Locations    (Starts: 01/01/2024)","PP000001813_Development>Locations-BYUB Development > Locations    (Starts: 01/01/2024)","Project Plan","FD02","Active","2025-12-30T21:16:17.73703+00:00"]
[null,null,null,null,null,null,"PP000001813_Production>Video_Control","Production > Video Control    (Starts: 01/01/2024)","PP000001813_Production>Video_Control-Production > Video Control    (Starts: 01/01/2024)","Project Plan","FD02","Active","2025-12-30T21:16:17.73703+00:00"]
[null,null,null,null,null,null,"PP000001814_Post_Production>Editing","Post Production > Editing    (Starts: 01/01/2024)","PP000001814_Post_Production>Editing-Post Production > Editing    (Starts: 01/01/2024)","Project Plan","FD02","Active","2025-12-30T21:16:17.488969+00:00"]
[null,null,null,null,null,null,"PP000001815_Key_Creative>Promos","BYUB Marketing/Key Creative > Video Promos    (Starts: 04/20/2022)","PP000001815_Key_Creative>Promos-BYUB Marketing/Key Creative > Video Promos    (Starts: 04/20/2022)","Project Plan","FD02","Active","2025-12-30T21:16:17.73703+00:00"]
[null,null,null,null,null,null,"PP000001816_Post_Production>Graphics","Post Production > Graphics    (Starts: 08/01/2024)","PP000001816_Post_Production>Graphics-Post Production > Graphics    (Starts: 08/01/2024)","Project Plan","FD02","Active","2025-12-30T21:16:17.607597+00:00"]
[null,null,null,null,null,null,"PP000001817_Above_the_Line>Director","Above the Line > Director    (Starts: 04/20/2022)","PP000001817_Above_the_Line>Director-Above the Line > Director    (Starts: 04/20/2022)","Project Plan","FD02","Active","2025-12-30T21:16:17.835971+00:00"]
[null,null,null,null,null,null,"PP000001817_Production>Miscellaneous_Crew","Production > Miscellaneous Crew    (Starts: 04/20/2022)","PP000001817_Production>Miscellaneous_Crew-Production > Miscellaneous Crew    (Starts: 04/20/2022)","Project Plan","FD02","Active","2025-12-30T21:16:17.835971+00:00"]
[null,null,null,null,null,null,"PP000001818_Development>Miscellaneous_Crew","BYUB Development > Miscellaneous Crew    (Starts: 07/01/2024)","PP000001818_Development>Miscellaneous_Crew-BYUB Development > Miscellaneous Crew    (Starts: 07/01/2024)","Project Plan","FD02","Active","2025-12-30T21:16:17.73703+00:00"]
[null,null,null,null,null,null,"PP000001819_Post_Production>Rights","Post Production > Rights    (Starts: 08/01/2024)","PP000001819_Post_Production>Rights-Post Production > Rights    (Starts: 08/01/2024)","Project Plan","FD02","Active","2025-12-30T21:16:17.835971+00:00"]
[null,null,null,null,null,null,"PP000001844_OIT_a_Deliver","OIT > Deliver  (01/01/2025 - 12/31/2025)","PP000001844_OIT_a_Deliver-OIT > Deliver  (01/01/2025 - 12/31/2025)","Project Plan","FD06","Active","2026-01-07T03:03:53.142333+00:00"]
[null,null,null,null,null,null,"PP000001866_Development>General_Expenses","BYUB Development > General Expenses    (Starts: 08/01/2024)","PP000001866_Development>General_Expenses-BYUB Development > General Expenses    (Starts: 08/01/2024)","Project Plan","FD02","Active","2025-12-30T21:16:18.052074+00:00"]
[null,null,null,null,null,null,"PP000001867_Above_the_Line>Producers","Above the Line > Producers    (Starts: 04/20/2022)","PP000001867_Above_the_Line>Producers-Above the Line > Producers    (Starts: 04/20/2022)","Project Plan","FD02","Active","2025-12-30T21:16:17.835971+00:00"]
[null,null,null,null,null,null,"PP000001867_Post_Production>Closed_Captioning","Post Production > Closed Captioning    (Starts: 04/20/2022)","PP000001867_Post_Production>Closed_Captioning-Post Production > Closed Captioning    (Starts: 04/20/2022)","Project Plan","FD02","Active","2025-12-30T21:16:17.959683+00:00"]
[null,null,null,null,null,null,"PP000001867_Production>Video_Control","Production > Video Control    (Starts: 04/20/2022)","PP000001867_Production>Video_Control-Production > Video Control    (Starts: 04/20/2022)","Project Plan","FD02","Active","2025-12-30T21:16:17.959683+00:00"]
[null,null,null,null,null,null,"PP000001868_Production>Grip","Production > Grip    (Starts: 01/02/2024)","PP000001868_Production>Grip-Production > Grip    (Starts: 01/02/2024)","Project Plan","FD02","Active","2025-12-30T21:16:18.052074+00:00"]
[null,null,null,null,null,null,"PP000001869_Production>Technical_Director","Production > Technical Director    (Starts: 01/02/2024)","PP000001869_Production>Technical_Director-Production > Technical Director    (Starts: 01/02/2024)","Project Plan","FD02","Active","2025-12-30T21:16:17.959683+00:00"]
[null,null,null,null,null,null,"PP000001870_Production>Locations","Production > Locations    (Starts: 01/02/2024)","PP000001870_Production>Locations-Production > Locations    (Starts: 01/02/2024)","Project Plan","FD02","Active","2025-12-30T21:16:18.143137+00:00"]
[null,null,null,null,null,null,"PP000001871_Development>Production_Management","BYUB Development > Production Management    (Starts: 04/20/2022)","PP000001871_Development>Production_Management-BYUB Development > Production Management    (Starts: 04/20/2022)","Project Plan","FD02","Active","2025-12-30T21:16:17.959683+00:00"]
[null,null,null,null,null,null,"PP000001872_Development>Editing","BYUB Development > Editing    (Starts: 01/02/2024)","PP000001872_Development>Editing-BYUB Development > Editing    (Starts: 01/02/2024)","Project Plan","FD02","Active","2025-12-30T21:16:18.206604+00:00"]
[null,null,null,null,null,null,"PP000001872_Post_Production>QC","Post Production > QC    (Starts: 01/02/2024)","PP000001872_Post_Production>QC-Post Production > QC    (Starts: 01/02/2024)","Project Plan","FD02","Active","2025-12-30T21:16:18.206604+00:00"]
[null,null,null,null,null,null,"PP000001873_Production>Production_Assistants","Production > Production Assistants    (Starts: 02/03/2023)","PP000001873_Production>Production_Assistants-Production > Production Assistants    (Starts: 02/03/2023)","Project Plan","FD02","Active","2025-12-30T21:16:17.835971+00:00"]
[null,null,null,null,null,null,"PP000001874_General>Fringe_Benefit","General > Fringe Benefit    (Starts: 04/20/2022)","PP000001874_General>Fringe_Benefit-General > Fringe Benefit    (Starts: 04/20/2022)","Project Plan","FD02","Active","2025-12-30T21:16:18.052074+00:00"]
[null,null,null,null,null,null,"PP000001874_Production>Transportation","Production > Transportation    (Starts: 04/20/2022)","PP000001874_Production>Transportation-Production > Transportation    (Starts: 04/20/2022)","Project Plan","FD02","Active","2025-12-30T21:16:18.052074+00:00"]
[null,null,null,null,null,null,"PP000001875_Post_Production>VFX","Post Production > VFX    (Starts: 01/01/2022)","PP000001875_Post_Production>VFX-Post Production > VFX    (Starts: 01/01/2022)","Project Plan","FD02","Active","2025-12-30T21:16:18.052074+00:00"]
[null,null,null,null,null,null,"PP000001876_General>Production_Assistants","General > Production Assistants    (Starts: 01/01/2022)","PP000001876_General>Production_Assistants-General > Production Assistants    (Starts: 01/01/2022)","Project Plan","FD02","Active","2025-12-30T21:16:18.253232+00:00"]
[null,null,null,null,null,null,"PP000001877_Production>Camera","Production > Camera    (Starts: 01/01/2022)","PP000001877_Production>Camera-Production > Camera    (Starts: 01/01/2022)","Project Plan","FD02","Active","2025-12-30T21:16:18.143137+00:00"]
[null,null,null,null,null,null,"PP000001877_Production>Locations","Production > Locations    (Starts: 01/01/2022)","PP000001877_Production>Locations-Production > Locations    (Starts: 01/01/2022)","Project Plan","FD02","Active","2025-12-30T21:16:18.143137+00:00"]
[null,null,null,null,null,null,"PP000001878_Production>Technical_Director","Production > Technical Director    (Starts: 01/02/2024)","PP000001878_Production>Technical_Director-Production > Technical Director    (Starts: 01/02/2024)","Project Plan","FD02","Active","2025-12-30T21:16:18.253232+00:00"]
[null,null,null,null,null,null,"PP000001879_Key_Creative>Social_Media","BYUB Marketing/Key Creative > Social Media    (Starts: 01/01/2022)","PP000001879_Key_Creative>Social_Media-BYUB Marketing/Key Creative > Social Media    (Starts: 01/01/2022)","Project Plan","FD02","Active","2025-12-30T21:16:18.143137+00:00"]
[null,null,null,null,null,null,"PP000001880_Development>Editing","BYUB Development > Editing    (Starts: 01/01/2024)","PP000001880_Development>Editing-BYUB Development > Editing    (Starts: 01/01/2024)","Project Plan","FD02","Active","2025-12-30T21:16:18.323428+00:00"]
[null,null,null,null,null,null,"PP000001881_Development>Producers","BYUB Development > Producers    (Starts: 01/02/2024)","PP000001881_Development>Producers-BYUB Development > Producers    (Starts: 01/02/2024)","Project Plan","FD02","Active","2025-12-30T21:16:18.206604+00:00"]
[null,null,null,null,null,null,"PP000001881_Production>Travel_Living","Production > Travel & Living    (Starts: 01/02/2024)","PP000001881_Production>Travel_Living-Production > Travel & Living    (Starts: 01/02/2024)","Project Plan","FD02","Active","2025-12-30T21:16:18.206604+00:00"]
[null,null,null,null,null,null,"PP000001882_Production>Floor_Director","Production > Floor Director    (Starts: 01/01/2022)","PP000001882_Production>Floor_Director-Production > Floor Director    (Starts: 01/01/2022)","Project Plan","FD02","Active","2025-12-30T21:16:18.323428+00:00"]
[null,null,null,null,null,null,"PP000001883_Development>Miscellaneous_Crew","BYUB Development > Miscellaneous Crew    (Starts: 01/01/2022)","PP000001883_Development>Miscellaneous_Crew-BYUB Development > Miscellaneous Crew    (Starts: 01/01/2022)","Project Plan","FD02","Active","2025-12-30T21:16:18.206604+00:00"]
[null,null,null,null,null,null,"PP000001884_Above_the_Line>Research","Above the Line > Research    (Starts: 01/01/2022)","PP000001884_Above_the_Line>Research-Above the Line > Research    (Starts: 01/01/2022)","Project Plan","FD02","Active","2025-12-30T21:16:18.359121+00:00"]
[null,null,null,null,null,null,"PP000001884_Post_Production>Editing","Post Production > Editing    (Starts: 01/01/2022)","PP000001884_Post_Production>Editing-Post Production > Editing    (Starts: 01/01/2022)","Project Plan","FD02","Active","2025-12-30T21:16:18.359121+00:00"]
[null,null,null,null,null,null,"PP000001885_Production>Locations","Production > Locations    (Starts: 01/01/2022)","PP000001885_Production>Locations-Production > Locations    (Starts: 01/01/2022)","Project Plan","FD02","Active","2025-12-30T21:16:18.253232+00:00"]
[null,null,null,null,null,null,"PP000001886_Post_Production>Music","Post Production > Music    (Starts: 01/01/2022)","PP000001886_Post_Production>Music-Post Production > Music    (Starts: 01/01/2022)","Project Plan","FD02","Active","2025-12-30T21:16:18.359121+00:00"]
[null,null,null,null,null,null,"PP000001886_Production>Rights","Production > Rights    (Starts: 01/01/2022)","PP000001886_Production>Rights-Production > Rights    (Starts: 01/01/2022)","Project Plan","FD02","Active","2025-12-30T21:16:18.359121+00:00"]
[null,null,null,null,null,null,"PP000001887_Post_Production>QC","Post Production > QC    (Starts: 05/01/2024)","PP000001887_Post_Production>QC-Post Production > QC    (Starts: 05/01/2024)","Project Plan","FD02","Active","2025-12-30T21:16:18.323428+00:00"]
[null,null,null,null,null,null,"PP000001888_Development>Writers","BYUB Development > Writers    (Starts: 01/01/2022)","PP000001888_Development>Writers-BYUB Development > Writers    (Starts: 01/01/2022)","Project Plan","FD02","Active","2025-12-30T21:16:18.359121+00:00"]
[null,null,null,null,null,null,"PP000001889_Post_Production>Sound","Post Production > Audio    (Starts: 01/01/2022)","PP000001889_Post_Production>Sound-Post Production > Audio    (Starts: 01/01/2022)","Project Plan","FD02","Active","2025-12-30T21:16:18.253232+00:00"]
[null,null,null,null,null,null,"PP000001889_Production>Engineering","Production > Engineering    (Starts: 01/01/2022)","PP000001889_Production>Engineering-Production > Engineering    (Starts: 01/01/2022)","Project Plan","FD02","Active","2025-12-30T21:16:18.323428+00:00"]
[null,null,null,null,null,null,"PP000001936_Development>Director","BYUB Development > Director    (Starts: 01/01/2024)","PP000001936_Development>Director-BYUB Development > Director    (Starts: 01/01/2024)","Project Plan","FD02","Active","2025-12-30T21:16:18.863299+00:00"]
[null,null,null,null,null,null,"PP000001936_Production>Equipment","Production > Equipment    (Starts: 01/01/2024)","PP000001936_Production>Equipment-Production > Equipment    (Starts: 01/01/2024)","Project Plan","FD02","Active","2025-12-30T21:16:18.863299+00:00"]
[null,null,null,null,null,null,"PP000001937_Development>General_Expenses","BYUB Development > General Expenses    (Starts: 01/01/2022)","PP000001937_Development>General_Expenses-BYUB Development > General Expenses    (Starts: 01/01/2022)","Project Plan","FD02","Active","2025-12-30T21:16:18.893187+00:00"]
[null,null,null,null,null,null,"PP000001937_Production>Travel_Living","Production > Travel & Living    (Starts: 01/01/2022)","PP000001937_Production>Travel_Living-Production > Travel & Living    (Starts: 01/01/2022)","Project Plan","FD02","Active","2025-12-30T21:16:18.893187+00:00"]
[null,null,null,null,null,null,"PP000001939_Development>Locations","BYUB Development > Locations    (Starts: 01/01/2022)","PP000001939_Development>Locations-BYUB Development > Locations    (Starts: 01/01/2022)","Project Plan","FD02","Active","2025-12-30T21:16:18.893187+00:00"]
[null,null,null,null,null,null,"PP000001939_Production>Video_Control","Production > Video Control    (Starts: 01/01/2022)","PP000001939_Production>Video_Control-Production > Video Control    (Starts: 01/01/2022)","Project Plan","FD02","Active","2025-12-30T21:16:18.893187+00:00"]
[null,null,null,null,null,null,"PP000001940_Production>Locations","Production > Locations    (Starts: 01/01/2024)","PP000001940_Production>Locations-Production > Locations    (Starts: 01/01/2024)","Project Plan","FD02","Active","2025-12-30T21:16:18.83494+00:00"]
[null,null,null,null,null,null,"PP000001941_Development>Music","BYUB Development > Music    (Starts: 01/01/2022)","PP000001941_Development>Music-BYUB Development > Music    (Starts: 01/01/2022)","Project Plan","FD02","Active","2025-12-30T21:16:18.893187+00:00"]
[null,null,null,null,null,null,"PP000001941_Production>Locations","Production > Locations    (Starts: 01/01/2022)","PP000001941_Production>Locations-Production > Locations    (Starts: 01/01/2022)","Project Plan","FD02","Active","2025-12-30T21:16:18.921824+00:00"]
[null,null,null,null,null,null,"PP000001943_Above_the_Line>Director","Above the Line > Director    (Starts: 01/01/2022)","PP000001943_Above_the_Line>Director-Above the Line > Director    (Starts: 01/01/2022)","Project Plan","FD02","Active","2025-12-30T21:16:18.437079+00:00"]
[null,null,null,null,null,null,"PP000001943_Post_Production>Graphics","Post Production > Graphics    (Starts: 01/01/2022)","PP000001943_Post_Production>Graphics-Post Production > Graphics    (Starts: 01/01/2022)","Project Plan","FD02","Active","2025-12-30T21:16:18.437079+00:00"]
[null,null,null,null,null,null,"PP000001944_Development>Rights","BYUB Development > Rights    (Starts: 01/01/2022)","PP000001944_Development>Rights-BYUB Development > Rights    (Starts: 01/01/2022)","Project Plan","FD02","Active","2025-12-30T21:16:18.399821+00:00"]
[null,null,null,null,null,null,"PP000001944_Production>Production_Assistants","Production > Production Assistants    (Starts: 01/01/2022)","PP000001944_Production>Production_Assistants-Production > Production Assistants    (Starts: 01/01/2022)","Project Plan","FD02","Active","2025-12-30T21:16:18.399821+00:00"]
[null,null,null,null,null,null,"PP000001945_Post_Production>Sound","Post Production > Audio    (Starts: 01/01/2022)","PP000001945_Post_Production>Sound-Post Production > Audio    (Starts: 01/01/2022)","Project Plan","FD02","Active","2025-12-30T21:16:18.437079+00:00"]
[null,null,null,null,null,null,"PP000001946_General>General_Expenses","General > General Expenses    (Starts: 01/01/2022)","PP000001946_General>General_Expenses-General > General Expenses    (Starts: 01/01/2022)","Project Plan","FD02","Active","2025-12-30T21:16:18.399821+00:00"]
[null,null,null,null,null,null,"PP000001947_Post_Production>VFX","Post Production > VFX    (Starts: 01/01/2022)","PP000001947_Post_Production>VFX-Post Production > VFX    (Starts: 01/01/2022)","Project Plan","FD02","Active","2025-12-30T21:16:18.516666+00:00"]
[null,null,null,null,null,null,"PP000001948_Above_the_Line>Talent","Above the Line > Talent    (Starts: 01/01/2022)","PP000001948_Above_the_Line>Talent-Above the Line > Talent    (Starts: 01/01/2022)","Project Plan","FD02","Active","2025-12-30T21:16:18.399821+00:00"]
[null,null,null,null,null,null,"PP000001948_Production>Camera","Production > Camera    (Starts: 01/01/2022)","PP000001948_Production>Camera-Production > Camera    (Starts: 01/01/2022)","Project Plan","FD02","Active","2025-12-30T21:16:18.399821+00:00"]
[null,null,null,null,null,null,"PP000001949_Production>Production_Management","Production > Production Management    (Starts: 01/01/2022)","PP000001949_Production>Production_Management-Production > Production Management    (Starts: 01/01/2022)","Project Plan","FD02","Active","2025-12-30T21:16:18.475102+00:00"]
[null,null,null,null,null,null,"PP000001949_Production>Tape","Production > Tape    (Starts: 01/01/2022)","PP000001949_Production>Tape-Production > Tape    (Starts: 01/01/2022)","Project Plan","FD02","Active","2025-12-30T21:16:18.475102+00:00"]
[null,null,null,null,null,null,"PP000001950_Production>Electric","Production > Electric    (Starts: 01/01/2022)","PP000001950_Production>Electric-Production > Electric    (Starts: 01/01/2022)","Project Plan","FD02","Active","2025-12-30T21:16:18.399821+00:00"]
[null,null,null,null,null,null,"PP000001951_Production>Teleprompter","Production > Teleprompter    (Starts: 04/13/2023)","PP000001951_Production>Teleprompter-Production > Teleprompter    (Starts: 04/13/2023)","Project Plan","FD02","Active","2025-12-30T21:16:18.56625+00:00"]
[null,null,null,null,null,null,"PP000001952_Production>Electric","Production > Electric    (Starts: 01/01/2023)","PP000001952_Production>Electric-Production > Electric    (Starts: 01/01/2023)","Project Plan","FD02","Active","2025-12-30T21:16:18.437079+00:00"]
[null,null,null,null,null,null,"PP000001953_Development>Editing","BYUB Development > Editing    (Starts: 01/01/2023)","PP000001953_Development>Editing-BYUB Development > Editing    (Starts: 01/01/2023)","Project Plan","FD02","Active","2025-12-30T21:16:18.56625+00:00"]
[null,null,null,null,null,null,"PP000001953_Production>Facilities","Production > Facilities    (Starts: 01/01/2023)","PP000001953_Production>Facilities-Production > Facilities    (Starts: 01/01/2023)","Project Plan","FD02","Active","2025-12-30T21:16:18.56625+00:00"]
[null,null,null,null,null,null,"PP000001954_Production>Transportation","Production > Transportation    (Starts: 01/01/2023)","PP000001954_Production>Transportation-Production > Transportation    (Starts: 01/01/2023)","Project Plan","FD02","Active","2025-12-30T21:16:18.516666+00:00"]
[null,null,null,null,null,null,"PP000001955_Production>Floor_Director","Production > Floor Director    (Starts: 01/01/2023)","PP000001955_Production>Floor_Director-Production > Floor Director    (Starts: 01/01/2023)","Project Plan","FD02","Active","2025-12-30T21:16:18.599509+00:00"]
[null,null,null,null,null,null,"PP000001956_Development>Miscellaneous_Crew","BYUB Development > Miscellaneous Crew    (Starts: 01/01/2023)","PP000001956_Development>Miscellaneous_Crew-BYUB Development > Miscellaneous Crew    (Starts: 01/01/2023)","Project Plan","FD02","Active","2025-12-30T21:16:18.475102+00:00"]
[null,null,null,null,null,null,"PP000001956_Production>Wardrobe","Production > Wardrobe    (Starts: 01/01/2023)","PP000001956_Production>Wardrobe-Production > Wardrobe    (Starts: 01/01/2023)","Project Plan","FD02","Active","2025-12-30T21:16:18.475102+00:00"]
[null,null,null,null,null,null,"PP000001957_Production>Equipment","Production > Equipment    (Starts: 01/01/2023)","PP000001957_Production>Equipment-Production > Equipment    (Starts: 01/01/2023)","Project Plan","FD02","Active","2025-12-30T21:16:18.599509+00:00"]
[null,null,null,null,null,null,"PP000001958_Production>Locations","Production > Locations    (Starts: 02/27/2023)","PP000001958_Production>Locations-Production > Locations    (Starts: 02/27/2023)","Project Plan","FD02","Active","2025-12-30T21:16:18.516666+00:00"]
[null,null,null,null,null,null,"PP000001959_Post_Production>Music","APPLESEED LIVE: Post Production > Music    (Starts: 02/23/2023)","PP000001959_Post_Production>Music-APPLESEED LIVE: Post Production > Music    (Starts: 02/23/2023)","Project Plan","FD02","Active","2025-12-30T21:16:18.56625+00:00"]
[null,null,null,null,null,null,"PP000001960_Above_the_Line>Executive_Producer_Management","Above the Line > Executive Producer/Management    (Starts: 02/23/2023)","PP000001960_Above_the_Line>Executive_Producer_Management-Above the Line > Executive Producer/Management    (Starts: 02/23/2023)","Project Plan","FD02","Active","2025-12-30T21:16:18.475102+00:00"]
[null,null,null,null,null,null,"PP000001960_Post_Production>Graphics","Post Production > Graphics    (Starts: 02/23/2023)","PP000001960_Post_Production>Graphics-Post Production > Graphics    (Starts: 02/23/2023)","Project Plan","FD02","Active","2025-12-30T21:16:18.475102+00:00"]
[null,null,null,null,null,null,"PP000001961_Development>Writers","BYUB Development > Writers    (Starts: 02/23/2023)","PP000001961_Development>Writers-BYUB Development > Writers    (Starts: 02/23/2023)","Project Plan","FD02","Active","2025-12-30T21:16:18.599509+00:00"]
[null,null,null,null,null,null,"PP000001961_Production>Production_Management","Production > Production Management    (Starts: 02/23/2023)","PP000001961_Production>Production_Management-Production > Production Management    (Starts: 02/23/2023)","Project Plan","FD02","Active","2025-12-30T21:16:18.599509+00:00"]
[null,null,null,null,null,null,"PP000001962_Post_Production>VFX","Post Production > VFX    (Starts: 02/23/2023)","PP000001962_Post_Production>VFX-Post Production > VFX    (Starts: 02/23/2023)","Project Plan","FD02","Active","2025-12-30T21:16:18.56625+00:00"]
[null,null,null,null,null,null,"PP000002010_General>Fringe_Benefit","General > Fringe Benefit    (Starts: 02/23/2023)","PP000002010_General>Fringe_Benefit-General > Fringe Benefit    (Starts: 02/23/2023)","Project Plan","FD02","Active","2025-12-30T21:16:18.662623+00:00"]
[null,null,null,null,null,null,"PP000002010_Production>Equipment","Production > Equipment    (Starts: 02/23/2023)","PP000002010_Production>Equipment-Production > Equipment    (Starts: 02/23/2023)","Project Plan","FD02","Active","2025-12-30T21:16:18.662623+00:00"]
[null,null,null,null,null,null,"PP000002011_Post_Production>Blank_Media_Drives","Post Production > Blank Media/Drives    (Starts: 02/23/2023)","PP000002011_Post_Production>Blank_Media_Drives-Post Production > Blank Media/Drives    (Starts: 02/23/2023)","Project Plan","FD02","Active","2025-12-30T21:16:18.662623+00:00"]
[null,null,null,null,null,null,"PP000002011_Production>Uplink","Production > Uplink    (Starts: 02/23/2023)","PP000002011_Production>Uplink-Production > Uplink    (Starts: 02/23/2023)","Project Plan","FD02","Active","2025-12-30T21:16:18.662623+00:00"]
[null,null,null,null,null,null,"PP000002013_Above_the_Line>Producers","Above the Line > Producers    (Starts: 01/01/2024)","PP000002013_Above_the_Line>Producers-Above the Line > Producers    (Starts: 01/01/2024)","Project Plan","FD02","Active","2025-12-30T21:16:18.662623+00:00"]
[null,null,null,null,null,null,"PP000002013_Production>Video_Control","Production > Video Control    (Starts: 01/01/2024)","PP000002013_Production>Video_Control-Production > Video Control    (Starts: 01/01/2024)","Project Plan","FD02","Active","2025-12-30T21:16:18.662623+00:00"]
[null,null,null,null,null,null,"PP000002025_General>Production_Assistants","General > Production Assistants    (Starts: 01/01/2022)","PP000002025_General>Production_Assistants-General > Production Assistants    (Starts: 01/01/2022)","Project Plan","FD02","Active","2025-12-30T21:16:18.708047+00:00"]
[null,null,null,null,null,null,"PP000002034_OIT_a_Deliver","OIT > Deliver  (01/01/2023 - 12/31/2023)","PP000002034_OIT_a_Deliver-OIT > Deliver  (01/01/2023 - 12/31/2023)","Project Plan","FD06","Active","2025-12-30T21:16:35.748726+00:00"]
[null,null,null,null,null,null,"PP000002061_Development>Producers","BYUB Development > Producers    (Starts: 01/01/2022)","PP000002061_Development>Producers-BYUB Development > Producers    (Starts: 01/01/2022)","Project Plan","FD02","Active","2025-12-30T21:16:18.708047+00:00"]
[null,null,null,null,null,null,"PP000002063_FA_Production>Producer","FA Production > Producer    (Starts: 12/30/2023)","PP000002063_FA_Production>Producer-FA Production > Producer    (Starts: 12/30/2023)","Project Plan","FD02","Active","2025-12-30T21:16:21.384815+00:00"]
[null,null,null,null,null,null,"PP000002077_Post_Production>Music","Post Production > Music    (Starts: 01/01/2023)","PP000002077_Post_Production>Music-Post Production > Music    (Starts: 01/01/2023)","Project Plan","FD02","Active","2025-12-30T21:16:18.973182+00:00"]
[null,null,null,null,null,null,"PP000002078_Above_the_Line>Executive_Producer_Management","Above the Line > Executive Producer/Management    (Starts: 01/01/2023)","PP000002078_Above_the_Line>Executive_Producer_Management-Above the Line > Executive Producer/Management    (Starts: 01/01/2023)","Project Plan","FD02","Active","2025-12-30T21:16:18.973182+00:00"]
[null,null,null,null,null,null,"PP000002078_Key_Creative>Photography","BYUB Marketing/Key Creative > Photography    (Starts: 01/01/2023)","PP000002078_Key_Creative>Photography-BYUB Marketing/Key Creative > Photography    (Starts: 01/01/2023)","Project Plan","FD02","Active","2025-12-30T21:16:18.973182+00:00"]
[null,null,null,null,null,null,"PP000002079_Development>Writers","BYUB Development > Writers    (Starts: 01/01/2023)","PP000002079_Development>Writers-BYUB Development > Writers    (Starts: 01/01/2023)","Project Plan","FD02","Active","2025-12-30T21:16:19.022162+00:00"]
[null,null,null,null,null,null,"PP000002079_Production>Production_Management","Production > Production Management    (Starts: 01/01/2023)","PP000002079_Production>Production_Management-Production > Production Management    (Starts: 01/01/2023)","Project Plan","FD02","Active","2025-12-30T21:16:19.022162+00:00"]
[null,null,null,null,null,null,"PP000002080_Production>Engineering","Production > Engineering    (Starts: 01/01/2023)","PP000002080_Production>Engineering-Production > Engineering    (Starts: 01/01/2023)","Project Plan","FD02","Active","2025-12-30T21:16:19.022162+00:00"]
[null,null,null,null,null,null,"PP000002081_Production>Rights","Production > Rights    (Starts: 08/24/2023)","PP000002081_Production>Rights-Production > Rights    (Starts: 08/24/2023)","Project Plan","FD02","Active","2025-12-30T21:16:19.050767+00:00"]
[null,null,null,null,null,null,"PP000002082_General>Production_Assistants","General > Production Assistants    (Starts: 01/01/2023)","PP000002082_General>Production_Assistants-General > Production Assistants    (Starts: 01/01/2023)","Project Plan","FD02","Active","2025-12-30T21:16:18.973182+00:00"]
[null,null,null,null,null,null,"PP000002083_Above_the_Line>Writers","Above the Line > Writers    (Starts: 01/01/2023)","PP000002083_Above_the_Line>Writers-Above the Line > Writers    (Starts: 01/01/2023)","Project Plan","FD02","Active","2025-12-30T21:16:18.998954+00:00"]
[null,null,null,null,null,null,"PP000002084_Development>Miscellaneous_Crew","BYUB Development > Miscellaneous Crew    (Starts: 01/01/2023)","PP000002084_Development>Miscellaneous_Crew-BYUB Development > Miscellaneous Crew    (Starts: 01/01/2023)","Project Plan","FD02","Active","2025-12-30T21:16:18.973182+00:00"]
[null,null,null,null,null,null,"PP000002084_Key_Creative>Photography","BYUB Marketing/Key Creative > Photography    (Starts: 01/01/2023)","PP000002084_Key_Creative>Photography-BYUB Marketing/Key Creative > Photography    (Starts: 01/01/2023)","Project Plan","FD02","Active","2025-12-30T21:16:18.998954+00:00"]
[null,null,null,null,null,null,"PP000002085_Production>Electric","Production > Electric    (Starts: 08/24/2023)","PP000002085_Production>Electric-Production > Electric    (Starts: 08/24/2023)","Project Plan","FD02","Active","2025-12-30T21:16:18.998954+00:00"]
[null,null,null,null,null,null,"PP000002100_Above_the_Line>Casting","Above the Line > Casting    (Starts: 01/02/2024)","PP000002100_Above_the_Line>Casting-Above the Line > Casting    (Starts: 01/02/2024)","Project Plan","FD02","Active","2025-12-30T21:16:19.050767+00:00"]
[null,null,null,null,null,null,"PP000002100_Production>Production_Management","Production > Production Management    (Starts: 01/02/2024)","PP000002100_Production>Production_Management-Production > Production Management    (Starts: 01/02/2024)","Project Plan","FD02","Active","2025-12-30T21:16:19.050767+00:00"]
[null,null,null,null,null,null,"PP000002109_Development>Casting","BYUB Development > Casting    (Starts: 01/01/2023)","PP000002109_Development>Casting-BYUB Development > Casting    (Starts: 01/01/2023)","Project Plan","FD02","Active","2025-12-30T21:16:19.050767+00:00"]
[null,null,null,null,null,null,"PP000002109_Production>Teleprompter","Production > Teleprompter    (Starts: 01/01/2023)","PP000002109_Production>Teleprompter-Production > Teleprompter    (Starts: 01/01/2023)","Project Plan","FD02","Active","2025-12-30T21:16:19.08009+00:00"]
[null,null,null,null,null,null,"PP000002115_Above_the_Line>Writers","Above the Line > Writers    (Starts: 01/01/2023)","PP000002115_Above_the_Line>Writers-Above the Line > Writers    (Starts: 01/01/2023)","Project Plan","FD02","Active","2025-12-30T21:16:19.08009+00:00"]
[null,null,null,null,null,null,"PP000002115_Post_Production>Closed_Captioning","Post Production > Closed Captioning    (Starts: 01/01/2023)","PP000002115_Post_Production>Closed_Captioning-Post Production > Closed Captioning    (Starts: 01/01/2023)","Project Plan","FD02","Active","2025-12-30T21:16:19.08009+00:00"]
[null,null,null,null,null,null,"PP000002116_Key_Creative>Photography","BYUB Marketing/Key Creative > Photography    (Starts: 01/01/2023)","PP000002116_Key_Creative>Photography-BYUB Marketing/Key Creative > Photography    (Starts: 01/01/2023)","Project Plan","FD02","Active","2025-12-30T21:16:19.08009+00:00"]
[null,null,null,null,null,null,"PP000002116_Production>Technical_Director","Production > Technical Director    (Starts: 01/01/2023)","PP000002116_Production>Technical_Director-Production > Technical Director    (Starts: 01/01/2023)","Project Plan","FD02","Active","2025-12-30T21:16:19.08009+00:00"]
[null,null,null,null,null,null,"PP000002126_Development>Production_Management","BYUB Development > Production Management    (Starts: 01/02/2024)","PP000002126_Development>Production_Management-BYUB Development > Production Management    (Starts: 01/02/2024)","Project Plan","FD02","Active","2025-12-30T21:16:18.708047+00:00"]
[null,null,null,null,null,null,"PP000002127_Above_the_Line>Producers","Pentatonix: Above the Line > Producers    (Starts: 01/02/2024)","PP000002127_Above_the_Line>Producers-Pentatonix: Above the Line > Producers    (Starts: 01/02/2024)","Project Plan","FD02","Active","2025-12-30T21:16:18.738417+00:00"]
[null,null,null,null,null,null,"PP000002132_Development>Producers","BYUB Development > Producers    (Starts: 01/01/2023)","PP000002132_Development>Producers-BYUB Development > Producers    (Starts: 01/01/2023)","Project Plan","FD02","Active","2025-12-30T21:16:18.738417+00:00"]
[null,null,null,null,null,null,"PP000002134_OIT_a_Deliver","OIT > Deliver  (01/01/2025 - 12/31/2025)","PP000002134_OIT_a_Deliver-OIT > Deliver  (01/01/2025 - 12/31/2025)","Project Plan","FD06","Active","2025-12-30T21:16:35.990911+00:00"]
[null,null,null,null,null,null,"PP000002155_Development>Locations","BYUB Development > Locations    (Starts: 01/02/2024)","PP000002155_Development>Locations-BYUB Development > Locations    (Starts: 01/02/2024)","Project Plan","FD02","Active","2025-12-30T21:16:18.738417+00:00"]
[null,null,null,null,null,null,"PP000002156_Development>Rights","BYUB Development > Rights    (Starts: 01/02/2024)","PP000002156_Development>Rights-BYUB Development > Rights    (Starts: 01/02/2024)","Project Plan","FD02","Active","2025-12-30T21:16:18.768347+00:00"]
[null,null,null,null,null,null,"PP000002156_Post_Production>Editing","Post Production > Editing    (Starts: 01/02/2024)","PP000002156_Post_Production>Editing-Post Production > Editing    (Starts: 01/02/2024)","Project Plan","FD02","Active","2025-12-30T21:16:18.768347+00:00"]
[null,null,null,null,null,null,"PP000002157_Production>Locations","Production > Locations    (Starts: 01/02/2024)","PP000002157_Production>Locations-Production > Locations    (Starts: 01/02/2024)","Project Plan","FD02","Active","2025-12-30T21:16:18.768347+00:00"]
[null,null,null,null,null,null,"PP000002175_Development>Rights","BYUB Development > Rights    (Starts: 02/01/2023)","PP000002175_Development>Rights-BYUB Development > Rights    (Starts: 02/01/2023)","Project Plan","FD02","Active","2025-12-30T21:16:18.768347+00:00"]
[null,null,null,null,null,null,"PP000002175_Production>Rights","Production > Rights    (Starts: 02/01/2023)","PP000002175_Production>Rights-Production > Rights    (Starts: 02/01/2023)","Project Plan","FD02","Active","2025-12-30T21:16:18.768347+00:00"]
[null,null,null,null,null,null,"PP000002176_General>Production_Assistants","INTERNAL ONE OFFS: General > Production Assistants    (Starts: 01/02/2024)","PP000002176_General>Production_Assistants-INTERNAL ONE OFFS: General > Production Assistants    (Starts: 01/02/2024)","Project Plan","FD02","Active","2025-12-30T21:16:18.806365+00:00"]
[null,null,null,null,null,null,"PP000002177_Above_the_Line>Writers","DEV, MGMNT, SOC MED: Above the Line > Writers    (Starts: 01/02/2024)","PP000002177_Above_the_Line>Writers-DEV, MGMNT, SOC MED: Above the Line > Writers    (Starts: 01/02/2024)","Project Plan","FD02","Active","2025-12-30T21:16:18.768347+00:00"]
[null,null,null,null,null,null,"PP000002186_OIT_a_Deliver","OIT > Deliver  (01/01/2025 - 12/31/2025)","PP000002186_OIT_a_Deliver-OIT > Deliver  (01/01/2025 - 12/31/2025)","Project Plan","FD01","Active","2025-12-30T21:16:36.228545+00:00"]
[null,null,null,null,null,null,"PP000002235_Above_the_Line>Executive_Producer_Management","Above the Line > Executive Producer/Management    (Starts: 01/02/2024)","PP000002235_Above_the_Line>Executive_Producer_Management-Above the Line > Executive Producer/Management    (Starts: 01/02/2024)","Project Plan","FD02","Active","2025-12-30T21:16:19.08009+00:00"]
[null,null,null,null,null,null,"PP000002235_Production>Production_Assistants","Production > Production Assistants    (Starts: 01/02/2024)","PP000002235_Production>Production_Assistants-Production > Production Assistants    (Starts: 01/02/2024)","Project Plan","FD02","Active","2025-12-30T21:16:19.108984+00:00"]
[null,null,null,null,null,null,"PP000002236_General>Fringe_Benefit","General > Fringe Benefit    (Starts: 01/02/2024)","PP000002236_General>Fringe_Benefit-General > Fringe Benefit    (Starts: 01/02/2024)","Project Plan","FD02","Active","2025-12-30T21:16:18.921824+00:00"]
[null,null,null,null,null,null,"PP000002237_Above_the_Line>Executive_Producer_Management","Above the Line > Executive Producer/Management    (Starts: 01/02/2024)","PP000002237_Above_the_Line>Executive_Producer_Management-Above the Line > Executive Producer/Management    (Starts: 01/02/2024)","Project Plan","FD02","Active","2025-12-30T21:16:18.948433+00:00"]
[null,null,null,null,null,null,"PP000002237_Post_Production>VFX","Post Production > VFX    (Starts: 01/02/2024)","PP000002237_Post_Production>VFX-Post Production > VFX    (Starts: 01/02/2024)","Project Plan","FD02","Active","2025-12-30T21:16:18.948433+00:00"]
[null,null,null,null,null,null,"PP000002238_Production>Set_Construction","Production > Set Construction    (Starts: 01/02/2024)","PP000002238_Production>Set_Construction-Production > Set Construction    (Starts: 01/02/2024)","Project Plan","FD02","Active","2025-12-30T21:16:18.921824+00:00"]
[null,null,null,null,null,null,"PP000002239_Production>Camera","Production > Camera    (Starts: 01/02/2024)","PP000002239_Production>Camera-Production > Camera    (Starts: 01/02/2024)","Project Plan","FD02","Active","2025-12-30T21:16:18.948433+00:00"]
[null,null,null,null,null,null,"PP000002239_Production>Sound","Production > Audio    (Starts: 01/02/2024)","PP000002239_Production>Sound-Production > Audio    (Starts: 01/02/2024)","Project Plan","FD02","Active","2025-12-30T21:16:18.948433+00:00"]
[null,null,null,null,null,null,"PP000002240_Production>Electric","Production > Electric    (Starts: 01/02/2024)","PP000002240_Production>Electric-Production > Electric    (Starts: 01/02/2024)","Project Plan","FD02","Active","2025-12-30T21:16:18.921824+00:00"]
[null,null,null,null,null,null,"PP000002241_Key_Creative>Social_Media","BYUB Marketing/Key Creative > Social Media    (Starts: 01/02/2024)","PP000002241_Key_Creative>Social_Media-BYUB Marketing/Key Creative > Social Media    (Starts: 01/02/2024)","Project Plan","FD02","Active","2025-12-30T21:16:18.998954+00:00"]
[null,null,null,null,null,null,"PP000002242_Production>Facilities","Production > Facilities    (Starts: 02/01/2023)","PP000002242_Production>Facilities-Production > Facilities    (Starts: 02/01/2023)","Project Plan","FD02","Active","2025-12-30T21:16:18.948433+00:00"]
[null,null,null,null,null,null,"PP000002243_Key_Creative>Photography","BYUB Marketing/Key Creative > Photography    (Starts: 01/02/2024)","PP000002243_Key_Creative>Photography-BYUB Marketing/Key Creative > Photography    (Starts: 01/02/2024)","Project Plan","FD02","Active","2025-12-30T21:16:19.022162+00:00"]
[null,null,null,null,null,null,"PP000002243_Production>Uplink","Production > Uplink    (Starts: 01/02/2024)","PP000002243_Production>Uplink-Production > Uplink    (Starts: 01/02/2024)","Project Plan","FD02","Active","2025-12-30T21:16:19.050767+00:00"]
[null,null,null,null,null,null,"PP000002277_OIT_a_Deliver","OIT > Deliver  (01/01/2025 - 01/31/2026)","PP000002277_OIT_a_Deliver-OIT > Deliver  (01/01/2025 - 01/31/2026)","Project Plan","FD02","Active","2025-12-30T21:16:36.700786+00:00"]
[null,null,null,null,null,null,"PP000002404_Post_Production>Editing","Post Production > Editing    (Starts: 01/02/2024)","PP000002404_Post_Production>Editing-Post Production > Editing    (Starts: 01/02/2024)","Project Plan","FD02","Active","2025-12-30T21:16:19.410379+00:00"]
[null,null,null,null,null,null,"PP000002409_Post_Production>Color","Post Production > Color    (Starts: 01/02/2024)","PP000002409_Post_Production>Color-Post Production > Color    (Starts: 01/02/2024)","Project Plan","FD02","Active","2025-12-30T21:16:19.108984+00:00"]
[null,null,null,null,null,null,"PP000002417_Post_Production>QC","Post Production > QC    (Starts: 01/01/2022)","PP000002417_Post_Production>QC-Post Production > QC    (Starts: 01/01/2022)","Project Plan","FD02","Active","2025-12-30T21:16:19.410379+00:00"]
[null,null,null,null,null,null,"PP000002418_Above_the_Line>Marketing_Assets","Above the Line > Marketing Assets    (Starts: 01/01/2023)","PP000002418_Above_the_Line>Marketing_Assets-Above the Line > Marketing Assets    (Starts: 01/01/2023)","Project Plan","FD02","Active","2025-12-30T21:16:19.410379+00:00"]
[null,null,null,null,null,null,"PP000002418_Post_Production>VFX","Post Production > VFX    (Starts: 01/01/2023)","PP000002418_Post_Production>VFX-Post Production > VFX    (Starts: 01/01/2023)","Project Plan","FD02","Active","2025-12-30T21:16:19.43897+00:00"]
[null,null,null,null,null,null,"PP000002427_FA_Production>Costume_Shop","FA Production > Costume    (Starts: 12/30/2023)","PP000002427_FA_Production>Costume_Shop-FA Production > Costume    (Starts: 12/30/2023)","Project Plan","FD02","Active","2025-12-30T21:16:21.384815+00:00"]
[null,null,null,null,null,null,"PP000002429_FA_Production>Projection","FA Production > Projection    (Starts: 12/30/2023)","PP000002429_FA_Production>Projection-FA Production > Projection    (Starts: 12/30/2023)","Project Plan","FD02","Active","2025-12-30T21:16:21.384815+00:00"]
[null,null,null,null,null,null,"PP000002435_FA_Production>Audio","FA Production > Audio    (Starts: 12/30/2023)","PP000002435_FA_Production>Audio-FA Production > Audio    (Starts: 12/30/2023)","Project Plan","FD02","Active","2025-12-30T21:16:21.359296+00:00"]
[null,null,null,null,null,null,"PP000002444_FA_Production>Scene_Shop","FA Production > Scene Shop    (Starts: 12/30/2023)","PP000002444_FA_Production>Scene_Shop-FA Production > Scene Shop    (Starts: 12/30/2023)","Project Plan","FD02","Active","2025-12-30T21:16:21.359296+00:00"]
[null,null,null,null,null,null,"PP000002482_Production>Production_Management","Production > Production Management    (Starts: 01/01/2023)","PP000002482_Production>Production_Management-Production > Production Management    (Starts: 01/01/2023)","Project Plan","FD02","Active","2025-12-30T21:16:19.108984+00:00"]
[null,null,null,null,null,null,"PP000002486_Production>Art","Production > Art    (Starts: 01/01/2022)","PP000002486_Production>Art-Production > Art    (Starts: 01/01/2022)","Project Plan","FD02","Active","2025-12-30T21:16:19.108984+00:00"]
[null,null,null,null,null,null,"PP000002489_FA_Production>Other","FA Production > Other    (Starts: 12/30/2023)","PP000002489_FA_Production>Other-FA Production > Other    (Starts: 12/30/2023)","Project Plan","FD02","Active","2025-12-30T21:16:21.359296+00:00"]
[null,null,null,null,null,null,"PP000002492_FA_Production>Other","FA Production > Other    (Starts: 12/30/2023)","PP000002492_FA_Production>Other-FA Production > Other    (Starts: 12/30/2023)","Project Plan","FD02","Active","2025-12-30T21:16:21.359296+00:00"]
[null,null,null,null,null,null,"PP000002561_Post_Production>Graphics","Post Production > Graphics    (Starts: 02/01/2023)","PP000002561_Post_Production>Graphics-Post Production > Graphics    (Starts: 02/01/2023)","Project Plan","FD02","Active","2025-12-30T21:16:19.410379+00:00"]
[null,null,null,null,null,null,"PP000002562_Above_the_Line>Director","Above the Line > Director    (Starts: 12/01/2022)","PP000002562_Above_the_Line>Director-Above the Line > Director    (Starts: 12/01/2022)","Project Plan","FD02","Active","2025-12-30T21:16:19.43897+00:00"]
[null,null,null,null,null,null,"PP000002562_Post_Production>Rights","Post Production > Rights    (Starts: 12/01/2022)","PP000002562_Post_Production>Rights-Post Production > Rights    (Starts: 12/01/2022)","Project Plan","FD02","Active","2025-12-30T21:16:19.43897+00:00"]
[null,null,null,null,null,null,"PP000002568_FA_Production>Stage_Operations","FA Production > Stage Operations    (Starts: 12/30/2023)","PP000002568_FA_Production>Stage_Operations-FA Production > Stage Operations    (Starts: 12/30/2023)","Project Plan","FD02","Active","2025-12-30T21:16:21.384815+00:00"]
[null,null,null,null,null,null,"PP000002578_Key_Creative>Promos","BYUB Marketing/Key Creative > Video Promos    (Starts: 01/02/2024)","PP000002578_Key_Creative>Promos-BYUB Marketing/Key Creative > Video Promos    (Starts: 01/02/2024)","Project Plan","FD02","Active","2025-12-30T21:16:19.472658+00:00"]
[null,null,null,null,null,null,"PP000002579_Development>Editing","BYUB Development > Editing    (Starts: 01/01/2024)","PP000002579_Development>Editing-BYUB Development > Editing    (Starts: 01/01/2024)","Project Plan","FD02","Active","2025-12-30T21:16:19.543136+00:00"]
[null,null,null,null,null,null,"PP000002579_Production>Floor_Director","Production > Floor Director    (Starts: 01/01/2024)","PP000002579_Production>Floor_Director-Production > Floor Director    (Starts: 01/01/2024)","Project Plan","FD02","Active","2025-12-30T21:16:19.543136+00:00"]
[null,null,null,null,null,null,"PP000002580_Key_Creative>Photography","BYUB Marketing/Key Creative > Photography    (Starts: 12/01/2022)","PP000002580_Key_Creative>Photography-BYUB Marketing/Key Creative > Photography    (Starts: 12/01/2022)","Project Plan","FD02","Active","2025-12-30T21:16:19.472658+00:00"]
[null,null,null,null,null,null,"PP000002580_Production>Wardrobe","Production > Wardrobe    (Starts: 12/01/2022)","PP000002580_Production>Wardrobe-Production > Wardrobe    (Starts: 12/01/2022)","Project Plan","FD02","Active","2025-12-30T21:16:19.472658+00:00"]
[null,null,null,null,null,null,"PP000002581_Post_Production>Music","COMMISSIONED SERIES: Post Production > Music    (Starts: 12/01/2022)","PP000002581_Post_Production>Music-COMMISSIONED SERIES: Post Production > Music    (Starts: 12/01/2022)","Project Plan","FD02","Active","2025-12-30T21:16:19.543136+00:00"]
[null,null,null,null,null,null,"PP000002582_Development>Rights","ONE OFFS & SERIES: BYUB Development > Rights    (Starts: 12/01/2022)","PP000002582_Development>Rights-ONE OFFS & SERIES: BYUB Development > Rights    (Starts: 12/01/2022)","Project Plan","FD02","Active","2025-12-30T21:16:19.499693+00:00"]
[null,null,null,null,null,null,"PP000002583_Development>Editing","INTERNAL SERIES: BYUB Development > Editing    (Starts: 12/01/2022)","PP000002583_Development>Editing-INTERNAL SERIES: BYUB Development > Editing    (Starts: 12/01/2022)","Project Plan","FD02","Active","2025-12-30T21:16:19.499693+00:00"]
[null,null,null,null,null,null,"PP000002584_Above_the_Line>Research","Above the Line > Research    (Starts: 02/01/2023)","PP000002584_Above_the_Line>Research-Above the Line > Research    (Starts: 02/01/2023)","Project Plan","FD02","Active","2025-12-30T21:16:19.472658+00:00"]
[null,null,null,null,null,null,"PP000002584_Production>Sound","Production > Audio    (Starts: 02/01/2023)","PP000002584_Production>Sound-Production > Audio    (Starts: 02/01/2023)","Project Plan","FD02","Active","2025-12-30T21:16:19.499693+00:00"]
[null,null,null,null,null,null,"PP000002585_Key_Creative>Photography","BYUB Marketing/Key Creative > Photography    (Starts: 02/01/2023)","PP000002585_Key_Creative>Photography-BYUB Marketing/Key Creative > Photography    (Starts: 02/01/2023)","Project Plan","FD02","Active","2025-12-30T21:16:19.568274+00:00"]
[null,null,null,null,null,null,"PP000002586_Above_the_Line>Marketing_Assets","Above the Line > Marketing Assets    (Starts: 02/01/2023)","PP000002586_Above_the_Line>Marketing_Assets-Above the Line > Marketing Assets    (Starts: 02/01/2023)","Project Plan","FD02","Active","2025-12-30T21:16:19.543136+00:00"]
[null,null,null,null,null,null,"PP000002587_Post_Production>Blank_Media_Drives","Post Production > Blank Media/Drives    (Starts: 02/01/2023)","PP000002587_Post_Production>Blank_Media_Drives-Post Production > Blank Media/Drives    (Starts: 02/01/2023)","Project Plan","FD02","Active","2025-12-30T21:16:19.568274+00:00"]
[null,null,null,null,null,null,"PP000002587_Production>Uplink","Production > Uplink    (Starts: 02/01/2023)","PP000002587_Production>Uplink-Production > Uplink    (Starts: 02/01/2023)","Project Plan","FD02","Active","2025-12-30T21:16:19.568274+00:00"]
[null,null,null,null,null,null,"PP000002636_Above_the_Line>Executive_Producer_Management","Above the Line > Executive Producer/Management    (Starts: 01/01/2022)","PP000002636_Above_the_Line>Executive_Producer_Management-Above the Line > Executive Producer/Management    (Starts: 01/01/2022)","Project Plan","FD02","Active","2025-12-30T21:16:19.43897+00:00"]
[null,null,null,null,null,null,"PP000002636_Development>Music","BYUB Development > Music    (Starts: 01/01/2022)","PP000002636_Development>Music-BYUB Development > Music    (Starts: 01/01/2022)","Project Plan","FD02","Active","2025-12-30T21:16:19.43897+00:00"]
[null,null,null,null,null,null,"PP000002638_Post_Production>QC","Post Production > QC    (Starts: 01/01/2023)","PP000002638_Post_Production>QC-Post Production > QC    (Starts: 01/01/2023)","Project Plan","FD02","Active","2025-12-30T21:16:19.472658+00:00"]
[null,null,null,null,null,null,"PP000002643_FA_Production>Front_of_House","FA Production > Front of House    (Starts: 12/30/2023)","PP000002643_FA_Production>Front_of_House-FA Production > Front of House    (Starts: 12/30/2023)","Project Plan","FD02","Active","2025-12-30T21:16:21.384815+00:00"]
[null,null,null,null,null,null,"PP000002695_Post_Production>Blank_Media_Drives","Post Production > Blank Media/Drives    (Starts: 01/01/2023)","PP000002695_Post_Production>Blank_Media_Drives-Post Production > Blank Media/Drives    (Starts: 01/01/2023)","Project Plan","FD02","Active","2025-12-30T21:16:19.568274+00:00"]
[null,null,null,null,null,null,"PP000002696_Above_the_Line>Writers","Above the Line > Writers    (Starts: 01/01/2023)","PP000002696_Above_the_Line>Writers-Above the Line > Writers    (Starts: 01/01/2023)","Project Plan","FD02","Active","2025-12-30T21:16:19.568274+00:00"]
[null,null,null,null,null,null,"PP000002696_Production>Electric","Production > Electric    (Starts: 01/01/2023)","PP000002696_Production>Electric-Production > Electric    (Starts: 01/01/2023)","Project Plan","FD02","Active","2025-12-30T21:16:19.568274+00:00"]
[null,null,null,null,null,null,"PP000002697_Development>Director","BYUB Development > Director    (Starts: 01/01/2023)","PP000002697_Development>Director-BYUB Development > Director    (Starts: 01/01/2023)","Project Plan","FD02","Active","2025-12-30T21:16:19.594288+00:00"]
[null,null,null,null,null,null,"PP000002708_Development>Miscellaneous_Crew","BYUB Development > Miscellaneous Crew    (Starts: 01/02/2024)","PP000002708_Development>Miscellaneous_Crew-BYUB Development > Miscellaneous Crew    (Starts: 01/02/2024)","Project Plan","FD02","Active","2025-12-30T21:16:19.594288+00:00"]
[null,null,null,null,null,null,"PP000002717_Development>Locations","BYUB Development > Locations    (Starts: 01/02/2024)","PP000002717_Development>Locations-BYUB Development > Locations    (Starts: 01/02/2024)","Project Plan","FD02","Active","2025-12-30T21:16:19.594288+00:00"]
[null,null,null,null,null,null,"PP000002717_Production>Grip","Production > Grip    (Starts: 01/02/2024)","PP000002717_Production>Grip-Production > Grip    (Starts: 01/02/2024)","Project Plan","FD02","Active","2025-12-30T21:16:19.594288+00:00"]
[null,null,null,null,null,null,"PP000002794_Post_Production>Music","Post Production > Music    (Starts: 01/01/2023)","PP000002794_Post_Production>Music-Post Production > Music    (Starts: 01/01/2023)","Project Plan","FD02","Active","2025-12-30T21:16:19.621769+00:00"]
[null,null,null,null,null,null,"PP000002795_Above_the_Line>Talent","Above the Line > Talent    (Starts: 01/01/2023)","PP000002795_Above_the_Line>Talent-Above the Line > Talent    (Starts: 01/01/2023)","Project Plan","FD02","Active","2025-12-30T21:16:19.651923+00:00"]
[null,null,null,null,null,null,"PP000002795_Production>Production_Assistants","Production > Production Assistants    (Starts: 01/01/2023)","PP000002795_Production>Production_Assistants-Production > Production Assistants    (Starts: 01/01/2023)","Project Plan","FD02","Active","2025-12-30T21:16:19.651923+00:00"]
[null,null,null,null,null,null,"PP000002810_Above_the_Line>Research","Above the Line > Research    (Starts: 01/01/2023)","PP000002810_Above_the_Line>Research-Above the Line > Research    (Starts: 01/01/2023)","Project Plan","FD02","Active","2025-12-30T21:16:19.715655+00:00"]
[null,null,null,null,null,null,"PP000002810_Production>Camera","Production > Camera    (Starts: 01/01/2023)","PP000002810_Production>Camera-Production > Camera    (Starts: 01/01/2023)","Project Plan","FD02","Active","2025-12-30T21:16:19.715655+00:00"]
[null,null,null,null,null,null,"PP000002811_Production>Electric","Production > Electric    (Starts: 01/01/2023)","PP000002811_Production>Electric-Production > Electric    (Starts: 01/01/2023)","Project Plan","FD02","Active","2025-12-30T21:16:19.651923+00:00"]
[null,null,null,null,null,null,"PP000002811_Production>Technical_Director","Production > Technical Director    (Starts: 01/01/2023)","PP000002811_Production>Technical_Director-Production > Technical Director    (Starts: 01/01/2023)","Project Plan","FD02","Active","2025-12-30T21:16:19.651923+00:00"]
[null,null,null,null,null,null,"PP000002821_Development>Editing","BYUB Development > Editing    (Starts: 01/02/2024)","PP000002821_Development>Editing-BYUB Development > Editing    (Starts: 01/02/2024)","Project Plan","FD02","Active","2025-12-30T21:16:19.745622+00:00"]
[null,null,null,null,null,null,"PP000002821_Production>Uplink","Production > Uplink    (Starts: 01/02/2024)","PP000002821_Production>Uplink-Production > Uplink    (Starts: 01/02/2024)","Project Plan","FD02","Active","2025-12-30T21:16:19.745622+00:00"]
[null,null,null,null,null,null,"PP000002828_Post_Production>Music","Post Production > Music    (Starts: 01/02/2024)","PP000002828_Post_Production>Music-Post Production > Music    (Starts: 01/02/2024)","Project Plan","FD02","Active","2025-12-30T21:16:19.772749+00:00"]
[null,null,null,null,null,null,"PP000002835_Development>Music","BYUB Development > Music    (Starts: 01/02/2024)","PP000002835_Development>Music-BYUB Development > Music    (Starts: 01/02/2024)","Project Plan","FD02","Active","2025-12-30T21:16:19.621769+00:00"]
[null,null,null,null,null,null,"PP000002835_Production>Makeup_Hair","Production > Makeup & Hair    (Starts: 01/02/2024)","PP000002835_Production>Makeup_Hair-Production > Makeup & Hair    (Starts: 01/02/2024)","Project Plan","FD02","Active","2025-12-30T21:16:19.621769+00:00"]
[null,null,null,null,null,null,"PP000002850_Development>Rights","BYUB Development > Rights    (Starts: 01/01/2023)","PP000002850_Development>Rights-BYUB Development > Rights    (Starts: 01/01/2023)","Project Plan","FD02","Active","2025-12-30T21:16:19.772749+00:00"]
[null,null,null,null,null,null,"PP000002872_FA_Production>Front_of_House","FA Production > Front of House    (Starts: 12/30/2023)","PP000002872_FA_Production>Front_of_House-FA Production > Front of House    (Starts: 12/30/2023)","Project Plan","FD02","Active","2025-12-30T21:16:21.436988+00:00"]
[null,null,null,null,null,null,"PP000002895_Development>Casting","BYUB Development > Casting    (Starts: 01/01/2024)","PP000002895_Development>Casting-BYUB Development > Casting    (Starts: 01/01/2024)","Project Plan","FD02","Active","2025-12-30T21:16:19.715655+00:00"]
[null,null,null,null,null,null,"PP000002895_Production>Transportation","Production > Transportation    (Starts: 01/01/2024)","PP000002895_Production>Transportation-Production > Transportation    (Starts: 01/01/2024)","Project Plan","FD02","Active","2025-12-30T21:16:19.715655+00:00"]
[null,null,null,null,null,null,"PP000002896_Post_Production>Blank_Media_Drives","Post Production > Blank Media/Drives    (Starts: 01/01/2024)","PP000002896_Post_Production>Blank_Media_Drives-Post Production > Blank Media/Drives    (Starts: 01/01/2024)","Project Plan","FD02","Active","2025-12-30T21:16:19.651923+00:00"]
[null,null,null,null,null,null,"PP000002896_Production>Uplink","Production > Uplink    (Starts: 01/01/2024)","PP000002896_Production>Uplink-Production > Uplink    (Starts: 01/01/2024)","Project Plan","FD02","Active","2025-12-30T21:16:19.684078+00:00"]
[null,null,null,null,null,null,"PP000002897_Production>Grip","Production > Grip    (Starts: 01/01/2024)","PP000002897_Production>Grip-Production > Grip    (Starts: 01/01/2024)","Project Plan","FD02","Active","2025-12-30T21:16:19.684078+00:00"]
[null,null,null,null,null,null,"PP000002899_Above_the_Line>Director","Above the Line > Director    (Starts: 04/15/2024)","PP000002899_Above_the_Line>Director-Above the Line > Director    (Starts: 04/15/2024)","Project Plan","FD02","Active","2025-12-30T21:16:19.715655+00:00"]
[null,null,null,null,null,null,"PP000002899_Development>Writers","BYUB Development > Writers    (Starts: 04/15/2024)","PP000002899_Development>Writers-BYUB Development > Writers    (Starts: 04/15/2024)","Project Plan","FD02","Active","2025-12-30T21:16:19.715655+00:00"]
[null,null,null,null,null,null,"PP000002900_Development>Writers","BYUB Development > Writers    (Starts: 04/15/2024)","PP000002900_Development>Writers-BYUB Development > Writers    (Starts: 04/15/2024)","Project Plan","FD02","Active","2025-12-30T21:16:19.684078+00:00"]
[null,null,null,null,null,null,"PP000002900_Production>Rights","Production > Rights    (Starts: 04/15/2024)","PP000002900_Production>Rights-Production > Rights    (Starts: 04/15/2024)","Project Plan","FD02","Active","2025-12-30T21:16:19.684078+00:00"]
[null,null,null,null,null,null,"PP000002901_Production>Camera","Production > Camera    (Starts: 04/15/2024)","PP000002901_Production>Camera-Production > Camera    (Starts: 04/15/2024)","Project Plan","FD02","Active","2025-12-30T21:16:19.745622+00:00"]
[null,null,null,null,null,null,"PP000002905_Production>Set_Construction","Production > Set Construction    (Starts: 01/01/2023)","PP000002905_Production>Set_Construction-Production > Set Construction    (Starts: 01/01/2023)","Project Plan","FD02","Active","2025-12-30T21:16:19.745622+00:00"]
[null,null,null,null,null,null,"PP000002919_Key_Creative>Promos","BYUB Marketing/Key Creative > Video Promos    (Starts: 01/01/2024)","PP000002919_Key_Creative>Promos-BYUB Marketing/Key Creative > Video Promos    (Starts: 01/01/2024)","Project Plan","FD02","Active","2025-12-30T21:16:19.772749+00:00"]
[null,null,null,null,null,null,"PP000002935_Development>Editing","BYUB Development > Editing    (Starts: 01/01/2024)","PP000002935_Development>Editing-BYUB Development > Editing    (Starts: 01/01/2024)","Project Plan","FD02","Active","2025-12-30T21:16:19.772749+00:00"]
[null,null,null,null,null,null,"PP000002935_Production>Floor_Director","Production > Floor Director    (Starts: 01/01/2024)","PP000002935_Production>Floor_Director-Production > Floor Director    (Starts: 01/01/2024)","Project Plan","FD02","Active","2025-12-30T21:16:19.772749+00:00"]
[null,null,null,null,null,null,"PP000002936_Production>Electric","Production > Electric    (Starts: 04/15/2024)","PP000002936_Production>Electric-Production > Electric    (Starts: 04/15/2024)","Project Plan","FD02","Active","2025-12-30T21:16:19.834633+00:00"]
[null,null,null,null,null,null,"PP000002936_Production>Wardrobe","Production > Wardrobe    (Starts: 04/15/2024)","PP000002936_Production>Wardrobe-Production > Wardrobe    (Starts: 04/15/2024)","Project Plan","FD02","Active","2025-12-30T21:16:19.834633+00:00"]
[null,null,null,null,null,null,"PP000002938_Development>Production_Management","BYUB Development > Production Management    (Starts: 01/01/2024)","PP000002938_Development>Production_Management-BYUB Development > Production Management    (Starts: 01/01/2024)","Project Plan","FD02","Active","2025-12-30T21:16:19.834633+00:00"]
[null,null,null,null,null,null,"PP000002939_Above_the_Line>Marketing_Assets","Above the Line > Marketing Assets    (Starts: 01/01/2024)","PP000002939_Above_the_Line>Marketing_Assets-Above the Line > Marketing Assets    (Starts: 01/01/2024)","Project Plan","FD02","Active","2025-12-30T21:16:19.804374+00:00"]
[null,null,null,null,null,null,"PP000002939_Post_Production>Music","Post Production > Music    (Starts: 01/01/2024)","PP000002939_Post_Production>Music-Post Production > Music    (Starts: 01/01/2024)","Project Plan","FD02","Active","2025-12-30T21:16:19.804374+00:00"]
[null,null,null,null,null,null,"PP000002940_Above_the_Line>Research","Above the Line > Research    (Starts: 01/01/2024)","PP000002940_Above_the_Line>Research-Above the Line > Research    (Starts: 01/01/2024)","Project Plan","FD02","Active","2025-12-30T21:16:19.834633+00:00"]
[null,null,null,null,null,null,"PP000002940_Production>Sound","Production > Audio    (Starts: 01/01/2024)","PP000002940_Production>Sound-Production > Audio    (Starts: 01/01/2024)","Project Plan","FD02","Active","2025-12-30T21:16:19.834633+00:00"]
[null,null,null,null,null,null,"PP000002945_Development>Casting","BYUB Development > Casting    (Starts: 01/01/2023)","PP000002945_Development>Casting-BYUB Development > Casting    (Starts: 01/01/2023)","Project Plan","FD02","Active","2025-12-30T21:16:19.834633+00:00"]
[null,null,null,null,null,null,"PP000002945_Development>Writers","BYUB Development > Writers    (Starts: 01/01/2023)","PP000002945_Development>Writers-BYUB Development > Writers    (Starts: 01/01/2023)","Project Plan","FD02","Active","2025-12-30T21:16:19.834633+00:00"]
[null,null,null,null,null,null,"PP000003035_FA_Production>Scene_Shop","Babe the Sheep Pig: FA Production > Scene Shop    (Starts: 02/01/2024)","PP000003035_FA_Production>Scene_Shop-Babe the Sheep Pig: FA Production > Scene Shop    (Starts: 02/01/2024)","Project Plan","FD02","Active","2025-12-30T21:16:21.48794+00:00"]
[null,null,null,null,null,null,"PP000003047_Development>Music","BYUB Development > Music    (Starts: 01/01/2023)","PP000003047_Development>Music-BYUB Development > Music    (Starts: 01/01/2023)","Project Plan","FD02","Active","2025-12-30T21:16:19.862805+00:00"]
[null,null,null,null,null,null,"PP000003047_Production>Teleprompter","Production > Teleprompter    (Starts: 01/01/2023)","PP000003047_Production>Teleprompter-Production > Teleprompter    (Starts: 01/01/2023)","Project Plan","FD02","Active","2025-12-30T21:16:19.862805+00:00"]
[null,null,null,null,null,null,"PP000003199_Above_the_Line>Marketing_Assets","Above the Line > Marketing Assets    (Starts: 01/01/2024)","PP000003199_Above_the_Line>Marketing_Assets-Above the Line > Marketing Assets    (Starts: 01/01/2024)","Project Plan","FD02","Active","2025-12-30T21:16:19.89184+00:00"]
[null,null,null,null,null,null,"PP000003199_Post_Production>VFX","Post Production > VFX    (Starts: 01/01/2024)","PP000003199_Post_Production>VFX-Post Production > VFX    (Starts: 01/01/2024)","Project Plan","FD02","Active","2025-12-30T21:16:19.89184+00:00"]
[null,null,null,null,null,null,"PP000003200_General>Production_Assistants","General > Production Assistants    (Starts: 01/01/2024)","PP000003200_General>Production_Assistants-General > Production Assistants    (Starts: 01/01/2024)","Project Plan","FD02","Active","2025-12-30T21:16:19.920618+00:00"]
[null,null,null,null,null,null,"PP000003201_Development>Rights","BYUB Development > Rights    (Starts: 01/01/2024)","PP000003201_Development>Rights-BYUB Development > Rights    (Starts: 01/01/2024)","Project Plan","FD02","Active","2025-12-30T21:16:19.89184+00:00"]
[null,null,null,null,null,null,"PP000003201_Production>Electric","Production > Electric    (Starts: 01/01/2024)","PP000003201_Production>Electric-Production > Electric    (Starts: 01/01/2024)","Project Plan","FD02","Active","2025-12-30T21:16:19.89184+00:00"]
[null,null,null,null,null,null,"PP000003208_Development>Director","BYUB Development > Director    (Starts: 01/01/2024)","PP000003208_Development>Director-BYUB Development > Director    (Starts: 01/01/2024)","Project Plan","FD02","Active","2025-12-30T21:16:19.920618+00:00"]
[null,null,null,null,null,null,"PP000003209_Post_Production>Closed_Captioning","Post Production > Closed Captioning    (Starts: 04/15/2024)","PP000003209_Post_Production>Closed_Captioning-Post Production > Closed Captioning    (Starts: 04/15/2024)","Project Plan","FD02","Active","2025-12-30T21:16:19.920618+00:00"]
[null,null,null,null,null,null,"PP000003210_Above_the_Line>Research","Above the Line > Research    (Starts: 04/15/2024)","PP000003210_Above_the_Line>Research-Above the Line > Research    (Starts: 04/15/2024)","Project Plan","FD02","Active","2025-12-30T21:16:19.920618+00:00"]
[null,null,null,null,null,null,"PP000003210_Production>Grip","Production > Grip    (Starts: 04/15/2024)","PP000003210_Production>Grip-Production > Grip    (Starts: 04/15/2024)","Project Plan","FD02","Active","2025-12-30T21:16:19.949899+00:00"]
[null,null,null,null,null,null,"PP000003262_Development>Production_Management","BYUB Development > Production Management    (Starts: 01/01/2024)","PP000003262_Development>Production_Management-BYUB Development > Production Management    (Starts: 01/01/2024)","Project Plan","FD02","Active","2025-12-30T21:16:19.949899+00:00"]
[null,null,null,null,null,null,"PP000003262_Production>Production_Assistants","Production > Production Assistants    (Starts: 01/01/2024)","PP000003262_Production>Production_Assistants-Production > Production Assistants    (Starts: 01/01/2024)","Project Plan","FD02","Active","2025-12-30T21:16:19.949899+00:00"]
[null,null,null,null,null,null,"PP000003266_Production>Graphics","Production > Graphics    (Starts: 04/15/2024)","PP000003266_Production>Graphics-Production > Graphics    (Starts: 04/15/2024)","Project Plan","FD02","Active","2025-12-30T21:16:19.98226+00:00"]
[null,null,null,null,null,null,"PP000003274_Production>Set_Construction","Production > Set Construction    (Starts: 01/01/2024)","PP000003274_Production>Set_Construction-Production > Set Construction    (Starts: 01/01/2024)","Project Plan","FD02","Active","2025-12-30T21:16:19.98226+00:00"]
[null,null,null,null,null,null,"PP000003293_Key_Creative>Marketing_Day","BYUB Marketing/Key Creative > Marketing Day    (Starts: 01/01/2024)","PP000003293_Key_Creative>Marketing_Day-BYUB Marketing/Key Creative > Marketing Day    (Starts: 01/01/2024)","Project Plan","FD02","Active","2025-12-30T21:16:19.98226+00:00"]
[null,null,null,null,null,null,"PP000003293_Production>Technical_Director","Production > Technical Director    (Starts: 01/01/2024)","PP000003293_Production>Technical_Director-Production > Technical Director    (Starts: 01/01/2024)","Project Plan","FD02","Active","2025-12-30T21:16:19.98226+00:00"]
[null,null,null,null,null,null,"PP000003294_Post_Production>Music","Post Production > Music    (Starts: 01/01/2024)","PP000003294_Post_Production>Music-Post Production > Music    (Starts: 01/01/2024)","Project Plan","FD02","Active","2025-12-30T21:16:19.949899+00:00"]
[null,null,null,null,null,null,"PP000003475_Production>Floor_Director","Production > Floor Director    (Starts: 02/01/2023)","PP000003475_Production>Floor_Director-Production > Floor Director    (Starts: 02/01/2023)","Project Plan","FD02","Active","2025-12-30T21:16:20.013226+00:00"]
[null,null,null,null,null,null,"PP000003477_Post_Production>Editing","Post Production > Editing    (Starts: 02/01/2023)","PP000003477_Post_Production>Editing-Post Production > Editing    (Starts: 02/01/2023)","Project Plan","FD02","Active","2025-12-30T21:16:20.074068+00:00"]
[null,null,null,null,null,null,"PP000003478_Above_the_Line>Casting","Above the Line > Casting    (Starts: 02/01/2023)","PP000003478_Above_the_Line>Casting-Above the Line > Casting    (Starts: 02/01/2023)","Project Plan","FD02","Active","2025-12-30T21:16:20.013226+00:00"]
[null,null,null,null,null,null,"PP000003478_Production>Technical_Director","Production > Technical Director    (Starts: 02/01/2023)","PP000003478_Production>Technical_Director-Production > Technical Director    (Starts: 02/01/2023)","Project Plan","FD02","Active","2025-12-30T21:16:20.013226+00:00"]
[null,null,null,null,null,null,"PP000003479_Development>Rights","BYUB Development > Rights    (Starts: 02/01/2023)","PP000003479_Development>Rights-BYUB Development > Rights    (Starts: 02/01/2023)","Project Plan","FD02","Active","2025-12-30T21:16:20.074068+00:00"]
[null,null,null,null,null,null,"PP000003479_Production>Production_Management","Production > Production Management    (Starts: 02/01/2023)","PP000003479_Production>Production_Management-Production > Production Management    (Starts: 02/01/2023)","Project Plan","FD02","Active","2025-12-30T21:16:20.074068+00:00"]
[null,null,null,null,null,null,"PP000003481_Above_the_Line>Talent","Above the Line > Talent    (Starts: 02/01/2023)","PP000003481_Above_the_Line>Talent-Above the Line > Talent    (Starts: 02/01/2023)","Project Plan","FD02","Active","2025-12-30T21:16:20.074068+00:00"]
[null,null,null,null,null,null,"PP000003481_Production>Facilities","Production > Facilities    (Starts: 02/01/2023)","PP000003481_Production>Facilities-Production > Facilities    (Starts: 02/01/2023)","Project Plan","FD02","Active","2025-12-30T21:16:20.103528+00:00"]
[null,null,null,null,null,null,"PP000003482_Key_Creative>Photography","BYUB Marketing/Key Creative > Photography    (Starts: 02/01/2023)","PP000003482_Key_Creative>Photography-BYUB Marketing/Key Creative > Photography    (Starts: 02/01/2023)","Project Plan","FD02","Active","2025-12-30T21:16:20.013226+00:00"]
[null,null,null,null,null,null,"PP000003483_Development>Director","BYUB Development > Director    (Starts: 02/01/2023)","PP000003483_Development>Director-BYUB Development > Director    (Starts: 02/01/2023)","Project Plan","FD02","Active","2025-12-30T21:16:20.130216+00:00"]
[null,null,null,null,null,null,"PP000003484_Above_the_Line>Casting","Above the Line > Casting    (Starts: 02/01/2023)","PP000003484_Above_the_Line>Casting-Above the Line > Casting    (Starts: 02/01/2023)","Project Plan","FD02","Active","2025-12-30T21:16:20.042865+00:00"]
[null,null,null,null,null,null,"PP000003484_Production>Uplink","Production > Uplink    (Starts: 02/01/2023)","PP000003484_Production>Uplink-Production > Uplink    (Starts: 02/01/2023)","Project Plan","FD02","Active","2025-12-30T21:16:20.042865+00:00"]
[null,null,null,null,null,null,"PP000003485_Production>Grip","Production > Grip    (Starts: 02/01/2023)","PP000003485_Production>Grip-Production > Grip    (Starts: 02/01/2023)","Project Plan","FD02","Active","2025-12-30T21:16:20.157924+00:00"]
[null,null,null,null,null,null,"PP000003486_Development>Producers","BYUB Development > Producers    (Starts: 02/01/2023)","PP000003486_Development>Producers-BYUB Development > Producers    (Starts: 02/01/2023)","Project Plan","FD02","Active","2025-12-30T21:16:20.042865+00:00"]
[null,null,null,null,null,null,"PP000003486_Production>Production_Assistants","Production > Production Assistants    (Starts: 02/01/2023)","PP000003486_Production>Production_Assistants-Production > Production Assistants    (Starts: 02/01/2023)","Project Plan","FD02","Active","2025-12-30T21:16:20.042865+00:00"]
[null,null,null,null,null,null,"PP000003487_Post_Production>Rights","Post Production > Rights    (Starts: 02/01/2023)","PP000003487_Post_Production>Rights-Post Production > Rights    (Starts: 02/01/2023)","Project Plan","FD02","Active","2025-12-30T21:16:20.103528+00:00"]
[null,null,null,null,null,null,"PP000003488_Production>Rights","Production > Rights    (Starts: 02/01/2023)","PP000003488_Production>Rights-Production > Rights    (Starts: 02/01/2023)","Project Plan","FD02","Active","2025-12-30T21:16:20.074068+00:00"]
[null,null,null,null,null,null,"PP000003489_Production>Camera","Basketball 20-21: Production > Camera    (Starts: 02/01/2023)","PP000003489_Production>Camera-Basketball 20-21: Production > Camera    (Starts: 02/01/2023)","Project Plan","FD02","Active","2025-12-30T21:16:20.157924+00:00"]
[null,null,null,null,null,null,"PP000003489_Production>Equipment","Basketball 20-21: Production > Equipment    (Starts: 02/01/2023)","PP000003489_Production>Equipment-Basketball 20-21: Production > Equipment    (Starts: 02/01/2023)","Project Plan","FD02","Active","2025-12-30T21:16:20.157924+00:00"]
[null,null,null,null,null,null,"PP000003490_Production>Electric","Production > Electric    (Starts: 02/01/2023)","PP000003490_Production>Electric-Production > Electric    (Starts: 02/01/2023)","Project Plan","FD02","Active","2025-12-30T21:16:20.042865+00:00"]
[null,null,null,null,null,null,"PP000003491_Key_Creative>Social_Media","Grace Notes S2: BYUB Marketing/Key Creative > Social Media    (Starts: 02/01/2023)","PP000003491_Key_Creative>Social_Media-Grace Notes S2: BYUB Marketing/Key Creative > Social Media    (Starts: 02/01/2023)","Project Plan","FD02","Active","2025-12-30T21:16:20.18897+00:00"]
[null,null,null,null,null,null,"PP000003491_Production>Travel_Living","Grace Notes S2: Production > Travel & Living    (Starts: 02/01/2023)","PP000003491_Production>Travel_Living-Grace Notes S2: Production > Travel & Living    (Starts: 02/01/2023)","Project Plan","FD02","Active","2025-12-30T21:16:20.18897+00:00"]
[null,null,null,null,null,null,"PP000003493_Development>Locations","BYUB Development > Locations    (Starts: 02/01/2023)","PP000003493_Development>Locations-BYUB Development > Locations    (Starts: 02/01/2023)","Project Plan","FD02","Active","2025-12-30T21:16:20.130216+00:00"]
[null,null,null,null,null,null,"PP000003493_Production>Wardrobe","Production > Wardrobe    (Starts: 02/01/2023)","PP000003493_Production>Wardrobe-Production > Wardrobe    (Starts: 02/01/2023)","Project Plan","FD02","Active","2025-12-30T21:16:20.130216+00:00"]
[null,null,null,null,null,null,"PP000003494_Post_Production>Music","Post Production > Music    (Starts: 02/01/2023)","PP000003494_Post_Production>Music-Post Production > Music    (Starts: 02/01/2023)","Project Plan","FD02","Active","2025-12-30T21:16:20.130216+00:00"]
[null,null,null,null,null,null,"PP000003495_Development>Rights","BYUB Development > Rights    (Starts: 02/01/2023)","PP000003495_Development>Rights-BYUB Development > Rights    (Starts: 02/01/2023)","Project Plan","FD02","Active","2025-12-30T21:16:20.21994+00:00"]
[null,null,null,null,null,null,"PP000003496_Above_the_Line>Research","Above the Line > Research    (Starts: 02/01/2023)","PP000003496_Above_the_Line>Research-Above the Line > Research    (Starts: 02/01/2023)","Project Plan","FD02","Active","2025-12-30T21:16:20.157924+00:00"]
[null,null,null,null,null,null,"PP000003496_Post_Production>VFX","Post Production > VFX    (Starts: 02/01/2023)","PP000003496_Post_Production>VFX-Post Production > VFX    (Starts: 02/01/2023)","Project Plan","FD02","Active","2025-12-30T21:16:20.157924+00:00"]
[null,null,null,null,null,null,"PP000003497_Production>Sound","Production > Audio    (Starts: 02/01/2023)","PP000003497_Production>Sound-Production > Audio    (Starts: 02/01/2023)","Project Plan","FD02","Active","2025-12-30T21:16:20.21994+00:00"]
[null,null,null,null,null,null,"PP000003498_Key_Creative>Photography","BYUB Marketing/Key Creative > Photography    (Starts: 02/01/2023)","PP000003498_Key_Creative>Photography-BYUB Marketing/Key Creative > Photography    (Starts: 02/01/2023)","Project Plan","FD02","Active","2025-12-30T21:16:20.103528+00:00"]
[null,null,null,null,null,null,"PP000003498_Production>Tape","Production > Tape    (Starts: 02/01/2023)","PP000003498_Production>Tape-Production > Tape    (Starts: 02/01/2023)","Project Plan","FD02","Active","2025-12-30T21:16:20.130216+00:00"]
[null,null,null,null,null,null,"PP000003499_Production>Equipment","Production > Equipment    (Starts: 02/01/2023)","PP000003499_Production>Equipment-Production > Equipment    (Starts: 02/01/2023)","Project Plan","FD02","Active","2025-12-30T21:16:20.253019+00:00"]
[null,null,null,null,null,null,"PP000003500_Production>Uplink","Production > Uplink    (Starts: 02/01/2023)","PP000003500_Production>Uplink-Production > Uplink    (Starts: 02/01/2023)","Project Plan","FD02","Active","2025-12-30T21:16:20.18897+00:00"]
[null,null,null,null,null,null,"PP000003501_Development>General_Expenses","BYUB Development > General Expenses    (Starts: 02/01/2023)","PP000003501_Development>General_Expenses-BYUB Development > General Expenses    (Starts: 02/01/2023)","Project Plan","FD02","Active","2025-12-30T21:16:20.253019+00:00"]
[null,null,null,null,null,null,"PP000003502_Development>Music","BYUB Development > Music    (Starts: 02/01/2023)","PP000003502_Development>Music-BYUB Development > Music    (Starts: 02/01/2023)","Project Plan","FD02","Active","2025-12-30T21:16:20.18897+00:00"]
[null,null,null,null,null,null,"PP000003503_Above_the_Line>Director","Above the Line > Director    (Starts: 02/01/2023)","PP000003503_Above_the_Line>Director-Above the Line > Director    (Starts: 02/01/2023)","Project Plan","FD02","Active","2025-12-30T21:16:20.253019+00:00"]
[null,null,null,null,null,null,"PP000003503_Post_Production>Rights","Post Production > Rights    (Starts: 02/01/2023)","PP000003503_Post_Production>Rights-Post Production > Rights    (Starts: 02/01/2023)","Project Plan","FD02","Active","2025-12-30T21:16:20.253019+00:00"]
[null,null,null,null,null,null,"PP000003504_Above_the_Line>Producers","Above the Line > Producers    (Starts: 02/01/2023)","PP000003504_Above_the_Line>Producers-Above the Line > Producers    (Starts: 02/01/2023)","Project Plan","FD02","Active","2025-12-30T21:16:20.21994+00:00"]
[null,null,null,null,null,null,"PP000003504_Production>Rights","Production > Rights    (Starts: 02/01/2023)","PP000003504_Production>Rights-Production > Rights    (Starts: 02/01/2023)","Project Plan","FD02","Active","2025-12-30T21:16:20.21994+00:00"]
[null,null,null,null,null,null,"PP000003536_FA_Production>Props","FA Production > Props    (Starts: 09/30/2024)","PP000003536_FA_Production>Props-FA Production > Props    (Starts: 09/30/2024)","Project Plan","FD02","Active","2025-12-30T21:16:21.512135+00:00"]
[null,null,null,null,null,null,"PP000003538_FA_Production>Stage_Manager","FA Production > Stage Manager    (Starts: 05/01/2024)","PP000003538_FA_Production>Stage_Manager-FA Production > Stage Manager    (Starts: 05/01/2024)","Project Plan","FD02","Active","2025-12-30T21:16:21.48794+00:00"]
[null,null,null,null,null,null,"PP000003542_FA_Production>Stage_Operations","FA Production > Stage Operations    (Starts: 05/01/2024)","PP000003542_FA_Production>Stage_Operations-FA Production > Stage Operations    (Starts: 05/01/2024)","Project Plan","FD02","Active","2025-12-30T21:16:21.48794+00:00"]
[null,null,null,null,null,null,"PP000003544_FA_Production>Front_of_House","FA Production > Front of House    (Starts: 05/01/2024)","PP000003544_FA_Production>Front_of_House-FA Production > Front of House    (Starts: 05/01/2024)","Project Plan","FD02","Active","2025-12-30T21:16:21.512135+00:00"]
[null,null,null,null,null,null,"PP000003548_FA_Production>Producer","FA Production > Producer    (Starts: 05/01/2024)","PP000003548_FA_Production>Producer-FA Production > Producer    (Starts: 05/01/2024)","Project Plan","FD02","Active","2025-12-30T21:16:21.512135+00:00"]
[null,null,null,null,null,null,"PP000003641_Production>Travel_Living","Production > Travel & Living    (Starts: 01/01/2024)","PP000003641_Production>Travel_Living-Production > Travel & Living    (Starts: 01/01/2024)","Project Plan","FD02","Active","2025-12-30T21:16:20.304308+00:00"]
[null,null,null,null,null,null,"PP000003642_Post_Production>Blank_Media_Drives","Post Production > Blank Media/Drives    (Starts: 01/01/2024)","PP000003642_Post_Production>Blank_Media_Drives-Post Production > Blank Media/Drives    (Starts: 01/01/2024)","Project Plan","FD02","Active","2025-12-30T21:16:20.276773+00:00"]
[null,null,null,null,null,null,"PP000003643_Development>Miscellaneous_Crew","BYUB Development > Miscellaneous Crew    (Starts: 01/01/2024)","PP000003643_Development>Miscellaneous_Crew-BYUB Development > Miscellaneous Crew    (Starts: 01/01/2024)","Project Plan","FD02","Active","2025-12-30T21:16:20.304308+00:00"]
[null,null,null,null,null,null,"PP000003643_Production>Locations","Production > Locations    (Starts: 01/01/2024)","PP000003643_Production>Locations-Production > Locations    (Starts: 01/01/2024)","Project Plan","FD02","Active","2025-12-30T21:16:20.304308+00:00"]
[null,null,null,null,null,null,"PP000003644_Post_Production>QC","Post Production > QC    (Starts: 01/01/2024)","PP000003644_Post_Production>QC-Post Production > QC    (Starts: 01/01/2024)","Project Plan","FD02","Active","2025-12-30T21:16:20.304308+00:00"]
[null,null,null,null,null,null,"PP000003645_Development>Miscellaneous_Crew","BYUB Development > Miscellaneous Crew    (Starts: 01/01/2024)","PP000003645_Development>Miscellaneous_Crew-BYUB Development > Miscellaneous Crew    (Starts: 01/01/2024)","Project Plan","FD02","Active","2025-12-30T21:16:20.276773+00:00"]
[null,null,null,null,null,null,"PP000003646_General>Fringe_Benefit","General > Fringe Benefit    (Starts: 01/01/2024)","PP000003646_General>Fringe_Benefit-General > Fringe Benefit    (Starts: 01/01/2024)","Project Plan","FD02","Active","2025-12-30T21:16:20.276773+00:00"]
[null,null,null,null,null,null,"PP000003647_Above_the_Line>Talent","Above the Line > Talent    (Starts: 01/01/2024)","PP000003647_Above_the_Line>Talent-Above the Line > Talent    (Starts: 01/01/2024)","Project Plan","FD02","Active","2025-12-30T21:16:20.330708+00:00"]
[null,null,null,null,null,null,"PP000003647_Production>Craft_Meals","Production > Craft/Meals    (Starts: 01/01/2024)","PP000003647_Production>Craft_Meals-Production > Craft/Meals    (Starts: 01/01/2024)","Project Plan","FD02","Active","2025-12-30T21:16:20.330708+00:00"]
[null,null,null,null,null,null,"PP000003648_Above_the_Line>Talent","Above the Line > Talent    (Starts: 01/01/2024)","PP000003648_Above_the_Line>Talent-Above the Line > Talent    (Starts: 01/01/2024)","Project Plan","FD02","Active","2025-12-30T21:16:20.18897+00:00"]
[null,null,null,null,null,null,"PP000003648_Production>Teleprompter","Production > Teleprompter    (Starts: 01/01/2024)","PP000003648_Production>Teleprompter-Production > Teleprompter    (Starts: 01/01/2024)","Project Plan","FD02","Active","2025-12-30T21:16:20.21994+00:00"]
[null,null,null,null,null,null,"PP000003650_Development>General_Expenses","BYUB Development > General Expenses    (Starts: 01/01/2024)","PP000003650_Development>General_Expenses-BYUB Development > General Expenses    (Starts: 01/01/2024)","Project Plan","FD02","Active","2025-12-30T21:16:20.526374+00:00"]
[null,null,null,null,null,null,"PP000003650_Production>Video_Control","Production > Video Control    (Starts: 01/01/2024)","PP000003650_Production>Video_Control-Production > Video Control    (Starts: 01/01/2024)","Project Plan","FD02","Active","2025-12-30T21:16:20.526374+00:00"]
[null,null,null,null,null,null,"PP000003651_Production>Electric","Production > Electric    (Starts: 01/01/2024)","PP000003651_Production>Electric-Production > Electric    (Starts: 01/01/2024)","Project Plan","FD02","Active","2025-12-30T21:16:20.57225+00:00"]
[null,null,null,null,null,null,"PP000003652_Above_the_Line>Casting","Above the Line > Casting    (Starts: 01/01/2024)","PP000003652_Above_the_Line>Casting-Above the Line > Casting    (Starts: 01/01/2024)","Project Plan","FD02","Active","2025-12-30T21:16:20.526374+00:00"]
[null,null,null,null,null,null,"PP000003652_Production>Miscellaneous_Crew","Production > Miscellaneous Crew    (Starts: 01/01/2024)","PP000003652_Production>Miscellaneous_Crew-Production > Miscellaneous Crew    (Starts: 01/01/2024)","Project Plan","FD02","Active","2025-12-30T21:16:20.526374+00:00"]
[null,null,null,null,null,null,"PP000003653_Production>Uplink","Production > Uplink    (Starts: 01/01/2024)","PP000003653_Production>Uplink-Production > Uplink    (Starts: 01/01/2024)","Project Plan","FD02","Active","2025-12-30T21:16:20.595329+00:00"]
[null,null,null,null,null,null,"PP000003654_Production>Rights","Production > Rights    (Starts: 01/01/2024)","PP000003654_Production>Rights-Production > Rights    (Starts: 01/01/2024)","Project Plan","FD02","Active","2025-12-30T21:16:20.549949+00:00"]
[null,null,null,null,null,null,"PP000003655_General>Production_Assistants","General > Production Assistants    (Starts: 01/01/2024)","PP000003655_General>Production_Assistants-General > Production Assistants    (Starts: 01/01/2024)","Project Plan","FD02","Active","2025-12-30T21:16:20.595329+00:00"]
[null,null,null,null,null,null,"PP000003655_Production>Tape","Production > Tape    (Starts: 01/01/2024)","PP000003655_Production>Tape-Production > Tape    (Starts: 01/01/2024)","Project Plan","FD02","Active","2025-12-30T21:16:20.595329+00:00"]
[null,null,null,null,null,null,"PP000003656_Production>Locations","Production > Locations    (Starts: 01/01/2024)","PP000003656_Production>Locations-Production > Locations    (Starts: 01/01/2024)","Project Plan","FD02","Active","2025-12-30T21:16:20.549949+00:00"]
[null,null,null,null,null,null,"PP000003657_Production>Transportation","The Song: Production > Transportation    (Starts: 01/01/2024)","PP000003657_Production>Transportation-The Song: Production > Transportation    (Starts: 01/01/2024)","Project Plan","FD02","Active","2025-12-30T21:16:20.61849+00:00"]
[null,null,null,null,null,null,"PP000003658_Post_Production>Closed_Captioning","Post Production > Closed Captioning    (Starts: 01/01/2024)","PP000003658_Post_Production>Closed_Captioning-Post Production > Closed Captioning    (Starts: 01/01/2024)","Project Plan","FD02","Active","2025-12-30T21:16:20.549949+00:00"]
[null,null,null,null,null,null,"PP000003659_Development>Miscellaneous_Crew","BYUB Development > Miscellaneous Crew    (Starts: 01/01/2024)","PP000003659_Development>Miscellaneous_Crew-BYUB Development > Miscellaneous Crew    (Starts: 01/01/2024)","Project Plan","FD02","Active","2025-12-30T21:16:20.61849+00:00"]
[null,null,null,null,null,null,"PP000003659_Production>Craft_Meals","Production > Craft/Meals    (Starts: 01/01/2024)","PP000003659_Production>Craft_Meals-Production > Craft/Meals    (Starts: 01/01/2024)","Project Plan","FD02","Active","2025-12-30T21:16:20.643437+00:00"]
[null,null,null,null,null,null,"PP000003660_Post_Production>Music","Post Production > Music    (Starts: 01/01/2024)","PP000003660_Post_Production>Music-Post Production > Music    (Starts: 01/01/2024)","Project Plan","FD02","Active","2025-12-30T21:16:19.862805+00:00"]
[null,null,null,null,null,null,"PP000003661_Above_the_Line>Executive_Producer_Management","Above the Line > Executive Producer/Management    (Starts: 01/01/2024)","PP000003661_Above_the_Line>Executive_Producer_Management-Above the Line > Executive Producer/Management    (Starts: 01/01/2024)","Project Plan","FD02","Active","2025-12-30T21:16:20.276773+00:00"]
[null,null,null,null,null,null,"PP000003662_General>Fringe_Benefit","General > Fringe Benefit    (Starts: 01/01/2024)","PP000003662_General>Fringe_Benefit-General > Fringe Benefit    (Starts: 01/01/2024)","Project Plan","FD02","Active","2025-12-30T21:16:20.358444+00:00"]
[null,null,null,null,null,null,"PP000003663_Development>Director","BYUB Development > Director    (Starts: 01/01/2024)","PP000003663_Development>Director-BYUB Development > Director    (Starts: 01/01/2024)","Project Plan","FD02","Active","2025-12-30T21:16:20.358444+00:00"]
[null,null,null,null,null,null,"PP000003663_Production>Camera","Production > Camera    (Starts: 01/01/2024)","PP000003663_Production>Camera-Production > Camera    (Starts: 01/01/2024)","Project Plan","FD02","Active","2025-12-30T21:16:20.358444+00:00"]
[null,null,null,null,null,null,"PP000003664_Development>Art","BYUB Development > Art    (Starts: 01/01/2024)","PP000003664_Development>Art-BYUB Development > Art    (Starts: 01/01/2024)","Project Plan","FD02","Active","2025-12-30T21:16:20.330708+00:00"]
[null,null,null,null,null,null,"PP000003664_Production>Teleprompter","Production > Teleprompter    (Starts: 01/01/2024)","PP000003664_Production>Teleprompter-Production > Teleprompter    (Starts: 01/01/2024)","Project Plan","FD02","Active","2025-12-30T21:16:20.330708+00:00"]
[null,null,null,null,null,null,"PP000003666_Above_the_Line>Executive_Producer_Management","Above the Line > Executive Producer/Management    (Starts: 01/01/2024)","PP000003666_Above_the_Line>Executive_Producer_Management-Above the Line > Executive Producer/Management    (Starts: 01/01/2024)","Project Plan","FD02","Active","2025-12-30T21:16:20.393771+00:00"]
[null,null,null,null,null,null,"PP000003666_Production>Uplink","Production > Uplink    (Starts: 01/01/2024)","PP000003666_Production>Uplink-Production > Uplink    (Starts: 01/01/2024)","Project Plan","FD02","Active","2025-12-30T21:16:20.393771+00:00"]
[null,null,null,null,null,null,"PP000003667_Post_Production>Editing","Post Production > Editing    (Starts: 01/01/2024)","PP000003667_Post_Production>Editing-Post Production > Editing    (Starts: 01/01/2024)","Project Plan","FD02","Active","2025-12-30T21:16:20.358444+00:00"]
[null,null,null,null,null,null,"PP000003668_Above_the_Line>Casting","Above the Line > Casting    (Starts: 01/01/2024)","PP000003668_Above_the_Line>Casting-Above the Line > Casting    (Starts: 01/01/2024)","Project Plan","FD02","Active","2025-12-30T21:16:20.421836+00:00"]
[null,null,null,null,null,null,"PP000003668_Production>Rights","Production > Rights    (Starts: 01/01/2024)","PP000003668_Production>Rights-Production > Rights    (Starts: 01/01/2024)","Project Plan","FD02","Active","2025-12-30T21:16:20.421836+00:00"]
[null,null,null,null,null,null,"PP000003670_Above_the_Line>Marketing_Assets","Above the Line > Marketing Assets    (Starts: 01/01/2024)","PP000003670_Above_the_Line>Marketing_Assets-Above the Line > Marketing Assets    (Starts: 01/01/2024)","Project Plan","FD02","Active","2025-12-30T21:16:20.421836+00:00"]
[null,null,null,null,null,null,"PP000003670_Above_the_Line>Producers","Above the Line > Producers    (Starts: 01/01/2024)","PP000003670_Above_the_Line>Producers-Above the Line > Producers    (Starts: 01/01/2024)","Project Plan","FD02","Active","2025-12-30T21:16:20.421836+00:00"]
[null,null,null,null,null,null,"PP000003671_Development>Casting","BYUB Development > Casting    (Starts: 01/01/2024)","PP000003671_Development>Casting-BYUB Development > Casting    (Starts: 01/01/2024)","Project Plan","FD02","Active","2025-12-30T21:16:20.358444+00:00"]
[null,null,null,null,null,null,"PP000003671_Production>Sound","Production > Audio    (Starts: 01/01/2024)","PP000003671_Production>Sound-Production > Audio    (Starts: 01/01/2024)","Project Plan","FD02","Active","2025-12-30T21:16:20.393771+00:00"]
[null,null,null,null,null,null,"PP000003672_Production>Electric","Production > Electric    (Starts: 01/01/2024)","PP000003672_Production>Electric-Production > Electric    (Starts: 01/01/2024)","Project Plan","FD02","Active","2025-12-30T21:16:20.478881+00:00"]
[null,null,null,null,null,null,"PP000003673_Development>Director","BYUB Development > Director    (Starts: 01/01/2024)","PP000003673_Development>Director-BYUB Development > Director    (Starts: 01/01/2024)","Project Plan","FD02","Active","2025-12-30T21:16:20.393771+00:00"]
[null,null,null,null,null,null,"PP000003674_Above_the_Line>Director","Above the Line > Director    (Starts: 01/01/2024)","PP000003674_Above_the_Line>Director-Above the Line > Director    (Starts: 01/01/2024)","Project Plan","FD02","Active","2025-12-30T21:16:20.421836+00:00"]
[null,null,null,null,null,null,"PP000003675_Development>Locations","BYUB Development > Locations    (Starts: 01/01/2024)","PP000003675_Development>Locations-BYUB Development > Locations    (Starts: 01/01/2024)","Project Plan","FD02","Active","2025-12-30T21:16:20.449191+00:00"]
[null,null,null,null,null,null,"PP000003675_Production>Grip","Production > Grip    (Starts: 01/01/2024)","PP000003675_Production>Grip-Production > Grip    (Starts: 01/01/2024)","Project Plan","FD02","Active","2025-12-30T21:16:20.449191+00:00"]
[null,null,null,null,null,null,"PP000003676_Post_Production>Music","Post Production > Music    (Starts: 01/01/2024)","PP000003676_Post_Production>Music-Post Production > Music    (Starts: 01/01/2024)","Project Plan","FD02","Active","2025-12-30T21:16:20.478881+00:00"]
[null,null,null,null,null,null,"PP000003677_Post_Production>Sound","Post Production > Audio    (Starts: 01/01/2024)","PP000003677_Post_Production>Sound-Post Production > Audio    (Starts: 01/01/2024)","Project Plan","FD02","Active","2025-12-30T21:16:20.421836+00:00"]
[null,null,null,null,null,null,"PP000003678_Development>Writers","BYUB Development > Writers    (Starts: 01/01/2024)","PP000003678_Development>Writers-BYUB Development > Writers    (Starts: 01/01/2024)","Project Plan","FD02","Active","2025-12-30T21:16:20.478881+00:00"]
[null,null,null,null,null,null,"PP000003679_Above_the_Line>Research","Above the Line > Research    (Starts: 01/01/2024)","PP000003679_Above_the_Line>Research-Above the Line > Research    (Starts: 01/01/2024)","Project Plan","FD02","Active","2025-12-30T21:16:20.449191+00:00"]
[null,null,null,null,null,null,"PP000003679_Production>Camera","Production > Camera    (Starts: 01/01/2024)","PP000003679_Production>Camera-Production > Camera    (Starts: 01/01/2024)","Project Plan","FD02","Active","2025-12-30T21:16:20.449191+00:00"]
[null,null,null,null,null,null,"PP000003680_Post_Production>Blank_Media_Drives","Post Production > Blank Media/Drives    (Starts: 01/01/2024)","PP000003680_Post_Production>Blank_Media_Drives-Post Production > Blank Media/Drives    (Starts: 01/01/2024)","Project Plan","FD02","Active","2025-12-30T21:16:20.502527+00:00"]
[null,null,null,null,null,null,"PP000003680_Production>Technical_Director","Production > Technical Director    (Starts: 01/01/2024)","PP000003680_Production>Technical_Director-Production > Technical Director    (Starts: 01/01/2024)","Project Plan","FD02","Active","2025-12-30T21:16:20.502527+00:00"]
[null,null,null,null,null,null,"PP000003692_Development>Editing","BYUB Development > Editing    (Starts: 01/01/2024)","PP000003692_Development>Editing-BYUB Development > Editing    (Starts: 01/01/2024)","Project Plan","FD02","Active","2025-12-30T21:16:20.502527+00:00"]
[null,null,null,null,null,null,"PP000003692_Development>General_Expenses","BYUB Development > General Expenses    (Starts: 01/01/2024)","PP000003692_Development>General_Expenses-BYUB Development > General Expenses    (Starts: 01/01/2024)","Project Plan","FD02","Active","2025-12-30T21:16:20.502527+00:00"]
[null,null,null,null,null,null,"PP000003693_Development>Miscellaneous_Crew","BYUB Development > Miscellaneous Crew    (Starts: 01/01/2024)","PP000003693_Development>Miscellaneous_Crew-BYUB Development > Miscellaneous Crew    (Starts: 01/01/2024)","Project Plan","FD02","Active","2025-12-30T21:16:20.502527+00:00"]
[null,null,null,null,null,null,"PP000003693_Production>Wardrobe","Production > Wardrobe    (Starts: 01/01/2024)","PP000003693_Production>Wardrobe-Production > Wardrobe    (Starts: 01/01/2024)","Project Plan","FD02","Active","2025-12-30T21:16:20.502527+00:00"]
[null,null,null,null,null,null,"PP000003746_Post_Production>QC","Post Production > QC    (Starts: 01/01/2024)","PP000003746_Post_Production>QC-Post Production > QC    (Starts: 01/01/2024)","Project Plan","FD02","Active","2025-12-30T21:16:20.61849+00:00"]
[null,null,null,null,null,null,"PP000003747_Above_the_Line>Marketing_Assets","Above the Line > Marketing Assets    (Starts: 01/01/2024)","PP000003747_Above_the_Line>Marketing_Assets-Above the Line > Marketing Assets    (Starts: 01/01/2024)","Project Plan","FD02","Active","2025-12-30T21:16:20.526374+00:00"]
[null,null,null,null,null,null,"PP000003747_Production>Miscellaneous_Crew","Production > Miscellaneous Crew    (Starts: 01/01/2024)","PP000003747_Production>Miscellaneous_Crew-Production > Miscellaneous Crew    (Starts: 01/01/2024)","Project Plan","FD02","Active","2025-12-30T21:16:20.526374+00:00"]
[null,null,null,null,null,null,"PP000003749_Above_the_Line>Talent","Above the Line > Talent    (Starts: 01/01/2024)","PP000003749_Above_the_Line>Talent-Above the Line > Talent    (Starts: 01/01/2024)","Project Plan","FD02","Active","2025-12-30T21:16:20.57225+00:00"]
[null,null,null,null,null,null,"PP000003749_Production>Craft_Meals","Production > Craft/Meals    (Starts: 01/01/2024)","PP000003749_Production>Craft_Meals-Production > Craft/Meals    (Starts: 01/01/2024)","Project Plan","FD02","Active","2025-12-30T21:16:20.57225+00:00"]
[null,null,null,null,null,null,"PP000003750_Key_Creative>Promos","BYUB Marketing/Key Creative > Video Promos    (Starts: 01/01/2024)","PP000003750_Key_Creative>Promos-BYUB Marketing/Key Creative > Video Promos    (Starts: 01/01/2024)","Project Plan","FD02","Active","2025-12-30T21:16:20.643437+00:00"]
[null,null,null,null,null,null,"PP000003764_Key_Creative>Promos","BYUB Marketing/Key Creative > Video Promos    (Starts: 01/01/2024)","PP000003764_Key_Creative>Promos-BYUB Marketing/Key Creative > Video Promos    (Starts: 01/01/2024)","Project Plan","FD02","Active","2025-12-30T21:16:20.690758+00:00"]
[null,null,null,null,null,null,"PP000003765_Development>General_Expenses","BYUB Development > General Expenses    (Starts: 01/01/2024)","PP000003765_Development>General_Expenses-BYUB Development > General Expenses    (Starts: 01/01/2024)","Project Plan","FD02","Active","2025-12-30T21:16:20.739839+00:00"]
[null,null,null,null,null,null,"PP000003765_Production>Video_Control","Production > Video Control    (Starts: 01/01/2024)","PP000003765_Production>Video_Control-Production > Video Control    (Starts: 01/01/2024)","Project Plan","FD02","Active","2025-12-30T21:16:20.739839+00:00"]
[null,null,null,null,null,null,"PP000003766_Production>Graphics","Production > Graphics    (Starts: 01/01/2024)","PP000003766_Production>Graphics-Production > Graphics    (Starts: 01/01/2024)","Project Plan","FD02","Active","2025-12-30T21:16:20.690758+00:00"]
[null,null,null,null,null,null,"PP000003767_Development>Producers","BYUB Development > Producers    (Starts: 01/01/2024)","PP000003767_Development>Producers-BYUB Development > Producers    (Starts: 01/01/2024)","Project Plan","FD02","Active","2025-12-30T21:16:20.71455+00:00"]
[null,null,null,null,null,null,"PP000003767_Production>Miscellaneous_Crew","Production > Miscellaneous Crew    (Starts: 01/01/2024)","PP000003767_Production>Miscellaneous_Crew-Production > Miscellaneous Crew    (Starts: 01/01/2024)","Project Plan","FD02","Active","2025-12-30T21:16:20.739839+00:00"]
[null,null,null,null,null,null,"PP000003769_Above_the_Line>Producers","Above the Line > Producers    (Starts: 01/01/2024)","PP000003769_Above_the_Line>Producers-Above the Line > Producers    (Starts: 01/01/2024)","Project Plan","FD02","Active","2025-12-30T21:16:20.739839+00:00"]
[null,null,null,null,null,null,"PP000003769_Post_Production>Music","Post Production > Music    (Starts: 01/01/2024)","PP000003769_Post_Production>Music-Post Production > Music    (Starts: 01/01/2024)","Project Plan","FD02","Active","2025-12-30T21:16:20.739839+00:00"]
[null,null,null,null,null,null,"PP000003770_General>Production_Assistants","General > Production Assistants    (Starts: 01/01/2024)","PP000003770_General>Production_Assistants-General > Production Assistants    (Starts: 01/01/2024)","Project Plan","FD02","Active","2025-12-30T21:16:20.690758+00:00"]
[null,null,null,null,null,null,"PP000003771_Development>Art","BYUB Development > Art    (Starts: 01/01/2024)","PP000003771_Development>Art-BYUB Development > Art    (Starts: 01/01/2024)","Project Plan","FD02","Active","2025-12-30T21:16:20.763652+00:00"]
[null,null,null,null,null,null,"PP000003771_Production>Engineering","Production > Engineering    (Starts: 01/01/2024)","PP000003771_Production>Engineering-Production > Engineering    (Starts: 01/01/2024)","Project Plan","FD02","Active","2025-12-30T21:16:20.763652+00:00"]
[null,null,null,null,null,null,"PP000003772_Key_Creative>Photography","BYUB Marketing/Key Creative > Photography    (Starts: 01/01/2024)","PP000003772_Key_Creative>Photography-BYUB Marketing/Key Creative > Photography    (Starts: 01/01/2024)","Project Plan","FD02","Active","2025-12-30T21:16:20.71455+00:00"]
[null,null,null,null,null,null,"PP000003772_Production>Travel_Living","Production > Travel & Living    (Starts: 01/01/2024)","PP000003772_Production>Travel_Living-Production > Travel & Living    (Starts: 01/01/2024)","Project Plan","FD02","Active","2025-12-30T21:16:20.71455+00:00"]
[null,null,null,null,null,null,"PP000003774_Development>Miscellaneous_Crew","BYUB Development > Miscellaneous Crew    (Starts: 01/01/2024)","PP000003774_Development>Miscellaneous_Crew-BYUB Development > Miscellaneous Crew    (Starts: 01/01/2024)","Project Plan","FD02","Active","2025-12-30T21:16:20.667594+00:00"]
[null,null,null,null,null,null,"PP000003774_Production>Locations","Production > Locations    (Starts: 01/01/2024)","PP000003774_Production>Locations-Production > Locations    (Starts: 01/01/2024)","Project Plan","FD02","Active","2025-12-30T21:16:20.667594+00:00"]
[null,null,null,null,null,null,"PP000003775_Development>Editing","BYUB Development > Editing    (Starts: 01/01/2024)","PP000003775_Development>Editing-BYUB Development > Editing    (Starts: 01/01/2024)","Project Plan","FD02","Active","2025-12-30T21:16:20.57225+00:00"]
[null,null,null,null,null,null,"PP000003776_Above_the_Line>Executive_Producer_Management","Above the Line > Executive Producer/Management    (Starts: 01/01/2024)","PP000003776_Above_the_Line>Executive_Producer_Management-Above the Line > Executive Producer/Management    (Starts: 01/01/2024)","Project Plan","FD02","Active","2025-12-30T21:16:20.643437+00:00"]
[null,null,null,null,null,null,"PP000003776_Production>Production_Management","Production > Production Management    (Starts: 01/01/2024)","PP000003776_Production>Production_Management-Production > Production Management    (Starts: 01/01/2024)","Project Plan","FD02","Active","2025-12-30T21:16:20.667594+00:00"]
[null,null,null,null,null,null,"PP000003783_Above_the_Line>Talent","Above the Line > Talent    (Starts: 01/01/2024)","PP000003783_Above_the_Line>Talent-Above the Line > Talent    (Starts: 01/01/2024)","Project Plan","FD02","Active","2025-12-30T21:16:20.595329+00:00"]
[null,null,null,null,null,null,"PP000003783_Production>Production_Assistants","Production > Production Assistants    (Starts: 01/01/2024)","PP000003783_Production>Production_Assistants-Production > Production Assistants    (Starts: 01/01/2024)","Project Plan","FD02","Active","2025-12-30T21:16:20.595329+00:00"]
[null,null,null,null,null,null,"PP000003784_Key_Creative>Photography","BYUB Marketing/Key Creative > Photography    (Starts: 01/01/2024)","PP000003784_Key_Creative>Photography-BYUB Marketing/Key Creative > Photography    (Starts: 01/01/2024)","Project Plan","FD02","Active","2025-12-30T21:16:20.667594+00:00"]
[null,null,null,null,null,null,"PP000003784_Production>Teleprompter","Production > Teleprompter    (Starts: 01/01/2024)","PP000003784_Production>Teleprompter-Production > Teleprompter    (Starts: 01/01/2024)","Project Plan","FD02","Active","2025-12-30T21:16:20.667594+00:00"]
[null,null,null,null,null,null,"PP000003786_Development>General_Expenses","BYUB Development > General Expenses    (Starts: 01/01/2024)","PP000003786_Development>General_Expenses-BYUB Development > General Expenses    (Starts: 01/01/2024)","Project Plan","FD02","Active","2025-12-30T21:16:19.89184+00:00"]
[null,null,null,null,null,null,"PP000003786_Production>Art","Production > Art    (Starts: 01/01/2024)","PP000003786_Production>Art-Production > Art    (Starts: 01/01/2024)","Project Plan","FD02","Active","2025-12-30T21:16:19.89184+00:00"]
[null,null,null,null,null,null,"PP000003787_Post_Production>Editing","Post Production > Editing    (Starts: 01/01/2024)","PP000003787_Post_Production>Editing-Post Production > Editing    (Starts: 01/01/2024)","Project Plan","FD02","Active","2025-12-30T21:16:20.71455+00:00"]
[null,null,null,null,null,null,"PP000003788_Development>Producers","BYUB Development > Producers    (Starts: 01/01/2024)","PP000003788_Development>Producers-BYUB Development > Producers    (Starts: 01/01/2024)","Project Plan","FD02","Active","2025-12-30T21:16:20.739839+00:00"]
[null,null,null,null,null,null,"PP000003788_Production>Teleprompter","Production > Teleprompter    (Starts: 01/01/2024)","PP000003788_Production>Teleprompter-Production > Teleprompter    (Starts: 01/01/2024)","Project Plan","FD02","Active","2025-12-30T21:16:20.763652+00:00"]
[null,null,null,null,null,null,"PP000003995_FA_Production>FA_Makeup_Hair","FA Production > FA Makeup & Hair    (Starts: 10/01/2024)","PP000003995_FA_Production>FA_Makeup_Hair-FA Production > FA Makeup & Hair    (Starts: 10/01/2024)","Project Plan","FD02","Active","2025-12-30T21:16:26.181103+00:00"]
[null,null,null,null,null,null,"PP000004370_BYUB_Production>Art","Production > Art","PP000004370_BYUB_Production>Art-Production > Art","Project Plan","FD02","Active","2025-12-30T21:16:35.374307+00:00"]
[null,null,null,null,null,null,"PPIT000000211_OIT>a>Deliver","OIT > Deliver  (01/01/2023 - 02/28/2026)","PPIT000000211_OIT>a>Deliver-OIT > Deliver  (01/01/2023 - 02/28/2026)","Project Plan","FD06","Active","2025-12-30T21:16:20.786926+00:00"]
[null,null,null,null,null,null,"PPIT000000233_OIT>a>Deliver","OIT > Deliver  (01/01/2023 - 02/28/2026)","PPIT000000233_OIT>a>Deliver-OIT > Deliver  (01/01/2023 - 02/28/2026)","Project Plan","FD06","Active","2025-12-30T21:16:20.763652+00:00"]
[null,null,null,null,null,null,"PPIT000000292_OIT>a>Deliver","OIT > Deliver  (01/01/2023 - 02/28/2026)","PPIT000000292_OIT>a>Deliver-OIT > Deliver  (01/01/2023 - 02/28/2026)","Project Plan","FD06","Active","2025-12-30T21:16:20.786926+00:00"]
[null,null,null,null,null,null,"PPIT000000377_OIT>a>Deliver","OIT > Deliver    (Starts: 01/01/2025)","PPIT000000377_OIT>a>Deliver-OIT > Deliver    (Starts: 01/01/2025)","Project Plan","FD06","Active","2025-12-30T21:16:20.812104+00:00"]
[null,null,null,null,null,null,"PPIT000000482_OIT>a>Deliver","OIT > Deliver    (Starts: 01/01/2025)","PPIT000000482_OIT>a>Deliver-OIT > Deliver    (Starts: 01/01/2025)","Project Plan","FD06","Active","2025-12-30T21:16:20.812104+00:00"]
[null,null,null,null,null,null,"PPIT000000681_OIT>a>Deliver","OIT > Deliver    (Starts: 01/01/2025)","PPIT000000681_OIT>a>Deliver-OIT > Deliver    (Starts: 01/01/2025)","Project Plan","FD06","Active","2025-12-30T21:16:20.863811+00:00"]
[null,null,null,null,null,null,"PPIT000001103_OIT>a>Deliver","OIT > Deliver    (Starts: 01/01/2025)","PPIT000001103_OIT>a>Deliver-OIT > Deliver    (Starts: 01/01/2025)","Project Plan","FD06","Active","2025-12-30T21:16:26.181103+00:00"]
[null,null,null,null,null,null,"PPIT000001175_OIT>a>Deliver","PJIT-000001175 ESC N131 ","PPIT000001175_OIT>a>Deliver-PJIT-000001175 ESC N131 "," Classroom Presentation System (PRJ-11826) (Inactive): OIT > Deliver    (Starts: 01/01/2025)","Cost Center","Project Plan","2025-12-30T21:16:26.211884+00:00"]
[null,null,null,null,null,null,"PPOP000000103_OIT>c>Order_Fulfillment","OIT > Order Fulfillment  (01/01/2025 - 12/31/2025)","PPOP000000103_OIT>c>Order_Fulfillment-OIT > Order Fulfillment  (01/01/2025 - 12/31/2025)","Project Plan","FD01","Active","2025-12-30T21:16:21.48794+00:00"]
[null,null,null,null,null,null,"PPOP000000117_OIT>a>Maintenance","OIT > Maintenance  (01/01/2025 - 12/31/2025)","PPOP000000117_OIT>a>Maintenance-OIT > Maintenance  (01/01/2025 - 12/31/2025)","Project Plan","FD01","Active","2025-12-30T21:16:21.512135+00:00"]
[null,null,null,null,null,null,"PPOP000000119_OIT>d>User_Support","OIT > User Support  (01/01/2025 - 12/31/2025)","PPOP000000119_OIT>d>User_Support-OIT > User Support  (01/01/2025 - 12/31/2025)","Project Plan","FD01","Active","2025-12-30T21:16:21.512135+00:00"]
[null,null,null,null,null,null,"PPOP000000135_OIT>e>Consultation_Planning","OIT > Consultation & Planning  (01/01/2025 - 12/31/2025)","PPOP000000135_OIT>e>Consultation_Planning-OIT > Consultation & Planning  (01/01/2025 - 12/31/2025)","Project Plan","FD01","Active","2025-12-30T21:16:21.512135+00:00"]
[null,null,null,null,null,null,"PPOP000000146_OIT>d>User_Support","OIT > User Support  (01/01/2025 - 12/31/2025)","PPOP000000146_OIT>d>User_Support-OIT > User Support  (01/01/2025 - 12/31/2025)","Project Plan","FD01","Active","2025-12-30T21:16:21.538966+00:00"]
[null,null,null,null,null,null,"PPOP000000154_OIT>b>Enhancement","OIT > Enhancement  (01/01/2025 - 12/31/2025)","PPOP000000154_OIT>b>Enhancement-OIT > Enhancement  (01/01/2025 - 12/31/2025)","Project Plan","FD01","Active","2025-12-30T21:16:21.538966+00:00"]
[null,null,null,null,null,null,"PPOP000000170_OIT>a>Deliver","OIT > Deliver    (Starts: 01/01/2025)","PPOP000000170_OIT>a>Deliver-OIT > Deliver    (Starts: 01/01/2025)","Project Plan","FD01","Active","2025-12-30T21:16:21.359296+00:00"]
[null,null,null,null,null,null,"PPOP000000236_OIT>c>Order_Fulfillment","OIT > Order Fulfillment","PPOP000000236_OIT>c>Order_Fulfillment-OIT > Order Fulfillment","Project Plan","FD01","Active","2025-12-30T21:16:21.384815+00:00"]
[null,null,null,null,null,null,"PPOP000000315_OIT>a>Deliver","OIT > Order Fulfillment    (Starts: 01/01/2025)","PPOP000000315_OIT>a>Deliver-OIT > Order Fulfillment    (Starts: 01/01/2025)","Project Plan","FD02","Active","2025-12-30T21:16:26.211884+00:00"]
[null,null,null,null,null,null,"PPOP000000321_OIT>e>Consultation_Planning","OIT > Consultation & Planning","PPOP000000321_OIT>e>Consultation_Planning-OIT > Consultation & Planning","Project Plan","FD01","Active","2025-12-30T21:16:26.211884+00:00"]
[null,null,null,null,null,null,"PPOP000000420_OIT>c>Order_Fulfillment","OIT > Order Fulfillment  (01/01/2025 - 12/31/2025)","PPOP000000420_OIT>c>Order_Fulfillment-OIT > Order Fulfillment  (01/01/2025 - 12/31/2025)","Project Plan","FD01","Active","2025-12-30T21:16:34.914627+00:00"]
[null,null,null,null,null,null,"PPOP000000450_OIT>c>Order_Fulfillment","OIT > Order Fulfillment  (01/01/2025 - 12/31/2025)","PPOP000000450_OIT>c>Order_Fulfillment-OIT > Order Fulfillment  (01/01/2025 - 12/31/2025)","Project Plan","FD01","Active","2025-12-30T21:16:35.025507+00:00"]
[null,null,null,null,null,null,"PPOP000000463_OIT>e>Consultation_Planning","OIT > Consultation & Planning  (01/01/2025 - 12/31/2025)","PPOP000000463_OIT>e>Consultation_Planning-OIT > Consultation & Planning  (01/01/2025 - 12/31/2025)","Project Plan","FD01","Active","2025-12-30T21:16:35.052633+00:00"]
[null,null,null,null,null,null,"PPOP000000480_OIT>d>User_Support","OIT > User Support  (01/01/2025 - 12/31/2025)","PPOP000000480_OIT>d>User_Support-OIT > User Support  (01/01/2025 - 12/31/2025)","Project Plan","FD01","Active","2025-12-30T21:16:35.126525+00:00"]
[null,null,null,null,null,null,"PPOP000000489_OIT>d>User_Support","OIT > User Support  (01/01/2025 - 12/31/2025)","PPOP000000489_OIT>d>User_Support-OIT > User Support  (01/01/2025 - 12/31/2025)","Project Plan","FD01","Active","2025-12-30T21:16:35.100004+00:00"]
[null,null,null,null,null,null,"PPOP000000519_OIT>c>Order_Fulfillment","OIT > Order Fulfillment  (01/01/2025 - 12/31/2025)","PPOP000000519_OIT>c>Order_Fulfillment-OIT > Order Fulfillment  (01/01/2025 - 12/31/2025)","Project Plan","FD01","Active","2025-12-30T21:16:35.207951+00:00"]
[null,null,null,null,null,null,"PPOP000000543_OIT>c>Order_Fulfillment","OIT > Order Fulfillment  (01/01/2025 - 12/31/2025)","PPOP000000543_OIT>c>Order_Fulfillment-OIT > Order Fulfillment  (01/01/2025 - 12/31/2025)","Project Plan","FD01","Active","2025-12-30T21:16:35.263652+00:00"]
[null,null,null,null,null,null,"PPOP000000588_OIT>e>Consultation_Planning","OIT > Consultation & Planning  (01/01/2025 - 12/31/2025)","PPOP000000588_OIT>e>Consultation_Planning-OIT > Consultation & Planning  (01/01/2025 - 12/31/2025)","Project Plan","FD01","Active","2025-12-30T21:16:35.321311+00:00"]
[null,null,null,null,null,null,"PPOP000000616_OIT>d>User_Support","OIT > User Support  (01/01/2025 - 12/31/2025)","PPOP000000616_OIT>d>User_Support-OIT > User Support  (01/01/2025 - 12/31/2025)","Project Plan","FD01","Active","2025-12-30T21:16:35.601044+00:00"]
[null,null,null,null,null,null,"PPOP000000712_OIT>c>Order_Fulfillment","OIT > Order Fulfillment  (01/01/2025 - 12/31/2025)","PPOP000000712_OIT>c>Order_Fulfillment-OIT > Order Fulfillment  (01/01/2025 - 12/31/2025)","Project Plan","FD01","Active","2025-12-30T21:16:36.228545+00:00"]
[null,null,null,null,null,null,"PPOP000000747_OIT>e>Consultation_Planning","OIT > Consultation & Planning  (01/01/2025 - 12/31/2025)","PPOP000000747_OIT>e>Consultation_Planning-OIT > Consultation & Planning  (01/01/2025 - 12/31/2025)","Project Plan","FD02","Active","2025-12-30T21:16:36.305617+00:00"]
[null,null,null,null,null,null,"PPOP000000756_OIT>b>Enhancement","OIT > Enhancement  (01/01/2025 - 12/31/2025)","PPOP000000756_OIT>b>Enhancement-OIT > Enhancement  (01/01/2025 - 12/31/2025)","Project Plan","FD01","Active","2025-12-30T21:16:36.328629+00:00"]
[null,null,null,null,null,null,"PPOP000000771_OIT>a>Maintenance","OIT > Maintenance  (01/01/2025 - 12/31/2025)","PPOP000000771_OIT>a>Maintenance-OIT > Maintenance  (01/01/2025 - 12/31/2025)","Project Plan","FD02","Active","2025-12-30T21:16:36.354809+00:00"]
[null,null,null,null,null,null,"PPOP000000777_OIT>d>User_Support","OIT > User Support  (01/01/2025 - 12/31/2025)","PPOP000000777_OIT>d>User_Support-OIT > User Support  (01/01/2025 - 12/31/2025)","Project Plan","FD02","Active","2025-12-30T21:16:36.451138+00:00"]
[null,null,null,null,null,null,"PPOP000000798_OIT>a>Maintenance","OIT > Maintenance  (01/01/2025 - 12/31/2025)","PPOP000000798_OIT>a>Maintenance-OIT > Maintenance  (01/01/2025 - 12/31/2025)","Project Plan","FD01","Active","2025-12-30T21:16:36.476904+00:00"]
[null,null,null,null,null,null,"PPOP000000814_OIT>c>Order_Fulfillment","OIT > Order Fulfillment  (01/01/2025 - 12/31/2025)","PPOP000000814_OIT>c>Order_Fulfillment-OIT > Order Fulfillment  (01/01/2025 - 12/31/2025)","Project Plan","FD02","Active","2025-12-30T21:16:36.501015+00:00"]
[null,null,null,null,null,null,"PPOP000000822_OIT>a>Maintenance","OIT > Maintenance  (01/01/2025 - 12/31/2025)","PPOP000000822_OIT>a>Maintenance-OIT > Maintenance  (01/01/2025 - 12/31/2025)","Project Plan","FD01","Active","2025-12-30T21:16:36.551193+00:00"]
[null,null,null,null,null,null,"PPOP000000831_OIT>e>Consultation_Planning","OIT > Consultation & Planning  (01/01/2025 - 12/31/2025)","PPOP000000831_OIT>e>Consultation_Planning-OIT > Consultation & Planning  (01/01/2025 - 12/31/2025)","Project Plan","FD01","Active","2025-12-30T21:16:36.551193+00:00"]
[null,null,null,null,null,null,"PPOP000000839_OIT>b>Enhancement","OIT > Enhancement  (01/01/2025 - 12/31/2025)","PPOP000000839_OIT>b>Enhancement-OIT > Enhancement  (01/01/2025 - 12/31/2025)","Project Plan","FD01","Active","2025-12-30T21:16:36.575202+00:00"]
[null,null,null,null,null,null,"PPOP000000856_OIT>c>Order_Fulfillment","OIT > Order Fulfillment  (01/01/2025 - 06/30/2026)","PPOP000000856_OIT>c>Order_Fulfillment-OIT > Order Fulfillment  (01/01/2025 - 06/30/2026)","Project Plan","FD01","Active","2026-01-07T03:03:53.142333+00:00"]
[null,null,null,null,null,null,"PPOP000000866_OIT>b>Enhancement","OIT > Enhancement  (01/01/2025 - 12/31/2025)","PPOP000000866_OIT>b>Enhancement-OIT > Enhancement  (01/01/2025 - 12/31/2025)","Project Plan","FD06","Active","2025-12-30T21:16:36.676833+00:00"]
[null,null,null,null,null,null,"PPOP000000872_OIT>e>Consultation_Planning","OIT > Consultation & Planning  (01/01/2025 - 12/31/2025)","PPOP000000872_OIT>e>Consultation_Planning-OIT > Consultation & Planning  (01/01/2025 - 12/31/2025)","Project Plan","FD06","Active","2025-12-30T21:16:36.700786+00:00"]
[null,null,null,null,null,null,"PPOP000000885_OIT>e>Consultation_Planning","OIT > Consultation & Planning  (01/01/2025 - 12/31/2025)","PPOP000000885_OIT>e>Consultation_Planning-OIT > Consultation & Planning  (01/01/2025 - 12/31/2025)","Project Plan","FD01","Active","2026-01-07T03:03:53.193525+00:00"]
[null,null,null,null,null,null,"PPOP000000889_OIT>a>Maintenance","OIT > Maintenance  (01/01/2025 - 12/31/2025)","PPOP000000889_OIT>a>Maintenance-OIT > Maintenance  (01/01/2025 - 12/31/2025)","Project Plan","FD01","Active","2025-12-30T21:16:36.751763+00:00"]
[null,null,null,null,null,null,"PPOP000000897_OIT>d>User_Support","OIT > User Support  (01/01/2026 - 12/31/2026)","PPOP000000897_OIT>d>User_Support-OIT > User Support  (01/01/2026 - 12/31/2026)","Project Plan","FD01","Active","2026-01-03T03:03:44.023784+00:00"]
[null,null,null,null,null,null,"PPOP000000907_OIT>c>Order_Fulfillment","OIT > Order Fulfillment  (01/01/2026 - 12/31/2026)","PPOP000000907_OIT>c>Order_Fulfillment-OIT > Order Fulfillment  (01/01/2026 - 12/31/2026)","Project Plan","FD01","Active","2026-01-06T03:03:18.269071+00:00"]
[null,null,null,null,null,null,"PPOP000000925_OIT>a>Maintenance","OIT > Maintenance  (01/01/2026 - 12/31/2026)","PPOP000000925_OIT>a>Maintenance-OIT > Maintenance  (01/01/2026 - 12/31/2026)","Project Plan","FD01","Active","2026-01-06T03:03:18.228527+00:00"]
[null,null,null,null,null,null,"PPOP000000932_OIT>a>Maintenance","OIT > Maintenance  (01/01/2026 - 12/31/2026)","PPOP000000932_OIT>a>Maintenance-OIT > Maintenance  (01/01/2026 - 12/31/2026)","Project Plan","FD01","Active","2026-01-06T03:03:18.228527+00:00"]
[null,null,null,null,null,null,"PPOP000000941_OIT>e>Consultation_Planning","OIT > Consultation & Planning  (01/01/2026 - 12/31/2026)","PPOP000000941_OIT>e>Consultation_Planning-OIT > Consultation & Planning  (01/01/2026 - 12/31/2026)","Project Plan","FD01","Active","2026-01-06T03:03:18.269071+00:00"]
[null,null,null,null,null,null,"PPOP000000955_OIT>b>Enhancement","OIT > Enhancement  (01/01/2026 - 12/31/2026)","PPOP000000955_OIT>b>Enhancement-OIT > Enhancement  (01/01/2026 - 12/31/2026)","Project Plan","FD01","Active","2026-01-06T03:03:18.269071+00:00"]
[null,null,null,null,null,null,"PPOP000000965_OIT>c>Order_Fulfillment","OIT > Order Fulfillment  (01/01/2026 - 12/31/2026)","PPOP000000965_OIT>c>Order_Fulfillment-OIT > Order Fulfillment  (01/01/2026 - 12/31/2026)","Project Plan","FD01","Active","2026-01-06T03:03:18.269071+00:00"]
[null,null,null,null,null,null,"PPOP000000995_OIT>b>Enhancement","OIT > Enhancement  (01/01/2026 - 12/31/2026)","PPOP000000995_OIT>b>Enhancement-OIT > Enhancement  (01/01/2026 - 12/31/2026)","Project Plan","FD01","Active","2026-01-07T03:03:53.193525+00:00"]
[null,null,null,null,null,null,"PPOP000001001_OIT>e>Consultation_Planning","OIT > Consultation & Planning  (01/01/2026 - 12/31/2026)","PPOP000001001_OIT>e>Consultation_Planning-OIT > Consultation & Planning  (01/01/2026 - 12/31/2026)","Project Plan","FD01","Active","2026-01-07T03:03:53.193525+00:00"]
[null,null,null,null,null,null,"PROJECT_PLAN_TASK-3-100310","Production > Travel & Living","PROJECT_PLAN_TASK-3-100310-Production > Travel & Living","Project Plan","FD02","Active","2025-12-30T21:16:35.348017+00:00"]
[null,null,null,null,null,null,"PROJECT_PLAN_TASK-3-100348","Above the Line > Craft/Meals","PROJECT_PLAN_TASK-3-100348-Above the Line > Craft/Meals","Project Plan","FD02","Active","2025-12-30T21:16:35.447554+00:00"]
[null,null,null,null,null,null,"PROJECT_PLAN_TASK-3-100691","Production > Technical Director","PROJECT_PLAN_TASK-3-100691-Production > Technical Director","Project Plan","FD02","Active","2025-12-30T21:16:35.447554+00:00"]
[null,null,null,null,null,null,"PROJECT_PLAN_TASK-3-100795","Above the Line > Talent","PROJECT_PLAN_TASK-3-100795-Above the Line > Talent","Project Plan","FD02","Active","2025-12-30T21:16:35.400072+00:00"]
[null,null,null,null,null,null,"PROJECT_PLAN_TASK-3-100808","Production > Makeup & Hair","PROJECT_PLAN_TASK-3-100808-Production > Makeup & Hair","Project Plan","FD02","Active","2025-12-30T21:16:35.400072+00:00"]
[null,null,null,null,null,null,"PROJECT_PLAN_TASK-3-100876","Production > Video Control","PROJECT_PLAN_TASK-3-100876-Production > Video Control","Project Plan","FD02","Active","2025-12-30T21:16:35.447554+00:00"]
[null,null,null,null,null,null,"PROJECT_PLAN_TASK-3-100909","BYUB Development > Music","PROJECT_PLAN_TASK-3-100909-BYUB Development > Music","Project Plan","FD02","Active","2025-12-30T21:16:35.447554+00:00"]
[null,null,null,null,null,null,"PROJECT_PLAN_TASK-3-100942","Production > Wardrobe","PROJECT_PLAN_TASK-3-100942-Production > Wardrobe","Project Plan","FD02","Active","2025-12-30T21:16:35.400072+00:00"]
[null,null,null,null,null,null,"PROJECT_PLAN_TASK-3-101031","BYUB Marketing/Key Creative > Marketing Day","PROJECT_PLAN_TASK-3-101031-BYUB Marketing/Key Creative > Marketing Day","Project Plan","FD02","Active","2025-12-30T21:16:35.400072+00:00"]
[null,null,null,null,null,null,"PROJECT_PLAN_TASK-3-101079","Production > Uplink","PROJECT_PLAN_TASK-3-101079-Production > Uplink","Project Plan","FD02","Active","2025-12-30T21:16:35.423341+00:00"]
[null,null,null,null,null,null,"PROJECT_PLAN_TASK-3-101112","BYUB Development > Editing","PROJECT_PLAN_TASK-3-101112-BYUB Development > Editing","Project Plan","FD02","Active","2025-12-30T21:16:35.423341+00:00"]
[null,null,null,null,null,null,"PROJECT_PLAN_TASK-3-101161","Post Production > Audio","PROJECT_PLAN_TASK-3-101161-Post Production > Audio","Project Plan","FD02","Active","2025-12-30T21:16:35.374307+00:00"]
[null,null,null,null,null,null,"PROJECT_PLAN_TASK-3-101221","Post Production > Graphics","PROJECT_PLAN_TASK-3-101221-Post Production > Graphics","Project Plan","FD02","Active","2025-12-30T21:16:35.447554+00:00"]
[null,null,null,null,null,null,"PROJECT_PLAN_TASK-3-101243","BYUB Development > Locations","PROJECT_PLAN_TASK-3-101243-BYUB Development > Locations","Project Plan","FD02","Active","2025-12-30T21:16:35.447554+00:00"]
[null,null,null,null,null,null,"PROJECT_PLAN_TASK-3-101333","Production > Technical Director","PROJECT_PLAN_TASK-3-101333-Production > Technical Director","Project Plan","FD02","Active","2025-12-30T21:16:35.423341+00:00"]
[null,null,null,null,null,null,"PROJECT_PLAN_TASK-3-101366","BYUB Development > Miscellaneous Crew","PROJECT_PLAN_TASK-3-101366-BYUB Development > Miscellaneous Crew","Project Plan","FD02","Active","2025-12-30T21:16:35.423341+00:00"]
[null,null,null,null,null,null,"PROJECT_PLAN_TASK-3-101406","Production > Rights","PROJECT_PLAN_TASK-3-101406-Production > Rights","Project Plan","FD02","Active","2025-12-30T21:16:35.374307+00:00"]
[null,null,null,null,null,null,"PROJECT_PLAN_TASK-3-101693","Production > Art","PROJECT_PLAN_TASK-3-101693-Production > Art","Project Plan","FD02","Active","2025-12-30T21:16:35.471428+00:00"]
[null,null,null,null,null,null,"PROJECT_PLAN_TASK-3-101742","BYUB Development > Casting","PROJECT_PLAN_TASK-3-101742-BYUB Development > Casting","Project Plan","FD02","Active","2025-12-30T21:16:35.471428+00:00"]
[null,null,null,null,null,null,"PROJECT_PLAN_TASK-3-101829","Above the Line > Research","PROJECT_PLAN_TASK-3-101829-Above the Line > Research","Project Plan","FD02","Active","2025-12-30T21:16:35.471428+00:00"]
[null,null,null,null,null,null,"PROJECT_PLAN_TASK-3-101839","Production > Floor Director","PROJECT_PLAN_TASK-3-101839-Production > Floor Director","Project Plan","FD02","Active","2025-12-30T21:16:35.471428+00:00"]
[null,null,null,null,null,null,"PROJECT_PLAN_TASK-3-101910","Production > Tape","PROJECT_PLAN_TASK-3-101910-Production > Tape","Project Plan","FD02","Active","2025-12-30T21:16:35.497638+00:00"]
[null,null,null,null,null,null,"PROJECT_PLAN_TASK-3-101943","BYUB Development > Director","PROJECT_PLAN_TASK-3-101943-BYUB Development > Director","Project Plan","FD02","Active","2025-12-30T21:16:35.497638+00:00"]
[null,null,null,null,null,null,"PROJECT_PLAN_TASK-3-101985","Post Production > Closed Captioning","PROJECT_PLAN_TASK-3-101985-Post Production > Closed Captioning","Project Plan","FD02","Active","2025-12-30T21:16:35.497638+00:00"]
[null,null,null,null,null,null,"PROJECT_PLAN_TASK-3-102024","Production > Engineering","PROJECT_PLAN_TASK-3-102024-Production > Engineering","Project Plan","FD02","Active","2025-12-30T21:16:35.497638+00:00"]
[null,null,null,null,null,null,"PROJECT_PLAN_TASK-3-102443","FA Production > Creative","PROJECT_PLAN_TASK-3-102443-FA Production > Creative","Project Plan","FD02","Active","2025-12-30T21:16:35.025507+00:00"]
[null,null,null,null,null,null,"PROJECT_PLAN_TASK-3-102678","FA Production > Stage Operations","PROJECT_PLAN_TASK-3-102678-FA Production > Stage Operations","Project Plan","FD02","Active","2025-12-30T21:16:35.497638+00:00"]
[null,null,null,null,null,null,"PROJECT_PLAN_TASK-3-102736","FA Production > Stage Operations","PROJECT_PLAN_TASK-3-102736-FA Production > Stage Operations","Project Plan","FD02","Active","2025-12-30T21:16:35.521071+00:00"]
[null,null,null,null,null,null,"PROJECT_PLAN_TASK-3-102747","FA Production > Lighting","PROJECT_PLAN_TASK-3-102747-FA Production > Lighting","Project Plan","FD02","Active","2025-12-30T21:16:35.497638+00:00"]
[null,null,null,null,null,null,"PROJECT_PLAN_TASK-3-102804","FA Production > Stage Manager","PROJECT_PLAN_TASK-3-102804-FA Production > Stage Manager","Project Plan","FD02","Active","2025-12-30T21:16:35.547957+00:00"]
[null,null,null,null,null,null,"PROJECT_PLAN_TASK-3-105458","Above the Line > Director","PROJECT_PLAN_TASK-3-105458-Above the Line > Director","Project Plan","FD02","Active","2025-12-30T21:16:35.677788+00:00"]
[null,null,null,null,null,null,"PROJECT_PLAN_TASK-3-105498","General > General Expenses","PROJECT_PLAN_TASK-3-105498-General > General Expenses","Project Plan","FD02","Active","2025-12-30T21:16:35.626971+00:00"]
[null,null,null,null,null,null,"PROJECT_PLAN_TASK-3-105547","Production > Equipment","PROJECT_PLAN_TASK-3-105547-Production > Equipment","Project Plan","FD02","Active","2025-12-30T21:16:35.701643+00:00"]
[null,null,null,null,null,null,"PROJECT_PLAN_TASK-3-105580","BYUB Marketing/Key Creative > Photography","PROJECT_PLAN_TASK-3-105580-BYUB Marketing/Key Creative > Photography","Project Plan","FD02","Active","2025-12-30T21:16:35.701643+00:00"]
[null,null,null,null,null,null,"PROJECT_PLAN_TASK-3-105629","Production > Craft/Meals","PROJECT_PLAN_TASK-3-105629-Production > Craft/Meals","Project Plan","FD02","Active","2025-12-30T21:16:35.72504+00:00"]
[null,null,null,null,null,null,"PROJECT_PLAN_TASK-3-105682","Production > Travel & Living","PROJECT_PLAN_TASK-3-105682-Production > Travel & Living","Project Plan","FD02","Active","2025-12-30T21:16:35.677788+00:00"]
[null,null,null,null,null,null,"PROJECT_PLAN_TASK-3-105742","Production > Teleprompter","PROJECT_PLAN_TASK-3-105742-Production > Teleprompter","Project Plan","FD02","Active","2025-12-30T21:16:35.677788+00:00"]
[null,null,null,null,null,null,"PROJECT_PLAN_TASK-3-105791","Production > Electric","PROJECT_PLAN_TASK-3-105791-Production > Electric","Project Plan","FD02","Active","2025-12-30T21:16:35.677788+00:00"]
[null,null,null,null,null,null,"PROJECT_PLAN_TASK-3-105824","Post Production > VFX","PROJECT_PLAN_TASK-3-105824-Post Production > VFX","Project Plan","FD02","Active","2025-12-30T21:16:35.677788+00:00"]
[null,null,null,null,null,null,"PROJECT_PLAN_TASK-3-105858","Production > Grip","PROJECT_PLAN_TASK-3-105858-Production > Grip","Project Plan","FD02","Active","2025-12-30T21:16:35.677788+00:00"]
[null,null,null,null,null,null,"PROJECT_PLAN_TASK-3-105905","Above the Line > Casting","PROJECT_PLAN_TASK-3-105905-Above the Line > Casting","Project Plan","FD02","Active","2025-12-30T21:16:35.701643+00:00"]
[null,null,null,null,null,null,"PROJECT_PLAN_TASK-3-105994","Production > Travel & Living","PROJECT_PLAN_TASK-3-105994-Production > Travel & Living","Project Plan","FD02","Active","2025-12-30T21:16:35.72504+00:00"]
[null,null,null,null,null,null,"PROJECT_PLAN_TASK-3-106043","Production > Equipment","PROJECT_PLAN_TASK-3-106043-Production > Equipment","Project Plan","FD02","Active","2025-12-30T21:16:35.72504+00:00"]
[null,null,null,null,null,null,"PROJECT_PLAN_TASK-3-106144","Above the Line > Director","PROJECT_PLAN_TASK-3-106144-Above the Line > Director","Project Plan","FD02","Active","2025-12-30T21:16:35.72504+00:00"]
[null,null,null,null,null,null,"PROJECT_PLAN_TASK-3-106158","Production > Grip","PROJECT_PLAN_TASK-3-106158-Production > Grip","Project Plan","FD02","Active","2025-12-30T21:16:35.72504+00:00"]
[null,null,null,null,null,null,"PROJECT_PLAN_TASK-3-106207","Above the Line > Executive Producer/Management","PROJECT_PLAN_TASK-3-106207-Above the Line > Executive Producer/Management","Project Plan","FD02","Active","2025-12-30T21:16:35.626971+00:00"]
[null,null,null,null,null,null,"PROJECT_PLAN_TASK-3-106290","Production > Teleprompter","PROJECT_PLAN_TASK-3-106290-Production > Teleprompter","Project Plan","FD02","Active","2025-12-30T21:16:35.653194+00:00"]
[null,null,null,null,null,null,"PROJECT_PLAN_TASK-3-106542","FA Production > Stage Operations","PROJECT_PLAN_TASK-3-106542-FA Production > Stage Operations","Project Plan","FD02","Active","2025-12-30T21:16:35.293439+00:00"]
[null,null,null,null,null,null,"PROJECT_PLAN_TASK-3-109999","Production > Transportation","PROJECT_PLAN_TASK-3-109999-Production > Transportation","Project Plan","FD02","Active","2025-12-30T21:16:35.856112+00:00"]
[null,null,null,null,null,null,"PROJECT_PLAN_TASK-3-110032","BYUB Development > Editing","PROJECT_PLAN_TASK-3-110032-BYUB Development > Editing","Project Plan","FD02","Active","2025-12-30T21:16:35.856112+00:00"]
[null,null,null,null,null,null,"PROJECT_PLAN_TASK-3-110096","BYUB Development > Locations","PROJECT_PLAN_TASK-3-110096-BYUB Development > Locations","Project Plan","FD02","Active","2025-12-30T21:16:35.856112+00:00"]
[null,null,null,null,null,null,"PROJECT_PLAN_TASK-3-110161","BYUB Development > Rights","PROJECT_PLAN_TASK-3-110161-BYUB Development > Rights","Project Plan","FD02","Active","2025-12-30T21:16:35.881052+00:00"]
[null,null,null,null,null,null,"PROJECT_PLAN_TASK-3-110194","Production > Travel & Living","PROJECT_PLAN_TASK-3-110194-Production > Travel & Living","Project Plan","FD02","Active","2025-12-30T21:16:35.856112+00:00"]
[null,null,null,null,null,null,"PROJECT_PLAN_TASK-3-110247","Production > Equipment","PROJECT_PLAN_TASK-3-110247-Production > Equipment","Project Plan","FD02","Active","2025-12-30T21:16:35.881052+00:00"]
[null,null,null,null,null,null,"PROJECT_PLAN_TASK-3-110281","BYUB Marketing/Key Creative > Marketing Day","PROJECT_PLAN_TASK-3-110281-BYUB Marketing/Key Creative > Marketing Day","Project Plan","FD02","Active","2025-12-30T21:16:35.905044+00:00"]
[null,null,null,null,null,null,"PROJECT_PLAN_TASK-3-110336","Post Production > QC","PROJECT_PLAN_TASK-3-110336-Post Production > QC","Project Plan","FD02","Active","2025-12-30T21:16:35.881052+00:00"]
[null,null,null,null,null,null,"PROJECT_PLAN_TASK-3-112968","Production > Art","PROJECT_PLAN_TASK-3-112968-Production > Art","Project Plan","FD02","Active","2025-12-30T21:16:35.990911+00:00"]
[null,null,null,null,null,null,"PROJECT_PLAN_TASK-3-113049","Production > Video Control","PROJECT_PLAN_TASK-3-113049-Production > Video Control","Project Plan","FD02","Active","2025-12-30T21:16:35.990911+00:00"]
[null,null,null,null,null,null,"PROJECT_PLAN_TASK-3-113064","Post Production > Blank Media/Drives","PROJECT_PLAN_TASK-3-113064-Post Production > Blank Media/Drives","Project Plan","FD02","Active","2025-12-30T21:16:35.990911+00:00"]
[null,null,null,null,null,null,"PROJECT_PLAN_TASK-3-113136","BYUB Marketing/Key Creative > Marketing Day","PROJECT_PLAN_TASK-3-113136-BYUB Marketing/Key Creative > Marketing Day","Project Plan","FD02","Active","2025-12-30T21:16:36.017272+00:00"]
[null,null,null,null,null,null,"PROJECT_PLAN_TASK-3-113185","General > General Expenses","PROJECT_PLAN_TASK-3-113185-General > General Expenses","Project Plan","FD02","Active","2025-12-30T21:16:36.017272+00:00"]
[null,null,null,null,null,null,"PROJECT_PLAN_TASK-3-114627","IMAGINE: FA Production > Marketing","PROJECT_PLAN_TASK-3-114627-IMAGINE: FA Production > Marketing","Project Plan","FD02","Active","2025-12-30T21:16:36.098397+00:00"]
[null,null,null,null,null,null,"PROJECT_PLAN_TASK-3-114717","A Light in the Piazza: FA Production > Front of House","PROJECT_PLAN_TASK-3-114717-A Light in the Piazza: FA Production > Front of House","Project Plan","FD02","Active","2025-12-30T21:16:36.098397+00:00"]
[null,null,null,null,null,null,"PROJECT_PLAN_TASK-3-114766","FA Production > Audio","PROJECT_PLAN_TASK-3-114766-FA Production > Audio","Project Plan","FD02","Active","2025-12-30T21:16:36.070806+00:00"]
[null,null,null,null,null,null,"PROJECT_PLAN_TASK-3-114799","FA Production > Marketing","PROJECT_PLAN_TASK-3-114799-FA Production > Marketing","Project Plan","FD02","Active","2025-12-30T21:16:36.098397+00:00"]
[null,null,null,null,null,null,"PROJECT_PLAN_TASK-3-114832","Celebrating Female Filmmakers: FA Production > FA Makeup & Hair","PROJECT_PLAN_TASK-3-114832-Celebrating Female Filmmakers: FA Production > FA Makeup & Hair","Project Plan","FD02","Active","2025-12-30T21:16:36.098397+00:00"]
[null,null,null,null,null,null,"PROJECT_PLAN_TASK-3-114893","FA Production > Costume","PROJECT_PLAN_TASK-3-114893-FA Production > Costume","Project Plan","FD02","Active","2025-12-30T21:16:36.070806+00:00"]
[null,null,null,null,null,null,"PROJECT_PLAN_TASK-3-114961","FA Production > Stage Operations","PROJECT_PLAN_TASK-3-114961-FA Production > Stage Operations","Project Plan","FD02","Active","2025-12-30T21:16:36.098397+00:00"]
[null,null,null,null,null,null,"PROJECT_PLAN_TASK-3-115010","Romeo & Juliet: FA Production > Audio","PROJECT_PLAN_TASK-3-115010-Romeo & Juliet: FA Production > Audio","Project Plan","FD02","Active","2025-12-30T21:16:36.126758+00:00"]
[null,null,null,null,null,null,"PROJECT_PLAN_TASK-3-115047","FA Production > Front of House","PROJECT_PLAN_TASK-3-115047-FA Production > Front of House","Project Plan","FD01","Active","2025-12-30T21:16:36.126758+00:00"]
[null,null,null,null,null,null,"PROJECT_PLAN_TASK-3-115804","Above the Line > Director","PROJECT_PLAN_TASK-3-115804-Above the Line > Director","Project Plan","FD02","Active","2025-12-30T21:16:36.153155+00:00"]
[null,null,null,null,null,null,"PROJECT_PLAN_TASK-3-115854","BYUB Development > Producers","PROJECT_PLAN_TASK-3-115854-BYUB Development > Producers","Project Plan","FD02","Active","2025-12-30T21:16:36.153155+00:00"]
[null,null,null,null,null,null,"PROJECT_PLAN_TASK-3-115887","Production > Floor Director","PROJECT_PLAN_TASK-3-115887-Production > Floor Director","Project Plan","FD02","Active","2025-12-30T21:16:36.179414+00:00"]
[null,null,null,null,null,null,"PROJECT_PLAN_TASK-3-115945","Production > Electric","PROJECT_PLAN_TASK-3-115945-Production > Electric","Project Plan","FD02","Active","2025-12-30T21:16:36.179414+00:00"]
[null,null,null,null,null,null,"PROJECT_PLAN_TASK-3-116022","Production > Production Management","PROJECT_PLAN_TASK-3-116022-Production > Production Management","Project Plan","FD02","Active","2025-12-30T21:16:36.126758+00:00"]
[null,null,null,null,null,null,"PROJECT_PLAN_TASK-3-116055","BYUB Development > Director","PROJECT_PLAN_TASK-3-116055-BYUB Development > Director","Project Plan","FD02","Active","2025-12-30T21:16:36.153155+00:00"]
[null,null,null,null,null,null,"PROJECT_PLAN_TASK-3-116112","BYUB Marketing/Key Creative > Video Promos","PROJECT_PLAN_TASK-3-116112-BYUB Marketing/Key Creative > Video Promos","Project Plan","FD02","Active","2025-12-30T21:16:36.179414+00:00"]
[null,null,null,null,null,null,"PROJECT_PLAN_TASK-3-118318","FA Production > Audio","PROJECT_PLAN_TASK-3-118318-FA Production > Audio","Project Plan","FD02","Active","2025-12-30T21:16:36.255227+00:00"]
[null,null,null,null,null,null,"PROJECT_PLAN_TASK-3-121019","Above the Line > Talent","PROJECT_PLAN_TASK-3-121019-Above the Line > Talent","Project Plan","FD02","Active","2025-12-30T21:16:36.403814+00:00"]
[null,null,null,null,null,null,"PROJECT_PLAN_TASK-3-121068","BYUB Development > Art","PROJECT_PLAN_TASK-3-121068-BYUB Development > Art","Project Plan","FD02","Active","2025-12-30T21:16:36.403814+00:00"]
[null,null,null,null,null,null,"PROJECT_PLAN_TASK-3-121101","Production > Miscellaneous Crew","PROJECT_PLAN_TASK-3-121101-Production > Miscellaneous Crew","Project Plan","FD02","Active","2025-12-30T21:16:36.379063+00:00"]
[null,null,null,null,null,null,"PROJECT_PLAN_TASK-3-121157","Production > Engineering","PROJECT_PLAN_TASK-3-121157-Production > Engineering","Project Plan","FD02","Active","2025-12-30T21:16:36.403814+00:00"]
[null,null,null,null,null,null,"PROJECT_PLAN_TASK-3-121182","Post Production > Editing","PROJECT_PLAN_TASK-3-121182-Post Production > Editing","Project Plan","FD02","Active","2025-12-30T21:16:36.403814+00:00"]
[null,null,null,null,null,null,"PROJECT_PLAN_TASK-3-121263","BYUB Development > General Expenses","PROJECT_PLAN_TASK-3-121263-BYUB Development > General Expenses","Project Plan","FD02","Active","2025-12-30T21:16:36.354809+00:00"]
[null,null,null,null,null,null,"PROJECT_PLAN_TASK-3-121312","Post Production > Closed Captioning","PROJECT_PLAN_TASK-3-121312-Post Production > Closed Captioning","Project Plan","FD02","Active","2025-12-30T21:16:36.403814+00:00"]
[null,null,null,null,null,null,"PROJECT_PLAN_TASK-3-121338","Above the Line > Content Assistant","PROJECT_PLAN_TASK-3-121338-Above the Line > Content Assistant","Project Plan","FD02","Active","2025-12-30T21:16:36.403814+00:00"]
[null,null,null,null,null,null,"PROJECT_PLAN_TASK-3-121377","Post Production > Audio","PROJECT_PLAN_TASK-3-121377-Post Production > Audio","Project Plan","FD02","Active","2025-12-30T21:16:36.379063+00:00"]
[null,null,null,null,null,null,"PROJECT_PLAN_TASK-3-121442","Production > Craft/Meals","PROJECT_PLAN_TASK-3-121442-Production > Craft/Meals","Project Plan","FD02","Active","2025-12-30T21:16:36.427065+00:00"]
[null,null,null,null,null,null,"PROJECT_PLAN_TASK-3-121475","Production > Camera","PROJECT_PLAN_TASK-3-121475-Production > Camera","Project Plan","FD02","Active","2025-12-30T21:16:36.354809+00:00"]
[null,null,null,null,null,null,"PROJECT_PLAN_TASK-3-121536","Above the Line > Research","PROJECT_PLAN_TASK-3-121536-Above the Line > Research","Project Plan","FD02","Active","2025-12-30T21:16:36.427065+00:00"]
[null,null,null,null,null,null,"PROJECT_PLAN_TASK-3-121795","FA Production > Lighting","PROJECT_PLAN_TASK-3-121795-FA Production > Lighting","Project Plan","FD02","Active","2025-12-30T21:16:36.379063+00:00"]
[null,null,null,null,null,null,"PROJECT_PLAN_TASK-3-121834","FA Production > Props","PROJECT_PLAN_TASK-3-121834-FA Production > Props","Project Plan","FD02","Active","2025-12-30T21:16:36.379063+00:00"]
[null,null,null,null,null,null,"PROJECT_PLAN_TASK-3-123175","Production > Wardrobe","PROJECT_PLAN_TASK-3-123175-Production > Wardrobe","Project Plan","FD02","Active","2025-12-30T21:16:36.476904+00:00"]
[null,null,null,null,null,null,"PROJECT_PLAN_TASK-3-124456","Post Production > Editing","PROJECT_PLAN_TASK-3-124456-Post Production > Editing","Project Plan","FD02","Active","2025-12-30T21:16:36.525848+00:00"]
[null,null,null,null,null,null,"PROJECT_PLAN_TASK-3-124465","BYUB Marketing/Key Creative > Photography","PROJECT_PLAN_TASK-3-124465-BYUB Marketing/Key Creative > Photography","Project Plan","FD02","Active","2025-12-30T21:16:36.525848+00:00"]
[null,null,null,null,null,null,"PROJECT_PLAN_TASK-3-124583","Above the Line > Director","PROJECT_PLAN_TASK-3-124583-Above the Line > Director","Project Plan","FD02","Active","2025-12-30T21:16:36.551193+00:00"]
[null,null,null,null,null,null,"PROJECT_PLAN_TASK-3-124592","Above the Line > Producers","PROJECT_PLAN_TASK-3-124592-Above the Line > Producers","Project Plan","FD02","Active","2025-12-30T21:16:36.501015+00:00"]
[null,null,null,null,null,null,"PROJECT_PLAN_TASK-3-124671","Production > Production Management","PROJECT_PLAN_TASK-3-124671-Production > Production Management","Project Plan","FD02","Active","2025-12-30T21:16:36.551193+00:00"]
[null,null,null,null,null,null,"PROJECT_PLAN_TASK-3-124704","BYUB Development > Producers","PROJECT_PLAN_TASK-3-124704-BYUB Development > Producers","Project Plan","FD02","Active","2025-12-30T21:16:36.551193+00:00"]
[null,null,null,null,null,null,"PROJECT_PLAN_TASK-3-127882","Above the Line > Producers","PROJECT_PLAN_TASK-3-127882-Above the Line > Producers","Project Plan","FD02","Active","2025-12-30T21:16:36.653006+00:00"]
[null,null,null,null,null,null,"PROJECT_PLAN_TASK-3-127919","Post Production > QC","PROJECT_PLAN_TASK-3-127919-Post Production > QC","Project Plan","FD02","Active","2025-12-30T21:16:36.653006+00:00"]
[null,null,null,null,null,null,"PROJECT_PLAN_TASK-3-127963","Production > Tape","PROJECT_PLAN_TASK-3-127963-Production > Tape","Project Plan","FD02","Active","2025-12-30T21:16:36.653006+00:00"]
[null,null,null,null,null,null,"PROJECT_PLAN_TASK-3-128012","Production > Closed Captioning","PROJECT_PLAN_TASK-3-128012-Production > Closed Captioning","Project Plan","FD02","Active","2025-12-30T21:16:36.653006+00:00"]
[null,null,null,null,null,null,"PROJECT_PLAN_TASK-3-128045","Post Production > QC","PROJECT_PLAN_TASK-3-128045-Post Production > QC","Project Plan","FD02","Active","2025-12-30T21:16:36.676833+00:00"]
[null,null,null,null,null,null,"PROJECT_PLAN_TASK-3-128100","Production > Rights","PROJECT_PLAN_TASK-3-128100-Production > Rights","Project Plan","FD02","Active","2025-12-30T21:16:36.676833+00:00"]
[null,null,null,null,null,null,"PROJECT_PLAN_TASK-3-128126","BYUB Development > Rights","PROJECT_PLAN_TASK-3-128126-BYUB Development > Rights","Project Plan","FD02","Active","2025-12-30T21:16:36.676833+00:00"]
[null,null,null,null,null,null,"PROJECT_PLAN_TASK-3-128207","Production > Camera","PROJECT_PLAN_TASK-3-128207-Production > Camera","Project Plan","FD02","Active","2025-12-30T21:16:36.676833+00:00"]
[null,null,null,null,null,null,"PROJECT_PLAN_TASK-3-128256","BYUB Development > Editing","PROJECT_PLAN_TASK-3-128256-BYUB Development > Editing","Project Plan","FD02","Active","2025-12-30T21:16:36.676833+00:00"]
[null,null,null,null,null,null,"PROJECT_PLAN_TASK-3-128284","Production > Production Management","PROJECT_PLAN_TASK-3-128284-Production > Production Management","Project Plan","FD02","Active","2025-12-30T21:16:36.700786+00:00"]
[null,null,null,null,null,null,"PROJECT_PLAN_TASK-3-130019","Above the Line > Craft/Meals","PROJECT_PLAN_TASK-3-130019-Above the Line > Craft/Meals","Project Plan","FD02","Active","2025-12-30T21:16:36.724897+00:00"]
[null,null,null,null,null,null,"PROJECT_PLAN_TASK-3-130068","BYUB Marketing/Key Creative > Video Promos","PROJECT_PLAN_TASK-3-130068-BYUB Marketing/Key Creative > Video Promos","Project Plan","FD02","Active","2025-12-30T21:16:36.724897+00:00"]
[null,null,null,null,null,null,"PROJECT_PLAN_TASK-3-89447","FA Production > Producer","PROJECT_PLAN_TASK-3-89447-FA Production > Producer","Project Plan","FD02","Active","2025-12-30T21:16:34.780237+00:00"]
[null,null,null,null,null,null,"PROJECT_PLAN_TASK-3-93933","FA Production > Front of House","PROJECT_PLAN_TASK-3-93933-FA Production > Front of House","Project Plan","FD02","Active","2025-12-30T21:16:34.99753+00:00"]
[null,null,null,null,null,null,"PROJECT_PLAN_TASK-3-95147","Production > Miscellaneous Crew","PROJECT_PLAN_TASK-3-95147-Production > Miscellaneous Crew","Project Plan","FD02","Active","2025-12-30T21:16:35.07655+00:00"]
[null,null,null,null,null,null,"PROJECT_PLAN_TASK-3-95180","BYUB Development > Writers","PROJECT_PLAN_TASK-3-95180-BYUB Development > Writers","Project Plan","FD02","Active","2025-12-30T21:16:35.100004+00:00"]
[null,null,null,null,null,null,"PROJECT_PLAN_TASK-3-95229","Post Production > Color","PROJECT_PLAN_TASK-3-95229-Post Production > Color","Project Plan","FD02","Active","2025-12-30T21:16:35.052633+00:00"]
[null,null,null,null,null,null,"PROJECT_PLAN_TASK-3-95295","Post Production > QC","PROJECT_PLAN_TASK-3-95295-Post Production > QC","Project Plan","FD02","Active","2025-12-30T21:16:35.052633+00:00"]
[null,null,null,null,null,null,"PROJECT_PLAN_TASK-3-95342","Production > Technical Director","PROJECT_PLAN_TASK-3-95342-Production > Technical Director","Project Plan","FD02","Active","2025-12-30T21:16:35.07655+00:00"]
[null,null,null,null,null,null,"PROJECT_PLAN_TASK-3-95399","Production > Facilities","PROJECT_PLAN_TASK-3-95399-Production > Facilities","Project Plan","FD02","Active","2025-12-30T21:16:35.07655+00:00"]
[null,null,null,null,null,null,"PROJECT_PLAN_TASK-3-95432","BYUB Marketing/Key Creative > Photography","PROJECT_PLAN_TASK-3-95432-BYUB Marketing/Key Creative > Photography","Project Plan","FD02","Active","2025-12-30T21:16:35.07655+00:00"]
[null,null,null,null,null,null,"PROJECT_PLAN_TASK-3-95464","Production > Locations","PROJECT_PLAN_TASK-3-95464-Production > Locations","Project Plan","FD02","Active","2025-12-30T21:16:35.07655+00:00"]
[null,null,null,null,null,null,"PROJECT_PLAN_TASK-3-95465","Production > Miscellaneous Crew","PROJECT_PLAN_TASK-3-95465-Production > Miscellaneous Crew","Project Plan","FD02","Active","2025-12-30T21:16:35.07655+00:00"]
[null,null,null,null,null,null,"PROJECT_PLAN_TASK-3-95466","Production > Makeup & Hair","PROJECT_PLAN_TASK-3-95466-Production > Makeup & Hair","Project Plan","FD02","Active","2025-12-30T21:16:35.07655+00:00"]
[null,null,null,null,null,null,"PROJECT_PLAN_TASK-3-95467","Production > Production Management","PROJECT_PLAN_TASK-3-95467-Production > Production Management","Project Plan","FD02","Active","2025-12-30T21:16:35.07655+00:00"]
[null,null,null,null,null,null,"PROJECT_PLAN_TASK-3-95468","Production > Set Construction","PROJECT_PLAN_TASK-3-95468-Production > Set Construction","Project Plan","FD02","Active","2025-12-30T21:16:35.07655+00:00"]
[null,null,null,null,null,null,"PROJECT_PLAN_TASK-3-95469","Production > Tape","PROJECT_PLAN_TASK-3-95469-Production > Tape","Project Plan","FD02","Active","2025-12-30T21:16:35.07655+00:00"]
[null,null,null,null,null,null,"PROJECT_PLAN_TASK-3-95470","Production > Technical Director","PROJECT_PLAN_TASK-3-95470-Production > Technical Director","Project Plan","FD02","Active","2025-12-30T21:16:35.07655+00:00"]
[null,null,null,null,null,null,"PROJECT_PLAN_TASK-3-95471","Production > Teleprompter","PROJECT_PLAN_TASK-3-95471-Production > Teleprompter","Project Plan","FD02","Active","2025-12-30T21:16:35.07655+00:00"]
[null,null,null,null,null,null,"PROJECT_PLAN_TASK-3-95472","Production > Transportation","PROJECT_PLAN_TASK-3-95472-Production > Transportation","Project Plan","FD02","Active","2025-12-30T21:16:35.07655+00:00"]
[null,null,null,null,null,null,"PROJECT_PLAN_TASK-3-95473","Production > Travel & Living","PROJECT_PLAN_TASK-3-95473-Production > Travel & Living","Project Plan","FD02","Active","2025-12-30T21:16:35.07655+00:00"]
[null,null,null,null,null,null,"PROJECT_PLAN_TASK-3-95474","Production > Uplink","PROJECT_PLAN_TASK-3-95474-Production > Uplink","Project Plan","FD02","Active","2025-12-30T21:16:35.07655+00:00"]
[null,null,null,null,null,null,"PROJECT_PLAN_TASK-3-95475","Production > Video Control","PROJECT_PLAN_TASK-3-95475-Production > Video Control","Project Plan","FD02","Active","2025-12-30T21:16:35.07655+00:00"]
[null,null,null,null,null,null,"PROJECT_PLAN_TASK-3-95476","Production > Wardrobe","PROJECT_PLAN_TASK-3-95476-Production > Wardrobe","Project Plan","FD02","Active","2025-12-30T21:16:35.07655+00:00"]
[null,null,null,null,null,null,"PROJECT_PLAN_TASK-3-95477","Production > Graphics","PROJECT_PLAN_TASK-3-95477-Production > Graphics","Project Plan","FD02","Active","2025-12-30T21:16:35.07655+00:00"]
[null,null,null,null,null,null,"PROJECT_PLAN_TASK-3-95478","Production > Production Assistants","PROJECT_PLAN_TASK-3-95478-Production > Production Assistants","Project Plan","FD02","Active","2025-12-30T21:16:35.07655+00:00"]
[null,null,null,null,null,null,"PROJECT_PLAN_TASK-3-95479","Production > Rights","PROJECT_PLAN_TASK-3-95479-Production > Rights","Project Plan","FD02","Active","2025-12-30T21:16:35.07655+00:00"]
[null,null,null,null,null,null,"PROJECT_PLAN_TASK-3-95480","Production > Audio","PROJECT_PLAN_TASK-3-95480-Production > Audio","Project Plan","FD02","Active","2025-12-30T21:16:35.07655+00:00"]
[null,null,null,null,null,null,"PROJECT_PLAN_TASK-3-95481","Production > Craft/Meals","PROJECT_PLAN_TASK-3-95481-Production > Craft/Meals","Project Plan","FD02","Active","2025-12-30T21:16:35.07655+00:00"]
[null,null,null,null,null,null,"PROJECT_PLAN_TASK-3-95482","General > General Expenses","PROJECT_PLAN_TASK-3-95482-General > General Expenses","Project Plan","FD02","Active","2025-12-30T21:16:35.07655+00:00"]
[null,null,null,null,null,null,"PROJECT_PLAN_TASK-3-95483","General > Production Assistants","PROJECT_PLAN_TASK-3-95483-General > Production Assistants","Project Plan","FD02","Active","2025-12-30T21:16:35.07655+00:00"]
[null,null,null,null,null,null,"PROJECT_PLAN_TASK-3-95484","Post Production > Closed Captioning","PROJECT_PLAN_TASK-3-95484-Post Production > Closed Captioning","Project Plan","FD02","Active","2025-12-30T21:16:35.07655+00:00"]
[null,null,null,null,null,null,"PROJECT_PLAN_TASK-3-95485","Post Production > Color","PROJECT_PLAN_TASK-3-95485-Post Production > Color","Project Plan","FD02","Active","2025-12-30T21:16:35.07655+00:00"]
[null,null,null,null,null,null,"PROJECT_PLAN_TASK-3-95486","Post Production > Editing","PROJECT_PLAN_TASK-3-95486-Post Production > Editing","Project Plan","FD02","Active","2025-12-30T21:16:35.07655+00:00"]
[null,null,null,null,null,null,"PROJECT_PLAN_TASK-3-95487","Post Production > Graphics","PROJECT_PLAN_TASK-3-95487-Post Production > Graphics","Project Plan","FD02","Active","2025-12-30T21:16:35.07655+00:00"]
[null,null,null,null,null,null,"PROJECT_PLAN_TASK-3-95488","Post Production > Music","PROJECT_PLAN_TASK-3-95488-Post Production > Music","Project Plan","FD02","Active","2025-12-30T21:16:35.07655+00:00"]
[null,null,null,null,null,null,"PROJECT_PLAN_TASK-3-95489","Post Production > QC","PROJECT_PLAN_TASK-3-95489-Post Production > QC","Project Plan","FD02","Active","2025-12-30T21:16:35.07655+00:00"]
[null,null,null,null,null,null,"PROJECT_PLAN_TASK-3-95490","Post Production > Rights","PROJECT_PLAN_TASK-3-95490-Post Production > Rights","Project Plan","FD02","Active","2025-12-30T21:16:35.07655+00:00"]
[null,null,null,null,null,null,"PROJECT_PLAN_TASK-3-95491","Post Production > Audio","PROJECT_PLAN_TASK-3-95491-Post Production > Audio","Project Plan","FD02","Active","2025-12-30T21:16:35.07655+00:00"]
[null,null,null,null,null,null,"PROJECT_PLAN_TASK-3-95492","Post Production > Blank Media/Drives","PROJECT_PLAN_TASK-3-95492-Post Production > Blank Media/Drives","Project Plan","FD02","Active","2025-12-30T21:16:35.07655+00:00"]
[null,null,null,null,null,null,"PROJECT_PLAN_TASK-3-95493","Post Production > VFX","PROJECT_PLAN_TASK-3-95493-Post Production > VFX","Project Plan","FD02","Active","2025-12-30T21:16:35.07655+00:00"]
[null,null,null,null,null,null,"PROJECT_PLAN_TASK-3-95494","BYUB Marketing/Key Creative > Photography","PROJECT_PLAN_TASK-3-95494-BYUB Marketing/Key Creative > Photography","Project Plan","FD02","Active","2025-12-30T21:16:35.07655+00:00"]
[null,null,null,null,null,null,"PROJECT_PLAN_TASK-3-95495","BYUB Marketing/Key Creative > Marketing Day","PROJECT_PLAN_TASK-3-95495-BYUB Marketing/Key Creative > Marketing Day","Project Plan","FD02","Active","2025-12-30T21:16:35.07655+00:00"]
[null,null,null,null,null,null,"PROJECT_PLAN_TASK-3-95496","BYUB Marketing/Key Creative > Video Promos","PROJECT_PLAN_TASK-3-95496-BYUB Marketing/Key Creative > Video Promos","Project Plan","FD02","Active","2025-12-30T21:16:35.07655+00:00"]
[null,null,null,null,null,null,"PROJECT_PLAN_TASK-3-95497","BYUB Marketing/Key Creative > Social Media","PROJECT_PLAN_TASK-3-95497-BYUB Marketing/Key Creative > Social Media","Project Plan","FD02","Active","2025-12-30T21:16:35.07655+00:00"]
[null,null,null,null,null,null,"PROJECT_PLAN_TASK-3-95498","BYUB Development > Writers","PROJECT_PLAN_TASK-3-95498-BYUB Development > Writers","Project Plan","FD02","Active","2025-12-30T21:16:35.07655+00:00"]
[null,null,null,null,null,null,"PROJECT_PLAN_TASK-3-95499","BYUB Development > General Expenses","PROJECT_PLAN_TASK-3-95499-BYUB Development > General Expenses","Project Plan","FD02","Active","2025-12-30T21:16:35.07655+00:00"]
[null,null,null,null,null,null,"PROJECT_PLAN_TASK-3-95500","BYUB Development > Production Management","PROJECT_PLAN_TASK-3-95500-BYUB Development > Production Management","Project Plan","FD02","Active","2025-12-30T21:16:35.07655+00:00"]
[null,null,null,null,null,null,"PROJECT_PLAN_TASK-3-95501","BYUB Development > Producers","PROJECT_PLAN_TASK-3-95501-BYUB Development > Producers","Project Plan","FD02","Active","2025-12-30T21:16:35.07655+00:00"]
[null,null,null,null,null,null,"PROJECT_PLAN_TASK-3-95502","BYUB Development > Director","PROJECT_PLAN_TASK-3-95502-BYUB Development > Director","Project Plan","FD02","Active","2025-12-30T21:16:35.07655+00:00"]
[null,null,null,null,null,null,"PROJECT_PLAN_TASK-3-95503","BYUB Development > Miscellaneous Crew","PROJECT_PLAN_TASK-3-95503-BYUB Development > Miscellaneous Crew","Project Plan","FD02","Active","2025-12-30T21:16:35.07655+00:00"]
[null,null,null,null,null,null,"PROJECT_PLAN_TASK-3-95504","BYUB Development > Art","PROJECT_PLAN_TASK-3-95504-BYUB Development > Art","Project Plan","FD02","Active","2025-12-30T21:16:35.07655+00:00"]
[null,null,null,null,null,null,"PROJECT_PLAN_TASK-3-95505","BYUB Development > Casting","PROJECT_PLAN_TASK-3-95505-BYUB Development > Casting","Project Plan","FD02","Active","2025-12-30T21:16:35.07655+00:00"]
[null,null,null,null,null,null,"PROJECT_PLAN_TASK-3-95506","BYUB Development > Rights","PROJECT_PLAN_TASK-3-95506-BYUB Development > Rights","Project Plan","FD02","Active","2025-12-30T21:16:35.07655+00:00"]
[null,null,null,null,null,null,"PROJECT_PLAN_TASK-3-95507","BYUB Development > Editing","PROJECT_PLAN_TASK-3-95507-BYUB Development > Editing","Project Plan","FD02","Active","2025-12-30T21:16:35.07655+00:00"]
[null,null,null,null,null,null,"PROJECT_PLAN_TASK-3-95508","BYUB Development > Music","PROJECT_PLAN_TASK-3-95508-BYUB Development > Music","Project Plan","FD02","Active","2025-12-30T21:16:35.07655+00:00"]
[null,null,null,null,null,null,"PROJECT_PLAN_TASK-3-95509","BYUB Development > Locations","PROJECT_PLAN_TASK-3-95509-BYUB Development > Locations","Project Plan","FD02","Active","2025-12-30T21:16:35.07655+00:00"]
[null,null,null,null,null,null,"PROJECT_PLAN_TASK-3-96670","Above the Line > Content Assistant","PROJECT_PLAN_TASK-3-96670-Above the Line > Content Assistant","Project Plan","FD02","Active","2025-12-30T21:16:35.179879+00:00"]
[null,null,null,null,null,null,"PROJECT_PLAN_TASK-3-96671","Above the Line > Craft/Meals","PROJECT_PLAN_TASK-3-96671-Above the Line > Craft/Meals","Project Plan","FD02","Active","2025-12-30T21:16:35.179879+00:00"]
[null,null,null,null,null,null,"PROJECT_PLAN_TASK-3-96672","Above the Line > Casting","PROJECT_PLAN_TASK-3-96672-Above the Line > Casting","Project Plan","FD02","Active","2025-12-30T21:16:35.179879+00:00"]
[null,null,null,null,null,null,"PROJECT_PLAN_TASK-3-96673","Above the Line > Director","PROJECT_PLAN_TASK-3-96673-Above the Line > Director","Project Plan","FD02","Active","2025-12-30T21:16:35.179879+00:00"]
[null,null,null,null,null,null,"PROJECT_PLAN_TASK-3-96674","Above the Line > Executive Producer/Management","PROJECT_PLAN_TASK-3-96674-Above the Line > Executive Producer/Management","Project Plan","FD02","Active","2025-12-30T21:16:35.179879+00:00"]
[null,null,null,null,null,null,"PROJECT_PLAN_TASK-3-96675","Above the Line > Producers","PROJECT_PLAN_TASK-3-96675-Above the Line > Producers","Project Plan","FD02","Active","2025-12-30T21:16:35.179879+00:00"]
[null,null,null,null,null,null,"PROJECT_PLAN_TASK-3-96676","Above the Line > Research","PROJECT_PLAN_TASK-3-96676-Above the Line > Research","Project Plan","FD02","Active","2025-12-30T21:16:35.179879+00:00"]
[null,null,null,null,null,null,"PROJECT_PLAN_TASK-3-96677","Above the Line > Talent","PROJECT_PLAN_TASK-3-96677-Above the Line > Talent","Project Plan","FD02","Active","2025-12-30T21:16:35.179879+00:00"]
[null,null,null,null,null,null,"PROJECT_PLAN_TASK-3-96678","Above the Line > Writers","PROJECT_PLAN_TASK-3-96678-Above the Line > Writers","Project Plan","FD02","Active","2025-12-30T21:16:35.179879+00:00"]
[null,null,null,null,null,null,"PROJECT_PLAN_TASK-3-96679","Production > Closed Captioning","PROJECT_PLAN_TASK-3-96679-Production > Closed Captioning","Project Plan","FD02","Active","2025-12-30T21:16:35.179879+00:00"]
[null,null,null,null,null,null,"PROJECT_PLAN_TASK-3-96680","Production > Art","PROJECT_PLAN_TASK-3-96680-Production > Art","Project Plan","FD02","Active","2025-12-30T21:16:35.179879+00:00"]
[null,null,null,null,null,null,"PROJECT_PLAN_TASK-3-96681","Production > Camera","PROJECT_PLAN_TASK-3-96681-Production > Camera","Project Plan","FD02","Active","2025-12-30T21:16:35.179879+00:00"]
[null,null,null,null,null,null,"PROJECT_PLAN_TASK-3-96682","Production > Electric","PROJECT_PLAN_TASK-3-96682-Production > Electric","Project Plan","FD02","Active","2025-12-30T21:16:35.179879+00:00"]
[null,null,null,null,null,null,"PROJECT_PLAN_TASK-3-96683","Production > Engineering","PROJECT_PLAN_TASK-3-96683-Production > Engineering","Project Plan","FD02","Active","2025-12-30T21:16:35.179879+00:00"]
[null,null,null,null,null,null,"PROJECT_PLAN_TASK-3-96684","Production > Equipment","PROJECT_PLAN_TASK-3-96684-Production > Equipment","Project Plan","FD02","Active","2025-12-30T21:16:35.179879+00:00"]
[null,null,null,null,null,null,"PROJECT_PLAN_TASK-3-96685","Production > Facilities","PROJECT_PLAN_TASK-3-96685-Production > Facilities","Project Plan","FD02","Active","2025-12-30T21:16:35.179879+00:00"]
[null,null,null,null,null,null,"PROJECT_PLAN_TASK-3-96686","Production > Floor Director","PROJECT_PLAN_TASK-3-96686-Production > Floor Director","Project Plan","FD02","Active","2025-12-30T21:16:35.179879+00:00"]
[null,null,null,null,null,null,"PROJECT_PLAN_TASK-3-96687","Production > Grip","PROJECT_PLAN_TASK-3-96687-Production > Grip","Project Plan","FD02","Active","2025-12-30T21:16:35.179879+00:00"]
[null,null,null,null,null,null,"PROJECT_PLAN_TASK-3-96688","Production > Locations","PROJECT_PLAN_TASK-3-96688-Production > Locations","Project Plan","FD02","Active","2025-12-30T21:16:35.179879+00:00"]
[null,null,null,null,null,null,"PROJECT_PLAN_TASK-3-96689","Production > Miscellaneous Crew","PROJECT_PLAN_TASK-3-96689-Production > Miscellaneous Crew","Project Plan","FD02","Active","2025-12-30T21:16:35.179879+00:00"]
[null,null,null,null,null,null,"PROJECT_PLAN_TASK-3-96690","Production > Makeup & Hair","PROJECT_PLAN_TASK-3-96690-Production > Makeup & Hair","Project Plan","FD02","Active","2025-12-30T21:16:35.179879+00:00"]
[null,null,null,null,null,null,"PROJECT_PLAN_TASK-3-96691","Production > Production Management","PROJECT_PLAN_TASK-3-96691-Production > Production Management","Project Plan","FD02","Active","2025-12-30T21:16:35.179879+00:00"]
[null,null,null,null,null,null,"PROJECT_PLAN_TASK-3-96692","Production > Set Construction","PROJECT_PLAN_TASK-3-96692-Production > Set Construction","Project Plan","FD02","Active","2025-12-30T21:16:35.179879+00:00"]
[null,null,null,null,null,null,"PROJECT_PLAN_TASK-3-96693","Production > Tape","PROJECT_PLAN_TASK-3-96693-Production > Tape","Project Plan","FD02","Active","2025-12-30T21:16:35.179879+00:00"]
[null,null,null,null,null,null,"PROJECT_PLAN_TASK-3-96694","Production > Technical Director","PROJECT_PLAN_TASK-3-96694-Production > Technical Director","Project Plan","FD02","Active","2025-12-30T21:16:35.179879+00:00"]
[null,null,null,null,null,null,"PROJECT_PLAN_TASK-3-96695","Production > Teleprompter","PROJECT_PLAN_TASK-3-96695-Production > Teleprompter","Project Plan","FD02","Active","2025-12-30T21:16:35.179879+00:00"]
[null,null,null,null,null,null,"PROJECT_PLAN_TASK-3-96696","Production > Transportation","PROJECT_PLAN_TASK-3-96696-Production > Transportation","Project Plan","FD02","Active","2025-12-30T21:16:35.179879+00:00"]
[null,null,null,null,null,null,"PROJECT_PLAN_TASK-3-96697","Production > Travel & Living","PROJECT_PLAN_TASK-3-96697-Production > Travel & Living","Project Plan","FD02","Active","2025-12-30T21:16:35.179879+00:00"]
[null,null,null,null,null,null,"PROJECT_PLAN_TASK-3-96698","Production > Uplink","PROJECT_PLAN_TASK-3-96698-Production > Uplink","Project Plan","FD02","Active","2025-12-30T21:16:35.179879+00:00"]
[null,null,null,null,null,null,"PROJECT_PLAN_TASK-3-96699","Production > Video Control","PROJECT_PLAN_TASK-3-96699-Production > Video Control","Project Plan","FD02","Active","2025-12-30T21:16:35.179879+00:00"]
[null,null,null,null,null,null,"PROJECT_PLAN_TASK-3-96700","Production > Wardrobe","PROJECT_PLAN_TASK-3-96700-Production > Wardrobe","Project Plan","FD02","Active","2025-12-30T21:16:35.179879+00:00"]
[null,null,null,null,null,null,"PROJECT_PLAN_TASK-3-96701","Production > Graphics","PROJECT_PLAN_TASK-3-96701-Production > Graphics","Project Plan","FD02","Active","2025-12-30T21:16:35.179879+00:00"]
[null,null,null,null,null,null,"PROJECT_PLAN_TASK-3-96702","Production > Production Assistants","PROJECT_PLAN_TASK-3-96702-Production > Production Assistants","Project Plan","FD02","Active","2025-12-30T21:16:35.179879+00:00"]
[null,null,null,null,null,null,"PROJECT_PLAN_TASK-3-96703","Production > Rights","PROJECT_PLAN_TASK-3-96703-Production > Rights","Project Plan","FD02","Active","2025-12-30T21:16:35.179879+00:00"]
[null,null,null,null,null,null,"PROJECT_PLAN_TASK-3-96704","Production > Audio","PROJECT_PLAN_TASK-3-96704-Production > Audio","Project Plan","FD02","Active","2025-12-30T21:16:35.179879+00:00"]
[null,null,null,null,null,null,"PROJECT_PLAN_TASK-3-96705","Production > Craft/Meals","PROJECT_PLAN_TASK-3-96705-Production > Craft/Meals","Project Plan","FD02","Active","2025-12-30T21:16:35.179879+00:00"]
[null,null,null,null,null,null,"PROJECT_PLAN_TASK-3-96706","General > General Expenses","PROJECT_PLAN_TASK-3-96706-General > General Expenses","Project Plan","FD02","Active","2025-12-30T21:16:35.179879+00:00"]
[null,null,null,null,null,null,"PROJECT_PLAN_TASK-3-96707","Post Production > Closed Captioning","PROJECT_PLAN_TASK-3-96707-Post Production > Closed Captioning","Project Plan","FD02","Active","2025-12-30T21:16:35.179879+00:00"]
[null,null,null,null,null,null,"PROJECT_PLAN_TASK-3-96708","Post Production > Color","PROJECT_PLAN_TASK-3-96708-Post Production > Color","Project Plan","FD02","Active","2025-12-30T21:16:35.179879+00:00"]
[null,null,null,null,null,null,"PROJECT_PLAN_TASK-3-96709","Post Production > Editing","PROJECT_PLAN_TASK-3-96709-Post Production > Editing","Project Plan","FD02","Active","2025-12-30T21:16:35.179879+00:00"]
[null,null,null,null,null,null,"PROJECT_PLAN_TASK-3-96710","Post Production > Graphics","PROJECT_PLAN_TASK-3-96710-Post Production > Graphics","Project Plan","FD02","Active","2025-12-30T21:16:35.179879+00:00"]
[null,null,null,null,null,null,"PROJECT_PLAN_TASK-3-96711","Post Production > Music","PROJECT_PLAN_TASK-3-96711-Post Production > Music","Project Plan","FD02","Active","2025-12-30T21:16:35.179879+00:00"]
[null,null,null,null,null,null,"PROJECT_PLAN_TASK-3-96712","Post Production > QC","PROJECT_PLAN_TASK-3-96712-Post Production > QC","Project Plan","FD02","Active","2025-12-30T21:16:35.179879+00:00"]
[null,null,null,null,null,null,"PROJECT_PLAN_TASK-3-96713","Post Production > Rights","PROJECT_PLAN_TASK-3-96713-Post Production > Rights","Project Plan","FD02","Active","2025-12-30T21:16:35.179879+00:00"]
[null,null,null,null,null,null,"PROJECT_PLAN_TASK-3-96714","Post Production > Audio","PROJECT_PLAN_TASK-3-96714-Post Production > Audio","Project Plan","FD02","Active","2025-12-30T21:16:35.179879+00:00"]
[null,null,null,null,null,null,"PROJECT_PLAN_TASK-3-96715","Post Production > Blank Media/Drives","PROJECT_PLAN_TASK-3-96715-Post Production > Blank Media/Drives","Project Plan","FD02","Active","2025-12-30T21:16:35.179879+00:00"]
[null,null,null,null,null,null,"PROJECT_PLAN_TASK-3-96716","Post Production > VFX","PROJECT_PLAN_TASK-3-96716-Post Production > VFX","Project Plan","FD02","Active","2025-12-30T21:16:35.179879+00:00"]
[null,null,null,null,null,null,"PROJECT_PLAN_TASK-3-96717","BYUB Marketing/Key Creative > Events","PROJECT_PLAN_TASK-3-96717-BYUB Marketing/Key Creative > Events","Project Plan","FD02","Active","2025-12-30T21:16:35.179879+00:00"]
[null,null,null,null,null,null,"PROJECT_PLAN_TASK-3-96718","BYUB Marketing/Key Creative > Photography","PROJECT_PLAN_TASK-3-96718-BYUB Marketing/Key Creative > Photography","Project Plan","FD02","Active","2025-12-30T21:16:35.207951+00:00"]
[null,null,null,null,null,null,"PROJECT_PLAN_TASK-3-96719","BYUB Marketing/Key Creative > Marketing Day","PROJECT_PLAN_TASK-3-96719-BYUB Marketing/Key Creative > Marketing Day","Project Plan","FD02","Active","2025-12-30T21:16:35.207951+00:00"]
[null,null,null,null,null,null,"PROJECT_PLAN_TASK-3-96720","BYUB Marketing/Key Creative > Video Promos","PROJECT_PLAN_TASK-3-96720-BYUB Marketing/Key Creative > Video Promos","Project Plan","FD02","Active","2025-12-30T21:16:35.207951+00:00"]
[null,null,null,null,null,null,"PROJECT_PLAN_TASK-3-96721","BYUB Development > Writers","PROJECT_PLAN_TASK-3-96721-BYUB Development > Writers","Project Plan","FD02","Active","2025-12-30T21:16:35.207951+00:00"]
[null,null,null,null,null,null,"PROJECT_PLAN_TASK-3-96722","BYUB Development > General Expenses","PROJECT_PLAN_TASK-3-96722-BYUB Development > General Expenses","Project Plan","FD02","Active","2025-12-30T21:16:35.207951+00:00"]
[null,null,null,null,null,null,"PROJECT_PLAN_TASK-3-96723","BYUB Development > Production Management","PROJECT_PLAN_TASK-3-96723-BYUB Development > Production Management","Project Plan","FD02","Active","2025-12-30T21:16:35.207951+00:00"]
[null,null,null,null,null,null,"PROJECT_PLAN_TASK-3-96724","BYUB Development > Producers","PROJECT_PLAN_TASK-3-96724-BYUB Development > Producers","Project Plan","FD02","Active","2025-12-30T21:16:35.207951+00:00"]
[null,null,null,null,null,null,"PROJECT_PLAN_TASK-3-96725","BYUB Development > Director","PROJECT_PLAN_TASK-3-96725-BYUB Development > Director","Project Plan","FD02","Active","2025-12-30T21:16:35.207951+00:00"]
[null,null,null,null,null,null,"PROJECT_PLAN_TASK-3-96726","BYUB Development > Miscellaneous Crew","PROJECT_PLAN_TASK-3-96726-BYUB Development > Miscellaneous Crew","Project Plan","FD02","Active","2025-12-30T21:16:35.207951+00:00"]
[null,null,null,null,null,null,"PROJECT_PLAN_TASK-3-96727","BYUB Development > Art","PROJECT_PLAN_TASK-3-96727-BYUB Development > Art","Project Plan","FD02","Active","2025-12-30T21:16:35.207951+00:00"]
[null,null,null,null,null,null,"PROJECT_PLAN_TASK-3-96728","BYUB Development > Casting","PROJECT_PLAN_TASK-3-96728-BYUB Development > Casting","Project Plan","FD02","Active","2025-12-30T21:16:35.207951+00:00"]
[null,null,null,null,null,null,"PROJECT_PLAN_TASK-3-96729","BYUB Development > Rights","PROJECT_PLAN_TASK-3-96729-BYUB Development > Rights","Project Plan","FD02","Active","2025-12-30T21:16:35.207951+00:00"]
[null,null,null,null,null,null,"PROJECT_PLAN_TASK-3-96730","BYUB Development > Editing","PROJECT_PLAN_TASK-3-96730-BYUB Development > Editing","Project Plan","FD02","Active","2025-12-30T21:16:35.207951+00:00"]
[null,null,null,null,null,null,"PROJECT_PLAN_TASK-3-96731","BYUB Development > Music","PROJECT_PLAN_TASK-3-96731-BYUB Development > Music","Project Plan","FD02","Active","2025-12-30T21:16:35.207951+00:00"]
[null,null,null,null,null,null,"PROJECT_PLAN_TASK-3-96732","BYUB Development > Locations","PROJECT_PLAN_TASK-3-96732-BYUB Development > Locations","Project Plan","FD02","Active","2025-12-30T21:16:35.207951+00:00"]
[null,null,null,null,null,null,"PROJECT_PLAN_TASK-3-97030","BYUB Marketing/Key Creative > Photography","PROJECT_PLAN_TASK-3-97030-BYUB Marketing/Key Creative > Photography","Project Plan","FD02","Active","2025-12-30T21:16:20.358444+00:00"]
[null,null,null,null,null,null,"PROJECT_PLAN_TASK-3-97040","BYUB Marketing/Key Creative > Events","PROJECT_PLAN_TASK-3-97040-BYUB Marketing/Key Creative > Events","Project Plan","FD02","Active","2025-12-30T21:16:18.599509+00:00"]
[null,null,null,null,null,null,"PROJECT_PLAN_TASK-3-97041","Production > Closed Captioning    (Starts: 01/01/2024)","PROJECT_PLAN_TASK-3-97041-Production > Closed Captioning    (Starts: 01/01/2024)","Project Plan","FD02","Active","2025-12-30T21:16:20.690758+00:00"]
[null,null,null,null,null,null,"PROJECT_PLAN_TASK-3-97042","Production > Art","PROJECT_PLAN_TASK-3-97042-Production > Art","Project Plan","FD02","Active","2025-12-30T21:16:20.763652+00:00"]
[null,null,null,null,null,null,"PROJECT_PLAN_TASK-3-97043","Production > Art    (Starts: 01/01/2024)","PROJECT_PLAN_TASK-3-97043-Production > Art    (Starts: 01/01/2024)","Project Plan","FD02","Active","2025-12-30T21:16:20.690758+00:00"]
[null,null,null,null,null,null,"PROJECT_PLAN_TASK-3-97044","Production > Closed Captioning    (Starts: 01/01/2024)","PROJECT_PLAN_TASK-3-97044-Production > Closed Captioning    (Starts: 01/01/2024)","Project Plan","FD02","Active","2025-12-30T21:16:20.739839+00:00"]
[null,null,null,null,null,null,"PROJECT_PLAN_TASK-3-97470","Production > Art","PROJECT_PLAN_TASK-3-97470-Production > Art","Project Plan","FD02","Active","2025-12-30T21:16:20.739839+00:00"]
[null,null,null,null,null,null,"PROJECT_PLAN_TASK-3-97471","Production > Closed Captioning","PROJECT_PLAN_TASK-3-97471-Production > Closed Captioning","Project Plan","FD02","Active","2025-12-30T21:16:20.739839+00:00"]
[null,null,null,null,null,null,"PROJECT_PLAN_TASK-3-97850","Above the Line > Content Assistant","PROJECT_PLAN_TASK-3-97850-Above the Line > Content Assistant","Project Plan","FD02","Active","2025-12-30T21:16:35.236381+00:00"]
[null,null,null,null,null,null,"PROJECT_PLAN_TASK-3-97851","Above the Line > Craft/Meals","PROJECT_PLAN_TASK-3-97851-Above the Line > Craft/Meals","Project Plan","FD02","Active","2025-12-30T21:16:35.236381+00:00"]
[null,null,null,null,null,null,"PROJECT_PLAN_TASK-3-97852","Above the Line > Executive Producer/Management","PROJECT_PLAN_TASK-3-97852-Above the Line > Executive Producer/Management","Project Plan","FD02","Active","2025-12-30T21:16:35.236381+00:00"]
[null,null,null,null,null,null,"PROJECT_PLAN_TASK-3-97853","Above the Line > Producers","PROJECT_PLAN_TASK-3-97853-Above the Line > Producers","Project Plan","FD02","Active","2025-12-30T21:16:35.236381+00:00"]
[null,null,null,null,null,null,"PROJECT_PLAN_TASK-3-97854","Above the Line > Research","PROJECT_PLAN_TASK-3-97854-Above the Line > Research","Project Plan","FD02","Active","2025-12-30T21:16:35.236381+00:00"]
[null,null,null,null,null,null,"PROJECT_PLAN_TASK-3-97855","General > General Expenses","PROJECT_PLAN_TASK-3-97855-General > General Expenses","Project Plan","FD02","Active","2025-12-30T21:16:35.236381+00:00"]
[null,null,null,null,null,null,"PROJECT_PLAN_TASK-3-97856","General > Production Assistants","PROJECT_PLAN_TASK-3-97856-General > Production Assistants","Project Plan","FD02","Active","2025-12-30T21:16:35.236381+00:00"]
[null,null,null,null,null,null,"PROJECT_PLAN_TASK-3-98510","Above the Line > Content Assistant","PROJECT_PLAN_TASK-3-98510-Above the Line > Content Assistant","Project Plan","FD02","Active","2025-12-30T21:16:35.263652+00:00"]
[null,null,null,null,null,null,"PROJECT_PLAN_TASK-3-98511","Above the Line > Craft/Meals","PROJECT_PLAN_TASK-3-98511-Above the Line > Craft/Meals","Project Plan","FD02","Active","2025-12-30T21:16:35.263652+00:00"]
[null,null,null,null,null,null,"PROJECT_PLAN_TASK-3-98512","Above the Line > Casting","PROJECT_PLAN_TASK-3-98512-Above the Line > Casting","Project Plan","FD02","Active","2025-12-30T21:16:35.263652+00:00"]
[null,null,null,null,null,null,"PROJECT_PLAN_TASK-3-98513","Above the Line > Director","PROJECT_PLAN_TASK-3-98513-Above the Line > Director","Project Plan","FD02","Active","2025-12-30T21:16:35.263652+00:00"]
[null,null,null,null,null,null,"PROJECT_PLAN_TASK-3-98514","Above the Line > Executive Producer/Management","PROJECT_PLAN_TASK-3-98514-Above the Line > Executive Producer/Management","Project Plan","FD02","Active","2025-12-30T21:16:35.263652+00:00"]
[null,null,null,null,null,null,"PROJECT_PLAN_TASK-3-98515","Above the Line > Producers","PROJECT_PLAN_TASK-3-98515-Above the Line > Producers","Project Plan","FD02","Active","2025-12-30T21:16:35.263652+00:00"]
[null,null,null,null,null,null,"PROJECT_PLAN_TASK-3-98516","Above the Line > Research","PROJECT_PLAN_TASK-3-98516-Above the Line > Research","Project Plan","FD02","Active","2025-12-30T21:16:35.263652+00:00"]
[null,null,null,null,null,null,"PROJECT_PLAN_TASK-3-98517","Above the Line > Talent","PROJECT_PLAN_TASK-3-98517-Above the Line > Talent","Project Plan","FD02","Active","2025-12-30T21:16:35.263652+00:00"]
[null,null,null,null,null,null,"PROJECT_PLAN_TASK-3-98518","Above the Line > Writers","PROJECT_PLAN_TASK-3-98518-Above the Line > Writers","Project Plan","FD02","Active","2025-12-30T21:16:35.263652+00:00"]
[null,null,null,null,null,null,"PROJECT_PLAN_TASK-3-98519","Production > Miscellaneous Crew","PROJECT_PLAN_TASK-3-98519-Production > Miscellaneous Crew","Project Plan","FD02","Active","2025-12-30T21:16:35.263652+00:00"]
[null,null,null,null,null,null,"PROJECT_PLAN_TASK-3-98520","Production > Production Management","PROJECT_PLAN_TASK-3-98520-Production > Production Management","Project Plan","FD02","Active","2025-12-30T21:16:35.263652+00:00"]
[null,null,null,null,null,null,"PROJECT_PLAN_TASK-3-98521","Production > Transportation","PROJECT_PLAN_TASK-3-98521-Production > Transportation","Project Plan","FD02","Active","2025-12-30T21:16:35.263652+00:00"]
[null,null,null,null,null,null,"PROJECT_PLAN_TASK-3-98522","Production > Travel & Living","PROJECT_PLAN_TASK-3-98522-Production > Travel & Living","Project Plan","FD02","Active","2025-12-30T21:16:35.263652+00:00"]
[null,null,null,null,null,null,"PROJECT_PLAN_TASK-3-98523","Production > Uplink","PROJECT_PLAN_TASK-3-98523-Production > Uplink","Project Plan","FD02","Active","2025-12-30T21:16:35.263652+00:00"]
[null,null,null,null,null,null,"PROJECT_PLAN_TASK-3-98524","Production > Production Assistants","PROJECT_PLAN_TASK-3-98524-Production > Production Assistants","Project Plan","FD02","Active","2025-12-30T21:16:35.263652+00:00"]
[null,null,null,null,null,null,"PROJECT_PLAN_TASK-3-98525","Production > Audio","PROJECT_PLAN_TASK-3-98525-Production > Audio","Project Plan","FD02","Active","2025-12-30T21:16:35.263652+00:00"]
[null,null,null,null,null,null,"PROJECT_PLAN_TASK-3-98526","Production > Rights","PROJECT_PLAN_TASK-3-98526-Production > Rights","Project Plan","FD02","Active","2025-12-30T21:16:35.263652+00:00"]
[null,null,null,null,null,null,"PROJECT_PLAN_TASK-3-98527","Production > Craft/Meals","PROJECT_PLAN_TASK-3-98527-Production > Craft/Meals","Project Plan","FD02","Active","2025-12-30T21:16:35.263652+00:00"]
[null,null,null,null,null,null,"PROJECT_PLAN_TASK-3-98528","General > General Expenses","PROJECT_PLAN_TASK-3-98528-General > General Expenses","Project Plan","FD02","Active","2025-12-30T21:16:35.263652+00:00"]
[null,null,null,null,null,null,"PROJECT_PLAN_TASK-3-98529","Post Production > Closed Captioning","PROJECT_PLAN_TASK-3-98529-Post Production > Closed Captioning","Project Plan","FD02","Active","2025-12-30T21:16:35.263652+00:00"]
[null,null,null,null,null,null,"PROJECT_PLAN_TASK-3-98530","Post Production > Color","PROJECT_PLAN_TASK-3-98530-Post Production > Color","Project Plan","FD02","Active","2025-12-30T21:16:35.263652+00:00"]
[null,null,null,null,null,null,"PROJECT_PLAN_TASK-3-98531","Post Production > Editing","PROJECT_PLAN_TASK-3-98531-Post Production > Editing","Project Plan","FD02","Active","2025-12-30T21:16:35.263652+00:00"]
[null,null,null,null,null,null,"PROJECT_PLAN_TASK-3-98532","Post Production > Graphics","PROJECT_PLAN_TASK-3-98532-Post Production > Graphics","Project Plan","FD02","Active","2025-12-30T21:16:35.263652+00:00"]
[null,null,null,null,null,null,"PROJECT_PLAN_TASK-3-98533","Post Production > Music","PROJECT_PLAN_TASK-3-98533-Post Production > Music","Project Plan","FD02","Active","2025-12-30T21:16:35.263652+00:00"]
[null,null,null,null,null,null,"PROJECT_PLAN_TASK-3-98534","Post Production > QC","PROJECT_PLAN_TASK-3-98534-Post Production > QC","Project Plan","FD02","Active","2025-12-30T21:16:35.263652+00:00"]
[null,null,null,null,null,null,"PROJECT_PLAN_TASK-3-98535","Post Production > Rights","PROJECT_PLAN_TASK-3-98535-Post Production > Rights","Project Plan","FD02","Active","2025-12-30T21:16:35.263652+00:00"]
[null,null,null,null,null,null,"PROJECT_PLAN_TASK-3-98536","Post Production > Audio","PROJECT_PLAN_TASK-3-98536-Post Production > Audio","Project Plan","FD02","Active","2025-12-30T21:16:35.263652+00:00"]
[null,null,null,null,null,null,"PROJECT_PLAN_TASK-3-98537","Post Production > Blank Media/Drives","PROJECT_PLAN_TASK-3-98537-Post Production > Blank Media/Drives","Project Plan","FD02","Active","2025-12-30T21:16:35.263652+00:00"]
[null,null,null,null,null,null,"PROJECT_PLAN_TASK-3-98538","Post Production > VFX","PROJECT_PLAN_TASK-3-98538-Post Production > VFX","Project Plan","FD02","Active","2025-12-30T21:16:35.293439+00:00"]
[null,null,null,null,null,null,"PROJECT_PLAN_TASK-3-98539","BYUB Marketing/Key Creative > Events","PROJECT_PLAN_TASK-3-98539-BYUB Marketing/Key Creative > Events","Project Plan","FD02","Active","2025-12-30T21:16:35.293439+00:00"]
[null,null,null,null,null,null,"PROJECT_PLAN_TASK-3-98540","BYUB Marketing/Key Creative > Photography","PROJECT_PLAN_TASK-3-98540-BYUB Marketing/Key Creative > Photography","Project Plan","FD02","Active","2025-12-30T21:16:35.293439+00:00"]
[null,null,null,null,null,null,"PROJECT_PLAN_TASK-3-98541","BYUB Marketing/Key Creative > Marketing Day","PROJECT_PLAN_TASK-3-98541-BYUB Marketing/Key Creative > Marketing Day","Project Plan","FD02","Active","2025-12-30T21:16:35.293439+00:00"]
[null,null,null,null,null,null,"PROJECT_PLAN_TASK-3-98542","BYUB Marketing/Key Creative > Video Promos","PROJECT_PLAN_TASK-3-98542-BYUB Marketing/Key Creative > Video Promos","Project Plan","FD02","Active","2025-12-30T21:16:35.293439+00:00"]
[null,null,null,null,null,null,"PROJECT_PLAN_TASK-3-98570","Above the Line > Content Assistant","PROJECT_PLAN_TASK-3-98570-Above the Line > Content Assistant","Project Plan","FD02","Active","2025-12-30T21:16:35.293439+00:00"]
[null,null,null,null,null,null,"PROJECT_PLAN_TASK-3-98571","Above the Line > Craft/Meals","PROJECT_PLAN_TASK-3-98571-Above the Line > Craft/Meals","Project Plan","FD02","Active","2025-12-30T21:16:35.293439+00:00"]
[null,null,null,null,null,null,"PROJECT_PLAN_TASK-3-98572","Above the Line > Casting","PROJECT_PLAN_TASK-3-98572-Above the Line > Casting","Project Plan","FD02","Active","2025-12-30T21:16:35.293439+00:00"]
[null,null,null,null,null,null,"PROJECT_PLAN_TASK-3-98573","Above the Line > Director","PROJECT_PLAN_TASK-3-98573-Above the Line > Director","Project Plan","FD02","Active","2025-12-30T21:16:35.293439+00:00"]
[null,null,null,null,null,null,"PROJECT_PLAN_TASK-3-98574","Above the Line > Executive Producer/Management","PROJECT_PLAN_TASK-3-98574-Above the Line > Executive Producer/Management","Project Plan","FD02","Active","2025-12-30T21:16:35.293439+00:00"]
[null,null,null,null,null,null,"PROJECT_PLAN_TASK-3-98575","Above the Line > Producers","PROJECT_PLAN_TASK-3-98575-Above the Line > Producers","Project Plan","FD02","Active","2025-12-30T21:16:35.293439+00:00"]
[null,null,null,null,null,null,"PROJECT_PLAN_TASK-3-98576","Above the Line > Research","PROJECT_PLAN_TASK-3-98576-Above the Line > Research","Project Plan","FD02","Active","2025-12-30T21:16:35.293439+00:00"]
[null,null,null,null,null,null,"PROJECT_PLAN_TASK-3-98577","Above the Line > Talent","PROJECT_PLAN_TASK-3-98577-Above the Line > Talent","Project Plan","FD02","Active","2025-12-30T21:16:35.293439+00:00"]
[null,null,null,null,null,null,"PROJECT_PLAN_TASK-3-98578","Production > Production Management","PROJECT_PLAN_TASK-3-98578-Production > Production Management","Project Plan","FD02","Active","2025-12-30T21:16:35.293439+00:00"]
[null,null,null,null,null,null,"PROJECT_PLAN_TASK-3-98579","Production > Travel & Living","PROJECT_PLAN_TASK-3-98579-Production > Travel & Living","Project Plan","FD02","Active","2025-12-30T21:16:35.293439+00:00"]
[null,null,null,null,null,null,"PROJECT_PLAN_TASK-3-98580","General > General Expenses","PROJECT_PLAN_TASK-3-98580-General > General Expenses","Project Plan","FD02","Active","2025-12-30T21:16:35.293439+00:00"]
[null,null,null,null,null,null,"PROJECT_PLAN_TASK-3-98581","General > Production Assistants","PROJECT_PLAN_TASK-3-98581-General > Production Assistants","Project Plan","FD02","Active","2025-12-30T21:16:35.293439+00:00"]
[null,null,null,null,null,null,"PROJECT_PLAN_TASK-3-98582","BYUB Marketing/Key Creative > Events","PROJECT_PLAN_TASK-3-98582-BYUB Marketing/Key Creative > Events","Project Plan","FD02","Active","2025-12-30T21:16:35.293439+00:00"]
[null,null,null,null,null,null,"PROJECT_PLAN_TASK-3-98583","BYUB Marketing/Key Creative > Photography","PROJECT_PLAN_TASK-3-98583-BYUB Marketing/Key Creative > Photography","Project Plan","FD02","Active","2025-12-30T21:16:35.293439+00:00"]
[null,null,null,null,null,null,"PROJECT_PLAN_TASK-3-98584","BYUB Marketing/Key Creative > Marketing Day","PROJECT_PLAN_TASK-3-98584-BYUB Marketing/Key Creative > Marketing Day","Project Plan","FD02","Active","2025-12-30T21:16:35.293439+00:00"]
[null,null,null,null,null,null,"PROJECT_PLAN_TASK-3-98585","BYUB Marketing/Key Creative > Video Promos","PROJECT_PLAN_TASK-3-98585-BYUB Marketing/Key Creative > Video Promos","Project Plan","FD02","Active","2025-12-30T21:16:35.293439+00:00"]
[null,null,null,null,null,null,"PROJECT_PLAN_TASK-3-98586","BYUB Development > Writers","PROJECT_PLAN_TASK-3-98586-BYUB Development > Writers","Project Plan","FD02","Active","2025-12-30T21:16:35.293439+00:00"]
[null,null,null,null,null,null,"PROJECT_PLAN_TASK-3-98587","BYUB Development > General Expenses","PROJECT_PLAN_TASK-3-98587-BYUB Development > General Expenses","Project Plan","FD02","Active","2025-12-30T21:16:35.293439+00:00"]
[null,null,null,null,null,null,"PROJECT_PLAN_TASK-3-98588","BYUB Development > Production Management","PROJECT_PLAN_TASK-3-98588-BYUB Development > Production Management","Project Plan","FD02","Active","2025-12-30T21:16:35.293439+00:00"]
[null,null,null,null,null,null,"PROJECT_PLAN_TASK-3-98589","BYUB Development > Producers","PROJECT_PLAN_TASK-3-98589-BYUB Development > Producers","Project Plan","FD02","Active","2025-12-30T21:16:35.293439+00:00"]
[null,null,null,null,null,null,"PROJECT_PLAN_TASK-3-98590","BYUB Development > Director","PROJECT_PLAN_TASK-3-98590-BYUB Development > Director","Project Plan","FD02","Active","2025-12-30T21:16:35.293439+00:00"]
[null,null,null,null,null,null,"PROJECT_PLAN_TASK-3-98591","BYUB Development > Miscellaneous Crew","PROJECT_PLAN_TASK-3-98591-BYUB Development > Miscellaneous Crew","Project Plan","FD02","Active","2025-12-30T21:16:35.293439+00:00"]
[null,null,null,null,null,null,"PROJECT_PLAN_TASK-3-98592","BYUB Development > Art","PROJECT_PLAN_TASK-3-98592-BYUB Development > Art","Project Plan","FD02","Active","2025-12-30T21:16:35.293439+00:00"]
[null,null,null,null,null,null,"PROJECT_PLAN_TASK-3-98593","BYUB Development > Casting","PROJECT_PLAN_TASK-3-98593-BYUB Development > Casting","Project Plan","FD02","Active","2025-12-30T21:16:35.293439+00:00"]
[null,null,null,null,null,null,"PROJECT_PLAN_TASK-3-98594","BYUB Development > Rights","PROJECT_PLAN_TASK-3-98594-BYUB Development > Rights","Project Plan","FD02","Active","2025-12-30T21:16:35.293439+00:00"]
[null,null,null,null,null,null,"PROJECT_PLAN_TASK-3-98595","BYUB Development > Editing","PROJECT_PLAN_TASK-3-98595-BYUB Development > Editing","Project Plan","FD02","Active","2025-12-30T21:16:35.293439+00:00"]
[null,null,null,null,null,null,"PROJECT_PLAN_TASK-3-98596","BYUB Development > Music","PROJECT_PLAN_TASK-3-98596-BYUB Development > Music","Project Plan","FD02","Active","2025-12-30T21:16:35.293439+00:00"]
[null,null,null,null,null,null,"PROJECT_PLAN_TASK-3-98597","BYUB Development > Locations","PROJECT_PLAN_TASK-3-98597-BYUB Development > Locations","Project Plan","FD02","Active","2025-12-30T21:16:35.293439+00:00"]
[null,null,null,null,null,null,"PROJECT_PLAN_TASK-3-98610","Above the Line > Content Assistant","PROJECT_PLAN_TASK-3-98610-Above the Line > Content Assistant","Project Plan","FD02","Active","2025-12-30T21:16:35.293439+00:00"]
[null,null,null,null,null,null,"PROJECT_PLAN_TASK-3-98611","Above the Line > Craft/Meals","PROJECT_PLAN_TASK-3-98611-Above the Line > Craft/Meals","Project Plan","FD02","Active","2025-12-30T21:16:35.293439+00:00"]
[null,null,null,null,null,null,"PROJECT_PLAN_TASK-3-98612","Above the Line > Casting","PROJECT_PLAN_TASK-3-98612-Above the Line > Casting","Project Plan","FD02","Active","2025-12-30T21:16:35.293439+00:00"]
[null,null,null,null,null,null,"PROJECT_PLAN_TASK-3-98613","Above the Line > Director","PROJECT_PLAN_TASK-3-98613-Above the Line > Director","Project Plan","FD02","Active","2025-12-30T21:16:35.293439+00:00"]
[null,null,null,null,null,null,"PROJECT_PLAN_TASK-3-98614","Above the Line > Executive Producer/Management","PROJECT_PLAN_TASK-3-98614-Above the Line > Executive Producer/Management","Project Plan","FD02","Active","2025-12-30T21:16:35.293439+00:00"]
[null,null,null,null,null,null,"PROJECT_PLAN_TASK-3-98615","Above the Line > Producers","PROJECT_PLAN_TASK-3-98615-Above the Line > Producers","Project Plan","FD02","Active","2025-12-30T21:16:35.293439+00:00"]
[null,null,null,null,null,null,"PROJECT_PLAN_TASK-3-98616","Above the Line > Research","PROJECT_PLAN_TASK-3-98616-Above the Line > Research","Project Plan","FD02","Active","2025-12-30T21:16:35.293439+00:00"]
[null,null,null,null,null,null,"PROJECT_PLAN_TASK-3-98617","Above the Line > Talent","PROJECT_PLAN_TASK-3-98617-Above the Line > Talent","Project Plan","FD02","Active","2025-12-30T21:16:35.293439+00:00"]
[null,null,null,null,null,null,"PROJECT_PLAN_TASK-3-98618","Above the Line > Writers","PROJECT_PLAN_TASK-3-98618-Above the Line > Writers","Project Plan","FD02","Active","2025-12-30T21:16:35.293439+00:00"]
[null,null,null,null,null,null,"PROJECT_PLAN_TASK-3-98619","Production > Closed Captioning","PROJECT_PLAN_TASK-3-98619-Production > Closed Captioning","Project Plan","FD02","Active","2025-12-30T21:16:35.293439+00:00"]
[null,null,null,null,null,null,"PROJECT_PLAN_TASK-3-98620","Production > Art","PROJECT_PLAN_TASK-3-98620-Production > Art","Project Plan","FD02","Active","2025-12-30T21:16:35.293439+00:00"]
[null,null,null,null,null,null,"PROJECT_PLAN_TASK-3-98621","Production > Camera","PROJECT_PLAN_TASK-3-98621-Production > Camera","Project Plan","FD02","Active","2025-12-30T21:16:35.293439+00:00"]
[null,null,null,null,null,null,"PROJECT_PLAN_TASK-3-98622","Production > Electric","PROJECT_PLAN_TASK-3-98622-Production > Electric","Project Plan","FD02","Active","2025-12-30T21:16:35.293439+00:00"]
[null,null,null,null,null,null,"PROJECT_PLAN_TASK-3-98623","Production > Engineering","PROJECT_PLAN_TASK-3-98623-Production > Engineering","Project Plan","FD02","Active","2025-12-30T21:16:35.293439+00:00"]
[null,null,null,null,null,null,"PROJECT_PLAN_TASK-3-98624","Production > Equipment","PROJECT_PLAN_TASK-3-98624-Production > Equipment","Project Plan","FD02","Active","2025-12-30T21:16:35.293439+00:00"]
[null,null,null,null,null,null,"PROJECT_PLAN_TASK-3-98625","Production > Facilities","PROJECT_PLAN_TASK-3-98625-Production > Facilities","Project Plan","FD02","Active","2025-12-30T21:16:35.293439+00:00"]
[null,null,null,null,null,null,"PROJECT_PLAN_TASK-3-98626","Production > Floor Director","PROJECT_PLAN_TASK-3-98626-Production > Floor Director","Project Plan","FD02","Active","2025-12-30T21:16:35.293439+00:00"]
[null,null,null,null,null,null,"PROJECT_PLAN_TASK-3-98627","Production > Grip","PROJECT_PLAN_TASK-3-98627-Production > Grip","Project Plan","FD02","Active","2025-12-30T21:16:35.293439+00:00"]
[null,null,null,null,null,null,"PROJECT_PLAN_TASK-3-98628","Production > Locations","PROJECT_PLAN_TASK-3-98628-Production > Locations","Project Plan","FD02","Active","2025-12-30T21:16:35.293439+00:00"]
[null,null,null,null,null,null,"PROJECT_PLAN_TASK-3-98629","Production > Miscellaneous Crew","PROJECT_PLAN_TASK-3-98629-Production > Miscellaneous Crew","Project Plan","FD02","Active","2025-12-30T21:16:35.293439+00:00"]
[null,null,null,null,null,null,"PROJECT_PLAN_TASK-3-98630","Production > Makeup & Hair","PROJECT_PLAN_TASK-3-98630-Production > Makeup & Hair","Project Plan","FD02","Active","2025-12-30T21:16:35.293439+00:00"]
[null,null,null,null,null,null,"PROJECT_PLAN_TASK-3-98631","Production > Production Management","PROJECT_PLAN_TASK-3-98631-Production > Production Management","Project Plan","FD02","Active","2025-12-30T21:16:35.293439+00:00"]
[null,null,null,null,null,null,"PROJECT_PLAN_TASK-3-98632","Production > Set Construction","PROJECT_PLAN_TASK-3-98632-Production > Set Construction","Project Plan","FD02","Active","2025-12-30T21:16:35.293439+00:00"]
[null,null,null,null,null,null,"PROJECT_PLAN_TASK-3-98633","Production > Tape","PROJECT_PLAN_TASK-3-98633-Production > Tape","Project Plan","FD02","Active","2025-12-30T21:16:35.293439+00:00"]
[null,null,null,null,null,null,"PROJECT_PLAN_TASK-3-98634","Production > Technical Director","PROJECT_PLAN_TASK-3-98634-Production > Technical Director","Project Plan","FD02","Active","2025-12-30T21:16:35.293439+00:00"]
[null,null,null,null,null,null,"PROJECT_PLAN_TASK-3-98635","Production > Teleprompter","PROJECT_PLAN_TASK-3-98635-Production > Teleprompter","Project Plan","FD02","Active","2025-12-30T21:16:35.293439+00:00"]
[null,null,null,null,null,null,"PROJECT_PLAN_TASK-3-98636","Production > Transportation","PROJECT_PLAN_TASK-3-98636-Production > Transportation","Project Plan","FD02","Active","2025-12-30T21:16:35.293439+00:00"]
[null,null,null,null,null,null,"PROJECT_PLAN_TASK-3-98637","Production > Travel & Living","PROJECT_PLAN_TASK-3-98637-Production > Travel & Living","Project Plan","FD02","Active","2025-12-30T21:16:35.293439+00:00"]
[null,null,null,null,null,null,"PROJECT_PLAN_TASK-3-98638","Production > Uplink","PROJECT_PLAN_TASK-3-98638-Production > Uplink","Project Plan","FD02","Active","2025-12-30T21:16:35.293439+00:00"]
[null,null,null,null,null,null,"PROJECT_PLAN_TASK-3-98639","Production > Video Control","PROJECT_PLAN_TASK-3-98639-Production > Video Control","Project Plan","FD02","Active","2025-12-30T21:16:35.293439+00:00"]
[null,null,null,null,null,null,"PROJECT_PLAN_TASK-3-98640","Production > Wardrobe","PROJECT_PLAN_TASK-3-98640-Production > Wardrobe","Project Plan","FD02","Active","2025-12-30T21:16:35.293439+00:00"]
[null,null,null,null,null,null,"PROJECT_PLAN_TASK-3-98641","Production > Graphics","PROJECT_PLAN_TASK-3-98641-Production > Graphics","Project Plan","FD02","Active","2025-12-30T21:16:35.293439+00:00"]
[null,null,null,null,null,null,"PROJECT_PLAN_TASK-3-98642","Production > Production Assistants","PROJECT_PLAN_TASK-3-98642-Production > Production Assistants","Project Plan","FD02","Active","2025-12-30T21:16:35.293439+00:00"]
[null,null,null,null,null,null,"PROJECT_PLAN_TASK-3-98643","Production > Rights","PROJECT_PLAN_TASK-3-98643-Production > Rights","Project Plan","FD02","Active","2025-12-30T21:16:35.293439+00:00"]
[null,null,null,null,null,null,"PROJECT_PLAN_TASK-3-98644","Production > Audio","PROJECT_PLAN_TASK-3-98644-Production > Audio","Project Plan","FD02","Active","2025-12-30T21:16:35.293439+00:00"]
[null,null,null,null,null,null,"PROJECT_PLAN_TASK-3-98645","Production > Craft/Meals","PROJECT_PLAN_TASK-3-98645-Production > Craft/Meals","Project Plan","FD02","Active","2025-12-30T21:16:35.293439+00:00"]
[null,null,null,null,null,null,"PROJECT_PLAN_TASK-3-98646","General > General Expenses","PROJECT_PLAN_TASK-3-98646-General > General Expenses","Project Plan","FD02","Active","2025-12-30T21:16:35.293439+00:00"]
[null,null,null,null,null,null,"PROJECT_PLAN_TASK-3-98647","General > Production Assistants","PROJECT_PLAN_TASK-3-98647-General > Production Assistants","Project Plan","FD02","Active","2025-12-30T21:16:35.293439+00:00"]
[null,null,null,null,null,null,"PROJECT_PLAN_TASK-3-98648","Post Production > Closed Captioning","PROJECT_PLAN_TASK-3-98648-Post Production > Closed Captioning","Project Plan","FD02","Active","2025-12-30T21:16:35.293439+00:00"]
[null,null,null,null,null,null,"PROJECT_PLAN_TASK-3-98649","Post Production > Color","PROJECT_PLAN_TASK-3-98649-Post Production > Color","Project Plan","FD02","Active","2025-12-30T21:16:35.293439+00:00"]
[null,null,null,null,null,null,"PROJECT_PLAN_TASK-3-98650","Post Production > Editing","PROJECT_PLAN_TASK-3-98650-Post Production > Editing","Project Plan","FD02","Active","2025-12-30T21:16:35.293439+00:00"]
[null,null,null,null,null,null,"PROJECT_PLAN_TASK-3-98651","Post Production > Graphics","PROJECT_PLAN_TASK-3-98651-Post Production > Graphics","Project Plan","FD02","Active","2025-12-30T21:16:35.293439+00:00"]
[null,null,null,null,null,null,"PROJECT_PLAN_TASK-3-98652","Post Production > Music","PROJECT_PLAN_TASK-3-98652-Post Production > Music","Project Plan","FD02","Active","2025-12-30T21:16:35.293439+00:00"]
[null,null,null,null,null,null,"PROJECT_PLAN_TASK-3-98653","Post Production > QC","PROJECT_PLAN_TASK-3-98653-Post Production > QC","Project Plan","FD02","Active","2025-12-30T21:16:35.293439+00:00"]
[null,null,null,null,null,null,"PROJECT_PLAN_TASK-3-98654","Post Production > Rights","PROJECT_PLAN_TASK-3-98654-Post Production > Rights","Project Plan","FD02","Active","2025-12-30T21:16:35.293439+00:00"]
[null,null,null,null,null,null,"PROJECT_PLAN_TASK-3-98655","Post Production > Audio","PROJECT_PLAN_TASK-3-98655-Post Production > Audio","Project Plan","FD02","Active","2025-12-30T21:16:35.293439+00:00"]
[null,null,null,null,null,null,"PROJECT_PLAN_TASK-3-98656","Post Production > Blank Media/Drives","PROJECT_PLAN_TASK-3-98656-Post Production > Blank Media/Drives","Project Plan","FD02","Active","2025-12-30T21:16:35.293439+00:00"]
[null,null,null,null,null,null,"PROJECT_PLAN_TASK-3-98657","Post Production > VFX","PROJECT_PLAN_TASK-3-98657-Post Production > VFX","Project Plan","FD02","Active","2025-12-30T21:16:35.293439+00:00"]
[null,null,null,null,null,null,"PROJECT_PLAN_TASK-3-98658","BYUB Marketing/Key Creative > Events","PROJECT_PLAN_TASK-3-98658-BYUB Marketing/Key Creative > Events","Project Plan","FD02","Active","2025-12-30T21:16:35.293439+00:00"]
[null,null,null,null,null,null,"PROJECT_PLAN_TASK-3-98659","BYUB Marketing/Key Creative > Photography","PROJECT_PLAN_TASK-3-98659-BYUB Marketing/Key Creative > Photography","Project Plan","FD02","Active","2025-12-30T21:16:35.293439+00:00"]
[null,null,null,null,null,null,"PROJECT_PLAN_TASK-3-98660","BYUB Marketing/Key Creative > Marketing Day","PROJECT_PLAN_TASK-3-98660-BYUB Marketing/Key Creative > Marketing Day","Project Plan","FD02","Active","2025-12-30T21:16:35.293439+00:00"]
[null,null,null,null,null,null,"PROJECT_PLAN_TASK-3-98661","BYUB Marketing/Key Creative > Video Promos","PROJECT_PLAN_TASK-3-98661-BYUB Marketing/Key Creative > Video Promos","Project Plan","FD02","Active","2025-12-30T21:16:35.293439+00:00"]
[null,null,null,null,null,null,"PROJECT_PLAN_TASK-3-98662","BYUB Development > Writers","PROJECT_PLAN_TASK-3-98662-BYUB Development > Writers","Project Plan","FD02","Active","2025-12-30T21:16:35.293439+00:00"]
[null,null,null,null,null,null,"PROJECT_PLAN_TASK-3-98663","BYUB Development > General Expenses","PROJECT_PLAN_TASK-3-98663-BYUB Development > General Expenses","Project Plan","FD02","Active","2025-12-30T21:16:35.293439+00:00"]
[null,null,null,null,null,null,"PROJECT_PLAN_TASK-3-98664","BYUB Development > Production Management","PROJECT_PLAN_TASK-3-98664-BYUB Development > Production Management","Project Plan","FD02","Active","2025-12-30T21:16:35.293439+00:00"]
[null,null,null,null,null,null,"PROJECT_PLAN_TASK-3-98665","BYUB Development > Producers","PROJECT_PLAN_TASK-3-98665-BYUB Development > Producers","Project Plan","FD02","Active","2025-12-30T21:16:35.293439+00:00"]
[null,null,null,null,null,null,"PROJECT_PLAN_TASK-3-98666","BYUB Development > Director","PROJECT_PLAN_TASK-3-98666-BYUB Development > Director","Project Plan","FD02","Active","2025-12-30T21:16:35.293439+00:00"]
[null,null,null,null,null,null,"PROJECT_PLAN_TASK-3-98667","BYUB Development > Miscellaneous Crew","PROJECT_PLAN_TASK-3-98667-BYUB Development > Miscellaneous Crew","Project Plan","FD02","Active","2025-12-30T21:16:35.293439+00:00"]
[null,null,null,null,null,null,"PROJECT_PLAN_TASK-3-98668","BYUB Development > Art","PROJECT_PLAN_TASK-3-98668-BYUB Development > Art","Project Plan","FD02","Active","2025-12-30T21:16:35.293439+00:00"]
[null,null,null,null,null,null,"PROJECT_PLAN_TASK-3-98669","BYUB Development > Casting","PROJECT_PLAN_TASK-3-98669-BYUB Development > Casting","Project Plan","FD02","Active","2025-12-30T21:16:35.293439+00:00"]
[null,null,null,null,null,null,"PROJECT_PLAN_TASK-3-98670","BYUB Development > Rights","PROJECT_PLAN_TASK-3-98670-BYUB Development > Rights","Project Plan","FD02","Active","2025-12-30T21:16:35.293439+00:00"]
[null,null,null,null,null,null,"PROJECT_PLAN_TASK-3-98671","BYUB Development > Editing","PROJECT_PLAN_TASK-3-98671-BYUB Development > Editing","Project Plan","FD02","Active","2025-12-30T21:16:35.293439+00:00"]
[null,null,null,null,null,null,"PROJECT_PLAN_TASK-3-98672","BYUB Development > Music","PROJECT_PLAN_TASK-3-98672-BYUB Development > Music","Project Plan","FD02","Active","2025-12-30T21:16:35.293439+00:00"]
[null,null,null,null,null,null,"PROJECT_PLAN_TASK-3-98673","BYUB Development > Locations","PROJECT_PLAN_TASK-3-98673-BYUB Development > Locations","Project Plan","FD02","Active","2025-12-30T21:16:35.293439+00:00"]
[null,null,null,null,null,null,"PROJECT_PLAN_TASK-3-99703","Production > Closed Captioning    (Starts: 01/01/2025)","PROJECT_PLAN_TASK-3-99703-Production > Closed Captioning    (Starts: 01/01/2025)","Project Plan","FD02","Active","2025-12-30T21:16:20.595329+00:00"]

{"sheet":"Tenant","index":4,"n_rows":16,"n_cols":21,"rows_kept":16,"cut":false,"hidden":true,"merged":[[1,5,1,12],[1,15,2,16],[1,17,2,17],[1,18,2,18],[1,19,2,20]]}
[null,null,null,null,null,null,null,null,null,null,null,null,null,{"$f":"_xlfn.DAYS(NOW(),O4)","v":0},{"$f":"\"Refresh Worktags\" & CHAR(10) & \"* \" & _xlfn.DAYS(NOW(),O4) & \" days since worktag refresh\"","v":"Refresh Worktags\n* 0 days since worktag refresh"}]
[null,null,"Intra Campus",null,null,null,null,null,null,null,null,null,null,null,null,"Journal Sources",null,"Ledger","Currency","Books"]
[null,null,"Revenue","Tenant","Type",null,null,null,null,null,null,null,null,"Version","Last Updated",null,null,"Ledger","Currency"]
[null,null,"Y","Production","BANK","ALU","Brigham Young University Alumni, LLC","ALU-Brigham Young University Alumni, LLC","Actuals","2025-Jan (Calendar Year)","2025-01-01","2025-01-31","Open",1,"2026-01-08","JE Campus","JE_Campus","Actuals","CAD","(blank)",{"$f":"\"\"","v":""}]
[null,null,null,"Sandbox Preview","JRNL","BYU","Brigham Young University","BYU-Brigham Young University","Actuals","2025-Jan (Calendar Year)","2025-01-01","2025-01-31","Open",null,null,"JE Gift","JE_Gift","Commitment","EUR","Financial Adjustment","Financial_Adjustment"]
[null,null,null,"Preview",null,"CAN","EFY-Canada Foundation","CAN-EFY-Canada Foundation","Actuals","2025-Jan (Calendar Year)","2025-01-01","2025-01-31","Open",null,null,"JE Override","JE_Override","Obligation","GBP"]
[null,null,null,null,null,"CEE","CE Events, LLC","CEE-CE Events, LLC","Actuals","2025-Jan (Calendar Year)","2025-01-01","2025-01-31","Open",null,null,"JE Payroll","JE_Payroll",null,"ILS"]
[null,null,null,null,null,"FSY","FSY, LLC","FSY-FSY, LLC","Actuals","2025-Jan (Calendar Year)","2025-01-01","2025-01-31","Open",null,null,"JE PPE","JE_PPE",null,"USD"]
[null,null,null,null,null,"HED","HEDL, LLC","HED-HEDL, LLC","Actuals","2025-Jan (Calendar Year)","2025-01-01","2025-01-31","Open",null,null,"JE Research","JE_Research"]
[null,null,null,null,null,"IHS","HSDL, LLC","IHS-HSDL, LLC","Actuals","2025-Jan (Calendar Year)","2025-01-01","2025-01-31","Open"]
[null,null,null,null,null,"INT","BYU International, LLC","INT-BYU International, LLC","Actuals","2025-Jan (Calendar Year)","2025-01-01","2025-01-31","Open"]
[null,null,null,null,null,"JER","The Jerusalem Center for Near Eastern Studies","JER-The Jerusalem Center for Near Eastern Studies","Actuals","2025-Jan (Calendar Year)","2025-01-01","2025-01-31","Open"]
[null,null,null,null,null,"LDN","Brigham Young University, Ltd.","LDN-Brigham Young University, Ltd.","Actuals","2025-Jan (Calendar Year)","2025-01-01","2025-01-31","Open"]
[null,null,null,null,null,"USD_CAN","USD EFY-Canada Foundation","USD_CAN-USD EFY-Canada Foundation","Actuals","2025-Jan (Calendar Year)","2025-01-01","2025-01-31","Open"]
[null,null,null,null,null,"USD_JER","USD The Jerusalem Center for Near Eastern Studies","USD_JER-USD The Jerusalem Center for Near Eastern Studies","Actuals","2025-Jan (Calendar Year)","2025-01-01","2025-01-31","Open"]
[null,null,null,null,null,"USD_LDN","USD Brigham Young University, Ltd.","USD_LDN-USD Brigham Young University, Ltd.","Actuals","2025-Jan (Calendar Year)","2025-01-01","2025-01-31","Open"]

{"sheet":"AccountSCRC_Concat","index":5,"n_rows":3221,"n_cols":8,"rows_kept":3221,"cut":false,"hidden":true,"merged":[]}
[{"$f":"IF(B1<>\"\",IF(C1<>\"\",B1&\"_\"&C1&\" \"&D1&\"/\"&E1,B1&\" \"&D1),\"\")","v":"1000 Cash USD"},{"$f":"Worktags!AL5","v":"1000"},null,{"$f":"IFERROR(VLOOKUP(B1,Worktags!AL:AO,2,FALSE),\"\")","v":"Cash USD"},null,{"$f":"IFERROR(VLOOKUP(IF(C1=\"\",B1&\"||\"&B1,C1&\"||\"&B1),Worktags!AR:AV,5,FALSE),\"\")","v":""},144,978]
[{"$f":"IF(B2<>\"\",IF(C2<>\"\",B2&\"_\"&C2&\" \"&D2&\"/\"&E2,B2&\" \"&D2),\"\")","v":"1000_BK1001 Cash USD/Wells Fargo Concentration 2494"},{"$f":"Worktags!AS84","v":"1000"},{"$f":"IF(Worktags!AQ84<>Worktags!AS84,Worktags!AQ84,\"\")","v":"BK1001"},{"$f":"IFERROR(VLOOKUP(B2,Worktags!AL:AO,2,FALSE),\"\")","v":"Cash USD"},{"$f":"IFERROR(VLOOKUP(C2,Worktags!O:T,2,FALSE),\"\")","v":"Wells Fargo Concentration 2494"},{"$f":"IFERROR(VLOOKUP(IF(C2=\"\",B2&\"||\"&B2,C2&\"||\"&B2),Worktags!AR:AV,5,FALSE),\"\")","v":"JE_Override"}]
[{"$f":"IF(B3<>\"\",IF(C3<>\"\",B3&\"_\"&C3&\" \"&D3&\"/\"&E3,B3&\" \"&D3),\"\")","v":"1000_BK1002 Cash USD/Wells Fargo Depository 0001"},{"$f":"Worktags!AS85","v":"1000"},{"$f":"IF(Worktags!AQ85<>Worktags!AS85,Worktags!AQ85,\"\")","v":"BK1002"},{"$f":"IFERROR(VLOOKUP(B3,Worktags!AL:AO,2,FALSE),\"\")","v":"Cash USD"},{"$f":"IFERROR(VLOOKUP(C3,Worktags!O:T,2,FALSE),\"\")","v":"Wells Fargo Depository 0001"},{"$f":"IFERROR(VLOOKUP(IF(C3=\"\",B3&\"||\"&B3,C3&\"||\"&B3),Worktags!AR:AV,5,FALSE),\"\")","v":"JE_Override"}]
[{"$f":"IF(B4<>\"\",IF(C4<>\"\",B4&\"_\"&C4&\" \"&D4&\"/\"&E4,B4&\" \"&D4),\"\")","v":"1000_BK1003 Cash USD/Wells Fargo Disbursement 0217"},{"$f":"Worktags!AS86","v":"1000"},{"$f":"IF(Worktags!AQ86<>Worktags!AS86,Worktags!AQ86,\"\")","v":"BK1003"},{"$f":"IFERROR(VLOOKUP(B4,Worktags!AL:AO,2,FALSE),\"\")","v":"Cash USD"},{"$f":"IFERROR(VLOOKUP(C4,Worktags!O:T,2,FALSE),\"\")","v":"Wells Fargo Disbursement 0217"},{"$f":"IFERROR(VLOOKUP(IF(C4=\"\",B4&\"||\"&B4,C4&\"||\"&B4),Worktags!AR:AV,5,FALSE),\"\")","v":"JE_Override"}]
[{"$f":"IF(B5<>\"\",IF(C5<>\"\",B5&\"_\"&C5&\" \"&D5&\"/\"&E5,B5&\" \"&D5),\"\")","v":"1000_BK1004 Cash USD/Wells Fargo Payroll 0118"},{"$f":"Worktags!AS87","v":"1000"},{"$f":"IF(Worktags!AQ87<>Worktags!AS87,Worktags!AQ87,\"\")","v":"BK1004"},{"$f":"IFERROR(VLOOKUP(B5,Worktags!AL:AO,2,FALSE),\"\")","v":"Cash USD"},{"$f":"IFERROR(VLOOKUP(C5,Worktags!O:T,2,FALSE),\"\")","v":"Wells Fargo Payroll 0118"},{"$f":"IFERROR(VLOOKUP(IF(C5=\"\",B5&\"||\"&B5,C5&\"||\"&B5),Worktags!AR:AV,5,FALSE),\"\")","v":"JE_Override"}]
[{"$f":"IF(B6<>\"\",IF(C6<>\"\",B6&\"_\"&C6&\" \"&D6&\"/\"&E6,B6&\" \"&D6),\"\")","v":"1000_BK1005 Cash USD/Wells Fargo Agency 3757"},{"$f":"Worktags!AS88","v":"1000"},{"$f":"IF(Worktags!AQ88<>Worktags!AS88,Worktags!AQ88,\"\")","v":"BK1005"},{"$f":"IFERROR(VLOOKUP(B6,Worktags!AL:AO,2,FALSE),\"\")","v":"Cash USD"},{"$f":"IFERROR(VLOOKUP(C6,Worktags!O:T,2,FALSE),\"\")","v":"Wells Fargo Agency 3757"},{"$f":"IFERROR(VLOOKUP(IF(C6=\"\",B6&\"||\"&B6,C6&\"||\"&B6),Worktags!AR:AV,5,FALSE),\"\")","v":"JE_Override"}]
[{"$f":"IF(B7<>\"\",IF(C7<>\"\",B7&\"_\"&C7&\" \"&D7&\"/\"&E7,B7&\" \"&D7),\"\")","v":"1000_BK1006 Cash USD/Wells Fargo Fed Funds 2462"},{"$f":"Worktags!AS89","v":"1000"},{"$f":"IF(Worktags!AQ89<>Worktags!AS89,Worktags!AQ89,\"\")","v":"BK1006"},{"$f":"IFERROR(VLOOKUP(B7,Worktags!AL:AO,2,FALSE),\"\")","v":"Cash USD"},{"$f":"IFERROR(VLOOKUP(C7,Worktags!O:T,2,FALSE),\"\")","v":"Wells Fargo Fed Funds 2462"},{"$f":"IFERROR(VLOOKUP(IF(C7=\"\",B7&\"||\"&B7,C7&\"||\"&B7),Worktags!AR:AV,5,FALSE),\"\")","v":"JE_Override"}]
[{"$f":"IF(B8<>\"\",IF(C8<>\"\",B8&\"_\"&C8&\" \"&D8&\"/\"&E8,B8&\" \"&D8),\"\")","v":"1000_BK1008 Cash USD/"},{"$f":"Worktags!AS90","v":"1000"},{"$f":"IF(Worktags!AQ90<>Worktags!AS90,Worktags!AQ90,\"\")","v":"BK1008"},{"$f":"IFERROR(VLOOKUP(B8,Worktags!AL:AO,2,FALSE),\"\")","v":"Cash USD"},{"$f":"IFERROR(VLOOKUP(C8,Worktags!O:T,2,FALSE),\"\")","v":""},{"$f":"IFERROR(VLOOKUP(IF(C8=\"\",B8&\"||\"&B8,C8&\"||\"&B8),Worktags!AR:AV,5,FALSE),\"\")","v":"JE_Override"}]
[{"$f":"IF(B9<>\"\",IF(C9<>\"\",B9&\"_\"&C9&\" \"&D9&\"/\"&E9,B9&\" \"&D9),\"\")","v":"1000_BK1020 Cash USD/JPMorgan Per Diem 5898"},{"$f":"Worktags!AS91","v":"1000"},{"$f":"IF(Worktags!AQ91<>Worktags!AS91,Worktags!AQ91,\"\")","v":"BK1020"},{"$f":"IFERROR(VLOOKUP(B9,Worktags!AL:AO,2,FALSE),\"\")","v":"Cash USD"},{"$f":"IFERROR(VLOOKUP(C9,Worktags!O:T,2,FALSE),\"\")","v":"JPMorgan Per Diem 5898"},{"$f":"IFERROR(VLOOKUP(IF(C9=\"\",B9&\"||\"&B9,C9&\"||\"&B9),Worktags!AR:AV,5,FALSE),\"\")","v":"JE_Override"}]
[{"$f":"IF(B10<>\"\",IF(C10<>\"\",B10&\"_\"&C10&\" \"&D10&\"/\"&E10,B10&\" \"&D10),\"\")","v":"1000_BK1030 Cash USD/CUBS BYU 3920"},{"$f":"Worktags!AS92","v":"1000"},{"$f":"IF(Worktags!AQ92<>Worktags!AS92,Worktags!AQ92,\"\")","v":"BK1030"},{"$f":"IFERROR(VLOOKUP(B10,Worktags!AL:AO,2,FALSE),\"\")","v":"Cash USD"},{"$f":"IFERROR(VLOOKUP(C10,Worktags!O:T,2,FALSE),\"\")","v":"CUBS BYU 3920"},{"$f":"IFERROR(VLOOKUP(IF(C10=\"\",B10&\"||\"&B10,C10&\"||\"&B10),Worktags!AR:AV,5,FALSE),\"\")","v":"JE_Override"}]
[{"$f":"IF(B11<>\"\",IF(C11<>\"\",B11&\"_\"&C11&\" \"&D11&\"/\"&E11,B11&\" \"&D11),\"\")","v":"1000_BK1041 Cash USD/Jerusalem Operations USD 7144"},{"$f":"Worktags!AS94","v":"1000"},{"$f":"IF(Worktags!AQ94<>Worktags!AS94,Worktags!AQ94,\"\")","v":"BK1041"},{"$f":"IFERROR(VLOOKUP(B11,Worktags!AL:AO,2,FALSE),\"\")","v":"Cash USD"},{"$f":"IFERROR(VLOOKUP(C11,Worktags!O:T,2,FALSE),\"\")","v":"Jerusalem Operations USD 7144"},{"$f":"IFERROR(VLOOKUP(IF(C11=\"\",B11&\"||\"&B11,C11&\"||\"&B11),Worktags!AR:AV,5,FALSE),\"\")","v":"JE_Override"}]
[{"$f":"IF(B12<>\"\",IF(C12<>\"\",B12&\"_\"&C12&\" \"&D12&\"/\"&E12,B12&\" \"&D12),\"\")","v":"1001 Cash ILS"},{"$f":"Worktags!AL6","v":"1001"},null,{"$f":"IFERROR(VLOOKUP(B12,Worktags!AL:AO,2,FALSE),\"\")","v":"Cash ILS"},null,{"$f":"IFERROR(VLOOKUP(IF(C12=\"\",B12&\"||\"&B12,C12&\"||\"&B12),Worktags!AR:AV,5,FALSE),\"\")","v":"All"}]
[{"$f":"IF(B13<>\"\",IF(C13<>\"\",B13&\"_\"&C13&\" \"&D13&\"/\"&E13,B13&\" \"&D13),\"\")","v":"1001 Cash ILS"},{"$f":"Worktags!AS4","v":"1001"},{"$f":"IF(Worktags!AQ4<>Worktags!AS4,Worktags!AQ4,\"\")","v":""},{"$f":"IFERROR(VLOOKUP(B13,Worktags!AL:AO,2,FALSE),\"\")","v":"Cash ILS"},{"$f":"IFERROR(VLOOKUP(C13,Worktags!O:T,2,FALSE),\"\")","v":""},{"$f":"IFERROR(VLOOKUP(IF(C13=\"\",B13&\"||\"&B13,C13&\"||\"&B13),Worktags!AR:AV,5,FALSE),\"\")","v":"All"}]
[{"$f":"IF(B14<>\"\",IF(C14<>\"\",B14&\"_\"&C14&\" \"&D14&\"/\"&E14,B14&\" \"&D14),\"\")","v":"1001_BK1040 Cash ILS/Jerusalem Payroll ILS 0039"},{"$f":"Worktags!AS93","v":"1001"},{"$f":"IF(Worktags!AQ93<>Worktags!AS93,Worktags!AQ93,\"\")","v":"BK1040"},{"$f":"IFERROR(VLOOKUP(B14,Worktags!AL:AO,2,FALSE),\"\")","v":"Cash ILS"},{"$f":"IFERROR(VLOOKUP(C14,Worktags!O:T,2,FALSE),\"\")","v":"Jerusalem Payroll ILS 0039"},{"$f":"IFERROR(VLOOKUP(IF(C14=\"\",B14&\"||\"&B14,C14&\"||\"&B14),Worktags!AR:AV,5,FALSE),\"\")","v":"JE_Override"}]
[{"$f":"IF(B15<>\"\",IF(C15<>\"\",B15&\"_\"&C15&\" \"&D15&\"/\"&E15,B15&\" \"&D15),\"\")","v":"1001_BK1042 Cash ILS/Jerusalem Operations ILS 3566"},{"$f":"Worktags!AS95","v":"1001"},{"$f":"IF(Worktags!AQ95<>Worktags!AS95,Worktags!AQ95,\"\")","v":"BK1042"},{"$f":"IFERROR(VLOOKUP(B15,Worktags!AL:AO,2,FALSE),\"\")","v":"Cash ILS"},{"$f":"IFERROR(VLOOKUP(C15,Worktags!O:T,2,FALSE),\"\")","v":"Jerusalem Operations ILS 3566"},{"$f":"IFERROR(VLOOKUP(IF(C15=\"\",B15&\"||\"&B15,C15&\"||\"&B15),Worktags!AR:AV,5,FALSE),\"\")","v":"JE_Override"}]
[{"$f":"IF(B16<>\"\",IF(C16<>\"\",B16&\"_\"&C16&\" \"&D16&\"/\"&E16,B16&\" \"&D16),\"\")","v":"1002 Cash GBP"},{"$f":"Worktags!AL7","v":"1002"},null,{"$f":"IFERROR(VLOOKUP(B16,Worktags!AL:AO,2,FALSE),\"\")","v":"Cash GBP"},null,{"$f":"IFERROR(VLOOKUP(IF(C16=\"\",B16&\"||\"&B16,C16&\"||\"&B16),Worktags!AR:AV,5,FALSE),\"\")","v":"All"}]
[{"$f":"IF(B17<>\"\",IF(C17<>\"\",B17&\"_\"&C17&\" \"&D17&\"/\"&E17,B17&\" \"&D17),\"\")","v":"1002 Cash GBP"},{"$f":"Worktags!AS5","v":"1002"},{"$f":"IF(Worktags!AQ5<>Worktags!AS5,Worktags!AQ5,\"\")","v":""},{"$f":"IFERROR(VLOOKUP(B17,Worktags!AL:AO,2,FALSE),\"\")","v":"Cash GBP"},{"$f":"IFERROR(VLOOKUP(C17,Worktags!O:T,2,FALSE),\"\")","v":""},{"$f":"IFERROR(VLOOKUP(IF(C17=\"\",B17&\"||\"&B17,C17&\"||\"&B17),Worktags!AR:AV,5,FALSE),\"\")","v":"All"}]
[{"$f":"IF(B18<>\"\",IF(C18<>\"\",B18&\"_\"&C18&\" \"&D18&\"/\"&E18,B18&\" \"&D18),\"\")","v":"1003 Cash EUR"},{"$f":"Worktags!AL8","v":"1003"},null,{"$f":"IFERROR(VLOOKUP(B18,Worktags!AL:AO,2,FALSE),\"\")","v":"Cash EUR"},null,{"$f":"IFERROR(VLOOKUP(IF(C18=\"\",B18&\"||\"&B18,C18&\"||\"&B18),Worktags!AR:AV,5,FALSE),\"\")","v":""}]
[{"$f":"IF(B19<>\"\",IF(C19<>\"\",B19&\"_\"&C19&\" \"&D19&\"/\"&E19,B19&\" \"&D19),\"\")","v":"1003_BK1053 Cash EUR/"},{"$f":"Worktags!AS96","v":"1003"},{"$f":"IF(Worktags!AQ96<>Worktags!AS96,Worktags!AQ96,\"\")","v":"BK1053"},{"$f":"IFERROR(VLOOKUP(B19,Worktags!AL:AO,2,FALSE),\"\")","v":"Cash EUR"},{"$f":"IFERROR(VLOOKUP(C19,Worktags!O:T,2,FALSE),\"\")","v":""},{"$f":"IFERROR(VLOOKUP(IF(C19=\"\",B19&\"||\"&B19,C19&\"||\"&B19),Worktags!AR:AV,5,FALSE),\"\")","v":"JE_Override"}]
[{"$f":"IF(B20<>\"\",IF(C20<>\"\",B20&\"_\"&C20&\" \"&D20&\"/\"&E20,B20&\" \"&D20),\"\")","v":"1003_BK1054 Cash EUR/"},{"$f":"Worktags!AS97","v":"1003"},{"$f":"IF(Worktags!AQ97<>Worktags!AS97,Worktags!AQ97,\"\")","v":"BK1054"},{"$f":"IFERROR(VLOOKUP(B20,Worktags!AL:AO,2,FALSE),\"\")","v":"Cash EUR"},{"$f":"IFERROR(VLOOKUP(C20,Worktags!O:T,2,FALSE),\"\")","v":""},{"$f":"IFERROR(VLOOKUP(IF(C20=\"\",B20&\"||\"&B20,C20&\"||\"&B20),Worktags!AR:AV,5,FALSE),\"\")","v":"JE_Override"}]
[{"$f":"IF(B21<>\"\",IF(C21<>\"\",B21&\"_\"&C21&\" \"&D21&\"/\"&E21,B21&\" \"&D21),\"\")","v":"1003_BK1055 Cash EUR/"},{"$f":"Worktags!AS98","v":"1003"},{"$f":"IF(Worktags!AQ98<>Worktags!AS98,Worktags!AQ98,\"\")","v":"BK1055"},{"$f":"IFERROR(VLOOKUP(B21,Worktags!AL:AO,2,FALSE),\"\")","v":"Cash EUR"},{"$f":"IFERROR(VLOOKUP(C21,Worktags!O:T,2,FALSE),\"\")","v":""},{"$f":"IFERROR(VLOOKUP(IF(C21=\"\",B21&\"||\"&B21,C21&\"||\"&B21),Worktags!AR:AV,5,FALSE),\"\")","v":"JE_Override"}]
[{"$f":"IF(B22<>\"\",IF(C22<>\"\",B22&\"_\"&C22&\" \"&D22&\"/\"&E22,B22&\" \"&D22),\"\")","v":"1004 Cash CAD"},{"$f":"Worktags!AL9","v":"1004"},null,{"$f":"IFERROR(VLOOKUP(B22,Worktags!AL:AO,2,FALSE),\"\")","v":"Cash CAD"},null,{"$f":"IFERROR(VLOOKUP(IF(C22=\"\",B22&\"||\"&B22,C22&\"||\"&B22),Worktags!AR:AV,5,FALSE),\"\")","v":"All"}]
[{"$f":"IF(B23<>\"\",IF(C23<>\"\",B23&\"_\"&C23&\" \"&D23&\"/\"&E23,B23&\" \"&D23),\"\")","v":"1004 Cash CAD"},{"$f":"Worktags!AS6","v":"1004"},{"$f":"IF(Worktags!AQ6<>Worktags!AS6,Worktags!AQ6,\"\")","v":""},{"$f":"IFERROR(VLOOKUP(B23,Worktags!AL:AO,2,FALSE),\"\")","v":"Cash CAD"},{"$f":"IFERROR(VLOOKUP(C23,Worktags!O:T,2,FALSE),\"\")","v":""},{"$f":"IFERROR(VLOOKUP(IF(C23=\"\",B23&\"||\"&B23,C23&\"||\"&B23),Worktags!AR:AV,5,FALSE),\"\")","v":"All"}]
[{"$f":"IF(B24<>\"\",IF(C24<>\"\",B24&\"_\"&C24&\" \"&D24&\"/\"&E24,B24&\" \"&D24),\"\")","v":"1040 Petty Cash"},{"$f":"Worktags!AL10","v":"1040"},null,{"$f":"IFERROR(VLOOKUP(B24,Worktags!AL:AO,2,FALSE),\"\")","v":"Petty Cash"},null,{"$f":"IFERROR(VLOOKUP(IF(C24=\"\",B24&\"||\"&B24,C24&\"||\"&B24),Worktags!AR:AV,5,FALSE),\"\")","v":"All"}]
[{"$f":"IF(B25<>\"\",IF(C25<>\"\",B25&\"_\"&C25&\" \"&D25&\"/\"&E25,B25&\" \"&D25),\"\")","v":"1040 Petty Cash"},{"$f":"Worktags!AS7","v":"1040"},{"$f":"IF(Worktags!AQ7<>Worktags!AS7,Worktags!AQ7,\"\")","v":""},{"$f":"IFERROR(VLOOKUP(B25,Worktags!AL:AO,2,FALSE),\"\")","v":"Petty Cash"},{"$f":"IFERROR(VLOOKUP(C25,Worktags!O:T,2,FALSE),\"\")","v":""},{"$f":"IFERROR(VLOOKUP(IF(C25=\"\",B25&\"||\"&B25,C25&\"||\"&B25),Worktags!AR:AV,5,FALSE),\"\")","v":"All"}]
[{"$f":"IF(B26<>\"\",IF(C26<>\"\",B26&\"_\"&C26&\" \"&D26&\"/\"&E26,B26&\" \"&D26),\"\")","v":"1050 Change Funds"},{"$f":"Worktags!AL11","v":"1050"},null,{"$f":"IFERROR(VLOOKUP(B26,Worktags!AL:AO,2,FALSE),\"\")","v":"Change Funds"},null,{"$f":"IFERROR(VLOOKUP(IF(C26=\"\",B26&\"||\"&B26,C26&\"||\"&B26),Worktags!AR:AV,5,FALSE),\"\")","v":"All"}]
[{"$f":"IF(B27<>\"\",IF(C27<>\"\",B27&\"_\"&C27&\" \"&D27&\"/\"&E27,B27&\" \"&D27),\"\")","v":"1050 Change Funds"},{"$f":"Worktags!AS8","v":"1050"},{"$f":"IF(Worktags!AQ8<>Worktags!AS8,Worktags!AQ8,\"\")","v":""},{"$f":"IFERROR(VLOOKUP(B27,Worktags!AL:AO,2,FALSE),\"\")","v":"Change Funds"},{"$f":"IFERROR(VLOOKUP(C27,Worktags!O:T,2,FALSE),\"\")","v":""},{"$f":"IFERROR(VLOOKUP(IF(C27=\"\",B27&\"||\"&B27,C27&\"||\"&B27),Worktags!AR:AV,5,FALSE),\"\")","v":"All"}]
[{"$f":"IF(B28<>\"\",IF(C28<>\"\",B28&\"_\"&C28&\" \"&D28&\"/\"&E28,B28&\" \"&D28),\"\")","v":"1055 Gift Cards"},{"$f":"Worktags!AL12","v":"1055"},null,{"$f":"IFERROR(VLOOKUP(B28,Worktags!AL:AO,2,FALSE),\"\")","v":"Gift Cards"},null,{"$f":"IFERROR(VLOOKUP(IF(C28=\"\",B28&\"||\"&B28,C28&\"||\"&B28),Worktags!AR:AV,5,FALSE),\"\")","v":""}]
[{"$f":"IF(B29<>\"\",IF(C29<>\"\",B29&\"_\"&C29&\" \"&D29&\"/\"&E29,B29&\" \"&D29),\"\")","v":"1055_SC1055 Gift Cards/Gift Cards"},{"$f":"Worktags!AS219","v":"1055"},{"$f":"IF(Worktags!AQ219<>Worktags!AS219,Worktags!AQ219,\"\")","v":"SC1055"},{"$f":"IFERROR(VLOOKUP(B29,Worktags!AL:AO,2,FALSE),\"\")","v":"Gift Cards"},{"$f":"IFERROR(VLOOKUP(C29,Worktags!O:T,2,FALSE),\"\")","v":"Gift Cards"},{"$f":"IFERROR(VLOOKUP(IF(C29=\"\",B29&\"||\"&B29,C29&\"||\"&B29),Worktags!AR:AV,5,FALSE),\"\")","v":"All"}]
[{"$f":"IF(B30<>\"\",IF(C30<>\"\",B30&\"_\"&C30&\" \"&D30&\"/\"&E30,B30&\" \"&D30),\"\")","v":"1090 Clearing-Cash"},{"$f":"Worktags!AL13","v":"1090"},null,{"$f":"IFERROR(VLOOKUP(B30,Worktags!AL:AO,2,FALSE),\"\")","v":"Clearing-Cash"},null,{"$f":"IFERROR(VLOOKUP(IF(C30=\"\",B30&\"||\"&B30,C30&\"||\"&B30),Worktags!AR:AV,5,FALSE),\"\")","v":"All"}]
[{"$f":"IF(B31<>\"\",IF(C31<>\"\",B31&\"_\"&C31&\" \"&D31&\"/\"&E31,B31&\" \"&D31),\"\")","v":"1090 Clearing-Cash"},{"$f":"Worktags!AS9","v":"1090"},{"$f":"IF(Worktags!AQ9<>Worktags!AS9,Worktags!AQ9,\"\")","v":""},{"$f":"IFERROR(VLOOKUP(B31,Worktags!AL:AO,2,FALSE),\"\")","v":"Clearing-Cash"},{"$f":"IFERROR(VLOOKUP(C31,Worktags!O:T,2,FALSE),\"\")","v":""},{"$f":"IFERROR(VLOOKUP(IF(C31=\"\",B31&\"||\"&B31,C31&\"||\"&B31),Worktags!AR:AV,5,FALSE),\"\")","v":"All"}]
[{"$f":"IF(B32<>\"\",IF(C32<>\"\",B32&\"_\"&C32&\" \"&D32&\"/\"&E32,B32&\" \"&D32),\"\")","v":"1090_SC4100 Clearing-Cash/Tuition and Fees Refunds"},{"$f":"Worktags!AS259","v":"1090"},{"$f":"IF(Worktags!AQ259<>Worktags!AS259,Worktags!AQ259,\"\")","v":"SC4100"},{"$f":"IFERROR(VLOOKUP(B32,Worktags!AL:AO,2,FALSE),\"\")","v":"Clearing-Cash"},{"$f":"IFERROR(VLOOKUP(C32,Worktags!O:T,2,FALSE),\"\")","v":"Tuition and Fees Refunds"},{"$f":"IFERROR(VLOOKUP(IF(C32=\"\",B32&\"||\"&B32,C32&\"||\"&B32),Worktags!AR:AV,5,FALSE),\"\")","v":"All"}]
[{"$f":"IF(B33<>\"\",IF(C33<>\"\",B33&\"_\"&C33&\" \"&D33&\"/\"&E33,B33&\" \"&D33),\"\")","v":"1120 Investment Pool"},{"$f":"Worktags!AL14","v":"1120"},null,{"$f":"IFERROR(VLOOKUP(B33,Worktags!AL:AO,2,FALSE),\"\")","v":"Investment Pool"},null,{"$f":"IFERROR(VLOOKUP(IF(C33=\"\",B33&\"||\"&B33,C33&\"||\"&B33),Worktags!AR:AV,5,FALSE),\"\")","v":"JE_Gift|JE_Override"}]
[{"$f":"IF(B34<>\"\",IF(C34<>\"\",B34&\"_\"&C34&\" \"&D34&\"/\"&E34,B34&\" \"&D34),\"\")","v":"1120 Investment Pool"},{"$f":"Worktags!AS10","v":"1120"},{"$f":"IF(Worktags!AQ10<>Worktags!AS10,Worktags!AQ10,\"\")","v":""},{"$f":"IFERROR(VLOOKUP(B34,Worktags!AL:AO,2,FALSE),\"\")","v":"Investment Pool"},{"$f":"IFERROR(VLOOKUP(C34,Worktags!O:T,2,FALSE),\"\")","v":""},{"$f":"IFERROR(VLOOKUP(IF(C34=\"\",B34&\"||\"&B34,C34&\"||\"&B34),Worktags!AR:AV,5,FALSE),\"\")","v":"JE_Gift|JE_Override"}]
[{"$f":"IF(B35<>\"\",IF(C35<>\"\",B35&\"_\"&C35&\" \"&D35&\"/\"&E35,B35&\" \"&D35),\"\")","v":"1121 Investments - Book Value"},{"$f":"Worktags!AL15","v":"1121"},null,{"$f":"IFERROR(VLOOKUP(B35,Worktags!AL:AO,2,FALSE),\"\")","v":"Investments - Book Value"},null,{"$f":"IFERROR(VLOOKUP(IF(C35=\"\",B35&\"||\"&B35,C35&\"||\"&B35),Worktags!AR:AV,5,FALSE),\"\")","v":"JE_Gift|JE_Override"}]
[{"$f":"IF(B36<>\"\",IF(C36<>\"\",B36&\"_\"&C36&\" \"&D36&\"/\"&E36,B36&\" \"&D36),\"\")","v":"1121 Investments - Book Value"},{"$f":"Worktags!AS11","v":"1121"},{"$f":"IF(Worktags!AQ11<>Worktags!AS11,Worktags!AQ11,\"\")","v":""},{"$f":"IFERROR(VLOOKUP(B36,Worktags!AL:AO,2,FALSE),\"\")","v":"Investments - Book Value"},{"$f":"IFERROR(VLOOKUP(C36,Worktags!O:T,2,FALSE),\"\")","v":""},{"$f":"IFERROR(VLOOKUP(IF(C36=\"\",B36&\"||\"&B36,C36&\"||\"&B36),Worktags!AR:AV,5,FALSE),\"\")","v":"JE_Gift|JE_Override"}]
[{"$f":"IF(B37<>\"\",IF(C37<>\"\",B37&\"_\"&C37&\" \"&D37&\"/\"&E37,B37&\" \"&D37),\"\")","v":"1122 Investments - Fair Market Value"},{"$f":"Worktags!AL16","v":"1122"},null,{"$f":"IFERROR(VLOOKUP(B37,Worktags!AL:AO,2,FALSE),\"\")","v":"Investments - Fair Market Value"},null,{"$f":"IFERROR(VLOOKUP(IF(C37=\"\",B37&\"||\"&B37,C37&\"||\"&B37),Worktags!AR:AV,5,FALSE),\"\")","v":"JE_Gift|JE_Override"}]
[{"$f":"IF(B38<>\"\",IF(C38<>\"\",B38&\"_\"&C38&\" \"&D38&\"/\"&E38,B38&\" \"&D38),\"\")","v":"1122 Investments - Fair Market Value"},{"$f":"Worktags!AS12","v":"1122"},{"$f":"IF(Worktags!AQ12<>Worktags!AS12,Worktags!AQ12,\"\")","v":""},{"$f":"IFERROR(VLOOKUP(B38,Worktags!AL:AO,2,FALSE),\"\")","v":"Investments - Fair Market Value"},{"$f":"IFERROR(VLOOKUP(C38,Worktags!O:T,2,FALSE),\"\")","v":""},{"$f":"IFERROR(VLOOKUP(IF(C38=\"\",B38&\"||\"&B38,C38&\"||\"&B38),Worktags!AR:AV,5,FALSE),\"\")","v":"JE_Gift|JE_Override"}]
[{"$f":"IF(B39<>\"\",IF(C39<>\"\",B39&\"_\"&C39&\" \"&D39&\"/\"&E39,B39&\" \"&D39),\"\")","v":"1150 Other Equity Securities"},{"$f":"Worktags!AL17","v":"1150"},null,{"$f":"IFERROR(VLOOKUP(B39,Worktags!AL:AO,2,FALSE),\"\")","v":"Other Equity Securities"},null,{"$f":"IFERROR(VLOOKUP(IF(C39=\"\",B39&\"||\"&B39,C39&\"||\"&B39),Worktags!AR:AV,5,FALSE),\"\")","v":"JE_Gift|JE_Override"}]
[{"$f":"IF(B40<>\"\",IF(C40<>\"\",B40&\"_\"&C40&\" \"&D40&\"/\"&E40,B40&\" \"&D40),\"\")","v":"1150 Other Equity Securities"},{"$f":"Worktags!AS13","v":"1150"},{"$f":"IF(Worktags!AQ13<>Worktags!AS13,Worktags!AQ13,\"\")","v":""},{"$f":"IFERROR(VLOOKUP(B40,Worktags!AL:AO,2,FALSE),\"\")","v":"Other Equity Securities"},{"$f":"IFERROR(VLOOKUP(C40,Worktags!O:T,2,FALSE),\"\")","v":""},{"$f":"IFERROR(VLOOKUP(IF(C40=\"\",B40&\"||\"&B40,C40&\"||\"&B40),Worktags!AR:AV,5,FALSE),\"\")","v":"JE_Gift|JE_Override"}]
[{"$f":"IF(B41<>\"\",IF(C41<>\"\",B41&\"_\"&C41&\" \"&D41&\"/\"&E41,B41&\" \"&D41),\"\")","v":"1160 Other Fixed Income Securities"},{"$f":"Worktags!AL18","v":"1160"},null,{"$f":"IFERROR(VLOOKUP(B41,Worktags!AL:AO,2,FALSE),\"\")","v":"Other Fixed Income Securities"},null,{"$f":"IFERROR(VLOOKUP(IF(C41=\"\",B41&\"||\"&B41,C41&\"||\"&B41),Worktags!AR:AV,5,FALSE),\"\")","v":"JE_Gift|JE_Override"}]
[{"$f":"IF(B42<>\"\",IF(C42<>\"\",B42&\"_\"&C42&\" \"&D42&\"/\"&E42,B42&\" \"&D42),\"\")","v":"1160 Other Fixed Income Securities"},{"$f":"Worktags!AS14","v":"1160"},{"$f":"IF(Worktags!AQ14<>Worktags!AS14,Worktags!AQ14,\"\")","v":""},{"$f":"IFERROR(VLOOKUP(B42,Worktags!AL:AO,2,FALSE),\"\")","v":"Other Fixed Income Securities"},{"$f":"IFERROR(VLOOKUP(C42,Worktags!O:T,2,FALSE),\"\")","v":""},{"$f":"IFERROR(VLOOKUP(IF(C42=\"\",B42&\"||\"&B42,C42&\"||\"&B42),Worktags!AR:AV,5,FALSE),\"\")","v":"JE_Gift|JE_Override"}]
[{"$f":"IF(B43<>\"\",IF(C43<>\"\",B43&\"_\"&C43&\" \"&D43&\"/\"&E43,B43&\" \"&D43),\"\")","v":"1170 Other Investments"},{"$f":"Worktags!AL19","v":"1170"},null,{"$f":"IFERROR(VLOOKUP(B43,Worktags!AL:AO,2,FALSE),\"\")","v":"Other Investments"},null,{"$f":"IFERROR(VLOOKUP(IF(C43=\"\",B43&\"||\"&B43,C43&\"||\"&B43),Worktags!AR:AV,5,FALSE),\"\")","v":"JE_Gift|JE_Override"}]
[{"$f":"IF(B44<>\"\",IF(C44<>\"\",B44&\"_\"&C44&\" \"&D44&\"/\"&E44,B44&\" \"&D44),\"\")","v":"1170 Other Investments"},{"$f":"Worktags!AS15","v":"1170"},{"$f":"IF(Worktags!AQ15<>Worktags!AS15,Worktags!AQ15,\"\")","v":""},{"$f":"IFERROR(VLOOKUP(B44,Worktags!AL:AO,2,FALSE),\"\")","v":"Other Investments"},{"$f":"IFERROR(VLOOKUP(C44,Worktags!O:T,2,FALSE),\"\")","v":""},{"$f":"IFERROR(VLOOKUP(IF(C44=\"\",B44&\"||\"&B44,C44&\"||\"&B44),Worktags!AR:AV,5,FALSE),\"\")","v":"JE_Gift|JE_Override"}]
[{"$f":"IF(B45<>\"\",IF(C45<>\"\",B45&\"_\"&C45&\" \"&D45&\"/\"&E45,B45&\" \"&D45),\"\")","v":"1200 Department Receivable"},{"$f":"Worktags!AL20","v":"1200"},null,{"$f":"IFERROR(VLOOKUP(B45,Worktags!AL:AO,2,FALSE),\"\")","v":"Department Receivable"},null,{"$f":"IFERROR(VLOOKUP(IF(C45=\"\",B45&\"||\"&B45,C45&\"||\"&B45),Worktags!AR:AV,5,FALSE),\"\")","v":"All"}]
[{"$f":"IF(B46<>\"\",IF(C46<>\"\",B46&\"_\"&C46&\" \"&D46&\"/\"&E46,B46&\" \"&D46),\"\")","v":"1200 Department Receivable"},{"$f":"Worktags!AS16","v":"1200"},{"$f":"IF(Worktags!AQ16<>Worktags!AS16,Worktags!AQ16,\"\")","v":""},{"$f":"IFERROR(VLOOKUP(B46,Worktags!AL:AO,2,FALSE),\"\")","v":"Department Receivable"},{"$f":"IFERROR(VLOOKUP(C46,Worktags!O:T,2,FALSE),\"\")","v":""},{"$f":"IFERROR(VLOOKUP(IF(C46=\"\",B46&\"||\"&B46,C46&\"||\"&B46),Worktags!AR:AV,5,FALSE),\"\")","v":"All"}]
[{"$f":"IF(B47<>\"\",IF(C47<>\"\",B47&\"_\"&C47&\" \"&D47&\"/\"&E47,B47&\" \"&D47),\"\")","v":"1200_SC1218 Department Receivable/Utah Sales Tax"},{"$f":"Worktags!AS220","v":"1200"},{"$f":"IF(Worktags!AQ220<>Worktags!AS220,Worktags!AQ220,\"\")","v":"SC1218"},{"$f":"IFERROR(VLOOKUP(B47,Worktags!AL:AO,2,FALSE),\"\")","v":"Department Receivable"},{"$f":"IFERROR(VLOOKUP(C47,Worktags!O:T,2,FALSE),\"\")","v":"Utah Sales Tax"},{"$f":"IFERROR(VLOOKUP(IF(C47=\"\",B47&\"||\"&B47,C47&\"||\"&B47),Worktags!AR:AV,5,FALSE),\"\")","v":"All"}]
[{"$f":"IF(B48<>\"\",IF(C48<>\"\",B48&\"_\"&C48&\" \"&D48&\"/\"&E48,B48&\" \"&D48),\"\")","v":"1200_SC4100 Department Receivable/Tuition and Fees Refunds"},{"$f":"Worktags!AS260","v":"1200"},{"$f":"IF(Worktags!AQ260<>Worktags!AS260,Worktags!AQ260,\"\")","v":"SC4100"},{"$f":"IFERROR(VLOOKUP(B48,Worktags!AL:AO,2,FALSE),\"\")","v":"Department Receivable"},{"$f":"IFERROR(VLOOKUP(C48,Worktags!O:T,2,FALSE),\"\")","v":"Tuition and Fees Refunds"},{"$f":"IFERROR(VLOOKUP(IF(C48=\"\",B48&\"||\"&B48,C48&\"||\"&B48),Worktags!AR:AV,5,FALSE),\"\")","v":"All"}]
[{"$f":"IF(B49<>\"\",IF(C49<>\"\",B49&\"_\"&C49&\" \"&D49&\"/\"&E49,B49&\" \"&D49),\"\")","v":"1210 Off Campus Receivable"},{"$f":"Worktags!AL21","v":"1210"},null,{"$f":"IFERROR(VLOOKUP(B49,Worktags!AL:AO,2,FALSE),\"\")","v":"Off Campus Receivable"},null,{"$f":"IFERROR(VLOOKUP(IF(C49=\"\",B49&\"||\"&B49,C49&\"||\"&B49),Worktags!AR:AV,5,FALSE),\"\")","v":"All"}]
[{"$f":"IF(B50<>\"\",IF(C50<>\"\",B50&\"_\"&C50&\" \"&D50&\"/\"&E50,B50&\" \"&D50),\"\")","v":"1210 Off Campus Receivable"},{"$f":"Worktags!AS17","v":"1210"},{"$f":"IF(Worktags!AQ17<>Worktags!AS17,Worktags!AQ17,\"\")","v":""},{"$f":"IFERROR(VLOOKUP(B50,Worktags!AL:AO,2,FALSE),\"\")","v":"Off Campus Receivable"},{"$f":"IFERROR(VLOOKUP(C50,Worktags!O:T,2,FALSE),\"\")","v":""},{"$f":"IFERROR(VLOOKUP(IF(C50=\"\",B50&\"||\"&B50,C50&\"||\"&B50),Worktags!AR:AV,5,FALSE),\"\")","v":"All"}]
[{"$f":"IF(B51<>\"\",IF(C51<>\"\",B51&\"_\"&C51&\" \"&D51&\"/\"&E51,B51&\" \"&D51),\"\")","v":"1210_RC1210 Off Campus Receivable/Off Campus Receivable"},{"$f":"Worktags!AS99","v":"1210"},{"$f":"IF(Worktags!AQ99<>Worktags!AS99,Worktags!AQ99,\"\")","v":"RC1210"},{"$f":"IFERROR(VLOOKUP(B51,Worktags!AL:AO,2,FALSE),\"\")","v":"Off Campus Receivable"},{"$f":"IFERROR(VLOOKUP(C51,Worktags!O:T,2,FALSE),\"\")","v":"Off Campus Receivable"},{"$f":"IFERROR(VLOOKUP(IF(C51=\"\",B51&\"||\"&B51,C51&\"||\"&B51),Worktags!AR:AV,5,FALSE),\"\")","v":"All"}]
[{"$f":"IF(B52<>\"\",IF(C52<>\"\",B52&\"_\"&C52&\" \"&D52&\"/\"&E52,B52&\" \"&D52),\"\")","v":"1210_SC1218 Off Campus Receivable/Utah Sales Tax"},{"$f":"Worktags!AS221","v":"1210"},{"$f":"IF(Worktags!AQ221<>Worktags!AS221,Worktags!AQ221,\"\")","v":"SC1218"},{"$f":"IFERROR(VLOOKUP(B52,Worktags!AL:AO,2,FALSE),\"\")","v":"Off Campus Receivable"},{"$f":"IFERROR(VLOOKUP(C52,Worktags!O:T,2,FALSE),\"\")","v":"Utah Sales Tax"},{"$f":"IFERROR(VLOOKUP(IF(C52=\"\",B52&\"||\"&B52,C52&\"||\"&B52),Worktags!AR:AV,5,FALSE),\"\")","v":"All"}]
[{"$f":"IF(B53<>\"\",IF(C53<>\"\",B53&\"_\"&C53&\" \"&D53&\"/\"&E53,B53&\" \"&D53),\"\")","v":"1220 Student Receivable"},{"$f":"Worktags!AL22","v":"1220"},null,{"$f":"IFERROR(VLOOKUP(B53,Worktags!AL:AO,2,FALSE),\"\")","v":"Student Receivable"},null,{"$f":"IFERROR(VLOOKUP(IF(C53=\"\",B53&\"||\"&B53,C53&\"||\"&B53),Worktags!AR:AV,5,FALSE),\"\")","v":"All"}]
[{"$f":"IF(B54<>\"\",IF(C54<>\"\",B54&\"_\"&C54&\" \"&D54&\"/\"&E54,B54&\" \"&D54),\"\")","v":"1220 Student Receivable"},{"$f":"Worktags!AS18","v":"1220"},{"$f":"IF(Worktags!AQ18<>Worktags!AS18,Worktags!AQ18,\"\")","v":""},{"$f":"IFERROR(VLOOKUP(B54,Worktags!AL:AO,2,FALSE),\"\")","v":"Student Receivable"},{"$f":"IFERROR(VLOOKUP(C54,Worktags!O:T,2,FALSE),\"\")","v":""},{"$f":"IFERROR(VLOOKUP(IF(C54=\"\",B54&\"||\"&B54,C54&\"||\"&B54),Worktags!AR:AV,5,FALSE),\"\")","v":"All"}]
[{"$f":"IF(B55<>\"\",IF(C55<>\"\",B55&\"_\"&C55&\" \"&D55&\"/\"&E55,B55&\" \"&D55),\"\")","v":"1230 Church Receivable"},{"$f":"Worktags!AL23","v":"1230"},null,{"$f":"IFERROR(VLOOKUP(B55,Worktags!AL:AO,2,FALSE),\"\")","v":"Church Receivable"},null,{"$f":"IFERROR(VLOOKUP(IF(C55=\"\",B55&\"||\"&B55,C55&\"||\"&B55),Worktags!AR:AV,5,FALSE),\"\")","v":"All"}]
[{"$f":"IF(B56<>\"\",IF(C56<>\"\",B56&\"_\"&C56&\" \"&D56&\"/\"&E56,B56&\" \"&D56),\"\")","v":"1230 Church Receivable"},{"$f":"Worktags!AS19","v":"1230"},{"$f":"IF(Worktags!AQ19<>Worktags!AS19,Worktags!AQ19,\"\")","v":""},{"$f":"IFERROR(VLOOKUP(B56,Worktags!AL:AO,2,FALSE),\"\")","v":"Church Receivable"},{"$f":"IFERROR(VLOOKUP(C56,Worktags!O:T,2,FALSE),\"\")","v":""},{"$f":"IFERROR(VLOOKUP(IF(C56=\"\",B56&\"||\"&B56,C56&\"||\"&B56),Worktags!AR:AV,5,FALSE),\"\")","v":"All"}]
[{"$f":"IF(B57<>\"\",IF(C57<>\"\",B57&\"_\"&C57&\" \"&D57&\"/\"&E57,B57&\" \"&D57),\"\")","v":"1230_RC1230 Church Receivable/Church Receivable"},{"$f":"Worktags!AS100","v":"1230"},{"$f":"IF(Worktags!AQ100<>Worktags!AS100,Worktags!AQ100,\"\")","v":"RC1230"},{"$f":"IFERROR(VLOOKUP(B57,Worktags!AL:AO,2,FALSE),\"\")","v":"Church Receivable"},{"$f":"IFERROR(VLOOKUP(C57,Worktags!O:T,2,FALSE),\"\")","v":"Church Receivable"},{"$f":"IFERROR(VLOOKUP(IF(C57=\"\",B57&\"||\"&B57,C57&\"||\"&B57),Worktags!AR:AV,5,FALSE),\"\")","v":"All"}]
[{"$f":"IF(B58<>\"\",IF(C58<>\"\",B58&\"_\"&C58&\" \"&D58&\"/\"&E58,B58&\" \"&D58),\"\")","v":"1235 Sponsored Programs Receivable"},{"$f":"Worktags!AL24","v":"1235"},null,{"$f":"IFERROR(VLOOKUP(B58,Worktags!AL:AO,2,FALSE),\"\")","v":"Sponsored Programs Receivable"},null,{"$f":"IFERROR(VLOOKUP(IF(C58=\"\",B58&\"||\"&B58,C58&\"||\"&B58),Worktags!AR:AV,5,FALSE),\"\")","v":"JE_Research|JE_Override"}]
[{"$f":"IF(B59<>\"\",IF(C59<>\"\",B59&\"_\"&C59&\" \"&D59&\"/\"&E59,B59&\" \"&D59),\"\")","v":"1235 Sponsored Programs Receivable"},{"$f":"Worktags!AS20","v":"1235"},{"$f":"IF(Worktags!AQ20<>Worktags!AS20,Worktags!AQ20,\"\")","v":""},{"$f":"IFERROR(VLOOKUP(B59,Worktags!AL:AO,2,FALSE),\"\")","v":"Sponsored Programs Receivable"},{"$f":"IFERROR(VLOOKUP(C59,Worktags!O:T,2,FALSE),\"\")","v":""},{"$f":"IFERROR(VLOOKUP(IF(C59=\"\",B59&\"||\"&B59,C59&\"||\"&B59),Worktags!AR:AV,5,FALSE),\"\")","v":"JE_Research|JE_Override"}]
[{"$f":"IF(B60<>\"\",IF(C60<>\"\",B60&\"_\"&C60&\" \"&D60&\"/\"&E60,B60&\" \"&D60),\"\")","v":"1236 Unbilled Sponsored Programs Receivable"},{"$f":"Worktags!AL25","v":"1236"},null,{"$f":"IFERROR(VLOOKUP(B60,Worktags!AL:AO,2,FALSE),\"\")","v":"Unbilled Sponsored Programs Receivable"},null,{"$f":"IFERROR(VLOOKUP(IF(C60=\"\",B60&\"||\"&B60,C60&\"||\"&B60),Worktags!AR:AV,5,FALSE),\"\")","v":"JE_Research|JE_Override"}]
[{"$f":"IF(B61<>\"\",IF(C61<>\"\",B61&\"_\"&C61&\" \"&D61&\"/\"&E61,B61&\" \"&D61),\"\")","v":"1236 Unbilled Sponsored Programs Receivable"},{"$f":"Worktags!AS21","v":"1236"},{"$f":"IF(Worktags!AQ21<>Worktags!AS21,Worktags!AQ21,\"\")","v":""},{"$f":"IFERROR(VLOOKUP(B61,Worktags!AL:AO,2,FALSE),\"\")","v":"Unbilled Sponsored Programs Receivable"},{"$f":"IFERROR(VLOOKUP(C61,Worktags!O:T,2,FALSE),\"\")","v":""},{"$f":"IFERROR(VLOOKUP(IF(C61=\"\",B61&\"||\"&B61,C61&\"||\"&B61),Worktags!AR:AV,5,FALSE),\"\")","v":"JE_Research|JE_Override"}]
[{"$f":"IF(B62<>\"\",IF(C62<>\"\",B62&\"_\"&C62&\" \"&D62&\"/\"&E62,B62&\" \"&D62),\"\")","v":"1240 Advances Receivable"},{"$f":"Worktags!AL26","v":"1240"},null,{"$f":"IFERROR(VLOOKUP(B62,Worktags!AL:AO,2,FALSE),\"\")","v":"Advances Receivable"},null,{"$f":"IFERROR(VLOOKUP(IF(C62=\"\",B62&\"||\"&B62,C62&\"||\"&B62),Worktags!AR:AV,5,FALSE),\"\")","v":"All"}]
[{"$f":"IF(B63<>\"\",IF(C63<>\"\",B63&\"_\"&C63&\" \"&D63&\"/\"&E63,B63&\" \"&D63),\"\")","v":"1240 Advances Receivable"},{"$f":"Worktags!AS22","v":"1240"},{"$f":"IF(Worktags!AQ22<>Worktags!AS22,Worktags!AQ22,\"\")","v":""},{"$f":"IFERROR(VLOOKUP(B63,Worktags!AL:AO,2,FALSE),\"\")","v":"Advances Receivable"},{"$f":"IFERROR(VLOOKUP(C63,Worktags!O:T,2,FALSE),\"\")","v":""},{"$f":"IFERROR(VLOOKUP(IF(C63=\"\",B63&\"||\"&B63,C63&\"||\"&B63),Worktags!AR:AV,5,FALSE),\"\")","v":"All"}]
[{"$f":"IF(B64<>\"\",IF(C64<>\"\",B64&\"_\"&C64&\" \"&D64&\"/\"&E64,B64&\" \"&D64),\"\")","v":"1241 Employee Receivable"},{"$f":"Worktags!AL27","v":"1241"},null,{"$f":"IFERROR(VLOOKUP(B64,Worktags!AL:AO,2,FALSE),\"\")","v":"Employee Receivable"},null,{"$f":"IFERROR(VLOOKUP(IF(C64=\"\",B64&\"||\"&B64,C64&\"||\"&B64),Worktags!AR:AV,5,FALSE),\"\")","v":"All"}]
[{"$f":"IF(B65<>\"\",IF(C65<>\"\",B65&\"_\"&C65&\" \"&D65&\"/\"&E65,B65&\" \"&D65),\"\")","v":"1241 Employee Receivable"},{"$f":"Worktags!AS23","v":"1241"},{"$f":"IF(Worktags!AQ23<>Worktags!AS23,Worktags!AQ23,\"\")","v":""},{"$f":"IFERROR(VLOOKUP(B65,Worktags!AL:AO,2,FALSE),\"\")","v":"Employee Receivable"},{"$f":"IFERROR(VLOOKUP(C65,Worktags!O:T,2,FALSE),\"\")","v":""},{"$f":"IFERROR(VLOOKUP(IF(C65=\"\",B65&\"||\"&B65,C65&\"||\"&B65),Worktags!AR:AV,5,FALSE),\"\")","v":"All"}]
[{"$f":"IF(B66<>\"\",IF(C66<>\"\",B66&\"_\"&C66&\" \"&D66&\"/\"&E66,B66&\" \"&D66),\"\")","v":"1260 Notes Receivable"},{"$f":"Worktags!AL28","v":"1260"},null,{"$f":"IFERROR(VLOOKUP(B66,Worktags!AL:AO,2,FALSE),\"\")","v":"Notes Receivable"},null,{"$f":"IFERROR(VLOOKUP(IF(C66=\"\",B66&\"||\"&B66,C66&\"||\"&B66),Worktags!AR:AV,5,FALSE),\"\")","v":"All"}]
[{"$f":"IF(B67<>\"\",IF(C67<>\"\",B67&\"_\"&C67&\" \"&D67&\"/\"&E67,B67&\" \"&D67),\"\")","v":"1260 Notes Receivable"},{"$f":"Worktags!AS24","v":"1260"},{"$f":"IF(Worktags!AQ24<>Worktags!AS24,Worktags!AQ24,\"\")","v":""},{"$f":"IFERROR(VLOOKUP(B67,Worktags!AL:AO,2,FALSE),\"\")","v":"Notes Receivable"},{"$f":"IFERROR(VLOOKUP(C67,Worktags!O:T,2,FALSE),\"\")","v":""},{"$f":"IFERROR(VLOOKUP(IF(C67=\"\",B67&\"||\"&B67,C67&\"||\"&B67),Worktags!AR:AV,5,FALSE),\"\")","v":"All"}]
[{"$f":"IF(B68<>\"\",IF(C68<>\"\",B68&\"_\"&C68&\" \"&D68&\"/\"&E68,B68&\" \"&D68),\"\")","v":"1270 Student Loan Receivable-Short Term"},{"$f":"Worktags!AL29","v":"1270"},null,{"$f":"IFERROR(VLOOKUP(B68,Worktags!AL:AO,2,FALSE),\"\")","v":"Student Loan Receivable-Short Term"},null,{"$f":"IFERROR(VLOOKUP(IF(C68=\"\",B68&\"||\"&B68,C68&\"||\"&B68),Worktags!AR:AV,5,FALSE),\"\")","v":"All"}]
[{"$f":"IF(B69<>\"\",IF(C69<>\"\",B69&\"_\"&C69&\" \"&D69&\"/\"&E69,B69&\" \"&D69),\"\")","v":"1270 Student Loan Receivable-Short Term"},{"$f":"Worktags!AS25","v":"1270"},{"$f":"IF(Worktags!AQ25<>Worktags!AS25,Worktags!AQ25,\"\")","v":""},{"$f":"IFERROR(VLOOKUP(B69,Worktags!AL:AO,2,FALSE),\"\")","v":"Student Loan Receivable-Short Term"},{"$f":"IFERROR(VLOOKUP(C69,Worktags!O:T,2,FALSE),\"\")","v":""},{"$f":"IFERROR(VLOOKUP(IF(C69=\"\",B69&\"||\"&B69,C69&\"||\"&B69),Worktags!AR:AV,5,FALSE),\"\")","v":"All"}]
[{"$f":"IF(B70<>\"\",IF(C70<>\"\",B70&\"_\"&C70&\" \"&D70&\"/\"&E70,B70&\" \"&D70),\"\")","v":"1275 Student Loan Receivable-Long Term"},{"$f":"Worktags!AL30","v":"1275"},null,{"$f":"IFERROR(VLOOKUP(B70,Worktags!AL:AO,2,FALSE),\"\")","v":"Student Loan Receivable-Long Term"},null,{"$f":"IFERROR(VLOOKUP(IF(C70=\"\",B70&\"||\"&B70,C70&\"||\"&B70),Worktags!AR:AV,5,FALSE),\"\")","v":"All"}]
[{"$f":"IF(B71<>\"\",IF(C71<>\"\",B71&\"_\"&C71&\" \"&D71&\"/\"&E71,B71&\" \"&D71),\"\")","v":"1275 Student Loan Receivable-Long Term"},{"$f":"Worktags!AS26","v":"1275"},{"$f":"IF(Worktags!AQ26<>Worktags!AS26,Worktags!AQ26,\"\")","v":""},{"$f":"IFERROR(VLOOKUP(B71,Worktags!AL:AO,2,FALSE),\"\")","v":"Student Loan Receivable-Long Term"},{"$f":"IFERROR(VLOOKUP(C71,Worktags!O:T,2,FALSE),\"\")","v":""},{"$f":"IFERROR(VLOOKUP(IF(C71=\"\",B71&\"||\"&B71,C71&\"||\"&B71),Worktags!AR:AV,5,FALSE),\"\")","v":"All"}]
[{"$f":"IF(B72<>\"\",IF(C72<>\"\",B72&\"_\"&C72&\" \"&D72&\"/\"&E72,B72&\" \"&D72),\"\")","v":"1280 Pledges Receivable"},{"$f":"Worktags!AL31","v":"1280"},null,{"$f":"IFERROR(VLOOKUP(B72,Worktags!AL:AO,2,FALSE),\"\")","v":"Pledges Receivable"},null,{"$f":"IFERROR(VLOOKUP(IF(C72=\"\",B72&\"||\"&B72,C72&\"||\"&B72),Worktags!AR:AV,5,FALSE),\"\")","v":"All"}]
[{"$f":"IF(B73<>\"\",IF(C73<>\"\",B73&\"_\"&C73&\" \"&D73&\"/\"&E73,B73&\" \"&D73),\"\")","v":"1280 Pledges Receivable"},{"$f":"Worktags!AS27","v":"1280"},{"$f":"IF(Worktags!AQ27<>Worktags!AS27,Worktags!AQ27,\"\")","v":""},{"$f":"IFERROR(VLOOKUP(B73,Worktags!AL:AO,2,FALSE),\"\")","v":"Pledges Receivable"},{"$f":"IFERROR(VLOOKUP(C73,Worktags!O:T,2,FALSE),\"\")","v":""},{"$f":"IFERROR(VLOOKUP(IF(C73=\"\",B73&\"||\"&B73,C73&\"||\"&B73),Worktags!AR:AV,5,FALSE),\"\")","v":"All"}]
[{"$f":"IF(B74<>\"\",IF(C74<>\"\",B74&\"_\"&C74&\" \"&D74&\"/\"&E74,B74&\" \"&D74),\"\")","v":"1285 Deferred Gifts"},{"$f":"Worktags!AL32","v":"1285"},null,{"$f":"IFERROR(VLOOKUP(B74,Worktags!AL:AO,2,FALSE),\"\")","v":"Deferred Gifts"},null,{"$f":"IFERROR(VLOOKUP(IF(C74=\"\",B74&\"||\"&B74,C74&\"||\"&B74),Worktags!AR:AV,5,FALSE),\"\")","v":"All"}]
[{"$f":"IF(B75<>\"\",IF(C75<>\"\",B75&\"_\"&C75&\" \"&D75&\"/\"&E75,B75&\" \"&D75),\"\")","v":"1285 Deferred Gifts"},{"$f":"Worktags!AS28","v":"1285"},{"$f":"IF(Worktags!AQ28<>Worktags!AS28,Worktags!AQ28,\"\")","v":""},{"$f":"IFERROR(VLOOKUP(B75,Worktags!AL:AO,2,FALSE),\"\")","v":"Deferred Gifts"},{"$f":"IFERROR(VLOOKUP(C75,Worktags!O:T,2,FALSE),\"\")","v":""},{"$f":"IFERROR(VLOOKUP(IF(C75=\"\",B75&\"||\"&B75,C75&\"||\"&B75),Worktags!AR:AV,5,FALSE),\"\")","v":"All"}]
[{"$f":"IF(B76<>\"\",IF(C76<>\"\",B76&\"_\"&C76&\" \"&D76&\"/\"&E76,B76&\" \"&D76),\"\")","v":"1289 Pledges/Def Gifts Rec Reserve"},{"$f":"Worktags!AL33","v":"1289"},null,{"$f":"IFERROR(VLOOKUP(B76,Worktags!AL:AO,2,FALSE),\"\")","v":"Pledges/Def Gifts Rec Reserve"},null,{"$f":"IFERROR(VLOOKUP(IF(C76=\"\",B76&\"||\"&B76,C76&\"||\"&B76),Worktags!AR:AV,5,FALSE),\"\")","v":"All"}]
[{"$f":"IF(B77<>\"\",IF(C77<>\"\",B77&\"_\"&C77&\" \"&D77&\"/\"&E77,B77&\" \"&D77),\"\")","v":"1289 Pledges/Def Gifts Rec Reserve"},{"$f":"Worktags!AS29","v":"1289"},{"$f":"IF(Worktags!AQ29<>Worktags!AS29,Worktags!AQ29,\"\")","v":""},{"$f":"IFERROR(VLOOKUP(B77,Worktags!AL:AO,2,FALSE),\"\")","v":"Pledges/Def Gifts Rec Reserve"},{"$f":"IFERROR(VLOOKUP(C77,Worktags!O:T,2,FALSE),\"\")","v":""},{"$f":"IFERROR(VLOOKUP(IF(C77=\"\",B77&\"||\"&B77,C77&\"||\"&B77),Worktags!AR:AV,5,FALSE),\"\")","v":"All"}]
[{"$f":"IF(B78<>\"\",IF(C78<>\"\",B78&\"_\"&C78&\" \"&D78&\"/\"&E78,B78&\" \"&D78),\"\")","v":"1290 Clearing-Receivable"},{"$f":"Worktags!AL34","v":"1290"},null,{"$f":"IFERROR(VLOOKUP(B78,Worktags!AL:AO,2,FALSE),\"\")","v":"Clearing-Receivable"},null,{"$f":"IFERROR(VLOOKUP(IF(C78=\"\",B78&\"||\"&B78,C78&\"||\"&B78),Worktags!AR:AV,5,FALSE),\"\")","v":"All"}]
[{"$f":"IF(B79<>\"\",IF(C79<>\"\",B79&\"_\"&C79&\" \"&D79&\"/\"&E79,B79&\" \"&D79),\"\")","v":"1290 Clearing-Receivable"},{"$f":"Worktags!AS30","v":"1290"},{"$f":"IF(Worktags!AQ30<>Worktags!AS30,Worktags!AQ30,\"\")","v":""},{"$f":"IFERROR(VLOOKUP(B79,Worktags!AL:AO,2,FALSE),\"\")","v":"Clearing-Receivable"},{"$f":"IFERROR(VLOOKUP(C79,Worktags!O:T,2,FALSE),\"\")","v":""},{"$f":"IFERROR(VLOOKUP(IF(C79=\"\",B79&\"||\"&B79,C79&\"||\"&B79),Worktags!AR:AV,5,FALSE),\"\")","v":"All"}]
[{"$f":"IF(B80<>\"\",IF(C80<>\"\",B80&\"_\"&C80&\" \"&D80&\"/\"&E80,B80&\" \"&D80),\"\")","v":"1290_RC1290 Clearing-Receivable/Clearing-Receivable"},{"$f":"Worktags!AS101","v":"1290"},{"$f":"IF(Worktags!AQ101<>Worktags!AS101,Worktags!AQ101,\"\")","v":"RC1290"},{"$f":"IFERROR(VLOOKUP(B80,Worktags!AL:AO,2,FALSE),\"\")","v":"Clearing-Receivable"},{"$f":"IFERROR(VLOOKUP(C80,Worktags!O:T,2,FALSE),\"\")","v":"Clearing-Receivable"},{"$f":"IFERROR(VLOOKUP(IF(C80=\"\",B80&\"||\"&B80,C80&\"||\"&B80),Worktags!AR:AV,5,FALSE),\"\")","v":"All"}]
[{"$f":"IF(B81<>\"\",IF(C81<>\"\",B81&\"_\"&C81&\" \"&D81&\"/\"&E81,B81&\" \"&D81),\"\")","v":"1290_SC1290 Clearing-Receivable/MFC Refunds"},{"$f":"Worktags!AS222","v":"1290"},{"$f":"IF(Worktags!AQ222<>Worktags!AS222,Worktags!AQ222,\"\")","v":"SC1290"},{"$f":"IFERROR(VLOOKUP(B81,Worktags!AL:AO,2,FALSE),\"\")","v":"Clearing-Receivable"},{"$f":"IFERROR(VLOOKUP(C81,Worktags!O:T,2,FALSE),\"\")","v":"MFC Refunds"},{"$f":"IFERROR(VLOOKUP(IF(C81=\"\",B81&\"||\"&B81,C81&\"||\"&B81),Worktags!AR:AV,5,FALSE),\"\")","v":"All"}]
[{"$f":"IF(B82<>\"\",IF(C82<>\"\",B82&\"_\"&C82&\" \"&D82&\"/\"&E82,B82&\" \"&D82),\"\")","v":"1291 Clearing-Receivable Bank Cards"},{"$f":"Worktags!AL35","v":"1291"},null,{"$f":"IFERROR(VLOOKUP(B82,Worktags!AL:AO,2,FALSE),\"\")","v":"Clearing-Receivable Bank Cards"},null,{"$f":"IFERROR(VLOOKUP(IF(C82=\"\",B82&\"||\"&B82,C82&\"||\"&B82),Worktags!AR:AV,5,FALSE),\"\")","v":"All"}]
[{"$f":"IF(B83<>\"\",IF(C83<>\"\",B83&\"_\"&C83&\" \"&D83&\"/\"&E83,B83&\" \"&D83),\"\")","v":"1291 Clearing-Receivable Bank Cards"},{"$f":"Worktags!AS31","v":"1291"},{"$f":"IF(Worktags!AQ31<>Worktags!AS31,Worktags!AQ31,\"\")","v":""},{"$f":"IFERROR(VLOOKUP(B83,Worktags!AL:AO,2,FALSE),\"\")","v":"Clearing-Receivable Bank Cards"},{"$f":"IFERROR(VLOOKUP(C83,Worktags!O:T,2,FALSE),\"\")","v":""},{"$f":"IFERROR(VLOOKUP(IF(C83=\"\",B83&\"||\"&B83,C83&\"||\"&B83),Worktags!AR:AV,5,FALSE),\"\")","v":"All"}]
[{"$f":"IF(B84<>\"\",IF(C84<>\"\",B84&\"_\"&C84&\" \"&D84&\"/\"&E84,B84&\" \"&D84),\"\")","v":"1299 Account/Note Rec Reserve"},{"$f":"Worktags!AL36","v":"1299"},null,{"$f":"IFERROR(VLOOKUP(B84,Worktags!AL:AO,2,FALSE),\"\")","v":"Account/Note Rec Reserve"},null,{"$f":"IFERROR(VLOOKUP(IF(C84=\"\",B84&\"||\"&B84,C84&\"||\"&B84),Worktags!AR:AV,5,FALSE),\"\")","v":"All"}]
[{"$f":"IF(B85<>\"\",IF(C85<>\"\",B85&\"_\"&C85&\" \"&D85&\"/\"&E85,B85&\" \"&D85),\"\")","v":"1299 Account/Note Rec Reserve"},{"$f":"Worktags!AS32","v":"1299"},{"$f":"IF(Worktags!AQ32<>Worktags!AS32,Worktags!AQ32,\"\")","v":""},{"$f":"IFERROR(VLOOKUP(B85,Worktags!AL:AO,2,FALSE),\"\")","v":"Account/Note Rec Reserve"},{"$f":"IFERROR(VLOOKUP(C85,Worktags!O:T,2,FALSE),\"\")","v":""},{"$f":"IFERROR(VLOOKUP(IF(C85=\"\",B85&\"||\"&B85,C85&\"||\"&B85),Worktags!AR:AV,5,FALSE),\"\")","v":"All"}]
[{"$f":"IF(B86<>\"\",IF(C86<>\"\",B86&\"_\"&C86&\" \"&D86&\"/\"&E86,B86&\" \"&D86),\"\")","v":"1299_RC1298 Account/Note Rec Reserve/Special Recovery"},{"$f":"Worktags!AS102","v":"1299"},{"$f":"IF(Worktags!AQ102<>Worktags!AS102,Worktags!AQ102,\"\")","v":"RC1298"},{"$f":"IFERROR(VLOOKUP(B86,Worktags!AL:AO,2,FALSE),\"\")","v":"Account/Note Rec Reserve"},{"$f":"IFERROR(VLOOKUP(C86,Worktags!O:T,2,FALSE),\"\")","v":"Special Recovery"},{"$f":"IFERROR(VLOOKUP(IF(C86=\"\",B86&\"||\"&B86,C86&\"||\"&B86),Worktags!AR:AV,5,FALSE),\"\")","v":"All"}]
[{"$f":"IF(B87<>\"\",IF(C87<>\"\",B87&\"_\"&C87&\" \"&D87&\"/\"&E87,B87&\" \"&D87),\"\")","v":"1300 Inventory - Workday"},{"$f":"Worktags!AL37","v":"1300"},null,{"$f":"IFERROR(VLOOKUP(B87,Worktags!AL:AO,2,FALSE),\"\")","v":"Inventory - Workday"},null,{"$f":"IFERROR(VLOOKUP(IF(C87=\"\",B87&\"||\"&B87,C87&\"||\"&B87),Worktags!AR:AV,5,FALSE),\"\")","v":""}]
[{"$f":"IF(B88<>\"\",IF(C88<>\"\",B88&\"_\"&C88&\" \"&D88&\"/\"&E88,B88&\" \"&D88),\"\")","v":"1300_SC1300 Inventory - Workday/Inventory - Workday"},{"$f":"Worktags!AS223","v":"1300"},{"$f":"IF(Worktags!AQ223<>Worktags!AS223,Worktags!AQ223,\"\")","v":"SC1300"},{"$f":"IFERROR(VLOOKUP(B88,Worktags!AL:AO,2,FALSE),\"\")","v":"Inventory - Workday"},{"$f":"IFERROR(VLOOKUP(C88,Worktags!O:T,2,FALSE),\"\")","v":"Inventory - Workday"},{"$f":"IFERROR(VLOOKUP(IF(C88=\"\",B88&\"||\"&B88,C88&\"||\"&B88),Worktags!AR:AV,5,FALSE),\"\")","v":"All"}]
[{"$f":"IF(B89<>\"\",IF(C89<>\"\",B89&\"_\"&C89&\" \"&D89&\"/\"&E89,B89&\" \"&D89),\"\")","v":"1300_SC6731 Inventory - Workday/Stage and Studio Lighting (Only Workday Inventory Module)"},{"$f":"Worktags!AS728","v":"1300"},{"$f":"IF(Worktags!AQ728<>Worktags!AS728,Worktags!AQ728,\"\")","v":"SC6731"},{"$f":"IFERROR(VLOOKUP(B89,Worktags!AL:AO,2,FALSE),\"\")","v":"Inventory - Workday"},{"$f":"IFERROR(VLOOKUP(C89,Worktags!O:T,2,FALSE),\"\")","v":"Stage and Studio Lighting (Only Workday Inventory Module)"},{"$f":"IFERROR(VLOOKUP(IF(C89=\"\",B89&\"||\"&B89,C89&\"||\"&B89),Worktags!AR:AV,5,FALSE),\"\")","v":"All"}]
[{"$f":"IF(B90<>\"\",IF(C90<>\"\",B90&\"_\"&C90&\" \"&D90&\"/\"&E90,B90&\" \"&D90),\"\")","v":"1300_SC6940 Inventory - Workday/Audio Visual Equipment (Only Workday Inventory Module)"},{"$f":"Worktags!AS944","v":"1300"},{"$f":"IF(Worktags!AQ944<>Worktags!AS944,Worktags!AQ944,\"\")","v":"SC6940"},{"$f":"IFERROR(VLOOKUP(B90,Worktags!AL:AO,2,FALSE),\"\")","v":"Inventory - Workday"},{"$f":"IFERROR(VLOOKUP(C90,Worktags!O:T,2,FALSE),\"\")","v":"Audio Visual Equipment (Only Workday Inventory Module)"},{"$f":"IFERROR(VLOOKUP(IF(C90=\"\",B90&\"||\"&B90,C90&\"||\"&B90),Worktags!AR:AV,5,FALSE),\"\")","v":"All"}]
[{"$f":"IF(B91<>\"\",IF(C91<>\"\",B91&\"_\"&C91&\" \"&D91&\"/\"&E91,B91&\" \"&D91),\"\")","v":"1300_SC6941 Inventory - Workday/Communication Devices (Only Workday Inventory Module)"},{"$f":"Worktags!AS948","v":"1300"},{"$f":"IF(Worktags!AQ948<>Worktags!AS948,Worktags!AQ948,\"\")","v":"SC6941"},{"$f":"IFERROR(VLOOKUP(B91,Worktags!AL:AO,2,FALSE),\"\")","v":"Inventory - Workday"},{"$f":"IFERROR(VLOOKUP(C91,Worktags!O:T,2,FALSE),\"\")","v":"Communication Devices (Only Workday Inventory Module)"},{"$f":"IFERROR(VLOOKUP(IF(C91=\"\",B91&\"||\"&B91,C91&\"||\"&B91),Worktags!AR:AV,5,FALSE),\"\")","v":"All"}]
[{"$f":"IF(B92<>\"\",IF(C92<>\"\",B92&\"_\"&C92&\" \"&D92&\"/\"&E92,B92&\" \"&D92),\"\")","v":"1300_SC6942 Inventory - Workday/Computer Hardware (Only Workday Inventory Module)"},{"$f":"Worktags!AS952","v":"1300"},{"$f":"IF(Worktags!AQ952<>Worktags!AS952,Worktags!AQ952,\"\")","v":"SC6942"},{"$f":"IFERROR(VLOOKUP(B92,Worktags!AL:AO,2,FALSE),\"\")","v":"Inventory - Workday"},{"$f":"IFERROR(VLOOKUP(C92,Worktags!O:T,2,FALSE),\"\")","v":"Computer Hardware (Only Workday Inventory Module)"},{"$f":"IFERROR(VLOOKUP(IF(C92=\"\",B92&\"||\"&B92,C92&\"||\"&B92),Worktags!AR:AV,5,FALSE),\"\")","v":"All"}]
[{"$f":"IF(B93<>\"\",IF(C93<>\"\",B93&\"_\"&C93&\" \"&D93&\"/\"&E93,B93&\" \"&D93),\"\")","v":"1300_SC6943 Inventory - Workday/Data Network Equipment (Only Workday Inventory Module)"},{"$f":"Worktags!AS956","v":"1300"},{"$f":"IF(Worktags!AQ956<>Worktags!AS956,Worktags!AQ956,\"\")","v":"SC6943"},{"$f":"IFERROR(VLOOKUP(B93,Worktags!AL:AO,2,FALSE),\"\")","v":"Inventory - Workday"},{"$f":"IFERROR(VLOOKUP(C93,Worktags!O:T,2,FALSE),\"\")","v":"Data Network Equipment (Only Workday Inventory Module)"},{"$f":"IFERROR(VLOOKUP(IF(C93=\"\",B93&\"||\"&B93,C93&\"||\"&B93),Worktags!AR:AV,5,FALSE),\"\")","v":"All"}]
[{"$f":"IF(B94<>\"\",IF(C94<>\"\",B94&\"_\"&C94&\" \"&D94&\"/\"&E94,B94&\" \"&D94),\"\")","v":"1300_SC6944 Inventory - Workday/Equipment (not otherwise specified) (Only Workday Inventory Module)"},{"$f":"Worktags!AS960","v":"1300"},{"$f":"IF(Worktags!AQ960<>Worktags!AS960,Worktags!AQ960,\"\")","v":"SC6944"},{"$f":"IFERROR(VLOOKUP(B94,Worktags!AL:AO,2,FALSE),\"\")","v":"Inventory - Workday"},{"$f":"IFERROR(VLOOKUP(C94,Worktags!O:T,2,FALSE),\"\")","v":"Equipment (not otherwise specified) (Only Workday Inventory Module)"},{"$f":"IFERROR(VLOOKUP(IF(C94=\"\",B94&\"||\"&B94,C94&\"||\"&B94),Worktags!AR:AV,5,FALSE),\"\")","v":"All"}]
[{"$f":"IF(B95<>\"\",IF(C95<>\"\",B95&\"_\"&C95&\" \"&D95&\"/\"&E95,B95&\" \"&D95),\"\")","v":"1300_SC6945 Inventory - Workday/Office Equipment (Only Workday Inventory Module)"},{"$f":"Worktags!AS964","v":"1300"},{"$f":"IF(Worktags!AQ964<>Worktags!AS964,Worktags!AQ964,\"\")","v":"SC6945"},{"$f":"IFERROR(VLOOKUP(B95,Worktags!AL:AO,2,FALSE),\"\")","v":"Inventory - Workday"},{"$f":"IFERROR(VLOOKUP(C95,Worktags!O:T,2,FALSE),\"\")","v":"Office Equipment (Only Workday Inventory Module)"},{"$f":"IFERROR(VLOOKUP(IF(C95=\"\",B95&\"||\"&B95,C95&\"||\"&B95),Worktags!AR:AV,5,FALSE),\"\")","v":"All"}]
[{"$f":"IF(B96<>\"\",IF(C96<>\"\",B96&\"_\"&C96&\" \"&D96&\"/\"&E96,B96&\" \"&D96),\"\")","v":"1300_SC6946 Inventory - Workday/Security Equipment (Only Workday Inventory Module)"},{"$f":"Worktags!AS968","v":"1300"},{"$f":"IF(Worktags!AQ968<>Worktags!AS968,Worktags!AQ968,\"\")","v":"SC6946"},{"$f":"IFERROR(VLOOKUP(B96,Worktags!AL:AO,2,FALSE),\"\")","v":"Inventory - Workday"},{"$f":"IFERROR(VLOOKUP(C96,Worktags!O:T,2,FALSE),\"\")","v":"Security Equipment (Only Workday Inventory Module)"},{"$f":"IFERROR(VLOOKUP(IF(C96=\"\",B96&\"||\"&B96,C96&\"||\"&B96),Worktags!AR:AV,5,FALSE),\"\")","v":"All"}]
[{"$f":"IF(B97<>\"\",IF(C97<>\"\",B97&\"_\"&C97&\" \"&D97&\"/\"&E97,B97&\" \"&D97),\"\")","v":"1310 Inventory - Campus Subsystems"},{"$f":"Worktags!AL38","v":"1310"},null,{"$f":"IFERROR(VLOOKUP(B97,Worktags!AL:AO,2,FALSE),\"\")","v":"Inventory - Campus Subsystems"},null,{"$f":"IFERROR(VLOOKUP(IF(C97=\"\",B97&\"||\"&B97,C97&\"||\"&B97),Worktags!AR:AV,5,FALSE),\"\")","v":""}]
[{"$f":"IF(B98<>\"\",IF(C98<>\"\",B98&\"_\"&C98&\" \"&D98&\"/\"&E98,B98&\" \"&D98),\"\")","v":"1310_SC1310 Inventory - Campus Subsystems/Inventory - Campus Subsystems"},{"$f":"Worktags!AS224","v":"1310"},{"$f":"IF(Worktags!AQ224<>Worktags!AS224,Worktags!AQ224,\"\")","v":"SC1310"},{"$f":"IFERROR(VLOOKUP(B98,Worktags!AL:AO,2,FALSE),\"\")","v":"Inventory - Campus Subsystems"},{"$f":"IFERROR(VLOOKUP(C98,Worktags!O:T,2,FALSE),\"\")","v":"Inventory - Campus Subsystems"},{"$f":"IFERROR(VLOOKUP(IF(C98=\"\",B98&\"||\"&B98,C98&\"||\"&B98),Worktags!AR:AV,5,FALSE),\"\")","v":"All"}]
[{"$f":"IF(B99<>\"\",IF(C99<>\"\",B99&\"_\"&C99&\" \"&D99&\"/\"&E99,B99&\" \"&D99),\"\")","v":"1350 Inventory-Work in Process"},{"$f":"Worktags!AL39","v":"1350"},null,{"$f":"IFERROR(VLOOKUP(B99,Worktags!AL:AO,2,FALSE),\"\")","v":"Inventory-Work in Process"},null,{"$f":"IFERROR(VLOOKUP(IF(C99=\"\",B99&\"||\"&B99,C99&\"||\"&B99),Worktags!AR:AV,5,FALSE),\"\")","v":"All"}]
[{"$f":"IF(B100<>\"\",IF(C100<>\"\",B100&\"_\"&C100&\" \"&D100&\"/\"&E100,B100&\" \"&D100),\"\")","v":"1350 Inventory-Work in Process"},{"$f":"Worktags!AS33","v":"1350"},{"$f":"IF(Worktags!AQ33<>Worktags!AS33,Worktags!AQ33,\"\")","v":""},{"$f":"IFERROR(VLOOKUP(B100,Worktags!AL:AO,2,FALSE),\"\")","v":"Inventory-Work in Process"},{"$f":"IFERROR(VLOOKUP(C100,Worktags!O:T,2,FALSE),\"\")","v":""},{"$f":"IFERROR(VLOOKUP(IF(C100=\"\",B100&\"||\"&B100,C100&\"||\"&B100),Worktags!AR:AV,5,FALSE),\"\")","v":"All"}]
[{"$f":"IF(B101<>\"\",IF(C101<>\"\",B101&\"_\"&C101&\" \"&D101&\"/\"&E101,B101&\" \"&D101),\"\")","v":"1390 Clearing-Inventory"},{"$f":"Worktags!AL40","v":"1390"},null,{"$f":"IFERROR(VLOOKUP(B101,Worktags!AL:AO,2,FALSE),\"\")","v":"Clearing-Inventory"},null,{"$f":"IFERROR(VLOOKUP(IF(C101=\"\",B101&\"||\"&B101,C101&\"||\"&B101),Worktags!AR:AV,5,FALSE),\"\")","v":"All"}]
[{"$f":"IF(B102<>\"\",IF(C102<>\"\",B102&\"_\"&C102&\" \"&D102&\"/\"&E102,B102&\" \"&D102),\"\")","v":"1390 Clearing-Inventory"},{"$f":"Worktags!AS34","v":"1390"},{"$f":"IF(Worktags!AQ34<>Worktags!AS34,Worktags!AQ34,\"\")","v":""},{"$f":"IFERROR(VLOOKUP(B102,Worktags!AL:AO,2,FALSE),\"\")","v":"Clearing-Inventory"},{"$f":"IFERROR(VLOOKUP(C102,Worktags!O:T,2,FALSE),\"\")","v":""},{"$f":"IFERROR(VLOOKUP(IF(C102=\"\",B102&\"||\"&B102,C102&\"||\"&B102),Worktags!AR:AV,5,FALSE),\"\")","v":"All"}]
[{"$f":"IF(B103<>\"\",IF(C103<>\"\",B103&\"_\"&C103&\" \"&D103&\"/\"&E103,B103&\" \"&D103),\"\")","v":"1390_SC1390 Clearing-Inventory/Inventory - Clearing (Conversion Only)"},{"$f":"Worktags!AS225","v":"1390"},{"$f":"IF(Worktags!AQ225<>Worktags!AS225,Worktags!AQ225,\"\")","v":"SC1390"},{"$f":"IFERROR(VLOOKUP(B103,Worktags!AL:AO,2,FALSE),\"\")","v":"Clearing-Inventory"},{"$f":"IFERROR(VLOOKUP(C103,Worktags!O:T,2,FALSE),\"\")","v":"Inventory - Clearing (Conversion Only)"},{"$f":"IFERROR(VLOOKUP(IF(C103=\"\",B103&\"||\"&B103,C103&\"||\"&B103),Worktags!AR:AV,5,FALSE),\"\")","v":"All"}]
[{"$f":"IF(B104<>\"\",IF(C104<>\"\",B104&\"_\"&C104&\" \"&D104&\"/\"&E104,B104&\" \"&D104),\"\")","v":"1399 Inventory Reserve"},{"$f":"Worktags!AL41","v":"1399"},null,{"$f":"IFERROR(VLOOKUP(B104,Worktags!AL:AO,2,FALSE),\"\")","v":"Inventory Reserve"},null,{"$f":"IFERROR(VLOOKUP(IF(C104=\"\",B104&\"||\"&B104,C104&\"||\"&B104),Worktags!AR:AV,5,FALSE),\"\")","v":"All"}]
[{"$f":"IF(B105<>\"\",IF(C105<>\"\",B105&\"_\"&C105&\" \"&D105&\"/\"&E105,B105&\" \"&D105),\"\")","v":"1399 Inventory Reserve"},{"$f":"Worktags!AS35","v":"1399"},{"$f":"IF(Worktags!AQ35<>Worktags!AS35,Worktags!AQ35,\"\")","v":""},{"$f":"IFERROR(VLOOKUP(B105,Worktags!AL:AO,2,FALSE),\"\")","v":"Inventory Reserve"},{"$f":"IFERROR(VLOOKUP(C105,Worktags!O:T,2,FALSE),\"\")","v":""},{"$f":"IFERROR(VLOOKUP(IF(C105=\"\",B105&\"||\"&B105,C105&\"||\"&B105),Worktags!AR:AV,5,FALSE),\"\")","v":"All"}]
[{"$f":"IF(B106<>\"\",IF(C106<>\"\",B106&\"_\"&C106&\" \"&D106&\"/\"&E106,B106&\" \"&D106),\"\")","v":"1400 Prepaid Expenses"},{"$f":"Worktags!AL42","v":"1400"},null,{"$f":"IFERROR(VLOOKUP(B106,Worktags!AL:AO,2,FALSE),\"\")","v":"Prepaid Expenses"},null,{"$f":"IFERROR(VLOOKUP(IF(C106=\"\",B106&\"||\"&B106,C106&\"||\"&B106),Worktags!AR:AV,5,FALSE),\"\")","v":"All"}]
[{"$f":"IF(B107<>\"\",IF(C107<>\"\",B107&\"_\"&C107&\" \"&D107&\"/\"&E107,B107&\" \"&D107),\"\")","v":"1400 Prepaid Expenses"},{"$f":"Worktags!AS36","v":"1400"},{"$f":"IF(Worktags!AQ36<>Worktags!AS36,Worktags!AQ36,\"\")","v":""},{"$f":"IFERROR(VLOOKUP(B107,Worktags!AL:AO,2,FALSE),\"\")","v":"Prepaid Expenses"},{"$f":"IFERROR(VLOOKUP(C107,Worktags!O:T,2,FALSE),\"\")","v":""},{"$f":"IFERROR(VLOOKUP(IF(C107=\"\",B107&\"||\"&B107,C107&\"||\"&B107),Worktags!AR:AV,5,FALSE),\"\")","v":"All"}]
[{"$f":"IF(B108<>\"\",IF(C108<>\"\",B108&\"_\"&C108&\" \"&D108&\"/\"&E108,B108&\" \"&D108),\"\")","v":"1400_SC1400 Prepaid Expenses/Prepaid Expenses"},{"$f":"Worktags!AS226","v":"1400"},{"$f":"IF(Worktags!AQ226<>Worktags!AS226,Worktags!AQ226,\"\")","v":"SC1400"},{"$f":"IFERROR(VLOOKUP(B108,Worktags!AL:AO,2,FALSE),\"\")","v":"Prepaid Expenses"},{"$f":"IFERROR(VLOOKUP(C108,Worktags!O:T,2,FALSE),\"\")","v":"Prepaid Expenses"},{"$f":"IFERROR(VLOOKUP(IF(C108=\"\",B108&\"||\"&B108,C108&\"||\"&B108),Worktags!AR:AV,5,FALSE),\"\")","v":"All"}]
[{"$f":"IF(B109<>\"\",IF(C109<>\"\",B109&\"_\"&C109&\" \"&D109&\"/\"&E109,B109&\" \"&D109),\"\")","v":"1400_SC6101 Prepaid Expenses/Animal Supplies"},{"$f":"Worktags!AS325","v":"1400"},{"$f":"IF(Worktags!AQ325<>Worktags!AS325,Worktags!AQ325,\"\")","v":"SC6101"},{"$f":"IFERROR(VLOOKUP(B109,Worktags!AL:AO,2,FALSE),\"\")","v":"Prepaid Expenses"},{"$f":"IFERROR(VLOOKUP(C109,Worktags!O:T,2,FALSE),\"\")","v":"Animal Supplies"},{"$f":"IFERROR(VLOOKUP(IF(C109=\"\",B109&\"||\"&B109,C109&\"||\"&B109),Worktags!AR:AV,5,FALSE),\"\")","v":"All"}]
[{"$f":"IF(B110<>\"\",IF(C110<>\"\",B110&\"_\"&C110&\" \"&D110&\"/\"&E110,B110&\" \"&D110),\"\")","v":"1400_SC6102 Prepaid Expenses/Animals"},{"$f":"Worktags!AS327","v":"1400"},{"$f":"IF(Worktags!AQ327<>Worktags!AS327,Worktags!AQ327,\"\")","v":"SC6102"},{"$f":"IFERROR(VLOOKUP(B110,Worktags!AL:AO,2,FALSE),\"\")","v":"Prepaid Expenses"},{"$f":"IFERROR(VLOOKUP(C110,Worktags!O:T,2,FALSE),\"\")","v":"Animals"},{"$f":"IFERROR(VLOOKUP(IF(C110=\"\",B110&\"||\"&B110,C110&\"||\"&B110),Worktags!AR:AV,5,FALSE),\"\")","v":"All"}]
[{"$f":"IF(B111<>\"\",IF(C111<>\"\",B111&\"_\"&C111&\" \"&D111&\"/\"&E111,B111&\" \"&D111),\"\")","v":"1400_SC6103 Prepaid Expenses/Art"},{"$f":"Worktags!AS329","v":"1400"},{"$f":"IF(Worktags!AQ329<>Worktags!AS329,Worktags!AQ329,\"\")","v":"SC6103"},{"$f":"IFERROR(VLOOKUP(B111,Worktags!AL:AO,2,FALSE),\"\")","v":"Prepaid Expenses"},{"$f":"IFERROR(VLOOKUP(C111,Worktags!O:T,2,FALSE),\"\")","v":"Art"},{"$f":"IFERROR(VLOOKUP(IF(C111=\"\",B111&\"||\"&B111,C111&\"||\"&B111),Worktags!AR:AV,5,FALSE),\"\")","v":"All"}]
[{"$f":"IF(B112<>\"\",IF(C112<>\"\",B112&\"_\"&C112&\" \"&D112&\"/\"&E112,B112&\" \"&D112),\"\")","v":"1400_SC6104 Prepaid Expenses/Art Supplies"},{"$f":"Worktags!AS331","v":"1400"},{"$f":"IF(Worktags!AQ331<>Worktags!AS331,Worktags!AQ331,\"\")","v":"SC6104"},{"$f":"IFERROR(VLOOKUP(B112,Worktags!AL:AO,2,FALSE),\"\")","v":"Prepaid Expenses"},{"$f":"IFERROR(VLOOKUP(C112,Worktags!O:T,2,FALSE),\"\")","v":"Art Supplies"},{"$f":"IFERROR(VLOOKUP(IF(C112=\"\",B112&\"||\"&B112,C112&\"||\"&B112),Worktags!AR:AV,5,FALSE),\"\")","v":"All"}]
[{"$f":"IF(B113<>\"\",IF(C113<>\"\",B113&\"_\"&C113&\" \"&D113&\"/\"&E113,B113&\" \"&D113),\"\")","v":"1400_SC6105 Prepaid Expenses/Athletic Supplies"},{"$f":"Worktags!AS333","v":"1400"},{"$f":"IF(Worktags!AQ333<>Worktags!AS333,Worktags!AQ333,\"\")","v":"SC6105"},{"$f":"IFERROR(VLOOKUP(B113,Worktags!AL:AO,2,FALSE),\"\")","v":"Prepaid Expenses"},{"$f":"IFERROR(VLOOKUP(C113,Worktags!O:T,2,FALSE),\"\")","v":"Athletic Supplies"},{"$f":"IFERROR(VLOOKUP(IF(C113=\"\",B113&\"||\"&B113,C113&\"||\"&B113),Worktags!AR:AV,5,FALSE),\"\")","v":"All"}]
[{"$f":"IF(B114<>\"\",IF(C114<>\"\",B114&\"_\"&C114&\" \"&D114&\"/\"&E114,B114&\" \"&D114),\"\")","v":"1400_SC6106 Prepaid Expenses/Audio Visual Supplies"},{"$f":"Worktags!AS335","v":"1400"},{"$f":"IF(Worktags!AQ335<>Worktags!AS335,Worktags!AQ335,\"\")","v":"SC6106"},{"$f":"IFERROR(VLOOKUP(B114,Worktags!AL:AO,2,FALSE),\"\")","v":"Prepaid Expenses"},{"$f":"IFERROR(VLOOKUP(C114,Worktags!O:T,2,FALSE),\"\")","v":"Audio Visual Supplies"},{"$f":"IFERROR(VLOOKUP(IF(C114=\"\",B114&\"||\"&B114,C114&\"||\"&B114),Worktags!AR:AV,5,FALSE),\"\")","v":"All"}]
[{"$f":"IF(B115<>\"\",IF(C115<>\"\",B115&\"_\"&C115&\" \"&D115&\"/\"&E115,B115&\" \"&D115),\"\")","v":"1400_SC6107 Prepaid Expenses/Clothing, Uniforms, Linens"},{"$f":"Worktags!AS340","v":"1400"},{"$f":"IF(Worktags!AQ340<>Worktags!AS340,Worktags!AQ340,\"\")","v":"SC6107"},{"$f":"IFERROR(VLOOKUP(B115,Worktags!AL:AO,2,FALSE),\"\")","v":"Prepaid Expenses"},{"$f":"IFERROR(VLOOKUP(C115,Worktags!O:T,2,FALSE),\"\")","v":"Clothing, Uniforms, Linens"},{"$f":"IFERROR(VLOOKUP(IF(C115=\"\",B115&\"||\"&B115,C115&\"||\"&B115),Worktags!AR:AV,5,FALSE),\"\")","v":"All"}]
[{"$f":"IF(B116<>\"\",IF(C116<>\"\",B116&\"_\"&C116&\" \"&D116&\"/\"&E116,B116&\" \"&D116),\"\")","v":"1400_SC6108 Prepaid Expenses/Data Network Supplies"},{"$f":"Worktags!AS344","v":"1400"},{"$f":"IF(Worktags!AQ344<>Worktags!AS344,Worktags!AQ344,\"\")","v":"SC6108"},{"$f":"IFERROR(VLOOKUP(B116,Worktags!AL:AO,2,FALSE),\"\")","v":"Prepaid Expenses"},{"$f":"IFERROR(VLOOKUP(C116,Worktags!O:T,2,FALSE),\"\")","v":"Data Network Supplies"},{"$f":"IFERROR(VLOOKUP(IF(C116=\"\",B116&\"||\"&B116,C116&\"||\"&B116),Worktags!AR:AV,5,FALSE),\"\")","v":"All"}]
[{"$f":"IF(B117<>\"\",IF(C117<>\"\",B117&\"_\"&C117&\" \"&D117&\"/\"&E117,B117&\" \"&D117),\"\")","v":"1400_SC6109 Prepaid Expenses/Floral Supplies"},{"$f":"Worktags!AS349","v":"1400"},{"$f":"IF(Worktags!AQ349<>Worktags!AS349,Worktags!AQ349,\"\")","v":"SC6109"},{"$f":"IFERROR(VLOOKUP(B117,Worktags!AL:AO,2,FALSE),\"\")","v":"Prepaid Expenses"},{"$f":"IFERROR(VLOOKUP(C117,Worktags!O:T,2,FALSE),\"\")","v":"Floral Supplies"},{"$f":"IFERROR(VLOOKUP(IF(C117=\"\",B117&\"||\"&B117,C117&\"||\"&B117),Worktags!AR:AV,5,FALSE),\"\")","v":"All"}]
[{"$f":"IF(B118<>\"\",IF(C118<>\"\",B118&\"_\"&C118&\" \"&D118&\"/\"&E118,B118&\" \"&D118),\"\")","v":"1400_SC6110 Prepaid Expenses/Food and Beverages"},{"$f":"Worktags!AS351","v":"1400"},{"$f":"IF(Worktags!AQ351<>Worktags!AS351,Worktags!AQ351,\"\")","v":"SC6110"},{"$f":"IFERROR(VLOOKUP(B118,Worktags!AL:AO,2,FALSE),\"\")","v":"Prepaid Expenses"},{"$f":"IFERROR(VLOOKUP(C118,Worktags!O:T,2,FALSE),\"\")","v":"Food and Beverages"},{"$f":"IFERROR(VLOOKUP(IF(C118=\"\",B118&\"||\"&B118,C118&\"||\"&B118),Worktags!AR:AV,5,FALSE),\"\")","v":"All"}]
[{"$f":"IF(B119<>\"\",IF(C119<>\"\",B119&\"_\"&C119&\" \"&D119&\"/\"&E119,B119&\" \"&D119),\"\")","v":"1400_SC6111 Prepaid Expenses/Food Service Disposables"},{"$f":"Worktags!AS355","v":"1400"},{"$f":"IF(Worktags!AQ355<>Worktags!AS355,Worktags!AQ355,\"\")","v":"SC6111"},{"$f":"IFERROR(VLOOKUP(B119,Worktags!AL:AO,2,FALSE),\"\")","v":"Prepaid Expenses"},{"$f":"IFERROR(VLOOKUP(C119,Worktags!O:T,2,FALSE),\"\")","v":"Food Service Disposables"},{"$f":"IFERROR(VLOOKUP(IF(C119=\"\",B119&\"||\"&B119,C119&\"||\"&B119),Worktags!AR:AV,5,FALSE),\"\")","v":"All"}]
[{"$f":"IF(B120<>\"\",IF(C120<>\"\",B120&\"_\"&C120&\" \"&D120&\"/\"&E120,B120&\" \"&D120),\"\")","v":"1400_SC6112 Prepaid Expenses/Food Service Supplies"},{"$f":"Worktags!AS359","v":"1400"},{"$f":"IF(Worktags!AQ359<>Worktags!AS359,Worktags!AQ359,\"\")","v":"SC6112"},{"$f":"IFERROR(VLOOKUP(B120,Worktags!AL:AO,2,FALSE),\"\")","v":"Prepaid Expenses"},{"$f":"IFERROR(VLOOKUP(C120,Worktags!O:T,2,FALSE),\"\")","v":"Food Service Supplies"},{"$f":"IFERROR(VLOOKUP(IF(C120=\"\",B120&\"||\"&B120,C120&\"||\"&B120),Worktags!AR:AV,5,FALSE),\"\")","v":"All"}]
[{"$f":"IF(B121<>\"\",IF(C121<>\"\",B121&\"_\"&C121&\" \"&D121&\"/\"&E121,B121&\" \"&D121),\"\")","v":"1400_SC6113 Prepaid Expenses/Fuel"},{"$f":"Worktags!AS361","v":"1400"},{"$f":"IF(Worktags!AQ361<>Worktags!AS361,Worktags!AQ361,\"\")","v":"SC6113"},{"$f":"IFERROR(VLOOKUP(B121,Worktags!AL:AO,2,FALSE),\"\")","v":"Prepaid Expenses"},{"$f":"IFERROR(VLOOKUP(C121,Worktags!O:T,2,FALSE),\"\")","v":"Fuel"},{"$f":"IFERROR(VLOOKUP(IF(C121=\"\",B121&\"||\"&B121,C121&\"||\"&B121),Worktags!AR:AV,5,FALSE),\"\")","v":"All"}]
[{"$f":"IF(B122<>\"\",IF(C122<>\"\",B122&\"_\"&C122&\" \"&D122&\"/\"&E122,B122&\" \"&D122),\"\")","v":"1400_SC6114 Prepaid Expenses/Hazardous Chemicals"},{"$f":"Worktags!AS363","v":"1400"},{"$f":"IF(Worktags!AQ363<>Worktags!AS363,Worktags!AQ363,\"\")","v":"SC6114"},{"$f":"IFERROR(VLOOKUP(B122,Worktags!AL:AO,2,FALSE),\"\")","v":"Prepaid Expenses"},{"$f":"IFERROR(VLOOKUP(C122,Worktags!O:T,2,FALSE),\"\")","v":"Hazardous Chemicals"},{"$f":"IFERROR(VLOOKUP(IF(C122=\"\",B122&\"||\"&B122,C122&\"||\"&B122),Worktags!AR:AV,5,FALSE),\"\")","v":"All"}]
[{"$f":"IF(B123<>\"\",IF(C123<>\"\",B123&\"_\"&C123&\" \"&D123&\"/\"&E123,B123&\" \"&D123),\"\")","v":"1400_SC6115 Prepaid Expenses/Janitorial Supplies"},{"$f":"Worktags!AS367","v":"1400"},{"$f":"IF(Worktags!AQ367<>Worktags!AS367,Worktags!AQ367,\"\")","v":"SC6115"},{"$f":"IFERROR(VLOOKUP(B123,Worktags!AL:AO,2,FALSE),\"\")","v":"Prepaid Expenses"},{"$f":"IFERROR(VLOOKUP(C123,Worktags!O:T,2,FALSE),\"\")","v":"Janitorial Supplies"},{"$f":"IFERROR(VLOOKUP(IF(C123=\"\",B123&\"||\"&B123,C123&\"||\"&B123),Worktags!AR:AV,5,FALSE),\"\")","v":"All"}]
[{"$f":"IF(B124<>\"\",IF(C124<>\"\",B124&\"_\"&C124&\" \"&D124&\"/\"&E124,B124&\" \"&D124),\"\")","v":"1400_SC6116 Prepaid Expenses/Laundry Supplies"},{"$f":"Worktags!AS369","v":"1400"},{"$f":"IF(Worktags!AQ369<>Worktags!AS369,Worktags!AQ369,\"\")","v":"SC6116"},{"$f":"IFERROR(VLOOKUP(B124,Worktags!AL:AO,2,FALSE),\"\")","v":"Prepaid Expenses"},{"$f":"IFERROR(VLOOKUP(C124,Worktags!O:T,2,FALSE),\"\")","v":"Laundry Supplies"},{"$f":"IFERROR(VLOOKUP(IF(C124=\"\",B124&\"||\"&B124,C124&\"||\"&B124),Worktags!AR:AV,5,FALSE),\"\")","v":"All"}]
[{"$f":"IF(B125<>\"\",IF(C125<>\"\",B125&\"_\"&C125&\" \"&D125&\"/\"&E125,B125&\" \"&D125),\"\")","v":"1400_SC6117 Prepaid Expenses/Medical Supplies"},{"$f":"Worktags!AS371","v":"1400"},{"$f":"IF(Worktags!AQ371<>Worktags!AS371,Worktags!AQ371,\"\")","v":"SC6117"},{"$f":"IFERROR(VLOOKUP(B125,Worktags!AL:AO,2,FALSE),\"\")","v":"Prepaid Expenses"},{"$f":"IFERROR(VLOOKUP(C125,Worktags!O:T,2,FALSE),\"\")","v":"Medical Supplies"},{"$f":"IFERROR(VLOOKUP(IF(C125=\"\",B125&\"||\"&B125,C125&\"||\"&B125),Worktags!AR:AV,5,FALSE),\"\")","v":"All"}]
[{"$f":"IF(B126<>\"\",IF(C126<>\"\",B126&\"_\"&C126&\" \"&D126&\"/\"&E126,B126&\" \"&D126),\"\")","v":"1400_SC6118 Prepaid Expenses/Musical Instrument Supplies"},{"$f":"Worktags!AS373","v":"1400"},{"$f":"IF(Worktags!AQ373<>Worktags!AS373,Worktags!AQ373,\"\")","v":"SC6118"},{"$f":"IFERROR(VLOOKUP(B126,Worktags!AL:AO,2,FALSE),\"\")","v":"Prepaid Expenses"},{"$f":"IFERROR(VLOOKUP(C126,Worktags!O:T,2,FALSE),\"\")","v":"Musical Instrument Supplies"},{"$f":"IFERROR(VLOOKUP(IF(C126=\"\",B126&\"||\"&B126,C126&\"||\"&B126),Worktags!AR:AV,5,FALSE),\"\")","v":"All"}]
[{"$f":"IF(B127<>\"\",IF(C127<>\"\",B127&\"_\"&C127&\" \"&D127&\"/\"&E127,B127&\" \"&D127),\"\")","v":"1400_SC6119 Prepaid Expenses/Office Supplies"},{"$f":"Worktags!AS375","v":"1400"},{"$f":"IF(Worktags!AQ375<>Worktags!AS375,Worktags!AQ375,\"\")","v":"SC6119"},{"$f":"IFERROR(VLOOKUP(B127,Worktags!AL:AO,2,FALSE),\"\")","v":"Prepaid Expenses"},{"$f":"IFERROR(VLOOKUP(C127,Worktags!O:T,2,FALSE),\"\")","v":"Office Supplies"},{"$f":"IFERROR(VLOOKUP(IF(C127=\"\",B127&\"||\"&B127,C127&\"||\"&B127),Worktags!AR:AV,5,FALSE),\"\")","v":"All"}]
[{"$f":"IF(B128<>\"\",IF(C128<>\"\",B128&\"_\"&C128&\" \"&D128&\"/\"&E128,B128&\" \"&D128),\"\")","v":"1400_SC6120 Prepaid Expenses/Other Expense"},{"$f":"Worktags!AS379","v":"1400"},{"$f":"IF(Worktags!AQ379<>Worktags!AS379,Worktags!AQ379,\"\")","v":"SC6120"},{"$f":"IFERROR(VLOOKUP(B128,Worktags!AL:AO,2,FALSE),\"\")","v":"Prepaid Expenses"},{"$f":"IFERROR(VLOOKUP(C128,Worktags!O:T,2,FALSE),\"\")","v":"Other Expense"},{"$f":"IFERROR(VLOOKUP(IF(C128=\"\",B128&\"||\"&B128,C128&\"||\"&B128),Worktags!AR:AV,5,FALSE),\"\")","v":"All"}]
[{"$f":"IF(B129<>\"\",IF(C129<>\"\",B129&\"_\"&C129&\" \"&D129&\"/\"&E129,B129&\" \"&D129),\"\")","v":"1400_SC6121 Prepaid Expenses/Packaging"},{"$f":"Worktags!AS381","v":"1400"},{"$f":"IF(Worktags!AQ381<>Worktags!AS381,Worktags!AQ381,\"\")","v":"SC6121"},{"$f":"IFERROR(VLOOKUP(B129,Worktags!AL:AO,2,FALSE),\"\")","v":"Prepaid Expenses"},{"$f":"IFERROR(VLOOKUP(C129,Worktags!O:T,2,FALSE),\"\")","v":"Packaging"},{"$f":"IFERROR(VLOOKUP(IF(C129=\"\",B129&\"||\"&B129,C129&\"||\"&B129),Worktags!AR:AV,5,FALSE),\"\")","v":"All"}]
[{"$f":"IF(B130<>\"\",IF(C130<>\"\",B130&\"_\"&C130&\" \"&D130&\"/\"&E130,B130&\" \"&D130),\"\")","v":"1400_SC6122 Prepaid Expenses/Paper"},{"$f":"Worktags!AS385","v":"1400"},{"$f":"IF(Worktags!AQ385<>Worktags!AS385,Worktags!AQ385,\"\")","v":"SC6122"},{"$f":"IFERROR(VLOOKUP(B130,Worktags!AL:AO,2,FALSE),\"\")","v":"Prepaid Expenses"},{"$f":"IFERROR(VLOOKUP(C130,Worktags!O:T,2,FALSE),\"\")","v":"Paper"},{"$f":"IFERROR(VLOOKUP(IF(C130=\"\",B130&\"||\"&B130,C130&\"||\"&B130),Worktags!AR:AV,5,FALSE),\"\")","v":"All"}]
[{"$f":"IF(B131<>\"\",IF(C131<>\"\",B131&\"_\"&C131&\" \"&D131&\"/\"&E131,B131&\" \"&D131),\"\")","v":"1400_SC6123 Prepaid Expenses/Photography Supplies"},{"$f":"Worktags!AS387","v":"1400"},{"$f":"IF(Worktags!AQ387<>Worktags!AS387,Worktags!AQ387,\"\")","v":"SC6123"},{"$f":"IFERROR(VLOOKUP(B131,Worktags!AL:AO,2,FALSE),\"\")","v":"Prepaid Expenses"},{"$f":"IFERROR(VLOOKUP(C131,Worktags!O:T,2,FALSE),\"\")","v":"Photography Supplies"},{"$f":"IFERROR(VLOOKUP(IF(C131=\"\",B131&\"||\"&B131,C131&\"||\"&B131),Worktags!AR:AV,5,FALSE),\"\")","v":"All"}]
[{"$f":"IF(B132<>\"\",IF(C132<>\"\",B132&\"_\"&C132&\" \"&D132&\"/\"&E132,B132&\" \"&D132),\"\")","v":"1400_SC6124 Prepaid Expenses/Printed Media"},{"$f":"Worktags!AS389","v":"1400"},{"$f":"IF(Worktags!AQ389<>Worktags!AS389,Worktags!AQ389,\"\")","v":"SC6124"},{"$f":"IFERROR(VLOOKUP(B132,Worktags!AL:AO,2,FALSE),\"\")","v":"Prepaid Expenses"},{"$f":"IFERROR(VLOOKUP(C132,Worktags!O:T,2,FALSE),\"\")","v":"Printed Media"},{"$f":"IFERROR(VLOOKUP(IF(C132=\"\",B132&\"||\"&B132,C132&\"||\"&B132),Worktags!AR:AV,5,FALSE),\"\")","v":"All"}]
[{"$f":"IF(B133<>\"\",IF(C133<>\"\",B133&\"_\"&C133&\" \"&D133&\"/\"&E133,B133&\" \"&D133),\"\")","v":"1400_SC6125 Prepaid Expenses/Printing Supplies"},{"$f":"Worktags!AS391","v":"1400"},{"$f":"IF(Worktags!AQ391<>Worktags!AS391,Worktags!AQ391,\"\")","v":"SC6125"},{"$f":"IFERROR(VLOOKUP(B133,Worktags!AL:AO,2,FALSE),\"\")","v":"Prepaid Expenses"},{"$f":"IFERROR(VLOOKUP(C133,Worktags!O:T,2,FALSE),\"\")","v":"Printing Supplies"},{"$f":"IFERROR(VLOOKUP(IF(C133=\"\",B133&\"||\"&B133,C133&\"||\"&B133),Worktags!AR:AV,5,FALSE),\"\")","v":"All"}]
[{"$f":"IF(B134<>\"\",IF(C134<>\"\",B134&\"_\"&C134&\" \"&D134&\"/\"&E134,B134&\" \"&D134),\"\")","v":"1400_SC6126 Prepaid Expenses/Scientific and Engineering Supplies"},{"$f":"Worktags!AS395","v":"1400"},{"$f":"IF(Worktags!AQ395<>Worktags!AS395,Worktags!AQ395,\"\")","v":"SC6126"},{"$f":"IFERROR(VLOOKUP(B134,Worktags!AL:AO,2,FALSE),\"\")","v":"Prepaid Expenses"},{"$f":"IFERROR(VLOOKUP(C134,Worktags!O:T,2,FALSE),\"\")","v":"Scientific and Engineering Supplies"},{"$f":"IFERROR(VLOOKUP(IF(C134=\"\",B134&\"||\"&B134,C134&\"||\"&B134),Worktags!AR:AV,5,FALSE),\"\")","v":"All"}]
[{"$f":"IF(B135<>\"\",IF(C135<>\"\",B135&\"_\"&C135&\" \"&D135&\"/\"&E135,B135&\" \"&D135),\"\")","v":"1400_SC6127 Prepaid Expenses/Special Collections"},{"$f":"Worktags!AS399","v":"1400"},{"$f":"IF(Worktags!AQ399<>Worktags!AS399,Worktags!AQ399,\"\")","v":"SC6127"},{"$f":"IFERROR(VLOOKUP(B135,Worktags!AL:AO,2,FALSE),\"\")","v":"Prepaid Expenses"},{"$f":"IFERROR(VLOOKUP(C135,Worktags!O:T,2,FALSE),\"\")","v":"Special Collections"},{"$f":"IFERROR(VLOOKUP(IF(C135=\"\",B135&\"||\"&B135,C135&\"||\"&B135),Worktags!AR:AV,5,FALSE),\"\")","v":"All"}]
[{"$f":"IF(B136<>\"\",IF(C136<>\"\",B136&\"_\"&C136&\" \"&D136&\"/\"&E136,B136&\" \"&D136),\"\")","v":"1400_SC6129 Prepaid Expenses/Supplies (not otherwise specified)"},{"$f":"Worktags!AS402","v":"1400"},{"$f":"IF(Worktags!AQ402<>Worktags!AS402,Worktags!AQ402,\"\")","v":"SC6129"},{"$f":"IFERROR(VLOOKUP(B136,Worktags!AL:AO,2,FALSE),\"\")","v":"Prepaid Expenses"},{"$f":"IFERROR(VLOOKUP(C136,Worktags!O:T,2,FALSE),\"\")","v":"Supplies (not otherwise specified)"},{"$f":"IFERROR(VLOOKUP(IF(C136=\"\",B136&\"||\"&B136,C136&\"||\"&B136),Worktags!AR:AV,5,FALSE),\"\")","v":"All"}]
[{"$f":"IF(B137<>\"\",IF(C137<>\"\",B137&\"_\"&C137&\" \"&D137&\"/\"&E137,B137&\" \"&D137),\"\")","v":"1400_SC6130 Prepaid Expenses/Teaching Supplies"},{"$f":"Worktags!AS407","v":"1400"},{"$f":"IF(Worktags!AQ407<>Worktags!AS407,Worktags!AQ407,\"\")","v":"SC6130"},{"$f":"IFERROR(VLOOKUP(B137,Worktags!AL:AO,2,FALSE),\"\")","v":"Prepaid Expenses"},{"$f":"IFERROR(VLOOKUP(C137,Worktags!O:T,2,FALSE),\"\")","v":"Teaching Supplies"},{"$f":"IFERROR(VLOOKUP(IF(C137=\"\",B137&\"||\"&B137,C137&\"||\"&B137),Worktags!AR:AV,5,FALSE),\"\")","v":"All"}]
[{"$f":"IF(B138<>\"\",IF(C138<>\"\",B138&\"_\"&C138&\" \"&D138&\"/\"&E138,B138&\" \"&D138),\"\")","v":"1400_SC6131 Prepaid Expenses/Telecom Supplies"},{"$f":"Worktags!AS409","v":"1400"},{"$f":"IF(Worktags!AQ409<>Worktags!AS409,Worktags!AQ409,\"\")","v":"SC6131"},{"$f":"IFERROR(VLOOKUP(B138,Worktags!AL:AO,2,FALSE),\"\")","v":"Prepaid Expenses"},{"$f":"IFERROR(VLOOKUP(C138,Worktags!O:T,2,FALSE),\"\")","v":"Telecom Supplies"},{"$f":"IFERROR(VLOOKUP(IF(C138=\"\",B138&\"||\"&B138,C138&\"||\"&B138),Worktags!AR:AV,5,FALSE),\"\")","v":"All"}]
[{"$f":"IF(B139<>\"\",IF(C139<>\"\",B139&\"_\"&C139&\" \"&D139&\"/\"&E139,B139&\" \"&D139),\"\")","v":"1400_SC6132 Prepaid Expenses/Vehicle Supplies"},{"$f":"Worktags!AS414","v":"1400"},{"$f":"IF(Worktags!AQ414<>Worktags!AS414,Worktags!AQ414,\"\")","v":"SC6132"},{"$f":"IFERROR(VLOOKUP(B139,Worktags!AL:AO,2,FALSE),\"\")","v":"Prepaid Expenses"},{"$f":"IFERROR(VLOOKUP(C139,Worktags!O:T,2,FALSE),\"\")","v":"Vehicle Supplies"},{"$f":"IFERROR(VLOOKUP(IF(C139=\"\",B139&\"||\"&B139,C139&\"||\"&B139),Worktags!AR:AV,5,FALSE),\"\")","v":"All"}]
[{"$f":"IF(B140<>\"\",IF(C140<>\"\",B140&\"_\"&C140&\" \"&D140&\"/\"&E140,B140&\" \"&D140),\"\")","v":"1400_SC6133 Prepaid Expenses/Lab Gases and Cryogenics"},{"$f":"Worktags!AS416","v":"1400"},{"$f":"IF(Worktags!AQ416<>Worktags!AS416,Worktags!AQ416,\"\")","v":"SC6133"},{"$f":"IFERROR(VLOOKUP(B140,Worktags!AL:AO,2,FALSE),\"\")","v":"Prepaid Expenses"},{"$f":"IFERROR(VLOOKUP(C140,Worktags!O:T,2,FALSE),\"\")","v":"Lab Gases and Cryogenics"},{"$f":"IFERROR(VLOOKUP(IF(C140=\"\",B140&\"||\"&B140,C140&\"||\"&B140),Worktags!AR:AV,5,FALSE),\"\")","v":"All"}]
[{"$f":"IF(B141<>\"\",IF(C141<>\"\",B141&\"_\"&C141&\" \"&D141&\"/\"&E141,B141&\" \"&D141),\"\")","v":"1400_SC6199 Prepaid Expenses/Materials and Supplies (reclass)"},{"$f":"Worktags!AS420","v":"1400"},{"$f":"IF(Worktags!AQ420<>Worktags!AS420,Worktags!AQ420,\"\")","v":"SC6199"},{"$f":"IFERROR(VLOOKUP(B141,Worktags!AL:AO,2,FALSE),\"\")","v":"Prepaid Expenses"},{"$f":"IFERROR(VLOOKUP(C141,Worktags!O:T,2,FALSE),\"\")","v":"Materials and Supplies (reclass)"},"All"]
[{"$f":"IF(B142<>\"\",IF(C142<>\"\",B142&\"_\"&C142&\" \"&D142&\"/\"&E142,B142&\" \"&D142),\"\")","v":"1400_SC6401 Prepaid Expenses/Advertising"},{"$f":"Worktags!AS433","v":"1400"},{"$f":"IF(Worktags!AQ433<>Worktags!AS433,Worktags!AQ433,\"\")","v":"SC6401"},{"$f":"IFERROR(VLOOKUP(B142,Worktags!AL:AO,2,FALSE),\"\")","v":"Prepaid Expenses"},{"$f":"IFERROR(VLOOKUP(C142,Worktags!O:T,2,FALSE),\"\")","v":"Advertising"},"All"]
[{"$f":"IF(B143<>\"\",IF(C143<>\"\",B143&\"_\"&C143&\" \"&D143&\"/\"&E143,B143&\" \"&D143),\"\")","v":"1400_SC6403 Prepaid Expenses/Animal Services"},{"$f":"Worktags!AS436","v":"1400"},{"$f":"IF(Worktags!AQ436<>Worktags!AS436,Worktags!AQ436,\"\")","v":"SC6403"},{"$f":"IFERROR(VLOOKUP(B143,Worktags!AL:AO,2,FALSE),\"\")","v":"Prepaid Expenses"},{"$f":"IFERROR(VLOOKUP(C143,Worktags!O:T,2,FALSE),\"\")","v":"Animal Services"},"All"]
[{"$f":"IF(B144<>\"\",IF(C144<>\"\",B144&\"_\"&C144&\" \"&D144&\"/\"&E144,B144&\" \"&D144),\"\")","v":"1400_SC6404 Prepaid Expenses/Architectural or Engineering Services"},{"$f":"Worktags!AS438","v":"1400"},{"$f":"IF(Worktags!AQ438<>Worktags!AS438,Worktags!AQ438,\"\")","v":"SC6404"},{"$f":"IFERROR(VLOOKUP(B144,Worktags!AL:AO,2,FALSE),\"\")","v":"Prepaid Expenses"},{"$f":"IFERROR(VLOOKUP(C144,Worktags!O:T,2,FALSE),\"\")","v":"Architectural or Engineering Services"},"All"]
[{"$f":"IF(B145<>\"\",IF(C145<>\"\",B145&\"_\"&C145&\" \"&D145&\"/\"&E145,B145&\" \"&D145),\"\")","v":"1400_SC6405 Prepaid Expenses/Art, Design, and Photography Services"},{"$f":"Worktags!AS442","v":"1400"},{"$f":"IF(Worktags!AQ442<>Worktags!AS442,Worktags!AQ442,\"\")","v":"SC6405"},{"$f":"IFERROR(VLOOKUP(B145,Worktags!AL:AO,2,FALSE),\"\")","v":"Prepaid Expenses"},{"$f":"IFERROR(VLOOKUP(C145,Worktags!O:T,2,FALSE),\"\")","v":"Art, Design, and Photography Services"},"All"]
[{"$f":"IF(B146<>\"\",IF(C146<>\"\",B146&\"_\"&C146&\" \"&D146&\"/\"&E146,B146&\" \"&D146),\"\")","v":"1400_SC6406 Prepaid Expenses/Athletic Events"},{"$f":"Worktags!AS444","v":"1400"},{"$f":"IF(Worktags!AQ444<>Worktags!AS444,Worktags!AQ444,\"\")","v":"SC6406"},{"$f":"IFERROR(VLOOKUP(B146,Worktags!AL:AO,2,FALSE),\"\")","v":"Prepaid Expenses"},{"$f":"IFERROR(VLOOKUP(C146,Worktags!O:T,2,FALSE),\"\")","v":"Athletic Events"},"All"]
[{"$f":"IF(B147<>\"\",IF(C147<>\"\",B147&\"_\"&C147&\" \"&D147&\"/\"&E147,B147&\" \"&D147),\"\")","v":"1400_SC6407 Prepaid Expenses/Audio Visual Media Duplication"},{"$f":"Worktags!AS446","v":"1400"},{"$f":"IF(Worktags!AQ446<>Worktags!AS446,Worktags!AQ446,\"\")","v":"SC6407"},{"$f":"IFERROR(VLOOKUP(B147,Worktags!AL:AO,2,FALSE),\"\")","v":"Prepaid Expenses"},{"$f":"IFERROR(VLOOKUP(C147,Worktags!O:T,2,FALSE),\"\")","v":"Audio Visual Media Duplication"},"All"]
[{"$f":"IF(B148<>\"\",IF(C148<>\"\",B148&\"_\"&C148&\" \"&D148&\"/\"&E148,B148&\" \"&D148),\"\")","v":"1400_SC6410 Prepaid Expenses/Broadcast Services"},{"$f":"Worktags!AS450","v":"1400"},{"$f":"IF(Worktags!AQ450<>Worktags!AS450,Worktags!AQ450,\"\")","v":"SC6410"},{"$f":"IFERROR(VLOOKUP(B148,Worktags!AL:AO,2,FALSE),\"\")","v":"Prepaid Expenses"},{"$f":"IFERROR(VLOOKUP(C148,Worktags!O:T,2,FALSE),\"\")","v":"Broadcast Services"},"All"]
[{"$f":"IF(B149<>\"\",IF(C149<>\"\",B149&\"_\"&C149&\" \"&D149&\"/\"&E149,B149&\" \"&D149),\"\")","v":"1400_SC6412 Prepaid Expenses/Cell Phones and Plans"},{"$f":"Worktags!AS453","v":"1400"},{"$f":"IF(Worktags!AQ453<>Worktags!AS453,Worktags!AQ453,\"\")","v":"SC6412"},{"$f":"IFERROR(VLOOKUP(B149,Worktags!AL:AO,2,FALSE),\"\")","v":"Prepaid Expenses"},{"$f":"IFERROR(VLOOKUP(C149,Worktags!O:T,2,FALSE),\"\")","v":"Cell Phones and Plans"},"All"]
[{"$f":"IF(B150<>\"\",IF(C150<>\"\",B150&\"_\"&C150&\" \"&D150&\"/\"&E150,B150&\" \"&D150),\"\")","v":"1400_SC6413 Prepaid Expenses/Competition Officiating"},{"$f":"Worktags!AS455","v":"1400"},{"$f":"IF(Worktags!AQ455<>Worktags!AS455,Worktags!AQ455,\"\")","v":"SC6413"},{"$f":"IFERROR(VLOOKUP(B150,Worktags!AL:AO,2,FALSE),\"\")","v":"Prepaid Expenses"},{"$f":"IFERROR(VLOOKUP(C150,Worktags!O:T,2,FALSE),\"\")","v":"Competition Officiating"},"All"]
[{"$f":"IF(B151<>\"\",IF(C151<>\"\",B151&\"_\"&C151&\" \"&D151&\"/\"&E151,B151&\" \"&D151),\"\")","v":"1400_SC6414 Prepaid Expenses/Computer Services"},{"$f":"Worktags!AS457","v":"1400"},{"$f":"IF(Worktags!AQ457<>Worktags!AS457,Worktags!AQ457,\"\")","v":"SC6414"},{"$f":"IFERROR(VLOOKUP(B151,Worktags!AL:AO,2,FALSE),\"\")","v":"Prepaid Expenses"},{"$f":"IFERROR(VLOOKUP(C151,Worktags!O:T,2,FALSE),\"\")","v":"Computer Services"},"All"]
[{"$f":"IF(B152<>\"\",IF(C152<>\"\",B152&\"_\"&C152&\" \"&D152&\"/\"&E152,B152&\" \"&D152),\"\")","v":"1400_SC6415 Prepaid Expenses/Conference and Events Hosting"},{"$f":"Worktags!AS461","v":"1400"},{"$f":"IF(Worktags!AQ461<>Worktags!AS461,Worktags!AQ461,\"\")","v":"SC6415"},{"$f":"IFERROR(VLOOKUP(B152,Worktags!AL:AO,2,FALSE),\"\")","v":"Prepaid Expenses"},{"$f":"IFERROR(VLOOKUP(C152,Worktags!O:T,2,FALSE),\"\")","v":"Conference and Events Hosting"},"All"]
[{"$f":"IF(B153<>\"\",IF(C153<>\"\",B153&\"_\"&C153&\" \"&D153&\"/\"&E153,B153&\" \"&D153),\"\")","v":"1400_SC6416 Prepaid Expenses/Conference Registration"},{"$f":"Worktags!AS463","v":"1400"},{"$f":"IF(Worktags!AQ463<>Worktags!AS463,Worktags!AQ463,\"\")","v":"SC6416"},{"$f":"IFERROR(VLOOKUP(B153,Worktags!AL:AO,2,FALSE),\"\")","v":"Prepaid Expenses"},{"$f":"IFERROR(VLOOKUP(C153,Worktags!O:T,2,FALSE),\"\")","v":"Conference Registration"},"All"]
[{"$f":"IF(B154<>\"\",IF(C154<>\"\",B154&\"_\"&C154&\" \"&D154&\"/\"&E154,B154&\" \"&D154),\"\")","v":"1400_SC6417 Prepaid Expenses/Consulting - Financial and Research"},{"$f":"Worktags!AS465","v":"1400"},{"$f":"IF(Worktags!AQ465<>Worktags!AS465,Worktags!AQ465,\"\")","v":"SC6417"},{"$f":"IFERROR(VLOOKUP(B154,Worktags!AL:AO,2,FALSE),\"\")","v":"Prepaid Expenses"},{"$f":"IFERROR(VLOOKUP(C154,Worktags!O:T,2,FALSE),\"\")","v":"Consulting - Financial and Research"},"All"]
[{"$f":"IF(B155<>\"\",IF(C155<>\"\",B155&\"_\"&C155&\" \"&D155&\"/\"&E155,B155&\" \"&D155),\"\")","v":"1400_SC6419 Prepaid Expenses/Data Connectivity Services"},{"$f":"Worktags!AS468","v":"1400"},{"$f":"IF(Worktags!AQ468<>Worktags!AS468,Worktags!AQ468,\"\")","v":"SC6419"},{"$f":"IFERROR(VLOOKUP(B155,Worktags!AL:AO,2,FALSE),\"\")","v":"Prepaid Expenses"},{"$f":"IFERROR(VLOOKUP(C155,Worktags!O:T,2,FALSE),\"\")","v":"Data Connectivity Services"},"All"]
[{"$f":"IF(B156<>\"\",IF(C156<>\"\",B156&\"_\"&C156&\" \"&D156&\"/\"&E156,B156&\" \"&D156),\"\")","v":"1400_SC6420 Prepaid Expenses/Educational Facilities - Rent/Lease <=1yr"},{"$f":"Worktags!AS470","v":"1400"},{"$f":"IF(Worktags!AQ470<>Worktags!AS470,Worktags!AQ470,\"\")","v":"SC6420"},{"$f":"IFERROR(VLOOKUP(B156,Worktags!AL:AO,2,FALSE),\"\")","v":"Prepaid Expenses"},{"$f":"IFERROR(VLOOKUP(C156,Worktags!O:T,2,FALSE),\"\")","v":"Educational Facilities - Rent/Lease <=1yr"},"All"]
[{"$f":"IF(B157<>\"\",IF(C157<>\"\",B157&\"_\"&C157&\" \"&D157&\"/\"&E157,B157&\" \"&D157),\"\")","v":"1400_SC6421 Prepaid Expenses/Employee Development Services"},{"$f":"Worktags!AS472","v":"1400"},{"$f":"IF(Worktags!AQ472<>Worktags!AS472,Worktags!AQ472,\"\")","v":"SC6421"},{"$f":"IFERROR(VLOOKUP(B157,Worktags!AL:AO,2,FALSE),\"\")","v":"Prepaid Expenses"},{"$f":"IFERROR(VLOOKUP(C157,Worktags!O:T,2,FALSE),\"\")","v":"Employee Development Services"},"All"]
[{"$f":"IF(B158<>\"\",IF(C158<>\"\",B158&\"_\"&C158&\" \"&D158&\"/\"&E158,B158&\" \"&D158),\"\")","v":"1400_SC6422 Prepaid Expenses/Food Services and Caterers"},{"$f":"Worktags!AS474","v":"1400"},{"$f":"IF(Worktags!AQ474<>Worktags!AS474,Worktags!AQ474,\"\")","v":"SC6422"},{"$f":"IFERROR(VLOOKUP(B158,Worktags!AL:AO,2,FALSE),\"\")","v":"Prepaid Expenses"},{"$f":"IFERROR(VLOOKUP(C158,Worktags!O:T,2,FALSE),\"\")","v":"Food Services and Caterers"},"All"]
[{"$f":"IF(B159<>\"\",IF(C159<>\"\",B159&\"_\"&C159&\" \"&D159&\"/\"&E159,B159&\" \"&D159),\"\")","v":"1400_SC6424 Prepaid Expenses/Franchise Fees"},{"$f":"Worktags!AS477","v":"1400"},{"$f":"IF(Worktags!AQ477<>Worktags!AS477,Worktags!AQ477,\"\")","v":"SC6424"},{"$f":"IFERROR(VLOOKUP(B159,Worktags!AL:AO,2,FALSE),\"\")","v":"Prepaid Expenses"},{"$f":"IFERROR(VLOOKUP(C159,Worktags!O:T,2,FALSE),\"\")","v":"Franchise Fees"},"All"]
[{"$f":"IF(B160<>\"\",IF(C160<>\"\",B160&\"_\"&C160&\" \"&D160&\"/\"&E160,B160&\" \"&D160),\"\")","v":"1400_SC6425 Prepaid Expenses/Government Fees"},{"$f":"Worktags!AS479","v":"1400"},{"$f":"IF(Worktags!AQ479<>Worktags!AS479,Worktags!AQ479,\"\")","v":"SC6425"},{"$f":"IFERROR(VLOOKUP(B160,Worktags!AL:AO,2,FALSE),\"\")","v":"Prepaid Expenses"},{"$f":"IFERROR(VLOOKUP(C160,Worktags!O:T,2,FALSE),\"\")","v":"Government Fees"},"All"]
[{"$f":"IF(B161<>\"\",IF(C161<>\"\",B161&\"_\"&C161&\" \"&D161&\"/\"&E161,B161&\" \"&D161),\"\")","v":"1400_SC6427 Prepaid Expenses/Event Admissions/Entertainment"},{"$f":"Worktags!AS482","v":"1400"},{"$f":"IF(Worktags!AQ482<>Worktags!AS482,Worktags!AQ482,\"\")","v":"SC6427"},{"$f":"IFERROR(VLOOKUP(B161,Worktags!AL:AO,2,FALSE),\"\")","v":"Prepaid Expenses"},{"$f":"IFERROR(VLOOKUP(C161,Worktags!O:T,2,FALSE),\"\")","v":"Event Admissions/Entertainment"},"All"]
[{"$f":"IF(B162<>\"\",IF(C162<>\"\",B162&\"_\"&C162&\" \"&D162&\"/\"&E162,B162&\" \"&D162),\"\")","v":"1400_SC6428 Prepaid Expenses/Hosted Meals"},{"$f":"Worktags!AS484","v":"1400"},{"$f":"IF(Worktags!AQ484<>Worktags!AS484,Worktags!AQ484,\"\")","v":"SC6428"},{"$f":"IFERROR(VLOOKUP(B162,Worktags!AL:AO,2,FALSE),\"\")","v":"Prepaid Expenses"},{"$f":"IFERROR(VLOOKUP(C162,Worktags!O:T,2,FALSE),\"\")","v":"Hosted Meals"},"All"]
[{"$f":"IF(B163<>\"\",IF(C163<>\"\",B163&\"_\"&C163&\" \"&D163&\"/\"&E163,B163&\" \"&D163),\"\")","v":"1400_SC6429 Prepaid Expenses/Insurance"},{"$f":"Worktags!AS486","v":"1400"},{"$f":"IF(Worktags!AQ486<>Worktags!AS486,Worktags!AQ486,\"\")","v":"SC6429"},{"$f":"IFERROR(VLOOKUP(B163,Worktags!AL:AO,2,FALSE),\"\")","v":"Prepaid Expenses"},{"$f":"IFERROR(VLOOKUP(C163,Worktags!O:T,2,FALSE),\"\")","v":"Insurance"},"All"]
[{"$f":"IF(B164<>\"\",IF(C164<>\"\",B164&\"_\"&C164&\" \"&D164&\"/\"&E164,B164&\" \"&D164),\"\")","v":"1400_SC6430 Prepaid Expenses/Janitorial Services"},{"$f":"Worktags!AS488","v":"1400"},{"$f":"IF(Worktags!AQ488<>Worktags!AS488,Worktags!AQ488,\"\")","v":"SC6430"},{"$f":"IFERROR(VLOOKUP(B164,Worktags!AL:AO,2,FALSE),\"\")","v":"Prepaid Expenses"},{"$f":"IFERROR(VLOOKUP(C164,Worktags!O:T,2,FALSE),\"\")","v":"Janitorial Services"},"All"]
[{"$f":"IF(B165<>\"\",IF(C165<>\"\",B165&\"_\"&C165&\" \"&D165&\"/\"&E165,B165&\" \"&D165),\"\")","v":"1400_SC6431 Prepaid Expenses/Laundry Services"},{"$f":"Worktags!AS490","v":"1400"},{"$f":"IF(Worktags!AQ490<>Worktags!AS490,Worktags!AQ490,\"\")","v":"SC6431"},{"$f":"IFERROR(VLOOKUP(B165,Worktags!AL:AO,2,FALSE),\"\")","v":"Prepaid Expenses"},{"$f":"IFERROR(VLOOKUP(C165,Worktags!O:T,2,FALSE),\"\")","v":"Laundry Services"},"All"]
[{"$f":"IF(B166<>\"\",IF(C166<>\"\",B166&\"_\"&C166&\" \"&D166&\"/\"&E166,B166&\" \"&D166),\"\")","v":"1400_SC6432 Prepaid Expenses/Legal Services"},{"$f":"Worktags!AS492","v":"1400"},{"$f":"IF(Worktags!AQ492<>Worktags!AS492,Worktags!AQ492,\"\")","v":"SC6432"},{"$f":"IFERROR(VLOOKUP(B166,Worktags!AL:AO,2,FALSE),\"\")","v":"Prepaid Expenses"},{"$f":"IFERROR(VLOOKUP(C166,Worktags!O:T,2,FALSE),\"\")","v":"Legal Services"},"All"]
[{"$f":"IF(B167<>\"\",IF(C167<>\"\",B167&\"_\"&C167&\" \"&D167&\"/\"&E167,B167&\" \"&D167),\"\")","v":"1400_SC6433 Prepaid Expenses/Medical Services"},{"$f":"Worktags!AS494","v":"1400"},{"$f":"IF(Worktags!AQ494<>Worktags!AS494,Worktags!AQ494,\"\")","v":"SC6433"},{"$f":"IFERROR(VLOOKUP(B167,Worktags!AL:AO,2,FALSE),\"\")","v":"Prepaid Expenses"},{"$f":"IFERROR(VLOOKUP(C167,Worktags!O:T,2,FALSE),\"\")","v":"Medical Services"},"All"]
[{"$f":"IF(B168<>\"\",IF(C168<>\"\",B168&\"_\"&C168&\" \"&D168&\"/\"&E168,B168&\" \"&D168),\"\")","v":"1400_SC6434 Prepaid Expenses/Membership Dues"},{"$f":"Worktags!AS496","v":"1400"},{"$f":"IF(Worktags!AQ496<>Worktags!AS496,Worktags!AQ496,\"\")","v":"SC6434"},{"$f":"IFERROR(VLOOKUP(B168,Worktags!AL:AO,2,FALSE),\"\")","v":"Prepaid Expenses"},{"$f":"IFERROR(VLOOKUP(C168,Worktags!O:T,2,FALSE),\"\")","v":"Membership Dues"},"All"]
[{"$f":"IF(B169<>\"\",IF(C169<>\"\",B169&\"_\"&C169&\" \"&D169&\"/\"&E169,B169&\" \"&D169),\"\")","v":"1400_SC6435 Prepaid Expenses/Misc Independent Contractors"},{"$f":"Worktags!AS498","v":"1400"},{"$f":"IF(Worktags!AQ498<>Worktags!AS498,Worktags!AQ498,\"\")","v":"SC6435"},{"$f":"IFERROR(VLOOKUP(B169,Worktags!AL:AO,2,FALSE),\"\")","v":"Prepaid Expenses"},{"$f":"IFERROR(VLOOKUP(C169,Worktags!O:T,2,FALSE),\"\")","v":"Misc Independent Contractors"},"All"]
[{"$f":"IF(B170<>\"\",IF(C170<>\"\",B170&\"_\"&C170&\" \"&D170&\"/\"&E170,B170&\" \"&D170),\"\")","v":"1400_SC6438 Prepaid Expenses/Performers/Presenters"},{"$f":"Worktags!AS504","v":"1400"},{"$f":"IF(Worktags!AQ504<>Worktags!AS504,Worktags!AQ504,\"\")","v":"SC6438"},{"$f":"IFERROR(VLOOKUP(B170,Worktags!AL:AO,2,FALSE),\"\")","v":"Prepaid Expenses"},{"$f":"IFERROR(VLOOKUP(C170,Worktags!O:T,2,FALSE),\"\")","v":"Performers/Presenters"},"All"]
[{"$f":"IF(B171<>\"\",IF(C171<>\"\",B171&\"_\"&C171&\" \"&D171&\"/\"&E171,B171&\" \"&D171),\"\")","v":"1400_SC6439 Prepaid Expenses/Pest Control Services"},{"$f":"Worktags!AS506","v":"1400"},{"$f":"IF(Worktags!AQ506<>Worktags!AS506,Worktags!AQ506,\"\")","v":"SC6439"},{"$f":"IFERROR(VLOOKUP(B171,Worktags!AL:AO,2,FALSE),\"\")","v":"Prepaid Expenses"},{"$f":"IFERROR(VLOOKUP(C171,Worktags!O:T,2,FALSE),\"\")","v":"Pest Control Services"},"All"]
[{"$f":"IF(B172<>\"\",IF(C172<>\"\",B172&\"_\"&C172&\" \"&D172&\"/\"&E172,B172&\" \"&D172),\"\")","v":"1400_SC6440 Prepaid Expenses/Portable Structures-Rent/Lease <=1yr"},{"$f":"Worktags!AS508","v":"1400"},{"$f":"IF(Worktags!AQ508<>Worktags!AS508,Worktags!AQ508,\"\")","v":"SC6440"},{"$f":"IFERROR(VLOOKUP(B172,Worktags!AL:AO,2,FALSE),\"\")","v":"Prepaid Expenses"},{"$f":"IFERROR(VLOOKUP(C172,Worktags!O:T,2,FALSE),\"\")","v":"Portable Structures-Rent/Lease <=1yr"},"All"]
[{"$f":"IF(B173<>\"\",IF(C173<>\"\",B173&\"_\"&C173&\" \"&D173&\"/\"&E173,B173&\" \"&D173),\"\")","v":"1400_SC6441 Prepaid Expenses/Postage, Shipping and Freight"},{"$f":"Worktags!AS510","v":"1400"},{"$f":"IF(Worktags!AQ510<>Worktags!AS510,Worktags!AQ510,\"\")","v":"SC6441"},{"$f":"IFERROR(VLOOKUP(B173,Worktags!AL:AO,2,FALSE),\"\")","v":"Prepaid Expenses"},{"$f":"IFERROR(VLOOKUP(C173,Worktags!O:T,2,FALSE),\"\")","v":"Postage, Shipping and Freight"},"All"]
[{"$f":"IF(B174<>\"\",IF(C174<>\"\",B174&\"_\"&C174&\" \"&D174&\"/\"&E174,B174&\" \"&D174),\"\")","v":"1400_SC6442 Prepaid Expenses/Printing Services"},{"$f":"Worktags!AS512","v":"1400"},{"$f":"IF(Worktags!AQ512<>Worktags!AS512,Worktags!AQ512,\"\")","v":"SC6442"},{"$f":"IFERROR(VLOOKUP(B174,Worktags!AL:AO,2,FALSE),\"\")","v":"Prepaid Expenses"},{"$f":"IFERROR(VLOOKUP(C174,Worktags!O:T,2,FALSE),\"\")","v":"Printing Services"},"All"]
[{"$f":"IF(B175<>\"\",IF(C175<>\"\",B175&\"_\"&C175&\" \"&D175&\"/\"&E175,B175&\" \"&D175),\"\")","v":"1400_SC6443 Prepaid Expenses/Production Services"},{"$f":"Worktags!AS514","v":"1400"},{"$f":"IF(Worktags!AQ514<>Worktags!AS514,Worktags!AQ514,\"\")","v":"SC6443"},{"$f":"IFERROR(VLOOKUP(B175,Worktags!AL:AO,2,FALSE),\"\")","v":"Prepaid Expenses"},{"$f":"IFERROR(VLOOKUP(C175,Worktags!O:T,2,FALSE),\"\")","v":"Production Services"},"All"]
[{"$f":"IF(B176<>\"\",IF(C176<>\"\",B176&\"_\"&C176&\" \"&D176&\"/\"&E176,B176&\" \"&D176),\"\")","v":"1400_SC6444 Prepaid Expenses/Promotional and Branded Items"},{"$f":"Worktags!AS516","v":"1400"},{"$f":"IF(Worktags!AQ516<>Worktags!AS516,Worktags!AQ516,\"\")","v":"SC6444"},{"$f":"IFERROR(VLOOKUP(B176,Worktags!AL:AO,2,FALSE),\"\")","v":"Prepaid Expenses"},{"$f":"IFERROR(VLOOKUP(C176,Worktags!O:T,2,FALSE),\"\")","v":"Promotional and Branded Items"},"All"]
[{"$f":"IF(B177<>\"\",IF(C177<>\"\",B177&\"_\"&C177&\" \"&D177&\"/\"&E177,B177&\" \"&D177),\"\")","v":"1400_SC6445 Prepaid Expenses/Public Safety Services"},{"$f":"Worktags!AS518","v":"1400"},{"$f":"IF(Worktags!AQ518<>Worktags!AS518,Worktags!AQ518,\"\")","v":"SC6445"},{"$f":"IFERROR(VLOOKUP(B177,Worktags!AL:AO,2,FALSE),\"\")","v":"Prepaid Expenses"},{"$f":"IFERROR(VLOOKUP(C177,Worktags!O:T,2,FALSE),\"\")","v":"Public Safety Services"},"All"]
[{"$f":"IF(B178<>\"\",IF(C178<>\"\",B178&\"_\"&C178&\" \"&D178&\"/\"&E178,B178&\" \"&D178),\"\")","v":"1400_SC6446 Prepaid Expenses/Publication Services"},{"$f":"Worktags!AS520","v":"1400"},{"$f":"IF(Worktags!AQ520<>Worktags!AS520,Worktags!AQ520,\"\")","v":"SC6446"},{"$f":"IFERROR(VLOOKUP(B178,Worktags!AL:AO,2,FALSE),\"\")","v":"Prepaid Expenses"},{"$f":"IFERROR(VLOOKUP(C178,Worktags!O:T,2,FALSE),\"\")","v":"Publication Services"},"All"]
[{"$f":"IF(B179<>\"\",IF(C179<>\"\",B179&\"_\"&C179&\" \"&D179&\"/\"&E179,B179&\" \"&D179),\"\")","v":"1400_SC6447 Prepaid Expenses/Real Estate - Rent/Lease <=1yr"},{"$f":"Worktags!AS522","v":"1400"},{"$f":"IF(Worktags!AQ522<>Worktags!AS522,Worktags!AQ522,\"\")","v":"SC6447"},{"$f":"IFERROR(VLOOKUP(B179,Worktags!AL:AO,2,FALSE),\"\")","v":"Prepaid Expenses"},{"$f":"IFERROR(VLOOKUP(C179,Worktags!O:T,2,FALSE),\"\")","v":"Real Estate - Rent/Lease <=1yr"},"All"]
[{"$f":"IF(B180<>\"\",IF(C180<>\"\",B180&\"_\"&C180&\" \"&D180&\"/\"&E180,B180&\" \"&D180),\"\")","v":"1400_SC6448 Prepaid Expenses/Real Estate - Rent/Lease >1yr"},{"$f":"Worktags!AS524","v":"1400"},{"$f":"IF(Worktags!AQ524<>Worktags!AS524,Worktags!AQ524,\"\")","v":"SC6448"},{"$f":"IFERROR(VLOOKUP(B180,Worktags!AL:AO,2,FALSE),\"\")","v":"Prepaid Expenses"},{"$f":"IFERROR(VLOOKUP(C180,Worktags!O:T,2,FALSE),\"\")","v":"Real Estate - Rent/Lease >1yr"},"All"]
[{"$f":"IF(B181<>\"\",IF(C181<>\"\",B181&\"_\"&C181&\" \"&D181&\"/\"&E181,B181&\" \"&D181),\"\")","v":"1400_SC6449 Prepaid Expenses/Rent/Lease < = 1 year"},{"$f":"Worktags!AS526","v":"1400"},{"$f":"IF(Worktags!AQ526<>Worktags!AS526,Worktags!AQ526,\"\")","v":"SC6449"},{"$f":"IFERROR(VLOOKUP(B181,Worktags!AL:AO,2,FALSE),\"\")","v":"Prepaid Expenses"},{"$f":"IFERROR(VLOOKUP(C181,Worktags!O:T,2,FALSE),\"\")","v":"Rent/Lease < = 1 year"},"All"]
[{"$f":"IF(B182<>\"\",IF(C182<>\"\",B182&\"_\"&C182&\" \"&D182&\"/\"&E182,B182&\" \"&D182),\"\")","v":"1400_SC6450 Prepaid Expenses/Rent/Lease >1 Year"},{"$f":"Worktags!AS530","v":"1400"},{"$f":"IF(Worktags!AQ530<>Worktags!AS530,Worktags!AQ530,\"\")","v":"SC6450"},{"$f":"IFERROR(VLOOKUP(B182,Worktags!AL:AO,2,FALSE),\"\")","v":"Prepaid Expenses"},{"$f":"IFERROR(VLOOKUP(C182,Worktags!O:T,2,FALSE),\"\")","v":"Rent/Lease >1 Year"},"All"]
[{"$f":"IF(B183<>\"\",IF(C183<>\"\",B183&\"_\"&C183&\" \"&D183&\"/\"&E183,B183&\" \"&D183),\"\")","v":"1400_SC6451 Prepaid Expenses/Research Subjects"},{"$f":"Worktags!AS534","v":"1400"},{"$f":"IF(Worktags!AQ534<>Worktags!AS534,Worktags!AQ534,\"\")","v":"SC6451"},{"$f":"IFERROR(VLOOKUP(B183,Worktags!AL:AO,2,FALSE),\"\")","v":"Prepaid Expenses"},{"$f":"IFERROR(VLOOKUP(C183,Worktags!O:T,2,FALSE),\"\")","v":"Research Subjects"},"All"]
[{"$f":"IF(B184<>\"\",IF(C184<>\"\",B184&\"_\"&C184&\" \"&D184&\"/\"&E184,B184&\" \"&D184),\"\")","v":"1400_SC6452 Prepaid Expenses/Royalties and Licensing Fees"},{"$f":"Worktags!AS536","v":"1400"},{"$f":"IF(Worktags!AQ536<>Worktags!AS536,Worktags!AQ536,\"\")","v":"SC6452"},{"$f":"IFERROR(VLOOKUP(B184,Worktags!AL:AO,2,FALSE),\"\")","v":"Prepaid Expenses"},{"$f":"IFERROR(VLOOKUP(C184,Worktags!O:T,2,FALSE),\"\")","v":"Royalties and Licensing Fees"},"All"]
[{"$f":"IF(B185<>\"\",IF(C185<>\"\",B185&\"_\"&C185&\" \"&D185&\"/\"&E185,B185&\" \"&D185),\"\")","v":"1400_SC6453 Prepaid Expenses/Scientific Services"},{"$f":"Worktags!AS538","v":"1400"},{"$f":"IF(Worktags!AQ538<>Worktags!AS538,Worktags!AQ538,\"\")","v":"SC6453"},{"$f":"IFERROR(VLOOKUP(B185,Worktags!AL:AO,2,FALSE),\"\")","v":"Prepaid Expenses"},{"$f":"IFERROR(VLOOKUP(C185,Worktags!O:T,2,FALSE),\"\")","v":"Scientific Services"},"All"]
[{"$f":"IF(B186<>\"\",IF(C186<>\"\",B186&\"_\"&C186&\" \"&D186&\"/\"&E186,B186&\" \"&D186),\"\")","v":"1400_SC6454 Prepaid Expenses/Screening Services"},{"$f":"Worktags!AS540","v":"1400"},{"$f":"IF(Worktags!AQ540<>Worktags!AS540,Worktags!AQ540,\"\")","v":"SC6454"},{"$f":"IFERROR(VLOOKUP(B186,Worktags!AL:AO,2,FALSE),\"\")","v":"Prepaid Expenses"},{"$f":"IFERROR(VLOOKUP(C186,Worktags!O:T,2,FALSE),\"\")","v":"Screening Services"},"All"]
[{"$f":"IF(B187<>\"\",IF(C187<>\"\",B187&\"_\"&C187&\" \"&D187&\"/\"&E187,B187&\" \"&D187),\"\")","v":"1400_SC6455 Prepaid Expenses/Services (not otherwise specified)"},{"$f":"Worktags!AS542","v":"1400"},{"$f":"IF(Worktags!AQ542<>Worktags!AS542,Worktags!AQ542,\"\")","v":"SC6455"},{"$f":"IFERROR(VLOOKUP(B187,Worktags!AL:AO,2,FALSE),\"\")","v":"Prepaid Expenses"},{"$f":"IFERROR(VLOOKUP(C187,Worktags!O:T,2,FALSE),\"\")","v":"Services (not otherwise specified)"},"All"]
[{"$f":"IF(B188<>\"\",IF(C188<>\"\",B188&\"_\"&C188&\" \"&D188&\"/\"&E188,B188&\" \"&D188),\"\")","v":"1400_SC6456 Prepaid Expenses/Shared Partner Services"},{"$f":"Worktags!AS546","v":"1400"},{"$f":"IF(Worktags!AQ546<>Worktags!AS546,Worktags!AQ546,\"\")","v":"SC6456"},{"$f":"IFERROR(VLOOKUP(B188,Worktags!AL:AO,2,FALSE),\"\")","v":"Prepaid Expenses"},{"$f":"IFERROR(VLOOKUP(C188,Worktags!O:T,2,FALSE),\"\")","v":"Shared Partner Services"},"All"]
[{"$f":"IF(B189<>\"\",IF(C189<>\"\",B189&\"_\"&C189&\" \"&D189&\"/\"&E189,B189&\" \"&D189),\"\")","v":"1400_SC6457 Prepaid Expenses/Student Teacher Supervision"},{"$f":"Worktags!AS548","v":"1400"},{"$f":"IF(Worktags!AQ548<>Worktags!AS548,Worktags!AQ548,\"\")","v":"SC6457"},{"$f":"IFERROR(VLOOKUP(B189,Worktags!AL:AO,2,FALSE),\"\")","v":"Prepaid Expenses"},{"$f":"IFERROR(VLOOKUP(C189,Worktags!O:T,2,FALSE),\"\")","v":"Student Teacher Supervision"},"All"]
[{"$f":"IF(B190<>\"\",IF(C190<>\"\",B190&\"_\"&C190&\" \"&D190&\"/\"&E190,B190&\" \"&D190),\"\")","v":"1400_SC6458 Prepaid Expenses/Subscriptions"},{"$f":"Worktags!AS550","v":"1400"},{"$f":"IF(Worktags!AQ550<>Worktags!AS550,Worktags!AQ550,\"\")","v":"SC6458"},{"$f":"IFERROR(VLOOKUP(B190,Worktags!AL:AO,2,FALSE),\"\")","v":"Prepaid Expenses"},{"$f":"IFERROR(VLOOKUP(C190,Worktags!O:T,2,FALSE),\"\")","v":"Subscriptions"},"All"]
[{"$f":"IF(B191<>\"\",IF(C191<>\"\",B191&\"_\"&C191&\" \"&D191&\"/\"&E191,B191&\" \"&D191),\"\")","v":"1400_SC6459 Prepaid Expenses/Taxes"},{"$f":"Worktags!AS552","v":"1400"},{"$f":"IF(Worktags!AQ552<>Worktags!AS552,Worktags!AQ552,\"\")","v":"SC6459"},{"$f":"IFERROR(VLOOKUP(B191,Worktags!AL:AO,2,FALSE),\"\")","v":"Prepaid Expenses"},{"$f":"IFERROR(VLOOKUP(C191,Worktags!O:T,2,FALSE),\"\")","v":"Taxes"},"All"]
[{"$f":"IF(B192<>\"\",IF(C192<>\"\",B192&\"_\"&C192&\" \"&D192&\"/\"&E192,B192&\" \"&D192),\"\")","v":"1400_SC6460 Prepaid Expenses/Testing Services"},{"$f":"Worktags!AS554","v":"1400"},{"$f":"IF(Worktags!AQ554<>Worktags!AS554,Worktags!AQ554,\"\")","v":"SC6460"},{"$f":"IFERROR(VLOOKUP(B192,Worktags!AL:AO,2,FALSE),\"\")","v":"Prepaid Expenses"},{"$f":"IFERROR(VLOOKUP(C192,Worktags!O:T,2,FALSE),\"\")","v":"Testing Services"},"All"]
[{"$f":"IF(B193<>\"\",IF(C193<>\"\",B193&\"_\"&C193&\" \"&D193&\"/\"&E193,B193&\" \"&D193),\"\")","v":"1400_SC6461 Prepaid Expenses/TV, Media Subscription Services"},{"$f":"Worktags!AS556","v":"1400"},{"$f":"IF(Worktags!AQ556<>Worktags!AS556,Worktags!AQ556,\"\")","v":"SC6461"},{"$f":"IFERROR(VLOOKUP(B193,Worktags!AL:AO,2,FALSE),\"\")","v":"Prepaid Expenses"},{"$f":"IFERROR(VLOOKUP(C193,Worktags!O:T,2,FALSE),\"\")","v":"TV, Media Subscription Services"},"All"]
[{"$f":"IF(B194<>\"\",IF(C194<>\"\",B194&\"_\"&C194&\" \"&D194&\"/\"&E194,B194&\" \"&D194),\"\")","v":"1400_SC6463 Prepaid Expenses/Waste Disposal Services"},{"$f":"Worktags!AS559","v":"1400"},{"$f":"IF(Worktags!AQ559<>Worktags!AS559,Worktags!AQ559,\"\")","v":"SC6463"},{"$f":"IFERROR(VLOOKUP(B194,Worktags!AL:AO,2,FALSE),\"\")","v":"Prepaid Expenses"},{"$f":"IFERROR(VLOOKUP(C194,Worktags!O:T,2,FALSE),\"\")","v":"Waste Disposal Services"},"All"]
[{"$f":"IF(B195<>\"\",IF(C195<>\"\",B195&\"_\"&C195&\" \"&D195&\"/\"&E195,B195&\" \"&D195),\"\")","v":"1400_SC6466 Prepaid Expenses/Income Taxes"},{"$f":"Worktags!AS563","v":"1400"},{"$f":"IF(Worktags!AQ563<>Worktags!AS563,Worktags!AQ563,\"\")","v":"SC6466"},{"$f":"IFERROR(VLOOKUP(B195,Worktags!AL:AO,2,FALSE),\"\")","v":"Prepaid Expenses"},{"$f":"IFERROR(VLOOKUP(C195,Worktags!O:T,2,FALSE),\"\")","v":"Income Taxes"},"All"]
[{"$f":"IF(B196<>\"\",IF(C196<>\"\",B196&\"_\"&C196&\" \"&D196&\"/\"&E196,B196&\" \"&D196),\"\")","v":"1400_SC6499 Prepaid Expenses/General and Administrative (reclass)"},{"$f":"Worktags!AS566","v":"1400"},{"$f":"IF(Worktags!AQ566<>Worktags!AS566,Worktags!AQ566,\"\")","v":"SC6499"},{"$f":"IFERROR(VLOOKUP(B196,Worktags!AL:AO,2,FALSE),\"\")","v":"Prepaid Expenses"},{"$f":"IFERROR(VLOOKUP(C196,Worktags!O:T,2,FALSE),\"\")","v":"General and Administrative (reclass)"},"All"]
[{"$f":"IF(B197<>\"\",IF(C197<>\"\",B197&\"_\"&C197&\" \"&D197&\"/\"&E197,B197&\" \"&D197),\"\")","v":"1400_SC6701 Prepaid Expenses/Building Access Supplies"},{"$f":"Worktags!AS571","v":"1400"},{"$f":"IF(Worktags!AQ571<>Worktags!AS571,Worktags!AQ571,\"\")","v":"SC6701"},{"$f":"IFERROR(VLOOKUP(B197,Worktags!AL:AO,2,FALSE),\"\")","v":"Prepaid Expenses"},{"$f":"IFERROR(VLOOKUP(C197,Worktags!O:T,2,FALSE),\"\")","v":"Building Access Supplies"},"All"]
[{"$f":"IF(B198<>\"\",IF(C198<>\"\",B198&\"_\"&C198&\" \"&D198&\"/\"&E198,B198&\" \"&D198),\"\")","v":"1400_SC6702 Prepaid Expenses/Building Construction and Improvements"},{"$f":"Worktags!AS578","v":"1400"},{"$f":"IF(Worktags!AQ578<>Worktags!AS578,Worktags!AQ578,\"\")","v":"SC6702"},{"$f":"IFERROR(VLOOKUP(B198,Worktags!AL:AO,2,FALSE),\"\")","v":"Prepaid Expenses"},{"$f":"IFERROR(VLOOKUP(C198,Worktags!O:T,2,FALSE),\"\")","v":"Building Construction and Improvements"},"All"]
[{"$f":"IF(B199<>\"\",IF(C199<>\"\",B199&\"_\"&C199&\" \"&D199&\"/\"&E199,B199&\" \"&D199),\"\")","v":"1400_SC6703 Prepaid Expenses/Building Furnishings"},{"$f":"Worktags!AS585","v":"1400"},{"$f":"IF(Worktags!AQ585<>Worktags!AS585,Worktags!AQ585,\"\")","v":"SC6703"},{"$f":"IFERROR(VLOOKUP(B199,Worktags!AL:AO,2,FALSE),\"\")","v":"Prepaid Expenses"},{"$f":"IFERROR(VLOOKUP(C199,Worktags!O:T,2,FALSE),\"\")","v":"Building Furnishings"},"All"]
[{"$f":"IF(B200<>\"\",IF(C200<>\"\",B200&\"_\"&C200&\" \"&D200&\"/\"&E200,B200&\" \"&D200),\"\")","v":"1400_SC6704 Prepaid Expenses/Building Materials - Finishing"},{"$f":"Worktags!AS592","v":"1400"},{"$f":"IF(Worktags!AQ592<>Worktags!AS592,Worktags!AQ592,\"\")","v":"SC6704"},{"$f":"IFERROR(VLOOKUP(B200,Worktags!AL:AO,2,FALSE),\"\")","v":"Prepaid Expenses"},{"$f":"IFERROR(VLOOKUP(C200,Worktags!O:T,2,FALSE),\"\")","v":"Building Materials - Finishing"},"All"]
[{"$f":"IF(B201<>\"\",IF(C201<>\"\",B201&\"_\"&C201&\" \"&D201&\"/\"&E201,B201&\" \"&D201),\"\")","v":"1400_SC6705 Prepaid Expenses/Building Materials - Raw"},{"$f":"Worktags!AS599","v":"1400"},{"$f":"IF(Worktags!AQ599<>Worktags!AS599,Worktags!AQ599,\"\")","v":"SC6705"},{"$f":"IFERROR(VLOOKUP(B201,Worktags!AL:AO,2,FALSE),\"\")","v":"Prepaid Expenses"},{"$f":"IFERROR(VLOOKUP(C201,Worktags!O:T,2,FALSE),\"\")","v":"Building Materials - Raw"},"All"]
[{"$f":"IF(B202<>\"\",IF(C202<>\"\",B202&\"_\"&C202&\" \"&D202&\"/\"&E202,B202&\" \"&D202),\"\")","v":"1400_SC6706 Prepaid Expenses/Electrical Devices"},{"$f":"Worktags!AS606","v":"1400"},{"$f":"IF(Worktags!AQ606<>Worktags!AS606,Worktags!AQ606,\"\")","v":"SC6706"},{"$f":"IFERROR(VLOOKUP(B202,Worktags!AL:AO,2,FALSE),\"\")","v":"Prepaid Expenses"},{"$f":"IFERROR(VLOOKUP(C202,Worktags!O:T,2,FALSE),\"\")","v":"Electrical Devices"},"All"]
[{"$f":"IF(B203<>\"\",IF(C203<>\"\",B203&\"_\"&C203&\" \"&D203&\"/\"&E203,B203&\" \"&D203),\"\")","v":"1400_SC6707 Prepaid Expenses/Electrical Supplies"},{"$f":"Worktags!AS613","v":"1400"},{"$f":"IF(Worktags!AQ613<>Worktags!AS613,Worktags!AQ613,\"\")","v":"SC6707"},{"$f":"IFERROR(VLOOKUP(B203,Worktags!AL:AO,2,FALSE),\"\")","v":"Prepaid Expenses"},{"$f":"IFERROR(VLOOKUP(C203,Worktags!O:T,2,FALSE),\"\")","v":"Electrical Supplies"},"All"]
[{"$f":"IF(B204<>\"\",IF(C204<>\"\",B204&\"_\"&C204&\" \"&D204&\"/\"&E204,B204&\" \"&D204),\"\")","v":"1400_SC6708 Prepaid Expenses/Fans/Furnaces"},{"$f":"Worktags!AS618","v":"1400"},{"$f":"IF(Worktags!AQ618<>Worktags!AS618,Worktags!AQ618,\"\")","v":"SC6708"},{"$f":"IFERROR(VLOOKUP(B204,Worktags!AL:AO,2,FALSE),\"\")","v":"Prepaid Expenses"},{"$f":"IFERROR(VLOOKUP(C204,Worktags!O:T,2,FALSE),\"\")","v":"Fans/Furnaces"},"All"]
[{"$f":"IF(B205<>\"\",IF(C205<>\"\",B205&\"_\"&C205&\" \"&D205&\"/\"&E205,B205&\" \"&D205),\"\")","v":"1400_SC6709 Prepaid Expenses/Flooring Materials"},{"$f":"Worktags!AS625","v":"1400"},{"$f":"IF(Worktags!AQ625<>Worktags!AS625,Worktags!AQ625,\"\")","v":"SC6709"},{"$f":"IFERROR(VLOOKUP(B205,Worktags!AL:AO,2,FALSE),\"\")","v":"Prepaid Expenses"},{"$f":"IFERROR(VLOOKUP(C205,Worktags!O:T,2,FALSE),\"\")","v":"Flooring Materials"},"All"]
[{"$f":"IF(B206<>\"\",IF(C206<>\"\",B206&\"_\"&C206&\" \"&D206&\"/\"&E206,B206&\" \"&D206),\"\")","v":"1400_SC6710 Prepaid Expenses/Furnishing Accessories"},{"$f":"Worktags!AS632","v":"1400"},{"$f":"IF(Worktags!AQ632<>Worktags!AS632,Worktags!AQ632,\"\")","v":"SC6710"},{"$f":"IFERROR(VLOOKUP(B206,Worktags!AL:AO,2,FALSE),\"\")","v":"Prepaid Expenses"},{"$f":"IFERROR(VLOOKUP(C206,Worktags!O:T,2,FALSE),\"\")","v":"Furnishing Accessories"},"All"]
[{"$f":"IF(B207<>\"\",IF(C207<>\"\",B207&\"_\"&C207&\" \"&D207&\"/\"&E207,B207&\" \"&D207),\"\")","v":"1400_SC6711 Prepaid Expenses/Grounds and Landscaping Supplies"},{"$f":"Worktags!AS639","v":"1400"},{"$f":"IF(Worktags!AQ639<>Worktags!AS639,Worktags!AQ639,\"\")","v":"SC6711"},{"$f":"IFERROR(VLOOKUP(B207,Worktags!AL:AO,2,FALSE),\"\")","v":"Prepaid Expenses"},{"$f":"IFERROR(VLOOKUP(C207,Worktags!O:T,2,FALSE),\"\")","v":"Grounds and Landscaping Supplies"},"All"]
[{"$f":"IF(B208<>\"\",IF(C208<>\"\",B208&\"_\"&C208&\" \"&D208&\"/\"&E208,B208&\" \"&D208),\"\")","v":"1400_SC6712 Prepaid Expenses/Grounds Services"},{"$f":"Worktags!AS646","v":"1400"},{"$f":"IF(Worktags!AQ646<>Worktags!AS646,Worktags!AQ646,\"\")","v":"SC6712"},{"$f":"IFERROR(VLOOKUP(B208,Worktags!AL:AO,2,FALSE),\"\")","v":"Prepaid Expenses"},{"$f":"IFERROR(VLOOKUP(C208,Worktags!O:T,2,FALSE),\"\")","v":"Grounds Services"},"All"]
[{"$f":"IF(B209<>\"\",IF(C209<>\"\",B209&\"_\"&C209&\" \"&D209&\"/\"&E209,B209&\" \"&D209),\"\")","v":"1400_SC6713 Prepaid Expenses/Industrial Fixtures"},{"$f":"Worktags!AS648","v":"1400"},{"$f":"IF(Worktags!AQ648<>Worktags!AS648,Worktags!AQ648,\"\")","v":"SC6713"},{"$f":"IFERROR(VLOOKUP(B209,Worktags!AL:AO,2,FALSE),\"\")","v":"Prepaid Expenses"},{"$f":"IFERROR(VLOOKUP(C209,Worktags!O:T,2,FALSE),\"\")","v":"Industrial Fixtures"},"All"]
[{"$f":"IF(B210<>\"\",IF(C210<>\"\",B210&\"_\"&C210&\" \"&D210&\"/\"&E210,B210&\" \"&D210),\"\")","v":"1400_SC6714 Prepaid Expenses/Lighting Fixtures and Lamps"},{"$f":"Worktags!AS655","v":"1400"},{"$f":"IF(Worktags!AQ655<>Worktags!AS655,Worktags!AQ655,\"\")","v":"SC6714"},{"$f":"IFERROR(VLOOKUP(B210,Worktags!AL:AO,2,FALSE),\"\")","v":"Prepaid Expenses"},{"$f":"IFERROR(VLOOKUP(C210,Worktags!O:T,2,FALSE),\"\")","v":"Lighting Fixtures and Lamps"},"All"]
[{"$f":"IF(B211<>\"\",IF(C211<>\"\",B211&\"_\"&C211&\" \"&D211&\"/\"&E211,B211&\" \"&D211),\"\")","v":"1400_SC6715 Prepaid Expenses/Plumbing Fixtures"},{"$f":"Worktags!AS662","v":"1400"},{"$f":"IF(Worktags!AQ662<>Worktags!AS662,Worktags!AQ662,\"\")","v":"SC6715"},{"$f":"IFERROR(VLOOKUP(B211,Worktags!AL:AO,2,FALSE),\"\")","v":"Prepaid Expenses"},{"$f":"IFERROR(VLOOKUP(C211,Worktags!O:T,2,FALSE),\"\")","v":"Plumbing Fixtures"},"All"]
[{"$f":"IF(B212<>\"\",IF(C212<>\"\",B212&\"_\"&C212&\" \"&D212&\"/\"&E212,B212&\" \"&D212),\"\")","v":"1400_SC6718 Prepaid Expenses/Signage, Electronic"},{"$f":"Worktags!AS675","v":"1400"},{"$f":"IF(Worktags!AQ675<>Worktags!AS675,Worktags!AQ675,\"\")","v":"SC6718"},{"$f":"IFERROR(VLOOKUP(B212,Worktags!AL:AO,2,FALSE),\"\")","v":"Prepaid Expenses"},{"$f":"IFERROR(VLOOKUP(C212,Worktags!O:T,2,FALSE),\"\")","v":"Signage, Electronic"},"All"]
[{"$f":"IF(B213<>\"\",IF(C213<>\"\",B213&\"_\"&C213&\" \"&D213&\"/\"&E213,B213&\" \"&D213),\"\")","v":"1400_SC6719 Prepaid Expenses/Signage, Non-electronic"},{"$f":"Worktags!AS682","v":"1400"},{"$f":"IF(Worktags!AQ682<>Worktags!AS682,Worktags!AQ682,\"\")","v":"SC6719"},{"$f":"IFERROR(VLOOKUP(B213,Worktags!AL:AO,2,FALSE),\"\")","v":"Prepaid Expenses"},{"$f":"IFERROR(VLOOKUP(C213,Worktags!O:T,2,FALSE),\"\")","v":"Signage, Non-electronic"},"All"]
[{"$f":"IF(B214<>\"\",IF(C214<>\"\",B214&\"_\"&C214&\" \"&D214&\"/\"&E214,B214&\" \"&D214),\"\")","v":"1400_SC6720 Prepaid Expenses/Specialized Trade Services - Physical Facilities"},{"$f":"Worktags!AS689","v":"1400"},{"$f":"IF(Worktags!AQ689<>Worktags!AS689,Worktags!AQ689,\"\")","v":"SC6720"},{"$f":"IFERROR(VLOOKUP(B214,Worktags!AL:AO,2,FALSE),\"\")","v":"Prepaid Expenses"},{"$f":"IFERROR(VLOOKUP(C214,Worktags!O:T,2,FALSE),\"\")","v":"Specialized Trade Services - Physical Facilities"},"All"]
[{"$f":"IF(B215<>\"\",IF(C215<>\"\",B215&\"_\"&C215&\" \"&D215&\"/\"&E215,B215&\" \"&D215),\"\")","v":"1400_SC6721 Prepaid Expenses/Stage and Studio Lighting (Asset Track)"},{"$f":"Worktags!AS693","v":"1400"},{"$f":"IF(Worktags!AQ693<>Worktags!AS693,Worktags!AQ693,\"\")","v":"SC6721"},{"$f":"IFERROR(VLOOKUP(B215,Worktags!AL:AO,2,FALSE),\"\")","v":"Prepaid Expenses"},{"$f":"IFERROR(VLOOKUP(C215,Worktags!O:T,2,FALSE),\"\")","v":"Stage and Studio Lighting (Asset Track)"},"All"]
[{"$f":"IF(B216<>\"\",IF(C216<>\"\",B216&\"_\"&C216&\" \"&D216&\"/\"&E216,B216&\" \"&D216),\"\")","v":"1400_SC6722 Prepaid Expenses/Utilities, Electricity"},{"$f":"Worktags!AS700","v":"1400"},{"$f":"IF(Worktags!AQ700<>Worktags!AS700,Worktags!AQ700,\"\")","v":"SC6722"},{"$f":"IFERROR(VLOOKUP(B216,Worktags!AL:AO,2,FALSE),\"\")","v":"Prepaid Expenses"},{"$f":"IFERROR(VLOOKUP(C216,Worktags!O:T,2,FALSE),\"\")","v":"Utilities, Electricity"},"All"]
[{"$f":"IF(B217<>\"\",IF(C217<>\"\",B217&\"_\"&C217&\" \"&D217&\"/\"&E217,B217&\" \"&D217),\"\")","v":"1400_SC6723 Prepaid Expenses/Utilities, Garbage Hauling"},{"$f":"Worktags!AS702","v":"1400"},{"$f":"IF(Worktags!AQ702<>Worktags!AS702,Worktags!AQ702,\"\")","v":"SC6723"},{"$f":"IFERROR(VLOOKUP(B217,Worktags!AL:AO,2,FALSE),\"\")","v":"Prepaid Expenses"},{"$f":"IFERROR(VLOOKUP(C217,Worktags!O:T,2,FALSE),\"\")","v":"Utilities, Garbage Hauling"},"All"]
[{"$f":"IF(B218<>\"\",IF(C218<>\"\",B218&\"_\"&C218&\" \"&D218&\"/\"&E218,B218&\" \"&D218),\"\")","v":"1400_SC6724 Prepaid Expenses/Utilities, Heat/Cool Unit"},{"$f":"Worktags!AS704","v":"1400"},{"$f":"IF(Worktags!AQ704<>Worktags!AS704,Worktags!AQ704,\"\")","v":"SC6724"},{"$f":"IFERROR(VLOOKUP(B218,Worktags!AL:AO,2,FALSE),\"\")","v":"Prepaid Expenses"},{"$f":"IFERROR(VLOOKUP(C218,Worktags!O:T,2,FALSE),\"\")","v":"Utilities, Heat/Cool Unit"},"All"]
[{"$f":"IF(B219<>\"\",IF(C219<>\"\",B219&\"_\"&C219&\" \"&D219&\"/\"&E219,B219&\" \"&D219),\"\")","v":"1400_SC6725 Prepaid Expenses/Utilities, Natural Gas"},{"$f":"Worktags!AS706","v":"1400"},{"$f":"IF(Worktags!AQ706<>Worktags!AS706,Worktags!AQ706,\"\")","v":"SC6725"},{"$f":"IFERROR(VLOOKUP(B219,Worktags!AL:AO,2,FALSE),\"\")","v":"Prepaid Expenses"},{"$f":"IFERROR(VLOOKUP(C219,Worktags!O:T,2,FALSE),\"\")","v":"Utilities, Natural Gas"},"All"]
[{"$f":"IF(B220<>\"\",IF(C220<>\"\",B220&\"_\"&C220&\" \"&D220&\"/\"&E220,B220&\" \"&D220),\"\")","v":"1400_SC6726 Prepaid Expenses/Utilities, Other"},{"$f":"Worktags!AS708","v":"1400"},{"$f":"IF(Worktags!AQ708<>Worktags!AS708,Worktags!AQ708,\"\")","v":"SC6726"},{"$f":"IFERROR(VLOOKUP(B220,Worktags!AL:AO,2,FALSE),\"\")","v":"Prepaid Expenses"},{"$f":"IFERROR(VLOOKUP(C220,Worktags!O:T,2,FALSE),\"\")","v":"Utilities, Other"},"All"]
[{"$f":"IF(B221<>\"\",IF(C221<>\"\",B221&\"_\"&C221&\" \"&D221&\"/\"&E221,B221&\" \"&D221),\"\")","v":"1400_SC6727 Prepaid Expenses/Utilities, Sewer"},{"$f":"Worktags!AS710","v":"1400"},{"$f":"IF(Worktags!AQ710<>Worktags!AS710,Worktags!AQ710,\"\")","v":"SC6727"},{"$f":"IFERROR(VLOOKUP(B221,Worktags!AL:AO,2,FALSE),\"\")","v":"Prepaid Expenses"},{"$f":"IFERROR(VLOOKUP(C221,Worktags!O:T,2,FALSE),\"\")","v":"Utilities, Sewer"},"All"]
[{"$f":"IF(B222<>\"\",IF(C222<>\"\",B222&\"_\"&C222&\" \"&D222&\"/\"&E222,B222&\" \"&D222),\"\")","v":"1400_SC6728 Prepaid Expenses/Utilities, Water"},{"$f":"Worktags!AS712","v":"1400"},{"$f":"IF(Worktags!AQ712<>Worktags!AS712,Worktags!AQ712,\"\")","v":"SC6728"},{"$f":"IFERROR(VLOOKUP(B222,Worktags!AL:AO,2,FALSE),\"\")","v":"Prepaid Expenses"},{"$f":"IFERROR(VLOOKUP(C222,Worktags!O:T,2,FALSE),\"\")","v":"Utilities, Water"},"All"]
[{"$f":"IF(B223<>\"\",IF(C223<>\"\",B223&\"_\"&C223&\" \"&D223&\"/\"&E223,B223&\" \"&D223),\"\")","v":"1400_SC6729 Prepaid Expenses/Warehouse Fixtures"},{"$f":"Worktags!AS714","v":"1400"},{"$f":"IF(Worktags!AQ714<>Worktags!AS714,Worktags!AQ714,\"\")","v":"SC6729"},{"$f":"IFERROR(VLOOKUP(B223,Worktags!AL:AO,2,FALSE),\"\")","v":"Prepaid Expenses"},{"$f":"IFERROR(VLOOKUP(C223,Worktags!O:T,2,FALSE),\"\")","v":"Warehouse Fixtures"},"All"]
[{"$f":"IF(B224<>\"\",IF(C224<>\"\",B224&\"_\"&C224&\" \"&D224&\"/\"&E224,B224&\" \"&D224),\"\")","v":"1400_SC6730 Prepaid Expenses/Window Treatments"},{"$f":"Worktags!AS721","v":"1400"},{"$f":"IF(Worktags!AQ721<>Worktags!AS721,Worktags!AQ721,\"\")","v":"SC6730"},{"$f":"IFERROR(VLOOKUP(B224,Worktags!AL:AO,2,FALSE),\"\")","v":"Prepaid Expenses"},{"$f":"IFERROR(VLOOKUP(C224,Worktags!O:T,2,FALSE),\"\")","v":"Window Treatments"},"All"]
[{"$f":"IF(B225<>\"\",IF(C225<>\"\",B225&\"_\"&C225&\" \"&D225&\"/\"&E225,B225&\" \"&D225),\"\")","v":"1400_SC6799 Prepaid Expenses/Physical Facilities (reclass)"},{"$f":"Worktags!AS732","v":"1400"},{"$f":"IF(Worktags!AQ732<>Worktags!AS732,Worktags!AQ732,\"\")","v":"SC6799"},{"$f":"IFERROR(VLOOKUP(B225,Worktags!AL:AO,2,FALSE),\"\")","v":"Prepaid Expenses"},{"$f":"IFERROR(VLOOKUP(C225,Worktags!O:T,2,FALSE),\"\")","v":"Physical Facilities (reclass)"},"All"]
[{"$f":"IF(B226<>\"\",IF(C226<>\"\",B226&\"_\"&C226&\" \"&D226&\"/\"&E226,B226&\" \"&D226),\"\")","v":"1400_SC6901 Prepaid Expenses/Art Equipment"},{"$f":"Worktags!AS736","v":"1400"},{"$f":"IF(Worktags!AQ736<>Worktags!AS736,Worktags!AQ736,\"\")","v":"SC6901"},{"$f":"IFERROR(VLOOKUP(B226,Worktags!AL:AO,2,FALSE),\"\")","v":"Prepaid Expenses"},{"$f":"IFERROR(VLOOKUP(C226,Worktags!O:T,2,FALSE),\"\")","v":"Art Equipment"},"All"]
[{"$f":"IF(B227<>\"\",IF(C227<>\"\",B227&\"_\"&C227&\" \"&D227&\"/\"&E227,B227&\" \"&D227),\"\")","v":"1400_SC6902 Prepaid Expenses/Athletic Equipment"},{"$f":"Worktags!AS743","v":"1400"},{"$f":"IF(Worktags!AQ743<>Worktags!AS743,Worktags!AQ743,\"\")","v":"SC6902"},{"$f":"IFERROR(VLOOKUP(B227,Worktags!AL:AO,2,FALSE),\"\")","v":"Prepaid Expenses"},{"$f":"IFERROR(VLOOKUP(C227,Worktags!O:T,2,FALSE),\"\")","v":"Athletic Equipment"},"All"]
[{"$f":"IF(B228<>\"\",IF(C228<>\"\",B228&\"_\"&C228&\" \"&D228&\"/\"&E228,B228&\" \"&D228),\"\")","v":"1400_SC6903 Prepaid Expenses/Audio Visual Equipment (Asset Track)"},{"$f":"Worktags!AS750","v":"1400"},{"$f":"IF(Worktags!AQ750<>Worktags!AS750,Worktags!AQ750,\"\")","v":"SC6903"},{"$f":"IFERROR(VLOOKUP(B228,Worktags!AL:AO,2,FALSE),\"\")","v":"Prepaid Expenses"},{"$f":"IFERROR(VLOOKUP(C228,Worktags!O:T,2,FALSE),\"\")","v":"Audio Visual Equipment (Asset Track)"},"All"]
[{"$f":"IF(B229<>\"\",IF(C229<>\"\",B229&\"_\"&C229&\" \"&D229&\"/\"&E229,B229&\" \"&D229),\"\")","v":"1400_SC6904 Prepaid Expenses/Communication Devices (Asset Track)"},{"$f":"Worktags!AS757","v":"1400"},{"$f":"IF(Worktags!AQ757<>Worktags!AS757,Worktags!AQ757,\"\")","v":"SC6904"},{"$f":"IFERROR(VLOOKUP(B229,Worktags!AL:AO,2,FALSE),\"\")","v":"Prepaid Expenses"},{"$f":"IFERROR(VLOOKUP(C229,Worktags!O:T,2,FALSE),\"\")","v":"Communication Devices (Asset Track)"},"All"]
[{"$f":"IF(B230<>\"\",IF(C230<>\"\",B230&\"_\"&C230&\" \"&D230&\"/\"&E230,B230&\" \"&D230),\"\")","v":"1400_SC6905 Prepaid Expenses/Computer Hardware (Asset Track)"},{"$f":"Worktags!AS764","v":"1400"},{"$f":"IF(Worktags!AQ764<>Worktags!AS764,Worktags!AQ764,\"\")","v":"SC6905"},{"$f":"IFERROR(VLOOKUP(B230,Worktags!AL:AO,2,FALSE),\"\")","v":"Prepaid Expenses"},{"$f":"IFERROR(VLOOKUP(C230,Worktags!O:T,2,FALSE),\"\")","v":"Computer Hardware (Asset Track)"},"All"]
[{"$f":"IF(B231<>\"\",IF(C231<>\"\",B231&\"_\"&C231&\" \"&D231&\"/\"&E231,B231&\" \"&D231),\"\")","v":"1400_SC6906 Prepaid Expenses/Data Network Equipment (Asset Track)"},{"$f":"Worktags!AS771","v":"1400"},{"$f":"IF(Worktags!AQ771<>Worktags!AS771,Worktags!AQ771,\"\")","v":"SC6906"},{"$f":"IFERROR(VLOOKUP(B231,Worktags!AL:AO,2,FALSE),\"\")","v":"Prepaid Expenses"},{"$f":"IFERROR(VLOOKUP(C231,Worktags!O:T,2,FALSE),\"\")","v":"Data Network Equipment (Asset Track)"},"All"]
[{"$f":"IF(B232<>\"\",IF(C232<>\"\",B232&\"_\"&C232&\" \"&D232&\"/\"&E232,B232&\" \"&D232),\"\")","v":"1400_SC6907 Prepaid Expenses/Equipment (not otherwise specified) (Asset Track)"},{"$f":"Worktags!AS778","v":"1400"},{"$f":"IF(Worktags!AQ778<>Worktags!AS778,Worktags!AQ778,\"\")","v":"SC6907"},{"$f":"IFERROR(VLOOKUP(B232,Worktags!AL:AO,2,FALSE),\"\")","v":"Prepaid Expenses"},{"$f":"IFERROR(VLOOKUP(C232,Worktags!O:T,2,FALSE),\"\")","v":"Equipment (not otherwise specified) (Asset Track)"},"All"]
[{"$f":"IF(B233<>\"\",IF(C233<>\"\",B233&\"_\"&C233&\" \"&D233&\"/\"&E233,B233&\" \"&D233),\"\")","v":"1400_SC6908 Prepaid Expenses/Equipment Maintenance (not otherwise specified)"},{"$f":"Worktags!AS785","v":"1400"},{"$f":"IF(Worktags!AQ785<>Worktags!AS785,Worktags!AQ785,\"\")","v":"SC6908"},{"$f":"IFERROR(VLOOKUP(B233,Worktags!AL:AO,2,FALSE),\"\")","v":"Prepaid Expenses"},{"$f":"IFERROR(VLOOKUP(C233,Worktags!O:T,2,FALSE),\"\")","v":"Equipment Maintenance (not otherwise specified)"},"All"]
[{"$f":"IF(B234<>\"\",IF(C234<>\"\",B234&\"_\"&C234&\" \"&D234&\"/\"&E234,B234&\" \"&D234),\"\")","v":"1400_SC6909 Prepaid Expenses/Firearms"},{"$f":"Worktags!AS787","v":"1400"},{"$f":"IF(Worktags!AQ787<>Worktags!AS787,Worktags!AQ787,\"\")","v":"SC6909"},{"$f":"IFERROR(VLOOKUP(B234,Worktags!AL:AO,2,FALSE),\"\")","v":"Prepaid Expenses"},{"$f":"IFERROR(VLOOKUP(C234,Worktags!O:T,2,FALSE),\"\")","v":"Firearms"},"All"]
[{"$f":"IF(B235<>\"\",IF(C235<>\"\",B235&\"_\"&C235&\" \"&D235&\"/\"&E235,B235&\" \"&D235),\"\")","v":"1400_SC6910 Prepaid Expenses/Food Service Equipment"},{"$f":"Worktags!AS792","v":"1400"},{"$f":"IF(Worktags!AQ792<>Worktags!AS792,Worktags!AQ792,\"\")","v":"SC6910"},{"$f":"IFERROR(VLOOKUP(B235,Worktags!AL:AO,2,FALSE),\"\")","v":"Prepaid Expenses"},{"$f":"IFERROR(VLOOKUP(C235,Worktags!O:T,2,FALSE),\"\")","v":"Food Service Equipment"},"All"]
[{"$f":"IF(B236<>\"\",IF(C236<>\"\",B236&\"_\"&C236&\" \"&D236&\"/\"&E236,B236&\" \"&D236),\"\")","v":"1400_SC6911 Prepaid Expenses/Grants Capital Equipment"},{"$f":"Worktags!AS799","v":"1400"},{"$f":"IF(Worktags!AQ799<>Worktags!AS799,Worktags!AQ799,\"\")","v":"SC6911"},{"$f":"IFERROR(VLOOKUP(B236,Worktags!AL:AO,2,FALSE),\"\")","v":"Prepaid Expenses"},{"$f":"IFERROR(VLOOKUP(C236,Worktags!O:T,2,FALSE),\"\")","v":"Grants Capital Equipment"},"All"]
[{"$f":"IF(B237<>\"\",IF(C237<>\"\",B237&\"_\"&C237&\" \"&D237&\"/\"&E237,B237&\" \"&D237),\"\")","v":"1400_SC6912 Prepaid Expenses/Grants Non-Capital Equipment"},{"$f":"Worktags!AS804","v":"1400"},{"$f":"IF(Worktags!AQ804<>Worktags!AS804,Worktags!AQ804,\"\")","v":"SC6912"},{"$f":"IFERROR(VLOOKUP(B237,Worktags!AL:AO,2,FALSE),\"\")","v":"Prepaid Expenses"},{"$f":"IFERROR(VLOOKUP(C237,Worktags!O:T,2,FALSE),\"\")","v":"Grants Non-Capital Equipment"},"All"]
[{"$f":"IF(B238<>\"\",IF(C238<>\"\",B238&\"_\"&C238&\" \"&D238&\"/\"&E238,B238&\" \"&D238),\"\")","v":"1400_SC6913 Prepaid Expenses/Grounds Equipment"},{"$f":"Worktags!AS806","v":"1400"},{"$f":"IF(Worktags!AQ806<>Worktags!AS806,Worktags!AQ806,\"\")","v":"SC6913"},{"$f":"IFERROR(VLOOKUP(B238,Worktags!AL:AO,2,FALSE),\"\")","v":"Prepaid Expenses"},{"$f":"IFERROR(VLOOKUP(C238,Worktags!O:T,2,FALSE),\"\")","v":"Grounds Equipment"},"All"]
[{"$f":"IF(B239<>\"\",IF(C239<>\"\",B239&\"_\"&C239&\" \"&D239&\"/\"&E239,B239&\" \"&D239),\"\")","v":"1400_SC6914 Prepaid Expenses/Industrial Equipment"},{"$f":"Worktags!AS811","v":"1400"},{"$f":"IF(Worktags!AQ811<>Worktags!AS811,Worktags!AQ811,\"\")","v":"SC6914"},{"$f":"IFERROR(VLOOKUP(B239,Worktags!AL:AO,2,FALSE),\"\")","v":"Prepaid Expenses"},{"$f":"IFERROR(VLOOKUP(C239,Worktags!O:T,2,FALSE),\"\")","v":"Industrial Equipment"},"All"]
[{"$f":"IF(B240<>\"\",IF(C240<>\"\",B240&\"_\"&C240&\" \"&D240&\"/\"&E240,B240&\" \"&D240),\"\")","v":"1400_SC6915 Prepaid Expenses/Janitorial Equipment"},{"$f":"Worktags!AS818","v":"1400"},{"$f":"IF(Worktags!AQ818<>Worktags!AS818,Worktags!AQ818,\"\")","v":"SC6915"},{"$f":"IFERROR(VLOOKUP(B240,Worktags!AL:AO,2,FALSE),\"\")","v":"Prepaid Expenses"},{"$f":"IFERROR(VLOOKUP(C240,Worktags!O:T,2,FALSE),\"\")","v":"Janitorial Equipment"},"All"]
[{"$f":"IF(B241<>\"\",IF(C241<>\"\",B241&\"_\"&C241&\" \"&D241&\"/\"&E241,B241&\" \"&D241),\"\")","v":"1400_SC6916 Prepaid Expenses/Janitorial Equipment Maintenance"},{"$f":"Worktags!AS825","v":"1400"},{"$f":"IF(Worktags!AQ825<>Worktags!AS825,Worktags!AQ825,\"\")","v":"SC6916"},{"$f":"IFERROR(VLOOKUP(B241,Worktags!AL:AO,2,FALSE),\"\")","v":"Prepaid Expenses"},{"$f":"IFERROR(VLOOKUP(C241,Worktags!O:T,2,FALSE),\"\")","v":"Janitorial Equipment Maintenance"},"All"]
[{"$f":"IF(B242<>\"\",IF(C242<>\"\",B242&\"_\"&C242&\" \"&D242&\"/\"&E242,B242&\" \"&D242),\"\")","v":"1400_SC6917 Prepaid Expenses/Laundry Equipment"},{"$f":"Worktags!AS827","v":"1400"},{"$f":"IF(Worktags!AQ827<>Worktags!AS827,Worktags!AQ827,\"\")","v":"SC6917"},{"$f":"IFERROR(VLOOKUP(B242,Worktags!AL:AO,2,FALSE),\"\")","v":"Prepaid Expenses"},{"$f":"IFERROR(VLOOKUP(C242,Worktags!O:T,2,FALSE),\"\")","v":"Laundry Equipment"},"All"]
[{"$f":"IF(B243<>\"\",IF(C243<>\"\",B243&\"_\"&C243&\" \"&D243&\"/\"&E243,B243&\" \"&D243),\"\")","v":"1400_SC6918 Prepaid Expenses/Library Content"},{"$f":"Worktags!AS834","v":"1400"},{"$f":"IF(Worktags!AQ834<>Worktags!AS834,Worktags!AQ834,\"\")","v":"SC6918"},{"$f":"IFERROR(VLOOKUP(B243,Worktags!AL:AO,2,FALSE),\"\")","v":"Prepaid Expenses"},{"$f":"IFERROR(VLOOKUP(C243,Worktags!O:T,2,FALSE),\"\")","v":"Library Content"},"All"]
[{"$f":"IF(B244<>\"\",IF(C244<>\"\",B244&\"_\"&C244&\" \"&D244&\"/\"&E244,B244&\" \"&D244),\"\")","v":"1400_SC6919 Prepaid Expenses/Library Subscriptions"},{"$f":"Worktags!AS839","v":"1400"},{"$f":"IF(Worktags!AQ839<>Worktags!AS839,Worktags!AQ839,\"\")","v":"SC6919"},{"$f":"IFERROR(VLOOKUP(B244,Worktags!AL:AO,2,FALSE),\"\")","v":"Prepaid Expenses"},{"$f":"IFERROR(VLOOKUP(C244,Worktags!O:T,2,FALSE),\"\")","v":"Library Subscriptions"},"All"]
[{"$f":"IF(B245<>\"\",IF(C245<>\"\",B245&\"_\"&C245&\" \"&D245&\"/\"&E245,B245&\" \"&D245),\"\")","v":"1400_SC6920 Prepaid Expenses/Media Content"},{"$f":"Worktags!AS841","v":"1400"},{"$f":"IF(Worktags!AQ841<>Worktags!AS841,Worktags!AQ841,\"\")","v":"SC6920"},{"$f":"IFERROR(VLOOKUP(B245,Worktags!AL:AO,2,FALSE),\"\")","v":"Prepaid Expenses"},{"$f":"IFERROR(VLOOKUP(C245,Worktags!O:T,2,FALSE),\"\")","v":"Media Content"},"All"]
[{"$f":"IF(B246<>\"\",IF(C246<>\"\",B246&\"_\"&C246&\" \"&D246&\"/\"&E246,B246&\" \"&D246),\"\")","v":"1400_SC6921 Prepaid Expenses/Medical Equipment"},{"$f":"Worktags!AS846","v":"1400"},{"$f":"IF(Worktags!AQ846<>Worktags!AS846,Worktags!AQ846,\"\")","v":"SC6921"},{"$f":"IFERROR(VLOOKUP(B246,Worktags!AL:AO,2,FALSE),\"\")","v":"Prepaid Expenses"},{"$f":"IFERROR(VLOOKUP(C246,Worktags!O:T,2,FALSE),\"\")","v":"Medical Equipment"},"All"]
[{"$f":"IF(B247<>\"\",IF(C247<>\"\",B247&\"_\"&C247&\" \"&D247&\"/\"&E247,B247&\" \"&D247),\"\")","v":"1400_SC6922 Prepaid Expenses/Medical Equipment - Maintenance"},{"$f":"Worktags!AS853","v":"1400"},{"$f":"IF(Worktags!AQ853<>Worktags!AS853,Worktags!AQ853,\"\")","v":"SC6922"},{"$f":"IFERROR(VLOOKUP(B247,Worktags!AL:AO,2,FALSE),\"\")","v":"Prepaid Expenses"},{"$f":"IFERROR(VLOOKUP(C247,Worktags!O:T,2,FALSE),\"\")","v":"Medical Equipment - Maintenance"},"All"]
[{"$f":"IF(B248<>\"\",IF(C248<>\"\",B248&\"_\"&C248&\" \"&D248&\"/\"&E248,B248&\" \"&D248),\"\")","v":"1400_SC6923 Prepaid Expenses/Musical Instruments"},{"$f":"Worktags!AS855","v":"1400"},{"$f":"IF(Worktags!AQ855<>Worktags!AS855,Worktags!AQ855,\"\")","v":"SC6923"},{"$f":"IFERROR(VLOOKUP(B248,Worktags!AL:AO,2,FALSE),\"\")","v":"Prepaid Expenses"},{"$f":"IFERROR(VLOOKUP(C248,Worktags!O:T,2,FALSE),\"\")","v":"Musical Instruments"},"All"]
[{"$f":"IF(B249<>\"\",IF(C249<>\"\",B249&\"_\"&C249&\" \"&D249&\"/\"&E249,B249&\" \"&D249),\"\")","v":"1400_SC6924 Prepaid Expenses/Office Equipment (Asset Track)"},{"$f":"Worktags!AS860","v":"1400"},{"$f":"IF(Worktags!AQ860<>Worktags!AS860,Worktags!AQ860,\"\")","v":"SC6924"},{"$f":"IFERROR(VLOOKUP(B249,Worktags!AL:AO,2,FALSE),\"\")","v":"Prepaid Expenses"},{"$f":"IFERROR(VLOOKUP(C249,Worktags!O:T,2,FALSE),\"\")","v":"Office Equipment (Asset Track)"},"All"]
[{"$f":"IF(B250<>\"\",IF(C250<>\"\",B250&\"_\"&C250&\" \"&D250&\"/\"&E250,B250&\" \"&D250),\"\")","v":"1400_SC6925 Prepaid Expenses/Office Equipment - Maintenance"},{"$f":"Worktags!AS867","v":"1400"},{"$f":"IF(Worktags!AQ867<>Worktags!AS867,Worktags!AQ867,\"\")","v":"SC6925"},{"$f":"IFERROR(VLOOKUP(B250,Worktags!AL:AO,2,FALSE),\"\")","v":"Prepaid Expenses"},{"$f":"IFERROR(VLOOKUP(C250,Worktags!O:T,2,FALSE),\"\")","v":"Office Equipment - Maintenance"},"All"]
[{"$f":"IF(B251<>\"\",IF(C251<>\"\",B251&\"_\"&C251&\" \"&D251&\"/\"&E251,B251&\" \"&D251),\"\")","v":"1400_SC6926 Prepaid Expenses/Photography Equipment"},{"$f":"Worktags!AS869","v":"1400"},{"$f":"IF(Worktags!AQ869<>Worktags!AS869,Worktags!AQ869,\"\")","v":"SC6926"},{"$f":"IFERROR(VLOOKUP(B251,Worktags!AL:AO,2,FALSE),\"\")","v":"Prepaid Expenses"},{"$f":"IFERROR(VLOOKUP(C251,Worktags!O:T,2,FALSE),\"\")","v":"Photography Equipment"},"All"]
[{"$f":"IF(B252<>\"\",IF(C252<>\"\",B252&\"_\"&C252&\" \"&D252&\"/\"&E252,B252&\" \"&D252),\"\")","v":"1400_SC6927 Prepaid Expenses/Portable Structures"},{"$f":"Worktags!AS874","v":"1400"},{"$f":"IF(Worktags!AQ874<>Worktags!AS874,Worktags!AQ874,\"\")","v":"SC6927"},{"$f":"IFERROR(VLOOKUP(B252,Worktags!AL:AO,2,FALSE),\"\")","v":"Prepaid Expenses"},{"$f":"IFERROR(VLOOKUP(C252,Worktags!O:T,2,FALSE),\"\")","v":"Portable Structures"},"All"]
[{"$f":"IF(B253<>\"\",IF(C253<>\"\",B253&\"_\"&C253&\" \"&D253&\"/\"&E253,B253&\" \"&D253),\"\")","v":"1400_SC6928 Prepaid Expenses/Printing Equipment"},{"$f":"Worktags!AS881","v":"1400"},{"$f":"IF(Worktags!AQ881<>Worktags!AS881,Worktags!AQ881,\"\")","v":"SC6928"},{"$f":"IFERROR(VLOOKUP(B253,Worktags!AL:AO,2,FALSE),\"\")","v":"Prepaid Expenses"},{"$f":"IFERROR(VLOOKUP(C253,Worktags!O:T,2,FALSE),\"\")","v":"Printing Equipment"},"All"]
[{"$f":"IF(B254<>\"\",IF(C254<>\"\",B254&\"_\"&C254&\" \"&D254&\"/\"&E254,B254&\" \"&D254),\"\")","v":"1400_SC6929 Prepaid Expenses/Scientific and Engineering Equipment"},{"$f":"Worktags!AS888","v":"1400"},{"$f":"IF(Worktags!AQ888<>Worktags!AS888,Worktags!AQ888,\"\")","v":"SC6929"},{"$f":"IFERROR(VLOOKUP(B254,Worktags!AL:AO,2,FALSE),\"\")","v":"Prepaid Expenses"},{"$f":"IFERROR(VLOOKUP(C254,Worktags!O:T,2,FALSE),\"\")","v":"Scientific and Engineering Equipment"},"All"]
[{"$f":"IF(B255<>\"\",IF(C255<>\"\",B255&\"_\"&C255&\" \"&D255&\"/\"&E255,B255&\" \"&D255),\"\")","v":"1400_SC6930 Prepaid Expenses/Scientific Equipment - Maintenance"},{"$f":"Worktags!AS895","v":"1400"},{"$f":"IF(Worktags!AQ895<>Worktags!AS895,Worktags!AQ895,\"\")","v":"SC6930"},{"$f":"IFERROR(VLOOKUP(B255,Worktags!AL:AO,2,FALSE),\"\")","v":"Prepaid Expenses"},{"$f":"IFERROR(VLOOKUP(C255,Worktags!O:T,2,FALSE),\"\")","v":"Scientific Equipment - Maintenance"},"All"]
[{"$f":"IF(B256<>\"\",IF(C256<>\"\",B256&\"_\"&C256&\" \"&D256&\"/\"&E256,B256&\" \"&D256),\"\")","v":"1400_SC6931 Prepaid Expenses/Security Equipment (Asset Track)"},{"$f":"Worktags!AS897","v":"1400"},{"$f":"IF(Worktags!AQ897<>Worktags!AS897,Worktags!AQ897,\"\")","v":"SC6931"},{"$f":"IFERROR(VLOOKUP(B256,Worktags!AL:AO,2,FALSE),\"\")","v":"Prepaid Expenses"},{"$f":"IFERROR(VLOOKUP(C256,Worktags!O:T,2,FALSE),\"\")","v":"Security Equipment (Asset Track)"},"All"]
[{"$f":"IF(B257<>\"\",IF(C257<>\"\",B257&\"_\"&C257&\" \"&D257&\"/\"&E257,B257&\" \"&D257),\"\")","v":"1400_SC6932 Prepaid Expenses/Small Appliances"},{"$f":"Worktags!AS904","v":"1400"},{"$f":"IF(Worktags!AQ904<>Worktags!AS904,Worktags!AQ904,\"\")","v":"SC6932"},{"$f":"IFERROR(VLOOKUP(B257,Worktags!AL:AO,2,FALSE),\"\")","v":"Prepaid Expenses"},{"$f":"IFERROR(VLOOKUP(C257,Worktags!O:T,2,FALSE),\"\")","v":"Small Appliances"},"All"]
[{"$f":"IF(B258<>\"\",IF(C258<>\"\",B258&\"_\"&C258&\" \"&D258&\"/\"&E258,B258&\" \"&D258),\"\")","v":"1400_SC6933 Prepaid Expenses/Software"},{"$f":"Worktags!AS911","v":"1400"},{"$f":"IF(Worktags!AQ911<>Worktags!AS911,Worktags!AQ911,\"\")","v":"SC6933"},{"$f":"IFERROR(VLOOKUP(B258,Worktags!AL:AO,2,FALSE),\"\")","v":"Prepaid Expenses"},{"$f":"IFERROR(VLOOKUP(C258,Worktags!O:T,2,FALSE),\"\")","v":"Software"},"All"]
[{"$f":"IF(B259<>\"\",IF(C259<>\"\",B259&\"_\"&C259&\" \"&D259&\"/\"&E259,B259&\" \"&D259),\"\")","v":"1400_SC6934 Prepaid Expenses/Software and Media - Licenses"},{"$f":"Worktags!AS916","v":"1400"},{"$f":"IF(Worktags!AQ916<>Worktags!AS916,Worktags!AQ916,\"\")","v":"SC6934"},{"$f":"IFERROR(VLOOKUP(B259,Worktags!AL:AO,2,FALSE),\"\")","v":"Prepaid Expenses"},{"$f":"IFERROR(VLOOKUP(C259,Worktags!O:T,2,FALSE),\"\")","v":"Software and Media - Licenses"},"All"]
[{"$f":"IF(B260<>\"\",IF(C260<>\"\",B260&\"_\"&C260&\" \"&D260&\"/\"&E260,B260&\" \"&D260),\"\")","v":"1400_SC6935 Prepaid Expenses/Telecom Equipment"},{"$f":"Worktags!AS918","v":"1400"},{"$f":"IF(Worktags!AQ918<>Worktags!AS918,Worktags!AQ918,\"\")","v":"SC6935"},{"$f":"IFERROR(VLOOKUP(B260,Worktags!AL:AO,2,FALSE),\"\")","v":"Prepaid Expenses"},{"$f":"IFERROR(VLOOKUP(C260,Worktags!O:T,2,FALSE),\"\")","v":"Telecom Equipment"},"All"]
[{"$f":"IF(B261<>\"\",IF(C261<>\"\",B261&\"_\"&C261&\" \"&D261&\"/\"&E261,B261&\" \"&D261),\"\")","v":"1400_SC6936 Prepaid Expenses/Vehicles Services"},{"$f":"Worktags!AS925","v":"1400"},{"$f":"IF(Worktags!AQ925<>Worktags!AS925,Worktags!AQ925,\"\")","v":"SC6936"},{"$f":"IFERROR(VLOOKUP(B261,Worktags!AL:AO,2,FALSE),\"\")","v":"Prepaid Expenses"},{"$f":"IFERROR(VLOOKUP(C261,Worktags!O:T,2,FALSE),\"\")","v":"Vehicles Services"},"All"]
[{"$f":"IF(B262<>\"\",IF(C262<>\"\",B262&\"_\"&C262&\" \"&D262&\"/\"&E262,B262&\" \"&D262),\"\")","v":"1400_SC6937 Prepaid Expenses/Vehicles, Motor"},{"$f":"Worktags!AS927","v":"1400"},{"$f":"IF(Worktags!AQ927<>Worktags!AS927,Worktags!AQ927,\"\")","v":"SC6937"},{"$f":"IFERROR(VLOOKUP(B262,Worktags!AL:AO,2,FALSE),\"\")","v":"Prepaid Expenses"},{"$f":"IFERROR(VLOOKUP(C262,Worktags!O:T,2,FALSE),\"\")","v":"Vehicles, Motor"},"All"]
[{"$f":"IF(B263<>\"\",IF(C263<>\"\",B263&\"_\"&C263&\" \"&D263&\"/\"&E263,B263&\" \"&D263),\"\")","v":"1400_SC6938 Prepaid Expenses/Vehicles, Off-Road"},{"$f":"Worktags!AS932","v":"1400"},{"$f":"IF(Worktags!AQ932<>Worktags!AS932,Worktags!AQ932,\"\")","v":"SC6938"},{"$f":"IFERROR(VLOOKUP(B263,Worktags!AL:AO,2,FALSE),\"\")","v":"Prepaid Expenses"},{"$f":"IFERROR(VLOOKUP(C263,Worktags!O:T,2,FALSE),\"\")","v":"Vehicles, Off-Road"},"All"]
[{"$f":"IF(B264<>\"\",IF(C264<>\"\",B264&\"_\"&C264&\" \"&D264&\"/\"&E264,B264&\" \"&D264),\"\")","v":"1400_SC6939 Prepaid Expenses/Warehouse Equipment"},{"$f":"Worktags!AS937","v":"1400"},{"$f":"IF(Worktags!AQ937<>Worktags!AS937,Worktags!AQ937,\"\")","v":"SC6939"},{"$f":"IFERROR(VLOOKUP(B264,Worktags!AL:AO,2,FALSE),\"\")","v":"Prepaid Expenses"},{"$f":"IFERROR(VLOOKUP(C264,Worktags!O:T,2,FALSE),\"\")","v":"Warehouse Equipment"},"All"]
[{"$f":"IF(B265<>\"\",IF(C265<>\"\",B265&\"_\"&C265&\" \"&D265&\"/\"&E265,B265&\" \"&D265),\"\")","v":"1400_SC6999 Prepaid Expenses/Equipment (reclass)"},{"$f":"Worktags!AS972","v":"1400"},{"$f":"IF(Worktags!AQ972<>Worktags!AS972,Worktags!AQ972,\"\")","v":"SC6999"},{"$f":"IFERROR(VLOOKUP(B265,Worktags!AL:AO,2,FALSE),\"\")","v":"Prepaid Expenses"},{"$f":"IFERROR(VLOOKUP(C265,Worktags!O:T,2,FALSE),\"\")","v":"Equipment (reclass)"},"All"]
[{"$f":"IF(B266<>\"\",IF(C266<>\"\",B266&\"_\"&C266&\" \"&D266&\"/\"&E266,B266&\" \"&D266),\"\")","v":"1400_SC7001 Prepaid Expenses/Travel"},{"$f":"Worktags!AS976","v":"1400"},{"$f":"IF(Worktags!AQ976<>Worktags!AS976,Worktags!AQ976,\"\")","v":"SC7001"},{"$f":"IFERROR(VLOOKUP(B266,Worktags!AL:AO,2,FALSE),\"\")","v":"Prepaid Expenses"},{"$f":"IFERROR(VLOOKUP(C266,Worktags!O:T,2,FALSE),\"\")","v":"Travel"},"All"]
[{"$f":"IF(B267<>\"\",IF(C267<>\"\",B267&\"_\"&C267&\" \"&D267&\"/\"&E267,B267&\" \"&D267),\"\")","v":"1400_SC7002 Prepaid Expenses/Airfare Domestic"},{"$f":"Worktags!AS978","v":"1400"},{"$f":"IF(Worktags!AQ978<>Worktags!AS978,Worktags!AQ978,\"\")","v":"SC7002"},{"$f":"IFERROR(VLOOKUP(B267,Worktags!AL:AO,2,FALSE),\"\")","v":"Prepaid Expenses"},{"$f":"IFERROR(VLOOKUP(C267,Worktags!O:T,2,FALSE),\"\")","v":"Airfare Domestic"},"All"]
[{"$f":"IF(B268<>\"\",IF(C268<>\"\",B268&\"_\"&C268&\" \"&D268&\"/\"&E268,B268&\" \"&D268),\"\")","v":"1410 Deposits"},{"$f":"Worktags!AL43","v":"1410"},null,{"$f":"IFERROR(VLOOKUP(B268,Worktags!AL:AO,2,FALSE),\"\")","v":"Deposits"},null,"All"]
[{"$f":"IF(B269<>\"\",IF(C269<>\"\",B269&\"_\"&C269&\" \"&D269&\"/\"&E269,B269&\" \"&D269),\"\")","v":"1410 Deposits"},{"$f":"Worktags!AS37","v":"1410"},{"$f":"IF(Worktags!AQ37<>Worktags!AS37,Worktags!AQ37,\"\")","v":""},{"$f":"IFERROR(VLOOKUP(B269,Worktags!AL:AO,2,FALSE),\"\")","v":"Deposits"},{"$f":"IFERROR(VLOOKUP(C269,Worktags!O:T,2,FALSE),\"\")","v":""},"All"]
[{"$f":"IF(B270<>\"\",IF(C270<>\"\",B270&\"_\"&C270&\" \"&D270&\"/\"&E270,B270&\" \"&D270),\"\")","v":"1420 Other Assets"},{"$f":"Worktags!AL44","v":"1420"},null,{"$f":"IFERROR(VLOOKUP(B270,Worktags!AL:AO,2,FALSE),\"\")","v":"Other Assets"},null,"All"]
[{"$f":"IF(B271<>\"\",IF(C271<>\"\",B271&\"_\"&C271&\" \"&D271&\"/\"&E271,B271&\" \"&D271),\"\")","v":"1420_SC1420 Other Assets/Other Assets"},{"$f":"Worktags!AS227","v":"1420"},{"$f":"IF(Worktags!AQ227<>Worktags!AS227,Worktags!AQ227,\"\")","v":"SC1420"},{"$f":"IFERROR(VLOOKUP(B271,Worktags!AL:AO,2,FALSE),\"\")","v":"Other Assets"},{"$f":"IFERROR(VLOOKUP(C271,Worktags!O:T,2,FALSE),\"\")","v":"Other Assets"},"All"]
[{"$f":"IF(B272<>\"\",IF(C272<>\"\",B272&\"_\"&C272&\" \"&D272&\"/\"&E272,B272&\" \"&D272),\"\")","v":"1429 Other Assets Reserve"},{"$f":"Worktags!AL45","v":"1429"},null,{"$f":"IFERROR(VLOOKUP(B272,Worktags!AL:AO,2,FALSE),\"\")","v":"Other Assets Reserve"},null,"All"]
[{"$f":"IF(B273<>\"\",IF(C273<>\"\",B273&\"_\"&C273&\" \"&D273&\"/\"&E273,B273&\" \"&D273),\"\")","v":"1429 Other Assets Reserve"},{"$f":"Worktags!AS38","v":"1429"},{"$f":"IF(Worktags!AQ38<>Worktags!AS38,Worktags!AQ38,\"\")","v":""},{"$f":"IFERROR(VLOOKUP(B273,Worktags!AL:AO,2,FALSE),\"\")","v":"Other Assets Reserve"},{"$f":"IFERROR(VLOOKUP(C273,Worktags!O:T,2,FALSE),\"\")","v":""},"All"]
[{"$f":"IF(B274<>\"\",IF(C274<>\"\",B274&\"_\"&C274&\" \"&D274&\"/\"&E274,B274&\" \"&D274),\"\")","v":"1430 Right of Use Asset"},{"$f":"Worktags!AL46","v":"1430"},null,{"$f":"IFERROR(VLOOKUP(B274,Worktags!AL:AO,2,FALSE),\"\")","v":"Right of Use Asset"},null,"All"]
[{"$f":"IF(B275<>\"\",IF(C275<>\"\",B275&\"_\"&C275&\" \"&D275&\"/\"&E275,B275&\" \"&D275),\"\")","v":"1430 Right of Use Asset"},{"$f":"Worktags!AS39","v":"1430"},{"$f":"IF(Worktags!AQ39<>Worktags!AS39,Worktags!AQ39,\"\")","v":""},{"$f":"IFERROR(VLOOKUP(B275,Worktags!AL:AO,2,FALSE),\"\")","v":"Right of Use Asset"},{"$f":"IFERROR(VLOOKUP(C275,Worktags!O:T,2,FALSE),\"\")","v":""},""]
[{"$f":"IF(B276<>\"\",IF(C276<>\"\",B276&\"_\"&C276&\" \"&D276&\"/\"&E276,B276&\" \"&D276),\"\")","v":"1435 Deferred Tax Asset"},{"$f":"Worktags!AL47","v":"1435"},null,{"$f":"IFERROR(VLOOKUP(B276,Worktags!AL:AO,2,FALSE),\"\")","v":"Deferred Tax Asset"},null,"All"]
[{"$f":"IF(B277<>\"\",IF(C277<>\"\",B277&\"_\"&C277&\" \"&D277&\"/\"&E277,B277&\" \"&D277),\"\")","v":"1435 Deferred Tax Asset"},{"$f":"Worktags!AS40","v":"1435"},{"$f":"IF(Worktags!AQ40<>Worktags!AS40,Worktags!AQ40,\"\")","v":""},{"$f":"IFERROR(VLOOKUP(B277,Worktags!AL:AO,2,FALSE),\"\")","v":"Deferred Tax Asset"},{"$f":"IFERROR(VLOOKUP(C277,Worktags!O:T,2,FALSE),\"\")","v":""},"All"]
[{"$f":"IF(B278<>\"\",IF(C278<>\"\",B278&\"_\"&C278&\" \"&D278&\"/\"&E278,B278&\" \"&D278),\"\")","v":"1440 Valuation Allowance - DTA"},{"$f":"Worktags!AL48","v":"1440"},null,{"$f":"IFERROR(VLOOKUP(B278,Worktags!AL:AO,2,FALSE),\"\")","v":"Valuation Allowance - DTA"},null,"All"]
[{"$f":"IF(B279<>\"\",IF(C279<>\"\",B279&\"_\"&C279&\" \"&D279&\"/\"&E279,B279&\" \"&D279),\"\")","v":"1440 Valuation Allowance - DTA"},{"$f":"Worktags!AS41","v":"1440"},{"$f":"IF(Worktags!AQ41<>Worktags!AS41,Worktags!AQ41,\"\")","v":""},{"$f":"IFERROR(VLOOKUP(B279,Worktags!AL:AO,2,FALSE),\"\")","v":"Valuation Allowance - DTA"},{"$f":"IFERROR(VLOOKUP(C279,Worktags!O:T,2,FALSE),\"\")","v":""},"All"]
[{"$f":"IF(B280<>\"\",IF(C280<>\"\",B280&\"_\"&C280&\" \"&D280&\"/\"&E280,B280&\" \"&D280),\"\")","v":"1450 Retire Postretire Benefit Asset"},{"$f":"Worktags!AL49","v":"1450"},null,{"$f":"IFERROR(VLOOKUP(B280,Worktags!AL:AO,2,FALSE),\"\")","v":"Retire Postretire Benefit Asset"},null,"All"]
[{"$f":"IF(B281<>\"\",IF(C281<>\"\",B281&\"_\"&C281&\" \"&D281&\"/\"&E281,B281&\" \"&D281),\"\")","v":"1450 Retire Postretire Benefit Asset"},{"$f":"Worktags!AS42","v":"1450"},{"$f":"IF(Worktags!AQ42<>Worktags!AS42,Worktags!AQ42,\"\")","v":""},{"$f":"IFERROR(VLOOKUP(B281,Worktags!AL:AO,2,FALSE),\"\")","v":"Retire Postretire Benefit Asset"},{"$f":"IFERROR(VLOOKUP(C281,Worktags!O:T,2,FALSE),\"\")","v":""},"All"]
[{"$f":"IF(B282<>\"\",IF(C282<>\"\",B282&\"_\"&C282&\" \"&D282&\"/\"&E282,B282&\" \"&D282),\"\")","v":"1490 Clearing-Prepaid and Other"},{"$f":"Worktags!AL50","v":"1490"},null,{"$f":"IFERROR(VLOOKUP(B282,Worktags!AL:AO,2,FALSE),\"\")","v":"Clearing-Prepaid and Other"},null,"All"]
[{"$f":"IF(B283<>\"\",IF(C283<>\"\",B283&\"_\"&C283&\" \"&D283&\"/\"&E283,B283&\" \"&D283),\"\")","v":"1490 Clearing-Prepaid and Other"},{"$f":"Worktags!AS43","v":"1490"},{"$f":"IF(Worktags!AQ43<>Worktags!AS43,Worktags!AQ43,\"\")","v":""},{"$f":"IFERROR(VLOOKUP(B283,Worktags!AL:AO,2,FALSE),\"\")","v":"Clearing-Prepaid and Other"},{"$f":"IFERROR(VLOOKUP(C283,Worktags!O:T,2,FALSE),\"\")","v":""},"All"]
[{"$f":"IF(B284<>\"\",IF(C284<>\"\",B284&\"_\"&C284&\" \"&D284&\"/\"&E284,B284&\" \"&D284),\"\")","v":"1490_SC1490 Clearing-Prepaid and Other/Clearing-Prepaid and Other (Conversion Only)"},{"$f":"Worktags!AS228","v":"1490"},{"$f":"IF(Worktags!AQ228<>Worktags!AS228,Worktags!AQ228,\"\")","v":"SC1490"},{"$f":"IFERROR(VLOOKUP(B284,Worktags!AL:AO,2,FALSE),\"\")","v":"Clearing-Prepaid and Other"},{"$f":"IFERROR(VLOOKUP(C284,Worktags!O:T,2,FALSE),\"\")","v":"Clearing-Prepaid and Other (Conversion Only)"},"All"]
[{"$f":"IF(B285<>\"\",IF(C285<>\"\",B285&\"_\"&C285&\" \"&D285&\"/\"&E285,B285&\" \"&D285),\"\")","v":"1500 Securities Held/Liquidation"},{"$f":"Worktags!AL51","v":"1500"},null,{"$f":"IFERROR(VLOOKUP(B285,Worktags!AL:AO,2,FALSE),\"\")","v":"Securities Held/Liquidation"},null,"All"]
[{"$f":"IF(B286<>\"\",IF(C286<>\"\",B286&\"_\"&C286&\" \"&D286&\"/\"&E286,B286&\" \"&D286),\"\")","v":"1500 Securities Held/Liquidation"},{"$f":"Worktags!AS44","v":"1500"},{"$f":"IF(Worktags!AQ44<>Worktags!AS44,Worktags!AQ44,\"\")","v":""},{"$f":"IFERROR(VLOOKUP(B286,Worktags!AL:AO,2,FALSE),\"\")","v":"Securities Held/Liquidation"},{"$f":"IFERROR(VLOOKUP(C286,Worktags!O:T,2,FALSE),\"\")","v":""},"All"]
[{"$f":"IF(B287<>\"\",IF(C287<>\"\",B287&\"_\"&C287&\" \"&D287&\"/\"&E287,B287&\" \"&D287),\"\")","v":"1510 Real Estate Held/Liquidation"},{"$f":"Worktags!AL52","v":"1510"},null,{"$f":"IFERROR(VLOOKUP(B287,Worktags!AL:AO,2,FALSE),\"\")","v":"Real Estate Held/Liquidation"},null,"All"]
[{"$f":"IF(B288<>\"\",IF(C288<>\"\",B288&\"_\"&C288&\" \"&D288&\"/\"&E288,B288&\" \"&D288),\"\")","v":"1510 Real Estate Held/Liquidation"},{"$f":"Worktags!AS45","v":"1510"},{"$f":"IF(Worktags!AQ45<>Worktags!AS45,Worktags!AQ45,\"\")","v":""},{"$f":"IFERROR(VLOOKUP(B288,Worktags!AL:AO,2,FALSE),\"\")","v":"Real Estate Held/Liquidation"},{"$f":"IFERROR(VLOOKUP(C288,Worktags!O:T,2,FALSE),\"\")","v":""},"All"]
[{"$f":"IF(B289<>\"\",IF(C289<>\"\",B289&\"_\"&C289&\" \"&D289&\"/\"&E289,B289&\" \"&D289),\"\")","v":"1520 Other Assets Held/Liquidation"},{"$f":"Worktags!AL53","v":"1520"},null,{"$f":"IFERROR(VLOOKUP(B289,Worktags!AL:AO,2,FALSE),\"\")","v":"Other Assets Held/Liquidation"},null,"All"]
[{"$f":"IF(B290<>\"\",IF(C290<>\"\",B290&\"_\"&C290&\" \"&D290&\"/\"&E290,B290&\" \"&D290),\"\")","v":"1520 Other Assets Held/Liquidation"},{"$f":"Worktags!AS46","v":"1520"},{"$f":"IF(Worktags!AQ46<>Worktags!AS46,Worktags!AQ46,\"\")","v":""},{"$f":"IFERROR(VLOOKUP(B290,Worktags!AL:AO,2,FALSE),\"\")","v":"Other Assets Held/Liquidation"},{"$f":"IFERROR(VLOOKUP(C290,Worktags!O:T,2,FALSE),\"\")","v":""},"JE_Gift|JE_Override"]
[{"$f":"IF(B291<>\"\",IF(C291<>\"\",B291&\"_\"&C291&\" \"&D291&\"/\"&E291,B291&\" \"&D291),\"\")","v":"1590 Clearing-Assets Held/Liquidation"},{"$f":"Worktags!AL54","v":"1590"},null,{"$f":"IFERROR(VLOOKUP(B291,Worktags!AL:AO,2,FALSE),\"\")","v":"Clearing-Assets Held/Liquidation"},null,"JE_Gift|JE_Override"]
[{"$f":"IF(B292<>\"\",IF(C292<>\"\",B292&\"_\"&C292&\" \"&D292&\"/\"&E292,B292&\" \"&D292),\"\")","v":"1590 Clearing-Assets Held/Liquidation"},{"$f":"Worktags!AS47","v":"1590"},{"$f":"IF(Worktags!AQ47<>Worktags!AS47,Worktags!AQ47,\"\")","v":""},{"$f":"IFERROR(VLOOKUP(B292,Worktags!AL:AO,2,FALSE),\"\")","v":"Clearing-Assets Held/Liquidation"},{"$f":"IFERROR(VLOOKUP(C292,Worktags!O:T,2,FALSE),\"\")","v":""},"JE_Gift|JE_Override"]
[{"$f":"IF(B293<>\"\",IF(C293<>\"\",B293&\"_\"&C293&\" \"&D293&\"/\"&E293,B293&\" \"&D293),\"\")","v":"1599 Assets Held/Liquidation Reserve"},{"$f":"Worktags!AL55","v":"1599"},null,{"$f":"IFERROR(VLOOKUP(B293,Worktags!AL:AO,2,FALSE),\"\")","v":"Assets Held/Liquidation Reserve"},null,"JE_Gift|JE_Override"]
[{"$f":"IF(B294<>\"\",IF(C294<>\"\",B294&\"_\"&C294&\" \"&D294&\"/\"&E294,B294&\" \"&D294),\"\")","v":"1599 Assets Held/Liquidation Reserve"},{"$f":"Worktags!AS48","v":"1599"},{"$f":"IF(Worktags!AQ48<>Worktags!AS48,Worktags!AQ48,\"\")","v":""},{"$f":"IFERROR(VLOOKUP(B294,Worktags!AL:AO,2,FALSE),\"\")","v":"Assets Held/Liquidation Reserve"},{"$f":"IFERROR(VLOOKUP(C294,Worktags!O:T,2,FALSE),\"\")","v":""},"JE_Gift|JE_Override"]
[{"$f":"IF(B295<>\"\",IF(C295<>\"\",B295&\"_\"&C295&\" \"&D295&\"/\"&E295,B295&\" \"&D295),\"\")","v":"1600 Land"},{"$f":"Worktags!AL56","v":"1600"},null,{"$f":"IFERROR(VLOOKUP(B295,Worktags!AL:AO,2,FALSE),\"\")","v":"Land"},null,"JE_Gift|JE_Override"]
[{"$f":"IF(B296<>\"\",IF(C296<>\"\",B296&\"_\"&C296&\" \"&D296&\"/\"&E296,B296&\" \"&D296),\"\")","v":"1600_SC1600 Land/Land"},{"$f":"Worktags!AS229","v":"1600"},{"$f":"IF(Worktags!AQ229<>Worktags!AS229,Worktags!AQ229,\"\")","v":"SC1600"},{"$f":"IFERROR(VLOOKUP(B296,Worktags!AL:AO,2,FALSE),\"\")","v":"Land"},{"$f":"IFERROR(VLOOKUP(C296,Worktags!O:T,2,FALSE),\"\")","v":"Land"},"JE_Gift|JE_Override"]
[{"$f":"IF(B297<>\"\",IF(C297<>\"\",B297&\"_\"&C297&\" \"&D297&\"/\"&E297,B297&\" \"&D297),\"\")","v":"1605 Buildings"},{"$f":"Worktags!AL57","v":"1605"},null,{"$f":"IFERROR(VLOOKUP(B297,Worktags!AL:AO,2,FALSE),\"\")","v":"Buildings"},null,"JE_Gift|JE_Override"]
[{"$f":"IF(B298<>\"\",IF(C298<>\"\",B298&\"_\"&C298&\" \"&D298&\"/\"&E298,B298&\" \"&D298),\"\")","v":"1605_SC1605 Buildings/Buildings"},{"$f":"Worktags!AS230","v":"1605"},{"$f":"IF(Worktags!AQ230<>Worktags!AS230,Worktags!AQ230,\"\")","v":"SC1605"},{"$f":"IFERROR(VLOOKUP(B298,Worktags!AL:AO,2,FALSE),\"\")","v":"Buildings"},{"$f":"IFERROR(VLOOKUP(C298,Worktags!O:T,2,FALSE),\"\")","v":"Buildings"},"JE_Gift|JE_Override"]
[{"$f":"IF(B299<>\"\",IF(C299<>\"\",B299&\"_\"&C299&\" \"&D299&\"/\"&E299,B299&\" \"&D299),\"\")","v":"1610 Building Improvements"},{"$f":"Worktags!AL58","v":"1610"},null,{"$f":"IFERROR(VLOOKUP(B299,Worktags!AL:AO,2,FALSE),\"\")","v":"Building Improvements"},null,"JE_Gift|JE_Override"]
[{"$f":"IF(B300<>\"\",IF(C300<>\"\",B300&\"_\"&C300&\" \"&D300&\"/\"&E300,B300&\" \"&D300),\"\")","v":"1610_SC6702 Building Improvements/Building Construction and Improvements"},{"$f":"Worktags!AS579","v":"1610"},{"$f":"IF(Worktags!AQ579<>Worktags!AS579,Worktags!AQ579,\"\")","v":"SC6702"},{"$f":"IFERROR(VLOOKUP(B300,Worktags!AL:AO,2,FALSE),\"\")","v":"Building Improvements"},{"$f":"IFERROR(VLOOKUP(C300,Worktags!O:T,2,FALSE),\"\")","v":"Building Construction and Improvements"},""]
[{"$f":"IF(B301<>\"\",IF(C301<>\"\",B301&\"_\"&C301&\" \"&D301&\"/\"&E301,B301&\" \"&D301),\"\")","v":"1610_SC6704 Building Improvements/Building Materials - Finishing"},{"$f":"Worktags!AS593","v":"1610"},{"$f":"IF(Worktags!AQ593<>Worktags!AS593,Worktags!AQ593,\"\")","v":"SC6704"},{"$f":"IFERROR(VLOOKUP(B301,Worktags!AL:AO,2,FALSE),\"\")","v":"Building Improvements"},{"$f":"IFERROR(VLOOKUP(C301,Worktags!O:T,2,FALSE),\"\")","v":"Building Materials - Finishing"},"JE_PPE|JE_Override"]
[{"$f":"IF(B302<>\"\",IF(C302<>\"\",B302&\"_\"&C302&\" \"&D302&\"/\"&E302,B302&\" \"&D302),\"\")","v":"1610_SC6705 Building Improvements/Building Materials - Raw"},{"$f":"Worktags!AS600","v":"1610"},{"$f":"IF(Worktags!AQ600<>Worktags!AS600,Worktags!AQ600,\"\")","v":"SC6705"},{"$f":"IFERROR(VLOOKUP(B302,Worktags!AL:AO,2,FALSE),\"\")","v":"Building Improvements"},{"$f":"IFERROR(VLOOKUP(C302,Worktags!O:T,2,FALSE),\"\")","v":"Building Materials - Raw"},""]
[{"$f":"IF(B303<>\"\",IF(C303<>\"\",B303&\"_\"&C303&\" \"&D303&\"/\"&E303,B303&\" \"&D303),\"\")","v":"1610_SC6706 Building Improvements/Electrical Devices"},{"$f":"Worktags!AS607","v":"1610"},{"$f":"IF(Worktags!AQ607<>Worktags!AS607,Worktags!AQ607,\"\")","v":"SC6706"},{"$f":"IFERROR(VLOOKUP(B303,Worktags!AL:AO,2,FALSE),\"\")","v":"Building Improvements"},{"$f":"IFERROR(VLOOKUP(C303,Worktags!O:T,2,FALSE),\"\")","v":"Electrical Devices"},"JE_PPE|JE_Override"]
[{"$f":"IF(B304<>\"\",IF(C304<>\"\",B304&\"_\"&C304&\" \"&D304&\"/\"&E304,B304&\" \"&D304),\"\")","v":"1610_SC6708 Building Improvements/Fans/Furnaces"},{"$f":"Worktags!AS619","v":"1610"},{"$f":"IF(Worktags!AQ619<>Worktags!AS619,Worktags!AQ619,\"\")","v":"SC6708"},{"$f":"IFERROR(VLOOKUP(B304,Worktags!AL:AO,2,FALSE),\"\")","v":"Building Improvements"},{"$f":"IFERROR(VLOOKUP(C304,Worktags!O:T,2,FALSE),\"\")","v":"Fans/Furnaces"},""]
[{"$f":"IF(B305<>\"\",IF(C305<>\"\",B305&\"_\"&C305&\" \"&D305&\"/\"&E305,B305&\" \"&D305),\"\")","v":"1610_SC6709 Building Improvements/Flooring Materials"},{"$f":"Worktags!AS626","v":"1610"},{"$f":"IF(Worktags!AQ626<>Worktags!AS626,Worktags!AQ626,\"\")","v":"SC6709"},{"$f":"IFERROR(VLOOKUP(B305,Worktags!AL:AO,2,FALSE),\"\")","v":"Building Improvements"},{"$f":"IFERROR(VLOOKUP(C305,Worktags!O:T,2,FALSE),\"\")","v":"Flooring Materials"},"JE_PPE|JE_Override"]
[{"$f":"IF(B306<>\"\",IF(C306<>\"\",B306&\"_\"&C306&\" \"&D306&\"/\"&E306,B306&\" \"&D306),\"\")","v":"1610_SC6713 Building Improvements/Industrial Fixtures"},{"$f":"Worktags!AS649","v":"1610"},{"$f":"IF(Worktags!AQ649<>Worktags!AS649,Worktags!AQ649,\"\")","v":"SC6713"},{"$f":"IFERROR(VLOOKUP(B306,Worktags!AL:AO,2,FALSE),\"\")","v":"Building Improvements"},{"$f":"IFERROR(VLOOKUP(C306,Worktags!O:T,2,FALSE),\"\")","v":"Industrial Fixtures"},"JE_PPE|JE_Override"]
[{"$f":"IF(B307<>\"\",IF(C307<>\"\",B307&\"_\"&C307&\" \"&D307&\"/\"&E307,B307&\" \"&D307),\"\")","v":"1615 Other Improvements"},{"$f":"Worktags!AL59","v":"1615"},null,{"$f":"IFERROR(VLOOKUP(B307,Worktags!AL:AO,2,FALSE),\"\")","v":"Other Improvements"},null,"JE_PPE|JE_Override"]
[{"$f":"IF(B308<>\"\",IF(C308<>\"\",B308&\"_\"&C308&\" \"&D308&\"/\"&E308,B308&\" \"&D308),\"\")","v":"1615_SC1615 Other Improvements/Other Improvements"},{"$f":"Worktags!AS233","v":"1615"},{"$f":"IF(Worktags!AQ233<>Worktags!AS233,Worktags!AQ233,\"\")","v":"SC1615"},{"$f":"IFERROR(VLOOKUP(B308,Worktags!AL:AO,2,FALSE),\"\")","v":"Other Improvements"},{"$f":"IFERROR(VLOOKUP(C308,Worktags!O:T,2,FALSE),\"\")","v":"Other Improvements"},"JE_PPE|JE_Override"]
[{"$f":"IF(B309<>\"\",IF(C309<>\"\",B309&\"_\"&C309&\" \"&D309&\"/\"&E309,B309&\" \"&D309),\"\")","v":"1615_SC6711 Other Improvements/Grounds and Landscaping Supplies"},{"$f":"Worktags!AS640","v":"1615"},{"$f":"IF(Worktags!AQ640<>Worktags!AS640,Worktags!AQ640,\"\")","v":"SC6711"},{"$f":"IFERROR(VLOOKUP(B309,Worktags!AL:AO,2,FALSE),\"\")","v":"Other Improvements"},{"$f":"IFERROR(VLOOKUP(C309,Worktags!O:T,2,FALSE),\"\")","v":"Grounds and Landscaping Supplies"},"JE_PPE|JE_Override"]
[{"$f":"IF(B310<>\"\",IF(C310<>\"\",B310&\"_\"&C310&\" \"&D310&\"/\"&E310,B310&\" \"&D310),\"\")","v":"1620 Furnishings and Fixtures"},{"$f":"Worktags!AL60","v":"1620"},null,{"$f":"IFERROR(VLOOKUP(B310,Worktags!AL:AO,2,FALSE),\"\")","v":"Furnishings and Fixtures"},null,"JE_PPE|JE_Override"]
[{"$f":"IF(B311<>\"\",IF(C311<>\"\",B311&\"_\"&C311&\" \"&D311&\"/\"&E311,B311&\" \"&D311),\"\")","v":"1620_SC6703 Furnishings and Fixtures/Building Furnishings"},{"$f":"Worktags!AS586","v":"1620"},{"$f":"IF(Worktags!AQ586<>Worktags!AS586,Worktags!AQ586,\"\")","v":"SC6703"},{"$f":"IFERROR(VLOOKUP(B311,Worktags!AL:AO,2,FALSE),\"\")","v":"Furnishings and Fixtures"},{"$f":"IFERROR(VLOOKUP(C311,Worktags!O:T,2,FALSE),\"\")","v":"Building Furnishings"},"JE_PPE|JE_Override"]
[{"$f":"IF(B312<>\"\",IF(C312<>\"\",B312&\"_\"&C312&\" \"&D312&\"/\"&E312,B312&\" \"&D312),\"\")","v":"1620_SC6710 Furnishings and Fixtures/Furnishing Accessories"},{"$f":"Worktags!AS633","v":"1620"},{"$f":"IF(Worktags!AQ633<>Worktags!AS633,Worktags!AQ633,\"\")","v":"SC6710"},{"$f":"IFERROR(VLOOKUP(B312,Worktags!AL:AO,2,FALSE),\"\")","v":"Furnishings and Fixtures"},{"$f":"IFERROR(VLOOKUP(C312,Worktags!O:T,2,FALSE),\"\")","v":"Furnishing Accessories"},""]
[{"$f":"IF(B313<>\"\",IF(C313<>\"\",B313&\"_\"&C313&\" \"&D313&\"/\"&E313,B313&\" \"&D313),\"\")","v":"1620_SC6714 Furnishings and Fixtures/Lighting Fixtures and Lamps"},{"$f":"Worktags!AS656","v":"1620"},{"$f":"IF(Worktags!AQ656<>Worktags!AS656,Worktags!AQ656,\"\")","v":"SC6714"},{"$f":"IFERROR(VLOOKUP(B313,Worktags!AL:AO,2,FALSE),\"\")","v":"Furnishings and Fixtures"},{"$f":"IFERROR(VLOOKUP(C313,Worktags!O:T,2,FALSE),\"\")","v":"Lighting Fixtures and Lamps"},"JE_PPE|JE_Override"]
[{"$f":"IF(B314<>\"\",IF(C314<>\"\",B314&\"_\"&C314&\" \"&D314&\"/\"&E314,B314&\" \"&D314),\"\")","v":"1620_SC6715 Furnishings and Fixtures/Plumbing Fixtures"},{"$f":"Worktags!AS663","v":"1620"},{"$f":"IF(Worktags!AQ663<>Worktags!AS663,Worktags!AQ663,\"\")","v":"SC6715"},{"$f":"IFERROR(VLOOKUP(B314,Worktags!AL:AO,2,FALSE),\"\")","v":"Furnishings and Fixtures"},{"$f":"IFERROR(VLOOKUP(C314,Worktags!O:T,2,FALSE),\"\")","v":"Plumbing Fixtures"},"JE_PPE|JE_Override"]
[{"$f":"IF(B315<>\"\",IF(C315<>\"\",B315&\"_\"&C315&\" \"&D315&\"/\"&E315,B315&\" \"&D315),\"\")","v":"1620_SC6718 Furnishings and Fixtures/Signage, Electronic"},{"$f":"Worktags!AS676","v":"1620"},{"$f":"IF(Worktags!AQ676<>Worktags!AS676,Worktags!AQ676,\"\")","v":"SC6718"},{"$f":"IFERROR(VLOOKUP(B315,Worktags!AL:AO,2,FALSE),\"\")","v":"Furnishings and Fixtures"},{"$f":"IFERROR(VLOOKUP(C315,Worktags!O:T,2,FALSE),\"\")","v":"Signage, Electronic"},""]
[{"$f":"IF(B316<>\"\",IF(C316<>\"\",B316&\"_\"&C316&\" \"&D316&\"/\"&E316,B316&\" \"&D316),\"\")","v":"1620_SC6719 Furnishings and Fixtures/Signage, Non-electronic"},{"$f":"Worktags!AS683","v":"1620"},{"$f":"IF(Worktags!AQ683<>Worktags!AS683,Worktags!AQ683,\"\")","v":"SC6719"},{"$f":"IFERROR(VLOOKUP(B316,Worktags!AL:AO,2,FALSE),\"\")","v":"Furnishings and Fixtures"},{"$f":"IFERROR(VLOOKUP(C316,Worktags!O:T,2,FALSE),\"\")","v":"Signage, Non-electronic"},"JE_PPE|JE_Override"]
[{"$f":"IF(B317<>\"\",IF(C317<>\"\",B317&\"_\"&C317&\" \"&D317&\"/\"&E317,B317&\" \"&D317),\"\")","v":"1620_SC6721 Furnishings and Fixtures/Stage and Studio Lighting (Asset Track)"},{"$f":"Worktags!AS694","v":"1620"},{"$f":"IF(Worktags!AQ694<>Worktags!AS694,Worktags!AQ694,\"\")","v":"SC6721"},{"$f":"IFERROR(VLOOKUP(B317,Worktags!AL:AO,2,FALSE),\"\")","v":"Furnishings and Fixtures"},{"$f":"IFERROR(VLOOKUP(C317,Worktags!O:T,2,FALSE),\"\")","v":"Stage and Studio Lighting (Asset Track)"},"JE_PPE|JE_Override"]
[{"$f":"IF(B318<>\"\",IF(C318<>\"\",B318&\"_\"&C318&\" \"&D318&\"/\"&E318,B318&\" \"&D318),\"\")","v":"1620_SC6729 Furnishings and Fixtures/Warehouse Fixtures"},{"$f":"Worktags!AS715","v":"1620"},{"$f":"IF(Worktags!AQ715<>Worktags!AS715,Worktags!AQ715,\"\")","v":"SC6729"},{"$f":"IFERROR(VLOOKUP(B318,Worktags!AL:AO,2,FALSE),\"\")","v":"Furnishings and Fixtures"},{"$f":"IFERROR(VLOOKUP(C318,Worktags!O:T,2,FALSE),\"\")","v":"Warehouse Fixtures"},"JE_PPE|JE_Override"]
[{"$f":"IF(B319<>\"\",IF(C319<>\"\",B319&\"_\"&C319&\" \"&D319&\"/\"&E319,B319&\" \"&D319),\"\")","v":"1620_SC6730 Furnishings and Fixtures/Window Treatments"},{"$f":"Worktags!AS722","v":"1620"},{"$f":"IF(Worktags!AQ722<>Worktags!AS722,Worktags!AQ722,\"\")","v":"SC6730"},{"$f":"IFERROR(VLOOKUP(B319,Worktags!AL:AO,2,FALSE),\"\")","v":"Furnishings and Fixtures"},{"$f":"IFERROR(VLOOKUP(C319,Worktags!O:T,2,FALSE),\"\")","v":"Window Treatments"},"JE_PPE|JE_Override"]
[{"$f":"IF(B320<>\"\",IF(C320<>\"\",B320&\"_\"&C320&\" \"&D320&\"/\"&E320,B320&\" \"&D320),\"\")","v":"1625 Capital Equipment"},{"$f":"Worktags!AL61","v":"1625"},null,{"$f":"IFERROR(VLOOKUP(B320,Worktags!AL:AO,2,FALSE),\"\")","v":"Capital Equipment"},null,"JE_PPE|JE_Override"]
[{"$f":"IF(B321<>\"\",IF(C321<>\"\",B321&\"_\"&C321&\" \"&D321&\"/\"&E321,B321&\" \"&D321),\"\")","v":"1625_SC6901 Capital Equipment/Art Equipment"},{"$f":"Worktags!AS737","v":"1625"},{"$f":"IF(Worktags!AQ737<>Worktags!AS737,Worktags!AQ737,\"\")","v":"SC6901"},{"$f":"IFERROR(VLOOKUP(B321,Worktags!AL:AO,2,FALSE),\"\")","v":"Capital Equipment"},{"$f":"IFERROR(VLOOKUP(C321,Worktags!O:T,2,FALSE),\"\")","v":"Art Equipment"},"JE_PPE|JE_Override"]
[{"$f":"IF(B322<>\"\",IF(C322<>\"\",B322&\"_\"&C322&\" \"&D322&\"/\"&E322,B322&\" \"&D322),\"\")","v":"1625_SC6902 Capital Equipment/Athletic Equipment"},{"$f":"Worktags!AS744","v":"1625"},{"$f":"IF(Worktags!AQ744<>Worktags!AS744,Worktags!AQ744,\"\")","v":"SC6902"},{"$f":"IFERROR(VLOOKUP(B322,Worktags!AL:AO,2,FALSE),\"\")","v":"Capital Equipment"},{"$f":"IFERROR(VLOOKUP(C322,Worktags!O:T,2,FALSE),\"\")","v":"Athletic Equipment"},"JE_PPE|JE_Override"]
[{"$f":"IF(B323<>\"\",IF(C323<>\"\",B323&\"_\"&C323&\" \"&D323&\"/\"&E323,B323&\" \"&D323),\"\")","v":"1625_SC6903 Capital Equipment/Audio Visual Equipment (Asset Track)"},{"$f":"Worktags!AS751","v":"1625"},{"$f":"IF(Worktags!AQ751<>Worktags!AS751,Worktags!AQ751,\"\")","v":"SC6903"},{"$f":"IFERROR(VLOOKUP(B323,Worktags!AL:AO,2,FALSE),\"\")","v":"Capital Equipment"},{"$f":"IFERROR(VLOOKUP(C323,Worktags!O:T,2,FALSE),\"\")","v":"Audio Visual Equipment (Asset Track)"},"JE_PPE|JE_Override"]
[{"$f":"IF(B324<>\"\",IF(C324<>\"\",B324&\"_\"&C324&\" \"&D324&\"/\"&E324,B324&\" \"&D324),\"\")","v":"1625_SC6904 Capital Equipment/Communication Devices (Asset Track)"},{"$f":"Worktags!AS758","v":"1625"},{"$f":"IF(Worktags!AQ758<>Worktags!AS758,Worktags!AQ758,\"\")","v":"SC6904"},{"$f":"IFERROR(VLOOKUP(B324,Worktags!AL:AO,2,FALSE),\"\")","v":"Capital Equipment"},{"$f":"IFERROR(VLOOKUP(C324,Worktags!O:T,2,FALSE),\"\")","v":"Communication Devices (Asset Track)"},"JE_PPE|JE_Override"]
[{"$f":"IF(B325<>\"\",IF(C325<>\"\",B325&\"_\"&C325&\" \"&D325&\"/\"&E325,B325&\" \"&D325),\"\")","v":"1625_SC6905 Capital Equipment/Computer Hardware (Asset Track)"},{"$f":"Worktags!AS765","v":"1625"},{"$f":"IF(Worktags!AQ765<>Worktags!AS765,Worktags!AQ765,\"\")","v":"SC6905"},{"$f":"IFERROR(VLOOKUP(B325,Worktags!AL:AO,2,FALSE),\"\")","v":"Capital Equipment"},{"$f":"IFERROR(VLOOKUP(C325,Worktags!O:T,2,FALSE),\"\")","v":"Computer Hardware (Asset Track)"},""]
[{"$f":"IF(B326<>\"\",IF(C326<>\"\",B326&\"_\"&C326&\" \"&D326&\"/\"&E326,B326&\" \"&D326),\"\")","v":"1625_SC6906 Capital Equipment/Data Network Equipment (Asset Track)"},{"$f":"Worktags!AS772","v":"1625"},{"$f":"IF(Worktags!AQ772<>Worktags!AS772,Worktags!AQ772,\"\")","v":"SC6906"},{"$f":"IFERROR(VLOOKUP(B326,Worktags!AL:AO,2,FALSE),\"\")","v":"Capital Equipment"},{"$f":"IFERROR(VLOOKUP(C326,Worktags!O:T,2,FALSE),\"\")","v":"Data Network Equipment (Asset Track)"},"JE_PPE|JE_Override"]
[{"$f":"IF(B327<>\"\",IF(C327<>\"\",B327&\"_\"&C327&\" \"&D327&\"/\"&E327,B327&\" \"&D327),\"\")","v":"1625_SC6907 Capital Equipment/Equipment (not otherwise specified) (Asset Track)"},{"$f":"Worktags!AS779","v":"1625"},{"$f":"IF(Worktags!AQ779<>Worktags!AS779,Worktags!AQ779,\"\")","v":"SC6907"},{"$f":"IFERROR(VLOOKUP(B327,Worktags!AL:AO,2,FALSE),\"\")","v":"Capital Equipment"},{"$f":"IFERROR(VLOOKUP(C327,Worktags!O:T,2,FALSE),\"\")","v":"Equipment (not otherwise specified) (Asset Track)"},"JE_PPE|JE_Override"]
[{"$f":"IF(B328<>\"\",IF(C328<>\"\",B328&\"_\"&C328&\" \"&D328&\"/\"&E328,B328&\" \"&D328),\"\")","v":"1625_SC6909 Capital Equipment/Firearms"},{"$f":"Worktags!AS788","v":"1625"},{"$f":"IF(Worktags!AQ788<>Worktags!AS788,Worktags!AQ788,\"\")","v":"SC6909"},{"$f":"IFERROR(VLOOKUP(B328,Worktags!AL:AO,2,FALSE),\"\")","v":"Capital Equipment"},{"$f":"IFERROR(VLOOKUP(C328,Worktags!O:T,2,FALSE),\"\")","v":"Firearms"},"JE_PPE|JE_Override"]
[{"$f":"IF(B329<>\"\",IF(C329<>\"\",B329&\"_\"&C329&\" \"&D329&\"/\"&E329,B329&\" \"&D329),\"\")","v":"1625_SC6910 Capital Equipment/Food Service Equipment"},{"$f":"Worktags!AS793","v":"1625"},{"$f":"IF(Worktags!AQ793<>Worktags!AS793,Worktags!AQ793,\"\")","v":"SC6910"},{"$f":"IFERROR(VLOOKUP(B329,Worktags!AL:AO,2,FALSE),\"\")","v":"Capital Equipment"},{"$f":"IFERROR(VLOOKUP(C329,Worktags!O:T,2,FALSE),\"\")","v":"Food Service Equipment"},"JE_PPE|JE_Override"]
[{"$f":"IF(B330<>\"\",IF(C330<>\"\",B330&\"_\"&C330&\" \"&D330&\"/\"&E330,B330&\" \"&D330),\"\")","v":"1625_SC6911 Capital Equipment/Grants Capital Equipment"},{"$f":"Worktags!AS800","v":"1625"},{"$f":"IF(Worktags!AQ800<>Worktags!AS800,Worktags!AQ800,\"\")","v":"SC6911"},{"$f":"IFERROR(VLOOKUP(B330,Worktags!AL:AO,2,FALSE),\"\")","v":"Capital Equipment"},{"$f":"IFERROR(VLOOKUP(C330,Worktags!O:T,2,FALSE),\"\")","v":"Grants Capital Equipment"},"JE_PPE|JE_Override"]
[{"$f":"IF(B331<>\"\",IF(C331<>\"\",B331&\"_\"&C331&\" \"&D331&\"/\"&E331,B331&\" \"&D331),\"\")","v":"1625_SC6913 Capital Equipment/Grounds Equipment"},{"$f":"Worktags!AS807","v":"1625"},{"$f":"IF(Worktags!AQ807<>Worktags!AS807,Worktags!AQ807,\"\")","v":"SC6913"},{"$f":"IFERROR(VLOOKUP(B331,Worktags!AL:AO,2,FALSE),\"\")","v":"Capital Equipment"},{"$f":"IFERROR(VLOOKUP(C331,Worktags!O:T,2,FALSE),\"\")","v":"Grounds Equipment"},"JE_PPE|JE_Override"]
[{"$f":"IF(B332<>\"\",IF(C332<>\"\",B332&\"_\"&C332&\" \"&D332&\"/\"&E332,B332&\" \"&D332),\"\")","v":"1625_SC6914 Capital Equipment/Industrial Equipment"},{"$f":"Worktags!AS812","v":"1625"},{"$f":"IF(Worktags!AQ812<>Worktags!AS812,Worktags!AQ812,\"\")","v":"SC6914"},{"$f":"IFERROR(VLOOKUP(B332,Worktags!AL:AO,2,FALSE),\"\")","v":"Capital Equipment"},{"$f":"IFERROR(VLOOKUP(C332,Worktags!O:T,2,FALSE),\"\")","v":"Industrial Equipment"},"JE_PPE|JE_Override"]
[{"$f":"IF(B333<>\"\",IF(C333<>\"\",B333&\"_\"&C333&\" \"&D333&\"/\"&E333,B333&\" \"&D333),\"\")","v":"1625_SC6915 Capital Equipment/Janitorial Equipment"},{"$f":"Worktags!AS819","v":"1625"},{"$f":"IF(Worktags!AQ819<>Worktags!AS819,Worktags!AQ819,\"\")","v":"SC6915"},{"$f":"IFERROR(VLOOKUP(B333,Worktags!AL:AO,2,FALSE),\"\")","v":"Capital Equipment"},{"$f":"IFERROR(VLOOKUP(C333,Worktags!O:T,2,FALSE),\"\")","v":"Janitorial Equipment"},"JE_PPE|JE_Override"]
[{"$f":"IF(B334<>\"\",IF(C334<>\"\",B334&\"_\"&C334&\" \"&D334&\"/\"&E334,B334&\" \"&D334),\"\")","v":"1625_SC6917 Capital Equipment/Laundry Equipment"},{"$f":"Worktags!AS828","v":"1625"},{"$f":"IF(Worktags!AQ828<>Worktags!AS828,Worktags!AQ828,\"\")","v":"SC6917"},{"$f":"IFERROR(VLOOKUP(B334,Worktags!AL:AO,2,FALSE),\"\")","v":"Capital Equipment"},{"$f":"IFERROR(VLOOKUP(C334,Worktags!O:T,2,FALSE),\"\")","v":"Laundry Equipment"},"JE_PPE|JE_Override"]
[{"$f":"IF(B335<>\"\",IF(C335<>\"\",B335&\"_\"&C335&\" \"&D335&\"/\"&E335,B335&\" \"&D335),\"\")","v":"1625_SC6921 Capital Equipment/Medical Equipment"},{"$f":"Worktags!AS847","v":"1625"},{"$f":"IF(Worktags!AQ847<>Worktags!AS847,Worktags!AQ847,\"\")","v":"SC6921"},{"$f":"IFERROR(VLOOKUP(B335,Worktags!AL:AO,2,FALSE),\"\")","v":"Capital Equipment"},{"$f":"IFERROR(VLOOKUP(C335,Worktags!O:T,2,FALSE),\"\")","v":"Medical Equipment"},"JE_PPE|JE_Override"]
[{"$f":"IF(B336<>\"\",IF(C336<>\"\",B336&\"_\"&C336&\" \"&D336&\"/\"&E336,B336&\" \"&D336),\"\")","v":"1625_SC6923 Capital Equipment/Musical Instruments"},{"$f":"Worktags!AS856","v":"1625"},{"$f":"IF(Worktags!AQ856<>Worktags!AS856,Worktags!AQ856,\"\")","v":"SC6923"},{"$f":"IFERROR(VLOOKUP(B336,Worktags!AL:AO,2,FALSE),\"\")","v":"Capital Equipment"},{"$f":"IFERROR(VLOOKUP(C336,Worktags!O:T,2,FALSE),\"\")","v":"Musical Instruments"},"JE_PPE|JE_Override"]
[{"$f":"IF(B337<>\"\",IF(C337<>\"\",B337&\"_\"&C337&\" \"&D337&\"/\"&E337,B337&\" \"&D337),\"\")","v":"1625_SC6924 Capital Equipment/Office Equipment (Asset Track)"},{"$f":"Worktags!AS861","v":"1625"},{"$f":"IF(Worktags!AQ861<>Worktags!AS861,Worktags!AQ861,\"\")","v":"SC6924"},{"$f":"IFERROR(VLOOKUP(B337,Worktags!AL:AO,2,FALSE),\"\")","v":"Capital Equipment"},{"$f":"IFERROR(VLOOKUP(C337,Worktags!O:T,2,FALSE),\"\")","v":"Office Equipment (Asset Track)"},"JE_PPE|JE_Override"]
[{"$f":"IF(B338<>\"\",IF(C338<>\"\",B338&\"_\"&C338&\" \"&D338&\"/\"&E338,B338&\" \"&D338),\"\")","v":"1625_SC6926 Capital Equipment/Photography Equipment"},{"$f":"Worktags!AS870","v":"1625"},{"$f":"IF(Worktags!AQ870<>Worktags!AS870,Worktags!AQ870,\"\")","v":"SC6926"},{"$f":"IFERROR(VLOOKUP(B338,Worktags!AL:AO,2,FALSE),\"\")","v":"Capital Equipment"},{"$f":"IFERROR(VLOOKUP(C338,Worktags!O:T,2,FALSE),\"\")","v":"Photography Equipment"},"JE_PPE|JE_Override"]
[{"$f":"IF(B339<>\"\",IF(C339<>\"\",B339&\"_\"&C339&\" \"&D339&\"/\"&E339,B339&\" \"&D339),\"\")","v":"1625_SC6927 Capital Equipment/Portable Structures"},{"$f":"Worktags!AS875","v":"1625"},{"$f":"IF(Worktags!AQ875<>Worktags!AS875,Worktags!AQ875,\"\")","v":"SC6927"},{"$f":"IFERROR(VLOOKUP(B339,Worktags!AL:AO,2,FALSE),\"\")","v":"Capital Equipment"},{"$f":"IFERROR(VLOOKUP(C339,Worktags!O:T,2,FALSE),\"\")","v":"Portable Structures"},"JE_PPE|JE_Override"]
[{"$f":"IF(B340<>\"\",IF(C340<>\"\",B340&\"_\"&C340&\" \"&D340&\"/\"&E340,B340&\" \"&D340),\"\")","v":"1625_SC6928 Capital Equipment/Printing Equipment"},{"$f":"Worktags!AS882","v":"1625"},{"$f":"IF(Worktags!AQ882<>Worktags!AS882,Worktags!AQ882,\"\")","v":"SC6928"},{"$f":"IFERROR(VLOOKUP(B340,Worktags!AL:AO,2,FALSE),\"\")","v":"Capital Equipment"},{"$f":"IFERROR(VLOOKUP(C340,Worktags!O:T,2,FALSE),\"\")","v":"Printing Equipment"},"JE_PPE|JE_Override"]
[{"$f":"IF(B341<>\"\",IF(C341<>\"\",B341&\"_\"&C341&\" \"&D341&\"/\"&E341,B341&\" \"&D341),\"\")","v":"1625_SC6929 Capital Equipment/Scientific and Engineering Equipment"},{"$f":"Worktags!AS889","v":"1625"},{"$f":"IF(Worktags!AQ889<>Worktags!AS889,Worktags!AQ889,\"\")","v":"SC6929"},{"$f":"IFERROR(VLOOKUP(B341,Worktags!AL:AO,2,FALSE),\"\")","v":"Capital Equipment"},{"$f":"IFERROR(VLOOKUP(C341,Worktags!O:T,2,FALSE),\"\")","v":"Scientific and Engineering Equipment"},"JE_PPE|JE_Override"]
[{"$f":"IF(B342<>\"\",IF(C342<>\"\",B342&\"_\"&C342&\" \"&D342&\"/\"&E342,B342&\" \"&D342),\"\")","v":"1625_SC6931 Capital Equipment/Security Equipment (Asset Track)"},{"$f":"Worktags!AS898","v":"1625"},{"$f":"IF(Worktags!AQ898<>Worktags!AS898,Worktags!AQ898,\"\")","v":"SC6931"},{"$f":"IFERROR(VLOOKUP(B342,Worktags!AL:AO,2,FALSE),\"\")","v":"Capital Equipment"},{"$f":"IFERROR(VLOOKUP(C342,Worktags!O:T,2,FALSE),\"\")","v":"Security Equipment (Asset Track)"},"JE_PPE|JE_Override"]
[{"$f":"IF(B343<>\"\",IF(C343<>\"\",B343&\"_\"&C343&\" \"&D343&\"/\"&E343,B343&\" \"&D343),\"\")","v":"1625_SC6932 Capital Equipment/Small Appliances"},{"$f":"Worktags!AS905","v":"1625"},{"$f":"IF(Worktags!AQ905<>Worktags!AS905,Worktags!AQ905,\"\")","v":"SC6932"},{"$f":"IFERROR(VLOOKUP(B343,Worktags!AL:AO,2,FALSE),\"\")","v":"Capital Equipment"},{"$f":"IFERROR(VLOOKUP(C343,Worktags!O:T,2,FALSE),\"\")","v":"Small Appliances"},"JE_PPE|JE_Override"]
[{"$f":"IF(B344<>\"\",IF(C344<>\"\",B344&\"_\"&C344&\" \"&D344&\"/\"&E344,B344&\" \"&D344),\"\")","v":"1625_SC6935 Capital Equipment/Telecom Equipment"},{"$f":"Worktags!AS919","v":"1625"},{"$f":"IF(Worktags!AQ919<>Worktags!AS919,Worktags!AQ919,\"\")","v":"SC6935"},{"$f":"IFERROR(VLOOKUP(B344,Worktags!AL:AO,2,FALSE),\"\")","v":"Capital Equipment"},{"$f":"IFERROR(VLOOKUP(C344,Worktags!O:T,2,FALSE),\"\")","v":"Telecom Equipment"},"JE_PPE|JE_Override"]
[{"$f":"IF(B345<>\"\",IF(C345<>\"\",B345&\"_\"&C345&\" \"&D345&\"/\"&E345,B345&\" \"&D345),\"\")","v":"1625_SC6938 Capital Equipment/Vehicles, Off-Road"},{"$f":"Worktags!AS933","v":"1625"},{"$f":"IF(Worktags!AQ933<>Worktags!AS933,Worktags!AQ933,\"\")","v":"SC6938"},{"$f":"IFERROR(VLOOKUP(B345,Worktags!AL:AO,2,FALSE),\"\")","v":"Capital Equipment"},{"$f":"IFERROR(VLOOKUP(C345,Worktags!O:T,2,FALSE),\"\")","v":"Vehicles, Off-Road"},"JE_PPE|JE_Override"]
[{"$f":"IF(B346<>\"\",IF(C346<>\"\",B346&\"_\"&C346&\" \"&D346&\"/\"&E346,B346&\" \"&D346),\"\")","v":"1625_SC6939 Capital Equipment/Warehouse Equipment"},{"$f":"Worktags!AS938","v":"1625"},{"$f":"IF(Worktags!AQ938<>Worktags!AS938,Worktags!AQ938,\"\")","v":"SC6939"},{"$f":"IFERROR(VLOOKUP(B346,Worktags!AL:AO,2,FALSE),\"\")","v":"Capital Equipment"},{"$f":"IFERROR(VLOOKUP(C346,Worktags!O:T,2,FALSE),\"\")","v":"Warehouse Equipment"},"JE_PPE|JE_Override"]
[{"$f":"IF(B347<>\"\",IF(C347<>\"\",B347&\"_\"&C347&\" \"&D347&\"/\"&E347,B347&\" \"&D347),\"\")","v":"1630 Vehicles"},{"$f":"Worktags!AL62","v":"1630"},null,{"$f":"IFERROR(VLOOKUP(B347,Worktags!AL:AO,2,FALSE),\"\")","v":"Vehicles"},null,"JE_PPE|JE_Override"]
[{"$f":"IF(B348<>\"\",IF(C348<>\"\",B348&\"_\"&C348&\" \"&D348&\"/\"&E348,B348&\" \"&D348),\"\")","v":"1630_SC6937 Vehicles/Vehicles, Motor"},{"$f":"Worktags!AS928","v":"1630"},{"$f":"IF(Worktags!AQ928<>Worktags!AS928,Worktags!AQ928,\"\")","v":"SC6937"},{"$f":"IFERROR(VLOOKUP(B348,Worktags!AL:AO,2,FALSE),\"\")","v":"Vehicles"},{"$f":"IFERROR(VLOOKUP(C348,Worktags!O:T,2,FALSE),\"\")","v":"Vehicles, Motor"},"JE_PPE|JE_Override"]
[{"$f":"IF(B349<>\"\",IF(C349<>\"\",B349&\"_\"&C349&\" \"&D349&\"/\"&E349,B349&\" \"&D349),\"\")","v":"1632 Library Content"},{"$f":"Worktags!AL63","v":"1632"},null,{"$f":"IFERROR(VLOOKUP(B349,Worktags!AL:AO,2,FALSE),\"\")","v":"Library Content"},null,"JE_PPE|JE_Override"]
[{"$f":"IF(B350<>\"\",IF(C350<>\"\",B350&\"_\"&C350&\" \"&D350&\"/\"&E350,B350&\" \"&D350),\"\")","v":"1632_SC6918 Library Content/Library Content"},{"$f":"Worktags!AS835","v":"1632"},{"$f":"IF(Worktags!AQ835<>Worktags!AS835,Worktags!AQ835,\"\")","v":"SC6918"},{"$f":"IFERROR(VLOOKUP(B350,Worktags!AL:AO,2,FALSE),\"\")","v":"Library Content"},{"$f":"IFERROR(VLOOKUP(C350,Worktags!O:T,2,FALSE),\"\")","v":"Library Content"},"JE_PPE|JE_Override"]
[{"$f":"IF(B351<>\"\",IF(C351<>\"\",B351&\"_\"&C351&\" \"&D351&\"/\"&E351,B351&\" \"&D351),\"\")","v":"1635 Misc Capital Assets"},{"$f":"Worktags!AL64","v":"1635"},null,{"$f":"IFERROR(VLOOKUP(B351,Worktags!AL:AO,2,FALSE),\"\")","v":"Misc Capital Assets"},null,"JE_PPE|JE_Override"]
[{"$f":"IF(B352<>\"\",IF(C352<>\"\",B352&\"_\"&C352&\" \"&D352&\"/\"&E352,B352&\" \"&D352),\"\")","v":"1635_SC1635 Misc Capital Assets/Misc Capital Assets"},{"$f":"Worktags!AS234","v":"1635"},{"$f":"IF(Worktags!AQ234<>Worktags!AS234,Worktags!AQ234,\"\")","v":"SC1635"},{"$f":"IFERROR(VLOOKUP(B352,Worktags!AL:AO,2,FALSE),\"\")","v":"Misc Capital Assets"},{"$f":"IFERROR(VLOOKUP(C352,Worktags!O:T,2,FALSE),\"\")","v":"Misc Capital Assets"},""]
[{"$f":"IF(B353<>\"\",IF(C353<>\"\",B353&\"_\"&C353&\" \"&D353&\"/\"&E353,B353&\" \"&D353),\"\")","v":"1635_SC6701 Misc Capital Assets/Building Access Supplies"},{"$f":"Worktags!AS572","v":"1635"},{"$f":"IF(Worktags!AQ572<>Worktags!AS572,Worktags!AQ572,\"\")","v":"SC6701"},{"$f":"IFERROR(VLOOKUP(B353,Worktags!AL:AO,2,FALSE),\"\")","v":"Misc Capital Assets"},{"$f":"IFERROR(VLOOKUP(C353,Worktags!O:T,2,FALSE),\"\")","v":"Building Access Supplies"},"JE_PPE|JE_Override"]
[{"$f":"IF(B354<>\"\",IF(C354<>\"\",B354&\"_\"&C354&\" \"&D354&\"/\"&E354,B354&\" \"&D354),\"\")","v":"1637 Software"},{"$f":"Worktags!AL65","v":"1637"},null,{"$f":"IFERROR(VLOOKUP(B354,Worktags!AL:AO,2,FALSE),\"\")","v":"Software"},null,""]
[{"$f":"IF(B355<>\"\",IF(C355<>\"\",B355&\"_\"&C355&\" \"&D355&\"/\"&E355,B355&\" \"&D355),\"\")","v":"1637_SC6933 Software/Software"},{"$f":"Worktags!AS912","v":"1637"},{"$f":"IF(Worktags!AQ912<>Worktags!AS912,Worktags!AQ912,\"\")","v":"SC6933"},{"$f":"IFERROR(VLOOKUP(B355,Worktags!AL:AO,2,FALSE),\"\")","v":"Software"},{"$f":"IFERROR(VLOOKUP(C355,Worktags!O:T,2,FALSE),\"\")","v":"Software"},"JE_PPE|JE_Override"]
[{"$f":"IF(B356<>\"\",IF(C356<>\"\",B356&\"_\"&C356&\" \"&D356&\"/\"&E356,B356&\" \"&D356),\"\")","v":"1638 Media"},{"$f":"Worktags!AL66","v":"1638"},null,{"$f":"IFERROR(VLOOKUP(B356,Worktags!AL:AO,2,FALSE),\"\")","v":"Media"},null,""]
[{"$f":"IF(B357<>\"\",IF(C357<>\"\",B357&\"_\"&C357&\" \"&D357&\"/\"&E357,B357&\" \"&D357),\"\")","v":"1638_SC6920 Media/Media Content"},{"$f":"Worktags!AS842","v":"1638"},{"$f":"IF(Worktags!AQ842<>Worktags!AS842,Worktags!AQ842,\"\")","v":"SC6920"},{"$f":"IFERROR(VLOOKUP(B357,Worktags!AL:AO,2,FALSE),\"\")","v":"Media"},{"$f":"IFERROR(VLOOKUP(C357,Worktags!O:T,2,FALSE),\"\")","v":"Media Content"},"JE_PPE|JE_Override"]
[{"$f":"IF(B358<>\"\",IF(C358<>\"\",B358&\"_\"&C358&\" \"&D358&\"/\"&E358,B358&\" \"&D358),\"\")","v":"1650 Construction in Progress"},{"$f":"Worktags!AL67","v":"1650"},null,{"$f":"IFERROR(VLOOKUP(B358,Worktags!AL:AO,2,FALSE),\"\")","v":"Construction in Progress"},null,"JE_PPE|JE_Override"]
[{"$f":"IF(B359<>\"\",IF(C359<>\"\",B359&\"_\"&C359&\" \"&D359&\"/\"&E359,B359&\" \"&D359),\"\")","v":"1650 Construction in Progress"},{"$f":"Worktags!AS49","v":"1650"},{"$f":"IF(Worktags!AQ49<>Worktags!AS49,Worktags!AQ49,\"\")","v":""},{"$f":"IFERROR(VLOOKUP(B359,Worktags!AL:AO,2,FALSE),\"\")","v":"Construction in Progress"},{"$f":"IFERROR(VLOOKUP(C359,Worktags!O:T,2,FALSE),\"\")","v":""},""]
[{"$f":"IF(B360<>\"\",IF(C360<>\"\",B360&\"_\"&C360&\" \"&D360&\"/\"&E360,B360&\" \"&D360),\"\")","v":"1650_SC6106 Construction in Progress/Audio Visual Supplies"},{"$f":"Worktags!AS336","v":"1650"},{"$f":"IF(Worktags!AQ336<>Worktags!AS336,Worktags!AQ336,\"\")","v":"SC6106"},{"$f":"IFERROR(VLOOKUP(B360,Worktags!AL:AO,2,FALSE),\"\")","v":"Construction in Progress"},{"$f":"IFERROR(VLOOKUP(C360,Worktags!O:T,2,FALSE),\"\")","v":"Audio Visual Supplies"},"JE_PPE|JE_Override"]
[{"$f":"IF(B361<>\"\",IF(C361<>\"\",B361&\"_\"&C361&\" \"&D361&\"/\"&E361,B361&\" \"&D361),\"\")","v":"1650_SC6107 Construction in Progress/Clothing, Uniforms, Linens"},{"$f":"Worktags!AS341","v":"1650"},{"$f":"IF(Worktags!AQ341<>Worktags!AS341,Worktags!AQ341,\"\")","v":"SC6107"},{"$f":"IFERROR(VLOOKUP(B361,Worktags!AL:AO,2,FALSE),\"\")","v":"Construction in Progress"},{"$f":"IFERROR(VLOOKUP(C361,Worktags!O:T,2,FALSE),\"\")","v":"Clothing, Uniforms, Linens"},""]
[{"$f":"IF(B362<>\"\",IF(C362<>\"\",B362&\"_\"&C362&\" \"&D362&\"/\"&E362,B362&\" \"&D362),\"\")","v":"1650_SC6108 Construction in Progress/Data Network Supplies"},{"$f":"Worktags!AS345","v":"1650"},{"$f":"IF(Worktags!AQ345<>Worktags!AS345,Worktags!AQ345,\"\")","v":"SC6108"},{"$f":"IFERROR(VLOOKUP(B362,Worktags!AL:AO,2,FALSE),\"\")","v":"Construction in Progress"},{"$f":"IFERROR(VLOOKUP(C362,Worktags!O:T,2,FALSE),\"\")","v":"Data Network Supplies"},"JE_PPE|JE_Override"]
[{"$f":"IF(B363<>\"\",IF(C363<>\"\",B363&\"_\"&C363&\" \"&D363&\"/\"&E363,B363&\" \"&D363),\"\")","v":"1650_SC6110 Construction in Progress/Food and Beverages"},{"$f":"Worktags!AS352","v":"1650"},{"$f":"IF(Worktags!AQ352<>Worktags!AS352,Worktags!AQ352,\"\")","v":"SC6110"},{"$f":"IFERROR(VLOOKUP(B363,Worktags!AL:AO,2,FALSE),\"\")","v":"Construction in Progress"},{"$f":"IFERROR(VLOOKUP(C363,Worktags!O:T,2,FALSE),\"\")","v":"Food and Beverages"},"JE_PPE|JE_Override"]
[{"$f":"IF(B364<>\"\",IF(C364<>\"\",B364&\"_\"&C364&\" \"&D364&\"/\"&E364,B364&\" \"&D364),\"\")","v":"1650_SC6111 Construction in Progress/Food Service Disposables"},{"$f":"Worktags!AS356","v":"1650"},{"$f":"IF(Worktags!AQ356<>Worktags!AS356,Worktags!AQ356,\"\")","v":"SC6111"},{"$f":"IFERROR(VLOOKUP(B364,Worktags!AL:AO,2,FALSE),\"\")","v":"Construction in Progress"},{"$f":"IFERROR(VLOOKUP(C364,Worktags!O:T,2,FALSE),\"\")","v":"Food Service Disposables"},"JE_PPE|JE_Override"]
[{"$f":"IF(B365<>\"\",IF(C365<>\"\",B365&\"_\"&C365&\" \"&D365&\"/\"&E365,B365&\" \"&D365),\"\")","v":"1650_SC6114 Construction in Progress/Hazardous Chemicals"},{"$f":"Worktags!AS364","v":"1650"},{"$f":"IF(Worktags!AQ364<>Worktags!AS364,Worktags!AQ364,\"\")","v":"SC6114"},{"$f":"IFERROR(VLOOKUP(B365,Worktags!AL:AO,2,FALSE),\"\")","v":"Construction in Progress"},{"$f":"IFERROR(VLOOKUP(C365,Worktags!O:T,2,FALSE),\"\")","v":"Hazardous Chemicals"},"JE_PPE|JE_Override"]
[{"$f":"IF(B366<>\"\",IF(C366<>\"\",B366&\"_\"&C366&\" \"&D366&\"/\"&E366,B366&\" \"&D366),\"\")","v":"1650_SC6119 Construction in Progress/Office Supplies"},{"$f":"Worktags!AS376","v":"1650"},{"$f":"IF(Worktags!AQ376<>Worktags!AS376,Worktags!AQ376,\"\")","v":"SC6119"},{"$f":"IFERROR(VLOOKUP(B366,Worktags!AL:AO,2,FALSE),\"\")","v":"Construction in Progress"},{"$f":"IFERROR(VLOOKUP(C366,Worktags!O:T,2,FALSE),\"\")","v":"Office Supplies"},"JE_PPE|JE_Override"]
[{"$f":"IF(B367<>\"\",IF(C367<>\"\",B367&\"_\"&C367&\" \"&D367&\"/\"&E367,B367&\" \"&D367),\"\")","v":"1650_SC6121 Construction in Progress/Packaging"},{"$f":"Worktags!AS382","v":"1650"},{"$f":"IF(Worktags!AQ382<>Worktags!AS382,Worktags!AQ382,\"\")","v":"SC6121"},{"$f":"IFERROR(VLOOKUP(B367,Worktags!AL:AO,2,FALSE),\"\")","v":"Construction in Progress"},{"$f":"IFERROR(VLOOKUP(C367,Worktags!O:T,2,FALSE),\"\")","v":"Packaging"},"JE_PPE|JE_Override"]
[{"$f":"IF(B368<>\"\",IF(C368<>\"\",B368&\"_\"&C368&\" \"&D368&\"/\"&E368,B368&\" \"&D368),\"\")","v":"1650_SC6125 Construction in Progress/Printing Supplies"},{"$f":"Worktags!AS392","v":"1650"},{"$f":"IF(Worktags!AQ392<>Worktags!AS392,Worktags!AQ392,\"\")","v":"SC6125"},{"$f":"IFERROR(VLOOKUP(B368,Worktags!AL:AO,2,FALSE),\"\")","v":"Construction in Progress"},{"$f":"IFERROR(VLOOKUP(C368,Worktags!O:T,2,FALSE),\"\")","v":"Printing Supplies"},"JE_PPE|JE_Override"]
[{"$f":"IF(B369<>\"\",IF(C369<>\"\",B369&\"_\"&C369&\" \"&D369&\"/\"&E369,B369&\" \"&D369),\"\")","v":"1650_SC6126 Construction in Progress/Scientific and Engineering Supplies"},{"$f":"Worktags!AS396","v":"1650"},{"$f":"IF(Worktags!AQ396<>Worktags!AS396,Worktags!AQ396,\"\")","v":"SC6126"},{"$f":"IFERROR(VLOOKUP(B369,Worktags!AL:AO,2,FALSE),\"\")","v":"Construction in Progress"},{"$f":"IFERROR(VLOOKUP(C369,Worktags!O:T,2,FALSE),\"\")","v":"Scientific and Engineering Supplies"},"JE_PPE|JE_Override"]
[{"$f":"IF(B370<>\"\",IF(C370<>\"\",B370&\"_\"&C370&\" \"&D370&\"/\"&E370,B370&\" \"&D370),\"\")","v":"1650_SC6129 Construction in Progress/Supplies (not otherwise specified)"},{"$f":"Worktags!AS403","v":"1650"},{"$f":"IF(Worktags!AQ403<>Worktags!AS403,Worktags!AQ403,\"\")","v":"SC6129"},{"$f":"IFERROR(VLOOKUP(B370,Worktags!AL:AO,2,FALSE),\"\")","v":"Construction in Progress"},{"$f":"IFERROR(VLOOKUP(C370,Worktags!O:T,2,FALSE),\"\")","v":"Supplies (not otherwise specified)"},"JE_PPE|JE_Override"]
[{"$f":"IF(B371<>\"\",IF(C371<>\"\",B371&\"_\"&C371&\" \"&D371&\"/\"&E371,B371&\" \"&D371),\"\")","v":"1650_SC6131 Construction in Progress/Telecom Supplies"},{"$f":"Worktags!AS410","v":"1650"},{"$f":"IF(Worktags!AQ410<>Worktags!AS410,Worktags!AQ410,\"\")","v":"SC6131"},{"$f":"IFERROR(VLOOKUP(B371,Worktags!AL:AO,2,FALSE),\"\")","v":"Construction in Progress"},{"$f":"IFERROR(VLOOKUP(C371,Worktags!O:T,2,FALSE),\"\")","v":"Telecom Supplies"},"JE_PPE|JE_Override"]
[{"$f":"IF(B372<>\"\",IF(C372<>\"\",B372&\"_\"&C372&\" \"&D372&\"/\"&E372,B372&\" \"&D372),\"\")","v":"1650_SC6133 Construction in Progress/Lab Gases and Cryogenics"},{"$f":"Worktags!AS417","v":"1650"},{"$f":"IF(Worktags!AQ417<>Worktags!AS417,Worktags!AQ417,\"\")","v":"SC6133"},{"$f":"IFERROR(VLOOKUP(B372,Worktags!AL:AO,2,FALSE),\"\")","v":"Construction in Progress"},{"$f":"IFERROR(VLOOKUP(C372,Worktags!O:T,2,FALSE),\"\")","v":"Lab Gases and Cryogenics"},"JE_PPE|JE_Override"]
[{"$f":"IF(B373<>\"\",IF(C373<>\"\",B373&\"_\"&C373&\" \"&D373&\"/\"&E373,B373&\" \"&D373),\"\")","v":"1650_SC6199 Construction in Progress/Materials and Supplies (reclass)"},{"$f":"Worktags!AS421","v":"1650"},{"$f":"IF(Worktags!AQ421<>Worktags!AS421,Worktags!AQ421,\"\")","v":"SC6199"},{"$f":"IFERROR(VLOOKUP(B373,Worktags!AL:AO,2,FALSE),\"\")","v":"Construction in Progress"},{"$f":"IFERROR(VLOOKUP(C373,Worktags!O:T,2,FALSE),\"\")","v":"Materials and Supplies (reclass)"},"JE_PPE|JE_Override"]
[{"$f":"IF(B374<>\"\",IF(C374<>\"\",B374&\"_\"&C374&\" \"&D374&\"/\"&E374,B374&\" \"&D374),\"\")","v":"1650_SC6404 Construction in Progress/Architectural or Engineering Services"},{"$f":"Worktags!AS439","v":"1650"},{"$f":"IF(Worktags!AQ439<>Worktags!AS439,Worktags!AQ439,\"\")","v":"SC6404"},{"$f":"IFERROR(VLOOKUP(B374,Worktags!AL:AO,2,FALSE),\"\")","v":"Construction in Progress"},{"$f":"IFERROR(VLOOKUP(C374,Worktags!O:T,2,FALSE),\"\")","v":"Architectural or Engineering Services"},"JE_PPE|JE_Override"]
[{"$f":"IF(B375<>\"\",IF(C375<>\"\",B375&\"_\"&C375&\" \"&D375&\"/\"&E375,B375&\" \"&D375),\"\")","v":"1650_SC6414 Construction in Progress/Computer Services"},{"$f":"Worktags!AS458","v":"1650"},{"$f":"IF(Worktags!AQ458<>Worktags!AS458,Worktags!AQ458,\"\")","v":"SC6414"},{"$f":"IFERROR(VLOOKUP(B375,Worktags!AL:AO,2,FALSE),\"\")","v":"Construction in Progress"},{"$f":"IFERROR(VLOOKUP(C375,Worktags!O:T,2,FALSE),\"\")","v":"Computer Services"},"JE_PPE|JE_Override"]
[{"$f":"IF(B376<>\"\",IF(C376<>\"\",B376&\"_\"&C376&\" \"&D376&\"/\"&E376,B376&\" \"&D376),\"\")","v":"1650_SC6435 Construction in Progress/Misc Independent Contractors"},{"$f":"Worktags!AS499","v":"1650"},{"$f":"IF(Worktags!AQ499<>Worktags!AS499,Worktags!AQ499,\"\")","v":"SC6435"},{"$f":"IFERROR(VLOOKUP(B376,Worktags!AL:AO,2,FALSE),\"\")","v":"Construction in Progress"},{"$f":"IFERROR(VLOOKUP(C376,Worktags!O:T,2,FALSE),\"\")","v":"Misc Independent Contractors"},"JE_PPE|JE_Override"]
[{"$f":"IF(B377<>\"\",IF(C377<>\"\",B377&\"_\"&C377&\" \"&D377&\"/\"&E377,B377&\" \"&D377),\"\")","v":"1650_SC6449 Construction in Progress/Rent/Lease < = 1 year"},{"$f":"Worktags!AS527","v":"1650"},{"$f":"IF(Worktags!AQ527<>Worktags!AS527,Worktags!AQ527,\"\")","v":"SC6449"},{"$f":"IFERROR(VLOOKUP(B377,Worktags!AL:AO,2,FALSE),\"\")","v":"Construction in Progress"},{"$f":"IFERROR(VLOOKUP(C377,Worktags!O:T,2,FALSE),\"\")","v":"Rent/Lease < = 1 year"},"JE_PPE|JE_Override"]
[{"$f":"IF(B378<>\"\",IF(C378<>\"\",B378&\"_\"&C378&\" \"&D378&\"/\"&E378,B378&\" \"&D378),\"\")","v":"1650_SC6450 Construction in Progress/Rent/Lease >1 Year"},{"$f":"Worktags!AS531","v":"1650"},{"$f":"IF(Worktags!AQ531<>Worktags!AS531,Worktags!AQ531,\"\")","v":"SC6450"},{"$f":"IFERROR(VLOOKUP(B378,Worktags!AL:AO,2,FALSE),\"\")","v":"Construction in Progress"},{"$f":"IFERROR(VLOOKUP(C378,Worktags!O:T,2,FALSE),\"\")","v":"Rent/Lease >1 Year"},"JE_PPE|JE_Override"]
[{"$f":"IF(B379<>\"\",IF(C379<>\"\",B379&\"_\"&C379&\" \"&D379&\"/\"&E379,B379&\" \"&D379),\"\")","v":"1650_SC6455 Construction in Progress/Services (not otherwise specified)"},{"$f":"Worktags!AS543","v":"1650"},{"$f":"IF(Worktags!AQ543<>Worktags!AS543,Worktags!AQ543,\"\")","v":"SC6455"},{"$f":"IFERROR(VLOOKUP(B379,Worktags!AL:AO,2,FALSE),\"\")","v":"Construction in Progress"},{"$f":"IFERROR(VLOOKUP(C379,Worktags!O:T,2,FALSE),\"\")","v":"Services (not otherwise specified)"},"JE_PPE|JE_Override"]
[{"$f":"IF(B380<>\"\",IF(C380<>\"\",B380&\"_\"&C380&\" \"&D380&\"/\"&E380,B380&\" \"&D380),\"\")","v":"1650_SC6499 Construction in Progress/General and Administrative (reclass)"},{"$f":"Worktags!AS567","v":"1650"},{"$f":"IF(Worktags!AQ567<>Worktags!AS567,Worktags!AQ567,\"\")","v":"SC6499"},{"$f":"IFERROR(VLOOKUP(B380,Worktags!AL:AO,2,FALSE),\"\")","v":"Construction in Progress"},{"$f":"IFERROR(VLOOKUP(C380,Worktags!O:T,2,FALSE),\"\")","v":"General and Administrative (reclass)"},"JE_PPE|JE_Override"]
[{"$f":"IF(B381<>\"\",IF(C381<>\"\",B381&\"_\"&C381&\" \"&D381&\"/\"&E381,B381&\" \"&D381),\"\")","v":"1650_SC6701 Construction in Progress/Building Access Supplies"},{"$f":"Worktags!AS573","v":"1650"},{"$f":"IF(Worktags!AQ573<>Worktags!AS573,Worktags!AQ573,\"\")","v":"SC6701"},{"$f":"IFERROR(VLOOKUP(B381,Worktags!AL:AO,2,FALSE),\"\")","v":"Construction in Progress"},{"$f":"IFERROR(VLOOKUP(C381,Worktags!O:T,2,FALSE),\"\")","v":"Building Access Supplies"},"JE_PPE|JE_Override"]
[{"$f":"IF(B382<>\"\",IF(C382<>\"\",B382&\"_\"&C382&\" \"&D382&\"/\"&E382,B382&\" \"&D382),\"\")","v":"1650_SC6702 Construction in Progress/Building Construction and Improvements"},{"$f":"Worktags!AS580","v":"1650"},{"$f":"IF(Worktags!AQ580<>Worktags!AS580,Worktags!AQ580,\"\")","v":"SC6702"},{"$f":"IFERROR(VLOOKUP(B382,Worktags!AL:AO,2,FALSE),\"\")","v":"Construction in Progress"},{"$f":"IFERROR(VLOOKUP(C382,Worktags!O:T,2,FALSE),\"\")","v":"Building Construction and Improvements"},"JE_PPE|JE_Override"]
[{"$f":"IF(B383<>\"\",IF(C383<>\"\",B383&\"_\"&C383&\" \"&D383&\"/\"&E383,B383&\" \"&D383),\"\")","v":"1650_SC6703 Construction in Progress/Building Furnishings"},{"$f":"Worktags!AS587","v":"1650"},{"$f":"IF(Worktags!AQ587<>Worktags!AS587,Worktags!AQ587,\"\")","v":"SC6703"},{"$f":"IFERROR(VLOOKUP(B383,Worktags!AL:AO,2,FALSE),\"\")","v":"Construction in Progress"},{"$f":"IFERROR(VLOOKUP(C383,Worktags!O:T,2,FALSE),\"\")","v":"Building Furnishings"},"JE_PPE|JE_Override"]
[{"$f":"IF(B384<>\"\",IF(C384<>\"\",B384&\"_\"&C384&\" \"&D384&\"/\"&E384,B384&\" \"&D384),\"\")","v":"1650_SC6704 Construction in Progress/Building Materials - Finishing"},{"$f":"Worktags!AS594","v":"1650"},{"$f":"IF(Worktags!AQ594<>Worktags!AS594,Worktags!AQ594,\"\")","v":"SC6704"},{"$f":"IFERROR(VLOOKUP(B384,Worktags!AL:AO,2,FALSE),\"\")","v":"Construction in Progress"},{"$f":"IFERROR(VLOOKUP(C384,Worktags!O:T,2,FALSE),\"\")","v":"Building Materials - Finishing"},"JE_PPE|JE_Override"]
[{"$f":"IF(B385<>\"\",IF(C385<>\"\",B385&\"_\"&C385&\" \"&D385&\"/\"&E385,B385&\" \"&D385),\"\")","v":"1650_SC6705 Construction in Progress/Building Materials - Raw"},{"$f":"Worktags!AS601","v":"1650"},{"$f":"IF(Worktags!AQ601<>Worktags!AS601,Worktags!AQ601,\"\")","v":"SC6705"},{"$f":"IFERROR(VLOOKUP(B385,Worktags!AL:AO,2,FALSE),\"\")","v":"Construction in Progress"},{"$f":"IFERROR(VLOOKUP(C385,Worktags!O:T,2,FALSE),\"\")","v":"Building Materials - Raw"},"JE_PPE|JE_Override"]
[{"$f":"IF(B386<>\"\",IF(C386<>\"\",B386&\"_\"&C386&\" \"&D386&\"/\"&E386,B386&\" \"&D386),\"\")","v":"1650_SC6706 Construction in Progress/Electrical Devices"},{"$f":"Worktags!AS608","v":"1650"},{"$f":"IF(Worktags!AQ608<>Worktags!AS608,Worktags!AQ608,\"\")","v":"SC6706"},{"$f":"IFERROR(VLOOKUP(B386,Worktags!AL:AO,2,FALSE),\"\")","v":"Construction in Progress"},{"$f":"IFERROR(VLOOKUP(C386,Worktags!O:T,2,FALSE),\"\")","v":"Electrical Devices"},"JE_PPE|JE_Override"]
[{"$f":"IF(B387<>\"\",IF(C387<>\"\",B387&\"_\"&C387&\" \"&D387&\"/\"&E387,B387&\" \"&D387),\"\")","v":"1650_SC6707 Construction in Progress/Electrical Supplies"},{"$f":"Worktags!AS614","v":"1650"},{"$f":"IF(Worktags!AQ614<>Worktags!AS614,Worktags!AQ614,\"\")","v":"SC6707"},{"$f":"IFERROR(VLOOKUP(B387,Worktags!AL:AO,2,FALSE),\"\")","v":"Construction in Progress"},{"$f":"IFERROR(VLOOKUP(C387,Worktags!O:T,2,FALSE),\"\")","v":"Electrical Supplies"},"JE_PPE|JE_Override"]
[{"$f":"IF(B388<>\"\",IF(C388<>\"\",B388&\"_\"&C388&\" \"&D388&\"/\"&E388,B388&\" \"&D388),\"\")","v":"1650_SC6708 Construction in Progress/Fans/Furnaces"},{"$f":"Worktags!AS620","v":"1650"},{"$f":"IF(Worktags!AQ620<>Worktags!AS620,Worktags!AQ620,\"\")","v":"SC6708"},{"$f":"IFERROR(VLOOKUP(B388,Worktags!AL:AO,2,FALSE),\"\")","v":"Construction in Progress"},{"$f":"IFERROR(VLOOKUP(C388,Worktags!O:T,2,FALSE),\"\")","v":"Fans/Furnaces"},"JE_PPE|JE_Override"]
[{"$f":"IF(B389<>\"\",IF(C389<>\"\",B389&\"_\"&C389&\" \"&D389&\"/\"&E389,B389&\" \"&D389),\"\")","v":"1650_SC6709 Construction in Progress/Flooring Materials"},{"$f":"Worktags!AS627","v":"1650"},{"$f":"IF(Worktags!AQ627<>Worktags!AS627,Worktags!AQ627,\"\")","v":"SC6709"},{"$f":"IFERROR(VLOOKUP(B389,Worktags!AL:AO,2,FALSE),\"\")","v":"Construction in Progress"},{"$f":"IFERROR(VLOOKUP(C389,Worktags!O:T,2,FALSE),\"\")","v":"Flooring Materials"},"JE_PPE|JE_Override"]
[{"$f":"IF(B390<>\"\",IF(C390<>\"\",B390&\"_\"&C390&\" \"&D390&\"/\"&E390,B390&\" \"&D390),\"\")","v":"1650_SC6710 Construction in Progress/Furnishing Accessories"},{"$f":"Worktags!AS634","v":"1650"},{"$f":"IF(Worktags!AQ634<>Worktags!AS634,Worktags!AQ634,\"\")","v":"SC6710"},{"$f":"IFERROR(VLOOKUP(B390,Worktags!AL:AO,2,FALSE),\"\")","v":"Construction in Progress"},{"$f":"IFERROR(VLOOKUP(C390,Worktags!O:T,2,FALSE),\"\")","v":"Furnishing Accessories"},"JE_PPE|JE_Override"]
[{"$f":"IF(B391<>\"\",IF(C391<>\"\",B391&\"_\"&C391&\" \"&D391&\"/\"&E391,B391&\" \"&D391),\"\")","v":"1650_SC6711 Construction in Progress/Grounds and Landscaping Supplies"},{"$f":"Worktags!AS641","v":"1650"},{"$f":"IF(Worktags!AQ641<>Worktags!AS641,Worktags!AQ641,\"\")","v":"SC6711"},{"$f":"IFERROR(VLOOKUP(B391,Worktags!AL:AO,2,FALSE),\"\")","v":"Construction in Progress"},{"$f":"IFERROR(VLOOKUP(C391,Worktags!O:T,2,FALSE),\"\")","v":"Grounds and Landscaping Supplies"},"JE_PPE|JE_Override"]
[{"$f":"IF(B392<>\"\",IF(C392<>\"\",B392&\"_\"&C392&\" \"&D392&\"/\"&E392,B392&\" \"&D392),\"\")","v":"1650_SC6713 Construction in Progress/Industrial Fixtures"},{"$f":"Worktags!AS650","v":"1650"},{"$f":"IF(Worktags!AQ650<>Worktags!AS650,Worktags!AQ650,\"\")","v":"SC6713"},{"$f":"IFERROR(VLOOKUP(B392,Worktags!AL:AO,2,FALSE),\"\")","v":"Construction in Progress"},{"$f":"IFERROR(VLOOKUP(C392,Worktags!O:T,2,FALSE),\"\")","v":"Industrial Fixtures"},"JE_PPE|JE_Override"]
[{"$f":"IF(B393<>\"\",IF(C393<>\"\",B393&\"_\"&C393&\" \"&D393&\"/\"&E393,B393&\" \"&D393),\"\")","v":"1650_SC6714 Construction in Progress/Lighting Fixtures and Lamps"},{"$f":"Worktags!AS657","v":"1650"},{"$f":"IF(Worktags!AQ657<>Worktags!AS657,Worktags!AQ657,\"\")","v":"SC6714"},{"$f":"IFERROR(VLOOKUP(B393,Worktags!AL:AO,2,FALSE),\"\")","v":"Construction in Progress"},{"$f":"IFERROR(VLOOKUP(C393,Worktags!O:T,2,FALSE),\"\")","v":"Lighting Fixtures and Lamps"},"JE_PPE|JE_Override"]
[{"$f":"IF(B394<>\"\",IF(C394<>\"\",B394&\"_\"&C394&\" \"&D394&\"/\"&E394,B394&\" \"&D394),\"\")","v":"1650_SC6715 Construction in Progress/Plumbing Fixtures"},{"$f":"Worktags!AS664","v":"1650"},{"$f":"IF(Worktags!AQ664<>Worktags!AS664,Worktags!AQ664,\"\")","v":"SC6715"},{"$f":"IFERROR(VLOOKUP(B394,Worktags!AL:AO,2,FALSE),\"\")","v":"Construction in Progress"},{"$f":"IFERROR(VLOOKUP(C394,Worktags!O:T,2,FALSE),\"\")","v":"Plumbing Fixtures"},"JE_PPE|JE_Override"]
[{"$f":"IF(B395<>\"\",IF(C395<>\"\",B395&\"_\"&C395&\" \"&D395&\"/\"&E395,B395&\" \"&D395),\"\")","v":"1650_SC6716 Construction in Progress/Retainage"},{"$f":"Worktags!AS669","v":"1650"},{"$f":"IF(Worktags!AQ669<>Worktags!AS669,Worktags!AQ669,\"\")","v":"SC6716"},{"$f":"IFERROR(VLOOKUP(B395,Worktags!AL:AO,2,FALSE),\"\")","v":"Construction in Progress"},{"$f":"IFERROR(VLOOKUP(C395,Worktags!O:T,2,FALSE),\"\")","v":"Retainage"},"JE_PPE|JE_Override"]
[{"$f":"IF(B396<>\"\",IF(C396<>\"\",B396&\"_\"&C396&\" \"&D396&\"/\"&E396,B396&\" \"&D396),\"\")","v":"1650_SC6717 Construction in Progress/Retainage Interest"},{"$f":"Worktags!AS672","v":"1650"},{"$f":"IF(Worktags!AQ672<>Worktags!AS672,Worktags!AQ672,\"\")","v":"SC6717"},{"$f":"IFERROR(VLOOKUP(B396,Worktags!AL:AO,2,FALSE),\"\")","v":"Construction in Progress"},{"$f":"IFERROR(VLOOKUP(C396,Worktags!O:T,2,FALSE),\"\")","v":"Retainage Interest"},"JE_PPE|JE_Override"]
[{"$f":"IF(B397<>\"\",IF(C397<>\"\",B397&\"_\"&C397&\" \"&D397&\"/\"&E397,B397&\" \"&D397),\"\")","v":"1650_SC6718 Construction in Progress/Signage, Electronic"},{"$f":"Worktags!AS677","v":"1650"},{"$f":"IF(Worktags!AQ677<>Worktags!AS677,Worktags!AQ677,\"\")","v":"SC6718"},{"$f":"IFERROR(VLOOKUP(B397,Worktags!AL:AO,2,FALSE),\"\")","v":"Construction in Progress"},{"$f":"IFERROR(VLOOKUP(C397,Worktags!O:T,2,FALSE),\"\")","v":"Signage, Electronic"},"JE_PPE|JE_Override"]
[{"$f":"IF(B398<>\"\",IF(C398<>\"\",B398&\"_\"&C398&\" \"&D398&\"/\"&E398,B398&\" \"&D398),\"\")","v":"1650_SC6719 Construction in Progress/Signage, Non-electronic"},{"$f":"Worktags!AS684","v":"1650"},{"$f":"IF(Worktags!AQ684<>Worktags!AS684,Worktags!AQ684,\"\")","v":"SC6719"},{"$f":"IFERROR(VLOOKUP(B398,Worktags!AL:AO,2,FALSE),\"\")","v":"Construction in Progress"},{"$f":"IFERROR(VLOOKUP(C398,Worktags!O:T,2,FALSE),\"\")","v":"Signage, Non-electronic"},"JE_PPE|JE_Override"]
[{"$f":"IF(B399<>\"\",IF(C399<>\"\",B399&\"_\"&C399&\" \"&D399&\"/\"&E399,B399&\" \"&D399),\"\")","v":"1650_SC6720 Construction in Progress/Specialized Trade Services - Physical Facilities"},{"$f":"Worktags!AS690","v":"1650"},{"$f":"IF(Worktags!AQ690<>Worktags!AS690,Worktags!AQ690,\"\")","v":"SC6720"},{"$f":"IFERROR(VLOOKUP(B399,Worktags!AL:AO,2,FALSE),\"\")","v":"Construction in Progress"},{"$f":"IFERROR(VLOOKUP(C399,Worktags!O:T,2,FALSE),\"\")","v":"Specialized Trade Services - Physical Facilities"},"JE_PPE|JE_Override"]
[{"$f":"IF(B400<>\"\",IF(C400<>\"\",B400&\"_\"&C400&\" \"&D400&\"/\"&E400,B400&\" \"&D400),\"\")","v":"1650_SC6721 Construction in Progress/Stage and Studio Lighting (Asset Track)"},{"$f":"Worktags!AS695","v":"1650"},{"$f":"IF(Worktags!AQ695<>Worktags!AS695,Worktags!AQ695,\"\")","v":"SC6721"},{"$f":"IFERROR(VLOOKUP(B400,Worktags!AL:AO,2,FALSE),\"\")","v":"Construction in Progress"},{"$f":"IFERROR(VLOOKUP(C400,Worktags!O:T,2,FALSE),\"\")","v":"Stage and Studio Lighting (Asset Track)"},"JE_PPE|JE_Override"]
[{"$f":"IF(B401<>\"\",IF(C401<>\"\",B401&\"_\"&C401&\" \"&D401&\"/\"&E401,B401&\" \"&D401),\"\")","v":"1650_SC6729 Construction in Progress/Warehouse Fixtures"},{"$f":"Worktags!AS716","v":"1650"},{"$f":"IF(Worktags!AQ716<>Worktags!AS716,Worktags!AQ716,\"\")","v":"SC6729"},{"$f":"IFERROR(VLOOKUP(B401,Worktags!AL:AO,2,FALSE),\"\")","v":"Construction in Progress"},{"$f":"IFERROR(VLOOKUP(C401,Worktags!O:T,2,FALSE),\"\")","v":"Warehouse Fixtures"},"JE_PPE|JE_Override"]
[{"$f":"IF(B402<>\"\",IF(C402<>\"\",B402&\"_\"&C402&\" \"&D402&\"/\"&E402,B402&\" \"&D402),\"\")","v":"1650_SC6730 Construction in Progress/Window Treatments"},{"$f":"Worktags!AS723","v":"1650"},{"$f":"IF(Worktags!AQ723<>Worktags!AS723,Worktags!AQ723,\"\")","v":"SC6730"},{"$f":"IFERROR(VLOOKUP(B402,Worktags!AL:AO,2,FALSE),\"\")","v":"Construction in Progress"},{"$f":"IFERROR(VLOOKUP(C402,Worktags!O:T,2,FALSE),\"\")","v":"Window Treatments"},"JE_PPE|JE_Override"]
[{"$f":"IF(B403<>\"\",IF(C403<>\"\",B403&\"_\"&C403&\" \"&D403&\"/\"&E403,B403&\" \"&D403),\"\")","v":"1650_SC6731 Construction in Progress/Stage and Studio Lighting (Only Workday Inventory Module)"},{"$f":"Worktags!AS729","v":"1650"},{"$f":"IF(Worktags!AQ729<>Worktags!AS729,Worktags!AQ729,\"\")","v":"SC6731"},{"$f":"IFERROR(VLOOKUP(B403,Worktags!AL:AO,2,FALSE),\"\")","v":"Construction in Progress"},{"$f":"IFERROR(VLOOKUP(C403,Worktags!O:T,2,FALSE),\"\")","v":"Stage and Studio Lighting (Only Workday Inventory Module)"},"JE_PPE|JE_Override"]
[{"$f":"IF(B404<>\"\",IF(C404<>\"\",B404&\"_\"&C404&\" \"&D404&\"/\"&E404,B404&\" \"&D404),\"\")","v":"1650_SC6799 Construction in Progress/Physical Facilities (reclass)"},{"$f":"Worktags!AS733","v":"1650"},{"$f":"IF(Worktags!AQ733<>Worktags!AS733,Worktags!AQ733,\"\")","v":"SC6799"},{"$f":"IFERROR(VLOOKUP(B404,Worktags!AL:AO,2,FALSE),\"\")","v":"Construction in Progress"},{"$f":"IFERROR(VLOOKUP(C404,Worktags!O:T,2,FALSE),\"\")","v":"Physical Facilities (reclass)"},"JE_PPE|JE_Override"]
[{"$f":"IF(B405<>\"\",IF(C405<>\"\",B405&\"_\"&C405&\" \"&D405&\"/\"&E405,B405&\" \"&D405),\"\")","v":"1650_SC6901 Construction in Progress/Art Equipment"},{"$f":"Worktags!AS738","v":"1650"},{"$f":"IF(Worktags!AQ738<>Worktags!AS738,Worktags!AQ738,\"\")","v":"SC6901"},{"$f":"IFERROR(VLOOKUP(B405,Worktags!AL:AO,2,FALSE),\"\")","v":"Construction in Progress"},{"$f":"IFERROR(VLOOKUP(C405,Worktags!O:T,2,FALSE),\"\")","v":"Art Equipment"},"JE_PPE|JE_Override"]
[{"$f":"IF(B406<>\"\",IF(C406<>\"\",B406&\"_\"&C406&\" \"&D406&\"/\"&E406,B406&\" \"&D406),\"\")","v":"1650_SC6902 Construction in Progress/Athletic Equipment"},{"$f":"Worktags!AS745","v":"1650"},{"$f":"IF(Worktags!AQ745<>Worktags!AS745,Worktags!AQ745,\"\")","v":"SC6902"},{"$f":"IFERROR(VLOOKUP(B406,Worktags!AL:AO,2,FALSE),\"\")","v":"Construction in Progress"},{"$f":"IFERROR(VLOOKUP(C406,Worktags!O:T,2,FALSE),\"\")","v":"Athletic Equipment"},"JE_PPE|JE_Override"]
[{"$f":"IF(B407<>\"\",IF(C407<>\"\",B407&\"_\"&C407&\" \"&D407&\"/\"&E407,B407&\" \"&D407),\"\")","v":"1650_SC6903 Construction in Progress/Audio Visual Equipment (Asset Track)"},{"$f":"Worktags!AS752","v":"1650"},{"$f":"IF(Worktags!AQ752<>Worktags!AS752,Worktags!AQ752,\"\")","v":"SC6903"},{"$f":"IFERROR(VLOOKUP(B407,Worktags!AL:AO,2,FALSE),\"\")","v":"Construction in Progress"},{"$f":"IFERROR(VLOOKUP(C407,Worktags!O:T,2,FALSE),\"\")","v":"Audio Visual Equipment (Asset Track)"},"JE_PPE|JE_Override"]
[{"$f":"IF(B408<>\"\",IF(C408<>\"\",B408&\"_\"&C408&\" \"&D408&\"/\"&E408,B408&\" \"&D408),\"\")","v":"1650_SC6904 Construction in Progress/Communication Devices (Asset Track)"},{"$f":"Worktags!AS759","v":"1650"},{"$f":"IF(Worktags!AQ759<>Worktags!AS759,Worktags!AQ759,\"\")","v":"SC6904"},{"$f":"IFERROR(VLOOKUP(B408,Worktags!AL:AO,2,FALSE),\"\")","v":"Construction in Progress"},{"$f":"IFERROR(VLOOKUP(C408,Worktags!O:T,2,FALSE),\"\")","v":"Communication Devices (Asset Track)"},"JE_PPE|JE_Override"]
[{"$f":"IF(B409<>\"\",IF(C409<>\"\",B409&\"_\"&C409&\" \"&D409&\"/\"&E409,B409&\" \"&D409),\"\")","v":"1650_SC6905 Construction in Progress/Computer Hardware (Asset Track)"},{"$f":"Worktags!AS766","v":"1650"},{"$f":"IF(Worktags!AQ766<>Worktags!AS766,Worktags!AQ766,\"\")","v":"SC6905"},{"$f":"IFERROR(VLOOKUP(B409,Worktags!AL:AO,2,FALSE),\"\")","v":"Construction in Progress"},{"$f":"IFERROR(VLOOKUP(C409,Worktags!O:T,2,FALSE),\"\")","v":"Computer Hardware (Asset Track)"},"JE_PPE|JE_Override"]
[{"$f":"IF(B410<>\"\",IF(C410<>\"\",B410&\"_\"&C410&\" \"&D410&\"/\"&E410,B410&\" \"&D410),\"\")","v":"1650_SC6906 Construction in Progress/Data Network Equipment (Asset Track)"},{"$f":"Worktags!AS773","v":"1650"},{"$f":"IF(Worktags!AQ773<>Worktags!AS773,Worktags!AQ773,\"\")","v":"SC6906"},{"$f":"IFERROR(VLOOKUP(B410,Worktags!AL:AO,2,FALSE),\"\")","v":"Construction in Progress"},{"$f":"IFERROR(VLOOKUP(C410,Worktags!O:T,2,FALSE),\"\")","v":"Data Network Equipment (Asset Track)"},"JE_PPE|JE_Override"]
[{"$f":"IF(B411<>\"\",IF(C411<>\"\",B411&\"_\"&C411&\" \"&D411&\"/\"&E411,B411&\" \"&D411),\"\")","v":"1650_SC6907 Construction in Progress/Equipment (not otherwise specified) (Asset Track)"},{"$f":"Worktags!AS780","v":"1650"},{"$f":"IF(Worktags!AQ780<>Worktags!AS780,Worktags!AQ780,\"\")","v":"SC6907"},{"$f":"IFERROR(VLOOKUP(B411,Worktags!AL:AO,2,FALSE),\"\")","v":"Construction in Progress"},{"$f":"IFERROR(VLOOKUP(C411,Worktags!O:T,2,FALSE),\"\")","v":"Equipment (not otherwise specified) (Asset Track)"},"JE_PPE|JE_Override"]
[{"$f":"IF(B412<>\"\",IF(C412<>\"\",B412&\"_\"&C412&\" \"&D412&\"/\"&E412,B412&\" \"&D412),\"\")","v":"1650_SC6910 Construction in Progress/Food Service Equipment"},{"$f":"Worktags!AS794","v":"1650"},{"$f":"IF(Worktags!AQ794<>Worktags!AS794,Worktags!AQ794,\"\")","v":"SC6910"},{"$f":"IFERROR(VLOOKUP(B412,Worktags!AL:AO,2,FALSE),\"\")","v":"Construction in Progress"},{"$f":"IFERROR(VLOOKUP(C412,Worktags!O:T,2,FALSE),\"\")","v":"Food Service Equipment"},"JE_PPE|JE_Override"]
[{"$f":"IF(B413<>\"\",IF(C413<>\"\",B413&\"_\"&C413&\" \"&D413&\"/\"&E413,B413&\" \"&D413),\"\")","v":"1650_SC6914 Construction in Progress/Industrial Equipment"},{"$f":"Worktags!AS813","v":"1650"},{"$f":"IF(Worktags!AQ813<>Worktags!AS813,Worktags!AQ813,\"\")","v":"SC6914"},{"$f":"IFERROR(VLOOKUP(B413,Worktags!AL:AO,2,FALSE),\"\")","v":"Construction in Progress"},{"$f":"IFERROR(VLOOKUP(C413,Worktags!O:T,2,FALSE),\"\")","v":"Industrial Equipment"},"JE_PPE|JE_Override"]
[{"$f":"IF(B414<>\"\",IF(C414<>\"\",B414&\"_\"&C414&\" \"&D414&\"/\"&E414,B414&\" \"&D414),\"\")","v":"1650_SC6915 Construction in Progress/Janitorial Equipment"},{"$f":"Worktags!AS820","v":"1650"},{"$f":"IF(Worktags!AQ820<>Worktags!AS820,Worktags!AQ820,\"\")","v":"SC6915"},{"$f":"IFERROR(VLOOKUP(B414,Worktags!AL:AO,2,FALSE),\"\")","v":"Construction in Progress"},{"$f":"IFERROR(VLOOKUP(C414,Worktags!O:T,2,FALSE),\"\")","v":"Janitorial Equipment"},"JE_PPE|JE_Override"]
[{"$f":"IF(B415<>\"\",IF(C415<>\"\",B415&\"_\"&C415&\" \"&D415&\"/\"&E415,B415&\" \"&D415),\"\")","v":"1650_SC6917 Construction in Progress/Laundry Equipment"},{"$f":"Worktags!AS829","v":"1650"},{"$f":"IF(Worktags!AQ829<>Worktags!AS829,Worktags!AQ829,\"\")","v":"SC6917"},{"$f":"IFERROR(VLOOKUP(B415,Worktags!AL:AO,2,FALSE),\"\")","v":"Construction in Progress"},{"$f":"IFERROR(VLOOKUP(C415,Worktags!O:T,2,FALSE),\"\")","v":"Laundry Equipment"},"JE_PPE|JE_Override"]
[{"$f":"IF(B416<>\"\",IF(C416<>\"\",B416&\"_\"&C416&\" \"&D416&\"/\"&E416,B416&\" \"&D416),\"\")","v":"1650_SC6921 Construction in Progress/Medical Equipment"},{"$f":"Worktags!AS848","v":"1650"},{"$f":"IF(Worktags!AQ848<>Worktags!AS848,Worktags!AQ848,\"\")","v":"SC6921"},{"$f":"IFERROR(VLOOKUP(B416,Worktags!AL:AO,2,FALSE),\"\")","v":"Construction in Progress"},{"$f":"IFERROR(VLOOKUP(C416,Worktags!O:T,2,FALSE),\"\")","v":"Medical Equipment"},"JE_PPE|JE_Override"]
[{"$f":"IF(B417<>\"\",IF(C417<>\"\",B417&\"_\"&C417&\" \"&D417&\"/\"&E417,B417&\" \"&D417),\"\")","v":"1650_SC6924 Construction in Progress/Office Equipment (Asset Track)"},{"$f":"Worktags!AS862","v":"1650"},{"$f":"IF(Worktags!AQ862<>Worktags!AS862,Worktags!AQ862,\"\")","v":"SC6924"},{"$f":"IFERROR(VLOOKUP(B417,Worktags!AL:AO,2,FALSE),\"\")","v":"Construction in Progress"},{"$f":"IFERROR(VLOOKUP(C417,Worktags!O:T,2,FALSE),\"\")","v":"Office Equipment (Asset Track)"},"JE_PPE|JE_Override"]
[{"$f":"IF(B418<>\"\",IF(C418<>\"\",B418&\"_\"&C418&\" \"&D418&\"/\"&E418,B418&\" \"&D418),\"\")","v":"1650_SC6927 Construction in Progress/Portable Structures"},{"$f":"Worktags!AS876","v":"1650"},{"$f":"IF(Worktags!AQ876<>Worktags!AS876,Worktags!AQ876,\"\")","v":"SC6927"},{"$f":"IFERROR(VLOOKUP(B418,Worktags!AL:AO,2,FALSE),\"\")","v":"Construction in Progress"},{"$f":"IFERROR(VLOOKUP(C418,Worktags!O:T,2,FALSE),\"\")","v":"Portable Structures"},"JE_PPE|JE_Override"]
[{"$f":"IF(B419<>\"\",IF(C419<>\"\",B419&\"_\"&C419&\" \"&D419&\"/\"&E419,B419&\" \"&D419),\"\")","v":"1650_SC6928 Construction in Progress/Printing Equipment"},{"$f":"Worktags!AS883","v":"1650"},{"$f":"IF(Worktags!AQ883<>Worktags!AS883,Worktags!AQ883,\"\")","v":"SC6928"},{"$f":"IFERROR(VLOOKUP(B419,Worktags!AL:AO,2,FALSE),\"\")","v":"Construction in Progress"},{"$f":"IFERROR(VLOOKUP(C419,Worktags!O:T,2,FALSE),\"\")","v":"Printing Equipment"},"JE_PPE|JE_Override"]
[{"$f":"IF(B420<>\"\",IF(C420<>\"\",B420&\"_\"&C420&\" \"&D420&\"/\"&E420,B420&\" \"&D420),\"\")","v":"1650_SC6929 Construction in Progress/Scientific and Engineering Equipment"},{"$f":"Worktags!AS890","v":"1650"},{"$f":"IF(Worktags!AQ890<>Worktags!AS890,Worktags!AQ890,\"\")","v":"SC6929"},{"$f":"IFERROR(VLOOKUP(B420,Worktags!AL:AO,2,FALSE),\"\")","v":"Construction in Progress"},{"$f":"IFERROR(VLOOKUP(C420,Worktags!O:T,2,FALSE),\"\")","v":"Scientific and Engineering Equipment"},"JE_PPE|JE_Override"]
[{"$f":"IF(B421<>\"\",IF(C421<>\"\",B421&\"_\"&C421&\" \"&D421&\"/\"&E421,B421&\" \"&D421),\"\")","v":"1650_SC6931 Construction in Progress/Security Equipment (Asset Track)"},{"$f":"Worktags!AS899","v":"1650"},{"$f":"IF(Worktags!AQ899<>Worktags!AS899,Worktags!AQ899,\"\")","v":"SC6931"},{"$f":"IFERROR(VLOOKUP(B421,Worktags!AL:AO,2,FALSE),\"\")","v":"Construction in Progress"},{"$f":"IFERROR(VLOOKUP(C421,Worktags!O:T,2,FALSE),\"\")","v":"Security Equipment (Asset Track)"},"JE_PPE|JE_Override"]
[{"$f":"IF(B422<>\"\",IF(C422<>\"\",B422&\"_\"&C422&\" \"&D422&\"/\"&E422,B422&\" \"&D422),\"\")","v":"1650_SC6932 Construction in Progress/Small Appliances"},{"$f":"Worktags!AS906","v":"1650"},{"$f":"IF(Worktags!AQ906<>Worktags!AS906,Worktags!AQ906,\"\")","v":"SC6932"},{"$f":"IFERROR(VLOOKUP(B422,Worktags!AL:AO,2,FALSE),\"\")","v":"Construction in Progress"},{"$f":"IFERROR(VLOOKUP(C422,Worktags!O:T,2,FALSE),\"\")","v":"Small Appliances"},"JE_PPE|JE_Override"]
[{"$f":"IF(B423<>\"\",IF(C423<>\"\",B423&\"_\"&C423&\" \"&D423&\"/\"&E423,B423&\" \"&D423),\"\")","v":"1650_SC6935 Construction in Progress/Telecom Equipment"},{"$f":"Worktags!AS920","v":"1650"},{"$f":"IF(Worktags!AQ920<>Worktags!AS920,Worktags!AQ920,\"\")","v":"SC6935"},{"$f":"IFERROR(VLOOKUP(B423,Worktags!AL:AO,2,FALSE),\"\")","v":"Construction in Progress"},{"$f":"IFERROR(VLOOKUP(C423,Worktags!O:T,2,FALSE),\"\")","v":"Telecom Equipment"},"JE_PPE|JE_Override"]
[{"$f":"IF(B424<>\"\",IF(C424<>\"\",B424&\"_\"&C424&\" \"&D424&\"/\"&E424,B424&\" \"&D424),\"\")","v":"1650_SC6939 Construction in Progress/Warehouse Equipment"},{"$f":"Worktags!AS939","v":"1650"},{"$f":"IF(Worktags!AQ939<>Worktags!AS939,Worktags!AQ939,\"\")","v":"SC6939"},{"$f":"IFERROR(VLOOKUP(B424,Worktags!AL:AO,2,FALSE),\"\")","v":"Construction in Progress"},{"$f":"IFERROR(VLOOKUP(C424,Worktags!O:T,2,FALSE),\"\")","v":"Warehouse Equipment"},"JE_PPE|JE_Override"]
[{"$f":"IF(B425<>\"\",IF(C425<>\"\",B425&\"_\"&C425&\" \"&D425&\"/\"&E425,B425&\" \"&D425),\"\")","v":"1650_SC6940 Construction in Progress/Audio Visual Equipment (Only Workday Inventory Module)"},{"$f":"Worktags!AS945","v":"1650"},{"$f":"IF(Worktags!AQ945<>Worktags!AS945,Worktags!AQ945,\"\")","v":"SC6940"},{"$f":"IFERROR(VLOOKUP(B425,Worktags!AL:AO,2,FALSE),\"\")","v":"Construction in Progress"},{"$f":"IFERROR(VLOOKUP(C425,Worktags!O:T,2,FALSE),\"\")","v":"Audio Visual Equipment (Only Workday Inventory Module)"},"JE_PPE|JE_Override"]
[{"$f":"IF(B426<>\"\",IF(C426<>\"\",B426&\"_\"&C426&\" \"&D426&\"/\"&E426,B426&\" \"&D426),\"\")","v":"1650_SC6941 Construction in Progress/Communication Devices (Only Workday Inventory Module)"},{"$f":"Worktags!AS949","v":"1650"},{"$f":"IF(Worktags!AQ949<>Worktags!AS949,Worktags!AQ949,\"\")","v":"SC6941"},{"$f":"IFERROR(VLOOKUP(B426,Worktags!AL:AO,2,FALSE),\"\")","v":"Construction in Progress"},{"$f":"IFERROR(VLOOKUP(C426,Worktags!O:T,2,FALSE),\"\")","v":"Communication Devices (Only Workday Inventory Module)"},"JE_PPE|JE_Override"]
[{"$f":"IF(B427<>\"\",IF(C427<>\"\",B427&\"_\"&C427&\" \"&D427&\"/\"&E427,B427&\" \"&D427),\"\")","v":"1650_SC6942 Construction in Progress/Computer Hardware (Only Workday Inventory Module)"},{"$f":"Worktags!AS953","v":"1650"},{"$f":"IF(Worktags!AQ953<>Worktags!AS953,Worktags!AQ953,\"\")","v":"SC6942"},{"$f":"IFERROR(VLOOKUP(B427,Worktags!AL:AO,2,FALSE),\"\")","v":"Construction in Progress"},{"$f":"IFERROR(VLOOKUP(C427,Worktags!O:T,2,FALSE),\"\")","v":"Computer Hardware (Only Workday Inventory Module)"},"JE_PPE|JE_Override"]
[{"$f":"IF(B428<>\"\",IF(C428<>\"\",B428&\"_\"&C428&\" \"&D428&\"/\"&E428,B428&\" \"&D428),\"\")","v":"1650_SC6943 Construction in Progress/Data Network Equipment (Only Workday Inventory Module)"},{"$f":"Worktags!AS957","v":"1650"},{"$f":"IF(Worktags!AQ957<>Worktags!AS957,Worktags!AQ957,\"\")","v":"SC6943"},{"$f":"IFERROR(VLOOKUP(B428,Worktags!AL:AO,2,FALSE),\"\")","v":"Construction in Progress"},{"$f":"IFERROR(VLOOKUP(C428,Worktags!O:T,2,FALSE),\"\")","v":"Data Network Equipment (Only Workday Inventory Module)"},"JE_PPE|JE_Override"]
[{"$f":"IF(B429<>\"\",IF(C429<>\"\",B429&\"_\"&C429&\" \"&D429&\"/\"&E429,B429&\" \"&D429),\"\")","v":"1650_SC6944 Construction in Progress/Equipment (not otherwise specified) (Only Workday Inventory Module)"},{"$f":"Worktags!AS961","v":"1650"},{"$f":"IF(Worktags!AQ961<>Worktags!AS961,Worktags!AQ961,\"\")","v":"SC6944"},{"$f":"IFERROR(VLOOKUP(B429,Worktags!AL:AO,2,FALSE),\"\")","v":"Construction in Progress"},{"$f":"IFERROR(VLOOKUP(C429,Worktags!O:T,2,FALSE),\"\")","v":"Equipment (not otherwise specified) (Only Workday Inventory Module)"},"JE_PPE|JE_Override"]
[{"$f":"IF(B430<>\"\",IF(C430<>\"\",B430&\"_\"&C430&\" \"&D430&\"/\"&E430,B430&\" \"&D430),\"\")","v":"1650_SC6945 Construction in Progress/Office Equipment (Only Workday Inventory Module)"},{"$f":"Worktags!AS965","v":"1650"},{"$f":"IF(Worktags!AQ965<>Worktags!AS965,Worktags!AQ965,\"\")","v":"SC6945"},{"$f":"IFERROR(VLOOKUP(B430,Worktags!AL:AO,2,FALSE),\"\")","v":"Construction in Progress"},{"$f":"IFERROR(VLOOKUP(C430,Worktags!O:T,2,FALSE),\"\")","v":"Office Equipment (Only Workday Inventory Module)"},"JE_PPE|JE_Override"]
[{"$f":"IF(B431<>\"\",IF(C431<>\"\",B431&\"_\"&C431&\" \"&D431&\"/\"&E431,B431&\" \"&D431),\"\")","v":"1650_SC6946 Construction in Progress/Security Equipment (Only Workday Inventory Module)"},{"$f":"Worktags!AS969","v":"1650"},{"$f":"IF(Worktags!AQ969<>Worktags!AS969,Worktags!AQ969,\"\")","v":"SC6946"},{"$f":"IFERROR(VLOOKUP(B431,Worktags!AL:AO,2,FALSE),\"\")","v":"Construction in Progress"},{"$f":"IFERROR(VLOOKUP(C431,Worktags!O:T,2,FALSE),\"\")","v":"Security Equipment (Only Workday Inventory Module)"},"JE_PPE|JE_Override"]
[{"$f":"IF(B432<>\"\",IF(C432<>\"\",B432&\"_\"&C432&\" \"&D432&\"/\"&E432,B432&\" \"&D432),\"\")","v":"1650_SC6999 Construction in Progress/Equipment (reclass)"},{"$f":"Worktags!AS973","v":"1650"},{"$f":"IF(Worktags!AQ973<>Worktags!AS973,Worktags!AQ973,\"\")","v":"SC6999"},{"$f":"IFERROR(VLOOKUP(B432,Worktags!AL:AO,2,FALSE),\"\")","v":"Construction in Progress"},{"$f":"IFERROR(VLOOKUP(C432,Worktags!O:T,2,FALSE),\"\")","v":"Equipment (reclass)"},"JE_PPE|JE_Override"]
[{"$f":"IF(B433<>\"\",IF(C433<>\"\",B433&\"_\"&C433&\" \"&D433&\"/\"&E433,B433&\" \"&D433),\"\")","v":"1651 Construction In Progress (Non-Workday Projects)"},{"$f":"Worktags!AL68","v":"1651"},null,{"$f":"IFERROR(VLOOKUP(B433,Worktags!AL:AO,2,FALSE),\"\")","v":"Construction In Progress (Non-Workday Projects)"},null,"JE_PPE|JE_Override"]
[{"$f":"IF(B434<>\"\",IF(C434<>\"\",B434&\"_\"&C434&\" \"&D434&\"/\"&E434,B434&\" \"&D434),\"\")","v":"1651 Construction In Progress (Non-Workday Projects)"},{"$f":"Worktags!AS50","v":"1651"},{"$f":"IF(Worktags!AQ50<>Worktags!AS50,Worktags!AQ50,\"\")","v":""},{"$f":"IFERROR(VLOOKUP(B434,Worktags!AL:AO,2,FALSE),\"\")","v":"Construction In Progress (Non-Workday Projects)"},{"$f":"IFERROR(VLOOKUP(C434,Worktags!O:T,2,FALSE),\"\")","v":""},"JE_PPE|JE_Override"]
[{"$f":"IF(B435<>\"\",IF(C435<>\"\",B435&\"_\"&C435&\" \"&D435&\"/\"&E435,B435&\" \"&D435),\"\")","v":"1651_SC6106 Construction In Progress (Non-Workday Projects)/Audio Visual Supplies"},{"$f":"Worktags!AS337","v":"1651"},{"$f":"IF(Worktags!AQ337<>Worktags!AS337,Worktags!AQ337,\"\")","v":"SC6106"},{"$f":"IFERROR(VLOOKUP(B435,Worktags!AL:AO,2,FALSE),\"\")","v":"Construction In Progress (Non-Workday Projects)"},{"$f":"IFERROR(VLOOKUP(C435,Worktags!O:T,2,FALSE),\"\")","v":"Audio Visual Supplies"},"JE_PPE|JE_Override"]
[{"$f":"IF(B436<>\"\",IF(C436<>\"\",B436&\"_\"&C436&\" \"&D436&\"/\"&E436,B436&\" \"&D436),\"\")","v":"1651_SC6108 Construction In Progress (Non-Workday Projects)/Data Network Supplies"},{"$f":"Worktags!AS346","v":"1651"},{"$f":"IF(Worktags!AQ346<>Worktags!AS346,Worktags!AQ346,\"\")","v":"SC6108"},{"$f":"IFERROR(VLOOKUP(B436,Worktags!AL:AO,2,FALSE),\"\")","v":"Construction In Progress (Non-Workday Projects)"},{"$f":"IFERROR(VLOOKUP(C436,Worktags!O:T,2,FALSE),\"\")","v":"Data Network Supplies"},"JE_PPE|JE_Override"]
[{"$f":"IF(B437<>\"\",IF(C437<>\"\",B437&\"_\"&C437&\" \"&D437&\"/\"&E437,B437&\" \"&D437),\"\")","v":"1651_SC6129 Construction In Progress (Non-Workday Projects)/Supplies (not otherwise specified)"},{"$f":"Worktags!AS404","v":"1651"},{"$f":"IF(Worktags!AQ404<>Worktags!AS404,Worktags!AQ404,\"\")","v":"SC6129"},{"$f":"IFERROR(VLOOKUP(B437,Worktags!AL:AO,2,FALSE),\"\")","v":"Construction In Progress (Non-Workday Projects)"},{"$f":"IFERROR(VLOOKUP(C437,Worktags!O:T,2,FALSE),\"\")","v":"Supplies (not otherwise specified)"},"JE_PPE|JE_Override"]
[{"$f":"IF(B438<>\"\",IF(C438<>\"\",B438&\"_\"&C438&\" \"&D438&\"/\"&E438,B438&\" \"&D438),\"\")","v":"1651_SC6131 Construction In Progress (Non-Workday Projects)/Telecom Supplies"},{"$f":"Worktags!AS411","v":"1651"},{"$f":"IF(Worktags!AQ411<>Worktags!AS411,Worktags!AQ411,\"\")","v":"SC6131"},{"$f":"IFERROR(VLOOKUP(B438,Worktags!AL:AO,2,FALSE),\"\")","v":"Construction In Progress (Non-Workday Projects)"},{"$f":"IFERROR(VLOOKUP(C438,Worktags!O:T,2,FALSE),\"\")","v":"Telecom Supplies"},"All"]
[{"$f":"IF(B439<>\"\",IF(C439<>\"\",B439&\"_\"&C439&\" \"&D439&\"/\"&E439,B439&\" \"&D439),\"\")","v":"1651_SC6199 Construction In Progress (Non-Workday Projects)/Materials and Supplies (reclass)"},{"$f":"Worktags!AS422","v":"1651"},{"$f":"IF(Worktags!AQ422<>Worktags!AS422,Worktags!AQ422,\"\")","v":"SC6199"},{"$f":"IFERROR(VLOOKUP(B439,Worktags!AL:AO,2,FALSE),\"\")","v":"Construction In Progress (Non-Workday Projects)"},{"$f":"IFERROR(VLOOKUP(C439,Worktags!O:T,2,FALSE),\"\")","v":"Materials and Supplies (reclass)"},"All"]
[{"$f":"IF(B440<>\"\",IF(C440<>\"\",B440&\"_\"&C440&\" \"&D440&\"/\"&E440,B440&\" \"&D440),\"\")","v":"1651_SC6404 Construction In Progress (Non-Workday Projects)/Architectural or Engineering Services"},{"$f":"Worktags!AS440","v":"1651"},{"$f":"IF(Worktags!AQ440<>Worktags!AS440,Worktags!AQ440,\"\")","v":"SC6404"},{"$f":"IFERROR(VLOOKUP(B440,Worktags!AL:AO,2,FALSE),\"\")","v":"Construction In Progress (Non-Workday Projects)"},{"$f":"IFERROR(VLOOKUP(C440,Worktags!O:T,2,FALSE),\"\")","v":"Architectural or Engineering Services"},"All"]
[{"$f":"IF(B441<>\"\",IF(C441<>\"\",B441&\"_\"&C441&\" \"&D441&\"/\"&E441,B441&\" \"&D441),\"\")","v":"1651_SC6414 Construction In Progress (Non-Workday Projects)/Computer Services"},{"$f":"Worktags!AS459","v":"1651"},{"$f":"IF(Worktags!AQ459<>Worktags!AS459,Worktags!AQ459,\"\")","v":"SC6414"},{"$f":"IFERROR(VLOOKUP(B441,Worktags!AL:AO,2,FALSE),\"\")","v":"Construction In Progress (Non-Workday Projects)"},{"$f":"IFERROR(VLOOKUP(C441,Worktags!O:T,2,FALSE),\"\")","v":"Computer Services"},"All"]
[{"$f":"IF(B442<>\"\",IF(C442<>\"\",B442&\"_\"&C442&\" \"&D442&\"/\"&E442,B442&\" \"&D442),\"\")","v":"1651_SC6435 Construction In Progress (Non-Workday Projects)/Misc Independent Contractors"},{"$f":"Worktags!AS500","v":"1651"},{"$f":"IF(Worktags!AQ500<>Worktags!AS500,Worktags!AQ500,\"\")","v":"SC6435"},{"$f":"IFERROR(VLOOKUP(B442,Worktags!AL:AO,2,FALSE),\"\")","v":"Construction In Progress (Non-Workday Projects)"},{"$f":"IFERROR(VLOOKUP(C442,Worktags!O:T,2,FALSE),\"\")","v":"Misc Independent Contractors"},"All"]
[{"$f":"IF(B443<>\"\",IF(C443<>\"\",B443&\"_\"&C443&\" \"&D443&\"/\"&E443,B443&\" \"&D443),\"\")","v":"1651_SC6449 Construction In Progress (Non-Workday Projects)/Rent/Lease < = 1 year"},{"$f":"Worktags!AS528","v":"1651"},{"$f":"IF(Worktags!AQ528<>Worktags!AS528,Worktags!AQ528,\"\")","v":"SC6449"},{"$f":"IFERROR(VLOOKUP(B443,Worktags!AL:AO,2,FALSE),\"\")","v":"Construction In Progress (Non-Workday Projects)"},{"$f":"IFERROR(VLOOKUP(C443,Worktags!O:T,2,FALSE),\"\")","v":"Rent/Lease < = 1 year"},"All"]
[{"$f":"IF(B444<>\"\",IF(C444<>\"\",B444&\"_\"&C444&\" \"&D444&\"/\"&E444,B444&\" \"&D444),\"\")","v":"1651_SC6450 Construction In Progress (Non-Workday Projects)/Rent/Lease >1 Year"},{"$f":"Worktags!AS532","v":"1651"},{"$f":"IF(Worktags!AQ532<>Worktags!AS532,Worktags!AQ532,\"\")","v":"SC6450"},{"$f":"IFERROR(VLOOKUP(B444,Worktags!AL:AO,2,FALSE),\"\")","v":"Construction In Progress (Non-Workday Projects)"},{"$f":"IFERROR(VLOOKUP(C444,Worktags!O:T,2,FALSE),\"\")","v":"Rent/Lease >1 Year"},"All"]
[{"$f":"IF(B445<>\"\",IF(C445<>\"\",B445&\"_\"&C445&\" \"&D445&\"/\"&E445,B445&\" \"&D445),\"\")","v":"1651_SC6455 Construction In Progress (Non-Workday Projects)/Services (not otherwise specified)"},{"$f":"Worktags!AS544","v":"1651"},{"$f":"IF(Worktags!AQ544<>Worktags!AS544,Worktags!AQ544,\"\")","v":"SC6455"},{"$f":"IFERROR(VLOOKUP(B445,Worktags!AL:AO,2,FALSE),\"\")","v":"Construction In Progress (Non-Workday Projects)"},{"$f":"IFERROR(VLOOKUP(C445,Worktags!O:T,2,FALSE),\"\")","v":"Services (not otherwise specified)"},"All"]
[{"$f":"IF(B446<>\"\",IF(C446<>\"\",B446&\"_\"&C446&\" \"&D446&\"/\"&E446,B446&\" \"&D446),\"\")","v":"1651_SC6499 Construction In Progress (Non-Workday Projects)/General and Administrative (reclass)"},{"$f":"Worktags!AS568","v":"1651"},{"$f":"IF(Worktags!AQ568<>Worktags!AS568,Worktags!AQ568,\"\")","v":"SC6499"},{"$f":"IFERROR(VLOOKUP(B446,Worktags!AL:AO,2,FALSE),\"\")","v":"Construction In Progress (Non-Workday Projects)"},{"$f":"IFERROR(VLOOKUP(C446,Worktags!O:T,2,FALSE),\"\")","v":"General and Administrative (reclass)"},"All"]
[{"$f":"IF(B447<>\"\",IF(C447<>\"\",B447&\"_\"&C447&\" \"&D447&\"/\"&E447,B447&\" \"&D447),\"\")","v":"1651_SC6701 Construction In Progress (Non-Workday Projects)/Building Access Supplies"},{"$f":"Worktags!AS574","v":"1651"},{"$f":"IF(Worktags!AQ574<>Worktags!AS574,Worktags!AQ574,\"\")","v":"SC6701"},{"$f":"IFERROR(VLOOKUP(B447,Worktags!AL:AO,2,FALSE),\"\")","v":"Construction In Progress (Non-Workday Projects)"},{"$f":"IFERROR(VLOOKUP(C447,Worktags!O:T,2,FALSE),\"\")","v":"Building Access Supplies"},"All"]
[{"$f":"IF(B448<>\"\",IF(C448<>\"\",B448&\"_\"&C448&\" \"&D448&\"/\"&E448,B448&\" \"&D448),\"\")","v":"1651_SC6702 Construction In Progress (Non-Workday Projects)/Building Construction and Improvements"},{"$f":"Worktags!AS581","v":"1651"},{"$f":"IF(Worktags!AQ581<>Worktags!AS581,Worktags!AQ581,\"\")","v":"SC6702"},{"$f":"IFERROR(VLOOKUP(B448,Worktags!AL:AO,2,FALSE),\"\")","v":"Construction In Progress (Non-Workday Projects)"},{"$f":"IFERROR(VLOOKUP(C448,Worktags!O:T,2,FALSE),\"\")","v":"Building Construction and Improvements"},"All"]
[{"$f":"IF(B449<>\"\",IF(C449<>\"\",B449&\"_\"&C449&\" \"&D449&\"/\"&E449,B449&\" \"&D449),\"\")","v":"1651_SC6703 Construction In Progress (Non-Workday Projects)/Building Furnishings"},{"$f":"Worktags!AS588","v":"1651"},{"$f":"IF(Worktags!AQ588<>Worktags!AS588,Worktags!AQ588,\"\")","v":"SC6703"},{"$f":"IFERROR(VLOOKUP(B449,Worktags!AL:AO,2,FALSE),\"\")","v":"Construction In Progress (Non-Workday Projects)"},{"$f":"IFERROR(VLOOKUP(C449,Worktags!O:T,2,FALSE),\"\")","v":"Building Furnishings"},"All"]
[{"$f":"IF(B450<>\"\",IF(C450<>\"\",B450&\"_\"&C450&\" \"&D450&\"/\"&E450,B450&\" \"&D450),\"\")","v":"1651_SC6704 Construction In Progress (Non-Workday Projects)/Building Materials - Finishing"},{"$f":"Worktags!AS595","v":"1651"},{"$f":"IF(Worktags!AQ595<>Worktags!AS595,Worktags!AQ595,\"\")","v":"SC6704"},{"$f":"IFERROR(VLOOKUP(B450,Worktags!AL:AO,2,FALSE),\"\")","v":"Construction In Progress (Non-Workday Projects)"},{"$f":"IFERROR(VLOOKUP(C450,Worktags!O:T,2,FALSE),\"\")","v":"Building Materials - Finishing"},"All"]
[{"$f":"IF(B451<>\"\",IF(C451<>\"\",B451&\"_\"&C451&\" \"&D451&\"/\"&E451,B451&\" \"&D451),\"\")","v":"1651_SC6705 Construction In Progress (Non-Workday Projects)/Building Materials - Raw"},{"$f":"Worktags!AS602","v":"1651"},{"$f":"IF(Worktags!AQ602<>Worktags!AS602,Worktags!AQ602,\"\")","v":"SC6705"},{"$f":"IFERROR(VLOOKUP(B451,Worktags!AL:AO,2,FALSE),\"\")","v":"Construction In Progress (Non-Workday Projects)"},{"$f":"IFERROR(VLOOKUP(C451,Worktags!O:T,2,FALSE),\"\")","v":"Building Materials - Raw"},"All"]
[{"$f":"IF(B452<>\"\",IF(C452<>\"\",B452&\"_\"&C452&\" \"&D452&\"/\"&E452,B452&\" \"&D452),\"\")","v":"1651_SC6706 Construction In Progress (Non-Workday Projects)/Electrical Devices"},{"$f":"Worktags!AS609","v":"1651"},{"$f":"IF(Worktags!AQ609<>Worktags!AS609,Worktags!AQ609,\"\")","v":"SC6706"},{"$f":"IFERROR(VLOOKUP(B452,Worktags!AL:AO,2,FALSE),\"\")","v":"Construction In Progress (Non-Workday Projects)"},{"$f":"IFERROR(VLOOKUP(C452,Worktags!O:T,2,FALSE),\"\")","v":"Electrical Devices"},"All"]
[{"$f":"IF(B453<>\"\",IF(C453<>\"\",B453&\"_\"&C453&\" \"&D453&\"/\"&E453,B453&\" \"&D453),\"\")","v":"1651_SC6707 Construction In Progress (Non-Workday Projects)/Electrical Supplies"},{"$f":"Worktags!AS615","v":"1651"},{"$f":"IF(Worktags!AQ615<>Worktags!AS615,Worktags!AQ615,\"\")","v":"SC6707"},{"$f":"IFERROR(VLOOKUP(B453,Worktags!AL:AO,2,FALSE),\"\")","v":"Construction In Progress (Non-Workday Projects)"},{"$f":"IFERROR(VLOOKUP(C453,Worktags!O:T,2,FALSE),\"\")","v":"Electrical Supplies"},"All"]
[{"$f":"IF(B454<>\"\",IF(C454<>\"\",B454&\"_\"&C454&\" \"&D454&\"/\"&E454,B454&\" \"&D454),\"\")","v":"1651_SC6708 Construction In Progress (Non-Workday Projects)/Fans/Furnaces"},{"$f":"Worktags!AS621","v":"1651"},{"$f":"IF(Worktags!AQ621<>Worktags!AS621,Worktags!AQ621,\"\")","v":"SC6708"},{"$f":"IFERROR(VLOOKUP(B454,Worktags!AL:AO,2,FALSE),\"\")","v":"Construction In Progress (Non-Workday Projects)"},{"$f":"IFERROR(VLOOKUP(C454,Worktags!O:T,2,FALSE),\"\")","v":"Fans/Furnaces"},"All"]
[{"$f":"IF(B455<>\"\",IF(C455<>\"\",B455&\"_\"&C455&\" \"&D455&\"/\"&E455,B455&\" \"&D455),\"\")","v":"1651_SC6709 Construction In Progress (Non-Workday Projects)/Flooring Materials"},{"$f":"Worktags!AS628","v":"1651"},{"$f":"IF(Worktags!AQ628<>Worktags!AS628,Worktags!AQ628,\"\")","v":"SC6709"},{"$f":"IFERROR(VLOOKUP(B455,Worktags!AL:AO,2,FALSE),\"\")","v":"Construction In Progress (Non-Workday Projects)"},{"$f":"IFERROR(VLOOKUP(C455,Worktags!O:T,2,FALSE),\"\")","v":"Flooring Materials"},"All"]
[{"$f":"IF(B456<>\"\",IF(C456<>\"\",B456&\"_\"&C456&\" \"&D456&\"/\"&E456,B456&\" \"&D456),\"\")","v":"1651_SC6710 Construction In Progress (Non-Workday Projects)/Furnishing Accessories"},{"$f":"Worktags!AS635","v":"1651"},{"$f":"IF(Worktags!AQ635<>Worktags!AS635,Worktags!AQ635,\"\")","v":"SC6710"},{"$f":"IFERROR(VLOOKUP(B456,Worktags!AL:AO,2,FALSE),\"\")","v":"Construction In Progress (Non-Workday Projects)"},{"$f":"IFERROR(VLOOKUP(C456,Worktags!O:T,2,FALSE),\"\")","v":"Furnishing Accessories"},"All"]
[{"$f":"IF(B457<>\"\",IF(C457<>\"\",B457&\"_\"&C457&\" \"&D457&\"/\"&E457,B457&\" \"&D457),\"\")","v":"1651_SC6711 Construction In Progress (Non-Workday Projects)/Grounds and Landscaping Supplies"},{"$f":"Worktags!AS642","v":"1651"},{"$f":"IF(Worktags!AQ642<>Worktags!AS642,Worktags!AQ642,\"\")","v":"SC6711"},{"$f":"IFERROR(VLOOKUP(B457,Worktags!AL:AO,2,FALSE),\"\")","v":"Construction In Progress (Non-Workday Projects)"},{"$f":"IFERROR(VLOOKUP(C457,Worktags!O:T,2,FALSE),\"\")","v":"Grounds and Landscaping Supplies"},"All"]
[{"$f":"IF(B458<>\"\",IF(C458<>\"\",B458&\"_\"&C458&\" \"&D458&\"/\"&E458,B458&\" \"&D458),\"\")","v":"1651_SC6713 Construction In Progress (Non-Workday Projects)/Industrial Fixtures"},{"$f":"Worktags!AS651","v":"1651"},{"$f":"IF(Worktags!AQ651<>Worktags!AS651,Worktags!AQ651,\"\")","v":"SC6713"},{"$f":"IFERROR(VLOOKUP(B458,Worktags!AL:AO,2,FALSE),\"\")","v":"Construction In Progress (Non-Workday Projects)"},{"$f":"IFERROR(VLOOKUP(C458,Worktags!O:T,2,FALSE),\"\")","v":"Industrial Fixtures"},"All"]
[{"$f":"IF(B459<>\"\",IF(C459<>\"\",B459&\"_\"&C459&\" \"&D459&\"/\"&E459,B459&\" \"&D459),\"\")","v":"1651_SC6714 Construction In Progress (Non-Workday Projects)/Lighting Fixtures and Lamps"},{"$f":"Worktags!AS658","v":"1651"},{"$f":"IF(Worktags!AQ658<>Worktags!AS658,Worktags!AQ658,\"\")","v":"SC6714"},{"$f":"IFERROR(VLOOKUP(B459,Worktags!AL:AO,2,FALSE),\"\")","v":"Construction In Progress (Non-Workday Projects)"},{"$f":"IFERROR(VLOOKUP(C459,Worktags!O:T,2,FALSE),\"\")","v":"Lighting Fixtures and Lamps"},"All"]
[{"$f":"IF(B460<>\"\",IF(C460<>\"\",B460&\"_\"&C460&\" \"&D460&\"/\"&E460,B460&\" \"&D460),\"\")","v":"1651_SC6715 Construction In Progress (Non-Workday Projects)/Plumbing Fixtures"},{"$f":"Worktags!AS665","v":"1651"},{"$f":"IF(Worktags!AQ665<>Worktags!AS665,Worktags!AQ665,\"\")","v":"SC6715"},{"$f":"IFERROR(VLOOKUP(B460,Worktags!AL:AO,2,FALSE),\"\")","v":"Construction In Progress (Non-Workday Projects)"},{"$f":"IFERROR(VLOOKUP(C460,Worktags!O:T,2,FALSE),\"\")","v":"Plumbing Fixtures"},"All"]
[{"$f":"IF(B461<>\"\",IF(C461<>\"\",B461&\"_\"&C461&\" \"&D461&\"/\"&E461,B461&\" \"&D461),\"\")","v":"1651_SC6716 Construction In Progress (Non-Workday Projects)/Retainage"},{"$f":"Worktags!AS670","v":"1651"},{"$f":"IF(Worktags!AQ670<>Worktags!AS670,Worktags!AQ670,\"\")","v":"SC6716"},{"$f":"IFERROR(VLOOKUP(B461,Worktags!AL:AO,2,FALSE),\"\")","v":"Construction In Progress (Non-Workday Projects)"},{"$f":"IFERROR(VLOOKUP(C461,Worktags!O:T,2,FALSE),\"\")","v":"Retainage"},"All"]
[{"$f":"IF(B462<>\"\",IF(C462<>\"\",B462&\"_\"&C462&\" \"&D462&\"/\"&E462,B462&\" \"&D462),\"\")","v":"1651_SC6717 Construction In Progress (Non-Workday Projects)/Retainage Interest"},{"$f":"Worktags!AS673","v":"1651"},{"$f":"IF(Worktags!AQ673<>Worktags!AS673,Worktags!AQ673,\"\")","v":"SC6717"},{"$f":"IFERROR(VLOOKUP(B462,Worktags!AL:AO,2,FALSE),\"\")","v":"Construction In Progress (Non-Workday Projects)"},{"$f":"IFERROR(VLOOKUP(C462,Worktags!O:T,2,FALSE),\"\")","v":"Retainage Interest"},"All"]
[{"$f":"IF(B463<>\"\",IF(C463<>\"\",B463&\"_\"&C463&\" \"&D463&\"/\"&E463,B463&\" \"&D463),\"\")","v":"1651_SC6718 Construction In Progress (Non-Workday Projects)/Signage, Electronic"},{"$f":"Worktags!AS678","v":"1651"},{"$f":"IF(Worktags!AQ678<>Worktags!AS678,Worktags!AQ678,\"\")","v":"SC6718"},{"$f":"IFERROR(VLOOKUP(B463,Worktags!AL:AO,2,FALSE),\"\")","v":"Construction In Progress (Non-Workday Projects)"},{"$f":"IFERROR(VLOOKUP(C463,Worktags!O:T,2,FALSE),\"\")","v":"Signage, Electronic"},"All"]
[{"$f":"IF(B464<>\"\",IF(C464<>\"\",B464&\"_\"&C464&\" \"&D464&\"/\"&E464,B464&\" \"&D464),\"\")","v":"1651_SC6719 Construction In Progress (Non-Workday Projects)/Signage, Non-electronic"},{"$f":"Worktags!AS685","v":"1651"},{"$f":"IF(Worktags!AQ685<>Worktags!AS685,Worktags!AQ685,\"\")","v":"SC6719"},{"$f":"IFERROR(VLOOKUP(B464,Worktags!AL:AO,2,FALSE),\"\")","v":"Construction In Progress (Non-Workday Projects)"},{"$f":"IFERROR(VLOOKUP(C464,Worktags!O:T,2,FALSE),\"\")","v":"Signage, Non-electronic"},"All"]
[{"$f":"IF(B465<>\"\",IF(C465<>\"\",B465&\"_\"&C465&\" \"&D465&\"/\"&E465,B465&\" \"&D465),\"\")","v":"1651_SC6720 Construction In Progress (Non-Workday Projects)/Specialized Trade Services - Physical Facilities"},{"$f":"Worktags!AS691","v":"1651"},{"$f":"IF(Worktags!AQ691<>Worktags!AS691,Worktags!AQ691,\"\")","v":"SC6720"},{"$f":"IFERROR(VLOOKUP(B465,Worktags!AL:AO,2,FALSE),\"\")","v":"Construction In Progress (Non-Workday Projects)"},{"$f":"IFERROR(VLOOKUP(C465,Worktags!O:T,2,FALSE),\"\")","v":"Specialized Trade Services - Physical Facilities"},"All"]
[{"$f":"IF(B466<>\"\",IF(C466<>\"\",B466&\"_\"&C466&\" \"&D466&\"/\"&E466,B466&\" \"&D466),\"\")","v":"1651_SC6721 Construction In Progress (Non-Workday Projects)/Stage and Studio Lighting (Asset Track)"},{"$f":"Worktags!AS696","v":"1651"},{"$f":"IF(Worktags!AQ696<>Worktags!AS696,Worktags!AQ696,\"\")","v":"SC6721"},{"$f":"IFERROR(VLOOKUP(B466,Worktags!AL:AO,2,FALSE),\"\")","v":"Construction In Progress (Non-Workday Projects)"},{"$f":"IFERROR(VLOOKUP(C466,Worktags!O:T,2,FALSE),\"\")","v":"Stage and Studio Lighting (Asset Track)"},"All"]
[{"$f":"IF(B467<>\"\",IF(C467<>\"\",B467&\"_\"&C467&\" \"&D467&\"/\"&E467,B467&\" \"&D467),\"\")","v":"1651_SC6729 Construction In Progress (Non-Workday Projects)/Warehouse Fixtures"},{"$f":"Worktags!AS717","v":"1651"},{"$f":"IF(Worktags!AQ717<>Worktags!AS717,Worktags!AQ717,\"\")","v":"SC6729"},{"$f":"IFERROR(VLOOKUP(B467,Worktags!AL:AO,2,FALSE),\"\")","v":"Construction In Progress (Non-Workday Projects)"},{"$f":"IFERROR(VLOOKUP(C467,Worktags!O:T,2,FALSE),\"\")","v":"Warehouse Fixtures"},"All"]
[{"$f":"IF(B468<>\"\",IF(C468<>\"\",B468&\"_\"&C468&\" \"&D468&\"/\"&E468,B468&\" \"&D468),\"\")","v":"1651_SC6730 Construction In Progress (Non-Workday Projects)/Window Treatments"},{"$f":"Worktags!AS724","v":"1651"},{"$f":"IF(Worktags!AQ724<>Worktags!AS724,Worktags!AQ724,\"\")","v":"SC6730"},{"$f":"IFERROR(VLOOKUP(B468,Worktags!AL:AO,2,FALSE),\"\")","v":"Construction In Progress (Non-Workday Projects)"},{"$f":"IFERROR(VLOOKUP(C468,Worktags!O:T,2,FALSE),\"\")","v":"Window Treatments"},"All"]
[{"$f":"IF(B469<>\"\",IF(C469<>\"\",B469&\"_\"&C469&\" \"&D469&\"/\"&E469,B469&\" \"&D469),\"\")","v":"1651_SC6799 Construction In Progress (Non-Workday Projects)/Physical Facilities (reclass)"},{"$f":"Worktags!AS734","v":"1651"},{"$f":"IF(Worktags!AQ734<>Worktags!AS734,Worktags!AQ734,\"\")","v":"SC6799"},{"$f":"IFERROR(VLOOKUP(B469,Worktags!AL:AO,2,FALSE),\"\")","v":"Construction In Progress (Non-Workday Projects)"},{"$f":"IFERROR(VLOOKUP(C469,Worktags!O:T,2,FALSE),\"\")","v":"Physical Facilities (reclass)"},"All"]
[{"$f":"IF(B470<>\"\",IF(C470<>\"\",B470&\"_\"&C470&\" \"&D470&\"/\"&E470,B470&\" \"&D470),\"\")","v":"1651_SC6901 Construction In Progress (Non-Workday Projects)/Art Equipment"},{"$f":"Worktags!AS739","v":"1651"},{"$f":"IF(Worktags!AQ739<>Worktags!AS739,Worktags!AQ739,\"\")","v":"SC6901"},{"$f":"IFERROR(VLOOKUP(B470,Worktags!AL:AO,2,FALSE),\"\")","v":"Construction In Progress (Non-Workday Projects)"},{"$f":"IFERROR(VLOOKUP(C470,Worktags!O:T,2,FALSE),\"\")","v":"Art Equipment"},"All"]
[{"$f":"IF(B471<>\"\",IF(C471<>\"\",B471&\"_\"&C471&\" \"&D471&\"/\"&E471,B471&\" \"&D471),\"\")","v":"1651_SC6902 Construction In Progress (Non-Workday Projects)/Athletic Equipment"},{"$f":"Worktags!AS746","v":"1651"},{"$f":"IF(Worktags!AQ746<>Worktags!AS746,Worktags!AQ746,\"\")","v":"SC6902"},{"$f":"IFERROR(VLOOKUP(B471,Worktags!AL:AO,2,FALSE),\"\")","v":"Construction In Progress (Non-Workday Projects)"},{"$f":"IFERROR(VLOOKUP(C471,Worktags!O:T,2,FALSE),\"\")","v":"Athletic Equipment"},"All"]
[{"$f":"IF(B472<>\"\",IF(C472<>\"\",B472&\"_\"&C472&\" \"&D472&\"/\"&E472,B472&\" \"&D472),\"\")","v":"1651_SC6903 Construction In Progress (Non-Workday Projects)/Audio Visual Equipment (Asset Track)"},{"$f":"Worktags!AS753","v":"1651"},{"$f":"IF(Worktags!AQ753<>Worktags!AS753,Worktags!AQ753,\"\")","v":"SC6903"},{"$f":"IFERROR(VLOOKUP(B472,Worktags!AL:AO,2,FALSE),\"\")","v":"Construction In Progress (Non-Workday Projects)"},{"$f":"IFERROR(VLOOKUP(C472,Worktags!O:T,2,FALSE),\"\")","v":"Audio Visual Equipment (Asset Track)"},"All"]
[{"$f":"IF(B473<>\"\",IF(C473<>\"\",B473&\"_\"&C473&\" \"&D473&\"/\"&E473,B473&\" \"&D473),\"\")","v":"1651_SC6904 Construction In Progress (Non-Workday Projects)/Communication Devices (Asset Track)"},{"$f":"Worktags!AS760","v":"1651"},{"$f":"IF(Worktags!AQ760<>Worktags!AS760,Worktags!AQ760,\"\")","v":"SC6904"},{"$f":"IFERROR(VLOOKUP(B473,Worktags!AL:AO,2,FALSE),\"\")","v":"Construction In Progress (Non-Workday Projects)"},{"$f":"IFERROR(VLOOKUP(C473,Worktags!O:T,2,FALSE),\"\")","v":"Communication Devices (Asset Track)"},"All"]
[{"$f":"IF(B474<>\"\",IF(C474<>\"\",B474&\"_\"&C474&\" \"&D474&\"/\"&E474,B474&\" \"&D474),\"\")","v":"1651_SC6905 Construction In Progress (Non-Workday Projects)/Computer Hardware (Asset Track)"},{"$f":"Worktags!AS767","v":"1651"},{"$f":"IF(Worktags!AQ767<>Worktags!AS767,Worktags!AQ767,\"\")","v":"SC6905"},{"$f":"IFERROR(VLOOKUP(B474,Worktags!AL:AO,2,FALSE),\"\")","v":"Construction In Progress (Non-Workday Projects)"},{"$f":"IFERROR(VLOOKUP(C474,Worktags!O:T,2,FALSE),\"\")","v":"Computer Hardware (Asset Track)"},"All"]
[{"$f":"IF(B475<>\"\",IF(C475<>\"\",B475&\"_\"&C475&\" \"&D475&\"/\"&E475,B475&\" \"&D475),\"\")","v":"1651_SC6906 Construction In Progress (Non-Workday Projects)/Data Network Equipment (Asset Track)"},{"$f":"Worktags!AS774","v":"1651"},{"$f":"IF(Worktags!AQ774<>Worktags!AS774,Worktags!AQ774,\"\")","v":"SC6906"},{"$f":"IFERROR(VLOOKUP(B475,Worktags!AL:AO,2,FALSE),\"\")","v":"Construction In Progress (Non-Workday Projects)"},{"$f":"IFERROR(VLOOKUP(C475,Worktags!O:T,2,FALSE),\"\")","v":"Data Network Equipment (Asset Track)"},"All"]
[{"$f":"IF(B476<>\"\",IF(C476<>\"\",B476&\"_\"&C476&\" \"&D476&\"/\"&E476,B476&\" \"&D476),\"\")","v":"1651_SC6907 Construction In Progress (Non-Workday Projects)/Equipment (not otherwise specified) (Asset Track)"},{"$f":"Worktags!AS781","v":"1651"},{"$f":"IF(Worktags!AQ781<>Worktags!AS781,Worktags!AQ781,\"\")","v":"SC6907"},{"$f":"IFERROR(VLOOKUP(B476,Worktags!AL:AO,2,FALSE),\"\")","v":"Construction In Progress (Non-Workday Projects)"},{"$f":"IFERROR(VLOOKUP(C476,Worktags!O:T,2,FALSE),\"\")","v":"Equipment (not otherwise specified) (Asset Track)"},"All"]
[{"$f":"IF(B477<>\"\",IF(C477<>\"\",B477&\"_\"&C477&\" \"&D477&\"/\"&E477,B477&\" \"&D477),\"\")","v":"1651_SC6910 Construction In Progress (Non-Workday Projects)/Food Service Equipment"},{"$f":"Worktags!AS795","v":"1651"},{"$f":"IF(Worktags!AQ795<>Worktags!AS795,Worktags!AQ795,\"\")","v":"SC6910"},{"$f":"IFERROR(VLOOKUP(B477,Worktags!AL:AO,2,FALSE),\"\")","v":"Construction In Progress (Non-Workday Projects)"},{"$f":"IFERROR(VLOOKUP(C477,Worktags!O:T,2,FALSE),\"\")","v":"Food Service Equipment"},"All"]
[{"$f":"IF(B478<>\"\",IF(C478<>\"\",B478&\"_\"&C478&\" \"&D478&\"/\"&E478,B478&\" \"&D478),\"\")","v":"1651_SC6914 Construction In Progress (Non-Workday Projects)/Industrial Equipment"},{"$f":"Worktags!AS814","v":"1651"},{"$f":"IF(Worktags!AQ814<>Worktags!AS814,Worktags!AQ814,\"\")","v":"SC6914"},{"$f":"IFERROR(VLOOKUP(B478,Worktags!AL:AO,2,FALSE),\"\")","v":"Construction In Progress (Non-Workday Projects)"},{"$f":"IFERROR(VLOOKUP(C478,Worktags!O:T,2,FALSE),\"\")","v":"Industrial Equipment"},"All"]
[{"$f":"IF(B479<>\"\",IF(C479<>\"\",B479&\"_\"&C479&\" \"&D479&\"/\"&E479,B479&\" \"&D479),\"\")","v":"1651_SC6915 Construction In Progress (Non-Workday Projects)/Janitorial Equipment"},{"$f":"Worktags!AS821","v":"1651"},{"$f":"IF(Worktags!AQ821<>Worktags!AS821,Worktags!AQ821,\"\")","v":"SC6915"},{"$f":"IFERROR(VLOOKUP(B479,Worktags!AL:AO,2,FALSE),\"\")","v":"Construction In Progress (Non-Workday Projects)"},{"$f":"IFERROR(VLOOKUP(C479,Worktags!O:T,2,FALSE),\"\")","v":"Janitorial Equipment"},"All"]
[{"$f":"IF(B480<>\"\",IF(C480<>\"\",B480&\"_\"&C480&\" \"&D480&\"/\"&E480,B480&\" \"&D480),\"\")","v":"1651_SC6917 Construction In Progress (Non-Workday Projects)/Laundry Equipment"},{"$f":"Worktags!AS830","v":"1651"},{"$f":"IF(Worktags!AQ830<>Worktags!AS830,Worktags!AQ830,\"\")","v":"SC6917"},{"$f":"IFERROR(VLOOKUP(B480,Worktags!AL:AO,2,FALSE),\"\")","v":"Construction In Progress (Non-Workday Projects)"},{"$f":"IFERROR(VLOOKUP(C480,Worktags!O:T,2,FALSE),\"\")","v":"Laundry Equipment"},"All"]
[{"$f":"IF(B481<>\"\",IF(C481<>\"\",B481&\"_\"&C481&\" \"&D481&\"/\"&E481,B481&\" \"&D481),\"\")","v":"1651_SC6921 Construction In Progress (Non-Workday Projects)/Medical Equipment"},{"$f":"Worktags!AS849","v":"1651"},{"$f":"IF(Worktags!AQ849<>Worktags!AS849,Worktags!AQ849,\"\")","v":"SC6921"},{"$f":"IFERROR(VLOOKUP(B481,Worktags!AL:AO,2,FALSE),\"\")","v":"Construction In Progress (Non-Workday Projects)"},{"$f":"IFERROR(VLOOKUP(C481,Worktags!O:T,2,FALSE),\"\")","v":"Medical Equipment"},"All"]
[{"$f":"IF(B482<>\"\",IF(C482<>\"\",B482&\"_\"&C482&\" \"&D482&\"/\"&E482,B482&\" \"&D482),\"\")","v":"1651_SC6924 Construction In Progress (Non-Workday Projects)/Office Equipment (Asset Track)"},{"$f":"Worktags!AS863","v":"1651"},{"$f":"IF(Worktags!AQ863<>Worktags!AS863,Worktags!AQ863,\"\")","v":"SC6924"},{"$f":"IFERROR(VLOOKUP(B482,Worktags!AL:AO,2,FALSE),\"\")","v":"Construction In Progress (Non-Workday Projects)"},{"$f":"IFERROR(VLOOKUP(C482,Worktags!O:T,2,FALSE),\"\")","v":"Office Equipment (Asset Track)"},"All"]
[{"$f":"IF(B483<>\"\",IF(C483<>\"\",B483&\"_\"&C483&\" \"&D483&\"/\"&E483,B483&\" \"&D483),\"\")","v":"1651_SC6927 Construction In Progress (Non-Workday Projects)/Portable Structures"},{"$f":"Worktags!AS877","v":"1651"},{"$f":"IF(Worktags!AQ877<>Worktags!AS877,Worktags!AQ877,\"\")","v":"SC6927"},{"$f":"IFERROR(VLOOKUP(B483,Worktags!AL:AO,2,FALSE),\"\")","v":"Construction In Progress (Non-Workday Projects)"},{"$f":"IFERROR(VLOOKUP(C483,Worktags!O:T,2,FALSE),\"\")","v":"Portable Structures"},"All"]
[{"$f":"IF(B484<>\"\",IF(C484<>\"\",B484&\"_\"&C484&\" \"&D484&\"/\"&E484,B484&\" \"&D484),\"\")","v":"1651_SC6928 Construction In Progress (Non-Workday Projects)/Printing Equipment"},{"$f":"Worktags!AS884","v":"1651"},{"$f":"IF(Worktags!AQ884<>Worktags!AS884,Worktags!AQ884,\"\")","v":"SC6928"},{"$f":"IFERROR(VLOOKUP(B484,Worktags!AL:AO,2,FALSE),\"\")","v":"Construction In Progress (Non-Workday Projects)"},{"$f":"IFERROR(VLOOKUP(C484,Worktags!O:T,2,FALSE),\"\")","v":"Printing Equipment"},"All"]
[{"$f":"IF(B485<>\"\",IF(C485<>\"\",B485&\"_\"&C485&\" \"&D485&\"/\"&E485,B485&\" \"&D485),\"\")","v":"1651_SC6929 Construction In Progress (Non-Workday Projects)/Scientific and Engineering Equipment"},{"$f":"Worktags!AS891","v":"1651"},{"$f":"IF(Worktags!AQ891<>Worktags!AS891,Worktags!AQ891,\"\")","v":"SC6929"},{"$f":"IFERROR(VLOOKUP(B485,Worktags!AL:AO,2,FALSE),\"\")","v":"Construction In Progress (Non-Workday Projects)"},{"$f":"IFERROR(VLOOKUP(C485,Worktags!O:T,2,FALSE),\"\")","v":"Scientific and Engineering Equipment"},"All"]
[{"$f":"IF(B486<>\"\",IF(C486<>\"\",B486&\"_\"&C486&\" \"&D486&\"/\"&E486,B486&\" \"&D486),\"\")","v":"1651_SC6931 Construction In Progress (Non-Workday Projects)/Security Equipment (Asset Track)"},{"$f":"Worktags!AS900","v":"1651"},{"$f":"IF(Worktags!AQ900<>Worktags!AS900,Worktags!AQ900,\"\")","v":"SC6931"},{"$f":"IFERROR(VLOOKUP(B486,Worktags!AL:AO,2,FALSE),\"\")","v":"Construction In Progress (Non-Workday Projects)"},{"$f":"IFERROR(VLOOKUP(C486,Worktags!O:T,2,FALSE),\"\")","v":"Security Equipment (Asset Track)"},"All"]
[{"$f":"IF(B487<>\"\",IF(C487<>\"\",B487&\"_\"&C487&\" \"&D487&\"/\"&E487,B487&\" \"&D487),\"\")","v":"1651_SC6932 Construction In Progress (Non-Workday Projects)/Small Appliances"},{"$f":"Worktags!AS907","v":"1651"},{"$f":"IF(Worktags!AQ907<>Worktags!AS907,Worktags!AQ907,\"\")","v":"SC6932"},{"$f":"IFERROR(VLOOKUP(B487,Worktags!AL:AO,2,FALSE),\"\")","v":"Construction In Progress (Non-Workday Projects)"},{"$f":"IFERROR(VLOOKUP(C487,Worktags!O:T,2,FALSE),\"\")","v":"Small Appliances"},"All"]
[{"$f":"IF(B488<>\"\",IF(C488<>\"\",B488&\"_\"&C488&\" \"&D488&\"/\"&E488,B488&\" \"&D488),\"\")","v":"1651_SC6935 Construction In Progress (Non-Workday Projects)/Telecom Equipment"},{"$f":"Worktags!AS921","v":"1651"},{"$f":"IF(Worktags!AQ921<>Worktags!AS921,Worktags!AQ921,\"\")","v":"SC6935"},{"$f":"IFERROR(VLOOKUP(B488,Worktags!AL:AO,2,FALSE),\"\")","v":"Construction In Progress (Non-Workday Projects)"},{"$f":"IFERROR(VLOOKUP(C488,Worktags!O:T,2,FALSE),\"\")","v":"Telecom Equipment"},"All"]
[{"$f":"IF(B489<>\"\",IF(C489<>\"\",B489&\"_\"&C489&\" \"&D489&\"/\"&E489,B489&\" \"&D489),\"\")","v":"1651_SC6939 Construction In Progress (Non-Workday Projects)/Warehouse Equipment"},{"$f":"Worktags!AS940","v":"1651"},{"$f":"IF(Worktags!AQ940<>Worktags!AS940,Worktags!AQ940,\"\")","v":"SC6939"},{"$f":"IFERROR(VLOOKUP(B489,Worktags!AL:AO,2,FALSE),\"\")","v":"Construction In Progress (Non-Workday Projects)"},{"$f":"IFERROR(VLOOKUP(C489,Worktags!O:T,2,FALSE),\"\")","v":"Warehouse Equipment"},"All"]
[{"$f":"IF(B490<>\"\",IF(C490<>\"\",B490&\"_\"&C490&\" \"&D490&\"/\"&E490,B490&\" \"&D490),\"\")","v":"1651_SC6999 Construction In Progress (Non-Workday Projects)/Equipment (reclass)"},{"$f":"Worktags!AS974","v":"1651"},{"$f":"IF(Worktags!AQ974<>Worktags!AS974,Worktags!AQ974,\"\")","v":"SC6999"},{"$f":"IFERROR(VLOOKUP(B490,Worktags!AL:AO,2,FALSE),\"\")","v":"Construction In Progress (Non-Workday Projects)"},{"$f":"IFERROR(VLOOKUP(C490,Worktags!O:T,2,FALSE),\"\")","v":"Equipment (reclass)"},"All"]
[{"$f":"IF(B491<>\"\",IF(C491<>\"\",B491&\"_\"&C491&\" \"&D491&\"/\"&E491,B491&\" \"&D491),\"\")","v":"1700 Accumulated Depreciation"},{"$f":"Worktags!AL69","v":"1700"},null,{"$f":"IFERROR(VLOOKUP(B491,Worktags!AL:AO,2,FALSE),\"\")","v":"Accumulated Depreciation"},null,"All"]
[{"$f":"IF(B492<>\"\",IF(C492<>\"\",B492&\"_\"&C492&\" \"&D492&\"/\"&E492,B492&\" \"&D492),\"\")","v":"1700_SC1605 Accumulated Depreciation/Buildings"},{"$f":"Worktags!AS231","v":"1700"},{"$f":"IF(Worktags!AQ231<>Worktags!AS231,Worktags!AQ231,\"\")","v":"SC1605"},{"$f":"IFERROR(VLOOKUP(B492,Worktags!AL:AO,2,FALSE),\"\")","v":"Accumulated Depreciation"},{"$f":"IFERROR(VLOOKUP(C492,Worktags!O:T,2,FALSE),\"\")","v":"Buildings"},"All"]
[{"$f":"IF(B493<>\"\",IF(C493<>\"\",B493&\"_\"&C493&\" \"&D493&\"/\"&E493,B493&\" \"&D493),\"\")","v":"1700_SC1635 Accumulated Depreciation/Misc Capital Assets"},{"$f":"Worktags!AS235","v":"1700"},{"$f":"IF(Worktags!AQ235<>Worktags!AS235,Worktags!AQ235,\"\")","v":"SC1635"},{"$f":"IFERROR(VLOOKUP(B493,Worktags!AL:AO,2,FALSE),\"\")","v":"Accumulated Depreciation"},{"$f":"IFERROR(VLOOKUP(C493,Worktags!O:T,2,FALSE),\"\")","v":"Misc Capital Assets"},"All"]
[{"$f":"IF(B494<>\"\",IF(C494<>\"\",B494&\"_\"&C494&\" \"&D494&\"/\"&E494,B494&\" \"&D494),\"\")","v":"1700_SC6701 Accumulated Depreciation/Building Access Supplies"},{"$f":"Worktags!AS575","v":"1700"},{"$f":"IF(Worktags!AQ575<>Worktags!AS575,Worktags!AQ575,\"\")","v":"SC6701"},{"$f":"IFERROR(VLOOKUP(B494,Worktags!AL:AO,2,FALSE),\"\")","v":"Accumulated Depreciation"},{"$f":"IFERROR(VLOOKUP(C494,Worktags!O:T,2,FALSE),\"\")","v":"Building Access Supplies"},"All"]
[{"$f":"IF(B495<>\"\",IF(C495<>\"\",B495&\"_\"&C495&\" \"&D495&\"/\"&E495,B495&\" \"&D495),\"\")","v":"1700_SC6702 Accumulated Depreciation/Building Construction and Improvements"},{"$f":"Worktags!AS582","v":"1700"},{"$f":"IF(Worktags!AQ582<>Worktags!AS582,Worktags!AQ582,\"\")","v":"SC6702"},{"$f":"IFERROR(VLOOKUP(B495,Worktags!AL:AO,2,FALSE),\"\")","v":"Accumulated Depreciation"},{"$f":"IFERROR(VLOOKUP(C495,Worktags!O:T,2,FALSE),\"\")","v":"Building Construction and Improvements"},"All"]
[{"$f":"IF(B496<>\"\",IF(C496<>\"\",B496&\"_\"&C496&\" \"&D496&\"/\"&E496,B496&\" \"&D496),\"\")","v":"1700_SC6703 Accumulated Depreciation/Building Furnishings"},{"$f":"Worktags!AS589","v":"1700"},{"$f":"IF(Worktags!AQ589<>Worktags!AS589,Worktags!AQ589,\"\")","v":"SC6703"},{"$f":"IFERROR(VLOOKUP(B496,Worktags!AL:AO,2,FALSE),\"\")","v":"Accumulated Depreciation"},{"$f":"IFERROR(VLOOKUP(C496,Worktags!O:T,2,FALSE),\"\")","v":"Building Furnishings"},""]
[{"$f":"IF(B497<>\"\",IF(C497<>\"\",B497&\"_\"&C497&\" \"&D497&\"/\"&E497,B497&\" \"&D497),\"\")","v":"1700_SC6704 Accumulated Depreciation/Building Materials - Finishing"},{"$f":"Worktags!AS596","v":"1700"},{"$f":"IF(Worktags!AQ596<>Worktags!AS596,Worktags!AQ596,\"\")","v":"SC6704"},{"$f":"IFERROR(VLOOKUP(B497,Worktags!AL:AO,2,FALSE),\"\")","v":"Accumulated Depreciation"},{"$f":"IFERROR(VLOOKUP(C497,Worktags!O:T,2,FALSE),\"\")","v":"Building Materials - Finishing"},"JE_PPE|JE_Override"]
[{"$f":"IF(B498<>\"\",IF(C498<>\"\",B498&\"_\"&C498&\" \"&D498&\"/\"&E498,B498&\" \"&D498),\"\")","v":"1700_SC6705 Accumulated Depreciation/Building Materials - Raw"},{"$f":"Worktags!AS603","v":"1700"},{"$f":"IF(Worktags!AQ603<>Worktags!AS603,Worktags!AQ603,\"\")","v":"SC6705"},{"$f":"IFERROR(VLOOKUP(B498,Worktags!AL:AO,2,FALSE),\"\")","v":"Accumulated Depreciation"},{"$f":"IFERROR(VLOOKUP(C498,Worktags!O:T,2,FALSE),\"\")","v":"Building Materials - Raw"},"JE_PPE|JE_Override"]
[{"$f":"IF(B499<>\"\",IF(C499<>\"\",B499&\"_\"&C499&\" \"&D499&\"/\"&E499,B499&\" \"&D499),\"\")","v":"1700_SC6706 Accumulated Depreciation/Electrical Devices"},{"$f":"Worktags!AS610","v":"1700"},{"$f":"IF(Worktags!AQ610<>Worktags!AS610,Worktags!AQ610,\"\")","v":"SC6706"},{"$f":"IFERROR(VLOOKUP(B499,Worktags!AL:AO,2,FALSE),\"\")","v":"Accumulated Depreciation"},{"$f":"IFERROR(VLOOKUP(C499,Worktags!O:T,2,FALSE),\"\")","v":"Electrical Devices"},"JE_PPE|JE_Override"]
[{"$f":"IF(B500<>\"\",IF(C500<>\"\",B500&\"_\"&C500&\" \"&D500&\"/\"&E500,B500&\" \"&D500),\"\")","v":"1700_SC6708 Accumulated Depreciation/Fans/Furnaces"},{"$f":"Worktags!AS622","v":"1700"},{"$f":"IF(Worktags!AQ622<>Worktags!AS622,Worktags!AQ622,\"\")","v":"SC6708"},{"$f":"IFERROR(VLOOKUP(B500,Worktags!AL:AO,2,FALSE),\"\")","v":"Accumulated Depreciation"},{"$f":"IFERROR(VLOOKUP(C500,Worktags!O:T,2,FALSE),\"\")","v":"Fans/Furnaces"},"JE_PPE|JE_Override"]
[{"$f":"IF(B501<>\"\",IF(C501<>\"\",B501&\"_\"&C501&\" \"&D501&\"/\"&E501,B501&\" \"&D501),\"\")","v":"1700_SC6709 Accumulated Depreciation/Flooring Materials"},{"$f":"Worktags!AS629","v":"1700"},{"$f":"IF(Worktags!AQ629<>Worktags!AS629,Worktags!AQ629,\"\")","v":"SC6709"},{"$f":"IFERROR(VLOOKUP(B501,Worktags!AL:AO,2,FALSE),\"\")","v":"Accumulated Depreciation"},{"$f":"IFERROR(VLOOKUP(C501,Worktags!O:T,2,FALSE),\"\")","v":"Flooring Materials"},"JE_PPE|JE_Override"]
[{"$f":"IF(B502<>\"\",IF(C502<>\"\",B502&\"_\"&C502&\" \"&D502&\"/\"&E502,B502&\" \"&D502),\"\")","v":"1700_SC6710 Accumulated Depreciation/Furnishing Accessories"},{"$f":"Worktags!AS636","v":"1700"},{"$f":"IF(Worktags!AQ636<>Worktags!AS636,Worktags!AQ636,\"\")","v":"SC6710"},{"$f":"IFERROR(VLOOKUP(B502,Worktags!AL:AO,2,FALSE),\"\")","v":"Accumulated Depreciation"},{"$f":"IFERROR(VLOOKUP(C502,Worktags!O:T,2,FALSE),\"\")","v":"Furnishing Accessories"},"JE_PPE|JE_Override"]
[{"$f":"IF(B503<>\"\",IF(C503<>\"\",B503&\"_\"&C503&\" \"&D503&\"/\"&E503,B503&\" \"&D503),\"\")","v":"1700_SC6711 Accumulated Depreciation/Grounds and Landscaping Supplies"},{"$f":"Worktags!AS643","v":"1700"},{"$f":"IF(Worktags!AQ643<>Worktags!AS643,Worktags!AQ643,\"\")","v":"SC6711"},{"$f":"IFERROR(VLOOKUP(B503,Worktags!AL:AO,2,FALSE),\"\")","v":"Accumulated Depreciation"},{"$f":"IFERROR(VLOOKUP(C503,Worktags!O:T,2,FALSE),\"\")","v":"Grounds and Landscaping Supplies"},"JE_PPE|JE_Override"]
[{"$f":"IF(B504<>\"\",IF(C504<>\"\",B504&\"_\"&C504&\" \"&D504&\"/\"&E504,B504&\" \"&D504),\"\")","v":"1700_SC6713 Accumulated Depreciation/Industrial Fixtures"},{"$f":"Worktags!AS652","v":"1700"},{"$f":"IF(Worktags!AQ652<>Worktags!AS652,Worktags!AQ652,\"\")","v":"SC6713"},{"$f":"IFERROR(VLOOKUP(B504,Worktags!AL:AO,2,FALSE),\"\")","v":"Accumulated Depreciation"},{"$f":"IFERROR(VLOOKUP(C504,Worktags!O:T,2,FALSE),\"\")","v":"Industrial Fixtures"},"JE_PPE|JE_Override"]
[{"$f":"IF(B505<>\"\",IF(C505<>\"\",B505&\"_\"&C505&\" \"&D505&\"/\"&E505,B505&\" \"&D505),\"\")","v":"1700_SC6714 Accumulated Depreciation/Lighting Fixtures and Lamps"},{"$f":"Worktags!AS659","v":"1700"},{"$f":"IF(Worktags!AQ659<>Worktags!AS659,Worktags!AQ659,\"\")","v":"SC6714"},{"$f":"IFERROR(VLOOKUP(B505,Worktags!AL:AO,2,FALSE),\"\")","v":"Accumulated Depreciation"},{"$f":"IFERROR(VLOOKUP(C505,Worktags!O:T,2,FALSE),\"\")","v":"Lighting Fixtures and Lamps"},"JE_PPE|JE_Override"]
[{"$f":"IF(B506<>\"\",IF(C506<>\"\",B506&\"_\"&C506&\" \"&D506&\"/\"&E506,B506&\" \"&D506),\"\")","v":"1700_SC6715 Accumulated Depreciation/Plumbing Fixtures"},{"$f":"Worktags!AS666","v":"1700"},{"$f":"IF(Worktags!AQ666<>Worktags!AS666,Worktags!AQ666,\"\")","v":"SC6715"},{"$f":"IFERROR(VLOOKUP(B506,Worktags!AL:AO,2,FALSE),\"\")","v":"Accumulated Depreciation"},{"$f":"IFERROR(VLOOKUP(C506,Worktags!O:T,2,FALSE),\"\")","v":"Plumbing Fixtures"},"JE_PPE|JE_Override"]
[{"$f":"IF(B507<>\"\",IF(C507<>\"\",B507&\"_\"&C507&\" \"&D507&\"/\"&E507,B507&\" \"&D507),\"\")","v":"1700_SC6718 Accumulated Depreciation/Signage, Electronic"},{"$f":"Worktags!AS679","v":"1700"},{"$f":"IF(Worktags!AQ679<>Worktags!AS679,Worktags!AQ679,\"\")","v":"SC6718"},{"$f":"IFERROR(VLOOKUP(B507,Worktags!AL:AO,2,FALSE),\"\")","v":"Accumulated Depreciation"},{"$f":"IFERROR(VLOOKUP(C507,Worktags!O:T,2,FALSE),\"\")","v":"Signage, Electronic"},"JE_PPE|JE_Override"]
[{"$f":"IF(B508<>\"\",IF(C508<>\"\",B508&\"_\"&C508&\" \"&D508&\"/\"&E508,B508&\" \"&D508),\"\")","v":"1700_SC6719 Accumulated Depreciation/Signage, Non-electronic"},{"$f":"Worktags!AS686","v":"1700"},{"$f":"IF(Worktags!AQ686<>Worktags!AS686,Worktags!AQ686,\"\")","v":"SC6719"},{"$f":"IFERROR(VLOOKUP(B508,Worktags!AL:AO,2,FALSE),\"\")","v":"Accumulated Depreciation"},{"$f":"IFERROR(VLOOKUP(C508,Worktags!O:T,2,FALSE),\"\")","v":"Signage, Non-electronic"},"JE_PPE|JE_Override"]
[{"$f":"IF(B509<>\"\",IF(C509<>\"\",B509&\"_\"&C509&\" \"&D509&\"/\"&E509,B509&\" \"&D509),\"\")","v":"1700_SC6721 Accumulated Depreciation/Stage and Studio Lighting (Asset Track)"},{"$f":"Worktags!AS697","v":"1700"},{"$f":"IF(Worktags!AQ697<>Worktags!AS697,Worktags!AQ697,\"\")","v":"SC6721"},{"$f":"IFERROR(VLOOKUP(B509,Worktags!AL:AO,2,FALSE),\"\")","v":"Accumulated Depreciation"},{"$f":"IFERROR(VLOOKUP(C509,Worktags!O:T,2,FALSE),\"\")","v":"Stage and Studio Lighting (Asset Track)"},"JE_PPE|JE_Override"]
[{"$f":"IF(B510<>\"\",IF(C510<>\"\",B510&\"_\"&C510&\" \"&D510&\"/\"&E510,B510&\" \"&D510),\"\")","v":"1700_SC6729 Accumulated Depreciation/Warehouse Fixtures"},{"$f":"Worktags!AS718","v":"1700"},{"$f":"IF(Worktags!AQ718<>Worktags!AS718,Worktags!AQ718,\"\")","v":"SC6729"},{"$f":"IFERROR(VLOOKUP(B510,Worktags!AL:AO,2,FALSE),\"\")","v":"Accumulated Depreciation"},{"$f":"IFERROR(VLOOKUP(C510,Worktags!O:T,2,FALSE),\"\")","v":"Warehouse Fixtures"},"JE_PPE|JE_Override"]
[{"$f":"IF(B511<>\"\",IF(C511<>\"\",B511&\"_\"&C511&\" \"&D511&\"/\"&E511,B511&\" \"&D511),\"\")","v":"1700_SC6730 Accumulated Depreciation/Window Treatments"},{"$f":"Worktags!AS725","v":"1700"},{"$f":"IF(Worktags!AQ725<>Worktags!AS725,Worktags!AQ725,\"\")","v":"SC6730"},{"$f":"IFERROR(VLOOKUP(B511,Worktags!AL:AO,2,FALSE),\"\")","v":"Accumulated Depreciation"},{"$f":"IFERROR(VLOOKUP(C511,Worktags!O:T,2,FALSE),\"\")","v":"Window Treatments"},"JE_PPE|JE_Override"]
[{"$f":"IF(B512<>\"\",IF(C512<>\"\",B512&\"_\"&C512&\" \"&D512&\"/\"&E512,B512&\" \"&D512),\"\")","v":"1700_SC6901 Accumulated Depreciation/Art Equipment"},{"$f":"Worktags!AS740","v":"1700"},{"$f":"IF(Worktags!AQ740<>Worktags!AS740,Worktags!AQ740,\"\")","v":"SC6901"},{"$f":"IFERROR(VLOOKUP(B512,Worktags!AL:AO,2,FALSE),\"\")","v":"Accumulated Depreciation"},{"$f":"IFERROR(VLOOKUP(C512,Worktags!O:T,2,FALSE),\"\")","v":"Art Equipment"},"JE_PPE|JE_Override"]
[{"$f":"IF(B513<>\"\",IF(C513<>\"\",B513&\"_\"&C513&\" \"&D513&\"/\"&E513,B513&\" \"&D513),\"\")","v":"1700_SC6902 Accumulated Depreciation/Athletic Equipment"},{"$f":"Worktags!AS747","v":"1700"},{"$f":"IF(Worktags!AQ747<>Worktags!AS747,Worktags!AQ747,\"\")","v":"SC6902"},{"$f":"IFERROR(VLOOKUP(B513,Worktags!AL:AO,2,FALSE),\"\")","v":"Accumulated Depreciation"},{"$f":"IFERROR(VLOOKUP(C513,Worktags!O:T,2,FALSE),\"\")","v":"Athletic Equipment"},"JE_PPE|JE_Override"]
[{"$f":"IF(B514<>\"\",IF(C514<>\"\",B514&\"_\"&C514&\" \"&D514&\"/\"&E514,B514&\" \"&D514),\"\")","v":"1700_SC6903 Accumulated Depreciation/Audio Visual Equipment (Asset Track)"},{"$f":"Worktags!AS754","v":"1700"},{"$f":"IF(Worktags!AQ754<>Worktags!AS754,Worktags!AQ754,\"\")","v":"SC6903"},{"$f":"IFERROR(VLOOKUP(B514,Worktags!AL:AO,2,FALSE),\"\")","v":"Accumulated Depreciation"},{"$f":"IFERROR(VLOOKUP(C514,Worktags!O:T,2,FALSE),\"\")","v":"Audio Visual Equipment (Asset Track)"},"JE_PPE|JE_Override"]
[{"$f":"IF(B515<>\"\",IF(C515<>\"\",B515&\"_\"&C515&\" \"&D515&\"/\"&E515,B515&\" \"&D515),\"\")","v":"1700_SC6904 Accumulated Depreciation/Communication Devices (Asset Track)"},{"$f":"Worktags!AS761","v":"1700"},{"$f":"IF(Worktags!AQ761<>Worktags!AS761,Worktags!AQ761,\"\")","v":"SC6904"},{"$f":"IFERROR(VLOOKUP(B515,Worktags!AL:AO,2,FALSE),\"\")","v":"Accumulated Depreciation"},{"$f":"IFERROR(VLOOKUP(C515,Worktags!O:T,2,FALSE),\"\")","v":"Communication Devices (Asset Track)"},"JE_PPE|JE_Override"]
[{"$f":"IF(B516<>\"\",IF(C516<>\"\",B516&\"_\"&C516&\" \"&D516&\"/\"&E516,B516&\" \"&D516),\"\")","v":"1700_SC6905 Accumulated Depreciation/Computer Hardware (Asset Track)"},{"$f":"Worktags!AS768","v":"1700"},{"$f":"IF(Worktags!AQ768<>Worktags!AS768,Worktags!AQ768,\"\")","v":"SC6905"},{"$f":"IFERROR(VLOOKUP(B516,Worktags!AL:AO,2,FALSE),\"\")","v":"Accumulated Depreciation"},{"$f":"IFERROR(VLOOKUP(C516,Worktags!O:T,2,FALSE),\"\")","v":"Computer Hardware (Asset Track)"},"JE_PPE|JE_Override"]
[{"$f":"IF(B517<>\"\",IF(C517<>\"\",B517&\"_\"&C517&\" \"&D517&\"/\"&E517,B517&\" \"&D517),\"\")","v":"1700_SC6906 Accumulated Depreciation/Data Network Equipment (Asset Track)"},{"$f":"Worktags!AS775","v":"1700"},{"$f":"IF(Worktags!AQ775<>Worktags!AS775,Worktags!AQ775,\"\")","v":"SC6906"},{"$f":"IFERROR(VLOOKUP(B517,Worktags!AL:AO,2,FALSE),\"\")","v":"Accumulated Depreciation"},{"$f":"IFERROR(VLOOKUP(C517,Worktags!O:T,2,FALSE),\"\")","v":"Data Network Equipment (Asset Track)"},"JE_PPE|JE_Override"]
[{"$f":"IF(B518<>\"\",IF(C518<>\"\",B518&\"_\"&C518&\" \"&D518&\"/\"&E518,B518&\" \"&D518),\"\")","v":"1700_SC6907 Accumulated Depreciation/Equipment (not otherwise specified) (Asset Track)"},{"$f":"Worktags!AS782","v":"1700"},{"$f":"IF(Worktags!AQ782<>Worktags!AS782,Worktags!AQ782,\"\")","v":"SC6907"},{"$f":"IFERROR(VLOOKUP(B518,Worktags!AL:AO,2,FALSE),\"\")","v":"Accumulated Depreciation"},{"$f":"IFERROR(VLOOKUP(C518,Worktags!O:T,2,FALSE),\"\")","v":"Equipment (not otherwise specified) (Asset Track)"},"JE_PPE|JE_Override"]
[{"$f":"IF(B519<>\"\",IF(C519<>\"\",B519&\"_\"&C519&\" \"&D519&\"/\"&E519,B519&\" \"&D519),\"\")","v":"1700_SC6909 Accumulated Depreciation/Firearms"},{"$f":"Worktags!AS789","v":"1700"},{"$f":"IF(Worktags!AQ789<>Worktags!AS789,Worktags!AQ789,\"\")","v":"SC6909"},{"$f":"IFERROR(VLOOKUP(B519,Worktags!AL:AO,2,FALSE),\"\")","v":"Accumulated Depreciation"},{"$f":"IFERROR(VLOOKUP(C519,Worktags!O:T,2,FALSE),\"\")","v":"Firearms"},"JE_PPE|JE_Override"]
[{"$f":"IF(B520<>\"\",IF(C520<>\"\",B520&\"_\"&C520&\" \"&D520&\"/\"&E520,B520&\" \"&D520),\"\")","v":"1700_SC6910 Accumulated Depreciation/Food Service Equipment"},{"$f":"Worktags!AS796","v":"1700"},{"$f":"IF(Worktags!AQ796<>Worktags!AS796,Worktags!AQ796,\"\")","v":"SC6910"},{"$f":"IFERROR(VLOOKUP(B520,Worktags!AL:AO,2,FALSE),\"\")","v":"Accumulated Depreciation"},{"$f":"IFERROR(VLOOKUP(C520,Worktags!O:T,2,FALSE),\"\")","v":"Food Service Equipment"},"JE_PPE|JE_Override"]
[{"$f":"IF(B521<>\"\",IF(C521<>\"\",B521&\"_\"&C521&\" \"&D521&\"/\"&E521,B521&\" \"&D521),\"\")","v":"1700_SC6911 Accumulated Depreciation/Grants Capital Equipment"},{"$f":"Worktags!AS801","v":"1700"},{"$f":"IF(Worktags!AQ801<>Worktags!AS801,Worktags!AQ801,\"\")","v":"SC6911"},{"$f":"IFERROR(VLOOKUP(B521,Worktags!AL:AO,2,FALSE),\"\")","v":"Accumulated Depreciation"},{"$f":"IFERROR(VLOOKUP(C521,Worktags!O:T,2,FALSE),\"\")","v":"Grants Capital Equipment"},"JE_PPE|JE_Override"]
[{"$f":"IF(B522<>\"\",IF(C522<>\"\",B522&\"_\"&C522&\" \"&D522&\"/\"&E522,B522&\" \"&D522),\"\")","v":"1700_SC6913 Accumulated Depreciation/Grounds Equipment"},{"$f":"Worktags!AS808","v":"1700"},{"$f":"IF(Worktags!AQ808<>Worktags!AS808,Worktags!AQ808,\"\")","v":"SC6913"},{"$f":"IFERROR(VLOOKUP(B522,Worktags!AL:AO,2,FALSE),\"\")","v":"Accumulated Depreciation"},{"$f":"IFERROR(VLOOKUP(C522,Worktags!O:T,2,FALSE),\"\")","v":"Grounds Equipment"},"JE_PPE|JE_Override"]
[{"$f":"IF(B523<>\"\",IF(C523<>\"\",B523&\"_\"&C523&\" \"&D523&\"/\"&E523,B523&\" \"&D523),\"\")","v":"1700_SC6914 Accumulated Depreciation/Industrial Equipment"},{"$f":"Worktags!AS815","v":"1700"},{"$f":"IF(Worktags!AQ815<>Worktags!AS815,Worktags!AQ815,\"\")","v":"SC6914"},{"$f":"IFERROR(VLOOKUP(B523,Worktags!AL:AO,2,FALSE),\"\")","v":"Accumulated Depreciation"},{"$f":"IFERROR(VLOOKUP(C523,Worktags!O:T,2,FALSE),\"\")","v":"Industrial Equipment"},"JE_PPE|JE_Override"]
[{"$f":"IF(B524<>\"\",IF(C524<>\"\",B524&\"_\"&C524&\" \"&D524&\"/\"&E524,B524&\" \"&D524),\"\")","v":"1700_SC6915 Accumulated Depreciation/Janitorial Equipment"},{"$f":"Worktags!AS822","v":"1700"},{"$f":"IF(Worktags!AQ822<>Worktags!AS822,Worktags!AQ822,\"\")","v":"SC6915"},{"$f":"IFERROR(VLOOKUP(B524,Worktags!AL:AO,2,FALSE),\"\")","v":"Accumulated Depreciation"},{"$f":"IFERROR(VLOOKUP(C524,Worktags!O:T,2,FALSE),\"\")","v":"Janitorial Equipment"},"JE_PPE|JE_Override"]
[{"$f":"IF(B525<>\"\",IF(C525<>\"\",B525&\"_\"&C525&\" \"&D525&\"/\"&E525,B525&\" \"&D525),\"\")","v":"1700_SC6917 Accumulated Depreciation/Laundry Equipment"},{"$f":"Worktags!AS831","v":"1700"},{"$f":"IF(Worktags!AQ831<>Worktags!AS831,Worktags!AQ831,\"\")","v":"SC6917"},{"$f":"IFERROR(VLOOKUP(B525,Worktags!AL:AO,2,FALSE),\"\")","v":"Accumulated Depreciation"},{"$f":"IFERROR(VLOOKUP(C525,Worktags!O:T,2,FALSE),\"\")","v":"Laundry Equipment"},"JE_PPE|JE_Override"]
[{"$f":"IF(B526<>\"\",IF(C526<>\"\",B526&\"_\"&C526&\" \"&D526&\"/\"&E526,B526&\" \"&D526),\"\")","v":"1700_SC6918 Accumulated Depreciation/Library Content"},{"$f":"Worktags!AS836","v":"1700"},{"$f":"IF(Worktags!AQ836<>Worktags!AS836,Worktags!AQ836,\"\")","v":"SC6918"},{"$f":"IFERROR(VLOOKUP(B526,Worktags!AL:AO,2,FALSE),\"\")","v":"Accumulated Depreciation"},{"$f":"IFERROR(VLOOKUP(C526,Worktags!O:T,2,FALSE),\"\")","v":"Library Content"},"JE_PPE|JE_Override"]
[{"$f":"IF(B527<>\"\",IF(C527<>\"\",B527&\"_\"&C527&\" \"&D527&\"/\"&E527,B527&\" \"&D527),\"\")","v":"1700_SC6920 Accumulated Depreciation/Media Content"},{"$f":"Worktags!AS843","v":"1700"},{"$f":"IF(Worktags!AQ843<>Worktags!AS843,Worktags!AQ843,\"\")","v":"SC6920"},{"$f":"IFERROR(VLOOKUP(B527,Worktags!AL:AO,2,FALSE),\"\")","v":"Accumulated Depreciation"},{"$f":"IFERROR(VLOOKUP(C527,Worktags!O:T,2,FALSE),\"\")","v":"Media Content"},"JE_PPE|JE_Override"]
[{"$f":"IF(B528<>\"\",IF(C528<>\"\",B528&\"_\"&C528&\" \"&D528&\"/\"&E528,B528&\" \"&D528),\"\")","v":"1700_SC6921 Accumulated Depreciation/Medical Equipment"},{"$f":"Worktags!AS850","v":"1700"},{"$f":"IF(Worktags!AQ850<>Worktags!AS850,Worktags!AQ850,\"\")","v":"SC6921"},{"$f":"IFERROR(VLOOKUP(B528,Worktags!AL:AO,2,FALSE),\"\")","v":"Accumulated Depreciation"},{"$f":"IFERROR(VLOOKUP(C528,Worktags!O:T,2,FALSE),\"\")","v":"Medical Equipment"},"JE_PPE|JE_Override"]
[{"$f":"IF(B529<>\"\",IF(C529<>\"\",B529&\"_\"&C529&\" \"&D529&\"/\"&E529,B529&\" \"&D529),\"\")","v":"1700_SC6923 Accumulated Depreciation/Musical Instruments"},{"$f":"Worktags!AS857","v":"1700"},{"$f":"IF(Worktags!AQ857<>Worktags!AS857,Worktags!AQ857,\"\")","v":"SC6923"},{"$f":"IFERROR(VLOOKUP(B529,Worktags!AL:AO,2,FALSE),\"\")","v":"Accumulated Depreciation"},{"$f":"IFERROR(VLOOKUP(C529,Worktags!O:T,2,FALSE),\"\")","v":"Musical Instruments"},"JE_PPE|JE_Override"]
[{"$f":"IF(B530<>\"\",IF(C530<>\"\",B530&\"_\"&C530&\" \"&D530&\"/\"&E530,B530&\" \"&D530),\"\")","v":"1700_SC6924 Accumulated Depreciation/Office Equipment (Asset Track)"},{"$f":"Worktags!AS864","v":"1700"},{"$f":"IF(Worktags!AQ864<>Worktags!AS864,Worktags!AQ864,\"\")","v":"SC6924"},{"$f":"IFERROR(VLOOKUP(B530,Worktags!AL:AO,2,FALSE),\"\")","v":"Accumulated Depreciation"},{"$f":"IFERROR(VLOOKUP(C530,Worktags!O:T,2,FALSE),\"\")","v":"Office Equipment (Asset Track)"},"JE_PPE|JE_Override"]
[{"$f":"IF(B531<>\"\",IF(C531<>\"\",B531&\"_\"&C531&\" \"&D531&\"/\"&E531,B531&\" \"&D531),\"\")","v":"1700_SC6926 Accumulated Depreciation/Photography Equipment"},{"$f":"Worktags!AS871","v":"1700"},{"$f":"IF(Worktags!AQ871<>Worktags!AS871,Worktags!AQ871,\"\")","v":"SC6926"},{"$f":"IFERROR(VLOOKUP(B531,Worktags!AL:AO,2,FALSE),\"\")","v":"Accumulated Depreciation"},{"$f":"IFERROR(VLOOKUP(C531,Worktags!O:T,2,FALSE),\"\")","v":"Photography Equipment"},"JE_PPE|JE_Override"]
[{"$f":"IF(B532<>\"\",IF(C532<>\"\",B532&\"_\"&C532&\" \"&D532&\"/\"&E532,B532&\" \"&D532),\"\")","v":"1700_SC6927 Accumulated Depreciation/Portable Structures"},{"$f":"Worktags!AS878","v":"1700"},{"$f":"IF(Worktags!AQ878<>Worktags!AS878,Worktags!AQ878,\"\")","v":"SC6927"},{"$f":"IFERROR(VLOOKUP(B532,Worktags!AL:AO,2,FALSE),\"\")","v":"Accumulated Depreciation"},{"$f":"IFERROR(VLOOKUP(C532,Worktags!O:T,2,FALSE),\"\")","v":"Portable Structures"},"JE_PPE|JE_Override"]
[{"$f":"IF(B533<>\"\",IF(C533<>\"\",B533&\"_\"&C533&\" \"&D533&\"/\"&E533,B533&\" \"&D533),\"\")","v":"1700_SC6928 Accumulated Depreciation/Printing Equipment"},{"$f":"Worktags!AS885","v":"1700"},{"$f":"IF(Worktags!AQ885<>Worktags!AS885,Worktags!AQ885,\"\")","v":"SC6928"},{"$f":"IFERROR(VLOOKUP(B533,Worktags!AL:AO,2,FALSE),\"\")","v":"Accumulated Depreciation"},{"$f":"IFERROR(VLOOKUP(C533,Worktags!O:T,2,FALSE),\"\")","v":"Printing Equipment"},"JE_PPE|JE_Override"]
[{"$f":"IF(B534<>\"\",IF(C534<>\"\",B534&\"_\"&C534&\" \"&D534&\"/\"&E534,B534&\" \"&D534),\"\")","v":"1700_SC6929 Accumulated Depreciation/Scientific and Engineering Equipment"},{"$f":"Worktags!AS892","v":"1700"},{"$f":"IF(Worktags!AQ892<>Worktags!AS892,Worktags!AQ892,\"\")","v":"SC6929"},{"$f":"IFERROR(VLOOKUP(B534,Worktags!AL:AO,2,FALSE),\"\")","v":"Accumulated Depreciation"},{"$f":"IFERROR(VLOOKUP(C534,Worktags!O:T,2,FALSE),\"\")","v":"Scientific and Engineering Equipment"},"JE_PPE|JE_Override"]
[{"$f":"IF(B535<>\"\",IF(C535<>\"\",B535&\"_\"&C535&\" \"&D535&\"/\"&E535,B535&\" \"&D535),\"\")","v":"1700_SC6931 Accumulated Depreciation/Security Equipment (Asset Track)"},{"$f":"Worktags!AS901","v":"1700"},{"$f":"IF(Worktags!AQ901<>Worktags!AS901,Worktags!AQ901,\"\")","v":"SC6931"},{"$f":"IFERROR(VLOOKUP(B535,Worktags!AL:AO,2,FALSE),\"\")","v":"Accumulated Depreciation"},{"$f":"IFERROR(VLOOKUP(C535,Worktags!O:T,2,FALSE),\"\")","v":"Security Equipment (Asset Track)"},"JE_PPE|JE_Override"]
[{"$f":"IF(B536<>\"\",IF(C536<>\"\",B536&\"_\"&C536&\" \"&D536&\"/\"&E536,B536&\" \"&D536),\"\")","v":"1700_SC6932 Accumulated Depreciation/Small Appliances"},{"$f":"Worktags!AS908","v":"1700"},{"$f":"IF(Worktags!AQ908<>Worktags!AS908,Worktags!AQ908,\"\")","v":"SC6932"},{"$f":"IFERROR(VLOOKUP(B536,Worktags!AL:AO,2,FALSE),\"\")","v":"Accumulated Depreciation"},{"$f":"IFERROR(VLOOKUP(C536,Worktags!O:T,2,FALSE),\"\")","v":"Small Appliances"},"JE_PPE|JE_Override"]
[{"$f":"IF(B537<>\"\",IF(C537<>\"\",B537&\"_\"&C537&\" \"&D537&\"/\"&E537,B537&\" \"&D537),\"\")","v":"1700_SC6933 Accumulated Depreciation/Software"},{"$f":"Worktags!AS913","v":"1700"},{"$f":"IF(Worktags!AQ913<>Worktags!AS913,Worktags!AQ913,\"\")","v":"SC6933"},{"$f":"IFERROR(VLOOKUP(B537,Worktags!AL:AO,2,FALSE),\"\")","v":"Accumulated Depreciation"},{"$f":"IFERROR(VLOOKUP(C537,Worktags!O:T,2,FALSE),\"\")","v":"Software"},"JE_PPE|JE_Override"]
[{"$f":"IF(B538<>\"\",IF(C538<>\"\",B538&\"_\"&C538&\" \"&D538&\"/\"&E538,B538&\" \"&D538),\"\")","v":"1700_SC6935 Accumulated Depreciation/Telecom Equipment"},{"$f":"Worktags!AS922","v":"1700"},{"$f":"IF(Worktags!AQ922<>Worktags!AS922,Worktags!AQ922,\"\")","v":"SC6935"},{"$f":"IFERROR(VLOOKUP(B538,Worktags!AL:AO,2,FALSE),\"\")","v":"Accumulated Depreciation"},{"$f":"IFERROR(VLOOKUP(C538,Worktags!O:T,2,FALSE),\"\")","v":"Telecom Equipment"},"JE_PPE|JE_Override"]
[{"$f":"IF(B539<>\"\",IF(C539<>\"\",B539&\"_\"&C539&\" \"&D539&\"/\"&E539,B539&\" \"&D539),\"\")","v":"1700_SC6937 Accumulated Depreciation/Vehicles, Motor"},{"$f":"Worktags!AS929","v":"1700"},{"$f":"IF(Worktags!AQ929<>Worktags!AS929,Worktags!AQ929,\"\")","v":"SC6937"},{"$f":"IFERROR(VLOOKUP(B539,Worktags!AL:AO,2,FALSE),\"\")","v":"Accumulated Depreciation"},{"$f":"IFERROR(VLOOKUP(C539,Worktags!O:T,2,FALSE),\"\")","v":"Vehicles, Motor"},"JE_PPE|JE_Override"]
[{"$f":"IF(B540<>\"\",IF(C540<>\"\",B540&\"_\"&C540&\" \"&D540&\"/\"&E540,B540&\" \"&D540),\"\")","v":"1700_SC6938 Accumulated Depreciation/Vehicles, Off-Road"},{"$f":"Worktags!AS934","v":"1700"},{"$f":"IF(Worktags!AQ934<>Worktags!AS934,Worktags!AQ934,\"\")","v":"SC6938"},{"$f":"IFERROR(VLOOKUP(B540,Worktags!AL:AO,2,FALSE),\"\")","v":"Accumulated Depreciation"},{"$f":"IFERROR(VLOOKUP(C540,Worktags!O:T,2,FALSE),\"\")","v":"Vehicles, Off-Road"},"JE_PPE|JE_Override"]
[{"$f":"IF(B541<>\"\",IF(C541<>\"\",B541&\"_\"&C541&\" \"&D541&\"/\"&E541,B541&\" \"&D541),\"\")","v":"1700_SC6939 Accumulated Depreciation/Warehouse Equipment"},{"$f":"Worktags!AS941","v":"1700"},{"$f":"IF(Worktags!AQ941<>Worktags!AS941,Worktags!AQ941,\"\")","v":"SC6939"},{"$f":"IFERROR(VLOOKUP(B541,Worktags!AL:AO,2,FALSE),\"\")","v":"Accumulated Depreciation"},{"$f":"IFERROR(VLOOKUP(C541,Worktags!O:T,2,FALSE),\"\")","v":"Warehouse Equipment"},"JE_PPE|JE_Override"]
[{"$f":"IF(B542<>\"\",IF(C542<>\"\",B542&\"_\"&C542&\" \"&D542&\"/\"&E542,B542&\" \"&D542),\"\")","v":"2000 Accounts Payable"},{"$f":"Worktags!AL70","v":"2000"},null,{"$f":"IFERROR(VLOOKUP(B542,Worktags!AL:AO,2,FALSE),\"\")","v":"Accounts Payable"},null,"JE_PPE|JE_Override"]
[{"$f":"IF(B543<>\"\",IF(C543<>\"\",B543&\"_\"&C543&\" \"&D543&\"/\"&E543,B543&\" \"&D543),\"\")","v":"2000 Accounts Payable"},{"$f":"Worktags!AS51","v":"2000"},{"$f":"IF(Worktags!AQ51<>Worktags!AS51,Worktags!AQ51,\"\")","v":""},{"$f":"IFERROR(VLOOKUP(B543,Worktags!AL:AO,2,FALSE),\"\")","v":"Accounts Payable"},{"$f":"IFERROR(VLOOKUP(C543,Worktags!O:T,2,FALSE),\"\")","v":""},"JE_PPE|JE_Override"]
[{"$f":"IF(B544<>\"\",IF(C544<>\"\",B544&\"_\"&C544&\" \"&D544&\"/\"&E544,B544&\" \"&D544),\"\")","v":"2010 Procurement Card Payable"},{"$f":"Worktags!AL71","v":"2010"},null,{"$f":"IFERROR(VLOOKUP(B544,Worktags!AL:AO,2,FALSE),\"\")","v":"Procurement Card Payable"},null,"JE_PPE|JE_Override"]
[{"$f":"IF(B545<>\"\",IF(C545<>\"\",B545&\"_\"&C545&\" \"&D545&\"/\"&E545,B545&\" \"&D545),\"\")","v":"2010_SC2010 Procurement Card Payable/Procurement Card Payable"},{"$f":"Worktags!AS237","v":"2010"},{"$f":"IF(Worktags!AQ237<>Worktags!AS237,Worktags!AQ237,\"\")","v":"SC2010"},{"$f":"IFERROR(VLOOKUP(B545,Worktags!AL:AO,2,FALSE),\"\")","v":"Procurement Card Payable"},{"$f":"IFERROR(VLOOKUP(C545,Worktags!O:T,2,FALSE),\"\")","v":"Procurement Card Payable"},"JE_PPE|JE_Override"]
[{"$f":"IF(B546<>\"\",IF(C546<>\"\",B546&\"_\"&C546&\" \"&D546&\"/\"&E546,B546&\" \"&D546),\"\")","v":"2010_SC2011 Procurement Card Payable/Virtual Card Payable"},{"$f":"Worktags!AS238","v":"2010"},{"$f":"IF(Worktags!AQ238<>Worktags!AS238,Worktags!AQ238,\"\")","v":"SC2011"},{"$f":"IFERROR(VLOOKUP(B546,Worktags!AL:AO,2,FALSE),\"\")","v":"Procurement Card Payable"},{"$f":"IFERROR(VLOOKUP(C546,Worktags!O:T,2,FALSE),\"\")","v":"Virtual Card Payable"},"JE_PPE|JE_Override"]
[{"$f":"IF(B547<>\"\",IF(C547<>\"\",B547&\"_\"&C547&\" \"&D547&\"/\"&E547,B547&\" \"&D547),\"\")","v":"2020 Other and Retainages Payable"},{"$f":"Worktags!AL72","v":"2020"},null,{"$f":"IFERROR(VLOOKUP(B547,Worktags!AL:AO,2,FALSE),\"\")","v":"Other and Retainages Payable"},null,"JE_Override"]
[{"$f":"IF(B548<>\"\",IF(C548<>\"\",B548&\"_\"&C548&\" \"&D548&\"/\"&E548,B548&\" \"&D548),\"\")","v":"2020_SC2020 Other and Retainages Payable/Other and Retainages Payable"},{"$f":"Worktags!AS239","v":"2020"},{"$f":"IF(Worktags!AQ239<>Worktags!AS239,Worktags!AQ239,\"\")","v":"SC2020"},{"$f":"IFERROR(VLOOKUP(B548,Worktags!AL:AO,2,FALSE),\"\")","v":"Other and Retainages Payable"},{"$f":"IFERROR(VLOOKUP(C548,Worktags!O:T,2,FALSE),\"\")","v":"Other and Retainages Payable"},"JE_Override"]
[{"$f":"IF(B549<>\"\",IF(C549<>\"\",B549&\"_\"&C549&\" \"&D549&\"/\"&E549,B549&\" \"&D549),\"\")","v":"2020_SC2021 Other and Retainages Payable/Escheatment Expense"},{"$f":"Worktags!AS240","v":"2020"},{"$f":"IF(Worktags!AQ240<>Worktags!AS240,Worktags!AQ240,\"\")","v":"SC2021"},{"$f":"IFERROR(VLOOKUP(B549,Worktags!AL:AO,2,FALSE),\"\")","v":"Other and Retainages Payable"},{"$f":"IFERROR(VLOOKUP(C549,Worktags!O:T,2,FALSE),\"\")","v":"Escheatment Expense"},""]
[{"$f":"IF(B550<>\"\",IF(C550<>\"\",B550&\"_\"&C550&\" \"&D550&\"/\"&E550,B550&\" \"&D550),\"\")","v":"2025 Payroll Net Pay Clearing"},{"$f":"Worktags!AL73","v":"2025"},null,{"$f":"IFERROR(VLOOKUP(B550,Worktags!AL:AO,2,FALSE),\"\")","v":"Payroll Net Pay Clearing"},null,"All"]
[{"$f":"IF(B551<>\"\",IF(C551<>\"\",B551&\"_\"&C551&\" \"&D551&\"/\"&E551,B551&\" \"&D551),\"\")","v":"2025 Payroll Net Pay Clearing"},{"$f":"Worktags!AS52","v":"2025"},{"$f":"IF(Worktags!AQ52<>Worktags!AS52,Worktags!AQ52,\"\")","v":""},{"$f":"IFERROR(VLOOKUP(B551,Worktags!AL:AO,2,FALSE),\"\")","v":"Payroll Net Pay Clearing"},{"$f":"IFERROR(VLOOKUP(C551,Worktags!O:T,2,FALSE),\"\")","v":""},"All"]
[{"$f":"IF(B552<>\"\",IF(C552<>\"\",B552&\"_\"&C552&\" \"&D552&\"/\"&E552,B552&\" \"&D552),\"\")","v":"2030 Other Payroll Deducts Payable"},{"$f":"Worktags!AL74","v":"2030"},null,{"$f":"IFERROR(VLOOKUP(B552,Worktags!AL:AO,2,FALSE),\"\")","v":"Other Payroll Deducts Payable"},null,""]
[{"$f":"IF(B553<>\"\",IF(C553<>\"\",B553&\"_\"&C553&\" \"&D553&\"/\"&E553,B553&\" \"&D553),\"\")","v":"2030_SC2030 Other Payroll Deducts Payable/Other Payroll Deducts Payable"},{"$f":"Worktags!AS241","v":"2030"},{"$f":"IF(Worktags!AQ241<>Worktags!AS241,Worktags!AQ241,\"\")","v":"SC2030"},{"$f":"IFERROR(VLOOKUP(B553,Worktags!AL:AO,2,FALSE),\"\")","v":"Other Payroll Deducts Payable"},{"$f":"IFERROR(VLOOKUP(C553,Worktags!O:T,2,FALSE),\"\")","v":"Other Payroll Deducts Payable"},"All"]
[{"$f":"IF(B554<>\"\",IF(C554<>\"\",B554&\"_\"&C554&\" \"&D554&\"/\"&E554,B554&\" \"&D554),\"\")","v":"2030_SC2031 Other Payroll Deducts Payable/Garnishments"},{"$f":"Worktags!AS242","v":"2030"},{"$f":"IF(Worktags!AQ242<>Worktags!AS242,Worktags!AQ242,\"\")","v":"SC2031"},{"$f":"IFERROR(VLOOKUP(B554,Worktags!AL:AO,2,FALSE),\"\")","v":"Other Payroll Deducts Payable"},{"$f":"IFERROR(VLOOKUP(C554,Worktags!O:T,2,FALSE),\"\")","v":"Garnishments"},"All"]
[{"$f":"IF(B555<>\"\",IF(C555<>\"\",B555&\"_\"&C555&\" \"&D555&\"/\"&E555,B555&\" \"&D555),\"\")","v":"2030_SC2032 Other Payroll Deducts Payable/Employee Passthrough Donations"},{"$f":"Worktags!AS243","v":"2030"},{"$f":"IF(Worktags!AQ243<>Worktags!AS243,Worktags!AQ243,\"\")","v":"SC2032"},{"$f":"IFERROR(VLOOKUP(B555,Worktags!AL:AO,2,FALSE),\"\")","v":"Other Payroll Deducts Payable"},{"$f":"IFERROR(VLOOKUP(C555,Worktags!O:T,2,FALSE),\"\")","v":"Employee Passthrough Donations"},"JE_Payroll|JE_Override"]
[{"$f":"IF(B556<>\"\",IF(C556<>\"\",B556&\"_\"&C556&\" \"&D556&\"/\"&E556,B556&\" \"&D556),\"\")","v":"2030_SC2033 Other Payroll Deducts Payable/FICA Offset/Recollect"},{"$f":"Worktags!AS244","v":"2030"},{"$f":"IF(Worktags!AQ244<>Worktags!AS244,Worktags!AQ244,\"\")","v":"SC2033"},{"$f":"IFERROR(VLOOKUP(B556,Worktags!AL:AO,2,FALSE),\"\")","v":"Other Payroll Deducts Payable"},{"$f":"IFERROR(VLOOKUP(C556,Worktags!O:T,2,FALSE),\"\")","v":"FICA Offset/Recollect"},"JE_Payroll|JE_Override"]
[{"$f":"IF(B557<>\"\",IF(C557<>\"\",B557&\"_\"&C557&\" \"&D557&\"/\"&E557,B557&\" \"&D557),\"\")","v":"2090 Clearing-Accounts Payable"},{"$f":"Worktags!AL75","v":"2090"},null,{"$f":"IFERROR(VLOOKUP(B557,Worktags!AL:AO,2,FALSE),\"\")","v":"Clearing-Accounts Payable"},null,""]
[{"$f":"IF(B558<>\"\",IF(C558<>\"\",B558&\"_\"&C558&\" \"&D558&\"/\"&E558,B558&\" \"&D558),\"\")","v":"2090 Clearing-Accounts Payable"},{"$f":"Worktags!AS53","v":"2090"},{"$f":"IF(Worktags!AQ53<>Worktags!AS53,Worktags!AQ53,\"\")","v":""},{"$f":"IFERROR(VLOOKUP(B558,Worktags!AL:AO,2,FALSE),\"\")","v":"Clearing-Accounts Payable"},{"$f":"IFERROR(VLOOKUP(C558,Worktags!O:T,2,FALSE),\"\")","v":""},"All"]
[{"$f":"IF(B559<>\"\",IF(C559<>\"\",B559&\"_\"&C559&\" \"&D559&\"/\"&E559,B559&\" \"&D559),\"\")","v":"2090_SC2090 Clearing-Accounts Payable/Clearing-Accounts Payable"},{"$f":"Worktags!AS245","v":"2090"},{"$f":"IF(Worktags!AQ245<>Worktags!AS245,Worktags!AQ245,\"\")","v":"SC2090"},{"$f":"IFERROR(VLOOKUP(B559,Worktags!AL:AO,2,FALSE),\"\")","v":"Clearing-Accounts Payable"},{"$f":"IFERROR(VLOOKUP(C559,Worktags!O:T,2,FALSE),\"\")","v":"Clearing-Accounts Payable"},"All"]
[{"$f":"IF(B560<>\"\",IF(C560<>\"\",B560&\"_\"&C560&\" \"&D560&\"/\"&E560,B560&\" \"&D560),\"\")","v":"2100 FICA Payable"},{"$f":"Worktags!AL76","v":"2100"},null,{"$f":"IFERROR(VLOOKUP(B560,Worktags!AL:AO,2,FALSE),\"\")","v":"FICA Payable"},null,"All"]
[{"$f":"IF(B561<>\"\",IF(C561<>\"\",B561&\"_\"&C561&\" \"&D561&\"/\"&E561,B561&\" \"&D561),\"\")","v":"2100_SC2100 FICA Payable/FICA Payable"},{"$f":"Worktags!AS246","v":"2100"},{"$f":"IF(Worktags!AQ246<>Worktags!AS246,Worktags!AQ246,\"\")","v":"SC2100"},{"$f":"IFERROR(VLOOKUP(B561,Worktags!AL:AO,2,FALSE),\"\")","v":"FICA Payable"},{"$f":"IFERROR(VLOOKUP(C561,Worktags!O:T,2,FALSE),\"\")","v":"FICA Payable"},"All"]
[{"$f":"IF(B562<>\"\",IF(C562<>\"\",B562&\"_\"&C562&\" \"&D562&\"/\"&E562,B562&\" \"&D562),\"\")","v":"2105 Federal Withholding Payable"},{"$f":"Worktags!AL77","v":"2105"},null,{"$f":"IFERROR(VLOOKUP(B562,Worktags!AL:AO,2,FALSE),\"\")","v":"Federal Withholding Payable"},null,"All"]
[{"$f":"IF(B563<>\"\",IF(C563<>\"\",B563&\"_\"&C563&\" \"&D563&\"/\"&E563,B563&\" \"&D563),\"\")","v":"2105_SC2105 Federal Withholding Payable/Federal Withholding Payable"},{"$f":"Worktags!AS247","v":"2105"},{"$f":"IF(Worktags!AQ247<>Worktags!AS247,Worktags!AQ247,\"\")","v":"SC2105"},{"$f":"IFERROR(VLOOKUP(B563,Worktags!AL:AO,2,FALSE),\"\")","v":"Federal Withholding Payable"},{"$f":"IFERROR(VLOOKUP(C563,Worktags!O:T,2,FALSE),\"\")","v":"Federal Withholding Payable"},"All"]
[{"$f":"IF(B564<>\"\",IF(C564<>\"\",B564&\"_\"&C564&\" \"&D564&\"/\"&E564,B564&\" \"&D564),\"\")","v":"2110 State Payroll Taxes Payable"},{"$f":"Worktags!AL78","v":"2110"},null,{"$f":"IFERROR(VLOOKUP(B564,Worktags!AL:AO,2,FALSE),\"\")","v":"State Payroll Taxes Payable"},null,"All"]
[{"$f":"IF(B565<>\"\",IF(C565<>\"\",B565&\"_\"&C565&\" \"&D565&\"/\"&E565,B565&\" \"&D565),\"\")","v":"2110_SC2110 State Payroll Taxes Payable/State Payroll Taxes Payable"},{"$f":"Worktags!AS248","v":"2110"},{"$f":"IF(Worktags!AQ248<>Worktags!AS248,Worktags!AQ248,\"\")","v":"SC2110"},{"$f":"IFERROR(VLOOKUP(B565,Worktags!AL:AO,2,FALSE),\"\")","v":"State Payroll Taxes Payable"},{"$f":"IFERROR(VLOOKUP(C565,Worktags!O:T,2,FALSE),\"\")","v":"State Payroll Taxes Payable"},""]
[{"$f":"IF(B566<>\"\",IF(C566<>\"\",B566&\"_\"&C566&\" \"&D566&\"/\"&E566,B566&\" \"&D566),\"\")","v":"2130 Sales Tax Payable - Utah"},{"$f":"Worktags!AL79","v":"2130"},null,{"$f":"IFERROR(VLOOKUP(B566,Worktags!AL:AO,2,FALSE),\"\")","v":"Sales Tax Payable - Utah"},null,"All"]
[{"$f":"IF(B567<>\"\",IF(C567<>\"\",B567&\"_\"&C567&\" \"&D567&\"/\"&E567,B567&\" \"&D567),\"\")","v":"2130_SC2130 Sales Tax Payable - Utah/Sales Tax Payable - Utah"},{"$f":"Worktags!AS249","v":"2130"},{"$f":"IF(Worktags!AQ249<>Worktags!AS249,Worktags!AQ249,\"\")","v":"SC2130"},{"$f":"IFERROR(VLOOKUP(B567,Worktags!AL:AO,2,FALSE),\"\")","v":"Sales Tax Payable - Utah"},{"$f":"IFERROR(VLOOKUP(C567,Worktags!O:T,2,FALSE),\"\")","v":"Sales Tax Payable - Utah"},""]
[{"$f":"IF(B568<>\"\",IF(C568<>\"\",B568&\"_\"&C568&\" \"&D568&\"/\"&E568,B568&\" \"&D568),\"\")","v":"2132 Sales Tax Payable - Other States"},{"$f":"Worktags!AL80","v":"2132"},null,{"$f":"IFERROR(VLOOKUP(B568,Worktags!AL:AO,2,FALSE),\"\")","v":"Sales Tax Payable - Other States"},null,"All"]
[{"$f":"IF(B569<>\"\",IF(C569<>\"\",B569&\"_\"&C569&\" \"&D569&\"/\"&E569,B569&\" \"&D569),\"\")","v":"2132_SC2132 Sales Tax Payable - Other States/Sales Tax Payable - Other States"},{"$f":"Worktags!AS250","v":"2132"},{"$f":"IF(Worktags!AQ250<>Worktags!AS250,Worktags!AQ250,\"\")","v":"SC2132"},{"$f":"IFERROR(VLOOKUP(B569,Worktags!AL:AO,2,FALSE),\"\")","v":"Sales Tax Payable - Other States"},{"$f":"IFERROR(VLOOKUP(C569,Worktags!O:T,2,FALSE),\"\")","v":"Sales Tax Payable - Other States"},""]
[{"$f":"IF(B570<>\"\",IF(C570<>\"\",B570&\"_\"&C570&\" \"&D570&\"/\"&E570,B570&\" \"&D570),\"\")","v":"2140 Property Tax Payable"},{"$f":"Worktags!AL81","v":"2140"},null,{"$f":"IFERROR(VLOOKUP(B570,Worktags!AL:AO,2,FALSE),\"\")","v":"Property Tax Payable"},null,"All"]
[{"$f":"IF(B571<>\"\",IF(C571<>\"\",B571&\"_\"&C571&\" \"&D571&\"/\"&E571,B571&\" \"&D571),\"\")","v":"2140_SC2140 Property Tax Payable/Property Tax Payable"},{"$f":"Worktags!AS251","v":"2140"},{"$f":"IF(Worktags!AQ251<>Worktags!AS251,Worktags!AQ251,\"\")","v":"SC2140"},{"$f":"IFERROR(VLOOKUP(B571,Worktags!AL:AO,2,FALSE),\"\")","v":"Property Tax Payable"},{"$f":"IFERROR(VLOOKUP(C571,Worktags!O:T,2,FALSE),\"\")","v":"Property Tax Payable"},""]
[{"$f":"IF(B572<>\"\",IF(C572<>\"\",B572&\"_\"&C572&\" \"&D572&\"/\"&E572,B572&\" \"&D572),\"\")","v":"2150 UBIT Payable"},{"$f":"Worktags!AL82","v":"2150"},null,{"$f":"IFERROR(VLOOKUP(B572,Worktags!AL:AO,2,FALSE),\"\")","v":"UBIT Payable"},null,"All"]
[{"$f":"IF(B573<>\"\",IF(C573<>\"\",B573&\"_\"&C573&\" \"&D573&\"/\"&E573,B573&\" \"&D573),\"\")","v":"2150_SC2150 UBIT Payable/UBIT Payable"},{"$f":"Worktags!AS252","v":"2150"},{"$f":"IF(Worktags!AQ252<>Worktags!AS252,Worktags!AQ252,\"\")","v":"SC2150"},{"$f":"IFERROR(VLOOKUP(B573,Worktags!AL:AO,2,FALSE),\"\")","v":"UBIT Payable"},{"$f":"IFERROR(VLOOKUP(C573,Worktags!O:T,2,FALSE),\"\")","v":"UBIT Payable"},""]
[{"$f":"IF(B574<>\"\",IF(C574<>\"\",B574&\"_\"&C574&\" \"&D574&\"/\"&E574,B574&\" \"&D574),\"\")","v":"2160 Other Taxes Payable"},{"$f":"Worktags!AL83","v":"2160"},null,{"$f":"IFERROR(VLOOKUP(B574,Worktags!AL:AO,2,FALSE),\"\")","v":"Other Taxes Payable"},null,"All"]
[{"$f":"IF(B575<>\"\",IF(C575<>\"\",B575&\"_\"&C575&\" \"&D575&\"/\"&E575,B575&\" \"&D575),\"\")","v":"2160_SC2160 Other Taxes Payable/Other Taxes Payable"},{"$f":"Worktags!AS253","v":"2160"},{"$f":"IF(Worktags!AQ253<>Worktags!AS253,Worktags!AQ253,\"\")","v":"SC2160"},{"$f":"IFERROR(VLOOKUP(B575,Worktags!AL:AO,2,FALSE),\"\")","v":"Other Taxes Payable"},{"$f":"IFERROR(VLOOKUP(C575,Worktags!O:T,2,FALSE),\"\")","v":"Other Taxes Payable"},""]
[{"$f":"IF(B576<>\"\",IF(C576<>\"\",B576&\"_\"&C576&\" \"&D576&\"/\"&E576,B576&\" \"&D576),\"\")","v":"2200 Accrued Liabilities"},{"$f":"Worktags!AL84","v":"2200"},null,{"$f":"IFERROR(VLOOKUP(B576,Worktags!AL:AO,2,FALSE),\"\")","v":"Accrued Liabilities"},null,"All"]
[{"$f":"IF(B577<>\"\",IF(C577<>\"\",B577&\"_\"&C577&\" \"&D577&\"/\"&E577,B577&\" \"&D577),\"\")","v":"2200 Accrued Liabilities"},{"$f":"Worktags!AS54","v":"2200"},{"$f":"IF(Worktags!AQ54<>Worktags!AS54,Worktags!AQ54,\"\")","v":""},{"$f":"IFERROR(VLOOKUP(B577,Worktags!AL:AO,2,FALSE),\"\")","v":"Accrued Liabilities"},{"$f":"IFERROR(VLOOKUP(C577,Worktags!O:T,2,FALSE),\"\")","v":""},""]
[{"$f":"IF(B578<>\"\",IF(C578<>\"\",B578&\"_\"&C578&\" \"&D578&\"/\"&E578,B578&\" \"&D578),\"\")","v":"2200_SC2200 Accrued Liabilities/Accrued Liabilities (Conversion Only)"},{"$f":"Worktags!AS254","v":"2200"},{"$f":"IF(Worktags!AQ254<>Worktags!AS254,Worktags!AQ254,\"\")","v":"SC2200"},{"$f":"IFERROR(VLOOKUP(B578,Worktags!AL:AO,2,FALSE),\"\")","v":"Accrued Liabilities"},{"$f":"IFERROR(VLOOKUP(C578,Worktags!O:T,2,FALSE),\"\")","v":"Accrued Liabilities (Conversion Only)"},"All"]
[{"$f":"IF(B579<>\"\",IF(C579<>\"\",B579&\"_\"&C579&\" \"&D579&\"/\"&E579,B579&\" \"&D579),\"\")","v":"2210 Accrued Payroll-Biweekly"},{"$f":"Worktags!AL85","v":"2210"},null,{"$f":"IFERROR(VLOOKUP(B579,Worktags!AL:AO,2,FALSE),\"\")","v":"Accrued Payroll-Biweekly"},null,""]
[{"$f":"IF(B580<>\"\",IF(C580<>\"\",B580&\"_\"&C580&\" \"&D580&\"/\"&E580,B580&\" \"&D580),\"\")","v":"2210 Accrued Payroll-Biweekly"},{"$f":"Worktags!AS55","v":"2210"},{"$f":"IF(Worktags!AQ55<>Worktags!AS55,Worktags!AQ55,\"\")","v":""},{"$f":"IFERROR(VLOOKUP(B580,Worktags!AL:AO,2,FALSE),\"\")","v":"Accrued Payroll-Biweekly"},{"$f":"IFERROR(VLOOKUP(C580,Worktags!O:T,2,FALSE),\"\")","v":""},"All"]
[{"$f":"IF(B581<>\"\",IF(C581<>\"\",B581&\"_\"&C581&\" \"&D581&\"/\"&E581,B581&\" \"&D581),\"\")","v":"2215 Accrued Payroll-Faculty"},{"$f":"Worktags!AL86","v":"2215"},null,{"$f":"IFERROR(VLOOKUP(B581,Worktags!AL:AO,2,FALSE),\"\")","v":"Accrued Payroll-Faculty"},null,"All"]
[{"$f":"IF(B582<>\"\",IF(C582<>\"\",B582&\"_\"&C582&\" \"&D582&\"/\"&E582,B582&\" \"&D582),\"\")","v":"2215 Accrued Payroll-Faculty"},{"$f":"Worktags!AS56","v":"2215"},{"$f":"IF(Worktags!AQ56<>Worktags!AS56,Worktags!AQ56,\"\")","v":""},{"$f":"IFERROR(VLOOKUP(B582,Worktags!AL:AO,2,FALSE),\"\")","v":"Accrued Payroll-Faculty"},{"$f":"IFERROR(VLOOKUP(C582,Worktags!O:T,2,FALSE),\"\")","v":""},"All"]
[{"$f":"IF(B583<>\"\",IF(C583<>\"\",B583&\"_\"&C583&\" \"&D583&\"/\"&E583,B583&\" \"&D583),\"\")","v":"2220 Accrued Payroll Benefits"},{"$f":"Worktags!AL87","v":"2220"},null,{"$f":"IFERROR(VLOOKUP(B583,Worktags!AL:AO,2,FALSE),\"\")","v":"Accrued Payroll Benefits"},null,"All"]
[{"$f":"IF(B584<>\"\",IF(C584<>\"\",B584&\"_\"&C584&\" \"&D584&\"/\"&E584,B584&\" \"&D584),\"\")","v":"2220 Accrued Payroll Benefits"},{"$f":"Worktags!AS57","v":"2220"},{"$f":"IF(Worktags!AQ57<>Worktags!AS57,Worktags!AQ57,\"\")","v":""},{"$f":"IFERROR(VLOOKUP(B584,Worktags!AL:AO,2,FALSE),\"\")","v":"Accrued Payroll Benefits"},{"$f":"IFERROR(VLOOKUP(C584,Worktags!O:T,2,FALSE),\"\")","v":""},"All"]
[{"$f":"IF(B585<>\"\",IF(C585<>\"\",B585&\"_\"&C585&\" \"&D585&\"/\"&E585,B585&\" \"&D585),\"\")","v":"2230 Accrued Vacation"},{"$f":"Worktags!AL88","v":"2230"},null,{"$f":"IFERROR(VLOOKUP(B585,Worktags!AL:AO,2,FALSE),\"\")","v":"Accrued Vacation"},null,"All"]
[{"$f":"IF(B586<>\"\",IF(C586<>\"\",B586&\"_\"&C586&\" \"&D586&\"/\"&E586,B586&\" \"&D586),\"\")","v":"2230 Accrued Vacation"},{"$f":"Worktags!AS58","v":"2230"},{"$f":"IF(Worktags!AQ58<>Worktags!AS58,Worktags!AQ58,\"\")","v":""},{"$f":"IFERROR(VLOOKUP(B586,Worktags!AL:AO,2,FALSE),\"\")","v":"Accrued Vacation"},{"$f":"IFERROR(VLOOKUP(C586,Worktags!O:T,2,FALSE),\"\")","v":""},"All"]
[{"$f":"IF(B587<>\"\",IF(C587<>\"\",B587&\"_\"&C587&\" \"&D587&\"/\"&E587,B587&\" \"&D587),\"\")","v":"2300 Deposits Payable"},{"$f":"Worktags!AL89","v":"2300"},null,{"$f":"IFERROR(VLOOKUP(B587,Worktags!AL:AO,2,FALSE),\"\")","v":"Deposits Payable"},null,"All"]
[{"$f":"IF(B588<>\"\",IF(C588<>\"\",B588&\"_\"&C588&\" \"&D588&\"/\"&E588,B588&\" \"&D588),\"\")","v":"2300_RC2300 Deposits Payable/Deposits Receivable"},{"$f":"Worktags!AS103","v":"2300"},{"$f":"IF(Worktags!AQ103<>Worktags!AS103,Worktags!AQ103,\"\")","v":"RC2300"},{"$f":"IFERROR(VLOOKUP(B588,Worktags!AL:AO,2,FALSE),\"\")","v":"Deposits Payable"},{"$f":"IFERROR(VLOOKUP(C588,Worktags!O:T,2,FALSE),\"\")","v":"Deposits Receivable"},"All"]
[{"$f":"IF(B589<>\"\",IF(C589<>\"\",B589&\"_\"&C589&\" \"&D589&\"/\"&E589,B589&\" \"&D589),\"\")","v":"2300_SC2300 Deposits Payable/Deposits Payable"},{"$f":"Worktags!AS255","v":"2300"},{"$f":"IF(Worktags!AQ255<>Worktags!AS255,Worktags!AQ255,\"\")","v":"SC2300"},{"$f":"IFERROR(VLOOKUP(B589,Worktags!AL:AO,2,FALSE),\"\")","v":"Deposits Payable"},{"$f":"IFERROR(VLOOKUP(C589,Worktags!O:T,2,FALSE),\"\")","v":"Deposits Payable"},"All"]
[{"$f":"IF(B590<>\"\",IF(C590<>\"\",B590&\"_\"&C590&\" \"&D590&\"/\"&E590,B590&\" \"&D590),\"\")","v":"2400 Annuities Payable"},{"$f":"Worktags!AL90","v":"2400"},null,{"$f":"IFERROR(VLOOKUP(B590,Worktags!AL:AO,2,FALSE),\"\")","v":"Annuities Payable"},null,"All"]
[{"$f":"IF(B591<>\"\",IF(C591<>\"\",B591&\"_\"&C591&\" \"&D591&\"/\"&E591,B591&\" \"&D591),\"\")","v":"2400_SC2400 Annuities Payable/Annuities Payable"},{"$f":"Worktags!AS256","v":"2400"},{"$f":"IF(Worktags!AQ256<>Worktags!AS256,Worktags!AQ256,\"\")","v":"SC2400"},{"$f":"IFERROR(VLOOKUP(B591,Worktags!AL:AO,2,FALSE),\"\")","v":"Annuities Payable"},{"$f":"IFERROR(VLOOKUP(C591,Worktags!O:T,2,FALSE),\"\")","v":"Annuities Payable"},"All"]
[{"$f":"IF(B592<>\"\",IF(C592<>\"\",B592&\"_\"&C592&\" \"&D592&\"/\"&E592,B592&\" \"&D592),\"\")","v":"2491 Inter-Company Receivable/Payable"},{"$f":"Worktags!AL91","v":"2491"},null,{"$f":"IFERROR(VLOOKUP(B592,Worktags!AL:AO,2,FALSE),\"\")","v":"Inter-Company Receivable/Payable"},null,""]
[{"$f":"IF(B593<>\"\",IF(C593<>\"\",B593&\"_\"&C593&\" \"&D593&\"/\"&E593,B593&\" \"&D593),\"\")","v":"2491 Inter-Company Receivable/Payable"},{"$f":"Worktags!AS59","v":"2491"},{"$f":"IF(Worktags!AQ59<>Worktags!AS59,Worktags!AQ59,\"\")","v":""},{"$f":"IFERROR(VLOOKUP(B593,Worktags!AL:AO,2,FALSE),\"\")","v":"Inter-Company Receivable/Payable"},{"$f":"IFERROR(VLOOKUP(C593,Worktags!O:T,2,FALSE),\"\")","v":""},"All"]
[{"$f":"IF(B594<>\"\",IF(C594<>\"\",B594&\"_\"&C594&\" \"&D594&\"/\"&E594,B594&\" \"&D594),\"\")","v":"2492 Inter-Worktag Receivable/Payable"},{"$f":"Worktags!AL92","v":"2492"},null,{"$f":"IFERROR(VLOOKUP(B594,Worktags!AL:AO,2,FALSE),\"\")","v":"Inter-Worktag Receivable/Payable"},null,"All"]
[{"$f":"IF(B595<>\"\",IF(C595<>\"\",B595&\"_\"&C595&\" \"&D595&\"/\"&E595,B595&\" \"&D595),\"\")","v":"2492 Inter-Worktag Receivable/Payable"},{"$f":"Worktags!AS60","v":"2492"},{"$f":"IF(Worktags!AQ60<>Worktags!AS60,Worktags!AQ60,\"\")","v":""},{"$f":"IFERROR(VLOOKUP(B595,Worktags!AL:AO,2,FALSE),\"\")","v":"Inter-Worktag Receivable/Payable"},{"$f":"IFERROR(VLOOKUP(C595,Worktags!O:T,2,FALSE),\"\")","v":""},""]
[{"$f":"IF(B596<>\"\",IF(C596<>\"\",B596&\"_\"&C596&\" \"&D596&\"/\"&E596,B596&\" \"&D596),\"\")","v":"2500 Notes Payable"},{"$f":"Worktags!AL93","v":"2500"},null,{"$f":"IFERROR(VLOOKUP(B596,Worktags!AL:AO,2,FALSE),\"\")","v":"Notes Payable"},null,"All"]
[{"$f":"IF(B597<>\"\",IF(C597<>\"\",B597&\"_\"&C597&\" \"&D597&\"/\"&E597,B597&\" \"&D597),\"\")","v":"2500_SC2500 Notes Payable/Notes Payable"},{"$f":"Worktags!AS257","v":"2500"},{"$f":"IF(Worktags!AQ257<>Worktags!AS257,Worktags!AQ257,\"\")","v":"SC2500"},{"$f":"IFERROR(VLOOKUP(B597,Worktags!AL:AO,2,FALSE),\"\")","v":"Notes Payable"},{"$f":"IFERROR(VLOOKUP(C597,Worktags!O:T,2,FALSE),\"\")","v":"Notes Payable"},"JE_Override"]
[{"$f":"IF(B598<>\"\",IF(C598<>\"\",B598&\"_\"&C598&\" \"&D598&\"/\"&E598,B598&\" \"&D598),\"\")","v":"2510 Notes Payable - Church"},{"$f":"Worktags!AL94","v":"2510"},null,{"$f":"IFERROR(VLOOKUP(B598,Worktags!AL:AO,2,FALSE),\"\")","v":"Notes Payable - Church"},null,"JE_Override"]
[{"$f":"IF(B599<>\"\",IF(C599<>\"\",B599&\"_\"&C599&\" \"&D599&\"/\"&E599,B599&\" \"&D599),\"\")","v":"2510_SC2510 Notes Payable - Church/Notes Payable - Church"},{"$f":"Worktags!AS258","v":"2510"},{"$f":"IF(Worktags!AQ258<>Worktags!AS258,Worktags!AQ258,\"\")","v":"SC2510"},{"$f":"IFERROR(VLOOKUP(B599,Worktags!AL:AO,2,FALSE),\"\")","v":"Notes Payable - Church"},{"$f":"IFERROR(VLOOKUP(C599,Worktags!O:T,2,FALSE),\"\")","v":"Notes Payable - Church"},"JE_Override"]
[{"$f":"IF(B600<>\"\",IF(C600<>\"\",B600&\"_\"&C600&\" \"&D600&\"/\"&E600,B600&\" \"&D600),\"\")","v":"2550 Lease Liability"},{"$f":"Worktags!AL95","v":"2550"},null,{"$f":"IFERROR(VLOOKUP(B600,Worktags!AL:AO,2,FALSE),\"\")","v":"Lease Liability"},null,"JE_Override"]
[{"$f":"IF(B601<>\"\",IF(C601<>\"\",B601&\"_\"&C601&\" \"&D601&\"/\"&E601,B601&\" \"&D601),\"\")","v":"2550 Lease Liability"},{"$f":"Worktags!AS61","v":"2550"},{"$f":"IF(Worktags!AQ61<>Worktags!AS61,Worktags!AQ61,\"\")","v":""},{"$f":"IFERROR(VLOOKUP(B601,Worktags!AL:AO,2,FALSE),\"\")","v":"Lease Liability"},{"$f":"IFERROR(VLOOKUP(C601,Worktags!O:T,2,FALSE),\"\")","v":""},""]
[{"$f":"IF(B602<>\"\",IF(C602<>\"\",B602&\"_\"&C602&\" \"&D602&\"/\"&E602,B602&\" \"&D602),\"\")","v":"2600 Deferred Revenue"},{"$f":"Worktags!AL96","v":"2600"},null,{"$f":"IFERROR(VLOOKUP(B602,Worktags!AL:AO,2,FALSE),\"\")","v":"Deferred Revenue"},null,"All"]
[{"$f":"IF(B603<>\"\",IF(C603<>\"\",B603&\"_\"&C603&\" \"&D603&\"/\"&E603,B603&\" \"&D603),\"\")","v":"2600 Deferred Revenue"},{"$f":"Worktags!AS62","v":"2600"},{"$f":"IF(Worktags!AQ62<>Worktags!AS62,Worktags!AQ62,\"\")","v":""},{"$f":"IFERROR(VLOOKUP(B603,Worktags!AL:AO,2,FALSE),\"\")","v":"Deferred Revenue"},{"$f":"IFERROR(VLOOKUP(C603,Worktags!O:T,2,FALSE),\"\")","v":""},""]
[{"$f":"IF(B604<>\"\",IF(C604<>\"\",B604&\"_\"&C604&\" \"&D604&\"/\"&E604,B604&\" \"&D604),\"\")","v":"2600_RC4001 Deferred Revenue/Church Appropriation"},{"$f":"Worktags!AS104","v":"2600"},{"$f":"IF(Worktags!AQ104<>Worktags!AS104,Worktags!AQ104,\"\")","v":"RC4001"},{"$f":"IFERROR(VLOOKUP(B604,Worktags!AL:AO,2,FALSE),\"\")","v":"Deferred Revenue"},{"$f":"IFERROR(VLOOKUP(C604,Worktags!O:T,2,FALSE),\"\")","v":"Church Appropriation"},"All"]
[{"$f":"IF(B605<>\"\",IF(C605<>\"\",B605&\"_\"&C605&\" \"&D605&\"/\"&E605,B605&\" \"&D605),\"\")","v":"2600_RC4002 Deferred Revenue/University Allocation"},{"$f":"Worktags!AS106","v":"2600"},{"$f":"IF(Worktags!AQ106<>Worktags!AS106,Worktags!AQ106,\"\")","v":"RC4002"},{"$f":"IFERROR(VLOOKUP(B605,Worktags!AL:AO,2,FALSE),\"\")","v":"Deferred Revenue"},{"$f":"IFERROR(VLOOKUP(C605,Worktags!O:T,2,FALSE),\"\")","v":"University Allocation"},"All"]
[{"$f":"IF(B606<>\"\",IF(C606<>\"\",B606&\"_\"&C606&\" \"&D606&\"/\"&E606,B606&\" \"&D606),\"\")","v":"2600_RC4101 Deferred Revenue/Tuition"},{"$f":"Worktags!AS108","v":"2600"},{"$f":"IF(Worktags!AQ108<>Worktags!AS108,Worktags!AQ108,\"\")","v":"RC4101"},{"$f":"IFERROR(VLOOKUP(B606,Worktags!AL:AO,2,FALSE),\"\")","v":"Deferred Revenue"},{"$f":"IFERROR(VLOOKUP(C606,Worktags!O:T,2,FALSE),\"\")","v":"Tuition"},"All"]
[{"$f":"IF(B607<>\"\",IF(C607<>\"\",B607&\"_\"&C607&\" \"&D607&\"/\"&E607,B607&\" \"&D607),\"\")","v":"2600_RC4102 Deferred Revenue/Student Fee Distribution"},{"$f":"Worktags!AS110","v":"2600"},{"$f":"IF(Worktags!AQ110<>Worktags!AS110,Worktags!AQ110,\"\")","v":"RC4102"},{"$f":"IFERROR(VLOOKUP(B607,Worktags!AL:AO,2,FALSE),\"\")","v":"Deferred Revenue"},{"$f":"IFERROR(VLOOKUP(C607,Worktags!O:T,2,FALSE),\"\")","v":"Student Fee Distribution"},"All"]
[{"$f":"IF(B608<>\"\",IF(C608<>\"\",B608&\"_\"&C608&\" \"&D608&\"/\"&E608,B608&\" \"&D608),\"\")","v":"2600_RC4103 Deferred Revenue/Non-Credit Income"},{"$f":"Worktags!AS112","v":"2600"},{"$f":"IF(Worktags!AQ112<>Worktags!AS112,Worktags!AQ112,\"\")","v":"RC4103"},{"$f":"IFERROR(VLOOKUP(B608,Worktags!AL:AO,2,FALSE),\"\")","v":"Deferred Revenue"},{"$f":"IFERROR(VLOOKUP(C608,Worktags!O:T,2,FALSE),\"\")","v":"Non-Credit Income"},"All"]
[{"$f":"IF(B609<>\"\",IF(C609<>\"\",B609&\"_\"&C609&\" \"&D609&\"/\"&E609,B609&\" \"&D609),\"\")","v":"2600_RC4104 Deferred Revenue/Student Fees"},{"$f":"Worktags!AS114","v":"2600"},{"$f":"IF(Worktags!AQ114<>Worktags!AS114,Worktags!AQ114,\"\")","v":"RC4104"},{"$f":"IFERROR(VLOOKUP(B609,Worktags!AL:AO,2,FALSE),\"\")","v":"Deferred Revenue"},{"$f":"IFERROR(VLOOKUP(C609,Worktags!O:T,2,FALSE),\"\")","v":"Student Fees"},"All"]
[{"$f":"IF(B610<>\"\",IF(C610<>\"\",B610&\"_\"&C610&\" \"&D610&\"/\"&E610,B610&\" \"&D610),\"\")","v":"2600_RC4110 Deferred Revenue/Grad Service Fee"},{"$f":"Worktags!AS116","v":"2600"},{"$f":"IF(Worktags!AQ116<>Worktags!AS116,Worktags!AQ116,\"\")","v":"RC4110"},{"$f":"IFERROR(VLOOKUP(B610,Worktags!AL:AO,2,FALSE),\"\")","v":"Deferred Revenue"},{"$f":"IFERROR(VLOOKUP(C610,Worktags!O:T,2,FALSE),\"\")","v":"Grad Service Fee"},"All"]
[{"$f":"IF(B611<>\"\",IF(C611<>\"\",B611&\"_\"&C611&\" \"&D611&\"/\"&E611,B611&\" \"&D611),\"\")","v":"2600_RC4111 Deferred Revenue/Admission Fees"},{"$f":"Worktags!AS118","v":"2600"},{"$f":"IF(Worktags!AQ118<>Worktags!AS118,Worktags!AQ118,\"\")","v":"RC4111"},{"$f":"IFERROR(VLOOKUP(B611,Worktags!AL:AO,2,FALSE),\"\")","v":"Deferred Revenue"},{"$f":"IFERROR(VLOOKUP(C611,Worktags!O:T,2,FALSE),\"\")","v":"Admission Fees"},"All"]
[{"$f":"IF(B612<>\"\",IF(C612<>\"\",B612&\"_\"&C612&\" \"&D612&\"/\"&E612,B612&\" \"&D612),\"\")","v":"2600_RC4112 Deferred Revenue/Graduation Fees"},{"$f":"Worktags!AS120","v":"2600"},{"$f":"IF(Worktags!AQ120<>Worktags!AS120,Worktags!AQ120,\"\")","v":"RC4112"},{"$f":"IFERROR(VLOOKUP(B612,Worktags!AL:AO,2,FALSE),\"\")","v":"Deferred Revenue"},{"$f":"IFERROR(VLOOKUP(C612,Worktags!O:T,2,FALSE),\"\")","v":"Graduation Fees"},"All"]
[{"$f":"IF(B613<>\"\",IF(C613<>\"\",B613&\"_\"&C613&\" \"&D613&\"/\"&E613,B613&\" \"&D613),\"\")","v":"2600_RC4113 Deferred Revenue/Transcript Fees"},{"$f":"Worktags!AS122","v":"2600"},{"$f":"IF(Worktags!AQ122<>Worktags!AS122,Worktags!AQ122,\"\")","v":"RC4113"},{"$f":"IFERROR(VLOOKUP(B613,Worktags!AL:AO,2,FALSE),\"\")","v":"Deferred Revenue"},{"$f":"IFERROR(VLOOKUP(C613,Worktags!O:T,2,FALSE),\"\")","v":"Transcript Fees"},"All"]
[{"$f":"IF(B614<>\"\",IF(C614<>\"\",B614&\"_\"&C614&\" \"&D614&\"/\"&E614,B614&\" \"&D614),\"\")","v":"2600_RC4114 Deferred Revenue/Special Exam Fees"},{"$f":"Worktags!AS124","v":"2600"},{"$f":"IF(Worktags!AQ124<>Worktags!AS124,Worktags!AQ124,\"\")","v":"RC4114"},{"$f":"IFERROR(VLOOKUP(B614,Worktags!AL:AO,2,FALSE),\"\")","v":"Deferred Revenue"},{"$f":"IFERROR(VLOOKUP(C614,Worktags!O:T,2,FALSE),\"\")","v":"Special Exam Fees"},"All"]
[{"$f":"IF(B615<>\"\",IF(C615<>\"\",B615&\"_\"&C615&\" \"&D615&\"/\"&E615,B615&\" \"&D615),\"\")","v":"2600_RC4115 Deferred Revenue/ACT Test Fees"},{"$f":"Worktags!AS126","v":"2600"},{"$f":"IF(Worktags!AQ126<>Worktags!AS126,Worktags!AQ126,\"\")","v":"RC4115"},{"$f":"IFERROR(VLOOKUP(B615,Worktags!AL:AO,2,FALSE),\"\")","v":"Deferred Revenue"},{"$f":"IFERROR(VLOOKUP(C615,Worktags!O:T,2,FALSE),\"\")","v":"ACT Test Fees"},"All"]
[{"$f":"IF(B616<>\"\",IF(C616<>\"\",B616&\"_\"&C616&\" \"&D616&\"/\"&E616,B616&\" \"&D616),\"\")","v":"2600_RC4117 Deferred Revenue/Locker Rentals"},{"$f":"Worktags!AS129","v":"2600"},{"$f":"IF(Worktags!AQ129<>Worktags!AS129,Worktags!AQ129,\"\")","v":"RC4117"},{"$f":"IFERROR(VLOOKUP(B616,Worktags!AL:AO,2,FALSE),\"\")","v":"Deferred Revenue"},{"$f":"IFERROR(VLOOKUP(C616,Worktags!O:T,2,FALSE),\"\")","v":"Locker Rentals"},"All"]
[{"$f":"IF(B617<>\"\",IF(C617<>\"\",B617&\"_\"&C617&\" \"&D617&\"/\"&E617,B617&\" \"&D617),\"\")","v":"2600_RC4199 Deferred Revenue/Tuition and Fees (reclass)"},{"$f":"Worktags!AS131","v":"2600"},{"$f":"IF(Worktags!AQ131<>Worktags!AS131,Worktags!AQ131,\"\")","v":"RC4199"},{"$f":"IFERROR(VLOOKUP(B617,Worktags!AL:AO,2,FALSE),\"\")","v":"Deferred Revenue"},{"$f":"IFERROR(VLOOKUP(C617,Worktags!O:T,2,FALSE),\"\")","v":"Tuition and Fees (reclass)"},"All"]
[{"$f":"IF(B618<>\"\",IF(C618<>\"\",B618&\"_\"&C618&\" \"&D618&\"/\"&E618,B618&\" \"&D618),\"\")","v":"2600_RC4401 Deferred Revenue/Sale of Services"},{"$f":"Worktags!AS143","v":"2600"},{"$f":"IF(Worktags!AQ143<>Worktags!AS143,Worktags!AQ143,\"\")","v":"RC4401"},{"$f":"IFERROR(VLOOKUP(B618,Worktags!AL:AO,2,FALSE),\"\")","v":"Deferred Revenue"},{"$f":"IFERROR(VLOOKUP(C618,Worktags!O:T,2,FALSE),\"\")","v":"Sale of Services"},"All"]
[{"$f":"IF(B619<>\"\",IF(C619<>\"\",B619&\"_\"&C619&\" \"&D619&\"/\"&E619,B619&\" \"&D619),\"\")","v":"2600_RC4404 Deferred Revenue/Sale of Services-Taxable"},{"$f":"Worktags!AS147","v":"2600"},{"$f":"IF(Worktags!AQ147<>Worktags!AS147,Worktags!AQ147,\"\")","v":"RC4404"},{"$f":"IFERROR(VLOOKUP(B619,Worktags!AL:AO,2,FALSE),\"\")","v":"Deferred Revenue"},{"$f":"IFERROR(VLOOKUP(C619,Worktags!O:T,2,FALSE),\"\")","v":"Sale of Services-Taxable"},"All"]
[{"$f":"IF(B620<>\"\",IF(C620<>\"\",B620&\"_\"&C620&\" \"&D620&\"/\"&E620,B620&\" \"&D620),\"\")","v":"2600_RC4405 Deferred Revenue/Sale of Services-Refunds"},{"$f":"Worktags!AS149","v":"2600"},{"$f":"IF(Worktags!AQ149<>Worktags!AS149,Worktags!AQ149,\"\")","v":"RC4405"},{"$f":"IFERROR(VLOOKUP(B620,Worktags!AL:AO,2,FALSE),\"\")","v":"Deferred Revenue"},{"$f":"IFERROR(VLOOKUP(C620,Worktags!O:T,2,FALSE),\"\")","v":"Sale of Services-Refunds"},"All"]
[{"$f":"IF(B621<>\"\",IF(C621<>\"\",B621&\"_\"&C621&\" \"&D621&\"/\"&E621,B621&\" \"&D621),\"\")","v":"2600_RC4406 Deferred Revenue/Sponsorship Revenue"},{"$f":"Worktags!AS151","v":"2600"},{"$f":"IF(Worktags!AQ151<>Worktags!AS151,Worktags!AQ151,\"\")","v":"RC4406"},{"$f":"IFERROR(VLOOKUP(B621,Worktags!AL:AO,2,FALSE),\"\")","v":"Deferred Revenue"},{"$f":"IFERROR(VLOOKUP(C621,Worktags!O:T,2,FALSE),\"\")","v":"Sponsorship Revenue"},"All"]
[{"$f":"IF(B622<>\"\",IF(C622<>\"\",B622&\"_\"&C622&\" \"&D622&\"/\"&E622,B622&\" \"&D622),\"\")","v":"2600_RC4407 Deferred Revenue/Publishing Revenue"},{"$f":"Worktags!AS153","v":"2600"},{"$f":"IF(Worktags!AQ153<>Worktags!AS153,Worktags!AQ153,\"\")","v":"RC4407"},{"$f":"IFERROR(VLOOKUP(B622,Worktags!AL:AO,2,FALSE),\"\")","v":"Deferred Revenue"},{"$f":"IFERROR(VLOOKUP(C622,Worktags!O:T,2,FALSE),\"\")","v":"Publishing Revenue"},"All"]
[{"$f":"IF(B623<>\"\",IF(C623<>\"\",B623&\"_\"&C623&\" \"&D623&\"/\"&E623,B623&\" \"&D623),\"\")","v":"2600_RC4408 Deferred Revenue/Digital Download Revenue"},{"$f":"Worktags!AS155","v":"2600"},{"$f":"IF(Worktags!AQ155<>Worktags!AS155,Worktags!AQ155,\"\")","v":"RC4408"},{"$f":"IFERROR(VLOOKUP(B623,Worktags!AL:AO,2,FALSE),\"\")","v":"Deferred Revenue"},{"$f":"IFERROR(VLOOKUP(C623,Worktags!O:T,2,FALSE),\"\")","v":"Digital Download Revenue"},"All"]
[{"$f":"IF(B624<>\"\",IF(C624<>\"\",B624&\"_\"&C624&\" \"&D624&\"/\"&E624,B624&\" \"&D624),\"\")","v":"2600_RC4409 Deferred Revenue/Digital Streaming Revenue"},{"$f":"Worktags!AS157","v":"2600"},{"$f":"IF(Worktags!AQ157<>Worktags!AS157,Worktags!AQ157,\"\")","v":"RC4409"},{"$f":"IFERROR(VLOOKUP(B624,Worktags!AL:AO,2,FALSE),\"\")","v":"Deferred Revenue"},{"$f":"IFERROR(VLOOKUP(C624,Worktags!O:T,2,FALSE),\"\")","v":"Digital Streaming Revenue"},"All"]
[{"$f":"IF(B625<>\"\",IF(C625<>\"\",B625&\"_\"&C625&\" \"&D625&\"/\"&E625,B625&\" \"&D625),\"\")","v":"2600_RC4499 Deferred Revenue/Sale of Services (reclass)"},{"$f":"Worktags!AS159","v":"2600"},{"$f":"IF(Worktags!AQ159<>Worktags!AS159,Worktags!AQ159,\"\")","v":"RC4499"},{"$f":"IFERROR(VLOOKUP(B625,Worktags!AL:AO,2,FALSE),\"\")","v":"Deferred Revenue"},{"$f":"IFERROR(VLOOKUP(C625,Worktags!O:T,2,FALSE),\"\")","v":"Sale of Services (reclass)"},"All"]
[{"$f":"IF(B626<>\"\",IF(C626<>\"\",B626&\"_\"&C626&\" \"&D626&\"/\"&E626,B626&\" \"&D626),\"\")","v":"2600_RC4501 Deferred Revenue/Sale of Goods"},{"$f":"Worktags!AS161","v":"2600"},{"$f":"IF(Worktags!AQ161<>Worktags!AS161,Worktags!AQ161,\"\")","v":"RC4501"},{"$f":"IFERROR(VLOOKUP(B626,Worktags!AL:AO,2,FALSE),\"\")","v":"Deferred Revenue"},{"$f":"IFERROR(VLOOKUP(C626,Worktags!O:T,2,FALSE),\"\")","v":"Sale of Goods"},"All"]
[{"$f":"IF(B627<>\"\",IF(C627<>\"\",B627&\"_\"&C627&\" \"&D627&\"/\"&E627,B627&\" \"&D627),\"\")","v":"2600_RC4502 Deferred Revenue/Sale of Goods-Taxable"},{"$f":"Worktags!AS163","v":"2600"},{"$f":"IF(Worktags!AQ163<>Worktags!AS163,Worktags!AQ163,\"\")","v":"RC4502"},{"$f":"IFERROR(VLOOKUP(B627,Worktags!AL:AO,2,FALSE),\"\")","v":"Deferred Revenue"},{"$f":"IFERROR(VLOOKUP(C627,Worktags!O:T,2,FALSE),\"\")","v":"Sale of Goods-Taxable"},"All"]
[{"$f":"IF(B628<>\"\",IF(C628<>\"\",B628&\"_\"&C628&\" \"&D628&\"/\"&E628,B628&\" \"&D628),\"\")","v":"2600_RC4503 Deferred Revenue/Sale of Goods-Discount/Returns"},{"$f":"Worktags!AS165","v":"2600"},{"$f":"IF(Worktags!AQ165<>Worktags!AS165,Worktags!AQ165,\"\")","v":"RC4503"},{"$f":"IFERROR(VLOOKUP(B628,Worktags!AL:AO,2,FALSE),\"\")","v":"Deferred Revenue"},{"$f":"IFERROR(VLOOKUP(C628,Worktags!O:T,2,FALSE),\"\")","v":"Sale of Goods-Discount/Returns"},"All"]
[{"$f":"IF(B629<>\"\",IF(C629<>\"\",B629&\"_\"&C629&\" \"&D629&\"/\"&E629,B629&\" \"&D629),\"\")","v":"2600_RC4504 Deferred Revenue/Sales - Online and Out of State"},{"$f":"Worktags!AS167","v":"2600"},{"$f":"IF(Worktags!AQ167<>Worktags!AS167,Worktags!AQ167,\"\")","v":"RC4504"},{"$f":"IFERROR(VLOOKUP(B629,Worktags!AL:AO,2,FALSE),\"\")","v":"Deferred Revenue"},{"$f":"IFERROR(VLOOKUP(C629,Worktags!O:T,2,FALSE),\"\")","v":"Sales - Online and Out of State"},"All"]
[{"$f":"IF(B630<>\"\",IF(C630<>\"\",B630&\"_\"&C630&\" \"&D630&\"/\"&E630,B630&\" \"&D630),\"\")","v":"2600_RC4505 Deferred Revenue/Ticket Sales"},{"$f":"Worktags!AS169","v":"2600"},{"$f":"IF(Worktags!AQ169<>Worktags!AS169,Worktags!AQ169,\"\")","v":"RC4505"},{"$f":"IFERROR(VLOOKUP(B630,Worktags!AL:AO,2,FALSE),\"\")","v":"Deferred Revenue"},{"$f":"IFERROR(VLOOKUP(C630,Worktags!O:T,2,FALSE),\"\")","v":"Ticket Sales"},"All"]
[{"$f":"IF(B631<>\"\",IF(C631<>\"\",B631&\"_\"&C631&\" \"&D631&\"/\"&E631,B631&\" \"&D631),\"\")","v":"2600_RC4506 Deferred Revenue/Ticket Sales-Taxable"},{"$f":"Worktags!AS171","v":"2600"},{"$f":"IF(Worktags!AQ171<>Worktags!AS171,Worktags!AQ171,\"\")","v":"RC4506"},{"$f":"IFERROR(VLOOKUP(B631,Worktags!AL:AO,2,FALSE),\"\")","v":"Deferred Revenue"},{"$f":"IFERROR(VLOOKUP(C631,Worktags!O:T,2,FALSE),\"\")","v":"Ticket Sales-Taxable"},"All"]
[{"$f":"IF(B632<>\"\",IF(C632<>\"\",B632&\"_\"&C632&\" \"&D632&\"/\"&E632,B632&\" \"&D632),\"\")","v":"2600_RC4507 Deferred Revenue/Ticket Sales-Refunds"},{"$f":"Worktags!AS173","v":"2600"},{"$f":"IF(Worktags!AQ173<>Worktags!AS173,Worktags!AQ173,\"\")","v":"RC4507"},{"$f":"IFERROR(VLOOKUP(B632,Worktags!AL:AO,2,FALSE),\"\")","v":"Deferred Revenue"},{"$f":"IFERROR(VLOOKUP(C632,Worktags!O:T,2,FALSE),\"\")","v":"Ticket Sales-Refunds"},"All"]
[{"$f":"IF(B633<>\"\",IF(C633<>\"\",B633&\"_\"&C633&\" \"&D633&\"/\"&E633,B633&\" \"&D633),\"\")","v":"2600_RC4599 Deferred Revenue/Sale of Goods (reclass)"},{"$f":"Worktags!AS175","v":"2600"},{"$f":"IF(Worktags!AQ175<>Worktags!AS175,Worktags!AQ175,\"\")","v":"RC4599"},{"$f":"IFERROR(VLOOKUP(B633,Worktags!AL:AO,2,FALSE),\"\")","v":"Deferred Revenue"},{"$f":"IFERROR(VLOOKUP(C633,Worktags!O:T,2,FALSE),\"\")","v":"Sale of Goods (reclass)"},"All"]
[{"$f":"IF(B634<>\"\",IF(C634<>\"\",B634&\"_\"&C634&\" \"&D634&\"/\"&E634,B634&\" \"&D634),\"\")","v":"2600_RC4704 Deferred Revenue/Rental Income"},{"$f":"Worktags!AS180","v":"2600"},{"$f":"IF(Worktags!AQ180<>Worktags!AS180,Worktags!AQ180,\"\")","v":"RC4704"},{"$f":"IFERROR(VLOOKUP(B634,Worktags!AL:AO,2,FALSE),\"\")","v":"Deferred Revenue"},{"$f":"IFERROR(VLOOKUP(C634,Worktags!O:T,2,FALSE),\"\")","v":"Rental Income"},"All"]
[{"$f":"IF(B635<>\"\",IF(C635<>\"\",B635&\"_\"&C635&\" \"&D635&\"/\"&E635,B635&\" \"&D635),\"\")","v":"2600_SC4100 Deferred Revenue/Tuition and Fees Refunds"},{"$f":"Worktags!AS261","v":"2600"},{"$f":"IF(Worktags!AQ261<>Worktags!AS261,Worktags!AQ261,\"\")","v":"SC4100"},{"$f":"IFERROR(VLOOKUP(B635,Worktags!AL:AO,2,FALSE),\"\")","v":"Deferred Revenue"},{"$f":"IFERROR(VLOOKUP(C635,Worktags!O:T,2,FALSE),\"\")","v":"Tuition and Fees Refunds"},"All"]
[{"$f":"IF(B636<>\"\",IF(C636<>\"\",B636&\"_\"&C636&\" \"&D636&\"/\"&E636,B636&\" \"&D636),\"\")","v":"2700 Retire Postretire Benefit Obligation"},{"$f":"Worktags!AL97","v":"2700"},null,{"$f":"IFERROR(VLOOKUP(B636,Worktags!AL:AO,2,FALSE),\"\")","v":"Retire Postretire Benefit Obligation"},null,"All"]
[{"$f":"IF(B637<>\"\",IF(C637<>\"\",B637&\"_\"&C637&\" \"&D637&\"/\"&E637,B637&\" \"&D637),\"\")","v":"2700 Retire Postretire Benefit Obligation"},{"$f":"Worktags!AS63","v":"2700"},{"$f":"IF(Worktags!AQ63<>Worktags!AS63,Worktags!AQ63,\"\")","v":""},{"$f":"IFERROR(VLOOKUP(B637,Worktags!AL:AO,2,FALSE),\"\")","v":"Retire Postretire Benefit Obligation"},{"$f":"IFERROR(VLOOKUP(C637,Worktags!O:T,2,FALSE),\"\")","v":""},"All"]
[{"$f":"IF(B638<>\"\",IF(C638<>\"\",B638&\"_\"&C638&\" \"&D638&\"/\"&E638,B638&\" \"&D638),\"\")","v":"2710 Deferred Tax Liability"},{"$f":"Worktags!AL98","v":"2710"},null,{"$f":"IFERROR(VLOOKUP(B638,Worktags!AL:AO,2,FALSE),\"\")","v":"Deferred Tax Liability"},null,"All"]
[{"$f":"IF(B639<>\"\",IF(C639<>\"\",B639&\"_\"&C639&\" \"&D639&\"/\"&E639,B639&\" \"&D639),\"\")","v":"2710 Deferred Tax Liability"},{"$f":"Worktags!AS64","v":"2710"},{"$f":"IF(Worktags!AQ64<>Worktags!AS64,Worktags!AQ64,\"\")","v":""},{"$f":"IFERROR(VLOOKUP(B639,Worktags!AL:AO,2,FALSE),\"\")","v":"Deferred Tax Liability"},{"$f":"IFERROR(VLOOKUP(C639,Worktags!O:T,2,FALSE),\"\")","v":""},"All"]
[{"$f":"IF(B640<>\"\",IF(C640<>\"\",B640&\"_\"&C640&\" \"&D640&\"/\"&E640,B640&\" \"&D640),\"\")","v":"3400 Net Assets (prior year)"},{"$f":"Worktags!AL99","v":"3400"},null,{"$f":"IFERROR(VLOOKUP(B640,Worktags!AL:AO,2,FALSE),\"\")","v":"Net Assets (prior year)"},null,"All"]
[{"$f":"IF(B641<>\"\",IF(C641<>\"\",B641&\"_\"&C641&\" \"&D641&\"/\"&E641,B641&\" \"&D641),\"\")","v":"3400 Net Assets (prior year)"},{"$f":"Worktags!AS65","v":"3400"},{"$f":"IF(Worktags!AQ65<>Worktags!AS65,Worktags!AQ65,\"\")","v":""},{"$f":"IFERROR(VLOOKUP(B641,Worktags!AL:AO,2,FALSE),\"\")","v":"Net Assets (prior year)"},{"$f":"IFERROR(VLOOKUP(C641,Worktags!O:T,2,FALSE),\"\")","v":""},"All"]
[{"$f":"IF(B642<>\"\",IF(C642<>\"\",B642&\"_\"&C642&\" \"&D642&\"/\"&E642,B642&\" \"&D642),\"\")","v":"3500 Net Assets"},{"$f":"Worktags!AL100","v":"3500"},null,{"$f":"IFERROR(VLOOKUP(B642,Worktags!AL:AO,2,FALSE),\"\")","v":"Net Assets"},null,"All"]
[{"$f":"IF(B643<>\"\",IF(C643<>\"\",B643&\"_\"&C643&\" \"&D643&\"/\"&E643,B643&\" \"&D643),\"\")","v":"3500 Net Assets"},{"$f":"Worktags!AS66","v":"3500"},{"$f":"IF(Worktags!AQ66<>Worktags!AS66,Worktags!AQ66,\"\")","v":""},{"$f":"IFERROR(VLOOKUP(B643,Worktags!AL:AO,2,FALSE),\"\")","v":"Net Assets"},{"$f":"IFERROR(VLOOKUP(C643,Worktags!O:T,2,FALSE),\"\")","v":""},"All"]
[{"$f":"IF(B644<>\"\",IF(C644<>\"\",B644&\"_\"&C644&\" \"&D644&\"/\"&E644,B644&\" \"&D644),\"\")","v":"3600 Net Assets-Reserve"},{"$f":"Worktags!AL101","v":"3600"},null,{"$f":"IFERROR(VLOOKUP(B644,Worktags!AL:AO,2,FALSE),\"\")","v":"Net Assets-Reserve"},null,"All"]
[{"$f":"IF(B645<>\"\",IF(C645<>\"\",B645&\"_\"&C645&\" \"&D645&\"/\"&E645,B645&\" \"&D645),\"\")","v":"3600 Net Assets-Reserve"},{"$f":"Worktags!AS67","v":"3600"},{"$f":"IF(Worktags!AQ67<>Worktags!AS67,Worktags!AQ67,\"\")","v":""},{"$f":"IFERROR(VLOOKUP(B645,Worktags!AL:AO,2,FALSE),\"\")","v":"Net Assets-Reserve"},{"$f":"IFERROR(VLOOKUP(C645,Worktags!O:T,2,FALSE),\"\")","v":""},"JE_Override"]
[{"$f":"IF(B646<>\"\",IF(C646<>\"\",B646&\"_\"&C646&\" \"&D646&\"/\"&E646,B646&\" \"&D646),\"\")","v":"3609 Net Assets (Reserve Offset)"},{"$f":"Worktags!AL102","v":"3609"},null,{"$f":"IFERROR(VLOOKUP(B646,Worktags!AL:AO,2,FALSE),\"\")","v":"Net Assets (Reserve Offset)"},null,"JE_Override"]
[{"$f":"IF(B647<>\"\",IF(C647<>\"\",B647&\"_\"&C647&\" \"&D647&\"/\"&E647,B647&\" \"&D647),\"\")","v":"3609 Net Assets (Reserve Offset)"},{"$f":"Worktags!AS68","v":"3609"},{"$f":"IF(Worktags!AQ68<>Worktags!AS68,Worktags!AQ68,\"\")","v":""},{"$f":"IFERROR(VLOOKUP(B647,Worktags!AL:AO,2,FALSE),\"\")","v":"Net Assets (Reserve Offset)"},{"$f":"IFERROR(VLOOKUP(C647,Worktags!O:T,2,FALSE),\"\")","v":""},"JE_Override"]
[{"$f":"IF(B648<>\"\",IF(C648<>\"\",B648&\"_\"&C648&\" \"&D648&\"/\"&E648,B648&\" \"&D648),\"\")","v":"3650 W/O Donor Restr - Oper"},{"$f":"Worktags!AL103","v":"3650"},null,{"$f":"IFERROR(VLOOKUP(B648,Worktags!AL:AO,2,FALSE),\"\")","v":"W/O Donor Restr - Oper"},null,"JE_Override"]
[{"$f":"IF(B649<>\"\",IF(C649<>\"\",B649&\"_\"&C649&\" \"&D649&\"/\"&E649,B649&\" \"&D649),\"\")","v":"3650 W/O Donor Restr - Oper"},{"$f":"Worktags!AS69","v":"3650"},{"$f":"IF(Worktags!AQ69<>Worktags!AS69,Worktags!AQ69,\"\")","v":""},{"$f":"IFERROR(VLOOKUP(B649,Worktags!AL:AO,2,FALSE),\"\")","v":"W/O Donor Restr - Oper"},{"$f":"IFERROR(VLOOKUP(C649,Worktags!O:T,2,FALSE),\"\")","v":""},"All"]
[{"$f":"IF(B650<>\"\",IF(C650<>\"\",B650&\"_\"&C650&\" \"&D650&\"/\"&E650,B650&\" \"&D650),\"\")","v":"3651 W/O Donor Restr - Board-desig Endow"},{"$f":"Worktags!AL104","v":"3651"},null,{"$f":"IFERROR(VLOOKUP(B650,Worktags!AL:AO,2,FALSE),\"\")","v":"W/O Donor Restr - Board-desig Endow"},null,"All"]
[{"$f":"IF(B651<>\"\",IF(C651<>\"\",B651&\"_\"&C651&\" \"&D651&\"/\"&E651,B651&\" \"&D651),\"\")","v":"3651 W/O Donor Restr - Board-desig Endow"},{"$f":"Worktags!AS70","v":"3651"},{"$f":"IF(Worktags!AQ70<>Worktags!AS70,Worktags!AQ70,\"\")","v":""},{"$f":"IFERROR(VLOOKUP(B651,Worktags!AL:AO,2,FALSE),\"\")","v":"W/O Donor Restr - Board-desig Endow"},{"$f":"IFERROR(VLOOKUP(C651,Worktags!O:T,2,FALSE),\"\")","v":""},"All"]
[{"$f":"IF(B652<>\"\",IF(C652<>\"\",B652&\"_\"&C652&\" \"&D652&\"/\"&E652,B652&\" \"&D652),\"\")","v":"3652 W/O Donor Restr - Invested in PPE"},{"$f":"Worktags!AL105","v":"3652"},null,{"$f":"IFERROR(VLOOKUP(B652,Worktags!AL:AO,2,FALSE),\"\")","v":"W/O Donor Restr - Invested in PPE"},null,"All"]
[{"$f":"IF(B653<>\"\",IF(C653<>\"\",B653&\"_\"&C653&\" \"&D653&\"/\"&E653,B653&\" \"&D653),\"\")","v":"3652 W/O Donor Restr - Invested in PPE"},{"$f":"Worktags!AS71","v":"3652"},{"$f":"IF(Worktags!AQ71<>Worktags!AS71,Worktags!AQ71,\"\")","v":""},{"$f":"IFERROR(VLOOKUP(B653,Worktags!AL:AO,2,FALSE),\"\")","v":"W/O Donor Restr - Invested in PPE"},{"$f":"IFERROR(VLOOKUP(C653,Worktags!O:T,2,FALSE),\"\")","v":""},"JE_Override"]
[{"$f":"IF(B654<>\"\",IF(C654<>\"\",B654&\"_\"&C654&\" \"&D654&\"/\"&E654,B654&\" \"&D654),\"\")","v":"3660 With Donor Restr - Oper"},{"$f":"Worktags!AL106","v":"3660"},null,{"$f":"IFERROR(VLOOKUP(B654,Worktags!AL:AO,2,FALSE),\"\")","v":"With Donor Restr - Oper"},null,"JE_Override"]
[{"$f":"IF(B655<>\"\",IF(C655<>\"\",B655&\"_\"&C655&\" \"&D655&\"/\"&E655,B655&\" \"&D655),\"\")","v":"3660 With Donor Restr - Oper"},{"$f":"Worktags!AS72","v":"3660"},{"$f":"IF(Worktags!AQ72<>Worktags!AS72,Worktags!AQ72,\"\")","v":""},{"$f":"IFERROR(VLOOKUP(B655,Worktags!AL:AO,2,FALSE),\"\")","v":"With Donor Restr - Oper"},{"$f":"IFERROR(VLOOKUP(C655,Worktags!O:T,2,FALSE),\"\")","v":""},"JE_Override"]
[{"$f":"IF(B656<>\"\",IF(C656<>\"\",B656&\"_\"&C656&\" \"&D656&\"/\"&E656,B656&\" \"&D656),\"\")","v":"3661 With Donor Restr - Trusts"},{"$f":"Worktags!AL107","v":"3661"},null,{"$f":"IFERROR(VLOOKUP(B656,Worktags!AL:AO,2,FALSE),\"\")","v":"With Donor Restr - Trusts"},null,"JE_Override"]
[{"$f":"IF(B657<>\"\",IF(C657<>\"\",B657&\"_\"&C657&\" \"&D657&\"/\"&E657,B657&\" \"&D657),\"\")","v":"3661 With Donor Restr - Trusts"},{"$f":"Worktags!AS73","v":"3661"},{"$f":"IF(Worktags!AQ73<>Worktags!AS73,Worktags!AQ73,\"\")","v":""},{"$f":"IFERROR(VLOOKUP(B657,Worktags!AL:AO,2,FALSE),\"\")","v":"With Donor Restr - Trusts"},{"$f":"IFERROR(VLOOKUP(C657,Worktags!O:T,2,FALSE),\"\")","v":""},"JE_Override"]
[{"$f":"IF(B658<>\"\",IF(C658<>\"\",B658&\"_\"&C658&\" \"&D658&\"/\"&E658,B658&\" \"&D658),\"\")","v":"3662 With Donor Restr - Board-desig Endow"},{"$f":"Worktags!AL108","v":"3662"},null,{"$f":"IFERROR(VLOOKUP(B658,Worktags!AL:AO,2,FALSE),\"\")","v":"With Donor Restr - Board-desig Endow"},null,"JE_Override"]
[{"$f":"IF(B659<>\"\",IF(C659<>\"\",B659&\"_\"&C659&\" \"&D659&\"/\"&E659,B659&\" \"&D659),\"\")","v":"3662 With Donor Restr - Board-desig Endow"},{"$f":"Worktags!AS74","v":"3662"},{"$f":"IF(Worktags!AQ74<>Worktags!AS74,Worktags!AQ74,\"\")","v":""},{"$f":"IFERROR(VLOOKUP(B659,Worktags!AL:AO,2,FALSE),\"\")","v":"With Donor Restr - Board-desig Endow"},{"$f":"IFERROR(VLOOKUP(C659,Worktags!O:T,2,FALSE),\"\")","v":""},""]
[{"$f":"IF(B660<>\"\",IF(C660<>\"\",B660&\"_\"&C660&\" \"&D660&\"/\"&E660,B660&\" \"&D660),\"\")","v":"3663 With Donor Restr - Endow"},{"$f":"Worktags!AL109","v":"3663"},null,{"$f":"IFERROR(VLOOKUP(B660,Worktags!AL:AO,2,FALSE),\"\")","v":"With Donor Restr - Endow"},null,"All"]
[{"$f":"IF(B661<>\"\",IF(C661<>\"\",B661&\"_\"&C661&\" \"&D661&\"/\"&E661,B661&\" \"&D661),\"\")","v":"3663 With Donor Restr - Endow"},{"$f":"Worktags!AS75","v":"3663"},{"$f":"IF(Worktags!AQ75<>Worktags!AS75,Worktags!AQ75,\"\")","v":""},{"$f":"IFERROR(VLOOKUP(B661,Worktags!AL:AO,2,FALSE),\"\")","v":"With Donor Restr - Endow"},{"$f":"IFERROR(VLOOKUP(C661,Worktags!O:T,2,FALSE),\"\")","v":""},"All"]
[{"$f":"IF(B662<>\"\",IF(C662<>\"\",B662&\"_\"&C662&\" \"&D662&\"/\"&E662,B662&\" \"&D662),\"\")","v":"3670 Retirement Benefits Adjustment"},{"$f":"Worktags!AL110","v":"3670"},null,{"$f":"IFERROR(VLOOKUP(B662,Worktags!AL:AO,2,FALSE),\"\")","v":"Retirement Benefits Adjustment"},null,""]
[{"$f":"IF(B663<>\"\",IF(C663<>\"\",B663&\"_\"&C663&\" \"&D663&\"/\"&E663,B663&\" \"&D663),\"\")","v":"3670 Retirement Benefits Adjustment"},{"$f":"Worktags!AS76","v":"3670"},{"$f":"IF(Worktags!AQ76<>Worktags!AS76,Worktags!AQ76,\"\")","v":""},{"$f":"IFERROR(VLOOKUP(B663,Worktags!AL:AO,2,FALSE),\"\")","v":"Retirement Benefits Adjustment"},{"$f":"IFERROR(VLOOKUP(C663,Worktags!O:T,2,FALSE),\"\")","v":""},"All"]
[{"$f":"IF(B664<>\"\",IF(C664<>\"\",B664&\"_\"&C664&\" \"&D664&\"/\"&E664,B664&\" \"&D664),\"\")","v":"3680 Cumulative Translation Adjustment"},{"$f":"Worktags!AL111","v":"3680"},null,{"$f":"IFERROR(VLOOKUP(B664,Worktags!AL:AO,2,FALSE),\"\")","v":"Cumulative Translation Adjustment"},null,"All"]
[{"$f":"IF(B665<>\"\",IF(C665<>\"\",B665&\"_\"&C665&\" \"&D665&\"/\"&E665,B665&\" \"&D665),\"\")","v":"3680 Cumulative Translation Adjustment"},{"$f":"Worktags!AS77","v":"3680"},{"$f":"IF(Worktags!AQ77<>Worktags!AS77,Worktags!AQ77,\"\")","v":""},{"$f":"IFERROR(VLOOKUP(B665,Worktags!AL:AO,2,FALSE),\"\")","v":"Cumulative Translation Adjustment"},{"$f":"IFERROR(VLOOKUP(C665,Worktags!O:T,2,FALSE),\"\")","v":""},"All"]
[{"$f":"IF(B666<>\"\",IF(C666<>\"\",B666&\"_\"&C666&\" \"&D666&\"/\"&E666,B666&\" \"&D666),\"\")","v":"3690 Net Assets (Proj Conv P&L)"},{"$f":"Worktags!AL112","v":"3690"},null,{"$f":"IFERROR(VLOOKUP(B666,Worktags!AL:AO,2,FALSE),\"\")","v":"Net Assets (Proj Conv P&L)"},null,"All"]
[{"$f":"IF(B667<>\"\",IF(C667<>\"\",B667&\"_\"&C667&\" \"&D667&\"/\"&E667,B667&\" \"&D667),\"\")","v":"3690 Net Assets (Proj Conv P&L)"},{"$f":"Worktags!AS78","v":"3690"},{"$f":"IF(Worktags!AQ78<>Worktags!AS78,Worktags!AQ78,\"\")","v":""},{"$f":"IFERROR(VLOOKUP(B667,Worktags!AL:AO,2,FALSE),\"\")","v":"Net Assets (Proj Conv P&L)"},{"$f":"IFERROR(VLOOKUP(C667,Worktags!O:T,2,FALSE),\"\")","v":""},"All"]
[{"$f":"IF(B668<>\"\",IF(C668<>\"\",B668&\"_\"&C668&\" \"&D668&\"/\"&E668,B668&\" \"&D668),\"\")","v":"4000 Appropriations"},{"$f":"Worktags!AL113","v":"4000"},null,{"$f":"IFERROR(VLOOKUP(B668,Worktags!AL:AO,2,FALSE),\"\")","v":"Appropriations"},null,"All"]
[{"$f":"IF(B669<>\"\",IF(C669<>\"\",B669&\"_\"&C669&\" \"&D669&\"/\"&E669,B669&\" \"&D669),\"\")","v":"4000_RC4001 Appropriations/Church Appropriation"},{"$f":"Worktags!AS105","v":"4000"},{"$f":"IF(Worktags!AQ105<>Worktags!AS105,Worktags!AQ105,\"\")","v":"RC4001"},{"$f":"IFERROR(VLOOKUP(B669,Worktags!AL:AO,2,FALSE),\"\")","v":"Appropriations"},{"$f":"IFERROR(VLOOKUP(C669,Worktags!O:T,2,FALSE),\"\")","v":"Church Appropriation"},"All"]
[{"$f":"IF(B670<>\"\",IF(C670<>\"\",B670&\"_\"&C670&\" \"&D670&\"/\"&E670,B670&\" \"&D670),\"\")","v":"4000_RC4002 Appropriations/University Allocation"},{"$f":"Worktags!AS107","v":"4000"},{"$f":"IF(Worktags!AQ107<>Worktags!AS107,Worktags!AQ107,\"\")","v":"RC4002"},{"$f":"IFERROR(VLOOKUP(B670,Worktags!AL:AO,2,FALSE),\"\")","v":"Appropriations"},{"$f":"IFERROR(VLOOKUP(C670,Worktags!O:T,2,FALSE),\"\")","v":"University Allocation"},"All"]
[{"$f":"IF(B671<>\"\",IF(C671<>\"\",B671&\"_\"&C671&\" \"&D671&\"/\"&E671,B671&\" \"&D671),\"\")","v":"4100 Tuition and Fees"},{"$f":"Worktags!AL114","v":"4100"},null,{"$f":"IFERROR(VLOOKUP(B671,Worktags!AL:AO,2,FALSE),\"\")","v":"Tuition and Fees"},null,"All"]
[{"$f":"IF(B672<>\"\",IF(C672<>\"\",B672&\"_\"&C672&\" \"&D672&\"/\"&E672,B672&\" \"&D672),\"\")","v":"4100_RC4101 Tuition and Fees/Tuition"},{"$f":"Worktags!AS109","v":"4100"},{"$f":"IF(Worktags!AQ109<>Worktags!AS109,Worktags!AQ109,\"\")","v":"RC4101"},{"$f":"IFERROR(VLOOKUP(B672,Worktags!AL:AO,2,FALSE),\"\")","v":"Tuition and Fees"},{"$f":"IFERROR(VLOOKUP(C672,Worktags!O:T,2,FALSE),\"\")","v":"Tuition"},"All"]
[{"$f":"IF(B673<>\"\",IF(C673<>\"\",B673&\"_\"&C673&\" \"&D673&\"/\"&E673,B673&\" \"&D673),\"\")","v":"4100_RC4102 Tuition and Fees/Student Fee Distribution"},{"$f":"Worktags!AS111","v":"4100"},{"$f":"IF(Worktags!AQ111<>Worktags!AS111,Worktags!AQ111,\"\")","v":"RC4102"},{"$f":"IFERROR(VLOOKUP(B673,Worktags!AL:AO,2,FALSE),\"\")","v":"Tuition and Fees"},{"$f":"IFERROR(VLOOKUP(C673,Worktags!O:T,2,FALSE),\"\")","v":"Student Fee Distribution"},"All"]
[{"$f":"IF(B674<>\"\",IF(C674<>\"\",B674&\"_\"&C674&\" \"&D674&\"/\"&E674,B674&\" \"&D674),\"\")","v":"4100_RC4103 Tuition and Fees/Non-Credit Income"},{"$f":"Worktags!AS113","v":"4100"},{"$f":"IF(Worktags!AQ113<>Worktags!AS113,Worktags!AQ113,\"\")","v":"RC4103"},{"$f":"IFERROR(VLOOKUP(B674,Worktags!AL:AO,2,FALSE),\"\")","v":"Tuition and Fees"},{"$f":"IFERROR(VLOOKUP(C674,Worktags!O:T,2,FALSE),\"\")","v":"Non-Credit Income"},"All"]
[{"$f":"IF(B675<>\"\",IF(C675<>\"\",B675&\"_\"&C675&\" \"&D675&\"/\"&E675,B675&\" \"&D675),\"\")","v":"4100_RC4104 Tuition and Fees/Student Fees"},{"$f":"Worktags!AS115","v":"4100"},{"$f":"IF(Worktags!AQ115<>Worktags!AS115,Worktags!AQ115,\"\")","v":"RC4104"},{"$f":"IFERROR(VLOOKUP(B675,Worktags!AL:AO,2,FALSE),\"\")","v":"Tuition and Fees"},{"$f":"IFERROR(VLOOKUP(C675,Worktags!O:T,2,FALSE),\"\")","v":"Student Fees"},"All"]
[{"$f":"IF(B676<>\"\",IF(C676<>\"\",B676&\"_\"&C676&\" \"&D676&\"/\"&E676,B676&\" \"&D676),\"\")","v":"4100_RC4110 Tuition and Fees/Grad Service Fee"},{"$f":"Worktags!AS117","v":"4100"},{"$f":"IF(Worktags!AQ117<>Worktags!AS117,Worktags!AQ117,\"\")","v":"RC4110"},{"$f":"IFERROR(VLOOKUP(B676,Worktags!AL:AO,2,FALSE),\"\")","v":"Tuition and Fees"},{"$f":"IFERROR(VLOOKUP(C676,Worktags!O:T,2,FALSE),\"\")","v":"Grad Service Fee"},"All"]
[{"$f":"IF(B677<>\"\",IF(C677<>\"\",B677&\"_\"&C677&\" \"&D677&\"/\"&E677,B677&\" \"&D677),\"\")","v":"4100_RC4111 Tuition and Fees/Admission Fees"},{"$f":"Worktags!AS119","v":"4100"},{"$f":"IF(Worktags!AQ119<>Worktags!AS119,Worktags!AQ119,\"\")","v":"RC4111"},{"$f":"IFERROR(VLOOKUP(B677,Worktags!AL:AO,2,FALSE),\"\")","v":"Tuition and Fees"},{"$f":"IFERROR(VLOOKUP(C677,Worktags!O:T,2,FALSE),\"\")","v":"Admission Fees"},""]
[{"$f":"IF(B678<>\"\",IF(C678<>\"\",B678&\"_\"&C678&\" \"&D678&\"/\"&E678,B678&\" \"&D678),\"\")","v":"4100_RC4112 Tuition and Fees/Graduation Fees"},{"$f":"Worktags!AS121","v":"4100"},{"$f":"IF(Worktags!AQ121<>Worktags!AS121,Worktags!AQ121,\"\")","v":"RC4112"},{"$f":"IFERROR(VLOOKUP(B678,Worktags!AL:AO,2,FALSE),\"\")","v":"Tuition and Fees"},{"$f":"IFERROR(VLOOKUP(C678,Worktags!O:T,2,FALSE),\"\")","v":"Graduation Fees"},""]
[{"$f":"IF(B679<>\"\",IF(C679<>\"\",B679&\"_\"&C679&\" \"&D679&\"/\"&E679,B679&\" \"&D679),\"\")","v":"4100_RC4113 Tuition and Fees/Transcript Fees"},{"$f":"Worktags!AS123","v":"4100"},{"$f":"IF(Worktags!AQ123<>Worktags!AS123,Worktags!AQ123,\"\")","v":"RC4113"},{"$f":"IFERROR(VLOOKUP(B679,Worktags!AL:AO,2,FALSE),\"\")","v":"Tuition and Fees"},{"$f":"IFERROR(VLOOKUP(C679,Worktags!O:T,2,FALSE),\"\")","v":"Transcript Fees"},"JE_Gift|JE_Override"]
[{"$f":"IF(B680<>\"\",IF(C680<>\"\",B680&\"_\"&C680&\" \"&D680&\"/\"&E680,B680&\" \"&D680),\"\")","v":"4100_RC4114 Tuition and Fees/Special Exam Fees"},{"$f":"Worktags!AS125","v":"4100"},{"$f":"IF(Worktags!AQ125<>Worktags!AS125,Worktags!AQ125,\"\")","v":"RC4114"},{"$f":"IFERROR(VLOOKUP(B680,Worktags!AL:AO,2,FALSE),\"\")","v":"Tuition and Fees"},{"$f":"IFERROR(VLOOKUP(C680,Worktags!O:T,2,FALSE),\"\")","v":"Special Exam Fees"},"JE_Gift|JE_Override"]
[{"$f":"IF(B681<>\"\",IF(C681<>\"\",B681&\"_\"&C681&\" \"&D681&\"/\"&E681,B681&\" \"&D681),\"\")","v":"4100_RC4115 Tuition and Fees/ACT Test Fees"},{"$f":"Worktags!AS127","v":"4100"},{"$f":"IF(Worktags!AQ127<>Worktags!AS127,Worktags!AQ127,\"\")","v":"RC4115"},{"$f":"IFERROR(VLOOKUP(B681,Worktags!AL:AO,2,FALSE),\"\")","v":"Tuition and Fees"},{"$f":"IFERROR(VLOOKUP(C681,Worktags!O:T,2,FALSE),\"\")","v":"ACT Test Fees"},"JE_Gift|JE_Override"]
[{"$f":"IF(B682<>\"\",IF(C682<>\"\",B682&\"_\"&C682&\" \"&D682&\"/\"&E682,B682&\" \"&D682),\"\")","v":"4100_RC4116 Tuition and Fees/Library Fines"},{"$f":"Worktags!AS128","v":"4100"},{"$f":"IF(Worktags!AQ128<>Worktags!AS128,Worktags!AQ128,\"\")","v":"RC4116"},{"$f":"IFERROR(VLOOKUP(B682,Worktags!AL:AO,2,FALSE),\"\")","v":"Tuition and Fees"},{"$f":"IFERROR(VLOOKUP(C682,Worktags!O:T,2,FALSE),\"\")","v":"Library Fines"},"All"]
[{"$f":"IF(B683<>\"\",IF(C683<>\"\",B683&\"_\"&C683&\" \"&D683&\"/\"&E683,B683&\" \"&D683),\"\")","v":"4100_RC4117 Tuition and Fees/Locker Rentals"},{"$f":"Worktags!AS130","v":"4100"},{"$f":"IF(Worktags!AQ130<>Worktags!AS130,Worktags!AQ130,\"\")","v":"RC4117"},{"$f":"IFERROR(VLOOKUP(B683,Worktags!AL:AO,2,FALSE),\"\")","v":"Tuition and Fees"},{"$f":"IFERROR(VLOOKUP(C683,Worktags!O:T,2,FALSE),\"\")","v":"Locker Rentals"},"All"]
[{"$f":"IF(B684<>\"\",IF(C684<>\"\",B684&\"_\"&C684&\" \"&D684&\"/\"&E684,B684&\" \"&D684),\"\")","v":"4100_RC4199 Tuition and Fees/Tuition and Fees (reclass)"},{"$f":"Worktags!AS132","v":"4100"},{"$f":"IF(Worktags!AQ132<>Worktags!AS132,Worktags!AQ132,\"\")","v":"RC4199"},{"$f":"IFERROR(VLOOKUP(B684,Worktags!AL:AO,2,FALSE),\"\")","v":"Tuition and Fees"},{"$f":"IFERROR(VLOOKUP(C684,Worktags!O:T,2,FALSE),\"\")","v":"Tuition and Fees (reclass)"},""]
[{"$f":"IF(B685<>\"\",IF(C685<>\"\",B685&\"_\"&C685&\" \"&D685&\"/\"&E685,B685&\" \"&D685),\"\")","v":"4100_SC4100 Tuition and Fees/Tuition and Fees Refunds"},{"$f":"Worktags!AS262","v":"4100"},{"$f":"IF(Worktags!AQ262<>Worktags!AS262,Worktags!AQ262,\"\")","v":"SC4100"},{"$f":"IFERROR(VLOOKUP(B685,Worktags!AL:AO,2,FALSE),\"\")","v":"Tuition and Fees"},{"$f":"IFERROR(VLOOKUP(C685,Worktags!O:T,2,FALSE),\"\")","v":"Tuition and Fees Refunds"},"All"]
[{"$f":"IF(B686<>\"\",IF(C686<>\"\",B686&\"_\"&C686&\" \"&D686&\"/\"&E686,B686&\" \"&D686),\"\")","v":"4198 Tuition and Fees (Contra)"},{"$f":"Worktags!AL115","v":"4198"},null,{"$f":"IFERROR(VLOOKUP(B686,Worktags!AL:AO,2,FALSE),\"\")","v":"Tuition and Fees (Contra)"},null,"All"]
[{"$f":"IF(B687<>\"\",IF(C687<>\"\",B687&\"_\"&C687&\" \"&D687&\"/\"&E687,B687&\" \"&D687),\"\")","v":"4200 Gifts and Grants"},{"$f":"Worktags!AL116","v":"4200"},null,{"$f":"IFERROR(VLOOKUP(B687,Worktags!AL:AO,2,FALSE),\"\")","v":"Gifts and Grants"},null,""]
[{"$f":"IF(B688<>\"\",IF(C688<>\"\",B688&\"_\"&C688&\" \"&D688&\"/\"&E688,B688&\" \"&D688),\"\")","v":"4200_RC4201 Gifts and Grants/Gift Revenue-Cash"},{"$f":"Worktags!AS133","v":"4200"},{"$f":"IF(Worktags!AQ133<>Worktags!AS133,Worktags!AQ133,\"\")","v":"RC4201"},{"$f":"IFERROR(VLOOKUP(B688,Worktags!AL:AO,2,FALSE),\"\")","v":"Gifts and Grants"},{"$f":"IFERROR(VLOOKUP(C688,Worktags!O:T,2,FALSE),\"\")","v":"Gift Revenue-Cash"},"All"]
[{"$f":"IF(B689<>\"\",IF(C689<>\"\",B689&\"_\"&C689&\" \"&D689&\"/\"&E689,B689&\" \"&D689),\"\")","v":"4200_RC4202 Gifts and Grants/Gift Revenue-Securities"},{"$f":"Worktags!AS134","v":"4200"},{"$f":"IF(Worktags!AQ134<>Worktags!AS134,Worktags!AQ134,\"\")","v":"RC4202"},{"$f":"IFERROR(VLOOKUP(B689,Worktags!AL:AO,2,FALSE),\"\")","v":"Gifts and Grants"},{"$f":"IFERROR(VLOOKUP(C689,Worktags!O:T,2,FALSE),\"\")","v":"Gift Revenue-Securities"},"All"]
[{"$f":"IF(B690<>\"\",IF(C690<>\"\",B690&\"_\"&C690&\" \"&D690&\"/\"&E690,B690&\" \"&D690),\"\")","v":"4200_RC4203 Gifts and Grants/Gift Revenue - Tangible Property"},{"$f":"Worktags!AS135","v":"4200"},{"$f":"IF(Worktags!AQ135<>Worktags!AS135,Worktags!AQ135,\"\")","v":"RC4203"},{"$f":"IFERROR(VLOOKUP(B690,Worktags!AL:AO,2,FALSE),\"\")","v":"Gifts and Grants"},{"$f":"IFERROR(VLOOKUP(C690,Worktags!O:T,2,FALSE),\"\")","v":"Gift Revenue - Tangible Property"},"All"]
[{"$f":"IF(B691<>\"\",IF(C691<>\"\",B691&\"_\"&C691&\" \"&D691&\"/\"&E691,B691&\" \"&D691),\"\")","v":"4200_RC4204 Gifts and Grants/Sponsored Program Revenue"},{"$f":"Worktags!AS136","v":"4200"},{"$f":"IF(Worktags!AQ136<>Worktags!AS136,Worktags!AQ136,\"\")","v":"RC4204"},{"$f":"IFERROR(VLOOKUP(B691,Worktags!AL:AO,2,FALSE),\"\")","v":"Gifts and Grants"},{"$f":"IFERROR(VLOOKUP(C691,Worktags!O:T,2,FALSE),\"\")","v":"Sponsored Program Revenue"},""]
[{"$f":"IF(B692<>\"\",IF(C692<>\"\",B692&\"_\"&C692&\" \"&D692&\"/\"&E692,B692&\" \"&D692),\"\")","v":"4200_RC4299 Gifts and Grants/Gift Revenue (reclass)"},{"$f":"Worktags!AS137","v":"4200"},{"$f":"IF(Worktags!AQ137<>Worktags!AS137,Worktags!AQ137,\"\")","v":"RC4299"},{"$f":"IFERROR(VLOOKUP(B692,Worktags!AL:AO,2,FALSE),\"\")","v":"Gifts and Grants"},{"$f":"IFERROR(VLOOKUP(C692,Worktags!O:T,2,FALSE),\"\")","v":"Gift Revenue (reclass)"},"All"]
[{"$f":"IF(B693<>\"\",IF(C693<>\"\",B693&\"_\"&C693&\" \"&D693&\"/\"&E693,B693&\" \"&D693),\"\")","v":"4300 Investment Income"},{"$f":"Worktags!AL117","v":"4300"},null,{"$f":"IFERROR(VLOOKUP(B693,Worktags!AL:AO,2,FALSE),\"\")","v":"Investment Income"},null,"All"]
[{"$f":"IF(B694<>\"\",IF(C694<>\"\",B694&\"_\"&C694&\" \"&D694&\"/\"&E694,B694&\" \"&D694),\"\")","v":"4300_RC4301 Investment Income/Investment Dividend Income"},{"$f":"Worktags!AS138","v":"4300"},{"$f":"IF(Worktags!AQ138<>Worktags!AS138,Worktags!AQ138,\"\")","v":"RC4301"},{"$f":"IFERROR(VLOOKUP(B694,Worktags!AL:AO,2,FALSE),\"\")","v":"Investment Income"},{"$f":"IFERROR(VLOOKUP(C694,Worktags!O:T,2,FALSE),\"\")","v":"Investment Dividend Income"},"All"]
[{"$f":"IF(B695<>\"\",IF(C695<>\"\",B695&\"_\"&C695&\" \"&D695&\"/\"&E695,B695&\" \"&D695),\"\")","v":"4300_RC4302 Investment Income/Investment Interest Income"},{"$f":"Worktags!AS139","v":"4300"},{"$f":"IF(Worktags!AQ139<>Worktags!AS139,Worktags!AQ139,\"\")","v":"RC4302"},{"$f":"IFERROR(VLOOKUP(B695,Worktags!AL:AO,2,FALSE),\"\")","v":"Investment Income"},{"$f":"IFERROR(VLOOKUP(C695,Worktags!O:T,2,FALSE),\"\")","v":"Investment Interest Income"},"All"]
[{"$f":"IF(B696<>\"\",IF(C696<>\"\",B696&\"_\"&C696&\" \"&D696&\"/\"&E696,B696&\" \"&D696),\"\")","v":"4310 Investment Gains and Losses"},{"$f":"Worktags!AL118","v":"4310"},null,{"$f":"IFERROR(VLOOKUP(B696,Worktags!AL:AO,2,FALSE),\"\")","v":"Investment Gains and Losses"},null,"All"]
[{"$f":"IF(B697<>\"\",IF(C697<>\"\",B697&\"_\"&C697&\" \"&D697&\"/\"&E697,B697&\" \"&D697),\"\")","v":"4310_RC4311 Investment Gains and Losses/Investment Gains/Losses"},{"$f":"Worktags!AS140","v":"4310"},{"$f":"IF(Worktags!AQ140<>Worktags!AS140,Worktags!AQ140,\"\")","v":"RC4311"},{"$f":"IFERROR(VLOOKUP(B697,Worktags!AL:AO,2,FALSE),\"\")","v":"Investment Gains and Losses"},{"$f":"IFERROR(VLOOKUP(C697,Worktags!O:T,2,FALSE),\"\")","v":"Investment Gains/Losses"},"All"]
[{"$f":"IF(B698<>\"\",IF(C698<>\"\",B698&\"_\"&C698&\" \"&D698&\"/\"&E698,B698&\" \"&D698),\"\")","v":"4310_RC4312 Investment Gains and Losses/Investment Income Assets Held for Liquidation"},{"$f":"Worktags!AS141","v":"4310"},{"$f":"IF(Worktags!AQ141<>Worktags!AS141,Worktags!AQ141,\"\")","v":"RC4312"},{"$f":"IFERROR(VLOOKUP(B698,Worktags!AL:AO,2,FALSE),\"\")","v":"Investment Gains and Losses"},{"$f":"IFERROR(VLOOKUP(C698,Worktags!O:T,2,FALSE),\"\")","v":"Investment Income Assets Held for Liquidation"},"All"]
[{"$f":"IF(B699<>\"\",IF(C699<>\"\",B699&\"_\"&C699&\" \"&D699&\"/\"&E699,B699&\" \"&D699),\"\")","v":"4310_RC4313 Investment Gains and Losses/Unrealized Investment Gains/Losses"},{"$f":"Worktags!AS142","v":"4310"},{"$f":"IF(Worktags!AQ142<>Worktags!AS142,Worktags!AQ142,\"\")","v":"RC4313"},{"$f":"IFERROR(VLOOKUP(B699,Worktags!AL:AO,2,FALSE),\"\")","v":"Investment Gains and Losses"},{"$f":"IFERROR(VLOOKUP(C699,Worktags!O:T,2,FALSE),\"\")","v":"Unrealized Investment Gains/Losses"},"All"]
[{"$f":"IF(B700<>\"\",IF(C700<>\"\",B700&\"_\"&C700&\" \"&D700&\"/\"&E700,B700&\" \"&D700),\"\")","v":"4400 Sale of Services"},{"$f":"Worktags!AL119","v":"4400"},null,{"$f":"IFERROR(VLOOKUP(B700,Worktags!AL:AO,2,FALSE),\"\")","v":"Sale of Services"},null,"All"]
[{"$f":"IF(B701<>\"\",IF(C701<>\"\",B701&\"_\"&C701&\" \"&D701&\"/\"&E701,B701&\" \"&D701),\"\")","v":"4400_RC4401 Sale of Services/Sale of Services"},{"$f":"Worktags!AS144","v":"4400"},{"$f":"IF(Worktags!AQ144<>Worktags!AS144,Worktags!AQ144,\"\")","v":"RC4401"},{"$f":"IFERROR(VLOOKUP(B701,Worktags!AL:AO,2,FALSE),\"\")","v":"Sale of Services"},{"$f":"IFERROR(VLOOKUP(C701,Worktags!O:T,2,FALSE),\"\")","v":"Sale of Services"},"All"]
[{"$f":"IF(B702<>\"\",IF(C702<>\"\",B702&\"_\"&C702&\" \"&D702&\"/\"&E702,B702&\" \"&D702),\"\")","v":"4400_RC4402 Sale of Services/Sale of Services-Campus Appropriation"},{"$f":"Worktags!AS145","v":"4400"},{"$f":"IF(Worktags!AQ145<>Worktags!AS145,Worktags!AQ145,\"\")","v":"RC4402"},{"$f":"IFERROR(VLOOKUP(B702,Worktags!AL:AO,2,FALSE),\"\")","v":"Sale of Services"},{"$f":"IFERROR(VLOOKUP(C702,Worktags!O:T,2,FALSE),\"\")","v":"Sale of Services-Campus Appropriation"},""]
[{"$f":"IF(B703<>\"\",IF(C703<>\"\",B703&\"_\"&C703&\" \"&D703&\"/\"&E703,B703&\" \"&D703),\"\")","v":"4400_RC4403 Sale of Services/Sale of Services-Campus Other"},{"$f":"Worktags!AS146","v":"4400"},{"$f":"IF(Worktags!AQ146<>Worktags!AS146,Worktags!AQ146,\"\")","v":"RC4403"},{"$f":"IFERROR(VLOOKUP(B703,Worktags!AL:AO,2,FALSE),\"\")","v":"Sale of Services"},{"$f":"IFERROR(VLOOKUP(C703,Worktags!O:T,2,FALSE),\"\")","v":"Sale of Services-Campus Other"},"All"]
[{"$f":"IF(B704<>\"\",IF(C704<>\"\",B704&\"_\"&C704&\" \"&D704&\"/\"&E704,B704&\" \"&D704),\"\")","v":"4400_RC4404 Sale of Services/Sale of Services-Taxable"},{"$f":"Worktags!AS148","v":"4400"},{"$f":"IF(Worktags!AQ148<>Worktags!AS148,Worktags!AQ148,\"\")","v":"RC4404"},{"$f":"IFERROR(VLOOKUP(B704,Worktags!AL:AO,2,FALSE),\"\")","v":"Sale of Services"},{"$f":"IFERROR(VLOOKUP(C704,Worktags!O:T,2,FALSE),\"\")","v":"Sale of Services-Taxable"},"All"]
[{"$f":"IF(B705<>\"\",IF(C705<>\"\",B705&\"_\"&C705&\" \"&D705&\"/\"&E705,B705&\" \"&D705),\"\")","v":"4400_RC4405 Sale of Services/Sale of Services-Refunds"},{"$f":"Worktags!AS150","v":"4400"},{"$f":"IF(Worktags!AQ150<>Worktags!AS150,Worktags!AQ150,\"\")","v":"RC4405"},{"$f":"IFERROR(VLOOKUP(B705,Worktags!AL:AO,2,FALSE),\"\")","v":"Sale of Services"},{"$f":"IFERROR(VLOOKUP(C705,Worktags!O:T,2,FALSE),\"\")","v":"Sale of Services-Refunds"},"All"]
[{"$f":"IF(B706<>\"\",IF(C706<>\"\",B706&\"_\"&C706&\" \"&D706&\"/\"&E706,B706&\" \"&D706),\"\")","v":"4400_RC4406 Sale of Services/Sponsorship Revenue"},{"$f":"Worktags!AS152","v":"4400"},{"$f":"IF(Worktags!AQ152<>Worktags!AS152,Worktags!AQ152,\"\")","v":"RC4406"},{"$f":"IFERROR(VLOOKUP(B706,Worktags!AL:AO,2,FALSE),\"\")","v":"Sale of Services"},{"$f":"IFERROR(VLOOKUP(C706,Worktags!O:T,2,FALSE),\"\")","v":"Sponsorship Revenue"},"All"]
[{"$f":"IF(B707<>\"\",IF(C707<>\"\",B707&\"_\"&C707&\" \"&D707&\"/\"&E707,B707&\" \"&D707),\"\")","v":"4400_RC4407 Sale of Services/Publishing Revenue"},{"$f":"Worktags!AS154","v":"4400"},{"$f":"IF(Worktags!AQ154<>Worktags!AS154,Worktags!AQ154,\"\")","v":"RC4407"},{"$f":"IFERROR(VLOOKUP(B707,Worktags!AL:AO,2,FALSE),\"\")","v":"Sale of Services"},{"$f":"IFERROR(VLOOKUP(C707,Worktags!O:T,2,FALSE),\"\")","v":"Publishing Revenue"},"All"]
[{"$f":"IF(B708<>\"\",IF(C708<>\"\",B708&\"_\"&C708&\" \"&D708&\"/\"&E708,B708&\" \"&D708),\"\")","v":"4400_RC4408 Sale of Services/Digital Download Revenue"},{"$f":"Worktags!AS156","v":"4400"},{"$f":"IF(Worktags!AQ156<>Worktags!AS156,Worktags!AQ156,\"\")","v":"RC4408"},{"$f":"IFERROR(VLOOKUP(B708,Worktags!AL:AO,2,FALSE),\"\")","v":"Sale of Services"},{"$f":"IFERROR(VLOOKUP(C708,Worktags!O:T,2,FALSE),\"\")","v":"Digital Download Revenue"},"All"]
[{"$f":"IF(B709<>\"\",IF(C709<>\"\",B709&\"_\"&C709&\" \"&D709&\"/\"&E709,B709&\" \"&D709),\"\")","v":"4400_RC4409 Sale of Services/Digital Streaming Revenue"},{"$f":"Worktags!AS158","v":"4400"},{"$f":"IF(Worktags!AQ158<>Worktags!AS158,Worktags!AQ158,\"\")","v":"RC4409"},{"$f":"IFERROR(VLOOKUP(B709,Worktags!AL:AO,2,FALSE),\"\")","v":"Sale of Services"},{"$f":"IFERROR(VLOOKUP(C709,Worktags!O:T,2,FALSE),\"\")","v":"Digital Streaming Revenue"},"All"]
[{"$f":"IF(B710<>\"\",IF(C710<>\"\",B710&\"_\"&C710&\" \"&D710&\"/\"&E710,B710&\" \"&D710),\"\")","v":"4400_RC4499 Sale of Services/Sale of Services (reclass)"},{"$f":"Worktags!AS160","v":"4400"},{"$f":"IF(Worktags!AQ160<>Worktags!AS160,Worktags!AQ160,\"\")","v":"RC4499"},{"$f":"IFERROR(VLOOKUP(B710,Worktags!AL:AO,2,FALSE),\"\")","v":"Sale of Services"},{"$f":"IFERROR(VLOOKUP(C710,Worktags!O:T,2,FALSE),\"\")","v":"Sale of Services (reclass)"},"All"]
[{"$f":"IF(B711<>\"\",IF(C711<>\"\",B711&\"_\"&C711&\" \"&D711&\"/\"&E711,B711&\" \"&D711),\"\")","v":"4400_SC4400 Sale of Services/Sale of Services Refunds"},{"$f":"Worktags!AS263","v":"4400"},{"$f":"IF(Worktags!AQ263<>Worktags!AS263,Worktags!AQ263,\"\")","v":"SC4400"},{"$f":"IFERROR(VLOOKUP(B711,Worktags!AL:AO,2,FALSE),\"\")","v":"Sale of Services"},{"$f":"IFERROR(VLOOKUP(C711,Worktags!O:T,2,FALSE),\"\")","v":"Sale of Services Refunds"},""]
[{"$f":"IF(B712<>\"\",IF(C712<>\"\",B712&\"_\"&C712&\" \"&D712&\"/\"&E712,B712&\" \"&D712),\"\")","v":"4500 Sale of Goods"},{"$f":"Worktags!AL120","v":"4500"},null,{"$f":"IFERROR(VLOOKUP(B712,Worktags!AL:AO,2,FALSE),\"\")","v":"Sale of Goods"},null,"All"]
[{"$f":"IF(B713<>\"\",IF(C713<>\"\",B713&\"_\"&C713&\" \"&D713&\"/\"&E713,B713&\" \"&D713),\"\")","v":"4500_RC4501 Sale of Goods/Sale of Goods"},{"$f":"Worktags!AS162","v":"4500"},{"$f":"IF(Worktags!AQ162<>Worktags!AS162,Worktags!AQ162,\"\")","v":"RC4501"},{"$f":"IFERROR(VLOOKUP(B713,Worktags!AL:AO,2,FALSE),\"\")","v":"Sale of Goods"},{"$f":"IFERROR(VLOOKUP(C713,Worktags!O:T,2,FALSE),\"\")","v":"Sale of Goods"},"All"]
[{"$f":"IF(B714<>\"\",IF(C714<>\"\",B714&\"_\"&C714&\" \"&D714&\"/\"&E714,B714&\" \"&D714),\"\")","v":"4500_RC4502 Sale of Goods/Sale of Goods-Taxable"},{"$f":"Worktags!AS164","v":"4500"},{"$f":"IF(Worktags!AQ164<>Worktags!AS164,Worktags!AQ164,\"\")","v":"RC4502"},{"$f":"IFERROR(VLOOKUP(B714,Worktags!AL:AO,2,FALSE),\"\")","v":"Sale of Goods"},{"$f":"IFERROR(VLOOKUP(C714,Worktags!O:T,2,FALSE),\"\")","v":"Sale of Goods-Taxable"},"All"]
[{"$f":"IF(B715<>\"\",IF(C715<>\"\",B715&\"_\"&C715&\" \"&D715&\"/\"&E715,B715&\" \"&D715),\"\")","v":"4500_RC4503 Sale of Goods/Sale of Goods-Discount/Returns"},{"$f":"Worktags!AS166","v":"4500"},{"$f":"IF(Worktags!AQ166<>Worktags!AS166,Worktags!AQ166,\"\")","v":"RC4503"},{"$f":"IFERROR(VLOOKUP(B715,Worktags!AL:AO,2,FALSE),\"\")","v":"Sale of Goods"},{"$f":"IFERROR(VLOOKUP(C715,Worktags!O:T,2,FALSE),\"\")","v":"Sale of Goods-Discount/Returns"},"All"]
[{"$f":"IF(B716<>\"\",IF(C716<>\"\",B716&\"_\"&C716&\" \"&D716&\"/\"&E716,B716&\" \"&D716),\"\")","v":"4500_RC4504 Sale of Goods/Sales - Online and Out of State"},{"$f":"Worktags!AS168","v":"4500"},{"$f":"IF(Worktags!AQ168<>Worktags!AS168,Worktags!AQ168,\"\")","v":"RC4504"},{"$f":"IFERROR(VLOOKUP(B716,Worktags!AL:AO,2,FALSE),\"\")","v":"Sale of Goods"},{"$f":"IFERROR(VLOOKUP(C716,Worktags!O:T,2,FALSE),\"\")","v":"Sales - Online and Out of State"},"All"]
[{"$f":"IF(B717<>\"\",IF(C717<>\"\",B717&\"_\"&C717&\" \"&D717&\"/\"&E717,B717&\" \"&D717),\"\")","v":"4500_RC4505 Sale of Goods/Ticket Sales"},{"$f":"Worktags!AS170","v":"4500"},{"$f":"IF(Worktags!AQ170<>Worktags!AS170,Worktags!AQ170,\"\")","v":"RC4505"},{"$f":"IFERROR(VLOOKUP(B717,Worktags!AL:AO,2,FALSE),\"\")","v":"Sale of Goods"},{"$f":"IFERROR(VLOOKUP(C717,Worktags!O:T,2,FALSE),\"\")","v":"Ticket Sales"},"All"]
[{"$f":"IF(B718<>\"\",IF(C718<>\"\",B718&\"_\"&C718&\" \"&D718&\"/\"&E718,B718&\" \"&D718),\"\")","v":"4500_RC4506 Sale of Goods/Ticket Sales-Taxable"},{"$f":"Worktags!AS172","v":"4500"},{"$f":"IF(Worktags!AQ172<>Worktags!AS172,Worktags!AQ172,\"\")","v":"RC4506"},{"$f":"IFERROR(VLOOKUP(B718,Worktags!AL:AO,2,FALSE),\"\")","v":"Sale of Goods"},{"$f":"IFERROR(VLOOKUP(C718,Worktags!O:T,2,FALSE),\"\")","v":"Ticket Sales-Taxable"},"All"]
[{"$f":"IF(B719<>\"\",IF(C719<>\"\",B719&\"_\"&C719&\" \"&D719&\"/\"&E719,B719&\" \"&D719),\"\")","v":"4500_RC4507 Sale of Goods/Ticket Sales-Refunds"},{"$f":"Worktags!AS174","v":"4500"},{"$f":"IF(Worktags!AQ174<>Worktags!AS174,Worktags!AQ174,\"\")","v":"RC4507"},{"$f":"IFERROR(VLOOKUP(B719,Worktags!AL:AO,2,FALSE),\"\")","v":"Sale of Goods"},{"$f":"IFERROR(VLOOKUP(C719,Worktags!O:T,2,FALSE),\"\")","v":"Ticket Sales-Refunds"},"All"]
[{"$f":"IF(B720<>\"\",IF(C720<>\"\",B720&\"_\"&C720&\" \"&D720&\"/\"&E720,B720&\" \"&D720),\"\")","v":"4500_RC4599 Sale of Goods/Sale of Goods (reclass)"},{"$f":"Worktags!AS176","v":"4500"},{"$f":"IF(Worktags!AQ176<>Worktags!AS176,Worktags!AQ176,\"\")","v":"RC4599"},{"$f":"IFERROR(VLOOKUP(B720,Worktags!AL:AO,2,FALSE),\"\")","v":"Sale of Goods"},{"$f":"IFERROR(VLOOKUP(C720,Worktags!O:T,2,FALSE),\"\")","v":"Sale of Goods (reclass)"},"All"]
[{"$f":"IF(B721<>\"\",IF(C721<>\"\",B721&\"_\"&C721&\" \"&D721&\"/\"&E721,B721&\" \"&D721),\"\")","v":"4500_SC4500 Sale of Goods/Sale of Goods Refunds"},{"$f":"Worktags!AS264","v":"4500"},{"$f":"IF(Worktags!AQ264<>Worktags!AS264,Worktags!AQ264,\"\")","v":"SC4500"},{"$f":"IFERROR(VLOOKUP(B721,Worktags!AL:AO,2,FALSE),\"\")","v":"Sale of Goods"},{"$f":"IFERROR(VLOOKUP(C721,Worktags!O:T,2,FALSE),\"\")","v":"Sale of Goods Refunds"},"All"]
[{"$f":"IF(B722<>\"\",IF(C722<>\"\",B722&\"_\"&C722&\" \"&D722&\"/\"&E722,B722&\" \"&D722),\"\")","v":"4700 Other Income"},{"$f":"Worktags!AL121","v":"4700"},null,{"$f":"IFERROR(VLOOKUP(B722,Worktags!AL:AO,2,FALSE),\"\")","v":"Other Income"},null,"JE_Gift|JE_Override"]
[{"$f":"IF(B723<>\"\",IF(C723<>\"\",B723&\"_\"&C723&\" \"&D723&\"/\"&E723,B723&\" \"&D723),\"\")","v":"4700_RC4701 Other Income/Non-Investment-Dividend Income"},{"$f":"Worktags!AS177","v":"4700"},{"$f":"IF(Worktags!AQ177<>Worktags!AS177,Worktags!AQ177,\"\")","v":"RC4701"},{"$f":"IFERROR(VLOOKUP(B723,Worktags!AL:AO,2,FALSE),\"\")","v":"Other Income"},{"$f":"IFERROR(VLOOKUP(C723,Worktags!O:T,2,FALSE),\"\")","v":"Non-Investment-Dividend Income"},"JE_Override"]
[{"$f":"IF(B724<>\"\",IF(C724<>\"\",B724&\"_\"&C724&\" \"&D724&\"/\"&E724,B724&\" \"&D724),\"\")","v":"4700_RC4702 Other Income/Non-Investment-Interest Income"},{"$f":"Worktags!AS178","v":"4700"},{"$f":"IF(Worktags!AQ178<>Worktags!AS178,Worktags!AQ178,\"\")","v":"RC4702"},{"$f":"IFERROR(VLOOKUP(B724,Worktags!AL:AO,2,FALSE),\"\")","v":"Other Income"},{"$f":"IFERROR(VLOOKUP(C724,Worktags!O:T,2,FALSE),\"\")","v":"Non-Investment-Interest Income"},"JE_PPE|JE_Override"]
[{"$f":"IF(B725<>\"\",IF(C725<>\"\",B725&\"_\"&C725&\" \"&D725&\"/\"&E725,B725&\" \"&D725),\"\")","v":"4700_RC4703 Other Income/Non-Investment-Gains/Losses"},{"$f":"Worktags!AS179","v":"4700"},{"$f":"IF(Worktags!AQ179<>Worktags!AS179,Worktags!AQ179,\"\")","v":"RC4703"},{"$f":"IFERROR(VLOOKUP(B725,Worktags!AL:AO,2,FALSE),\"\")","v":"Other Income"},{"$f":"IFERROR(VLOOKUP(C725,Worktags!O:T,2,FALSE),\"\")","v":"Non-Investment-Gains/Losses"},"All"]
[{"$f":"IF(B726<>\"\",IF(C726<>\"\",B726&\"_\"&C726&\" \"&D726&\"/\"&E726,B726&\" \"&D726),\"\")","v":"4700_RC4704 Other Income/Rental Income"},{"$f":"Worktags!AS181","v":"4700"},{"$f":"IF(Worktags!AQ181<>Worktags!AS181,Worktags!AQ181,\"\")","v":"RC4704"},{"$f":"IFERROR(VLOOKUP(B726,Worktags!AL:AO,2,FALSE),\"\")","v":"Other Income"},{"$f":"IFERROR(VLOOKUP(C726,Worktags!O:T,2,FALSE),\"\")","v":"Rental Income"},"JE_Override"]
[{"$f":"IF(B727<>\"\",IF(C727<>\"\",B727&\"_\"&C727&\" \"&D727&\"/\"&E727,B727&\" \"&D727),\"\")","v":"4700_RC4705 Other Income/Agency Deposits"},{"$f":"Worktags!AS182","v":"4700"},{"$f":"IF(Worktags!AQ182<>Worktags!AS182,Worktags!AQ182,\"\")","v":"RC4705"},{"$f":"IFERROR(VLOOKUP(B727,Worktags!AL:AO,2,FALSE),\"\")","v":"Other Income"},{"$f":"IFERROR(VLOOKUP(C727,Worktags!O:T,2,FALSE),\"\")","v":"Agency Deposits"},"JE_Override"]
[{"$f":"IF(B728<>\"\",IF(C728<>\"\",B728&\"_\"&C728&\" \"&D728&\"/\"&E728,B728&\" \"&D728),\"\")","v":"4700_RC4706 Other Income/Club Association Dues and Fees"},{"$f":"Worktags!AS183","v":"4700"},{"$f":"IF(Worktags!AQ183<>Worktags!AS183,Worktags!AQ183,\"\")","v":"RC4706"},{"$f":"IFERROR(VLOOKUP(B728,Worktags!AL:AO,2,FALSE),\"\")","v":"Other Income"},{"$f":"IFERROR(VLOOKUP(C728,Worktags!O:T,2,FALSE),\"\")","v":"Club Association Dues and Fees"},"All"]
[{"$f":"IF(B729<>\"\",IF(C729<>\"\",B729&\"_\"&C729&\" \"&D729&\"/\"&E729,B729&\" \"&D729),\"\")","v":"4700_RC4707 Other Income/Royalty Income"},{"$f":"Worktags!AS184","v":"4700"},{"$f":"IF(Worktags!AQ184<>Worktags!AS184,Worktags!AQ184,\"\")","v":"RC4707"},{"$f":"IFERROR(VLOOKUP(B729,Worktags!AL:AO,2,FALSE),\"\")","v":"Other Income"},{"$f":"IFERROR(VLOOKUP(C729,Worktags!O:T,2,FALSE),\"\")","v":"Royalty Income"},"All"]
[{"$f":"IF(B730<>\"\",IF(C730<>\"\",B730&\"_\"&C730&\" \"&D730&\"/\"&E730,B730&\" \"&D730),\"\")","v":"4700_RC4708 Other Income/Distributed Royalty Income"},{"$f":"Worktags!AS185","v":"4700"},{"$f":"IF(Worktags!AQ185<>Worktags!AS185,Worktags!AQ185,\"\")","v":"RC4708"},{"$f":"IFERROR(VLOOKUP(B730,Worktags!AL:AO,2,FALSE),\"\")","v":"Other Income"},{"$f":"IFERROR(VLOOKUP(C730,Worktags!O:T,2,FALSE),\"\")","v":"Distributed Royalty Income"},"All"]
[{"$f":"IF(B731<>\"\",IF(C731<>\"\",B731&\"_\"&C731&\" \"&D731&\"/\"&E731,B731&\" \"&D731),\"\")","v":"4700_RC4709 Other Income/Over/Short"},{"$f":"Worktags!AS186","v":"4700"},{"$f":"IF(Worktags!AQ186<>Worktags!AS186,Worktags!AQ186,\"\")","v":"RC4709"},{"$f":"IFERROR(VLOOKUP(B731,Worktags!AL:AO,2,FALSE),\"\")","v":"Other Income"},{"$f":"IFERROR(VLOOKUP(C731,Worktags!O:T,2,FALSE),\"\")","v":"Over/Short"},"All"]
[{"$f":"IF(B732<>\"\",IF(C732<>\"\",B732&\"_\"&C732&\" \"&D732&\"/\"&E732,B732&\" \"&D732),\"\")","v":"4700_RC4710 Other Income/Other Income"},{"$f":"Worktags!AS187","v":"4700"},{"$f":"IF(Worktags!AQ187<>Worktags!AS187,Worktags!AQ187,\"\")","v":"RC4710"},{"$f":"IFERROR(VLOOKUP(B732,Worktags!AL:AO,2,FALSE),\"\")","v":"Other Income"},{"$f":"IFERROR(VLOOKUP(C732,Worktags!O:T,2,FALSE),\"\")","v":"Other Income"},""]
[{"$f":"IF(B733<>\"\",IF(C733<>\"\",B733&\"_\"&C733&\" \"&D733&\"/\"&E733,B733&\" \"&D733),\"\")","v":"4700_RC4711 Other Income/Restricted Transfers (UFSonly)"},{"$f":"Worktags!AS188","v":"4700"},{"$f":"IF(Worktags!AQ188<>Worktags!AS188,Worktags!AQ188,\"\")","v":"RC4711"},{"$f":"IFERROR(VLOOKUP(B733,Worktags!AL:AO,2,FALSE),\"\")","v":"Other Income"},{"$f":"IFERROR(VLOOKUP(C733,Worktags!O:T,2,FALSE),\"\")","v":"Restricted Transfers (UFSonly)"},"All"]
[{"$f":"IF(B734<>\"\",IF(C734<>\"\",B734&\"_\"&C734&\" \"&D734&\"/\"&E734,B734&\" \"&D734),\"\")","v":"4700_RC4712 Other Income/Interest Alloc-Claim on Cash"},{"$f":"Worktags!AS189","v":"4700"},{"$f":"IF(Worktags!AQ189<>Worktags!AS189,Worktags!AQ189,\"\")","v":"RC4712"},{"$f":"IFERROR(VLOOKUP(B734,Worktags!AL:AO,2,FALSE),\"\")","v":"Other Income"},{"$f":"IFERROR(VLOOKUP(C734,Worktags!O:T,2,FALSE),\"\")","v":"Interest Alloc-Claim on Cash"},""]
[{"$f":"IF(B735<>\"\",IF(C735<>\"\",B735&\"_\"&C735&\" \"&D735&\"/\"&E735,B735&\" \"&D735),\"\")","v":"4700_RC4713 Other Income/Gain/Loss Sale of Asset"},{"$f":"Worktags!AS190","v":"4700"},{"$f":"IF(Worktags!AQ190<>Worktags!AS190,Worktags!AQ190,\"\")","v":"RC4713"},{"$f":"IFERROR(VLOOKUP(B735,Worktags!AL:AO,2,FALSE),\"\")","v":"Other Income"},{"$f":"IFERROR(VLOOKUP(C735,Worktags!O:T,2,FALSE),\"\")","v":"Gain/Loss Sale of Asset"},"All"]
[{"$f":"IF(B736<>\"\",IF(C736<>\"\",B736&\"_\"&C736&\" \"&D736&\"/\"&E736,B736&\" \"&D736),\"\")","v":"4700_RC4714 Other Income/Legal Fees Reimbursement"},{"$f":"Worktags!AS191","v":"4700"},{"$f":"IF(Worktags!AQ191<>Worktags!AS191,Worktags!AQ191,\"\")","v":"RC4714"},{"$f":"IFERROR(VLOOKUP(B736,Worktags!AL:AO,2,FALSE),\"\")","v":"Other Income"},{"$f":"IFERROR(VLOOKUP(C736,Worktags!O:T,2,FALSE),\"\")","v":"Legal Fees Reimbursement"},""]
[{"$f":"IF(B737<>\"\",IF(C737<>\"\",B737&\"_\"&C737&\" \"&D737&\"/\"&E737,B737&\" \"&D737),\"\")","v":"4700_RC4715 Other Income/Realized Currency Gain/Loss"},{"$f":"Worktags!AS192","v":"4700"},{"$f":"IF(Worktags!AQ192<>Worktags!AS192,Worktags!AQ192,\"\")","v":"RC4715"},{"$f":"IFERROR(VLOOKUP(B737,Worktags!AL:AO,2,FALSE),\"\")","v":"Other Income"},{"$f":"IFERROR(VLOOKUP(C737,Worktags!O:T,2,FALSE),\"\")","v":"Realized Currency Gain/Loss"},"JE_Gift|JE_Override"]
[{"$f":"IF(B738<>\"\",IF(C738<>\"\",B738&\"_\"&C738&\" \"&D738&\"/\"&E738,B738&\" \"&D738),\"\")","v":"4700_RC4716 Other Income/Unrealized Currency Gain/Loss"},{"$f":"Worktags!AS193","v":"4700"},{"$f":"IF(Worktags!AQ193<>Worktags!AS193,Worktags!AQ193,\"\")","v":"RC4716"},{"$f":"IFERROR(VLOOKUP(B738,Worktags!AL:AO,2,FALSE),\"\")","v":"Other Income"},{"$f":"IFERROR(VLOOKUP(C738,Worktags!O:T,2,FALSE),\"\")","v":"Unrealized Currency Gain/Loss"},"JE_Gift|JE_Override"]
[{"$f":"IF(B739<>\"\",IF(C739<>\"\",B739&\"_\"&C739&\" \"&D739&\"/\"&E739,B739&\" \"&D739),\"\")","v":"4700_RC4717 Other Income/Credit Card Merchant Fee"},{"$f":"Worktags!AS194","v":"4700"},{"$f":"IF(Worktags!AQ194<>Worktags!AS194,Worktags!AQ194,\"\")","v":"RC4717"},{"$f":"IFERROR(VLOOKUP(B739,Worktags!AL:AO,2,FALSE),\"\")","v":"Other Income"},{"$f":"IFERROR(VLOOKUP(C739,Worktags!O:T,2,FALSE),\"\")","v":"Credit Card Merchant Fee"},"JE_Gift|JE_Override"]
[{"$f":"IF(B740<>\"\",IF(C740<>\"\",B740&\"_\"&C740&\" \"&D740&\"/\"&E740,B740&\" \"&D740),\"\")","v":"4700_RC4799 Other Income/Other Income (reclass)"},{"$f":"Worktags!AS195","v":"4700"},{"$f":"IF(Worktags!AQ195<>Worktags!AS195,Worktags!AQ195,\"\")","v":"RC4799"},{"$f":"IFERROR(VLOOKUP(B740,Worktags!AL:AO,2,FALSE),\"\")","v":"Other Income"},{"$f":"IFERROR(VLOOKUP(C740,Worktags!O:T,2,FALSE),\"\")","v":"Other Income (reclass)"},"JE_Gift|JE_Override"]
[{"$f":"IF(B741<>\"\",IF(C741<>\"\",B741&\"_\"&C741&\" \"&D741&\"/\"&E741,B741&\" \"&D741),\"\")","v":"4700_SC4700 Other Income/Other Income Refunds"},{"$f":"Worktags!AS265","v":"4700"},{"$f":"IF(Worktags!AQ265<>Worktags!AS265,Worktags!AQ265,\"\")","v":"SC4700"},{"$f":"IFERROR(VLOOKUP(B741,Worktags!AL:AO,2,FALSE),\"\")","v":"Other Income"},{"$f":"IFERROR(VLOOKUP(C741,Worktags!O:T,2,FALSE),\"\")","v":"Other Income Refunds"},""]
[{"$f":"IF(B742<>\"\",IF(C742<>\"\",B742&\"_\"&C742&\" \"&D742&\"/\"&E742,B742&\" \"&D742),\"\")","v":"4780 Inter-Company Contribution Revenue"},{"$f":"Worktags!AL122","v":"4780"},null,{"$f":"IFERROR(VLOOKUP(B742,Worktags!AL:AO,2,FALSE),\"\")","v":"Inter-Company Contribution Revenue"},null,"All"]
[{"$f":"IF(B743<>\"\",IF(C743<>\"\",B743&\"_\"&C743&\" \"&D743&\"/\"&E743,B743&\" \"&D743),\"\")","v":"4780 Inter-Company Contribution Revenue"},{"$f":"Worktags!AS79","v":"4780"},{"$f":"IF(Worktags!AQ79<>Worktags!AS79,Worktags!AQ79,\"\")","v":""},{"$f":"IFERROR(VLOOKUP(B743,Worktags!AL:AO,2,FALSE),\"\")","v":"Inter-Company Contribution Revenue"},{"$f":"IFERROR(VLOOKUP(C743,Worktags!O:T,2,FALSE),\"\")","v":""},"All"]
[{"$f":"IF(B744<>\"\",IF(C744<>\"\",B744&\"_\"&C744&\" \"&D744&\"/\"&E744,B744&\" \"&D744),\"\")","v":"4800 Intra-Division Sales"},{"$f":"Worktags!AL123","v":"4800"},null,{"$f":"IFERROR(VLOOKUP(B744,Worktags!AL:AO,2,FALSE),\"\")","v":"Intra-Division Sales"},null,"All"]
[{"$f":"IF(B745<>\"\",IF(C745<>\"\",B745&\"_\"&C745&\" \"&D745&\"/\"&E745,B745&\" \"&D745),\"\")","v":"4800_RC4800 Intra-Division Sales/Intra-Division Sales"},{"$f":"Worktags!AS196","v":"4800"},{"$f":"IF(Worktags!AQ196<>Worktags!AS196,Worktags!AQ196,\"\")","v":"RC4800"},{"$f":"IFERROR(VLOOKUP(B745,Worktags!AL:AO,2,FALSE),\"\")","v":"Intra-Division Sales"},{"$f":"IFERROR(VLOOKUP(C745,Worktags!O:T,2,FALSE),\"\")","v":"Intra-Division Sales"},"All"]
[{"$f":"IF(B746<>\"\",IF(C746<>\"\",B746&\"_\"&C746&\" \"&D746&\"/\"&E746,B746&\" \"&D746),\"\")","v":"4850 Intra-Division Purchases"},{"$f":"Worktags!AL124","v":"4850"},null,{"$f":"IFERROR(VLOOKUP(B746,Worktags!AL:AO,2,FALSE),\"\")","v":"Intra-Division Purchases"},null,"All"]
[{"$f":"IF(B747<>\"\",IF(C747<>\"\",B747&\"_\"&C747&\" \"&D747&\"/\"&E747,B747&\" \"&D747),\"\")","v":"4850_RC4850 Intra-Division Purchases/Intra-Division Purchases"},{"$f":"Worktags!AS197","v":"4850"},{"$f":"IF(Worktags!AQ197<>Worktags!AS197,Worktags!AQ197,\"\")","v":"RC4850"},{"$f":"IFERROR(VLOOKUP(B747,Worktags!AL:AO,2,FALSE),\"\")","v":"Intra-Division Purchases"},{"$f":"IFERROR(VLOOKUP(C747,Worktags!O:T,2,FALSE),\"\")","v":"Intra-Division Purchases"},"All"]
[{"$f":"IF(B748<>\"\",IF(C748<>\"\",B748&\"_\"&C748&\" \"&D748&\"/\"&E748,B748&\" \"&D748),\"\")","v":"4890 Release of Restrictions"},{"$f":"Worktags!AL125","v":"4890"},null,{"$f":"IFERROR(VLOOKUP(B748,Worktags!AL:AO,2,FALSE),\"\")","v":"Release of Restrictions"},null,"All"]
[{"$f":"IF(B749<>\"\",IF(C749<>\"\",B749&\"_\"&C749&\" \"&D749&\"/\"&E749,B749&\" \"&D749),\"\")","v":"4890_RC4890 Release of Restrictions/Release Restrictions (UFSonly)"},{"$f":"Worktags!AS198","v":"4890"},{"$f":"IF(Worktags!AQ198<>Worktags!AS198,Worktags!AQ198,\"\")","v":"RC4890"},{"$f":"IFERROR(VLOOKUP(B749,Worktags!AL:AO,2,FALSE),\"\")","v":"Release of Restrictions"},{"$f":"IFERROR(VLOOKUP(C749,Worktags!O:T,2,FALSE),\"\")","v":"Release Restrictions (UFSonly)"},"All"]
[{"$f":"IF(B750<>\"\",IF(C750<>\"\",B750&\"_\"&C750&\" \"&D750&\"/\"&E750,B750&\" \"&D750),\"\")","v":"4890_RC4891 Release of Restrictions/Endowment Payout Distribution"},{"$f":"Worktags!AS199","v":"4890"},{"$f":"IF(Worktags!AQ199<>Worktags!AS199,Worktags!AQ199,\"\")","v":"RC4891"},{"$f":"IFERROR(VLOOKUP(B750,Worktags!AL:AO,2,FALSE),\"\")","v":"Release of Restrictions"},{"$f":"IFERROR(VLOOKUP(C750,Worktags!O:T,2,FALSE),\"\")","v":"Endowment Payout Distribution"},"All"]
[{"$f":"IF(B751<>\"\",IF(C751<>\"\",B751&\"_\"&C751&\" \"&D751&\"/\"&E751,B751&\" \"&D751),\"\")","v":"4890_RC4892 Release of Restrictions/Endowment Payout Spendable Available"},{"$f":"Worktags!AS200","v":"4890"},{"$f":"IF(Worktags!AQ200<>Worktags!AS200,Worktags!AQ200,\"\")","v":"RC4892"},{"$f":"IFERROR(VLOOKUP(B751,Worktags!AL:AO,2,FALSE),\"\")","v":"Release of Restrictions"},{"$f":"IFERROR(VLOOKUP(C751,Worktags!O:T,2,FALSE),\"\")","v":"Endowment Payout Spendable Available"},"All"]
[{"$f":"IF(B752<>\"\",IF(C752<>\"\",B752&\"_\"&C752&\" \"&D752&\"/\"&E752,B752&\" \"&D752),\"\")","v":"4890_RC4893 Release of Restrictions/Reinvestment"},{"$f":"Worktags!AS201","v":"4890"},{"$f":"IF(Worktags!AQ201<>Worktags!AS201,Worktags!AQ201,\"\")","v":"RC4893"},{"$f":"IFERROR(VLOOKUP(B752,Worktags!AL:AO,2,FALSE),\"\")","v":"Release of Restrictions"},{"$f":"IFERROR(VLOOKUP(C752,Worktags!O:T,2,FALSE),\"\")","v":"Reinvestment"},"All"]
[{"$f":"IF(B753<>\"\",IF(C753<>\"\",B753&\"_\"&C753&\" \"&D753&\"/\"&E753,B753&\" \"&D753),\"\")","v":"4900 Cost of Sales"},{"$f":"Worktags!AL126","v":"4900"},null,{"$f":"IFERROR(VLOOKUP(B753,Worktags!AL:AO,2,FALSE),\"\")","v":"Cost of Sales"},null,"All"]
[{"$f":"IF(B754<>\"\",IF(C754<>\"\",B754&\"_\"&C754&\" \"&D754&\"/\"&E754,B754&\" \"&D754),\"\")","v":"4900_SC4901 Cost of Sales/Cost of Goods Sold (not otherwise specified)"},{"$f":"Worktags!AS266","v":"4900"},{"$f":"IF(Worktags!AQ266<>Worktags!AS266,Worktags!AQ266,\"\")","v":"SC4901"},{"$f":"IFERROR(VLOOKUP(B754,Worktags!AL:AO,2,FALSE),\"\")","v":"Cost of Sales"},{"$f":"IFERROR(VLOOKUP(C754,Worktags!O:T,2,FALSE),\"\")","v":"Cost of Goods Sold (not otherwise specified)"},"All"]
[{"$f":"IF(B755<>\"\",IF(C755<>\"\",B755&\"_\"&C755&\" \"&D755&\"/\"&E755,B755&\" \"&D755),\"\")","v":"4900_SC4902 Cost of Sales/Inventory Adjustment"},{"$f":"Worktags!AS267","v":"4900"},{"$f":"IF(Worktags!AQ267<>Worktags!AS267,Worktags!AQ267,\"\")","v":"SC4902"},{"$f":"IFERROR(VLOOKUP(B755,Worktags!AL:AO,2,FALSE),\"\")","v":"Cost of Sales"},{"$f":"IFERROR(VLOOKUP(C755,Worktags!O:T,2,FALSE),\"\")","v":"Inventory Adjustment"},"All"]
[{"$f":"IF(B756<>\"\",IF(C756<>\"\",B756&\"_\"&C756&\" \"&D756&\"/\"&E756,B756&\" \"&D756),\"\")","v":"4900_SC4903 Cost of Sales/Freight-In"},{"$f":"Worktags!AS268","v":"4900"},{"$f":"IF(Worktags!AQ268<>Worktags!AS268,Worktags!AQ268,\"\")","v":"SC4903"},{"$f":"IFERROR(VLOOKUP(B756,Worktags!AL:AO,2,FALSE),\"\")","v":"Cost of Sales"},{"$f":"IFERROR(VLOOKUP(C756,Worktags!O:T,2,FALSE),\"\")","v":"Freight-In"},"All"]
[{"$f":"IF(B757<>\"\",IF(C757<>\"\",B757&\"_\"&C757&\" \"&D757&\"/\"&E757,B757&\" \"&D757),\"\")","v":"4900_SC4904 Cost of Sales/Purchase Discounts Earned"},{"$f":"Worktags!AS269","v":"4900"},{"$f":"IF(Worktags!AQ269<>Worktags!AS269,Worktags!AQ269,\"\")","v":"SC4904"},{"$f":"IFERROR(VLOOKUP(B757,Worktags!AL:AO,2,FALSE),\"\")","v":"Cost of Sales"},{"$f":"IFERROR(VLOOKUP(C757,Worktags!O:T,2,FALSE),\"\")","v":"Purchase Discounts Earned"},"All"]
[{"$f":"IF(B758<>\"\",IF(C758<>\"\",B758&\"_\"&C758&\" \"&D758&\"/\"&E758,B758&\" \"&D758),\"\")","v":"4900_SC4910 Cost of Sales/Cost of Goods Sold - Food and Beverages"},{"$f":"Worktags!AS270","v":"4900"},{"$f":"IF(Worktags!AQ270<>Worktags!AS270,Worktags!AQ270,\"\")","v":"SC4910"},{"$f":"IFERROR(VLOOKUP(B758,Worktags!AL:AO,2,FALSE),\"\")","v":"Cost of Sales"},{"$f":"IFERROR(VLOOKUP(C758,Worktags!O:T,2,FALSE),\"\")","v":"Cost of Goods Sold - Food and Beverages"},"All"]
[{"$f":"IF(B759<>\"\",IF(C759<>\"\",B759&\"_\"&C759&\" \"&D759&\"/\"&E759,B759&\" \"&D759),\"\")","v":"4900_SC4911 Cost of Sales/Cost of Goods Sold - Clothing"},{"$f":"Worktags!AS271","v":"4900"},{"$f":"IF(Worktags!AQ271<>Worktags!AS271,Worktags!AQ271,\"\")","v":"SC4911"},{"$f":"IFERROR(VLOOKUP(B759,Worktags!AL:AO,2,FALSE),\"\")","v":"Cost of Sales"},{"$f":"IFERROR(VLOOKUP(C759,Worktags!O:T,2,FALSE),\"\")","v":"Cost of Goods Sold - Clothing"},"All"]
[{"$f":"IF(B760<>\"\",IF(C760<>\"\",B760&\"_\"&C760&\" \"&D760&\"/\"&E760,B760&\" \"&D760),\"\")","v":"4900_SC4912 Cost of Sales/Cost of Goods Sold - Art/Craft Supplies"},{"$f":"Worktags!AS272","v":"4900"},{"$f":"IF(Worktags!AQ272<>Worktags!AS272,Worktags!AQ272,\"\")","v":"SC4912"},{"$f":"IFERROR(VLOOKUP(B760,Worktags!AL:AO,2,FALSE),\"\")","v":"Cost of Sales"},{"$f":"IFERROR(VLOOKUP(C760,Worktags!O:T,2,FALSE),\"\")","v":"Cost of Goods Sold - Art/Craft Supplies"},"All"]
[{"$f":"IF(B761<>\"\",IF(C761<>\"\",B761&\"_\"&C761&\" \"&D761&\"/\"&E761,B761&\" \"&D761),\"\")","v":"4900_SC4913 Cost of Sales/Cost of Goods Sold - Paper/Print Supplies"},{"$f":"Worktags!AS273","v":"4900"},{"$f":"IF(Worktags!AQ273<>Worktags!AS273,Worktags!AQ273,\"\")","v":"SC4913"},{"$f":"IFERROR(VLOOKUP(B761,Worktags!AL:AO,2,FALSE),\"\")","v":"Cost of Sales"},{"$f":"IFERROR(VLOOKUP(C761,Worktags!O:T,2,FALSE),\"\")","v":"Cost of Goods Sold - Paper/Print Supplies"},"All"]
[{"$f":"IF(B762<>\"\",IF(C762<>\"\",B762&\"_\"&C762&\" \"&D762&\"/\"&E762,B762&\" \"&D762),\"\")","v":"4900_SC6106 Cost of Sales/Audio Visual Supplies"},{"$f":"Worktags!AS338","v":"4900"},{"$f":"IF(Worktags!AQ338<>Worktags!AS338,Worktags!AQ338,\"\")","v":"SC6106"},{"$f":"IFERROR(VLOOKUP(B762,Worktags!AL:AO,2,FALSE),\"\")","v":"Cost of Sales"},{"$f":"IFERROR(VLOOKUP(C762,Worktags!O:T,2,FALSE),\"\")","v":"Audio Visual Supplies"},"All"]
[{"$f":"IF(B763<>\"\",IF(C763<>\"\",B763&\"_\"&C763&\" \"&D763&\"/\"&E763,B763&\" \"&D763),\"\")","v":"4900_SC6107 Cost of Sales/Clothing, Uniforms, Linens"},{"$f":"Worktags!AS342","v":"4900"},{"$f":"IF(Worktags!AQ342<>Worktags!AS342,Worktags!AQ342,\"\")","v":"SC6107"},{"$f":"IFERROR(VLOOKUP(B763,Worktags!AL:AO,2,FALSE),\"\")","v":"Cost of Sales"},{"$f":"IFERROR(VLOOKUP(C763,Worktags!O:T,2,FALSE),\"\")","v":"Clothing, Uniforms, Linens"},"All"]
[{"$f":"IF(B764<>\"\",IF(C764<>\"\",B764&\"_\"&C764&\" \"&D764&\"/\"&E764,B764&\" \"&D764),\"\")","v":"4900_SC6108 Cost of Sales/Data Network Supplies"},{"$f":"Worktags!AS347","v":"4900"},{"$f":"IF(Worktags!AQ347<>Worktags!AS347,Worktags!AQ347,\"\")","v":"SC6108"},{"$f":"IFERROR(VLOOKUP(B764,Worktags!AL:AO,2,FALSE),\"\")","v":"Cost of Sales"},{"$f":"IFERROR(VLOOKUP(C764,Worktags!O:T,2,FALSE),\"\")","v":"Data Network Supplies"},"All"]
[{"$f":"IF(B765<>\"\",IF(C765<>\"\",B765&\"_\"&C765&\" \"&D765&\"/\"&E765,B765&\" \"&D765),\"\")","v":"4900_SC6110 Cost of Sales/Food and Beverages"},{"$f":"Worktags!AS353","v":"4900"},{"$f":"IF(Worktags!AQ353<>Worktags!AS353,Worktags!AQ353,\"\")","v":"SC6110"},{"$f":"IFERROR(VLOOKUP(B765,Worktags!AL:AO,2,FALSE),\"\")","v":"Cost of Sales"},{"$f":"IFERROR(VLOOKUP(C765,Worktags!O:T,2,FALSE),\"\")","v":"Food and Beverages"},"All"]
[{"$f":"IF(B766<>\"\",IF(C766<>\"\",B766&\"_\"&C766&\" \"&D766&\"/\"&E766,B766&\" \"&D766),\"\")","v":"4900_SC6111 Cost of Sales/Food Service Disposables"},{"$f":"Worktags!AS357","v":"4900"},{"$f":"IF(Worktags!AQ357<>Worktags!AS357,Worktags!AQ357,\"\")","v":"SC6111"},{"$f":"IFERROR(VLOOKUP(B766,Worktags!AL:AO,2,FALSE),\"\")","v":"Cost of Sales"},{"$f":"IFERROR(VLOOKUP(C766,Worktags!O:T,2,FALSE),\"\")","v":"Food Service Disposables"},"All"]
[{"$f":"IF(B767<>\"\",IF(C767<>\"\",B767&\"_\"&C767&\" \"&D767&\"/\"&E767,B767&\" \"&D767),\"\")","v":"4900_SC6114 Cost of Sales/Hazardous Chemicals"},{"$f":"Worktags!AS365","v":"4900"},{"$f":"IF(Worktags!AQ365<>Worktags!AS365,Worktags!AQ365,\"\")","v":"SC6114"},{"$f":"IFERROR(VLOOKUP(B767,Worktags!AL:AO,2,FALSE),\"\")","v":"Cost of Sales"},{"$f":"IFERROR(VLOOKUP(C767,Worktags!O:T,2,FALSE),\"\")","v":"Hazardous Chemicals"},"All"]
[{"$f":"IF(B768<>\"\",IF(C768<>\"\",B768&\"_\"&C768&\" \"&D768&\"/\"&E768,B768&\" \"&D768),\"\")","v":"4900_SC6119 Cost of Sales/Office Supplies"},{"$f":"Worktags!AS377","v":"4900"},{"$f":"IF(Worktags!AQ377<>Worktags!AS377,Worktags!AQ377,\"\")","v":"SC6119"},{"$f":"IFERROR(VLOOKUP(B768,Worktags!AL:AO,2,FALSE),\"\")","v":"Cost of Sales"},{"$f":"IFERROR(VLOOKUP(C768,Worktags!O:T,2,FALSE),\"\")","v":"Office Supplies"},"All"]
[{"$f":"IF(B769<>\"\",IF(C769<>\"\",B769&\"_\"&C769&\" \"&D769&\"/\"&E769,B769&\" \"&D769),\"\")","v":"4900_SC6121 Cost of Sales/Packaging"},{"$f":"Worktags!AS383","v":"4900"},{"$f":"IF(Worktags!AQ383<>Worktags!AS383,Worktags!AQ383,\"\")","v":"SC6121"},{"$f":"IFERROR(VLOOKUP(B769,Worktags!AL:AO,2,FALSE),\"\")","v":"Cost of Sales"},{"$f":"IFERROR(VLOOKUP(C769,Worktags!O:T,2,FALSE),\"\")","v":"Packaging"},"All"]
[{"$f":"IF(B770<>\"\",IF(C770<>\"\",B770&\"_\"&C770&\" \"&D770&\"/\"&E770,B770&\" \"&D770),\"\")","v":"4900_SC6125 Cost of Sales/Printing Supplies"},{"$f":"Worktags!AS393","v":"4900"},{"$f":"IF(Worktags!AQ393<>Worktags!AS393,Worktags!AQ393,\"\")","v":"SC6125"},{"$f":"IFERROR(VLOOKUP(B770,Worktags!AL:AO,2,FALSE),\"\")","v":"Cost of Sales"},{"$f":"IFERROR(VLOOKUP(C770,Worktags!O:T,2,FALSE),\"\")","v":"Printing Supplies"},"All"]
[{"$f":"IF(B771<>\"\",IF(C771<>\"\",B771&\"_\"&C771&\" \"&D771&\"/\"&E771,B771&\" \"&D771),\"\")","v":"4900_SC6126 Cost of Sales/Scientific and Engineering Supplies"},{"$f":"Worktags!AS397","v":"4900"},{"$f":"IF(Worktags!AQ397<>Worktags!AS397,Worktags!AQ397,\"\")","v":"SC6126"},{"$f":"IFERROR(VLOOKUP(B771,Worktags!AL:AO,2,FALSE),\"\")","v":"Cost of Sales"},{"$f":"IFERROR(VLOOKUP(C771,Worktags!O:T,2,FALSE),\"\")","v":"Scientific and Engineering Supplies"},"All"]
[{"$f":"IF(B772<>\"\",IF(C772<>\"\",B772&\"_\"&C772&\" \"&D772&\"/\"&E772,B772&\" \"&D772),\"\")","v":"4900_SC6129 Cost of Sales/Supplies (not otherwise specified)"},{"$f":"Worktags!AS405","v":"4900"},{"$f":"IF(Worktags!AQ405<>Worktags!AS405,Worktags!AQ405,\"\")","v":"SC6129"},{"$f":"IFERROR(VLOOKUP(B772,Worktags!AL:AO,2,FALSE),\"\")","v":"Cost of Sales"},{"$f":"IFERROR(VLOOKUP(C772,Worktags!O:T,2,FALSE),\"\")","v":"Supplies (not otherwise specified)"},""]
[{"$f":"IF(B773<>\"\",IF(C773<>\"\",B773&\"_\"&C773&\" \"&D773&\"/\"&E773,B773&\" \"&D773),\"\")","v":"4900_SC6131 Cost of Sales/Telecom Supplies"},{"$f":"Worktags!AS412","v":"4900"},{"$f":"IF(Worktags!AQ412<>Worktags!AS412,Worktags!AQ412,\"\")","v":"SC6131"},{"$f":"IFERROR(VLOOKUP(B773,Worktags!AL:AO,2,FALSE),\"\")","v":"Cost of Sales"},{"$f":"IFERROR(VLOOKUP(C773,Worktags!O:T,2,FALSE),\"\")","v":"Telecom Supplies"},"JE_Payroll|JE_Override"]
[{"$f":"IF(B774<>\"\",IF(C774<>\"\",B774&\"_\"&C774&\" \"&D774&\"/\"&E774,B774&\" \"&D774),\"\")","v":"4900_SC6133 Cost of Sales/Lab Gases and Cryogenics"},{"$f":"Worktags!AS418","v":"4900"},{"$f":"IF(Worktags!AQ418<>Worktags!AS418,Worktags!AQ418,\"\")","v":"SC6133"},{"$f":"IFERROR(VLOOKUP(B774,Worktags!AL:AO,2,FALSE),\"\")","v":"Cost of Sales"},{"$f":"IFERROR(VLOOKUP(C774,Worktags!O:T,2,FALSE),\"\")","v":"Lab Gases and Cryogenics"},"All"]
[{"$f":"IF(B775<>\"\",IF(C775<>\"\",B775&\"_\"&C775&\" \"&D775&\"/\"&E775,B775&\" \"&D775),\"\")","v":"4900_SC6707 Cost of Sales/Electrical Supplies"},{"$f":"Worktags!AS616","v":"4900"},{"$f":"IF(Worktags!AQ616<>Worktags!AS616,Worktags!AQ616,\"\")","v":"SC6707"},{"$f":"IFERROR(VLOOKUP(B775,Worktags!AL:AO,2,FALSE),\"\")","v":"Cost of Sales"},{"$f":"IFERROR(VLOOKUP(C775,Worktags!O:T,2,FALSE),\"\")","v":"Electrical Supplies"},"JE_Payroll|JE_Override"]
[{"$f":"IF(B776<>\"\",IF(C776<>\"\",B776&\"_\"&C776&\" \"&D776&\"/\"&E776,B776&\" \"&D776),\"\")","v":"4900_SC6731 Cost of Sales/Stage and Studio Lighting (Only Workday Inventory Module)"},{"$f":"Worktags!AS730","v":"4900"},{"$f":"IF(Worktags!AQ730<>Worktags!AS730,Worktags!AQ730,\"\")","v":"SC6731"},{"$f":"IFERROR(VLOOKUP(B776,Worktags!AL:AO,2,FALSE),\"\")","v":"Cost of Sales"},{"$f":"IFERROR(VLOOKUP(C776,Worktags!O:T,2,FALSE),\"\")","v":"Stage and Studio Lighting (Only Workday Inventory Module)"},"JE_Payroll|JE_Override"]
[{"$f":"IF(B777<>\"\",IF(C777<>\"\",B777&\"_\"&C777&\" \"&D777&\"/\"&E777,B777&\" \"&D777),\"\")","v":"4900_SC6940 Cost of Sales/Audio Visual Equipment (Only Workday Inventory Module)"},{"$f":"Worktags!AS946","v":"4900"},{"$f":"IF(Worktags!AQ946<>Worktags!AS946,Worktags!AQ946,\"\")","v":"SC6940"},{"$f":"IFERROR(VLOOKUP(B777,Worktags!AL:AO,2,FALSE),\"\")","v":"Cost of Sales"},{"$f":"IFERROR(VLOOKUP(C777,Worktags!O:T,2,FALSE),\"\")","v":"Audio Visual Equipment (Only Workday Inventory Module)"},"All"]
[{"$f":"IF(B778<>\"\",IF(C778<>\"\",B778&\"_\"&C778&\" \"&D778&\"/\"&E778,B778&\" \"&D778),\"\")","v":"4900_SC6941 Cost of Sales/Communication Devices (Only Workday Inventory Module)"},{"$f":"Worktags!AS950","v":"4900"},{"$f":"IF(Worktags!AQ950<>Worktags!AS950,Worktags!AQ950,\"\")","v":"SC6941"},{"$f":"IFERROR(VLOOKUP(B778,Worktags!AL:AO,2,FALSE),\"\")","v":"Cost of Sales"},{"$f":"IFERROR(VLOOKUP(C778,Worktags!O:T,2,FALSE),\"\")","v":"Communication Devices (Only Workday Inventory Module)"},"JE_Payroll|JE_Override"]
[{"$f":"IF(B779<>\"\",IF(C779<>\"\",B779&\"_\"&C779&\" \"&D779&\"/\"&E779,B779&\" \"&D779),\"\")","v":"4900_SC6942 Cost of Sales/Computer Hardware (Only Workday Inventory Module)"},{"$f":"Worktags!AS954","v":"4900"},{"$f":"IF(Worktags!AQ954<>Worktags!AS954,Worktags!AQ954,\"\")","v":"SC6942"},{"$f":"IFERROR(VLOOKUP(B779,Worktags!AL:AO,2,FALSE),\"\")","v":"Cost of Sales"},{"$f":"IFERROR(VLOOKUP(C779,Worktags!O:T,2,FALSE),\"\")","v":"Computer Hardware (Only Workday Inventory Module)"},"JE_Payroll|JE_Override"]
[{"$f":"IF(B780<>\"\",IF(C780<>\"\",B780&\"_\"&C780&\" \"&D780&\"/\"&E780,B780&\" \"&D780),\"\")","v":"4900_SC6943 Cost of Sales/Data Network Equipment (Only Workday Inventory Module)"},{"$f":"Worktags!AS958","v":"4900"},{"$f":"IF(Worktags!AQ958<>Worktags!AS958,Worktags!AQ958,\"\")","v":"SC6943"},{"$f":"IFERROR(VLOOKUP(B780,Worktags!AL:AO,2,FALSE),\"\")","v":"Cost of Sales"},{"$f":"IFERROR(VLOOKUP(C780,Worktags!O:T,2,FALSE),\"\")","v":"Data Network Equipment (Only Workday Inventory Module)"},"JE_Payroll|JE_Override"]
[{"$f":"IF(B781<>\"\",IF(C781<>\"\",B781&\"_\"&C781&\" \"&D781&\"/\"&E781,B781&\" \"&D781),\"\")","v":"4900_SC6944 Cost of Sales/Equipment (not otherwise specified) (Only Workday Inventory Module)"},{"$f":"Worktags!AS962","v":"4900"},{"$f":"IF(Worktags!AQ962<>Worktags!AS962,Worktags!AQ962,\"\")","v":"SC6944"},{"$f":"IFERROR(VLOOKUP(B781,Worktags!AL:AO,2,FALSE),\"\")","v":"Cost of Sales"},{"$f":"IFERROR(VLOOKUP(C781,Worktags!O:T,2,FALSE),\"\")","v":"Equipment (not otherwise specified) (Only Workday Inventory Module)"},"JE_Payroll|JE_Override"]
[{"$f":"IF(B782<>\"\",IF(C782<>\"\",B782&\"_\"&C782&\" \"&D782&\"/\"&E782,B782&\" \"&D782),\"\")","v":"4900_SC6945 Cost of Sales/Office Equipment (Only Workday Inventory Module)"},{"$f":"Worktags!AS966","v":"4900"},{"$f":"IF(Worktags!AQ966<>Worktags!AS966,Worktags!AQ966,\"\")","v":"SC6945"},{"$f":"IFERROR(VLOOKUP(B782,Worktags!AL:AO,2,FALSE),\"\")","v":"Cost of Sales"},{"$f":"IFERROR(VLOOKUP(C782,Worktags!O:T,2,FALSE),\"\")","v":"Office Equipment (Only Workday Inventory Module)"},"All"]
[{"$f":"IF(B783<>\"\",IF(C783<>\"\",B783&\"_\"&C783&\" \"&D783&\"/\"&E783,B783&\" \"&D783),\"\")","v":"4900_SC6946 Cost of Sales/Security Equipment (Only Workday Inventory Module)"},{"$f":"Worktags!AS970","v":"4900"},{"$f":"IF(Worktags!AQ970<>Worktags!AS970,Worktags!AQ970,\"\")","v":"SC6946"},{"$f":"IFERROR(VLOOKUP(B783,Worktags!AL:AO,2,FALSE),\"\")","v":"Cost of Sales"},{"$f":"IFERROR(VLOOKUP(C783,Worktags!O:T,2,FALSE),\"\")","v":"Security Equipment (Only Workday Inventory Module)"},"JE_Payroll|JE_Override"]
[{"$f":"IF(B784<>\"\",IF(C784<>\"\",B784&\"_\"&C784&\" \"&D784&\"/\"&E784,B784&\" \"&D784),\"\")","v":"5000 Salaries and Wages"},{"$f":"Worktags!AL127","v":"5000"},null,{"$f":"IFERROR(VLOOKUP(B784,Worktags!AL:AO,2,FALSE),\"\")","v":"Salaries and Wages"},null,"JE_Payroll|JE_Override"]
[{"$f":"IF(B785<>\"\",IF(C785<>\"\",B785&\"_\"&C785&\" \"&D785&\"/\"&E785,B785&\" \"&D785),\"\")","v":"5000_SC5000 Salaries and Wages/Staff Exempt Salaries"},{"$f":"Worktags!AS274","v":"5000"},{"$f":"IF(Worktags!AQ274<>Worktags!AS274,Worktags!AQ274,\"\")","v":"SC5000"},{"$f":"IFERROR(VLOOKUP(B785,Worktags!AL:AO,2,FALSE),\"\")","v":"Salaries and Wages"},{"$f":"IFERROR(VLOOKUP(C785,Worktags!O:T,2,FALSE),\"\")","v":"Staff Exempt Salaries"},"All"]
[{"$f":"IF(B786<>\"\",IF(C786<>\"\",B786&\"_\"&C786&\" \"&D786&\"/\"&E786,B786&\" \"&D786),\"\")","v":"5000_SC5009 Salaries and Wages/Staff Exempt Salaries (reclass)"},{"$f":"Worktags!AS275","v":"5000"},{"$f":"IF(Worktags!AQ275<>Worktags!AS275,Worktags!AQ275,\"\")","v":"SC5009"},{"$f":"IFERROR(VLOOKUP(B786,Worktags!AL:AO,2,FALSE),\"\")","v":"Salaries and Wages"},{"$f":"IFERROR(VLOOKUP(C786,Worktags!O:T,2,FALSE),\"\")","v":"Staff Exempt Salaries (reclass)"},"JE_Payroll|JE_Override"]
[{"$f":"IF(B787<>\"\",IF(C787<>\"\",B787&\"_\"&C787&\" \"&D787&\"/\"&E787,B787&\" \"&D787),\"\")","v":"5000_SC5030 Salaries and Wages/Staff Exempt Salaries (Overload)"},{"$f":"Worktags!AS276","v":"5000"},{"$f":"IF(Worktags!AQ276<>Worktags!AS276,Worktags!AQ276,\"\")","v":"SC5030"},{"$f":"IFERROR(VLOOKUP(B787,Worktags!AL:AO,2,FALSE),\"\")","v":"Salaries and Wages"},{"$f":"IFERROR(VLOOKUP(C787,Worktags!O:T,2,FALSE),\"\")","v":"Staff Exempt Salaries (Overload)"},"JE_Payroll|JE_Override"]
[{"$f":"IF(B788<>\"\",IF(C788<>\"\",B788&\"_\"&C788&\" \"&D788&\"/\"&E788,B788&\" \"&D788),\"\")","v":"5000_SC5100 Salaries and Wages/Faculty Salaries"},{"$f":"Worktags!AS277","v":"5000"},{"$f":"IF(Worktags!AQ277<>Worktags!AS277,Worktags!AQ277,\"\")","v":"SC5100"},{"$f":"IFERROR(VLOOKUP(B788,Worktags!AL:AO,2,FALSE),\"\")","v":"Salaries and Wages"},{"$f":"IFERROR(VLOOKUP(C788,Worktags!O:T,2,FALSE),\"\")","v":"Faculty Salaries"},"JE_Payroll|JE_Override"]
[{"$f":"IF(B789<>\"\",IF(C789<>\"\",B789&\"_\"&C789&\" \"&D789&\"/\"&E789,B789&\" \"&D789),\"\")","v":"5000_SC5109 Salaries and Wages/Faculty Salaries (reclass)"},{"$f":"Worktags!AS278","v":"5000"},{"$f":"IF(Worktags!AQ278<>Worktags!AS278,Worktags!AQ278,\"\")","v":"SC5109"},{"$f":"IFERROR(VLOOKUP(B789,Worktags!AL:AO,2,FALSE),\"\")","v":"Salaries and Wages"},{"$f":"IFERROR(VLOOKUP(C789,Worktags!O:T,2,FALSE),\"\")","v":"Faculty Salaries (reclass)"},"JE_Payroll|JE_Override"]
[{"$f":"IF(B790<>\"\",IF(C790<>\"\",B790&\"_\"&C790&\" \"&D790&\"/\"&E790,B790&\" \"&D790),\"\")","v":"5000_SC5120 Salaries and Wages/Faculty Spring Summer Salaries"},{"$f":"Worktags!AS279","v":"5000"},{"$f":"IF(Worktags!AQ279<>Worktags!AS279,Worktags!AQ279,\"\")","v":"SC5120"},{"$f":"IFERROR(VLOOKUP(B790,Worktags!AL:AO,2,FALSE),\"\")","v":"Salaries and Wages"},{"$f":"IFERROR(VLOOKUP(C790,Worktags!O:T,2,FALSE),\"\")","v":"Faculty Spring Summer Salaries"},"JE_Payroll|JE_Override"]
[{"$f":"IF(B791<>\"\",IF(C791<>\"\",B791&\"_\"&C791&\" \"&D791&\"/\"&E791,B791&\" \"&D791),\"\")","v":"5000_SC5130 Salaries and Wages/Faculty Salaries (Supplemental/Overload)"},{"$f":"Worktags!AS280","v":"5000"},{"$f":"IF(Worktags!AQ280<>Worktags!AS280,Worktags!AQ280,\"\")","v":"SC5130"},{"$f":"IFERROR(VLOOKUP(B791,Worktags!AL:AO,2,FALSE),\"\")","v":"Salaries and Wages"},{"$f":"IFERROR(VLOOKUP(C791,Worktags!O:T,2,FALSE),\"\")","v":"Faculty Salaries (Supplemental/Overload)"},"All"]
[{"$f":"IF(B792<>\"\",IF(C792<>\"\",B792&\"_\"&C792&\" \"&D792&\"/\"&E792,B792&\" \"&D792),\"\")","v":"5000_SC5190 Salaries and Wages/Faculty Visiting and Researcher"},{"$f":"Worktags!AS281","v":"5000"},{"$f":"IF(Worktags!AQ281<>Worktags!AS281,Worktags!AQ281,\"\")","v":"SC5190"},{"$f":"IFERROR(VLOOKUP(B792,Worktags!AL:AO,2,FALSE),\"\")","v":"Salaries and Wages"},{"$f":"IFERROR(VLOOKUP(C792,Worktags!O:T,2,FALSE),\"\")","v":"Faculty Visiting and Researcher"},"JE_Payroll|JE_Override"]
[{"$f":"IF(B793<>\"\",IF(C793<>\"\",B793&\"_\"&C793&\" \"&D793&\"/\"&E793,B793&\" \"&D793),\"\")","v":"5000_SC5300 Salaries and Wages/Faculty Adjunct Salaries"},{"$f":"Worktags!AS282","v":"5000"},{"$f":"IF(Worktags!AQ282<>Worktags!AS282,Worktags!AQ282,\"\")","v":"SC5300"},{"$f":"IFERROR(VLOOKUP(B793,Worktags!AL:AO,2,FALSE),\"\")","v":"Salaries and Wages"},{"$f":"IFERROR(VLOOKUP(C793,Worktags!O:T,2,FALSE),\"\")","v":"Faculty Adjunct Salaries"},"JE_Payroll|JE_Override"]
[{"$f":"IF(B794<>\"\",IF(C794<>\"\",B794&\"_\"&C794&\" \"&D794&\"/\"&E794,B794&\" \"&D794),\"\")","v":"5000_SC5309 Salaries and Wages/Faculty Adjunct Salaries (reclass)"},{"$f":"Worktags!AS283","v":"5000"},{"$f":"IF(Worktags!AQ283<>Worktags!AS283,Worktags!AQ283,\"\")","v":"SC5309"},{"$f":"IFERROR(VLOOKUP(B794,Worktags!AL:AO,2,FALSE),\"\")","v":"Salaries and Wages"},{"$f":"IFERROR(VLOOKUP(C794,Worktags!O:T,2,FALSE),\"\")","v":"Faculty Adjunct Salaries (reclass)"},"JE_Payroll|JE_Override"]
[{"$f":"IF(B795<>\"\",IF(C795<>\"\",B795&\"_\"&C795&\" \"&D795&\"/\"&E795,B795&\" \"&D795),\"\")","v":"5000_SC5320 Salaries and Wages/Faculty Adjunct Salaries - Part Benefits"},{"$f":"Worktags!AS284","v":"5000"},{"$f":"IF(Worktags!AQ284<>Worktags!AS284,Worktags!AQ284,\"\")","v":"SC5320"},{"$f":"IFERROR(VLOOKUP(B795,Worktags!AL:AO,2,FALSE),\"\")","v":"Salaries and Wages"},{"$f":"IFERROR(VLOOKUP(C795,Worktags!O:T,2,FALSE),\"\")","v":"Faculty Adjunct Salaries - Part Benefits"},"JE_Payroll|JE_Override"]
[{"$f":"IF(B796<>\"\",IF(C796<>\"\",B796&\"_\"&C796&\" \"&D796&\"/\"&E796,B796&\" \"&D796),\"\")","v":"5000_SC5400 Salaries and Wages/Staff Non-Exempt Wages"},{"$f":"Worktags!AS285","v":"5000"},{"$f":"IF(Worktags!AQ285<>Worktags!AS285,Worktags!AQ285,\"\")","v":"SC5400"},{"$f":"IFERROR(VLOOKUP(B796,Worktags!AL:AO,2,FALSE),\"\")","v":"Salaries and Wages"},{"$f":"IFERROR(VLOOKUP(C796,Worktags!O:T,2,FALSE),\"\")","v":"Staff Non-Exempt Wages"},"JE_Payroll|JE_Override"]
[{"$f":"IF(B797<>\"\",IF(C797<>\"\",B797&\"_\"&C797&\" \"&D797&\"/\"&E797,B797&\" \"&D797),\"\")","v":"5000_SC5409 Salaries and Wages/Staff Non-Exempt Wages (reclass)"},{"$f":"Worktags!AS286","v":"5000"},{"$f":"IF(Worktags!AQ286<>Worktags!AS286,Worktags!AQ286,\"\")","v":"SC5409"},{"$f":"IFERROR(VLOOKUP(B797,Worktags!AL:AO,2,FALSE),\"\")","v":"Salaries and Wages"},{"$f":"IFERROR(VLOOKUP(C797,Worktags!O:T,2,FALSE),\"\")","v":"Staff Non-Exempt Wages (reclass)"},"JE_Payroll|JE_Override"]
[{"$f":"IF(B798<>\"\",IF(C798<>\"\",B798&\"_\"&C798&\" \"&D798&\"/\"&E798,B798&\" \"&D798),\"\")","v":"5000_SC5430 Salaries and Wages/Staff Non-Exempt Wages (Overtime/Premium)"},{"$f":"Worktags!AS287","v":"5000"},{"$f":"IF(Worktags!AQ287<>Worktags!AS287,Worktags!AQ287,\"\")","v":"SC5430"},{"$f":"IFERROR(VLOOKUP(B798,Worktags!AL:AO,2,FALSE),\"\")","v":"Salaries and Wages"},{"$f":"IFERROR(VLOOKUP(C798,Worktags!O:T,2,FALSE),\"\")","v":"Staff Non-Exempt Wages (Overtime/Premium)"},"All"]
[{"$f":"IF(B799<>\"\",IF(C799<>\"\",B799&\"_\"&C799&\" \"&D799&\"/\"&E799,B799&\" \"&D799),\"\")","v":"5000_SC5500 Salaries and Wages/Student Contract Research Assistant Salaries"},{"$f":"Worktags!AS288","v":"5000"},{"$f":"IF(Worktags!AQ288<>Worktags!AS288,Worktags!AQ288,\"\")","v":"SC5500"},{"$f":"IFERROR(VLOOKUP(B799,Worktags!AL:AO,2,FALSE),\"\")","v":"Salaries and Wages"},{"$f":"IFERROR(VLOOKUP(C799,Worktags!O:T,2,FALSE),\"\")","v":"Student Contract Research Assistant Salaries"},"JE_Payroll|JE_Override"]
[{"$f":"IF(B800<>\"\",IF(C800<>\"\",B800&\"_\"&C800&\" \"&D800&\"/\"&E800,B800&\" \"&D800),\"\")","v":"5000_SC5502 Salaries and Wages/Student Contract Research Assistant Salaries-FICA"},{"$f":"Worktags!AS289","v":"5000"},{"$f":"IF(Worktags!AQ289<>Worktags!AS289,Worktags!AQ289,\"\")","v":"SC5502"},{"$f":"IFERROR(VLOOKUP(B800,Worktags!AL:AO,2,FALSE),\"\")","v":"Salaries and Wages"},{"$f":"IFERROR(VLOOKUP(C800,Worktags!O:T,2,FALSE),\"\")","v":"Student Contract Research Assistant Salaries-FICA"},"All"]
[{"$f":"IF(B801<>\"\",IF(C801<>\"\",B801&\"_\"&C801&\" \"&D801&\"/\"&E801,B801&\" \"&D801),\"\")","v":"5000_SC5503 Salaries and Wages/Student Contract Teaching Assistant Salaries"},{"$f":"Worktags!AS290","v":"5000"},{"$f":"IF(Worktags!AQ290<>Worktags!AS290,Worktags!AQ290,\"\")","v":"SC5503"},{"$f":"IFERROR(VLOOKUP(B801,Worktags!AL:AO,2,FALSE),\"\")","v":"Salaries and Wages"},{"$f":"IFERROR(VLOOKUP(C801,Worktags!O:T,2,FALSE),\"\")","v":"Student Contract Teaching Assistant Salaries"},"JE_Payroll|JE_Override"]
[{"$f":"IF(B802<>\"\",IF(C802<>\"\",B802&\"_\"&C802&\" \"&D802&\"/\"&E802,B802&\" \"&D802),\"\")","v":"5000_SC5504 Salaries and Wages/Student Contract Teaching Assistant Salaries - FICA"},{"$f":"Worktags!AS291","v":"5000"},{"$f":"IF(Worktags!AQ291<>Worktags!AS291,Worktags!AQ291,\"\")","v":"SC5504"},{"$f":"IFERROR(VLOOKUP(B802,Worktags!AL:AO,2,FALSE),\"\")","v":"Salaries and Wages"},{"$f":"IFERROR(VLOOKUP(C802,Worktags!O:T,2,FALSE),\"\")","v":"Student Contract Teaching Assistant Salaries - FICA"},"JE_Payroll|JE_Override"]
[{"$f":"IF(B803<>\"\",IF(C803<>\"\",B803&\"_\"&C803&\" \"&D803&\"/\"&E803,B803&\" \"&D803),\"\")","v":"5000_SC5509 Salaries and Wages/Student Contract Salaries (reclass)"},{"$f":"Worktags!AS292","v":"5000"},{"$f":"IF(Worktags!AQ292<>Worktags!AS292,Worktags!AQ292,\"\")","v":"SC5509"},{"$f":"IFERROR(VLOOKUP(B803,Worktags!AL:AO,2,FALSE),\"\")","v":"Salaries and Wages"},{"$f":"IFERROR(VLOOKUP(C803,Worktags!O:T,2,FALSE),\"\")","v":"Student Contract Salaries (reclass)"},"JE_Payroll|JE_Override"]
[{"$f":"IF(B804<>\"\",IF(C804<>\"\",B804&\"_\"&C804&\" \"&D804&\"/\"&E804,B804&\" \"&D804),\"\")","v":"5000_SC5540 Salaries and Wages/Student Contract Wages - Other"},{"$f":"Worktags!AS293","v":"5000"},{"$f":"IF(Worktags!AQ293<>Worktags!AS293,Worktags!AQ293,\"\")","v":"SC5540"},{"$f":"IFERROR(VLOOKUP(B804,Worktags!AL:AO,2,FALSE),\"\")","v":"Salaries and Wages"},{"$f":"IFERROR(VLOOKUP(C804,Worktags!O:T,2,FALSE),\"\")","v":"Student Contract Wages - Other"},"All"]
[{"$f":"IF(B805<>\"\",IF(C805<>\"\",B805&\"_\"&C805&\" \"&D805&\"/\"&E805,B805&\" \"&D805),\"\")","v":"5000_SC5542 Salaries and Wages/Student Contract Wages - Other FICA"},{"$f":"Worktags!AS294","v":"5000"},{"$f":"IF(Worktags!AQ294<>Worktags!AS294,Worktags!AQ294,\"\")","v":"SC5542"},{"$f":"IFERROR(VLOOKUP(B805,Worktags!AL:AO,2,FALSE),\"\")","v":"Salaries and Wages"},{"$f":"IFERROR(VLOOKUP(C805,Worktags!O:T,2,FALSE),\"\")","v":"Student Contract Wages - Other FICA"},""]
[{"$f":"IF(B806<>\"\",IF(C806<>\"\",B806&\"_\"&C806&\" \"&D806&\"/\"&E806,B806&\" \"&D806),\"\")","v":"5000_SC5600 Salaries and Wages/Student Hourly Wages"},{"$f":"Worktags!AS295","v":"5000"},{"$f":"IF(Worktags!AQ295<>Worktags!AS295,Worktags!AQ295,\"\")","v":"SC5600"},{"$f":"IFERROR(VLOOKUP(B806,Worktags!AL:AO,2,FALSE),\"\")","v":"Salaries and Wages"},{"$f":"IFERROR(VLOOKUP(C806,Worktags!O:T,2,FALSE),\"\")","v":"Student Hourly Wages"},"JE_Payroll|JE_Override"]
[{"$f":"IF(B807<>\"\",IF(C807<>\"\",B807&\"_\"&C807&\" \"&D807&\"/\"&E807,B807&\" \"&D807),\"\")","v":"5000_SC5602 Salaries and Wages/Student Hourly Wages-FICA"},{"$f":"Worktags!AS296","v":"5000"},{"$f":"IF(Worktags!AQ296<>Worktags!AS296,Worktags!AQ296,\"\")","v":"SC5602"},{"$f":"IFERROR(VLOOKUP(B807,Worktags!AL:AO,2,FALSE),\"\")","v":"Salaries and Wages"},{"$f":"IFERROR(VLOOKUP(C807,Worktags!O:T,2,FALSE),\"\")","v":"Student Hourly Wages-FICA"},"JE_Payroll|JE_Override"]
[{"$f":"IF(B808<>\"\",IF(C808<>\"\",B808&\"_\"&C808&\" \"&D808&\"/\"&E808,B808&\" \"&D808),\"\")","v":"5000_SC5603 Salaries and Wages/Student Hourly Teaching Assistant Wages"},{"$f":"Worktags!AS297","v":"5000"},{"$f":"IF(Worktags!AQ297<>Worktags!AS297,Worktags!AQ297,\"\")","v":"SC5603"},{"$f":"IFERROR(VLOOKUP(B808,Worktags!AL:AO,2,FALSE),\"\")","v":"Salaries and Wages"},{"$f":"IFERROR(VLOOKUP(C808,Worktags!O:T,2,FALSE),\"\")","v":"Student Hourly Teaching Assistant Wages"},""]
[{"$f":"IF(B809<>\"\",IF(C809<>\"\",B809&\"_\"&C809&\" \"&D809&\"/\"&E809,B809&\" \"&D809),\"\")","v":"5000_SC5604 Salaries and Wages/Student Hourly Teaching Assistant Wages - FICA"},{"$f":"Worktags!AS298","v":"5000"},{"$f":"IF(Worktags!AQ298<>Worktags!AS298,Worktags!AQ298,\"\")","v":"SC5604"},{"$f":"IFERROR(VLOOKUP(B809,Worktags!AL:AO,2,FALSE),\"\")","v":"Salaries and Wages"},{"$f":"IFERROR(VLOOKUP(C809,Worktags!O:T,2,FALSE),\"\")","v":"Student Hourly Teaching Assistant Wages - FICA"},"JE_Payroll|JE_Override"]
[{"$f":"IF(B810<>\"\",IF(C810<>\"\",B810&\"_\"&C810&\" \"&D810&\"/\"&E810,B810&\" \"&D810),\"\")","v":"5000_SC5605 Salaries and Wages/Student Hourly Research Assistant Wages"},{"$f":"Worktags!AS299","v":"5000"},{"$f":"IF(Worktags!AQ299<>Worktags!AS299,Worktags!AQ299,\"\")","v":"SC5605"},{"$f":"IFERROR(VLOOKUP(B810,Worktags!AL:AO,2,FALSE),\"\")","v":"Salaries and Wages"},{"$f":"IFERROR(VLOOKUP(C810,Worktags!O:T,2,FALSE),\"\")","v":"Student Hourly Research Assistant Wages"},"JE_Payroll|JE_Override"]
[{"$f":"IF(B811<>\"\",IF(C811<>\"\",B811&\"_\"&C811&\" \"&D811&\"/\"&E811,B811&\" \"&D811),\"\")","v":"5000_SC5606 Salaries and Wages/Student Hourly Research Assistant Wages - FICA"},{"$f":"Worktags!AS300","v":"5000"},{"$f":"IF(Worktags!AQ300<>Worktags!AS300,Worktags!AQ300,\"\")","v":"SC5606"},{"$f":"IFERROR(VLOOKUP(B811,Worktags!AL:AO,2,FALSE),\"\")","v":"Salaries and Wages"},{"$f":"IFERROR(VLOOKUP(C811,Worktags!O:T,2,FALSE),\"\")","v":"Student Hourly Research Assistant Wages - FICA"},""]
[{"$f":"IF(B812<>\"\",IF(C812<>\"\",B812&\"_\"&C812&\" \"&D812&\"/\"&E812,B812&\" \"&D812),\"\")","v":"5000_SC5609 Salaries and Wages/Student Hourly Wages (Reclass)"},{"$f":"Worktags!AS301","v":"5000"},{"$f":"IF(Worktags!AQ301<>Worktags!AS301,Worktags!AQ301,\"\")","v":"SC5609"},{"$f":"IFERROR(VLOOKUP(B812,Worktags!AL:AO,2,FALSE),\"\")","v":"Salaries and Wages"},{"$f":"IFERROR(VLOOKUP(C812,Worktags!O:T,2,FALSE),\"\")","v":"Student Hourly Wages (Reclass)"},"JE_Payroll|JE_Override"]
[{"$f":"IF(B813<>\"\",IF(C813<>\"\",B813&\"_\"&C813&\" \"&D813&\"/\"&E813,B813&\" \"&D813),\"\")","v":"5000_SC5700 Salaries and Wages/Part-time Wages - No Benefits"},{"$f":"Worktags!AS302","v":"5000"},{"$f":"IF(Worktags!AQ302<>Worktags!AS302,Worktags!AQ302,\"\")","v":"SC5700"},{"$f":"IFERROR(VLOOKUP(B813,Worktags!AL:AO,2,FALSE),\"\")","v":"Salaries and Wages"},{"$f":"IFERROR(VLOOKUP(C813,Worktags!O:T,2,FALSE),\"\")","v":"Part-time Wages - No Benefits"},"JE_Payroll|JE_Override"]
[{"$f":"IF(B814<>\"\",IF(C814<>\"\",B814&\"_\"&C814&\" \"&D814&\"/\"&E814,B814&\" \"&D814),\"\")","v":"5000_SC5709 Salaries and Wages/Part-time Wages (reclass)"},{"$f":"Worktags!AS303","v":"5000"},{"$f":"IF(Worktags!AQ303<>Worktags!AS303,Worktags!AQ303,\"\")","v":"SC5709"},{"$f":"IFERROR(VLOOKUP(B814,Worktags!AL:AO,2,FALSE),\"\")","v":"Salaries and Wages"},{"$f":"IFERROR(VLOOKUP(C814,Worktags!O:T,2,FALSE),\"\")","v":"Part-time Wages (reclass)"},"JE_Payroll|JE_Override"]
[{"$f":"IF(B815<>\"\",IF(C815<>\"\",B815&\"_\"&C815&\" \"&D815&\"/\"&E815,B815&\" \"&D815),\"\")","v":"5000_SC5730 Salaries and Wages/Part-time Wages - Part Benefits"},{"$f":"Worktags!AS304","v":"5000"},{"$f":"IF(Worktags!AQ304<>Worktags!AS304,Worktags!AQ304,\"\")","v":"SC5730"},{"$f":"IFERROR(VLOOKUP(B815,Worktags!AL:AO,2,FALSE),\"\")","v":"Salaries and Wages"},{"$f":"IFERROR(VLOOKUP(C815,Worktags!O:T,2,FALSE),\"\")","v":"Part-time Wages - Part Benefits"},"JE_Payroll|JE_Override"]
[{"$f":"IF(B816<>\"\",IF(C816<>\"\",B816&\"_\"&C816&\" \"&D816&\"/\"&E816,B816&\" \"&D816),\"\")","v":"5000_SC5800 Salaries and Wages/Taxable Payroll Additions"},{"$f":"Worktags!AS305","v":"5000"},{"$f":"IF(Worktags!AQ305<>Worktags!AS305,Worktags!AQ305,\"\")","v":"SC5800"},{"$f":"IFERROR(VLOOKUP(B816,Worktags!AL:AO,2,FALSE),\"\")","v":"Salaries and Wages"},{"$f":"IFERROR(VLOOKUP(C816,Worktags!O:T,2,FALSE),\"\")","v":"Taxable Payroll Additions"},"JE_Payroll|JE_Override"]
[{"$f":"IF(B817<>\"\",IF(C817<>\"\",B817&\"_\"&C817&\" \"&D817&\"/\"&E817,B817&\" \"&D817),\"\")","v":"5000_SC5860 Salaries and Wages/Moving Reimbursement"},{"$f":"Worktags!AS306","v":"5000"},{"$f":"IF(Worktags!AQ306<>Worktags!AS306,Worktags!AQ306,\"\")","v":"SC5860"},{"$f":"IFERROR(VLOOKUP(B817,Worktags!AL:AO,2,FALSE),\"\")","v":"Salaries and Wages"},{"$f":"IFERROR(VLOOKUP(C817,Worktags!O:T,2,FALSE),\"\")","v":"Moving Reimbursement"},"JE_Payroll|JE_Override"]
[{"$f":"IF(B818<>\"\",IF(C818<>\"\",B818&\"_\"&C818&\" \"&D818&\"/\"&E818,B818&\" \"&D818),\"\")","v":"5000_SC5899 Salaries and Wages/Taxable Payroll Additions (reclass)"},{"$f":"Worktags!AS311","v":"5000"},{"$f":"IF(Worktags!AQ311<>Worktags!AS311,Worktags!AQ311,\"\")","v":"SC5899"},{"$f":"IFERROR(VLOOKUP(B818,Worktags!AL:AO,2,FALSE),\"\")","v":"Salaries and Wages"},{"$f":"IFERROR(VLOOKUP(C818,Worktags!O:T,2,FALSE),\"\")","v":"Taxable Payroll Additions (reclass)"},"JE_Payroll|JE_Override"]
[{"$f":"IF(B819<>\"\",IF(C819<>\"\",B819&\"_\"&C819&\" \"&D819&\"/\"&E819,B819&\" \"&D819),\"\")","v":"5800 Project Labor Cost"},{"$f":"Worktags!AL128","v":"5800"},null,{"$f":"IFERROR(VLOOKUP(B819,Worktags!AL:AO,2,FALSE),\"\")","v":"Project Labor Cost"},null,"JE_Payroll|JE_Override"]
[{"$f":"IF(B820<>\"\",IF(C820<>\"\",B820&\"_\"&C820&\" \"&D820&\"/\"&E820,B820&\" \"&D820),\"\")","v":"5800_SC5890 Project Labor Cost/Project Labor Cost"},{"$f":"Worktags!AS307","v":"5800"},{"$f":"IF(Worktags!AQ307<>Worktags!AS307,Worktags!AQ307,\"\")","v":"SC5890"},{"$f":"IFERROR(VLOOKUP(B820,Worktags!AL:AO,2,FALSE),\"\")","v":"Project Labor Cost"},{"$f":"IFERROR(VLOOKUP(C820,Worktags!O:T,2,FALSE),\"\")","v":"Project Labor Cost"},"JE_Payroll|JE_Override"]
[{"$f":"IF(B821<>\"\",IF(C821<>\"\",B821&\"_\"&C821&\" \"&D821&\"/\"&E821,B821&\" \"&D821),\"\")","v":"5800_SC5892 Project Labor Cost/Project Labor Cost Non-Capital"},{"$f":"Worktags!AS309","v":"5800"},{"$f":"IF(Worktags!AQ309<>Worktags!AS309,Worktags!AQ309,\"\")","v":"SC5892"},{"$f":"IFERROR(VLOOKUP(B821,Worktags!AL:AO,2,FALSE),\"\")","v":"Project Labor Cost"},{"$f":"IFERROR(VLOOKUP(C821,Worktags!O:T,2,FALSE),\"\")","v":"Project Labor Cost Non-Capital"},"JE_Payroll|JE_Override"]
[{"$f":"IF(B822<>\"\",IF(C822<>\"\",B822&\"_\"&C822&\" \"&D822&\"/\"&E822,B822&\" \"&D822),\"\")","v":"5801 Project Labor Cost Recovery"},{"$f":"Worktags!AL129","v":"5801"},null,{"$f":"IFERROR(VLOOKUP(B822,Worktags!AL:AO,2,FALSE),\"\")","v":"Project Labor Cost Recovery"},null,"JE_Payroll|JE_Override"]
[{"$f":"IF(B823<>\"\",IF(C823<>\"\",B823&\"_\"&C823&\" \"&D823&\"/\"&E823,B823&\" \"&D823),\"\")","v":"5801_SC5891 Project Labor Cost Recovery/Project Labor Cost Recovery"},{"$f":"Worktags!AS308","v":"5801"},{"$f":"IF(Worktags!AQ308<>Worktags!AS308,Worktags!AQ308,\"\")","v":"SC5891"},{"$f":"IFERROR(VLOOKUP(B823,Worktags!AL:AO,2,FALSE),\"\")","v":"Project Labor Cost Recovery"},{"$f":"IFERROR(VLOOKUP(C823,Worktags!O:T,2,FALSE),\"\")","v":"Project Labor Cost Recovery"},"JE_Payroll|JE_Override"]
[{"$f":"IF(B824<>\"\",IF(C824<>\"\",B824&\"_\"&C824&\" \"&D824&\"/\"&E824,B824&\" \"&D824),\"\")","v":"5801_SC5893 Project Labor Cost Recovery/Project Labor Cost Non-Capital Recovery"},{"$f":"Worktags!AS310","v":"5801"},{"$f":"IF(Worktags!AQ310<>Worktags!AS310,Worktags!AQ310,\"\")","v":"SC5893"},{"$f":"IFERROR(VLOOKUP(B824,Worktags!AL:AO,2,FALSE),\"\")","v":"Project Labor Cost Recovery"},{"$f":"IFERROR(VLOOKUP(C824,Worktags!O:T,2,FALSE),\"\")","v":"Project Labor Cost Non-Capital Recovery"},"All"]
[{"$f":"IF(B825<>\"\",IF(C825<>\"\",B825&\"_\"&C825&\" \"&D825&\"/\"&E825,B825&\" \"&D825),\"\")","v":"5900 Benefits"},{"$f":"Worktags!AL130","v":"5900"},null,{"$f":"IFERROR(VLOOKUP(B825,Worktags!AL:AO,2,FALSE),\"\")","v":"Benefits"},null,""]
[{"$f":"IF(B826<>\"\",IF(C826<>\"\",B826&\"_\"&C826&\" \"&D826&\"/\"&E826,B826&\" \"&D826),\"\")","v":"5900_SC5900 Benefits/Staff Exempt Benefits"},{"$f":"Worktags!AS312","v":"5900"},{"$f":"IF(Worktags!AQ312<>Worktags!AS312,Worktags!AQ312,\"\")","v":"SC5900"},{"$f":"IFERROR(VLOOKUP(B826,Worktags!AL:AO,2,FALSE),\"\")","v":"Benefits"},{"$f":"IFERROR(VLOOKUP(C826,Worktags!O:T,2,FALSE),\"\")","v":"Staff Exempt Benefits"},"JE_Override"]
[{"$f":"IF(B827<>\"\",IF(C827<>\"\",B827&\"_\"&C827&\" \"&D827&\"/\"&E827,B827&\" \"&D827),\"\")","v":"5900_SC5905 Benefits/Staff Exempt Overload Benefits"},{"$f":"Worktags!AS313","v":"5900"},{"$f":"IF(Worktags!AQ313<>Worktags!AS313,Worktags!AQ313,\"\")","v":"SC5905"},{"$f":"IFERROR(VLOOKUP(B827,Worktags!AL:AO,2,FALSE),\"\")","v":"Benefits"},{"$f":"IFERROR(VLOOKUP(C827,Worktags!O:T,2,FALSE),\"\")","v":"Staff Exempt Overload Benefits"},"All"]
[{"$f":"IF(B828<>\"\",IF(C828<>\"\",B828&\"_\"&C828&\" \"&D828&\"/\"&E828,B828&\" \"&D828),\"\")","v":"5900_SC5910 Benefits/Faculty Benefits"},{"$f":"Worktags!AS314","v":"5900"},{"$f":"IF(Worktags!AQ314<>Worktags!AS314,Worktags!AQ314,\"\")","v":"SC5910"},{"$f":"IFERROR(VLOOKUP(B828,Worktags!AL:AO,2,FALSE),\"\")","v":"Benefits"},{"$f":"IFERROR(VLOOKUP(C828,Worktags!O:T,2,FALSE),\"\")","v":"Faculty Benefits"},"All"]
[{"$f":"IF(B829<>\"\",IF(C829<>\"\",B829&\"_\"&C829&\" \"&D829&\"/\"&E829,B829&\" \"&D829),\"\")","v":"5900_SC5915 Benefits/Faculty Supplemental/Overload Benefits"},{"$f":"Worktags!AS315","v":"5900"},{"$f":"IF(Worktags!AQ315<>Worktags!AS315,Worktags!AQ315,\"\")","v":"SC5915"},{"$f":"IFERROR(VLOOKUP(B829,Worktags!AL:AO,2,FALSE),\"\")","v":"Benefits"},{"$f":"IFERROR(VLOOKUP(C829,Worktags!O:T,2,FALSE),\"\")","v":"Faculty Supplemental/Overload Benefits"},"All"]
[{"$f":"IF(B830<>\"\",IF(C830<>\"\",B830&\"_\"&C830&\" \"&D830&\"/\"&E830,B830&\" \"&D830),\"\")","v":"5900_SC5930 Benefits/Faculty Adjunct Benefits"},{"$f":"Worktags!AS316","v":"5900"},{"$f":"IF(Worktags!AQ316<>Worktags!AS316,Worktags!AQ316,\"\")","v":"SC5930"},{"$f":"IFERROR(VLOOKUP(B830,Worktags!AL:AO,2,FALSE),\"\")","v":"Benefits"},{"$f":"IFERROR(VLOOKUP(C830,Worktags!O:T,2,FALSE),\"\")","v":"Faculty Adjunct Benefits"},"All"]
[{"$f":"IF(B831<>\"\",IF(C831<>\"\",B831&\"_\"&C831&\" \"&D831&\"/\"&E831,B831&\" \"&D831),\"\")","v":"5900_SC5940 Benefits/Staff Non-Exempt Benefits"},{"$f":"Worktags!AS317","v":"5900"},{"$f":"IF(Worktags!AQ317<>Worktags!AS317,Worktags!AQ317,\"\")","v":"SC5940"},{"$f":"IFERROR(VLOOKUP(B831,Worktags!AL:AO,2,FALSE),\"\")","v":"Benefits"},{"$f":"IFERROR(VLOOKUP(C831,Worktags!O:T,2,FALSE),\"\")","v":"Staff Non-Exempt Benefits"},"All"]
[{"$f":"IF(B832<>\"\",IF(C832<>\"\",B832&\"_\"&C832&\" \"&D832&\"/\"&E832,B832&\" \"&D832),\"\")","v":"5900_SC5945 Benefits/Staff Non-Exempt Overtime/Premium Benefits"},{"$f":"Worktags!AS318","v":"5900"},{"$f":"IF(Worktags!AQ318<>Worktags!AS318,Worktags!AQ318,\"\")","v":"SC5945"},{"$f":"IFERROR(VLOOKUP(B832,Worktags!AL:AO,2,FALSE),\"\")","v":"Benefits"},{"$f":"IFERROR(VLOOKUP(C832,Worktags!O:T,2,FALSE),\"\")","v":"Staff Non-Exempt Overtime/Premium Benefits"},"All"]
[{"$f":"IF(B833<>\"\",IF(C833<>\"\",B833&\"_\"&C833&\" \"&D833&\"/\"&E833,B833&\" \"&D833),\"\")","v":"5900_SC5950 Benefits/Student Benefits"},{"$f":"Worktags!AS319","v":"5900"},{"$f":"IF(Worktags!AQ319<>Worktags!AS319,Worktags!AQ319,\"\")","v":"SC5950"},{"$f":"IFERROR(VLOOKUP(B833,Worktags!AL:AO,2,FALSE),\"\")","v":"Benefits"},{"$f":"IFERROR(VLOOKUP(C833,Worktags!O:T,2,FALSE),\"\")","v":"Student Benefits"},"All"]
[{"$f":"IF(B834<>\"\",IF(C834<>\"\",B834&\"_\"&C834&\" \"&D834&\"/\"&E834,B834&\" \"&D834),\"\")","v":"5900_SC5970 Benefits/Part-time Benefits"},{"$f":"Worktags!AS320","v":"5900"},{"$f":"IF(Worktags!AQ320<>Worktags!AS320,Worktags!AQ320,\"\")","v":"SC5970"},{"$f":"IFERROR(VLOOKUP(B834,Worktags!AL:AO,2,FALSE),\"\")","v":"Benefits"},{"$f":"IFERROR(VLOOKUP(C834,Worktags!O:T,2,FALSE),\"\")","v":"Part-time Benefits"},"All"]
[{"$f":"IF(B835<>\"\",IF(C835<>\"\",B835&\"_\"&C835&\" \"&D835&\"/\"&E835,B835&\" \"&D835),\"\")","v":"5900_SC5990 Benefits/Other Local/State Payroll Tax"},{"$f":"Worktags!AS321","v":"5900"},{"$f":"IF(Worktags!AQ321<>Worktags!AS321,Worktags!AQ321,\"\")","v":"SC5990"},{"$f":"IFERROR(VLOOKUP(B835,Worktags!AL:AO,2,FALSE),\"\")","v":"Benefits"},{"$f":"IFERROR(VLOOKUP(C835,Worktags!O:T,2,FALSE),\"\")","v":"Other Local/State Payroll Tax"},"All"]
[{"$f":"IF(B836<>\"\",IF(C836<>\"\",B836&\"_\"&C836&\" \"&D836&\"/\"&E836,B836&\" \"&D836),\"\")","v":"5900_SC5995 Benefits/University Benefits-Payments"},{"$f":"Worktags!AS322","v":"5900"},{"$f":"IF(Worktags!AQ322<>Worktags!AS322,Worktags!AQ322,\"\")","v":"SC5995"},{"$f":"IFERROR(VLOOKUP(B836,Worktags!AL:AO,2,FALSE),\"\")","v":"Benefits"},{"$f":"IFERROR(VLOOKUP(C836,Worktags!O:T,2,FALSE),\"\")","v":"University Benefits-Payments"},"All"]
[{"$f":"IF(B837<>\"\",IF(C837<>\"\",B837&\"_\"&C837&\" \"&D837&\"/\"&E837,B837&\" \"&D837),\"\")","v":"5900_SC5998 Benefits/FICA Clearing (Payroll System Only)"},{"$f":"Worktags!AS323","v":"5900"},{"$f":"IF(Worktags!AQ323<>Worktags!AS323,Worktags!AQ323,\"\")","v":"SC5998"},{"$f":"IFERROR(VLOOKUP(B837,Worktags!AL:AO,2,FALSE),\"\")","v":"Benefits"},{"$f":"IFERROR(VLOOKUP(C837,Worktags!O:T,2,FALSE),\"\")","v":"FICA Clearing (Payroll System Only)"},"All"]
[{"$f":"IF(B838<>\"\",IF(C838<>\"\",B838&\"_\"&C838&\" \"&D838&\"/\"&E838,B838&\" \"&D838),\"\")","v":"5900_SC5999 Benefits/Benefits (reclass)"},{"$f":"Worktags!AS324","v":"5900"},{"$f":"IF(Worktags!AQ324<>Worktags!AS324,Worktags!AQ324,\"\")","v":"SC5999"},{"$f":"IFERROR(VLOOKUP(B838,Worktags!AL:AO,2,FALSE),\"\")","v":"Benefits"},{"$f":"IFERROR(VLOOKUP(C838,Worktags!O:T,2,FALSE),\"\")","v":"Benefits (reclass)"},"All"]
[{"$f":"IF(B839<>\"\",IF(C839<>\"\",B839&\"_\"&C839&\" \"&D839&\"/\"&E839,B839&\" \"&D839),\"\")","v":"6100 Materials and Supplies"},{"$f":"Worktags!AL131","v":"6100"},null,{"$f":"IFERROR(VLOOKUP(B839,Worktags!AL:AO,2,FALSE),\"\")","v":"Materials and Supplies"},null,"All"]
[{"$f":"IF(B840<>\"\",IF(C840<>\"\",B840&\"_\"&C840&\" \"&D840&\"/\"&E840,B840&\" \"&D840),\"\")","v":"6100_SC0610 Materials and Supplies/Materials and Supplies (Budget Only)"},{"$f":"Worktags!AS208","v":"6100"},{"$f":"IF(Worktags!AQ208<>Worktags!AS208,Worktags!AQ208,\"\")","v":"SC0610"},{"$f":"IFERROR(VLOOKUP(B840,Worktags!AL:AO,2,FALSE),\"\")","v":"Materials and Supplies"},{"$f":"IFERROR(VLOOKUP(C840,Worktags!O:T,2,FALSE),\"\")","v":"Materials and Supplies (Budget Only)"},"All"]
[{"$f":"IF(B841<>\"\",IF(C841<>\"\",B841&\"_\"&C841&\" \"&D841&\"/\"&E841,B841&\" \"&D841),\"\")","v":"6100_SC6101 Materials and Supplies/Animal Supplies"},{"$f":"Worktags!AS326","v":"6100"},{"$f":"IF(Worktags!AQ326<>Worktags!AS326,Worktags!AQ326,\"\")","v":"SC6101"},{"$f":"IFERROR(VLOOKUP(B841,Worktags!AL:AO,2,FALSE),\"\")","v":"Materials and Supplies"},{"$f":"IFERROR(VLOOKUP(C841,Worktags!O:T,2,FALSE),\"\")","v":"Animal Supplies"},"All"]
[{"$f":"IF(B842<>\"\",IF(C842<>\"\",B842&\"_\"&C842&\" \"&D842&\"/\"&E842,B842&\" \"&D842),\"\")","v":"6100_SC6102 Materials and Supplies/Animals"},{"$f":"Worktags!AS328","v":"6100"},{"$f":"IF(Worktags!AQ328<>Worktags!AS328,Worktags!AQ328,\"\")","v":"SC6102"},{"$f":"IFERROR(VLOOKUP(B842,Worktags!AL:AO,2,FALSE),\"\")","v":"Materials and Supplies"},{"$f":"IFERROR(VLOOKUP(C842,Worktags!O:T,2,FALSE),\"\")","v":"Animals"},"All"]
[{"$f":"IF(B843<>\"\",IF(C843<>\"\",B843&\"_\"&C843&\" \"&D843&\"/\"&E843,B843&\" \"&D843),\"\")","v":"6100_SC6103 Materials and Supplies/Art"},{"$f":"Worktags!AS330","v":"6100"},{"$f":"IF(Worktags!AQ330<>Worktags!AS330,Worktags!AQ330,\"\")","v":"SC6103"},{"$f":"IFERROR(VLOOKUP(B843,Worktags!AL:AO,2,FALSE),\"\")","v":"Materials and Supplies"},{"$f":"IFERROR(VLOOKUP(C843,Worktags!O:T,2,FALSE),\"\")","v":"Art"},"All"]
[{"$f":"IF(B844<>\"\",IF(C844<>\"\",B844&\"_\"&C844&\" \"&D844&\"/\"&E844,B844&\" \"&D844),\"\")","v":"6100_SC6104 Materials and Supplies/Art Supplies"},{"$f":"Worktags!AS332","v":"6100"},{"$f":"IF(Worktags!AQ332<>Worktags!AS332,Worktags!AQ332,\"\")","v":"SC6104"},{"$f":"IFERROR(VLOOKUP(B844,Worktags!AL:AO,2,FALSE),\"\")","v":"Materials and Supplies"},{"$f":"IFERROR(VLOOKUP(C844,Worktags!O:T,2,FALSE),\"\")","v":"Art Supplies"},"All"]
[{"$f":"IF(B845<>\"\",IF(C845<>\"\",B845&\"_\"&C845&\" \"&D845&\"/\"&E845,B845&\" \"&D845),\"\")","v":"6100_SC6105 Materials and Supplies/Athletic Supplies"},{"$f":"Worktags!AS334","v":"6100"},{"$f":"IF(Worktags!AQ334<>Worktags!AS334,Worktags!AQ334,\"\")","v":"SC6105"},{"$f":"IFERROR(VLOOKUP(B845,Worktags!AL:AO,2,FALSE),\"\")","v":"Materials and Supplies"},{"$f":"IFERROR(VLOOKUP(C845,Worktags!O:T,2,FALSE),\"\")","v":"Athletic Supplies"},"All"]
[{"$f":"IF(B846<>\"\",IF(C846<>\"\",B846&\"_\"&C846&\" \"&D846&\"/\"&E846,B846&\" \"&D846),\"\")","v":"6100_SC6106 Materials and Supplies/Audio Visual Supplies"},{"$f":"Worktags!AS339","v":"6100"},{"$f":"IF(Worktags!AQ339<>Worktags!AS339,Worktags!AQ339,\"\")","v":"SC6106"},{"$f":"IFERROR(VLOOKUP(B846,Worktags!AL:AO,2,FALSE),\"\")","v":"Materials and Supplies"},{"$f":"IFERROR(VLOOKUP(C846,Worktags!O:T,2,FALSE),\"\")","v":"Audio Visual Supplies"},"All"]
[{"$f":"IF(B847<>\"\",IF(C847<>\"\",B847&\"_\"&C847&\" \"&D847&\"/\"&E847,B847&\" \"&D847),\"\")","v":"6100_SC6107 Materials and Supplies/Clothing, Uniforms, Linens"},{"$f":"Worktags!AS343","v":"6100"},{"$f":"IF(Worktags!AQ343<>Worktags!AS343,Worktags!AQ343,\"\")","v":"SC6107"},{"$f":"IFERROR(VLOOKUP(B847,Worktags!AL:AO,2,FALSE),\"\")","v":"Materials and Supplies"},{"$f":"IFERROR(VLOOKUP(C847,Worktags!O:T,2,FALSE),\"\")","v":"Clothing, Uniforms, Linens"},"All"]
[{"$f":"IF(B848<>\"\",IF(C848<>\"\",B848&\"_\"&C848&\" \"&D848&\"/\"&E848,B848&\" \"&D848),\"\")","v":"6100_SC6108 Materials and Supplies/Data Network Supplies"},{"$f":"Worktags!AS348","v":"6100"},{"$f":"IF(Worktags!AQ348<>Worktags!AS348,Worktags!AQ348,\"\")","v":"SC6108"},{"$f":"IFERROR(VLOOKUP(B848,Worktags!AL:AO,2,FALSE),\"\")","v":"Materials and Supplies"},{"$f":"IFERROR(VLOOKUP(C848,Worktags!O:T,2,FALSE),\"\")","v":"Data Network Supplies"},"All"]
[{"$f":"IF(B849<>\"\",IF(C849<>\"\",B849&\"_\"&C849&\" \"&D849&\"/\"&E849,B849&\" \"&D849),\"\")","v":"6100_SC6109 Materials and Supplies/Floral Supplies"},{"$f":"Worktags!AS350","v":"6100"},{"$f":"IF(Worktags!AQ350<>Worktags!AS350,Worktags!AQ350,\"\")","v":"SC6109"},{"$f":"IFERROR(VLOOKUP(B849,Worktags!AL:AO,2,FALSE),\"\")","v":"Materials and Supplies"},{"$f":"IFERROR(VLOOKUP(C849,Worktags!O:T,2,FALSE),\"\")","v":"Floral Supplies"},"All"]
[{"$f":"IF(B850<>\"\",IF(C850<>\"\",B850&\"_\"&C850&\" \"&D850&\"/\"&E850,B850&\" \"&D850),\"\")","v":"6100_SC6110 Materials and Supplies/Food and Beverages"},{"$f":"Worktags!AS354","v":"6100"},{"$f":"IF(Worktags!AQ354<>Worktags!AS354,Worktags!AQ354,\"\")","v":"SC6110"},{"$f":"IFERROR(VLOOKUP(B850,Worktags!AL:AO,2,FALSE),\"\")","v":"Materials and Supplies"},{"$f":"IFERROR(VLOOKUP(C850,Worktags!O:T,2,FALSE),\"\")","v":"Food and Beverages"},"All"]
[{"$f":"IF(B851<>\"\",IF(C851<>\"\",B851&\"_\"&C851&\" \"&D851&\"/\"&E851,B851&\" \"&D851),\"\")","v":"6100_SC6111 Materials and Supplies/Food Service Disposables"},{"$f":"Worktags!AS358","v":"6100"},{"$f":"IF(Worktags!AQ358<>Worktags!AS358,Worktags!AQ358,\"\")","v":"SC6111"},{"$f":"IFERROR(VLOOKUP(B851,Worktags!AL:AO,2,FALSE),\"\")","v":"Materials and Supplies"},{"$f":"IFERROR(VLOOKUP(C851,Worktags!O:T,2,FALSE),\"\")","v":"Food Service Disposables"},"All"]
[{"$f":"IF(B852<>\"\",IF(C852<>\"\",B852&\"_\"&C852&\" \"&D852&\"/\"&E852,B852&\" \"&D852),\"\")","v":"6100_SC6112 Materials and Supplies/Food Service Supplies"},{"$f":"Worktags!AS360","v":"6100"},{"$f":"IF(Worktags!AQ360<>Worktags!AS360,Worktags!AQ360,\"\")","v":"SC6112"},{"$f":"IFERROR(VLOOKUP(B852,Worktags!AL:AO,2,FALSE),\"\")","v":"Materials and Supplies"},{"$f":"IFERROR(VLOOKUP(C852,Worktags!O:T,2,FALSE),\"\")","v":"Food Service Supplies"},"All"]
[{"$f":"IF(B853<>\"\",IF(C853<>\"\",B853&\"_\"&C853&\" \"&D853&\"/\"&E853,B853&\" \"&D853),\"\")","v":"6100_SC6113 Materials and Supplies/Fuel"},{"$f":"Worktags!AS362","v":"6100"},{"$f":"IF(Worktags!AQ362<>Worktags!AS362,Worktags!AQ362,\"\")","v":"SC6113"},{"$f":"IFERROR(VLOOKUP(B853,Worktags!AL:AO,2,FALSE),\"\")","v":"Materials and Supplies"},{"$f":"IFERROR(VLOOKUP(C853,Worktags!O:T,2,FALSE),\"\")","v":"Fuel"},"All"]
[{"$f":"IF(B854<>\"\",IF(C854<>\"\",B854&\"_\"&C854&\" \"&D854&\"/\"&E854,B854&\" \"&D854),\"\")","v":"6100_SC6114 Materials and Supplies/Hazardous Chemicals"},{"$f":"Worktags!AS366","v":"6100"},{"$f":"IF(Worktags!AQ366<>Worktags!AS366,Worktags!AQ366,\"\")","v":"SC6114"},{"$f":"IFERROR(VLOOKUP(B854,Worktags!AL:AO,2,FALSE),\"\")","v":"Materials and Supplies"},{"$f":"IFERROR(VLOOKUP(C854,Worktags!O:T,2,FALSE),\"\")","v":"Hazardous Chemicals"},"All"]
[{"$f":"IF(B855<>\"\",IF(C855<>\"\",B855&\"_\"&C855&\" \"&D855&\"/\"&E855,B855&\" \"&D855),\"\")","v":"6100_SC6115 Materials and Supplies/Janitorial Supplies"},{"$f":"Worktags!AS368","v":"6100"},{"$f":"IF(Worktags!AQ368<>Worktags!AS368,Worktags!AQ368,\"\")","v":"SC6115"},{"$f":"IFERROR(VLOOKUP(B855,Worktags!AL:AO,2,FALSE),\"\")","v":"Materials and Supplies"},{"$f":"IFERROR(VLOOKUP(C855,Worktags!O:T,2,FALSE),\"\")","v":"Janitorial Supplies"},"All"]
[{"$f":"IF(B856<>\"\",IF(C856<>\"\",B856&\"_\"&C856&\" \"&D856&\"/\"&E856,B856&\" \"&D856),\"\")","v":"6100_SC6116 Materials and Supplies/Laundry Supplies"},{"$f":"Worktags!AS370","v":"6100"},{"$f":"IF(Worktags!AQ370<>Worktags!AS370,Worktags!AQ370,\"\")","v":"SC6116"},{"$f":"IFERROR(VLOOKUP(B856,Worktags!AL:AO,2,FALSE),\"\")","v":"Materials and Supplies"},{"$f":"IFERROR(VLOOKUP(C856,Worktags!O:T,2,FALSE),\"\")","v":"Laundry Supplies"},"All"]
[{"$f":"IF(B857<>\"\",IF(C857<>\"\",B857&\"_\"&C857&\" \"&D857&\"/\"&E857,B857&\" \"&D857),\"\")","v":"6100_SC6117 Materials and Supplies/Medical Supplies"},{"$f":"Worktags!AS372","v":"6100"},{"$f":"IF(Worktags!AQ372<>Worktags!AS372,Worktags!AQ372,\"\")","v":"SC6117"},{"$f":"IFERROR(VLOOKUP(B857,Worktags!AL:AO,2,FALSE),\"\")","v":"Materials and Supplies"},{"$f":"IFERROR(VLOOKUP(C857,Worktags!O:T,2,FALSE),\"\")","v":"Medical Supplies"},"All"]
[{"$f":"IF(B858<>\"\",IF(C858<>\"\",B858&\"_\"&C858&\" \"&D858&\"/\"&E858,B858&\" \"&D858),\"\")","v":"6100_SC6118 Materials and Supplies/Musical Instrument Supplies"},{"$f":"Worktags!AS374","v":"6100"},{"$f":"IF(Worktags!AQ374<>Worktags!AS374,Worktags!AQ374,\"\")","v":"SC6118"},{"$f":"IFERROR(VLOOKUP(B858,Worktags!AL:AO,2,FALSE),\"\")","v":"Materials and Supplies"},{"$f":"IFERROR(VLOOKUP(C858,Worktags!O:T,2,FALSE),\"\")","v":"Musical Instrument Supplies"},"All"]
[{"$f":"IF(B859<>\"\",IF(C859<>\"\",B859&\"_\"&C859&\" \"&D859&\"/\"&E859,B859&\" \"&D859),\"\")","v":"6100_SC6119 Materials and Supplies/Office Supplies"},{"$f":"Worktags!AS378","v":"6100"},{"$f":"IF(Worktags!AQ378<>Worktags!AS378,Worktags!AQ378,\"\")","v":"SC6119"},{"$f":"IFERROR(VLOOKUP(B859,Worktags!AL:AO,2,FALSE),\"\")","v":"Materials and Supplies"},{"$f":"IFERROR(VLOOKUP(C859,Worktags!O:T,2,FALSE),\"\")","v":"Office Supplies"},"All"]
[{"$f":"IF(B860<>\"\",IF(C860<>\"\",B860&\"_\"&C860&\" \"&D860&\"/\"&E860,B860&\" \"&D860),\"\")","v":"6100_SC6120 Materials and Supplies/Other Expense"},{"$f":"Worktags!AS380","v":"6100"},{"$f":"IF(Worktags!AQ380<>Worktags!AS380,Worktags!AQ380,\"\")","v":"SC6120"},{"$f":"IFERROR(VLOOKUP(B860,Worktags!AL:AO,2,FALSE),\"\")","v":"Materials and Supplies"},{"$f":"IFERROR(VLOOKUP(C860,Worktags!O:T,2,FALSE),\"\")","v":"Other Expense"},"All"]
[{"$f":"IF(B861<>\"\",IF(C861<>\"\",B861&\"_\"&C861&\" \"&D861&\"/\"&E861,B861&\" \"&D861),\"\")","v":"6100_SC6121 Materials and Supplies/Packaging"},{"$f":"Worktags!AS384","v":"6100"},{"$f":"IF(Worktags!AQ384<>Worktags!AS384,Worktags!AQ384,\"\")","v":"SC6121"},{"$f":"IFERROR(VLOOKUP(B861,Worktags!AL:AO,2,FALSE),\"\")","v":"Materials and Supplies"},{"$f":"IFERROR(VLOOKUP(C861,Worktags!O:T,2,FALSE),\"\")","v":"Packaging"},""]
[{"$f":"IF(B862<>\"\",IF(C862<>\"\",B862&\"_\"&C862&\" \"&D862&\"/\"&E862,B862&\" \"&D862),\"\")","v":"6100_SC6122 Materials and Supplies/Paper"},{"$f":"Worktags!AS386","v":"6100"},{"$f":"IF(Worktags!AQ386<>Worktags!AS386,Worktags!AQ386,\"\")","v":"SC6122"},{"$f":"IFERROR(VLOOKUP(B862,Worktags!AL:AO,2,FALSE),\"\")","v":"Materials and Supplies"},{"$f":"IFERROR(VLOOKUP(C862,Worktags!O:T,2,FALSE),\"\")","v":"Paper"},"JE_Override"]
[{"$f":"IF(B863<>\"\",IF(C863<>\"\",B863&\"_\"&C863&\" \"&D863&\"/\"&E863,B863&\" \"&D863),\"\")","v":"6100_SC6123 Materials and Supplies/Photography Supplies"},{"$f":"Worktags!AS388","v":"6100"},{"$f":"IF(Worktags!AQ388<>Worktags!AS388,Worktags!AQ388,\"\")","v":"SC6123"},{"$f":"IFERROR(VLOOKUP(B863,Worktags!AL:AO,2,FALSE),\"\")","v":"Materials and Supplies"},{"$f":"IFERROR(VLOOKUP(C863,Worktags!O:T,2,FALSE),\"\")","v":"Photography Supplies"},"All"]
[{"$f":"IF(B864<>\"\",IF(C864<>\"\",B864&\"_\"&C864&\" \"&D864&\"/\"&E864,B864&\" \"&D864),\"\")","v":"6100_SC6124 Materials and Supplies/Printed Media"},{"$f":"Worktags!AS390","v":"6100"},{"$f":"IF(Worktags!AQ390<>Worktags!AS390,Worktags!AQ390,\"\")","v":"SC6124"},{"$f":"IFERROR(VLOOKUP(B864,Worktags!AL:AO,2,FALSE),\"\")","v":"Materials and Supplies"},{"$f":"IFERROR(VLOOKUP(C864,Worktags!O:T,2,FALSE),\"\")","v":"Printed Media"},"All"]
[{"$f":"IF(B865<>\"\",IF(C865<>\"\",B865&\"_\"&C865&\" \"&D865&\"/\"&E865,B865&\" \"&D865),\"\")","v":"6100_SC6125 Materials and Supplies/Printing Supplies"},{"$f":"Worktags!AS394","v":"6100"},{"$f":"IF(Worktags!AQ394<>Worktags!AS394,Worktags!AQ394,\"\")","v":"SC6125"},{"$f":"IFERROR(VLOOKUP(B865,Worktags!AL:AO,2,FALSE),\"\")","v":"Materials and Supplies"},{"$f":"IFERROR(VLOOKUP(C865,Worktags!O:T,2,FALSE),\"\")","v":"Printing Supplies"},"All"]
[{"$f":"IF(B866<>\"\",IF(C866<>\"\",B866&\"_\"&C866&\" \"&D866&\"/\"&E866,B866&\" \"&D866),\"\")","v":"6100_SC6126 Materials and Supplies/Scientific and Engineering Supplies"},{"$f":"Worktags!AS398","v":"6100"},{"$f":"IF(Worktags!AQ398<>Worktags!AS398,Worktags!AQ398,\"\")","v":"SC6126"},{"$f":"IFERROR(VLOOKUP(B866,Worktags!AL:AO,2,FALSE),\"\")","v":"Materials and Supplies"},{"$f":"IFERROR(VLOOKUP(C866,Worktags!O:T,2,FALSE),\"\")","v":"Scientific and Engineering Supplies"},"All"]
[{"$f":"IF(B867<>\"\",IF(C867<>\"\",B867&\"_\"&C867&\" \"&D867&\"/\"&E867,B867&\" \"&D867),\"\")","v":"6100_SC6127 Materials and Supplies/Special Collections"},{"$f":"Worktags!AS400","v":"6100"},{"$f":"IF(Worktags!AQ400<>Worktags!AS400,Worktags!AQ400,\"\")","v":"SC6127"},{"$f":"IFERROR(VLOOKUP(B867,Worktags!AL:AO,2,FALSE),\"\")","v":"Materials and Supplies"},{"$f":"IFERROR(VLOOKUP(C867,Worktags!O:T,2,FALSE),\"\")","v":"Special Collections"},"All"]
[{"$f":"IF(B868<>\"\",IF(C868<>\"\",B868&\"_\"&C868&\" \"&D868&\"/\"&E868,B868&\" \"&D868),\"\")","v":"6100_SC6128 Materials and Supplies/Special Collections Sales Proceeds"},{"$f":"Worktags!AS401","v":"6100"},{"$f":"IF(Worktags!AQ401<>Worktags!AS401,Worktags!AQ401,\"\")","v":"SC6128"},{"$f":"IFERROR(VLOOKUP(B868,Worktags!AL:AO,2,FALSE),\"\")","v":"Materials and Supplies"},{"$f":"IFERROR(VLOOKUP(C868,Worktags!O:T,2,FALSE),\"\")","v":"Special Collections Sales Proceeds"},"All"]
[{"$f":"IF(B869<>\"\",IF(C869<>\"\",B869&\"_\"&C869&\" \"&D869&\"/\"&E869,B869&\" \"&D869),\"\")","v":"6100_SC6129 Materials and Supplies/Supplies (not otherwise specified)"},{"$f":"Worktags!AS406","v":"6100"},{"$f":"IF(Worktags!AQ406<>Worktags!AS406,Worktags!AQ406,\"\")","v":"SC6129"},{"$f":"IFERROR(VLOOKUP(B869,Worktags!AL:AO,2,FALSE),\"\")","v":"Materials and Supplies"},{"$f":"IFERROR(VLOOKUP(C869,Worktags!O:T,2,FALSE),\"\")","v":"Supplies (not otherwise specified)"},"All"]
[{"$f":"IF(B870<>\"\",IF(C870<>\"\",B870&\"_\"&C870&\" \"&D870&\"/\"&E870,B870&\" \"&D870),\"\")","v":"6100_SC6130 Materials and Supplies/Teaching Supplies"},{"$f":"Worktags!AS408","v":"6100"},{"$f":"IF(Worktags!AQ408<>Worktags!AS408,Worktags!AQ408,\"\")","v":"SC6130"},{"$f":"IFERROR(VLOOKUP(B870,Worktags!AL:AO,2,FALSE),\"\")","v":"Materials and Supplies"},{"$f":"IFERROR(VLOOKUP(C870,Worktags!O:T,2,FALSE),\"\")","v":"Teaching Supplies"},"All"]
[{"$f":"IF(B871<>\"\",IF(C871<>\"\",B871&\"_\"&C871&\" \"&D871&\"/\"&E871,B871&\" \"&D871),\"\")","v":"6100_SC6131 Materials and Supplies/Telecom Supplies"},{"$f":"Worktags!AS413","v":"6100"},{"$f":"IF(Worktags!AQ413<>Worktags!AS413,Worktags!AQ413,\"\")","v":"SC6131"},{"$f":"IFERROR(VLOOKUP(B871,Worktags!AL:AO,2,FALSE),\"\")","v":"Materials and Supplies"},{"$f":"IFERROR(VLOOKUP(C871,Worktags!O:T,2,FALSE),\"\")","v":"Telecom Supplies"},"All"]
[{"$f":"IF(B872<>\"\",IF(C872<>\"\",B872&\"_\"&C872&\" \"&D872&\"/\"&E872,B872&\" \"&D872),\"\")","v":"6100_SC6132 Materials and Supplies/Vehicle Supplies"},{"$f":"Worktags!AS415","v":"6100"},{"$f":"IF(Worktags!AQ415<>Worktags!AS415,Worktags!AQ415,\"\")","v":"SC6132"},{"$f":"IFERROR(VLOOKUP(B872,Worktags!AL:AO,2,FALSE),\"\")","v":"Materials and Supplies"},{"$f":"IFERROR(VLOOKUP(C872,Worktags!O:T,2,FALSE),\"\")","v":"Vehicle Supplies"},""]
[{"$f":"IF(B873<>\"\",IF(C873<>\"\",B873&\"_\"&C873&\" \"&D873&\"/\"&E873,B873&\" \"&D873),\"\")","v":"6100_SC6133 Materials and Supplies/Lab Gases and Cryogenics"},{"$f":"Worktags!AS419","v":"6100"},{"$f":"IF(Worktags!AQ419<>Worktags!AS419,Worktags!AQ419,\"\")","v":"SC6133"},{"$f":"IFERROR(VLOOKUP(B873,Worktags!AL:AO,2,FALSE),\"\")","v":"Materials and Supplies"},{"$f":"IFERROR(VLOOKUP(C873,Worktags!O:T,2,FALSE),\"\")","v":"Lab Gases and Cryogenics"},"All"]
[{"$f":"IF(B874<>\"\",IF(C874<>\"\",B874&\"_\"&C874&\" \"&D874&\"/\"&E874,B874&\" \"&D874),\"\")","v":"6100_SC6199 Materials and Supplies/Materials and Supplies (reclass)"},{"$f":"Worktags!AS423","v":"6100"},{"$f":"IF(Worktags!AQ423<>Worktags!AS423,Worktags!AQ423,\"\")","v":"SC6199"},{"$f":"IFERROR(VLOOKUP(B874,Worktags!AL:AO,2,FALSE),\"\")","v":"Materials and Supplies"},{"$f":"IFERROR(VLOOKUP(C874,Worktags!O:T,2,FALSE),\"\")","v":"Materials and Supplies (reclass)"},"All"]
[{"$f":"IF(B875<>\"\",IF(C875<>\"\",B875&\"_\"&C875&\" \"&D875&\"/\"&E875,B875&\" \"&D875),\"\")","v":"6300 Student Aid"},{"$f":"Worktags!AL132","v":"6300"},null,{"$f":"IFERROR(VLOOKUP(B875,Worktags!AL:AO,2,FALSE),\"\")","v":"Student Aid"},null,"JE_Override"]
[{"$f":"IF(B876<>\"\",IF(C876<>\"\",B876&\"_\"&C876&\" \"&D876&\"/\"&E876,B876&\" \"&D876),\"\")","v":"6300_SC0630 Student Aid/Student Aid (Budget Only)"},{"$f":"Worktags!AS209","v":"6300"},{"$f":"IF(Worktags!AQ209<>Worktags!AS209,Worktags!AQ209,\"\")","v":"SC0630"},{"$f":"IFERROR(VLOOKUP(B876,Worktags!AL:AO,2,FALSE),\"\")","v":"Student Aid"},{"$f":"IFERROR(VLOOKUP(C876,Worktags!O:T,2,FALSE),\"\")","v":"Student Aid (Budget Only)"},"All"]
[{"$f":"IF(B877<>\"\",IF(C877<>\"\",B877&\"_\"&C877&\" \"&D877&\"/\"&E877,B877&\" \"&D877),\"\")","v":"6300_SC6301 Student Aid/Scholarships"},{"$f":"Worktags!AS424","v":"6300"},{"$f":"IF(Worktags!AQ424<>Worktags!AS424,Worktags!AQ424,\"\")","v":"SC6301"},{"$f":"IFERROR(VLOOKUP(B877,Worktags!AL:AO,2,FALSE),\"\")","v":"Student Aid"},{"$f":"IFERROR(VLOOKUP(C877,Worktags!O:T,2,FALSE),\"\")","v":"Scholarships"},"All"]
[{"$f":"IF(B878<>\"\",IF(C878<>\"\",B878&\"_\"&C878&\" \"&D878&\"/\"&E878,B878&\" \"&D878),\"\")","v":"6300_SC6302 Student Aid/Graduate Fellowship"},{"$f":"Worktags!AS425","v":"6300"},{"$f":"IF(Worktags!AQ425<>Worktags!AS425,Worktags!AQ425,\"\")","v":"SC6302"},{"$f":"IFERROR(VLOOKUP(B878,Worktags!AL:AO,2,FALSE),\"\")","v":"Student Aid"},{"$f":"IFERROR(VLOOKUP(C878,Worktags!O:T,2,FALSE),\"\")","v":"Graduate Fellowship"},"All"]
[{"$f":"IF(B879<>\"\",IF(C879<>\"\",B879&\"_\"&C879&\" \"&D879&\"/\"&E879,B879&\" \"&D879),\"\")","v":"6300_SC6303 Student Aid/Grant"},{"$f":"Worktags!AS426","v":"6300"},{"$f":"IF(Worktags!AQ426<>Worktags!AS426,Worktags!AQ426,\"\")","v":"SC6303"},{"$f":"IFERROR(VLOOKUP(B879,Worktags!AL:AO,2,FALSE),\"\")","v":"Student Aid"},{"$f":"IFERROR(VLOOKUP(C879,Worktags!O:T,2,FALSE),\"\")","v":"Grant"},"All"]
[{"$f":"IF(B880<>\"\",IF(C880<>\"\",B880&\"_\"&C880&\" \"&D880&\"/\"&E880,B880&\" \"&D880),\"\")","v":"6300_SC6304 Student Aid/Leadership Award"},{"$f":"Worktags!AS427","v":"6300"},{"$f":"IF(Worktags!AQ427<>Worktags!AS427,Worktags!AQ427,\"\")","v":"SC6304"},{"$f":"IFERROR(VLOOKUP(B880,Worktags!AL:AO,2,FALSE),\"\")","v":"Student Aid"},{"$f":"IFERROR(VLOOKUP(C880,Worktags!O:T,2,FALSE),\"\")","v":"Leadership Award"},"All"]
[{"$f":"IF(B881<>\"\",IF(C881<>\"\",B881&\"_\"&C881&\" \"&D881&\"/\"&E881,B881&\" \"&D881),\"\")","v":"6300_SC6305 Student Aid/Tuition Assistance NonBYU Student"},{"$f":"Worktags!AS428","v":"6300"},{"$f":"IF(Worktags!AQ428<>Worktags!AS428,Worktags!AQ428,\"\")","v":"SC6305"},{"$f":"IFERROR(VLOOKUP(B881,Worktags!AL:AO,2,FALSE),\"\")","v":"Student Aid"},{"$f":"IFERROR(VLOOKUP(C881,Worktags!O:T,2,FALSE),\"\")","v":"Tuition Assistance NonBYU Student"},"All"]
[{"$f":"IF(B882<>\"\",IF(C882<>\"\",B882&\"_\"&C882&\" \"&D882&\"/\"&E882,B882&\" \"&D882),\"\")","v":"6300_SC6306 Student Aid/Employee Benefit Tuition Assistance"},{"$f":"Worktags!AS429","v":"6300"},{"$f":"IF(Worktags!AQ429<>Worktags!AS429,Worktags!AQ429,\"\")","v":"SC6306"},{"$f":"IFERROR(VLOOKUP(B882,Worktags!AL:AO,2,FALSE),\"\")","v":"Student Aid"},{"$f":"IFERROR(VLOOKUP(C882,Worktags!O:T,2,FALSE),\"\")","v":"Employee Benefit Tuition Assistance"},"All"]
[{"$f":"IF(B883<>\"\",IF(C883<>\"\",B883&\"_\"&C883&\" \"&D883&\"/\"&E883,B883&\" \"&D883),\"\")","v":"6300_SC6307 Student Aid/Other Student Aid"},{"$f":"Worktags!AS430","v":"6300"},{"$f":"IF(Worktags!AQ430<>Worktags!AS430,Worktags!AQ430,\"\")","v":"SC6307"},{"$f":"IFERROR(VLOOKUP(B883,Worktags!AL:AO,2,FALSE),\"\")","v":"Student Aid"},{"$f":"IFERROR(VLOOKUP(C883,Worktags!O:T,2,FALSE),\"\")","v":"Other Student Aid"},"All"]
[{"$f":"IF(B884<>\"\",IF(C884<>\"\",B884&\"_\"&C884&\" \"&D884&\"/\"&E884,B884&\" \"&D884),\"\")","v":"6300_SC6308 Student Aid/Research Fellowships"},{"$f":"Worktags!AS431","v":"6300"},{"$f":"IF(Worktags!AQ431<>Worktags!AS431,Worktags!AQ431,\"\")","v":"SC6308"},{"$f":"IFERROR(VLOOKUP(B884,Worktags!AL:AO,2,FALSE),\"\")","v":"Student Aid"},{"$f":"IFERROR(VLOOKUP(C884,Worktags!O:T,2,FALSE),\"\")","v":"Research Fellowships"},"All"]
[{"$f":"IF(B885<>\"\",IF(C885<>\"\",B885&\"_\"&C885&\" \"&D885&\"/\"&E885,B885&\" \"&D885),\"\")","v":"6300_SC6399 Student Aid/Student Aid (reclass)"},{"$f":"Worktags!AS432","v":"6300"},{"$f":"IF(Worktags!AQ432<>Worktags!AS432,Worktags!AQ432,\"\")","v":"SC6399"},{"$f":"IFERROR(VLOOKUP(B885,Worktags!AL:AO,2,FALSE),\"\")","v":"Student Aid"},{"$f":"IFERROR(VLOOKUP(C885,Worktags!O:T,2,FALSE),\"\")","v":"Student Aid (reclass)"},"All"]
[{"$f":"IF(B886<>\"\",IF(C886<>\"\",B886&\"_\"&C886&\" \"&D886&\"/\"&E886,B886&\" \"&D886),\"\")","v":"6400 General and Administrative"},{"$f":"Worktags!AL133","v":"6400"},null,{"$f":"IFERROR(VLOOKUP(B886,Worktags!AL:AO,2,FALSE),\"\")","v":"General and Administrative"},null,"All"]
[{"$f":"IF(B887<>\"\",IF(C887<>\"\",B887&\"_\"&C887&\" \"&D887&\"/\"&E887,B887&\" \"&D887),\"\")","v":"6400_RC6402 General and Administrative/"},{"$f":"Worktags!AS202","v":"6400"},{"$f":"IF(Worktags!AQ202<>Worktags!AS202,Worktags!AQ202,\"\")","v":"RC6402"},{"$f":"IFERROR(VLOOKUP(B887,Worktags!AL:AO,2,FALSE),\"\")","v":"General and Administrative"},{"$f":"IFERROR(VLOOKUP(C887,Worktags!O:T,2,FALSE),\"\")","v":""},"All"]
[{"$f":"IF(B888<>\"\",IF(C888<>\"\",B888&\"_\"&C888&\" \"&D888&\"/\"&E888,B888&\" \"&D888),\"\")","v":"6400_RC6403 General and Administrative/"},{"$f":"Worktags!AS203","v":"6400"},{"$f":"IF(Worktags!AQ203<>Worktags!AS203,Worktags!AQ203,\"\")","v":"RC6403"},{"$f":"IFERROR(VLOOKUP(B888,Worktags!AL:AO,2,FALSE),\"\")","v":"General and Administrative"},{"$f":"IFERROR(VLOOKUP(C888,Worktags!O:T,2,FALSE),\"\")","v":""},"All"]
[{"$f":"IF(B889<>\"\",IF(C889<>\"\",B889&\"_\"&C889&\" \"&D889&\"/\"&E889,B889&\" \"&D889),\"\")","v":"6400_SC0640 General and Administrative/General and Administrative (Budget Only)"},{"$f":"Worktags!AS210","v":"6400"},{"$f":"IF(Worktags!AQ210<>Worktags!AS210,Worktags!AQ210,\"\")","v":"SC0640"},{"$f":"IFERROR(VLOOKUP(B889,Worktags!AL:AO,2,FALSE),\"\")","v":"General and Administrative"},{"$f":"IFERROR(VLOOKUP(C889,Worktags!O:T,2,FALSE),\"\")","v":"General and Administrative (Budget Only)"},"All"]
[{"$f":"IF(B890<>\"\",IF(C890<>\"\",B890&\"_\"&C890&\" \"&D890&\"/\"&E890,B890&\" \"&D890),\"\")","v":"6400_SC6401 General and Administrative/Advertising"},{"$f":"Worktags!AS434","v":"6400"},{"$f":"IF(Worktags!AQ434<>Worktags!AS434,Worktags!AQ434,\"\")","v":"SC6401"},{"$f":"IFERROR(VLOOKUP(B890,Worktags!AL:AO,2,FALSE),\"\")","v":"General and Administrative"},{"$f":"IFERROR(VLOOKUP(C890,Worktags!O:T,2,FALSE),\"\")","v":"Advertising"},"All"]
[{"$f":"IF(B891<>\"\",IF(C891<>\"\",B891&\"_\"&C891&\" \"&D891&\"/\"&E891,B891&\" \"&D891),\"\")","v":"6400_SC6402 General and Administrative/Allocated Indirect Costs"},{"$f":"Worktags!AS435","v":"6400"},{"$f":"IF(Worktags!AQ435<>Worktags!AS435,Worktags!AQ435,\"\")","v":"SC6402"},{"$f":"IFERROR(VLOOKUP(B891,Worktags!AL:AO,2,FALSE),\"\")","v":"General and Administrative"},{"$f":"IFERROR(VLOOKUP(C891,Worktags!O:T,2,FALSE),\"\")","v":"Allocated Indirect Costs"},"All"]
[{"$f":"IF(B892<>\"\",IF(C892<>\"\",B892&\"_\"&C892&\" \"&D892&\"/\"&E892,B892&\" \"&D892),\"\")","v":"6400_SC6403 General and Administrative/Animal Services"},{"$f":"Worktags!AS437","v":"6400"},{"$f":"IF(Worktags!AQ437<>Worktags!AS437,Worktags!AQ437,\"\")","v":"SC6403"},{"$f":"IFERROR(VLOOKUP(B892,Worktags!AL:AO,2,FALSE),\"\")","v":"General and Administrative"},{"$f":"IFERROR(VLOOKUP(C892,Worktags!O:T,2,FALSE),\"\")","v":"Animal Services"},"All"]
[{"$f":"IF(B893<>\"\",IF(C893<>\"\",B893&\"_\"&C893&\" \"&D893&\"/\"&E893,B893&\" \"&D893),\"\")","v":"6400_SC6404 General and Administrative/Architectural or Engineering Services"},{"$f":"Worktags!AS441","v":"6400"},{"$f":"IF(Worktags!AQ441<>Worktags!AS441,Worktags!AQ441,\"\")","v":"SC6404"},{"$f":"IFERROR(VLOOKUP(B893,Worktags!AL:AO,2,FALSE),\"\")","v":"General and Administrative"},{"$f":"IFERROR(VLOOKUP(C893,Worktags!O:T,2,FALSE),\"\")","v":"Architectural or Engineering Services"},"All"]
[{"$f":"IF(B894<>\"\",IF(C894<>\"\",B894&\"_\"&C894&\" \"&D894&\"/\"&E894,B894&\" \"&D894),\"\")","v":"6400_SC6405 General and Administrative/Art, Design, and Photography Services"},{"$f":"Worktags!AS443","v":"6400"},{"$f":"IF(Worktags!AQ443<>Worktags!AS443,Worktags!AQ443,\"\")","v":"SC6405"},{"$f":"IFERROR(VLOOKUP(B894,Worktags!AL:AO,2,FALSE),\"\")","v":"General and Administrative"},{"$f":"IFERROR(VLOOKUP(C894,Worktags!O:T,2,FALSE),\"\")","v":"Art, Design, and Photography Services"},"All"]
[{"$f":"IF(B895<>\"\",IF(C895<>\"\",B895&\"_\"&C895&\" \"&D895&\"/\"&E895,B895&\" \"&D895),\"\")","v":"6400_SC6406 General and Administrative/Athletic Events"},{"$f":"Worktags!AS445","v":"6400"},{"$f":"IF(Worktags!AQ445<>Worktags!AS445,Worktags!AQ445,\"\")","v":"SC6406"},{"$f":"IFERROR(VLOOKUP(B895,Worktags!AL:AO,2,FALSE),\"\")","v":"General and Administrative"},{"$f":"IFERROR(VLOOKUP(C895,Worktags!O:T,2,FALSE),\"\")","v":"Athletic Events"},"All"]
[{"$f":"IF(B896<>\"\",IF(C896<>\"\",B896&\"_\"&C896&\" \"&D896&\"/\"&E896,B896&\" \"&D896),\"\")","v":"6400_SC6407 General and Administrative/Audio Visual Media Duplication"},{"$f":"Worktags!AS447","v":"6400"},{"$f":"IF(Worktags!AQ447<>Worktags!AS447,Worktags!AQ447,\"\")","v":"SC6407"},{"$f":"IFERROR(VLOOKUP(B896,Worktags!AL:AO,2,FALSE),\"\")","v":"General and Administrative"},{"$f":"IFERROR(VLOOKUP(C896,Worktags!O:T,2,FALSE),\"\")","v":"Audio Visual Media Duplication"},"All"]
[{"$f":"IF(B897<>\"\",IF(C897<>\"\",B897&\"_\"&C897&\" \"&D897&\"/\"&E897,B897&\" \"&D897),\"\")","v":"6400_SC6408 General and Administrative/Bank, Trust, Collection Fees"},{"$f":"Worktags!AS448","v":"6400"},{"$f":"IF(Worktags!AQ448<>Worktags!AS448,Worktags!AQ448,\"\")","v":"SC6408"},{"$f":"IFERROR(VLOOKUP(B897,Worktags!AL:AO,2,FALSE),\"\")","v":"General and Administrative"},{"$f":"IFERROR(VLOOKUP(C897,Worktags!O:T,2,FALSE),\"\")","v":"Bank, Trust, Collection Fees"},"All"]
[{"$f":"IF(B898<>\"\",IF(C898<>\"\",B898&\"_\"&C898&\" \"&D898&\"/\"&E898,B898&\" \"&D898),\"\")","v":"6400_SC6409 General and Administrative/Bad Debt Expense"},{"$f":"Worktags!AS449","v":"6400"},{"$f":"IF(Worktags!AQ449<>Worktags!AS449,Worktags!AQ449,\"\")","v":"SC6409"},{"$f":"IFERROR(VLOOKUP(B898,Worktags!AL:AO,2,FALSE),\"\")","v":"General and Administrative"},{"$f":"IFERROR(VLOOKUP(C898,Worktags!O:T,2,FALSE),\"\")","v":"Bad Debt Expense"},"All"]
[{"$f":"IF(B899<>\"\",IF(C899<>\"\",B899&\"_\"&C899&\" \"&D899&\"/\"&E899,B899&\" \"&D899),\"\")","v":"6400_SC6410 General and Administrative/Broadcast Services"},{"$f":"Worktags!AS451","v":"6400"},{"$f":"IF(Worktags!AQ451<>Worktags!AS451,Worktags!AQ451,\"\")","v":"SC6410"},{"$f":"IFERROR(VLOOKUP(B899,Worktags!AL:AO,2,FALSE),\"\")","v":"General and Administrative"},{"$f":"IFERROR(VLOOKUP(C899,Worktags!O:T,2,FALSE),\"\")","v":"Broadcast Services"},"All"]
[{"$f":"IF(B900<>\"\",IF(C900<>\"\",B900&\"_\"&C900&\" \"&D900&\"/\"&E900,B900&\" \"&D900),\"\")","v":"6400_SC6411 General and Administrative/Cash Prizes and Contest Payments"},{"$f":"Worktags!AS452","v":"6400"},{"$f":"IF(Worktags!AQ452<>Worktags!AS452,Worktags!AQ452,\"\")","v":"SC6411"},{"$f":"IFERROR(VLOOKUP(B900,Worktags!AL:AO,2,FALSE),\"\")","v":"General and Administrative"},{"$f":"IFERROR(VLOOKUP(C900,Worktags!O:T,2,FALSE),\"\")","v":"Cash Prizes and Contest Payments"},"All"]
[{"$f":"IF(B901<>\"\",IF(C901<>\"\",B901&\"_\"&C901&\" \"&D901&\"/\"&E901,B901&\" \"&D901),\"\")","v":"6400_SC6412 General and Administrative/Cell Phones and Plans"},{"$f":"Worktags!AS454","v":"6400"},{"$f":"IF(Worktags!AQ454<>Worktags!AS454,Worktags!AQ454,\"\")","v":"SC6412"},{"$f":"IFERROR(VLOOKUP(B901,Worktags!AL:AO,2,FALSE),\"\")","v":"General and Administrative"},{"$f":"IFERROR(VLOOKUP(C901,Worktags!O:T,2,FALSE),\"\")","v":"Cell Phones and Plans"},"All"]
[{"$f":"IF(B902<>\"\",IF(C902<>\"\",B902&\"_\"&C902&\" \"&D902&\"/\"&E902,B902&\" \"&D902),\"\")","v":"6400_SC6413 General and Administrative/Competition Officiating"},{"$f":"Worktags!AS456","v":"6400"},{"$f":"IF(Worktags!AQ456<>Worktags!AS456,Worktags!AQ456,\"\")","v":"SC6413"},{"$f":"IFERROR(VLOOKUP(B902,Worktags!AL:AO,2,FALSE),\"\")","v":"General and Administrative"},{"$f":"IFERROR(VLOOKUP(C902,Worktags!O:T,2,FALSE),\"\")","v":"Competition Officiating"},"All"]
[{"$f":"IF(B903<>\"\",IF(C903<>\"\",B903&\"_\"&C903&\" \"&D903&\"/\"&E903,B903&\" \"&D903),\"\")","v":"6400_SC6414 General and Administrative/Computer Services"},{"$f":"Worktags!AS460","v":"6400"},{"$f":"IF(Worktags!AQ460<>Worktags!AS460,Worktags!AQ460,\"\")","v":"SC6414"},{"$f":"IFERROR(VLOOKUP(B903,Worktags!AL:AO,2,FALSE),\"\")","v":"General and Administrative"},{"$f":"IFERROR(VLOOKUP(C903,Worktags!O:T,2,FALSE),\"\")","v":"Computer Services"},"All"]
[{"$f":"IF(B904<>\"\",IF(C904<>\"\",B904&\"_\"&C904&\" \"&D904&\"/\"&E904,B904&\" \"&D904),\"\")","v":"6400_SC6415 General and Administrative/Conference and Events Hosting"},{"$f":"Worktags!AS462","v":"6400"},{"$f":"IF(Worktags!AQ462<>Worktags!AS462,Worktags!AQ462,\"\")","v":"SC6415"},{"$f":"IFERROR(VLOOKUP(B904,Worktags!AL:AO,2,FALSE),\"\")","v":"General and Administrative"},{"$f":"IFERROR(VLOOKUP(C904,Worktags!O:T,2,FALSE),\"\")","v":"Conference and Events Hosting"},"All"]
[{"$f":"IF(B905<>\"\",IF(C905<>\"\",B905&\"_\"&C905&\" \"&D905&\"/\"&E905,B905&\" \"&D905),\"\")","v":"6400_SC6416 General and Administrative/Conference Registration"},{"$f":"Worktags!AS464","v":"6400"},{"$f":"IF(Worktags!AQ464<>Worktags!AS464,Worktags!AQ464,\"\")","v":"SC6416"},{"$f":"IFERROR(VLOOKUP(B905,Worktags!AL:AO,2,FALSE),\"\")","v":"General and Administrative"},{"$f":"IFERROR(VLOOKUP(C905,Worktags!O:T,2,FALSE),\"\")","v":"Conference Registration"},"All"]
[{"$f":"IF(B906<>\"\",IF(C906<>\"\",B906&\"_\"&C906&\" \"&D906&\"/\"&E906,B906&\" \"&D906),\"\")","v":"6400_SC6417 General and Administrative/Consulting - Financial and Research"},{"$f":"Worktags!AS466","v":"6400"},{"$f":"IF(Worktags!AQ466<>Worktags!AS466,Worktags!AQ466,\"\")","v":"SC6417"},{"$f":"IFERROR(VLOOKUP(B906,Worktags!AL:AO,2,FALSE),\"\")","v":"General and Administrative"},{"$f":"IFERROR(VLOOKUP(C906,Worktags!O:T,2,FALSE),\"\")","v":"Consulting - Financial and Research"},"All"]
[{"$f":"IF(B907<>\"\",IF(C907<>\"\",B907&\"_\"&C907&\" \"&D907&\"/\"&E907,B907&\" \"&D907),\"\")","v":"6400_SC6418 General and Administrative/Credit Card Merchant Fees"},{"$f":"Worktags!AS467","v":"6400"},{"$f":"IF(Worktags!AQ467<>Worktags!AS467,Worktags!AQ467,\"\")","v":"SC6418"},{"$f":"IFERROR(VLOOKUP(B907,Worktags!AL:AO,2,FALSE),\"\")","v":"General and Administrative"},{"$f":"IFERROR(VLOOKUP(C907,Worktags!O:T,2,FALSE),\"\")","v":"Credit Card Merchant Fees"},"All"]
[{"$f":"IF(B908<>\"\",IF(C908<>\"\",B908&\"_\"&C908&\" \"&D908&\"/\"&E908,B908&\" \"&D908),\"\")","v":"6400_SC6419 General and Administrative/Data Connectivity Services"},{"$f":"Worktags!AS469","v":"6400"},{"$f":"IF(Worktags!AQ469<>Worktags!AS469,Worktags!AQ469,\"\")","v":"SC6419"},{"$f":"IFERROR(VLOOKUP(B908,Worktags!AL:AO,2,FALSE),\"\")","v":"General and Administrative"},{"$f":"IFERROR(VLOOKUP(C908,Worktags!O:T,2,FALSE),\"\")","v":"Data Connectivity Services"},"All"]
[{"$f":"IF(B909<>\"\",IF(C909<>\"\",B909&\"_\"&C909&\" \"&D909&\"/\"&E909,B909&\" \"&D909),\"\")","v":"6400_SC6420 General and Administrative/Educational Facilities - Rent/Lease <=1yr"},{"$f":"Worktags!AS471","v":"6400"},{"$f":"IF(Worktags!AQ471<>Worktags!AS471,Worktags!AQ471,\"\")","v":"SC6420"},{"$f":"IFERROR(VLOOKUP(B909,Worktags!AL:AO,2,FALSE),\"\")","v":"General and Administrative"},{"$f":"IFERROR(VLOOKUP(C909,Worktags!O:T,2,FALSE),\"\")","v":"Educational Facilities - Rent/Lease <=1yr"},"All"]
[{"$f":"IF(B910<>\"\",IF(C910<>\"\",B910&\"_\"&C910&\" \"&D910&\"/\"&E910,B910&\" \"&D910),\"\")","v":"6400_SC6421 General and Administrative/Employee Development Services"},{"$f":"Worktags!AS473","v":"6400"},{"$f":"IF(Worktags!AQ473<>Worktags!AS473,Worktags!AQ473,\"\")","v":"SC6421"},{"$f":"IFERROR(VLOOKUP(B910,Worktags!AL:AO,2,FALSE),\"\")","v":"General and Administrative"},{"$f":"IFERROR(VLOOKUP(C910,Worktags!O:T,2,FALSE),\"\")","v":"Employee Development Services"},"All"]
[{"$f":"IF(B911<>\"\",IF(C911<>\"\",B911&\"_\"&C911&\" \"&D911&\"/\"&E911,B911&\" \"&D911),\"\")","v":"6400_SC6422 General and Administrative/Food Services and Caterers"},{"$f":"Worktags!AS475","v":"6400"},{"$f":"IF(Worktags!AQ475<>Worktags!AS475,Worktags!AQ475,\"\")","v":"SC6422"},{"$f":"IFERROR(VLOOKUP(B911,Worktags!AL:AO,2,FALSE),\"\")","v":"General and Administrative"},{"$f":"IFERROR(VLOOKUP(C911,Worktags!O:T,2,FALSE),\"\")","v":"Food Services and Caterers"},"All"]
[{"$f":"IF(B912<>\"\",IF(C912<>\"\",B912&\"_\"&C912&\" \"&D912&\"/\"&E912,B912&\" \"&D912),\"\")","v":"6400_SC6423 General and Administrative/Foreign Exchange Payment Gain/Loss"},{"$f":"Worktags!AS476","v":"6400"},{"$f":"IF(Worktags!AQ476<>Worktags!AS476,Worktags!AQ476,\"\")","v":"SC6423"},{"$f":"IFERROR(VLOOKUP(B912,Worktags!AL:AO,2,FALSE),\"\")","v":"General and Administrative"},{"$f":"IFERROR(VLOOKUP(C912,Worktags!O:T,2,FALSE),\"\")","v":"Foreign Exchange Payment Gain/Loss"},"All"]
[{"$f":"IF(B913<>\"\",IF(C913<>\"\",B913&\"_\"&C913&\" \"&D913&\"/\"&E913,B913&\" \"&D913),\"\")","v":"6400_SC6424 General and Administrative/Franchise Fees"},{"$f":"Worktags!AS478","v":"6400"},{"$f":"IF(Worktags!AQ478<>Worktags!AS478,Worktags!AQ478,\"\")","v":"SC6424"},{"$f":"IFERROR(VLOOKUP(B913,Worktags!AL:AO,2,FALSE),\"\")","v":"General and Administrative"},{"$f":"IFERROR(VLOOKUP(C913,Worktags!O:T,2,FALSE),\"\")","v":"Franchise Fees"},"All"]
[{"$f":"IF(B914<>\"\",IF(C914<>\"\",B914&\"_\"&C914&\" \"&D914&\"/\"&E914,B914&\" \"&D914),\"\")","v":"6400_SC6425 General and Administrative/Government Fees"},{"$f":"Worktags!AS480","v":"6400"},{"$f":"IF(Worktags!AQ480<>Worktags!AS480,Worktags!AQ480,\"\")","v":"SC6425"},{"$f":"IFERROR(VLOOKUP(B914,Worktags!AL:AO,2,FALSE),\"\")","v":"General and Administrative"},{"$f":"IFERROR(VLOOKUP(C914,Worktags!O:T,2,FALSE),\"\")","v":"Government Fees"},"All"]
[{"$f":"IF(B915<>\"\",IF(C915<>\"\",B915&\"_\"&C915&\" \"&D915&\"/\"&E915,B915&\" \"&D915),\"\")","v":"6400_SC6426 General and Administrative/Grants Subawards"},{"$f":"Worktags!AS481","v":"6400"},{"$f":"IF(Worktags!AQ481<>Worktags!AS481,Worktags!AQ481,\"\")","v":"SC6426"},{"$f":"IFERROR(VLOOKUP(B915,Worktags!AL:AO,2,FALSE),\"\")","v":"General and Administrative"},{"$f":"IFERROR(VLOOKUP(C915,Worktags!O:T,2,FALSE),\"\")","v":"Grants Subawards"},"All"]
[{"$f":"IF(B916<>\"\",IF(C916<>\"\",B916&\"_\"&C916&\" \"&D916&\"/\"&E916,B916&\" \"&D916),\"\")","v":"6400_SC6427 General and Administrative/Event Admissions/Entertainment"},{"$f":"Worktags!AS483","v":"6400"},{"$f":"IF(Worktags!AQ483<>Worktags!AS483,Worktags!AQ483,\"\")","v":"SC6427"},{"$f":"IFERROR(VLOOKUP(B916,Worktags!AL:AO,2,FALSE),\"\")","v":"General and Administrative"},{"$f":"IFERROR(VLOOKUP(C916,Worktags!O:T,2,FALSE),\"\")","v":"Event Admissions/Entertainment"},"All"]
[{"$f":"IF(B917<>\"\",IF(C917<>\"\",B917&\"_\"&C917&\" \"&D917&\"/\"&E917,B917&\" \"&D917),\"\")","v":"6400_SC6428 General and Administrative/Hosted Meals"},{"$f":"Worktags!AS485","v":"6400"},{"$f":"IF(Worktags!AQ485<>Worktags!AS485,Worktags!AQ485,\"\")","v":"SC6428"},{"$f":"IFERROR(VLOOKUP(B917,Worktags!AL:AO,2,FALSE),\"\")","v":"General and Administrative"},{"$f":"IFERROR(VLOOKUP(C917,Worktags!O:T,2,FALSE),\"\")","v":"Hosted Meals"},"All"]
[{"$f":"IF(B918<>\"\",IF(C918<>\"\",B918&\"_\"&C918&\" \"&D918&\"/\"&E918,B918&\" \"&D918),\"\")","v":"6400_SC6429 General and Administrative/Insurance"},{"$f":"Worktags!AS487","v":"6400"},{"$f":"IF(Worktags!AQ487<>Worktags!AS487,Worktags!AQ487,\"\")","v":"SC6429"},{"$f":"IFERROR(VLOOKUP(B918,Worktags!AL:AO,2,FALSE),\"\")","v":"General and Administrative"},{"$f":"IFERROR(VLOOKUP(C918,Worktags!O:T,2,FALSE),\"\")","v":"Insurance"},"All"]
[{"$f":"IF(B919<>\"\",IF(C919<>\"\",B919&\"_\"&C919&\" \"&D919&\"/\"&E919,B919&\" \"&D919),\"\")","v":"6400_SC6430 General and Administrative/Janitorial Services"},{"$f":"Worktags!AS489","v":"6400"},{"$f":"IF(Worktags!AQ489<>Worktags!AS489,Worktags!AQ489,\"\")","v":"SC6430"},{"$f":"IFERROR(VLOOKUP(B919,Worktags!AL:AO,2,FALSE),\"\")","v":"General and Administrative"},{"$f":"IFERROR(VLOOKUP(C919,Worktags!O:T,2,FALSE),\"\")","v":"Janitorial Services"},"All"]
[{"$f":"IF(B920<>\"\",IF(C920<>\"\",B920&\"_\"&C920&\" \"&D920&\"/\"&E920,B920&\" \"&D920),\"\")","v":"6400_SC6431 General and Administrative/Laundry Services"},{"$f":"Worktags!AS491","v":"6400"},{"$f":"IF(Worktags!AQ491<>Worktags!AS491,Worktags!AQ491,\"\")","v":"SC6431"},{"$f":"IFERROR(VLOOKUP(B920,Worktags!AL:AO,2,FALSE),\"\")","v":"General and Administrative"},{"$f":"IFERROR(VLOOKUP(C920,Worktags!O:T,2,FALSE),\"\")","v":"Laundry Services"},"All"]
[{"$f":"IF(B921<>\"\",IF(C921<>\"\",B921&\"_\"&C921&\" \"&D921&\"/\"&E921,B921&\" \"&D921),\"\")","v":"6400_SC6432 General and Administrative/Legal Services"},{"$f":"Worktags!AS493","v":"6400"},{"$f":"IF(Worktags!AQ493<>Worktags!AS493,Worktags!AQ493,\"\")","v":"SC6432"},{"$f":"IFERROR(VLOOKUP(B921,Worktags!AL:AO,2,FALSE),\"\")","v":"General and Administrative"},{"$f":"IFERROR(VLOOKUP(C921,Worktags!O:T,2,FALSE),\"\")","v":"Legal Services"},"All"]
[{"$f":"IF(B922<>\"\",IF(C922<>\"\",B922&\"_\"&C922&\" \"&D922&\"/\"&E922,B922&\" \"&D922),\"\")","v":"6400_SC6433 General and Administrative/Medical Services"},{"$f":"Worktags!AS495","v":"6400"},{"$f":"IF(Worktags!AQ495<>Worktags!AS495,Worktags!AQ495,\"\")","v":"SC6433"},{"$f":"IFERROR(VLOOKUP(B922,Worktags!AL:AO,2,FALSE),\"\")","v":"General and Administrative"},{"$f":"IFERROR(VLOOKUP(C922,Worktags!O:T,2,FALSE),\"\")","v":"Medical Services"},"All"]
[{"$f":"IF(B923<>\"\",IF(C923<>\"\",B923&\"_\"&C923&\" \"&D923&\"/\"&E923,B923&\" \"&D923),\"\")","v":"6400_SC6434 General and Administrative/Membership Dues"},{"$f":"Worktags!AS497","v":"6400"},{"$f":"IF(Worktags!AQ497<>Worktags!AS497,Worktags!AQ497,\"\")","v":"SC6434"},{"$f":"IFERROR(VLOOKUP(B923,Worktags!AL:AO,2,FALSE),\"\")","v":"General and Administrative"},{"$f":"IFERROR(VLOOKUP(C923,Worktags!O:T,2,FALSE),\"\")","v":"Membership Dues"},"All"]
[{"$f":"IF(B924<>\"\",IF(C924<>\"\",B924&\"_\"&C924&\" \"&D924&\"/\"&E924,B924&\" \"&D924),\"\")","v":"6400_SC6435 General and Administrative/Misc Independent Contractors"},{"$f":"Worktags!AS501","v":"6400"},{"$f":"IF(Worktags!AQ501<>Worktags!AS501,Worktags!AQ501,\"\")","v":"SC6435"},{"$f":"IFERROR(VLOOKUP(B924,Worktags!AL:AO,2,FALSE),\"\")","v":"General and Administrative"},{"$f":"IFERROR(VLOOKUP(C924,Worktags!O:T,2,FALSE),\"\")","v":"Misc Independent Contractors"},"All"]
[{"$f":"IF(B925<>\"\",IF(C925<>\"\",B925&\"_\"&C925&\" \"&D925&\"/\"&E925,B925&\" \"&D925),\"\")","v":"6400_SC6436 General and Administrative/Non-BYU Tuition Payment"},{"$f":"Worktags!AS502","v":"6400"},{"$f":"IF(Worktags!AQ502<>Worktags!AS502,Worktags!AQ502,\"\")","v":"SC6436"},{"$f":"IFERROR(VLOOKUP(B925,Worktags!AL:AO,2,FALSE),\"\")","v":"General and Administrative"},{"$f":"IFERROR(VLOOKUP(C925,Worktags!O:T,2,FALSE),\"\")","v":"Non-BYU Tuition Payment"},"All"]
[{"$f":"IF(B926<>\"\",IF(C926<>\"\",B926&\"_\"&C926&\" \"&D926&\"/\"&E926,B926&\" \"&D926),\"\")","v":"6400_SC6437 General and Administrative/Out of State Worker Contracts"},{"$f":"Worktags!AS503","v":"6400"},{"$f":"IF(Worktags!AQ503<>Worktags!AS503,Worktags!AQ503,\"\")","v":"SC6437"},{"$f":"IFERROR(VLOOKUP(B926,Worktags!AL:AO,2,FALSE),\"\")","v":"General and Administrative"},{"$f":"IFERROR(VLOOKUP(C926,Worktags!O:T,2,FALSE),\"\")","v":"Out of State Worker Contracts"},"All"]
[{"$f":"IF(B927<>\"\",IF(C927<>\"\",B927&\"_\"&C927&\" \"&D927&\"/\"&E927,B927&\" \"&D927),\"\")","v":"6400_SC6438 General and Administrative/Performers/Presenters"},{"$f":"Worktags!AS505","v":"6400"},{"$f":"IF(Worktags!AQ505<>Worktags!AS505,Worktags!AQ505,\"\")","v":"SC6438"},{"$f":"IFERROR(VLOOKUP(B927,Worktags!AL:AO,2,FALSE),\"\")","v":"General and Administrative"},{"$f":"IFERROR(VLOOKUP(C927,Worktags!O:T,2,FALSE),\"\")","v":"Performers/Presenters"},"All"]
[{"$f":"IF(B928<>\"\",IF(C928<>\"\",B928&\"_\"&C928&\" \"&D928&\"/\"&E928,B928&\" \"&D928),\"\")","v":"6400_SC6439 General and Administrative/Pest Control Services"},{"$f":"Worktags!AS507","v":"6400"},{"$f":"IF(Worktags!AQ507<>Worktags!AS507,Worktags!AQ507,\"\")","v":"SC6439"},{"$f":"IFERROR(VLOOKUP(B928,Worktags!AL:AO,2,FALSE),\"\")","v":"General and Administrative"},{"$f":"IFERROR(VLOOKUP(C928,Worktags!O:T,2,FALSE),\"\")","v":"Pest Control Services"},"All"]
[{"$f":"IF(B929<>\"\",IF(C929<>\"\",B929&\"_\"&C929&\" \"&D929&\"/\"&E929,B929&\" \"&D929),\"\")","v":"6400_SC6440 General and Administrative/Portable Structures-Rent/Lease <=1yr"},{"$f":"Worktags!AS509","v":"6400"},{"$f":"IF(Worktags!AQ509<>Worktags!AS509,Worktags!AQ509,\"\")","v":"SC6440"},{"$f":"IFERROR(VLOOKUP(B929,Worktags!AL:AO,2,FALSE),\"\")","v":"General and Administrative"},{"$f":"IFERROR(VLOOKUP(C929,Worktags!O:T,2,FALSE),\"\")","v":"Portable Structures-Rent/Lease <=1yr"},"All"]
[{"$f":"IF(B930<>\"\",IF(C930<>\"\",B930&\"_\"&C930&\" \"&D930&\"/\"&E930,B930&\" \"&D930),\"\")","v":"6400_SC6441 General and Administrative/Postage, Shipping and Freight"},{"$f":"Worktags!AS511","v":"6400"},{"$f":"IF(Worktags!AQ511<>Worktags!AS511,Worktags!AQ511,\"\")","v":"SC6441"},{"$f":"IFERROR(VLOOKUP(B930,Worktags!AL:AO,2,FALSE),\"\")","v":"General and Administrative"},{"$f":"IFERROR(VLOOKUP(C930,Worktags!O:T,2,FALSE),\"\")","v":"Postage, Shipping and Freight"},"All"]
[{"$f":"IF(B931<>\"\",IF(C931<>\"\",B931&\"_\"&C931&\" \"&D931&\"/\"&E931,B931&\" \"&D931),\"\")","v":"6400_SC6442 General and Administrative/Printing Services"},{"$f":"Worktags!AS513","v":"6400"},{"$f":"IF(Worktags!AQ513<>Worktags!AS513,Worktags!AQ513,\"\")","v":"SC6442"},{"$f":"IFERROR(VLOOKUP(B931,Worktags!AL:AO,2,FALSE),\"\")","v":"General and Administrative"},{"$f":"IFERROR(VLOOKUP(C931,Worktags!O:T,2,FALSE),\"\")","v":"Printing Services"},"All"]
[{"$f":"IF(B932<>\"\",IF(C932<>\"\",B932&\"_\"&C932&\" \"&D932&\"/\"&E932,B932&\" \"&D932),\"\")","v":"6400_SC6443 General and Administrative/Production Services"},{"$f":"Worktags!AS515","v":"6400"},{"$f":"IF(Worktags!AQ515<>Worktags!AS515,Worktags!AQ515,\"\")","v":"SC6443"},{"$f":"IFERROR(VLOOKUP(B932,Worktags!AL:AO,2,FALSE),\"\")","v":"General and Administrative"},{"$f":"IFERROR(VLOOKUP(C932,Worktags!O:T,2,FALSE),\"\")","v":"Production Services"},"All"]
[{"$f":"IF(B933<>\"\",IF(C933<>\"\",B933&\"_\"&C933&\" \"&D933&\"/\"&E933,B933&\" \"&D933),\"\")","v":"6400_SC6444 General and Administrative/Promotional and Branded Items"},{"$f":"Worktags!AS517","v":"6400"},{"$f":"IF(Worktags!AQ517<>Worktags!AS517,Worktags!AQ517,\"\")","v":"SC6444"},{"$f":"IFERROR(VLOOKUP(B933,Worktags!AL:AO,2,FALSE),\"\")","v":"General and Administrative"},{"$f":"IFERROR(VLOOKUP(C933,Worktags!O:T,2,FALSE),\"\")","v":"Promotional and Branded Items"},"All"]
[{"$f":"IF(B934<>\"\",IF(C934<>\"\",B934&\"_\"&C934&\" \"&D934&\"/\"&E934,B934&\" \"&D934),\"\")","v":"6400_SC6445 General and Administrative/Public Safety Services"},{"$f":"Worktags!AS519","v":"6400"},{"$f":"IF(Worktags!AQ519<>Worktags!AS519,Worktags!AQ519,\"\")","v":"SC6445"},{"$f":"IFERROR(VLOOKUP(B934,Worktags!AL:AO,2,FALSE),\"\")","v":"General and Administrative"},{"$f":"IFERROR(VLOOKUP(C934,Worktags!O:T,2,FALSE),\"\")","v":"Public Safety Services"},"All"]
[{"$f":"IF(B935<>\"\",IF(C935<>\"\",B935&\"_\"&C935&\" \"&D935&\"/\"&E935,B935&\" \"&D935),\"\")","v":"6400_SC6446 General and Administrative/Publication Services"},{"$f":"Worktags!AS521","v":"6400"},{"$f":"IF(Worktags!AQ521<>Worktags!AS521,Worktags!AQ521,\"\")","v":"SC6446"},{"$f":"IFERROR(VLOOKUP(B935,Worktags!AL:AO,2,FALSE),\"\")","v":"General and Administrative"},{"$f":"IFERROR(VLOOKUP(C935,Worktags!O:T,2,FALSE),\"\")","v":"Publication Services"},"All"]
[{"$f":"IF(B936<>\"\",IF(C936<>\"\",B936&\"_\"&C936&\" \"&D936&\"/\"&E936,B936&\" \"&D936),\"\")","v":"6400_SC6447 General and Administrative/Real Estate - Rent/Lease <=1yr"},{"$f":"Worktags!AS523","v":"6400"},{"$f":"IF(Worktags!AQ523<>Worktags!AS523,Worktags!AQ523,\"\")","v":"SC6447"},{"$f":"IFERROR(VLOOKUP(B936,Worktags!AL:AO,2,FALSE),\"\")","v":"General and Administrative"},{"$f":"IFERROR(VLOOKUP(C936,Worktags!O:T,2,FALSE),\"\")","v":"Real Estate - Rent/Lease <=1yr"},"All"]
[{"$f":"IF(B937<>\"\",IF(C937<>\"\",B937&\"_\"&C937&\" \"&D937&\"/\"&E937,B937&\" \"&D937),\"\")","v":"6400_SC6448 General and Administrative/Real Estate - Rent/Lease >1yr"},{"$f":"Worktags!AS525","v":"6400"},{"$f":"IF(Worktags!AQ525<>Worktags!AS525,Worktags!AQ525,\"\")","v":"SC6448"},{"$f":"IFERROR(VLOOKUP(B937,Worktags!AL:AO,2,FALSE),\"\")","v":"General and Administrative"},{"$f":"IFERROR(VLOOKUP(C937,Worktags!O:T,2,FALSE),\"\")","v":"Real Estate - Rent/Lease >1yr"},"All"]
[{"$f":"IF(B938<>\"\",IF(C938<>\"\",B938&\"_\"&C938&\" \"&D938&\"/\"&E938,B938&\" \"&D938),\"\")","v":"6400_SC6449 General and Administrative/Rent/Lease < = 1 year"},{"$f":"Worktags!AS529","v":"6400"},{"$f":"IF(Worktags!AQ529<>Worktags!AS529,Worktags!AQ529,\"\")","v":"SC6449"},{"$f":"IFERROR(VLOOKUP(B938,Worktags!AL:AO,2,FALSE),\"\")","v":"General and Administrative"},{"$f":"IFERROR(VLOOKUP(C938,Worktags!O:T,2,FALSE),\"\")","v":"Rent/Lease < = 1 year"},"All"]
[{"$f":"IF(B939<>\"\",IF(C939<>\"\",B939&\"_\"&C939&\" \"&D939&\"/\"&E939,B939&\" \"&D939),\"\")","v":"6400_SC6450 General and Administrative/Rent/Lease >1 Year"},{"$f":"Worktags!AS533","v":"6400"},{"$f":"IF(Worktags!AQ533<>Worktags!AS533,Worktags!AQ533,\"\")","v":"SC6450"},{"$f":"IFERROR(VLOOKUP(B939,Worktags!AL:AO,2,FALSE),\"\")","v":"General and Administrative"},{"$f":"IFERROR(VLOOKUP(C939,Worktags!O:T,2,FALSE),\"\")","v":"Rent/Lease >1 Year"},"JE_Research|JE_Override"]
[{"$f":"IF(B940<>\"\",IF(C940<>\"\",B940&\"_\"&C940&\" \"&D940&\"/\"&E940,B940&\" \"&D940),\"\")","v":"6400_SC6451 General and Administrative/Research Subjects"},{"$f":"Worktags!AS535","v":"6400"},{"$f":"IF(Worktags!AQ535<>Worktags!AS535,Worktags!AQ535,\"\")","v":"SC6451"},{"$f":"IFERROR(VLOOKUP(B940,Worktags!AL:AO,2,FALSE),\"\")","v":"General and Administrative"},{"$f":"IFERROR(VLOOKUP(C940,Worktags!O:T,2,FALSE),\"\")","v":"Research Subjects"},"JE_Research|JE_Override"]
[{"$f":"IF(B941<>\"\",IF(C941<>\"\",B941&\"_\"&C941&\" \"&D941&\"/\"&E941,B941&\" \"&D941),\"\")","v":"6400_SC6452 General and Administrative/Royalties and Licensing Fees"},{"$f":"Worktags!AS537","v":"6400"},{"$f":"IF(Worktags!AQ537<>Worktags!AS537,Worktags!AQ537,\"\")","v":"SC6452"},{"$f":"IFERROR(VLOOKUP(B941,Worktags!AL:AO,2,FALSE),\"\")","v":"General and Administrative"},{"$f":"IFERROR(VLOOKUP(C941,Worktags!O:T,2,FALSE),\"\")","v":"Royalties and Licensing Fees"},"All"]
[{"$f":"IF(B942<>\"\",IF(C942<>\"\",B942&\"_\"&C942&\" \"&D942&\"/\"&E942,B942&\" \"&D942),\"\")","v":"6400_SC6453 General and Administrative/Scientific Services"},{"$f":"Worktags!AS539","v":"6400"},{"$f":"IF(Worktags!AQ539<>Worktags!AS539,Worktags!AQ539,\"\")","v":"SC6453"},{"$f":"IFERROR(VLOOKUP(B942,Worktags!AL:AO,2,FALSE),\"\")","v":"General and Administrative"},{"$f":"IFERROR(VLOOKUP(C942,Worktags!O:T,2,FALSE),\"\")","v":"Scientific Services"},"JE_Override"]
[{"$f":"IF(B943<>\"\",IF(C943<>\"\",B943&\"_\"&C943&\" \"&D943&\"/\"&E943,B943&\" \"&D943),\"\")","v":"6400_SC6454 General and Administrative/Screening Services"},{"$f":"Worktags!AS541","v":"6400"},{"$f":"IF(Worktags!AQ541<>Worktags!AS541,Worktags!AQ541,\"\")","v":"SC6454"},{"$f":"IFERROR(VLOOKUP(B943,Worktags!AL:AO,2,FALSE),\"\")","v":"General and Administrative"},{"$f":"IFERROR(VLOOKUP(C943,Worktags!O:T,2,FALSE),\"\")","v":"Screening Services"},"All"]
[{"$f":"IF(B944<>\"\",IF(C944<>\"\",B944&\"_\"&C944&\" \"&D944&\"/\"&E944,B944&\" \"&D944),\"\")","v":"6400_SC6455 General and Administrative/Services (not otherwise specified)"},{"$f":"Worktags!AS545","v":"6400"},{"$f":"IF(Worktags!AQ545<>Worktags!AS545,Worktags!AQ545,\"\")","v":"SC6455"},{"$f":"IFERROR(VLOOKUP(B944,Worktags!AL:AO,2,FALSE),\"\")","v":"General and Administrative"},{"$f":"IFERROR(VLOOKUP(C944,Worktags!O:T,2,FALSE),\"\")","v":"Services (not otherwise specified)"},""]
[{"$f":"IF(B945<>\"\",IF(C945<>\"\",B945&\"_\"&C945&\" \"&D945&\"/\"&E945,B945&\" \"&D945),\"\")","v":"6400_SC6456 General and Administrative/Shared Partner Services"},{"$f":"Worktags!AS547","v":"6400"},{"$f":"IF(Worktags!AQ547<>Worktags!AS547,Worktags!AQ547,\"\")","v":"SC6456"},{"$f":"IFERROR(VLOOKUP(B945,Worktags!AL:AO,2,FALSE),\"\")","v":"General and Administrative"},{"$f":"IFERROR(VLOOKUP(C945,Worktags!O:T,2,FALSE),\"\")","v":"Shared Partner Services"},""]
[{"$f":"IF(B946<>\"\",IF(C946<>\"\",B946&\"_\"&C946&\" \"&D946&\"/\"&E946,B946&\" \"&D946),\"\")","v":"6400_SC6457 General and Administrative/Student Teacher Supervision"},{"$f":"Worktags!AS549","v":"6400"},{"$f":"IF(Worktags!AQ549<>Worktags!AS549,Worktags!AQ549,\"\")","v":"SC6457"},{"$f":"IFERROR(VLOOKUP(B946,Worktags!AL:AO,2,FALSE),\"\")","v":"General and Administrative"},{"$f":"IFERROR(VLOOKUP(C946,Worktags!O:T,2,FALSE),\"\")","v":"Student Teacher Supervision"},"All"]
[{"$f":"IF(B947<>\"\",IF(C947<>\"\",B947&\"_\"&C947&\" \"&D947&\"/\"&E947,B947&\" \"&D947),\"\")","v":"6400_SC6458 General and Administrative/Subscriptions"},{"$f":"Worktags!AS551","v":"6400"},{"$f":"IF(Worktags!AQ551<>Worktags!AS551,Worktags!AQ551,\"\")","v":"SC6458"},{"$f":"IFERROR(VLOOKUP(B947,Worktags!AL:AO,2,FALSE),\"\")","v":"General and Administrative"},{"$f":"IFERROR(VLOOKUP(C947,Worktags!O:T,2,FALSE),\"\")","v":"Subscriptions"},""]
[{"$f":"IF(B948<>\"\",IF(C948<>\"\",B948&\"_\"&C948&\" \"&D948&\"/\"&E948,B948&\" \"&D948),\"\")","v":"6400_SC6459 General and Administrative/Taxes"},{"$f":"Worktags!AS553","v":"6400"},{"$f":"IF(Worktags!AQ553<>Worktags!AS553,Worktags!AQ553,\"\")","v":"SC6459"},{"$f":"IFERROR(VLOOKUP(B948,Worktags!AL:AO,2,FALSE),\"\")","v":"General and Administrative"},{"$f":"IFERROR(VLOOKUP(C948,Worktags!O:T,2,FALSE),\"\")","v":"Taxes"},"JE_Override"]
[{"$f":"IF(B949<>\"\",IF(C949<>\"\",B949&\"_\"&C949&\" \"&D949&\"/\"&E949,B949&\" \"&D949),\"\")","v":"6400_SC6460 General and Administrative/Testing Services"},{"$f":"Worktags!AS555","v":"6400"},{"$f":"IF(Worktags!AQ555<>Worktags!AS555,Worktags!AQ555,\"\")","v":"SC6460"},{"$f":"IFERROR(VLOOKUP(B949,Worktags!AL:AO,2,FALSE),\"\")","v":"General and Administrative"},{"$f":"IFERROR(VLOOKUP(C949,Worktags!O:T,2,FALSE),\"\")","v":"Testing Services"},"All"]
[{"$f":"IF(B950<>\"\",IF(C950<>\"\",B950&\"_\"&C950&\" \"&D950&\"/\"&E950,B950&\" \"&D950),\"\")","v":"6400_SC6461 General and Administrative/TV, Media Subscription Services"},{"$f":"Worktags!AS557","v":"6400"},{"$f":"IF(Worktags!AQ557<>Worktags!AS557,Worktags!AQ557,\"\")","v":"SC6461"},{"$f":"IFERROR(VLOOKUP(B950,Worktags!AL:AO,2,FALSE),\"\")","v":"General and Administrative"},{"$f":"IFERROR(VLOOKUP(C950,Worktags!O:T,2,FALSE),\"\")","v":"TV, Media Subscription Services"},"All"]
[{"$f":"IF(B951<>\"\",IF(C951<>\"\",B951&\"_\"&C951&\" \"&D951&\"/\"&E951,B951&\" \"&D951),\"\")","v":"6400_SC6462 General and Administrative/University Donations"},{"$f":"Worktags!AS558","v":"6400"},{"$f":"IF(Worktags!AQ558<>Worktags!AS558,Worktags!AQ558,\"\")","v":"SC6462"},{"$f":"IFERROR(VLOOKUP(B951,Worktags!AL:AO,2,FALSE),\"\")","v":"General and Administrative"},{"$f":"IFERROR(VLOOKUP(C951,Worktags!O:T,2,FALSE),\"\")","v":"University Donations"},"All"]
[{"$f":"IF(B952<>\"\",IF(C952<>\"\",B952&\"_\"&C952&\" \"&D952&\"/\"&E952,B952&\" \"&D952),\"\")","v":"6400_SC6463 General and Administrative/Waste Disposal Services"},{"$f":"Worktags!AS560","v":"6400"},{"$f":"IF(Worktags!AQ560<>Worktags!AS560,Worktags!AQ560,\"\")","v":"SC6463"},{"$f":"IFERROR(VLOOKUP(B952,Worktags!AL:AO,2,FALSE),\"\")","v":"General and Administrative"},{"$f":"IFERROR(VLOOKUP(C952,Worktags!O:T,2,FALSE),\"\")","v":"Waste Disposal Services"},"All"]
[{"$f":"IF(B953<>\"\",IF(C953<>\"\",B953&\"_\"&C953&\" \"&D953&\"/\"&E953,B953&\" \"&D953),\"\")","v":"6400_SC6464 General and Administrative/Facilities and Administration Expense"},{"$f":"Worktags!AS561","v":"6400"},{"$f":"IF(Worktags!AQ561<>Worktags!AS561,Worktags!AQ561,\"\")","v":"SC6464"},{"$f":"IFERROR(VLOOKUP(B953,Worktags!AL:AO,2,FALSE),\"\")","v":"General and Administrative"},{"$f":"IFERROR(VLOOKUP(C953,Worktags!O:T,2,FALSE),\"\")","v":"Facilities and Administration Expense"},"All"]
[{"$f":"IF(B954<>\"\",IF(C954<>\"\",B954&\"_\"&C954&\" \"&D954&\"/\"&E954,B954&\" \"&D954),\"\")","v":"6400_SC6465 General and Administrative/Facilities and Administration Recovery"},{"$f":"Worktags!AS562","v":"6400"},{"$f":"IF(Worktags!AQ562<>Worktags!AS562,Worktags!AQ562,\"\")","v":"SC6465"},{"$f":"IFERROR(VLOOKUP(B954,Worktags!AL:AO,2,FALSE),\"\")","v":"General and Administrative"},{"$f":"IFERROR(VLOOKUP(C954,Worktags!O:T,2,FALSE),\"\")","v":"Facilities and Administration Recovery"},"All"]
[{"$f":"IF(B955<>\"\",IF(C955<>\"\",B955&\"_\"&C955&\" \"&D955&\"/\"&E955,B955&\" \"&D955),\"\")","v":"6400_SC6466 General and Administrative/Income Taxes"},{"$f":"Worktags!AS564","v":"6400"},{"$f":"IF(Worktags!AQ564<>Worktags!AS564,Worktags!AQ564,\"\")","v":"SC6466"},{"$f":"IFERROR(VLOOKUP(B955,Worktags!AL:AO,2,FALSE),\"\")","v":"General and Administrative"},{"$f":"IFERROR(VLOOKUP(C955,Worktags!O:T,2,FALSE),\"\")","v":"Income Taxes"},"All"]
[{"$f":"IF(B956<>\"\",IF(C956<>\"\",B956&\"_\"&C956&\" \"&D956&\"/\"&E956,B956&\" \"&D956),\"\")","v":"6400_SC6467 General and Administrative/Donation to Affiliate"},{"$f":"Worktags!AS565","v":"6400"},{"$f":"IF(Worktags!AQ565<>Worktags!AS565,Worktags!AQ565,\"\")","v":"SC6467"},{"$f":"IFERROR(VLOOKUP(B956,Worktags!AL:AO,2,FALSE),\"\")","v":"General and Administrative"},{"$f":"IFERROR(VLOOKUP(C956,Worktags!O:T,2,FALSE),\"\")","v":"Donation to Affiliate"},"All"]
[{"$f":"IF(B957<>\"\",IF(C957<>\"\",B957&\"_\"&C957&\" \"&D957&\"/\"&E957,B957&\" \"&D957),\"\")","v":"6400_SC6499 General and Administrative/General and Administrative (reclass)"},{"$f":"Worktags!AS569","v":"6400"},{"$f":"IF(Worktags!AQ569<>Worktags!AS569,Worktags!AQ569,\"\")","v":"SC6499"},{"$f":"IFERROR(VLOOKUP(B957,Worktags!AL:AO,2,FALSE),\"\")","v":"General and Administrative"},{"$f":"IFERROR(VLOOKUP(C957,Worktags!O:T,2,FALSE),\"\")","v":"General and Administrative (reclass)"},"All"]
[{"$f":"IF(B958<>\"\",IF(C958<>\"\",B958&\"_\"&C958&\" \"&D958&\"/\"&E958,B958&\" \"&D958),\"\")","v":"6498 General and Administrative (Contra)"},{"$f":"Worktags!AL134","v":"6498"},null,{"$f":"IFERROR(VLOOKUP(B958,Worktags!AL:AO,2,FALSE),\"\")","v":"General and Administrative (Contra)"},null,"All"]
[{"$f":"IF(B959<>\"\",IF(C959<>\"\",B959&\"_\"&C959&\" \"&D959&\"/\"&E959,B959&\" \"&D959),\"\")","v":"6600 Interest Expense"},{"$f":"Worktags!AL135","v":"6600"},null,{"$f":"IFERROR(VLOOKUP(B959,Worktags!AL:AO,2,FALSE),\"\")","v":"Interest Expense"},null,"All"]
[{"$f":"IF(B960<>\"\",IF(C960<>\"\",B960&\"_\"&C960&\" \"&D960&\"/\"&E960,B960&\" \"&D960),\"\")","v":"6600_SC6610 Interest Expense/Interest Expense"},{"$f":"Worktags!AS570","v":"6600"},{"$f":"IF(Worktags!AQ570<>Worktags!AS570,Worktags!AQ570,\"\")","v":"SC6610"},{"$f":"IFERROR(VLOOKUP(B960,Worktags!AL:AO,2,FALSE),\"\")","v":"Interest Expense"},{"$f":"IFERROR(VLOOKUP(C960,Worktags!O:T,2,FALSE),\"\")","v":"Interest Expense"},"All"]
[{"$f":"IF(B961<>\"\",IF(C961<>\"\",B961&\"_\"&C961&\" \"&D961&\"/\"&E961,B961&\" \"&D961),\"\")","v":"6700 Physical Facilities"},{"$f":"Worktags!AL136","v":"6700"},null,{"$f":"IFERROR(VLOOKUP(B961,Worktags!AL:AO,2,FALSE),\"\")","v":"Physical Facilities"},null,"All"]
[{"$f":"IF(B962<>\"\",IF(C962<>\"\",B962&\"_\"&C962&\" \"&D962&\"/\"&E962,B962&\" \"&D962),\"\")","v":"6700_SC0670 Physical Facilities/Physical Facilities (Budget Only)"},{"$f":"Worktags!AS211","v":"6700"},{"$f":"IF(Worktags!AQ211<>Worktags!AS211,Worktags!AQ211,\"\")","v":"SC0670"},{"$f":"IFERROR(VLOOKUP(B962,Worktags!AL:AO,2,FALSE),\"\")","v":"Physical Facilities"},{"$f":"IFERROR(VLOOKUP(C962,Worktags!O:T,2,FALSE),\"\")","v":"Physical Facilities (Budget Only)"},"All"]
[{"$f":"IF(B963<>\"\",IF(C963<>\"\",B963&\"_\"&C963&\" \"&D963&\"/\"&E963,B963&\" \"&D963),\"\")","v":"6700_SC6701 Physical Facilities/Building Access Supplies"},{"$f":"Worktags!AS576","v":"6700"},{"$f":"IF(Worktags!AQ576<>Worktags!AS576,Worktags!AQ576,\"\")","v":"SC6701"},{"$f":"IFERROR(VLOOKUP(B963,Worktags!AL:AO,2,FALSE),\"\")","v":"Physical Facilities"},{"$f":"IFERROR(VLOOKUP(C963,Worktags!O:T,2,FALSE),\"\")","v":"Building Access Supplies"},"All"]
[{"$f":"IF(B964<>\"\",IF(C964<>\"\",B964&\"_\"&C964&\" \"&D964&\"/\"&E964,B964&\" \"&D964),\"\")","v":"6700_SC6702 Physical Facilities/Building Construction and Improvements"},{"$f":"Worktags!AS583","v":"6700"},{"$f":"IF(Worktags!AQ583<>Worktags!AS583,Worktags!AQ583,\"\")","v":"SC6702"},{"$f":"IFERROR(VLOOKUP(B964,Worktags!AL:AO,2,FALSE),\"\")","v":"Physical Facilities"},{"$f":"IFERROR(VLOOKUP(C964,Worktags!O:T,2,FALSE),\"\")","v":"Building Construction and Improvements"},"All"]
[{"$f":"IF(B965<>\"\",IF(C965<>\"\",B965&\"_\"&C965&\" \"&D965&\"/\"&E965,B965&\" \"&D965),\"\")","v":"6700_SC6703 Physical Facilities/Building Furnishings"},{"$f":"Worktags!AS590","v":"6700"},{"$f":"IF(Worktags!AQ590<>Worktags!AS590,Worktags!AQ590,\"\")","v":"SC6703"},{"$f":"IFERROR(VLOOKUP(B965,Worktags!AL:AO,2,FALSE),\"\")","v":"Physical Facilities"},{"$f":"IFERROR(VLOOKUP(C965,Worktags!O:T,2,FALSE),\"\")","v":"Building Furnishings"},"All"]
[{"$f":"IF(B966<>\"\",IF(C966<>\"\",B966&\"_\"&C966&\" \"&D966&\"/\"&E966,B966&\" \"&D966),\"\")","v":"6700_SC6704 Physical Facilities/Building Materials - Finishing"},{"$f":"Worktags!AS597","v":"6700"},{"$f":"IF(Worktags!AQ597<>Worktags!AS597,Worktags!AQ597,\"\")","v":"SC6704"},{"$f":"IFERROR(VLOOKUP(B966,Worktags!AL:AO,2,FALSE),\"\")","v":"Physical Facilities"},{"$f":"IFERROR(VLOOKUP(C966,Worktags!O:T,2,FALSE),\"\")","v":"Building Materials - Finishing"},"All"]
[{"$f":"IF(B967<>\"\",IF(C967<>\"\",B967&\"_\"&C967&\" \"&D967&\"/\"&E967,B967&\" \"&D967),\"\")","v":"6700_SC6705 Physical Facilities/Building Materials - Raw"},{"$f":"Worktags!AS604","v":"6700"},{"$f":"IF(Worktags!AQ604<>Worktags!AS604,Worktags!AQ604,\"\")","v":"SC6705"},{"$f":"IFERROR(VLOOKUP(B967,Worktags!AL:AO,2,FALSE),\"\")","v":"Physical Facilities"},{"$f":"IFERROR(VLOOKUP(C967,Worktags!O:T,2,FALSE),\"\")","v":"Building Materials - Raw"},"All"]
[{"$f":"IF(B968<>\"\",IF(C968<>\"\",B968&\"_\"&C968&\" \"&D968&\"/\"&E968,B968&\" \"&D968),\"\")","v":"6700_SC6706 Physical Facilities/Electrical Devices"},{"$f":"Worktags!AS611","v":"6700"},{"$f":"IF(Worktags!AQ611<>Worktags!AS611,Worktags!AQ611,\"\")","v":"SC6706"},{"$f":"IFERROR(VLOOKUP(B968,Worktags!AL:AO,2,FALSE),\"\")","v":"Physical Facilities"},{"$f":"IFERROR(VLOOKUP(C968,Worktags!O:T,2,FALSE),\"\")","v":"Electrical Devices"},"All"]
[{"$f":"IF(B969<>\"\",IF(C969<>\"\",B969&\"_\"&C969&\" \"&D969&\"/\"&E969,B969&\" \"&D969),\"\")","v":"6700_SC6707 Physical Facilities/Electrical Supplies"},{"$f":"Worktags!AS617","v":"6700"},{"$f":"IF(Worktags!AQ617<>Worktags!AS617,Worktags!AQ617,\"\")","v":"SC6707"},{"$f":"IFERROR(VLOOKUP(B969,Worktags!AL:AO,2,FALSE),\"\")","v":"Physical Facilities"},{"$f":"IFERROR(VLOOKUP(C969,Worktags!O:T,2,FALSE),\"\")","v":"Electrical Supplies"},"All"]
[{"$f":"IF(B970<>\"\",IF(C970<>\"\",B970&\"_\"&C970&\" \"&D970&\"/\"&E970,B970&\" \"&D970),\"\")","v":"6700_SC6708 Physical Facilities/Fans/Furnaces"},{"$f":"Worktags!AS623","v":"6700"},{"$f":"IF(Worktags!AQ623<>Worktags!AS623,Worktags!AQ623,\"\")","v":"SC6708"},{"$f":"IFERROR(VLOOKUP(B970,Worktags!AL:AO,2,FALSE),\"\")","v":"Physical Facilities"},{"$f":"IFERROR(VLOOKUP(C970,Worktags!O:T,2,FALSE),\"\")","v":"Fans/Furnaces"},"All"]
[{"$f":"IF(B971<>\"\",IF(C971<>\"\",B971&\"_\"&C971&\" \"&D971&\"/\"&E971,B971&\" \"&D971),\"\")","v":"6700_SC6709 Physical Facilities/Flooring Materials"},{"$f":"Worktags!AS630","v":"6700"},{"$f":"IF(Worktags!AQ630<>Worktags!AS630,Worktags!AQ630,\"\")","v":"SC6709"},{"$f":"IFERROR(VLOOKUP(B971,Worktags!AL:AO,2,FALSE),\"\")","v":"Physical Facilities"},{"$f":"IFERROR(VLOOKUP(C971,Worktags!O:T,2,FALSE),\"\")","v":"Flooring Materials"},"All"]
[{"$f":"IF(B972<>\"\",IF(C972<>\"\",B972&\"_\"&C972&\" \"&D972&\"/\"&E972,B972&\" \"&D972),\"\")","v":"6700_SC6710 Physical Facilities/Furnishing Accessories"},{"$f":"Worktags!AS637","v":"6700"},{"$f":"IF(Worktags!AQ637<>Worktags!AS637,Worktags!AQ637,\"\")","v":"SC6710"},{"$f":"IFERROR(VLOOKUP(B972,Worktags!AL:AO,2,FALSE),\"\")","v":"Physical Facilities"},{"$f":"IFERROR(VLOOKUP(C972,Worktags!O:T,2,FALSE),\"\")","v":"Furnishing Accessories"},"All"]
[{"$f":"IF(B973<>\"\",IF(C973<>\"\",B973&\"_\"&C973&\" \"&D973&\"/\"&E973,B973&\" \"&D973),\"\")","v":"6700_SC6711 Physical Facilities/Grounds and Landscaping Supplies"},{"$f":"Worktags!AS644","v":"6700"},{"$f":"IF(Worktags!AQ644<>Worktags!AS644,Worktags!AQ644,\"\")","v":"SC6711"},{"$f":"IFERROR(VLOOKUP(B973,Worktags!AL:AO,2,FALSE),\"\")","v":"Physical Facilities"},{"$f":"IFERROR(VLOOKUP(C973,Worktags!O:T,2,FALSE),\"\")","v":"Grounds and Landscaping Supplies"},"All"]
[{"$f":"IF(B974<>\"\",IF(C974<>\"\",B974&\"_\"&C974&\" \"&D974&\"/\"&E974,B974&\" \"&D974),\"\")","v":"6700_SC6712 Physical Facilities/Grounds Services"},{"$f":"Worktags!AS647","v":"6700"},{"$f":"IF(Worktags!AQ647<>Worktags!AS647,Worktags!AQ647,\"\")","v":"SC6712"},{"$f":"IFERROR(VLOOKUP(B974,Worktags!AL:AO,2,FALSE),\"\")","v":"Physical Facilities"},{"$f":"IFERROR(VLOOKUP(C974,Worktags!O:T,2,FALSE),\"\")","v":"Grounds Services"},"All"]
[{"$f":"IF(B975<>\"\",IF(C975<>\"\",B975&\"_\"&C975&\" \"&D975&\"/\"&E975,B975&\" \"&D975),\"\")","v":"6700_SC6713 Physical Facilities/Industrial Fixtures"},{"$f":"Worktags!AS653","v":"6700"},{"$f":"IF(Worktags!AQ653<>Worktags!AS653,Worktags!AQ653,\"\")","v":"SC6713"},{"$f":"IFERROR(VLOOKUP(B975,Worktags!AL:AO,2,FALSE),\"\")","v":"Physical Facilities"},{"$f":"IFERROR(VLOOKUP(C975,Worktags!O:T,2,FALSE),\"\")","v":"Industrial Fixtures"},"All"]
[{"$f":"IF(B976<>\"\",IF(C976<>\"\",B976&\"_\"&C976&\" \"&D976&\"/\"&E976,B976&\" \"&D976),\"\")","v":"6700_SC6714 Physical Facilities/Lighting Fixtures and Lamps"},{"$f":"Worktags!AS660","v":"6700"},{"$f":"IF(Worktags!AQ660<>Worktags!AS660,Worktags!AQ660,\"\")","v":"SC6714"},{"$f":"IFERROR(VLOOKUP(B976,Worktags!AL:AO,2,FALSE),\"\")","v":"Physical Facilities"},{"$f":"IFERROR(VLOOKUP(C976,Worktags!O:T,2,FALSE),\"\")","v":"Lighting Fixtures and Lamps"},"All"]
[{"$f":"IF(B977<>\"\",IF(C977<>\"\",B977&\"_\"&C977&\" \"&D977&\"/\"&E977,B977&\" \"&D977),\"\")","v":"6700_SC6715 Physical Facilities/Plumbing Fixtures"},{"$f":"Worktags!AS667","v":"6700"},{"$f":"IF(Worktags!AQ667<>Worktags!AS667,Worktags!AQ667,\"\")","v":"SC6715"},{"$f":"IFERROR(VLOOKUP(B977,Worktags!AL:AO,2,FALSE),\"\")","v":"Physical Facilities"},{"$f":"IFERROR(VLOOKUP(C977,Worktags!O:T,2,FALSE),\"\")","v":"Plumbing Fixtures"},"All"]
[{"$f":"IF(B978<>\"\",IF(C978<>\"\",B978&\"_\"&C978&\" \"&D978&\"/\"&E978,B978&\" \"&D978),\"\")","v":"6700_SC6716 Physical Facilities/Retainage"},{"$f":"Worktags!AS671","v":"6700"},{"$f":"IF(Worktags!AQ671<>Worktags!AS671,Worktags!AQ671,\"\")","v":"SC6716"},{"$f":"IFERROR(VLOOKUP(B978,Worktags!AL:AO,2,FALSE),\"\")","v":"Physical Facilities"},{"$f":"IFERROR(VLOOKUP(C978,Worktags!O:T,2,FALSE),\"\")","v":"Retainage"},"All"]
[{"$f":"IF(B979<>\"\",IF(C979<>\"\",B979&\"_\"&C979&\" \"&D979&\"/\"&E979,B979&\" \"&D979),\"\")","v":"6700_SC6717 Physical Facilities/Retainage Interest"},{"$f":"Worktags!AS674","v":"6700"},{"$f":"IF(Worktags!AQ674<>Worktags!AS674,Worktags!AQ674,\"\")","v":"SC6717"},{"$f":"IFERROR(VLOOKUP(B979,Worktags!AL:AO,2,FALSE),\"\")","v":"Physical Facilities"},{"$f":"IFERROR(VLOOKUP(C979,Worktags!O:T,2,FALSE),\"\")","v":"Retainage Interest"},"All"]
[{"$f":"IF(B980<>\"\",IF(C980<>\"\",B980&\"_\"&C980&\" \"&D980&\"/\"&E980,B980&\" \"&D980),\"\")","v":"6700_SC6718 Physical Facilities/Signage, Electronic"},{"$f":"Worktags!AS680","v":"6700"},{"$f":"IF(Worktags!AQ680<>Worktags!AS680,Worktags!AQ680,\"\")","v":"SC6718"},{"$f":"IFERROR(VLOOKUP(B980,Worktags!AL:AO,2,FALSE),\"\")","v":"Physical Facilities"},{"$f":"IFERROR(VLOOKUP(C980,Worktags!O:T,2,FALSE),\"\")","v":"Signage, Electronic"},"All"]
[{"$f":"IF(B981<>\"\",IF(C981<>\"\",B981&\"_\"&C981&\" \"&D981&\"/\"&E981,B981&\" \"&D981),\"\")","v":"6700_SC6719 Physical Facilities/Signage, Non-electronic"},{"$f":"Worktags!AS687","v":"6700"},{"$f":"IF(Worktags!AQ687<>Worktags!AS687,Worktags!AQ687,\"\")","v":"SC6719"},{"$f":"IFERROR(VLOOKUP(B981,Worktags!AL:AO,2,FALSE),\"\")","v":"Physical Facilities"},{"$f":"IFERROR(VLOOKUP(C981,Worktags!O:T,2,FALSE),\"\")","v":"Signage, Non-electronic"},""]
[{"$f":"IF(B982<>\"\",IF(C982<>\"\",B982&\"_\"&C982&\" \"&D982&\"/\"&E982,B982&\" \"&D982),\"\")","v":"6700_SC6720 Physical Facilities/Specialized Trade Services - Physical Facilities"},{"$f":"Worktags!AS692","v":"6700"},{"$f":"IF(Worktags!AQ692<>Worktags!AS692,Worktags!AQ692,\"\")","v":"SC6720"},{"$f":"IFERROR(VLOOKUP(B982,Worktags!AL:AO,2,FALSE),\"\")","v":"Physical Facilities"},{"$f":"IFERROR(VLOOKUP(C982,Worktags!O:T,2,FALSE),\"\")","v":"Specialized Trade Services - Physical Facilities"},"JE_Override"]
[{"$f":"IF(B983<>\"\",IF(C983<>\"\",B983&\"_\"&C983&\" \"&D983&\"/\"&E983,B983&\" \"&D983),\"\")","v":"6700_SC6721 Physical Facilities/Stage and Studio Lighting (Asset Track)"},{"$f":"Worktags!AS698","v":"6700"},{"$f":"IF(Worktags!AQ698<>Worktags!AS698,Worktags!AQ698,\"\")","v":"SC6721"},{"$f":"IFERROR(VLOOKUP(B983,Worktags!AL:AO,2,FALSE),\"\")","v":"Physical Facilities"},{"$f":"IFERROR(VLOOKUP(C983,Worktags!O:T,2,FALSE),\"\")","v":"Stage and Studio Lighting (Asset Track)"},"JE_Override"]
[{"$f":"IF(B984<>\"\",IF(C984<>\"\",B984&\"_\"&C984&\" \"&D984&\"/\"&E984,B984&\" \"&D984),\"\")","v":"6700_SC6722 Physical Facilities/Utilities, Electricity"},{"$f":"Worktags!AS701","v":"6700"},{"$f":"IF(Worktags!AQ701<>Worktags!AS701,Worktags!AQ701,\"\")","v":"SC6722"},{"$f":"IFERROR(VLOOKUP(B984,Worktags!AL:AO,2,FALSE),\"\")","v":"Physical Facilities"},{"$f":"IFERROR(VLOOKUP(C984,Worktags!O:T,2,FALSE),\"\")","v":"Utilities, Electricity"},"JE_Override"]
[{"$f":"IF(B985<>\"\",IF(C985<>\"\",B985&\"_\"&C985&\" \"&D985&\"/\"&E985,B985&\" \"&D985),\"\")","v":"6700_SC6723 Physical Facilities/Utilities, Garbage Hauling"},{"$f":"Worktags!AS703","v":"6700"},{"$f":"IF(Worktags!AQ703<>Worktags!AS703,Worktags!AQ703,\"\")","v":"SC6723"},{"$f":"IFERROR(VLOOKUP(B985,Worktags!AL:AO,2,FALSE),\"\")","v":"Physical Facilities"},{"$f":"IFERROR(VLOOKUP(C985,Worktags!O:T,2,FALSE),\"\")","v":"Utilities, Garbage Hauling"},"JE_Override"]
[{"$f":"IF(B986<>\"\",IF(C986<>\"\",B986&\"_\"&C986&\" \"&D986&\"/\"&E986,B986&\" \"&D986),\"\")","v":"6700_SC6724 Physical Facilities/Utilities, Heat/Cool Unit"},{"$f":"Worktags!AS705","v":"6700"},{"$f":"IF(Worktags!AQ705<>Worktags!AS705,Worktags!AQ705,\"\")","v":"SC6724"},{"$f":"IFERROR(VLOOKUP(B986,Worktags!AL:AO,2,FALSE),\"\")","v":"Physical Facilities"},{"$f":"IFERROR(VLOOKUP(C986,Worktags!O:T,2,FALSE),\"\")","v":"Utilities, Heat/Cool Unit"},"JE_Override"]
[{"$f":"IF(B987<>\"\",IF(C987<>\"\",B987&\"_\"&C987&\" \"&D987&\"/\"&E987,B987&\" \"&D987),\"\")","v":"6700_SC6725 Physical Facilities/Utilities, Natural Gas"},{"$f":"Worktags!AS707","v":"6700"},{"$f":"IF(Worktags!AQ707<>Worktags!AS707,Worktags!AQ707,\"\")","v":"SC6725"},{"$f":"IFERROR(VLOOKUP(B987,Worktags!AL:AO,2,FALSE),\"\")","v":"Physical Facilities"},{"$f":"IFERROR(VLOOKUP(C987,Worktags!O:T,2,FALSE),\"\")","v":"Utilities, Natural Gas"},"JE_Override"]
[{"$f":"IF(B988<>\"\",IF(C988<>\"\",B988&\"_\"&C988&\" \"&D988&\"/\"&E988,B988&\" \"&D988),\"\")","v":"6700_SC6726 Physical Facilities/Utilities, Other"},{"$f":"Worktags!AS709","v":"6700"},{"$f":"IF(Worktags!AQ709<>Worktags!AS709,Worktags!AQ709,\"\")","v":"SC6726"},{"$f":"IFERROR(VLOOKUP(B988,Worktags!AL:AO,2,FALSE),\"\")","v":"Physical Facilities"},{"$f":"IFERROR(VLOOKUP(C988,Worktags!O:T,2,FALSE),\"\")","v":"Utilities, Other"},"JE_Override"]
[{"$f":"IF(B989<>\"\",IF(C989<>\"\",B989&\"_\"&C989&\" \"&D989&\"/\"&E989,B989&\" \"&D989),\"\")","v":"6700_SC6727 Physical Facilities/Utilities, Sewer"},{"$f":"Worktags!AS711","v":"6700"},{"$f":"IF(Worktags!AQ711<>Worktags!AS711,Worktags!AQ711,\"\")","v":"SC6727"},{"$f":"IFERROR(VLOOKUP(B989,Worktags!AL:AO,2,FALSE),\"\")","v":"Physical Facilities"},{"$f":"IFERROR(VLOOKUP(C989,Worktags!O:T,2,FALSE),\"\")","v":"Utilities, Sewer"},"All"]
[{"$f":"IF(B990<>\"\",IF(C990<>\"\",B990&\"_\"&C990&\" \"&D990&\"/\"&E990,B990&\" \"&D990),\"\")","v":"6700_SC6728 Physical Facilities/Utilities, Water"},{"$f":"Worktags!AS713","v":"6700"},{"$f":"IF(Worktags!AQ713<>Worktags!AS713,Worktags!AQ713,\"\")","v":"SC6728"},{"$f":"IFERROR(VLOOKUP(B990,Worktags!AL:AO,2,FALSE),\"\")","v":"Physical Facilities"},{"$f":"IFERROR(VLOOKUP(C990,Worktags!O:T,2,FALSE),\"\")","v":"Utilities, Water"},"All"]
[{"$f":"IF(B991<>\"\",IF(C991<>\"\",B991&\"_\"&C991&\" \"&D991&\"/\"&E991,B991&\" \"&D991),\"\")","v":"6700_SC6729 Physical Facilities/Warehouse Fixtures"},{"$f":"Worktags!AS719","v":"6700"},{"$f":"IF(Worktags!AQ719<>Worktags!AS719,Worktags!AQ719,\"\")","v":"SC6729"},{"$f":"IFERROR(VLOOKUP(B991,Worktags!AL:AO,2,FALSE),\"\")","v":"Physical Facilities"},{"$f":"IFERROR(VLOOKUP(C991,Worktags!O:T,2,FALSE),\"\")","v":"Warehouse Fixtures"},"All"]
[{"$f":"IF(B992<>\"\",IF(C992<>\"\",B992&\"_\"&C992&\" \"&D992&\"/\"&E992,B992&\" \"&D992),\"\")","v":"6700_SC6730 Physical Facilities/Window Treatments"},{"$f":"Worktags!AS726","v":"6700"},{"$f":"IF(Worktags!AQ726<>Worktags!AS726,Worktags!AQ726,\"\")","v":"SC6730"},{"$f":"IFERROR(VLOOKUP(B992,Worktags!AL:AO,2,FALSE),\"\")","v":"Physical Facilities"},{"$f":"IFERROR(VLOOKUP(C992,Worktags!O:T,2,FALSE),\"\")","v":"Window Treatments"},"All"]
[{"$f":"IF(B993<>\"\",IF(C993<>\"\",B993&\"_\"&C993&\" \"&D993&\"/\"&E993,B993&\" \"&D993),\"\")","v":"6700_SC6731 Physical Facilities/Stage and Studio Lighting (Only Workday Inventory Module)"},{"$f":"Worktags!AS731","v":"6700"},{"$f":"IF(Worktags!AQ731<>Worktags!AS731,Worktags!AQ731,\"\")","v":"SC6731"},{"$f":"IFERROR(VLOOKUP(B993,Worktags!AL:AO,2,FALSE),\"\")","v":"Physical Facilities"},{"$f":"IFERROR(VLOOKUP(C993,Worktags!O:T,2,FALSE),\"\")","v":"Stage and Studio Lighting (Only Workday Inventory Module)"},"All"]
[{"$f":"IF(B994<>\"\",IF(C994<>\"\",B994&\"_\"&C994&\" \"&D994&\"/\"&E994,B994&\" \"&D994),\"\")","v":"6700_SC6799 Physical Facilities/Physical Facilities (reclass)"},{"$f":"Worktags!AS735","v":"6700"},{"$f":"IF(Worktags!AQ735<>Worktags!AS735,Worktags!AQ735,\"\")","v":"SC6799"},{"$f":"IFERROR(VLOOKUP(B994,Worktags!AL:AO,2,FALSE),\"\")","v":"Physical Facilities"},{"$f":"IFERROR(VLOOKUP(C994,Worktags!O:T,2,FALSE),\"\")","v":"Physical Facilities (reclass)"},"All"]
[{"$f":"IF(B995<>\"\",IF(C995<>\"\",B995&\"_\"&C995&\" \"&D995&\"/\"&E995,B995&\" \"&D995),\"\")","v":"6900 Equipment, Software, Library"},{"$f":"Worktags!AL137","v":"6900"},null,{"$f":"IFERROR(VLOOKUP(B995,Worktags!AL:AO,2,FALSE),\"\")","v":"Equipment, Software, Library"},null,"All"]
[{"$f":"IF(B996<>\"\",IF(C996<>\"\",B996&\"_\"&C996&\" \"&D996&\"/\"&E996,B996&\" \"&D996),\"\")","v":"6900_SC0691 Equipment, Software, Library/Equipment (Budget Only)"},{"$f":"Worktags!AS212","v":"6900"},{"$f":"IF(Worktags!AQ212<>Worktags!AS212,Worktags!AQ212,\"\")","v":"SC0691"},{"$f":"IFERROR(VLOOKUP(B996,Worktags!AL:AO,2,FALSE),\"\")","v":"Equipment, Software, Library"},{"$f":"IFERROR(VLOOKUP(C996,Worktags!O:T,2,FALSE),\"\")","v":"Equipment (Budget Only)"},"All"]
[{"$f":"IF(B997<>\"\",IF(C997<>\"\",B997&\"_\"&C997&\" \"&D997&\"/\"&E997,B997&\" \"&D997),\"\")","v":"6900_SC0692 Equipment, Software, Library/Converted Equipment (Budget Only)"},{"$f":"Worktags!AS213","v":"6900"},{"$f":"IF(Worktags!AQ213<>Worktags!AS213,Worktags!AQ213,\"\")","v":"SC0692"},{"$f":"IFERROR(VLOOKUP(B997,Worktags!AL:AO,2,FALSE),\"\")","v":"Equipment, Software, Library"},{"$f":"IFERROR(VLOOKUP(C997,Worktags!O:T,2,FALSE),\"\")","v":"Converted Equipment (Budget Only)"},"All"]
[{"$f":"IF(B998<>\"\",IF(C998<>\"\",B998&\"_\"&C998&\" \"&D998&\"/\"&E998,B998&\" \"&D998),\"\")","v":"6900_SC0693 Equipment, Software, Library/Equipment Maintenance (Budget Only)"},{"$f":"Worktags!AS214","v":"6900"},{"$f":"IF(Worktags!AQ214<>Worktags!AS214,Worktags!AQ214,\"\")","v":"SC0693"},{"$f":"IFERROR(VLOOKUP(B998,Worktags!AL:AO,2,FALSE),\"\")","v":"Equipment, Software, Library"},{"$f":"IFERROR(VLOOKUP(C998,Worktags!O:T,2,FALSE),\"\")","v":"Equipment Maintenance (Budget Only)"},"All"]
[{"$f":"IF(B999<>\"\",IF(C999<>\"\",B999&\"_\"&C999&\" \"&D999&\"/\"&E999,B999&\" \"&D999),\"\")","v":"6900_SC0694 Equipment, Software, Library/Software (Budget Only)"},{"$f":"Worktags!AS215","v":"6900"},{"$f":"IF(Worktags!AQ215<>Worktags!AS215,Worktags!AQ215,\"\")","v":"SC0694"},{"$f":"IFERROR(VLOOKUP(B999,Worktags!AL:AO,2,FALSE),\"\")","v":"Equipment, Software, Library"},{"$f":"IFERROR(VLOOKUP(C999,Worktags!O:T,2,FALSE),\"\")","v":"Software (Budget Only)"},"All"]
[{"$f":"IF(B1000<>\"\",IF(C1000<>\"\",B1000&\"_\"&C1000&\" \"&D1000&\"/\"&E1000,B1000&\" \"&D1000),\"\")","v":"6900_SC0695 Equipment, Software, Library/Converted Software (Budget Only)"},{"$f":"Worktags!AS216","v":"6900"},{"$f":"IF(Worktags!AQ216<>Worktags!AS216,Worktags!AQ216,\"\")","v":"SC0695"},{"$f":"IFERROR(VLOOKUP(B1000,Worktags!AL:AO,2,FALSE),\"\")","v":"Equipment, Software, Library"},{"$f":"IFERROR(VLOOKUP(C1000,Worktags!O:T,2,FALSE),\"\")","v":"Converted Software (Budget Only)"},"All"]
[{"$f":"IF(B1001<>\"\",IF(C1001<>\"\",B1001&\"_\"&C1001&\" \"&D1001&\"/\"&E1001,B1001&\" \"&D1001),\"\")","v":"6900_SC0696 Equipment, Software, Library/Library Content (Budget Only)"},{"$f":"Worktags!AS217","v":"6900"},{"$f":"IF(Worktags!AQ217<>Worktags!AS217,Worktags!AQ217,\"\")","v":"SC0696"},{"$f":"IFERROR(VLOOKUP(B1001,Worktags!AL:AO,2,FALSE),\"\")","v":"Equipment, Software, Library"},{"$f":"IFERROR(VLOOKUP(C1001,Worktags!O:T,2,FALSE),\"\")","v":"Library Content (Budget Only)"},"All"]
[{"$f":"IF(B1002<>\"\",IF(C1002<>\"\",B1002&\"_\"&C1002&\" \"&D1002&\"/\"&E1002,B1002&\" \"&D1002),\"\")","v":"6900_SC0697 Equipment, Software, Library/Converted Library Content (Budget Only)"},{"$f":"Worktags!AS218","v":"6900"},{"$f":"IF(Worktags!AQ218<>Worktags!AS218,Worktags!AQ218,\"\")","v":"SC0697"},{"$f":"IFERROR(VLOOKUP(B1002,Worktags!AL:AO,2,FALSE),\"\")","v":"Equipment, Software, Library"},{"$f":"IFERROR(VLOOKUP(C1002,Worktags!O:T,2,FALSE),\"\")","v":"Converted Library Content (Budget Only)"},"All"]
[{"$f":"IF(B1003<>\"\",IF(C1003<>\"\",B1003&\"_\"&C1003&\" \"&D1003&\"/\"&E1003,B1003&\" \"&D1003),\"\")","v":"6900_SC6901 Equipment, Software, Library/Art Equipment"},{"$f":"Worktags!AS741","v":"6900"},{"$f":"IF(Worktags!AQ741<>Worktags!AS741,Worktags!AQ741,\"\")","v":"SC6901"},{"$f":"IFERROR(VLOOKUP(B1003,Worktags!AL:AO,2,FALSE),\"\")","v":"Equipment, Software, Library"},{"$f":"IFERROR(VLOOKUP(C1003,Worktags!O:T,2,FALSE),\"\")","v":"Art Equipment"},"All"]
[{"$f":"IF(B1004<>\"\",IF(C1004<>\"\",B1004&\"_\"&C1004&\" \"&D1004&\"/\"&E1004,B1004&\" \"&D1004),\"\")","v":"6900_SC6902 Equipment, Software, Library/Athletic Equipment"},{"$f":"Worktags!AS748","v":"6900"},{"$f":"IF(Worktags!AQ748<>Worktags!AS748,Worktags!AQ748,\"\")","v":"SC6902"},{"$f":"IFERROR(VLOOKUP(B1004,Worktags!AL:AO,2,FALSE),\"\")","v":"Equipment, Software, Library"},{"$f":"IFERROR(VLOOKUP(C1004,Worktags!O:T,2,FALSE),\"\")","v":"Athletic Equipment"},"All"]
[{"$f":"IF(B1005<>\"\",IF(C1005<>\"\",B1005&\"_\"&C1005&\" \"&D1005&\"/\"&E1005,B1005&\" \"&D1005),\"\")","v":"6900_SC6903 Equipment, Software, Library/Audio Visual Equipment (Asset Track)"},{"$f":"Worktags!AS755","v":"6900"},{"$f":"IF(Worktags!AQ755<>Worktags!AS755,Worktags!AQ755,\"\")","v":"SC6903"},{"$f":"IFERROR(VLOOKUP(B1005,Worktags!AL:AO,2,FALSE),\"\")","v":"Equipment, Software, Library"},{"$f":"IFERROR(VLOOKUP(C1005,Worktags!O:T,2,FALSE),\"\")","v":"Audio Visual Equipment (Asset Track)"},"All"]
[{"$f":"IF(B1006<>\"\",IF(C1006<>\"\",B1006&\"_\"&C1006&\" \"&D1006&\"/\"&E1006,B1006&\" \"&D1006),\"\")","v":"6900_SC6904 Equipment, Software, Library/Communication Devices (Asset Track)"},{"$f":"Worktags!AS762","v":"6900"},{"$f":"IF(Worktags!AQ762<>Worktags!AS762,Worktags!AQ762,\"\")","v":"SC6904"},{"$f":"IFERROR(VLOOKUP(B1006,Worktags!AL:AO,2,FALSE),\"\")","v":"Equipment, Software, Library"},{"$f":"IFERROR(VLOOKUP(C1006,Worktags!O:T,2,FALSE),\"\")","v":"Communication Devices (Asset Track)"},"All"]
[{"$f":"IF(B1007<>\"\",IF(C1007<>\"\",B1007&\"_\"&C1007&\" \"&D1007&\"/\"&E1007,B1007&\" \"&D1007),\"\")","v":"6900_SC6905 Equipment, Software, Library/Computer Hardware (Asset Track)"},{"$f":"Worktags!AS769","v":"6900"},{"$f":"IF(Worktags!AQ769<>Worktags!AS769,Worktags!AQ769,\"\")","v":"SC6905"},{"$f":"IFERROR(VLOOKUP(B1007,Worktags!AL:AO,2,FALSE),\"\")","v":"Equipment, Software, Library"},{"$f":"IFERROR(VLOOKUP(C1007,Worktags!O:T,2,FALSE),\"\")","v":"Computer Hardware (Asset Track)"},"All"]
[{"$f":"IF(B1008<>\"\",IF(C1008<>\"\",B1008&\"_\"&C1008&\" \"&D1008&\"/\"&E1008,B1008&\" \"&D1008),\"\")","v":"6900_SC6906 Equipment, Software, Library/Data Network Equipment (Asset Track)"},{"$f":"Worktags!AS776","v":"6900"},{"$f":"IF(Worktags!AQ776<>Worktags!AS776,Worktags!AQ776,\"\")","v":"SC6906"},{"$f":"IFERROR(VLOOKUP(B1008,Worktags!AL:AO,2,FALSE),\"\")","v":"Equipment, Software, Library"},{"$f":"IFERROR(VLOOKUP(C1008,Worktags!O:T,2,FALSE),\"\")","v":"Data Network Equipment (Asset Track)"},"All"]
[{"$f":"IF(B1009<>\"\",IF(C1009<>\"\",B1009&\"_\"&C1009&\" \"&D1009&\"/\"&E1009,B1009&\" \"&D1009),\"\")","v":"6900_SC6907 Equipment, Software, Library/Equipment (not otherwise specified) (Asset Track)"},{"$f":"Worktags!AS783","v":"6900"},{"$f":"IF(Worktags!AQ783<>Worktags!AS783,Worktags!AQ783,\"\")","v":"SC6907"},{"$f":"IFERROR(VLOOKUP(B1009,Worktags!AL:AO,2,FALSE),\"\")","v":"Equipment, Software, Library"},{"$f":"IFERROR(VLOOKUP(C1009,Worktags!O:T,2,FALSE),\"\")","v":"Equipment (not otherwise specified) (Asset Track)"},"All"]
[{"$f":"IF(B1010<>\"\",IF(C1010<>\"\",B1010&\"_\"&C1010&\" \"&D1010&\"/\"&E1010,B1010&\" \"&D1010),\"\")","v":"6900_SC6908 Equipment, Software, Library/Equipment Maintenance (not otherwise specified)"},{"$f":"Worktags!AS786","v":"6900"},{"$f":"IF(Worktags!AQ786<>Worktags!AS786,Worktags!AQ786,\"\")","v":"SC6908"},{"$f":"IFERROR(VLOOKUP(B1010,Worktags!AL:AO,2,FALSE),\"\")","v":"Equipment, Software, Library"},{"$f":"IFERROR(VLOOKUP(C1010,Worktags!O:T,2,FALSE),\"\")","v":"Equipment Maintenance (not otherwise specified)"},"All"]
[{"$f":"IF(B1011<>\"\",IF(C1011<>\"\",B1011&\"_\"&C1011&\" \"&D1011&\"/\"&E1011,B1011&\" \"&D1011),\"\")","v":"6900_SC6909 Equipment, Software, Library/Firearms"},{"$f":"Worktags!AS790","v":"6900"},{"$f":"IF(Worktags!AQ790<>Worktags!AS790,Worktags!AQ790,\"\")","v":"SC6909"},{"$f":"IFERROR(VLOOKUP(B1011,Worktags!AL:AO,2,FALSE),\"\")","v":"Equipment, Software, Library"},{"$f":"IFERROR(VLOOKUP(C1011,Worktags!O:T,2,FALSE),\"\")","v":"Firearms"},"All"]
[{"$f":"IF(B1012<>\"\",IF(C1012<>\"\",B1012&\"_\"&C1012&\" \"&D1012&\"/\"&E1012,B1012&\" \"&D1012),\"\")","v":"6900_SC6910 Equipment, Software, Library/Food Service Equipment"},{"$f":"Worktags!AS797","v":"6900"},{"$f":"IF(Worktags!AQ797<>Worktags!AS797,Worktags!AQ797,\"\")","v":"SC6910"},{"$f":"IFERROR(VLOOKUP(B1012,Worktags!AL:AO,2,FALSE),\"\")","v":"Equipment, Software, Library"},{"$f":"IFERROR(VLOOKUP(C1012,Worktags!O:T,2,FALSE),\"\")","v":"Food Service Equipment"},"All"]
[{"$f":"IF(B1013<>\"\",IF(C1013<>\"\",B1013&\"_\"&C1013&\" \"&D1013&\"/\"&E1013,B1013&\" \"&D1013),\"\")","v":"6900_SC6911 Equipment, Software, Library/Grants Capital Equipment"},{"$f":"Worktags!AS802","v":"6900"},{"$f":"IF(Worktags!AQ802<>Worktags!AS802,Worktags!AQ802,\"\")","v":"SC6911"},{"$f":"IFERROR(VLOOKUP(B1013,Worktags!AL:AO,2,FALSE),\"\")","v":"Equipment, Software, Library"},{"$f":"IFERROR(VLOOKUP(C1013,Worktags!O:T,2,FALSE),\"\")","v":"Grants Capital Equipment"},"All"]
[{"$f":"IF(B1014<>\"\",IF(C1014<>\"\",B1014&\"_\"&C1014&\" \"&D1014&\"/\"&E1014,B1014&\" \"&D1014),\"\")","v":"6900_SC6912 Equipment, Software, Library/Grants Non-Capital Equipment"},{"$f":"Worktags!AS805","v":"6900"},{"$f":"IF(Worktags!AQ805<>Worktags!AS805,Worktags!AQ805,\"\")","v":"SC6912"},{"$f":"IFERROR(VLOOKUP(B1014,Worktags!AL:AO,2,FALSE),\"\")","v":"Equipment, Software, Library"},{"$f":"IFERROR(VLOOKUP(C1014,Worktags!O:T,2,FALSE),\"\")","v":"Grants Non-Capital Equipment"},"All"]
[{"$f":"IF(B1015<>\"\",IF(C1015<>\"\",B1015&\"_\"&C1015&\" \"&D1015&\"/\"&E1015,B1015&\" \"&D1015),\"\")","v":"6900_SC6913 Equipment, Software, Library/Grounds Equipment"},{"$f":"Worktags!AS809","v":"6900"},{"$f":"IF(Worktags!AQ809<>Worktags!AS809,Worktags!AQ809,\"\")","v":"SC6913"},{"$f":"IFERROR(VLOOKUP(B1015,Worktags!AL:AO,2,FALSE),\"\")","v":"Equipment, Software, Library"},{"$f":"IFERROR(VLOOKUP(C1015,Worktags!O:T,2,FALSE),\"\")","v":"Grounds Equipment"},"All"]
[{"$f":"IF(B1016<>\"\",IF(C1016<>\"\",B1016&\"_\"&C1016&\" \"&D1016&\"/\"&E1016,B1016&\" \"&D1016),\"\")","v":"6900_SC6914 Equipment, Software, Library/Industrial Equipment"},{"$f":"Worktags!AS816","v":"6900"},{"$f":"IF(Worktags!AQ816<>Worktags!AS816,Worktags!AQ816,\"\")","v":"SC6914"},{"$f":"IFERROR(VLOOKUP(B1016,Worktags!AL:AO,2,FALSE),\"\")","v":"Equipment, Software, Library"},{"$f":"IFERROR(VLOOKUP(C1016,Worktags!O:T,2,FALSE),\"\")","v":"Industrial Equipment"},"All"]
[{"$f":"IF(B1017<>\"\",IF(C1017<>\"\",B1017&\"_\"&C1017&\" \"&D1017&\"/\"&E1017,B1017&\" \"&D1017),\"\")","v":"6900_SC6915 Equipment, Software, Library/Janitorial Equipment"},{"$f":"Worktags!AS823","v":"6900"},{"$f":"IF(Worktags!AQ823<>Worktags!AS823,Worktags!AQ823,\"\")","v":"SC6915"},{"$f":"IFERROR(VLOOKUP(B1017,Worktags!AL:AO,2,FALSE),\"\")","v":"Equipment, Software, Library"},{"$f":"IFERROR(VLOOKUP(C1017,Worktags!O:T,2,FALSE),\"\")","v":"Janitorial Equipment"},"All"]
[{"$f":"IF(B1018<>\"\",IF(C1018<>\"\",B1018&\"_\"&C1018&\" \"&D1018&\"/\"&E1018,B1018&\" \"&D1018),\"\")","v":"6900_SC6916 Equipment, Software, Library/Janitorial Equipment Maintenance"},{"$f":"Worktags!AS826","v":"6900"},{"$f":"IF(Worktags!AQ826<>Worktags!AS826,Worktags!AQ826,\"\")","v":"SC6916"},{"$f":"IFERROR(VLOOKUP(B1018,Worktags!AL:AO,2,FALSE),\"\")","v":"Equipment, Software, Library"},{"$f":"IFERROR(VLOOKUP(C1018,Worktags!O:T,2,FALSE),\"\")","v":"Janitorial Equipment Maintenance"},"All"]
[{"$f":"IF(B1019<>\"\",IF(C1019<>\"\",B1019&\"_\"&C1019&\" \"&D1019&\"/\"&E1019,B1019&\" \"&D1019),\"\")","v":"6900_SC6917 Equipment, Software, Library/Laundry Equipment"},{"$f":"Worktags!AS832","v":"6900"},{"$f":"IF(Worktags!AQ832<>Worktags!AS832,Worktags!AQ832,\"\")","v":"SC6917"},{"$f":"IFERROR(VLOOKUP(B1019,Worktags!AL:AO,2,FALSE),\"\")","v":"Equipment, Software, Library"},{"$f":"IFERROR(VLOOKUP(C1019,Worktags!O:T,2,FALSE),\"\")","v":"Laundry Equipment"},"All"]
[{"$f":"IF(B1020<>\"\",IF(C1020<>\"\",B1020&\"_\"&C1020&\" \"&D1020&\"/\"&E1020,B1020&\" \"&D1020),\"\")","v":"6900_SC6918 Equipment, Software, Library/Library Content"},{"$f":"Worktags!AS837","v":"6900"},{"$f":"IF(Worktags!AQ837<>Worktags!AS837,Worktags!AQ837,\"\")","v":"SC6918"},{"$f":"IFERROR(VLOOKUP(B1020,Worktags!AL:AO,2,FALSE),\"\")","v":"Equipment, Software, Library"},{"$f":"IFERROR(VLOOKUP(C1020,Worktags!O:T,2,FALSE),\"\")","v":"Library Content"},"All"]
[{"$f":"IF(B1021<>\"\",IF(C1021<>\"\",B1021&\"_\"&C1021&\" \"&D1021&\"/\"&E1021,B1021&\" \"&D1021),\"\")","v":"6900_SC6919 Equipment, Software, Library/Library Subscriptions"},{"$f":"Worktags!AS840","v":"6900"},{"$f":"IF(Worktags!AQ840<>Worktags!AS840,Worktags!AQ840,\"\")","v":"SC6919"},{"$f":"IFERROR(VLOOKUP(B1021,Worktags!AL:AO,2,FALSE),\"\")","v":"Equipment, Software, Library"},{"$f":"IFERROR(VLOOKUP(C1021,Worktags!O:T,2,FALSE),\"\")","v":"Library Subscriptions"},"All"]
[{"$f":"IF(B1022<>\"\",IF(C1022<>\"\",B1022&\"_\"&C1022&\" \"&D1022&\"/\"&E1022,B1022&\" \"&D1022),\"\")","v":"6900_SC6920 Equipment, Software, Library/Media Content"},{"$f":"Worktags!AS844","v":"6900"},{"$f":"IF(Worktags!AQ844<>Worktags!AS844,Worktags!AQ844,\"\")","v":"SC6920"},{"$f":"IFERROR(VLOOKUP(B1022,Worktags!AL:AO,2,FALSE),\"\")","v":"Equipment, Software, Library"},{"$f":"IFERROR(VLOOKUP(C1022,Worktags!O:T,2,FALSE),\"\")","v":"Media Content"},"All"]
[{"$f":"IF(B1023<>\"\",IF(C1023<>\"\",B1023&\"_\"&C1023&\" \"&D1023&\"/\"&E1023,B1023&\" \"&D1023),\"\")","v":"6900_SC6921 Equipment, Software, Library/Medical Equipment"},{"$f":"Worktags!AS851","v":"6900"},{"$f":"IF(Worktags!AQ851<>Worktags!AS851,Worktags!AQ851,\"\")","v":"SC6921"},{"$f":"IFERROR(VLOOKUP(B1023,Worktags!AL:AO,2,FALSE),\"\")","v":"Equipment, Software, Library"},{"$f":"IFERROR(VLOOKUP(C1023,Worktags!O:T,2,FALSE),\"\")","v":"Medical Equipment"},"All"]
[{"$f":"IF(B1024<>\"\",IF(C1024<>\"\",B1024&\"_\"&C1024&\" \"&D1024&\"/\"&E1024,B1024&\" \"&D1024),\"\")","v":"6900_SC6922 Equipment, Software, Library/Medical Equipment - Maintenance"},{"$f":"Worktags!AS854","v":"6900"},{"$f":"IF(Worktags!AQ854<>Worktags!AS854,Worktags!AQ854,\"\")","v":"SC6922"},{"$f":"IFERROR(VLOOKUP(B1024,Worktags!AL:AO,2,FALSE),\"\")","v":"Equipment, Software, Library"},{"$f":"IFERROR(VLOOKUP(C1024,Worktags!O:T,2,FALSE),\"\")","v":"Medical Equipment - Maintenance"},"All"]
[{"$f":"IF(B1025<>\"\",IF(C1025<>\"\",B1025&\"_\"&C1025&\" \"&D1025&\"/\"&E1025,B1025&\" \"&D1025),\"\")","v":"6900_SC6923 Equipment, Software, Library/Musical Instruments"},{"$f":"Worktags!AS858","v":"6900"},{"$f":"IF(Worktags!AQ858<>Worktags!AS858,Worktags!AQ858,\"\")","v":"SC6923"},{"$f":"IFERROR(VLOOKUP(B1025,Worktags!AL:AO,2,FALSE),\"\")","v":"Equipment, Software, Library"},{"$f":"IFERROR(VLOOKUP(C1025,Worktags!O:T,2,FALSE),\"\")","v":"Musical Instruments"},"All"]
[{"$f":"IF(B1026<>\"\",IF(C1026<>\"\",B1026&\"_\"&C1026&\" \"&D1026&\"/\"&E1026,B1026&\" \"&D1026),\"\")","v":"6900_SC6924 Equipment, Software, Library/Office Equipment (Asset Track)"},{"$f":"Worktags!AS865","v":"6900"},{"$f":"IF(Worktags!AQ865<>Worktags!AS865,Worktags!AQ865,\"\")","v":"SC6924"},{"$f":"IFERROR(VLOOKUP(B1026,Worktags!AL:AO,2,FALSE),\"\")","v":"Equipment, Software, Library"},{"$f":"IFERROR(VLOOKUP(C1026,Worktags!O:T,2,FALSE),\"\")","v":"Office Equipment (Asset Track)"},"All"]
[{"$f":"IF(B1027<>\"\",IF(C1027<>\"\",B1027&\"_\"&C1027&\" \"&D1027&\"/\"&E1027,B1027&\" \"&D1027),\"\")","v":"6900_SC6925 Equipment, Software, Library/Office Equipment - Maintenance"},{"$f":"Worktags!AS868","v":"6900"},{"$f":"IF(Worktags!AQ868<>Worktags!AS868,Worktags!AQ868,\"\")","v":"SC6925"},{"$f":"IFERROR(VLOOKUP(B1027,Worktags!AL:AO,2,FALSE),\"\")","v":"Equipment, Software, Library"},{"$f":"IFERROR(VLOOKUP(C1027,Worktags!O:T,2,FALSE),\"\")","v":"Office Equipment - Maintenance"},"All"]
[{"$f":"IF(B1028<>\"\",IF(C1028<>\"\",B1028&\"_\"&C1028&\" \"&D1028&\"/\"&E1028,B1028&\" \"&D1028),\"\")","v":"6900_SC6926 Equipment, Software, Library/Photography Equipment"},{"$f":"Worktags!AS872","v":"6900"},{"$f":"IF(Worktags!AQ872<>Worktags!AS872,Worktags!AQ872,\"\")","v":"SC6926"},{"$f":"IFERROR(VLOOKUP(B1028,Worktags!AL:AO,2,FALSE),\"\")","v":"Equipment, Software, Library"},{"$f":"IFERROR(VLOOKUP(C1028,Worktags!O:T,2,FALSE),\"\")","v":"Photography Equipment"},"All"]
[{"$f":"IF(B1029<>\"\",IF(C1029<>\"\",B1029&\"_\"&C1029&\" \"&D1029&\"/\"&E1029,B1029&\" \"&D1029),\"\")","v":"6900_SC6927 Equipment, Software, Library/Portable Structures"},{"$f":"Worktags!AS879","v":"6900"},{"$f":"IF(Worktags!AQ879<>Worktags!AS879,Worktags!AQ879,\"\")","v":"SC6927"},{"$f":"IFERROR(VLOOKUP(B1029,Worktags!AL:AO,2,FALSE),\"\")","v":"Equipment, Software, Library"},{"$f":"IFERROR(VLOOKUP(C1029,Worktags!O:T,2,FALSE),\"\")","v":"Portable Structures"},"All"]
[{"$f":"IF(B1030<>\"\",IF(C1030<>\"\",B1030&\"_\"&C1030&\" \"&D1030&\"/\"&E1030,B1030&\" \"&D1030),\"\")","v":"6900_SC6928 Equipment, Software, Library/Printing Equipment"},{"$f":"Worktags!AS886","v":"6900"},{"$f":"IF(Worktags!AQ886<>Worktags!AS886,Worktags!AQ886,\"\")","v":"SC6928"},{"$f":"IFERROR(VLOOKUP(B1030,Worktags!AL:AO,2,FALSE),\"\")","v":"Equipment, Software, Library"},{"$f":"IFERROR(VLOOKUP(C1030,Worktags!O:T,2,FALSE),\"\")","v":"Printing Equipment"},"All"]
[{"$f":"IF(B1031<>\"\",IF(C1031<>\"\",B1031&\"_\"&C1031&\" \"&D1031&\"/\"&E1031,B1031&\" \"&D1031),\"\")","v":"6900_SC6929 Equipment, Software, Library/Scientific and Engineering Equipment"},{"$f":"Worktags!AS893","v":"6900"},{"$f":"IF(Worktags!AQ893<>Worktags!AS893,Worktags!AQ893,\"\")","v":"SC6929"},{"$f":"IFERROR(VLOOKUP(B1031,Worktags!AL:AO,2,FALSE),\"\")","v":"Equipment, Software, Library"},{"$f":"IFERROR(VLOOKUP(C1031,Worktags!O:T,2,FALSE),\"\")","v":"Scientific and Engineering Equipment"},"All"]
[{"$f":"IF(B1032<>\"\",IF(C1032<>\"\",B1032&\"_\"&C1032&\" \"&D1032&\"/\"&E1032,B1032&\" \"&D1032),\"\")","v":"6900_SC6930 Equipment, Software, Library/Scientific Equipment - Maintenance"},{"$f":"Worktags!AS896","v":"6900"},{"$f":"IF(Worktags!AQ896<>Worktags!AS896,Worktags!AQ896,\"\")","v":"SC6930"},{"$f":"IFERROR(VLOOKUP(B1032,Worktags!AL:AO,2,FALSE),\"\")","v":"Equipment, Software, Library"},{"$f":"IFERROR(VLOOKUP(C1032,Worktags!O:T,2,FALSE),\"\")","v":"Scientific Equipment - Maintenance"},"All"]
[{"$f":"IF(B1033<>\"\",IF(C1033<>\"\",B1033&\"_\"&C1033&\" \"&D1033&\"/\"&E1033,B1033&\" \"&D1033),\"\")","v":"6900_SC6931 Equipment, Software, Library/Security Equipment (Asset Track)"},{"$f":"Worktags!AS902","v":"6900"},{"$f":"IF(Worktags!AQ902<>Worktags!AS902,Worktags!AQ902,\"\")","v":"SC6931"},{"$f":"IFERROR(VLOOKUP(B1033,Worktags!AL:AO,2,FALSE),\"\")","v":"Equipment, Software, Library"},{"$f":"IFERROR(VLOOKUP(C1033,Worktags!O:T,2,FALSE),\"\")","v":"Security Equipment (Asset Track)"},"All"]
[{"$f":"IF(B1034<>\"\",IF(C1034<>\"\",B1034&\"_\"&C1034&\" \"&D1034&\"/\"&E1034,B1034&\" \"&D1034),\"\")","v":"6900_SC6932 Equipment, Software, Library/Small Appliances"},{"$f":"Worktags!AS909","v":"6900"},{"$f":"IF(Worktags!AQ909<>Worktags!AS909,Worktags!AQ909,\"\")","v":"SC6932"},{"$f":"IFERROR(VLOOKUP(B1034,Worktags!AL:AO,2,FALSE),\"\")","v":"Equipment, Software, Library"},{"$f":"IFERROR(VLOOKUP(C1034,Worktags!O:T,2,FALSE),\"\")","v":"Small Appliances"},"All"]
[{"$f":"IF(B1035<>\"\",IF(C1035<>\"\",B1035&\"_\"&C1035&\" \"&D1035&\"/\"&E1035,B1035&\" \"&D1035),\"\")","v":"6900_SC6933 Equipment, Software, Library/Software"},{"$f":"Worktags!AS914","v":"6900"},{"$f":"IF(Worktags!AQ914<>Worktags!AS914,Worktags!AQ914,\"\")","v":"SC6933"},{"$f":"IFERROR(VLOOKUP(B1035,Worktags!AL:AO,2,FALSE),\"\")","v":"Equipment, Software, Library"},{"$f":"IFERROR(VLOOKUP(C1035,Worktags!O:T,2,FALSE),\"\")","v":"Software"},"All"]
[{"$f":"IF(B1036<>\"\",IF(C1036<>\"\",B1036&\"_\"&C1036&\" \"&D1036&\"/\"&E1036,B1036&\" \"&D1036),\"\")","v":"6900_SC6934 Equipment, Software, Library/Software and Media - Licenses"},{"$f":"Worktags!AS917","v":"6900"},{"$f":"IF(Worktags!AQ917<>Worktags!AS917,Worktags!AQ917,\"\")","v":"SC6934"},{"$f":"IFERROR(VLOOKUP(B1036,Worktags!AL:AO,2,FALSE),\"\")","v":"Equipment, Software, Library"},{"$f":"IFERROR(VLOOKUP(C1036,Worktags!O:T,2,FALSE),\"\")","v":"Software and Media - Licenses"},""]
[{"$f":"IF(B1037<>\"\",IF(C1037<>\"\",B1037&\"_\"&C1037&\" \"&D1037&\"/\"&E1037,B1037&\" \"&D1037),\"\")","v":"6900_SC6935 Equipment, Software, Library/Telecom Equipment"},{"$f":"Worktags!AS923","v":"6900"},{"$f":"IF(Worktags!AQ923<>Worktags!AS923,Worktags!AQ923,\"\")","v":"SC6935"},{"$f":"IFERROR(VLOOKUP(B1037,Worktags!AL:AO,2,FALSE),\"\")","v":"Equipment, Software, Library"},{"$f":"IFERROR(VLOOKUP(C1037,Worktags!O:T,2,FALSE),\"\")","v":"Telecom Equipment"},"All"]
[{"$f":"IF(B1038<>\"\",IF(C1038<>\"\",B1038&\"_\"&C1038&\" \"&D1038&\"/\"&E1038,B1038&\" \"&D1038),\"\")","v":"6900_SC6936 Equipment, Software, Library/Vehicles Services"},{"$f":"Worktags!AS926","v":"6900"},{"$f":"IF(Worktags!AQ926<>Worktags!AS926,Worktags!AQ926,\"\")","v":"SC6936"},{"$f":"IFERROR(VLOOKUP(B1038,Worktags!AL:AO,2,FALSE),\"\")","v":"Equipment, Software, Library"},{"$f":"IFERROR(VLOOKUP(C1038,Worktags!O:T,2,FALSE),\"\")","v":"Vehicles Services"},"All"]
[{"$f":"IF(B1039<>\"\",IF(C1039<>\"\",B1039&\"_\"&C1039&\" \"&D1039&\"/\"&E1039,B1039&\" \"&D1039),\"\")","v":"6900_SC6937 Equipment, Software, Library/Vehicles, Motor"},{"$f":"Worktags!AS930","v":"6900"},{"$f":"IF(Worktags!AQ930<>Worktags!AS930,Worktags!AQ930,\"\")","v":"SC6937"},{"$f":"IFERROR(VLOOKUP(B1039,Worktags!AL:AO,2,FALSE),\"\")","v":"Equipment, Software, Library"},{"$f":"IFERROR(VLOOKUP(C1039,Worktags!O:T,2,FALSE),\"\")","v":"Vehicles, Motor"},"All"]
[{"$f":"IF(B1040<>\"\",IF(C1040<>\"\",B1040&\"_\"&C1040&\" \"&D1040&\"/\"&E1040,B1040&\" \"&D1040),\"\")","v":"6900_SC6938 Equipment, Software, Library/Vehicles, Off-Road"},{"$f":"Worktags!AS935","v":"6900"},{"$f":"IF(Worktags!AQ935<>Worktags!AS935,Worktags!AQ935,\"\")","v":"SC6938"},{"$f":"IFERROR(VLOOKUP(B1040,Worktags!AL:AO,2,FALSE),\"\")","v":"Equipment, Software, Library"},{"$f":"IFERROR(VLOOKUP(C1040,Worktags!O:T,2,FALSE),\"\")","v":"Vehicles, Off-Road"},"All"]
[{"$f":"IF(B1041<>\"\",IF(C1041<>\"\",B1041&\"_\"&C1041&\" \"&D1041&\"/\"&E1041,B1041&\" \"&D1041),\"\")","v":"6900_SC6939 Equipment, Software, Library/Warehouse Equipment"},{"$f":"Worktags!AS942","v":"6900"},{"$f":"IF(Worktags!AQ942<>Worktags!AS942,Worktags!AQ942,\"\")","v":"SC6939"},{"$f":"IFERROR(VLOOKUP(B1041,Worktags!AL:AO,2,FALSE),\"\")","v":"Equipment, Software, Library"},{"$f":"IFERROR(VLOOKUP(C1041,Worktags!O:T,2,FALSE),\"\")","v":"Warehouse Equipment"},"All"]
[{"$f":"IF(B1042<>\"\",IF(C1042<>\"\",B1042&\"_\"&C1042&\" \"&D1042&\"/\"&E1042,B1042&\" \"&D1042),\"\")","v":"6900_SC6940 Equipment, Software, Library/Audio Visual Equipment (Only Workday Inventory Module)"},{"$f":"Worktags!AS947","v":"6900"},{"$f":"IF(Worktags!AQ947<>Worktags!AS947,Worktags!AQ947,\"\")","v":"SC6940"},{"$f":"IFERROR(VLOOKUP(B1042,Worktags!AL:AO,2,FALSE),\"\")","v":"Equipment, Software, Library"},{"$f":"IFERROR(VLOOKUP(C1042,Worktags!O:T,2,FALSE),\"\")","v":"Audio Visual Equipment (Only Workday Inventory Module)"},"All"]
[{"$f":"IF(B1043<>\"\",IF(C1043<>\"\",B1043&\"_\"&C1043&\" \"&D1043&\"/\"&E1043,B1043&\" \"&D1043),\"\")","v":"6900_SC6941 Equipment, Software, Library/Communication Devices (Only Workday Inventory Module)"},{"$f":"Worktags!AS951","v":"6900"},{"$f":"IF(Worktags!AQ951<>Worktags!AS951,Worktags!AQ951,\"\")","v":"SC6941"},{"$f":"IFERROR(VLOOKUP(B1043,Worktags!AL:AO,2,FALSE),\"\")","v":"Equipment, Software, Library"},{"$f":"IFERROR(VLOOKUP(C1043,Worktags!O:T,2,FALSE),\"\")","v":"Communication Devices (Only Workday Inventory Module)"},"All"]
[{"$f":"IF(B1044<>\"\",IF(C1044<>\"\",B1044&\"_\"&C1044&\" \"&D1044&\"/\"&E1044,B1044&\" \"&D1044),\"\")","v":"6900_SC6942 Equipment, Software, Library/Computer Hardware (Only Workday Inventory Module)"},{"$f":"Worktags!AS955","v":"6900"},{"$f":"IF(Worktags!AQ955<>Worktags!AS955,Worktags!AQ955,\"\")","v":"SC6942"},{"$f":"IFERROR(VLOOKUP(B1044,Worktags!AL:AO,2,FALSE),\"\")","v":"Equipment, Software, Library"},{"$f":"IFERROR(VLOOKUP(C1044,Worktags!O:T,2,FALSE),\"\")","v":"Computer Hardware (Only Workday Inventory Module)"},""]
[{"$f":"IF(B1045<>\"\",IF(C1045<>\"\",B1045&\"_\"&C1045&\" \"&D1045&\"/\"&E1045,B1045&\" \"&D1045),\"\")","v":"6900_SC6943 Equipment, Software, Library/Data Network Equipment (Only Workday Inventory Module)"},{"$f":"Worktags!AS959","v":"6900"},{"$f":"IF(Worktags!AQ959<>Worktags!AS959,Worktags!AQ959,\"\")","v":"SC6943"},{"$f":"IFERROR(VLOOKUP(B1045,Worktags!AL:AO,2,FALSE),\"\")","v":"Equipment, Software, Library"},{"$f":"IFERROR(VLOOKUP(C1045,Worktags!O:T,2,FALSE),\"\")","v":"Data Network Equipment (Only Workday Inventory Module)"},"JE_PPE|JE_Override"]
[{"$f":"IF(B1046<>\"\",IF(C1046<>\"\",B1046&\"_\"&C1046&\" \"&D1046&\"/\"&E1046,B1046&\" \"&D1046),\"\")","v":"6900_SC6944 Equipment, Software, Library/Equipment (not otherwise specified) (Only Workday Inventory Module)"},{"$f":"Worktags!AS963","v":"6900"},{"$f":"IF(Worktags!AQ963<>Worktags!AS963,Worktags!AQ963,\"\")","v":"SC6944"},{"$f":"IFERROR(VLOOKUP(B1046,Worktags!AL:AO,2,FALSE),\"\")","v":"Equipment, Software, Library"},{"$f":"IFERROR(VLOOKUP(C1046,Worktags!O:T,2,FALSE),\"\")","v":"Equipment (not otherwise specified) (Only Workday Inventory Module)"},"JE_PPE|JE_Override"]
[{"$f":"IF(B1047<>\"\",IF(C1047<>\"\",B1047&\"_\"&C1047&\" \"&D1047&\"/\"&E1047,B1047&\" \"&D1047),\"\")","v":"6900_SC6945 Equipment, Software, Library/Office Equipment (Only Workday Inventory Module)"},{"$f":"Worktags!AS967","v":"6900"},{"$f":"IF(Worktags!AQ967<>Worktags!AS967,Worktags!AQ967,\"\")","v":"SC6945"},{"$f":"IFERROR(VLOOKUP(B1047,Worktags!AL:AO,2,FALSE),\"\")","v":"Equipment, Software, Library"},{"$f":"IFERROR(VLOOKUP(C1047,Worktags!O:T,2,FALSE),\"\")","v":"Office Equipment (Only Workday Inventory Module)"},"JE_PPE|JE_Override"]
[{"$f":"IF(B1048<>\"\",IF(C1048<>\"\",B1048&\"_\"&C1048&\" \"&D1048&\"/\"&E1048,B1048&\" \"&D1048),\"\")","v":"6900_SC6946 Equipment, Software, Library/Security Equipment (Only Workday Inventory Module)"},{"$f":"Worktags!AS971","v":"6900"},{"$f":"IF(Worktags!AQ971<>Worktags!AS971,Worktags!AQ971,\"\")","v":"SC6946"},{"$f":"IFERROR(VLOOKUP(B1048,Worktags!AL:AO,2,FALSE),\"\")","v":"Equipment, Software, Library"},{"$f":"IFERROR(VLOOKUP(C1048,Worktags!O:T,2,FALSE),\"\")","v":"Security Equipment (Only Workday Inventory Module)"},"JE_PPE|JE_Override"]
[{"$f":"IF(B1049<>\"\",IF(C1049<>\"\",B1049&\"_\"&C1049&\" \"&D1049&\"/\"&E1049,B1049&\" \"&D1049),\"\")","v":"6900_SC6999 Equipment, Software, Library/Equipment (reclass)"},{"$f":"Worktags!AS975","v":"6900"},{"$f":"IF(Worktags!AQ975<>Worktags!AS975,Worktags!AQ975,\"\")","v":"SC6999"},{"$f":"IFERROR(VLOOKUP(B1049,Worktags!AL:AO,2,FALSE),\"\")","v":"Equipment, Software, Library"},{"$f":"IFERROR(VLOOKUP(C1049,Worktags!O:T,2,FALSE),\"\")","v":"Equipment (reclass)"},"JE_PPE|JE_Override"]
[{"$f":"IF(B1050<>\"\",IF(C1050<>\"\",B1050&\"_\"&C1050&\" \"&D1050&\"/\"&E1050,B1050&\" \"&D1050),\"\")","v":"7000 Travel"},{"$f":"Worktags!AL138","v":"7000"},null,{"$f":"IFERROR(VLOOKUP(B1050,Worktags!AL:AO,2,FALSE),\"\")","v":"Travel"},null,"JE_PPE|JE_Override"]
[{"$f":"IF(B1051<>\"\",IF(C1051<>\"\",B1051&\"_\"&C1051&\" \"&D1051&\"/\"&E1051,B1051&\" \"&D1051),\"\")","v":"7000_SC7001 Travel/Travel"},{"$f":"Worktags!AS977","v":"7000"},{"$f":"IF(Worktags!AQ977<>Worktags!AS977,Worktags!AQ977,\"\")","v":"SC7001"},{"$f":"IFERROR(VLOOKUP(B1051,Worktags!AL:AO,2,FALSE),\"\")","v":"Travel"},{"$f":"IFERROR(VLOOKUP(C1051,Worktags!O:T,2,FALSE),\"\")","v":"Travel"},"JE_PPE|JE_Override"]
[{"$f":"IF(B1052<>\"\",IF(C1052<>\"\",B1052&\"_\"&C1052&\" \"&D1052&\"/\"&E1052,B1052&\" \"&D1052),\"\")","v":"8000 Depreciation"},{"$f":"Worktags!AL139","v":"8000"},null,{"$f":"IFERROR(VLOOKUP(B1052,Worktags!AL:AO,2,FALSE),\"\")","v":"Depreciation"},null,"JE_PPE|JE_Override"]
[{"$f":"IF(B1053<>\"\",IF(C1053<>\"\",B1053&\"_\"&C1053&\" \"&D1053&\"/\"&E1053,B1053&\" \"&D1053),\"\")","v":"8000_SC1605 Depreciation/Buildings"},{"$f":"Worktags!AS232","v":"8000"},{"$f":"IF(Worktags!AQ232<>Worktags!AS232,Worktags!AQ232,\"\")","v":"SC1605"},{"$f":"IFERROR(VLOOKUP(B1053,Worktags!AL:AO,2,FALSE),\"\")","v":"Depreciation"},{"$f":"IFERROR(VLOOKUP(C1053,Worktags!O:T,2,FALSE),\"\")","v":"Buildings"},"JE_PPE|JE_Override"]
[{"$f":"IF(B1054<>\"\",IF(C1054<>\"\",B1054&\"_\"&C1054&\" \"&D1054&\"/\"&E1054,B1054&\" \"&D1054),\"\")","v":"8000_SC1635 Depreciation/Misc Capital Assets"},{"$f":"Worktags!AS236","v":"8000"},{"$f":"IF(Worktags!AQ236<>Worktags!AS236,Worktags!AQ236,\"\")","v":"SC1635"},{"$f":"IFERROR(VLOOKUP(B1054,Worktags!AL:AO,2,FALSE),\"\")","v":"Depreciation"},{"$f":"IFERROR(VLOOKUP(C1054,Worktags!O:T,2,FALSE),\"\")","v":"Misc Capital Assets"},"JE_PPE|JE_Override"]
[{"$f":"IF(B1055<>\"\",IF(C1055<>\"\",B1055&\"_\"&C1055&\" \"&D1055&\"/\"&E1055,B1055&\" \"&D1055),\"\")","v":"8000_SC6701 Depreciation/Building Access Supplies"},{"$f":"Worktags!AS577","v":"8000"},{"$f":"IF(Worktags!AQ577<>Worktags!AS577,Worktags!AQ577,\"\")","v":"SC6701"},{"$f":"IFERROR(VLOOKUP(B1055,Worktags!AL:AO,2,FALSE),\"\")","v":"Depreciation"},{"$f":"IFERROR(VLOOKUP(C1055,Worktags!O:T,2,FALSE),\"\")","v":"Building Access Supplies"},"JE_PPE|JE_Override"]
[{"$f":"IF(B1056<>\"\",IF(C1056<>\"\",B1056&\"_\"&C1056&\" \"&D1056&\"/\"&E1056,B1056&\" \"&D1056),\"\")","v":"8000_SC6702 Depreciation/Building Construction and Improvements"},{"$f":"Worktags!AS584","v":"8000"},{"$f":"IF(Worktags!AQ584<>Worktags!AS584,Worktags!AQ584,\"\")","v":"SC6702"},{"$f":"IFERROR(VLOOKUP(B1056,Worktags!AL:AO,2,FALSE),\"\")","v":"Depreciation"},{"$f":"IFERROR(VLOOKUP(C1056,Worktags!O:T,2,FALSE),\"\")","v":"Building Construction and Improvements"},"JE_PPE|JE_Override"]
[{"$f":"IF(B1057<>\"\",IF(C1057<>\"\",B1057&\"_\"&C1057&\" \"&D1057&\"/\"&E1057,B1057&\" \"&D1057),\"\")","v":"8000_SC6703 Depreciation/Building Furnishings"},{"$f":"Worktags!AS591","v":"8000"},{"$f":"IF(Worktags!AQ591<>Worktags!AS591,Worktags!AQ591,\"\")","v":"SC6703"},{"$f":"IFERROR(VLOOKUP(B1057,Worktags!AL:AO,2,FALSE),\"\")","v":"Depreciation"},{"$f":"IFERROR(VLOOKUP(C1057,Worktags!O:T,2,FALSE),\"\")","v":"Building Furnishings"},"JE_PPE|JE_Override"]
[{"$f":"IF(B1058<>\"\",IF(C1058<>\"\",B1058&\"_\"&C1058&\" \"&D1058&\"/\"&E1058,B1058&\" \"&D1058),\"\")","v":"8000_SC6704 Depreciation/Building Materials - Finishing"},{"$f":"Worktags!AS598","v":"8000"},{"$f":"IF(Worktags!AQ598<>Worktags!AS598,Worktags!AQ598,\"\")","v":"SC6704"},{"$f":"IFERROR(VLOOKUP(B1058,Worktags!AL:AO,2,FALSE),\"\")","v":"Depreciation"},{"$f":"IFERROR(VLOOKUP(C1058,Worktags!O:T,2,FALSE),\"\")","v":"Building Materials - Finishing"},"JE_PPE|JE_Override"]
[{"$f":"IF(B1059<>\"\",IF(C1059<>\"\",B1059&\"_\"&C1059&\" \"&D1059&\"/\"&E1059,B1059&\" \"&D1059),\"\")","v":"8000_SC6705 Depreciation/Building Materials - Raw"},{"$f":"Worktags!AS605","v":"8000"},{"$f":"IF(Worktags!AQ605<>Worktags!AS605,Worktags!AQ605,\"\")","v":"SC6705"},{"$f":"IFERROR(VLOOKUP(B1059,Worktags!AL:AO,2,FALSE),\"\")","v":"Depreciation"},{"$f":"IFERROR(VLOOKUP(C1059,Worktags!O:T,2,FALSE),\"\")","v":"Building Materials - Raw"},"JE_PPE|JE_Override"]
[{"$f":"IF(B1060<>\"\",IF(C1060<>\"\",B1060&\"_\"&C1060&\" \"&D1060&\"/\"&E1060,B1060&\" \"&D1060),\"\")","v":"8000_SC6706 Depreciation/Electrical Devices"},{"$f":"Worktags!AS612","v":"8000"},{"$f":"IF(Worktags!AQ612<>Worktags!AS612,Worktags!AQ612,\"\")","v":"SC6706"},{"$f":"IFERROR(VLOOKUP(B1060,Worktags!AL:AO,2,FALSE),\"\")","v":"Depreciation"},{"$f":"IFERROR(VLOOKUP(C1060,Worktags!O:T,2,FALSE),\"\")","v":"Electrical Devices"},"JE_PPE|JE_Override"]
[{"$f":"IF(B1061<>\"\",IF(C1061<>\"\",B1061&\"_\"&C1061&\" \"&D1061&\"/\"&E1061,B1061&\" \"&D1061),\"\")","v":"8000_SC6708 Depreciation/Fans/Furnaces"},{"$f":"Worktags!AS624","v":"8000"},{"$f":"IF(Worktags!AQ624<>Worktags!AS624,Worktags!AQ624,\"\")","v":"SC6708"},{"$f":"IFERROR(VLOOKUP(B1061,Worktags!AL:AO,2,FALSE),\"\")","v":"Depreciation"},{"$f":"IFERROR(VLOOKUP(C1061,Worktags!O:T,2,FALSE),\"\")","v":"Fans/Furnaces"},"JE_PPE|JE_Override"]
[{"$f":"IF(B1062<>\"\",IF(C1062<>\"\",B1062&\"_\"&C1062&\" \"&D1062&\"/\"&E1062,B1062&\" \"&D1062),\"\")","v":"8000_SC6709 Depreciation/Flooring Materials"},{"$f":"Worktags!AS631","v":"8000"},{"$f":"IF(Worktags!AQ631<>Worktags!AS631,Worktags!AQ631,\"\")","v":"SC6709"},{"$f":"IFERROR(VLOOKUP(B1062,Worktags!AL:AO,2,FALSE),\"\")","v":"Depreciation"},{"$f":"IFERROR(VLOOKUP(C1062,Worktags!O:T,2,FALSE),\"\")","v":"Flooring Materials"},"JE_PPE|JE_Override"]
[{"$f":"IF(B1063<>\"\",IF(C1063<>\"\",B1063&\"_\"&C1063&\" \"&D1063&\"/\"&E1063,B1063&\" \"&D1063),\"\")","v":"8000_SC6710 Depreciation/Furnishing Accessories"},{"$f":"Worktags!AS638","v":"8000"},{"$f":"IF(Worktags!AQ638<>Worktags!AS638,Worktags!AQ638,\"\")","v":"SC6710"},{"$f":"IFERROR(VLOOKUP(B1063,Worktags!AL:AO,2,FALSE),\"\")","v":"Depreciation"},{"$f":"IFERROR(VLOOKUP(C1063,Worktags!O:T,2,FALSE),\"\")","v":"Furnishing Accessories"},"JE_PPE|JE_Override"]
[{"$f":"IF(B1064<>\"\",IF(C1064<>\"\",B1064&\"_\"&C1064&\" \"&D1064&\"/\"&E1064,B1064&\" \"&D1064),\"\")","v":"8000_SC6711 Depreciation/Grounds and Landscaping Supplies"},{"$f":"Worktags!AS645","v":"8000"},{"$f":"IF(Worktags!AQ645<>Worktags!AS645,Worktags!AQ645,\"\")","v":"SC6711"},{"$f":"IFERROR(VLOOKUP(B1064,Worktags!AL:AO,2,FALSE),\"\")","v":"Depreciation"},{"$f":"IFERROR(VLOOKUP(C1064,Worktags!O:T,2,FALSE),\"\")","v":"Grounds and Landscaping Supplies"},"JE_PPE|JE_Override"]
[{"$f":"IF(B1065<>\"\",IF(C1065<>\"\",B1065&\"_\"&C1065&\" \"&D1065&\"/\"&E1065,B1065&\" \"&D1065),\"\")","v":"8000_SC6713 Depreciation/Industrial Fixtures"},{"$f":"Worktags!AS654","v":"8000"},{"$f":"IF(Worktags!AQ654<>Worktags!AS654,Worktags!AQ654,\"\")","v":"SC6713"},{"$f":"IFERROR(VLOOKUP(B1065,Worktags!AL:AO,2,FALSE),\"\")","v":"Depreciation"},{"$f":"IFERROR(VLOOKUP(C1065,Worktags!O:T,2,FALSE),\"\")","v":"Industrial Fixtures"},"JE_PPE|JE_Override"]
[{"$f":"IF(B1066<>\"\",IF(C1066<>\"\",B1066&\"_\"&C1066&\" \"&D1066&\"/\"&E1066,B1066&\" \"&D1066),\"\")","v":"8000_SC6714 Depreciation/Lighting Fixtures and Lamps"},{"$f":"Worktags!AS661","v":"8000"},{"$f":"IF(Worktags!AQ661<>Worktags!AS661,Worktags!AQ661,\"\")","v":"SC6714"},{"$f":"IFERROR(VLOOKUP(B1066,Worktags!AL:AO,2,FALSE),\"\")","v":"Depreciation"},{"$f":"IFERROR(VLOOKUP(C1066,Worktags!O:T,2,FALSE),\"\")","v":"Lighting Fixtures and Lamps"},"JE_PPE|JE_Override"]
[{"$f":"IF(B1067<>\"\",IF(C1067<>\"\",B1067&\"_\"&C1067&\" \"&D1067&\"/\"&E1067,B1067&\" \"&D1067),\"\")","v":"8000_SC6715 Depreciation/Plumbing Fixtures"},{"$f":"Worktags!AS668","v":"8000"},{"$f":"IF(Worktags!AQ668<>Worktags!AS668,Worktags!AQ668,\"\")","v":"SC6715"},{"$f":"IFERROR(VLOOKUP(B1067,Worktags!AL:AO,2,FALSE),\"\")","v":"Depreciation"},{"$f":"IFERROR(VLOOKUP(C1067,Worktags!O:T,2,FALSE),\"\")","v":"Plumbing Fixtures"},"JE_PPE|JE_Override"]
[{"$f":"IF(B1068<>\"\",IF(C1068<>\"\",B1068&\"_\"&C1068&\" \"&D1068&\"/\"&E1068,B1068&\" \"&D1068),\"\")","v":"8000_SC6718 Depreciation/Signage, Electronic"},{"$f":"Worktags!AS681","v":"8000"},{"$f":"IF(Worktags!AQ681<>Worktags!AS681,Worktags!AQ681,\"\")","v":"SC6718"},{"$f":"IFERROR(VLOOKUP(B1068,Worktags!AL:AO,2,FALSE),\"\")","v":"Depreciation"},{"$f":"IFERROR(VLOOKUP(C1068,Worktags!O:T,2,FALSE),\"\")","v":"Signage, Electronic"},"JE_PPE|JE_Override"]
[{"$f":"IF(B1069<>\"\",IF(C1069<>\"\",B1069&\"_\"&C1069&\" \"&D1069&\"/\"&E1069,B1069&\" \"&D1069),\"\")","v":"8000_SC6719 Depreciation/Signage, Non-electronic"},{"$f":"Worktags!AS688","v":"8000"},{"$f":"IF(Worktags!AQ688<>Worktags!AS688,Worktags!AQ688,\"\")","v":"SC6719"},{"$f":"IFERROR(VLOOKUP(B1069,Worktags!AL:AO,2,FALSE),\"\")","v":"Depreciation"},{"$f":"IFERROR(VLOOKUP(C1069,Worktags!O:T,2,FALSE),\"\")","v":"Signage, Non-electronic"},"JE_PPE|JE_Override"]
[{"$f":"IF(B1070<>\"\",IF(C1070<>\"\",B1070&\"_\"&C1070&\" \"&D1070&\"/\"&E1070,B1070&\" \"&D1070),\"\")","v":"8000_SC6721 Depreciation/Stage and Studio Lighting (Asset Track)"},{"$f":"Worktags!AS699","v":"8000"},{"$f":"IF(Worktags!AQ699<>Worktags!AS699,Worktags!AQ699,\"\")","v":"SC6721"},{"$f":"IFERROR(VLOOKUP(B1070,Worktags!AL:AO,2,FALSE),\"\")","v":"Depreciation"},{"$f":"IFERROR(VLOOKUP(C1070,Worktags!O:T,2,FALSE),\"\")","v":"Stage and Studio Lighting (Asset Track)"},"JE_PPE|JE_Override"]
[{"$f":"IF(B1071<>\"\",IF(C1071<>\"\",B1071&\"_\"&C1071&\" \"&D1071&\"/\"&E1071,B1071&\" \"&D1071),\"\")","v":"8000_SC6729 Depreciation/Warehouse Fixtures"},{"$f":"Worktags!AS720","v":"8000"},{"$f":"IF(Worktags!AQ720<>Worktags!AS720,Worktags!AQ720,\"\")","v":"SC6729"},{"$f":"IFERROR(VLOOKUP(B1071,Worktags!AL:AO,2,FALSE),\"\")","v":"Depreciation"},{"$f":"IFERROR(VLOOKUP(C1071,Worktags!O:T,2,FALSE),\"\")","v":"Warehouse Fixtures"},"JE_PPE|JE_Override"]
[{"$f":"IF(B1072<>\"\",IF(C1072<>\"\",B1072&\"_\"&C1072&\" \"&D1072&\"/\"&E1072,B1072&\" \"&D1072),\"\")","v":"8000_SC6730 Depreciation/Window Treatments"},{"$f":"Worktags!AS727","v":"8000"},{"$f":"IF(Worktags!AQ727<>Worktags!AS727,Worktags!AQ727,\"\")","v":"SC6730"},{"$f":"IFERROR(VLOOKUP(B1072,Worktags!AL:AO,2,FALSE),\"\")","v":"Depreciation"},{"$f":"IFERROR(VLOOKUP(C1072,Worktags!O:T,2,FALSE),\"\")","v":"Window Treatments"},"JE_PPE|JE_Override"]
[{"$f":"IF(B1073<>\"\",IF(C1073<>\"\",B1073&\"_\"&C1073&\" \"&D1073&\"/\"&E1073,B1073&\" \"&D1073),\"\")","v":"8000_SC6901 Depreciation/Art Equipment"},{"$f":"Worktags!AS742","v":"8000"},{"$f":"IF(Worktags!AQ742<>Worktags!AS742,Worktags!AQ742,\"\")","v":"SC6901"},{"$f":"IFERROR(VLOOKUP(B1073,Worktags!AL:AO,2,FALSE),\"\")","v":"Depreciation"},{"$f":"IFERROR(VLOOKUP(C1073,Worktags!O:T,2,FALSE),\"\")","v":"Art Equipment"},"JE_PPE|JE_Override"]
[{"$f":"IF(B1074<>\"\",IF(C1074<>\"\",B1074&\"_\"&C1074&\" \"&D1074&\"/\"&E1074,B1074&\" \"&D1074),\"\")","v":"8000_SC6902 Depreciation/Athletic Equipment"},{"$f":"Worktags!AS749","v":"8000"},{"$f":"IF(Worktags!AQ749<>Worktags!AS749,Worktags!AQ749,\"\")","v":"SC6902"},{"$f":"IFERROR(VLOOKUP(B1074,Worktags!AL:AO,2,FALSE),\"\")","v":"Depreciation"},{"$f":"IFERROR(VLOOKUP(C1074,Worktags!O:T,2,FALSE),\"\")","v":"Athletic Equipment"},"JE_PPE|JE_Override"]
[{"$f":"IF(B1075<>\"\",IF(C1075<>\"\",B1075&\"_\"&C1075&\" \"&D1075&\"/\"&E1075,B1075&\" \"&D1075),\"\")","v":"8000_SC6903 Depreciation/Audio Visual Equipment (Asset Track)"},{"$f":"Worktags!AS756","v":"8000"},{"$f":"IF(Worktags!AQ756<>Worktags!AS756,Worktags!AQ756,\"\")","v":"SC6903"},{"$f":"IFERROR(VLOOKUP(B1075,Worktags!AL:AO,2,FALSE),\"\")","v":"Depreciation"},{"$f":"IFERROR(VLOOKUP(C1075,Worktags!O:T,2,FALSE),\"\")","v":"Audio Visual Equipment (Asset Track)"},"JE_PPE|JE_Override"]
[{"$f":"IF(B1076<>\"\",IF(C1076<>\"\",B1076&\"_\"&C1076&\" \"&D1076&\"/\"&E1076,B1076&\" \"&D1076),\"\")","v":"8000_SC6904 Depreciation/Communication Devices (Asset Track)"},{"$f":"Worktags!AS763","v":"8000"},{"$f":"IF(Worktags!AQ763<>Worktags!AS763,Worktags!AQ763,\"\")","v":"SC6904"},{"$f":"IFERROR(VLOOKUP(B1076,Worktags!AL:AO,2,FALSE),\"\")","v":"Depreciation"},{"$f":"IFERROR(VLOOKUP(C1076,Worktags!O:T,2,FALSE),\"\")","v":"Communication Devices (Asset Track)"},"JE_PPE|JE_Override"]
[{"$f":"IF(B1077<>\"\",IF(C1077<>\"\",B1077&\"_\"&C1077&\" \"&D1077&\"/\"&E1077,B1077&\" \"&D1077),\"\")","v":"8000_SC6905 Depreciation/Computer Hardware (Asset Track)"},{"$f":"Worktags!AS770","v":"8000"},{"$f":"IF(Worktags!AQ770<>Worktags!AS770,Worktags!AQ770,\"\")","v":"SC6905"},{"$f":"IFERROR(VLOOKUP(B1077,Worktags!AL:AO,2,FALSE),\"\")","v":"Depreciation"},{"$f":"IFERROR(VLOOKUP(C1077,Worktags!O:T,2,FALSE),\"\")","v":"Computer Hardware (Asset Track)"},"JE_PPE|JE_Override"]
[{"$f":"IF(B1078<>\"\",IF(C1078<>\"\",B1078&\"_\"&C1078&\" \"&D1078&\"/\"&E1078,B1078&\" \"&D1078),\"\")","v":"8000_SC6906 Depreciation/Data Network Equipment (Asset Track)"},{"$f":"Worktags!AS777","v":"8000"},{"$f":"IF(Worktags!AQ777<>Worktags!AS777,Worktags!AQ777,\"\")","v":"SC6906"},{"$f":"IFERROR(VLOOKUP(B1078,Worktags!AL:AO,2,FALSE),\"\")","v":"Depreciation"},{"$f":"IFERROR(VLOOKUP(C1078,Worktags!O:T,2,FALSE),\"\")","v":"Data Network Equipment (Asset Track)"},"JE_PPE|JE_Override"]
[{"$f":"IF(B1079<>\"\",IF(C1079<>\"\",B1079&\"_\"&C1079&\" \"&D1079&\"/\"&E1079,B1079&\" \"&D1079),\"\")","v":"8000_SC6907 Depreciation/Equipment (not otherwise specified) (Asset Track)"},{"$f":"Worktags!AS784","v":"8000"},{"$f":"IF(Worktags!AQ784<>Worktags!AS784,Worktags!AQ784,\"\")","v":"SC6907"},{"$f":"IFERROR(VLOOKUP(B1079,Worktags!AL:AO,2,FALSE),\"\")","v":"Depreciation"},{"$f":"IFERROR(VLOOKUP(C1079,Worktags!O:T,2,FALSE),\"\")","v":"Equipment (not otherwise specified) (Asset Track)"},"JE_PPE|JE_Override"]
[{"$f":"IF(B1080<>\"\",IF(C1080<>\"\",B1080&\"_\"&C1080&\" \"&D1080&\"/\"&E1080,B1080&\" \"&D1080),\"\")","v":"8000_SC6909 Depreciation/Firearms"},{"$f":"Worktags!AS791","v":"8000"},{"$f":"IF(Worktags!AQ791<>Worktags!AS791,Worktags!AQ791,\"\")","v":"SC6909"},{"$f":"IFERROR(VLOOKUP(B1080,Worktags!AL:AO,2,FALSE),\"\")","v":"Depreciation"},{"$f":"IFERROR(VLOOKUP(C1080,Worktags!O:T,2,FALSE),\"\")","v":"Firearms"},"JE_PPE|JE_Override"]
[{"$f":"IF(B1081<>\"\",IF(C1081<>\"\",B1081&\"_\"&C1081&\" \"&D1081&\"/\"&E1081,B1081&\" \"&D1081),\"\")","v":"8000_SC6910 Depreciation/Food Service Equipment"},{"$f":"Worktags!AS798","v":"8000"},{"$f":"IF(Worktags!AQ798<>Worktags!AS798,Worktags!AQ798,\"\")","v":"SC6910"},{"$f":"IFERROR(VLOOKUP(B1081,Worktags!AL:AO,2,FALSE),\"\")","v":"Depreciation"},{"$f":"IFERROR(VLOOKUP(C1081,Worktags!O:T,2,FALSE),\"\")","v":"Food Service Equipment"},"JE_PPE|JE_Override"]
[{"$f":"IF(B1082<>\"\",IF(C1082<>\"\",B1082&\"_\"&C1082&\" \"&D1082&\"/\"&E1082,B1082&\" \"&D1082),\"\")","v":"8000_SC6911 Depreciation/Grants Capital Equipment"},{"$f":"Worktags!AS803","v":"8000"},{"$f":"IF(Worktags!AQ803<>Worktags!AS803,Worktags!AQ803,\"\")","v":"SC6911"},{"$f":"IFERROR(VLOOKUP(B1082,Worktags!AL:AO,2,FALSE),\"\")","v":"Depreciation"},{"$f":"IFERROR(VLOOKUP(C1082,Worktags!O:T,2,FALSE),\"\")","v":"Grants Capital Equipment"},"JE_PPE|JE_Override"]
[{"$f":"IF(B1083<>\"\",IF(C1083<>\"\",B1083&\"_\"&C1083&\" \"&D1083&\"/\"&E1083,B1083&\" \"&D1083),\"\")","v":"8000_SC6913 Depreciation/Grounds Equipment"},{"$f":"Worktags!AS810","v":"8000"},{"$f":"IF(Worktags!AQ810<>Worktags!AS810,Worktags!AQ810,\"\")","v":"SC6913"},{"$f":"IFERROR(VLOOKUP(B1083,Worktags!AL:AO,2,FALSE),\"\")","v":"Depreciation"},{"$f":"IFERROR(VLOOKUP(C1083,Worktags!O:T,2,FALSE),\"\")","v":"Grounds Equipment"},"JE_PPE|JE_Override"]
[{"$f":"IF(B1084<>\"\",IF(C1084<>\"\",B1084&\"_\"&C1084&\" \"&D1084&\"/\"&E1084,B1084&\" \"&D1084),\"\")","v":"8000_SC6914 Depreciation/Industrial Equipment"},{"$f":"Worktags!AS817","v":"8000"},{"$f":"IF(Worktags!AQ817<>Worktags!AS817,Worktags!AQ817,\"\")","v":"SC6914"},{"$f":"IFERROR(VLOOKUP(B1084,Worktags!AL:AO,2,FALSE),\"\")","v":"Depreciation"},{"$f":"IFERROR(VLOOKUP(C1084,Worktags!O:T,2,FALSE),\"\")","v":"Industrial Equipment"},"JE_PPE|JE_Override"]
[{"$f":"IF(B1085<>\"\",IF(C1085<>\"\",B1085&\"_\"&C1085&\" \"&D1085&\"/\"&E1085,B1085&\" \"&D1085),\"\")","v":"8000_SC6915 Depreciation/Janitorial Equipment"},{"$f":"Worktags!AS824","v":"8000"},{"$f":"IF(Worktags!AQ824<>Worktags!AS824,Worktags!AQ824,\"\")","v":"SC6915"},{"$f":"IFERROR(VLOOKUP(B1085,Worktags!AL:AO,2,FALSE),\"\")","v":"Depreciation"},{"$f":"IFERROR(VLOOKUP(C1085,Worktags!O:T,2,FALSE),\"\")","v":"Janitorial Equipment"},"JE_PPE|JE_Override"]
[{"$f":"IF(B1086<>\"\",IF(C1086<>\"\",B1086&\"_\"&C1086&\" \"&D1086&\"/\"&E1086,B1086&\" \"&D1086),\"\")","v":"8000_SC6917 Depreciation/Laundry Equipment"},{"$f":"Worktags!AS833","v":"8000"},{"$f":"IF(Worktags!AQ833<>Worktags!AS833,Worktags!AQ833,\"\")","v":"SC6917"},{"$f":"IFERROR(VLOOKUP(B1086,Worktags!AL:AO,2,FALSE),\"\")","v":"Depreciation"},{"$f":"IFERROR(VLOOKUP(C1086,Worktags!O:T,2,FALSE),\"\")","v":"Laundry Equipment"},"JE_PPE|JE_Override"]
[{"$f":"IF(B1087<>\"\",IF(C1087<>\"\",B1087&\"_\"&C1087&\" \"&D1087&\"/\"&E1087,B1087&\" \"&D1087),\"\")","v":"8000_SC6918 Depreciation/Library Content"},{"$f":"Worktags!AS838","v":"8000"},{"$f":"IF(Worktags!AQ838<>Worktags!AS838,Worktags!AQ838,\"\")","v":"SC6918"},{"$f":"IFERROR(VLOOKUP(B1087,Worktags!AL:AO,2,FALSE),\"\")","v":"Depreciation"},{"$f":"IFERROR(VLOOKUP(C1087,Worktags!O:T,2,FALSE),\"\")","v":"Library Content"},"JE_PPE|JE_Override"]
[{"$f":"IF(B1088<>\"\",IF(C1088<>\"\",B1088&\"_\"&C1088&\" \"&D1088&\"/\"&E1088,B1088&\" \"&D1088),\"\")","v":"8000_SC6920 Depreciation/Media Content"},{"$f":"Worktags!AS845","v":"8000"},{"$f":"IF(Worktags!AQ845<>Worktags!AS845,Worktags!AQ845,\"\")","v":"SC6920"},{"$f":"IFERROR(VLOOKUP(B1088,Worktags!AL:AO,2,FALSE),\"\")","v":"Depreciation"},{"$f":"IFERROR(VLOOKUP(C1088,Worktags!O:T,2,FALSE),\"\")","v":"Media Content"},"JE_PPE|JE_Override"]
[{"$f":"IF(B1089<>\"\",IF(C1089<>\"\",B1089&\"_\"&C1089&\" \"&D1089&\"/\"&E1089,B1089&\" \"&D1089),\"\")","v":"8000_SC6921 Depreciation/Medical Equipment"},{"$f":"Worktags!AS852","v":"8000"},{"$f":"IF(Worktags!AQ852<>Worktags!AS852,Worktags!AQ852,\"\")","v":"SC6921"},{"$f":"IFERROR(VLOOKUP(B1089,Worktags!AL:AO,2,FALSE),\"\")","v":"Depreciation"},{"$f":"IFERROR(VLOOKUP(C1089,Worktags!O:T,2,FALSE),\"\")","v":"Medical Equipment"},"JE_PPE|JE_Override"]
[{"$f":"IF(B1090<>\"\",IF(C1090<>\"\",B1090&\"_\"&C1090&\" \"&D1090&\"/\"&E1090,B1090&\" \"&D1090),\"\")","v":"8000_SC6923 Depreciation/Musical Instruments"},{"$f":"Worktags!AS859","v":"8000"},{"$f":"IF(Worktags!AQ859<>Worktags!AS859,Worktags!AQ859,\"\")","v":"SC6923"},{"$f":"IFERROR(VLOOKUP(B1090,Worktags!AL:AO,2,FALSE),\"\")","v":"Depreciation"},{"$f":"IFERROR(VLOOKUP(C1090,Worktags!O:T,2,FALSE),\"\")","v":"Musical Instruments"},"JE_PPE|JE_Override"]
[{"$f":"IF(B1091<>\"\",IF(C1091<>\"\",B1091&\"_\"&C1091&\" \"&D1091&\"/\"&E1091,B1091&\" \"&D1091),\"\")","v":"8000_SC6924 Depreciation/Office Equipment (Asset Track)"},{"$f":"Worktags!AS866","v":"8000"},{"$f":"IF(Worktags!AQ866<>Worktags!AS866,Worktags!AQ866,\"\")","v":"SC6924"},{"$f":"IFERROR(VLOOKUP(B1091,Worktags!AL:AO,2,FALSE),\"\")","v":"Depreciation"},{"$f":"IFERROR(VLOOKUP(C1091,Worktags!O:T,2,FALSE),\"\")","v":"Office Equipment (Asset Track)"},"JE_PPE|JE_Override"]
[{"$f":"IF(B1092<>\"\",IF(C1092<>\"\",B1092&\"_\"&C1092&\" \"&D1092&\"/\"&E1092,B1092&\" \"&D1092),\"\")","v":"8000_SC6926 Depreciation/Photography Equipment"},{"$f":"Worktags!AS873","v":"8000"},{"$f":"IF(Worktags!AQ873<>Worktags!AS873,Worktags!AQ873,\"\")","v":"SC6926"},{"$f":"IFERROR(VLOOKUP(B1092,Worktags!AL:AO,2,FALSE),\"\")","v":"Depreciation"},{"$f":"IFERROR(VLOOKUP(C1092,Worktags!O:T,2,FALSE),\"\")","v":"Photography Equipment"},"JE_PPE|JE_Override"]
[{"$f":"IF(B1093<>\"\",IF(C1093<>\"\",B1093&\"_\"&C1093&\" \"&D1093&\"/\"&E1093,B1093&\" \"&D1093),\"\")","v":"8000_SC6927 Depreciation/Portable Structures"},{"$f":"Worktags!AS880","v":"8000"},{"$f":"IF(Worktags!AQ880<>Worktags!AS880,Worktags!AQ880,\"\")","v":"SC6927"},{"$f":"IFERROR(VLOOKUP(B1093,Worktags!AL:AO,2,FALSE),\"\")","v":"Depreciation"},{"$f":"IFERROR(VLOOKUP(C1093,Worktags!O:T,2,FALSE),\"\")","v":"Portable Structures"},"JE_PPE|JE_Override"]
[{"$f":"IF(B1094<>\"\",IF(C1094<>\"\",B1094&\"_\"&C1094&\" \"&D1094&\"/\"&E1094,B1094&\" \"&D1094),\"\")","v":"8000_SC6928 Depreciation/Printing Equipment"},{"$f":"Worktags!AS887","v":"8000"},{"$f":"IF(Worktags!AQ887<>Worktags!AS887,Worktags!AQ887,\"\")","v":"SC6928"},{"$f":"IFERROR(VLOOKUP(B1094,Worktags!AL:AO,2,FALSE),\"\")","v":"Depreciation"},{"$f":"IFERROR(VLOOKUP(C1094,Worktags!O:T,2,FALSE),\"\")","v":"Printing Equipment"},"JE_PPE|JE_Override"]
[{"$f":"IF(B1095<>\"\",IF(C1095<>\"\",B1095&\"_\"&C1095&\" \"&D1095&\"/\"&E1095,B1095&\" \"&D1095),\"\")","v":"8000_SC6929 Depreciation/Scientific and Engineering Equipment"},{"$f":"Worktags!AS894","v":"8000"},{"$f":"IF(Worktags!AQ894<>Worktags!AS894,Worktags!AQ894,\"\")","v":"SC6929"},{"$f":"IFERROR(VLOOKUP(B1095,Worktags!AL:AO,2,FALSE),\"\")","v":"Depreciation"},{"$f":"IFERROR(VLOOKUP(C1095,Worktags!O:T,2,FALSE),\"\")","v":"Scientific and Engineering Equipment"},""]
[{"$f":"IF(B1096<>\"\",IF(C1096<>\"\",B1096&\"_\"&C1096&\" \"&D1096&\"/\"&E1096,B1096&\" \"&D1096),\"\")","v":"8000_SC6931 Depreciation/Security Equipment (Asset Track)"},{"$f":"Worktags!AS903","v":"8000"},{"$f":"IF(Worktags!AQ903<>Worktags!AS903,Worktags!AQ903,\"\")","v":"SC6931"},{"$f":"IFERROR(VLOOKUP(B1096,Worktags!AL:AO,2,FALSE),\"\")","v":"Depreciation"},{"$f":"IFERROR(VLOOKUP(C1096,Worktags!O:T,2,FALSE),\"\")","v":"Security Equipment (Asset Track)"},"All"]
[{"$f":"IF(B1097<>\"\",IF(C1097<>\"\",B1097&\"_\"&C1097&\" \"&D1097&\"/\"&E1097,B1097&\" \"&D1097),\"\")","v":"8000_SC6932 Depreciation/Small Appliances"},{"$f":"Worktags!AS910","v":"8000"},{"$f":"IF(Worktags!AQ910<>Worktags!AS910,Worktags!AQ910,\"\")","v":"SC6932"},{"$f":"IFERROR(VLOOKUP(B1097,Worktags!AL:AO,2,FALSE),\"\")","v":"Depreciation"},{"$f":"IFERROR(VLOOKUP(C1097,Worktags!O:T,2,FALSE),\"\")","v":"Small Appliances"},"All"]
[{"$f":"IF(B1098<>\"\",IF(C1098<>\"\",B1098&\"_\"&C1098&\" \"&D1098&\"/\"&E1098,B1098&\" \"&D1098),\"\")","v":"8000_SC6933 Depreciation/Software"},{"$f":"Worktags!AS915","v":"8000"},{"$f":"IF(Worktags!AQ915<>Worktags!AS915,Worktags!AQ915,\"\")","v":"SC6933"},{"$f":"IFERROR(VLOOKUP(B1098,Worktags!AL:AO,2,FALSE),\"\")","v":"Depreciation"},{"$f":"IFERROR(VLOOKUP(C1098,Worktags!O:T,2,FALSE),\"\")","v":"Software"},"JE_Research|JE_Override"]
[{"$f":"IF(B1099<>\"\",IF(C1099<>\"\",B1099&\"_\"&C1099&\" \"&D1099&\"/\"&E1099,B1099&\" \"&D1099),\"\")","v":"8000_SC6935 Depreciation/Telecom Equipment"},{"$f":"Worktags!AS924","v":"8000"},{"$f":"IF(Worktags!AQ924<>Worktags!AS924,Worktags!AQ924,\"\")","v":"SC6935"},{"$f":"IFERROR(VLOOKUP(B1099,Worktags!AL:AO,2,FALSE),\"\")","v":"Depreciation"},{"$f":"IFERROR(VLOOKUP(C1099,Worktags!O:T,2,FALSE),\"\")","v":"Telecom Equipment"},"All"]
[{"$f":"IF(B1100<>\"\",IF(C1100<>\"\",B1100&\"_\"&C1100&\" \"&D1100&\"/\"&E1100,B1100&\" \"&D1100),\"\")","v":"8000_SC6937 Depreciation/Vehicles, Motor"},{"$f":"Worktags!AS931","v":"8000"},{"$f":"IF(Worktags!AQ931<>Worktags!AS931,Worktags!AQ931,\"\")","v":"SC6937"},{"$f":"IFERROR(VLOOKUP(B1100,Worktags!AL:AO,2,FALSE),\"\")","v":"Depreciation"},{"$f":"IFERROR(VLOOKUP(C1100,Worktags!O:T,2,FALSE),\"\")","v":"Vehicles, Motor"},"All"]
[{"$f":"IF(B1101<>\"\",IF(C1101<>\"\",B1101&\"_\"&C1101&\" \"&D1101&\"/\"&E1101,B1101&\" \"&D1101),\"\")","v":"8000_SC6938 Depreciation/Vehicles, Off-Road"},{"$f":"Worktags!AS936","v":"8000"},{"$f":"IF(Worktags!AQ936<>Worktags!AS936,Worktags!AQ936,\"\")","v":"SC6938"},{"$f":"IFERROR(VLOOKUP(B1101,Worktags!AL:AO,2,FALSE),\"\")","v":"Depreciation"},{"$f":"IFERROR(VLOOKUP(C1101,Worktags!O:T,2,FALSE),\"\")","v":"Vehicles, Off-Road"},"JE_Gift|JE_Override"]
[{"$f":"IF(B1102<>\"\",IF(C1102<>\"\",B1102&\"_\"&C1102&\" \"&D1102&\"/\"&E1102,B1102&\" \"&D1102),\"\")","v":"8000_SC6939 Depreciation/Warehouse Equipment"},{"$f":"Worktags!AS943","v":"8000"},{"$f":"IF(Worktags!AQ943<>Worktags!AS943,Worktags!AQ943,\"\")","v":"SC6939"},{"$f":"IFERROR(VLOOKUP(B1102,Worktags!AL:AO,2,FALSE),\"\")","v":"Depreciation"},{"$f":"IFERROR(VLOOKUP(C1102,Worktags!O:T,2,FALSE),\"\")","v":"Warehouse Equipment"},"JE_Gift|JE_Override"]
[{"$f":"IF(B1103<>\"\",IF(C1103<>\"\",B1103&\"_\"&C1103&\" \"&D1103&\"/\"&E1103,B1103&\" \"&D1103),\"\")","v":"9199 AM Offset Default"},{"$f":"Worktags!AL140","v":"9199"},null,{"$f":"IFERROR(VLOOKUP(B1103,Worktags!AL:AO,2,FALSE),\"\")","v":"AM Offset Default"},null,"All"]
[{"$f":"IF(B1104<>\"\",IF(C1104<>\"\",B1104&\"_\"&C1104&\" \"&D1104&\"/\"&E1104,B1104&\" \"&D1104),\"\")","v":"9250 Funds Transfer"},{"$f":"Worktags!AL141","v":"9250"},null,{"$f":"IFERROR(VLOOKUP(B1104,Worktags!AL:AO,2,FALSE),\"\")","v":"Funds Transfer"},null,"All"]
[{"$f":"IF(B1105<>\"\",IF(C1105<>\"\",B1105&\"_\"&C1105&\" \"&D1105&\"/\"&E1105,B1105&\" \"&D1105),\"\")","v":"9250 Funds Transfer"},{"$f":"Worktags!AS80","v":"9250"},{"$f":"IF(Worktags!AQ80<>Worktags!AS80,Worktags!AQ80,\"\")","v":""},{"$f":"IFERROR(VLOOKUP(B1105,Worktags!AL:AO,2,FALSE),\"\")","v":"Funds Transfer"},{"$f":"IFERROR(VLOOKUP(C1105,Worktags!O:T,2,FALSE),\"\")","v":""},""]
[{"$f":"IF(B1106<>\"\",IF(C1106<>\"\",B1106&\"_\"&C1106&\" \"&D1106&\"/\"&E1106,B1106&\" \"&D1106),\"\")","v":"9780 Inter-Company Donation Expense"},{"$f":"Worktags!AL142","v":"9780"},null,{"$f":"IFERROR(VLOOKUP(B1106,Worktags!AL:AO,2,FALSE),\"\")","v":"Inter-Company Donation Expense"},null,""]
[{"$f":"IF(B1107<>\"\",IF(C1107<>\"\",B1107&\"_\"&C1107&\" \"&D1107&\"/\"&E1107,B1107&\" \"&D1107),\"\")","v":"9780 Inter-Company Donation Expense"},{"$f":"Worktags!AS81","v":"9780"},{"$f":"IF(Worktags!AQ81<>Worktags!AS81,Worktags!AQ81,\"\")","v":""},{"$f":"IFERROR(VLOOKUP(B1107,Worktags!AL:AO,2,FALSE),\"\")","v":"Inter-Company Donation Expense"},{"$f":"IFERROR(VLOOKUP(C1107,Worktags!O:T,2,FALSE),\"\")","v":""},""]
[{"$f":"IF(B1108<>\"\",IF(C1108<>\"\",B1108&\"_\"&C1108&\" \"&D1108&\"/\"&E1108,B1108&\" \"&D1108),\"\")","v":"9981 Next Year Estimated Payout"},{"$f":"Worktags!AL143","v":"9981"},null,{"$f":"IFERROR(VLOOKUP(B1108,Worktags!AL:AO,2,FALSE),\"\")","v":"Next Year Estimated Payout"},null,""]
[{"$f":"IF(B1109<>\"\",IF(C1109<>\"\",B1109&\"_\"&C1109&\" \"&D1109&\"/\"&E1109,B1109&\" \"&D1109),\"\")","v":"9981 Next Year Estimated Payout"},{"$f":"Worktags!AS82","v":"9981"},{"$f":"IF(Worktags!AQ82<>Worktags!AS82,Worktags!AQ82,\"\")","v":""},{"$f":"IFERROR(VLOOKUP(B1109,Worktags!AL:AO,2,FALSE),\"\")","v":"Next Year Estimated Payout"},{"$f":"IFERROR(VLOOKUP(C1109,Worktags!O:T,2,FALSE),\"\")","v":""},""]
[{"$f":"IF(B1110<>\"\",IF(C1110<>\"\",B1110&\"_\"&C1110&\" \"&D1110&\"/\"&E1110,B1110&\" \"&D1110),\"\")","v":"9990 SFAS 158 Annual Pension Adj"},{"$f":"Worktags!AL144","v":"9990"},null,{"$f":"IFERROR(VLOOKUP(B1110,Worktags!AL:AO,2,FALSE),\"\")","v":"SFAS 158 Annual Pension Adj"},null,""]
[{"$f":"IF(B1111<>\"\",IF(C1111<>\"\",B1111&\"_\"&C1111&\" \"&D1111&\"/\"&E1111,B1111&\" \"&D1111),\"\")","v":"9990 SFAS 158 Annual Pension Adj"},{"$f":"Worktags!AS83","v":"9990"},{"$f":"IF(Worktags!AQ83<>Worktags!AS83,Worktags!AQ83,\"\")","v":""},{"$f":"IFERROR(VLOOKUP(B1111,Worktags!AL:AO,2,FALSE),\"\")","v":"SFAS 158 Annual Pension Adj"},{"$f":"IFERROR(VLOOKUP(C1111,Worktags!O:T,2,FALSE),\"\")","v":""},""]
[{"$f":"IF(B1112<>\"\",IF(C1112<>\"\",B1112&\"_\"&C1112&\" \"&D1112&\"/\"&E1112,B1112&\" \"&D1112),\"\")","v":""},null,null,null,null,""]
["",null,null,null,null,""]
["",null,null,null,null,""]
["",null,null,null,null,""]
["",null,null,null,null,""]
["",null,null,null,null,""]
["",null,null,null,null,""]
["",null,null,null,null,""]
["",null,null,null,null,""]
["",null,null,null,null,""]
["",null,null,null,null,""]
["",null,null,null,null,""]
["",null,null,null,null,""]
["",null,null,null,null,""]
["",null,null,null,null,""]
["",null,null,null,null,""]
["",null,null,null,null,""]
["",null,null,null,null,""]
["",null,null,null,null,""]
["",null,null,null,null,""]
["",null,null,null,null,""]
["",null,null,null,null,""]
["",null,null,null,null,""]
["",null,null,null,null,""]
["",null,null,null,null,""]
["",null,null,null,null,""]
["",null,null,null,null,""]
["",null,null,null,null,""]
["",null,null,null,null,""]
["",null,null,null,null,""]
["",null,null,null,null,""]
["",null,null,null,null,""]
["",null,null,null,null,""]
["",null,null,null,null,""]
["",null,null,null,null,""]
["",null,null,null,null,""]
["",null,null,null,null,""]
["",null,null,null,null,""]
["",null,null,null,null,""]
["",null,null,null,null,""]
["",null,null,null,null,""]
[{"$f":"IF(B1153<>\"\",IF(C1153<>\"\",B1153&\"_\"&C1153&\" \"&D1153&\"/\"&E1153,B1153&\" \"&D1153),\"\")","v":""},null,null,null,null,""]
["",null,null,null,null,""]
["",null,null,null,null,""]
["",null,null,null,null,""]
["",null,null,null,null,""]
["",null,null,null,null,""]
["",null,null,null,null,""]
["",null,null,null,null,""]
["",null,null,null,null,""]
["",null,null,null,null,""]
["",null,null,null,null,""]
["",null,null,null,null,""]
["",null,null,null,null,""]
["",null,null,null,null,""]
["",null,null,null,null,""]
["",null,null,null,null,""]
["",null,null,null,null,""]
["",null,null,null,null,""]
["",null,null,null,null,""]
["",null,null,null,null,""]
["",null,null,null,null,""]
["",null,null,null,null,""]
["",null,null,null,null,""]
["",null,null,null,null,""]
["",null,null,null,null,""]
["",null,null,null,null,""]
["",null,null,null,null,""]
["",null,null,null,null,""]
["",null,null,null,null,""]
["",null,null,null,null,""]
["",null,null,null,null,""]
["",null,null,null,null,""]
["",null,null,null,null,""]
["",null,null,null,null,""]
["",null,null,null,null,""]
["",null,null,null,null,""]
["",null,null,null,null,""]
["",null,null,null,null,""]
["",null,null,null,null,""]
["",null,null,null,null,""]
["",null,null,null,null,""]
["",null,null,null,null,""]
["",null,null,null,null,""]
["",null,null,null,null,""]
["",null,null,null,null,""]
["",null,null,null,null,""]
["",null,null,null,null,""]
["",null,null,null,null,""]
["",null,null,null,null,""]
["",null,null,null,null,""]
["",null,null,null,null,""]
["",null,null,null,null,""]
["",null,null,null,null,""]
["",null,null,null,null,""]
["",null,null,null,null,""]
["",null,null,null,null,""]
["",null,null,null,null,""]
["",null,null,null,null,""]
["",null,null,null,null,""]
["",null,null,null,null,""]
["",null,null,null,null,""]
["",null,null,null,null,""]
["",null,null,null,null,""]
["",null,null,null,null,""]
[{"$f":"IF(B1217<>\"\",IF(C1217<>\"\",B1217&\"_\"&C1217&\" \"&D1217&\"/\"&E1217,B1217&\" \"&D1217),\"\")","v":""},null,null,null,null,""]
["",null,null,null,null,""]
["",null,null,null,null,""]
["",null,null,null,null,""]
["",null,null,null,null,""]
["",null,null,null,null,""]
["",null,null,null,null,""]
["",null,null,null,null,""]
["",null,null,null,null,""]
["",null,null,null,null,""]
["",null,null,null,null,""]
["",null,null,null,null,""]
["",null,null,null,null,""]
["",null,null,null,null,""]
["",null,null,null,null,""]
["",null,null,null,null,""]
["",null,null,null,null,""]
["",null,null,null,null,""]
["",null,null,null,null,""]
["",null,null,null,null,""]
["",null,null,null,null,""]
["",null,null,null,null,""]
["",null,null,null,null,""]
["",null,null,null,null,""]
["",null,null,null,null,""]
["",null,null,null,null,""]
["",null,null,null,null,""]
["",null,null,null,null,""]
["",null,null,null,null,""]
["",null,null,null,null,""]
["",null,null,null,null,""]
["",null,null,null,null,""]
["",null,null,null,null,""]
["",null,null,null,null,""]
["",null,null,null,null,""]
["",null,null,null,null,""]
["",null,null,null,null,""]
["",null,null,null,null,""]
["",null,null,null,null,""]
["",null,null,null,null,""]
["",null,null,null,null,""]
["",null,null,null,null,""]
["",null,null,null,null,""]
["",null,null,null,null,""]
["",null,null,null,null,""]
["",null,null,null,null,""]
["",null,null,null,null,""]
["",null,null,null,null,""]
["",null,null,null,null,""]
["",null,null,null,null,""]
["",null,null,null,null,""]
["",null,null,null,null,""]
["",null,null,null,null,""]
["",null,null,null,null,""]
["",null,null,null,null,""]
["",null,null,null,null,""]
["",null,null,null,null,""]
["",null,null,null,null,""]
["",null,null,null,null,""]
["",null,null,null,null,""]
["",null,null,null,null,""]
["",null,null,null,null,""]
["",null,null,null,null,""]
["",null,null,null,null,""]
[{"$f":"IF(B1281<>\"\",IF(C1281<>\"\",B1281&\"_\"&C1281&\" \"&D1281&\"/\"&E1281,B1281&\" \"&D1281),\"\")","v":""},null,null,null,null,""]
["",null,null,null,null,""]
["",null,null,null,null,""]
["",null,null,null,null,""]
["",null,null,null,null,""]
["",null,null,null,null,""]
["",null,null,null,null,""]
["",null,null,null,null,""]
["",null,null,null,null,""]
["",null,null,null,null,""]
["",null,null,null,null,""]
["",null,null,null,null,""]
["",null,null,null,null,""]
["",null,null,null,null,""]
["",null,null,null,null,""]
["",null,null,null,null,""]
["",null,null,null,null,""]
["",null,null,null,null,""]
["",null,null,null,null,""]
["",null,null,null,null,""]
["",null,null,null,null,""]
["",null,null,null,null,""]
["",null,null,null,null,""]
["",null,null,null,null,""]
["",null,null,null,null,""]
["",null,null,null,null,""]
["",null,null,null,null,""]
["",null,null,null,null,""]
["",null,null,null,null,""]
["",null,null,null,null,""]
["",null,null,null,null,""]
["",null,null,null,null,""]
["",null,null,null,null,""]
["",null,null,null,null,""]
["",null,null,null,null,""]
["",null,null,null,null,""]
["",null,null,null,null,""]
["",null,null,null,null,""]
["",null,null,null,null,""]
["",null,null,null,null,""]
["",null,null,null,null,""]
["",null,null,null,null,""]
["",null,null,null,null,""]
["",null,null,null,null,""]
["",null,null,null,null,""]
["",null,null,null,null,""]
["",null,null,null,null,""]
["",null,null,null,null,""]
["",null,null,null,null,""]
["",null,null,null,null,""]
["",null,null,null,null,""]
["",null,null,null,null,""]
["",null,null,null,null,""]
["",null,null,null,null,""]
["",null,null,null,null,""]
["",null,null,null,null,""]
["",null,null,null,null,""]
["",null,null,null,null,""]
["",null,null,null,null,""]
["",null,null,null,null,""]
["",null,null,null,null,""]
["",null,null,null,null,""]
["",null,null,null,null,""]
["",null,null,null,null,""]
[{"$f":"IF(B1345<>\"\",IF(C1345<>\"\",B1345&\"_\"&C1345&\" \"&D1345&\"/\"&E1345,B1345&\" \"&D1345),\"\")","v":""},null,null,null,null,""]
["",null,null,null,null,""]
["",null,null,null,null,""]
["",null,null,null,null,""]
["",null,null,null,null,""]
["",null,null,null,null,""]
["",null,null,null,null,""]
["",null,null,null,null,""]
["",null,null,null,null,""]
["",null,null,null,null,""]
["",null,null,null,null,""]
["",null,null,null,null,""]
["",null,null,null,null,""]
["",null,null,null,null,""]
["",null,null,null,null,""]
["",null,null,null,null,""]
["",null,null,null,null,""]
["",null,null,null,null,""]
["",null,null,null,null,""]
["",null,null,null,null,""]
["",null,null,null,null,""]
["",null,null,null,null,""]
["",null,null,null,null,""]
["",null,null,null,null,""]
["",null,null,null,null,""]
["",null,null,null,null,""]
["",null,null,null,null,""]
["",null,null,null,null,""]
["",null,null,null,null,""]
["",null,null,null,null,""]
["",null,null,null,null,""]
["",null,null,null,null,""]
["",null,null,null,null,""]
["",null,null,null,null,""]
["",null,null,null,null,""]
["",null,null,null,null,""]
["",null,null,null,null,""]
["",null,null,null,null,""]
["",null,null,null,null,""]
["",null,null,null,null,""]
["",null,null,null,null,""]
["",null,null,null,null,""]
["",null,null,null,null,""]
["",null,null,null,null,""]
["",null,null,null,null,""]
["",null,null,null,null,""]
["",null,null,null,null,""]
["",null,null,null,null,""]
["",null,null,null,null,""]
["",null,null,null,null,""]
["",null,null,null,null,""]
["",null,null,null,null,""]
["",null,null,null,null,""]
["",null,null,null,null,""]
["",null,null,null,null,""]
["",null,null,null,null,""]
["",null,null,null,null,""]
["",null,null,null,null,""]
["",null,null,null,null,""]
["",null,null,null,null,""]
["",null,null,null,null,""]
["",null,null,null,null,""]
["",null,null,null,null,""]
["",null,null,null,null,""]
[{"$f":"IF(B1409<>\"\",IF(C1409<>\"\",B1409&\"_\"&C1409&\" \"&D1409&\"/\"&E1409,B1409&\" \"&D1409),\"\")","v":""},null,null,null,null,""]
["",null,null,null,null,""]
["",null,null,null,null,""]
["",null,null,null,null,""]
["",null,null,null,null,""]
["",null,null,null,null,""]
["",null,null,null,null,""]
["",null,null,null,null,""]
["",null,null,null,null,""]
["",null,null,null,null,""]
["",null,null,null,null,""]
["",null,null,null,null,""]
["",null,null,null,null,""]
["",null,null,null,null,""]
["",null,null,null,null,""]
["",null,null,null,null,""]
["",null,null,null,null,""]
["",null,null,null,null,""]
["",null,null,null,null,""]
["",null,null,null,null,""]
["",null,null,null,null,""]
["",null,null,null,null,""]
["",null,null,null,null,""]
["",null,null,null,null,""]
["",null,null,null,null,""]
["",null,null,null,null,""]
["",null,null,null,null,""]
["",null,null,null,null,""]
["",null,null,null,null,""]
["",null,null,null,null,""]
["",null,null,null,null,""]
["",null,null,null,null,""]
["",null,null,null,null,""]
["",null,null,null,null,""]
["",null,null,null,null,""]
["",null,null,null,null,""]
["",null,null,null,null,""]
["",null,null,null,null,""]
["",null,null,null,null,""]
["",null,null,null,null,""]
["",null,null,null,null,""]
["",null,null,null,null,""]
["",null,null,null,null,""]
["",null,null,null,null,""]
["",null,null,null,null,""]
["",null,null,null,null,""]
["",null,null,null,null,""]
["",null,null,null,null,""]
["",null,null,null,null,""]
["",null,null,null,null,""]
["",null,null,null,null,""]
["",null,null,null,null,""]
["",null,null,null,null,""]
["",null,null,null,null,""]
["",null,null,null,null,""]
["",null,null,null,null,""]
["",null,null,null,null,""]
["",null,null,null,null,""]
["",null,null,null,null,""]
["",null,null,null,null,""]
["",null,null,null,null,""]
["",null,null,null,null,""]
["",null,null,null,null,""]
["",null,null,null,null,""]
[{"$f":"IF(B1473<>\"\",IF(C1473<>\"\",B1473&\"_\"&C1473&\" \"&D1473&\"/\"&E1473,B1473&\" \"&D1473),\"\")","v":""},null,null,null,null,""]
["",null,null,null,null,""]
["",null,null,null,null,""]
["",null,null,null,null,""]
["",null,null,null,null,""]
["",null,null,null,null,""]
["",null,null,null,null,""]
["",null,null,null,null,""]
["",null,null,null,null,""]
["",null,null,null,null,""]
["",null,null,null,null,""]
["",null,null,null,null,""]
["",null,null,null,null,""]
["",null,null,null,null,""]
["",null,null,null,null,""]
["",null,null,null,null,""]
["",null,null,null,null,""]
["",null,null,null,null,""]
["",null,null,null,null,""]
["",null,null,null,null,""]
["",null,null,null,null,""]
["",null,null,null,null,""]
["",null,null,null,null,""]
["",null,null,null,null,""]
["",null,null,null,null,""]
["",null,null,null,null,""]
["",null,null,null,null,""]
["",null,null,null,null,""]
["",null,null,null,null,""]
["",null,null,null,null,""]
["",null,null,null,null,""]
["",null,null,null,null,""]
["",null,null,null,null,""]
["",null,null,null,null,""]
["",null,null,null,null,""]
["",null,null,null,null,""]
["",null,null,null,null,""]
["",null,null,null,null,""]
["",null,null,null,null,""]
["",null,null,null,null,""]
["",null,null,null,null,""]
["",null,null,null,null,""]
["",null,null,null,null,""]
["",null,null,null,null,""]
["",null,null,null,null,""]
["",null,null,null,null,""]
["",null,null,null,null,""]
["",null,null,null,null,""]
["",null,null,null,null,""]
["",null,null,null,null,""]
["",null,null,null,null,""]
["",null,null,null,null,""]
["",null,null,null,null,""]
["",null,null,null,null,""]
["",null,null,null,null,""]
["",null,null,null,null,""]
["",null,null,null,null,""]
["",null,null,null,null,""]
["",null,null,null,null,""]
["",null,null,null,null,""]
["",null,null,null,null,""]
["",null,null,null,null,""]
["",null,null,null,null,""]
["",null,null,null,null,""]
[{"$f":"IF(B1537<>\"\",IF(C1537<>\"\",B1537&\"_\"&C1537&\" \"&D1537&\"/\"&E1537,B1537&\" \"&D1537),\"\")","v":""},null,null,null,null,""]
["",null,null,null,null,""]
["",null,null,null,null,""]
["",null,null,null,null,""]
["",null,null,null,null,""]
["",null,null,null,null,""]
["",null,null,null,null,""]
["",null,null,null,null,""]
["",null,null,null,null,""]
["",null,null,null,null,""]
["",null,null,null,null,""]
["",null,null,null,null,""]
["",null,null,null,null,""]
["",null,null,null,null,""]
["",null,null,null,null,""]
["",null,null,null,null,""]
["",null,null,null,null,""]
["",null,null,null,null,""]
["",null,null,null,null,""]
["",null,null,null,null,""]
["",null,null,null,null,""]
["",null,null,null,null,""]
["",null,null,null,null,""]
["",null,null,null,null,""]
["",null,null,null,null,""]
["",null,null,null,null,""]
["",null,null,null,null,""]
["",null,null,null,null,""]
["",null,null,null,null,""]
["",null,null,null,null,""]
["",null,null,null,null,""]
["",null,null,null,null,""]
["",null,null,null,null,""]
["",null,null,null,null,""]
["",null,null,null,null,""]
["",null,null,null,null,""]
["",null,null,null,null,""]
["",null,null,null,null,""]
["",null,null,null,null,""]
["",null,null,null,null,""]
["",null,null,null,null,""]
["",null,null,null,null,""]
["",null,null,null,null,""]
["",null,null,null,null,""]
["",null,null,null,null,""]
["",null,null,null,null,""]
["",null,null,null,null,""]
["",null,null,null,null,""]
["",null,null,null,null,""]
["",null,null,null,null,""]
["",null,null,null,null,""]
["",null,null,null,null,""]
["",null,null,null,null,""]
["",null,null,null,null,""]
["",null,null,null,null,""]
["",null,null,null,null,""]
["",null,null,null,null,""]
["",null,null,null,null,""]
["",null,null,null,null,""]
["",null,null,null,null,""]
["",null,null,null,null,""]
["",null,null,null,null,""]
["",null,null,null,null,""]
["",null,null,null,null,""]
[{"$f":"IF(B1601<>\"\",IF(C1601<>\"\",B1601&\"_\"&C1601&\" \"&D1601&\"/\"&E1601,B1601&\" \"&D1601),\"\")","v":""},null,null,null,null,""]
["",null,null,null,null,""]
["",null,null,null,null,""]
["",null,null,null,null,""]
["",null,null,null,null,""]
["",null,null,null,null,""]
["",null,null,null,null,""]
["",null,null,null,null,""]
["",null,null,null,null,""]
["",null,null,null,null,""]
["",null,null,null,null,""]
["",null,null,null,null,""]
["",null,null,null,null,""]
["",null,null,null,null,""]
["",null,null,null,null,""]
["",null,null,null,null,""]
["",null,null,null,null,""]
["",null,null,null,null,""]
["",null,null,null,null,""]
["",null,null,null,null,""]
["",null,null,null,null,""]
["",null,null,null,null,""]
["",null,null,null,null,""]
["",null,null,null,null,""]
["",null,null,null,null,""]
["",null,null,null,null,""]
["",null,null,null,null,""]
["",null,null,null,null,""]
["",null,null,null,null,""]
["",null,null,null,null,""]
["",null,null,null,null,""]
["",null,null,null,null,""]
["",null,null,null,null,""]
["",null,null,null,null,""]
["",null,null,null,null,""]
["",null,null,null,null,""]
["",null,null,null,null,""]
["",null,null,null,null,""]
["",null,null,null,null,""]
["",null,null,null,null,""]
["",null,null,null,null,""]
["",null,null,null,null,""]
["",null,null,null,null,""]
["",null,null,null,null,""]
["",null,null,null,null,""]
["",null,null,null,null,""]
["",null,null,null,null,""]
["",null,null,null,null,""]
["",null,null,null,null,""]
["",null,null,null,null,""]
["",null,null,null,null,""]
["",null,null,null,null,""]
["",null,null,null,null,""]
["",null,null,null,null,""]
["",null,null,null,null,""]
["",null,null,null,null,""]
["",null,null,null,null,""]
["",null,null,null,null,""]
["",null,null,null,null,""]
["",null,null,null,null,""]
["",null,null,null,null,""]
["",null,null,null,null,""]
["",null,null,null,null,""]
["",null,null,null,null,""]
[{"$f":"IF(B1665<>\"\",IF(C1665<>\"\",B1665&\"_\"&C1665&\" \"&D1665&\"/\"&E1665,B1665&\" \"&D1665),\"\")","v":""},null,null,null,null,""]
["",null,null,null,null,""]
["",null,null,null,null,""]
["",null,null,null,null,""]
["",null,null,null,null,""]
["",null,null,null,null,""]
["",null,null,null,null,""]
["",null,null,null,null,""]
["",null,null,null,null,""]
["",null,null,null,null,""]
["",null,null,null,null,""]
["",null,null,null,null,""]
["",null,null,null,null,""]
["",null,null,null,null,""]
["",null,null,null,null,""]
["",null,null,null,null,""]
["",null,null,null,null,""]
["",null,null,null,null,""]
["",null,null,null,null,""]
["",null,null,null,null,""]
["",null,null,null,null,""]
["",null,null,null,null,""]
["",null,null,null,null,""]
["",null,null,null,null,""]
["",null,null,null,null,""]
["",null,null,null,null,""]
["",null,null,null,null,""]
["",null,null,null,null,""]
["",null,null,null,null,""]
["",null,null,null,null,""]
["",null,null,null,null,""]
["",null,null,null,null,""]
["",null,null,null,null,""]
["",null,null,null,null,""]
["",null,null,null,null,""]
["",null,null,null,null,""]
["",null,null,null,null,""]
["",null,null,null,null,""]
["",null,null,null,null,""]
["",null,null,null,null,""]
["",null,null,null,null,""]
["",null,null,null,null,""]
["",null,null,null,null,""]
["",null,null,null,null,""]
["",null,null,null,null,""]
["",null,null,null,null,""]
["",null,null,null,null,""]
["",null,null,null,null,""]
["",null,null,null,null,""]
["",null,null,null,null,""]
["",null,null,null,null,""]
["",null,null,null,null,""]
["",null,null,null,null,""]
["",null,null,null,null,""]
["",null,null,null,null,""]
["",null,null,null,null,""]
["",null,null,null,null,""]
["",null,null,null,null,""]
["",null,null,null,null,""]
["",null,null,null,null,""]
["",null,null,null,null,""]
["",null,null,null,null,""]
["",null,null,null,null,""]
["",null,null,null,null,""]
[{"$f":"IF(B1729<>\"\",IF(C1729<>\"\",B1729&\"_\"&C1729&\" \"&D1729&\"/\"&E1729,B1729&\" \"&D1729),\"\")","v":""},null,null,null,null,""]
["",null,null,null,null,""]
["",null,null,null,null,""]
["",null,null,null,null,""]
["",null,null,null,null,""]
["",null,null,null,null,""]
["",null,null,null,null,""]
["",null,null,null,null,""]
["",null,null,null,null,""]
["",null,null,null,null,""]
["",null,null,null,null,""]
["",null,null,null,null,""]
["",null,null,null,null,""]
["",null,null,null,null,""]
["",null,null,null,null,""]
["",null,null,null,null,""]
["",null,null,null,null,""]
["",null,null,null,null,""]
["",null,null,null,null,""]
["",null,null,null,null,""]
["",null,null,null,null,""]
["",null,null,null,null,""]
["",null,null,null,null,""]
["",null,null,null,null,""]
["",null,null,null,null,""]
["",null,null,null,null,""]
["",null,null,null,null,""]
["",null,null,null,null,""]
["",null,null,null,null,""]
["",null,null,null,null,""]
["",null,null,null,null,""]
["",null,null,null,null,""]
["",null,null,null,null,""]
["",null,null,null,null,""]
["",null,null,null,null,""]
["",null,null,null,null,""]
["",null,null,null,null,""]
["",null,null,null,null,""]
["",null,null,null,null,""]
["",null,null,null,null,""]
["",null,null,null,null,""]
["",null,null,null,null,""]
["",null,null,null,null,""]
["",null,null,null,null,""]
["",null,null,null,null,""]
["",null,null,null,null,""]
["",null,null,null,null,""]
["",null,null,null,null,""]
["",null,null,null,null,""]
["",null,null,null,null,""]
["",null,null,null,null,""]
["",null,null,null,null,""]
["",null,null,null,null,""]
["",null,null,null,null,""]
["",null,null,null,null,""]
["",null,null,null,null,""]
["",null,null,null,null,""]
["",null,null,null,null,""]
["",null,null,null,null,""]
["",null,null,null,null,""]
["",null,null,null,null,""]
["",null,null,null,null,""]
["",null,null,null,null,""]
["",null,null,null,null,""]
[{"$f":"IF(B1793<>\"\",IF(C1793<>\"\",B1793&\"_\"&C1793&\" \"&D1793&\"/\"&E1793,B1793&\" \"&D1793),\"\")","v":""},null,null,null,null,""]
["",null,null,null,null,""]
["",null,null,null,null,""]
["",null,null,null,null,""]
["",null,null,null,null,""]
["",null,null,null,null,""]
["",null,null,null,null,""]
["",null,null,null,null,""]
["",null,null,null,null,""]
["",null,null,null,null,""]
["",null,null,null,null,""]
["",null,null,null,null,""]
["",null,null,null,null,""]
["",null,null,null,null,""]
["",null,null,null,null,""]
["",null,null,null,null,""]
["",null,null,null,null,""]
["",null,null,null,null,""]
["",null,null,null,null,""]
["",null,null,null,null,""]
["",null,null,null,null,""]
["",null,null,null,null,""]
["",null,null,null,null,""]
["",null,null,null,null,""]
["",null,null,null,null,""]
["",null,null,null,null,""]
["",null,null,null,null,""]
["",null,null,null,null,""]
["",null,null,null,null,""]
["",null,null,null,null,""]
["",null,null,null,null,""]
["",null,null,null,null,""]
["",null,null,null,null,""]
["",null,null,null,null,""]
["",null,null,null,null,""]
["",null,null,null,null,""]
["",null,null,null,null,""]
["",null,null,null,null,""]
["",null,null,null,null,""]
["",null,null,null,null,""]
["",null,null,null,null,""]
["",null,null,null,null,""]
["",null,null,null,null,""]
["",null,null,null,null,""]
["",null,null,null,null,""]
["",null,null,null,null,""]
["",null,null,null,null,""]
["",null,null,null,null,""]
["",null,null,null,null,""]
["",null,null,null,null,""]
["",null,null,null,null,""]
["",null,null,null,null,""]
["",null,null,null,null,""]
["",null,null,null,null,""]
["",null,null,null,null,""]
["",null,null,null,null,""]
["",null,null,null,null,""]
["",null,null,null,null,""]
["",null,null,null,null,""]
["",null,null,null,null,""]
["",null,null,null,null,""]
["",null,null,null,null,""]
["",null,null,null,null,""]
["",null,null,null,null,""]
[{"$f":"IF(B1857<>\"\",IF(C1857<>\"\",B1857&\"_\"&C1857&\" \"&D1857&\"/\"&E1857,B1857&\" \"&D1857),\"\")","v":""},null,null,null,null,""]
["",null,null,null,null,""]
["",null,null,null,null,""]
["",null,null,null,null,""]
["",null,null,null,null,""]
["",null,null,null,null,""]
["",null,null,null,null,""]
["",null,null,null,null,""]
["",null,null,null,null,""]
["",null,null,null,null,""]
["",null,null,null,null,""]
["",null,null,null,null,""]
["",null,null,null,null,""]
["",null,null,null,null,""]
["",null,null,null,null,""]
["",null,null,null,null,""]
["",null,null,null,null,""]
["",null,null,null,null,""]
["",null,null,null,null,""]
["",null,null,null,null,""]
["",null,null,null,null,""]
["",null,null,null,null,""]
["",null,null,null,null,""]
["",null,null,null,null,""]
["",null,null,null,null,""]
["",null,null,null,null,""]
["",null,null,null,null,""]
["",null,null,null,null,""]
["",null,null,null,null,""]
["",null,null,null,null,""]
["",null,null,null,null,""]
["",null,null,null,null,""]
["",null,null,null,null,""]
["",null,null,null,null,""]
["",null,null,null,null,""]
["",null,null,null,null,""]
["",null,null,null,null,""]
["",null,null,null,null,""]
["",null,null,null,null,""]
["",null,null,null,null,""]
["",null,null,null,null,""]
["",null,null,null,null,""]
["",null,null,null,null,""]
["",null,null,null,null,""]
["",null,null,null,null,""]
["",null,null,null,null,""]
["",null,null,null,null,""]
["",null,null,null,null,""]
["",null,null,null,null,""]
["",null,null,null,null,""]
["",null,null,null,null,""]
["",null,null,null,null,""]
["",null,null,null,null,""]
["",null,null,null,null,""]
["",null,null,null,null,""]
["",null,null,null,null,""]
["",null,null,null,null,""]
["",null,null,null,null,""]
["",null,null,null,null,""]
["",null,null,null,null,""]
["",null,null,null,null,""]
["",null,null,null,null,""]
["",null,null,null,null,""]
["",null,null,null,null,""]
[{"$f":"IF(B1921<>\"\",IF(C1921<>\"\",B1921&\"_\"&C1921&\" \"&D1921&\"/\"&E1921,B1921&\" \"&D1921),\"\")","v":""},null,null,null,null,""]
["",null,null,null,null,""]
["",null,null,null,null,""]
["",null,null,null,null,""]
["",null,null,null,null,""]
["",null,null,null,null,""]
["",null,null,null,null,""]
["",null,null,null,null,""]
["",null,null,null,null,""]
["",null,null,null,null,""]
["",null,null,null,null,""]
["",null,null,null,null,""]
["",null,null,null,null,""]
["",null,null,null,null,""]
["",null,null,null,null,""]
["",null,null,null,null,""]
["",null,null,null,null,""]
["",null,null,null,null,""]
["",null,null,null,null,""]
["",null,null,null,null,""]
["",null,null,null,null,""]
["",null,null,null,null,""]
["",null,null,null,null,""]
["",null,null,null,null,""]
["",null,null,null,null,""]
["",null,null,null,null,""]
["",null,null,null,null,""]
["",null,null,null,null,""]
["",null,null,null,null,""]
["",null,null,null,null,""]
["",null,null,null,null,""]
["",null,null,null,null,""]
["",null,null,null,null,""]
["",null,null,null,null,""]
["",null,null,null,null,""]
["",null,null,null,null,""]
["",null,null,null,null,""]
["",null,null,null,null,""]
["",null,null,null,null,""]
["",null,null,null,null,""]
["",null,null,null,null,""]
["",null,null,null,null,""]
["",null,null,null,null,""]
["",null,null,null,null,""]
["",null,null,null,null,""]
["",null,null,null,null,""]
["",null,null,null,null,""]
["",null,null,null,null,""]
["",null,null,null,null,""]
["",null,null,null,null,""]
["",null,null,null,null,""]
["",null,null,null,null,""]
["",null,null,null,null,""]
["",null,null,null,null,""]
["",null,null,null,null,""]
["",null,null,null,null,""]
["",null,null,null,null,""]
["",null,null,null,null,""]
["",null,null,null,null,""]
["",null,null,null,null,""]
["",null,null,null,null,""]
["",null,null,null,null,""]
["",null,null,null,null,""]
["",null,null,null,null,""]
[{"$f":"IF(B1985<>\"\",IF(C1985<>\"\",B1985&\"_\"&C1985&\" \"&D1985&\"/\"&E1985,B1985&\" \"&D1985),\"\")","v":""},null,null,null,null,""]
["",null,null,null,null,""]
["",null,null,null,null,""]
["",null,null,null,null,""]
["",null,null,null,null,""]
["",null,null,null,null,""]
["",null,null,null,null,""]
["",null,null,null,null,""]
["",null,null,null,null,""]
["",null,null,null,null,""]
["",null,null,null,null,""]
["",null,null,null,null,""]
["",null,null,null,null,""]
["",null,null,null,null,""]
["",null,null,null,null,""]
["",null,null,null,null,""]
["",null,null,null,null,""]
["",null,null,null,null,""]
["",null,null,null,null,""]
["",null,null,null,null,""]
["",null,null,null,null,""]
["",null,null,null,null,""]
["",null,null,null,null,""]
["",null,null,null,null,""]
["",null,null,null,null,""]
["",null,null,null,null,""]
["",null,null,null,null,""]
["",null,null,null,null,""]
["",null,null,null,null,""]
["",null,null,null,null,""]
["",null,null,null,null,""]
["",null,null,null,null,""]
["",null,null,null,null,""]
["",null,null,null,null,""]
["",null,null,null,null,""]
["",null,null,null,null,""]
["",null,null,null,null,""]
["",null,null,null,null,""]
["",null,null,null,null,""]
["",null,null,null,null,""]
["",null,null,null,null,""]
["",null,null,null,null,""]
["",null,null,null,null,""]
["",null,null,null,null,""]
["",null,null,null,null,""]
["",null,null,null,null,""]
["",null,null,null,null,""]
["",null,null,null,null,""]
["",null,null,null,null,""]
["",null,null,null,null,""]
["",null,null,null,null,""]
["",null,null,null,null,""]
["",null,null,null,null,""]
["",null,null,null,null,""]
["",null,null,null,null,""]
["",null,null,null,null,""]
["",null,null,null,null,""]
["",null,null,null,null,""]
["",null,null,null,null,""]
["",null,null,null,null,""]
["",null,null,null,null,""]
["",null,null,null,null,""]
["",null,null,null,null,""]
["",null,null,null,null,""]
[{"$f":"IF(B2049<>\"\",IF(C2049<>\"\",B2049&\"_\"&C2049&\" \"&D2049&\"/\"&E2049,B2049&\" \"&D2049),\"\")","v":""},null,null,null,null,""]
["",null,null,null,null,""]
["",null,null,null,null,""]
["",null,null,null,null,""]
["",null,null,null,null,""]
["",null,null,null,null,""]
["",null,null,null,null,""]
["",null,null,null,null,""]
["",null,null,null,null,""]
["",null,null,null,null,""]
["",null,null,null,null,""]
["",null,null,null,null,""]
["",null,null,null,null,""]
["",null,null,null,null,""]
["",null,null,null,null,""]
["",null,null,null,null,""]
["",null,null,null,null,""]
["",null,null,null,null,""]
["",null,null,null,null,""]
["",null,null,null,null,""]
["",null,null,null,null,""]
["",null,null,null,null,""]
["",null,null,null,null,""]
["",null,null,null,null,""]
["",null,null,null,null,""]
["",null,null,null,null,""]
["",null,null,null,null,""]
["",null,null,null,null,""]
["",null,null,null,null,""]
["",null,null,null,null,""]
["",null,null,null,null,""]
["",null,null,null,null,""]
["",null,null,null,null,""]
["",null,null,null,null,""]
["",null,null,null,null,""]
["",null,null,null,null,""]
["",null,null,null,null,""]
["",null,null,null,null,""]
["",null,null,null,null,""]
["",null,null,null,null,""]
["",null,null,null,null,""]
["",null,null,null,null,""]
["",null,null,null,null,""]
["",null,null,null,null,""]
["",null,null,null,null,""]
["",null,null,null,null,""]
["",null,null,null,null,""]
["",null,null,null,null,""]
["",null,null,null,null,""]
["",null,null,null,null,""]
["",null,null,null,null,""]
["",null,null,null,null,""]
["",null,null,null,null,""]
["",null,null,null,null,""]
["",null,null,null,null,""]
["",null,null,null,null,""]
["",null,null,null,null,""]
["",null,null,null,null,""]
["",null,null,null,null,""]
["",null,null,null,null,""]
["",null,null,null,null,""]
["",null,null,null,null,""]
["",null,null,null,null,""]
["",null,null,null,null,""]
[{"$f":"IF(B2113<>\"\",IF(C2113<>\"\",B2113&\"_\"&C2113&\" \"&D2113&\"/\"&E2113,B2113&\" \"&D2113),\"\")","v":""},null,null,null,null,""]
["",null,null,null,null,""]
["",null,null,null,null,""]
["",null,null,null,null,""]
["",null,null,null,null,""]
["",null,null,null,null,""]
["",null,null,null,null,""]
["",null,null,null,null,""]
["",null,null,null,null,""]
["",null,null,null,null,""]
["",null,null,null,null,""]
["",null,null,null,null,""]
["",null,null,null,null,""]
["",null,null,null,null,""]
["",null,null,null,null,""]
["",null,null,null,null,""]
["",null,null,null,null,""]
["",null,null,null,null,""]
["",null,null,null,null,""]
["",null,null,null,null,""]
["",null,null,null,null,""]
["",null,null,null,null,""]
["",null,null,null,null,""]
["",null,null,null,null,""]
["",null,null,null,null,""]
["",null,null,null,null,""]
["",null,null,null,null,""]
["",null,null,null,null,""]
["",null,null,null,null,""]
["",null,null,null,null,""]
["",null,null,null,null,""]
["",null,null,null,null,""]
["",null,null,null,null,""]
["",null,null,null,null,""]
["",null,null,null,null,""]
["",null,null,null,null,""]
["",null,null,null,null,""]
["",null,null,null,null,""]
["",null,null,null,null,""]
["",null,null,null,null,""]
["",null,null,null,null,""]
["",null,null,null,null,""]
["",null,null,null,null,""]
["",null,null,null,null,""]
["",null,null,null,null,""]
["",null,null,null,null,""]
["",null,null,null,null,""]
["",null,null,null,null,""]
["",null,null,null,null,""]
["",null,null,null,null,""]
["",null,null,null,null,""]
["",null,null,null,null,""]
["",null,null,null,null,""]
["",null,null,null,null,""]
["",null,null,null,null,""]
["",null,null,null,null,""]
["",null,null,null,null,""]
["",null,null,null,null,""]
["",null,null,null,null,""]
["",null,null,null,null,""]
["",null,null,null,null,""]
["",null,null,null,null,""]
["",null,null,null,null,""]
["",null,null,null,null,""]
[{"$f":"IF(B2177<>\"\",IF(C2177<>\"\",B2177&\"_\"&C2177&\" \"&D2177&\"/\"&E2177,B2177&\" \"&D2177),\"\")","v":""},null,null,null,null,""]
["",null,null,null,null,""]
["",null,null,null,null,""]
["",null,null,null,null,""]
["",null,null,null,null,""]
["",null,null,null,null,""]
["",null,null,null,null,""]
["",null,null,null,null,""]
["",null,null,null,null,""]
["",null,null,null,null,""]
["",null,null,null,null,""]
["",null,null,null,null,""]
["",null,null,null,null,""]
["",null,null,null,null,""]
["",null,null,null,null,""]
["",null,null,null,null,""]
["",null,null,null,null,""]
["",null,null,null,null,""]
["",null,null,null,null,""]
["",null,null,null,null,""]
["",null,null,null,null,""]
["",null,null,null,null,""]
["",null,null,null,null,""]
["",null,null,null,null,""]
["",null,null,null,null,""]
["",null,null,null,null,""]
["",null,null,null,null,""]
["",null,null,null,null,""]
["",null,null,null,null,""]
["",null,null,null,null,""]
["",null,null,null,null,""]
["",null,null,null,null,""]
["",null,null,null,null,""]
["",null,null,null,null,""]
["",null,null,null,null,""]
["",null,null,null,null,""]
["",null,null,null,null,""]
["",null,null,null,null,""]
["",null,null,null,null,""]
["",null,null,null,null,""]
["",null,null,null,null,""]
["",null,null,null,null,""]
["",null,null,null,null,""]
["",null,null,null,null,""]
["",null,null,null,null,""]
["",null,null,null,null,""]
["",null,null,null,null,""]
["",null,null,null,null,""]
["",null,null,null,null,""]
["",null,null,null,null,""]
["",null,null,null,null,""]
["",null,null,null,null,""]
["",null,null,null,null,""]
["",null,null,null,null,""]
["",null,null,null,null,""]
["",null,null,null,null,""]
["",null,null,null,null,""]
["",null,null,null,null,""]
["",null,null,null,null,""]
["",null,null,null,null,""]
["",null,null,null,null,""]
["",null,null,null,null,""]
["",null,null,null,null,""]
["",null,null,null,null,""]
[{"$f":"IF(B2241<>\"\",IF(C2241<>\"\",B2241&\"_\"&C2241&\" \"&D2241&\"/\"&E2241,B2241&\" \"&D2241),\"\")","v":""},null,null,null,null,""]
["",null,null,null,null,""]
["",null,null,null,null,""]
["",null,null,null,null,""]
["",null,null,null,null,""]
["",null,null,null,null,""]
["",null,null,null,null,""]
["",null,null,null,null,""]
["",null,null,null,null,""]
["",null,null,null,null,""]
["",null,null,null,null,""]
["",null,null,null,null,""]
["",null,null,null,null,""]
["",null,null,null,null,""]
["",null,null,null,null,""]
["",null,null,null,null,""]
["",null,null,null,null,""]
["",null,null,null,null,""]
["",null,null,null,null,""]
["",null,null,null,null,""]
["",null,null,null,null,""]
["",null,null,null,null,""]
["",null,null,null,null,""]
["",null,null,null,null,""]
["",null,null,null,null,""]
["",null,null,null,null,""]
["",null,null,null,null,""]
["",null,null,null,null,""]
["",null,null,null,null,""]
["",null,null,null,null,""]
["",null,null,null,null,""]
["",null,null,null,null,""]
["",null,null,null,null,""]
["",null,null,null,null,""]
["",null,null,null,null,""]
["",null,null,null,null,""]
["",null,null,null,null,""]
["",null,null,null,null,""]
["",null,null,null,null,""]
["",null,null,null,null,""]
["",null,null,null,null,""]
["",null,null,null,null,""]
["",null,null,null,null,""]
["",null,null,null,null,""]
["",null,null,null,null,""]
["",null,null,null,null,""]
["",null,null,null,null,""]
["",null,null,null,null,""]
["",null,null,null,null,""]
["",null,null,null,null,""]
["",null,null,null,null,""]
["",null,null,null,null,""]
["",null,null,null,null,""]
["",null,null,null,null,""]
["",null,null,null,null,""]
["",null,null,null,null,""]
["",null,null,null,null,""]
["",null,null,null,null,""]
["",null,null,null,null,""]
["",null,null,null,null,""]
["",null,null,null,null,""]
["",null,null,null,null,""]
["",null,null,null,null,""]
["",null,null,null,null,""]
[{"$f":"IF(B2305<>\"\",IF(C2305<>\"\",B2305&\"_\"&C2305&\" \"&D2305&\"/\"&E2305,B2305&\" \"&D2305),\"\")","v":""},null,null,null,null,""]
["",null,null,null,null,""]
["",null,null,null,null,""]
["",null,null,null,null,""]
["",null,null,null,null,""]
["",null,null,null,null,""]
["",null,null,null,null,""]
["",null,null,null,null,""]
["",null,null,null,null,""]
["",null,null,null,null,""]
["",null,null,null,null,""]
["",null,null,null,null,""]
["",null,null,null,null,""]
["",null,null,null,null,""]
["",null,null,null,null,""]
["",null,null,null,null,""]
["",null,null,null,null,""]
["",null,null,null,null,""]
["",null,null,null,null,""]
["",null,null,null,null,""]
["",null,null,null,null,""]
["",null,null,null,null,""]
["",null,null,null,null,""]
["",null,null,null,null,""]
["",null,null,null,null,""]
["",null,null,null,null,""]
["",null,null,null,null,""]
["",null,null,null,null,""]
["",null,null,null,null,""]
["",null,null,null,null,""]
["",null,null,null,null,""]
["",null,null,null,null,""]
["",null,null,null,null,""]
["",null,null,null,null,""]
["",null,null,null,null,""]
["",null,null,null,null,""]
["",null,null,null,null,""]
["",null,null,null,null,""]
["",null,null,null,null,""]
["",null,null,null,null,""]
["",null,null,null,null,""]
["",null,null,null,null,""]
["",null,null,null,null,""]
["",null,null,null,null,""]
["",null,null,null,null,""]
["",null,null,null,null,""]
["",null,null,null,null,""]
["",null,null,null,null,""]
["",null,null,null,null,""]
["",null,null,null,null,""]
["",null,null,null,null,""]
["",null,null,null,null,""]
["",null,null,null,null,""]
["",null,null,null,null,""]
["",null,null,null,null,""]
["",null,null,null,null,""]
["",null,null,null,null,""]
["",null,null,null,null,""]
["",null,null,null,null,""]
["",null,null,null,null,""]
["",null,null,null,null,""]
["",null,null,null,null,""]
["",null,null,null,null,""]
["",null,null,null,null,""]
[{"$f":"IF(B2369<>\"\",IF(C2369<>\"\",B2369&\"_\"&C2369&\" \"&D2369&\"/\"&E2369,B2369&\" \"&D2369),\"\")","v":""},null,null,null,null,""]
["",null,null,null,null,""]
["",null,null,null,null,""]
["",null,null,null,null,""]
["",null,null,null,null,""]
["",null,null,null,null,""]
["",null,null,null,null,""]
["",null,null,null,null,""]
["",null,null,null,null,""]
["",null,null,null,null,""]
["",null,null,null,null,""]
["",null,null,null,null,""]
["",null,null,null,null,""]
["",null,null,null,null,""]
["",null,null,null,null,""]
["",null,null,null,null,""]
["",null,null,null,null,""]
["",null,null,null,null,""]
["",null,null,null,null,""]
["",null,null,null,null,""]
["",null,null,null,null,""]
["",null,null,null,null,""]
["",null,null,null,null,""]
["",null,null,null,null,""]
["",null,null,null,null,""]
["",null,null,null,null,""]
["",null,null,null,null,""]
["",null,null,null,null,""]
["",null,null,null,null,""]
["",null,null,null,null,""]
["",null,null,null,null,""]
["",null,null,null,null,""]
["",null,null,null,null,""]
["",null,null,null,null,""]
["",null,null,null,null,""]
["",null,null,null,null,""]
["",null,null,null,null,""]
["",null,null,null,null,""]
["",null,null,null,null,""]
["",null,null,null,null,""]
["",null,null,null,null,""]
["",null,null,null,null,""]
["",null,null,null,null,""]
["",null,null,null,null,""]
["",null,null,null,null,""]
["",null,null,null,null,""]
["",null,null,null,null,""]
["",null,null,null,null,""]
["",null,null,null,null,""]
["",null,null,null,null,""]
["",null,null,null,null,""]
["",null,null,null,null,""]
["",null,null,null,null,""]
["",null,null,null,null,""]
["",null,null,null,null,""]
["",null,null,null,null,""]
["",null,null,null,null,""]
["",null,null,null,null,""]
["",null,null,null,null,""]
["",null,null,null,null,""]
["",null,null,null,null,""]
["",null,null,null,null,""]
["",null,null,null,null,""]
["",null,null,null,null,""]
[{"$f":"IF(B2433<>\"\",IF(C2433<>\"\",B2433&\"_\"&C2433&\" \"&D2433&\"/\"&E2433,B2433&\" \"&D2433),\"\")","v":""},null,null,null,null,""]
["",null,null,null,null,""]
["",null,null,null,null,""]
["",null,null,null,null,""]
["",null,null,null,null,""]
["",null,null,null,null,""]
["",null,null,null,null,""]
["",null,null,null,null,""]
["",null,null,null,null,""]
["",null,null,null,null,""]
["",null,null,null,null,""]
["",null,null,null,null,""]
["",null,null,null,null,""]
["",null,null,null,null,""]
["",null,null,null,null,""]
["",null,null,null,null,""]
["",null,null,null,null,""]
["",null,null,null,null,""]
["",null,null,null,null,""]
["",null,null,null,null,""]
["",null,null,null,null,""]
["",null,null,null,null,""]
["",null,null,null,null,""]
["",null,null,null,null,""]
["",null,null,null,null,""]
["",null,null,null,null,""]
["",null,null,null,null,""]
["",null,null,null,null,""]
["",null,null,null,null,""]
["",null,null,null,null,""]
["",null,null,null,null,""]
["",null,null,null,null,""]
["",null,null,null,null,""]
["",null,null,null,null,""]
["",null,null,null,null,""]
["",null,null,null,null,""]
["",null,null,null,null,""]
["",null,null,null,null,""]
["",null,null,null,null,""]
["",null,null,null,null,""]
["",null,null,null,null,""]
["",null,null,null,null,""]
["",null,null,null,null,""]
["",null,null,null,null,""]
["",null,null,null,null,""]
["",null,null,null,null,""]
["",null,null,null,null,""]
["",null,null,null,null,""]
["",null,null,null,null,""]
["",null,null,null,null,""]
["",null,null,null,null,""]
["",null,null,null,null,""]
["",null,null,null,null,""]
["",null,null,null,null,""]
["",null,null,null,null,""]
["",null,null,null,null,""]
["",null,null,null,null,""]
["",null,null,null,null,""]
["",null,null,null,null,""]
["",null,null,null,null,""]
["",null,null,null,null,""]
["",null,null,null,null,""]
["",null,null,null,null,""]
["",null,null,null,null,""]
[{"$f":"IF(B2497<>\"\",IF(C2497<>\"\",B2497&\"_\"&C2497&\" \"&D2497&\"/\"&E2497,B2497&\" \"&D2497),\"\")","v":""},null,null,null,null,""]
["",null,null,null,null,""]
["",null,null,null,null,""]
["",null,null,null,null,""]
["",null,null,null,null,""]
["",null,null,null,null,""]
["",null,null,null,null,""]
["",null,null,null,null,""]
["",null,null,null,null,""]
["",null,null,null,null,""]
["",null,null,null,null,""]
["",null,null,null,null,""]
["",null,null,null,null,""]
["",null,null,null,null,""]
["",null,null,null,null,""]
["",null,null,null,null,""]
["",null,null,null,null,""]
["",null,null,null,null,""]
["",null,null,null,null,""]
["",null,null,null,null,""]
["",null,null,null,null,""]
["",null,null,null,null,""]
["",null,null,null,null,""]
["",null,null,null,null,""]
["",null,null,null,null,""]
["",null,null,null,null,""]
["",null,null,null,null,""]
["",null,null,null,null,""]
["",null,null,null,null,""]
["",null,null,null,null,""]
["",null,null,null,null,""]
["",null,null,null,null,""]
["",null,null,null,null,""]
["",null,null,null,null,""]
["",null,null,null,null,""]
["",null,null,null,null,""]
["",null,null,null,null,""]
["",null,null,null,null,""]
["",null,null,null,null,""]
["",null,null,null,null,""]
["",null,null,null,null,""]
["",null,null,null,null,""]
["",null,null,null,null,""]
["",null,null,null,null,""]
["",null,null,null,null,""]
["",null,null,null,null,""]
["",null,null,null,null,""]
["",null,null,null,null,""]
["",null,null,null,null,""]
["",null,null,null,null,""]
["",null,null,null,null,""]
["",null,null,null,null,""]
["",null,null,null,null,""]
["",null,null,null,null,""]
["",null,null,null,null,""]
["",null,null,null,null,""]
["",null,null,null,null,""]
["",null,null,null,null,""]
["",null,null,null,null,""]
["",null,null,null,null,""]
["",null,null,null,null,""]
["",null,null,null,null,""]
["",null,null,null,null,""]
["",null,null,null,null,""]
[{"$f":"IF(B2561<>\"\",IF(C2561<>\"\",B2561&\"_\"&C2561&\" \"&D2561&\"/\"&E2561,B2561&\" \"&D2561),\"\")","v":""},null,null,null,null,""]
["",null,null,null,null,""]
["",null,null,null,null,""]
["",null,null,null,null,""]
["",null,null,null,null,""]
["",null,null,null,null,""]
["",null,null,null,null,""]
["",null,null,null,null,""]
["",null,null,null,null,""]
["",null,null,null,null,""]
["",null,null,null,null,""]
["",null,null,null,null,""]
["",null,null,null,null,""]
["",null,null,null,null,""]
["",null,null,null,null,""]
["",null,null,null,null,""]
["",null,null,null,null,""]
["",null,null,null,null,""]
["",null,null,null,null,""]
["",null,null,null,null,""]
["",null,null,null,null,""]
["",null,null,null,null,""]
["",null,null,null,null,""]
["",null,null,null,null,""]
["",null,null,null,null,""]
["",null,null,null,null,""]
["",null,null,null,null,""]
["",null,null,null,null,""]
["",null,null,null,null,""]
["",null,null,null,null,""]
["",null,null,null,null,""]
["",null,null,null,null,""]
["",null,null,null,null,""]
["",null,null,null,null,""]
["",null,null,null,null,""]
["",null,null,null,null,""]
["",null,null,null,null,""]
["",null,null,null,null,""]
["",null,null,null,null,""]
["",null,null,null,null,""]
["",null,null,null,null,""]
["",null,null,null,null,""]
["",null,null,null,null,""]
["",null,null,null,null,""]
["",null,null,null,null,""]
["",null,null,null,null,""]
["",null,null,null,null,""]
["",null,null,null,null,""]
["",null,null,null,null,""]
["",null,null,null,null,""]
["",null,null,null,null,""]
["",null,null,null,null,""]
["",null,null,null,null,""]
["",null,null,null,null,""]
["",null,null,null,null,""]
["",null,null,null,null,""]
["",null,null,null,null,""]
["",null,null,null,null,""]
["",null,null,null,null,""]
["",null,null,null,null,""]
["",null,null,null,null,""]
["",null,null,null,null,""]
["",null,null,null,null,""]
["",null,null,null,null,""]
[{"$f":"IF(B2625<>\"\",IF(C2625<>\"\",B2625&\"_\"&C2625&\" \"&D2625&\"/\"&E2625,B2625&\" \"&D2625),\"\")","v":""},null,null,null,null,""]
["",null,null,null,null,""]
["",null,null,null,null,""]
["",null,null,null,null,""]
["",null,null,null,null,""]
["",null,null,null,null,""]
["",null,null,null,null,""]
["",null,null,null,null,""]
["",null,null,null,null,""]
["",null,null,null,null,""]
["",null,null,null,null,""]
["",null,null,null,null,""]
["",null,null,null,null,""]
["",null,null,null,null,""]
["",null,null,null,null,""]
["",null,null,null,null,""]
["",null,null,null,null,""]
["",null,null,null,null,""]
["",null,null,null,null,""]
["",null,null,null,null,""]
["",null,null,null,null,""]
["",null,null,null,null,""]
["",null,null,null,null,""]
["",null,null,null,null,""]
["",null,null,null,null,""]
["",null,null,null,null,""]
["",null,null,null,null,""]
["",null,null,null,null,""]
["",null,null,null,null,""]
["",null,null,null,null,""]
["",null,null,null,null,""]
["",null,null,null,null,""]
["",null,null,null,null,""]
["",null,null,null,null,""]
["",null,null,null,null,""]
["",null,null,null,null,""]
["",null,null,null,null,""]
["",null,null,null,null,""]
["",null,null,null,null,""]
["",null,null,null,null,""]
["",null,null,null,null,""]
["",null,null,null,null,""]
["",null,null,null,null,""]
["",null,null,null,null,""]
["",null,null,null,null,""]
["",null,null,null,null,""]
["",null,null,null,null,""]
["",null,null,null,null,""]
["",null,null,null,null,""]
["",null,null,null,null,""]
["",null,null,null,null,""]
["",null,null,null,null,""]
["",null,null,null,null,""]
["",null,null,null,null,""]
["",null,null,null,null,""]
["",null,null,null,null,""]
["",null,null,null,null,""]
["",null,null,null,null,""]
["",null,null,null,null,""]
["",null,null,null,null,""]
["",null,null,null,null,""]
["",null,null,null,null,""]
["",null,null,null,null,""]
["",null,null,null,null,""]
[{"$f":"IF(B2689<>\"\",IF(C2689<>\"\",B2689&\"_\"&C2689&\" \"&D2689&\"/\"&E2689,B2689&\" \"&D2689),\"\")","v":""},null,null,null,null,""]
["",null,null,null,null,""]
["",null,null,null,null,""]
["",null,null,null,null,""]
["",null,null,null,null,""]
["",null,null,null,null,""]
["",null,null,null,null,""]
["",null,null,null,null,""]
["",null,null,null,null,""]
["",null,null,null,null,""]
["",null,null,null,null,""]
["",null,null,null,null,""]
["",null,null,null,null,""]
["",null,null,null,null,""]
["",null,null,null,null,""]
["",null,null,null,null,""]
["",null,null,null,null,""]
["",null,null,null,null,""]
["",null,null,null,null,""]
["",null,null,null,null,""]
["",null,null,null,null,""]
["",null,null,null,null,""]
["",null,null,null,null,""]
["",null,null,null,null,""]
["",null,null,null,null,""]
["",null,null,null,null,""]
["",null,null,null,null,""]
["",null,null,null,null,""]
["",null,null,null,null,""]
["",null,null,null,null,""]
["",null,null,null,null,""]
["",null,null,null,null,""]
["",null,null,null,null,""]
["",null,null,null,null,""]
["",null,null,null,null,""]
["",null,null,null,null,""]
["",null,null,null,null,""]
["",null,null,null,null,""]
["",null,null,null,null,""]
["",null,null,null,null,""]
["",null,null,null,null,""]
["",null,null,null,null,""]
["",null,null,null,null,""]
["",null,null,null,null,""]
["",null,null,null,null,""]
["",null,null,null,null,""]
["",null,null,null,null,""]
["",null,null,null,null,""]
["",null,null,null,null,""]
["",null,null,null,null,""]
["",null,null,null,null,""]
["",null,null,null,null,""]
["",null,null,null,null,""]
["",null,null,null,null,""]
["",null,null,null,null,""]
["",null,null,null,null,""]
["",null,null,null,null,""]
["",null,null,null,null,""]
["",null,null,null,null,""]
["",null,null,null,null,""]
["",null,null,null,null,""]
["",null,null,null,null,""]
["",null,null,null,null,""]
["",null,null,null,null,""]
[{"$f":"IF(B2753<>\"\",IF(C2753<>\"\",B2753&\"_\"&C2753&\" \"&D2753&\"/\"&E2753,B2753&\" \"&D2753),\"\")","v":""},null,null,null,null,""]
["",null,null,null,null,""]
["",null,null,null,null,""]
["",null,null,null,null,""]
["",null,null,null,null,""]
["",null,null,null,null,""]
["",null,null,null,null,""]
["",null,null,null,null,""]
["",null,null,null,null,""]
["",null,null,null,null,""]
["",null,null,null,null,""]
["",null,null,null,null,""]
["",null,null,null,null,""]
["",null,null,null,null,""]
["",null,null,null,null,""]
["",null,null,null,null,""]
["",null,null,null,null,""]
["",null,null,null,null,""]
["",null,null,null,null,""]
["",null,null,null,null,""]
["",null,null,null,null,""]
["",null,null,null,null,""]
["",null,null,null,null,""]
["",null,null,null,null,""]
["",null,null,null,null,""]
["",null,null,null,null,""]
["",null,null,null,null,""]
["",null,null,null,null,""]
["",null,null,null,null,""]
["",null,null,null,null,""]
["",null,null,null,null,""]
["",null,null,null,null,""]
["",null,null,null,null,""]
["",null,null,null,null,""]
["",null,null,null,null,""]
["",null,null,null,null,""]
["",null,null,null,null,""]
["",null,null,null,null,""]
["",null,null,null,null,""]
["",null,null,null,null,""]
["",null,null,null,null,""]
["",null,null,null,null,""]
["",null,null,null,null,""]
["",null,null,null,null,""]
["",null,null,null,null,""]
["",null,null,null,null,""]
["",null,null,null,null,""]
["",null,null,null,null,""]
["",null,null,null,null,""]
["",null,null,null,null,""]
["",null,null,null,null,""]
["",null,null,null,null,""]
["",null,null,null,null,""]
["",null,null,null,null,""]
["",null,null,null,null,""]
["",null,null,null,null,""]
["",null,null,null,null,""]
["",null,null,null,null,""]
["",null,null,null,null,""]
["",null,null,null,null,""]
["",null,null,null,null,""]
["",null,null,null,null,""]
["",null,null,null,null,""]
["",null,null,null,null,""]
[{"$f":"IF(B2817<>\"\",IF(C2817<>\"\",B2817&\"_\"&C2817&\" \"&D2817&\"/\"&E2817,B2817&\" \"&D2817),\"\")","v":""},null,null,null,null,""]
["",null,null,null,null,""]
["",null,null,null,null,""]
["",null,null,null,null,""]
["",null,null,null,null,""]
["",null,null,null,null,""]
["",null,null,null,null,""]
["",null,null,null,null,""]
["",null,null,null,null,""]
["",null,null,null,null,""]
["",null,null,null,null,""]
["",null,null,null,null,""]
["",null,null,null,null,""]
["",null,null,null,null,""]
["",null,null,null,null,""]
["",null,null,null,null,""]
["",null,null,null,null,""]
["",null,null,null,null,""]
["",null,null,null,null,""]
["",null,null,null,null,""]
["",null,null,null,null,""]
["",null,null,null,null,""]
["",null,null,null,null,""]
["",null,null,null,null,""]
["",null,null,null,null,""]
["",null,null,null,null,""]
["",null,null,null,null,""]
["",null,null,null,null,""]
["",null,null,null,null,""]
["",null,null,null,null,""]
["",null,null,null,null,""]
["",null,null,null,null,""]
["",null,null,null,null,""]
["",null,null,null,null,""]
["",null,null,null,null,""]
["",null,null,null,null,""]
["",null,null,null,null,""]
["",null,null,null,null,""]
["",null,null,null,null,""]
["",null,null,null,null,""]
["",null,null,null,null,""]
["",null,null,null,null,""]
["",null,null,null,null,""]
["",null,null,null,null,""]
["",null,null,null,null,""]
["",null,null,null,null,""]
["",null,null,null,null,""]
["",null,null,null,null,""]
["",null,null,null,null,""]
["",null,null,null,null,""]
["",null,null,null,null,""]
["",null,null,null,null,""]
["",null,null,null,null,""]
["",null,null,null,null,""]
["",null,null,null,null,""]
["",null,null,null,null,""]
["",null,null,null,null,""]
["",null,null,null,null,""]
["",null,null,null,null,""]
["",null,null,null,null,""]
["",null,null,null,null,""]
["",null,null,null,null,""]
["",null,null,null,null,""]
["",null,null,null,null,""]
[{"$f":"IF(B2881<>\"\",IF(C2881<>\"\",B2881&\"_\"&C2881&\" \"&D2881&\"/\"&E2881,B2881&\" \"&D2881),\"\")","v":""},null,null,null,null,""]
["",null,null,null,null,""]
["",null,null,null,null,""]
["",null,null,null,null,""]
["",null,null,null,null,""]
["",null,null,null,null,""]
["",null,null,null,null,""]
["",null,null,null,null,""]
["",null,null,null,null,""]
["",null,null,null,null,""]
["",null,null,null,null,""]
["",null,null,null,null,""]
["",null,null,null,null,""]
["",null,null,null,null,""]
["",null,null,null,null,""]
["",null,null,null,null,""]
["",null,null,null,null,""]
["",null,null,null,null,""]
["",null,null,null,null,""]
["",null,null,null,null,""]
["",null,null,null,null,""]
["",null,null,null,null,""]
["",null,null,null,null,""]
["",null,null,null,null,""]
["",null,null,null,null,""]
["",null,null,null,null,""]
["",null,null,null,null,""]
["",null,null,null,null,""]
["",null,null,null,null,""]
["",null,null,null,null,""]
["",null,null,null,null,""]
["",null,null,null,null,""]
["",null,null,null,null,""]
["",null,null,null,null,""]
["",null,null,null,null,""]
["",null,null,null,null,""]
["",null,null,null,null,""]
["",null,null,null,null,""]
["",null,null,null,null,""]
["",null,null,null,null,""]
["",null,null,null,null,""]
["",null,null,null,null,""]
["",null,null,null,null,""]
["",null,null,null,null,""]
["",null,null,null,null,""]
["",null,null,null,null,""]
["",null,null,null,null,""]
["",null,null,null,null,""]
["",null,null,null,null,""]
["",null,null,null,null,""]
["",null,null,null,null,""]
["",null,null,null,null,""]
["",null,null,null,null,""]
["",null,null,null,null,""]
["",null,null,null,null,""]
["",null,null,null,null,""]
["",null,null,null,null,""]
["",null,null,null,null,""]
["",null,null,null,null,""]
["",null,null,null,null,""]
["",null,null,null,null,""]
["",null,null,null,null,""]
["",null,null,null,null,""]
["",null,null,null,null,""]
[{"$f":"IF(B2945<>\"\",IF(C2945<>\"\",B2945&\"_\"&C2945&\" \"&D2945&\"/\"&E2945,B2945&\" \"&D2945),\"\")","v":""},null,null,null,null,""]
["",null,null,null,null,""]
["",null,null,null,null,""]
["",null,null,null,null,""]
["",null,null,null,null,""]
["",null,null,null,null,""]
["",null,null,null,null,""]
["",null,null,null,null,""]
["",null,null,null,null,""]
["",null,null,null,null,""]
["",null,null,null,null,""]
["",null,null,null,null,""]
["",null,null,null,null,""]
["",null,null,null,null,""]
["",null,null,null,null,""]
["",null,null,null,null,""]
["",null,null,null,null,""]
["",null,null,null,null,""]
["",null,null,null,null,""]
["",null,null,null,null,""]
["",null,null,null,null,""]
["",null,null,null,null,""]
["",null,null,null,null,""]
["",null,null,null,null,""]
["",null,null,null,null,""]
["",null,null,null,null,""]
["",null,null,null,null,""]
["",null,null,null,null,""]
["",null,null,null,null,""]
["",null,null,null,null,""]
["",null,null,null,null,""]
["",null,null,null,null,""]
["",null,null,null,null,""]
["",null,null,null,null,""]
["",null,null,null,null,""]
["",null,null,null,null,""]
["",null,null,null,null,""]
["",null,null,null,null,""]
["",null,null,null,null,""]
["",null,null,null,null,""]
["",null,null,null,null,""]
["",null,null,null,null,""]
["",null,null,null,null,""]
["",null,null,null,null,""]
["",null,null,null,null,""]
["",null,null,null,null,""]
["",null,null,null,null,""]
["",null,null,null,null,""]
["",null,null,null,null,""]
["",null,null,null,null,""]
["",null,null,null,null,""]
["",null,null,null,null,""]
["",null,null,null,null,""]
["",null,null,null,null,""]
["",null,null,null,null,""]
["",null,null,null,null,""]
["",null,null,null,null,""]
["",null,null,null,null,""]
["",null,null,null,null,""]
["",null,null,null,null,""]
["",null,null,null,null,""]
["",null,null,null,null,""]
["",null,null,null,null,""]
["",null,null,null,null,""]
[{"$f":"IF(B3009<>\"\",IF(C3009<>\"\",B3009&\"_\"&C3009&\" \"&D3009&\"/\"&E3009,B3009&\" \"&D3009),\"\")","v":""},null,null,null,null,""]
["",null,null,null,null,""]
["",null,null,null,null,""]
["",null,null,null,null,""]
["",null,null,null,null,""]
["",null,null,null,null,""]
["",null,null,null,null,""]
["",null,null,null,null,""]
["",null,null,null,null,""]
["",null,null,null,null,""]
["",null,null,null,null,""]
["",null,null,null,null,""]
["",null,null,null,null,""]
["",null,null,null,null,""]
["",null,null,null,null,""]
["",null,null,null,null,""]
["",null,null,null,null,""]
["",null,null,null,null,""]
["",null,null,null,null,""]
["",null,null,null,null,""]
["",null,null,null,null,""]
["",null,null,null,null,""]
["",null,null,null,null,""]
["",null,null,null,null,""]
["",null,null,null,null,""]
["",null,null,null,null,""]
["",null,null,null,null,""]
["",null,null,null,null,""]
["",null,null,null,null,""]
["",null,null,null,null,""]
["",null,null,null,null,""]
["",null,null,null,null,""]
["",null,null,null,null,""]
["",null,null,null,null,""]
["",null,null,null,null,""]
["",null,null,null,null,""]
["",null,null,null,null,""]
["",null,null,null,null,""]
["",null,null,null,null,""]
["",null,null,null,null,""]
["",null,null,null,null,""]
["",null,null,null,null,""]
["",null,null,null,null,""]
["",null,null,null,null,""]
["",null,null,null,null,""]
["",null,null,null,null,""]
["",null,null,null,null,""]
["",null,null,null,null,""]
["",null,null,null,null,""]
["",null,null,null,null,""]
["",null,null,null,null,""]
["",null,null,null,null,""]
["",null,null,null,null,""]
["",null,null,null,null,""]
["",null,null,null,null,""]
["",null,null,null,null,""]
["",null,null,null,null,""]
["",null,null,null,null,""]
["",null,null,null,null,""]
["",null,null,null,null,""]
["",null,null,null,null,""]
["",null,null,null,null,""]
["",null,null,null,null,""]
["",null,null,null,null,""]
[{"$f":"IF(B3073<>\"\",IF(C3073<>\"\",B3073&\"_\"&C3073&\" \"&D3073&\"/\"&E3073,B3073&\" \"&D3073),\"\")","v":""},null,null,null,null,""]
["",null,null,null,null,""]
["",null,null,null,null,""]
["",null,null,null,null,""]
["",null,null,null,null,""]
["",null,null,null,null,""]
["",null,null,null,null,""]
["",null,null,null,null,""]
["",null,null,null,null,""]
["",null,null,null,null,""]
["",null,null,null,null,""]
["",null,null,null,null,""]
["",null,null,null,null,""]
["",null,null,null,null,""]
["",null,null,null,null,""]
["",null,null,null,null,""]
["",null,null,null,null,""]
["",null,null,null,null,""]
["",null,null,null,null,""]
["",null,null,null,null,""]
["",null,null,null,null,""]
["",null,null,null,null,""]
["",null,null,null,null,""]
["",null,null,null,null,""]
["",null,null,null,null,""]
["",null,null,null,null,""]
["",null,null,null,null,""]
["",null,null,null,null,""]
["",null,null,null,null,""]
["",null,null,null,null,""]
["",null,null,null,null,""]
["",null,null,null,null,""]
["",null,null,null,null,""]
["",null,null,null,null,""]
[null,null,null,null,null,""]
[null,null,null,null,null,""]
[null,null,null,null,null,""]
[null,null,null,null,null,""]
[null,null,null,null,null,""]
[null,null,null,null,null,""]
[null,null,null,null,null,""]
[null,null,null,null,null,""]
[null,null,null,null,null,""]
[null,null,null,null,null,""]
[null,null,null,null,null,""]
[null,null,null,null,null,""]
[null,null,null,null,null,""]
[null,null,null,null,null,""]
[null,null,null,null,null,""]
[null,null,null,null,null,""]
[null,null,null,null,null,""]
[null,null,null,null,null,""]
[null,null,null,null,null,""]
[null,null,null,null,null,""]
[null,null,null,null,null,""]
[null,null,null,null,null,""]
[null,null,null,null,null,""]
[null,null,null,null,null,""]
[null,null,null,null,null,""]
[null,null,null,null,null,""]
[null,null,null,null,null,""]
[null,null,null,null,null,""]
[null,null,null,null,null,""]
[null,null,null,null,null,""]
[null,null,null,null,null,""]
[null,null,null,null,null,""]
[null,null,null,null,null,""]
[null,null,null,null,null,""]
[null,null,null,null,null,""]
[null,null,null,null,null,""]
[null,null,null,null,null,""]
[null,null,null,null,null,""]
[null,null,null,null,null,""]
[null,null,null,null,null,""]
[null,null,null,null,null,""]
[null,null,null,null,null,""]
[null,null,null,null,null,""]
[null,null,null,null,null,""]
[null,null,null,null,null,""]
[null,null,null,null,null,""]
[null,null,null,null,null,""]
[null,null,null,null,null,""]
[null,null,null,null,null,""]
[null,null,null,null,null,""]
[null,null,null,null,null,""]
[null,null,null,null,null,""]
[null,null,null,null,null,""]
[null,null,null,null,null,""]
[null,null,null,null,null,""]
[null,null,null,null,null,""]
[null,null,null,null,null,""]
[null,null,null,null,null,""]
[null,null,null,null,null,""]
[null,null,null,null,null,""]
[null,null,null,null,null,""]
[null,null,null,null,null,""]
[null,null,null,null,null,""]
[null,null,null,null,null,""]
[null,null,null,null,null,""]
[null,null,null,null,null,""]
[null,null,null,null,null,""]
[null,null,null,null,null,""]
[null,null,null,null,null,""]
[null,null,null,null,null,""]
[null,null,null,null,null,""]
[null,null,null,null,null,""]
[null,null,null,null,null,""]
[null,null,null,null,null,""]
[null,null,null,null,null,""]
[null,null,null,null,null,""]
[null,null,null,null,null,""]
[null,null,null,null,null,""]
[null,null,null,null,null,""]
[null,null,null,null,null,""]
[null,null,null,null,null,""]
[null,null,null,null,null,""]
[null,null,null,null,null,""]
[null,null,null,null,null,""]
[null,null,null,null,null,""]
[null,null,null,null,null,""]
[null,null,null,null,null,""]
[null,null,null,null,null,""]
[null,null,null,null,null,""]
[null,null,null,null,null,""]
[null,null,null,null,null,""]
[null,null,null,null,null,""]
[null,null,null,null,null,""]
[null,null,null,null,null,""]
[null,null,null,null,null,""]
[null,null,null,null,null,""]
[null,null,null,null,null,""]
[null,null,null,null,null,""]
[null,null,null,null,null,""]
[null,null,null,null,null,""]
[null,null,null,null,null,""]
[null,null,null,null,null,""]
[null,null,null,null,null,""]
[null,null,null,null,null,""]
[null,null,null,null,null,""]
[null,null,null,null,null,""]
[null,null,null,null,null,""]
[null,null,null,null,null,""]
[null,null,null,null,null,""]
[null,null,null,null,null,""]
[null,null,null,null,null,""]
[null,null,null,null,null,""]
[null,null,null,null,null,""]
[null,null,null,null,null,""]
[null,null,null,null,null,""]

{"sheet":"Import Accounting Journal","index":6,"n_rows":6,"n_cols":28,"rows_kept":6,"cut":false,"hidden":true,"merged":[[0,0,0,27],[1,1,1,5],[1,6,1,27]]}
["Import Accounting Journal - v41.2"]
["Area","All",null,null,null,null,"Accounting Journal Data (All)"]
["Restrictions","Required","Optional","Optional","Optional","Optional","Optional","Optional","Optional","Optional","Optional","Required","Required","Required","Optional","Required","Required","Optional","Optional. May have multiples","Optional","Optional","Optional","Optional","Optional","Optional","Optional","Optional","Optional"]
["Format","Text","Y/N","Y/N","Accounting_Journal_ID","Y/N","Text","Y/N","Y/N","Y/N","Text","Company_Reference_ID","Currency_ID","Ledger_Type_ID","Book_Code_ID","YYYY-MM-DD","Journal_Source_ID","Fund_ID","Academic_Level_ID","Text","Text","Y/N","Y/N","YYYY-MM-DD","Number (26,6)","Currency_Rate_Type_ID","Currency_Rate_Type_ID","Y/N"]
["Fields","Header Key*","Add Only","Create Journal with Errors","Existing Accounting Journal Ref ID","Auto Complete","Accounting Journal Ref ID","Submit","Disable Optional Worktag Balancing","Journal for All Ledgers","Journal Number","Company*","Currency*","Ledger Type*","Book Code","Accounting Date*","Journal Source*","Balancing Worktag","Optional Balancing Worktags+","Journal Entry Memo","External Reference ID","Adjustment Journal","Create Reversal","Reversal Date","Control Total Amount","Currency Rate Type","Alternate Ledger Currency Rate Type","Discard On Exit Validation Error"]
[null,{"$f":"IF(Template!$A$8<>\"\",Template!$A$8,\"\")","v":""},{"$f":"IF($B$6<>\"\",\"N\",\"\")","v":""},null,null,null,null,{"$f":"IF($B$6<>\"\",\"Y\",\"\")","v":""},null,null,null,{"$f":"IF($B$6<>\"\",INDEX(Worktags!$B$4:$D$36,MATCH(Template!$D$8,Worktags!$C$4:$C$36,0),1),\"\")","v":""},{"$f":"IF($B$6<>\"\",Template!$G$8,\"\")","v":""},{"$f":"IF($B$6<>\"\",Template!$E$8,\"\")","v":""},{"$f":"IF($B$6<>\"\",VLOOKUP(Template!$F$8,Tenant!$T:$U,2,FALSE),\"\")","v":""},{"$f":"IF($B$6<>\"\",TEXT(Template!$B$8,\"yyyy-mm-dd\"),\"\")","v":""},{"$f":"IF($B$6<>\"\",VLOOKUP(Template!$C$8,Tenant!$P:$Q,2,FALSE),\"\")","v":""},{"$f":"IF($B$6<>\"\",\"FD01\")","v":false},null,{"$f":"IF($B$6<>\"\",Template!$I$8,\"\")","v":""},{"$f":"IF($B$6<>\"\",Template!$H$8,\"\")","v":""}]

{"sheet":"Journal Entry Line Replacement","index":7,"n_rows":164,"n_cols":32,"rows_kept":164,"cut":false,"hidden":true,"merged":[[0,0,0,29],[1,1,1,31]]}
["Journal Entry Line Replacement Data"]
["Area","All"]
["Restrictions","Required","Required","Optional","Optional","Optional","Optional","Optional","Optional","Optional","Optional","Optional","Optional","Optional","Optional","Optional","Optional","Optional","Optional","Optional","Optional","Optional","Optional","Optional","Optional","Optional","Optional","Optional","Optional","Optional","Optional","Optional"]
["Format","Text","Text","Company_Reference_ID","Ledger_Account_ID","Account_Set_ID","Number (26,6)","Number (26,6)","Currency_ID","Number (24,12)","Number (18,3)","Number (18,3)","Text","Text","Spend_Category_ID","Revenue_Category_ID","Cost_Center_Reference_ID","Custom_Organization_Reference_ID","Gift_Reference_ID","Grant_ID","Project_ID","Project_Plan_ID","Fund_ID","Program_ID","Custom_Organization_Reference_ID","Custom_Organization_Reference_ID","Custom_Organization_Reference_ID","Custom_Worktag_06_ID","Donor_ID","Location_ID","Custom_Worktag_3_ID","Bank_Account_ID"]
["Fields","Header Key","Line Key","Line Company","Ledger Account","Account Set","Debit Amount","Credit Amount","Currency","Currency Rate","Ledger Debit Amount","Ledger Credit Amount","Memo","External Reference ID","Spend Category","Revenue Category","Cost Center","Activity","Gift","Grant","Project","Project Plan","Fund","Program","Class","Assignee","Student Experience","Intra Campus Transactions","Donor","Location","External Payment Type","Bank Account"]
[null,{"$f":"Template!$L$8","v":0},1,{"$f":"IF(Template!$AB$8<>\"\",INDEX(Worktags!$B$4:$D$36,MATCH(Template!$AB$8,Worktags!$C$4:$C$36,0),1),\"\")","v":""},{"$f":"IF(Template!$P$8<>\"\",Template!$P$8,\"\")","v":""},"BYU_Child",null,2.74,null,null,null,null,{"$f":"IF(Template!$R$8<>\"\",Template!$R$8,\"\")","v":""},{"$f":"IF(Template!$AE$8<>\"\",Template!$AE$8,\"\")","v":""},{"$f":"IF(LEFT(Template!$Q$8,2)=\"SC\",Template!$Q$8,\"\")","v":""},{"$f":"IF(LEFT(Template!$Q$8,2)=\"RC\",Template!$Q$8,\"\")","v":""},{"$f":"IF(LEFT(Template!$O$8,2)=\"CC\",Template!$O$8,\"\")","v":""},{"$f":"IF(LEFT(Template!$O$8,2)=\"AC\",Template!$O$8,\"\")","v":""},{"$f":"IF(LEFT(Template!$O$8,2)=\"GF\",Template!$O$8,\"\")","v":""},{"$f":"IF(LEFT(Template!$O$8,2)=\"GR\",Template!$O$8,\"\")","v":""},null,null,{"$f":"IF(Template!$AC$8<>\"\",Template!$AC$8,\"\")","v":""},null,{"$f":"IF(Template!$Y$8<>\"\",Template!$Y$8,\"\")","v":""},{"$f":"IF(Template!$Z$8<>\"\",Template!$Z$8,\"\")","v":""},{"$f":"IF(Template!$AA$8<>\"\",Template!$AA$8,\"\")","v":""},{"$f":"IF(Template!$AD$8=\"Yes\",Template!$AD$8,\"\")","v":""},null,null,null,{"$f":"IF(LEFT(Template!$Q$8,2)=\"BK\",Template!$Q$8,\"\")","v":""}]
[null,{"$f":"Template!$L$9","v":0},{"$f":"IF(B7=B6,C6+1,1)","v":2},{"$f":"IF(Template!$AB$9<>\"\",INDEX(Worktags!$B$4:$D$36,MATCH(Template!$AB$9,Worktags!$C$4:$C$36,0),1),\"\")","v":""},{"$f":"IF(Template!$P$9<>\"\",Template!$P$9,\"\")","v":""},"BYU_Child",null,1737.92,null,null,null,null,{"$f":"IF(Template!$R$9<>\"\",Template!$R$9,\"\")","v":""},{"$f":"IF(Template!$AE$9<>\"\",Template!$AE$9,\"\")","v":""},{"$f":"IF(LEFT(Template!$Q$9,2)=\"SC\",Template!$Q$9,\"\")","v":""},{"$f":"IF(LEFT(Template!$Q$9,2)=\"RC\",Template!$Q$9,\"\")","v":""},{"$f":"IF(LEFT(Template!$O$9,2)=\"CC\",Template!$O$9,\"\")","v":""},{"$f":"IF(LEFT(Template!$O$9,2)=\"AC\",Template!$O$9,\"\")","v":""},{"$f":"IF(LEFT(Template!$O$9,2)=\"GF\",Template!$O$9,\"\")","v":""},{"$f":"IF(LEFT(Template!$O$9,2)=\"GR\",Template!$O$9,\"\")","v":""},null,null,{"$f":"IF(Template!$AC$9<>\"\",Template!$AC$9,\"\")","v":""},null,{"$f":"IF(Template!$Y$9<>\"\",Template!$Y$9,\"\")","v":""},{"$f":"IF(Template!$Z$9<>\"\",Template!$Z$9,\"\")","v":""},{"$f":"IF(Template!$AA$9<>\"\",Template!$AA$9,\"\")","v":""},{"$f":"IF(Template!$AD$9=\"Yes\",Template!$AD$9,\"\")","v":""},null,null,null,{"$f":"IF(LEFT(Template!$Q$9,2)=\"BK\",Template!$Q$9,\"\")","v":""}]
[null,{"$f":"Template!$L$10","v":0},3,{"$f":"IF(Template!$AB$10<>\"\",INDEX(Worktags!$B$4:$D$36,MATCH(Template!$AB$10,Worktags!$C$4:$C$36,0),1),\"\")","v":""},{"$f":"IF(Template!$P$10<>\"\",Template!$P$10,\"\")","v":""},"BYU_Child",4.22,null,null,null,null,null,{"$f":"IF(Template!$R$10<>\"\",Template!$R$10,\"\")","v":""},{"$f":"IF(Template!$AE$10<>\"\",Template!$AE$10,\"\")","v":""},{"$f":"IF(LEFT(Template!$Q$10,2)=\"SC\",Template!$Q$10,\"\")","v":""},{"$f":"IF(LEFT(Template!$Q$10,2)=\"RC\",Template!$Q$10,\"\")","v":""},{"$f":"IF(LEFT(Template!$O$10,2)=\"CC\",Template!$O$10,\"\")","v":""},{"$f":"IF(LEFT(Template!$O$10,2)=\"AC\",Template!$O$10,\"\")","v":""},{"$f":"IF(LEFT(Template!$O$10,2)=\"GF\",Template!$O$10,\"\")","v":""},{"$f":"IF(LEFT(Template!$O$10,2)=\"GR\",Template!$O$10,\"\")","v":""},null,null,{"$f":"IF(Template!$AC$10<>\"\",Template!$AC$10,\"\")","v":""},null,{"$f":"IF(Template!$Y$10<>\"\",Template!$Y$10,\"\")","v":""},{"$f":"IF(Template!$Z$10<>\"\",Template!$Z$10,\"\")","v":""},{"$f":"IF(Template!$AA$10<>\"\",Template!$AA$10,\"\")","v":""},{"$f":"IF(Template!$AD$10=\"Yes\",Template!$AD$10,\"\")","v":""},null,null,null,{"$f":"IF(LEFT(Template!$Q$10,2)=\"BK\",Template!$Q$10,\"\")","v":""}]
[null,{"$f":"Template!$L$11","v":0},4,{"$f":"IF(Template!$AB$11<>\"\",INDEX(Worktags!$B$4:$D$36,MATCH(Template!$AB$11,Worktags!$C$4:$C$36,0),1),\"\")","v":""},{"$f":"IF(Template!$P$11<>\"\",Template!$P$11,\"\")","v":""},"BYU_Child",null,813.13,null,null,null,null,{"$f":"IF(Template!$R$11<>\"\",Template!$R$11,\"\")","v":""},{"$f":"IF(Template!$AE$11<>\"\",Template!$AE$11,\"\")","v":""},{"$f":"IF(LEFT(Template!$Q$11,2)=\"SC\",Template!$Q$11,\"\")","v":""},{"$f":"IF(LEFT(Template!$Q$11,2)=\"RC\",Template!$Q$11,\"\")","v":""},{"$f":"IF(LEFT(Template!$O$11,2)=\"CC\",Template!$O$11,\"\")","v":""},{"$f":"IF(LEFT(Template!$O$11,2)=\"AC\",Template!$O$11,\"\")","v":""},{"$f":"IF(LEFT(Template!$O$11,2)=\"GF\",Template!$O$11,\"\")","v":""},{"$f":"IF(LEFT(Template!$O$11,2)=\"GR\",Template!$O$11,\"\")","v":""},null,null,{"$f":"IF(Template!$AC$11<>\"\",Template!$AC$11,\"\")","v":""},null,{"$f":"IF(Template!$Y$11<>\"\",Template!$Y$11,\"\")","v":""},{"$f":"IF(Template!$Z$11<>\"\",Template!$Z$11,\"\")","v":""},{"$f":"IF(Template!$AA$11<>\"\",Template!$AA$11,\"\")","v":""},{"$f":"IF(Template!$AD$11=\"Yes\",Template!$AD$11,\"\")","v":""},null,null,null,{"$f":"IF(LEFT(Template!$Q$11,2)=\"BK\",Template!$Q$11,\"\")","v":""}]
[null,{"$f":"Template!$L$12","v":0},5,{"$f":"IF(Template!$AB$12<>\"\",INDEX(Worktags!$B$4:$D$36,MATCH(Template!$AB$12,Worktags!$C$4:$C$36,0),1),\"\")","v":""},{"$f":"IF(Template!$P$12<>\"\",Template!$P$12,\"\")","v":""},"BYU_Child",3.58,null,null,null,null,null,{"$f":"IF(Template!$R$12<>\"\",Template!$R$12,\"\")","v":""},{"$f":"IF(Template!$AE$12<>\"\",Template!$AE$12,\"\")","v":""},{"$f":"IF(LEFT(Template!$Q$12,2)=\"SC\",Template!$Q$12,\"\")","v":""},{"$f":"IF(LEFT(Template!$Q$12,2)=\"RC\",Template!$Q$12,\"\")","v":""},{"$f":"IF(LEFT(Template!$O$12,2)=\"CC\",Template!$O$12,\"\")","v":""},{"$f":"IF(LEFT(Template!$O$12,2)=\"AC\",Template!$O$12,\"\")","v":""},{"$f":"IF(LEFT(Template!$O$12,2)=\"GF\",Template!$O$12,\"\")","v":""},{"$f":"IF(LEFT(Template!$O$12,2)=\"GR\",Template!$O$12,\"\")","v":""},null,null,{"$f":"IF(Template!$AC$12<>\"\",Template!$AC$12,\"\")","v":""},null,{"$f":"IF(Template!$Y$12<>\"\",Template!$Y$12,\"\")","v":""},{"$f":"IF(Template!$Z$12<>\"\",Template!$Z$12,\"\")","v":""},{"$f":"IF(Template!$AA$12<>\"\",Template!$AA$12,\"\")","v":""},{"$f":"IF(Template!$AD$12=\"Yes\",Template!$AD$12,\"\")","v":""},null,null,null,{"$f":"IF(LEFT(Template!$Q$12,2)=\"BK\",Template!$Q$12,\"\")","v":""}]
[null,{"$f":"Template!$L$13","v":0},6,{"$f":"IF(Template!$AB$13<>\"\",INDEX(Worktags!$B$4:$D$36,MATCH(Template!$AB$13,Worktags!$C$4:$C$36,0),1),\"\")","v":""},{"$f":"IF(Template!$P$13<>\"\",Template!$P$13,\"\")","v":""},"BYU_Child",27.72,null,null,null,null,null,{"$f":"IF(Template!$R$13<>\"\",Template!$R$13,\"\")","v":""},{"$f":"IF(Template!$AE$13<>\"\",Template!$AE$13,\"\")","v":""},{"$f":"IF(LEFT(Template!$Q$13,2)=\"SC\",Template!$Q$13,\"\")","v":""},{"$f":"IF(LEFT(Template!$Q$13,2)=\"RC\",Template!$Q$13,\"\")","v":""},{"$f":"IF(LEFT(Template!$O$13,2)=\"CC\",Template!$O$13,\"\")","v":""},{"$f":"IF(LEFT(Template!$O$13,2)=\"AC\",Template!$O$13,\"\")","v":""},{"$f":"IF(LEFT(Template!$O$13,2)=\"GF\",Template!$O$13,\"\")","v":""},{"$f":"IF(LEFT(Template!$O$13,2)=\"GR\",Template!$O$13,\"\")","v":""},null,null,{"$f":"IF(Template!$AC$13<>\"\",Template!$AC$13,\"\")","v":""},null,{"$f":"IF(Template!$Y$13<>\"\",Template!$Y$13,\"\")","v":""},{"$f":"IF(Template!$Z$13<>\"\",Template!$Z$13,\"\")","v":""},{"$f":"IF(Template!$AA$13<>\"\",Template!$AA$13,\"\")","v":""},{"$f":"IF(Template!$AD$13=\"Yes\",Template!$AD$13,\"\")","v":""},null,null,null,{"$f":"IF(LEFT(Template!$Q$13,2)=\"BK\",Template!$Q$13,\"\")","v":""}]
[null,{"$f":"Template!$L$14","v":0},7,{"$f":"IF(Template!$AB$14<>\"\",INDEX(Worktags!$B$4:$D$36,MATCH(Template!$AB$14,Worktags!$C$4:$C$36,0),1),\"\")","v":""},{"$f":"IF(Template!$P$14<>\"\",Template!$P$14,\"\")","v":""},"BYU_Child",null,0.12,null,null,null,null,{"$f":"IF(Template!$R$14<>\"\",Template!$R$14,\"\")","v":""},{"$f":"IF(Template!$AE$14<>\"\",Template!$AE$14,\"\")","v":""},{"$f":"IF(LEFT(Template!$Q$14,2)=\"SC\",Template!$Q$14,\"\")","v":""},{"$f":"IF(LEFT(Template!$Q$14,2)=\"RC\",Template!$Q$14,\"\")","v":""},{"$f":"IF(LEFT(Template!$O$14,2)=\"CC\",Template!$O$14,\"\")","v":""},{"$f":"IF(LEFT(Template!$O$14,2)=\"AC\",Template!$O$14,\"\")","v":""},{"$f":"IF(LEFT(Template!$O$14,2)=\"GF\",Template!$O$14,\"\")","v":""},{"$f":"IF(LEFT(Template!$O$14,2)=\"GR\",Template!$O$14,\"\")","v":""},null,null,{"$f":"IF(Template!$AC$14<>\"\",Template!$AC$14,\"\")","v":""},null,{"$f":"IF(Template!$Y$14<>\"\",Template!$Y$14,\"\")","v":""},{"$f":"IF(Template!$Z$14<>\"\",Template!$Z$14,\"\")","v":""},{"$f":"IF(Template!$AA$14<>\"\",Template!$AA$14,\"\")","v":""},{"$f":"IF(Template!$AD$14=\"Yes\",Template!$AD$14,\"\")","v":""},null,null,null,{"$f":"IF(LEFT(Template!$Q$14,2)=\"BK\",Template!$Q$14,\"\")","v":""}]
[null,{"$f":"Template!$L$15","v":0},8,{"$f":"IF(Template!$AB$15<>\"\",INDEX(Worktags!$B$4:$D$36,MATCH(Template!$AB$15,Worktags!$C$4:$C$36,0),1),\"\")","v":""},{"$f":"IF(Template!$P$15<>\"\",Template!$P$15,\"\")","v":""},"BYU_Child",1.28,null,null,null,null,null,{"$f":"IF(Template!$R$15<>\"\",Template!$R$15,\"\")","v":""},{"$f":"IF(Template!$AE$15<>\"\",Template!$AE$15,\"\")","v":""},{"$f":"IF(LEFT(Template!$Q$15,2)=\"SC\",Template!$Q$15,\"\")","v":""},{"$f":"IF(LEFT(Template!$Q$15,2)=\"RC\",Template!$Q$15,\"\")","v":""},{"$f":"IF(LEFT(Template!$O$15,2)=\"CC\",Template!$O$15,\"\")","v":""},{"$f":"IF(LEFT(Template!$O$15,2)=\"AC\",Template!$O$15,\"\")","v":""},{"$f":"IF(LEFT(Template!$O$15,2)=\"GF\",Template!$O$15,\"\")","v":""},{"$f":"IF(LEFT(Template!$O$15,2)=\"GR\",Template!$O$15,\"\")","v":""},null,null,{"$f":"IF(Template!$AC$15<>\"\",Template!$AC$15,\"\")","v":""},null,{"$f":"IF(Template!$Y$15<>\"\",Template!$Y$15,\"\")","v":""},{"$f":"IF(Template!$Z$15<>\"\",Template!$Z$15,\"\")","v":""},{"$f":"IF(Template!$AA$15<>\"\",Template!$AA$15,\"\")","v":""},{"$f":"IF(Template!$AD$15=\"Yes\",Template!$AD$15,\"\")","v":""},null,null,null,{"$f":"IF(LEFT(Template!$Q$15,2)=\"BK\",Template!$Q$15,\"\")","v":""}]
[null,{"$f":"Template!$L$16","v":0},9,{"$f":"IF(Template!$AB$16<>\"\",INDEX(Worktags!$B$4:$D$36,MATCH(Template!$AB$16,Worktags!$C$4:$C$36,0),1),\"\")","v":""},{"$f":"IF(Template!$P$16<>\"\",Template!$P$16,\"\")","v":""},"BYU_Child",5.0599999999999996,null,null,null,null,null,{"$f":"IF(Template!$R$16<>\"\",Template!$R$16,\"\")","v":""},{"$f":"IF(Template!$AE$16<>\"\",Template!$AE$16,\"\")","v":""},{"$f":"IF(LEFT(Template!$Q$16,2)=\"SC\",Template!$Q$16,\"\")","v":""},{"$f":"IF(LEFT(Template!$Q$16,2)=\"RC\",Template!$Q$16,\"\")","v":""},{"$f":"IF(LEFT(Template!$O$16,2)=\"CC\",Template!$O$16,\"\")","v":""},{"$f":"IF(LEFT(Template!$O$16,2)=\"AC\",Template!$O$16,\"\")","v":""},{"$f":"IF(LEFT(Template!$O$16,2)=\"GF\",Template!$O$16,\"\")","v":""},{"$f":"IF(LEFT(Template!$O$16,2)=\"GR\",Template!$O$16,\"\")","v":""},null,null,{"$f":"IF(Template!$AC$16<>\"\",Template!$AC$16,\"\")","v":""},null,{"$f":"IF(Template!$Y$16<>\"\",Template!$Y$16,\"\")","v":""},{"$f":"IF(Template!$Z$16<>\"\",Template!$Z$16,\"\")","v":""},{"$f":"IF(Template!$AA$16<>\"\",Template!$AA$16,\"\")","v":""},{"$f":"IF(Template!$AD$16=\"Yes\",Template!$AD$16,\"\")","v":""},null,null,null,{"$f":"IF(LEFT(Template!$Q$16,2)=\"BK\",Template!$Q$16,\"\")","v":""}]
[null,{"$f":"Template!$L$17","v":0},10,{"$f":"IF(Template!$AB$17<>\"\",INDEX(Worktags!$B$4:$D$36,MATCH(Template!$AB$17,Worktags!$C$4:$C$36,0),1),\"\")","v":""},{"$f":"IF(Template!$P$17<>\"\",Template!$P$17,\"\")","v":""},"BYU_Child",3.83,null,null,null,null,null,{"$f":"IF(Template!$R$17<>\"\",Template!$R$17,\"\")","v":""},{"$f":"IF(Template!$AE$17<>\"\",Template!$AE$17,\"\")","v":""},{"$f":"IF(LEFT(Template!$Q$17,2)=\"SC\",Template!$Q$17,\"\")","v":""},{"$f":"IF(LEFT(Template!$Q$17,2)=\"RC\",Template!$Q$17,\"\")","v":""},{"$f":"IF(LEFT(Template!$O$17,2)=\"CC\",Template!$O$17,\"\")","v":""},{"$f":"IF(LEFT(Template!$O$17,2)=\"AC\",Template!$O$17,\"\")","v":""},{"$f":"IF(LEFT(Template!$O$17,2)=\"GF\",Template!$O$17,\"\")","v":""},{"$f":"IF(LEFT(Template!$O$17,2)=\"GR\",Template!$O$17,\"\")","v":""},null,null,{"$f":"IF(Template!$AC$17<>\"\",Template!$AC$17,\"\")","v":""},null,{"$f":"IF(Template!$Y$17<>\"\",Template!$Y$17,\"\")","v":""},{"$f":"IF(Template!$Z$17<>\"\",Template!$Z$17,\"\")","v":""},{"$f":"IF(Template!$AA$17<>\"\",Template!$AA$17,\"\")","v":""},{"$f":"IF(Template!$AD$17=\"Yes\",Template!$AD$17,\"\")","v":""},null,null,null,{"$f":"IF(LEFT(Template!$Q$17,2)=\"BK\",Template!$Q$17,\"\")","v":""}]
[null,{"$f":"Template!$L$18","v":0},11,{"$f":"IF(Template!$AB$18<>\"\",INDEX(Worktags!$B$4:$D$36,MATCH(Template!$AB$18,Worktags!$C$4:$C$36,0),1),\"\")","v":""},{"$f":"IF(Template!$P$18<>\"\",Template!$P$18,\"\")","v":""},"BYU_Child",20.22,null,null,null,null,null,{"$f":"IF(Template!$R$18<>\"\",Template!$R$18,\"\")","v":""},{"$f":"IF(Template!$AE$18<>\"\",Template!$AE$18,\"\")","v":""},{"$f":"IF(LEFT(Template!$Q$18,2)=\"SC\",Template!$Q$18,\"\")","v":""},{"$f":"IF(LEFT(Template!$Q$18,2)=\"RC\",Template!$Q$18,\"\")","v":""},{"$f":"IF(LEFT(Template!$O$18,2)=\"CC\",Template!$O$18,\"\")","v":""},{"$f":"IF(LEFT(Template!$O$18,2)=\"AC\",Template!$O$18,\"\")","v":""},{"$f":"IF(LEFT(Template!$O$18,2)=\"GF\",Template!$O$18,\"\")","v":""},{"$f":"IF(LEFT(Template!$O$18,2)=\"GR\",Template!$O$18,\"\")","v":""},null,null,{"$f":"IF(Template!$AC$18<>\"\",Template!$AC$18,\"\")","v":""},null,{"$f":"IF(Template!$Y$18<>\"\",Template!$Y$18,\"\")","v":""},{"$f":"IF(Template!$Z$18<>\"\",Template!$Z$18,\"\")","v":""},{"$f":"IF(Template!$AA$18<>\"\",Template!$AA$18,\"\")","v":""},{"$f":"IF(Template!$AD$18=\"Yes\",Template!$AD$18,\"\")","v":""},null,null,null,{"$f":"IF(LEFT(Template!$Q$18,2)=\"BK\",Template!$Q$18,\"\")","v":""}]
[null,{"$f":"Template!$L$19","v":0},12,{"$f":"IF(Template!$AB$19<>\"\",INDEX(Worktags!$B$4:$D$36,MATCH(Template!$AB$19,Worktags!$C$4:$C$36,0),1),\"\")","v":""},{"$f":"IF(Template!$P$19<>\"\",Template!$P$19,\"\")","v":""},"BYU_Child",null,25.23,null,null,null,null,{"$f":"IF(Template!$R$19<>\"\",Template!$R$19,\"\")","v":""},{"$f":"IF(Template!$AE$19<>\"\",Template!$AE$19,\"\")","v":""},{"$f":"IF(LEFT(Template!$Q$19,2)=\"SC\",Template!$Q$19,\"\")","v":""},{"$f":"IF(LEFT(Template!$Q$19,2)=\"RC\",Template!$Q$19,\"\")","v":""},{"$f":"IF(LEFT(Template!$O$19,2)=\"CC\",Template!$O$19,\"\")","v":""},{"$f":"IF(LEFT(Template!$O$19,2)=\"AC\",Template!$O$19,\"\")","v":""},{"$f":"IF(LEFT(Template!$O$19,2)=\"GF\",Template!$O$19,\"\")","v":""},{"$f":"IF(LEFT(Template!$O$19,2)=\"GR\",Template!$O$19,\"\")","v":""},null,null,{"$f":"IF(Template!$AC$19<>\"\",Template!$AC$19,\"\")","v":""},null,{"$f":"IF(Template!$Y$19<>\"\",Template!$Y$19,\"\")","v":""},{"$f":"IF(Template!$Z$19<>\"\",Template!$Z$19,\"\")","v":""},{"$f":"IF(Template!$AA$19<>\"\",Template!$AA$19,\"\")","v":""},{"$f":"IF(Template!$AD$19=\"Yes\",Template!$AD$19,\"\")","v":""},null,null,null,{"$f":"IF(LEFT(Template!$Q$19,2)=\"BK\",Template!$Q$19,\"\")","v":""}]
[null,{"$f":"Template!$L$20","v":0},13,{"$f":"IF(Template!$AB$20<>\"\",INDEX(Worktags!$B$4:$D$36,MATCH(Template!$AB$20,Worktags!$C$4:$C$36,0),1),\"\")","v":""},{"$f":"IF(Template!$P$20<>\"\",Template!$P$20,\"\")","v":""},"BYU_Child",null,0.56000000000000005,null,null,null,null,{"$f":"IF(Template!$R$20<>\"\",Template!$R$20,\"\")","v":""},{"$f":"IF(Template!$AE$20<>\"\",Template!$AE$20,\"\")","v":""},{"$f":"IF(LEFT(Template!$Q$20,2)=\"SC\",Template!$Q$20,\"\")","v":""},{"$f":"IF(LEFT(Template!$Q$20,2)=\"RC\",Template!$Q$20,\"\")","v":""},{"$f":"IF(LEFT(Template!$O$20,2)=\"CC\",Template!$O$20,\"\")","v":""},{"$f":"IF(LEFT(Template!$O$20,2)=\"AC\",Template!$O$20,\"\")","v":""},{"$f":"IF(LEFT(Template!$O$20,2)=\"GF\",Template!$O$20,\"\")","v":""},{"$f":"IF(LEFT(Template!$O$20,2)=\"GR\",Template!$O$20,\"\")","v":""},null,null,{"$f":"IF(Template!$AC$20<>\"\",Template!$AC$20,\"\")","v":""},null,{"$f":"IF(Template!$Y$20<>\"\",Template!$Y$20,\"\")","v":""},{"$f":"IF(Template!$Z$20<>\"\",Template!$Z$20,\"\")","v":""},{"$f":"IF(Template!$AA$20<>\"\",Template!$AA$20,\"\")","v":""},{"$f":"IF(Template!$AD$20=\"Yes\",Template!$AD$20,\"\")","v":""},null,null,null,{"$f":"IF(LEFT(Template!$Q$20,2)=\"BK\",Template!$Q$20,\"\")","v":""}]
[null,{"$f":"Template!$L$21","v":0},14,{"$f":"IF(Template!$AB$21<>\"\",INDEX(Worktags!$B$4:$D$36,MATCH(Template!$AB$21,Worktags!$C$4:$C$36,0),1),\"\")","v":""},{"$f":"IF(Template!$P$21<>\"\",Template!$P$21,\"\")","v":""},"BYU_Child",null,5.34,null,null,null,null,{"$f":"IF(Template!$R$21<>\"\",Template!$R$21,\"\")","v":""},{"$f":"IF(Template!$AE$21<>\"\",Template!$AE$21,\"\")","v":""},{"$f":"IF(LEFT(Template!$Q$21,2)=\"SC\",Template!$Q$21,\"\")","v":""},{"$f":"IF(LEFT(Template!$Q$21,2)=\"RC\",Template!$Q$21,\"\")","v":""},{"$f":"IF(LEFT(Template!$O$21,2)=\"CC\",Template!$O$21,\"\")","v":""},{"$f":"IF(LEFT(Template!$O$21,2)=\"AC\",Template!$O$21,\"\")","v":""},{"$f":"IF(LEFT(Template!$O$21,2)=\"GF\",Template!$O$21,\"\")","v":""},{"$f":"IF(LEFT(Template!$O$21,2)=\"GR\",Template!$O$21,\"\")","v":""},null,null,{"$f":"IF(Template!$AC$21<>\"\",Template!$AC$21,\"\")","v":""},null,{"$f":"IF(Template!$Y$21<>\"\",Template!$Y$21,\"\")","v":""},{"$f":"IF(Template!$Z$21<>\"\",Template!$Z$21,\"\")","v":""},{"$f":"IF(Template!$AA$21<>\"\",Template!$AA$21,\"\")","v":""},{"$f":"IF(Template!$AD$21=\"Yes\",Template!$AD$21,\"\")","v":""},null,null,null,{"$f":"IF(LEFT(Template!$Q$21,2)=\"BK\",Template!$Q$21,\"\")","v":""}]
[null,{"$f":"Template!$L$22","v":0},15,{"$f":"IF(Template!$AB$22<>\"\",INDEX(Worktags!$B$4:$D$36,MATCH(Template!$AB$22,Worktags!$C$4:$C$36,0),1),\"\")","v":""},{"$f":"IF(Template!$P$22<>\"\",Template!$P$22,\"\")","v":""},"BYU_Child",1.42,null,null,null,null,null,{"$f":"IF(Template!$R$22<>\"\",Template!$R$22,\"\")","v":""},{"$f":"IF(Template!$AE$22<>\"\",Template!$AE$22,\"\")","v":""},{"$f":"IF(LEFT(Template!$Q$22,2)=\"SC\",Template!$Q$22,\"\")","v":""},{"$f":"IF(LEFT(Template!$Q$22,2)=\"RC\",Template!$Q$22,\"\")","v":""},{"$f":"IF(LEFT(Template!$O$22,2)=\"CC\",Template!$O$22,\"\")","v":""},{"$f":"IF(LEFT(Template!$O$22,2)=\"AC\",Template!$O$22,\"\")","v":""},{"$f":"IF(LEFT(Template!$O$22,2)=\"GF\",Template!$O$22,\"\")","v":""},{"$f":"IF(LEFT(Template!$O$22,2)=\"GR\",Template!$O$22,\"\")","v":""},null,null,{"$f":"IF(Template!$AC$22<>\"\",Template!$AC$22,\"\")","v":""},null,{"$f":"IF(Template!$Y$22<>\"\",Template!$Y$22,\"\")","v":""},{"$f":"IF(Template!$Z$22<>\"\",Template!$Z$22,\"\")","v":""},{"$f":"IF(Template!$AA$22<>\"\",Template!$AA$22,\"\")","v":""},{"$f":"IF(Template!$AD$22=\"Yes\",Template!$AD$22,\"\")","v":""},null,null,null,{"$f":"IF(LEFT(Template!$Q$22,2)=\"BK\",Template!$Q$22,\"\")","v":""}]
[null,{"$f":"Template!$L$23","v":0},16,{"$f":"IF(Template!$AB$23<>\"\",INDEX(Worktags!$B$4:$D$36,MATCH(Template!$AB$23,Worktags!$C$4:$C$36,0),1),\"\")","v":""},{"$f":"IF(Template!$P$23<>\"\",Template!$P$23,\"\")","v":""},"BYU_Child",0.18,null,null,null,null,null,{"$f":"IF(Template!$R$23<>\"\",Template!$R$23,\"\")","v":""},{"$f":"IF(Template!$AE$23<>\"\",Template!$AE$23,\"\")","v":""},{"$f":"IF(LEFT(Template!$Q$23,2)=\"SC\",Template!$Q$23,\"\")","v":""},{"$f":"IF(LEFT(Template!$Q$23,2)=\"RC\",Template!$Q$23,\"\")","v":""},{"$f":"IF(LEFT(Template!$O$23,2)=\"CC\",Template!$O$23,\"\")","v":""},{"$f":"IF(LEFT(Template!$O$23,2)=\"AC\",Template!$O$23,\"\")","v":""},{"$f":"IF(LEFT(Template!$O$23,2)=\"GF\",Template!$O$23,\"\")","v":""},{"$f":"IF(LEFT(Template!$O$23,2)=\"GR\",Template!$O$23,\"\")","v":""},null,null,{"$f":"IF(Template!$AC$23<>\"\",Template!$AC$23,\"\")","v":""},null,{"$f":"IF(Template!$Y$23<>\"\",Template!$Y$23,\"\")","v":""},{"$f":"IF(Template!$Z$23<>\"\",Template!$Z$23,\"\")","v":""},{"$f":"IF(Template!$AA$23<>\"\",Template!$AA$23,\"\")","v":""},{"$f":"IF(Template!$AD$23=\"Yes\",Template!$AD$23,\"\")","v":""},null,null,null,{"$f":"IF(LEFT(Template!$Q$23,2)=\"BK\",Template!$Q$23,\"\")","v":""}]
[null,{"$f":"Template!$L$24","v":0},17,{"$f":"IF(Template!$AB$24<>\"\",INDEX(Worktags!$B$4:$D$36,MATCH(Template!$AB$24,Worktags!$C$4:$C$36,0),1),\"\")","v":""},{"$f":"IF(Template!$P$24<>\"\",Template!$P$24,\"\")","v":""},"BYU_Child",6.58,null,null,null,null,null,{"$f":"IF(Template!$R$24<>\"\",Template!$R$24,\"\")","v":""},{"$f":"IF(Template!$AE$24<>\"\",Template!$AE$24,\"\")","v":""},{"$f":"IF(LEFT(Template!$Q$24,2)=\"SC\",Template!$Q$24,\"\")","v":""},{"$f":"IF(LEFT(Template!$Q$24,2)=\"RC\",Template!$Q$24,\"\")","v":""},{"$f":"IF(LEFT(Template!$O$24,2)=\"CC\",Template!$O$24,\"\")","v":""},{"$f":"IF(LEFT(Template!$O$24,2)=\"AC\",Template!$O$24,\"\")","v":""},{"$f":"IF(LEFT(Template!$O$24,2)=\"GF\",Template!$O$24,\"\")","v":""},{"$f":"IF(LEFT(Template!$O$24,2)=\"GR\",Template!$O$24,\"\")","v":""},null,null,{"$f":"IF(Template!$AC$24<>\"\",Template!$AC$24,\"\")","v":""},null,{"$f":"IF(Template!$Y$24<>\"\",Template!$Y$24,\"\")","v":""},{"$f":"IF(Template!$Z$24<>\"\",Template!$Z$24,\"\")","v":""},{"$f":"IF(Template!$AA$24<>\"\",Template!$AA$24,\"\")","v":""},{"$f":"IF(Template!$AD$24=\"Yes\",Template!$AD$24,\"\")","v":""},null,null,null,{"$f":"IF(LEFT(Template!$Q$24,2)=\"BK\",Template!$Q$24,\"\")","v":""}]
[null,{"$f":"Template!$L$25","v":0},18,{"$f":"IF(Template!$AB$25<>\"\",INDEX(Worktags!$B$4:$D$36,MATCH(Template!$AB$25,Worktags!$C$4:$C$36,0),1),\"\")","v":""},{"$f":"IF(Template!$P$25<>\"\",Template!$P$25,\"\")","v":""},"BYU_Child",3.96,null,null,null,null,null,{"$f":"IF(Template!$R$25<>\"\",Template!$R$25,\"\")","v":""},{"$f":"IF(Template!$AE$25<>\"\",Template!$AE$25,\"\")","v":""},{"$f":"IF(LEFT(Template!$Q$25,2)=\"SC\",Template!$Q$25,\"\")","v":""},{"$f":"IF(LEFT(Template!$Q$25,2)=\"RC\",Template!$Q$25,\"\")","v":""},{"$f":"IF(LEFT(Template!$O$25,2)=\"CC\",Template!$O$25,\"\")","v":""},{"$f":"IF(LEFT(Template!$O$25,2)=\"AC\",Template!$O$25,\"\")","v":""},{"$f":"IF(LEFT(Template!$O$25,2)=\"GF\",Template!$O$25,\"\")","v":""},{"$f":"IF(LEFT(Template!$O$25,2)=\"GR\",Template!$O$25,\"\")","v":""},null,null,{"$f":"IF(Template!$AC$25<>\"\",Template!$AC$25,\"\")","v":""},null,{"$f":"IF(Template!$Y$25<>\"\",Template!$Y$25,\"\")","v":""},{"$f":"IF(Template!$Z$25<>\"\",Template!$Z$25,\"\")","v":""},{"$f":"IF(Template!$AA$25<>\"\",Template!$AA$25,\"\")","v":""},{"$f":"IF(Template!$AD$25=\"Yes\",Template!$AD$25,\"\")","v":""},null,null,null,{"$f":"IF(LEFT(Template!$Q$25,2)=\"BK\",Template!$Q$25,\"\")","v":""}]
[null,{"$f":"Template!$L$26","v":0},19,{"$f":"IF(Template!$AB$26<>\"\",INDEX(Worktags!$B$4:$D$36,MATCH(Template!$AB$26,Worktags!$C$4:$C$36,0),1),\"\")","v":""},{"$f":"IF(Template!$P$26<>\"\",Template!$P$26,\"\")","v":""},"BYU_Child",null,10.64,null,null,null,null,{"$f":"IF(Template!$R$26<>\"\",Template!$R$26,\"\")","v":""},{"$f":"IF(Template!$AE$26<>\"\",Template!$AE$26,\"\")","v":""},{"$f":"IF(LEFT(Template!$Q$26,2)=\"SC\",Template!$Q$26,\"\")","v":""},{"$f":"IF(LEFT(Template!$Q$26,2)=\"RC\",Template!$Q$26,\"\")","v":""},{"$f":"IF(LEFT(Template!$O$26,2)=\"CC\",Template!$O$26,\"\")","v":""},{"$f":"IF(LEFT(Template!$O$26,2)=\"AC\",Template!$O$26,\"\")","v":""},{"$f":"IF(LEFT(Template!$O$26,2)=\"GF\",Template!$O$26,\"\")","v":""},{"$f":"IF(LEFT(Template!$O$26,2)=\"GR\",Template!$O$26,\"\")","v":""},null,null,{"$f":"IF(Template!$AC$26<>\"\",Template!$AC$26,\"\")","v":""},null,{"$f":"IF(Template!$Y$26<>\"\",Template!$Y$26,\"\")","v":""},{"$f":"IF(Template!$Z$26<>\"\",Template!$Z$26,\"\")","v":""},{"$f":"IF(Template!$AA$26<>\"\",Template!$AA$26,\"\")","v":""},{"$f":"IF(Template!$AD$26=\"Yes\",Template!$AD$26,\"\")","v":""},null,null,null,{"$f":"IF(LEFT(Template!$Q$26,2)=\"BK\",Template!$Q$26,\"\")","v":""}]
[null,{"$f":"Template!$L$27","v":0},20,{"$f":"IF(Template!$AB$27<>\"\",INDEX(Worktags!$B$4:$D$36,MATCH(Template!$AB$27,Worktags!$C$4:$C$36,0),1),\"\")","v":""},{"$f":"IF(Template!$P$27<>\"\",Template!$P$27,\"\")","v":""},"BYU_Child",null,1.62,null,null,null,null,{"$f":"IF(Template!$R$27<>\"\",Template!$R$27,\"\")","v":""},{"$f":"IF(Template!$AE$27<>\"\",Template!$AE$27,\"\")","v":""},{"$f":"IF(LEFT(Template!$Q$27,2)=\"SC\",Template!$Q$27,\"\")","v":""},{"$f":"IF(LEFT(Template!$Q$27,2)=\"RC\",Template!$Q$27,\"\")","v":""},{"$f":"IF(LEFT(Template!$O$27,2)=\"CC\",Template!$O$27,\"\")","v":""},{"$f":"IF(LEFT(Template!$O$27,2)=\"AC\",Template!$O$27,\"\")","v":""},{"$f":"IF(LEFT(Template!$O$27,2)=\"GF\",Template!$O$27,\"\")","v":""},{"$f":"IF(LEFT(Template!$O$27,2)=\"GR\",Template!$O$27,\"\")","v":""},null,null,{"$f":"IF(Template!$AC$27<>\"\",Template!$AC$27,\"\")","v":""},null,{"$f":"IF(Template!$Y$27<>\"\",Template!$Y$27,\"\")","v":""},{"$f":"IF(Template!$Z$27<>\"\",Template!$Z$27,\"\")","v":""},{"$f":"IF(Template!$AA$27<>\"\",Template!$AA$27,\"\")","v":""},{"$f":"IF(Template!$AD$27=\"Yes\",Template!$AD$27,\"\")","v":""},null,null,null,{"$f":"IF(LEFT(Template!$Q$27,2)=\"BK\",Template!$Q$27,\"\")","v":""}]
[null,{"$f":"Template!$L$28","v":0},21,{"$f":"IF(Template!$AB$28<>\"\",INDEX(Worktags!$B$4:$D$36,MATCH(Template!$AB$28,Worktags!$C$4:$C$36,0),1),\"\")","v":""},{"$f":"IF(Template!$P$28<>\"\",Template!$P$28,\"\")","v":""},"BYU_Child",null,19.91,null,null,null,null,{"$f":"IF(Template!$R$28<>\"\",Template!$R$28,\"\")","v":""},{"$f":"IF(Template!$AE$28<>\"\",Template!$AE$28,\"\")","v":""},{"$f":"IF(LEFT(Template!$Q$28,2)=\"SC\",Template!$Q$28,\"\")","v":""},{"$f":"IF(LEFT(Template!$Q$28,2)=\"RC\",Template!$Q$28,\"\")","v":""},{"$f":"IF(LEFT(Template!$O$28,2)=\"CC\",Template!$O$28,\"\")","v":""},{"$f":"IF(LEFT(Template!$O$28,2)=\"AC\",Template!$O$28,\"\")","v":""},{"$f":"IF(LEFT(Template!$O$28,2)=\"GF\",Template!$O$28,\"\")","v":""},{"$f":"IF(LEFT(Template!$O$28,2)=\"GR\",Template!$O$28,\"\")","v":""},null,null,{"$f":"IF(Template!$AC$28<>\"\",Template!$AC$28,\"\")","v":""},null,{"$f":"IF(Template!$Y$28<>\"\",Template!$Y$28,\"\")","v":""},{"$f":"IF(Template!$Z$28<>\"\",Template!$Z$28,\"\")","v":""},{"$f":"IF(Template!$AA$28<>\"\",Template!$AA$28,\"\")","v":""},{"$f":"IF(Template!$AD$28=\"Yes\",Template!$AD$28,\"\")","v":""},null,null,null,{"$f":"IF(LEFT(Template!$Q$28,2)=\"BK\",Template!$Q$28,\"\")","v":""}]
[null,{"$f":"Template!$L$29","v":0},22,{"$f":"IF(Template!$AB$29<>\"\",INDEX(Worktags!$B$4:$D$36,MATCH(Template!$AB$29,Worktags!$C$4:$C$36,0),1),\"\")","v":""},{"$f":"IF(Template!$P$29<>\"\",Template!$P$29,\"\")","v":""},"BYU_Child",0.32,null,null,null,null,null,{"$f":"IF(Template!$R$29<>\"\",Template!$R$29,\"\")","v":""},{"$f":"IF(Template!$AE$29<>\"\",Template!$AE$29,\"\")","v":""},{"$f":"IF(LEFT(Template!$Q$29,2)=\"SC\",Template!$Q$29,\"\")","v":""},{"$f":"IF(LEFT(Template!$Q$29,2)=\"RC\",Template!$Q$29,\"\")","v":""},{"$f":"IF(LEFT(Template!$O$29,2)=\"CC\",Template!$O$29,\"\")","v":""},{"$f":"IF(LEFT(Template!$O$29,2)=\"AC\",Template!$O$29,\"\")","v":""},{"$f":"IF(LEFT(Template!$O$29,2)=\"GF\",Template!$O$29,\"\")","v":""},{"$f":"IF(LEFT(Template!$O$29,2)=\"GR\",Template!$O$29,\"\")","v":""},null,null,{"$f":"IF(Template!$AC$29<>\"\",Template!$AC$29,\"\")","v":""},null,{"$f":"IF(Template!$Y$29<>\"\",Template!$Y$29,\"\")","v":""},{"$f":"IF(Template!$Z$29<>\"\",Template!$Z$29,\"\")","v":""},{"$f":"IF(Template!$AA$29<>\"\",Template!$AA$29,\"\")","v":""},{"$f":"IF(Template!$AD$29=\"Yes\",Template!$AD$29,\"\")","v":""},null,null,null,{"$f":"IF(LEFT(Template!$Q$29,2)=\"BK\",Template!$Q$29,\"\")","v":""}]
[null,{"$f":"Template!$L$30","v":0},23,{"$f":"IF(Template!$AB$30<>\"\",INDEX(Worktags!$B$4:$D$36,MATCH(Template!$AB$30,Worktags!$C$4:$C$36,0),1),\"\")","v":""},{"$f":"IF(Template!$P$30<>\"\",Template!$P$30,\"\")","v":""},"BYU_Child",8.51,null,null,null,null,null,{"$f":"IF(Template!$R$30<>\"\",Template!$R$30,\"\")","v":""},{"$f":"IF(Template!$AE$30<>\"\",Template!$AE$30,\"\")","v":""},{"$f":"IF(LEFT(Template!$Q$30,2)=\"SC\",Template!$Q$30,\"\")","v":""},{"$f":"IF(LEFT(Template!$Q$30,2)=\"RC\",Template!$Q$30,\"\")","v":""},{"$f":"IF(LEFT(Template!$O$30,2)=\"CC\",Template!$O$30,\"\")","v":""},{"$f":"IF(LEFT(Template!$O$30,2)=\"AC\",Template!$O$30,\"\")","v":""},{"$f":"IF(LEFT(Template!$O$30,2)=\"GF\",Template!$O$30,\"\")","v":""},{"$f":"IF(LEFT(Template!$O$30,2)=\"GR\",Template!$O$30,\"\")","v":""},null,null,{"$f":"IF(Template!$AC$30<>\"\",Template!$AC$30,\"\")","v":""},null,{"$f":"IF(Template!$Y$30<>\"\",Template!$Y$30,\"\")","v":""},{"$f":"IF(Template!$Z$30<>\"\",Template!$Z$30,\"\")","v":""},{"$f":"IF(Template!$AA$30<>\"\",Template!$AA$30,\"\")","v":""},{"$f":"IF(Template!$AD$30=\"Yes\",Template!$AD$30,\"\")","v":""},null,null,null,{"$f":"IF(LEFT(Template!$Q$30,2)=\"BK\",Template!$Q$30,\"\")","v":""}]
[null,{"$f":"Template!$L$31","v":0},24,{"$f":"IF(Template!$AB$31<>\"\",INDEX(Worktags!$B$4:$D$36,MATCH(Template!$AB$31,Worktags!$C$4:$C$36,0),1),\"\")","v":""},{"$f":"IF(Template!$P$31<>\"\",Template!$P$31,\"\")","v":""},"BYU_Child",2.36,null,null,null,null,null,{"$f":"IF(Template!$R$31<>\"\",Template!$R$31,\"\")","v":""},{"$f":"IF(Template!$AE$31<>\"\",Template!$AE$31,\"\")","v":""},{"$f":"IF(LEFT(Template!$Q$31,2)=\"SC\",Template!$Q$31,\"\")","v":""},{"$f":"IF(LEFT(Template!$Q$31,2)=\"RC\",Template!$Q$31,\"\")","v":""},{"$f":"IF(LEFT(Template!$O$31,2)=\"CC\",Template!$O$31,\"\")","v":""},{"$f":"IF(LEFT(Template!$O$31,2)=\"AC\",Template!$O$31,\"\")","v":""},{"$f":"IF(LEFT(Template!$O$31,2)=\"GF\",Template!$O$31,\"\")","v":""},{"$f":"IF(LEFT(Template!$O$31,2)=\"GR\",Template!$O$31,\"\")","v":""},null,null,{"$f":"IF(Template!$AC$31<>\"\",Template!$AC$31,\"\")","v":""},null,{"$f":"IF(Template!$Y$31<>\"\",Template!$Y$31,\"\")","v":""},{"$f":"IF(Template!$Z$31<>\"\",Template!$Z$31,\"\")","v":""},{"$f":"IF(Template!$AA$31<>\"\",Template!$AA$31,\"\")","v":""},{"$f":"IF(Template!$AD$31=\"Yes\",Template!$AD$31,\"\")","v":""},null,null,null,{"$f":"IF(LEFT(Template!$Q$31,2)=\"BK\",Template!$Q$31,\"\")","v":""}]
[null,{"$f":"Template!$L$32","v":0},25,{"$f":"IF(Template!$AB$32<>\"\",INDEX(Worktags!$B$4:$D$36,MATCH(Template!$AB$32,Worktags!$C$4:$C$36,0),1),\"\")","v":""},{"$f":"IF(Template!$P$32<>\"\",Template!$P$32,\"\")","v":""},"BYU_Child",5.48,null,null,null,null,null,{"$f":"IF(Template!$R$32<>\"\",Template!$R$32,\"\")","v":""},{"$f":"IF(Template!$AE$32<>\"\",Template!$AE$32,\"\")","v":""},{"$f":"IF(LEFT(Template!$Q$32,2)=\"SC\",Template!$Q$32,\"\")","v":""},{"$f":"IF(LEFT(Template!$Q$32,2)=\"RC\",Template!$Q$32,\"\")","v":""},{"$f":"IF(LEFT(Template!$O$32,2)=\"CC\",Template!$O$32,\"\")","v":""},{"$f":"IF(LEFT(Template!$O$32,2)=\"AC\",Template!$O$32,\"\")","v":""},{"$f":"IF(LEFT(Template!$O$32,2)=\"GF\",Template!$O$32,\"\")","v":""},{"$f":"IF(LEFT(Template!$O$32,2)=\"GR\",Template!$O$32,\"\")","v":""},null,null,{"$f":"IF(Template!$AC$32<>\"\",Template!$AC$32,\"\")","v":""},null,{"$f":"IF(Template!$Y$32<>\"\",Template!$Y$32,\"\")","v":""},{"$f":"IF(Template!$Z$32<>\"\",Template!$Z$32,\"\")","v":""},{"$f":"IF(Template!$AA$32<>\"\",Template!$AA$32,\"\")","v":""},{"$f":"IF(Template!$AD$32=\"Yes\",Template!$AD$32,\"\")","v":""},null,null,null,{"$f":"IF(LEFT(Template!$Q$32,2)=\"BK\",Template!$Q$32,\"\")","v":""}]
[null,{"$f":"Template!$L$33","v":0},26,{"$f":"IF(Template!$AB$33<>\"\",INDEX(Worktags!$B$4:$D$36,MATCH(Template!$AB$33,Worktags!$C$4:$C$36,0),1),\"\")","v":""},{"$f":"IF(Template!$P$33<>\"\",Template!$P$33,\"\")","v":""},"BYU_Child",null,0.94,null,null,null,null,{"$f":"IF(Template!$R$33<>\"\",Template!$R$33,\"\")","v":""},{"$f":"IF(Template!$AE$33<>\"\",Template!$AE$33,\"\")","v":""},{"$f":"IF(LEFT(Template!$Q$33,2)=\"SC\",Template!$Q$33,\"\")","v":""},{"$f":"IF(LEFT(Template!$Q$33,2)=\"RC\",Template!$Q$33,\"\")","v":""},{"$f":"IF(LEFT(Template!$O$33,2)=\"CC\",Template!$O$33,\"\")","v":""},{"$f":"IF(LEFT(Template!$O$33,2)=\"AC\",Template!$O$33,\"\")","v":""},{"$f":"IF(LEFT(Template!$O$33,2)=\"GF\",Template!$O$33,\"\")","v":""},{"$f":"IF(LEFT(Template!$O$33,2)=\"GR\",Template!$O$33,\"\")","v":""},null,null,{"$f":"IF(Template!$AC$33<>\"\",Template!$AC$33,\"\")","v":""},null,{"$f":"IF(Template!$Y$33<>\"\",Template!$Y$33,\"\")","v":""},{"$f":"IF(Template!$Z$33<>\"\",Template!$Z$33,\"\")","v":""},{"$f":"IF(Template!$AA$33<>\"\",Template!$AA$33,\"\")","v":""},{"$f":"IF(Template!$AD$33=\"Yes\",Template!$AD$33,\"\")","v":""},null,null,null,{"$f":"IF(LEFT(Template!$Q$33,2)=\"BK\",Template!$Q$33,\"\")","v":""}]
[null,{"$f":"Template!$L$34","v":0},27,{"$f":"IF(Template!$AB$34<>\"\",INDEX(Worktags!$B$4:$D$36,MATCH(Template!$AB$34,Worktags!$C$4:$C$36,0),1),\"\")","v":""},{"$f":"IF(Template!$P$34<>\"\",Template!$P$34,\"\")","v":""},"BYU_Child",null,40.65,null,null,null,null,{"$f":"IF(Template!$R$34<>\"\",Template!$R$34,\"\")","v":""},{"$f":"IF(Template!$AE$34<>\"\",Template!$AE$34,\"\")","v":""},{"$f":"IF(LEFT(Template!$Q$34,2)=\"SC\",Template!$Q$34,\"\")","v":""},{"$f":"IF(LEFT(Template!$Q$34,2)=\"RC\",Template!$Q$34,\"\")","v":""},{"$f":"IF(LEFT(Template!$O$34,2)=\"CC\",Template!$O$34,\"\")","v":""},{"$f":"IF(LEFT(Template!$O$34,2)=\"AC\",Template!$O$34,\"\")","v":""},{"$f":"IF(LEFT(Template!$O$34,2)=\"GF\",Template!$O$34,\"\")","v":""},{"$f":"IF(LEFT(Template!$O$34,2)=\"GR\",Template!$O$34,\"\")","v":""},null,null,{"$f":"IF(Template!$AC$34<>\"\",Template!$AC$34,\"\")","v":""},null,{"$f":"IF(Template!$Y$34<>\"\",Template!$Y$34,\"\")","v":""},{"$f":"IF(Template!$Z$34<>\"\",Template!$Z$34,\"\")","v":""},{"$f":"IF(Template!$AA$34<>\"\",Template!$AA$34,\"\")","v":""},{"$f":"IF(Template!$AD$34=\"Yes\",Template!$AD$34,\"\")","v":""},null,null,null,{"$f":"IF(LEFT(Template!$Q$34,2)=\"BK\",Template!$Q$34,\"\")","v":""}]
[null,{"$f":"Template!$L$35","v":0},28,{"$f":"IF(Template!$AB$35<>\"\",INDEX(Worktags!$B$4:$D$36,MATCH(Template!$AB$35,Worktags!$C$4:$C$36,0),1),\"\")","v":""},{"$f":"IF(Template!$P$35<>\"\",Template!$P$35,\"\")","v":""},"BYU_Child",null,3.73,null,null,null,null,{"$f":"IF(Template!$R$35<>\"\",Template!$R$35,\"\")","v":""},{"$f":"IF(Template!$AE$35<>\"\",Template!$AE$35,\"\")","v":""},{"$f":"IF(LEFT(Template!$Q$35,2)=\"SC\",Template!$Q$35,\"\")","v":""},{"$f":"IF(LEFT(Template!$Q$35,2)=\"RC\",Template!$Q$35,\"\")","v":""},{"$f":"IF(LEFT(Template!$O$35,2)=\"CC\",Template!$O$35,\"\")","v":""},{"$f":"IF(LEFT(Template!$O$35,2)=\"AC\",Template!$O$35,\"\")","v":""},{"$f":"IF(LEFT(Template!$O$35,2)=\"GF\",Template!$O$35,\"\")","v":""},{"$f":"IF(LEFT(Template!$O$35,2)=\"GR\",Template!$O$35,\"\")","v":""},null,null,{"$f":"IF(Template!$AC$35<>\"\",Template!$AC$35,\"\")","v":""},null,{"$f":"IF(Template!$Y$35<>\"\",Template!$Y$35,\"\")","v":""},{"$f":"IF(Template!$Z$35<>\"\",Template!$Z$35,\"\")","v":""},{"$f":"IF(Template!$AA$35<>\"\",Template!$AA$35,\"\")","v":""},{"$f":"IF(Template!$AD$35=\"Yes\",Template!$AD$35,\"\")","v":""},null,null,null,{"$f":"IF(LEFT(Template!$Q$35,2)=\"BK\",Template!$Q$35,\"\")","v":""}]
[null,{"$f":"Template!$L$36","v":0},29,{"$f":"IF(Template!$AB$36<>\"\",INDEX(Worktags!$B$4:$D$36,MATCH(Template!$AB$36,Worktags!$C$4:$C$36,0),1),\"\")","v":""},{"$f":"IF(Template!$P$36<>\"\",Template!$P$36,\"\")","v":""},"BYU_Child",null,1.04,null,null,null,null,{"$f":"IF(Template!$R$36<>\"\",Template!$R$36,\"\")","v":""},{"$f":"IF(Template!$AE$36<>\"\",Template!$AE$36,\"\")","v":""},{"$f":"IF(LEFT(Template!$Q$36,2)=\"SC\",Template!$Q$36,\"\")","v":""},{"$f":"IF(LEFT(Template!$Q$36,2)=\"RC\",Template!$Q$36,\"\")","v":""},{"$f":"IF(LEFT(Template!$O$36,2)=\"CC\",Template!$O$36,\"\")","v":""},{"$f":"IF(LEFT(Template!$O$36,2)=\"AC\",Template!$O$36,\"\")","v":""},{"$f":"IF(LEFT(Template!$O$36,2)=\"GF\",Template!$O$36,\"\")","v":""},{"$f":"IF(LEFT(Template!$O$36,2)=\"GR\",Template!$O$36,\"\")","v":""},null,null,{"$f":"IF(Template!$AC$36<>\"\",Template!$AC$36,\"\")","v":""},null,{"$f":"IF(Template!$Y$36<>\"\",Template!$Y$36,\"\")","v":""},{"$f":"IF(Template!$Z$36<>\"\",Template!$Z$36,\"\")","v":""},{"$f":"IF(Template!$AA$36<>\"\",Template!$AA$36,\"\")","v":""},{"$f":"IF(Template!$AD$36=\"Yes\",Template!$AD$36,\"\")","v":""},null,null,null,{"$f":"IF(LEFT(Template!$Q$36,2)=\"BK\",Template!$Q$36,\"\")","v":""}]
[null,{"$f":"Template!$L$37","v":0},30,{"$f":"IF(Template!$AB$37<>\"\",INDEX(Worktags!$B$4:$D$36,MATCH(Template!$AB$37,Worktags!$C$4:$C$36,0),1),\"\")","v":""},{"$f":"IF(Template!$P$37<>\"\",Template!$P$37,\"\")","v":""},"BYU_Child",7.14,null,null,null,null,null,{"$f":"IF(Template!$R$37<>\"\",Template!$R$37,\"\")","v":""},{"$f":"IF(Template!$AE$37<>\"\",Template!$AE$37,\"\")","v":""},{"$f":"IF(LEFT(Template!$Q$37,2)=\"SC\",Template!$Q$37,\"\")","v":""},{"$f":"IF(LEFT(Template!$Q$37,2)=\"RC\",Template!$Q$37,\"\")","v":""},{"$f":"IF(LEFT(Template!$O$37,2)=\"CC\",Template!$O$37,\"\")","v":""},{"$f":"IF(LEFT(Template!$O$37,2)=\"AC\",Template!$O$37,\"\")","v":""},{"$f":"IF(LEFT(Template!$O$37,2)=\"GF\",Template!$O$37,\"\")","v":""},{"$f":"IF(LEFT(Template!$O$37,2)=\"GR\",Template!$O$37,\"\")","v":""},null,null,{"$f":"IF(Template!$AC$37<>\"\",Template!$AC$37,\"\")","v":""},null,{"$f":"IF(Template!$Y$37<>\"\",Template!$Y$37,\"\")","v":""},{"$f":"IF(Template!$Z$37<>\"\",Template!$Z$37,\"\")","v":""},{"$f":"IF(Template!$AA$37<>\"\",Template!$AA$37,\"\")","v":""},{"$f":"IF(Template!$AD$37=\"Yes\",Template!$AD$37,\"\")","v":""},null,null,null,{"$f":"IF(LEFT(Template!$Q$37,2)=\"BK\",Template!$Q$37,\"\")","v":""}]
[null,{"$f":"Template!$L$38","v":0},31,{"$f":"IF(Template!$AB$38<>\"\",INDEX(Worktags!$B$4:$D$36,MATCH(Template!$AB$38,Worktags!$C$4:$C$36,0),1),\"\")","v":""},{"$f":"IF(Template!$P$38<>\"\",Template!$P$38,\"\")","v":""},"BYU_Child",null,25.29,null,null,null,null,{"$f":"IF(Template!$R$38<>\"\",Template!$R$38,\"\")","v":""},{"$f":"IF(Template!$AE$38<>\"\",Template!$AE$38,\"\")","v":""},{"$f":"IF(LEFT(Template!$Q$38,2)=\"SC\",Template!$Q$38,\"\")","v":""},{"$f":"IF(LEFT(Template!$Q$38,2)=\"RC\",Template!$Q$38,\"\")","v":""},{"$f":"IF(LEFT(Template!$O$38,2)=\"CC\",Template!$O$38,\"\")","v":""},{"$f":"IF(LEFT(Template!$O$38,2)=\"AC\",Template!$O$38,\"\")","v":""},{"$f":"IF(LEFT(Template!$O$38,2)=\"GF\",Template!$O$38,\"\")","v":""},{"$f":"IF(LEFT(Template!$O$38,2)=\"GR\",Template!$O$38,\"\")","v":""},null,null,{"$f":"IF(Template!$AC$38<>\"\",Template!$AC$38,\"\")","v":""},null,{"$f":"IF(Template!$Y$38<>\"\",Template!$Y$38,\"\")","v":""},{"$f":"IF(Template!$Z$38<>\"\",Template!$Z$38,\"\")","v":""},{"$f":"IF(Template!$AA$38<>\"\",Template!$AA$38,\"\")","v":""},{"$f":"IF(Template!$AD$38=\"Yes\",Template!$AD$38,\"\")","v":""},null,null,null,{"$f":"IF(LEFT(Template!$Q$38,2)=\"BK\",Template!$Q$38,\"\")","v":""}]
[null,{"$f":"Template!$L$39","v":0},32,{"$f":"IF(Template!$AB$39<>\"\",INDEX(Worktags!$B$4:$D$36,MATCH(Template!$AB$39,Worktags!$C$4:$C$36,0),1),\"\")","v":""},{"$f":"IF(Template!$P$39<>\"\",Template!$P$39,\"\")","v":""},"BYU_Child",8.4499999999999993,null,null,null,null,null,{"$f":"IF(Template!$R$39<>\"\",Template!$R$39,\"\")","v":""},{"$f":"IF(Template!$AE$39<>\"\",Template!$AE$39,\"\")","v":""},{"$f":"IF(LEFT(Template!$Q$39,2)=\"SC\",Template!$Q$39,\"\")","v":""},{"$f":"IF(LEFT(Template!$Q$39,2)=\"RC\",Template!$Q$39,\"\")","v":""},{"$f":"IF(LEFT(Template!$O$39,2)=\"CC\",Template!$O$39,\"\")","v":""},{"$f":"IF(LEFT(Template!$O$39,2)=\"AC\",Template!$O$39,\"\")","v":""},{"$f":"IF(LEFT(Template!$O$39,2)=\"GF\",Template!$O$39,\"\")","v":""},{"$f":"IF(LEFT(Template!$O$39,2)=\"GR\",Template!$O$39,\"\")","v":""},null,null,{"$f":"IF(Template!$AC$39<>\"\",Template!$AC$39,\"\")","v":""},null,{"$f":"IF(Template!$Y$39<>\"\",Template!$Y$39,\"\")","v":""},{"$f":"IF(Template!$Z$39<>\"\",Template!$Z$39,\"\")","v":""},{"$f":"IF(Template!$AA$39<>\"\",Template!$AA$39,\"\")","v":""},{"$f":"IF(Template!$AD$39=\"Yes\",Template!$AD$39,\"\")","v":""},null,null,null,{"$f":"IF(LEFT(Template!$Q$39,2)=\"BK\",Template!$Q$39,\"\")","v":""}]
[null,{"$f":"Template!$L$40","v":0},33,{"$f":"IF(Template!$AB$40<>\"\",INDEX(Worktags!$B$4:$D$36,MATCH(Template!$AB$40,Worktags!$C$4:$C$36,0),1),\"\")","v":""},{"$f":"IF(Template!$P$40<>\"\",Template!$P$40,\"\")","v":""},"BYU_Child",0.74,null,null,null,null,null,{"$f":"IF(Template!$R$40<>\"\",Template!$R$40,\"\")","v":""},{"$f":"IF(Template!$AE$40<>\"\",Template!$AE$40,\"\")","v":""},{"$f":"IF(LEFT(Template!$Q$40,2)=\"SC\",Template!$Q$40,\"\")","v":""},{"$f":"IF(LEFT(Template!$Q$40,2)=\"RC\",Template!$Q$40,\"\")","v":""},{"$f":"IF(LEFT(Template!$O$40,2)=\"CC\",Template!$O$40,\"\")","v":""},{"$f":"IF(LEFT(Template!$O$40,2)=\"AC\",Template!$O$40,\"\")","v":""},{"$f":"IF(LEFT(Template!$O$40,2)=\"GF\",Template!$O$40,\"\")","v":""},{"$f":"IF(LEFT(Template!$O$40,2)=\"GR\",Template!$O$40,\"\")","v":""},null,null,{"$f":"IF(Template!$AC$40<>\"\",Template!$AC$40,\"\")","v":""},null,{"$f":"IF(Template!$Y$40<>\"\",Template!$Y$40,\"\")","v":""},{"$f":"IF(Template!$Z$40<>\"\",Template!$Z$40,\"\")","v":""},{"$f":"IF(Template!$AA$40<>\"\",Template!$AA$40,\"\")","v":""},{"$f":"IF(Template!$AD$40=\"Yes\",Template!$AD$40,\"\")","v":""},null,null,null,{"$f":"IF(LEFT(Template!$Q$40,2)=\"BK\",Template!$Q$40,\"\")","v":""}]
[null,{"$f":"Template!$L$41","v":0},{"$f":"IF(B39=B38,C38+1,1)","v":34},{"$f":"IF(Template!$AB$41<>\"\",INDEX(Worktags!$B$4:$D$36,MATCH(Template!$AB$41,Worktags!$C$4:$C$36,0),1),\"\")","v":""},{"$f":"IF(Template!$P$41<>\"\",Template!$P$41,\"\")","v":""},"BYU_Child",null,118.24,null,null,null,null,{"$f":"IF(Template!$R$41<>\"\",Template!$R$41,\"\")","v":""},{"$f":"IF(Template!$AE$41<>\"\",Template!$AE$41,\"\")","v":""},{"$f":"IF(LEFT(Template!$Q$41,2)=\"SC\",Template!$Q$41,\"\")","v":""},{"$f":"IF(LEFT(Template!$Q$41,2)=\"RC\",Template!$Q$41,\"\")","v":""},{"$f":"IF(LEFT(Template!$O$41,2)=\"CC\",Template!$O$41,\"\")","v":""},{"$f":"IF(LEFT(Template!$O$41,2)=\"AC\",Template!$O$41,\"\")","v":""},{"$f":"IF(LEFT(Template!$O$41,2)=\"GF\",Template!$O$41,\"\")","v":""},{"$f":"IF(LEFT(Template!$O$41,2)=\"GR\",Template!$O$41,\"\")","v":""},null,null,{"$f":"IF(Template!$AC$41<>\"\",Template!$AC$41,\"\")","v":""},null,{"$f":"IF(Template!$Y$41<>\"\",Template!$Y$41,\"\")","v":""},{"$f":"IF(Template!$Z$41<>\"\",Template!$Z$41,\"\")","v":""},{"$f":"IF(Template!$AA$41<>\"\",Template!$AA$41,\"\")","v":""},{"$f":"IF(Template!$AD$41=\"Yes\",Template!$AD$41,\"\")","v":""},null,null,null,{"$f":"IF(LEFT(Template!$Q$41,2)=\"BK\",Template!$Q$41,\"\")","v":""}]
[null,{"$f":"Template!$L$42","v":0},35,{"$f":"IF(Template!$AB$42<>\"\",INDEX(Worktags!$B$4:$D$36,MATCH(Template!$AB$42,Worktags!$C$4:$C$36,0),1),\"\")","v":""},{"$f":"IF(Template!$P$42<>\"\",Template!$P$42,\"\")","v":""},"BYU_Child",null,31.54,null,null,null,null,{"$f":"IF(Template!$R$42<>\"\",Template!$R$42,\"\")","v":""},{"$f":"IF(Template!$AE$42<>\"\",Template!$AE$42,\"\")","v":""},{"$f":"IF(LEFT(Template!$Q$42,2)=\"SC\",Template!$Q$42,\"\")","v":""},{"$f":"IF(LEFT(Template!$Q$42,2)=\"RC\",Template!$Q$42,\"\")","v":""},{"$f":"IF(LEFT(Template!$O$42,2)=\"CC\",Template!$O$42,\"\")","v":""},{"$f":"IF(LEFT(Template!$O$42,2)=\"AC\",Template!$O$42,\"\")","v":""},{"$f":"IF(LEFT(Template!$O$42,2)=\"GF\",Template!$O$42,\"\")","v":""},{"$f":"IF(LEFT(Template!$O$42,2)=\"GR\",Template!$O$42,\"\")","v":""},null,null,{"$f":"IF(Template!$AC$42<>\"\",Template!$AC$42,\"\")","v":""},null,{"$f":"IF(Template!$Y$42<>\"\",Template!$Y$42,\"\")","v":""},{"$f":"IF(Template!$Z$42<>\"\",Template!$Z$42,\"\")","v":""},{"$f":"IF(Template!$AA$42<>\"\",Template!$AA$42,\"\")","v":""},{"$f":"IF(Template!$AD$42=\"Yes\",Template!$AD$42,\"\")","v":""},null,null,null,{"$f":"IF(LEFT(Template!$Q$42,2)=\"BK\",Template!$Q$42,\"\")","v":""}]
[null,{"$f":"Template!$L$43","v":0},36,{"$f":"IF(Template!$AB$43<>\"\",INDEX(Worktags!$B$4:$D$36,MATCH(Template!$AB$43,Worktags!$C$4:$C$36,0),1),\"\")","v":""},{"$f":"IF(Template!$P$43<>\"\",Template!$P$43,\"\")","v":""},"BYU_Child",6.5,null,null,null,null,null,{"$f":"IF(Template!$R$43<>\"\",Template!$R$43,\"\")","v":""},{"$f":"IF(Template!$AE$43<>\"\",Template!$AE$43,\"\")","v":""},{"$f":"IF(LEFT(Template!$Q$43,2)=\"SC\",Template!$Q$43,\"\")","v":""},{"$f":"IF(LEFT(Template!$Q$43,2)=\"RC\",Template!$Q$43,\"\")","v":""},{"$f":"IF(LEFT(Template!$O$43,2)=\"CC\",Template!$O$43,\"\")","v":""},{"$f":"IF(LEFT(Template!$O$43,2)=\"AC\",Template!$O$43,\"\")","v":""},{"$f":"IF(LEFT(Template!$O$43,2)=\"GF\",Template!$O$43,\"\")","v":""},{"$f":"IF(LEFT(Template!$O$43,2)=\"GR\",Template!$O$43,\"\")","v":""},null,null,{"$f":"IF(Template!$AC$43<>\"\",Template!$AC$43,\"\")","v":""},null,{"$f":"IF(Template!$Y$43<>\"\",Template!$Y$43,\"\")","v":""},{"$f":"IF(Template!$Z$43<>\"\",Template!$Z$43,\"\")","v":""},{"$f":"IF(Template!$AA$43<>\"\",Template!$AA$43,\"\")","v":""},{"$f":"IF(Template!$AD$43=\"Yes\",Template!$AD$43,\"\")","v":""},null,null,null,{"$f":"IF(LEFT(Template!$Q$43,2)=\"BK\",Template!$Q$43,\"\")","v":""}]
[null,{"$f":"Template!$L$44","v":0},37,{"$f":"IF(Template!$AB$44<>\"\",INDEX(Worktags!$B$4:$D$36,MATCH(Template!$AB$44,Worktags!$C$4:$C$36,0),1),\"\")","v":""},{"$f":"IF(Template!$P$44<>\"\",Template!$P$44,\"\")","v":""},"BYU_Child",null,38.24,null,null,null,null,{"$f":"IF(Template!$R$44<>\"\",Template!$R$44,\"\")","v":""},{"$f":"IF(Template!$AE$44<>\"\",Template!$AE$44,\"\")","v":""},{"$f":"IF(LEFT(Template!$Q$44,2)=\"SC\",Template!$Q$44,\"\")","v":""},{"$f":"IF(LEFT(Template!$Q$44,2)=\"RC\",Template!$Q$44,\"\")","v":""},{"$f":"IF(LEFT(Template!$O$44,2)=\"CC\",Template!$O$44,\"\")","v":""},{"$f":"IF(LEFT(Template!$O$44,2)=\"AC\",Template!$O$44,\"\")","v":""},{"$f":"IF(LEFT(Template!$O$44,2)=\"GF\",Template!$O$44,\"\")","v":""},{"$f":"IF(LEFT(Template!$O$44,2)=\"GR\",Template!$O$44,\"\")","v":""},null,null,{"$f":"IF(Template!$AC$44<>\"\",Template!$AC$44,\"\")","v":""},null,{"$f":"IF(Template!$Y$44<>\"\",Template!$Y$44,\"\")","v":""},{"$f":"IF(Template!$Z$44<>\"\",Template!$Z$44,\"\")","v":""},{"$f":"IF(Template!$AA$44<>\"\",Template!$AA$44,\"\")","v":""},{"$f":"IF(Template!$AD$44=\"Yes\",Template!$AD$44,\"\")","v":""},null,null,null,{"$f":"IF(LEFT(Template!$Q$44,2)=\"BK\",Template!$Q$44,\"\")","v":""}]
[null,{"$f":"Template!$L$45","v":0},38,{"$f":"IF(Template!$AB$45<>\"\",INDEX(Worktags!$B$4:$D$36,MATCH(Template!$AB$45,Worktags!$C$4:$C$36,0),1),\"\")","v":""},{"$f":"IF(Template!$P$45<>\"\",Template!$P$45,\"\")","v":""},"BYU_Child",42.49,null,null,null,null,null,{"$f":"IF(Template!$R$45<>\"\",Template!$R$45,\"\")","v":""},{"$f":"IF(Template!$AE$45<>\"\",Template!$AE$45,\"\")","v":""},{"$f":"IF(LEFT(Template!$Q$45,2)=\"SC\",Template!$Q$45,\"\")","v":""},{"$f":"IF(LEFT(Template!$Q$45,2)=\"RC\",Template!$Q$45,\"\")","v":""},{"$f":"IF(LEFT(Template!$O$45,2)=\"CC\",Template!$O$45,\"\")","v":""},{"$f":"IF(LEFT(Template!$O$45,2)=\"AC\",Template!$O$45,\"\")","v":""},{"$f":"IF(LEFT(Template!$O$45,2)=\"GF\",Template!$O$45,\"\")","v":""},{"$f":"IF(LEFT(Template!$O$45,2)=\"GR\",Template!$O$45,\"\")","v":""},null,null,{"$f":"IF(Template!$AC$45<>\"\",Template!$AC$45,\"\")","v":""},null,{"$f":"IF(Template!$Y$45<>\"\",Template!$Y$45,\"\")","v":""},{"$f":"IF(Template!$Z$45<>\"\",Template!$Z$45,\"\")","v":""},{"$f":"IF(Template!$AA$45<>\"\",Template!$AA$45,\"\")","v":""},{"$f":"IF(Template!$AD$45=\"Yes\",Template!$AD$45,\"\")","v":""},null,null,null,{"$f":"IF(LEFT(Template!$Q$45,2)=\"BK\",Template!$Q$45,\"\")","v":""}]
[null,{"$f":"Template!$L$46","v":0},39,{"$f":"IF(Template!$AB$46<>\"\",INDEX(Worktags!$B$4:$D$36,MATCH(Template!$AB$46,Worktags!$C$4:$C$36,0),1),\"\")","v":""},{"$f":"IF(Template!$P$46<>\"\",Template!$P$46,\"\")","v":""},"BYU_Child",null,46.21,null,null,null,null,{"$f":"IF(Template!$R$46<>\"\",Template!$R$46,\"\")","v":""},{"$f":"IF(Template!$AE$46<>\"\",Template!$AE$46,\"\")","v":""},{"$f":"IF(LEFT(Template!$Q$46,2)=\"SC\",Template!$Q$46,\"\")","v":""},{"$f":"IF(LEFT(Template!$Q$46,2)=\"RC\",Template!$Q$46,\"\")","v":""},{"$f":"IF(LEFT(Template!$O$46,2)=\"CC\",Template!$O$46,\"\")","v":""},{"$f":"IF(LEFT(Template!$O$46,2)=\"AC\",Template!$O$46,\"\")","v":""},{"$f":"IF(LEFT(Template!$O$46,2)=\"GF\",Template!$O$46,\"\")","v":""},{"$f":"IF(LEFT(Template!$O$46,2)=\"GR\",Template!$O$46,\"\")","v":""},null,null,{"$f":"IF(Template!$AC$46<>\"\",Template!$AC$46,\"\")","v":""},null,{"$f":"IF(Template!$Y$46<>\"\",Template!$Y$46,\"\")","v":""},{"$f":"IF(Template!$Z$46<>\"\",Template!$Z$46,\"\")","v":""},{"$f":"IF(Template!$AA$46<>\"\",Template!$AA$46,\"\")","v":""},{"$f":"IF(Template!$AD$46=\"Yes\",Template!$AD$46,\"\")","v":""},null,null,null,{"$f":"IF(LEFT(Template!$Q$46,2)=\"BK\",Template!$Q$46,\"\")","v":""}]
[null,{"$f":"Template!$L$47","v":0},40,{"$f":"IF(Template!$AB$47<>\"\",INDEX(Worktags!$B$4:$D$36,MATCH(Template!$AB$47,Worktags!$C$4:$C$36,0),1),\"\")","v":""},{"$f":"IF(Template!$P$47<>\"\",Template!$P$47,\"\")","v":""},"BYU_Child",null,25.87,null,null,null,null,{"$f":"IF(Template!$R$47<>\"\",Template!$R$47,\"\")","v":""},{"$f":"IF(Template!$AE$47<>\"\",Template!$AE$47,\"\")","v":""},{"$f":"IF(LEFT(Template!$Q$47,2)=\"SC\",Template!$Q$47,\"\")","v":""},{"$f":"IF(LEFT(Template!$Q$47,2)=\"RC\",Template!$Q$47,\"\")","v":""},{"$f":"IF(LEFT(Template!$O$47,2)=\"CC\",Template!$O$47,\"\")","v":""},{"$f":"IF(LEFT(Template!$O$47,2)=\"AC\",Template!$O$47,\"\")","v":""},{"$f":"IF(LEFT(Template!$O$47,2)=\"GF\",Template!$O$47,\"\")","v":""},{"$f":"IF(LEFT(Template!$O$47,2)=\"GR\",Template!$O$47,\"\")","v":""},null,null,{"$f":"IF(Template!$AC$47<>\"\",Template!$AC$47,\"\")","v":""},null,{"$f":"IF(Template!$Y$47<>\"\",Template!$Y$47,\"\")","v":""},{"$f":"IF(Template!$Z$47<>\"\",Template!$Z$47,\"\")","v":""},{"$f":"IF(Template!$AA$47<>\"\",Template!$AA$47,\"\")","v":""},{"$f":"IF(Template!$AD$47=\"Yes\",Template!$AD$47,\"\")","v":""},null,null,null,{"$f":"IF(LEFT(Template!$Q$47,2)=\"BK\",Template!$Q$47,\"\")","v":""}]
[null,{"$f":"Template!$L$48","v":0},41,{"$f":"IF(Template!$AB$48<>\"\",INDEX(Worktags!$B$4:$D$36,MATCH(Template!$AB$48,Worktags!$C$4:$C$36,0),1),\"\")","v":""},{"$f":"IF(Template!$P$48<>\"\",Template!$P$48,\"\")","v":""},"BYU_Child",null,35.770000000000003,null,null,null,null,{"$f":"IF(Template!$R$48<>\"\",Template!$R$48,\"\")","v":""},{"$f":"IF(Template!$AE$48<>\"\",Template!$AE$48,\"\")","v":""},{"$f":"IF(LEFT(Template!$Q$48,2)=\"SC\",Template!$Q$48,\"\")","v":""},{"$f":"IF(LEFT(Template!$Q$48,2)=\"RC\",Template!$Q$48,\"\")","v":""},{"$f":"IF(LEFT(Template!$O$48,2)=\"CC\",Template!$O$48,\"\")","v":""},{"$f":"IF(LEFT(Template!$O$48,2)=\"AC\",Template!$O$48,\"\")","v":""},{"$f":"IF(LEFT(Template!$O$48,2)=\"GF\",Template!$O$48,\"\")","v":""},{"$f":"IF(LEFT(Template!$O$48,2)=\"GR\",Template!$O$48,\"\")","v":""},null,null,{"$f":"IF(Template!$AC$48<>\"\",Template!$AC$48,\"\")","v":""},null,{"$f":"IF(Template!$Y$48<>\"\",Template!$Y$48,\"\")","v":""},{"$f":"IF(Template!$Z$48<>\"\",Template!$Z$48,\"\")","v":""},{"$f":"IF(Template!$AA$48<>\"\",Template!$AA$48,\"\")","v":""},{"$f":"IF(Template!$AD$48=\"Yes\",Template!$AD$48,\"\")","v":""},null,null,null,{"$f":"IF(LEFT(Template!$Q$48,2)=\"BK\",Template!$Q$48,\"\")","v":""}]
[null,{"$f":"Template!$L$49","v":0},42,{"$f":"IF(Template!$AB$49<>\"\",INDEX(Worktags!$B$4:$D$36,MATCH(Template!$AB$49,Worktags!$C$4:$C$36,0),1),\"\")","v":""},{"$f":"IF(Template!$P$49<>\"\",Template!$P$49,\"\")","v":""},"BYU_Child",null,45.08,null,null,null,null,{"$f":"IF(Template!$R$49<>\"\",Template!$R$49,\"\")","v":""},{"$f":"IF(Template!$AE$49<>\"\",Template!$AE$49,\"\")","v":""},{"$f":"IF(LEFT(Template!$Q$49,2)=\"SC\",Template!$Q$49,\"\")","v":""},{"$f":"IF(LEFT(Template!$Q$49,2)=\"RC\",Template!$Q$49,\"\")","v":""},{"$f":"IF(LEFT(Template!$O$49,2)=\"CC\",Template!$O$49,\"\")","v":""},{"$f":"IF(LEFT(Template!$O$49,2)=\"AC\",Template!$O$49,\"\")","v":""},{"$f":"IF(LEFT(Template!$O$49,2)=\"GF\",Template!$O$49,\"\")","v":""},{"$f":"IF(LEFT(Template!$O$49,2)=\"GR\",Template!$O$49,\"\")","v":""},null,null,{"$f":"IF(Template!$AC$49<>\"\",Template!$AC$49,\"\")","v":""},null,{"$f":"IF(Template!$Y$49<>\"\",Template!$Y$49,\"\")","v":""},{"$f":"IF(Template!$Z$49<>\"\",Template!$Z$49,\"\")","v":""},{"$f":"IF(Template!$AA$49<>\"\",Template!$AA$49,\"\")","v":""},{"$f":"IF(Template!$AD$49=\"Yes\",Template!$AD$49,\"\")","v":""},null,null,null,{"$f":"IF(LEFT(Template!$Q$49,2)=\"BK\",Template!$Q$49,\"\")","v":""}]
[null,{"$f":"Template!$L$50","v":0},43,{"$f":"IF(Template!$AB$50<>\"\",INDEX(Worktags!$B$4:$D$36,MATCH(Template!$AB$50,Worktags!$C$4:$C$36,0),1),\"\")","v":""},{"$f":"IF(Template!$P$50<>\"\",Template!$P$50,\"\")","v":""},"BYU_Child",null,193.29,null,null,null,null,{"$f":"IF(Template!$R$50<>\"\",Template!$R$50,\"\")","v":""},{"$f":"IF(Template!$AE$50<>\"\",Template!$AE$50,\"\")","v":""},{"$f":"IF(LEFT(Template!$Q$50,2)=\"SC\",Template!$Q$50,\"\")","v":""},{"$f":"IF(LEFT(Template!$Q$50,2)=\"RC\",Template!$Q$50,\"\")","v":""},{"$f":"IF(LEFT(Template!$O$50,2)=\"CC\",Template!$O$50,\"\")","v":""},{"$f":"IF(LEFT(Template!$O$50,2)=\"AC\",Template!$O$50,\"\")","v":""},{"$f":"IF(LEFT(Template!$O$50,2)=\"GF\",Template!$O$50,\"\")","v":""},{"$f":"IF(LEFT(Template!$O$50,2)=\"GR\",Template!$O$50,\"\")","v":""},null,null,{"$f":"IF(Template!$AC$50<>\"\",Template!$AC$50,\"\")","v":""},null,{"$f":"IF(Template!$Y$50<>\"\",Template!$Y$50,\"\")","v":""},{"$f":"IF(Template!$Z$50<>\"\",Template!$Z$50,\"\")","v":""},{"$f":"IF(Template!$AA$50<>\"\",Template!$AA$50,\"\")","v":""},{"$f":"IF(Template!$AD$50=\"Yes\",Template!$AD$50,\"\")","v":""},null,null,null,{"$f":"IF(LEFT(Template!$Q$50,2)=\"BK\",Template!$Q$50,\"\")","v":""}]
[null,{"$f":"Template!$L$51","v":0},44,{"$f":"IF(Template!$AB$51<>\"\",INDEX(Worktags!$B$4:$D$36,MATCH(Template!$AB$51,Worktags!$C$4:$C$36,0),1),\"\")","v":""},{"$f":"IF(Template!$P$51<>\"\",Template!$P$51,\"\")","v":""},"BYU_Child",null,21.84,null,null,null,null,{"$f":"IF(Template!$R$51<>\"\",Template!$R$51,\"\")","v":""},{"$f":"IF(Template!$AE$51<>\"\",Template!$AE$51,\"\")","v":""},{"$f":"IF(LEFT(Template!$Q$51,2)=\"SC\",Template!$Q$51,\"\")","v":""},{"$f":"IF(LEFT(Template!$Q$51,2)=\"RC\",Template!$Q$51,\"\")","v":""},{"$f":"IF(LEFT(Template!$O$51,2)=\"CC\",Template!$O$51,\"\")","v":""},{"$f":"IF(LEFT(Template!$O$51,2)=\"AC\",Template!$O$51,\"\")","v":""},{"$f":"IF(LEFT(Template!$O$51,2)=\"GF\",Template!$O$51,\"\")","v":""},{"$f":"IF(LEFT(Template!$O$51,2)=\"GR\",Template!$O$51,\"\")","v":""},null,null,{"$f":"IF(Template!$AC$51<>\"\",Template!$AC$51,\"\")","v":""},null,{"$f":"IF(Template!$Y$51<>\"\",Template!$Y$51,\"\")","v":""},{"$f":"IF(Template!$Z$51<>\"\",Template!$Z$51,\"\")","v":""},{"$f":"IF(Template!$AA$51<>\"\",Template!$AA$51,\"\")","v":""},{"$f":"IF(Template!$AD$51=\"Yes\",Template!$AD$51,\"\")","v":""},null,null,null,{"$f":"IF(LEFT(Template!$Q$51,2)=\"BK\",Template!$Q$51,\"\")","v":""}]
[null,{"$f":"Template!$L$52","v":0},45,{"$f":"IF(Template!$AB$52<>\"\",INDEX(Worktags!$B$4:$D$36,MATCH(Template!$AB$52,Worktags!$C$4:$C$36,0),1),\"\")","v":""},{"$f":"IF(Template!$P$52<>\"\",Template!$P$52,\"\")","v":""},"BYU_Child",null,16.37,null,null,null,null,{"$f":"IF(Template!$R$52<>\"\",Template!$R$52,\"\")","v":""},{"$f":"IF(Template!$AE$52<>\"\",Template!$AE$52,\"\")","v":""},{"$f":"IF(LEFT(Template!$Q$52,2)=\"SC\",Template!$Q$52,\"\")","v":""},{"$f":"IF(LEFT(Template!$Q$52,2)=\"RC\",Template!$Q$52,\"\")","v":""},{"$f":"IF(LEFT(Template!$O$52,2)=\"CC\",Template!$O$52,\"\")","v":""},{"$f":"IF(LEFT(Template!$O$52,2)=\"AC\",Template!$O$52,\"\")","v":""},{"$f":"IF(LEFT(Template!$O$52,2)=\"GF\",Template!$O$52,\"\")","v":""},{"$f":"IF(LEFT(Template!$O$52,2)=\"GR\",Template!$O$52,\"\")","v":""},null,null,{"$f":"IF(Template!$AC$52<>\"\",Template!$AC$52,\"\")","v":""},null,{"$f":"IF(Template!$Y$52<>\"\",Template!$Y$52,\"\")","v":""},{"$f":"IF(Template!$Z$52<>\"\",Template!$Z$52,\"\")","v":""},{"$f":"IF(Template!$AA$52<>\"\",Template!$AA$52,\"\")","v":""},{"$f":"IF(Template!$AD$52=\"Yes\",Template!$AD$52,\"\")","v":""},null,null,null,{"$f":"IF(LEFT(Template!$Q$52,2)=\"BK\",Template!$Q$52,\"\")","v":""}]
[null,{"$f":"Template!$L$53","v":0},46,{"$f":"IF(Template!$AB$53<>\"\",INDEX(Worktags!$B$4:$D$36,MATCH(Template!$AB$53,Worktags!$C$4:$C$36,0),1),\"\")","v":""},{"$f":"IF(Template!$P$53<>\"\",Template!$P$53,\"\")","v":""},"BYU_Child",4.2300000000000004,null,null,null,null,null,{"$f":"IF(Template!$R$53<>\"\",Template!$R$53,\"\")","v":""},{"$f":"IF(Template!$AE$53<>\"\",Template!$AE$53,\"\")","v":""},{"$f":"IF(LEFT(Template!$Q$53,2)=\"SC\",Template!$Q$53,\"\")","v":""},{"$f":"IF(LEFT(Template!$Q$53,2)=\"RC\",Template!$Q$53,\"\")","v":""},{"$f":"IF(LEFT(Template!$O$53,2)=\"CC\",Template!$O$53,\"\")","v":""},{"$f":"IF(LEFT(Template!$O$53,2)=\"AC\",Template!$O$53,\"\")","v":""},{"$f":"IF(LEFT(Template!$O$53,2)=\"GF\",Template!$O$53,\"\")","v":""},{"$f":"IF(LEFT(Template!$O$53,2)=\"GR\",Template!$O$53,\"\")","v":""},null,null,{"$f":"IF(Template!$AC$53<>\"\",Template!$AC$53,\"\")","v":""},null,{"$f":"IF(Template!$Y$53<>\"\",Template!$Y$53,\"\")","v":""},{"$f":"IF(Template!$Z$53<>\"\",Template!$Z$53,\"\")","v":""},{"$f":"IF(Template!$AA$53<>\"\",Template!$AA$53,\"\")","v":""},{"$f":"IF(Template!$AD$53=\"Yes\",Template!$AD$53,\"\")","v":""},null,null,null,{"$f":"IF(LEFT(Template!$Q$53,2)=\"BK\",Template!$Q$53,\"\")","v":""}]
[null,{"$f":"Template!$L$54","v":0},47,{"$f":"IF(Template!$AB$54<>\"\",INDEX(Worktags!$B$4:$D$36,MATCH(Template!$AB$54,Worktags!$C$4:$C$36,0),1),\"\")","v":""},{"$f":"IF(Template!$P$54<>\"\",Template!$P$54,\"\")","v":""},"BYU_Child",14.78,null,null,null,null,null,{"$f":"IF(Template!$R$54<>\"\",Template!$R$54,\"\")","v":""},{"$f":"IF(Template!$AE$54<>\"\",Template!$AE$54,\"\")","v":""},{"$f":"IF(LEFT(Template!$Q$54,2)=\"SC\",Template!$Q$54,\"\")","v":""},{"$f":"IF(LEFT(Template!$Q$54,2)=\"RC\",Template!$Q$54,\"\")","v":""},{"$f":"IF(LEFT(Template!$O$54,2)=\"CC\",Template!$O$54,\"\")","v":""},{"$f":"IF(LEFT(Template!$O$54,2)=\"AC\",Template!$O$54,\"\")","v":""},{"$f":"IF(LEFT(Template!$O$54,2)=\"GF\",Template!$O$54,\"\")","v":""},{"$f":"IF(LEFT(Template!$O$54,2)=\"GR\",Template!$O$54,\"\")","v":""},null,null,{"$f":"IF(Template!$AC$54<>\"\",Template!$AC$54,\"\")","v":""},null,{"$f":"IF(Template!$Y$54<>\"\",Template!$Y$54,\"\")","v":""},{"$f":"IF(Template!$Z$54<>\"\",Template!$Z$54,\"\")","v":""},{"$f":"IF(Template!$AA$54<>\"\",Template!$AA$54,\"\")","v":""},{"$f":"IF(Template!$AD$54=\"Yes\",Template!$AD$54,\"\")","v":""},null,null,null,{"$f":"IF(LEFT(Template!$Q$54,2)=\"BK\",Template!$Q$54,\"\")","v":""}]
[null,{"$f":"Template!$L$55","v":0},48,{"$f":"IF(Template!$AB$55<>\"\",INDEX(Worktags!$B$4:$D$36,MATCH(Template!$AB$55,Worktags!$C$4:$C$36,0),1),\"\")","v":""},{"$f":"IF(Template!$P$55<>\"\",Template!$P$55,\"\")","v":""},"BYU_Child",null,30.45,null,null,null,null,{"$f":"IF(Template!$R$55<>\"\",Template!$R$55,\"\")","v":""},{"$f":"IF(Template!$AE$55<>\"\",Template!$AE$55,\"\")","v":""},{"$f":"IF(LEFT(Template!$Q$55,2)=\"SC\",Template!$Q$55,\"\")","v":""},{"$f":"IF(LEFT(Template!$Q$55,2)=\"RC\",Template!$Q$55,\"\")","v":""},{"$f":"IF(LEFT(Template!$O$55,2)=\"CC\",Template!$O$55,\"\")","v":""},{"$f":"IF(LEFT(Template!$O$55,2)=\"AC\",Template!$O$55,\"\")","v":""},{"$f":"IF(LEFT(Template!$O$55,2)=\"GF\",Template!$O$55,\"\")","v":""},{"$f":"IF(LEFT(Template!$O$55,2)=\"GR\",Template!$O$55,\"\")","v":""},null,null,{"$f":"IF(Template!$AC$55<>\"\",Template!$AC$55,\"\")","v":""},null,{"$f":"IF(Template!$Y$55<>\"\",Template!$Y$55,\"\")","v":""},{"$f":"IF(Template!$Z$55<>\"\",Template!$Z$55,\"\")","v":""},{"$f":"IF(Template!$AA$55<>\"\",Template!$AA$55,\"\")","v":""},{"$f":"IF(Template!$AD$55=\"Yes\",Template!$AD$55,\"\")","v":""},null,null,null,{"$f":"IF(LEFT(Template!$Q$55,2)=\"BK\",Template!$Q$55,\"\")","v":""}]
[null,{"$f":"Template!$L$56","v":0},49,{"$f":"IF(Template!$AB$56<>\"\",INDEX(Worktags!$B$4:$D$36,MATCH(Template!$AB$56,Worktags!$C$4:$C$36,0),1),\"\")","v":""},{"$f":"IF(Template!$P$56<>\"\",Template!$P$56,\"\")","v":""},"BYU_Child",0.37,null,null,null,null,null,{"$f":"IF(Template!$R$56<>\"\",Template!$R$56,\"\")","v":""},{"$f":"IF(Template!$AE$56<>\"\",Template!$AE$56,\"\")","v":""},{"$f":"IF(LEFT(Template!$Q$56,2)=\"SC\",Template!$Q$56,\"\")","v":""},{"$f":"IF(LEFT(Template!$Q$56,2)=\"RC\",Template!$Q$56,\"\")","v":""},{"$f":"IF(LEFT(Template!$O$56,2)=\"CC\",Template!$O$56,\"\")","v":""},{"$f":"IF(LEFT(Template!$O$56,2)=\"AC\",Template!$O$56,\"\")","v":""},{"$f":"IF(LEFT(Template!$O$56,2)=\"GF\",Template!$O$56,\"\")","v":""},{"$f":"IF(LEFT(Template!$O$56,2)=\"GR\",Template!$O$56,\"\")","v":""},null,null,{"$f":"IF(Template!$AC$56<>\"\",Template!$AC$56,\"\")","v":""},null,{"$f":"IF(Template!$Y$56<>\"\",Template!$Y$56,\"\")","v":""},{"$f":"IF(Template!$Z$56<>\"\",Template!$Z$56,\"\")","v":""},{"$f":"IF(Template!$AA$56<>\"\",Template!$AA$56,\"\")","v":""},{"$f":"IF(Template!$AD$56=\"Yes\",Template!$AD$56,\"\")","v":""},null,null,null,{"$f":"IF(LEFT(Template!$Q$56,2)=\"BK\",Template!$Q$56,\"\")","v":""}]
[null,{"$f":"Template!$L$57","v":0},50,{"$f":"IF(Template!$AB$57<>\"\",INDEX(Worktags!$B$4:$D$36,MATCH(Template!$AB$57,Worktags!$C$4:$C$36,0),1),\"\")","v":""},{"$f":"IF(Template!$P$57<>\"\",Template!$P$57,\"\")","v":""},"BYU_Child",9.24,null,null,null,null,null,{"$f":"IF(Template!$R$57<>\"\",Template!$R$57,\"\")","v":""},{"$f":"IF(Template!$AE$57<>\"\",Template!$AE$57,\"\")","v":""},{"$f":"IF(LEFT(Template!$Q$57,2)=\"SC\",Template!$Q$57,\"\")","v":""},{"$f":"IF(LEFT(Template!$Q$57,2)=\"RC\",Template!$Q$57,\"\")","v":""},{"$f":"IF(LEFT(Template!$O$57,2)=\"CC\",Template!$O$57,\"\")","v":""},{"$f":"IF(LEFT(Template!$O$57,2)=\"AC\",Template!$O$57,\"\")","v":""},{"$f":"IF(LEFT(Template!$O$57,2)=\"GF\",Template!$O$57,\"\")","v":""},{"$f":"IF(LEFT(Template!$O$57,2)=\"GR\",Template!$O$57,\"\")","v":""},null,null,{"$f":"IF(Template!$AC$57<>\"\",Template!$AC$57,\"\")","v":""},null,{"$f":"IF(Template!$Y$57<>\"\",Template!$Y$57,\"\")","v":""},{"$f":"IF(Template!$Z$57<>\"\",Template!$Z$57,\"\")","v":""},{"$f":"IF(Template!$AA$57<>\"\",Template!$AA$57,\"\")","v":""},{"$f":"IF(Template!$AD$57=\"Yes\",Template!$AD$57,\"\")","v":""},null,null,null,{"$f":"IF(LEFT(Template!$Q$57,2)=\"BK\",Template!$Q$57,\"\")","v":""}]
[null,{"$f":"Template!$L$58","v":0},51,{"$f":"IF(Template!$AB$58<>\"\",INDEX(Worktags!$B$4:$D$36,MATCH(Template!$AB$58,Worktags!$C$4:$C$36,0),1),\"\")","v":""},{"$f":"IF(Template!$P$58<>\"\",Template!$P$58,\"\")","v":""},"BYU_Child",null,3.77,null,null,null,null,{"$f":"IF(Template!$R$58<>\"\",Template!$R$58,\"\")","v":""},{"$f":"IF(Template!$AE$58<>\"\",Template!$AE$58,\"\")","v":""},{"$f":"IF(LEFT(Template!$Q$58,2)=\"SC\",Template!$Q$58,\"\")","v":""},{"$f":"IF(LEFT(Template!$Q$58,2)=\"RC\",Template!$Q$58,\"\")","v":""},{"$f":"IF(LEFT(Template!$O$58,2)=\"CC\",Template!$O$58,\"\")","v":""},{"$f":"IF(LEFT(Template!$O$58,2)=\"AC\",Template!$O$58,\"\")","v":""},{"$f":"IF(LEFT(Template!$O$58,2)=\"GF\",Template!$O$58,\"\")","v":""},{"$f":"IF(LEFT(Template!$O$58,2)=\"GR\",Template!$O$58,\"\")","v":""},null,null,{"$f":"IF(Template!$AC$58<>\"\",Template!$AC$58,\"\")","v":""},null,{"$f":"IF(Template!$Y$58<>\"\",Template!$Y$58,\"\")","v":""},{"$f":"IF(Template!$Z$58<>\"\",Template!$Z$58,\"\")","v":""},{"$f":"IF(Template!$AA$58<>\"\",Template!$AA$58,\"\")","v":""},{"$f":"IF(Template!$AD$58=\"Yes\",Template!$AD$58,\"\")","v":""},null,null,null,{"$f":"IF(LEFT(Template!$Q$58,2)=\"BK\",Template!$Q$58,\"\")","v":""}]
[null,{"$f":"Template!$L$59","v":0},52,{"$f":"IF(Template!$AB$59<>\"\",INDEX(Worktags!$B$4:$D$36,MATCH(Template!$AB$59,Worktags!$C$4:$C$36,0),1),\"\")","v":""},{"$f":"IF(Template!$P$59<>\"\",Template!$P$59,\"\")","v":""},"BYU_Child",2.86,null,null,null,null,null,{"$f":"IF(Template!$R$59<>\"\",Template!$R$59,\"\")","v":""},{"$f":"IF(Template!$AE$59<>\"\",Template!$AE$59,\"\")","v":""},{"$f":"IF(LEFT(Template!$Q$59,2)=\"SC\",Template!$Q$59,\"\")","v":""},{"$f":"IF(LEFT(Template!$Q$59,2)=\"RC\",Template!$Q$59,\"\")","v":""},{"$f":"IF(LEFT(Template!$O$59,2)=\"CC\",Template!$O$59,\"\")","v":""},{"$f":"IF(LEFT(Template!$O$59,2)=\"AC\",Template!$O$59,\"\")","v":""},{"$f":"IF(LEFT(Template!$O$59,2)=\"GF\",Template!$O$59,\"\")","v":""},{"$f":"IF(LEFT(Template!$O$59,2)=\"GR\",Template!$O$59,\"\")","v":""},null,null,{"$f":"IF(Template!$AC$59<>\"\",Template!$AC$59,\"\")","v":""},null,{"$f":"IF(Template!$Y$59<>\"\",Template!$Y$59,\"\")","v":""},{"$f":"IF(Template!$Z$59<>\"\",Template!$Z$59,\"\")","v":""},{"$f":"IF(Template!$AA$59<>\"\",Template!$AA$59,\"\")","v":""},{"$f":"IF(Template!$AD$59=\"Yes\",Template!$AD$59,\"\")","v":""},null,null,null,{"$f":"IF(LEFT(Template!$Q$59,2)=\"BK\",Template!$Q$59,\"\")","v":""}]
[null,{"$f":"Template!$L$60","v":0},53,{"$f":"IF(Template!$AB$60<>\"\",INDEX(Worktags!$B$4:$D$36,MATCH(Template!$AB$60,Worktags!$C$4:$C$36,0),1),\"\")","v":""},{"$f":"IF(Template!$P$60<>\"\",Template!$P$60,\"\")","v":""},"BYU_Child",null,13.37,null,null,null,null,{"$f":"IF(Template!$R$60<>\"\",Template!$R$60,\"\")","v":""},{"$f":"IF(Template!$AE$60<>\"\",Template!$AE$60,\"\")","v":""},{"$f":"IF(LEFT(Template!$Q$60,2)=\"SC\",Template!$Q$60,\"\")","v":""},{"$f":"IF(LEFT(Template!$Q$60,2)=\"RC\",Template!$Q$60,\"\")","v":""},{"$f":"IF(LEFT(Template!$O$60,2)=\"CC\",Template!$O$60,\"\")","v":""},{"$f":"IF(LEFT(Template!$O$60,2)=\"AC\",Template!$O$60,\"\")","v":""},{"$f":"IF(LEFT(Template!$O$60,2)=\"GF\",Template!$O$60,\"\")","v":""},{"$f":"IF(LEFT(Template!$O$60,2)=\"GR\",Template!$O$60,\"\")","v":""},null,null,{"$f":"IF(Template!$AC$60<>\"\",Template!$AC$60,\"\")","v":""},null,{"$f":"IF(Template!$Y$60<>\"\",Template!$Y$60,\"\")","v":""},{"$f":"IF(Template!$Z$60<>\"\",Template!$Z$60,\"\")","v":""},{"$f":"IF(Template!$AA$60<>\"\",Template!$AA$60,\"\")","v":""},{"$f":"IF(Template!$AD$60=\"Yes\",Template!$AD$60,\"\")","v":""},null,null,null,{"$f":"IF(LEFT(Template!$Q$60,2)=\"BK\",Template!$Q$60,\"\")","v":""}]
[null,{"$f":"Template!$L$61","v":0},54,{"$f":"IF(Template!$AB$61<>\"\",INDEX(Worktags!$B$4:$D$36,MATCH(Template!$AB$61,Worktags!$C$4:$C$36,0),1),\"\")","v":""},{"$f":"IF(Template!$P$61<>\"\",Template!$P$61,\"\")","v":""},"BYU_Child",0.72,null,null,null,null,null,{"$f":"IF(Template!$R$61<>\"\",Template!$R$61,\"\")","v":""},{"$f":"IF(Template!$AE$61<>\"\",Template!$AE$61,\"\")","v":""},{"$f":"IF(LEFT(Template!$Q$61,2)=\"SC\",Template!$Q$61,\"\")","v":""},{"$f":"IF(LEFT(Template!$Q$61,2)=\"RC\",Template!$Q$61,\"\")","v":""},{"$f":"IF(LEFT(Template!$O$61,2)=\"CC\",Template!$O$61,\"\")","v":""},{"$f":"IF(LEFT(Template!$O$61,2)=\"AC\",Template!$O$61,\"\")","v":""},{"$f":"IF(LEFT(Template!$O$61,2)=\"GF\",Template!$O$61,\"\")","v":""},{"$f":"IF(LEFT(Template!$O$61,2)=\"GR\",Template!$O$61,\"\")","v":""},null,null,{"$f":"IF(Template!$AC$61<>\"\",Template!$AC$61,\"\")","v":""},null,{"$f":"IF(Template!$Y$61<>\"\",Template!$Y$61,\"\")","v":""},{"$f":"IF(Template!$Z$61<>\"\",Template!$Z$61,\"\")","v":""},{"$f":"IF(Template!$AA$61<>\"\",Template!$AA$61,\"\")","v":""},{"$f":"IF(Template!$AD$61=\"Yes\",Template!$AD$61,\"\")","v":""},null,null,null,{"$f":"IF(LEFT(Template!$Q$61,2)=\"BK\",Template!$Q$61,\"\")","v":""}]
[null,{"$f":"Template!$L$62","v":0},55,{"$f":"IF(Template!$AB$62<>\"\",INDEX(Worktags!$B$4:$D$36,MATCH(Template!$AB$62,Worktags!$C$4:$C$36,0),1),\"\")","v":""},{"$f":"IF(Template!$P$62<>\"\",Template!$P$62,\"\")","v":""},"BYU_Child",6.94,null,null,null,null,null,{"$f":"IF(Template!$R$62<>\"\",Template!$R$62,\"\")","v":""},{"$f":"IF(Template!$AE$62<>\"\",Template!$AE$62,\"\")","v":""},{"$f":"IF(LEFT(Template!$Q$62,2)=\"SC\",Template!$Q$62,\"\")","v":""},{"$f":"IF(LEFT(Template!$Q$62,2)=\"RC\",Template!$Q$62,\"\")","v":""},{"$f":"IF(LEFT(Template!$O$62,2)=\"CC\",Template!$O$62,\"\")","v":""},{"$f":"IF(LEFT(Template!$O$62,2)=\"AC\",Template!$O$62,\"\")","v":""},{"$f":"IF(LEFT(Template!$O$62,2)=\"GF\",Template!$O$62,\"\")","v":""},{"$f":"IF(LEFT(Template!$O$62,2)=\"GR\",Template!$O$62,\"\")","v":""},null,null,{"$f":"IF(Template!$AC$62<>\"\",Template!$AC$62,\"\")","v":""},null,{"$f":"IF(Template!$Y$62<>\"\",Template!$Y$62,\"\")","v":""},{"$f":"IF(Template!$Z$62<>\"\",Template!$Z$62,\"\")","v":""},{"$f":"IF(Template!$AA$62<>\"\",Template!$AA$62,\"\")","v":""},{"$f":"IF(Template!$AD$62=\"Yes\",Template!$AD$62,\"\")","v":""},null,null,null,{"$f":"IF(LEFT(Template!$Q$62,2)=\"BK\",Template!$Q$62,\"\")","v":""}]
[null,{"$f":"Template!$L$63","v":0},56,{"$f":"IF(Template!$AB$63<>\"\",INDEX(Worktags!$B$4:$D$36,MATCH(Template!$AB$63,Worktags!$C$4:$C$36,0),1),\"\")","v":""},{"$f":"IF(Template!$P$63<>\"\",Template!$P$63,\"\")","v":""},"BYU_Child",null,4.34,null,null,null,null,{"$f":"IF(Template!$R$63<>\"\",Template!$R$63,\"\")","v":""},{"$f":"IF(Template!$AE$63<>\"\",Template!$AE$63,\"\")","v":""},{"$f":"IF(LEFT(Template!$Q$63,2)=\"SC\",Template!$Q$63,\"\")","v":""},{"$f":"IF(LEFT(Template!$Q$63,2)=\"RC\",Template!$Q$63,\"\")","v":""},{"$f":"IF(LEFT(Template!$O$63,2)=\"CC\",Template!$O$63,\"\")","v":""},{"$f":"IF(LEFT(Template!$O$63,2)=\"AC\",Template!$O$63,\"\")","v":""},{"$f":"IF(LEFT(Template!$O$63,2)=\"GF\",Template!$O$63,\"\")","v":""},{"$f":"IF(LEFT(Template!$O$63,2)=\"GR\",Template!$O$63,\"\")","v":""},null,null,{"$f":"IF(Template!$AC$63<>\"\",Template!$AC$63,\"\")","v":""},null,{"$f":"IF(Template!$Y$63<>\"\",Template!$Y$63,\"\")","v":""},{"$f":"IF(Template!$Z$63<>\"\",Template!$Z$63,\"\")","v":""},{"$f":"IF(Template!$AA$63<>\"\",Template!$AA$63,\"\")","v":""},{"$f":"IF(Template!$AD$63=\"Yes\",Template!$AD$63,\"\")","v":""},null,null,null,{"$f":"IF(LEFT(Template!$Q$63,2)=\"BK\",Template!$Q$63,\"\")","v":""}]
[null,{"$f":"Template!$L$64","v":0},57,{"$f":"IF(Template!$AB$64<>\"\",INDEX(Worktags!$B$4:$D$36,MATCH(Template!$AB$64,Worktags!$C$4:$C$36,0),1),\"\")","v":""},{"$f":"IF(Template!$P$64<>\"\",Template!$P$64,\"\")","v":""},"BYU_Child",null,0.9,null,null,null,null,{"$f":"IF(Template!$R$64<>\"\",Template!$R$64,\"\")","v":""},{"$f":"IF(Template!$AE$64<>\"\",Template!$AE$64,\"\")","v":""},{"$f":"IF(LEFT(Template!$Q$64,2)=\"SC\",Template!$Q$64,\"\")","v":""},{"$f":"IF(LEFT(Template!$Q$64,2)=\"RC\",Template!$Q$64,\"\")","v":""},{"$f":"IF(LEFT(Template!$O$64,2)=\"CC\",Template!$O$64,\"\")","v":""},{"$f":"IF(LEFT(Template!$O$64,2)=\"AC\",Template!$O$64,\"\")","v":""},{"$f":"IF(LEFT(Template!$O$64,2)=\"GF\",Template!$O$64,\"\")","v":""},{"$f":"IF(LEFT(Template!$O$64,2)=\"GR\",Template!$O$64,\"\")","v":""},null,null,{"$f":"IF(Template!$AC$64<>\"\",Template!$AC$64,\"\")","v":""},null,{"$f":"IF(Template!$Y$64<>\"\",Template!$Y$64,\"\")","v":""},{"$f":"IF(Template!$Z$64<>\"\",Template!$Z$64,\"\")","v":""},{"$f":"IF(Template!$AA$64<>\"\",Template!$AA$64,\"\")","v":""},{"$f":"IF(Template!$AD$64=\"Yes\",Template!$AD$64,\"\")","v":""},null,null,null,{"$f":"IF(LEFT(Template!$Q$64,2)=\"BK\",Template!$Q$64,\"\")","v":""}]
[null,{"$f":"Template!$L$65","v":0},58,{"$f":"IF(Template!$AB$65<>\"\",INDEX(Worktags!$B$4:$D$36,MATCH(Template!$AB$65,Worktags!$C$4:$C$36,0),1),\"\")","v":""},{"$f":"IF(Template!$P$65<>\"\",Template!$P$65,\"\")","v":""},"BYU_Child",null,9.36,null,null,null,null,{"$f":"IF(Template!$R$65<>\"\",Template!$R$65,\"\")","v":""},{"$f":"IF(Template!$AE$65<>\"\",Template!$AE$65,\"\")","v":""},{"$f":"IF(LEFT(Template!$Q$65,2)=\"SC\",Template!$Q$65,\"\")","v":""},{"$f":"IF(LEFT(Template!$Q$65,2)=\"RC\",Template!$Q$65,\"\")","v":""},{"$f":"IF(LEFT(Template!$O$65,2)=\"CC\",Template!$O$65,\"\")","v":""},{"$f":"IF(LEFT(Template!$O$65,2)=\"AC\",Template!$O$65,\"\")","v":""},{"$f":"IF(LEFT(Template!$O$65,2)=\"GF\",Template!$O$65,\"\")","v":""},{"$f":"IF(LEFT(Template!$O$65,2)=\"GR\",Template!$O$65,\"\")","v":""},null,null,{"$f":"IF(Template!$AC$65<>\"\",Template!$AC$65,\"\")","v":""},null,{"$f":"IF(Template!$Y$65<>\"\",Template!$Y$65,\"\")","v":""},{"$f":"IF(Template!$Z$65<>\"\",Template!$Z$65,\"\")","v":""},{"$f":"IF(Template!$AA$65<>\"\",Template!$AA$65,\"\")","v":""},{"$f":"IF(Template!$AD$65=\"Yes\",Template!$AD$65,\"\")","v":""},null,null,null,{"$f":"IF(LEFT(Template!$Q$65,2)=\"BK\",Template!$Q$65,\"\")","v":""}]
[null,{"$f":"Template!$L$66","v":0},59,{"$f":"IF(Template!$AB$66<>\"\",INDEX(Worktags!$B$4:$D$36,MATCH(Template!$AB$66,Worktags!$C$4:$C$36,0),1),\"\")","v":""},{"$f":"IF(Template!$P$66<>\"\",Template!$P$66,\"\")","v":""},"BYU_Child",null,0.37,null,null,null,null,{"$f":"IF(Template!$R$66<>\"\",Template!$R$66,\"\")","v":""},{"$f":"IF(Template!$AE$66<>\"\",Template!$AE$66,\"\")","v":""},{"$f":"IF(LEFT(Template!$Q$66,2)=\"SC\",Template!$Q$66,\"\")","v":""},{"$f":"IF(LEFT(Template!$Q$66,2)=\"RC\",Template!$Q$66,\"\")","v":""},{"$f":"IF(LEFT(Template!$O$66,2)=\"CC\",Template!$O$66,\"\")","v":""},{"$f":"IF(LEFT(Template!$O$66,2)=\"AC\",Template!$O$66,\"\")","v":""},{"$f":"IF(LEFT(Template!$O$66,2)=\"GF\",Template!$O$66,\"\")","v":""},{"$f":"IF(LEFT(Template!$O$66,2)=\"GR\",Template!$O$66,\"\")","v":""},null,null,{"$f":"IF(Template!$AC$66<>\"\",Template!$AC$66,\"\")","v":""},null,{"$f":"IF(Template!$Y$66<>\"\",Template!$Y$66,\"\")","v":""},{"$f":"IF(Template!$Z$66<>\"\",Template!$Z$66,\"\")","v":""},{"$f":"IF(Template!$AA$66<>\"\",Template!$AA$66,\"\")","v":""},{"$f":"IF(Template!$AD$66=\"Yes\",Template!$AD$66,\"\")","v":""},null,null,null,{"$f":"IF(LEFT(Template!$Q$66,2)=\"BK\",Template!$Q$66,\"\")","v":""}]
[null,{"$f":"Template!$L$67","v":0},60,{"$f":"IF(Template!$AB$67<>\"\",INDEX(Worktags!$B$4:$D$36,MATCH(Template!$AB$67,Worktags!$C$4:$C$36,0),1),\"\")","v":""},{"$f":"IF(Template!$P$67<>\"\",Template!$P$67,\"\")","v":""},"BYU_Child",3.3,null,null,null,null,null,{"$f":"IF(Template!$R$67<>\"\",Template!$R$67,\"\")","v":""},{"$f":"IF(Template!$AE$67<>\"\",Template!$AE$67,\"\")","v":""},{"$f":"IF(LEFT(Template!$Q$67,2)=\"SC\",Template!$Q$67,\"\")","v":""},{"$f":"IF(LEFT(Template!$Q$67,2)=\"RC\",Template!$Q$67,\"\")","v":""},{"$f":"IF(LEFT(Template!$O$67,2)=\"CC\",Template!$O$67,\"\")","v":""},{"$f":"IF(LEFT(Template!$O$67,2)=\"AC\",Template!$O$67,\"\")","v":""},{"$f":"IF(LEFT(Template!$O$67,2)=\"GF\",Template!$O$67,\"\")","v":""},{"$f":"IF(LEFT(Template!$O$67,2)=\"GR\",Template!$O$67,\"\")","v":""},null,null,{"$f":"IF(Template!$AC$67<>\"\",Template!$AC$67,\"\")","v":""},null,{"$f":"IF(Template!$Y$67<>\"\",Template!$Y$67,\"\")","v":""},{"$f":"IF(Template!$Z$67<>\"\",Template!$Z$67,\"\")","v":""},{"$f":"IF(Template!$AA$67<>\"\",Template!$AA$67,\"\")","v":""},{"$f":"IF(Template!$AD$67=\"Yes\",Template!$AD$67,\"\")","v":""},null,null,null,{"$f":"IF(LEFT(Template!$Q$67,2)=\"BK\",Template!$Q$67,\"\")","v":""}]
[null,{"$f":"Template!$L$68","v":0},61,{"$f":"IF(Template!$AB$68<>\"\",INDEX(Worktags!$B$4:$D$36,MATCH(Template!$AB$68,Worktags!$C$4:$C$36,0),1),\"\")","v":""},{"$f":"IF(Template!$P$68<>\"\",Template!$P$68,\"\")","v":""},"BYU_Child",0.06,null,null,null,null,null,{"$f":"IF(Template!$R$68<>\"\",Template!$R$68,\"\")","v":""},{"$f":"IF(Template!$AE$68<>\"\",Template!$AE$68,\"\")","v":""},{"$f":"IF(LEFT(Template!$Q$68,2)=\"SC\",Template!$Q$68,\"\")","v":""},{"$f":"IF(LEFT(Template!$Q$68,2)=\"RC\",Template!$Q$68,\"\")","v":""},{"$f":"IF(LEFT(Template!$O$68,2)=\"CC\",Template!$O$68,\"\")","v":""},{"$f":"IF(LEFT(Template!$O$68,2)=\"AC\",Template!$O$68,\"\")","v":""},{"$f":"IF(LEFT(Template!$O$68,2)=\"GF\",Template!$O$68,\"\")","v":""},{"$f":"IF(LEFT(Template!$O$68,2)=\"GR\",Template!$O$68,\"\")","v":""},null,null,{"$f":"IF(Template!$AC$68<>\"\",Template!$AC$68,\"\")","v":""},null,{"$f":"IF(Template!$Y$68<>\"\",Template!$Y$68,\"\")","v":""},{"$f":"IF(Template!$Z$68<>\"\",Template!$Z$68,\"\")","v":""},{"$f":"IF(Template!$AA$68<>\"\",Template!$AA$68,\"\")","v":""},{"$f":"IF(Template!$AD$68=\"Yes\",Template!$AD$68,\"\")","v":""},null,null,null,{"$f":"IF(LEFT(Template!$Q$68,2)=\"BK\",Template!$Q$68,\"\")","v":""}]
[null,{"$f":"Template!$L$69","v":0},62,{"$f":"IF(Template!$AB$69<>\"\",INDEX(Worktags!$B$4:$D$36,MATCH(Template!$AB$69,Worktags!$C$4:$C$36,0),1),\"\")","v":""},{"$f":"IF(Template!$P$69<>\"\",Template!$P$69,\"\")","v":""},"BYU_Child",null,8.1,null,null,null,null,{"$f":"IF(Template!$R$69<>\"\",Template!$R$69,\"\")","v":""},{"$f":"IF(Template!$AE$69<>\"\",Template!$AE$69,\"\")","v":""},{"$f":"IF(LEFT(Template!$Q$69,2)=\"SC\",Template!$Q$69,\"\")","v":""},{"$f":"IF(LEFT(Template!$Q$69,2)=\"RC\",Template!$Q$69,\"\")","v":""},{"$f":"IF(LEFT(Template!$O$69,2)=\"CC\",Template!$O$69,\"\")","v":""},{"$f":"IF(LEFT(Template!$O$69,2)=\"AC\",Template!$O$69,\"\")","v":""},{"$f":"IF(LEFT(Template!$O$69,2)=\"GF\",Template!$O$69,\"\")","v":""},{"$f":"IF(LEFT(Template!$O$69,2)=\"GR\",Template!$O$69,\"\")","v":""},null,null,{"$f":"IF(Template!$AC$69<>\"\",Template!$AC$69,\"\")","v":""},null,{"$f":"IF(Template!$Y$69<>\"\",Template!$Y$69,\"\")","v":""},{"$f":"IF(Template!$Z$69<>\"\",Template!$Z$69,\"\")","v":""},{"$f":"IF(Template!$AA$69<>\"\",Template!$AA$69,\"\")","v":""},{"$f":"IF(Template!$AD$69=\"Yes\",Template!$AD$69,\"\")","v":""},null,null,null,{"$f":"IF(LEFT(Template!$Q$69,2)=\"BK\",Template!$Q$69,\"\")","v":""}]
[null,{"$f":"Template!$L$70","v":0},63,{"$f":"IF(Template!$AB$70<>\"\",INDEX(Worktags!$B$4:$D$36,MATCH(Template!$AB$70,Worktags!$C$4:$C$36,0),1),\"\")","v":""},{"$f":"IF(Template!$P$70<>\"\",Template!$P$70,\"\")","v":""},"BYU_Child",0.32,null,null,null,null,null,{"$f":"IF(Template!$R$70<>\"\",Template!$R$70,\"\")","v":""},{"$f":"IF(Template!$AE$70<>\"\",Template!$AE$70,\"\")","v":""},{"$f":"IF(LEFT(Template!$Q$70,2)=\"SC\",Template!$Q$70,\"\")","v":""},{"$f":"IF(LEFT(Template!$Q$70,2)=\"RC\",Template!$Q$70,\"\")","v":""},{"$f":"IF(LEFT(Template!$O$70,2)=\"CC\",Template!$O$70,\"\")","v":""},{"$f":"IF(LEFT(Template!$O$70,2)=\"AC\",Template!$O$70,\"\")","v":""},{"$f":"IF(LEFT(Template!$O$70,2)=\"GF\",Template!$O$70,\"\")","v":""},{"$f":"IF(LEFT(Template!$O$70,2)=\"GR\",Template!$O$70,\"\")","v":""},null,null,{"$f":"IF(Template!$AC$70<>\"\",Template!$AC$70,\"\")","v":""},null,{"$f":"IF(Template!$Y$70<>\"\",Template!$Y$70,\"\")","v":""},{"$f":"IF(Template!$Z$70<>\"\",Template!$Z$70,\"\")","v":""},{"$f":"IF(Template!$AA$70<>\"\",Template!$AA$70,\"\")","v":""},{"$f":"IF(Template!$AD$70=\"Yes\",Template!$AD$70,\"\")","v":""},null,null,null,{"$f":"IF(LEFT(Template!$Q$70,2)=\"BK\",Template!$Q$70,\"\")","v":""}]
[null,{"$f":"Template!$L$71","v":0},64,{"$f":"IF(Template!$AB$71<>\"\",INDEX(Worktags!$B$4:$D$36,MATCH(Template!$AB$71,Worktags!$C$4:$C$36,0),1),\"\")","v":""},{"$f":"IF(Template!$P$71<>\"\",Template!$P$71,\"\")","v":""},"BYU_Child",0.17,null,null,null,null,null,{"$f":"IF(Template!$R$71<>\"\",Template!$R$71,\"\")","v":""},{"$f":"IF(Template!$AE$71<>\"\",Template!$AE$71,\"\")","v":""},{"$f":"IF(LEFT(Template!$Q$71,2)=\"SC\",Template!$Q$71,\"\")","v":""},{"$f":"IF(LEFT(Template!$Q$71,2)=\"RC\",Template!$Q$71,\"\")","v":""},{"$f":"IF(LEFT(Template!$O$71,2)=\"CC\",Template!$O$71,\"\")","v":""},{"$f":"IF(LEFT(Template!$O$71,2)=\"AC\",Template!$O$71,\"\")","v":""},{"$f":"IF(LEFT(Template!$O$71,2)=\"GF\",Template!$O$71,\"\")","v":""},{"$f":"IF(LEFT(Template!$O$71,2)=\"GR\",Template!$O$71,\"\")","v":""},null,null,{"$f":"IF(Template!$AC$71<>\"\",Template!$AC$71,\"\")","v":""},null,{"$f":"IF(Template!$Y$71<>\"\",Template!$Y$71,\"\")","v":""},{"$f":"IF(Template!$Z$71<>\"\",Template!$Z$71,\"\")","v":""},{"$f":"IF(Template!$AA$71<>\"\",Template!$AA$71,\"\")","v":""},{"$f":"IF(Template!$AD$71=\"Yes\",Template!$AD$71,\"\")","v":""},null,null,null,{"$f":"IF(LEFT(Template!$Q$71,2)=\"BK\",Template!$Q$71,\"\")","v":""}]
[null,{"$f":"Template!$L$72","v":0},65,{"$f":"IF(Template!$AB$72<>\"\",INDEX(Worktags!$B$4:$D$36,MATCH(Template!$AB$72,Worktags!$C$4:$C$36,0),1),\"\")","v":""},{"$f":"IF(Template!$P$72<>\"\",Template!$P$72,\"\")","v":""},"BYU_Child",1.44,null,null,null,null,null,{"$f":"IF(Template!$R$72<>\"\",Template!$R$72,\"\")","v":""},{"$f":"IF(Template!$AE$72<>\"\",Template!$AE$72,\"\")","v":""},{"$f":"IF(LEFT(Template!$Q$72,2)=\"SC\",Template!$Q$72,\"\")","v":""},{"$f":"IF(LEFT(Template!$Q$72,2)=\"RC\",Template!$Q$72,\"\")","v":""},{"$f":"IF(LEFT(Template!$O$72,2)=\"CC\",Template!$O$72,\"\")","v":""},{"$f":"IF(LEFT(Template!$O$72,2)=\"AC\",Template!$O$72,\"\")","v":""},{"$f":"IF(LEFT(Template!$O$72,2)=\"GF\",Template!$O$72,\"\")","v":""},{"$f":"IF(LEFT(Template!$O$72,2)=\"GR\",Template!$O$72,\"\")","v":""},null,null,{"$f":"IF(Template!$AC$72<>\"\",Template!$AC$72,\"\")","v":""},null,{"$f":"IF(Template!$Y$72<>\"\",Template!$Y$72,\"\")","v":""},{"$f":"IF(Template!$Z$72<>\"\",Template!$Z$72,\"\")","v":""},{"$f":"IF(Template!$AA$72<>\"\",Template!$AA$72,\"\")","v":""},{"$f":"IF(Template!$AD$72=\"Yes\",Template!$AD$72,\"\")","v":""},null,null,null,{"$f":"IF(LEFT(Template!$Q$72,2)=\"BK\",Template!$Q$72,\"\")","v":""}]
[null,{"$f":"Template!$L$73","v":0},{"$f":"IF(B71=B70,C70+1,1)","v":66},{"$f":"IF(Template!$AB$73<>\"\",INDEX(Worktags!$B$4:$D$36,MATCH(Template!$AB$73,Worktags!$C$4:$C$36,0),1),\"\")","v":""},{"$f":"IF(Template!$P$73<>\"\",Template!$P$73,\"\")","v":""},"BYU_Child",null,2.6,null,null,null,null,{"$f":"IF(Template!$R$73<>\"\",Template!$R$73,\"\")","v":""},{"$f":"IF(Template!$AE$73<>\"\",Template!$AE$73,\"\")","v":""},{"$f":"IF(LEFT(Template!$Q$73,2)=\"SC\",Template!$Q$73,\"\")","v":""},{"$f":"IF(LEFT(Template!$Q$73,2)=\"RC\",Template!$Q$73,\"\")","v":""},{"$f":"IF(LEFT(Template!$O$73,2)=\"CC\",Template!$O$73,\"\")","v":""},{"$f":"IF(LEFT(Template!$O$73,2)=\"AC\",Template!$O$73,\"\")","v":""},{"$f":"IF(LEFT(Template!$O$73,2)=\"GF\",Template!$O$73,\"\")","v":""},{"$f":"IF(LEFT(Template!$O$73,2)=\"GR\",Template!$O$73,\"\")","v":""},null,null,{"$f":"IF(Template!$AC$73<>\"\",Template!$AC$73,\"\")","v":""},null,{"$f":"IF(Template!$Y$73<>\"\",Template!$Y$73,\"\")","v":""},{"$f":"IF(Template!$Z$73<>\"\",Template!$Z$73,\"\")","v":""},{"$f":"IF(Template!$AA$73<>\"\",Template!$AA$73,\"\")","v":""},{"$f":"IF(Template!$AD$73=\"Yes\",Template!$AD$73,\"\")","v":""},null,null,null,{"$f":"IF(LEFT(Template!$Q$73,2)=\"BK\",Template!$Q$73,\"\")","v":""}]
[null,{"$f":"Template!$L$74","v":0},67,{"$f":"IF(Template!$AB$74<>\"\",INDEX(Worktags!$B$4:$D$36,MATCH(Template!$AB$74,Worktags!$C$4:$C$36,0),1),\"\")","v":""},{"$f":"IF(Template!$P$74<>\"\",Template!$P$74,\"\")","v":""},"BYU_Child",6.7,null,null,null,null,null,{"$f":"IF(Template!$R$74<>\"\",Template!$R$74,\"\")","v":""},{"$f":"IF(Template!$AE$74<>\"\",Template!$AE$74,\"\")","v":""},{"$f":"IF(LEFT(Template!$Q$74,2)=\"SC\",Template!$Q$74,\"\")","v":""},{"$f":"IF(LEFT(Template!$Q$74,2)=\"RC\",Template!$Q$74,\"\")","v":""},{"$f":"IF(LEFT(Template!$O$74,2)=\"CC\",Template!$O$74,\"\")","v":""},{"$f":"IF(LEFT(Template!$O$74,2)=\"AC\",Template!$O$74,\"\")","v":""},{"$f":"IF(LEFT(Template!$O$74,2)=\"GF\",Template!$O$74,\"\")","v":""},{"$f":"IF(LEFT(Template!$O$74,2)=\"GR\",Template!$O$74,\"\")","v":""},null,null,{"$f":"IF(Template!$AC$74<>\"\",Template!$AC$74,\"\")","v":""},null,{"$f":"IF(Template!$Y$74<>\"\",Template!$Y$74,\"\")","v":""},{"$f":"IF(Template!$Z$74<>\"\",Template!$Z$74,\"\")","v":""},{"$f":"IF(Template!$AA$74<>\"\",Template!$AA$74,\"\")","v":""},{"$f":"IF(Template!$AD$74=\"Yes\",Template!$AD$74,\"\")","v":""},null,null,null,{"$f":"IF(LEFT(Template!$Q$74,2)=\"BK\",Template!$Q$74,\"\")","v":""}]
[null,{"$f":"Template!$L$75","v":0},68,{"$f":"IF(Template!$AB$75<>\"\",INDEX(Worktags!$B$4:$D$36,MATCH(Template!$AB$75,Worktags!$C$4:$C$36,0),1),\"\")","v":""},{"$f":"IF(Template!$P$75<>\"\",Template!$P$75,\"\")","v":""},"BYU_Child",null,25.69,null,null,null,null,{"$f":"IF(Template!$R$75<>\"\",Template!$R$75,\"\")","v":""},{"$f":"IF(Template!$AE$75<>\"\",Template!$AE$75,\"\")","v":""},{"$f":"IF(LEFT(Template!$Q$75,2)=\"SC\",Template!$Q$75,\"\")","v":""},{"$f":"IF(LEFT(Template!$Q$75,2)=\"RC\",Template!$Q$75,\"\")","v":""},{"$f":"IF(LEFT(Template!$O$75,2)=\"CC\",Template!$O$75,\"\")","v":""},{"$f":"IF(LEFT(Template!$O$75,2)=\"AC\",Template!$O$75,\"\")","v":""},{"$f":"IF(LEFT(Template!$O$75,2)=\"GF\",Template!$O$75,\"\")","v":""},{"$f":"IF(LEFT(Template!$O$75,2)=\"GR\",Template!$O$75,\"\")","v":""},null,null,{"$f":"IF(Template!$AC$75<>\"\",Template!$AC$75,\"\")","v":""},null,{"$f":"IF(Template!$Y$75<>\"\",Template!$Y$75,\"\")","v":""},{"$f":"IF(Template!$Z$75<>\"\",Template!$Z$75,\"\")","v":""},{"$f":"IF(Template!$AA$75<>\"\",Template!$AA$75,\"\")","v":""},{"$f":"IF(Template!$AD$75=\"Yes\",Template!$AD$75,\"\")","v":""},null,null,null,{"$f":"IF(LEFT(Template!$Q$75,2)=\"BK\",Template!$Q$75,\"\")","v":""}]
[null,{"$f":"Template!$L$76","v":0},69,{"$f":"IF(Template!$AB$76<>\"\",INDEX(Worktags!$B$4:$D$36,MATCH(Template!$AB$76,Worktags!$C$4:$C$36,0),1),\"\")","v":""},{"$f":"IF(Template!$P$76<>\"\",Template!$P$76,\"\")","v":""},"BYU_Child",null,17.86,null,null,null,null,{"$f":"IF(Template!$R$76<>\"\",Template!$R$76,\"\")","v":""},{"$f":"IF(Template!$AE$76<>\"\",Template!$AE$76,\"\")","v":""},{"$f":"IF(LEFT(Template!$Q$76,2)=\"SC\",Template!$Q$76,\"\")","v":""},{"$f":"IF(LEFT(Template!$Q$76,2)=\"RC\",Template!$Q$76,\"\")","v":""},{"$f":"IF(LEFT(Template!$O$76,2)=\"CC\",Template!$O$76,\"\")","v":""},{"$f":"IF(LEFT(Template!$O$76,2)=\"AC\",Template!$O$76,\"\")","v":""},{"$f":"IF(LEFT(Template!$O$76,2)=\"GF\",Template!$O$76,\"\")","v":""},{"$f":"IF(LEFT(Template!$O$76,2)=\"GR\",Template!$O$76,\"\")","v":""},null,null,{"$f":"IF(Template!$AC$76<>\"\",Template!$AC$76,\"\")","v":""},null,{"$f":"IF(Template!$Y$76<>\"\",Template!$Y$76,\"\")","v":""},{"$f":"IF(Template!$Z$76<>\"\",Template!$Z$76,\"\")","v":""},{"$f":"IF(Template!$AA$76<>\"\",Template!$AA$76,\"\")","v":""},{"$f":"IF(Template!$AD$76=\"Yes\",Template!$AD$76,\"\")","v":""},null,null,null,{"$f":"IF(LEFT(Template!$Q$76,2)=\"BK\",Template!$Q$76,\"\")","v":""}]
[null,{"$f":"Template!$L$77","v":0},70,{"$f":"IF(Template!$AB$77<>\"\",INDEX(Worktags!$B$4:$D$36,MATCH(Template!$AB$77,Worktags!$C$4:$C$36,0),1),\"\")","v":""},{"$f":"IF(Template!$P$77<>\"\",Template!$P$77,\"\")","v":""},"BYU_Child",null,0.49,null,null,null,null,{"$f":"IF(Template!$R$77<>\"\",Template!$R$77,\"\")","v":""},{"$f":"IF(Template!$AE$77<>\"\",Template!$AE$77,\"\")","v":""},{"$f":"IF(LEFT(Template!$Q$77,2)=\"SC\",Template!$Q$77,\"\")","v":""},{"$f":"IF(LEFT(Template!$Q$77,2)=\"RC\",Template!$Q$77,\"\")","v":""},{"$f":"IF(LEFT(Template!$O$77,2)=\"CC\",Template!$O$77,\"\")","v":""},{"$f":"IF(LEFT(Template!$O$77,2)=\"AC\",Template!$O$77,\"\")","v":""},{"$f":"IF(LEFT(Template!$O$77,2)=\"GF\",Template!$O$77,\"\")","v":""},{"$f":"IF(LEFT(Template!$O$77,2)=\"GR\",Template!$O$77,\"\")","v":""},null,null,{"$f":"IF(Template!$AC$77<>\"\",Template!$AC$77,\"\")","v":""},null,{"$f":"IF(Template!$Y$77<>\"\",Template!$Y$77,\"\")","v":""},{"$f":"IF(Template!$Z$77<>\"\",Template!$Z$77,\"\")","v":""},{"$f":"IF(Template!$AA$77<>\"\",Template!$AA$77,\"\")","v":""},{"$f":"IF(Template!$AD$77=\"Yes\",Template!$AD$77,\"\")","v":""},null,null,null,{"$f":"IF(LEFT(Template!$Q$77,2)=\"BK\",Template!$Q$77,\"\")","v":""}]
[null,{"$f":"Template!$L$78","v":0},71,{"$f":"IF(Template!$AB$78<>\"\",INDEX(Worktags!$B$4:$D$36,MATCH(Template!$AB$78,Worktags!$C$4:$C$36,0),1),\"\")","v":""},{"$f":"IF(Template!$P$78<>\"\",Template!$P$78,\"\")","v":""},"BYU_Child",14.45,null,null,null,null,null,{"$f":"IF(Template!$R$78<>\"\",Template!$R$78,\"\")","v":""},{"$f":"IF(Template!$AE$78<>\"\",Template!$AE$78,\"\")","v":""},{"$f":"IF(LEFT(Template!$Q$78,2)=\"SC\",Template!$Q$78,\"\")","v":""},{"$f":"IF(LEFT(Template!$Q$78,2)=\"RC\",Template!$Q$78,\"\")","v":""},{"$f":"IF(LEFT(Template!$O$78,2)=\"CC\",Template!$O$78,\"\")","v":""},{"$f":"IF(LEFT(Template!$O$78,2)=\"AC\",Template!$O$78,\"\")","v":""},{"$f":"IF(LEFT(Template!$O$78,2)=\"GF\",Template!$O$78,\"\")","v":""},{"$f":"IF(LEFT(Template!$O$78,2)=\"GR\",Template!$O$78,\"\")","v":""},null,null,{"$f":"IF(Template!$AC$78<>\"\",Template!$AC$78,\"\")","v":""},null,{"$f":"IF(Template!$Y$78<>\"\",Template!$Y$78,\"\")","v":""},{"$f":"IF(Template!$Z$78<>\"\",Template!$Z$78,\"\")","v":""},{"$f":"IF(Template!$AA$78<>\"\",Template!$AA$78,\"\")","v":""},{"$f":"IF(Template!$AD$78=\"Yes\",Template!$AD$78,\"\")","v":""},null,null,null,{"$f":"IF(LEFT(Template!$Q$78,2)=\"BK\",Template!$Q$78,\"\")","v":""}]
[null,{"$f":"Template!$L$79","v":0},72,{"$f":"IF(Template!$AB$79<>\"\",INDEX(Worktags!$B$4:$D$36,MATCH(Template!$AB$79,Worktags!$C$4:$C$36,0),1),\"\")","v":""},{"$f":"IF(Template!$P$79<>\"\",Template!$P$79,\"\")","v":""},"BYU_Child",7.66,null,null,null,null,null,{"$f":"IF(Template!$R$79<>\"\",Template!$R$79,\"\")","v":""},{"$f":"IF(Template!$AE$79<>\"\",Template!$AE$79,\"\")","v":""},{"$f":"IF(LEFT(Template!$Q$79,2)=\"SC\",Template!$Q$79,\"\")","v":""},{"$f":"IF(LEFT(Template!$Q$79,2)=\"RC\",Template!$Q$79,\"\")","v":""},{"$f":"IF(LEFT(Template!$O$79,2)=\"CC\",Template!$O$79,\"\")","v":""},{"$f":"IF(LEFT(Template!$O$79,2)=\"AC\",Template!$O$79,\"\")","v":""},{"$f":"IF(LEFT(Template!$O$79,2)=\"GF\",Template!$O$79,\"\")","v":""},{"$f":"IF(LEFT(Template!$O$79,2)=\"GR\",Template!$O$79,\"\")","v":""},null,null,{"$f":"IF(Template!$AC$79<>\"\",Template!$AC$79,\"\")","v":""},null,{"$f":"IF(Template!$Y$79<>\"\",Template!$Y$79,\"\")","v":""},{"$f":"IF(Template!$Z$79<>\"\",Template!$Z$79,\"\")","v":""},{"$f":"IF(Template!$AA$79<>\"\",Template!$AA$79,\"\")","v":""},{"$f":"IF(Template!$AD$79=\"Yes\",Template!$AD$79,\"\")","v":""},null,null,null,{"$f":"IF(LEFT(Template!$Q$79,2)=\"BK\",Template!$Q$79,\"\")","v":""}]
[null,{"$f":"Template!$L$80","v":0},73,{"$f":"IF(Template!$AB$80<>\"\",INDEX(Worktags!$B$4:$D$36,MATCH(Template!$AB$80,Worktags!$C$4:$C$36,0),1),\"\")","v":""},{"$f":"IF(Template!$P$80<>\"\",Template!$P$80,\"\")","v":""},"BYU_Child",null,4.25,null,null,null,null,{"$f":"IF(Template!$R$80<>\"\",Template!$R$80,\"\")","v":""},{"$f":"IF(Template!$AE$80<>\"\",Template!$AE$80,\"\")","v":""},{"$f":"IF(LEFT(Template!$Q$80,2)=\"SC\",Template!$Q$80,\"\")","v":""},{"$f":"IF(LEFT(Template!$Q$80,2)=\"RC\",Template!$Q$80,\"\")","v":""},{"$f":"IF(LEFT(Template!$O$80,2)=\"CC\",Template!$O$80,\"\")","v":""},{"$f":"IF(LEFT(Template!$O$80,2)=\"AC\",Template!$O$80,\"\")","v":""},{"$f":"IF(LEFT(Template!$O$80,2)=\"GF\",Template!$O$80,\"\")","v":""},{"$f":"IF(LEFT(Template!$O$80,2)=\"GR\",Template!$O$80,\"\")","v":""},null,null,{"$f":"IF(Template!$AC$80<>\"\",Template!$AC$80,\"\")","v":""},null,{"$f":"IF(Template!$Y$80<>\"\",Template!$Y$80,\"\")","v":""},{"$f":"IF(Template!$Z$80<>\"\",Template!$Z$80,\"\")","v":""},{"$f":"IF(Template!$AA$80<>\"\",Template!$AA$80,\"\")","v":""},{"$f":"IF(Template!$AD$80=\"Yes\",Template!$AD$80,\"\")","v":""},null,null,null,{"$f":"IF(LEFT(Template!$Q$80,2)=\"BK\",Template!$Q$80,\"\")","v":""}]
[null,{"$f":"Template!$L$81","v":0},74,{"$f":"IF(Template!$AB$81<>\"\",INDEX(Worktags!$B$4:$D$36,MATCH(Template!$AB$81,Worktags!$C$4:$C$36,0),1),\"\")","v":""},{"$f":"IF(Template!$P$81<>\"\",Template!$P$81,\"\")","v":""},"BYU_Child",null,5.25,null,null,null,null,{"$f":"IF(Template!$R$81<>\"\",Template!$R$81,\"\")","v":""},{"$f":"IF(Template!$AE$81<>\"\",Template!$AE$81,\"\")","v":""},{"$f":"IF(LEFT(Template!$Q$81,2)=\"SC\",Template!$Q$81,\"\")","v":""},{"$f":"IF(LEFT(Template!$Q$81,2)=\"RC\",Template!$Q$81,\"\")","v":""},{"$f":"IF(LEFT(Template!$O$81,2)=\"CC\",Template!$O$81,\"\")","v":""},{"$f":"IF(LEFT(Template!$O$81,2)=\"AC\",Template!$O$81,\"\")","v":""},{"$f":"IF(LEFT(Template!$O$81,2)=\"GF\",Template!$O$81,\"\")","v":""},{"$f":"IF(LEFT(Template!$O$81,2)=\"GR\",Template!$O$81,\"\")","v":""},null,null,{"$f":"IF(Template!$AC$81<>\"\",Template!$AC$81,\"\")","v":""},null,{"$f":"IF(Template!$Y$81<>\"\",Template!$Y$81,\"\")","v":""},{"$f":"IF(Template!$Z$81<>\"\",Template!$Z$81,\"\")","v":""},{"$f":"IF(Template!$AA$81<>\"\",Template!$AA$81,\"\")","v":""},{"$f":"IF(Template!$AD$81=\"Yes\",Template!$AD$81,\"\")","v":""},null,null,null,{"$f":"IF(LEFT(Template!$Q$81,2)=\"BK\",Template!$Q$81,\"\")","v":""}]
[null,{"$f":"Template!$L$82","v":0},75,{"$f":"IF(Template!$AB$82<>\"\",INDEX(Worktags!$B$4:$D$36,MATCH(Template!$AB$82,Worktags!$C$4:$C$36,0),1),\"\")","v":""},{"$f":"IF(Template!$P$82<>\"\",Template!$P$82,\"\")","v":""},"BYU_Child",3.35,null,null,null,null,null,{"$f":"IF(Template!$R$82<>\"\",Template!$R$82,\"\")","v":""},{"$f":"IF(Template!$AE$82<>\"\",Template!$AE$82,\"\")","v":""},{"$f":"IF(LEFT(Template!$Q$82,2)=\"SC\",Template!$Q$82,\"\")","v":""},{"$f":"IF(LEFT(Template!$Q$82,2)=\"RC\",Template!$Q$82,\"\")","v":""},{"$f":"IF(LEFT(Template!$O$82,2)=\"CC\",Template!$O$82,\"\")","v":""},{"$f":"IF(LEFT(Template!$O$82,2)=\"AC\",Template!$O$82,\"\")","v":""},{"$f":"IF(LEFT(Template!$O$82,2)=\"GF\",Template!$O$82,\"\")","v":""},{"$f":"IF(LEFT(Template!$O$82,2)=\"GR\",Template!$O$82,\"\")","v":""},null,null,{"$f":"IF(Template!$AC$82<>\"\",Template!$AC$82,\"\")","v":""},null,{"$f":"IF(Template!$Y$82<>\"\",Template!$Y$82,\"\")","v":""},{"$f":"IF(Template!$Z$82<>\"\",Template!$Z$82,\"\")","v":""},{"$f":"IF(Template!$AA$82<>\"\",Template!$AA$82,\"\")","v":""},{"$f":"IF(Template!$AD$82=\"Yes\",Template!$AD$82,\"\")","v":""},null,null,null,{"$f":"IF(LEFT(Template!$Q$82,2)=\"BK\",Template!$Q$82,\"\")","v":""}]
[null,{"$f":"Template!$L$83","v":0},76,{"$f":"IF(Template!$AB$83<>\"\",INDEX(Worktags!$B$4:$D$36,MATCH(Template!$AB$83,Worktags!$C$4:$C$36,0),1),\"\")","v":""},{"$f":"IF(Template!$P$83<>\"\",Template!$P$83,\"\")","v":""},"BYU_Child",2.15,null,null,null,null,null,{"$f":"IF(Template!$R$83<>\"\",Template!$R$83,\"\")","v":""},{"$f":"IF(Template!$AE$83<>\"\",Template!$AE$83,\"\")","v":""},{"$f":"IF(LEFT(Template!$Q$83,2)=\"SC\",Template!$Q$83,\"\")","v":""},{"$f":"IF(LEFT(Template!$Q$83,2)=\"RC\",Template!$Q$83,\"\")","v":""},{"$f":"IF(LEFT(Template!$O$83,2)=\"CC\",Template!$O$83,\"\")","v":""},{"$f":"IF(LEFT(Template!$O$83,2)=\"AC\",Template!$O$83,\"\")","v":""},{"$f":"IF(LEFT(Template!$O$83,2)=\"GF\",Template!$O$83,\"\")","v":""},{"$f":"IF(LEFT(Template!$O$83,2)=\"GR\",Template!$O$83,\"\")","v":""},null,null,{"$f":"IF(Template!$AC$83<>\"\",Template!$AC$83,\"\")","v":""},null,{"$f":"IF(Template!$Y$83<>\"\",Template!$Y$83,\"\")","v":""},{"$f":"IF(Template!$Z$83<>\"\",Template!$Z$83,\"\")","v":""},{"$f":"IF(Template!$AA$83<>\"\",Template!$AA$83,\"\")","v":""},{"$f":"IF(Template!$AD$83=\"Yes\",Template!$AD$83,\"\")","v":""},null,null,null,{"$f":"IF(LEFT(Template!$Q$83,2)=\"BK\",Template!$Q$83,\"\")","v":""}]
[null,{"$f":"Template!$L$84","v":0},77,{"$f":"IF(Template!$AB$84<>\"\",INDEX(Worktags!$B$4:$D$36,MATCH(Template!$AB$84,Worktags!$C$4:$C$36,0),1),\"\")","v":""},{"$f":"IF(Template!$P$84<>\"\",Template!$P$84,\"\")","v":""},"BYU_Child",null,5.12,null,null,null,null,{"$f":"IF(Template!$R$84<>\"\",Template!$R$84,\"\")","v":""},{"$f":"IF(Template!$AE$84<>\"\",Template!$AE$84,\"\")","v":""},{"$f":"IF(LEFT(Template!$Q$84,2)=\"SC\",Template!$Q$84,\"\")","v":""},{"$f":"IF(LEFT(Template!$Q$84,2)=\"RC\",Template!$Q$84,\"\")","v":""},{"$f":"IF(LEFT(Template!$O$84,2)=\"CC\",Template!$O$84,\"\")","v":""},{"$f":"IF(LEFT(Template!$O$84,2)=\"AC\",Template!$O$84,\"\")","v":""},{"$f":"IF(LEFT(Template!$O$84,2)=\"GF\",Template!$O$84,\"\")","v":""},{"$f":"IF(LEFT(Template!$O$84,2)=\"GR\",Template!$O$84,\"\")","v":""},null,null,{"$f":"IF(Template!$AC$84<>\"\",Template!$AC$84,\"\")","v":""},null,{"$f":"IF(Template!$Y$84<>\"\",Template!$Y$84,\"\")","v":""},{"$f":"IF(Template!$Z$84<>\"\",Template!$Z$84,\"\")","v":""},{"$f":"IF(Template!$AA$84<>\"\",Template!$AA$84,\"\")","v":""},{"$f":"IF(Template!$AD$84=\"Yes\",Template!$AD$84,\"\")","v":""},null,null,null,{"$f":"IF(LEFT(Template!$Q$84,2)=\"BK\",Template!$Q$84,\"\")","v":""}]
[null,{"$f":"Template!$L$85","v":0},78,{"$f":"IF(Template!$AB$85<>\"\",INDEX(Worktags!$B$4:$D$36,MATCH(Template!$AB$85,Worktags!$C$4:$C$36,0),1),\"\")","v":""},{"$f":"IF(Template!$P$85<>\"\",Template!$P$85,\"\")","v":""},"BYU_Child",null,12.44,null,null,null,null,{"$f":"IF(Template!$R$85<>\"\",Template!$R$85,\"\")","v":""},{"$f":"IF(Template!$AE$85<>\"\",Template!$AE$85,\"\")","v":""},{"$f":"IF(LEFT(Template!$Q$85,2)=\"SC\",Template!$Q$85,\"\")","v":""},{"$f":"IF(LEFT(Template!$Q$85,2)=\"RC\",Template!$Q$85,\"\")","v":""},{"$f":"IF(LEFT(Template!$O$85,2)=\"CC\",Template!$O$85,\"\")","v":""},{"$f":"IF(LEFT(Template!$O$85,2)=\"AC\",Template!$O$85,\"\")","v":""},{"$f":"IF(LEFT(Template!$O$85,2)=\"GF\",Template!$O$85,\"\")","v":""},{"$f":"IF(LEFT(Template!$O$85,2)=\"GR\",Template!$O$85,\"\")","v":""},null,null,{"$f":"IF(Template!$AC$85<>\"\",Template!$AC$85,\"\")","v":""},null,{"$f":"IF(Template!$Y$85<>\"\",Template!$Y$85,\"\")","v":""},{"$f":"IF(Template!$Z$85<>\"\",Template!$Z$85,\"\")","v":""},{"$f":"IF(Template!$AA$85<>\"\",Template!$AA$85,\"\")","v":""},{"$f":"IF(Template!$AD$85=\"Yes\",Template!$AD$85,\"\")","v":""},null,null,null,{"$f":"IF(LEFT(Template!$Q$85,2)=\"BK\",Template!$Q$85,\"\")","v":""}]
[null,{"$f":"Template!$L$86","v":0},79,{"$f":"IF(Template!$AB$86<>\"\",INDEX(Worktags!$B$4:$D$36,MATCH(Template!$AB$86,Worktags!$C$4:$C$36,0),1),\"\")","v":""},{"$f":"IF(Template!$P$86<>\"\",Template!$P$86,\"\")","v":""},"BYU_Child",22.09,null,null,null,null,null,{"$f":"IF(Template!$R$86<>\"\",Template!$R$86,\"\")","v":""},{"$f":"IF(Template!$AE$86<>\"\",Template!$AE$86,\"\")","v":""},{"$f":"IF(LEFT(Template!$Q$86,2)=\"SC\",Template!$Q$86,\"\")","v":""},{"$f":"IF(LEFT(Template!$Q$86,2)=\"RC\",Template!$Q$86,\"\")","v":""},{"$f":"IF(LEFT(Template!$O$86,2)=\"CC\",Template!$O$86,\"\")","v":""},{"$f":"IF(LEFT(Template!$O$86,2)=\"AC\",Template!$O$86,\"\")","v":""},{"$f":"IF(LEFT(Template!$O$86,2)=\"GF\",Template!$O$86,\"\")","v":""},{"$f":"IF(LEFT(Template!$O$86,2)=\"GR\",Template!$O$86,\"\")","v":""},null,null,{"$f":"IF(Template!$AC$86<>\"\",Template!$AC$86,\"\")","v":""},null,{"$f":"IF(Template!$Y$86<>\"\",Template!$Y$86,\"\")","v":""},{"$f":"IF(Template!$Z$86<>\"\",Template!$Z$86,\"\")","v":""},{"$f":"IF(Template!$AA$86<>\"\",Template!$AA$86,\"\")","v":""},{"$f":"IF(Template!$AD$86=\"Yes\",Template!$AD$86,\"\")","v":""},null,null,null,{"$f":"IF(LEFT(Template!$Q$86,2)=\"BK\",Template!$Q$86,\"\")","v":""}]
[null,{"$f":"Template!$L$87","v":0},80,{"$f":"IF(Template!$AB$87<>\"\",INDEX(Worktags!$B$4:$D$36,MATCH(Template!$AB$87,Worktags!$C$4:$C$36,0),1),\"\")","v":""},{"$f":"IF(Template!$P$87<>\"\",Template!$P$87,\"\")","v":""},"BYU_Child",null,79.72,null,null,null,null,{"$f":"IF(Template!$R$87<>\"\",Template!$R$87,\"\")","v":""},{"$f":"IF(Template!$AE$87<>\"\",Template!$AE$87,\"\")","v":""},{"$f":"IF(LEFT(Template!$Q$87,2)=\"SC\",Template!$Q$87,\"\")","v":""},{"$f":"IF(LEFT(Template!$Q$87,2)=\"RC\",Template!$Q$87,\"\")","v":""},{"$f":"IF(LEFT(Template!$O$87,2)=\"CC\",Template!$O$87,\"\")","v":""},{"$f":"IF(LEFT(Template!$O$87,2)=\"AC\",Template!$O$87,\"\")","v":""},{"$f":"IF(LEFT(Template!$O$87,2)=\"GF\",Template!$O$87,\"\")","v":""},{"$f":"IF(LEFT(Template!$O$87,2)=\"GR\",Template!$O$87,\"\")","v":""},null,null,{"$f":"IF(Template!$AC$87<>\"\",Template!$AC$87,\"\")","v":""},null,{"$f":"IF(Template!$Y$87<>\"\",Template!$Y$87,\"\")","v":""},{"$f":"IF(Template!$Z$87<>\"\",Template!$Z$87,\"\")","v":""},{"$f":"IF(Template!$AA$87<>\"\",Template!$AA$87,\"\")","v":""},{"$f":"IF(Template!$AD$87=\"Yes\",Template!$AD$87,\"\")","v":""},null,null,null,{"$f":"IF(LEFT(Template!$Q$87,2)=\"BK\",Template!$Q$87,\"\")","v":""}]
[null,{"$f":"Template!$L$88","v":0},81,{"$f":"IF(Template!$AB$88<>\"\",INDEX(Worktags!$B$4:$D$36,MATCH(Template!$AB$88,Worktags!$C$4:$C$36,0),1),\"\")","v":""},{"$f":"IF(Template!$P$88<>\"\",Template!$P$88,\"\")","v":""},"BYU_Child",34.409999999999997,null,null,null,null,null,{"$f":"IF(Template!$R$88<>\"\",Template!$R$88,\"\")","v":""},{"$f":"IF(Template!$AE$88<>\"\",Template!$AE$88,\"\")","v":""},{"$f":"IF(LEFT(Template!$Q$88,2)=\"SC\",Template!$Q$88,\"\")","v":""},{"$f":"IF(LEFT(Template!$Q$88,2)=\"RC\",Template!$Q$88,\"\")","v":""},{"$f":"IF(LEFT(Template!$O$88,2)=\"CC\",Template!$O$88,\"\")","v":""},{"$f":"IF(LEFT(Template!$O$88,2)=\"AC\",Template!$O$88,\"\")","v":""},{"$f":"IF(LEFT(Template!$O$88,2)=\"GF\",Template!$O$88,\"\")","v":""},{"$f":"IF(LEFT(Template!$O$88,2)=\"GR\",Template!$O$88,\"\")","v":""},null,null,{"$f":"IF(Template!$AC$88<>\"\",Template!$AC$88,\"\")","v":""},null,{"$f":"IF(Template!$Y$88<>\"\",Template!$Y$88,\"\")","v":""},{"$f":"IF(Template!$Z$88<>\"\",Template!$Z$88,\"\")","v":""},{"$f":"IF(Template!$AA$88<>\"\",Template!$AA$88,\"\")","v":""},{"$f":"IF(Template!$AD$88=\"Yes\",Template!$AD$88,\"\")","v":""},null,null,null,{"$f":"IF(LEFT(Template!$Q$88,2)=\"BK\",Template!$Q$88,\"\")","v":""}]
[null,{"$f":"Template!$L$89","v":0},82,{"$f":"IF(Template!$AB$89<>\"\",INDEX(Worktags!$B$4:$D$36,MATCH(Template!$AB$89,Worktags!$C$4:$C$36,0),1),\"\")","v":""},{"$f":"IF(Template!$P$89<>\"\",Template!$P$89,\"\")","v":""},"BYU_Child",5.26,null,null,null,null,null,{"$f":"IF(Template!$R$89<>\"\",Template!$R$89,\"\")","v":""},{"$f":"IF(Template!$AE$89<>\"\",Template!$AE$89,\"\")","v":""},{"$f":"IF(LEFT(Template!$Q$89,2)=\"SC\",Template!$Q$89,\"\")","v":""},{"$f":"IF(LEFT(Template!$Q$89,2)=\"RC\",Template!$Q$89,\"\")","v":""},{"$f":"IF(LEFT(Template!$O$89,2)=\"CC\",Template!$O$89,\"\")","v":""},{"$f":"IF(LEFT(Template!$O$89,2)=\"AC\",Template!$O$89,\"\")","v":""},{"$f":"IF(LEFT(Template!$O$89,2)=\"GF\",Template!$O$89,\"\")","v":""},{"$f":"IF(LEFT(Template!$O$89,2)=\"GR\",Template!$O$89,\"\")","v":""},null,null,{"$f":"IF(Template!$AC$89<>\"\",Template!$AC$89,\"\")","v":""},null,{"$f":"IF(Template!$Y$89<>\"\",Template!$Y$89,\"\")","v":""},{"$f":"IF(Template!$Z$89<>\"\",Template!$Z$89,\"\")","v":""},{"$f":"IF(Template!$AA$89<>\"\",Template!$AA$89,\"\")","v":""},{"$f":"IF(Template!$AD$89=\"Yes\",Template!$AD$89,\"\")","v":""},null,null,null,{"$f":"IF(LEFT(Template!$Q$89,2)=\"BK\",Template!$Q$89,\"\")","v":""}]
[null,{"$f":"Template!$L$90","v":0},83,{"$f":"IF(Template!$AB$90<>\"\",INDEX(Worktags!$B$4:$D$36,MATCH(Template!$AB$90,Worktags!$C$4:$C$36,0),1),\"\")","v":""},{"$f":"IF(Template!$P$90<>\"\",Template!$P$90,\"\")","v":""},"BYU_Child",null,23.41,null,null,null,null,{"$f":"IF(Template!$R$90<>\"\",Template!$R$90,\"\")","v":""},{"$f":"IF(Template!$AE$90<>\"\",Template!$AE$90,\"\")","v":""},{"$f":"IF(LEFT(Template!$Q$90,2)=\"SC\",Template!$Q$90,\"\")","v":""},{"$f":"IF(LEFT(Template!$Q$90,2)=\"RC\",Template!$Q$90,\"\")","v":""},{"$f":"IF(LEFT(Template!$O$90,2)=\"CC\",Template!$O$90,\"\")","v":""},{"$f":"IF(LEFT(Template!$O$90,2)=\"AC\",Template!$O$90,\"\")","v":""},{"$f":"IF(LEFT(Template!$O$90,2)=\"GF\",Template!$O$90,\"\")","v":""},{"$f":"IF(LEFT(Template!$O$90,2)=\"GR\",Template!$O$90,\"\")","v":""},null,null,{"$f":"IF(Template!$AC$90<>\"\",Template!$AC$90,\"\")","v":""},null,{"$f":"IF(Template!$Y$90<>\"\",Template!$Y$90,\"\")","v":""},{"$f":"IF(Template!$Z$90<>\"\",Template!$Z$90,\"\")","v":""},{"$f":"IF(Template!$AA$90<>\"\",Template!$AA$90,\"\")","v":""},{"$f":"IF(Template!$AD$90=\"Yes\",Template!$AD$90,\"\")","v":""},null,null,null,{"$f":"IF(LEFT(Template!$Q$90,2)=\"BK\",Template!$Q$90,\"\")","v":""}]
[null,{"$f":"Template!$L$91","v":0},84,{"$f":"IF(Template!$AB$91<>\"\",INDEX(Worktags!$B$4:$D$36,MATCH(Template!$AB$91,Worktags!$C$4:$C$36,0),1),\"\")","v":""},{"$f":"IF(Template!$P$91<>\"\",Template!$P$91,\"\")","v":""},"BYU_Child",2.96,null,null,null,null,null,{"$f":"IF(Template!$R$91<>\"\",Template!$R$91,\"\")","v":""},{"$f":"IF(Template!$AE$91<>\"\",Template!$AE$91,\"\")","v":""},{"$f":"IF(LEFT(Template!$Q$91,2)=\"SC\",Template!$Q$91,\"\")","v":""},{"$f":"IF(LEFT(Template!$Q$91,2)=\"RC\",Template!$Q$91,\"\")","v":""},{"$f":"IF(LEFT(Template!$O$91,2)=\"CC\",Template!$O$91,\"\")","v":""},{"$f":"IF(LEFT(Template!$O$91,2)=\"AC\",Template!$O$91,\"\")","v":""},{"$f":"IF(LEFT(Template!$O$91,2)=\"GF\",Template!$O$91,\"\")","v":""},{"$f":"IF(LEFT(Template!$O$91,2)=\"GR\",Template!$O$91,\"\")","v":""},null,null,{"$f":"IF(Template!$AC$91<>\"\",Template!$AC$91,\"\")","v":""},null,{"$f":"IF(Template!$Y$91<>\"\",Template!$Y$91,\"\")","v":""},{"$f":"IF(Template!$Z$91<>\"\",Template!$Z$91,\"\")","v":""},{"$f":"IF(Template!$AA$91<>\"\",Template!$AA$91,\"\")","v":""},{"$f":"IF(Template!$AD$91=\"Yes\",Template!$AD$91,\"\")","v":""},null,null,null,{"$f":"IF(LEFT(Template!$Q$91,2)=\"BK\",Template!$Q$91,\"\")","v":""}]
[null,{"$f":"Template!$L$92","v":0},85,{"$f":"IF(Template!$AB$92<>\"\",INDEX(Worktags!$B$4:$D$36,MATCH(Template!$AB$92,Worktags!$C$4:$C$36,0),1),\"\")","v":""},{"$f":"IF(Template!$P$92<>\"\",Template!$P$92,\"\")","v":""},"BYU_Child",null,0.1,null,null,null,null,{"$f":"IF(Template!$R$92<>\"\",Template!$R$92,\"\")","v":""},{"$f":"IF(Template!$AE$92<>\"\",Template!$AE$92,\"\")","v":""},{"$f":"IF(LEFT(Template!$Q$92,2)=\"SC\",Template!$Q$92,\"\")","v":""},{"$f":"IF(LEFT(Template!$Q$92,2)=\"RC\",Template!$Q$92,\"\")","v":""},{"$f":"IF(LEFT(Template!$O$92,2)=\"CC\",Template!$O$92,\"\")","v":""},{"$f":"IF(LEFT(Template!$O$92,2)=\"AC\",Template!$O$92,\"\")","v":""},{"$f":"IF(LEFT(Template!$O$92,2)=\"GF\",Template!$O$92,\"\")","v":""},{"$f":"IF(LEFT(Template!$O$92,2)=\"GR\",Template!$O$92,\"\")","v":""},null,null,{"$f":"IF(Template!$AC$92<>\"\",Template!$AC$92,\"\")","v":""},null,{"$f":"IF(Template!$Y$92<>\"\",Template!$Y$92,\"\")","v":""},{"$f":"IF(Template!$Z$92<>\"\",Template!$Z$92,\"\")","v":""},{"$f":"IF(Template!$AA$92<>\"\",Template!$AA$92,\"\")","v":""},{"$f":"IF(Template!$AD$92=\"Yes\",Template!$AD$92,\"\")","v":""},null,null,null,{"$f":"IF(LEFT(Template!$Q$92,2)=\"BK\",Template!$Q$92,\"\")","v":""}]
[null,{"$f":"Template!$L$93","v":0},86,{"$f":"IF(Template!$AB$93<>\"\",INDEX(Worktags!$B$4:$D$36,MATCH(Template!$AB$93,Worktags!$C$4:$C$36,0),1),\"\")","v":""},{"$f":"IF(Template!$P$93<>\"\",Template!$P$93,\"\")","v":""},"BYU_Child",null,15.2,null,null,null,null,{"$f":"IF(Template!$R$93<>\"\",Template!$R$93,\"\")","v":""},{"$f":"IF(Template!$AE$93<>\"\",Template!$AE$93,\"\")","v":""},{"$f":"IF(LEFT(Template!$Q$93,2)=\"SC\",Template!$Q$93,\"\")","v":""},{"$f":"IF(LEFT(Template!$Q$93,2)=\"RC\",Template!$Q$93,\"\")","v":""},{"$f":"IF(LEFT(Template!$O$93,2)=\"CC\",Template!$O$93,\"\")","v":""},{"$f":"IF(LEFT(Template!$O$93,2)=\"AC\",Template!$O$93,\"\")","v":""},{"$f":"IF(LEFT(Template!$O$93,2)=\"GF\",Template!$O$93,\"\")","v":""},{"$f":"IF(LEFT(Template!$O$93,2)=\"GR\",Template!$O$93,\"\")","v":""},null,null,{"$f":"IF(Template!$AC$93<>\"\",Template!$AC$93,\"\")","v":""},null,{"$f":"IF(Template!$Y$93<>\"\",Template!$Y$93,\"\")","v":""},{"$f":"IF(Template!$Z$93<>\"\",Template!$Z$93,\"\")","v":""},{"$f":"IF(Template!$AA$93<>\"\",Template!$AA$93,\"\")","v":""},{"$f":"IF(Template!$AD$93=\"Yes\",Template!$AD$93,\"\")","v":""},null,null,null,{"$f":"IF(LEFT(Template!$Q$93,2)=\"BK\",Template!$Q$93,\"\")","v":""}]
[null,{"$f":"Template!$L$94","v":0},87,{"$f":"IF(Template!$AB$94<>\"\",INDEX(Worktags!$B$4:$D$36,MATCH(Template!$AB$94,Worktags!$C$4:$C$36,0),1),\"\")","v":""},{"$f":"IF(Template!$P$94<>\"\",Template!$P$94,\"\")","v":""},"BYU_Child",0.06,null,null,null,null,null,{"$f":"IF(Template!$R$94<>\"\",Template!$R$94,\"\")","v":""},{"$f":"IF(Template!$AE$94<>\"\",Template!$AE$94,\"\")","v":""},{"$f":"IF(LEFT(Template!$Q$94,2)=\"SC\",Template!$Q$94,\"\")","v":""},{"$f":"IF(LEFT(Template!$Q$94,2)=\"RC\",Template!$Q$94,\"\")","v":""},{"$f":"IF(LEFT(Template!$O$94,2)=\"CC\",Template!$O$94,\"\")","v":""},{"$f":"IF(LEFT(Template!$O$94,2)=\"AC\",Template!$O$94,\"\")","v":""},{"$f":"IF(LEFT(Template!$O$94,2)=\"GF\",Template!$O$94,\"\")","v":""},{"$f":"IF(LEFT(Template!$O$94,2)=\"GR\",Template!$O$94,\"\")","v":""},null,null,{"$f":"IF(Template!$AC$94<>\"\",Template!$AC$94,\"\")","v":""},null,{"$f":"IF(Template!$Y$94<>\"\",Template!$Y$94,\"\")","v":""},{"$f":"IF(Template!$Z$94<>\"\",Template!$Z$94,\"\")","v":""},{"$f":"IF(Template!$AA$94<>\"\",Template!$AA$94,\"\")","v":""},{"$f":"IF(Template!$AD$94=\"Yes\",Template!$AD$94,\"\")","v":""},null,null,null,{"$f":"IF(LEFT(Template!$Q$94,2)=\"BK\",Template!$Q$94,\"\")","v":""}]
[null,{"$f":"Template!$L$95","v":0},88,{"$f":"IF(Template!$AB$95<>\"\",INDEX(Worktags!$B$4:$D$36,MATCH(Template!$AB$95,Worktags!$C$4:$C$36,0),1),\"\")","v":""},{"$f":"IF(Template!$P$95<>\"\",Template!$P$95,\"\")","v":""},"BYU_Child",null,20.29,null,null,null,null,{"$f":"IF(Template!$R$95<>\"\",Template!$R$95,\"\")","v":""},{"$f":"IF(Template!$AE$95<>\"\",Template!$AE$95,\"\")","v":""},{"$f":"IF(LEFT(Template!$Q$95,2)=\"SC\",Template!$Q$95,\"\")","v":""},{"$f":"IF(LEFT(Template!$Q$95,2)=\"RC\",Template!$Q$95,\"\")","v":""},{"$f":"IF(LEFT(Template!$O$95,2)=\"CC\",Template!$O$95,\"\")","v":""},{"$f":"IF(LEFT(Template!$O$95,2)=\"AC\",Template!$O$95,\"\")","v":""},{"$f":"IF(LEFT(Template!$O$95,2)=\"GF\",Template!$O$95,\"\")","v":""},{"$f":"IF(LEFT(Template!$O$95,2)=\"GR\",Template!$O$95,\"\")","v":""},null,null,{"$f":"IF(Template!$AC$95<>\"\",Template!$AC$95,\"\")","v":""},null,{"$f":"IF(Template!$Y$95<>\"\",Template!$Y$95,\"\")","v":""},{"$f":"IF(Template!$Z$95<>\"\",Template!$Z$95,\"\")","v":""},{"$f":"IF(Template!$AA$95<>\"\",Template!$AA$95,\"\")","v":""},{"$f":"IF(Template!$AD$95=\"Yes\",Template!$AD$95,\"\")","v":""},null,null,null,{"$f":"IF(LEFT(Template!$Q$95,2)=\"BK\",Template!$Q$95,\"\")","v":""}]
[null,{"$f":"Template!$L$96","v":0},89,{"$f":"IF(Template!$AB$96<>\"\",INDEX(Worktags!$B$4:$D$36,MATCH(Template!$AB$96,Worktags!$C$4:$C$36,0),1),\"\")","v":""},{"$f":"IF(Template!$P$96<>\"\",Template!$P$96,\"\")","v":""},"BYU_Child",null,1135.83,null,null,null,null,{"$f":"IF(Template!$R$96<>\"\",Template!$R$96,\"\")","v":""},{"$f":"IF(Template!$AE$96<>\"\",Template!$AE$96,\"\")","v":""},{"$f":"IF(LEFT(Template!$Q$96,2)=\"SC\",Template!$Q$96,\"\")","v":""},{"$f":"IF(LEFT(Template!$Q$96,2)=\"RC\",Template!$Q$96,\"\")","v":""},{"$f":"IF(LEFT(Template!$O$96,2)=\"CC\",Template!$O$96,\"\")","v":""},{"$f":"IF(LEFT(Template!$O$96,2)=\"AC\",Template!$O$96,\"\")","v":""},{"$f":"IF(LEFT(Template!$O$96,2)=\"GF\",Template!$O$96,\"\")","v":""},{"$f":"IF(LEFT(Template!$O$96,2)=\"GR\",Template!$O$96,\"\")","v":""},null,null,{"$f":"IF(Template!$AC$96<>\"\",Template!$AC$96,\"\")","v":""},null,{"$f":"IF(Template!$Y$96<>\"\",Template!$Y$96,\"\")","v":""},{"$f":"IF(Template!$Z$96<>\"\",Template!$Z$96,\"\")","v":""},{"$f":"IF(Template!$AA$96<>\"\",Template!$AA$96,\"\")","v":""},{"$f":"IF(Template!$AD$96=\"Yes\",Template!$AD$96,\"\")","v":""},null,null,null,{"$f":"IF(LEFT(Template!$Q$96,2)=\"BK\",Template!$Q$96,\"\")","v":""}]
[null,{"$f":"Template!$L$97","v":0},90,{"$f":"IF(Template!$AB$97<>\"\",INDEX(Worktags!$B$4:$D$36,MATCH(Template!$AB$97,Worktags!$C$4:$C$36,0),1),\"\")","v":""},{"$f":"IF(Template!$P$97<>\"\",Template!$P$97,\"\")","v":""},"BYU_Child",null,54.96,null,null,null,null,{"$f":"IF(Template!$R$97<>\"\",Template!$R$97,\"\")","v":""},{"$f":"IF(Template!$AE$97<>\"\",Template!$AE$97,\"\")","v":""},{"$f":"IF(LEFT(Template!$Q$97,2)=\"SC\",Template!$Q$97,\"\")","v":""},{"$f":"IF(LEFT(Template!$Q$97,2)=\"RC\",Template!$Q$97,\"\")","v":""},{"$f":"IF(LEFT(Template!$O$97,2)=\"CC\",Template!$O$97,\"\")","v":""},{"$f":"IF(LEFT(Template!$O$97,2)=\"AC\",Template!$O$97,\"\")","v":""},{"$f":"IF(LEFT(Template!$O$97,2)=\"GF\",Template!$O$97,\"\")","v":""},{"$f":"IF(LEFT(Template!$O$97,2)=\"GR\",Template!$O$97,\"\")","v":""},null,null,{"$f":"IF(Template!$AC$97<>\"\",Template!$AC$97,\"\")","v":""},null,{"$f":"IF(Template!$Y$97<>\"\",Template!$Y$97,\"\")","v":""},{"$f":"IF(Template!$Z$97<>\"\",Template!$Z$97,\"\")","v":""},{"$f":"IF(Template!$AA$97<>\"\",Template!$AA$97,\"\")","v":""},{"$f":"IF(Template!$AD$97=\"Yes\",Template!$AD$97,\"\")","v":""},null,null,null,{"$f":"IF(LEFT(Template!$Q$97,2)=\"BK\",Template!$Q$97,\"\")","v":""}]
[null,{"$f":"Template!$L$98","v":0},91,{"$f":"IF(Template!$AB$98<>\"\",INDEX(Worktags!$B$4:$D$36,MATCH(Template!$AB$98,Worktags!$C$4:$C$36,0),1),\"\")","v":""},{"$f":"IF(Template!$P$98<>\"\",Template!$P$98,\"\")","v":""},"BYU_Child",null,134.44999999999999,null,null,null,null,{"$f":"IF(Template!$R$98<>\"\",Template!$R$98,\"\")","v":""},{"$f":"IF(Template!$AE$98<>\"\",Template!$AE$98,\"\")","v":""},{"$f":"IF(LEFT(Template!$Q$98,2)=\"SC\",Template!$Q$98,\"\")","v":""},{"$f":"IF(LEFT(Template!$Q$98,2)=\"RC\",Template!$Q$98,\"\")","v":""},{"$f":"IF(LEFT(Template!$O$98,2)=\"CC\",Template!$O$98,\"\")","v":""},{"$f":"IF(LEFT(Template!$O$98,2)=\"AC\",Template!$O$98,\"\")","v":""},{"$f":"IF(LEFT(Template!$O$98,2)=\"GF\",Template!$O$98,\"\")","v":""},{"$f":"IF(LEFT(Template!$O$98,2)=\"GR\",Template!$O$98,\"\")","v":""},null,null,{"$f":"IF(Template!$AC$98<>\"\",Template!$AC$98,\"\")","v":""},null,{"$f":"IF(Template!$Y$98<>\"\",Template!$Y$98,\"\")","v":""},{"$f":"IF(Template!$Z$98<>\"\",Template!$Z$98,\"\")","v":""},{"$f":"IF(Template!$AA$98<>\"\",Template!$AA$98,\"\")","v":""},{"$f":"IF(Template!$AD$98=\"Yes\",Template!$AD$98,\"\")","v":""},null,null,null,{"$f":"IF(LEFT(Template!$Q$98,2)=\"BK\",Template!$Q$98,\"\")","v":""}]
[null,{"$f":"Template!$L$99","v":0},92,{"$f":"IF(Template!$AB$99<>\"\",INDEX(Worktags!$B$4:$D$36,MATCH(Template!$AB$99,Worktags!$C$4:$C$36,0),1),\"\")","v":""},{"$f":"IF(Template!$P$99<>\"\",Template!$P$99,\"\")","v":""},"BYU_Child",null,125.44,null,null,null,null,{"$f":"IF(Template!$R$99<>\"\",Template!$R$99,\"\")","v":""},{"$f":"IF(Template!$AE$99<>\"\",Template!$AE$99,\"\")","v":""},{"$f":"IF(LEFT(Template!$Q$99,2)=\"SC\",Template!$Q$99,\"\")","v":""},{"$f":"IF(LEFT(Template!$Q$99,2)=\"RC\",Template!$Q$99,\"\")","v":""},{"$f":"IF(LEFT(Template!$O$99,2)=\"CC\",Template!$O$99,\"\")","v":""},{"$f":"IF(LEFT(Template!$O$99,2)=\"AC\",Template!$O$99,\"\")","v":""},{"$f":"IF(LEFT(Template!$O$99,2)=\"GF\",Template!$O$99,\"\")","v":""},{"$f":"IF(LEFT(Template!$O$99,2)=\"GR\",Template!$O$99,\"\")","v":""},null,null,{"$f":"IF(Template!$AC$99<>\"\",Template!$AC$99,\"\")","v":""},null,{"$f":"IF(Template!$Y$99<>\"\",Template!$Y$99,\"\")","v":""},{"$f":"IF(Template!$Z$99<>\"\",Template!$Z$99,\"\")","v":""},{"$f":"IF(Template!$AA$99<>\"\",Template!$AA$99,\"\")","v":""},{"$f":"IF(Template!$AD$99=\"Yes\",Template!$AD$99,\"\")","v":""},null,null,null,{"$f":"IF(LEFT(Template!$Q$99,2)=\"BK\",Template!$Q$99,\"\")","v":""}]
[null,{"$f":"Template!$L$100","v":0},93,{"$f":"IF(Template!$AB$100<>\"\",INDEX(Worktags!$B$4:$D$36,MATCH(Template!$AB$100,Worktags!$C$4:$C$36,0),1),\"\")","v":""},{"$f":"IF(Template!$P$100<>\"\",Template!$P$100,\"\")","v":""},"BYU_Child",null,30.88,null,null,null,null,{"$f":"IF(Template!$R$100<>\"\",Template!$R$100,\"\")","v":""},{"$f":"IF(Template!$AE$100<>\"\",Template!$AE$100,\"\")","v":""},{"$f":"IF(LEFT(Template!$Q$100,2)=\"SC\",Template!$Q$100,\"\")","v":""},{"$f":"IF(LEFT(Template!$Q$100,2)=\"RC\",Template!$Q$100,\"\")","v":""},{"$f":"IF(LEFT(Template!$O$100,2)=\"CC\",Template!$O$100,\"\")","v":""},{"$f":"IF(LEFT(Template!$O$100,2)=\"AC\",Template!$O$100,\"\")","v":""},{"$f":"IF(LEFT(Template!$O$100,2)=\"GF\",Template!$O$100,\"\")","v":""},{"$f":"IF(LEFT(Template!$O$100,2)=\"GR\",Template!$O$100,\"\")","v":""},null,null,{"$f":"IF(Template!$AC$100<>\"\",Template!$AC$100,\"\")","v":""},null,{"$f":"IF(Template!$Y$100<>\"\",Template!$Y$100,\"\")","v":""},{"$f":"IF(Template!$Z$100<>\"\",Template!$Z$100,\"\")","v":""},{"$f":"IF(Template!$AA$100<>\"\",Template!$AA$100,\"\")","v":""},{"$f":"IF(Template!$AD$100=\"Yes\",Template!$AD$100,\"\")","v":""},null,null,null,{"$f":"IF(LEFT(Template!$Q$100,2)=\"BK\",Template!$Q$100,\"\")","v":""}]
[null,{"$f":"Template!$L$101","v":0},94,{"$f":"IF(Template!$AB$101<>\"\",INDEX(Worktags!$B$4:$D$36,MATCH(Template!$AB$101,Worktags!$C$4:$C$36,0),1),\"\")","v":""},{"$f":"IF(Template!$P$101<>\"\",Template!$P$101,\"\")","v":""},"BYU_Child",null,129.30000000000001,null,null,null,null,{"$f":"IF(Template!$R$101<>\"\",Template!$R$101,\"\")","v":""},{"$f":"IF(Template!$AE$101<>\"\",Template!$AE$101,\"\")","v":""},{"$f":"IF(LEFT(Template!$Q$101,2)=\"SC\",Template!$Q$101,\"\")","v":""},{"$f":"IF(LEFT(Template!$Q$101,2)=\"RC\",Template!$Q$101,\"\")","v":""},{"$f":"IF(LEFT(Template!$O$101,2)=\"CC\",Template!$O$101,\"\")","v":""},{"$f":"IF(LEFT(Template!$O$101,2)=\"AC\",Template!$O$101,\"\")","v":""},{"$f":"IF(LEFT(Template!$O$101,2)=\"GF\",Template!$O$101,\"\")","v":""},{"$f":"IF(LEFT(Template!$O$101,2)=\"GR\",Template!$O$101,\"\")","v":""},null,null,{"$f":"IF(Template!$AC$101<>\"\",Template!$AC$101,\"\")","v":""},null,{"$f":"IF(Template!$Y$101<>\"\",Template!$Y$101,\"\")","v":""},{"$f":"IF(Template!$Z$101<>\"\",Template!$Z$101,\"\")","v":""},{"$f":"IF(Template!$AA$101<>\"\",Template!$AA$101,\"\")","v":""},{"$f":"IF(Template!$AD$101=\"Yes\",Template!$AD$101,\"\")","v":""},null,null,null,{"$f":"IF(LEFT(Template!$Q$101,2)=\"BK\",Template!$Q$101,\"\")","v":""}]
[null,{"$f":"Template!$L$102","v":0},95,{"$f":"IF(Template!$AB$102<>\"\",INDEX(Worktags!$B$4:$D$36,MATCH(Template!$AB$102,Worktags!$C$4:$C$36,0),1),\"\")","v":""},{"$f":"IF(Template!$P$102<>\"\",Template!$P$102,\"\")","v":""},"BYU_Child",null,2.75,null,null,null,null,{"$f":"IF(Template!$R$102<>\"\",Template!$R$102,\"\")","v":""},{"$f":"IF(Template!$AE$102<>\"\",Template!$AE$102,\"\")","v":""},{"$f":"IF(LEFT(Template!$Q$102,2)=\"SC\",Template!$Q$102,\"\")","v":""},{"$f":"IF(LEFT(Template!$Q$102,2)=\"RC\",Template!$Q$102,\"\")","v":""},{"$f":"IF(LEFT(Template!$O$102,2)=\"CC\",Template!$O$102,\"\")","v":""},{"$f":"IF(LEFT(Template!$O$102,2)=\"AC\",Template!$O$102,\"\")","v":""},{"$f":"IF(LEFT(Template!$O$102,2)=\"GF\",Template!$O$102,\"\")","v":""},{"$f":"IF(LEFT(Template!$O$102,2)=\"GR\",Template!$O$102,\"\")","v":""},null,null,{"$f":"IF(Template!$AC$102<>\"\",Template!$AC$102,\"\")","v":""},null,{"$f":"IF(Template!$Y$102<>\"\",Template!$Y$102,\"\")","v":""},{"$f":"IF(Template!$Z$102<>\"\",Template!$Z$102,\"\")","v":""},{"$f":"IF(Template!$AA$102<>\"\",Template!$AA$102,\"\")","v":""},{"$f":"IF(Template!$AD$102=\"Yes\",Template!$AD$102,\"\")","v":""},null,null,null,{"$f":"IF(LEFT(Template!$Q$102,2)=\"BK\",Template!$Q$102,\"\")","v":""}]
[null,{"$f":"Template!$L$103","v":0},96,{"$f":"IF(Template!$AB$103<>\"\",INDEX(Worktags!$B$4:$D$36,MATCH(Template!$AB$103,Worktags!$C$4:$C$36,0),1),\"\")","v":""},{"$f":"IF(Template!$P$103<>\"\",Template!$P$103,\"\")","v":""},"BYU_Child",11.64,null,null,null,null,null,{"$f":"IF(Template!$R$103<>\"\",Template!$R$103,\"\")","v":""},{"$f":"IF(Template!$AE$103<>\"\",Template!$AE$103,\"\")","v":""},{"$f":"IF(LEFT(Template!$Q$103,2)=\"SC\",Template!$Q$103,\"\")","v":""},{"$f":"IF(LEFT(Template!$Q$103,2)=\"RC\",Template!$Q$103,\"\")","v":""},{"$f":"IF(LEFT(Template!$O$103,2)=\"CC\",Template!$O$103,\"\")","v":""},{"$f":"IF(LEFT(Template!$O$103,2)=\"AC\",Template!$O$103,\"\")","v":""},{"$f":"IF(LEFT(Template!$O$103,2)=\"GF\",Template!$O$103,\"\")","v":""},{"$f":"IF(LEFT(Template!$O$103,2)=\"GR\",Template!$O$103,\"\")","v":""},null,null,{"$f":"IF(Template!$AC$103<>\"\",Template!$AC$103,\"\")","v":""},null,{"$f":"IF(Template!$Y$103<>\"\",Template!$Y$103,\"\")","v":""},{"$f":"IF(Template!$Z$103<>\"\",Template!$Z$103,\"\")","v":""},{"$f":"IF(Template!$AA$103<>\"\",Template!$AA$103,\"\")","v":""},{"$f":"IF(Template!$AD$103=\"Yes\",Template!$AD$103,\"\")","v":""},null,null,null,{"$f":"IF(LEFT(Template!$Q$103,2)=\"BK\",Template!$Q$103,\"\")","v":""}]
[null,{"$f":"Template!$L$104","v":0},97,{"$f":"IF(Template!$AB$104<>\"\",INDEX(Worktags!$B$4:$D$36,MATCH(Template!$AB$104,Worktags!$C$4:$C$36,0),1),\"\")","v":""},{"$f":"IF(Template!$P$104<>\"\",Template!$P$104,\"\")","v":""},"BYU_Child",null,19.920000000000002,null,null,null,null,{"$f":"IF(Template!$R$104<>\"\",Template!$R$104,\"\")","v":""},{"$f":"IF(Template!$AE$104<>\"\",Template!$AE$104,\"\")","v":""},{"$f":"IF(LEFT(Template!$Q$104,2)=\"SC\",Template!$Q$104,\"\")","v":""},{"$f":"IF(LEFT(Template!$Q$104,2)=\"RC\",Template!$Q$104,\"\")","v":""},{"$f":"IF(LEFT(Template!$O$104,2)=\"CC\",Template!$O$104,\"\")","v":""},{"$f":"IF(LEFT(Template!$O$104,2)=\"AC\",Template!$O$104,\"\")","v":""},{"$f":"IF(LEFT(Template!$O$104,2)=\"GF\",Template!$O$104,\"\")","v":""},{"$f":"IF(LEFT(Template!$O$104,2)=\"GR\",Template!$O$104,\"\")","v":""},null,null,{"$f":"IF(Template!$AC$104<>\"\",Template!$AC$104,\"\")","v":""},null,{"$f":"IF(Template!$Y$104<>\"\",Template!$Y$104,\"\")","v":""},{"$f":"IF(Template!$Z$104<>\"\",Template!$Z$104,\"\")","v":""},{"$f":"IF(Template!$AA$104<>\"\",Template!$AA$104,\"\")","v":""},{"$f":"IF(Template!$AD$104=\"Yes\",Template!$AD$104,\"\")","v":""},null,null,null,{"$f":"IF(LEFT(Template!$Q$104,2)=\"BK\",Template!$Q$104,\"\")","v":""}]
[null,{"$f":"Template!$L$105","v":0},{"$f":"IF(B103=B102,C102+1,1)","v":98},{"$f":"IF(Template!$AB$105<>\"\",INDEX(Worktags!$B$4:$D$36,MATCH(Template!$AB$105,Worktags!$C$4:$C$36,0),1),\"\")","v":""},{"$f":"IF(Template!$P$105<>\"\",Template!$P$105,\"\")","v":""},"BYU_Child",null,3.14,null,null,null,null,{"$f":"IF(Template!$R$105<>\"\",Template!$R$105,\"\")","v":""},{"$f":"IF(Template!$AE$105<>\"\",Template!$AE$105,\"\")","v":""},{"$f":"IF(LEFT(Template!$Q$105,2)=\"SC\",Template!$Q$105,\"\")","v":""},{"$f":"IF(LEFT(Template!$Q$105,2)=\"RC\",Template!$Q$105,\"\")","v":""},{"$f":"IF(LEFT(Template!$O$105,2)=\"CC\",Template!$O$105,\"\")","v":""},{"$f":"IF(LEFT(Template!$O$105,2)=\"AC\",Template!$O$105,\"\")","v":""},{"$f":"IF(LEFT(Template!$O$105,2)=\"GF\",Template!$O$105,\"\")","v":""},{"$f":"IF(LEFT(Template!$O$105,2)=\"GR\",Template!$O$105,\"\")","v":""},null,null,{"$f":"IF(Template!$AC$105<>\"\",Template!$AC$105,\"\")","v":""},null,{"$f":"IF(Template!$Y$105<>\"\",Template!$Y$105,\"\")","v":""},{"$f":"IF(Template!$Z$105<>\"\",Template!$Z$105,\"\")","v":""},{"$f":"IF(Template!$AA$105<>\"\",Template!$AA$105,\"\")","v":""},{"$f":"IF(Template!$AD$105=\"Yes\",Template!$AD$105,\"\")","v":""},null,null,null,{"$f":"IF(LEFT(Template!$Q$105,2)=\"BK\",Template!$Q$105,\"\")","v":""}]
[null,{"$f":"Template!$L$106","v":0},99,{"$f":"IF(Template!$AB$106<>\"\",INDEX(Worktags!$B$4:$D$36,MATCH(Template!$AB$106,Worktags!$C$4:$C$36,0),1),\"\")","v":""},{"$f":"IF(Template!$P$106<>\"\",Template!$P$106,\"\")","v":""},"BYU_Child",null,14.74,null,null,null,null,{"$f":"IF(Template!$R$106<>\"\",Template!$R$106,\"\")","v":""},{"$f":"IF(Template!$AE$106<>\"\",Template!$AE$106,\"\")","v":""},{"$f":"IF(LEFT(Template!$Q$106,2)=\"SC\",Template!$Q$106,\"\")","v":""},{"$f":"IF(LEFT(Template!$Q$106,2)=\"RC\",Template!$Q$106,\"\")","v":""},{"$f":"IF(LEFT(Template!$O$106,2)=\"CC\",Template!$O$106,\"\")","v":""},{"$f":"IF(LEFT(Template!$O$106,2)=\"AC\",Template!$O$106,\"\")","v":""},{"$f":"IF(LEFT(Template!$O$106,2)=\"GF\",Template!$O$106,\"\")","v":""},{"$f":"IF(LEFT(Template!$O$106,2)=\"GR\",Template!$O$106,\"\")","v":""},null,null,{"$f":"IF(Template!$AC$106<>\"\",Template!$AC$106,\"\")","v":""},null,{"$f":"IF(Template!$Y$106<>\"\",Template!$Y$106,\"\")","v":""},{"$f":"IF(Template!$Z$106<>\"\",Template!$Z$106,\"\")","v":""},{"$f":"IF(Template!$AA$106<>\"\",Template!$AA$106,\"\")","v":""},{"$f":"IF(Template!$AD$106=\"Yes\",Template!$AD$106,\"\")","v":""},null,null,null,{"$f":"IF(LEFT(Template!$Q$106,2)=\"BK\",Template!$Q$106,\"\")","v":""}]
[null,{"$f":"Template!$L$107","v":0},100,{"$f":"IF(Template!$AB$107<>\"\",INDEX(Worktags!$B$4:$D$36,MATCH(Template!$AB$107,Worktags!$C$4:$C$36,0),1),\"\")","v":""},{"$f":"IF(Template!$P$107<>\"\",Template!$P$107,\"\")","v":""},"BYU_Child",null,30.27,null,null,null,null,{"$f":"IF(Template!$R$107<>\"\",Template!$R$107,\"\")","v":""},{"$f":"IF(Template!$AE$107<>\"\",Template!$AE$107,\"\")","v":""},{"$f":"IF(LEFT(Template!$Q$107,2)=\"SC\",Template!$Q$107,\"\")","v":""},{"$f":"IF(LEFT(Template!$Q$107,2)=\"RC\",Template!$Q$107,\"\")","v":""},{"$f":"IF(LEFT(Template!$O$107,2)=\"CC\",Template!$O$107,\"\")","v":""},{"$f":"IF(LEFT(Template!$O$107,2)=\"AC\",Template!$O$107,\"\")","v":""},{"$f":"IF(LEFT(Template!$O$107,2)=\"GF\",Template!$O$107,\"\")","v":""},{"$f":"IF(LEFT(Template!$O$107,2)=\"GR\",Template!$O$107,\"\")","v":""},null,null,{"$f":"IF(Template!$AC$107<>\"\",Template!$AC$107,\"\")","v":""},null,{"$f":"IF(Template!$Y$107<>\"\",Template!$Y$107,\"\")","v":""},{"$f":"IF(Template!$Z$107<>\"\",Template!$Z$107,\"\")","v":""},{"$f":"IF(Template!$AA$107<>\"\",Template!$AA$107,\"\")","v":""},{"$f":"IF(Template!$AD$107=\"Yes\",Template!$AD$107,\"\")","v":""},null,null,null,{"$f":"IF(LEFT(Template!$Q$107,2)=\"BK\",Template!$Q$107,\"\")","v":""}]
[null,{"$f":"Template!$L$108","v":0},101,{"$f":"IF(Template!$AB$108<>\"\",INDEX(Worktags!$B$4:$D$36,MATCH(Template!$AB$108,Worktags!$C$4:$C$36,0),1),\"\")","v":""},{"$f":"IF(Template!$P$108<>\"\",Template!$P$108,\"\")","v":""},"BYU_Child",null,6.37,null,null,null,null,{"$f":"IF(Template!$R$108<>\"\",Template!$R$108,\"\")","v":""},{"$f":"IF(Template!$AE$108<>\"\",Template!$AE$108,\"\")","v":""},{"$f":"IF(LEFT(Template!$Q$108,2)=\"SC\",Template!$Q$108,\"\")","v":""},{"$f":"IF(LEFT(Template!$Q$108,2)=\"RC\",Template!$Q$108,\"\")","v":""},{"$f":"IF(LEFT(Template!$O$108,2)=\"CC\",Template!$O$108,\"\")","v":""},{"$f":"IF(LEFT(Template!$O$108,2)=\"AC\",Template!$O$108,\"\")","v":""},{"$f":"IF(LEFT(Template!$O$108,2)=\"GF\",Template!$O$108,\"\")","v":""},{"$f":"IF(LEFT(Template!$O$108,2)=\"GR\",Template!$O$108,\"\")","v":""},null,null,{"$f":"IF(Template!$AC$108<>\"\",Template!$AC$108,\"\")","v":""},null,{"$f":"IF(Template!$Y$108<>\"\",Template!$Y$108,\"\")","v":""},{"$f":"IF(Template!$Z$108<>\"\",Template!$Z$108,\"\")","v":""},{"$f":"IF(Template!$AA$108<>\"\",Template!$AA$108,\"\")","v":""},{"$f":"IF(Template!$AD$108=\"Yes\",Template!$AD$108,\"\")","v":""},null,null,null,{"$f":"IF(LEFT(Template!$Q$108,2)=\"BK\",Template!$Q$108,\"\")","v":""}]
[null,{"$f":"Template!$L$109","v":0},102,{"$f":"IF(Template!$AB$109<>\"\",INDEX(Worktags!$B$4:$D$36,MATCH(Template!$AB$109,Worktags!$C$4:$C$36,0),1),\"\")","v":""},{"$f":"IF(Template!$P$109<>\"\",Template!$P$109,\"\")","v":""},"BYU_Child",null,10729.35,null,null,null,null,{"$f":"IF(Template!$R$109<>\"\",Template!$R$109,\"\")","v":""},{"$f":"IF(Template!$AE$109<>\"\",Template!$AE$109,\"\")","v":""},{"$f":"IF(LEFT(Template!$Q$109,2)=\"SC\",Template!$Q$109,\"\")","v":""},{"$f":"IF(LEFT(Template!$Q$109,2)=\"RC\",Template!$Q$109,\"\")","v":""},{"$f":"IF(LEFT(Template!$O$109,2)=\"CC\",Template!$O$109,\"\")","v":""},{"$f":"IF(LEFT(Template!$O$109,2)=\"AC\",Template!$O$109,\"\")","v":""},{"$f":"IF(LEFT(Template!$O$109,2)=\"GF\",Template!$O$109,\"\")","v":""},{"$f":"IF(LEFT(Template!$O$109,2)=\"GR\",Template!$O$109,\"\")","v":""},null,null,{"$f":"IF(Template!$AC$109<>\"\",Template!$AC$109,\"\")","v":""},null,{"$f":"IF(Template!$Y$109<>\"\",Template!$Y$109,\"\")","v":""},{"$f":"IF(Template!$Z$109<>\"\",Template!$Z$109,\"\")","v":""},{"$f":"IF(Template!$AA$109<>\"\",Template!$AA$109,\"\")","v":""},{"$f":"IF(Template!$AD$109=\"Yes\",Template!$AD$109,\"\")","v":""},null,null,null,{"$f":"IF(LEFT(Template!$Q$109,2)=\"BK\",Template!$Q$109,\"\")","v":""}]
[null,{"$f":"Template!$L$110","v":0},103,{"$f":"IF(Template!$AB$110<>\"\",INDEX(Worktags!$B$4:$D$36,MATCH(Template!$AB$110,Worktags!$C$4:$C$36,0),1),\"\")","v":""},{"$f":"IF(Template!$P$110<>\"\",Template!$P$110,\"\")","v":""},"BYU_Child",null,50,null,null,null,null,{"$f":"IF(Template!$R$110<>\"\",Template!$R$110,\"\")","v":""},{"$f":"IF(Template!$AE$110<>\"\",Template!$AE$110,\"\")","v":""},{"$f":"IF(LEFT(Template!$Q$110,2)=\"SC\",Template!$Q$110,\"\")","v":""},{"$f":"IF(LEFT(Template!$Q$110,2)=\"RC\",Template!$Q$110,\"\")","v":""},{"$f":"IF(LEFT(Template!$O$110,2)=\"CC\",Template!$O$110,\"\")","v":""},{"$f":"IF(LEFT(Template!$O$110,2)=\"AC\",Template!$O$110,\"\")","v":""},{"$f":"IF(LEFT(Template!$O$110,2)=\"GF\",Template!$O$110,\"\")","v":""},{"$f":"IF(LEFT(Template!$O$110,2)=\"GR\",Template!$O$110,\"\")","v":""},null,null,{"$f":"IF(Template!$AC$110<>\"\",Template!$AC$110,\"\")","v":""},null,{"$f":"IF(Template!$Y$110<>\"\",Template!$Y$110,\"\")","v":""},{"$f":"IF(Template!$Z$110<>\"\",Template!$Z$110,\"\")","v":""},{"$f":"IF(Template!$AA$110<>\"\",Template!$AA$110,\"\")","v":""},{"$f":"IF(Template!$AD$110=\"Yes\",Template!$AD$110,\"\")","v":""},null,null,null,{"$f":"IF(LEFT(Template!$Q$110,2)=\"BK\",Template!$Q$110,\"\")","v":""}]
[null,{"$f":"Template!$L$111","v":0},104,{"$f":"IF(Template!$AB$111<>\"\",INDEX(Worktags!$B$4:$D$36,MATCH(Template!$AB$111,Worktags!$C$4:$C$36,0),1),\"\")","v":""},{"$f":"IF(Template!$P$111<>\"\",Template!$P$111,\"\")","v":""},"BYU_Child",null,238.31,null,null,null,null,{"$f":"IF(Template!$R$111<>\"\",Template!$R$111,\"\")","v":""},{"$f":"IF(Template!$AE$111<>\"\",Template!$AE$111,\"\")","v":""},{"$f":"IF(LEFT(Template!$Q$111,2)=\"SC\",Template!$Q$111,\"\")","v":""},{"$f":"IF(LEFT(Template!$Q$111,2)=\"RC\",Template!$Q$111,\"\")","v":""},{"$f":"IF(LEFT(Template!$O$111,2)=\"CC\",Template!$O$111,\"\")","v":""},{"$f":"IF(LEFT(Template!$O$111,2)=\"AC\",Template!$O$111,\"\")","v":""},{"$f":"IF(LEFT(Template!$O$111,2)=\"GF\",Template!$O$111,\"\")","v":""},{"$f":"IF(LEFT(Template!$O$111,2)=\"GR\",Template!$O$111,\"\")","v":""},null,null,{"$f":"IF(Template!$AC$111<>\"\",Template!$AC$111,\"\")","v":""},null,{"$f":"IF(Template!$Y$111<>\"\",Template!$Y$111,\"\")","v":""},{"$f":"IF(Template!$Z$111<>\"\",Template!$Z$111,\"\")","v":""},{"$f":"IF(Template!$AA$111<>\"\",Template!$AA$111,\"\")","v":""},{"$f":"IF(Template!$AD$111=\"Yes\",Template!$AD$111,\"\")","v":""},null,null,null,{"$f":"IF(LEFT(Template!$Q$111,2)=\"BK\",Template!$Q$111,\"\")","v":""}]
[null,{"$f":"Template!$L$112","v":0},105,{"$f":"IF(Template!$AB$112<>\"\",INDEX(Worktags!$B$4:$D$36,MATCH(Template!$AB$112,Worktags!$C$4:$C$36,0),1),\"\")","v":""},{"$f":"IF(Template!$P$112<>\"\",Template!$P$112,\"\")","v":""},"BYU_Child",9.52,null,null,null,null,null,{"$f":"IF(Template!$R$112<>\"\",Template!$R$112,\"\")","v":""},{"$f":"IF(Template!$AE$112<>\"\",Template!$AE$112,\"\")","v":""},{"$f":"IF(LEFT(Template!$Q$112,2)=\"SC\",Template!$Q$112,\"\")","v":""},{"$f":"IF(LEFT(Template!$Q$112,2)=\"RC\",Template!$Q$112,\"\")","v":""},{"$f":"IF(LEFT(Template!$O$112,2)=\"CC\",Template!$O$112,\"\")","v":""},{"$f":"IF(LEFT(Template!$O$112,2)=\"AC\",Template!$O$112,\"\")","v":""},{"$f":"IF(LEFT(Template!$O$112,2)=\"GF\",Template!$O$112,\"\")","v":""},{"$f":"IF(LEFT(Template!$O$112,2)=\"GR\",Template!$O$112,\"\")","v":""},null,null,{"$f":"IF(Template!$AC$112<>\"\",Template!$AC$112,\"\")","v":""},null,{"$f":"IF(Template!$Y$112<>\"\",Template!$Y$112,\"\")","v":""},{"$f":"IF(Template!$Z$112<>\"\",Template!$Z$112,\"\")","v":""},{"$f":"IF(Template!$AA$112<>\"\",Template!$AA$112,\"\")","v":""},{"$f":"IF(Template!$AD$112=\"Yes\",Template!$AD$112,\"\")","v":""},null,null,null,{"$f":"IF(LEFT(Template!$Q$112,2)=\"BK\",Template!$Q$112,\"\")","v":""}]
[null,{"$f":"Template!$L$113","v":0},106,{"$f":"IF(Template!$AB$113<>\"\",INDEX(Worktags!$B$4:$D$36,MATCH(Template!$AB$113,Worktags!$C$4:$C$36,0),1),\"\")","v":""},{"$f":"IF(Template!$P$113<>\"\",Template!$P$113,\"\")","v":""},"BYU_Child",null,21.2,null,null,null,null,{"$f":"IF(Template!$R$113<>\"\",Template!$R$113,\"\")","v":""},{"$f":"IF(Template!$AE$113<>\"\",Template!$AE$113,\"\")","v":""},{"$f":"IF(LEFT(Template!$Q$113,2)=\"SC\",Template!$Q$113,\"\")","v":""},{"$f":"IF(LEFT(Template!$Q$113,2)=\"RC\",Template!$Q$113,\"\")","v":""},{"$f":"IF(LEFT(Template!$O$113,2)=\"CC\",Template!$O$113,\"\")","v":""},{"$f":"IF(LEFT(Template!$O$113,2)=\"AC\",Template!$O$113,\"\")","v":""},{"$f":"IF(LEFT(Template!$O$113,2)=\"GF\",Template!$O$113,\"\")","v":""},{"$f":"IF(LEFT(Template!$O$113,2)=\"GR\",Template!$O$113,\"\")","v":""},null,null,{"$f":"IF(Template!$AC$113<>\"\",Template!$AC$113,\"\")","v":""},null,{"$f":"IF(Template!$Y$113<>\"\",Template!$Y$113,\"\")","v":""},{"$f":"IF(Template!$Z$113<>\"\",Template!$Z$113,\"\")","v":""},{"$f":"IF(Template!$AA$113<>\"\",Template!$AA$113,\"\")","v":""},{"$f":"IF(Template!$AD$113=\"Yes\",Template!$AD$113,\"\")","v":""},null,null,null,{"$f":"IF(LEFT(Template!$Q$113,2)=\"BK\",Template!$Q$113,\"\")","v":""}]
[null,{"$f":"Template!$L$114","v":0},107,{"$f":"IF(Template!$AB$114<>\"\",INDEX(Worktags!$B$4:$D$36,MATCH(Template!$AB$114,Worktags!$C$4:$C$36,0),1),\"\")","v":""},{"$f":"IF(Template!$P$114<>\"\",Template!$P$114,\"\")","v":""},"BYU_Child",null,3134.35,null,null,null,null,{"$f":"IF(Template!$R$114<>\"\",Template!$R$114,\"\")","v":""},{"$f":"IF(Template!$AE$114<>\"\",Template!$AE$114,\"\")","v":""},{"$f":"IF(LEFT(Template!$Q$114,2)=\"SC\",Template!$Q$114,\"\")","v":""},{"$f":"IF(LEFT(Template!$Q$114,2)=\"RC\",Template!$Q$114,\"\")","v":""},{"$f":"IF(LEFT(Template!$O$114,2)=\"CC\",Template!$O$114,\"\")","v":""},{"$f":"IF(LEFT(Template!$O$114,2)=\"AC\",Template!$O$114,\"\")","v":""},{"$f":"IF(LEFT(Template!$O$114,2)=\"GF\",Template!$O$114,\"\")","v":""},{"$f":"IF(LEFT(Template!$O$114,2)=\"GR\",Template!$O$114,\"\")","v":""},null,null,{"$f":"IF(Template!$AC$114<>\"\",Template!$AC$114,\"\")","v":""},null,{"$f":"IF(Template!$Y$114<>\"\",Template!$Y$114,\"\")","v":""},{"$f":"IF(Template!$Z$114<>\"\",Template!$Z$114,\"\")","v":""},{"$f":"IF(Template!$AA$114<>\"\",Template!$AA$114,\"\")","v":""},{"$f":"IF(Template!$AD$114=\"Yes\",Template!$AD$114,\"\")","v":""},null,null,null,{"$f":"IF(LEFT(Template!$Q$114,2)=\"BK\",Template!$Q$114,\"\")","v":""}]
[null,{"$f":"Template!$L$115","v":0},108,{"$f":"IF(Template!$AB$115<>\"\",INDEX(Worktags!$B$4:$D$36,MATCH(Template!$AB$115,Worktags!$C$4:$C$36,0),1),\"\")","v":""},{"$f":"IF(Template!$P$115<>\"\",Template!$P$115,\"\")","v":""},"BYU_Child",null,4074.87,null,null,null,null,{"$f":"IF(Template!$R$115<>\"\",Template!$R$115,\"\")","v":""},{"$f":"IF(Template!$AE$115<>\"\",Template!$AE$115,\"\")","v":""},{"$f":"IF(LEFT(Template!$Q$115,2)=\"SC\",Template!$Q$115,\"\")","v":""},{"$f":"IF(LEFT(Template!$Q$115,2)=\"RC\",Template!$Q$115,\"\")","v":""},{"$f":"IF(LEFT(Template!$O$115,2)=\"CC\",Template!$O$115,\"\")","v":""},{"$f":"IF(LEFT(Template!$O$115,2)=\"AC\",Template!$O$115,\"\")","v":""},{"$f":"IF(LEFT(Template!$O$115,2)=\"GF\",Template!$O$115,\"\")","v":""},{"$f":"IF(LEFT(Template!$O$115,2)=\"GR\",Template!$O$115,\"\")","v":""},null,null,{"$f":"IF(Template!$AC$115<>\"\",Template!$AC$115,\"\")","v":""},null,{"$f":"IF(Template!$Y$115<>\"\",Template!$Y$115,\"\")","v":""},{"$f":"IF(Template!$Z$115<>\"\",Template!$Z$115,\"\")","v":""},{"$f":"IF(Template!$AA$115<>\"\",Template!$AA$115,\"\")","v":""},{"$f":"IF(Template!$AD$115=\"Yes\",Template!$AD$115,\"\")","v":""},null,null,null,{"$f":"IF(LEFT(Template!$Q$115,2)=\"BK\",Template!$Q$115,\"\")","v":""}]
[null,{"$f":"Template!$L$116","v":0},109,{"$f":"IF(Template!$AB$116<>\"\",INDEX(Worktags!$B$4:$D$36,MATCH(Template!$AB$116,Worktags!$C$4:$C$36,0),1),\"\")","v":""},{"$f":"IF(Template!$P$116<>\"\",Template!$P$116,\"\")","v":""},"BYU_Child",null,441.83,null,null,null,null,{"$f":"IF(Template!$R$116<>\"\",Template!$R$116,\"\")","v":""},{"$f":"IF(Template!$AE$116<>\"\",Template!$AE$116,\"\")","v":""},{"$f":"IF(LEFT(Template!$Q$116,2)=\"SC\",Template!$Q$116,\"\")","v":""},{"$f":"IF(LEFT(Template!$Q$116,2)=\"RC\",Template!$Q$116,\"\")","v":""},{"$f":"IF(LEFT(Template!$O$116,2)=\"CC\",Template!$O$116,\"\")","v":""},{"$f":"IF(LEFT(Template!$O$116,2)=\"AC\",Template!$O$116,\"\")","v":""},{"$f":"IF(LEFT(Template!$O$116,2)=\"GF\",Template!$O$116,\"\")","v":""},{"$f":"IF(LEFT(Template!$O$116,2)=\"GR\",Template!$O$116,\"\")","v":""},null,null,{"$f":"IF(Template!$AC$116<>\"\",Template!$AC$116,\"\")","v":""},null,{"$f":"IF(Template!$Y$116<>\"\",Template!$Y$116,\"\")","v":""},{"$f":"IF(Template!$Z$116<>\"\",Template!$Z$116,\"\")","v":""},{"$f":"IF(Template!$AA$116<>\"\",Template!$AA$116,\"\")","v":""},{"$f":"IF(Template!$AD$116=\"Yes\",Template!$AD$116,\"\")","v":""},null,null,null,{"$f":"IF(LEFT(Template!$Q$116,2)=\"BK\",Template!$Q$116,\"\")","v":""}]
[null,{"$f":"Template!$L$117","v":0},110,{"$f":"IF(Template!$AB$117<>\"\",INDEX(Worktags!$B$4:$D$36,MATCH(Template!$AB$117,Worktags!$C$4:$C$36,0),1),\"\")","v":""},{"$f":"IF(Template!$P$117<>\"\",Template!$P$117,\"\")","v":""},"BYU_Child",null,1215.3900000000001,null,null,null,null,{"$f":"IF(Template!$R$117<>\"\",Template!$R$117,\"\")","v":""},{"$f":"IF(Template!$AE$117<>\"\",Template!$AE$117,\"\")","v":""},{"$f":"IF(LEFT(Template!$Q$117,2)=\"SC\",Template!$Q$117,\"\")","v":""},{"$f":"IF(LEFT(Template!$Q$117,2)=\"RC\",Template!$Q$117,\"\")","v":""},{"$f":"IF(LEFT(Template!$O$117,2)=\"CC\",Template!$O$117,\"\")","v":""},{"$f":"IF(LEFT(Template!$O$117,2)=\"AC\",Template!$O$117,\"\")","v":""},{"$f":"IF(LEFT(Template!$O$117,2)=\"GF\",Template!$O$117,\"\")","v":""},{"$f":"IF(LEFT(Template!$O$117,2)=\"GR\",Template!$O$117,\"\")","v":""},null,null,{"$f":"IF(Template!$AC$117<>\"\",Template!$AC$117,\"\")","v":""},null,{"$f":"IF(Template!$Y$117<>\"\",Template!$Y$117,\"\")","v":""},{"$f":"IF(Template!$Z$117<>\"\",Template!$Z$117,\"\")","v":""},{"$f":"IF(Template!$AA$117<>\"\",Template!$AA$117,\"\")","v":""},{"$f":"IF(Template!$AD$117=\"Yes\",Template!$AD$117,\"\")","v":""},null,null,null,{"$f":"IF(LEFT(Template!$Q$117,2)=\"BK\",Template!$Q$117,\"\")","v":""}]
[null,{"$f":"Template!$L$118","v":0},111,{"$f":"IF(Template!$AB$118<>\"\",INDEX(Worktags!$B$4:$D$36,MATCH(Template!$AB$118,Worktags!$C$4:$C$36,0),1),\"\")","v":""},{"$f":"IF(Template!$P$118<>\"\",Template!$P$118,\"\")","v":""},"BYU_Child",null,519.94000000000005,null,null,null,null,{"$f":"IF(Template!$R$118<>\"\",Template!$R$118,\"\")","v":""},{"$f":"IF(Template!$AE$118<>\"\",Template!$AE$118,\"\")","v":""},{"$f":"IF(LEFT(Template!$Q$118,2)=\"SC\",Template!$Q$118,\"\")","v":""},{"$f":"IF(LEFT(Template!$Q$118,2)=\"RC\",Template!$Q$118,\"\")","v":""},{"$f":"IF(LEFT(Template!$O$118,2)=\"CC\",Template!$O$118,\"\")","v":""},{"$f":"IF(LEFT(Template!$O$118,2)=\"AC\",Template!$O$118,\"\")","v":""},{"$f":"IF(LEFT(Template!$O$118,2)=\"GF\",Template!$O$118,\"\")","v":""},{"$f":"IF(LEFT(Template!$O$118,2)=\"GR\",Template!$O$118,\"\")","v":""},null,null,{"$f":"IF(Template!$AC$118<>\"\",Template!$AC$118,\"\")","v":""},null,{"$f":"IF(Template!$Y$118<>\"\",Template!$Y$118,\"\")","v":""},{"$f":"IF(Template!$Z$118<>\"\",Template!$Z$118,\"\")","v":""},{"$f":"IF(Template!$AA$118<>\"\",Template!$AA$118,\"\")","v":""},{"$f":"IF(Template!$AD$118=\"Yes\",Template!$AD$118,\"\")","v":""},null,null,null,{"$f":"IF(LEFT(Template!$Q$118,2)=\"BK\",Template!$Q$118,\"\")","v":""}]
[null,{"$f":"Template!$L$119","v":0},112,{"$f":"IF(Template!$AB$119<>\"\",INDEX(Worktags!$B$4:$D$36,MATCH(Template!$AB$119,Worktags!$C$4:$C$36,0),1),\"\")","v":""},{"$f":"IF(Template!$P$119<>\"\",Template!$P$119,\"\")","v":""},"BYU_Child",null,164.73,null,null,null,null,{"$f":"IF(Template!$R$119<>\"\",Template!$R$119,\"\")","v":""},{"$f":"IF(Template!$AE$119<>\"\",Template!$AE$119,\"\")","v":""},{"$f":"IF(LEFT(Template!$Q$119,2)=\"SC\",Template!$Q$119,\"\")","v":""},{"$f":"IF(LEFT(Template!$Q$119,2)=\"RC\",Template!$Q$119,\"\")","v":""},{"$f":"IF(LEFT(Template!$O$119,2)=\"CC\",Template!$O$119,\"\")","v":""},{"$f":"IF(LEFT(Template!$O$119,2)=\"AC\",Template!$O$119,\"\")","v":""},{"$f":"IF(LEFT(Template!$O$119,2)=\"GF\",Template!$O$119,\"\")","v":""},{"$f":"IF(LEFT(Template!$O$119,2)=\"GR\",Template!$O$119,\"\")","v":""},null,null,{"$f":"IF(Template!$AC$119<>\"\",Template!$AC$119,\"\")","v":""},null,{"$f":"IF(Template!$Y$119<>\"\",Template!$Y$119,\"\")","v":""},{"$f":"IF(Template!$Z$119<>\"\",Template!$Z$119,\"\")","v":""},{"$f":"IF(Template!$AA$119<>\"\",Template!$AA$119,\"\")","v":""},{"$f":"IF(Template!$AD$119=\"Yes\",Template!$AD$119,\"\")","v":""},null,null,null,{"$f":"IF(LEFT(Template!$Q$119,2)=\"BK\",Template!$Q$119,\"\")","v":""}]
[null,{"$f":"Template!$L$120","v":0},113,{"$f":"IF(Template!$AB$120<>\"\",INDEX(Worktags!$B$4:$D$36,MATCH(Template!$AB$120,Worktags!$C$4:$C$36,0),1),\"\")","v":""},{"$f":"IF(Template!$P$120<>\"\",Template!$P$120,\"\")","v":""},"BYU_Child",null,106.07,null,null,null,null,{"$f":"IF(Template!$R$120<>\"\",Template!$R$120,\"\")","v":""},{"$f":"IF(Template!$AE$120<>\"\",Template!$AE$120,\"\")","v":""},{"$f":"IF(LEFT(Template!$Q$120,2)=\"SC\",Template!$Q$120,\"\")","v":""},{"$f":"IF(LEFT(Template!$Q$120,2)=\"RC\",Template!$Q$120,\"\")","v":""},{"$f":"IF(LEFT(Template!$O$120,2)=\"CC\",Template!$O$120,\"\")","v":""},{"$f":"IF(LEFT(Template!$O$120,2)=\"AC\",Template!$O$120,\"\")","v":""},{"$f":"IF(LEFT(Template!$O$120,2)=\"GF\",Template!$O$120,\"\")","v":""},{"$f":"IF(LEFT(Template!$O$120,2)=\"GR\",Template!$O$120,\"\")","v":""},null,null,{"$f":"IF(Template!$AC$120<>\"\",Template!$AC$120,\"\")","v":""},null,{"$f":"IF(Template!$Y$120<>\"\",Template!$Y$120,\"\")","v":""},{"$f":"IF(Template!$Z$120<>\"\",Template!$Z$120,\"\")","v":""},{"$f":"IF(Template!$AA$120<>\"\",Template!$AA$120,\"\")","v":""},{"$f":"IF(Template!$AD$120=\"Yes\",Template!$AD$120,\"\")","v":""},null,null,null,{"$f":"IF(LEFT(Template!$Q$120,2)=\"BK\",Template!$Q$120,\"\")","v":""}]
[null,{"$f":"Template!$L$121","v":0},114,{"$f":"IF(Template!$AB$121<>\"\",INDEX(Worktags!$B$4:$D$36,MATCH(Template!$AB$121,Worktags!$C$4:$C$36,0),1),\"\")","v":""},{"$f":"IF(Template!$P$121<>\"\",Template!$P$121,\"\")","v":""},"BYU_Child",null,493.68,null,null,null,null,{"$f":"IF(Template!$R$121<>\"\",Template!$R$121,\"\")","v":""},{"$f":"IF(Template!$AE$121<>\"\",Template!$AE$121,\"\")","v":""},{"$f":"IF(LEFT(Template!$Q$121,2)=\"SC\",Template!$Q$121,\"\")","v":""},{"$f":"IF(LEFT(Template!$Q$121,2)=\"RC\",Template!$Q$121,\"\")","v":""},{"$f":"IF(LEFT(Template!$O$121,2)=\"CC\",Template!$O$121,\"\")","v":""},{"$f":"IF(LEFT(Template!$O$121,2)=\"AC\",Template!$O$121,\"\")","v":""},{"$f":"IF(LEFT(Template!$O$121,2)=\"GF\",Template!$O$121,\"\")","v":""},{"$f":"IF(LEFT(Template!$O$121,2)=\"GR\",Template!$O$121,\"\")","v":""},null,null,{"$f":"IF(Template!$AC$121<>\"\",Template!$AC$121,\"\")","v":""},null,{"$f":"IF(Template!$Y$121<>\"\",Template!$Y$121,\"\")","v":""},{"$f":"IF(Template!$Z$121<>\"\",Template!$Z$121,\"\")","v":""},{"$f":"IF(Template!$AA$121<>\"\",Template!$AA$121,\"\")","v":""},{"$f":"IF(Template!$AD$121=\"Yes\",Template!$AD$121,\"\")","v":""},null,null,null,{"$f":"IF(LEFT(Template!$Q$121,2)=\"BK\",Template!$Q$121,\"\")","v":""}]
[null,{"$f":"Template!$L$122","v":0},115,{"$f":"IF(Template!$AB$122<>\"\",INDEX(Worktags!$B$4:$D$36,MATCH(Template!$AB$122,Worktags!$C$4:$C$36,0),1),\"\")","v":""},{"$f":"IF(Template!$P$122<>\"\",Template!$P$122,\"\")","v":""},"BYU_Child",null,117.65,null,null,null,null,{"$f":"IF(Template!$R$122<>\"\",Template!$R$122,\"\")","v":""},{"$f":"IF(Template!$AE$122<>\"\",Template!$AE$122,\"\")","v":""},{"$f":"IF(LEFT(Template!$Q$122,2)=\"SC\",Template!$Q$122,\"\")","v":""},{"$f":"IF(LEFT(Template!$Q$122,2)=\"RC\",Template!$Q$122,\"\")","v":""},{"$f":"IF(LEFT(Template!$O$122,2)=\"CC\",Template!$O$122,\"\")","v":""},{"$f":"IF(LEFT(Template!$O$122,2)=\"AC\",Template!$O$122,\"\")","v":""},{"$f":"IF(LEFT(Template!$O$122,2)=\"GF\",Template!$O$122,\"\")","v":""},{"$f":"IF(LEFT(Template!$O$122,2)=\"GR\",Template!$O$122,\"\")","v":""},null,null,{"$f":"IF(Template!$AC$122<>\"\",Template!$AC$122,\"\")","v":""},null,{"$f":"IF(Template!$Y$122<>\"\",Template!$Y$122,\"\")","v":""},{"$f":"IF(Template!$Z$122<>\"\",Template!$Z$122,\"\")","v":""},{"$f":"IF(Template!$AA$122<>\"\",Template!$AA$122,\"\")","v":""},{"$f":"IF(Template!$AD$122=\"Yes\",Template!$AD$122,\"\")","v":""},null,null,null,{"$f":"IF(LEFT(Template!$Q$122,2)=\"BK\",Template!$Q$122,\"\")","v":""}]
[null,{"$f":"Template!$L$123","v":0},116,{"$f":"IF(Template!$AB$123<>\"\",INDEX(Worktags!$B$4:$D$36,MATCH(Template!$AB$123,Worktags!$C$4:$C$36,0),1),\"\")","v":""},{"$f":"IF(Template!$P$123<>\"\",Template!$P$123,\"\")","v":""},"BYU_Child",null,227.04,null,null,null,null,{"$f":"IF(Template!$R$123<>\"\",Template!$R$123,\"\")","v":""},{"$f":"IF(Template!$AE$123<>\"\",Template!$AE$123,\"\")","v":""},{"$f":"IF(LEFT(Template!$Q$123,2)=\"SC\",Template!$Q$123,\"\")","v":""},{"$f":"IF(LEFT(Template!$Q$123,2)=\"RC\",Template!$Q$123,\"\")","v":""},{"$f":"IF(LEFT(Template!$O$123,2)=\"CC\",Template!$O$123,\"\")","v":""},{"$f":"IF(LEFT(Template!$O$123,2)=\"AC\",Template!$O$123,\"\")","v":""},{"$f":"IF(LEFT(Template!$O$123,2)=\"GF\",Template!$O$123,\"\")","v":""},{"$f":"IF(LEFT(Template!$O$123,2)=\"GR\",Template!$O$123,\"\")","v":""},null,null,{"$f":"IF(Template!$AC$123<>\"\",Template!$AC$123,\"\")","v":""},null,{"$f":"IF(Template!$Y$123<>\"\",Template!$Y$123,\"\")","v":""},{"$f":"IF(Template!$Z$123<>\"\",Template!$Z$123,\"\")","v":""},{"$f":"IF(Template!$AA$123<>\"\",Template!$AA$123,\"\")","v":""},{"$f":"IF(Template!$AD$123=\"Yes\",Template!$AD$123,\"\")","v":""},null,null,null,{"$f":"IF(LEFT(Template!$Q$123,2)=\"BK\",Template!$Q$123,\"\")","v":""}]
[null,{"$f":"Template!$L$124","v":0},117,{"$f":"IF(Template!$AB$124<>\"\",INDEX(Worktags!$B$4:$D$36,MATCH(Template!$AB$124,Worktags!$C$4:$C$36,0),1),\"\")","v":""},{"$f":"IF(Template!$P$124<>\"\",Template!$P$124,\"\")","v":""},"BYU_Child",null,653.02,null,null,null,null,{"$f":"IF(Template!$R$124<>\"\",Template!$R$124,\"\")","v":""},{"$f":"IF(Template!$AE$124<>\"\",Template!$AE$124,\"\")","v":""},{"$f":"IF(LEFT(Template!$Q$124,2)=\"SC\",Template!$Q$124,\"\")","v":""},{"$f":"IF(LEFT(Template!$Q$124,2)=\"RC\",Template!$Q$124,\"\")","v":""},{"$f":"IF(LEFT(Template!$O$124,2)=\"CC\",Template!$O$124,\"\")","v":""},{"$f":"IF(LEFT(Template!$O$124,2)=\"AC\",Template!$O$124,\"\")","v":""},{"$f":"IF(LEFT(Template!$O$124,2)=\"GF\",Template!$O$124,\"\")","v":""},{"$f":"IF(LEFT(Template!$O$124,2)=\"GR\",Template!$O$124,\"\")","v":""},null,null,{"$f":"IF(Template!$AC$124<>\"\",Template!$AC$124,\"\")","v":""},null,{"$f":"IF(Template!$Y$124<>\"\",Template!$Y$124,\"\")","v":""},{"$f":"IF(Template!$Z$124<>\"\",Template!$Z$124,\"\")","v":""},{"$f":"IF(Template!$AA$124<>\"\",Template!$AA$124,\"\")","v":""},{"$f":"IF(Template!$AD$124=\"Yes\",Template!$AD$124,\"\")","v":""},null,null,null,{"$f":"IF(LEFT(Template!$Q$124,2)=\"BK\",Template!$Q$124,\"\")","v":""}]
[null,{"$f":"Template!$L$125","v":0},118,{"$f":"IF(Template!$AB$125<>\"\",INDEX(Worktags!$B$4:$D$36,MATCH(Template!$AB$125,Worktags!$C$4:$C$36,0),1),\"\")","v":""},{"$f":"IF(Template!$P$125<>\"\",Template!$P$125,\"\")","v":""},"BYU_Child",null,487.11,null,null,null,null,{"$f":"IF(Template!$R$125<>\"\",Template!$R$125,\"\")","v":""},{"$f":"IF(Template!$AE$125<>\"\",Template!$AE$125,\"\")","v":""},{"$f":"IF(LEFT(Template!$Q$125,2)=\"SC\",Template!$Q$125,\"\")","v":""},{"$f":"IF(LEFT(Template!$Q$125,2)=\"RC\",Template!$Q$125,\"\")","v":""},{"$f":"IF(LEFT(Template!$O$125,2)=\"CC\",Template!$O$125,\"\")","v":""},{"$f":"IF(LEFT(Template!$O$125,2)=\"AC\",Template!$O$125,\"\")","v":""},{"$f":"IF(LEFT(Template!$O$125,2)=\"GF\",Template!$O$125,\"\")","v":""},{"$f":"IF(LEFT(Template!$O$125,2)=\"GR\",Template!$O$125,\"\")","v":""},null,null,{"$f":"IF(Template!$AC$125<>\"\",Template!$AC$125,\"\")","v":""},null,{"$f":"IF(Template!$Y$125<>\"\",Template!$Y$125,\"\")","v":""},{"$f":"IF(Template!$Z$125<>\"\",Template!$Z$125,\"\")","v":""},{"$f":"IF(Template!$AA$125<>\"\",Template!$AA$125,\"\")","v":""},{"$f":"IF(Template!$AD$125=\"Yes\",Template!$AD$125,\"\")","v":""},null,null,null,{"$f":"IF(LEFT(Template!$Q$125,2)=\"BK\",Template!$Q$125,\"\")","v":""}]
[null,{"$f":"Template!$L$126","v":0},119,{"$f":"IF(Template!$AB$126<>\"\",INDEX(Worktags!$B$4:$D$36,MATCH(Template!$AB$126,Worktags!$C$4:$C$36,0),1),\"\")","v":""},{"$f":"IF(Template!$P$126<>\"\",Template!$P$126,\"\")","v":""},"BYU_Child",null,13.36,null,null,null,null,{"$f":"IF(Template!$R$126<>\"\",Template!$R$126,\"\")","v":""},{"$f":"IF(Template!$AE$126<>\"\",Template!$AE$126,\"\")","v":""},{"$f":"IF(LEFT(Template!$Q$126,2)=\"SC\",Template!$Q$126,\"\")","v":""},{"$f":"IF(LEFT(Template!$Q$126,2)=\"RC\",Template!$Q$126,\"\")","v":""},{"$f":"IF(LEFT(Template!$O$126,2)=\"CC\",Template!$O$126,\"\")","v":""},{"$f":"IF(LEFT(Template!$O$126,2)=\"AC\",Template!$O$126,\"\")","v":""},{"$f":"IF(LEFT(Template!$O$126,2)=\"GF\",Template!$O$126,\"\")","v":""},{"$f":"IF(LEFT(Template!$O$126,2)=\"GR\",Template!$O$126,\"\")","v":""},null,null,{"$f":"IF(Template!$AC$126<>\"\",Template!$AC$126,\"\")","v":""},null,{"$f":"IF(Template!$Y$126<>\"\",Template!$Y$126,\"\")","v":""},{"$f":"IF(Template!$Z$126<>\"\",Template!$Z$126,\"\")","v":""},{"$f":"IF(Template!$AA$126<>\"\",Template!$AA$126,\"\")","v":""},{"$f":"IF(Template!$AD$126=\"Yes\",Template!$AD$126,\"\")","v":""},null,null,null,{"$f":"IF(LEFT(Template!$Q$126,2)=\"BK\",Template!$Q$126,\"\")","v":""}]
[null,{"$f":"Template!$L$127","v":0},120,{"$f":"IF(Template!$AB$127<>\"\",INDEX(Worktags!$B$4:$D$36,MATCH(Template!$AB$127,Worktags!$C$4:$C$36,0),1),\"\")","v":""},{"$f":"IF(Template!$P$127<>\"\",Template!$P$127,\"\")","v":""},"BYU_Child",null,261.45,null,null,null,null,{"$f":"IF(Template!$R$127<>\"\",Template!$R$127,\"\")","v":""},{"$f":"IF(Template!$AE$127<>\"\",Template!$AE$127,\"\")","v":""},{"$f":"IF(LEFT(Template!$Q$127,2)=\"SC\",Template!$Q$127,\"\")","v":""},{"$f":"IF(LEFT(Template!$Q$127,2)=\"RC\",Template!$Q$127,\"\")","v":""},{"$f":"IF(LEFT(Template!$O$127,2)=\"CC\",Template!$O$127,\"\")","v":""},{"$f":"IF(LEFT(Template!$O$127,2)=\"AC\",Template!$O$127,\"\")","v":""},{"$f":"IF(LEFT(Template!$O$127,2)=\"GF\",Template!$O$127,\"\")","v":""},{"$f":"IF(LEFT(Template!$O$127,2)=\"GR\",Template!$O$127,\"\")","v":""},null,null,{"$f":"IF(Template!$AC$127<>\"\",Template!$AC$127,\"\")","v":""},null,{"$f":"IF(Template!$Y$127<>\"\",Template!$Y$127,\"\")","v":""},{"$f":"IF(Template!$Z$127<>\"\",Template!$Z$127,\"\")","v":""},{"$f":"IF(Template!$AA$127<>\"\",Template!$AA$127,\"\")","v":""},{"$f":"IF(Template!$AD$127=\"Yes\",Template!$AD$127,\"\")","v":""},null,null,null,{"$f":"IF(LEFT(Template!$Q$127,2)=\"BK\",Template!$Q$127,\"\")","v":""}]
[null,{"$f":"Template!$L$128","v":0},121,{"$f":"IF(Template!$AB$128<>\"\",INDEX(Worktags!$B$4:$D$36,MATCH(Template!$AB$128,Worktags!$C$4:$C$36,0),1),\"\")","v":""},{"$f":"IF(Template!$P$128<>\"\",Template!$P$128,\"\")","v":""},"BYU_Child",null,460.88,null,null,null,null,{"$f":"IF(Template!$R$128<>\"\",Template!$R$128,\"\")","v":""},{"$f":"IF(Template!$AE$128<>\"\",Template!$AE$128,\"\")","v":""},{"$f":"IF(LEFT(Template!$Q$128,2)=\"SC\",Template!$Q$128,\"\")","v":""},{"$f":"IF(LEFT(Template!$Q$128,2)=\"RC\",Template!$Q$128,\"\")","v":""},{"$f":"IF(LEFT(Template!$O$128,2)=\"CC\",Template!$O$128,\"\")","v":""},{"$f":"IF(LEFT(Template!$O$128,2)=\"AC\",Template!$O$128,\"\")","v":""},{"$f":"IF(LEFT(Template!$O$128,2)=\"GF\",Template!$O$128,\"\")","v":""},{"$f":"IF(LEFT(Template!$O$128,2)=\"GR\",Template!$O$128,\"\")","v":""},null,null,{"$f":"IF(Template!$AC$128<>\"\",Template!$AC$128,\"\")","v":""},null,{"$f":"IF(Template!$Y$128<>\"\",Template!$Y$128,\"\")","v":""},{"$f":"IF(Template!$Z$128<>\"\",Template!$Z$128,\"\")","v":""},{"$f":"IF(Template!$AA$128<>\"\",Template!$AA$128,\"\")","v":""},{"$f":"IF(Template!$AD$128=\"Yes\",Template!$AD$128,\"\")","v":""},null,null,null,{"$f":"IF(LEFT(Template!$Q$128,2)=\"BK\",Template!$Q$128,\"\")","v":""}]
[null,{"$f":"Template!$L$129","v":0},122,{"$f":"IF(Template!$AB$129<>\"\",INDEX(Worktags!$B$4:$D$36,MATCH(Template!$AB$129,Worktags!$C$4:$C$36,0),1),\"\")","v":""},{"$f":"IF(Template!$P$129<>\"\",Template!$P$129,\"\")","v":""},"BYU_Child",null,391.18,null,null,null,null,{"$f":"IF(Template!$R$129<>\"\",Template!$R$129,\"\")","v":""},{"$f":"IF(Template!$AE$129<>\"\",Template!$AE$129,\"\")","v":""},{"$f":"IF(LEFT(Template!$Q$129,2)=\"SC\",Template!$Q$129,\"\")","v":""},{"$f":"IF(LEFT(Template!$Q$129,2)=\"RC\",Template!$Q$129,\"\")","v":""},{"$f":"IF(LEFT(Template!$O$129,2)=\"CC\",Template!$O$129,\"\")","v":""},{"$f":"IF(LEFT(Template!$O$129,2)=\"AC\",Template!$O$129,\"\")","v":""},{"$f":"IF(LEFT(Template!$O$129,2)=\"GF\",Template!$O$129,\"\")","v":""},{"$f":"IF(LEFT(Template!$O$129,2)=\"GR\",Template!$O$129,\"\")","v":""},null,null,{"$f":"IF(Template!$AC$129<>\"\",Template!$AC$129,\"\")","v":""},null,{"$f":"IF(Template!$Y$129<>\"\",Template!$Y$129,\"\")","v":""},{"$f":"IF(Template!$Z$129<>\"\",Template!$Z$129,\"\")","v":""},{"$f":"IF(Template!$AA$129<>\"\",Template!$AA$129,\"\")","v":""},{"$f":"IF(Template!$AD$129=\"Yes\",Template!$AD$129,\"\")","v":""},null,null,null,{"$f":"IF(LEFT(Template!$Q$129,2)=\"BK\",Template!$Q$129,\"\")","v":""}]
[null,{"$f":"Template!$L$130","v":0},123,{"$f":"IF(Template!$AB$130<>\"\",INDEX(Worktags!$B$4:$D$36,MATCH(Template!$AB$130,Worktags!$C$4:$C$36,0),1),\"\")","v":""},{"$f":"IF(Template!$P$130<>\"\",Template!$P$130,\"\")","v":""},"BYU_Child",null,59.92,null,null,null,null,{"$f":"IF(Template!$R$130<>\"\",Template!$R$130,\"\")","v":""},{"$f":"IF(Template!$AE$130<>\"\",Template!$AE$130,\"\")","v":""},{"$f":"IF(LEFT(Template!$Q$130,2)=\"SC\",Template!$Q$130,\"\")","v":""},{"$f":"IF(LEFT(Template!$Q$130,2)=\"RC\",Template!$Q$130,\"\")","v":""},{"$f":"IF(LEFT(Template!$O$130,2)=\"CC\",Template!$O$130,\"\")","v":""},{"$f":"IF(LEFT(Template!$O$130,2)=\"AC\",Template!$O$130,\"\")","v":""},{"$f":"IF(LEFT(Template!$O$130,2)=\"GF\",Template!$O$130,\"\")","v":""},{"$f":"IF(LEFT(Template!$O$130,2)=\"GR\",Template!$O$130,\"\")","v":""},null,null,{"$f":"IF(Template!$AC$130<>\"\",Template!$AC$130,\"\")","v":""},null,{"$f":"IF(Template!$Y$130<>\"\",Template!$Y$130,\"\")","v":""},{"$f":"IF(Template!$Z$130<>\"\",Template!$Z$130,\"\")","v":""},{"$f":"IF(Template!$AA$130<>\"\",Template!$AA$130,\"\")","v":""},{"$f":"IF(Template!$AD$130=\"Yes\",Template!$AD$130,\"\")","v":""},null,null,null,{"$f":"IF(LEFT(Template!$Q$130,2)=\"BK\",Template!$Q$130,\"\")","v":""}]
[null,{"$f":"Template!$L$131","v":0},124,{"$f":"IF(Template!$AB$131<>\"\",INDEX(Worktags!$B$4:$D$36,MATCH(Template!$AB$131,Worktags!$C$4:$C$36,0),1),\"\")","v":""},{"$f":"IF(Template!$P$131<>\"\",Template!$P$131,\"\")","v":""},"BYU_Child",null,822.9,null,null,null,null,{"$f":"IF(Template!$R$131<>\"\",Template!$R$131,\"\")","v":""},{"$f":"IF(Template!$AE$131<>\"\",Template!$AE$131,\"\")","v":""},{"$f":"IF(LEFT(Template!$Q$131,2)=\"SC\",Template!$Q$131,\"\")","v":""},{"$f":"IF(LEFT(Template!$Q$131,2)=\"RC\",Template!$Q$131,\"\")","v":""},{"$f":"IF(LEFT(Template!$O$131,2)=\"CC\",Template!$O$131,\"\")","v":""},{"$f":"IF(LEFT(Template!$O$131,2)=\"AC\",Template!$O$131,\"\")","v":""},{"$f":"IF(LEFT(Template!$O$131,2)=\"GF\",Template!$O$131,\"\")","v":""},{"$f":"IF(LEFT(Template!$O$131,2)=\"GR\",Template!$O$131,\"\")","v":""},null,null,{"$f":"IF(Template!$AC$131<>\"\",Template!$AC$131,\"\")","v":""},null,{"$f":"IF(Template!$Y$131<>\"\",Template!$Y$131,\"\")","v":""},{"$f":"IF(Template!$Z$131<>\"\",Template!$Z$131,\"\")","v":""},{"$f":"IF(Template!$AA$131<>\"\",Template!$AA$131,\"\")","v":""},{"$f":"IF(Template!$AD$131=\"Yes\",Template!$AD$131,\"\")","v":""},null,null,null,{"$f":"IF(LEFT(Template!$Q$131,2)=\"BK\",Template!$Q$131,\"\")","v":""}]
[null,{"$f":"Template!$L$132","v":0},125,{"$f":"IF(Template!$AB$132<>\"\",INDEX(Worktags!$B$4:$D$36,MATCH(Template!$AB$132,Worktags!$C$4:$C$36,0),1),\"\")","v":""},{"$f":"IF(Template!$P$132<>\"\",Template!$P$132,\"\")","v":""},"BYU_Child",null,183.29,null,null,null,null,{"$f":"IF(Template!$R$132<>\"\",Template!$R$132,\"\")","v":""},{"$f":"IF(Template!$AE$132<>\"\",Template!$AE$132,\"\")","v":""},{"$f":"IF(LEFT(Template!$Q$132,2)=\"SC\",Template!$Q$132,\"\")","v":""},{"$f":"IF(LEFT(Template!$Q$132,2)=\"RC\",Template!$Q$132,\"\")","v":""},{"$f":"IF(LEFT(Template!$O$132,2)=\"CC\",Template!$O$132,\"\")","v":""},{"$f":"IF(LEFT(Template!$O$132,2)=\"AC\",Template!$O$132,\"\")","v":""},{"$f":"IF(LEFT(Template!$O$132,2)=\"GF\",Template!$O$132,\"\")","v":""},{"$f":"IF(LEFT(Template!$O$132,2)=\"GR\",Template!$O$132,\"\")","v":""},null,null,{"$f":"IF(Template!$AC$132<>\"\",Template!$AC$132,\"\")","v":""},null,{"$f":"IF(Template!$Y$132<>\"\",Template!$Y$132,\"\")","v":""},{"$f":"IF(Template!$Z$132<>\"\",Template!$Z$132,\"\")","v":""},{"$f":"IF(Template!$AA$132<>\"\",Template!$AA$132,\"\")","v":""},{"$f":"IF(Template!$AD$132=\"Yes\",Template!$AD$132,\"\")","v":""},null,null,null,{"$f":"IF(LEFT(Template!$Q$132,2)=\"BK\",Template!$Q$132,\"\")","v":""}]
[null,{"$f":"Template!$L$133","v":0},126,{"$f":"IF(Template!$AB$133<>\"\",INDEX(Worktags!$B$4:$D$36,MATCH(Template!$AB$133,Worktags!$C$4:$C$36,0),1),\"\")","v":""},{"$f":"IF(Template!$P$133<>\"\",Template!$P$133,\"\")","v":""},"BYU_Child",null,29.46,null,null,null,null,{"$f":"IF(Template!$R$133<>\"\",Template!$R$133,\"\")","v":""},{"$f":"IF(Template!$AE$133<>\"\",Template!$AE$133,\"\")","v":""},{"$f":"IF(LEFT(Template!$Q$133,2)=\"SC\",Template!$Q$133,\"\")","v":""},{"$f":"IF(LEFT(Template!$Q$133,2)=\"RC\",Template!$Q$133,\"\")","v":""},{"$f":"IF(LEFT(Template!$O$133,2)=\"CC\",Template!$O$133,\"\")","v":""},{"$f":"IF(LEFT(Template!$O$133,2)=\"AC\",Template!$O$133,\"\")","v":""},{"$f":"IF(LEFT(Template!$O$133,2)=\"GF\",Template!$O$133,\"\")","v":""},{"$f":"IF(LEFT(Template!$O$133,2)=\"GR\",Template!$O$133,\"\")","v":""},null,null,{"$f":"IF(Template!$AC$133<>\"\",Template!$AC$133,\"\")","v":""},null,{"$f":"IF(Template!$Y$133<>\"\",Template!$Y$133,\"\")","v":""},{"$f":"IF(Template!$Z$133<>\"\",Template!$Z$133,\"\")","v":""},{"$f":"IF(Template!$AA$133<>\"\",Template!$AA$133,\"\")","v":""},{"$f":"IF(Template!$AD$133=\"Yes\",Template!$AD$133,\"\")","v":""},null,null,null,{"$f":"IF(LEFT(Template!$Q$133,2)=\"BK\",Template!$Q$133,\"\")","v":""}]
[null,{"$f":"Template!$L$134","v":0},127,{"$f":"IF(Template!$AB$134<>\"\",INDEX(Worktags!$B$4:$D$36,MATCH(Template!$AB$134,Worktags!$C$4:$C$36,0),1),\"\")","v":""},{"$f":"IF(Template!$P$134<>\"\",Template!$P$134,\"\")","v":""},"BYU_Child",397.18,null,null,null,null,null,{"$f":"IF(Template!$R$134<>\"\",Template!$R$134,\"\")","v":""},{"$f":"IF(Template!$AE$134<>\"\",Template!$AE$134,\"\")","v":""},{"$f":"IF(LEFT(Template!$Q$134,2)=\"SC\",Template!$Q$134,\"\")","v":""},{"$f":"IF(LEFT(Template!$Q$134,2)=\"RC\",Template!$Q$134,\"\")","v":""},{"$f":"IF(LEFT(Template!$O$134,2)=\"CC\",Template!$O$134,\"\")","v":""},{"$f":"IF(LEFT(Template!$O$134,2)=\"AC\",Template!$O$134,\"\")","v":""},{"$f":"IF(LEFT(Template!$O$134,2)=\"GF\",Template!$O$134,\"\")","v":""},{"$f":"IF(LEFT(Template!$O$134,2)=\"GR\",Template!$O$134,\"\")","v":""},null,null,{"$f":"IF(Template!$AC$134<>\"\",Template!$AC$134,\"\")","v":""},null,{"$f":"IF(Template!$Y$134<>\"\",Template!$Y$134,\"\")","v":""},{"$f":"IF(Template!$Z$134<>\"\",Template!$Z$134,\"\")","v":""},{"$f":"IF(Template!$AA$134<>\"\",Template!$AA$134,\"\")","v":""},{"$f":"IF(Template!$AD$134=\"Yes\",Template!$AD$134,\"\")","v":""},null,null,null,{"$f":"IF(LEFT(Template!$Q$134,2)=\"BK\",Template!$Q$134,\"\")","v":""}]
[null,{"$f":"Template!$L$135","v":0},128,{"$f":"IF(Template!$AB$135<>\"\",INDEX(Worktags!$B$4:$D$36,MATCH(Template!$AB$135,Worktags!$C$4:$C$36,0),1),\"\")","v":""},{"$f":"IF(Template!$P$135<>\"\",Template!$P$135,\"\")","v":""},"BYU_Child",35.96,null,null,null,null,null,{"$f":"IF(Template!$R$135<>\"\",Template!$R$135,\"\")","v":""},{"$f":"IF(Template!$AE$135<>\"\",Template!$AE$135,\"\")","v":""},{"$f":"IF(LEFT(Template!$Q$135,2)=\"SC\",Template!$Q$135,\"\")","v":""},{"$f":"IF(LEFT(Template!$Q$135,2)=\"RC\",Template!$Q$135,\"\")","v":""},{"$f":"IF(LEFT(Template!$O$135,2)=\"CC\",Template!$O$135,\"\")","v":""},{"$f":"IF(LEFT(Template!$O$135,2)=\"AC\",Template!$O$135,\"\")","v":""},{"$f":"IF(LEFT(Template!$O$135,2)=\"GF\",Template!$O$135,\"\")","v":""},{"$f":"IF(LEFT(Template!$O$135,2)=\"GR\",Template!$O$135,\"\")","v":""},null,null,{"$f":"IF(Template!$AC$135<>\"\",Template!$AC$135,\"\")","v":""},null,{"$f":"IF(Template!$Y$135<>\"\",Template!$Y$135,\"\")","v":""},{"$f":"IF(Template!$Z$135<>\"\",Template!$Z$135,\"\")","v":""},{"$f":"IF(Template!$AA$135<>\"\",Template!$AA$135,\"\")","v":""},{"$f":"IF(Template!$AD$135=\"Yes\",Template!$AD$135,\"\")","v":""},null,null,null,{"$f":"IF(LEFT(Template!$Q$135,2)=\"BK\",Template!$Q$135,\"\")","v":""}]
[null,{"$f":"Template!$L$136","v":0},129,{"$f":"IF(Template!$AB$136<>\"\",INDEX(Worktags!$B$4:$D$36,MATCH(Template!$AB$136,Worktags!$C$4:$C$36,0),1),\"\")","v":""},{"$f":"IF(Template!$P$136<>\"\",Template!$P$136,\"\")","v":""},"BYU_Child",24.71,null,null,null,null,null,{"$f":"IF(Template!$R$136<>\"\",Template!$R$136,\"\")","v":""},{"$f":"IF(Template!$AE$136<>\"\",Template!$AE$136,\"\")","v":""},{"$f":"IF(LEFT(Template!$Q$136,2)=\"SC\",Template!$Q$136,\"\")","v":""},{"$f":"IF(LEFT(Template!$Q$136,2)=\"RC\",Template!$Q$136,\"\")","v":""},{"$f":"IF(LEFT(Template!$O$136,2)=\"CC\",Template!$O$136,\"\")","v":""},{"$f":"IF(LEFT(Template!$O$136,2)=\"AC\",Template!$O$136,\"\")","v":""},{"$f":"IF(LEFT(Template!$O$136,2)=\"GF\",Template!$O$136,\"\")","v":""},{"$f":"IF(LEFT(Template!$O$136,2)=\"GR\",Template!$O$136,\"\")","v":""},null,null,{"$f":"IF(Template!$AC$136<>\"\",Template!$AC$136,\"\")","v":""},null,{"$f":"IF(Template!$Y$136<>\"\",Template!$Y$136,\"\")","v":""},{"$f":"IF(Template!$Z$136<>\"\",Template!$Z$136,\"\")","v":""},{"$f":"IF(Template!$AA$136<>\"\",Template!$AA$136,\"\")","v":""},{"$f":"IF(Template!$AD$136=\"Yes\",Template!$AD$136,\"\")","v":""},null,null,null,{"$f":"IF(LEFT(Template!$Q$136,2)=\"BK\",Template!$Q$136,\"\")","v":""}]
[null,{"$f":"Template!$L$137","v":0},{"$f":"IF(B135=B134,C134+1,1)","v":130},{"$f":"IF(Template!$AB$137<>\"\",INDEX(Worktags!$B$4:$D$36,MATCH(Template!$AB$137,Worktags!$C$4:$C$36,0),1),\"\")","v":""},{"$f":"IF(Template!$P$137<>\"\",Template!$P$137,\"\")","v":""},"BYU_Child",626.12,null,null,null,null,null,{"$f":"IF(Template!$R$137<>\"\",Template!$R$137,\"\")","v":""},{"$f":"IF(Template!$AE$137<>\"\",Template!$AE$137,\"\")","v":""},{"$f":"IF(LEFT(Template!$Q$137,2)=\"SC\",Template!$Q$137,\"\")","v":""},{"$f":"IF(LEFT(Template!$Q$137,2)=\"RC\",Template!$Q$137,\"\")","v":""},{"$f":"IF(LEFT(Template!$O$137,2)=\"CC\",Template!$O$137,\"\")","v":""},{"$f":"IF(LEFT(Template!$O$137,2)=\"AC\",Template!$O$137,\"\")","v":""},{"$f":"IF(LEFT(Template!$O$137,2)=\"GF\",Template!$O$137,\"\")","v":""},{"$f":"IF(LEFT(Template!$O$137,2)=\"GR\",Template!$O$137,\"\")","v":""},null,null,{"$f":"IF(Template!$AC$137<>\"\",Template!$AC$137,\"\")","v":""},null,{"$f":"IF(Template!$Y$137<>\"\",Template!$Y$137,\"\")","v":""},{"$f":"IF(Template!$Z$137<>\"\",Template!$Z$137,\"\")","v":""},{"$f":"IF(Template!$AA$137<>\"\",Template!$AA$137,\"\")","v":""},{"$f":"IF(Template!$AD$137=\"Yes\",Template!$AD$137,\"\")","v":""},null,null,null,{"$f":"IF(LEFT(Template!$Q$137,2)=\"BK\",Template!$Q$137,\"\")","v":""}]
[null,{"$f":"Template!$L$138","v":0},131,{"$f":"IF(Template!$AB$138<>\"\",INDEX(Worktags!$B$4:$D$36,MATCH(Template!$AB$138,Worktags!$C$4:$C$36,0),1),\"\")","v":""},{"$f":"IF(Template!$P$138<>\"\",Template!$P$138,\"\")","v":""},"BYU_Child",6.66,null,null,null,null,null,{"$f":"IF(Template!$R$138<>\"\",Template!$R$138,\"\")","v":""},{"$f":"IF(Template!$AE$138<>\"\",Template!$AE$138,\"\")","v":""},{"$f":"IF(LEFT(Template!$Q$138,2)=\"SC\",Template!$Q$138,\"\")","v":""},{"$f":"IF(LEFT(Template!$Q$138,2)=\"RC\",Template!$Q$138,\"\")","v":""},{"$f":"IF(LEFT(Template!$O$138,2)=\"CC\",Template!$O$138,\"\")","v":""},{"$f":"IF(LEFT(Template!$O$138,2)=\"AC\",Template!$O$138,\"\")","v":""},{"$f":"IF(LEFT(Template!$O$138,2)=\"GF\",Template!$O$138,\"\")","v":""},{"$f":"IF(LEFT(Template!$O$138,2)=\"GR\",Template!$O$138,\"\")","v":""},null,null,{"$f":"IF(Template!$AC$138<>\"\",Template!$AC$138,\"\")","v":""},null,{"$f":"IF(Template!$Y$138<>\"\",Template!$Y$138,\"\")","v":""},{"$f":"IF(Template!$Z$138<>\"\",Template!$Z$138,\"\")","v":""},{"$f":"IF(Template!$AA$138<>\"\",Template!$AA$138,\"\")","v":""},{"$f":"IF(Template!$AD$138=\"Yes\",Template!$AD$138,\"\")","v":""},null,null,null,{"$f":"IF(LEFT(Template!$Q$138,2)=\"BK\",Template!$Q$138,\"\")","v":""}]
[null,{"$f":"Template!$L$139","v":0},132,{"$f":"IF(Template!$AB$139<>\"\",INDEX(Worktags!$B$4:$D$36,MATCH(Template!$AB$139,Worktags!$C$4:$C$36,0),1),\"\")","v":""},{"$f":"IF(Template!$P$139<>\"\",Template!$P$139,\"\")","v":""},"BYU_Child",733.19,null,null,null,null,null,{"$f":"IF(Template!$R$139<>\"\",Template!$R$139,\"\")","v":""},{"$f":"IF(Template!$AE$139<>\"\",Template!$AE$139,\"\")","v":""},{"$f":"IF(LEFT(Template!$Q$139,2)=\"SC\",Template!$Q$139,\"\")","v":""},{"$f":"IF(LEFT(Template!$Q$139,2)=\"RC\",Template!$Q$139,\"\")","v":""},{"$f":"IF(LEFT(Template!$O$139,2)=\"CC\",Template!$O$139,\"\")","v":""},{"$f":"IF(LEFT(Template!$O$139,2)=\"AC\",Template!$O$139,\"\")","v":""},{"$f":"IF(LEFT(Template!$O$139,2)=\"GF\",Template!$O$139,\"\")","v":""},{"$f":"IF(LEFT(Template!$O$139,2)=\"GR\",Template!$O$139,\"\")","v":""},null,null,{"$f":"IF(Template!$AC$139<>\"\",Template!$AC$139,\"\")","v":""},null,{"$f":"IF(Template!$Y$139<>\"\",Template!$Y$139,\"\")","v":""},{"$f":"IF(Template!$Z$139<>\"\",Template!$Z$139,\"\")","v":""},{"$f":"IF(Template!$AA$139<>\"\",Template!$AA$139,\"\")","v":""},{"$f":"IF(Template!$AD$139=\"Yes\",Template!$AD$139,\"\")","v":""},null,null,null,{"$f":"IF(LEFT(Template!$Q$139,2)=\"BK\",Template!$Q$139,\"\")","v":""}]
[null,{"$f":"Template!$L$140","v":0},133,{"$f":"IF(Template!$AB$140<>\"\",INDEX(Worktags!$B$4:$D$36,MATCH(Template!$AB$140,Worktags!$C$4:$C$36,0),1),\"\")","v":""},{"$f":"IF(Template!$P$140<>\"\",Template!$P$140,\"\")","v":""},"BYU_Child",985.35,null,null,null,null,null,{"$f":"IF(Template!$R$140<>\"\",Template!$R$140,\"\")","v":""},{"$f":"IF(Template!$AE$140<>\"\",Template!$AE$140,\"\")","v":""},{"$f":"IF(LEFT(Template!$Q$140,2)=\"SC\",Template!$Q$140,\"\")","v":""},{"$f":"IF(LEFT(Template!$Q$140,2)=\"RC\",Template!$Q$140,\"\")","v":""},{"$f":"IF(LEFT(Template!$O$140,2)=\"CC\",Template!$O$140,\"\")","v":""},{"$f":"IF(LEFT(Template!$O$140,2)=\"AC\",Template!$O$140,\"\")","v":""},{"$f":"IF(LEFT(Template!$O$140,2)=\"GF\",Template!$O$140,\"\")","v":""},{"$f":"IF(LEFT(Template!$O$140,2)=\"GR\",Template!$O$140,\"\")","v":""},null,null,{"$f":"IF(Template!$AC$140<>\"\",Template!$AC$140,\"\")","v":""},null,{"$f":"IF(Template!$Y$140<>\"\",Template!$Y$140,\"\")","v":""},{"$f":"IF(Template!$Z$140<>\"\",Template!$Z$140,\"\")","v":""},{"$f":"IF(Template!$AA$140<>\"\",Template!$AA$140,\"\")","v":""},{"$f":"IF(Template!$AD$140=\"Yes\",Template!$AD$140,\"\")","v":""},null,null,null,{"$f":"IF(LEFT(Template!$Q$140,2)=\"BK\",Template!$Q$140,\"\")","v":""}]
[null,{"$f":"Template!$L$141","v":0},134,{"$f":"IF(Template!$AB$141<>\"\",INDEX(Worktags!$B$4:$D$36,MATCH(Template!$AB$141,Worktags!$C$4:$C$36,0),1),\"\")","v":""},{"$f":"IF(Template!$P$141<>\"\",Template!$P$141,\"\")","v":""},"BYU_Child",4.2,null,null,null,null,null,{"$f":"IF(Template!$R$141<>\"\",Template!$R$141,\"\")","v":""},{"$f":"IF(Template!$AE$141<>\"\",Template!$AE$141,\"\")","v":""},{"$f":"IF(LEFT(Template!$Q$141,2)=\"SC\",Template!$Q$141,\"\")","v":""},{"$f":"IF(LEFT(Template!$Q$141,2)=\"RC\",Template!$Q$141,\"\")","v":""},{"$f":"IF(LEFT(Template!$O$141,2)=\"CC\",Template!$O$141,\"\")","v":""},{"$f":"IF(LEFT(Template!$O$141,2)=\"AC\",Template!$O$141,\"\")","v":""},{"$f":"IF(LEFT(Template!$O$141,2)=\"GF\",Template!$O$141,\"\")","v":""},{"$f":"IF(LEFT(Template!$O$141,2)=\"GR\",Template!$O$141,\"\")","v":""},null,null,{"$f":"IF(Template!$AC$141<>\"\",Template!$AC$141,\"\")","v":""},null,{"$f":"IF(Template!$Y$141<>\"\",Template!$Y$141,\"\")","v":""},{"$f":"IF(Template!$Z$141<>\"\",Template!$Z$141,\"\")","v":""},{"$f":"IF(Template!$AA$141<>\"\",Template!$AA$141,\"\")","v":""},{"$f":"IF(Template!$AD$141=\"Yes\",Template!$AD$141,\"\")","v":""},null,null,null,{"$f":"IF(LEFT(Template!$Q$141,2)=\"BK\",Template!$Q$141,\"\")","v":""}]
[null,{"$f":"Template!$L$142","v":0},135,{"$f":"IF(Template!$AB$142<>\"\",INDEX(Worktags!$B$4:$D$36,MATCH(Template!$AB$142,Worktags!$C$4:$C$36,0),1),\"\")","v":""},{"$f":"IF(Template!$P$142<>\"\",Template!$P$142,\"\")","v":""},"BYU_Child",1.5,null,null,null,null,null,{"$f":"IF(Template!$R$142<>\"\",Template!$R$142,\"\")","v":""},{"$f":"IF(Template!$AE$142<>\"\",Template!$AE$142,\"\")","v":""},{"$f":"IF(LEFT(Template!$Q$142,2)=\"SC\",Template!$Q$142,\"\")","v":""},{"$f":"IF(LEFT(Template!$Q$142,2)=\"RC\",Template!$Q$142,\"\")","v":""},{"$f":"IF(LEFT(Template!$O$142,2)=\"CC\",Template!$O$142,\"\")","v":""},{"$f":"IF(LEFT(Template!$O$142,2)=\"AC\",Template!$O$142,\"\")","v":""},{"$f":"IF(LEFT(Template!$O$142,2)=\"GF\",Template!$O$142,\"\")","v":""},{"$f":"IF(LEFT(Template!$O$142,2)=\"GR\",Template!$O$142,\"\")","v":""},null,null,{"$f":"IF(Template!$AC$142<>\"\",Template!$AC$142,\"\")","v":""},null,{"$f":"IF(Template!$Y$142<>\"\",Template!$Y$142,\"\")","v":""},{"$f":"IF(Template!$Z$142<>\"\",Template!$Z$142,\"\")","v":""},{"$f":"IF(Template!$AA$142<>\"\",Template!$AA$142,\"\")","v":""},{"$f":"IF(Template!$AD$142=\"Yes\",Template!$AD$142,\"\")","v":""},null,null,null,{"$f":"IF(LEFT(Template!$Q$142,2)=\"BK\",Template!$Q$142,\"\")","v":""}]
[null,{"$f":"Template!$L$143","v":0},136,{"$f":"IF(Template!$AB$143<>\"\",INDEX(Worktags!$B$4:$D$36,MATCH(Template!$AB$143,Worktags!$C$4:$C$36,0),1),\"\")","v":""},{"$f":"IF(Template!$P$143<>\"\",Template!$P$143,\"\")","v":""},"BYU_Child",147.38,null,null,null,null,null,{"$f":"IF(Template!$R$143<>\"\",Template!$R$143,\"\")","v":""},{"$f":"IF(Template!$AE$143<>\"\",Template!$AE$143,\"\")","v":""},{"$f":"IF(LEFT(Template!$Q$143,2)=\"SC\",Template!$Q$143,\"\")","v":""},{"$f":"IF(LEFT(Template!$Q$143,2)=\"RC\",Template!$Q$143,\"\")","v":""},{"$f":"IF(LEFT(Template!$O$143,2)=\"CC\",Template!$O$143,\"\")","v":""},{"$f":"IF(LEFT(Template!$O$143,2)=\"AC\",Template!$O$143,\"\")","v":""},{"$f":"IF(LEFT(Template!$O$143,2)=\"GF\",Template!$O$143,\"\")","v":""},{"$f":"IF(LEFT(Template!$O$143,2)=\"GR\",Template!$O$143,\"\")","v":""},null,null,{"$f":"IF(Template!$AC$143<>\"\",Template!$AC$143,\"\")","v":""},null,{"$f":"IF(Template!$Y$143<>\"\",Template!$Y$143,\"\")","v":""},{"$f":"IF(Template!$Z$143<>\"\",Template!$Z$143,\"\")","v":""},{"$f":"IF(Template!$AA$143<>\"\",Template!$AA$143,\"\")","v":""},{"$f":"IF(Template!$AD$143=\"Yes\",Template!$AD$143,\"\")","v":""},null,null,null,{"$f":"IF(LEFT(Template!$Q$143,2)=\"BK\",Template!$Q$143,\"\")","v":""}]
[null,{"$f":"Template!$L$144","v":0},137,{"$f":"IF(Template!$AB$144<>\"\",INDEX(Worktags!$B$4:$D$36,MATCH(Template!$AB$144,Worktags!$C$4:$C$36,0),1),\"\")","v":""},{"$f":"IF(Template!$P$144<>\"\",Template!$P$144,\"\")","v":""},"BYU_Child",null,775.48,null,null,null,null,{"$f":"IF(Template!$R$144<>\"\",Template!$R$144,\"\")","v":""},{"$f":"IF(Template!$AE$144<>\"\",Template!$AE$144,\"\")","v":""},{"$f":"IF(LEFT(Template!$Q$144,2)=\"SC\",Template!$Q$144,\"\")","v":""},{"$f":"IF(LEFT(Template!$Q$144,2)=\"RC\",Template!$Q$144,\"\")","v":""},{"$f":"IF(LEFT(Template!$O$144,2)=\"CC\",Template!$O$144,\"\")","v":""},{"$f":"IF(LEFT(Template!$O$144,2)=\"AC\",Template!$O$144,\"\")","v":""},{"$f":"IF(LEFT(Template!$O$144,2)=\"GF\",Template!$O$144,\"\")","v":""},{"$f":"IF(LEFT(Template!$O$144,2)=\"GR\",Template!$O$144,\"\")","v":""},null,null,{"$f":"IF(Template!$AC$144<>\"\",Template!$AC$144,\"\")","v":""},null,{"$f":"IF(Template!$Y$144<>\"\",Template!$Y$144,\"\")","v":""},{"$f":"IF(Template!$Z$144<>\"\",Template!$Z$144,\"\")","v":""},{"$f":"IF(Template!$AA$144<>\"\",Template!$AA$144,\"\")","v":""},{"$f":"IF(Template!$AD$144=\"Yes\",Template!$AD$144,\"\")","v":""},null,null,null,{"$f":"IF(LEFT(Template!$Q$144,2)=\"BK\",Template!$Q$144,\"\")","v":""}]
[null,{"$f":"Template!$L$145","v":0},138,{"$f":"IF(Template!$AB$145<>\"\",INDEX(Worktags!$B$4:$D$36,MATCH(Template!$AB$145,Worktags!$C$4:$C$36,0),1),\"\")","v":""},{"$f":"IF(Template!$P$145<>\"\",Template!$P$145,\"\")","v":""},"BYU_Child",null,0.19,null,null,null,null,{"$f":"IF(Template!$R$145<>\"\",Template!$R$145,\"\")","v":""},{"$f":"IF(Template!$AE$145<>\"\",Template!$AE$145,\"\")","v":""},{"$f":"IF(LEFT(Template!$Q$145,2)=\"SC\",Template!$Q$145,\"\")","v":""},{"$f":"IF(LEFT(Template!$Q$145,2)=\"RC\",Template!$Q$145,\"\")","v":""},{"$f":"IF(LEFT(Template!$O$145,2)=\"CC\",Template!$O$145,\"\")","v":""},{"$f":"IF(LEFT(Template!$O$145,2)=\"AC\",Template!$O$145,\"\")","v":""},{"$f":"IF(LEFT(Template!$O$145,2)=\"GF\",Template!$O$145,\"\")","v":""},{"$f":"IF(LEFT(Template!$O$145,2)=\"GR\",Template!$O$145,\"\")","v":""},null,null,{"$f":"IF(Template!$AC$145<>\"\",Template!$AC$145,\"\")","v":""},null,{"$f":"IF(Template!$Y$145<>\"\",Template!$Y$145,\"\")","v":""},{"$f":"IF(Template!$Z$145<>\"\",Template!$Z$145,\"\")","v":""},{"$f":"IF(Template!$AA$145<>\"\",Template!$AA$145,\"\")","v":""},{"$f":"IF(Template!$AD$145=\"Yes\",Template!$AD$145,\"\")","v":""},null,null,null,{"$f":"IF(LEFT(Template!$Q$145,2)=\"BK\",Template!$Q$145,\"\")","v":""}]
[null,{"$f":"Template!$L$146","v":0},139,{"$f":"IF(Template!$AB$146<>\"\",INDEX(Worktags!$B$4:$D$36,MATCH(Template!$AB$146,Worktags!$C$4:$C$36,0),1),\"\")","v":""},{"$f":"IF(Template!$P$146<>\"\",Template!$P$146,\"\")","v":""},"BYU_Child",null,6.82,null,null,null,null,{"$f":"IF(Template!$R$146<>\"\",Template!$R$146,\"\")","v":""},{"$f":"IF(Template!$AE$146<>\"\",Template!$AE$146,\"\")","v":""},{"$f":"IF(LEFT(Template!$Q$146,2)=\"SC\",Template!$Q$146,\"\")","v":""},{"$f":"IF(LEFT(Template!$Q$146,2)=\"RC\",Template!$Q$146,\"\")","v":""},{"$f":"IF(LEFT(Template!$O$146,2)=\"CC\",Template!$O$146,\"\")","v":""},{"$f":"IF(LEFT(Template!$O$146,2)=\"AC\",Template!$O$146,\"\")","v":""},{"$f":"IF(LEFT(Template!$O$146,2)=\"GF\",Template!$O$146,\"\")","v":""},{"$f":"IF(LEFT(Template!$O$146,2)=\"GR\",Template!$O$146,\"\")","v":""},null,null,{"$f":"IF(Template!$AC$146<>\"\",Template!$AC$146,\"\")","v":""},null,{"$f":"IF(Template!$Y$146<>\"\",Template!$Y$146,\"\")","v":""},{"$f":"IF(Template!$Z$146<>\"\",Template!$Z$146,\"\")","v":""},{"$f":"IF(Template!$AA$146<>\"\",Template!$AA$146,\"\")","v":""},{"$f":"IF(Template!$AD$146=\"Yes\",Template!$AD$146,\"\")","v":""},null,null,null,{"$f":"IF(LEFT(Template!$Q$146,2)=\"BK\",Template!$Q$146,\"\")","v":""}]
[null,{"$f":"Template!$L$147","v":0},140,{"$f":"IF(Template!$AB$147<>\"\",INDEX(Worktags!$B$4:$D$36,MATCH(Template!$AB$147,Worktags!$C$4:$C$36,0),1),\"\")","v":""},{"$f":"IF(Template!$P$147<>\"\",Template!$P$147,\"\")","v":""},"BYU_Child",null,2.41,null,null,null,null,{"$f":"IF(Template!$R$147<>\"\",Template!$R$147,\"\")","v":""},{"$f":"IF(Template!$AE$147<>\"\",Template!$AE$147,\"\")","v":""},{"$f":"IF(LEFT(Template!$Q$147,2)=\"SC\",Template!$Q$147,\"\")","v":""},{"$f":"IF(LEFT(Template!$Q$147,2)=\"RC\",Template!$Q$147,\"\")","v":""},{"$f":"IF(LEFT(Template!$O$147,2)=\"CC\",Template!$O$147,\"\")","v":""},{"$f":"IF(LEFT(Template!$O$147,2)=\"AC\",Template!$O$147,\"\")","v":""},{"$f":"IF(LEFT(Template!$O$147,2)=\"GF\",Template!$O$147,\"\")","v":""},{"$f":"IF(LEFT(Template!$O$147,2)=\"GR\",Template!$O$147,\"\")","v":""},null,null,{"$f":"IF(Template!$AC$147<>\"\",Template!$AC$147,\"\")","v":""},null,{"$f":"IF(Template!$Y$147<>\"\",Template!$Y$147,\"\")","v":""},{"$f":"IF(Template!$Z$147<>\"\",Template!$Z$147,\"\")","v":""},{"$f":"IF(Template!$AA$147<>\"\",Template!$AA$147,\"\")","v":""},{"$f":"IF(Template!$AD$147=\"Yes\",Template!$AD$147,\"\")","v":""},null,null,null,{"$f":"IF(LEFT(Template!$Q$147,2)=\"BK\",Template!$Q$147,\"\")","v":""}]
[null,{"$f":"Template!$L$148","v":0},141,{"$f":"IF(Template!$AB$148<>\"\",INDEX(Worktags!$B$4:$D$36,MATCH(Template!$AB$148,Worktags!$C$4:$C$36,0),1),\"\")","v":""},{"$f":"IF(Template!$P$148<>\"\",Template!$P$148,\"\")","v":""},"BYU_Child",0.62,null,null,null,null,null,{"$f":"IF(Template!$R$148<>\"\",Template!$R$148,\"\")","v":""},{"$f":"IF(Template!$AE$148<>\"\",Template!$AE$148,\"\")","v":""},{"$f":"IF(LEFT(Template!$Q$148,2)=\"SC\",Template!$Q$148,\"\")","v":""},{"$f":"IF(LEFT(Template!$Q$148,2)=\"RC\",Template!$Q$148,\"\")","v":""},{"$f":"IF(LEFT(Template!$O$148,2)=\"CC\",Template!$O$148,\"\")","v":""},{"$f":"IF(LEFT(Template!$O$148,2)=\"AC\",Template!$O$148,\"\")","v":""},{"$f":"IF(LEFT(Template!$O$148,2)=\"GF\",Template!$O$148,\"\")","v":""},{"$f":"IF(LEFT(Template!$O$148,2)=\"GR\",Template!$O$148,\"\")","v":""},null,null,{"$f":"IF(Template!$AC$148<>\"\",Template!$AC$148,\"\")","v":""},null,{"$f":"IF(Template!$Y$148<>\"\",Template!$Y$148,\"\")","v":""},{"$f":"IF(Template!$Z$148<>\"\",Template!$Z$148,\"\")","v":""},{"$f":"IF(Template!$AA$148<>\"\",Template!$AA$148,\"\")","v":""},{"$f":"IF(Template!$AD$148=\"Yes\",Template!$AD$148,\"\")","v":""},null,null,null,{"$f":"IF(LEFT(Template!$Q$148,2)=\"BK\",Template!$Q$148,\"\")","v":""}]
[null,{"$f":"Template!$L$149","v":0},142,{"$f":"IF(Template!$AB$149<>\"\",INDEX(Worktags!$B$4:$D$36,MATCH(Template!$AB$149,Worktags!$C$4:$C$36,0),1),\"\")","v":""},{"$f":"IF(Template!$P$149<>\"\",Template!$P$149,\"\")","v":""},"BYU_Child",7.28,null,null,null,null,null,{"$f":"IF(Template!$R$149<>\"\",Template!$R$149,\"\")","v":""},{"$f":"IF(Template!$AE$149<>\"\",Template!$AE$149,\"\")","v":""},{"$f":"IF(LEFT(Template!$Q$149,2)=\"SC\",Template!$Q$149,\"\")","v":""},{"$f":"IF(LEFT(Template!$Q$149,2)=\"RC\",Template!$Q$149,\"\")","v":""},{"$f":"IF(LEFT(Template!$O$149,2)=\"CC\",Template!$O$149,\"\")","v":""},{"$f":"IF(LEFT(Template!$O$149,2)=\"AC\",Template!$O$149,\"\")","v":""},{"$f":"IF(LEFT(Template!$O$149,2)=\"GF\",Template!$O$149,\"\")","v":""},{"$f":"IF(LEFT(Template!$O$149,2)=\"GR\",Template!$O$149,\"\")","v":""},null,null,{"$f":"IF(Template!$AC$149<>\"\",Template!$AC$149,\"\")","v":""},null,{"$f":"IF(Template!$Y$149<>\"\",Template!$Y$149,\"\")","v":""},{"$f":"IF(Template!$Z$149<>\"\",Template!$Z$149,\"\")","v":""},{"$f":"IF(Template!$AA$149<>\"\",Template!$AA$149,\"\")","v":""},{"$f":"IF(Template!$AD$149=\"Yes\",Template!$AD$149,\"\")","v":""},null,null,null,{"$f":"IF(LEFT(Template!$Q$149,2)=\"BK\",Template!$Q$149,\"\")","v":""}]
[null,{"$f":"Template!$L$150","v":0},143,{"$f":"IF(Template!$AB$150<>\"\",INDEX(Worktags!$B$4:$D$36,MATCH(Template!$AB$150,Worktags!$C$4:$C$36,0),1),\"\")","v":""},{"$f":"IF(Template!$P$150<>\"\",Template!$P$150,\"\")","v":""},"BYU_Child",null,4.57,null,null,null,null,{"$f":"IF(Template!$R$150<>\"\",Template!$R$150,\"\")","v":""},{"$f":"IF(Template!$AE$150<>\"\",Template!$AE$150,\"\")","v":""},{"$f":"IF(LEFT(Template!$Q$150,2)=\"SC\",Template!$Q$150,\"\")","v":""},{"$f":"IF(LEFT(Template!$Q$150,2)=\"RC\",Template!$Q$150,\"\")","v":""},{"$f":"IF(LEFT(Template!$O$150,2)=\"CC\",Template!$O$150,\"\")","v":""},{"$f":"IF(LEFT(Template!$O$150,2)=\"AC\",Template!$O$150,\"\")","v":""},{"$f":"IF(LEFT(Template!$O$150,2)=\"GF\",Template!$O$150,\"\")","v":""},{"$f":"IF(LEFT(Template!$O$150,2)=\"GR\",Template!$O$150,\"\")","v":""},null,null,{"$f":"IF(Template!$AC$150<>\"\",Template!$AC$150,\"\")","v":""},null,{"$f":"IF(Template!$Y$150<>\"\",Template!$Y$150,\"\")","v":""},{"$f":"IF(Template!$Z$150<>\"\",Template!$Z$150,\"\")","v":""},{"$f":"IF(Template!$AA$150<>\"\",Template!$AA$150,\"\")","v":""},{"$f":"IF(Template!$AD$150=\"Yes\",Template!$AD$150,\"\")","v":""},null,null,null,{"$f":"IF(LEFT(Template!$Q$150,2)=\"BK\",Template!$Q$150,\"\")","v":""}]
[null,{"$f":"Template!$L$151","v":0},144,{"$f":"IF(Template!$AB$151<>\"\",INDEX(Worktags!$B$4:$D$36,MATCH(Template!$AB$151,Worktags!$C$4:$C$36,0),1),\"\")","v":""},{"$f":"IF(Template!$P$151<>\"\",Template!$P$151,\"\")","v":""},"BYU_Child",6.48,null,null,null,null,null,{"$f":"IF(Template!$R$151<>\"\",Template!$R$151,\"\")","v":""},{"$f":"IF(Template!$AE$151<>\"\",Template!$AE$151,\"\")","v":""},{"$f":"IF(LEFT(Template!$Q$151,2)=\"SC\",Template!$Q$151,\"\")","v":""},{"$f":"IF(LEFT(Template!$Q$151,2)=\"RC\",Template!$Q$151,\"\")","v":""},{"$f":"IF(LEFT(Template!$O$151,2)=\"CC\",Template!$O$151,\"\")","v":""},{"$f":"IF(LEFT(Template!$O$151,2)=\"AC\",Template!$O$151,\"\")","v":""},{"$f":"IF(LEFT(Template!$O$151,2)=\"GF\",Template!$O$151,\"\")","v":""},{"$f":"IF(LEFT(Template!$O$151,2)=\"GR\",Template!$O$151,\"\")","v":""},null,null,{"$f":"IF(Template!$AC$151<>\"\",Template!$AC$151,\"\")","v":""},null,{"$f":"IF(Template!$Y$151<>\"\",Template!$Y$151,\"\")","v":""},{"$f":"IF(Template!$Z$151<>\"\",Template!$Z$151,\"\")","v":""},{"$f":"IF(Template!$AA$151<>\"\",Template!$AA$151,\"\")","v":""},{"$f":"IF(Template!$AD$151=\"Yes\",Template!$AD$151,\"\")","v":""},null,null,null,{"$f":"IF(LEFT(Template!$Q$151,2)=\"BK\",Template!$Q$151,\"\")","v":""}]
[null,{"$f":"Template!$L$152","v":0},145,{"$f":"IF(Template!$AB$152<>\"\",INDEX(Worktags!$B$4:$D$36,MATCH(Template!$AB$152,Worktags!$C$4:$C$36,0),1),\"\")","v":""},{"$f":"IF(Template!$P$152<>\"\",Template!$P$152,\"\")","v":""},"BYU_Child",28.18,null,null,null,null,null,{"$f":"IF(Template!$R$152<>\"\",Template!$R$152,\"\")","v":""},{"$f":"IF(Template!$AE$152<>\"\",Template!$AE$152,\"\")","v":""},{"$f":"IF(LEFT(Template!$Q$152,2)=\"SC\",Template!$Q$152,\"\")","v":""},{"$f":"IF(LEFT(Template!$Q$152,2)=\"RC\",Template!$Q$152,\"\")","v":""},{"$f":"IF(LEFT(Template!$O$152,2)=\"CC\",Template!$O$152,\"\")","v":""},{"$f":"IF(LEFT(Template!$O$152,2)=\"AC\",Template!$O$152,\"\")","v":""},{"$f":"IF(LEFT(Template!$O$152,2)=\"GF\",Template!$O$152,\"\")","v":""},{"$f":"IF(LEFT(Template!$O$152,2)=\"GR\",Template!$O$152,\"\")","v":""},null,null,{"$f":"IF(Template!$AC$152<>\"\",Template!$AC$152,\"\")","v":""},null,{"$f":"IF(Template!$Y$152<>\"\",Template!$Y$152,\"\")","v":""},{"$f":"IF(Template!$Z$152<>\"\",Template!$Z$152,\"\")","v":""},{"$f":"IF(Template!$AA$152<>\"\",Template!$AA$152,\"\")","v":""},{"$f":"IF(Template!$AD$152=\"Yes\",Template!$AD$152,\"\")","v":""},null,null,null,{"$f":"IF(LEFT(Template!$Q$152,2)=\"BK\",Template!$Q$152,\"\")","v":""}]
[null,{"$f":"Template!$L$153","v":0},146,{"$f":"IF(Template!$AB$153<>\"\",INDEX(Worktags!$B$4:$D$36,MATCH(Template!$AB$153,Worktags!$C$4:$C$36,0),1),\"\")","v":""},{"$f":"IF(Template!$P$153<>\"\",Template!$P$153,\"\")","v":""},"BYU_Child",6.64,null,null,null,null,null,{"$f":"IF(Template!$R$153<>\"\",Template!$R$153,\"\")","v":""},{"$f":"IF(Template!$AE$153<>\"\",Template!$AE$153,\"\")","v":""},{"$f":"IF(LEFT(Template!$Q$153,2)=\"SC\",Template!$Q$153,\"\")","v":""},{"$f":"IF(LEFT(Template!$Q$153,2)=\"RC\",Template!$Q$153,\"\")","v":""},{"$f":"IF(LEFT(Template!$O$153,2)=\"CC\",Template!$O$153,\"\")","v":""},{"$f":"IF(LEFT(Template!$O$153,2)=\"AC\",Template!$O$153,\"\")","v":""},{"$f":"IF(LEFT(Template!$O$153,2)=\"GF\",Template!$O$153,\"\")","v":""},{"$f":"IF(LEFT(Template!$O$153,2)=\"GR\",Template!$O$153,\"\")","v":""},null,null,{"$f":"IF(Template!$AC$153<>\"\",Template!$AC$153,\"\")","v":""},null,{"$f":"IF(Template!$Y$153<>\"\",Template!$Y$153,\"\")","v":""},{"$f":"IF(Template!$Z$153<>\"\",Template!$Z$153,\"\")","v":""},{"$f":"IF(Template!$AA$153<>\"\",Template!$AA$153,\"\")","v":""},{"$f":"IF(Template!$AD$153=\"Yes\",Template!$AD$153,\"\")","v":""},null,null,null,{"$f":"IF(LEFT(Template!$Q$153,2)=\"BK\",Template!$Q$153,\"\")","v":""}]
[null,{"$f":"Template!$L$154","v":0},147,{"$f":"IF(Template!$AB$154<>\"\",INDEX(Worktags!$B$4:$D$36,MATCH(Template!$AB$154,Worktags!$C$4:$C$36,0),1),\"\")","v":""},{"$f":"IF(Template!$P$154<>\"\",Template!$P$154,\"\")","v":""},"BYU_Child",35.46,null,null,null,null,null,{"$f":"IF(Template!$R$154<>\"\",Template!$R$154,\"\")","v":""},{"$f":"IF(Template!$AE$154<>\"\",Template!$AE$154,\"\")","v":""},{"$f":"IF(LEFT(Template!$Q$154,2)=\"SC\",Template!$Q$154,\"\")","v":""},{"$f":"IF(LEFT(Template!$Q$154,2)=\"RC\",Template!$Q$154,\"\")","v":""},{"$f":"IF(LEFT(Template!$O$154,2)=\"CC\",Template!$O$154,\"\")","v":""},{"$f":"IF(LEFT(Template!$O$154,2)=\"AC\",Template!$O$154,\"\")","v":""},{"$f":"IF(LEFT(Template!$O$154,2)=\"GF\",Template!$O$154,\"\")","v":""},{"$f":"IF(LEFT(Template!$O$154,2)=\"GR\",Template!$O$154,\"\")","v":""},null,null,{"$f":"IF(Template!$AC$154<>\"\",Template!$AC$154,\"\")","v":""},null,{"$f":"IF(Template!$Y$154<>\"\",Template!$Y$154,\"\")","v":""},{"$f":"IF(Template!$Z$154<>\"\",Template!$Z$154,\"\")","v":""},{"$f":"IF(Template!$AA$154<>\"\",Template!$AA$154,\"\")","v":""},{"$f":"IF(Template!$AD$154=\"Yes\",Template!$AD$154,\"\")","v":""},null,null,null,{"$f":"IF(LEFT(Template!$Q$154,2)=\"BK\",Template!$Q$154,\"\")","v":""}]
[null,{"$f":"Template!$L$155","v":0},148,{"$f":"IF(Template!$AB$155<>\"\",INDEX(Worktags!$B$4:$D$36,MATCH(Template!$AB$155,Worktags!$C$4:$C$36,0),1),\"\")","v":""},{"$f":"IF(Template!$P$155<>\"\",Template!$P$155,\"\")","v":""},"BYU_Child",1596.71,null,null,null,null,null,{"$f":"IF(Template!$R$155<>\"\",Template!$R$155,\"\")","v":""},{"$f":"IF(Template!$AE$155<>\"\",Template!$AE$155,\"\")","v":""},{"$f":"IF(LEFT(Template!$Q$155,2)=\"SC\",Template!$Q$155,\"\")","v":""},{"$f":"IF(LEFT(Template!$Q$155,2)=\"RC\",Template!$Q$155,\"\")","v":""},{"$f":"IF(LEFT(Template!$O$155,2)=\"CC\",Template!$O$155,\"\")","v":""},{"$f":"IF(LEFT(Template!$O$155,2)=\"AC\",Template!$O$155,\"\")","v":""},{"$f":"IF(LEFT(Template!$O$155,2)=\"GF\",Template!$O$155,\"\")","v":""},{"$f":"IF(LEFT(Template!$O$155,2)=\"GR\",Template!$O$155,\"\")","v":""},null,null,{"$f":"IF(Template!$AC$155<>\"\",Template!$AC$155,\"\")","v":""},null,{"$f":"IF(Template!$Y$155<>\"\",Template!$Y$155,\"\")","v":""},{"$f":"IF(Template!$Z$155<>\"\",Template!$Z$155,\"\")","v":""},{"$f":"IF(Template!$AA$155<>\"\",Template!$AA$155,\"\")","v":""},{"$f":"IF(Template!$AD$155=\"Yes\",Template!$AD$155,\"\")","v":""},null,null,null,{"$f":"IF(LEFT(Template!$Q$155,2)=\"BK\",Template!$Q$155,\"\")","v":""}]
[null,{"$f":"Template!$L$156","v":0},149,{"$f":"IF(Template!$AB$156<>\"\",INDEX(Worktags!$B$4:$D$36,MATCH(Template!$AB$156,Worktags!$C$4:$C$36,0),1),\"\")","v":""},{"$f":"IF(Template!$P$156<>\"\",Template!$P$156,\"\")","v":""},"BYU_Child",222.53,null,null,null,null,null,{"$f":"IF(Template!$R$156<>\"\",Template!$R$156,\"\")","v":""},{"$f":"IF(Template!$AE$156<>\"\",Template!$AE$156,\"\")","v":""},{"$f":"IF(LEFT(Template!$Q$156,2)=\"SC\",Template!$Q$156,\"\")","v":""},{"$f":"IF(LEFT(Template!$Q$156,2)=\"RC\",Template!$Q$156,\"\")","v":""},{"$f":"IF(LEFT(Template!$O$156,2)=\"CC\",Template!$O$156,\"\")","v":""},{"$f":"IF(LEFT(Template!$O$156,2)=\"AC\",Template!$O$156,\"\")","v":""},{"$f":"IF(LEFT(Template!$O$156,2)=\"GF\",Template!$O$156,\"\")","v":""},{"$f":"IF(LEFT(Template!$O$156,2)=\"GR\",Template!$O$156,\"\")","v":""},null,null,{"$f":"IF(Template!$AC$156<>\"\",Template!$AC$156,\"\")","v":""},null,{"$f":"IF(Template!$Y$156<>\"\",Template!$Y$156,\"\")","v":""},{"$f":"IF(Template!$Z$156<>\"\",Template!$Z$156,\"\")","v":""},{"$f":"IF(Template!$AA$156<>\"\",Template!$AA$156,\"\")","v":""},{"$f":"IF(Template!$AD$156=\"Yes\",Template!$AD$156,\"\")","v":""},null,null,null,{"$f":"IF(LEFT(Template!$Q$156,2)=\"BK\",Template!$Q$156,\"\")","v":""}]
[null,{"$f":"Template!$L$159","v":0},150,{"$f":"IF(Template!$AB$159<>\"\",INDEX(Worktags!$B$4:$D$36,MATCH(Template!$AB$159,Worktags!$C$4:$C$36,0),1),\"\")","v":""},{"$f":"IF(Template!$P$159<>\"\",Template!$P$159,\"\")","v":""},"BYU_Child",7387.55,null,null,null,null,null,{"$f":"IF(Template!$R$159<>\"\",Template!$R$159,\"\")","v":""},{"$f":"IF(Template!$AE$159<>\"\",Template!$AE$159,\"\")","v":""},{"$f":"IF(LEFT(Template!$Q$159,2)=\"SC\",Template!$Q$159,\"\")","v":""},{"$f":"IF(LEFT(Template!$Q$159,2)=\"RC\",Template!$Q$159,\"\")","v":""},{"$f":"IF(LEFT(Template!$O$159,2)=\"CC\",Template!$O$159,\"\")","v":""},{"$f":"IF(LEFT(Template!$O$159,2)=\"AC\",Template!$O$159,\"\")","v":""},{"$f":"IF(LEFT(Template!$O$159,2)=\"GF\",Template!$O$159,\"\")","v":""},{"$f":"IF(LEFT(Template!$O$159,2)=\"GR\",Template!$O$159,\"\")","v":""},null,null,{"$f":"IF(Template!$AC$159<>\"\",Template!$AC$159,\"\")","v":""},null,{"$f":"IF(Template!$Y$159<>\"\",Template!$Y$159,\"\")","v":""},{"$f":"IF(Template!$Z$159<>\"\",Template!$Z$159,\"\")","v":""},{"$f":"IF(Template!$AA$159<>\"\",Template!$AA$159,\"\")","v":""},{"$f":"IF(Template!$AD$159=\"Yes\",Template!$AD$159,\"\")","v":""},null,null,null,{"$f":"IF(LEFT(Template!$Q$159,2)=\"BK\",Template!$Q$159,\"\")","v":""}]
[null,{"$f":"Template!$L$160","v":0},151,{"$f":"IF(Template!$AB$160<>\"\",INDEX(Worktags!$B$4:$D$36,MATCH(Template!$AB$160,Worktags!$C$4:$C$36,0),1),\"\")","v":""},{"$f":"IF(Template!$P$160<>\"\",Template!$P$160,\"\")","v":""},"BYU_Child",null,0.26,null,null,null,null,{"$f":"IF(Template!$R$160<>\"\",Template!$R$160,\"\")","v":""},{"$f":"IF(Template!$AE$160<>\"\",Template!$AE$160,\"\")","v":""},{"$f":"IF(LEFT(Template!$Q$160,2)=\"SC\",Template!$Q$160,\"\")","v":""},{"$f":"IF(LEFT(Template!$Q$160,2)=\"RC\",Template!$Q$160,\"\")","v":""},{"$f":"IF(LEFT(Template!$O$160,2)=\"CC\",Template!$O$160,\"\")","v":""},{"$f":"IF(LEFT(Template!$O$160,2)=\"AC\",Template!$O$160,\"\")","v":""},{"$f":"IF(LEFT(Template!$O$160,2)=\"GF\",Template!$O$160,\"\")","v":""},{"$f":"IF(LEFT(Template!$O$160,2)=\"GR\",Template!$O$160,\"\")","v":""},null,null,{"$f":"IF(Template!$AC$160<>\"\",Template!$AC$160,\"\")","v":""},null,{"$f":"IF(Template!$Y$160<>\"\",Template!$Y$160,\"\")","v":""},{"$f":"IF(Template!$Z$160<>\"\",Template!$Z$160,\"\")","v":""},{"$f":"IF(Template!$AA$160<>\"\",Template!$AA$160,\"\")","v":""},{"$f":"IF(Template!$AD$160=\"Yes\",Template!$AD$160,\"\")","v":""},null,null,null,{"$f":"IF(LEFT(Template!$Q$160,2)=\"BK\",Template!$Q$160,\"\")","v":""}]
[null,{"$f":"Template!$L$163","v":0},152,{"$f":"IF(Template!$AB$163<>\"\",INDEX(Worktags!$B$4:$D$36,MATCH(Template!$AB$163,Worktags!$C$4:$C$36,0),1),\"\")","v":""},{"$f":"IF(Template!$P$163<>\"\",Template!$P$163,\"\")","v":""},"BYU_Child",null,1.58,null,null,null,null,{"$f":"IF(Template!$R$163<>\"\",Template!$R$163,\"\")","v":""},{"$f":"IF(Template!$AE$163<>\"\",Template!$AE$163,\"\")","v":""},{"$f":"IF(LEFT(Template!$Q$163,2)=\"SC\",Template!$Q$163,\"\")","v":""},{"$f":"IF(LEFT(Template!$Q$163,2)=\"RC\",Template!$Q$163,\"\")","v":""},{"$f":"IF(LEFT(Template!$O$163,2)=\"CC\",Template!$O$163,\"\")","v":""},{"$f":"IF(LEFT(Template!$O$163,2)=\"AC\",Template!$O$163,\"\")","v":""},{"$f":"IF(LEFT(Template!$O$163,2)=\"GF\",Template!$O$163,\"\")","v":""},{"$f":"IF(LEFT(Template!$O$163,2)=\"GR\",Template!$O$163,\"\")","v":""},null,null,{"$f":"IF(Template!$AC$163<>\"\",Template!$AC$163,\"\")","v":""},null,{"$f":"IF(Template!$Y$163<>\"\",Template!$Y$163,\"\")","v":""},{"$f":"IF(Template!$Z$163<>\"\",Template!$Z$163,\"\")","v":""},{"$f":"IF(Template!$AA$163<>\"\",Template!$AA$163,\"\")","v":""},{"$f":"IF(Template!$AD$163=\"Yes\",Template!$AD$163,\"\")","v":""},null,null,null,{"$f":"IF(LEFT(Template!$Q$163,2)=\"BK\",Template!$Q$163,\"\")","v":""}]
[null,{"$f":"Template!$L$164","v":0},153,{"$f":"IF(Template!$AB$164<>\"\",INDEX(Worktags!$B$4:$D$36,MATCH(Template!$AB$164,Worktags!$C$4:$C$36,0),1),\"\")","v":""},{"$f":"IF(Template!$P$164<>\"\",Template!$P$164,\"\")","v":""},"BYU_Child",null,1.0900000000000001,null,null,null,null,{"$f":"IF(Template!$R$164<>\"\",Template!$R$164,\"\")","v":""},{"$f":"IF(Template!$AE$164<>\"\",Template!$AE$164,\"\")","v":""},{"$f":"IF(LEFT(Template!$Q$164,2)=\"SC\",Template!$Q$164,\"\")","v":""},{"$f":"IF(LEFT(Template!$Q$164,2)=\"RC\",Template!$Q$164,\"\")","v":""},{"$f":"IF(LEFT(Template!$O$164,2)=\"CC\",Template!$O$164,\"\")","v":""},{"$f":"IF(LEFT(Template!$O$164,2)=\"AC\",Template!$O$164,\"\")","v":""},{"$f":"IF(LEFT(Template!$O$164,2)=\"GF\",Template!$O$164,\"\")","v":""},{"$f":"IF(LEFT(Template!$O$164,2)=\"GR\",Template!$O$164,\"\")","v":""},null,null,{"$f":"IF(Template!$AC$164<>\"\",Template!$AC$164,\"\")","v":""},null,{"$f":"IF(Template!$Y$164<>\"\",Template!$Y$164,\"\")","v":""},{"$f":"IF(Template!$Z$164<>\"\",Template!$Z$164,\"\")","v":""},{"$f":"IF(Template!$AA$164<>\"\",Template!$AA$164,\"\")","v":""},{"$f":"IF(Template!$AD$164=\"Yes\",Template!$AD$164,\"\")","v":""},null,null,null,{"$f":"IF(LEFT(Template!$Q$164,2)=\"BK\",Template!$Q$164,\"\")","v":""}]
[null,{"$f":"Template!$L$165","v":0},154,{"$f":"IF(Template!$AB$165<>\"\",INDEX(Worktags!$B$4:$D$36,MATCH(Template!$AB$165,Worktags!$C$4:$C$36,0),1),\"\")","v":""},{"$f":"IF(Template!$P$165<>\"\",Template!$P$165,\"\")","v":""},"BYU_Child",null,183.67,null,null,null,null,{"$f":"IF(Template!$R$165<>\"\",Template!$R$165,\"\")","v":""},{"$f":"IF(Template!$AE$165<>\"\",Template!$AE$165,\"\")","v":""},{"$f":"IF(LEFT(Template!$Q$165,2)=\"SC\",Template!$Q$165,\"\")","v":""},{"$f":"IF(LEFT(Template!$Q$165,2)=\"RC\",Template!$Q$165,\"\")","v":""},{"$f":"IF(LEFT(Template!$O$165,2)=\"CC\",Template!$O$165,\"\")","v":""},{"$f":"IF(LEFT(Template!$O$165,2)=\"AC\",Template!$O$165,\"\")","v":""},{"$f":"IF(LEFT(Template!$O$165,2)=\"GF\",Template!$O$165,\"\")","v":""},{"$f":"IF(LEFT(Template!$O$165,2)=\"GR\",Template!$O$165,\"\")","v":""},null,null,{"$f":"IF(Template!$AC$165<>\"\",Template!$AC$165,\"\")","v":""},null,{"$f":"IF(Template!$Y$165<>\"\",Template!$Y$165,\"\")","v":""},{"$f":"IF(Template!$Z$165<>\"\",Template!$Z$165,\"\")","v":""},{"$f":"IF(Template!$AA$165<>\"\",Template!$AA$165,\"\")","v":""},{"$f":"IF(Template!$AD$165=\"Yes\",Template!$AD$165,\"\")","v":""},null,null,null,{"$f":"IF(LEFT(Template!$Q$165,2)=\"BK\",Template!$Q$165,\"\")","v":""}]
[null,{"$f":"Template!$L$166","v":0},155,{"$f":"IF(Template!$AB$166<>\"\",INDEX(Worktags!$B$4:$D$36,MATCH(Template!$AB$166,Worktags!$C$4:$C$36,0),1),\"\")","v":""},{"$f":"IF(Template!$P$166<>\"\",Template!$P$166,\"\")","v":""},"BYU_Child",null,0.56000000000000005,null,null,null,null,{"$f":"IF(Template!$R$166<>\"\",Template!$R$166,\"\")","v":""},{"$f":"IF(Template!$AE$166<>\"\",Template!$AE$166,\"\")","v":""},{"$f":"IF(LEFT(Template!$Q$166,2)=\"SC\",Template!$Q$166,\"\")","v":""},{"$f":"IF(LEFT(Template!$Q$166,2)=\"RC\",Template!$Q$166,\"\")","v":""},{"$f":"IF(LEFT(Template!$O$166,2)=\"CC\",Template!$O$166,\"\")","v":""},{"$f":"IF(LEFT(Template!$O$166,2)=\"AC\",Template!$O$166,\"\")","v":""},{"$f":"IF(LEFT(Template!$O$166,2)=\"GF\",Template!$O$166,\"\")","v":""},{"$f":"IF(LEFT(Template!$O$166,2)=\"GR\",Template!$O$166,\"\")","v":""},null,null,{"$f":"IF(Template!$AC$166<>\"\",Template!$AC$166,\"\")","v":""},null,{"$f":"IF(Template!$Y$166<>\"\",Template!$Y$166,\"\")","v":""},{"$f":"IF(Template!$Z$166<>\"\",Template!$Z$166,\"\")","v":""},{"$f":"IF(Template!$AA$166<>\"\",Template!$AA$166,\"\")","v":""},{"$f":"IF(Template!$AD$166=\"Yes\",Template!$AD$166,\"\")","v":""},null,null,null,{"$f":"IF(LEFT(Template!$Q$166,2)=\"BK\",Template!$Q$166,\"\")","v":""}]
[null,{"$f":"Template!$L$167","v":0},156,{"$f":"IF(Template!$AB$167<>\"\",INDEX(Worktags!$B$4:$D$36,MATCH(Template!$AB$167,Worktags!$C$4:$C$36,0),1),\"\")","v":""},{"$f":"IF(Template!$P$167<>\"\",Template!$P$167,\"\")","v":""},"BYU_Child",541.1,null,null,null,null,null,{"$f":"IF(Template!$R$167<>\"\",Template!$R$167,\"\")","v":""},{"$f":"IF(Template!$AE$167<>\"\",Template!$AE$167,\"\")","v":""},{"$f":"IF(LEFT(Template!$Q$167,2)=\"SC\",Template!$Q$167,\"\")","v":""},{"$f":"IF(LEFT(Template!$Q$167,2)=\"RC\",Template!$Q$167,\"\")","v":""},{"$f":"IF(LEFT(Template!$O$167,2)=\"CC\",Template!$O$167,\"\")","v":""},{"$f":"IF(LEFT(Template!$O$167,2)=\"AC\",Template!$O$167,\"\")","v":""},{"$f":"IF(LEFT(Template!$O$167,2)=\"GF\",Template!$O$167,\"\")","v":""},{"$f":"IF(LEFT(Template!$O$167,2)=\"GR\",Template!$O$167,\"\")","v":""},null,null,{"$f":"IF(Template!$AC$167<>\"\",Template!$AC$167,\"\")","v":""},null,{"$f":"IF(Template!$Y$167<>\"\",Template!$Y$167,\"\")","v":""},{"$f":"IF(Template!$Z$167<>\"\",Template!$Z$167,\"\")","v":""},{"$f":"IF(Template!$AA$167<>\"\",Template!$AA$167,\"\")","v":""},{"$f":"IF(Template!$AD$167=\"Yes\",Template!$AD$167,\"\")","v":""},null,null,null,{"$f":"IF(LEFT(Template!$Q$167,2)=\"BK\",Template!$Q$167,\"\")","v":""}]
[null,{"$f":"Template!$L$170","v":0},157,{"$f":"IF(Template!$AB$170<>\"\",INDEX(Worktags!$B$4:$D$36,MATCH(Template!$AB$170,Worktags!$C$4:$C$36,0),1),\"\")","v":""},{"$f":"IF(Template!$P$170<>\"\",Template!$P$170,\"\")","v":""},"BYU_Child",null,124.07,null,null,null,null,{"$f":"IF(Template!$R$170<>\"\",Template!$R$170,\"\")","v":""},{"$f":"IF(Template!$AE$170<>\"\",Template!$AE$170,\"\")","v":""},{"$f":"IF(LEFT(Template!$Q$170,2)=\"SC\",Template!$Q$170,\"\")","v":""},{"$f":"IF(LEFT(Template!$Q$170,2)=\"RC\",Template!$Q$170,\"\")","v":""},{"$f":"IF(LEFT(Template!$O$170,2)=\"CC\",Template!$O$170,\"\")","v":""},{"$f":"IF(LEFT(Template!$O$170,2)=\"AC\",Template!$O$170,\"\")","v":""},{"$f":"IF(LEFT(Template!$O$170,2)=\"GF\",Template!$O$170,\"\")","v":""},{"$f":"IF(LEFT(Template!$O$170,2)=\"GR\",Template!$O$170,\"\")","v":""},null,null,{"$f":"IF(Template!$AC$170<>\"\",Template!$AC$170,\"\")","v":""},null,{"$f":"IF(Template!$Y$170<>\"\",Template!$Y$170,\"\")","v":""},{"$f":"IF(Template!$Z$170<>\"\",Template!$Z$170,\"\")","v":""},{"$f":"IF(Template!$AA$170<>\"\",Template!$AA$170,\"\")","v":""},{"$f":"IF(Template!$AD$170=\"Yes\",Template!$AD$170,\"\")","v":""},null,null,null,{"$f":"IF(LEFT(Template!$Q$170,2)=\"BK\",Template!$Q$170,\"\")","v":""}]
[null,{"$f":"Template!$L$171","v":0},158,{"$f":"IF(Template!$AB$171<>\"\",INDEX(Worktags!$B$4:$D$36,MATCH(Template!$AB$171,Worktags!$C$4:$C$36,0),1),\"\")","v":""},{"$f":"IF(Template!$P$171<>\"\",Template!$P$171,\"\")","v":""},"BYU_Child",null,0.37,null,null,null,null,{"$f":"IF(Template!$R$171<>\"\",Template!$R$171,\"\")","v":""},{"$f":"IF(Template!$AE$171<>\"\",Template!$AE$171,\"\")","v":""},{"$f":"IF(LEFT(Template!$Q$171,2)=\"SC\",Template!$Q$171,\"\")","v":""},{"$f":"IF(LEFT(Template!$Q$171,2)=\"RC\",Template!$Q$171,\"\")","v":""},{"$f":"IF(LEFT(Template!$O$171,2)=\"CC\",Template!$O$171,\"\")","v":""},{"$f":"IF(LEFT(Template!$O$171,2)=\"AC\",Template!$O$171,\"\")","v":""},{"$f":"IF(LEFT(Template!$O$171,2)=\"GF\",Template!$O$171,\"\")","v":""},{"$f":"IF(LEFT(Template!$O$171,2)=\"GR\",Template!$O$171,\"\")","v":""},null,null,{"$f":"IF(Template!$AC$171<>\"\",Template!$AC$171,\"\")","v":""},null,{"$f":"IF(Template!$Y$171<>\"\",Template!$Y$171,\"\")","v":""},{"$f":"IF(Template!$Z$171<>\"\",Template!$Z$171,\"\")","v":""},{"$f":"IF(Template!$AA$171<>\"\",Template!$AA$171,\"\")","v":""},{"$f":"IF(Template!$AD$171=\"Yes\",Template!$AD$171,\"\")","v":""},null,null,null,{"$f":"IF(LEFT(Template!$Q$171,2)=\"BK\",Template!$Q$171,\"\")","v":""}]
[null,{"$f":"Template!$L$172","v":0},159,{"$f":"IF(Template!$AB$172<>\"\",INDEX(Worktags!$B$4:$D$36,MATCH(Template!$AB$172,Worktags!$C$4:$C$36,0),1),\"\")","v":""},{"$f":"IF(Template!$P$172<>\"\",Template!$P$172,\"\")","v":""},"BYU_Child",18110.97,null,null,null,null,null,{"$f":"IF(Template!$R$172<>\"\",Template!$R$172,\"\")","v":""},{"$f":"IF(Template!$AE$172<>\"\",Template!$AE$172,\"\")","v":""},{"$f":"IF(LEFT(Template!$Q$172,2)=\"SC\",Template!$Q$172,\"\")","v":""},{"$f":"IF(LEFT(Template!$Q$172,2)=\"RC\",Template!$Q$172,\"\")","v":""},{"$f":"IF(LEFT(Template!$O$172,2)=\"CC\",Template!$O$172,\"\")","v":""},{"$f":"IF(LEFT(Template!$O$172,2)=\"AC\",Template!$O$172,\"\")","v":""},{"$f":"IF(LEFT(Template!$O$172,2)=\"GF\",Template!$O$172,\"\")","v":""},{"$f":"IF(LEFT(Template!$O$172,2)=\"GR\",Template!$O$172,\"\")","v":""},null,null,{"$f":"IF(Template!$AC$172<>\"\",Template!$AC$172,\"\")","v":""},null,{"$f":"IF(Template!$Y$172<>\"\",Template!$Y$172,\"\")","v":""},{"$f":"IF(Template!$Z$172<>\"\",Template!$Z$172,\"\")","v":""},{"$f":"IF(Template!$AA$172<>\"\",Template!$AA$172,\"\")","v":""},{"$f":"IF(Template!$AD$172=\"Yes\",Template!$AD$172,\"\")","v":""},null,null,null,{"$f":"IF(LEFT(Template!$Q$172,2)=\"BK\",Template!$Q$172,\"\")","v":""}]