{"text_format":"1","workbook":"xlsx","n_sheets":9,"sheets":["Template","Error Log","Support","Worktags","Tenant","AccountSCRC_Concat","Budget Info","Import Budget Amendment","Amendment Entry Data"],"not_rendered":{"charts":0,"images":0,"macros":1,"external_links":0,"defined_names":60,"comments":2,"pivot_tables":0},"unopened":[],"bounds":{"document_bytes":16777216,"sheet_cells":100000,"rows_first":2000,"rows_last":500,"rows_between":2000,"halvings":0,"cell_chars":16384,"cell_head_chars":4096},"cells_cut":0,"cells_raw":0,"read":"whole","date_system":"1900"}

{"sheet":"Template","index":0,"n_rows":600,"n_cols":72,"rows_kept":600,"cut":false,"hidden":false,"merged":[]}
["Budget Amendment",null,null,null,null,"Tenant",null,null,null,null,null,null,null,null,null,null,null,null,null,null,null,null,null,null,null,null,null,null,null,null,null,null,null,null,true,true]
[null,null,null,null,null,"Production",null,null,null,null,null,null,null,null,null,null,null,null,null,null,null,null,null,null,null,null,null,null,null,null,null,null,null,null,false]
[null,null,null,null,null,null,null,null,null,null,null,null,null,null,null,null,null,null,null,null,null,1,2,3,4,5,6,7,8,9,10,11,12,null,100]
[]
[null,null,null,null,null,null,null,null,null,null,null,null,null,null,null,null,null,null,null,null,null,"Jan Total","Feb Total","Mar Total","Apr Total","May Total","Jun Total","Jul Total","Aug Total","Sep Total","Oct Total","Nov Total","Dec Total","Annual Total",null,null,null,null,null,null,null,null,null,null,null,null,null,null,null,null,null,null,null,null,null,null,null,null,null,null,null,null,{"$f":"COUNTBLANK(BK8:BK57)","v":50}]
["Budget Amendment Header Information",null,null,null,null,null,null,"Budget Amendment Lines",null,null,null,null,null,null,null,null,null,null,null,null,null,{"$f":"SUM(V8:V4987)","v":0},0,0,0,0,0,0,0,0,0,0,0,{"$f":"SUM(BAcol)","v":0},1,null,null,null,null,null,null,null,null,null,null,null,null,null,null,null,null,null,null,null,null,null,null,null,null,null,null,null,null,null,"Messages"]
["BA #","Amendment Date","Plan Name","Amendment Type","Header Description","Total BA Amount",null,"BA #","Driver Worktag-Description","Account-Spend/Revenue Category-Description","Driver Worktag","Account","Spend/Revenue Category","Related Fund","Line Description","Class-Description","Assignee-Description","Exp Learning & Research","Class","Assignee","Exp Learning & Research","January","February","March","April","May","June","July","August","September","October","November","December","Annual Total","Y",null,null,null,null,null,null,"BA #","Balanced?","Balanced by Fund","Duplicate Lines","Original","SC0102","SC0103/4",6900,"Appropriated","Faculty Consolidation","Plant Fund","Self Supporting","Designated","Endowment Payout - Temp Restricted","Endowment Permanently Restricted","Endowment Temporarily Restricted","Endowment Unrestricted","Gift Temporarily Restricted","Gift Unrestricted","Permanently Restricted - Other","Sponsored Awards",{"$f":"CONCATENATE(BK8,BK9,BK10,BK11,BK12,BK13,BK14,BK15,BK16,BK17,BK18,BK19,BK20,BK21,BK22,BK23,BK24,BK25,BK26,BK27,BK28,BK29,BK30,BK31,BK32,BK33,BK34,BK35,BK36,BK37,BK38,BK39,BK40,BK41,BK42,BK43,BK44,BK45,BK46,BK47,BK48,BK49,BK50,BK51,BK52,BK53,BK54,BK55,BK56,BK57)","v":""},null,"Balanced?","Balanced by Fund","Duplicate Lines","Original","SC0102","SC0103/4",6900]
[null,null,null,null,null,{"$f":"IF(A8<>\"\",ROUND(SUMIFS(BAcol,JEcol,A8),2),\"\")","v":""},null,null,null,null,null,null,null,null,null,null,null,null,null,null,null,null,null,null,null,null,null,null,null,null,null,null,null,{"$f":"SUM(V8:AG8)","v":0},null,{"$f":"H8&K8&L8&M8&S8","v":""},{"$f":"IF(H8<>\"\",MONTH(VLOOKUP($H8,$A$8:$D$57,2,FALSE)),\"\")","v":""},null,null,null,null,1,{"$f":"IF(COUNTIF($H:$H,AP8)>0,IF(SUMIFS($AH:$AH,$H:$H,$AP8)=0,\"Y\",\"N\"),\"\")","v":""},{"$f":"IF(COUNTIF($H:$H,AP8)>0,IF(OR((AX8+AY8+AZ8)<>0,BA8<>0,BB8<>0,(BC8+BD8+BE8+BF8)<>0,(BG8+BH8+BI8)<>0,BJ8<>0),\"N\",\"Y\"),\"\")","v":""},null,{"$f":"IF(COUNTIF($H:$H,AP8)>0,IF(INDEX($A$8:$D$57,MATCH(AP8,$A$8:$A$57,0),3)=\"Original Amendment\",\"Y\",\"N\"),\"\")","v":""},{"$f":"IF(COUNTIF($H:$H,AP8)>0,IF(SUMIFS($AH:$AH,$M:$M,AU$7,$H:$H,$AP8,$N:$N,\"Appropriated\")>0,\"Y\",\"N\"),\"\")","v":""},{"$f":"IF(COUNTIF($H:$H,AP8)>0,IF(OR(SUMIFS($AH:$AH,$M:$M,\"SC0103\",$H:$H,$AP8,$N:$N,\"Appropriated\")>0,(SUMIFS($AH:$AH,$M:$M,\"SC0103\",$H:$H,$AP8,$N:$N,\"Appropriated\")+SUMIFS($AH:$AH,$M:$M,\"SC0104\",$H:$H,$AP8,$N:$N,\"Appropriated\"))>0),\"Y\",\"N\"),\"\")","v":""},{"$f":"IF(COUNTIF($H:$H,AP8)>0,IF((SUMIFS($AH:$AH,$L:$L,\"6900\",$H:$H,$AP8,$N:$N,\"Appropriated\")-(SUMIFS($AH:$AH,$M:$M,\"SC0692\",$H:$H,$AP8,$N:$N,\"Appropriated\")+SUMIFS($AH:$AH,$M:$M,\"SC0695\",$H:$H,$AP8,$N:$N,\"Appropriated\")+SUMIFS($AH:$AH,$M:$M,\"SC0697\",$H:$H,$AP8,$N:$N,\"Appropriated\")))>0,\"Y\",\"N\"),\"\")","v":""},{"$f":"IF(COUNTIF($H:$H,$AP8)>0,SUMIFS($AH:$AH,$N:$N,AX$7,$H:$H,$AP8),\"\")","v":""},"","","","","","","","","","","","",{"$f":"IF(BL8=\"\",\"\",\"Budget Amendment \"&$AP8&CHAR(10)&BL8)","v":""},{"$f":"IF(COUNTBLANK(BM8:BS8)=7,\"\",IF(BM8<>\"\",BM8&CHAR(10),\"\")&IF(BN8<>\"\",BN8&CHAR(10),\"\")&IF(BO8<>\"\",BO8&CHAR(10),\"\")&IF(BP8<>\"\",BP8&CHAR(10),\"\")&IF(BQ8<>\"\",BQ8&CHAR(10),\"\")&IF(BR8<>\"\",BR8&CHAR(10),\"\")&IF(BS8<>\"\",BS8&CHAR(10),\"\"))","v":""},{"$f":"IF(AQ8=\"N\",\"Amendment Not Balanced\",\"\")","v":""},{"$f":"IF(AR8=\"N\",\"Amendment Not Balanced by Fund\",\"\")","v":""},{"$f":"IF(AS8=\"Y\",\"Amendment has Duplicate Lines\",\"\")","v":""},{"$f":"IF(AT8=\"Y\",\"Amendment is using Original Amendment Type\",\"\")","v":""},{"$f":"IF(AU8=\"Y\",\"Net Increase to Flexible Budget Allocation (SC0102)\",\"\")","v":""},{"$f":"IF(AV8=\"Y\",\"Net Increase to SC0103/4\",\"\")","v":""},{"$f":"IF(AW8=\"Y\",\"Net Increase to account 6900\",\"\")","v":""},{"$f":"IF(COUNTIF($H:$H,$AP8)>0,IF(BK8<>\"\",INDEX(HeaderInfo,MATCH($AP8,$A$8:$A$57,0),5)&CHAR(10)&$BL8,INDEX(HeaderInfo,MATCH($AP8,$A$8:$A$57,0),5)),\"\")","v":""}]
[null,null,null,null,null,{"$f":"IF(A9<>\"\",ROUND(SUMIFS(BAcol,JEcol,A9),2),\"\")","v":""},null,null,null,null,null,null,null,null,null,null,null,null,null,null,null,null,null,null,null,null,null,null,null,null,null,null,null,{"$f":"SUM(V9:AG9)","v":0},null,"","",null,null,null,null,2,"","",null,"","","","","","","","","","","","","","","","","",{"$f":"IF(BL9=\"\",\"\",\"Budget Amendment \"&$AP9&CHAR(10)&BL9)","v":""},{"$f":"IF(COUNTBLANK(BM9:BS9)=7,\"\",IF(BM9<>\"\",BM9&CHAR(10),\"\")&IF(BN9<>\"\",BN9&CHAR(10),\"\")&IF(BO9<>\"\",BO9&CHAR(10),\"\")&IF(BP9<>\"\",BP9&CHAR(10),\"\")&IF(BQ9<>\"\",BQ9&CHAR(10),\"\")&IF(BR9<>\"\",BR9&CHAR(10),\"\")&IF(BS9<>\"\",BS9&CHAR(10),\"\"))","v":""},{"$f":"IF(AQ9=\"N\",\"Amendment Not Balanced\",\"\")","v":""},{"$f":"IF(AR9=\"N\",\"Amendment Not Balanced by Fund\",\"\")","v":""},{"$f":"IF(AS9=\"Y\",\"Amendment has Duplicate Lines\",\"\")","v":""},{"$f":"IF(AT9=\"Y\",\"Amendment is using Original Amendment Type\",\"\")","v":""},{"$f":"IF(AU9=\"Y\",\"Net Increase to Flexible Budget Allocation (SC0102)\",\"\")","v":""},{"$f":"IF(AV9=\"Y\",\"Net Increase to SC0103/4\",\"\")","v":""},{"$f":"IF(AW9=\"Y\",\"Net Increase to account 6900\",\"\")","v":""},""]
[null,null,null,null,null,{"$f":"IF(A10<>\"\",ROUND(SUMIFS(BAcol,JEcol,A10),2),\"\")","v":""},null,null,null,null,null,null,null,null,null,null,null,null,null,null,null,null,null,null,null,null,null,null,null,null,null,null,null,0,null,"","",null,null,null,null,3,"","",null,"","","","","","","","","","","","","","","","","","","","","","","","","","",""]
[null,null,null,null,null,{"$f":"IF(A11<>\"\",ROUND(SUMIFS(BAcol,JEcol,A11),2),\"\")","v":""},null,null,null,null,null,null,null,null,null,null,null,null,null,null,null,null,null,null,null,null,null,null,null,null,null,null,null,0,null,"","",null,null,null,null,4,"","",null,"","","","","","","","","","","","","","","","","","","","","","","","","","",""]
[null,null,null,null,null,{"$f":"IF(A12<>\"\",ROUND(SUMIFS(BAcol,JEcol,A12),2),\"\")","v":""},null,null,null,null,null,null,null,null,null,null,null,null,null,null,null,null,null,null,null,null,null,null,null,null,null,null,null,0,null,"","",null,null,null,null,5,"","",null,"","","","","","","","","","","","","","","","","","","","","","","","","","",""]
[null,null,null,null,null,{"$f":"IF(A13<>\"\",ROUND(SUMIFS(BAcol,JEcol,A13),2),\"\")","v":""},null,null,null,null,null,null,null,null,null,null,null,null,null,null,null,null,null,null,null,null,null,null,null,null,null,null,null,0,null,"","",null,null,null,null,6,"","",null,"","","","","","","","","","","","","","","","","","","","","","","","","","",""]
[null,null,null,null,null,{"$f":"IF(A14<>\"\",ROUND(SUMIFS(BAcol,JEcol,A14),2),\"\")","v":""},null,null,null,null,null,null,null,null,null,null,null,null,null,null,null,null,null,null,null,null,null,null,null,null,null,null,null,0,null,"","",null,null,null,null,7,"","",null,"","","","","","","","","","","","","","","","","","","","","","","","","","",""]
[null,null,null,null,null,{"$f":"IF(A15<>\"\",ROUND(SUMIFS(BAcol,JEcol,A15),2),\"\")","v":""},null,null,null,null,null,null,null,null,null,null,null,null,null,null,null,null,null,null,null,null,null,null,null,null,null,null,null,0,null,"","",null,null,null,null,8,"","",null,"","","","","","","","","","","","","","","","","","","","","","","","","","",""]
[null,null,null,null,null,{"$f":"IF(A16<>\"\",ROUND(SUMIFS(BAcol,JEcol,A16),2),\"\")","v":""},null,null,null,null,null,null,null,null,null,null,null,null,null,null,null,null,null,null,null,null,null,null,null,null,null,null,null,0,null,"","",null,null,null,null,9,"","",null,"","","","","","","","","","","","","","","","","","","","","","","","","","",""]
[null,null,null,null,null,{"$f":"IF(A17<>\"\",ROUND(SUMIFS(BAcol,JEcol,A17),2),\"\")","v":""},null,null,null,null,null,null,null,null,null,null,null,null,null,null,null,null,null,null,null,null,null,null,null,null,null,null,null,0,null,"","",null,null,null,null,10,"","",null,"","","","","","","","","","","","","","","","","","","","","","","","","","",""]
[null,null,null,null,null,{"$f":"IF(A18<>\"\",ROUND(SUMIFS(BAcol,JEcol,A18),2),\"\")","v":""},null,null,null,null,null,null,null,null,null,null,null,null,null,null,null,null,null,null,null,null,null,null,null,null,null,null,null,0,null,"","",null,null,null,null,11,"","",null,"","","","",{"$f":"IF(COUNTIF($H:$H,$AP18)>0,SUMIFS($AH:$AH,$N:$N,AX$7,$H:$H,$AP18),\"\")","v":""},"","","","","","","","","","","","","","","","","","","","","",""]
[null,null,null,null,null,{"$f":"IF(A19<>\"\",ROUND(SUMIFS(BAcol,JEcol,A19),2),\"\")","v":""},null,null,null,null,null,null,null,null,null,null,null,null,null,null,null,null,null,null,null,null,null,null,null,null,null,null,null,0,null,"","",null,null,null,null,12,"","",null,"","","","","","","","","","","","","","","","","","","","","","","","","","",""]
[null,null,null,null,null,{"$f":"IF(A20<>\"\",ROUND(SUMIFS(BAcol,JEcol,A20),2),\"\")","v":""},null,null,null,null,null,null,null,null,null,null,null,null,null,null,null,null,null,null,null,null,null,null,null,null,null,null,null,0,null,"","",null,null,null,null,13,"","",null,"","","","","","","","","","","","","","","","","","","","","","","","","","",""]
[null,null,null,null,null,{"$f":"IF(A21<>\"\",ROUND(SUMIFS(BAcol,JEcol,A21),2),\"\")","v":""},null,null,null,null,null,null,null,null,null,null,null,null,null,null,null,null,null,null,null,null,null,null,null,null,null,null,null,0,null,"","",null,null,null,null,14,"","",null,"","","","","","","","","","","","","","","","","","","","","","","","","","",""]
[null,null,null,null,null,{"$f":"IF(A22<>\"\",ROUND(SUMIFS(BAcol,JEcol,A22),2),\"\")","v":""},null,null,null,null,null,null,null,null,null,null,null,null,null,null,null,null,null,null,null,null,null,null,null,null,null,null,null,0,null,"","",null,null,null,null,15,"","",null,"","","","","","","","","","","","","","","","","","","","","","","","","","",""]
[null,null,null,null,null,{"$f":"IF(A23<>\"\",ROUND(SUMIFS(BAcol,JEcol,A23),2),\"\")","v":""},null,null,null,null,null,null,null,null,null,null,null,null,null,null,null,null,null,null,null,null,null,null,null,null,null,null,null,0,null,"","",null,null,null,null,16,"","",null,"","","","","","","","","","","","","","","","","","","","","","","","","","",""]
[null,null,null,null,null,{"$f":"IF(A24<>\"\",ROUND(SUMIFS(BAcol,JEcol,A24),2),\"\")","v":""},null,null,null,null,null,null,null,null,null,null,null,null,null,null,null,null,null,null,null,null,null,null,null,null,null,null,null,0,null,"","",null,null,null,null,17,"","",null,"","","","","","","","","","","","","","","","","","","","","","","","","","",""]
[null,null,null,null,null,{"$f":"IF(A25<>\"\",ROUND(SUMIFS(BAcol,JEcol,A25),2),\"\")","v":""},null,null,null,null,null,null,null,null,null,null,null,null,null,null,null,null,null,null,null,null,null,null,null,null,null,null,null,0,null,"","",null,null,null,null,18,"","",null,"","","","","","","","","","","","","","","","","","","","","","","","","","",""]
[null,null,null,null,null,{"$f":"IF(A26<>\"\",ROUND(SUMIFS(BAcol,JEcol,A26),2),\"\")","v":""},null,null,null,null,null,null,null,null,null,null,null,null,null,null,null,null,null,null,null,null,null,null,null,null,null,null,null,0,null,"","",null,null,null,null,19,"","",null,"","","","","","","","","","","","","","","","","","","","","","","","","","",""]
[null,null,null,null,null,{"$f":"IF(A27<>\"\",ROUND(SUMIFS(BAcol,JEcol,A27),2),\"\")","v":""},null,null,null,null,null,null,null,null,null,null,null,null,null,null,null,null,null,null,null,null,null,null,null,null,null,null,null,0,null,"","",null,null,null,null,20,"","",null,"","","","","","","","","","","","","","","","","","","","","","","","","","",""]
[null,null,null,null,null,{"$f":"IF(A28<>\"\",ROUND(SUMIFS(BAcol,JEcol,A28),2),\"\")","v":""},null,null,null,null,null,null,null,null,null,null,null,null,null,null,null,null,null,null,null,null,null,null,null,null,null,null,null,0,null,"","",null,null,null,null,21,"","",null,"","","","",{"$f":"IF(COUNTIF($H:$H,$AP28)>0,SUMIFS($AH:$AH,$N:$N,AX$7,$H:$H,$AP28),\"\")","v":""},"","","","","","","","","","","","","","","","","","","","","",""]
[null,null,null,null,null,{"$f":"IF(A29<>\"\",ROUND(SUMIFS(BAcol,JEcol,A29),2),\"\")","v":""},null,null,null,null,null,null,null,null,null,null,null,null,null,null,null,null,null,null,null,null,null,null,null,null,null,null,null,0,null,"","",null,null,null,null,22,"","",null,"","","","","","","","","","","","","","","","","","","","","","","","","","",""]
[null,null,null,null,null,{"$f":"IF(A30<>\"\",ROUND(SUMIFS(BAcol,JEcol,A30),2),\"\")","v":""},null,null,null,null,null,null,null,null,null,null,null,null,null,null,null,null,null,null,null,null,null,null,null,null,null,null,null,0,null,{"$f":"#REF!&#REF!&#REF!&#REF!&#REF!","v":{"$error":"#REF!"}},{"$f":"IF(#REF!<>\"\",MONTH(VLOOKUP(#REF!,$A$8:$D$57,2,FALSE)),\"\")","v":{"$error":"#REF!"}},null,null,null,null,23,"","",null,"","","","","","","","","","","","","","","","","","","","","","","","","","",""]
[null,null,null,null,null,{"$f":"IF(A31<>\"\",ROUND(SUMIFS(BAcol,JEcol,A31),2),\"\")","v":""},null,null,null,null,null,null,null,null,null,null,null,null,null,null,null,null,null,null,null,null,null,null,null,null,null,null,null,0,null,{"$f":"#REF!&#REF!&#REF!&#REF!&#REF!","v":{"$error":"#REF!"}},{"$f":"IF(#REF!<>\"\",MONTH(VLOOKUP(#REF!,$A$8:$D$57,2,FALSE)),\"\")","v":{"$error":"#REF!"}},null,null,null,null,24,"","",null,"","","","","","","","","","","","","","","","","","","","","","","","","","",""]
[null,null,null,null,null,{"$f":"IF(A32<>\"\",ROUND(SUMIFS(BAcol,JEcol,A32),2),\"\")","v":""},null,null,null,null,null,null,null,null,null,null,null,null,null,null,null,null,null,null,null,null,null,null,null,null,null,null,null,0,null,{"$f":"#REF!&#REF!&#REF!&#REF!&#REF!","v":{"$error":"#REF!"}},{"$f":"IF(#REF!<>\"\",MONTH(VLOOKUP(#REF!,$A$8:$D$57,2,FALSE)),\"\")","v":{"$error":"#REF!"}},null,null,null,null,25,"","",null,"","","","","","","","","","","","","","","","","","","","","","","","","","",""]
[null,null,null,null,null,{"$f":"IF(A33<>\"\",ROUND(SUMIFS(BAcol,JEcol,A33),2),\"\")","v":""},null,null,null,null,null,null,null,null,null,null,null,null,null,null,null,null,null,null,null,null,null,null,null,null,null,null,null,0,null,{"$f":"#REF!&#REF!&#REF!&#REF!&#REF!","v":{"$error":"#REF!"}},{"$f":"IF(#REF!<>\"\",MONTH(VLOOKUP(#REF!,$A$8:$D$57,2,FALSE)),\"\")","v":{"$error":"#REF!"}},null,null,null,null,26,"","",null,"","","","","","","","","","","","","","","","","","","","","","","","","","",""]
[null,null,null,null,null,{"$f":"IF(A34<>\"\",ROUND(SUMIFS(BAcol,JEcol,A34),2),\"\")","v":""},null,null,null,null,null,null,null,null,null,null,null,null,null,null,null,null,null,null,null,null,null,null,null,null,null,null,null,0,null,{"$f":"H30&K30&L30&M30&S30","v":""},{"$f":"IF(H30<>\"\",MONTH(VLOOKUP($H30,$A$8:$D$57,2,FALSE)),\"\")","v":""},null,null,null,null,27,"","",null,"","","","","","","","","","","","","","","","","","","","","","","","","","",""]
[null,null,null,null,null,{"$f":"IF(A35<>\"\",ROUND(SUMIFS(BAcol,JEcol,A35),2),\"\")","v":""},null,null,null,null,null,null,null,null,null,null,null,null,null,null,null,null,null,null,null,null,null,null,null,null,null,null,null,0,null,"","",null,null,null,null,28,"","",null,"","","","","","","","","","","","","","","","","","","","","","","","","","",""]
[null,null,null,null,null,{"$f":"IF(A36<>\"\",ROUND(SUMIFS(BAcol,JEcol,A36),2),\"\")","v":""},null,null,null,null,null,null,null,null,null,null,null,null,null,null,null,null,null,null,null,null,null,null,null,null,null,null,null,0,null,"","",null,null,null,null,29,"","",null,"","","","","","","","","","","","","","","","","","","","","","","","","","",""]
[null,null,null,null,null,{"$f":"IF(A37<>\"\",ROUND(SUMIFS(BAcol,JEcol,A37),2),\"\")","v":""},null,null,null,null,null,null,null,null,null,null,null,null,null,null,null,null,null,null,null,null,null,null,null,null,null,null,null,0,null,"","",null,null,null,null,30,"","",null,"","","","","","","","","","","","","","","","","","","","","","","","","","",""]
[null,null,null,null,null,{"$f":"IF(A38<>\"\",ROUND(SUMIFS(BAcol,JEcol,A38),2),\"\")","v":""},null,null,null,null,null,null,null,null,null,null,null,null,null,null,null,null,null,null,null,null,null,null,null,null,null,null,null,0,null,"","",null,null,null,null,31,"","",null,"","","","",{"$f":"IF(COUNTIF($H:$H,$AP38)>0,SUMIFS($AH:$AH,$N:$N,AX$7,$H:$H,$AP38),\"\")","v":""},"","","","","","","","","","","","","","","","","","","","","",""]
[null,null,null,null,null,{"$f":"IF(A39<>\"\",ROUND(SUMIFS(BAcol,JEcol,A39),2),\"\")","v":""},null,null,null,null,null,null,null,null,null,null,null,null,null,null,null,null,null,null,null,null,null,null,null,null,null,null,null,0,null,"","",null,null,null,null,32,"","",null,"","","","","","","","","","","","","","","","","","","","","","","","","","",""]
[null,null,null,null,null,{"$f":"IF(A40<>\"\",ROUND(SUMIFS(BAcol,JEcol,A40),2),\"\")","v":""},null,null,null,null,null,null,null,null,null,null,null,null,null,null,null,null,null,null,null,null,null,null,null,null,null,null,null,0,null,"","",null,null,null,null,33,{"$f":"IF(COUNTIF($H:$H,AP40)>0,IF(SUMIFS($AH:$AH,$H:$H,$AP40)=0,\"Y\",\"N\"),\"\")","v":""},{"$f":"IF(COUNTIF($H:$H,AP40)>0,IF(OR((AX40+AY40+AZ40)<>0,BA40<>0,BB40<>0,(BC40+BD40+BE40+BF40)<>0,(BG40+BH40+BI40)<>0,BJ40<>0),\"N\",\"Y\"),\"\")","v":""},null,{"$f":"IF(COUNTIF($H:$H,AP40)>0,IF(INDEX($A$8:$D$57,MATCH(AP40,$A$8:$A$57,0),3)=\"Original Amendment\",\"Y\",\"N\"),\"\")","v":""},{"$f":"IF(COUNTIF($H:$H,AP40)>0,IF(SUMIFS($AH:$AH,$M:$M,AU$7,$H:$H,$AP40,$N:$N,\"Appropriated\")>0,\"Y\",\"N\"),\"\")","v":""},{"$f":"IF(COUNTIF($H:$H,AP40)>0,IF(OR(SUMIFS($AH:$AH,$M:$M,\"SC0103\",$H:$H,$AP40,$N:$N,\"Appropriated\")>0,(SUMIFS($AH:$AH,$M:$M,\"SC0103\",$H:$H,$AP40,$N:$N,\"Appropriated\")+SUMIFS($AH:$AH,$M:$M,\"SC0104\",$H:$H,$AP40,$N:$N,\"Appropriated\"))>0),\"Y\",\"N\"),\"\")","v":""},{"$f":"IF(COUNTIF($H:$H,AP40)>0,IF((SUMIFS($AH:$AH,$L:$L,\"6900\",$H:$H,$AP40,$N:$N,\"Appropriated\")-(SUMIFS($AH:$AH,$M:$M,\"SC0692\",$H:$H,$AP40,$N:$N,\"Appropriated\")+SUMIFS($AH:$AH,$M:$M,\"SC0695\",$H:$H,$AP40,$N:$N,\"Appropriated\")+SUMIFS($AH:$AH,$M:$M,\"SC0697\",$H:$H,$AP40,$N:$N,\"Appropriated\")))>0,\"Y\",\"N\"),\"\")","v":""},"","","","","","","","","","","","","","","","","","","","","","",{"$f":"IF(COUNTIF($H:$H,$AP40)>0,IF(BK40<>\"\",INDEX(HeaderInfo,MATCH($AP40,$A$8:$A$57,0),5)&CHAR(10)&$BL40,INDEX(HeaderInfo,MATCH($AP40,$A$8:$A$57,0),5)),\"\")","v":""}]
[null,null,null,null,null,{"$f":"IF(A41<>\"\",ROUND(SUMIFS(BAcol,JEcol,A41),2),\"\")","v":""},null,null,null,null,null,null,null,null,null,null,null,null,null,null,null,null,null,null,null,null,null,null,null,null,null,null,null,0,null,"","",null,null,null,null,34,"","",null,"","","","","","","","","","","","","","","","","","","","","","","","","","",""]
[null,null,null,null,null,{"$f":"IF(A42<>\"\",ROUND(SUMIFS(BAcol,JEcol,A42),2),\"\")","v":""},null,null,null,null,null,null,null,null,null,null,null,null,null,null,null,null,null,null,null,null,null,null,null,null,null,null,null,0,null,"","",null,null,null,null,35,"","",null,"","","","","","","","","","","","","","","","","","","","","","","","","","",""]
[null,null,null,null,null,{"$f":"IF(A43<>\"\",ROUND(SUMIFS(BAcol,JEcol,A43),2),\"\")","v":""},null,null,null,null,null,null,null,null,null,null,null,null,null,null,null,null,null,null,null,null,null,null,null,null,null,null,null,0,null,"","",null,null,null,null,36,"","",null,"","","","","","","","","","","","","","","","","","","","","","","","","","",""]
[null,null,null,null,null,{"$f":"IF(A44<>\"\",ROUND(SUMIFS(BAcol,JEcol,A44),2),\"\")","v":""},null,null,null,null,null,null,null,null,null,null,null,null,null,null,null,null,null,null,null,null,null,null,null,null,null,null,null,0,null,"","",null,null,null,null,37,"","",null,"","","","","","","","","","","","","","","","","","","","","","","","","","",""]
[null,null,null,null,null,{"$f":"IF(A45<>\"\",ROUND(SUMIFS(BAcol,JEcol,A45),2),\"\")","v":""},null,null,null,null,null,null,null,null,null,null,null,null,null,null,null,null,null,null,null,null,null,null,null,null,null,null,null,0,null,"","",null,null,null,null,38,"","",null,"","","","","","","","","","","","","","","","","","","","","","","","","","",""]
[null,null,null,null,null,{"$f":"IF(A46<>\"\",ROUND(SUMIFS(BAcol,JEcol,A46),2),\"\")","v":""},null,null,null,null,null,null,null,null,null,null,null,null,null,null,null,null,null,null,null,null,null,null,null,null,null,null,null,0,null,"","",null,null,null,null,39,"","",null,"","","","","","","","","","","","","","","","","","","","","","","","","","",""]
[null,null,null,null,null,{"$f":"IF(A47<>\"\",ROUND(SUMIFS(BAcol,JEcol,A47),2),\"\")","v":""},null,null,null,null,null,null,null,null,null,null,null,null,null,null,null,null,null,null,null,null,null,null,null,null,null,null,null,0,null,"","",null,null,null,null,40,"","",null,"","","","","","","","","","","","","","","","","","","","","","","","","","",""]
[null,null,null,null,null,{"$f":"IF(A48<>\"\",ROUND(SUMIFS(BAcol,JEcol,A48),2),\"\")","v":""},null,null,null,null,null,null,null,null,null,null,null,null,null,null,null,null,null,null,null,null,null,null,null,null,null,null,null,0,null,"","",null,null,null,null,41,"","",null,"","","","",{"$f":"IF(COUNTIF($H:$H,$AP48)>0,SUMIFS($AH:$AH,$N:$N,AX$7,$H:$H,$AP48),\"\")","v":""},"","","","","","","","","","","","","","","","","","","","","",""]
[null,null,null,null,null,{"$f":"IF(A49<>\"\",ROUND(SUMIFS(BAcol,JEcol,A49),2),\"\")","v":""},null,null,null,null,null,null,null,null,null,null,null,null,null,null,null,null,null,null,null,null,null,null,null,null,null,null,null,0,null,"","",null,null,null,null,42,"","",null,"","","","","","","","","","","","","","","","","","","","","","","","","","",""]
[null,null,null,null,null,{"$f":"IF(A50<>\"\",ROUND(SUMIFS(BAcol,JEcol,A50),2),\"\")","v":""},null,null,null,null,null,null,null,null,null,null,null,null,null,null,null,null,null,null,null,null,null,null,null,null,null,null,null,0,null,"","",null,null,null,null,43,"","",null,"","","","","","","","","","","","","","","","","","","","","","","","","","",""]
[null,null,null,null,null,{"$f":"IF(A51<>\"\",ROUND(SUMIFS(BAcol,JEcol,A51),2),\"\")","v":""},null,null,null,null,null,null,null,null,null,null,null,null,null,null,null,null,null,null,null,null,null,null,null,null,null,null,null,0,null,"","",null,null,null,null,44,"","",null,"","","","","","","","","","","","","","","","","","","","","","","","","","",""]
[null,null,null,null,null,{"$f":"IF(A52<>\"\",ROUND(SUMIFS(BAcol,JEcol,A52),2),\"\")","v":""},null,null,null,null,null,null,null,null,null,null,null,null,null,null,null,null,null,null,null,null,null,null,null,null,null,null,null,0,null,"","",null,null,null,null,45,"","",null,"","","","","","","","","","","","","","","","","","","","","","","","","","",""]
[null,null,null,null,null,{"$f":"IF(A53<>\"\",ROUND(SUMIFS(BAcol,JEcol,A53),2),\"\")","v":""},null,null,null,null,null,null,null,null,null,null,null,null,null,null,null,null,null,null,null,null,null,null,null,null,null,null,null,0,null,"","",null,null,null,null,46,"","",null,"","","","","","","","","","","","","","","","","","","","","","","","","","",""]
[null,null,null,null,null,{"$f":"IF(A54<>\"\",ROUND(SUMIFS(BAcol,JEcol,A54),2),\"\")","v":""},null,null,null,null,null,null,null,null,null,null,null,null,null,null,null,null,null,null,null,null,null,null,null,null,null,null,null,0,null,"","",null,null,null,null,47,"","",null,"","","","","","","","","","","","","","","","","","","","","","","","","","",""]
[null,null,null,null,null,{"$f":"IF(A55<>\"\",ROUND(SUMIFS(BAcol,JEcol,A55),2),\"\")","v":""},null,null,null,null,null,null,null,null,null,null,null,null,null,null,null,null,null,null,null,null,null,null,null,null,null,null,null,0,null,"","",null,null,null,null,48,"","",null,"","","","","","","","","","","","","","","","","","","","","","","","","","",""]
[null,null,null,null,null,{"$f":"IF(A56<>\"\",ROUND(SUMIFS(BAcol,JEcol,A56),2),\"\")","v":""},null,null,null,null,null,null,null,null,null,null,null,null,null,null,null,null,null,null,null,null,null,null,null,null,null,null,null,0,null,"","",null,null,null,null,49,"","",null,"","","","","","","","","","","","","","","","","","","","","","","","","","",""]
[null,null,null,null,null,{"$f":"IF(A57<>\"\",ROUND(SUMIFS(BAcol,JEcol,A57),2),\"\")","v":""},null,null,null,null,null,null,null,null,null,null,null,null,null,null,null,null,null,null,null,null,null,null,null,null,null,null,null,0,null,"","",null,null,null,null,50,"","",null,"","","","","","","","","","","","","","","","","","","","","","","","","","",""]
[null,null,null,null,null,null,null,null,null,null,null,null,null,null,null,null,null,null,null,null,null,null,null,null,null,null,null,null,null,null,null,null,null,0,null,"",""]
[null,null,null,null,null,null,null,null,null,null,null,null,null,null,null,null,null,null,null,null,null,null,null,null,null,null,null,null,null,null,null,null,null,0,null,"",""]
[null,null,null,null,null,null,null,null,null,null,null,null,null,null,null,null,null,null,null,null,null,null,null,null,null,null,null,null,null,null,null,null,null,0,null,"",""]
[null,null,null,null,null,null,null,null,null,null,null,null,null,null,null,null,null,null,null,null,null,null,null,null,null,null,null,null,null,null,null,null,null,0,null,"",""]
[null,null,null,null,null,null,null,null,null,null,null,null,null,null,null,null,null,null,null,null,null,null,null,null,null,null,null,null,null,null,null,null,null,0,null,"",""]
[null,null,null,null,null,null,null,null,null,null,null,null,null,null,null,null,null,null,null,null,null,null,null,null,null,null,null,null,null,null,null,null,null,0,null,"",""]
[null,null,null,null,null,null,null,null,null,null,null,null,null,null,null,null,null,null,null,null,null,null,null,null,null,null,null,null,null,null,null,null,null,0,null,"",""]
[null,null,null,null,null,null,null,null,null,null,null,null,null,null,null,null,null,null,null,null,null,null,null,null,null,null,null,null,null,null,null,null,null,0,null,"",""]
[null,null,null,null,null,null,null,null,null,null,null,null,null,null,null,null,null,null,null,null,null,null,null,null,null,null,null,null,null,null,null,null,null,0,null,"",""]
[null,null,null,null,null,null,null,null,null,null,null,null,null,null,null,null,null,null,null,null,null,null,null,null,null,null,null,null,null,null,null,null,null,0,null,"",""]
[null,null,null,null,null,null,null,null,null,null,null,null,null,null,null,null,null,null,null,null,null,null,null,null,null,null,null,null,null,null,null,null,null,0,null,"",""]
[null,null,null,null,null,null,null,null,null,null,null,null,null,null,null,null,null,null,null,null,null,null,null,null,null,null,null,null,null,null,null,null,null,0,null,"",""]
[null,null,null,null,null,null,null,null,null,null,null,null,null,null,null,null,null,null,null,null,null,null,null,null,null,null,null,null,null,null,null,null,null,0,null,"",""]
[null,null,null,null,null,null,null,null,null,null,null,null,null,null,null,null,null,null,null,null,null,null,null,null,null,null,null,null,null,null,null,null,null,0,null,"",""]
[null,null,null,null,null,null,null,null,null,null,null,null,null,null,null,null,null,null,null,null,null,null,null,null,null,null,null,null,null,null,null,null,null,0,null,{"$f":"H68&K68&L68&M68&S68","v":""},""]
[null,null,null,null,null,null,null,null,null,null,null,null,null,null,null,null,null,null,null,null,null,null,null,null,null,null,null,null,null,null,null,null,null,{"$f":"SUM(V73:AG73)","v":0},null,"",""]
[null,null,null,null,null,null,null,null,null,null,null,null,null,null,null,null,null,null,null,null,null,null,null,null,null,null,null,null,null,null,null,null,null,0,null,"",""]
[null,null,null,null,null,null,null,null,null,null,null,null,null,null,null,null,null,null,null,null,null,null,null,null,null,null,null,null,null,null,null,null,null,0,null,"",""]
[null,null,null,null,null,null,null,null,null,null,null,null,null,null,null,null,null,null,null,null,null,null,null,null,null,null,null,null,null,null,null,null,null,0,null,"",""]
[null,null,null,null,null,null,null,null,null,null,null,null,null,null,null,null,null,null,null,null,null,null,null,null,null,null,null,null,null,null,null,null,null,0,null,"",""]
[null,null,null,null,null,null,null,null,null,null,null,null,null,null,null,null,null,null,null,null,null,null,null,null,null,null,null,null,null,null,null,null,null,0,null,"",""]
[null,null,null,null,null,null,null,null,null,null,null,null,null,null,null,null,null,null,null,null,null,null,null,null,null,null,null,null,null,null,null,null,null,0,null,"",""]
[null,null,null,null,null,null,null,null,null,null,null,null,null,null,null,null,null,null,null,null,null,null,null,null,null,null,null,null,null,null,null,null,null,0,null,"",""]
[null,null,null,null,null,null,null,null,null,null,null,null,null,null,null,null,null,null,null,null,null,null,null,null,null,null,null,null,null,null,null,null,null,0,null,"",""]
[null,null,null,null,null,null,null,null,null,null,null,null,null,null,null,null,null,null,null,null,null,null,null,null,null,null,null,null,null,null,null,null,null,0,null,"",""]
[null,null,null,null,null,null,null,null,null,null,null,null,null,null,null,null,null,null,null,null,null,null,null,null,null,null,null,null,null,null,null,null,null,0,null,"",""]
[null,null,null,null,null,null,null,null,null,null,null,null,null,null,null,null,null,null,null,null,null,null,null,null,null,null,null,null,null,null,null,null,null,0,null,"",""]
[null,null,null,null,null,null,null,null,null,null,null,null,null,null,null,null,null,null,null,null,null,null,null,null,null,null,null,null,null,null,null,null,null,0,null,"",""]
[null,null,null,null,null,null,null,null,null,null,null,null,null,null,null,null,null,null,null,null,null,null,null,null,null,null,null,null,null,null,null,null,null,0,null,"",""]
[null,null,null,null,null,null,null,null,null,null,null,null,null,null,null,null,null,null,null,null,null,null,null,null,null,null,null,null,null,null,null,null,null,0,null,"",""]
[null,null,null,null,null,null,null,null,null,null,null,null,null,null,null,null,null,null,null,null,null,null,null,null,null,null,null,null,null,null,null,null,null,0,null,"",""]
[null,null,null,null,null,null,null,null,null,null,null,null,null,null,null,null,null,null,null,null,null,null,null,null,null,null,null,null,null,null,null,null,null,0,null,"",""]
[null,null,null,null,null,null,null,null,null,null,null,null,null,null,null,null,null,null,null,null,null,null,null,null,null,null,null,null,null,null,null,null,null,0,null,"",""]
[null,null,null,null,null,null,null,null,null,null,null,null,null,null,null,null,null,null,null,null,null,null,null,null,null,null,null,null,null,null,null,null,null,0,null,"",""]
[null,null,null,null,null,null,null,null,null,null,null,null,null,null,null,null,null,null,null,null,null,null,null,null,null,null,null,null,null,null,null,null,null,0,null,"",""]
[null,null,null,null,null,null,null,null,null,null,null,null,null,null,null,null,null,null,null,null,null,null,null,null,null,null,null,null,null,null,null,null,null,0,null,"",""]
[null,null,null,null,null,null,null,null,null,null,null,null,null,null,null,null,null,null,null,null,null,null,null,null,null,null,null,null,null,null,null,null,null,0,null,"",""]
[null,null,null,null,null,null,null,null,null,null,null,null,null,null,null,null,null,null,null,null,null,null,null,null,null,null,null,null,null,null,null,null,null,0,null,"",""]
[null,null,null,null,null,null,null,null,null,null,null,null,null,null,null,null,null,null,null,null,null,null,null,null,null,null,null,null,null,null,null,null,null,0,null,"",""]
[null,null,null,null,null,null,null,null,null,null,null,null,null,null,null,null,null,null,null,null,null,null,null,null,null,null,null,null,null,null,null,null,null,0,null,"",""]
[null,null,null,null,null,null,null,null,null,null,null,null,null,null,null,null,null,null,null,null,null,null,null,null,null,null,null,null,null,null,null,null,null,0,null,"",{"$f":"IF(H94<>\"\",MONTH(VLOOKUP($H94,$A$8:$D$57,2,FALSE)),\"\")","v":""}]
[null,null,null,null,null,null,null,null,null,null,null,null,null,null,null,null,null,null,null,null,null,null,null,null,null,null,null,null,null,null,null,null,null,0,null,"",""]
[null,null,null,null,null,null,null,null,null,null,null,null,null,null,null,null,null,null,null,null,null,null,null,null,null,null,null,null,null,null,null,null,null,0,null,"",""]
[null,null,null,null,null,null,null,null,null,null,null,null,null,null,null,null,null,null,null,null,null,null,null,null,null,null,null,null,null,null,null,null,null,0,null,"",""]
[null,null,null,null,null,null,null,null,null,null,null,null,null,null,null,null,null,null,null,null,null,null,null,null,null,null,null,null,null,null,null,null,null,0,null,"",""]
[null,null,null,null,null,null,null,null,null,null,null,null,null,null,null,null,null,null,null,null,null,null,null,null,null,null,null,null,null,null,null,null,null,0,null,"",""]
[null,null,null,null,null,null,null,null,null,null,null,null,null,null,null,null,null,null,null,null,null,null,null,null,null,null,null,null,null,null,null,null,null,0,null,"",""]
[null,null,null,null,null,null,null,null,null,null,null,null,null,null,null,null,null,null,null,null,null,null,null,null,null,null,null,null,null,null,null,null,null,0,null,"",""]
[null,null,null,null,null,null,null,null,null,null,null,null,null,null,null,null,null,null,null,null,null,null,null,null,null,null,null,null,null,null,null,null,null,0,null,"",""]
[null,null,null,null,null,null,null,null,null,null,null,null,null,null,null,null,null,null,null,null,null,null,null,null,null,null,null,null,null,null,null,null,null,0,null,"",""]
[null,null,null,null,null,null,null,null,null,null,null,null,null,null,null,null,null,null,null,null,null,null,null,null,null,null,null,null,null,null,null,null,null,null,null,"",""]
[null,null,null,null,null,null,null,null,null,null,null,null,null,null,null,null,null,null,null,null,null,null,null,null,null,null,null,null,null,null,null,null,null,null,null,"",""]
[null,null,null,null,null,null,null,null,null,null,null,null,null,null,null,null,null,null,null,null,null,null,null,null,null,null,null,null,null,null,null,null,null,null,null,"",""]
[null,null,null,null,null,null,null,null,null,null,null,null,null,null,null,null,null,null,null,null,null,null,null,null,null,null,null,null,null,null,null,null,null,null,null,"",""]
[null,null,null,null,null,null,null,null,null,null,null,null,null,null,null,null,null,null,null,null,null,null,null,null,null,null,null,null,null,null,null,null,null,null,null,"",""]
[null,null,null,null,null,null,null,null,null,null,null,null,null,null,null,null,null,null,null,null,null,null,null,null,null,null,null,null,null,null,null,null,null,null,null,"",""]
[null,null,null,null,null,null,null,null,null,null,null,null,null,null,null,null,null,null,null,null,null,null,null,null,null,null,null,null,null,null,null,null,null,null,null,"",""]
[null,null,null,null,null,null,null,null,null,null,null,null,null,null,null,null,null,null,null,null,null,null,null,null,null,null,null,null,null,null,null,null,null,null,null,"",""]
[null,null,null,null,null,null,null,null,null,null,null,null,null,null,null,null,null,null,null,null,null,null,null,null,null,null,null,null,null,null,null,null,null,null,null,"",""]
[null,null,null,null,null,null,null,null,null,null,null,null,null,null,null,null,null,null,null,null,null,null,null,null,null,null,null,null,null,null,null,null,null,null,null,"",""]
[null,null,null,null,null,null,null,null,null,null,null,null,null,null,null,null,null,null,null,null,null,null,null,null,null,null,null,null,null,null,null,null,null,null,null,"",""]
[null,null,null,null,null,null,null,null,null,null,null,null,null,null,null,null,null,null,null,null,null,null,null,null,null,null,null,null,null,null,null,null,null,null,null,"",""]
[null,null,null,null,null,null,null,null,null,null,null,null,null,null,null,null,null,null,null,null,null,null,null,null,null,null,null,null,null,null,null,null,null,null,null,"",""]
[null,null,null,null,null,null,null,null,null,null,null,null,null,null,null,null,null,null,null,null,null,null,null,null,null,null,null,null,null,null,null,null,null,null,null,"",""]
[null,null,null,null,null,null,null,null,null,null,null,null,null,null,null,null,null,null,null,null,null,null,null,null,null,null,null,null,null,null,null,null,null,null,null,"",""]
[null,null,null,null,null,null,null,null,null,null,null,null,null,null,null,null,null,null,null,null,null,null,null,null,null,null,null,null,null,null,null,null,null,null,null,"",""]
[null,null,null,null,null,null,null,null,null,null,null,null,null,null,null,null,null,null,null,null,null,null,null,null,null,null,null,null,null,null,null,null,null,null,null,"",""]
[null,null,null,null,null,null,null,null,null,null,null,null,null,null,null,null,null,null,null,null,null,null,null,null,null,null,null,null,null,null,null,null,null,null,null,"",""]
[null,null,null,null,null,null,null,null,null,null,null,null,null,null,null,null,null,null,null,null,null,null,null,null,null,null,null,null,null,null,null,null,null,null,null,"",""]
[null,null,null,null,null,null,null,null,null,null,null,null,null,null,null,null,null,null,null,null,null,null,null,null,null,null,null,null,null,null,null,null,null,null,null,"",""]
[null,null,null,null,null,null,null,null,null,null,null,null,null,null,null,null,null,null,null,null,null,null,null,null,null,null,null,null,null,null,null,null,null,null,null,"",""]
[null,null,null,null,null,null,null,null,null,null,null,null,null,null,null,null,null,null,null,null,null,null,null,null,null,null,null,null,null,null,null,null,null,null,null,"",""]
[null,null,null,null,null,null,null,null,null,null,null,null,null,null,null,null,null,null,null,null,null,null,null,null,null,null,null,null,null,null,null,null,null,null,null,"",""]
[null,null,null,null,null,null,null,null,null,null,null,null,null,null,null,null,null,null,null,null,null,null,null,null,null,null,null,null,null,null,null,null,null,null,null,"",""]
[null,null,null,null,null,null,null,null,null,null,null,null,null,null,null,null,null,null,null,null,null,null,null,null,null,null,null,null,null,null,null,null,null,null,null,"",""]
[null,null,null,null,null,null,null,null,null,null,null,null,null,null,null,null,null,null,null,null,null,null,null,null,null,null,null,null,null,null,null,null,null,null,null,"",""]
[null,null,null,null,null,null,null,null,null,null,null,null,null,null,null,null,null,null,null,null,null,null,null,null,null,null,null,null,null,null,null,null,null,null,null,"",""]
[null,null,null,null,null,null,null,null,null,null,null,null,null,null,null,null,null,null,null,null,null,null,null,null,null,null,null,null,null,null,null,null,null,null,null,"",""]
[null,null,null,null,null,null,null,null,null,null,null,null,null,null,null,null,null,null,null,null,null,null,null,null,null,null,null,null,null,null,null,null,null,null,null,{"$f":"H132&K132&L132&M132&S132","v":""},""]
[null,null,null,null,null,null,null,null,null,null,null,null,null,null,null,null,null,null,null,null,null,null,null,null,null,null,null,null,null,null,null,null,null,null,null,"",""]
[null,null,null,null,null,null,null,null,null,null,null,null,null,null,null,null,null,null,null,null,null,null,null,null,null,null,null,null,null,null,null,null,null,null,null,"",""]
[null,null,null,null,null,null,null,null,null,null,null,null,null,null,null,null,null,null,null,null,null,null,null,null,null,null,null,null,null,null,null,null,null,null,null,"",""]
[null,null,null,null,null,null,null,null,null,null,null,null,null,null,null,null,null,null,null,null,null,null,null,null,null,null,null,null,null,null,null,null,null,null,null,"",""]
[null,null,null,null,null,null,null,null,null,null,null,null,null,null,null,null,null,null,null,null,null,null,null,null,null,null,null,null,null,null,null,null,null,null,null,"",""]
[null,null,null,null,null,null,null,null,null,null,null,null,null,null,null,null,null,null,null,null,null,null,null,null,null,null,null,null,null,null,null,null,null,null,null,"",""]
[null,null,null,null,null,null,null,null,null,null,null,null,null,null,null,null,null,null,null,null,null,null,null,null,null,null,null,null,null,null,null,null,null,null,null,"",""]
[null,null,null,null,null,null,null,null,null,null,null,null,null,null,null,null,null,null,null,null,null,null,null,null,null,null,null,null,null,null,null,null,null,null,null,"",""]
[null,null,null,null,null,null,null,null,null,null,null,null,null,null,null,null,null,null,null,null,null,null,null,null,null,null,null,null,null,null,null,null,null,null,null,"",""]
[null,null,null,null,null,null,null,null,null,null,null,null,null,null,null,null,null,null,null,null,null,null,null,null,null,null,null,null,null,null,null,null,null,null,null,"",""]
[null,null,null,null,null,null,null,null,null,null,null,null,null,null,null,null,null,null,null,null,null,null,null,null,null,null,null,null,null,null,null,null,null,null,null,"",""]
[null,null,null,null,null,null,null,null,null,null,null,null,null,null,null,null,null,null,null,null,null,null,null,null,null,null,null,null,null,null,null,null,null,null,null,"",""]
[null,null,null,null,null,null,null,null,null,null,null,null,null,null,null,null,null,null,null,null,null,null,null,null,null,null,null,null,null,null,null,null,null,null,null,"",""]
[null,null,null,null,null,null,null,null,null,null,null,null,null,null,null,null,null,null,null,null,null,null,null,null,null,null,null,null,null,null,null,null,null,null,null,"",""]
[null,null,null,null,null,null,null,null,null,null,null,null,null,null,null,null,null,null,null,null,null,null,null,null,null,null,null,null,null,null,null,null,null,null,null,"",""]
[null,null,null,null,null,null,null,null,null,null,null,null,null,null,null,null,null,null,null,null,null,null,null,null,null,null,null,null,null,null,null,null,null,null,null,"",""]
[null,null,null,null,null,null,null,null,null,null,null,null,null,null,null,null,null,null,null,null,null,null,null,null,null,null,null,null,null,null,null,null,null,null,null,"",""]
[null,null,null,null,null,null,null,null,null,null,null,null,null,null,null,null,null,null,null,null,null,null,null,null,null,null,null,null,null,null,null,null,null,null,null,"",""]
[null,null,null,null,null,null,null,null,null,null,null,null,null,null,null,null,null,null,null,null,null,null,null,null,null,null,null,null,null,null,null,null,null,null,null,"",""]
[null,null,null,null,null,null,null,null,null,null,null,null,null,null,null,null,null,null,null,null,null,null,null,null,null,null,null,null,null,null,null,null,null,null,null,"",""]
[null,null,null,null,null,null,null,null,null,null,null,null,null,null,null,null,null,null,null,null,null,null,null,null,null,null,null,null,null,null,null,null,null,null,null,"",""]
[null,null,null,null,null,null,null,null,null,null,null,null,null,null,null,null,null,null,null,null,null,null,null,null,null,null,null,null,null,null,null,null,null,null,null,"",""]
[null,null,null,null,null,null,null,null,null,null,null,null,null,null,null,null,null,null,null,null,null,null,null,null,null,null,null,null,null,null,null,null,null,null,null,"",""]
[null,null,null,null,null,null,null,null,null,null,null,null,null,null,null,null,null,null,null,null,null,null,null,null,null,null,null,null,null,null,null,null,null,null,null,"",""]
[null,null,null,null,null,null,null,null,null,null,null,null,null,null,null,null,null,null,null,null,null,null,null,null,null,null,null,null,null,null,null,null,null,null,null,"",""]
[null,null,null,null,null,null,null,null,null,null,null,null,null,null,null,null,null,null,null,null,null,null,null,null,null,null,null,null,null,null,null,null,null,null,null,"",{"$f":"IF(H158<>\"\",MONTH(VLOOKUP($H158,$A$8:$D$57,2,FALSE)),\"\")","v":""}]
[null,null,null,null,null,null,null,null,null,null,null,null,null,null,null,null,null,null,null,null,null,null,null,null,null,null,null,null,null,null,null,null,null,null,null,"",""]
[null,null,null,null,null,null,null,null,null,null,null,null,null,null,null,null,null,null,null,null,null,null,null,null,null,null,null,null,null,null,null,null,null,null,null,"",""]
[null,null,null,null,null,null,null,null,null,null,null,null,null,null,null,null,null,null,null,null,null,null,null,null,null,null,null,null,null,null,null,null,null,null,null,"",""]
[null,null,null,null,null,null,null,null,null,null,null,null,null,null,null,null,null,null,null,null,null,null,null,null,null,null,null,null,null,null,null,null,null,null,null,"",""]
[null,null,null,null,null,null,null,null,null,null,null,null,null,null,null,null,null,null,null,null,null,null,null,null,null,null,null,null,null,null,null,null,null,null,null,"",""]
[null,null,null,null,null,null,null,null,null,null,null,null,null,null,null,null,null,null,null,null,null,null,null,null,null,null,null,null,null,null,null,null,null,null,null,"",""]
[null,null,null,null,null,null,null,null,null,null,null,null,null,null,null,null,null,null,null,null,null,null,null,null,null,null,null,null,null,null,null,null,null,null,null,"",""]
[null,null,null,null,null,null,null,null,null,null,null,null,null,null,null,null,null,null,null,null,null,null,null,null,null,null,null,null,null,null,null,null,null,null,null,"",""]
[null,null,null,null,null,null,null,null,null,null,null,null,null,null,null,null,null,null,null,null,null,null,null,null,null,null,null,null,null,null,null,null,null,null,null,"",""]
[null,null,null,null,null,null,null,null,null,null,null,null,null,null,null,null,null,null,null,null,null,null,null,null,null,null,null,null,null,null,null,null,null,null,null,"",""]
[null,null,null,null,null,null,null,null,null,null,null,null,null,null,null,null,null,null,null,null,null,null,null,null,null,null,null,null,null,null,null,null,null,null,null,"",""]
[null,null,null,null,null,null,null,null,null,null,null,null,null,null,null,null,null,null,null,null,null,null,null,null,null,null,null,null,null,null,null,null,null,null,null,"",""]
[null,null,null,null,null,null,null,null,null,null,null,null,null,null,null,null,null,null,null,null,null,null,null,null,null,null,null,null,null,null,null,null,null,null,null,"",""]
[null,null,null,null,null,null,null,null,null,null,null,null,null,null,null,null,null,null,null,null,null,null,null,null,null,null,null,null,null,null,null,null,null,null,null,"",""]
[null,null,null,null,null,null,null,null,null,null,null,null,null,null,null,null,null,null,null,null,null,null,null,null,null,null,null,null,null,null,null,null,null,null,null,"",""]
[null,null,null,null,null,null,null,null,null,null,null,null,null,null,null,null,null,null,null,null,null,null,null,null,null,null,null,null,null,null,null,null,null,null,null,"",""]
[null,null,null,null,null,null,null,null,null,null,null,null,null,null,null,null,null,null,null,null,null,null,null,null,null,null,null,null,null,null,null,null,null,null,null,"",""]
[null,null,null,null,null,null,null,null,null,null,null,null,null,null,null,null,null,null,null,null,null,null,null,null,null,null,null,null,null,null,null,null,null,null,null,"",""]
[null,null,null,null,null,null,null,null,null,null,null,null,null,null,null,null,null,null,null,null,null,null,null,null,null,null,null,null,null,null,null,null,null,null,null,"",""]
[null,null,null,null,null,null,null,null,null,null,null,null,null,null,null,null,null,null,null,null,null,null,null,null,null,null,null,null,null,null,null,null,null,null,null,"",""]
[null,null,null,null,null,null,null,null,null,null,null,null,null,null,null,null,null,null,null,null,null,null,null,null,null,null,null,null,null,null,null,null,null,null,null,"",""]
[null,null,null,null,null,null,null,null,null,null,null,null,null,null,null,null,null,null,null,null,null,null,null,null,null,null,null,null,null,null,null,null,null,null,null,"",""]
[null,null,null,null,null,null,null,null,null,null,null,null,null,null,null,null,null,null,null,null,null,null,null,null,null,null,null,null,null,null,null,null,null,null,null,"",""]
[null,null,null,null,null,null,null,null,null,null,null,null,null,null,null,null,null,null,null,null,null,null,null,null,null,null,null,null,null,null,null,null,null,null,null,"",""]
[null,null,null,null,null,null,null,null,null,null,null,null,null,null,null,null,null,null,null,null,null,null,null,null,null,null,null,null,null,null,null,null,null,null,null,"",""]
[null,null,null,null,null,null,null,null,null,null,null,null,null,null,null,null,null,null,null,null,null,null,null,null,null,null,null,null,null,null,null,null,null,null,null,"",""]
[null,null,null,null,null,null,null,null,null,null,null,null,null,null,null,null,null,null,null,null,null,null,null,null,null,null,null,null,null,null,null,null,null,null,null,"",""]
[null,null,null,null,null,null,null,null,null,null,null,null,null,null,null,null,null,null,null,null,null,null,null,null,null,null,null,null,null,null,null,null,null,null,null,"",""]
[null,null,null,null,null,null,null,null,null,null,null,null,null,null,null,null,null,null,null,null,null,null,null,null,null,null,null,null,null,null,null,null,null,null,null,"",""]
[null,null,null,null,null,null,null,null,null,null,null,null,null,null,null,null,null,null,null,null,null,null,null,null,null,null,null,null,null,null,null,null,null,null,null,"",""]
[null,null,null,null,null,null,null,null,null,null,null,null,null,null,null,null,null,null,null,null,null,null,null,null,null,null,null,null,null,null,null,null,null,null,null,"",""]
[null,null,null,null,null,null,null,null,null,null,null,null,null,null,null,null,null,null,null,null,null,null,null,null,null,null,null,null,null,null,null,null,null,null,null,"",""]
[null,null,null,null,null,null,null,null,null,null,null,null,null,null,null,null,null,null,null,null,null,null,null,null,null,null,null,null,null,null,null,null,null,null,null,"",""]
[null,null,null,null,null,null,null,null,null,null,null,null,null,null,null,null,null,null,null,null,null,null,null,null,null,null,null,null,null,null,null,null,null,null,null,"",""]
[null,null,null,null,null,null,null,null,null,null,null,null,null,null,null,null,null,null,null,null,null,null,null,null,null,null,null,null,null,null,null,null,null,null,null,"",""]
[null,null,null,null,null,null,null,null,null,null,null,null,null,null,null,null,null,null,null,null,null,null,null,null,null,null,null,null,null,null,null,null,null,null,null,"",""]
[null,null,null,null,null,null,null,null,null,null,null,null,null,null,null,null,null,null,null,null,null,null,null,null,null,null,null,null,null,null,null,null,null,null,null,"",""]
[null,null,null,null,null,null,null,null,null,null,null,null,null,null,null,null,null,null,null,null,null,null,null,null,null,null,null,null,null,null,null,null,null,null,null,{"$f":"H196&K196&L196&M196&S196","v":""},""]
[null,null,null,null,null,null,null,null,null,null,null,null,null,null,null,null,null,null,null,null,null,null,null,null,null,null,null,null,null,null,null,null,null,null,null,"",""]
[null,null,null,null,null,null,null,null,null,null,null,null,null,null,null,null,null,null,null,null,null,null,null,null,null,null,null,null,null,null,null,null,null,null,null,"",""]
[null,null,null,null,null,null,null,null,null,null,null,null,null,null,null,null,null,null,null,null,null,null,null,null,null,null,null,null,null,null,null,null,null,null,null,"",""]
[null,null,null,null,null,null,null,null,null,null,null,null,null,null,null,null,null,null,null,null,null,null,null,null,null,null,null,null,null,null,null,null,null,null,null,"",""]
[null,null,null,null,null,null,null,null,null,null,null,null,null,null,null,null,null,null,null,null,null,null,null,null,null,null,null,null,null,null,null,null,null,null,null,"",""]
[null,null,null,null,null,null,null,null,null,null,null,null,null,null,null,null,null,null,null,null,null,null,null,null,null,null,null,null,null,null,null,null,null,null,null,"",""]
[null,null,null,null,null,null,null,null,null,null,null,null,null,null,null,null,null,null,null,null,null,null,null,null,null,null,null,null,null,null,null,null,null,null,null,"",""]
[null,null,null,null,null,null,null,null,null,null,null,null,null,null,null,null,null,null,null,null,null,null,null,null,null,null,null,null,null,null,null,null,null,null,null,"",""]
[null,null,null,null,null,null,null,null,null,null,null,null,null,null,null,null,null,null,null,null,null,null,null,null,null,null,null,null,null,null,null,null,null,null,null,"",""]
[null,null,null,null,null,null,null,null,null,null,null,null,null,null,null,null,null,null,null,null,null,null,null,null,null,null,null,null,null,null,null,null,null,null,null,"",""]
[null,null,null,null,null,null,null,null,null,null,null,null,null,null,null,null,null,null,null,null,null,null,null,null,null,null,null,null,null,null,null,null,null,null,null,"",""]
[null,null,null,null,null,null,null,null,null,null,null,null,null,null,null,null,null,null,null,null,null,null,null,null,null,null,null,null,null,null,null,null,null,null,null,"",""]
[null,null,null,null,null,null,null,null,null,null,null,null,null,null,null,null,null,null,null,null,null,null,null,null,null,null,null,null,null,null,null,null,null,null,null,"",""]
[null,null,null,null,null,null,null,null,null,null,null,null,null,null,null,null,null,null,null,null,null,null,null,null,null,null,null,null,null,null,null,null,null,null,null,"",""]
[null,null,null,null,null,null,null,null,null,null,null,null,null,null,null,null,null,null,null,null,null,null,null,null,null,null,null,null,null,null,null,null,null,null,null,"",""]
[null,null,null,null,null,null,null,null,null,null,null,null,null,null,null,null,null,null,null,null,null,null,null,null,null,null,null,null,null,null,null,null,null,null,null,"",""]
[null,null,null,null,null,null,null,null,null,null,null,null,null,null,null,null,null,null,null,null,null,null,null,null,null,null,null,null,null,null,null,null,null,null,null,"",""]
[null,null,null,null,null,null,null,null,null,null,null,null,null,null,null,null,null,null,null,null,null,null,null,null,null,null,null,null,null,null,null,null,null,null,null,"",""]
[null,null,null,null,null,null,null,null,null,null,null,null,null,null,null,null,null,null,null,null,null,null,null,null,null,null,null,null,null,null,null,null,null,null,null,"",""]
[null,null,null,null,null,null,null,null,null,null,null,null,null,null,null,null,null,null,null,null,null,null,null,null,null,null,null,null,null,null,null,null,null,null,null,"",""]
[null,null,null,null,null,null,null,null,null,null,null,null,null,null,null,null,null,null,null,null,null,null,null,null,null,null,null,null,null,null,null,null,null,null,null,"",""]
[null,null,null,null,null,null,null,null,null,null,null,null,null,null,null,null,null,null,null,null,null,null,null,null,null,null,null,null,null,null,null,null,null,null,null,"",""]
[null,null,null,null,null,null,null,null,null,null,null,null,null,null,null,null,null,null,null,null,null,null,null,null,null,null,null,null,null,null,null,null,null,null,null,"",""]
[null,null,null,null,null,null,null,null,null,null,null,null,null,null,null,null,null,null,null,null,null,null,null,null,null,null,null,null,null,null,null,null,null,null,null,"",""]
[null,null,null,null,null,null,null,null,null,null,null,null,null,null,null,null,null,null,null,null,null,null,null,null,null,null,null,null,null,null,null,null,null,null,null,"",""]
[null,null,null,null,null,null,null,null,null,null,null,null,null,null,null,null,null,null,null,null,null,null,null,null,null,null,null,null,null,null,null,null,null,null,null,"",{"$f":"IF(H222<>\"\",MONTH(VLOOKUP($H222,$A$8:$D$57,2,FALSE)),\"\")","v":""}]
[null,null,null,null,null,null,null,null,null,null,null,null,null,null,null,null,null,null,null,null,null,null,null,null,null,null,null,null,null,null,null,null,null,null,null,"",""]
[null,null,null,null,null,null,null,null,null,null,null,null,null,null,null,null,null,null,null,null,null,null,null,null,null,null,null,null,null,null,null,null,null,null,null,"",""]
[null,null,null,null,null,null,null,null,null,null,null,null,null,null,null,null,null,null,null,null,null,null,null,null,null,null,null,null,null,null,null,null,null,null,null,"",""]
[null,null,null,null,null,null,null,null,null,null,null,null,null,null,null,null,null,null,null,null,null,null,null,null,null,null,null,null,null,null,null,null,null,null,null,"",""]
[null,null,null,null,null,null,null,null,null,null,null,null,null,null,null,null,null,null,null,null,null,null,null,null,null,null,null,null,null,null,null,null,null,null,null,"",""]
[null,null,null,null,null,null,null,null,null,null,null,null,null,null,null,null,null,null,null,null,null,null,null,null,null,null,null,null,null,null,null,null,null,null,null,"",""]
[null,null,null,null,null,null,null,null,null,null,null,null,null,null,null,null,null,null,null,null,null,null,null,null,null,null,null,null,null,null,null,null,null,null,null,"",""]
[null,null,null,null,null,null,null,null,null,null,null,null,null,null,null,null,null,null,null,null,null,null,null,null,null,null,null,null,null,null,null,null,null,null,null,"",""]
[null,null,null,null,null,null,null,null,null,null,null,null,null,null,null,null,null,null,null,null,null,null,null,null,null,null,null,null,null,null,null,null,null,null,null,"",""]
[null,null,null,null,null,null,null,null,null,null,null,null,null,null,null,null,null,null,null,null,null,null,null,null,null,null,null,null,null,null,null,null,null,null,null,"",""]
[null,null,null,null,null,null,null,null,null,null,null,null,null,null,null,null,null,null,null,null,null,null,null,null,null,null,null,null,null,null,null,null,null,null,null,"",""]
[null,null,null,null,null,null,null,null,null,null,null,null,null,null,null,null,null,null,null,null,null,null,null,null,null,null,null,null,null,null,null,null,null,null,null,"",""]
[null,null,null,null,null,null,null,null,null,null,null,null,null,null,null,null,null,null,null,null,null,null,null,null,null,null,null,null,null,null,null,null,null,null,null,"",""]
[null,null,null,null,null,null,null,null,null,null,null,null,null,null,null,null,null,null,null,null,null,null,null,null,null,null,null,null,null,null,null,null,null,null,null,"",""]
[null,null,null,null,null,null,null,null,null,null,null,null,null,null,null,null,null,null,null,null,null,null,null,null,null,null,null,null,null,null,null,null,null,null,null,"",""]
[null,null,null,null,null,null,null,null,null,null,null,null,null,null,null,null,null,null,null,null,null,null,null,null,null,null,null,null,null,null,null,null,null,null,null,"",""]
[null,null,null,null,null,null,null,null,null,null,null,null,null,null,null,null,null,null,null,null,null,null,null,null,null,null,null,null,null,null,null,null,null,null,null,"",""]
[null,null,null,null,null,null,null,null,null,null,null,null,null,null,null,null,null,null,null,null,null,null,null,null,null,null,null,null,null,null,null,null,null,null,null,"",""]
[null,null,null,null,null,null,null,null,null,null,null,null,null,null,null,null,null,null,null,null,null,null,null,null,null,null,null,null,null,null,null,null,null,null,null,"",""]
[null,null,null,null,null,null,null,null,null,null,null,null,null,null,null,null,null,null,null,null,null,null,null,null,null,null,null,null,null,null,null,null,null,null,null,"",""]
[null,null,null,null,null,null,null,null,null,null,null,null,null,null,null,null,null,null,null,null,null,null,null,null,null,null,null,null,null,null,null,null,null,null,null,"",""]
[null,null,null,null,null,null,null,null,null,null,null,null,null,null,null,null,null,null,null,null,null,null,null,null,null,null,null,null,null,null,null,null,null,null,null,"",""]
[null,null,null,null,null,null,null,null,null,null,null,null,null,null,null,null,null,null,null,null,null,null,null,null,null,null,null,null,null,null,null,null,null,null,null,"",""]
[null,null,null,null,null,null,null,null,null,null,null,null,null,null,null,null,null,null,null,null,null,null,null,null,null,null,null,null,null,null,null,null,null,null,null,"",""]
[null,null,null,null,null,null,null,null,null,null,null,null,null,null,null,null,null,null,null,null,null,null,null,null,null,null,null,null,null,null,null,null,null,null,null,"",""]
[null,null,null,null,null,null,null,null,null,null,null,null,null,null,null,null,null,null,null,null,null,null,null,null,null,null,null,null,null,null,null,null,null,null,null,"",""]
[null,null,null,null,null,null,null,null,null,null,null,null,null,null,null,null,null,null,null,null,null,null,null,null,null,null,null,null,null,null,null,null,null,null,null,"",""]
[null,null,null,null,null,null,null,null,null,null,null,null,null,null,null,null,null,null,null,null,null,null,null,null,null,null,null,null,null,null,null,null,null,null,null,"",""]
[null,null,null,null,null,null,null,null,null,null,null,null,null,null,null,null,null,null,null,null,null,null,null,null,null,null,null,null,null,null,null,null,null,null,null,"",""]
[null,null,null,null,null,null,null,null,null,null,null,null,null,null,null,null,null,null,null,null,null,null,null,null,null,null,null,null,null,null,null,null,null,null,null,"",""]
[null,null,null,null,null,null,null,null,null,null,null,null,null,null,null,null,null,null,null,null,null,null,null,null,null,null,null,null,null,null,null,null,null,null,null,"",""]
[null,null,null,null,null,null,null,null,null,null,null,null,null,null,null,null,null,null,null,null,null,null,null,null,null,null,null,null,null,null,null,null,null,null,null,"",""]
[null,null,null,null,null,null,null,null,null,null,null,null,null,null,null,null,null,null,null,null,null,null,null,null,null,null,null,null,null,null,null,null,null,null,null,"",""]
[null,null,null,null,null,null,null,null,null,null,null,null,null,null,null,null,null,null,null,null,null,null,null,null,null,null,null,null,null,null,null,null,null,null,null,"",""]
[null,null,null,null,null,null,null,null,null,null,null,null,null,null,null,null,null,null,null,null,null,null,null,null,null,null,null,null,null,null,null,null,null,null,null,"",""]
[null,null,null,null,null,null,null,null,null,null,null,null,null,null,null,null,null,null,null,null,null,null,null,null,null,null,null,null,null,null,null,null,null,null,null,"",""]
[null,null,null,null,null,null,null,null,null,null,null,null,null,null,null,null,null,null,null,null,null,null,null,null,null,null,null,null,null,null,null,null,null,null,null,"",""]
[null,null,null,null,null,null,null,null,null,null,null,null,null,null,null,null,null,null,null,null,null,null,null,null,null,null,null,null,null,null,null,null,null,null,null,{"$f":"H260&K260&L260&M260&S260","v":""},""]
[null,null,null,null,null,null,null,null,null,null,null,null,null,null,null,null,null,null,null,null,null,null,null,null,null,null,null,null,null,null,null,null,null,null,null,"",""]
[null,null,null,null,null,null,null,null,null,null,null,null,null,null,null,null,null,null,null,null,null,null,null,null,null,null,null,null,null,null,null,null,null,null,null,"",""]
[null,null,null,null,null,null,null,null,null,null,null,null,null,null,null,null,null,null,null,null,null,null,null,null,null,null,null,null,null,null,null,null,null,null,null,"",""]
[null,null,null,null,null,null,null,null,null,null,null,null,null,null,null,null,null,null,null,null,null,null,null,null,null,null,null,null,null,null,null,null,null,null,null,"",""]
[null,null,null,null,null,null,null,null,null,null,null,null,null,null,null,null,null,null,null,null,null,null,null,null,null,null,null,null,null,null,null,null,null,null,null,"",""]
[null,null,null,null,null,null,null,null,null,null,null,null,null,null,null,null,null,null,null,null,null,null,null,null,null,null,null,null,null,null,null,null,null,null,null,"",""]
[null,null,null,null,null,null,null,null,null,null,null,null,null,null,null,null,null,null,null,null,null,null,null,null,null,null,null,null,null,null,null,null,null,null,null,"",""]
[null,null,null,null,null,null,null,null,null,null,null,null,null,null,null,null,null,null,null,null,null,null,null,null,null,null,null,null,null,null,null,null,null,null,null,"",""]
[null,null,null,null,null,null,null,null,null,null,null,null,null,null,null,null,null,null,null,null,null,null,null,null,null,null,null,null,null,null,null,null,null,null,null,"",""]
[null,null,null,null,null,null,null,null,null,null,null,null,null,null,null,null,null,null,null,null,null,null,null,null,null,null,null,null,null,null,null,null,null,null,null,"",""]
[null,null,null,null,null,null,null,null,null,null,null,null,null,null,null,null,null,null,null,null,null,null,null,null,null,null,null,null,null,null,null,null,null,null,null,"",""]
[null,null,null,null,null,null,null,null,null,null,null,null,null,null,null,null,null,null,null,null,null,null,null,null,null,null,null,null,null,null,null,null,null,null,null,"",""]
[null,null,null,null,null,null,null,null,null,null,null,null,null,null,null,null,null,null,null,null,null,null,null,null,null,null,null,null,null,null,null,null,null,null,null,"",""]
[null,null,null,null,null,null,null,null,null,null,null,null,null,null,null,null,null,null,null,null,null,null,null,null,null,null,null,null,null,null,null,null,null,null,null,"",""]
[null,null,null,null,null,null,null,null,null,null,null,null,null,null,null,null,null,null,null,null,null,null,null,null,null,null,null,null,null,null,null,null,null,null,null,"",""]
[null,null,null,null,null,null,null,null,null,null,null,null,null,null,null,null,null,null,null,null,null,null,null,null,null,null,null,null,null,null,null,null,null,null,null,"",""]
[null,null,null,null,null,null,null,null,null,null,null,null,null,null,null,null,null,null,null,null,null,null,null,null,null,null,null,null,null,null,null,null,null,null,null,"",""]
[null,null,null,null,null,null,null,null,null,null,null,null,null,null,null,null,null,null,null,null,null,null,null,null,null,null,null,null,null,null,null,null,null,null,null,"",""]
[null,null,null,null,null,null,null,null,null,null,null,null,null,null,null,null,null,null,null,null,null,null,null,null,null,null,null,null,null,null,null,null,null,null,null,"",""]
[null,null,null,null,null,null,null,null,null,null,null,null,null,null,null,null,null,null,null,null,null,null,null,null,null,null,null,null,null,null,null,null,null,null,null,"",""]
[null,null,null,null,null,null,null,null,null,null,null,null,null,null,null,null,null,null,null,null,null,null,null,null,null,null,null,null,null,null,null,null,null,null,null,"",""]
[null,null,null,null,null,null,null,null,null,null,null,null,null,null,null,null,null,null,null,null,null,null,null,null,null,null,null,null,null,null,null,null,null,null,null,"",""]
[null,null,null,null,null,null,null,null,null,null,null,null,null,null,null,null,null,null,null,null,null,null,null,null,null,null,null,null,null,null,null,null,null,null,null,"",""]
[null,null,null,null,null,null,null,null,null,null,null,null,null,null,null,null,null,null,null,null,null,null,null,null,null,null,null,null,null,null,null,null,null,null,null,"",""]
[null,null,null,null,null,null,null,null,null,null,null,null,null,null,null,null,null,null,null,null,null,null,null,null,null,null,null,null,null,null,null,null,null,null,null,"",""]
[null,null,null,null,null,null,null,null,null,null,null,null,null,null,null,null,null,null,null,null,null,null,null,null,null,null,null,null,null,null,null,null,null,null,null,"",{"$f":"IF(H286<>\"\",MONTH(VLOOKUP($H286,$A$8:$D$57,2,FALSE)),\"\")","v":""}]
[null,null,null,null,null,null,null,null,null,null,null,null,null,null,null,null,null,null,null,null,null,null,null,null,null,null,null,null,null,null,null,null,null,null,null,"",""]
[null,null,null,null,null,null,null,null,null,null,null,null,null,null,null,null,null,null,null,null,null,null,null,null,null,null,null,null,null,null,null,null,null,null,null,"",""]
[null,null,null,null,null,null,null,null,null,null,null,null,null,null,null,null,null,null,null,null,null,null,null,null,null,null,null,null,null,null,null,null,null,null,null,"",""]
[null,null,null,null,null,null,null,null,null,null,null,null,null,null,null,null,null,null,null,null,null,null,null,null,null,null,null,null,null,null,null,null,null,null,null,"",""]
[null,null,null,null,null,null,null,null,null,null,null,null,null,null,null,null,null,null,null,null,null,null,null,null,null,null,null,null,null,null,null,null,null,null,null,"",""]
[null,null,null,null,null,null,null,null,null,null,null,null,null,null,null,null,null,null,null,null,null,null,null,null,null,null,null,null,null,null,null,null,null,null,null,"",""]
[null,null,null,null,null,null,null,null,null,null,null,null,null,null,null,null,null,null,null,null,null,null,null,null,null,null,null,null,null,null,null,null,null,null,null,"",""]
[null,null,null,null,null,null,null,null,null,null,null,null,null,null,null,null,null,null,null,null,null,null,null,null,null,null,null,null,null,null,null,null,null,null,null,"",""]
[null,null,null,null,null,null,null,null,null,null,null,null,null,null,null,null,null,null,null,null,null,null,null,null,null,null,null,null,null,null,null,null,null,null,null,"",""]
[null,null,null,null,null,null,null,null,null,null,null,null,null,null,null,null,null,null,null,null,null,null,null,null,null,null,null,null,null,null,null,null,null,null,null,"",""]
[null,null,null,null,null,null,null,null,null,null,null,null,null,null,null,null,null,null,null,null,null,null,null,null,null,null,null,null,null,null,null,null,null,null,null,"",""]
[null,null,null,null,null,null,null,null,null,null,null,null,null,null,null,null,null,null,null,null,null,null,null,null,null,null,null,null,null,null,null,null,null,null,null,"",""]
[null,null,null,null,null,null,null,null,null,null,null,null,null,null,null,null,null,null,null,null,null,null,null,null,null,null,null,null,null,null,null,null,null,null,null,"",""]
[null,null,null,null,null,null,null,null,null,null,null,null,null,null,null,null,null,null,null,null,null,null,null,null,null,null,null,null,null,null,null,null,null,null,null,"",""]
[null,null,null,null,null,null,null,null,null,null,null,null,null,null,null,null,null,null,null,null,null,null,null,null,null,null,null,null,null,null,null,null,null,null,null,"",""]
[null,null,null,null,null,null,null,null,null,null,null,null,null,null,null,null,null,null,null,null,null,null,null,null,null,null,null,null,null,null,null,null,null,null,null,"",""]
[null,null,null,null,null,null,null,null,null,null,null,null,null,null,null,null,null,null,null,null,null,null,null,null,null,null,null,null,null,null,null,null,null,null,null,"",""]
[null,null,null,null,null,null,null,null,null,null,null,null,null,null,null,null,null,null,null,null,null,null,null,null,null,null,null,null,null,null,null,null,null,null,null,"",""]
[null,null,null,null,null,null,null,null,null,null,null,null,null,null,null,null,null,null,null,null,null,null,null,null,null,null,null,null,null,null,null,null,null,null,null,"",""]
[null,null,null,null,null,null,null,null,null,null,null,null,null,null,null,null,null,null,null,null,null,null,null,null,null,null,null,null,null,null,null,null,null,null,null,"",""]
[null,null,null,null,null,null,null,null,null,null,null,null,null,null,null,null,null,null,null,null,null,null,null,null,null,null,null,null,null,null,null,null,null,null,null,"",""]
[null,null,null,null,null,null,null,null,null,null,null,null,null,null,null,null,null,null,null,null,null,null,null,null,null,null,null,null,null,null,null,null,null,null,null,"",""]
[null,null,null,null,null,null,null,null,null,null,null,null,null,null,null,null,null,null,null,null,null,null,null,null,null,null,null,null,null,null,null,null,null,null,null,"",""]
[null,null,null,null,null,null,null,null,null,null,null,null,null,null,null,null,null,null,null,null,null,null,null,null,null,null,null,null,null,null,null,null,null,null,null,"",""]
[null,null,null,null,null,null,null,null,null,null,null,null,null,null,null,null,null,null,null,null,null,null,null,null,null,null,null,null,null,null,null,null,null,null,null,"",""]
[null,null,null,null,null,null,null,null,null,null,null,null,null,null,null,null,null,null,null,null,null,null,null,null,null,null,null,null,null,null,null,null,null,null,null,"",""]
[null,null,null,null,null,null,null,null,null,null,null,null,null,null,null,null,null,null,null,null,null,null,null,null,null,null,null,null,null,null,null,null,null,null,null,"",""]
[null,null,null,null,null,null,null,null,null,null,null,null,null,null,null,null,null,null,null,null,null,null,null,null,null,null,null,null,null,null,null,null,null,null,null,"",""]
[null,null,null,null,null,null,null,null,null,null,null,null,null,null,null,null,null,null,null,null,null,null,null,null,null,null,null,null,null,null,null,null,null,null,null,"",""]
[null,null,null,null,null,null,null,null,null,null,null,null,null,null,null,null,null,null,null,null,null,null,null,null,null,null,null,null,null,null,null,null,null,null,null,"",""]
[null,null,null,null,null,null,null,null,null,null,null,null,null,null,null,null,null,null,null,null,null,null,null,null,null,null,null,null,null,null,null,null,null,null,null,"",""]
[null,null,null,null,null,null,null,null,null,null,null,null,null,null,null,null,null,null,null,null,null,null,null,null,null,null,null,null,null,null,null,null,null,null,null,"",""]
[null,null,null,null,null,null,null,null,null,null,null,null,null,null,null,null,null,null,null,null,null,null,null,null,null,null,null,null,null,null,null,null,null,null,null,"",""]
[null,null,null,null,null,null,null,null,null,null,null,null,null,null,null,null,null,null,null,null,null,null,null,null,null,null,null,null,null,null,null,null,null,null,null,"",""]
[null,null,null,null,null,null,null,null,null,null,null,null,null,null,null,null,null,null,null,null,null,null,null,null,null,null,null,null,null,null,null,null,null,null,null,"",""]
[null,null,null,null,null,null,null,null,null,null,null,null,null,null,null,null,null,null,null,null,null,null,null,null,null,null,null,null,null,null,null,null,null,null,null,"",""]
[null,null,null,null,null,null,null,null,null,null,null,null,null,null,null,null,null,null,null,null,null,null,null,null,null,null,null,null,null,null,null,null,null,null,null,"",""]
[null,null,null,null,null,null,null,null,null,null,null,null,null,null,null,null,null,null,null,null,null,null,null,null,null,null,null,null,null,null,null,null,null,null,null,{"$f":"H324&K324&L324&M324&S324","v":""},""]
[null,null,null,null,null,null,null,null,null,null,null,null,null,null,null,null,null,null,null,null,null,null,null,null,null,null,null,null,null,null,null,null,null,null,null,"",""]
[null,null,null,null,null,null,null,null,null,null,null,null,null,null,null,null,null,null,null,null,null,null,null,null,null,null,null,null,null,null,null,null,null,null,null,"",""]
[null,null,null,null,null,null,null,null,null,null,null,null,null,null,null,null,null,null,null,null,null,null,null,null,null,null,null,null,null,null,null,null,null,null,null,"",""]
[null,null,null,null,null,null,null,null,null,null,null,null,null,null,null,null,null,null,null,null,null,null,null,null,null,null,null,null,null,null,null,null,null,null,null,"",""]
[null,null,null,null,null,null,null,null,null,null,null,null,null,null,null,null,null,null,null,null,null,null,null,null,null,null,null,null,null,null,null,null,null,null,null,"",""]
[null,null,null,null,null,null,null,null,null,null,null,null,null,null,null,null,null,null,null,null,null,null,null,null,null,null,null,null,null,null,null,null,null,null,null,"",""]
[null,null,null,null,null,null,null,null,null,null,null,null,null,null,null,null,null,null,null,null,null,null,null,null,null,null,null,null,null,null,null,null,null,null,null,"",""]
[null,null,null,null,null,null,null,null,null,null,null,null,null,null,null,null,null,null,null,null,null,null,null,null,null,null,null,null,null,null,null,null,null,null,null,"",""]
[null,null,null,null,null,null,null,null,null,null,null,null,null,null,null,null,null,null,null,null,null,null,null,null,null,null,null,null,null,null,null,null,null,null,null,"",""]
[null,null,null,null,null,null,null,null,null,null,null,null,null,null,null,null,null,null,null,null,null,null,null,null,null,null,null,null,null,null,null,null,null,null,null,"",""]
[null,null,null,null,null,null,null,null,null,null,null,null,null,null,null,null,null,null,null,null,null,null,null,null,null,null,null,null,null,null,null,null,null,null,null,"",""]
[null,null,null,null,null,null,null,null,null,null,null,null,null,null,null,null,null,null,null,null,null,null,null,null,null,null,null,null,null,null,null,null,null,null,null,"",""]
[null,null,null,null,null,null,null,null,null,null,null,null,null,null,null,null,null,null,null,null,null,null,null,null,null,null,null,null,null,null,null,null,null,null,null,"",""]
[null,null,null,null,null,null,null,null,null,null,null,null,null,null,null,null,null,null,null,null,null,null,null,null,null,null,null,null,null,null,null,null,null,null,null,"",""]
[null,null,null,null,null,null,null,null,null,null,null,null,null,null,null,null,null,null,null,null,null,null,null,null,null,null,null,null,null,null,null,null,null,null,null,"",""]
[null,null,null,null,null,null,null,null,null,null,null,null,null,null,null,null,null,null,null,null,null,null,null,null,null,null,null,null,null,null,null,null,null,null,null,"",""]
[null,null,null,null,null,null,null,null,null,null,null,null,null,null,null,null,null,null,null,null,null,null,null,null,null,null,null,null,null,null,null,null,null,null,null,"",""]
[null,null,null,null,null,null,null,null,null,null,null,null,null,null,null,null,null,null,null,null,null,null,null,null,null,null,null,null,null,null,null,null,null,null,null,"",""]
[null,null,null,null,null,null,null,null,null,null,null,null,null,null,null,null,null,null,null,null,null,null,null,null,null,null,null,null,null,null,null,null,null,null,null,"",""]
[null,null,null,null,null,null,null,null,null,null,null,null,null,null,null,null,null,null,null,null,null,null,null,null,null,null,null,null,null,null,null,null,null,null,null,"",""]
[null,null,null,null,null,null,null,null,null,null,null,null,null,null,null,null,null,null,null,null,null,null,null,null,null,null,null,null,null,null,null,null,null,null,null,"",""]
[null,null,null,null,null,null,null,null,null,null,null,null,null,null,null,null,null,null,null,null,null,null,null,null,null,null,null,null,null,null,null,null,null,null,null,"",""]
[null,null,null,null,null,null,null,null,null,null,null,null,null,null,null,null,null,null,null,null,null,null,null,null,null,null,null,null,null,null,null,null,null,null,null,"",""]
[null,null,null,null,null,null,null,null,null,null,null,null,null,null,null,null,null,null,null,null,null,null,null,null,null,null,null,null,null,null,null,null,null,null,null,"",""]
[null,null,null,null,null,null,null,null,null,null,null,null,null,null,null,null,null,null,null,null,null,null,null,null,null,null,null,null,null,null,null,null,null,null,null,"",""]
[null,null,null,null,null,null,null,null,null,null,null,null,null,null,null,null,null,null,null,null,null,null,null,null,null,null,null,null,null,null,null,null,null,null,null,"",{"$f":"IF(H350<>\"\",MONTH(VLOOKUP($H350,$A$8:$D$57,2,FALSE)),\"\")","v":""}]
[null,null,null,null,null,null,null,null,null,null,null,null,null,null,null,null,null,null,null,null,null,null,null,null,null,null,null,null,null,null,null,null,null,null,null,"",""]
[null,null,null,null,null,null,null,null,null,null,null,null,null,null,null,null,null,null,null,null,null,null,null,null,null,null,null,null,null,null,null,null,null,null,null,"",""]
[null,null,null,null,null,null,null,null,null,null,null,null,null,null,null,null,null,null,null,null,null,null,null,null,null,null,null,null,null,null,null,null,null,null,null,"",""]
[null,null,null,null,null,null,null,null,null,null,null,null,null,null,null,null,null,null,null,null,null,null,null,null,null,null,null,null,null,null,null,null,null,null,null,"",""]
[null,null,null,null,null,null,null,null,null,null,null,null,null,null,null,null,null,null,null,null,null,null,null,null,null,null,null,null,null,null,null,null,null,null,null,"",""]
[null,null,null,null,null,null,null,null,null,null,null,null,null,null,null,null,null,null,null,null,null,null,null,null,null,null,null,null,null,null,null,null,null,null,null,"",""]
[null,null,null,null,null,null,null,null,null,null,null,null,null,null,null,null,null,null,null,null,null,null,null,null,null,null,null,null,null,null,null,null,null,null,null,"",""]
[null,null,null,null,null,null,null,null,null,null,null,null,null,null,null,null,null,null,null,null,null,null,null,null,null,null,null,null,null,null,null,null,null,null,null,"",""]
[null,null,null,null,null,null,null,null,null,null,null,null,null,null,null,null,null,null,null,null,null,null,null,null,null,null,null,null,null,null,null,null,null,null,null,"",""]
[null,null,null,null,null,null,null,null,null,null,null,null,null,null,null,null,null,null,null,null,null,null,null,null,null,null,null,null,null,null,null,null,null,null,null,"",""]
[null,null,null,null,null,null,null,null,null,null,null,null,null,null,null,null,null,null,null,null,null,null,null,null,null,null,null,null,null,null,null,null,null,null,null,"",""]
[null,null,null,null,null,null,null,null,null,null,null,null,null,null,null,null,null,null,null,null,null,null,null,null,null,null,null,null,null,null,null,null,null,null,null,"",""]
[null,null,null,null,null,null,null,null,null,null,null,null,null,null,null,null,null,null,null,null,null,null,null,null,null,null,null,null,null,null,null,null,null,null,null,"",""]
[null,null,null,null,null,null,null,null,null,null,null,null,null,null,null,null,null,null,null,null,null,null,null,null,null,null,null,null,null,null,null,null,null,null,null,"",""]
[null,null,null,null,null,null,null,null,null,null,null,null,null,null,null,null,null,null,null,null,null,null,null,null,null,null,null,null,null,null,null,null,null,null,null,"",""]
[null,null,null,null,null,null,null,null,null,null,null,null,null,null,null,null,null,null,null,null,null,null,null,null,null,null,null,null,null,null,null,null,null,null,null,"",""]
[null,null,null,null,null,null,null,null,null,null,null,null,null,null,null,null,null,null,null,null,null,null,null,null,null,null,null,null,null,null,null,null,null,null,null,"",""]
[null,null,null,null,null,null,null,null,null,null,null,null,null,null,null,null,null,null,null,null,null,null,null,null,null,null,null,null,null,null,null,null,null,null,null,"",""]
[null,null,null,null,null,null,null,null,null,null,null,null,null,null,null,null,null,null,null,null,null,null,null,null,null,null,null,null,null,null,null,null,null,null,null,"",""]
[null,null,null,null,null,null,null,null,null,null,null,null,null,null,null,null,null,null,null,null,null,null,null,null,null,null,null,null,null,null,null,null,null,null,null,"",""]
[null,null,null,null,null,null,null,null,null,null,null,null,null,null,null,null,null,null,null,null,null,null,null,null,null,null,null,null,null,null,null,null,null,null,null,"",""]
[null,null,null,null,null,null,null,null,null,null,null,null,null,null,null,null,null,null,null,null,null,null,null,null,null,null,null,null,null,null,null,null,null,null,null,"",""]
[null,null,null,null,null,null,null,null,null,null,null,null,null,null,null,null,null,null,null,null,null,null,null,null,null,null,null,null,null,null,null,null,null,null,null,"",""]
[null,null,null,null,null,null,null,null,null,null,null,null,null,null,null,null,null,null,null,null,null,null,null,null,null,null,null,null,null,null,null,null,null,null,null,"",""]
[null,null,null,null,null,null,null,null,null,null,null,null,null,null,null,null,null,null,null,null,null,null,null,null,null,null,null,null,null,null,null,null,null,null,null,"",""]
[null,null,null,null,null,null,null,null,null,null,null,null,null,null,null,null,null,null,null,null,null,null,null,null,null,null,null,null,null,null,null,null,null,null,null,"",""]
[null,null,null,null,null,null,null,null,null,null,null,null,null,null,null,null,null,null,null,null,null,null,null,null,null,null,null,null,null,null,null,null,null,null,null,"",""]
[null,null,null,null,null,null,null,null,null,null,null,null,null,null,null,null,null,null,null,null,null,null,null,null,null,null,null,null,null,null,null,null,null,null,null,"",""]
[null,null,null,null,null,null,null,null,null,null,null,null,null,null,null,null,null,null,null,null,null,null,null,null,null,null,null,null,null,null,null,null,null,null,null,"",""]
[null,null,null,null,null,null,null,null,null,null,null,null,null,null,null,null,null,null,null,null,null,null,null,null,null,null,null,null,null,null,null,null,null,null,null,"",""]
[null,null,null,null,null,null,null,null,null,null,null,null,null,null,null,null,null,null,null,null,null,null,null,null,null,null,null,null,null,null,null,null,null,null,null,"",""]
[null,null,null,null,null,null,null,null,null,null,null,null,null,null,null,null,null,null,null,null,null,null,null,null,null,null,null,null,null,null,null,null,null,null,null,"",""]
[null,null,null,null,null,null,null,null,null,null,null,null,null,null,null,null,null,null,null,null,null,null,null,null,null,null,null,null,null,null,null,null,null,null,null,"",""]
[null,null,null,null,null,null,null,null,null,null,null,null,null,null,null,null,null,null,null,null,null,null,null,null,null,null,null,null,null,null,null,null,null,null,null,"",""]
[null,null,null,null,null,null,null,null,null,null,null,null,null,null,null,null,null,null,null,null,null,null,null,null,null,null,null,null,null,null,null,null,null,null,null,"",""]
[null,null,null,null,null,null,null,null,null,null,null,null,null,null,null,null,null,null,null,null,null,null,null,null,null,null,null,null,null,null,null,null,null,null,null,"",""]
[null,null,null,null,null,null,null,null,null,null,null,null,null,null,null,null,null,null,null,null,null,null,null,null,null,null,null,null,null,null,null,null,null,null,null,"",""]
[null,null,null,null,null,null,null,null,null,null,null,null,null,null,null,null,null,null,null,null,null,null,null,null,null,null,null,null,null,null,null,null,null,null,null,{"$f":"H388&K388&L388&M388&S388","v":""},""]
[null,null,null,null,null,null,null,null,null,null,null,null,null,null,null,null,null,null,null,null,null,null,null,null,null,null,null,null,null,null,null,null,null,null,null,"",""]
[null,null,null,null,null,null,null,null,null,null,null,null,null,null,null,null,null,null,null,null,null,null,null,null,null,null,null,null,null,null,null,null,null,null,null,"",""]
[null,null,null,null,null,null,null,null,null,null,null,null,null,null,null,null,null,null,null,null,null,null,null,null,null,null,null,null,null,null,null,null,null,null,null,"",""]
[null,null,null,null,null,null,null,null,null,null,null,null,null,null,null,null,null,null,null,null,null,null,null,null,null,null,null,null,null,null,null,null,null,null,null,"",""]
[null,null,null,null,null,null,null,null,null,null,null,null,null,null,null,null,null,null,null,null,null,null,null,null,null,null,null,null,null,null,null,null,null,null,null,"",""]
[null,null,null,null,null,null,null,null,null,null,null,null,null,null,null,null,null,null,null,null,null,null,null,null,null,null,null,null,null,null,null,null,null,null,null,"",""]
[null,null,null,null,null,null,null,null,null,null,null,null,null,null,null,null,null,null,null,null,null,null,null,null,null,null,null,null,null,null,null,null,null,null,null,"",""]
[null,null,null,null,null,null,null,null,null,null,null,null,null,null,null,null,null,null,null,null,null,null,null,null,null,null,null,null,null,null,null,null,null,null,null,"",""]
[null,null,null,null,null,null,null,null,null,null,null,null,null,null,null,null,null,null,null,null,null,null,null,null,null,null,null,null,null,null,null,null,null,null,null,"",""]
[null,null,null,null,null,null,null,null,null,null,null,null,null,null,null,null,null,null,null,null,null,null,null,null,null,null,null,null,null,null,null,null,null,null,null,"",""]
[null,null,null,null,null,null,null,null,null,null,null,null,null,null,null,null,null,null,null,null,null,null,null,null,null,null,null,null,null,null,null,null,null,null,null,"",""]
[null,null,null,null,null,null,null,null,null,null,null,null,null,null,null,null,null,null,null,null,null,null,null,null,null,null,null,null,null,null,null,null,null,null,null,"",""]
[null,null,null,null,null,null,null,null,null,null,null,null,null,null,null,null,null,null,null,null,null,null,null,null,null,null,null,null,null,null,null,null,null,null,null,"",""]
[null,null,null,null,null,null,null,null,null,null,null,null,null,null,null,null,null,null,null,null,null,null,null,null,null,null,null,null,null,null,null,null,null,null,null,"",""]
[null,null,null,null,null,null,null,null,null,null,null,null,null,null,null,null,null,null,null,null,null,null,null,null,null,null,null,null,null,null,null,null,null,null,null,"",""]
[null,null,null,null,null,null,null,null,null,null,null,null,null,null,null,null,null,null,null,null,null,null,null,null,null,null,null,null,null,null,null,null,null,null,null,"",""]
[null,null,null,null,null,null,null,null,null,null,null,null,null,null,null,null,null,null,null,null,null,null,null,null,null,null,null,null,null,null,null,null,null,null,null,"",""]
[null,null,null,null,null,null,null,null,null,null,null,null,null,null,null,null,null,null,null,null,null,null,null,null,null,null,null,null,null,null,null,null,null,null,null,"",""]
[null,null,null,null,null,null,null,null,null,null,null,null,null,null,null,null,null,null,null,null,null,null,null,null,null,null,null,null,null,null,null,null,null,null,null,"",""]
[null,null,null,null,null,null,null,null,null,null,null,null,null,null,null,null,null,null,null,null,null,null,null,null,null,null,null,null,null,null,null,null,null,null,null,"",""]
[null,null,null,null,null,null,null,null,null,null,null,null,null,null,null,null,null,null,null,null,null,null,null,null,null,null,null,null,null,null,null,null,null,null,null,"",""]
[null,null,null,null,null,null,null,null,null,null,null,null,null,null,null,null,null,null,null,null,null,null,null,null,null,null,null,null,null,null,null,null,null,null,null,"",""]
[null,null,null,null,null,null,null,null,null,null,null,null,null,null,null,null,null,null,null,null,null,null,null,null,null,null,null,null,null,null,null,null,null,null,null,"",""]
[null,null,null,null,null,null,null,null,null,null,null,null,null,null,null,null,null,null,null,null,null,null,null,null,null,null,null,null,null,null,null,null,null,null,null,"",""]
[null,null,null,null,null,null,null,null,null,null,null,null,null,null,null,null,null,null,null,null,null,null,null,null,null,null,null,null,null,null,null,null,null,null,null,"",""]
[null,null,null,null,null,null,null,null,null,null,null,null,null,null,null,null,null,null,null,null,null,null,null,null,null,null,null,null,null,null,null,null,null,null,null,"",{"$f":"IF(H414<>\"\",MONTH(VLOOKUP($H414,$A$8:$D$57,2,FALSE)),\"\")","v":""}]
[null,null,null,null,null,null,null,null,null,null,null,null,null,null,null,null,null,null,null,null,null,null,null,null,null,null,null,null,null,null,null,null,null,null,null,"",""]
[null,null,null,null,null,null,null,null,null,null,null,null,null,null,null,null,null,null,null,null,null,null,null,null,null,null,null,null,null,null,null,null,null,null,null,"",""]
[null,null,null,null,null,null,null,null,null,null,null,null,null,null,null,null,null,null,null,null,null,null,null,null,null,null,null,null,null,null,null,null,null,null,null,"",""]
[null,null,null,null,null,null,null,null,null,null,null,null,null,null,null,null,null,null,null,null,null,null,null,null,null,null,null,null,null,null,null,null,null,null,null,"",""]
[null,null,null,null,null,null,null,null,null,null,null,null,null,null,null,null,null,null,null,null,null,null,null,null,null,null,null,null,null,null,null,null,null,null,null,"",""]
[null,null,null,null,null,null,null,null,null,null,null,null,null,null,null,null,null,null,null,null,null,null,null,null,null,null,null,null,null,null,null,null,null,null,null,"",""]
[null,null,null,null,null,null,null,null,null,null,null,null,null,null,null,null,null,null,null,null,null,null,null,null,null,null,null,null,null,null,null,null,null,null,null,"",""]
[null,null,null,null,null,null,null,null,null,null,null,null,null,null,null,null,null,null,null,null,null,null,null,null,null,null,null,null,null,null,null,null,null,null,null,"",""]
[null,null,null,null,null,null,null,null,null,null,null,null,null,null,null,null,null,null,null,null,null,null,null,null,null,null,null,null,null,null,null,null,null,null,null,"",""]
[null,null,null,null,null,null,null,null,null,null,null,null,null,null,null,null,null,null,null,null,null,null,null,null,null,null,null,null,null,null,null,null,null,null,null,"",""]
[null,null,null,null,null,null,null,null,null,null,null,null,null,null,null,null,null,null,null,null,null,null,null,null,null,null,null,null,null,null,null,null,null,null,null,"",""]
[null,null,null,null,null,null,null,null,null,null,null,null,null,null,null,null,null,null,null,null,null,null,null,null,null,null,null,null,null,null,null,null,null,null,null,"",""]
[null,null,null,null,null,null,null,null,null,null,null,null,null,null,null,null,null,null,null,null,null,null,null,null,null,null,null,null,null,null,null,null,null,null,null,"",""]
[null,null,null,null,null,null,null,null,null,null,null,null,null,null,null,null,null,null,null,null,null,null,null,null,null,null,null,null,null,null,null,null,null,null,null,"",""]
[null,null,null,null,null,null,null,null,null,null,null,null,null,null,null,null,null,null,null,null,null,null,null,null,null,null,null,null,null,null,null,null,null,null,null,"",""]
[null,null,null,null,null,null,null,null,null,null,null,null,null,null,null,null,null,null,null,null,null,null,null,null,null,null,null,null,null,null,null,null,null,null,null,"",""]
[null,null,null,null,null,null,null,null,null,null,null,null,null,null,null,null,null,null,null,null,null,null,null,null,null,null,null,null,null,null,null,null,null,null,null,"",""]
[null,null,null,null,null,null,null,null,null,null,null,null,null,null,null,null,null,null,null,null,null,null,null,null,null,null,null,null,null,null,null,null,null,null,null,"",""]
[null,null,null,null,null,null,null,null,null,null,null,null,null,null,null,null,null,null,null,null,null,null,null,null,null,null,null,null,null,null,null,null,null,null,null,"",""]
[null,null,null,null,null,null,null,null,null,null,null,null,null,null,null,null,null,null,null,null,null,null,null,null,null,null,null,null,null,null,null,null,null,null,null,"",""]
[null,null,null,null,null,null,null,null,null,null,null,null,null,null,null,null,null,null,null,null,null,null,null,null,null,null,null,null,null,null,null,null,null,null,null,"",""]
[null,null,null,null,null,null,null,null,null,null,null,null,null,null,null,null,null,null,null,null,null,null,null,null,null,null,null,null,null,null,null,null,null,null,null,"",""]
[null,null,null,null,null,null,null,null,null,null,null,null,null,null,null,null,null,null,null,null,null,null,null,null,null,null,null,null,null,null,null,null,null,null,null,"",""]
[null,null,null,null,null,null,null,null,null,null,null,null,null,null,null,null,null,null,null,null,null,null,null,null,null,null,null,null,null,null,null,null,null,null,null,"",""]
[null,null,null,null,null,null,null,null,null,null,null,null,null,null,null,null,null,null,null,null,null,null,null,null,null,null,null,null,null,null,null,null,null,null,null,"",""]
[null,null,null,null,null,null,null,null,null,null,null,null,null,null,null,null,null,null,null,null,null,null,null,null,null,null,null,null,null,null,null,null,null,null,null,"",""]
[null,null,null,null,null,null,null,null,null,null,null,null,null,null,null,null,null,null,null,null,null,null,null,null,null,null,null,null,null,null,null,null,null,null,null,"",""]
[null,null,null,null,null,null,null,null,null,null,null,null,null,null,null,null,null,null,null,null,null,null,null,null,null,null,null,null,null,null,null,null,null,null,null,"",""]
[null,null,null,null,null,null,null,null,null,null,null,null,null,null,null,null,null,null,null,null,null,null,null,null,null,null,null,null,null,null,null,null,null,null,null,"",""]
[null,null,null,null,null,null,null,null,null,null,null,null,null,null,null,null,null,null,null,null,null,null,null,null,null,null,null,null,null,null,null,null,null,null,null,"",""]
[null,null,null,null,null,null,null,null,null,null,null,null,null,null,null,null,null,null,null,null,null,null,null,null,null,null,null,null,null,null,null,null,null,null,null,"",""]
[null,null,null,null,null,null,null,null,null,null,null,null,null,null,null,null,null,null,null,null,null,null,null,null,null,null,null,null,null,null,null,null,null,null,null,"",""]
[null,null,null,null,null,null,null,null,null,null,null,null,null,null,null,null,null,null,null,null,null,null,null,null,null,null,null,null,null,null,null,null,null,null,null,"",""]
[null,null,null,null,null,null,null,null,null,null,null,null,null,null,null,null,null,null,null,null,null,null,null,null,null,null,null,null,null,null,null,null,null,null,null,"",""]
[null,null,null,null,null,null,null,null,null,null,null,null,null,null,null,null,null,null,null,null,null,null,null,null,null,null,null,null,null,null,null,null,null,null,null,"",""]
[null,null,null,null,null,null,null,null,null,null,null,null,null,null,null,null,null,null,null,null,null,null,null,null,null,null,null,null,null,null,null,null,null,null,null,"",""]
[null,null,null,null,null,null,null,null,null,null,null,null,null,null,null,null,null,null,null,null,null,null,null,null,null,null,null,null,null,null,null,null,null,null,null,"",""]
[null,null,null,null,null,null,null,null,null,null,null,null,null,null,null,null,null,null,null,null,null,null,null,null,null,null,null,null,null,null,null,null,null,null,null,{"$f":"H452&K452&L452&M452&S452","v":""},""]
[null,null,null,null,null,null,null,null,null,null,null,null,null,null,null,null,null,null,null,null,null,null,null,null,null,null,null,null,null,null,null,null,null,null,null,"",""]
[null,null,null,null,null,null,null,null,null,null,null,null,null,null,null,null,null,null,null,null,null,null,null,null,null,null,null,null,null,null,null,null,null,null,null,"",""]
[null,null,null,null,null,null,null,null,null,null,null,null,null,null,null,null,null,null,null,null,null,null,null,null,null,null,null,null,null,null,null,null,null,null,null,"",""]
[null,null,null,null,null,null,null,null,null,null,null,null,null,null,null,null,null,null,null,null,null,null,null,null,null,null,null,null,null,null,null,null,null,null,null,"",""]
[null,null,null,null,null,null,null,null,null,null,null,null,null,null,null,null,null,null,null,null,null,null,null,null,null,null,null,null,null,null,null,null,null,null,null,"",""]
[null,null,null,null,null,null,null,null,null,null,null,null,null,null,null,null,null,null,null,null,null,null,null,null,null,null,null,null,null,null,null,null,null,null,null,"",""]
[null,null,null,null,null,null,null,null,null,null,null,null,null,null,null,null,null,null,null,null,null,null,null,null,null,null,null,null,null,null,null,null,null,null,null,"",""]
[null,null,null,null,null,null,null,null,null,null,null,null,null,null,null,null,null,null,null,null,null,null,null,null,null,null,null,null,null,null,null,null,null,null,null,"",""]
[null,null,null,null,null,null,null,null,null,null,null,null,null,null,null,null,null,null,null,null,null,null,null,null,null,null,null,null,null,null,null,null,null,null,null,"",""]
[null,null,null,null,null,null,null,null,null,null,null,null,null,null,null,null,null,null,null,null,null,null,null,null,null,null,null,null,null,null,null,null,null,null,null,"",""]
[null,null,null,null,null,null,null,null,null,null,null,null,null,null,null,null,null,null,null,null,null,null,null,null,null,null,null,null,null,null,null,null,null,null,null,"",""]
[null,null,null,null,null,null,null,null,null,null,null,null,null,null,null,null,null,null,null,null,null,null,null,null,null,null,null,null,null,null,null,null,null,null,null,"",""]
[null,null,null,null,null,null,null,null,null,null,null,null,null,null,null,null,null,null,null,null,null,null,null,null,null,null,null,null,null,null,null,null,null,null,null,"",""]
[null,null,null,null,null,null,null,null,null,null,null,null,null,null,null,null,null,null,null,null,null,null,null,null,null,null,null,null,null,null,null,null,null,null,null,"",""]
[null,null,null,null,null,null,null,null,null,null,null,null,null,null,null,null,null,null,null,null,null,null,null,null,null,null,null,null,null,null,null,null,null,null,null,"",""]
[null,null,null,null,null,null,null,null,null,null,null,null,null,null,null,null,null,null,null,null,null,null,null,null,null,null,null,null,null,null,null,null,null,null,null,"",""]
[null,null,null,null,null,null,null,null,null,null,null,null,null,null,null,null,null,null,null,null,null,null,null,null,null,null,null,null,null,null,null,null,null,null,null,"",""]
[null,null,null,null,null,null,null,null,null,null,null,null,null,null,null,null,null,null,null,null,null,null,null,null,null,null,null,null,null,null,null,null,null,null,null,"",""]
[null,null,null,null,null,null,null,null,null,null,null,null,null,null,null,null,null,null,null,null,null,null,null,null,null,null,null,null,null,null,null,null,null,null,null,"",""]
[null,null,null,null,null,null,null,null,null,null,null,null,null,null,null,null,null,null,null,null,null,null,null,null,null,null,null,null,null,null,null,null,null,null,null,"",""]
[null,null,null,null,null,null,null,null,null,null,null,null,null,null,null,null,null,null,null,null,null,null,null,null,null,null,null,null,null,null,null,null,null,null,null,"",""]
[null,null,null,null,null,null,null,null,null,null,null,null,null,null,null,null,null,null,null,null,null,null,null,null,null,null,null,null,null,null,null,null,null,null,null,"",""]
[null,null,null,null,null,null,null,null,null,null,null,null,null,null,null,null,null,null,null,null,null,null,null,null,null,null,null,null,null,null,null,null,null,null,null,"",""]
[null,null,null,null,null,null,null,null,null,null,null,null,null,null,null,null,null,null,null,null,null,null,null,null,null,null,null,null,null,null,null,null,null,null,null,{"$f":"#REF!&#REF!&#REF!&#REF!&#REF!","v":{"$error":"#REF!"}},{"$f":"IF(#REF!<>\"\",MONTH(VLOOKUP(#REF!,$A$8:$D$57,2,FALSE)),\"\")","v":{"$error":"#REF!"}}]
[null,null,null,null,null,null,null,null,null,null,null,null,null,null,null,null,null,null,null,null,null,null,null,null,null,null,null,null,null,null,null,null,null,null,null,{"$f":"#REF!&#REF!&#REF!&#REF!&#REF!","v":{"$error":"#REF!"}},{"$f":"IF(#REF!<>\"\",MONTH(VLOOKUP(#REF!,$A$8:$D$57,2,FALSE)),\"\")","v":{"$error":"#REF!"}}]
[null,null,null,null,null,null,null,null,null,null,null,null,null,null,null,null,null,null,null,null,null,null,null,null,null,null,null,null,null,null,null,null,null,null,null,{"$f":"#REF!&#REF!&#REF!&#REF!&#REF!","v":{"$error":"#REF!"}},{"$f":"IF(#REF!<>\"\",MONTH(VLOOKUP(#REF!,$A$8:$D$57,2,FALSE)),\"\")","v":{"$error":"#REF!"}}]
[null,null,null,null,null,null,null,null,null,null,null,null,null,null,null,null,null,null,null,null,null,null,null,null,null,null,null,null,null,null,null,null,null,null,null,{"$f":"#REF!&#REF!&#REF!&#REF!&#REF!","v":{"$error":"#REF!"}},{"$f":"IF(#REF!<>\"\",MONTH(VLOOKUP(#REF!,$A$8:$D$57,2,FALSE)),\"\")","v":{"$error":"#REF!"}}]
[null,null,null,null,null,null,null,null,null,null,null,null,null,null,null,null,null,null,null,null,null,null,null,null,null,null,null,null,null,null,null,null,null,null,null,{"$f":"#REF!&#REF!&#REF!&#REF!&#REF!","v":{"$error":"#REF!"}},{"$f":"IF(#REF!<>\"\",MONTH(VLOOKUP(#REF!,$A$8:$D$57,2,FALSE)),\"\")","v":{"$error":"#REF!"}}]
[null,null,null,null,null,null,null,null,null,null,null,null,null,null,null,null,null,null,null,null,null,null,null,null,null,null,null,null,null,null,null,null,null,null,null,{"$f":"#REF!&#REF!&#REF!&#REF!&#REF!","v":{"$error":"#REF!"}},{"$f":"IF(#REF!<>\"\",MONTH(VLOOKUP(#REF!,$A$8:$D$57,2,FALSE)),\"\")","v":{"$error":"#REF!"}}]
[null,null,null,null,null,null,null,null,null,null,null,null,null,null,null,null,null,null,null,null,null,null,null,null,null,null,null,null,null,null,null,null,null,null,null,{"$f":"#REF!&#REF!&#REF!&#REF!&#REF!","v":{"$error":"#REF!"}},{"$f":"IF(#REF!<>\"\",MONTH(VLOOKUP(#REF!,$A$8:$D$57,2,FALSE)),\"\")","v":{"$error":"#REF!"}}]
[null,null,null,null,null,null,null,null,null,null,null,null,null,null,null,null,null,null,null,null,null,null,null,null,null,null,null,null,null,null,null,null,null,null,null,{"$f":"H476&K476&L476&M476&S476","v":""},{"$f":"IF(H476<>\"\",MONTH(VLOOKUP($H476,$A$8:$D$57,2,FALSE)),\"\")","v":""}]
[null,null,null,null,null,null,null,null,null,null,null,null,null,null,null,null,null,null,null,null,null,null,null,null,null,null,null,null,null,null,null,null,null,null,null,"",""]
[null,null,null,null,null,null,null,null,null,null,null,null,null,null,null,null,null,null,null,null,null,null,null,null,null,null,null,null,null,null,null,null,null,null,null,"",""]
[null,null,null,null,null,null,null,null,null,null,null,null,null,null,null,null,null,null,null,null,null,null,null,null,null,null,null,null,null,null,null,null,null,null,null,"",""]
[null,null,null,null,null,null,null,null,null,null,null,null,null,null,null,null,null,null,null,null,null,null,null,null,null,null,null,null,null,null,null,null,null,null,null,"",""]
[null,null,null,null,null,null,null,null,null,null,null,null,null,null,null,null,null,null,null,null,null,null,null,null,null,null,null,null,null,null,null,null,null,null,null,"",""]
[null,null,null,null,null,null,null,null,null,null,null,null,null,null,null,null,null,null,null,null,null,null,null,null,null,null,null,null,null,null,null,null,null,null,null,"",""]
[null,null,null,null,null,null,null,null,null,null,null,null,null,null,null,null,null,null,null,null,null,null,null,null,null,null,null,null,null,null,null,null,null,null,null,"",""]
[null,null,null,null,null,null,null,null,null,null,null,null,null,null,null,null,null,null,null,null,null,null,null,null,null,null,null,null,null,null,null,null,null,null,null,"",""]
[null,null,null,null,null,null,null,null,null,null,null,null,null,null,null,null,null,null,null,null,null,null,null,null,null,null,null,null,null,null,null,null,null,null,null,"",""]
[null,null,null,null,null,null,null,null,null,null,null,null,null,null,null,null,null,null,null,null,null,null,null,null,null,null,null,null,null,null,null,null,null,null,null,"",""]
[null,null,null,null,null,null,null,null,null,null,null,null,null,null,null,null,null,null,null,null,null,null,null,null,null,null,null,null,null,null,null,null,null,null,null,"",""]
[null,null,null,null,null,null,null,null,null,null,null,null,null,null,null,null,null,null,null,null,null,null,null,null,null,null,null,null,null,null,null,null,null,null,null,"",""]
[null,null,null,null,null,null,null,null,null,null,null,null,null,null,null,null,null,null,null,null,null,null,null,null,null,null,null,null,null,null,null,null,null,null,null,"",""]
[null,null,null,null,null,null,null,null,null,null,null,null,null,null,null,null,null,null,null,null,null,null,null,null,null,null,null,null,null,null,null,null,null,null,null,"",""]
[null,null,null,null,null,null,null,null,null,null,null,null,null,null,null,null,null,null,null,null,null,null,null,null,null,null,null,null,null,null,null,null,null,null,null,"",""]
[null,null,null,null,null,null,null,null,null,null,null,null,null,null,null,null,null,null,null,null,null,null,null,null,null,null,null,null,null,null,null,null,null,null,null,"",""]
[null,null,null,null,null,null,null,null,null,null,null,null,null,null,null,null,null,null,null,null,null,null,null,null,null,null,null,null,null,null,null,null,null,null,null,"",""]
[null,null,null,null,null,null,null,null,null,null,null,null,null,null,null,null,null,null,null,null,null,null,null,null,null,null,null,null,null,null,null,null,null,null,null,"",""]
[null,null,null,null,null,null,null,null,null,null,null,null,null,null,null,null,null,null,null,null,null,null,null,null,null,null,null,null,null,null,null,null,null,null,null,"",""]
[null,null,null,null,null,null,null,null,null,null,null,null,null,null,null,null,null,null,null,null,null,null,null,null,null,null,null,null,null,null,null,null,null,null,null,"",""]
[null,null,null,null,null,null,null,null,null,null,null,null,null,null,null,null,null,null,null,null,null,null,null,null,null,null,null,null,null,null,null,null,null,null,null,"",""]
[null,null,null,null,null,null,null,null,null,null,null,null,null,null,null,null,null,null,null,null,null,null,null,null,null,null,null,null,null,null,null,null,null,null,null,"",""]
[null,null,null,null,null,null,null,null,null,null,null,null,null,null,null,null,null,null,null,null,null,null,null,null,null,null,null,null,null,null,null,null,null,null,null,"",""]
[null,null,null,null,null,null,null,null,null,null,null,null,null,null,null,null,null,null,null,null,null,null,null,null,null,null,null,null,null,null,null,null,null,null,null,"",""]
[null,null,null,null,null,null,null,null,null,null,null,null,null,null,null,null,null,null,null,null,null,null,null,null,null,null,null,null,null,null,null,null,null,null,null,"",""]
[null,null,null,null,null,null,null,null,null,null,null,null,null,null,null,null,null,null,null,null,null,null,null,null,null,null,null,null,null,null,null,null,null,null,null,"",""]
[null,null,null,null,null,null,null,null,null,null,null,null,null,null,null,null,null,null,null,null,null,null,null,null,null,null,null,null,null,null,null,null,null,null,null,"",""]
[null,null,null,null,null,null,null,null,null,null,null,null,null,null,null,null,null,null,null,null,null,null,null,null,null,null,null,null,null,null,null,null,null,null,null,"",""]
[null,null,null,null,null,null,null,null,null,null,null,null,null,null,null,null,null,null,null,null,null,null,null,null,null,null,null,null,null,null,null,null,null,null,null,"",""]
[null,null,null,null,null,null,null,null,null,null,null,null,null,null,null,null,null,null,null,null,null,null,null,null,null,null,null,null,null,null,null,null,null,null,null,"",""]
[null,null,null,null,null,null,null,null,null,null,null,null,null,null,null,null,null,null,null,null,null,null,null,null,null,null,null,null,null,null,null,null,null,null,null,"",""]
[null,null,null,null,null,null,null,null,null,null,null,null,null,null,null,null,null,null,null,null,null,null,null,null,null,null,null,null,null,null,null,null,null,null,null,"",{"$f":"IF(H508<>\"\",MONTH(VLOOKUP($H508,$A$8:$D$57,2,FALSE)),\"\")","v":""}]
[null,null,null,null,null,null,null,null,null,null,null,null,null,null,null,null,null,null,null,null,null,null,null,null,null,null,null,null,null,null,null,null,null,null,null,{"$f":"H509&K509&L509&M509&S509","v":""},""]
[null,null,null,null,null,null,null,null,null,null,null,null,null,null,null,null,null,null,null,null,null,null,null,null,null,null,null,null,null,null,null,null,null,null,null,"",""]
[null,null,null,null,null,null,null,null,null,null,null,null,null,null,null,null,null,null,null,null,null,null,null,null,null,null,null,null,null,null,null,null,null,null,null,"",""]
[null,null,null,null,null,null,null,null,null,null,null,null,null,null,null,null,null,null,null,null,null,null,null,null,null,null,null,null,null,null,null,null,null,null,null,"",""]
[null,null,null,null,null,null,null,null,null,null,null,null,null,null,null,null,null,null,null,null,null,null,null,null,null,null,null,null,null,null,null,null,null,null,null,"",""]
[null,null,null,null,null,null,null,null,null,null,null,null,null,null,null,null,null,null,null,null,null,null,null,null,null,null,null,null,null,null,null,null,null,null,null,"",""]
[null,null,null,null,null,null,null,null,null,null,null,null,null,null,null,null,null,null,null,null,null,null,null,null,null,null,null,null,null,null,null,null,null,null,null,"",""]
[null,null,null,null,null,null,null,null,null,null,null,null,null,null,null,null,null,null,null,null,null,null,null,null,null,null,null,null,null,null,null,null,null,null,null,"",""]
[null,null,null,null,null,null,null,null,null,null,null,null,null,null,null,null,null,null,null,null,null,null,null,null,null,null,null,null,null,null,null,null,null,null,null,"",""]
[null,null,null,null,null,null,null,null,null,null,null,null,null,null,null,null,null,null,null,null,null,null,null,null,null,null,null,null,null,null,null,null,null,null,null,"",""]
[null,null,null,null,null,null,null,null,null,null,null,null,null,null,null,null,null,null,null,null,null,null,null,null,null,null,null,null,null,null,null,null,null,null,null,"",""]
[null,null,null,null,null,null,null,null,null,null,null,null,null,null,null,null,null,null,null,null,null,null,null,null,null,null,null,null,null,null,null,null,null,null,null,"",""]
[null,null,null,null,null,null,null,null,null,null,null,null,null,null,null,null,null,null,null,null,null,null,null,null,null,null,null,null,null,null,null,null,null,null,null,"",""]
[null,null,null,null,null,null,null,null,null,null,null,null,null,null,null,null,null,null,null,null,null,null,null,null,null,null,null,null,null,null,null,null,null,null,null,"",""]
[null,null,null,null,null,null,null,null,null,null,null,null,null,null,null,null,null,null,null,null,null,null,null,null,null,null,null,null,null,null,null,null,null,null,null,"",""]
[null,null,null,null,null,null,null,null,null,null,null,null,null,null,null,null,null,null,null,null,null,null,null,null,null,null,null,null,null,null,null,null,null,null,null,"",""]
[null,null,null,null,null,null,null,null,null,null,null,null,null,null,null,null,null,null,null,null,null,null,null,null,null,null,null,null,null,null,null,null,null,null,null,"",""]
[null,null,null,null,null,null,null,null,null,null,null,null,null,null,null,null,null,null,null,null,null,null,null,null,null,null,null,null,null,null,null,null,null,null,null,"",""]
[null,null,null,null,null,null,null,null,null,null,null,null,null,null,null,null,null,null,null,null,null,null,null,null,null,null,null,null,null,null,null,null,null,null,null,"",""]
[null,null,null,null,null,null,null,null,null,null,null,null,null,null,null,null,null,null,null,null,null,null,null,null,null,null,null,null,null,null,null,null,null,null,null,"",""]
[null,null,null,null,null,null,null,null,null,null,null,null,null,null,null,null,null,null,null,null,null,null,null,null,null,null,null,null,null,null,null,null,null,null,null,"",""]
[null,null,null,null,null,null,null,null,null,null,null,null,null,null,null,null,null,null,null,null,null,null,null,null,null,null,null,null,null,null,null,null,null,null,null,"",""]
[null,null,null,null,null,null,null,null,null,null,null,null,null,null,null,null,null,null,null,null,null,null,null,null,null,null,null,null,null,null,null,null,null,null,null,"",""]
[null,null,null,null,null,null,null,null,null,null,null,null,null,null,null,null,null,null,null,null,null,null,null,null,null,null,null,null,null,null,null,null,null,null,null,"",""]
[null,null,null,null,null,null,null,null,null,null,null,null,null,null,null,null,null,null,null,null,null,null,null,null,null,null,null,null,null,null,null,null,null,null,null,"",""]
[null,null,null,null,null,null,null,null,null,null,null,null,null,null,null,null,null,null,null,null,null,null,null,null,null,null,null,null,null,null,null,null,null,null,null,"",""]
[null,null,null,null,null,null,null,null,null,null,null,null,null,null,null,null,null,null,null,null,null,null,null,null,null,null,null,null,null,null,null,null,null,null,null,"",""]
[null,null,null,null,null,null,null,null,null,null,null,null,null,null,null,null,null,null,null,null,null,null,null,null,null,null,null,null,null,null,null,null,null,null,null,"",""]
[null,null,null,null,null,null,null,null,null,null,null,null,null,null,null,null,null,null,null,null,null,null,null,null,null,null,null,null,null,null,null,null,null,null,null,"",""]
[null,null,null,null,null,null,null,null,null,null,null,null,null,null,null,null,null,null,null,null,null,null,null,null,null,null,null,null,null,null,null,null,null,null,null,"",""]
[null,null,null,null,null,null,null,null,null,null,null,null,null,null,null,null,null,null,null,null,null,null,null,null,null,null,null,null,null,null,null,null,null,null,null,"",""]
[null,null,null,null,null,null,null,null,null,null,null,null,null,null,null,null,null,null,null,null,null,null,null,null,null,null,null,null,null,null,null,null,null,null,null,"",{"$f":"IF(H540<>\"\",MONTH(VLOOKUP($H540,$A$8:$D$57,2,FALSE)),\"\")","v":""}]
[null,null,null,null,null,null,null,null,null,null,null,null,null,null,null,null,null,null,null,null,null,null,null,null,null,null,null,null,null,null,null,null,null,null,null,"",""]
[null,null,null,null,null,null,null,null,null,null,null,null,null,null,null,null,null,null,null,null,null,null,null,null,null,null,null,null,null,null,null,null,null,null,null,"",""]
[null,null,null,null,null,null,null,null,null,null,null,null,null,null,null,null,null,null,null,null,null,null,null,null,null,null,null,null,null,null,null,null,null,null,null,"",""]
[null,null,null,null,null,null,null,null,null,null,null,null,null,null,null,null,null,null,null,null,null,null,null,null,null,null,null,null,null,null,null,null,null,null,null,"",""]
[null,null,null,null,null,null,null,null,null,null,null,null,null,null,null,null,null,null,null,null,null,null,null,null,null,null,null,null,null,null,null,null,null,null,null,"",""]
[null,null,null,null,null,null,null,null,null,null,null,null,null,null,null,null,null,null,null,null,null,null,null,null,null,null,null,null,null,null,null,null,null,null,null,"",""]
[null,null,null,null,null,null,null,null,null,null,null,null,null,null,null,null,null,null,null,null,null,null,null,null,null,null,null,null,null,null,null,null,null,null,null,"",""]
[null,null,null,null,null,null,null,null,null,null,null,null,null,null,null,null,null,null,null,null,null,null,null,null,null,null,null,null,null,null,null,null,null,null,null,"",""]
[null,null,null,null,null,null,null,null,null,null,null,null,null,null,null,null,null,null,null,null,null,null,null,null,null,null,null,null,null,null,null,null,null,null,null,"",""]
[null,null,null,null,null,null,null,null,null,null,null,null,null,null,null,null,null,null,null,null,null,null,null,null,null,null,null,null,null,null,null,null,null,null,null,"",""]
[null,null,null,null,null,null,null,null,null,null,null,null,null,null,null,null,null,null,null,null,null,null,null,null,null,null,null,null,null,null,null,null,null,null,null,"",""]
[null,null,null,null,null,null,null,null,null,null,null,null,null,null,null,null,null,null,null,null,null,null,null,null,null,null,null,null,null,null,null,null,null,null,null,"",""]
[null,null,null,null,null,null,null,null,null,null,null,null,null,null,null,null,null,null,null,null,null,null,null,null,null,null,null,null,null,null,null,null,null,null,null,"",""]
[null,null,null,null,null,null,null,null,null,null,null,null,null,null,null,null,null,null,null,null,null,null,null,null,null,null,null,null,null,null,null,null,null,null,null,"",""]
[null,null,null,null,null,null,null,null,null,null,null,null,null,null,null,null,null,null,null,null,null,null,null,null,null,null,null,null,null,null,null,null,null,null,null,"",""]
[null,null,null,null,null,null,null,null,null,null,null,null,null,null,null,null,null,null,null,null,null,null,null,null,null,null,null,null,null,null,null,null,null,null,null,"",""]
[null,null,null,null,null,null,null,null,null,null,null,null,null,null,null,null,null,null,null,null,null,null,null,null,null,null,null,null,null,null,null,null,null,null,null,"",""]
[null,null,null,null,null,null,null,null,null,null,null,null,null,null,null,null,null,null,null,null,null,null,null,null,null,null,null,null,null,null,null,null,null,null,null,"",""]
[null,null,null,null,null,null,null,null,null,null,null,null,null,null,null,null,null,null,null,null,null,null,null,null,null,null,null,null,null,null,null,null,null,null,null,"",""]
[null,null,null,null,null,null,null,null,null,null,null,null,null,null,null,null,null,null,null,null,null,null,null,null,null,null,null,null,null,null,null,null,null,null,null,"",""]
[null,null,null,null,null,null,null,null,null,null,null,null,null,null,null,null,null,null,null,null,null,null,null,null,null,null,null,null,null,null,null,null,null,null,null,"",""]
[null,null,null,null,null,null,null,null,null,null,null,null,null,null,null,null,null,null,null,null,null,null,null,null,null,null,null,null,null,null,null,null,null,null,null,"",""]
[null,null,null,null,null,null,null,null,null,null,null,null,null,null,null,null,null,null,null,null,null,null,null,null,null,null,null,null,null,null,null,null,null,null,null,"",""]
[null,null,null,null,null,null,null,null,null,null,null,null,null,null,null,null,null,null,null,null,null,null,null,null,null,null,null,null,null,null,null,null,null,null,null,"",""]
[null,null,null,null,null,null,null,null,null,null,null,null,null,null,null,null,null,null,null,null,null,null,null,null,null,null,null,null,null,null,null,null,null,null,null,"",""]
[null,null,null,null,null,null,null,null,null,null,null,null,null,null,null,null,null,null,null,null,null,null,null,null,null,null,null,null,null,null,null,null,null,null,null,"",""]
[null,null,null,null,null,null,null,null,null,null,null,null,null,null,null,null,null,null,null,null,null,null,null,null,null,null,null,null,null,null,null,null,null,null,null,"",""]
[null,null,null,null,null,null,null,null,null,null,null,null,null,null,null,null,null,null,null,null,null,null,null,null,null,null,null,null,null,null,null,null,null,null,null,"",""]
[null,null,null,null,null,null,null,null,null,null,null,null,null,null,null,null,null,null,null,null,null,null,null,null,null,null,null,null,null,null,null,null,null,null,null,"",""]
[null,null,null,null,null,null,null,null,null,null,null,null,null,null,null,null,null,null,null,null,null,null,null,null,null,null,null,null,null,null,null,null,null,null,null,"",""]
[null,null,null,null,null,null,null,null,null,null,null,null,null,null,null,null,null,null,null,null,null,null,null,null,null,null,null,null,null,null,null,null,null,null,null,"",""]
[null,null,null,null,null,null,null,null,null,null,null,null,null,null,null,null,null,null,null,null,null,null,null,null,null,null,null,null,null,null,null,null,null,null,null,"",{"$f":"IF(H572<>\"\",MONTH(VLOOKUP($H572,$A$8:$D$57,2,FALSE)),\"\")","v":""}]
[null,null,null,null,null,null,null,null,null,null,null,null,null,null,null,null,null,null,null,null,null,null,null,null,null,null,null,null,null,null,null,null,null,null,null,{"$f":"H573&K573&L573&M573&S573","v":""},""]
[null,null,null,null,null,null,null,null,null,null,null,null,null,null,null,null,null,null,null,null,null,null,null,null,null,null,null,null,null,null,null,null,null,null,null,"",""]
[null,null,null,null,null,null,null,null,null,null,null,null,null,null,null,null,null,null,null,null,null,null,null,null,null,null,null,null,null,null,null,null,null,null,null,"",""]
[null,null,null,null,null,null,null,null,null,null,null,null,null,null,null,null,null,null,null,null,null,null,null,null,null,null,null,null,null,null,null,null,null,null,null,"",""]
[null,null,null,null,null,null,null,null,null,null,null,null,null,null,null,null,null,null,null,null,null,null,null,null,null,null,null,null,null,null,null,null,null,null,null,"",""]
[null,null,null,null,null,null,null,null,null,null,null,null,null,null,null,null,null,null,null,null,null,null,null,null,null,null,null,null,null,null,null,null,null,null,null,"",""]
[null,null,null,null,null,null,null,null,null,null,null,null,null,null,null,null,null,null,null,null,null,null,null,null,null,null,null,null,null,null,null,null,null,null,null,"",""]
[null,null,null,null,null,null,null,null,null,null,null,null,null,null,null,null,null,null,null,null,null,null,null,null,null,null,null,null,null,null,null,null,null,null,null,"",""]
[null,null,null,null,null,null,null,null,null,null,null,null,null,null,null,null,null,null,null,null,null,null,null,null,null,null,null,null,null,null,null,null,null,null,null,"",""]
[null,null,null,null,null,null,null,null,null,null,null,null,null,null,null,null,null,null,null,null,null,null,null,null,null,null,null,null,null,null,null,null,null,null,null,"",""]
[null,null,null,null,null,null,null,null,null,null,null,null,null,null,null,null,null,null,null,null,null,null,null,null,null,null,null,null,null,null,null,null,null,null,null,"",""]
[null,null,null,null,null,null,null,null,null,null,null,null,null,null,null,null,null,null,null,null,null,null,null,null,null,null,null,null,null,null,null,null,null,null,null,"",""]
[null,null,null,null,null,null,null,null,null,null,null,null,null,null,null,null,null,null,null,null,null,null,null,null,null,null,null,null,null,null,null,null,null,null,null,"",""]
[null,null,null,null,null,null,null,null,null,null,null,null,null,null,null,null,null,null,null,null,null,null,null,null,null,null,null,null,null,null,null,null,null,null,null,"",""]
[null,null,null,null,null,null,null,null,null,null,null,null,null,null,null,null,null,null,null,null,null,null,null,null,null,null,null,null,null,null,null,null,null,null,null,"",""]
[null,null,null,null,null,null,null,null,null,null,null,null,null,null,null,null,null,null,null,null,null,null,null,null,null,null,null,null,null,null,null,null,null,null,null,"",""]
[null,null,null,null,null,null,null,null,null,null,null,null,null,null,null,null,null,null,null,null,null,null,null,null,null,null,null,null,null,null,null,null,null,null,null,"",""]

{"sheet":"Error Log","index":1,"n_rows":2,"n_cols":4,"rows_kept":2,"cut":false,"hidden":false,"merged":[[0,0,0,3]]}
["DO NOT delete this sheet                                           -  Error Log  -                                                 DO NOT delete this sheet"]
["Amendment Header"," Line","Excel Row #","Error Message"]

{"sheet":"Support","index":2,"n_rows":0,"n_cols":0,"rows_kept":0,"cut":false,"hidden":false,"merged":[]}

{"sheet":"Worktags","index":3,"n_rows":22923,"n_cols":68,"rows_kept":2250,"cut":true,"hidden":true,"merged":[[1,37,1,40],[1,1,1,4],[1,14,1,19],[1,27,1,30],[1,32,1,35],[1,6,1,12],[1,21,1,25],[1,54,1,57],[1,59,1,62],[1,66,1,67],[1,42,1,47],[1,49,1,52]],"bounds":{"rows_first":1000,"rows_last":250,"rows_between":1000,"halvings":1}}
[]
[null,"Company",null,null,null,null,"Driver",null,null,null,null,null,null,null,"Category",null,null,null,null,null,null,"Class",null,null,null,null,null,"Assignee",null,null,null,null,"Student Experience",null,null,null,null,"Account",null,null,null,null,"Account Validation",null,null,null,null,null,null,"Account",null,null,null,null,"Fund",null,null,null,null,"Plan Name",null,null,null,null,"Amendment Type",null,"Plan Structure"]
[null,null,null,null,null,null,"DRIVER_ID",null,"DRIVER","DRIVER_TYPE","DRIVER_REQUIREMENT","STATUS","UPDATED_AT",null,"CATEGORY_ID","CATEGORY_NAME","CATEGORY","CATEGORY_TYPE","STATUS","CAT_REQUIREMENT",null,"CLASS_ID","CLASS_NAME","CLASS","STATUS","UPDATED_AT",null,"ASSIGNEE_ID","ASSIGNEE_NAME","ASSIGNEE","STATUS",null,"STUDENT_EXPERIENCE_ID","STUDENT_EXPERIENCE_NAME","STU_EXP","STATUS",null,"ACCOUNT_ID","ACCOUNT_NAME","ACCOUNT","TYPE",null,"CATEGORY_ID","VALID_COMBO","ACCOUNT_ID","ACCOUNT_NAME","PRIMARY","AUTHORIZED_JOURNAL_SOURCES"," ","ACCOUNT_ID","ACCOUNT_NAME","ACCOUNT","CATEGORY",null,"Fund","Description","Hierarchy","Name",null,null,null,null,null,null,null,null,"STRUCTURE","STRUCTURE_ID"]
[null,"ALU","Brigham Young University Alumni, LLC","ALU-Brigham Young University Alumni, LLC","Active",null,"AC00001","[ADM] Jerusalem Center Support","AC00001-[ADM] Jerusalem Center Support","Activity","FD01","Active","2025-03-17T16:11:50.579797+00:00",null,"BK1001","Wells Fargo Concentration 2494","BK1001-Wells Fargo Concentration 2494","Bank Account","Active",null,null,"00001","Invalid","00001-Invalid",null,null,null,"AS000045543","Sharon Offley (000045543) Culinary Support Center","AS000045543-Sharon Offley (000045543) Culinary Support Center","Active",null,"SE000","Not applicable","SE000-Not applicable","Active",null,"0100","Budget Carryover/Unallocated","0100-Budget Carryover/Unallocated","Expense",null,"","1001||1001","1001","Cash ILS","Primary","All",null,100,"Budget Carryover/Unallocated","0100-Budget Carryover/Unallocated","Expense",null,"FD01","Appropriated","Unrestricted","FD01-Appropriated",null,"ALU Capital FY25","ALU Capital FY25","Consolidated_Budget_Structure_Capital","ALU",null,"Allocations Amendment",null,"Consolidated Budget Capital","Consolidated_Budget_Structure_Capital"]
[null,"BYU","Brigham Young University","BYU-Brigham Young University","Active",null,"AC00002","[ADM] Presidential Inauguration","AC00002-[ADM] Presidential Inauguration","Activity","FD01","Active","2025-03-17T16:11:50.579797+00:00",null,"BK1002","Wells Fargo Depository 0001","BK1002-Wells Fargo Depository 0001","Bank Account","Active",null,null,"00002","Test Gen Accounting","00002-Test Gen Accounting",null,null,null,"AS000419700","LaVay Talk (000419700) Multicultural","AS000419700-LaVay Talk (000419700) Multicultural","Active",null,"SE001","Experiential Learning","SE001-Experiential Learning","Active",null,"1000","Cash USD","1000-Cash USD","Asset",null,"","1002||1002","1002","Cash GBP","Primary","All",null,1000,"Cash USD","1000-Cash USD","Asset",null,"FD02","Self Supporting","Unrestricted","FD02-Self Supporting",null,"ALU Operating FY25","ALU Operating FY25","Consolidated_Budget_Structure_Operating","ALU",null,"Carryovers Amendment (Budget Office use only)",null,"Consolidated Budget Operating","Consolidated_Budget_Structure_Operating"]
[null,"CAN","EFY-Canada Foundation","CAN-EFY-Canada Foundation","Active",null,"AC00003","[ADM] President's Home","AC00003-[ADM] President's Home","Activity","FD01","Active","2025-03-17T16:11:50.579797+00:00",null,"BK1003","Wells Fargo Disbursement 0217","BK1003-Wells Fargo Disbursement 0217","Bank Account","Active",null,null,"00051","Winter","00051-Winter",null,null,null,"AS000449989","Jenn Price (000449989) Indefinite Leaves","AS000449989-Jenn Price (000449989) Indefinite Leaves","Active",null,"SE002","Research - Basic","SE002-Research - Basic","Active",null,"1001","Cash ILS","1001-Cash ILS","Asset",null,"","1004||1004","1004","CASH CAD","Primary","All",null,1001,"Cash ILS","1001-Cash ILS","Asset",null,"FD03","Designated","Unrestricted","FD03-Designated",null,"BYU Capital FY25","BYU Capital FY25","Consolidated_Budget_Structure_Capital","BYU",null,"Current Year Amendment"]
[null,"CEE","CE Events, LLC","CEE-CE Events, LLC","Active",null,"AC00004","[ADM] President's Remembrances","AC00004-[ADM] President's Remembrances","Activity","FD01","Active","2025-03-17T16:11:50.579797+00:00",null,"BK1004","Wells Fargo Payroll 0118","BK1004-Wells Fargo Payroll 0118","Bank Account","Active",null,null,"00053","Spring","00053-Spring",null,null,null,"AS000712079","Gary Rex (000712079) Advancement VP","AS000712079-Gary Rex (000712079) Advancement VP","Active",null,"SE003","Research - Applied","SE003-Research - Applied","Active",null,"1002","Cash GBP","1002-Cash GBP","Asset",null,"","1040||1040","1040","Petty Cash","Primary","All",null,1002,"Cash GBP","1002-Cash GBP","Asset",null,"FD04","Faculty Consolidation","Unrestricted","FD04-Faculty Consolidation",null,"BYU Operating FY25","BYU Operating FY25","Consolidated_Budget_Structure_Operating","BYU",null,"Faculty Consolidation Amendment"]
[null,"FSY","FSY, LLC","FSY-FSY, LLC","Active",null,"AC00005","[ADM] Legal Fees","AC00005-[ADM] Legal Fees","Activity","FD01","Active","2025-03-17T16:11:50.579797+00:00",null,"BK1005","Wells Fargo Agency 3757","BK1005-Wells Fargo Agency 3757","Bank Account","Active",null,null,"00054","Summer","00054-Summer",null,null,null,"AS000858151","Michael Miles (000858151) College of Engineering - Manufacturing Engineering","AS000858151-Michael Miles (000858151) College of Engineering - Manufacturing Engineering","Active",null,"SE004","Research - Development","SE004-Research - Development","Active",null,"1003","Cash EUR","1003-Cash EUR","Asset",null,"","1050||1050","1050","Change Funds","Primary","All",null,1003,"Cash EUR","1003-Cash EUR","Asset",null,"FD05","Sponsored Awards","Sponsor Fund","FD05-Sponsored Awards",null,"CAN Capital FY25","CAN Capital FY25","Consolidated_Budget_Structure_Capital","CAN",null,"Original Amendment (Budget Office use only)"]
[null,"HED","HEDL, LLC","HED-HEDL, LLC","Active",null,"AC00006","[ADM] Risk-Loss Control Training","AC00006-[ADM] Risk-Loss Control Training","Activity","FD03","Active","2025-03-17T16:11:50.579797+00:00",null,"BK1006","Wells Fargo Fed Funds 2462","BK1006-Wells Fargo Fed Funds 2462","Bank Account","Active",null,null,"00055","Fall","00055-Fall",null,null,null,"AS000925729","Todd Blickenstaff (000925729) Athletics - Corporate Sponsorships","AS000925729-Todd Blickenstaff (000925729) Athletics - Corporate Sponsorships","Active",null,"SE005","Both Research Basic & Experiential Learning","SE005-Both Research Basic & Experiential Learning","Active",null,"1004","Cash CAD","1004-Cash CAD","Asset",null,"","1090||1090","1090","Clearing-Cash","Primary","All",null,1004,"Cash CAD","1004-Cash CAD","Asset",null,"FD06","Plant Fund","Unrestricted","FD06-Plant Fund",null,"CAN Operating FY25","CAN Operating FY25","Consolidated_Budget_Structure_Operating","CAN",null,"Permanent Amendment"]
[null,"IHS","HSDL, LLC","IHS-HSDL, LLC","Active",null,"AC00007","[ADM] Insurance and Claims Reserve","AC00007-[ADM] Insurance and Claims Reserve","Activity","FD03","Active","2025-03-17T16:11:50.579797+00:00",null,"BK1020","JPMorgan Per Diem 5898","BK1020-JPMorgan Per Diem 5898","Bank Account","Active",null,null,"00060","Invoiced","00060-Invoiced",null,null,null,"AS001479845","Ian Bacon (001479845) College of Engineering - Mechanical Engineering","AS001479845-Ian Bacon (001479845) College of Engineering - Mechanical Engineering","Active",null,"SE006","Both Research Applied & Experiential Learning","SE006-Both Research Applied & Experiential Learning","Active",null,"1040","Petty Cash","1040-Petty Cash","Asset",null,"","1120||1120","1120","Investment Pool","Primary","JE_Gift|JE_Override",null,1040,"Petty Cash","1040-Petty Cash","Asset",null,"FD07","Agency","Unrestricted","FD07-Agency",null,"CEE Capital FY25","CEE Capital FY25","Consolidated_Budget_Structure_Capital","CEE",null,"Project Amendment"]
[null,"INT","BYU International, LLC","INT-BYU International, LLC","Active",null,"AC00008","[ADM] Alumni Questionnaire","AC00008-[ADM] Alumni Questionnaire","Activity","FD03","Active","2025-03-17T16:11:50.579797+00:00",null,"BK1021","JPMorgan SUA Account","BK1021-JPMorgan SUA Account","Bank Account","Active",null,null,"00061","Cash Received","00061-Cash Received",null,null,null,"AS001501244","Katelyn Williams (001501244) Athletics - Marketing and Fan Experience","AS001501244-Katelyn Williams (001501244) Athletics - Marketing and Fan Experience","Active",null,"SE007","Both Research Development & Experiential Learning","SE007-Both Research Development & Experiential Learning","Active",null,"1050","Change Funds","1050-Change Funds","Asset",null,"","1121||1121","1121","Investments - Book Value","Primary","JE_Gift|JE_Override",null,1050,"Change Funds","1050-Change Funds","Asset",null,"FD20","Gift Unrestricted","Unrestricted","FD20-Gift Unrestricted",null,"CEE Operating FY25","CEE Operating FY25","Consolidated_Budget_Structure_Operating","CEE",null,"Project Transfers Amendment"]
[null,"JER","The Jerusalem Center for Near Eastern Studies","JER-The Jerusalem Center for Near Eastern Studies","Active",null,"AC00009","[ADM] University Accreditation","AC00009-[ADM] University Accreditation","Activity","FD01","Active","2025-03-17T16:11:50.579797+00:00",null,"BK1030","CUBS BYU 3920","BK1030-CUBS BYU 3920","Bank Account","Active",null,null,"00062","Unbilled","00062-Unbilled",null,null,null,"AS001687233","Chris Johnson (001687233) OIT Core - Tech Operations & Support","AS001687233-Chris Johnson (001687233) OIT Core - Tech Operations & Support","Active",null,null,null,null,null,null,"1055","Gift Cards","1055-Gift Cards","Asset",null,"","1122||1122","1122","Investments - Fair Market Value","Primary","JE_Gift|JE_Override",null,1055,"Gift Cards","1055-Gift Cards","Asset",null,"FD21","Gift Temporarily Restricted","Temporarily Restricted","FD21-Gift Temporarily Restricted",null,"FSY Capital FY25","FSY Capital FY25","Consolidated_Budget_Structure_Capital","FSY",null,"Sponsored Award Amendment"]
[null,"LDN","Brigham Young University, Ltd.","LDN-Brigham Young University, Ltd.","Active",null,"AC00010","[ADM] Academic Support Unit Reviews","AC00010-[ADM] Academic Support Unit Reviews","Activity","FD01","Active","2025-03-17T16:11:50.579797+00:00",null,"BK1032","Ensign Peak BYU","BK1032-Ensign Peak BYU","Bank Account","Active",null,null,"00098","Fixed Price Closeout F&A","00098-Fixed Price Closeout F&A",null,null,null,"AS001823663","Sherie Rogde (001823663) International Center for Law and Religion Studies (ICLRS)","AS001823663-Sherie Rogde (001823663) International Center for Law and Religion Studies (ICLRS)","Active",null,null,null,null,null,null,"1090","Clearing-Cash","1090-Clearing-Cash","Asset",null,"","1150||1150","1150","Other Equity Securities","Primary","JE_Gift|JE_Override",null,1090,"Clearing-Cash","1090-Clearing-Cash","Asset",null,"FD22","Endowment Payout","Temporarily Restricted","FD22-Endowment Payout",null,"FSY Operating FY25","FSY Operating FY25","Consolidated_Budget_Structure_Operating","FSY"]
[null,null,null,null,null,null,"AC00011","[ADM] Unit Reviews- Academic","AC00011-[ADM] Unit Reviews- Academic","Activity","FD01","Active","2025-03-17T16:11:50.579797+00:00",null,"BK1040","Jerusalem Payroll ILS 0039","BK1040-Jerusalem Payroll ILS 0039","Bank Account","Active",null,null,"00099","Project Overrun","00099-Project Overrun",null,null,null,"AS001862197","Shea Owens (001862197) Fine Arts & Communications - School of Music","AS001862197-Shea Owens (001862197) Fine Arts & Communications - School of Music","Active",null,null,null,null,null,null,"1120","Investment Pool","1120-Investment Pool","Asset",null,"","1160||1160","1160","Other Fixed Income Securities","Primary","JE_Gift|JE_Override",null,1120,"Investment Pool","1120-Investment Pool","Asset",null,"FD23","Endowment Spending","Unrestricted","FD23-Endowment Spending",null,"HED Capital FY25","HED Capital FY25","Consolidated_Budget_Structure_Capital","HED"]
[null,null,null,null,null,null,"AC00012","[ADM] Honorarium","AC00012-[ADM] Honorarium","Activity","FD03","Active","2025-03-17T16:11:50.579797+00:00",null,"BK1041","Jerusalem Operations USD 7144","BK1041-Jerusalem Operations USD 7144","Bank Account","Active",null,null,"00100","Land","00100-Land",null,null,null,"AS002029145","Jackelyn Knight (002029145) Athletics - Football Sport Performance","AS002029145-Jackelyn Knight (002029145) Athletics - Football Sport Performance","Active",null,null,null,null,null,null,"1121","Investments - Book Value","1121-Investments - Book Value","Asset",null,"","1170||1170","1170","Other Investments","Primary","JE_Gift|JE_Override",null,1121,"Investments - Book Value","1121-Investments - Book Value","Asset",null,"FD24","Endowment Temporarily Restricted","Temporarily Restricted","FD24-Endowment Temporarily Restricted",null,"HED Operating FY25","HED Operating FY25","Consolidated_Budget_Structure_Operating","HED"]
[null,null,null,null,null,null,"AC00013","[STLF] Stdnt Success & Inclusion","AC00013-[STLF] Stdnt Success & Inclusion","Activity","FD01","Active","2025-03-17T16:11:50.579797+00:00",null,"BK1042","Jerusalem Operations ILS 3566","BK1042-Jerusalem Operations ILS 3566","Bank Account","Active",null,null,"00101","Water Rights","00101-Water Rights",null,null,null,"AS002033817","Stacey Christensen (002033817) Humanities - Asian & Near Eastern Languages","AS002033817-Stacey Christensen (002033817) Humanities - Asian & Near Eastern Languages","Active",null,null,null,null,null,null,"1122","Investments - Fair Market Value","1122-Investments - Fair Market Value","Asset",null,"","1200||1200","1200","Department Receivable","Primary","All",null,1122,"Investments - Fair Market Value","1122-Investments - Fair Market Value","Asset",null,"FD25","True Endowment","Permanently Restricted","FD25-True Endowment",null,"IHS Capital FY25","IHS Capital FY25","Consolidated_Budget_Structure_Capital","IHS"]
[null,null,null,null,null,null,"AC00014","[JC] Jerusalem Administration","AC00014-[JC] Jerusalem Administration","Activity","FD01","Active","2025-03-17T16:11:50.579797+00:00",null,"BK1050","BNP Paris Study Abroad 0376","BK1050-BNP Paris Study Abroad 0376","Bank Account","Active",null,null,"00110","University Building","00110-University Building",null,null,null,"AS002313328","Ben Ward (002313328) PF AVP Office","AS002313328-Ben Ward (002313328) PF AVP Office","Active",null,null,null,null,null,null,"1150","Other Equity Securities","1150-Other Equity Securities","Asset",null,"","1210||1210","1210","Off Campus Receivable","Primary","All",null,1150,"Other Equity Securities","1150-Other Equity Securities","Asset",null,"FD26","Quasi Endowment","Unrestricted","FD26-Quasi Endowment",null,"IHS Operating FY25","IHS Operating FY25","Consolidated_Budget_Structure_Operating","IHS"]
[null,null,null,null,null,null,"AC00015","[JC] Jerusalem Library","AC00015-[JC] Jerusalem Library","Activity","FD01","Active","2025-03-17T16:11:50.579797+00:00",null,"BK1051","Unicredit Bank of Austria Study Abroad 1501","BK1051-Unicredit Bank of Austria Study Abroad 1501","Bank Account","Active",null,null,"00111","University Residences","00111-University Residences",null,null,null,"AS002544665","Brent Anderson (002544665) Athletics - Women's Soccer","AS002544665-Brent Anderson (002544665) Athletics - Women's Soccer","Active",null,null,null,null,null,null,"1160","Other Fixed Income Securities","1160-Other Fixed Income Securities","Asset",null,"","1220||1220","1220","Student Receivable","Primary","All",null,1160,"Other Fixed Income Securities","1160-Other Fixed Income Securities","Asset",null,"FD27","Permanently Restricted - Other","Permanently Restricted","FD27-Permanently Restricted - Other",null,"INT Capital FY25","INT Capital FY25","Consolidated_Budget_Structure_Capital","INT"]
[null,null,null,null,null,null,"AC00016","[JC] Jerusalem Academic","AC00016-[JC] Jerusalem Academic","Activity","FD01","Active","2025-03-17T16:11:50.579797+00:00",null,"BK1052","La Caixa Bank Madrid-Study Abroad 3299","BK1052-La Caixa Bank Madrid-Study Abroad 3299","Bank Account","Active",null,null,"00120","Building Improvements","00120-Building Improvements",null,null,null,"AS002736935","Stacie Conrad (002736935) Dining Services","AS002736935-Stacie Conrad (002736935) Dining Services","Active",null,null,null,null,null,null,"1170","Other Investments","1170-Other Investments","Asset",null,"","1230||1230","1230","Church Receivable","Primary","All",null,1170,"Other Investments","1170-Other Investments","Asset",null,"FD28","Restricted Gifts Spending","Unrestricted","FD28-Restricted Gifts Spending",null,"INT Operating FY25","INT Operating FY25","Consolidated_Budget_Structure_Operating","INT"]
[null,null,null,null,null,null,"AC00017","[JC] Jerusalem Utilities","AC00017-[JC] Jerusalem Utilities","Activity","FD01","Active","2025-03-17T16:11:50.579797+00:00",null,"BK1060","HSBC London Centre Checking 3184","BK1060-HSBC London Centre Checking 3184","Bank Account","Active",null,null,"00121","Building Exterior Imprvmnts","00121-Building Exterior Imprvmnts",null,null,null,"AS003040913","Jake Styer (003040913) BYU Police Operations - Patrol","AS003040913-Jake Styer (003040913) BYU Police Operations - Patrol","Active",null,null,null,null,null,null,"1200","Department Receivable","1200-Department Receivable","Asset",null,"","1235||1235","1235","Sponsored Programs Receivable","Primary","JE_Research|JE_Override",null,1200,"Department Receivable","1200-Department Receivable","Asset",null,"FD29","Quasi Endowment Spending","Unrestricted","FD29-Quasi Endowment Spending",null,"JER Capital FY25","JER Capital FY25","Consolidated_Budget_Structure_Capital","JER"]
[null,null,null,null,null,null,"AC00018","[JC] Jerusalem Mechanical","AC00018-[JC] Jerusalem Mechanical","Activity","FD01","Active","2025-03-17T16:11:50.579797+00:00",null,"BK1061","HSBC London Centre Savings 1810","BK1061-HSBC London Centre Savings 1810","Bank Account","Active",null,null,"00122","General Campus Imprvmnts","00122-General Campus Imprvmnts",null,null,null,"AS003283501","Kyle Stapley (003283501) Fine Arts & Communications - Theatre & Media Arts","AS003283501-Kyle Stapley (003283501) Fine Arts & Communications - Theatre & Media Arts","Active",null,null,null,null,null,null,"1210","Off Campus Receivable","1210-Off Campus Receivable","Asset",null,"","1236||1236","1236","Unbilled Sponsored Programs Receivable","Primary","JE_Research|JE_Override",null,1210,"Off Campus Receivable","1210-Off Campus Receivable","Asset",null,null,null,null,null,null,"JER Operating FY25","JER Operating FY25","Consolidated_Budget_Structure_Operating","JER"]
[null,null,null,null,null,null,"AC00019","[JC] Jerusalem Custodial","AC00019-[JC] Jerusalem Custodial","Activity","FD01","Active","2025-03-17T16:11:50.579797+00:00",null,"BK1062","HSBC London Centre AD 7943","BK1062-HSBC London Centre AD 7943","Bank Account","Active",null,null,"00123","Building Campus Improvements","00123-Building Campus Improvements",null,null,null,"AS003300518","Trevor Thiriot (003300518) OIT Leadership - Enterprise Data Management and Finance","AS003300518-Trevor Thiriot (003300518) OIT Leadership - Enterprise Data Management and Finance","Active",null,null,null,null,null,null,"1220","Student Receivable","1220-Student Receivable","Asset",null,"","1240||1240","1240","Advances Receivable","Primary","All",null,1220,"Student Receivable","1220-Student Receivable","Asset",null,null,null,null,null,null,"LDN Capital FY25","LDN Capital FY25","Consolidated_Budget_Structure_Capital","LDN"]
[null,null,null,null,null,null,"AC00020","[JC] Jerusalem Grounds","AC00020-[JC] Jerusalem Grounds","Activity","FD01","Active","2025-03-17T16:11:50.579797+00:00",null,"RC1210","Off Campus Receivable","RC1210-Off Campus Receivable","Revenue Category","Active",null,null,"00124","Technical Electronic Systems","00124-Technical Electronic Systems",null,null,null,"AS003333348","Mark Christensen (003333348) PF Central Heating Plant","AS003333348-Mark Christensen (003333348) PF Central Heating Plant","Active",null,null,null,null,null,null,"1230","Church Receivable","1230-Church Receivable","Asset",null,"","1241||1241","1241","Employee Receivable","Primary","All",null,1230,"Church Receivable","1230-Church Receivable","Asset",null,null,null,null,null,null,"LDN Operating FY25","LDN Operating FY25","Consolidated_Budget_Structure_Operating","LDN"]
[null,null,null,null,null,null,"AC00021","[JC] Jerusalem Security","AC00021-[JC] Jerusalem Security","Activity","FD01","Active","2025-03-17T16:11:50.579797+00:00",null,"RC1230","Church Receivable","RC1230-Church Receivable","Revenue Category","Active",null,null,"00130","Furnishings","00130-Furnishings",null,null,null,"AS003482207","Connor Stokes (003482207) CE EFY","AS003482207-Connor Stokes (003482207) CE EFY","Active",null,null,null,null,null,null,"1235","Sponsored Programs Receivable","1235-Sponsored Programs Receivable","Asset",null,"","1260||1260","1260","Notes Receivable","Primary","All",null,1235,"Sponsored Programs Receivable","1235-Sponsored Programs Receivable","Asset"]
[null,null,null,null,null,null,"AC00022","[JC] Jerusalem Mor Co Admin","AC00022-[JC] Jerusalem Mor Co Admin","Activity","FD01","Active","2025-03-17T16:11:50.579797+00:00",null,"RC1290","Clearing-Receivable","RC1290-Clearing-Receivable","Revenue Category","Active",null,null,"00131","Fixtures","00131-Fixtures",null,null,null,"AS003697782","Rob Eaton (003697782) Religious Education - Church History & Doctrine","AS003697782-Rob Eaton (003697782) Religious Education - Church History & Doctrine","Active",null,null,null,null,null,null,"1236","Unbilled Sponsored Programs Receivable","1236-Unbilled Sponsored Programs Receivable","Asset",null,"","1270||1270","1270","Student Loan Receivable-Short Term","Primary","All",null,1236,"Unbilled Sponsored Programs Receivable","1236-Unbilled Sponsored Programs Receivable","Asset"]
[null,null,null,null,null,null,"AC00023","[JC] Housing","AC00023-[JC] Housing","Activity","FD02","Active","2025-03-17T16:11:50.579797+00:00",null,"RC1298","Special Recovery","RC1298-Special Recovery","Revenue Category","Active",null,null,"00140","Software","00140-Software",null,null,null,"AS003861576","Paul Adams (003861576) Fine Arts & Communications - Design","AS003861576-Paul Adams (003861576) Fine Arts & Communications - Design","Active",null,null,null,null,null,null,"1240","Advances Receivable","1240-Advances Receivable","Asset",null,"","1275||1275","1275","Student Loan Receivable-Long Term","Primary","All",null,1240,"Advances Receivable","1240-Advances Receivable","Asset"]
[null,null,null,null,null,null,"AC00024","[JC] Food Services","AC00024-[JC] Food Services","Activity","FD02","Active","2025-03-17T16:11:50.579797+00:00",null,"RC2300","Deposits Receivable","RC2300-Deposits Receivable","Revenue Category","Active",null,null,"00160","Lee Library Books","00160-Lee Library Books",null,null,null,"AS003962074","Brian Tanner (003962074) BYU Broadcasting - BYU Radio","AS003962074-Brian Tanner (003962074) BYU Broadcasting - BYU Radio","Active",null,null,null,null,null,null,"1241","Employee Receivable","1241-Employee Receivable","Asset",null,"","1280||1280","1280","Pledges Receivable","Primary","All",null,1241,"Employee Receivable","1241-Employee Receivable","Asset"]
[null,null,null,null,null,null,"AC00025","[JC] Motorpool","AC00025-[JC] Motorpool","Activity","FD02","Active","2025-03-17T16:11:50.579797+00:00",null,"RC4001","Church Appropriation","RC4001-Church Appropriation","Revenue Category","Active",null,null,"00161","Law Library Books","00161-Law Library Books",null,null,null,"AS004054734","Trisha Peay (004054734) PF Building Operations","AS004054734-Trisha Peay (004054734) PF Building Operations","Active",null,null,null,null,null,null,"1260","Notes Receivable","1260-Notes Receivable","Asset",null,"","1285||1285","1285","Deferred Gifts","Primary","All",null,1260,"Notes Receivable","1260-Notes Receivable","Asset"]
[null,null,null,null,null,null,"AC00026","[JC] Book & Supply","AC00026-[JC] Book & Supply","Activity","FD02","Active","2025-03-17T16:11:50.579797+00:00",null,"RC4002","University Allocation","RC4002-University Allocation","Revenue Category","Active",null,null,"00201","Computer Lab Equipment","00201-Computer Lab Equipment",null,null,null,"AS004239108","Darren Chipman (004239108) Indefinite Leaves","AS004239108-Darren Chipman (004239108) Indefinite Leaves","Active",null,null,null,null,null,null,"1270","Student Loan Receivable-Short Term","1270-Student Loan Receivable-Short Term","Asset",null,"","1289||1289","1289","Pledges/Def Gifts Rec Reserve","Primary","All",null,1270,"Student Loan Receivable-Short Term","1270-Student Loan Receivable-Short Term","Asset"]
[null,null,null,null,null,null,"AC00027","[JC] Laundry","AC00027-[JC] Laundry","Activity","FD02","Active","2025-03-17T16:11:50.579797+00:00",null,"RC4101","Tuition","RC4101-Tuition","Revenue Category","Active",null,null,"00202","Research Equipment","00202-Research Equipment",null,null,null,"AS004391937","John Alius (004391937) PF Building Operations","AS004391937-John Alius (004391937) PF Building Operations","Active",null,null,null,null,null,null,"1275","Student Loan Receivable-Long Term","1275-Student Loan Receivable-Long Term","Asset",null,"","1290||1290","1290","Clearing-Receivable","Primary","All",null,1275,"Student Loan Receivable-Long Term","1275-Student Loan Receivable-Long Term","Asset"]
[null,null,null,null,null,null,"AC00028","[JC] Field Trip","AC00028-[JC] Field Trip","Activity","FD02","Active","2025-03-17T16:11:50.579797+00:00",null,"RC4102","Student Fee Distribution","RC4102-Student Fee Distribution","Revenue Category","Active",null,null,"00218","CIP Transfer to Asset","00218-CIP Transfer to Asset",null,null,null,"AS004531494","Bart Robbins (004531494) University Accessibility Center","AS004531494-Bart Robbins (004531494) University Accessibility Center","Active",null,null,null,null,null,null,"1280","Pledges Receivable","1280-Pledges Receivable","Asset",null,"","1291||1291","1291","Clearing-Receivable Bank Cards","Primary","All",null,1280,"Pledges Receivable","1280-Pledges Receivable","Asset"]
[null,null,null,null,null,null,"AC00029","[JC] Provo Administration","AC00029-[JC] Provo Administration","Activity","FD01","Active","2025-03-17T16:11:50.579797+00:00",null,"RC4103","Non-Credit Income","RC4103-Non-Credit Income","Revenue Category","Active",null,null,"00219","CIP Disposal","00219-CIP Disposal",null,null,null,"AS004583304","JoNell Stoddard (004583304) Special Events","AS004583304-JoNell Stoddard (004583304) Special Events","Active",null,null,null,null,null,null,"1285","Deferred Gifts","1285-Deferred Gifts","Asset",null,"","1299||1299","1299","Account/Note Rec Reserve","Primary","All",null,1285,"Deferred Gifts","1285-Deferred Gifts","Asset"]
[null,null,null,null,null,null,"AC00030","[JC] Provo Library","AC00030-[JC] Provo Library","Activity","FD01","Active","2025-03-17T16:11:50.579797+00:00",null,"RC4104","Student Fees","RC4104-Student Fees","Revenue Category","Active",null,null,"00230","Church-21Y's","00230-Church-21Y's",null,null,null,"AS004792646","Lamar Howarth (004792646) PF AVP Office","AS004792646-Lamar Howarth (004792646) PF AVP Office","Active",null,null,null,null,null,null,"1289","Pledges/Def Gifts Rec Reserve","1289-Pledges/Def Gifts Rec Reserve","Asset",null,"","1350||1350","1350","Inventory-Work in Process","Primary","All",null,1289,"Pledges/Def Gifts Rec Reserve","1289-Pledges/Def Gifts Rec Reserve","Asset"]
[null,null,null,null,null,null,"AC00031","[JC] Provo Academic","AC00031-[JC] Provo Academic","Activity","FD01","Active","2025-03-17T16:11:50.579797+00:00",null,"RC4110","Grad Service Fee","RC4110-Grad Service Fee","Revenue Category","Active",null,null,"00231","Church-CNA Projects","00231-Church-CNA Projects",null,null,null,"AS004801072","Scott Kavanaugh (004801072) Special Events","AS004801072-Scott Kavanaugh (004801072) Special Events","Active",null,null,null,null,null,null,"1290","Clearing-Receivable","1290-Clearing-Receivable","Asset",null,"","1390||1390","1390","Clearing-Inventory","Primary","All",null,1290,"Clearing-Receivable","1290-Clearing-Receivable","Asset"]
[null,null,null,null,null,null,"AC00032","[JC] Provo Office","AC00032-[JC] Provo Office","Activity","FD01","Active","2025-03-17T16:11:50.579797+00:00",null,"RC4111","Admission Fees","RC4111-Admission Fees","Revenue Category","Active",null,null,"00232","Church-MTC Projects","00232-Church-MTC Projects",null,null,null,"AS004801171","Daniel Jones (004801171) Athletics - Women's Volleyball","AS004801171-Daniel Jones (004801171) Athletics - Women's Volleyball","Active",null,null,null,null,null,null,"1291","Clearing-Receivable Bank Cards","1291-Clearing-Receivable Bank Cards","Asset",null,"","1399||1399","1399","Inventory Reserve","Primary","All",null,1291,"Clearing-Receivable Bank Cards","1291-Clearing-Receivable Bank Cards","Asset"]
[null,null,null,null,null,null,"AC00033","[JC] Jerusalem Center-Provo","AC00033-[JC] Jerusalem Center-Provo","Activity","FD02","Active","2025-03-17T16:11:50.579797+00:00",null,"RC4112","Graduation Fees","RC4112-Graduation Fees","Revenue Category","Active",null,null,"00234","Church-Jerusalem Center Proj's","00234-Church-Jerusalem Center Proj's",null,null,null,"AS004845810","KrisTina Carlston (004845810) Student Life VP","AS004845810-KrisTina Carlston (004845810) Student Life VP","Active",null,null,null,null,null,null,"1299","Account/Note Rec Reserve","1299-Account/Note Rec Reserve","Asset",null,"","1400||1400","1400","Prepaid Expenses","Primary","All",null,1299,"Account/Note Rec Reserve","1299-Account/Note Rec Reserve","Asset"]
[null,null,null,null,null,null,"AC00034","[AVP] Deans Salaries","AC00034-[AVP] Deans Salaries","Activity","FD01","Active","2025-03-17T16:11:50.579797+00:00",null,"RC4113","Transcript Fees","RC4113-Transcript Fees","Revenue Category","Active",null,null,"00235","Church-Retainages","00235-Church-Retainages",null,null,null,"AS004874370","Sharon Offley (000045543) Culinary Support Center","AS004874370-Sharon Offley (000045543) Culinary Support Center","Active",null,null,null,null,null,null,"1300","Inventory - Workday","1300-Inventory - Workday","Asset",null,"","1410||1410","1410","Deposits","Primary","All",null,1300,"Inventory - Workday","1300-Inventory - Workday","Asset"]
[null,null,null,null,null,null,"AC00035","[AVP] University Programs","AC00035-[AVP] University Programs","Activity","FD01","Active","2025-03-17T16:11:50.579797+00:00",null,"RC4114","Special Exam Fees","RC4114-Special Exam Fees","Revenue Category","Active",null,null,"00241","Church ITI Projects","00241-Church ITI Projects",null,null,null,"AS004923619","Stephen Yanchar (004923619) MSE - Instructional Psychology & Technology","AS004923619-Stephen Yanchar (004923619) MSE - Instructional Psychology & Technology","Active",null,null,null,null,null,null,"1310","Inventory - Campus Subsystems","1310-Inventory - Campus Subsystems","Asset",null,"","1429||1429","1429","Other Assets Reserve","Primary","All",null,1310,"Inventory - Campus Subsystems","1310-Inventory - Campus Subsystems","Asset"]
[null,null,null,null,null,null,"AC00036","[AVP] Faculty Advisory Council","AC00036-[AVP] Faculty Advisory Council","Activity","FD01","Active","2025-03-17T16:11:50.579797+00:00",null,"RC4115","ACT Test Fees","RC4115-ACT Test Fees","Revenue Category","Active",null,null,"00243","Info Sys Development Projects","00243-Info Sys Development Projects",null,null,null,"AS004930048","Heidi Chewning (004930048) AVP - Associate AVP, Research and Graduate Studies","AS004930048-Heidi Chewning (004930048) AVP - Associate AVP, Research and Graduate Studies","Active",null,null,null,null,null,null,"1350","Inventory-Work in Process","1350-Inventory-Work in Process","Asset",null,"","1430||1430","1430","Right of Use Asset","Primary","All",null,1350,"Inventory-Work in Process","1350-Inventory-Work in Process","Asset"]
[null,null,null,null,null,null,"AC00037","[AVP] Summer Inservice Trn","AC00037-[AVP] Summer Inservice Trn","Activity","FD01","Active","2025-03-17T16:11:50.579797+00:00",null,"RC4116","Library Fines","RC4116-Library Fines","Revenue Category","Active",null,null,"00244","IT SOFTWARE PROJECTS","00244-IT SOFTWARE PROJECTS",null,null,null,"AS005075133","Aaron Rose (005075133) Kennedy International Center","AS005075133-Aaron Rose (005075133) Kennedy International Center","Active",null,null,null,null,null,null,"1390","Clearing-Inventory","1390-Clearing-Inventory","Asset",null,"","1435||1435","1435","Deferred Tax Asset","Primary","All",null,1390,"Clearing-Inventory","1390-Clearing-Inventory","Asset"]
[null,null,null,null,null,null,"AC00038","[AVP] Expansion","AC00038-[AVP] Expansion","Activity","FD01","Active","2025-03-17T16:11:50.579797+00:00",null,"RC4117","Locker Rentals","RC4117-Locker Rentals","Revenue Category","Active",null,null,"00246","BYUB Content Development","00246-BYUB Content Development",null,null,null,"AS005098540","Jared Morris (005098540) MSE - Counseling Psychology & Special Ed","AS005098540-Jared Morris (005098540) MSE - Counseling Psychology & Special Ed","Active",null,null,null,null,null,null,"1399","Inventory Reserve","1399-Inventory Reserve","Asset",null,"","1440||1440","1440","Valuation Allowance - DTA","Primary","All",null,1399,"Inventory Reserve","1399-Inventory Reserve","Asset"]
[null,null,null,null,null,null,"AC00039","[AVP] Sp-Su Experience","AC00039-[AVP] Sp-Su Experience","Activity","FD01","Active","2025-03-17T16:11:50.579797+00:00",null,"RC4199","Tuition and Fees (reclass)","RC4199-Tuition and Fees (reclass)","Revenue Category","Active",null,null,"00250","Capital Gifts in Kind","00250-Capital Gifts in Kind",null,null,null,"AS005149055","Allison Lee (005149055) FHSS - Anthropology","AS005149055-Allison Lee (005149055) FHSS - Anthropology","Active",null,null,null,null,null,null,"1400","Prepaid Expenses","1400-Prepaid Expenses","Asset",null,"","1450||1450","1450","Retire Postretire Benefit Asset","Primary","All",null,1400,"Prepaid Expenses","1400-Prepaid Expenses","Asset"]
[null,null,null,null,null,null,"AC00040","[AVP] AVP Bottleneck","AC00040-[AVP] AVP Bottleneck","Activity","FD01","Active","2025-03-17T16:11:50.579797+00:00",null,"RC4201","Gift Revenue-Cash","RC4201-Gift Revenue-Cash","Revenue Category","Active",null,null,"00251","Non-Capital Gifts in Kind","00251-Non-Capital Gifts in Kind",null,null,null,"AS005212352","Erin Wilson (005212352) Fine Arts & Communications - School of Music","AS005212352-Erin Wilson (005212352) Fine Arts & Communications - School of Music","Active",null,null,null,null,null,null,"1410","Deposits","1410-Deposits","Asset",null,"","1490||1490","1490","Clearing-Prepaid and Other","Primary","All",null,1410,"Deposits","1410-Deposits","Asset"]
[null,null,null,null,null,null,"AC00041","[AVP] Teaching and Learning","AC00041-[AVP] Teaching and Learning","Activity","FD01","Active","2025-03-17T16:11:50.579797+00:00",null,"RC4202","Gift Revenue-Securities","RC4202-Gift Revenue-Securities","Revenue Category","Active",null,null,"00252","Gifts-Art/Artifacts","00252-Gifts-Art/Artifacts",null,null,null,"AS005680969","Rachael Cardon (005680969) CE Customer Support","AS005680969-Rachael Cardon (005680969) CE Customer Support","Active",null,null,null,null,null,null,"1420","Other Assets","1420-Other Assets","Asset",null,"","1500||1500","1500","Securities Held/Liquidation","Primary","JE_Gift|JE_Override",null,1420,"Other Assets","1420-Other Assets","Asset"]
[null,null,null,null,null,null,"AC00042","[AVP] Rank & Status Replenishment","AC00042-[AVP] Rank & Status Replenishment","Activity","FD01","Active","2025-03-17T16:11:50.579797+00:00",null,"RC4203","Gift Revenue - Tangible Property","RC4203-Gift Revenue - Tangible Property","Revenue Category","Active",null,null,"00259","Other Gifts in Kind","00259-Other Gifts in Kind",null,null,null,"AS005769310","Greg Danklef (005769310) AVP Human Resources Office","AS005769310-Greg Danklef (005769310) AVP Human Resources Office","Active",null,null,null,null,null,null,"1429","Other Assets Reserve","1429-Other Assets Reserve","Asset",null,"","1510||1510","1510","Real Estate Held/Liquidation","Primary","JE_Gift|JE_Override",null,1429,"Other Assets Reserve","1429-Other Assets Reserve","Asset"]
[null,null,null,null,null,null,"AC00043","[AVP] AVP Personnel","AC00043-[AVP] AVP Personnel","Activity","FD01","Active","2025-03-17T16:11:50.579797+00:00",null,"RC4204","Sponsored Program Revenue","RC4204-Sponsored Program Revenue","Revenue Category","Active",null,null,"00293","Super Computer Eng/Tech","00293-Super Computer Eng/Tech",null,null,null,"AS005924088","Sarah Whitaker (005924088) CE IS Course Dev - Victor's Students","AS005924088-Sarah Whitaker (005924088) CE IS Course Dev - Victor's Students","Active",null,null,null,null,null,null,"1430","Right of Use Asset","1430-Right of Use Asset","Asset",null,"","1520||1520","1520","Other Assets Held/Liquidation","Primary","JE_Gift|JE_Override",null,1430,"Right of Use Asset","1430-Right of Use Asset","Asset"]
[null,null,null,null,null,null,"AC00044","[AVP] Matching Funds","AC00044-[AVP] Matching Funds","Activity","FD01","Active","2025-03-17T16:11:50.579797+00:00",null,"RC4299","Gift Revenue (reclass)","RC4299-Gift Revenue (reclass)","Revenue Category","Active",null,null,"00297","Washington Center","00297-Washington Center",null,null,null,"AS005946921","Kenny Baldwin (005946921) Copyright Licensing Office","AS005946921-Kenny Baldwin (005946921) Copyright Licensing Office","Active",null,null,null,null,null,null,"1435","Deferred Tax Asset","1435-Deferred Tax Asset","Asset",null,"","1590||1590","1590","Clearing-Assets Held/Liquidation","Primary","JE_Gift|JE_Override",null,1435,"Deferred Tax Asset","1435-Deferred Tax Asset","Asset"]
[null,null,null,null,null,null,"AC00045","[AVP] AVP - Graduation","AC00045-[AVP] AVP - Graduation","Activity","FD01","Active","2025-03-17T16:11:50.579797+00:00",null,"RC4301","Investment Dividend Income","RC4301-Investment Dividend Income","Revenue Category","Active",null,null,"00300","New Facilities Construction","00300-New Facilities Construction",null,null,null,"AS006045488","Bryce Isaacson (006045488) Fine Arts & Communications - School of Communications","AS006045488-Bryce Isaacson (006045488) Fine Arts & Communications - School of Communications","Active",null,null,null,null,null,null,"1440","Valuation Allowance - DTA","1440-Valuation Allowance - DTA","Asset",null,"","1599||1599","1599","Assets Held/Liquidation Reserve","Primary","JE_Gift|JE_Override",null,1440,"Valuation Allowance - DTA","1440-Valuation Allowance - DTA","Asset"]
[null,null,null,null,null,null,"AC00046","[AVP] College of Health & Human Perf","AC00046-[AVP] College of Health & Human Perf","Activity","FD01","Active","2025-03-17T16:11:50.579797+00:00",null,"RC4302","Investment Interest Income","RC4302-Investment Interest Income","Revenue Category","Active",null,null,"00310","Shop Time/Materials","00310-Shop Time/Materials",null,null,null,"AS006079197","Suzy Nichols (006079197) Fine Arts & Communications - School of Music","AS006079197-Suzy Nichols (006079197) Fine Arts & Communications - School of Music","Active",null,null,null,null,null,null,"1450","Retire Postretire Benefit Asset","1450-Retire Postretire Benefit Asset","Asset",null,"","1650||1650","1650","Construction in Progress","Primary","JE_PPE|JE_Override",null,1450,"Retire Postretire Benefit Asset","1450-Retire Postretire Benefit Asset","Asset"]
[null,null,null,null,null,null,"AC00047","[AVP] Smith Institute","AC00047-[AVP] Smith Institute","Activity","FD01","Active","2025-03-17T16:11:50.579797+00:00",null,"RC4311","Investment Gains/Losses","RC4311-Investment Gains/Losses","Revenue Category","Active",null,null,"00320","Architectural Fees","00320-Architectural Fees",null,null,null,"AS006093507","Heather Sturman (006093507) Humanities - Linguistics","AS006093507-Heather Sturman (006093507) Humanities - Linguistics","Active",null,null,null,null,null,null,"1490","Clearing-Prepaid and Other","1490-Clearing-Prepaid and Other","Asset",null,"","1651||1651","1651","Construction in Progress (Non-Workday Projects)","Primary","All",null,1490,"Clearing-Prepaid and Other","1490-Clearing-Prepaid and Other","Asset"]
[null,null,null,null,null,null,"AC00048","[AVP] Faculty Women's Association","AC00048-[AVP] Faculty Women's Association","Activity","FD02","Active","2025-03-17T16:11:50.579797+00:00",null,"RC4312","Investment Income Assets Held for Liquidation","RC4312-Investment Income Assets Held for Liquidation","Revenue Category","Active",null,null,"00330","Capital Equipment","00330-Capital Equipment",null,null,null,"AS006206342","Bart Olsen (006206342) MSB - Public Service & Ethics","AS006206342-Bart Olsen (006206342) MSB - Public Service & Ethics","Active",null,null,null,null,null,null,"1500","Securities Held/Liquidation","1500-Securities Held/Liquidation","Asset",null,"","2000||2000","2000","Accounts Payable","Primary","JE_Override",null,1500,"Securities Held/Liquidation","1500-Securities Held/Liquidation","Asset"]
[null,null,null,null,null,null,"AC00049","[AVP] CID-ERG","AC00049-[AVP] CID-ERG","Activity","FD02","Active","2025-03-17T16:11:50.579797+00:00",null,"RC4313","Unrealized Investment Gains/Losses","RC4313-Unrealized Investment Gains/Losses","Revenue Category","Active",null,null,"00350","Repairs and Maintenance","00350-Repairs and Maintenance",null,null,null,"AS006465846","Beth Verbanatz (006465846) CMS - Mathematics Education","AS006465846-Beth Verbanatz (006465846) CMS - Mathematics Education","Active",null,null,null,null,null,null,"1510","Real Estate Held/Liquidation","1510-Real Estate Held/Liquidation","Asset",null,"","2025||2025","2025","Payroll Net Pay Clearing","Primary","JE_Payroll|JE_Override",null,1510,"Real Estate Held/Liquidation","1510-Real Estate Held/Liquidation","Asset"]
[null,null,null,null,null,null,"AC00050","[AVP] College Initatives/Univ Object","AC00050-[AVP] College Initatives/Univ Object","Activity","FD03","Active","2025-03-17T16:11:50.579797+00:00",null,"RC4401","Sale of Services","RC4401-Sale of Services","Revenue Category","Active",null,null,"00360","Media Services","00360-Media Services",null,null,null,"AS006852006","Kerry Muhlestein (006852006) Religious Education - Ancient Scripture","AS006852006-Kerry Muhlestein (006852006) Religious Education - Ancient Scripture","Active",null,null,null,null,null,null,"1520","Other Assets Held/Liquidation","1520-Other Assets Held/Liquidation","Asset",null,"","2090||2090","2090","Clearing-Accounts Payable","Primary","All",null,1520,"Other Assets Held/Liquidation","1520-Other Assets Held/Liquidation","Asset"]
[null,null,null,null,null,null,"AC00051","[AVP] AVP Internships/SALT","AC00051-[AVP] AVP Internships/SALT","Activity","FD03","Active","2025-03-17T16:11:50.579797+00:00",null,"RC4402","Sale of Services-Campus Appropriation","RC4402-Sale of Services-Campus Appropriation","Revenue Category","Active",null,null,"00390","Administrative Costs","00390-Administrative Costs",null,null,null,"AS007183379","Kelly Summers (007183379) FHSS - History","AS007183379-Kelly Summers (007183379) FHSS - History","Active",null,null,null,null,null,null,"1590","Clearing-Assets Held/Liquidation","1590-Clearing-Assets Held/Liquidation","Asset",null,"","2200||2200","2200","Accrued Liabilities","Primary","All",null,1590,"Clearing-Assets Held/Liquidation","1590-Clearing-Assets Held/Liquidation","Asset"]
[null,null,null,null,null,null,"AC00052","[AVP] Semester Away","AC00052-[AVP] Semester Away","Activity","FD03","Active","2025-03-17T16:11:50.579797+00:00",null,"RC4403","Sale of Services-Campus Other","RC4403-Sale of Services-Campus Other","Revenue Category","Active",null,null,"00391","Retainage Interest","00391-Retainage Interest",null,null,null,"AS007243247","Deren Hansen (007243247) OIT Portfolio - Campus & Student Life","AS007243247-Deren Hansen (007243247) OIT Portfolio - Campus & Student Life","Active",null,null,null,null,null,null,"1599","Assets Held/Liquidation Reserve","1599-Assets Held/Liquidation Reserve","Asset",null,"","2210||2210","2210","Accrued Payroll-Biweekly","Primary","All",null,1599,"Assets Held/Liquidation Reserve","1599-Assets Held/Liquidation Reserve","Asset"]
[null,null,null,null,null,null,"AC00053","[AVP] Meg/Orca Grants Fund","AC00053-[AVP] Meg/Orca Grants Fund","Activity","FD03","Active","2025-03-17T16:11:50.579797+00:00",null,"RC4404","Sale of Services-Taxable","RC4404-Sale of Services-Taxable","Revenue Category","Active",null,null,"00473","Payout Income to Principal","00473-Payout Income to Principal",null,null,null,"AS007399155","Scott Weber (007399155) AVP - Dean, Life Sciences","AS007399155-Scott Weber (007399155) AVP - Dean, Life Sciences","Active",null,null,null,null,null,null,"1600","Land","1600-Land","Asset",null,"","2215||2215","2215","Accrued Payroll-Faculty","Primary","All",null,1600,"Land","1600-Land","Asset"]
[null,null,null,null,null,null,"AC00054","[AVP] University Support Funds (USF)","AC00054-[AVP] University Support Funds (USF)","Activity","FD03","Active","2025-03-17T16:11:50.579797+00:00",null,"RC4405","Sale of Services-Refunds","RC4405-Sale of Services-Refunds","Revenue Category","Active",null,null,"00501","Sales Tax-Misc","00501-Sales Tax-Misc",null,null,null,"AS007456124","Riley Nelson (007456124) Life Sciences - Biology","AS007456124-Riley Nelson (007456124) Life Sciences - Biology","Active",null,null,null,null,null,null,"1605","Buildings","1605-Buildings","Asset",null,"","2220||2220","2220","Accrued Payroll Benefits","Primary","All",null,1605,"Buildings","1605-Buildings","Asset"]
[null,null,null,null,null,null,"AC00055","[AVP] Mentoring Grants Donations","AC00055-[AVP] Mentoring Grants Donations","Activity","FD03","Active","2025-03-17T16:11:50.579797+00:00",null,"RC4406","Sponsorship Revenue","RC4406-Sponsorship Revenue","Revenue Category","Active",null,null,"00541","Accumulated Earnings","00541-Accumulated Earnings",null,null,null,"AS007521659","David Pendlebury (007521659) Wilkinson Center","AS007521659-David Pendlebury (007521659) Wilkinson Center","Active",null,null,null,null,null,null,"1610","Building Improvements","1610-Building Improvements","Asset",null,"","2230||2230","2230","Accrued Vacation","Primary","All",null,1610,"Building Improvements","1610-Building Improvements","Asset"]
[null,null,null,null,null,null,"AC00057","[AVP] General Endowment AVP","AC00057-[AVP] General Endowment AVP","Activity","FD03","Active","2025-03-17T16:11:50.579797+00:00",null,"RC4407","Publishing Revenue","RC4407-Publishing Revenue","Revenue Category","Active",null,null,"00543","Accum Transfers","00543-Accum Transfers",null,null,null,"AS007590304","Angela Baxter (007590304) Academic Advisement Center","AS007590304-Angela Baxter (007590304) Academic Advisement Center","Active",null,null,null,null,null,null,"1615","Other Improvements","1615-Other Improvements","Asset",null,"","2491||2491","2491","Inter-Company Receivable/Payable","Primary","JE_Override",null,1615,"Other Improvements","1615-Other Improvements","Asset"]
[null,null,null,null,null,null,"AC00058","[AVP] College Initatives/Univ Object","AC00058-[AVP] College Initatives/Univ Object","Activity","FD03","Active","2025-03-17T16:11:50.579797+00:00",null,"RC4408","Digital Download Revenue","RC4408-Digital Download Revenue","Revenue Category","Active",null,null,"00700","Student Fee Distribution","00700-Student Fee Distribution",null,null,null,"AS007630468","Margaret McCabe (007630468) FHSS - Sociology","AS007630468-Margaret McCabe (007630468) FHSS - Sociology","Active",null,null,null,null,null,null,"1620","Furnishings and Fixtures","1620-Furnishings and Fixtures","Asset",null,"","2492||2492","2492","Inter-Worktag Receivable/Payable","Primary","JE_Override",null,1620,"Furnishings and Fixtures","1620-Furnishings and Fixtures","Asset"]
[null,null,null,null,null,null,"AC00059","[AVP] Mentored Learning","AC00059-[AVP] Mentored Learning","Activity","FD03","Active","2025-03-17T16:11:50.579797+00:00",null,"RC4409","Digital Streaming Revenue","RC4409-Digital Streaming Revenue","Revenue Category","Active",null,null,"00701","Evening School","00701-Evening School",null,null,null,"AS007713057","Chao Pang (007713057) CMS - Chemistry and Biochemistry","AS007713057-Chao Pang (007713057) CMS - Chemistry and Biochemistry","Active",null,null,null,null,null,null,"1625","Capital Equipment","1625-Capital Equipment","Asset",null,"","2550||2550","2550","Lease Liability","Primary","All",null,1625,"Capital Equipment","1625-Capital Equipment","Asset"]
[null,null,null,null,null,null,"AC00060","[AVP] Experiential Learning","AC00060-[AVP] Experiential Learning","Activity","FD03","Active","2025-03-17T16:11:50.579797+00:00",null,"RC4499","Sale of Services (reclass)","RC4499-Sale of Services (reclass)","Revenue Category","Active",null,null,"00702","Salt Lake Center","00702-Salt Lake Center",null,null,null,"AS007713662","Amy Bernards (007713662) CE SLC - Administration","AS007713662-Amy Bernards (007713662) CE SLC - Administration","Active",null,null,null,null,null,null,"1630","Vehicles","1630-Vehicles","Asset",null,"","2600||2600","2600","Deferred Revenue","Primary","All",null,1630,"Vehicles","1630-Vehicles","Asset"]
[null,null,null,null,null,null,"AC00061","[AVP] Insp Learn Spec Proj","AC00061-[AVP] Insp Learn Spec Proj","Activity","FD03","Active","2025-03-17T16:11:50.579797+00:00",null,"RC4501","Sale of Goods","RC4501-Sale of Goods","Revenue Category","Active",null,null,"00706","International Studies Program","00706-International Studies Program",null,null,null,"AS008098758","Mark Longhurst (008098758) OIT Portfolio - CES Network Center (CNC)","AS008098758-Mark Longhurst (008098758) OIT Portfolio - CES Network Center (CNC)","Active",null,null,null,null,null,null,"1632","Library Content","1632-Library Content","Asset",null,"","2700||2700","2700","Retire Postretire Benefit Obligation","Primary","All",null,1632,"Library Content","1632-Library Content","Asset"]
[null,null,null,null,null,null,"AC00062","[AVP] External Review","AC00062-[AVP] External Review","Activity","FD03","Active","2025-03-17T16:11:50.579797+00:00",null,"RC4502","Sale of Goods-Taxable","RC4502-Sale of Goods-Taxable","Revenue Category","Active",null,null,"00710","Wooley Allocations","00710-Wooley Allocations",null,null,null,"AS008585696","Nate Walton (008585696) OIT Portfolio - Teaching, Learning, & Research / Dev Tools","AS008585696-Nate Walton (008585696) OIT Portfolio - Teaching, Learning, & Research / Dev Tools","Active",null,null,null,null,null,null,"1635","Misc Capital Assets","1635-Misc Capital Assets","Asset",null,"","2710||2710","2710","Deferred Tax Liability","Primary","All",null,1635,"Misc Capital Assets","1635-Misc Capital Assets","Asset"]
[null,null,null,null,null,null,"AC00063","[AVP] Award Stipends","AC00063-[AVP] Award Stipends","Activity","FD03","Active","2025-03-17T16:11:50.579797+00:00",null,"RC4503","Sale of Goods-Discount/Returns","RC4503-Sale of Goods-Discount/Returns","Revenue Category","Active",null,null,"00713","Jerusalem Center","00713-Jerusalem Center",null,null,null,"AS008743277","Abigail Nelson (008743277) HS General Medicine - Nursing","AS008743277-Abigail Nelson (008743277) HS General Medicine - Nursing","Active",null,null,null,null,null,null,"1637","Software","1637-Software","Asset",null,"","3400||3400","3400","Net Assets (prior year)","Primary","JE_Override",null,1637,"Software","1637-Software","Asset"]
[null,null,null,null,null,null,"AC00064","[AVP] In-Service Training","AC00064-[AVP] In-Service Training","Activity","FD03","Active","2025-03-17T16:11:50.579797+00:00",null,"RC4504","Sales - Online and Out of State","RC4504-Sales - Online and Out of State","Revenue Category","Active",null,null,"00750","Administrative Vacation Accrua","00750-Administrative Vacation Accrua",null,null,null,"AS008978398","Patricia Ware (008978398) Admissions Office","AS008978398-Patricia Ware (008978398) Admissions Office","Active",null,null,null,null,null,null,"1638","Media","1638-Media","Asset",null,"","3500||3500","3500","Net Assets","Primary","JE_Override",null,1638,"Media","1638-Media","Asset"]
[null,null,null,null,null,null,"AC00065","[AVP] Maxwell Institute","AC00065-[AVP] Maxwell Institute","Activity","FD01","Active","2025-03-17T16:11:50.579797+00:00",null,"RC4505","Ticket Sales","RC4505-Ticket Sales","Revenue Category","Active",null,null,"00754","Staff Vacation Accrual","00754-Staff Vacation Accrual",null,null,null,"AS008989282","Zhiping Zhang (008989282) CMS - Chemistry and Biochemistry","AS008989282-Zhiping Zhang (008989282) CMS - Chemistry and Biochemistry","Active",null,null,null,null,null,null,"1650","Construction in Progress","1650-Construction in Progress","Asset",null,"","3600||3600","3600","Net Assets-Reserve","Primary","All",null,1650,"Construction in Progress","1650-Construction in Progress","Asset"]
[null,null,null,null,null,null,"AC00066","[AVP] Maxwell Institute","AC00066-[AVP] Maxwell Institute","Activity","FD02","Active","2025-03-17T16:11:50.579797+00:00",null,"RC4506","Ticket Sales-Taxable","RC4506-Ticket Sales-Taxable","Revenue Category","Active",null,null,"0075E","Executive Vacation Accrual","0075E-Executive Vacation Accrual",null,null,null,"AS009052786","James Woods (009052786) Athletics - Football","AS009052786-James Woods (009052786) Athletics - Football","Active",null,null,null,null,null,null,"1651","Construction In Progress (Non-Workday Projects)","1651-Construction In Progress (Non-Workday Projects)","Asset",null,"","3609||3609","3609","Net Assets (Reserve Offset)","Primary","All",null,1651,"Construction In Progress (Non-Workday Projects)","1651-Construction In Progress (Non-Workday Projects)","Asset"]
[null,null,null,null,null,null,"AC00067","[AVP] Vatican Manuscripts","AC00067-[AVP] Vatican Manuscripts","Activity","FD03","Active","2025-03-17T16:11:50.579797+00:00",null,"RC4507","Ticket Sales-Refunds","RC4507-Ticket Sales-Refunds","Revenue Category","Active",null,null,"00812","Heritage Housing Phase I Note","00812-Heritage Housing Phase I Note",null,null,null,"AS009074247","Previn Menon (009074247) Mechanical Engineering","AS009074247-Previn Menon (009074247) Mechanical Engineering","Active",null,null,null,null,null,null,"1700","Accumulated Depreciation","1700-Accumulated Depreciation","Asset",null,"","3670||3670","3670","Retirement Beneifts Adjustment","Primary","JE_Override",null,1700,"Accumulated Depreciation","1700-Accumulated Depreciation","Asset"]
[null,null,null,null,null,null,"AC00069","[AVP] Maxwell Experiential Learning","AC00069-[AVP] Maxwell Experiential Learning","Activity","FD03","Active","2025-03-17T16:11:50.579797+00:00",null,"RC4599","Sale of Goods (reclass)","RC4599-Sale of Goods (reclass)","Revenue Category","Active",null,null,"00813","Heritage Housing Phase II Note","00813-Heritage Housing Phase II Note",null,null,null,"AS009167987","John Hilton (009167987) Religious Education - Ancient Scripture","AS009167987-John Hilton (009167987) Religious Education - Ancient Scripture","Active",null,null,null,null,null,null,"2000","Accounts Payable","2000-Accounts Payable","Liability",null,"","3680||3680","3680","Cumulative Translation Adjustment","Primary","JE_Override",null,2000,"Accounts Payable","2000-Accounts Payable","Liability"]
[null,null,null,null,null,null,"AC00070","[AVP] Ancient Studies","AC00070-[AVP] Ancient Studies","Activity","FD01","Active","2025-03-17T16:11:50.579797+00:00",null,"RC4701","Non-Investment-Dividend Income","RC4701-Non-Investment-Dividend Income","Revenue Category","Active",null,null,"00814","Heritage Housing Phas III Note","00814-Heritage Housing Phas III Note",null,null,null,"AS009194176","Sydney Rodriguez (009194176) Student Wellness","AS009194176-Sydney Rodriguez (009194176) Student Wellness","Active",null,null,null,null,null,null,"2010","Procurement Card Payable","2010-Procurement Card Payable","Liability",null,"","3690||3690","3690","Net Assets (Proj Conv P&L)","Primary","JE_Override",null,2010,"Procurement Card Payable","2010-Procurement Card Payable","Liability"]
[null,null,null,null,null,null,"AC00071","[AVP] BYU STUDIES","AC00071-[AVP] BYU STUDIES","Activity","FD02","Active","2025-03-17T16:11:50.579797+00:00",null,"RC4702","Non-Investment-Interest Income","RC4702-Non-Investment-Interest Income","Revenue Category","Active",null,null,"00815","Heritage Housing Phas IV Note","00815-Heritage Housing Phas IV Note",null,null,null,"AS009495064","Monte Marshall (009495064) AVP - Dean, Computational, Math,& Physical (CMS)","AS009495064-Monte Marshall (009495064) AVP - Dean, Computational, Math,& Physical (CMS)","Active",null,null,null,null,null,null,"2020","Other and Retainages Payable","2020-Other and Retainages Payable","Liability",null,"","4780||4780","4780","Inter-Company Contribution Revenue","Primary","All",null,2020,"Other and Retainages Payable","2020-Other and Retainages Payable","Liability"]
[null,null,null,null,null,null,"AC00072","[AVP] College Support Funds (CSF)","AC00072-[AVP] College Support Funds (CSF)","Activity","FD01","Active","2025-03-17T16:11:50.579797+00:00",null,"RC4703","Non-Investment-Gains/Losses","RC4703-Non-Investment-Gains/Losses","Revenue Category","Active",null,null,"00816","Heritage Housing Phas V Note","00816-Heritage Housing Phas V Note",null,null,null,"AS009633151","Marden Clark (009633151) Benefits, Human Resources Operations","AS009633151-Marden Clark (009633151) Benefits, Human Resources Operations","Active",null,null,null,null,null,null,"2025","Payroll Net Pay Clearing","2025-Payroll Net Pay Clearing","Liability",null,"","9250||9250","9250","Funds Transfer","Primary","All",null,2025,"Payroll Net Pay Clearing","2025-Payroll Net Pay Clearing","Liability"]
[null,null,null,null,null,null,"AC00073","[AVP] WRI Grants","AC00073-[AVP] WRI Grants","Activity","FD01","Active","2025-03-17T16:11:50.579797+00:00",null,"RC4704","Rental Income","RC4704-Rental Income","Revenue Category","Active",null,null,"00902","Amanda Rees","00902-Amanda Rees",null,null,null,"AS009674234","Richard Williams (009674234) FHSS - Psychology","AS009674234-Richard Williams (009674234) FHSS - Psychology","Active",null,null,null,null,null,null,"2030","Other Payroll Deducts Payable","2030-Other Payroll Deducts Payable","Liability",null,"","9780||9780","9780","Inter-Company Donation Expense","Primary","All",null,2030,"Other Payroll Deducts Payable","2030-Other Payroll Deducts Payable","Liability"]
[null,null,null,null,null,null,"AC00074","[AVP] AAVP Research Fixed-Prc Rsdls","AC00074-[AVP] AAVP Research Fixed-Prc Rsdls","Activity","FD03","Active","2025-03-17T16:11:50.579797+00:00",null,"RC4705","Agency Deposits","RC4705-Agency Deposits","Revenue Category","Active",null,null,"00909","Jenny Wheeler","00909-Jenny Wheeler",null,null,null,"AS009694795","Caroline Thorne (009694795) MSB - Information Systems","AS009694795-Caroline Thorne (009694795) MSB - Information Systems","Active",null,null,null,null,null,null,"2090","Clearing-Accounts Payable","2090-Clearing-Accounts Payable","Liability",null,"","9981||9981","9981","Next Year Estimated Payout","Primary","JE_Gift|JE_Override",null,2090,"Clearing-Accounts Payable","2090-Clearing-Accounts Payable","Liability"]
[null,null,null,null,null,null,"AC00075","[AVP] Waived Indirect Cost","AC00075-[AVP] Waived Indirect Cost","Activity","FD01","Active","2025-03-17T16:11:50.579797+00:00",null,"RC4706","Club Association Dues and Fees","RC4706-Club Association Dues and Fees","Revenue Category","Active",null,null,"00910","Janalee Davis","00910-Janalee Davis",null,null,null,"AS009829922","Scott Hart (009829922) Alumni Aspen Grove","AS009829922-Scott Hart (009829922) Alumni Aspen Grove","Active",null,null,null,null,null,null,"2100","FICA Payable","2100-FICA Payable","Liability",null,"","9990||9990","9990","SFAS 158 Annual Pension Adj","Primary","All",null,2100,"FICA Payable","2100-FICA Payable","Liability"]
[null,null,null,null,null,null,"AC00076","[AVP] Microscopy Lab","AC00076-[AVP] Microscopy Lab","Activity","FD02","Active","2025-03-17T16:11:50.579797+00:00",null,"RC4707","Royalty Income","RC4707-Royalty Income","Revenue Category","Active",null,null,"00914","Ben Fales","00914-Ben Fales",null,null,null,"AS009898189","Tanya Harmon (009898189) Business Career Center","AS009898189-Tanya Harmon (009898189) Business Career Center","Active",null,null,null,null,null,null,"2105","Federal Withholding Payable","2105-Federal Withholding Payable","Liability",null,"BK1001","BK1001||1000","1000","Cash USD","Primary","JE_Override",null,2105,"Federal Withholding Payable","2105-Federal Withholding Payable","Liability"]
[null,null,null,null,null,null,"AC00077","[AVP] Graduate Studies","AC00077-[AVP] Graduate Studies","Activity","FD01","Active","2025-03-17T16:11:50.579797+00:00",null,"RC4708","Distributed Royalty Income","RC4708-Distributed Royalty Income","Revenue Category","Active",null,null,"00916","Annalaura Solomon","00916-Annalaura Solomon",null,null,null,"AS009973870","Hannah Hurd (009973870) Fine Arts & Communications - Dance","AS009973870-Hannah Hurd (009973870) Fine Arts & Communications - Dance","Active",null,null,null,null,null,null,"2110","State Payroll Taxes Payable","2110-State Payroll Taxes Payable","Liability",null,"BK1002","BK1002||1000","1000","Cash USD","Primary","JE_Override",null,2110,"State Payroll Taxes Payable","2110-State Payroll Taxes Payable","Liability"]
[null,null,null,null,null,null,"AC00078","[AVP] Graduate Studies Dean","AC00078-[AVP] Graduate Studies Dean","Activity","FD01","Active","2025-03-17T16:11:50.579797+00:00",null,"RC4709","Over/Short","RC4709-Over/Short","Revenue Category","Active",null,null,"00918","Karren Williamson","00918-Karren Williamson",null,null,null,"AS010112196","Jenny Tooke (010112196) AVP Human Resources Office","AS010112196-Jenny Tooke (010112196) AVP Human Resources Office","Active",null,null,null,null,null,null,"2130","Sales Tax Payable - Utah","2130-Sales Tax Payable - Utah","Liability",null,"BK1003","BK1003||1000","1000","Cash USD","Primary","JE_Override",null,2130,"Sales Tax Payable - Utah","2130-Sales Tax Payable - Utah","Liability"]
[null,null,null,null,null,null,"AC00079","[AVP] Graduate Student Society","AC00079-[AVP] Graduate Student Society","Activity","FD01","Active","2025-03-17T16:11:50.579797+00:00",null,"RC4710","Other Income","RC4710-Other Income","Revenue Category","Active",null,null,"00921","Heather Adams (Jeanine Bell)","00921-Heather Adams (Jeanine Bell)",null,null,null,"AS010177334","Laura Lee Gillespie (010177334) MSE - Counseling Psychology & Special Ed","AS010177334-Laura Lee Gillespie (010177334) MSE - Counseling Psychology & Special Ed","Active",null,null,null,null,null,null,"2132","Sales Tax Payable - Other States","2132-Sales Tax Payable - Other States","Liability",null,"BK1004","BK1004||1000","1000","Cash USD","Primary","JE_Override",null,2132,"Sales Tax Payable - Other States","2132-Sales Tax Payable - Other States","Liability"]
[null,null,null,null,null,null,"AC00080","[AVP] Annual Fund Scholarships","AC00080-[AVP] Annual Fund Scholarships","Activity","FD01","Active","2025-03-17T16:11:50.579797+00:00",null,"RC4711","Restricted Transfers (UFSonly)","RC4711-Restricted Transfers (UFSonly)","Revenue Category","Active",null,null,"00923","David Nelson","00923-David Nelson",null,null,null,"AS010491584","Noelani Porter (010491584) Student Life VP","AS010491584-Noelani Porter (010491584) Student Life VP","Active",null,null,null,null,null,null,"2140","Property Tax Payable","2140-Property Tax Payable","Liability",null,"BK1005","BK1005||1000","1000","Cash USD","Primary","JE_Override",null,2140,"Property Tax Payable","2140-Property Tax Payable","Liability"]
[null,null,null,null,null,null,"AC00081","[AVP] Graduate Financial Aids","AC00081-[AVP] Graduate Financial Aids","Activity","FD01","Active","2025-03-17T16:11:50.579797+00:00",null,"RC4712","Interest Alloc-Claim on Cash","RC4712-Interest Alloc-Claim on Cash","Revenue Category","Active",null,null,"00924","Allen Arnoldsen","00924-Allen Arnoldsen",null,null,null,"AS010616464","Rick Patterson (010616464) Business Career Center","AS010616464-Rick Patterson (010616464) Business Career Center","Active",null,null,null,null,null,null,"2150","UBIT Payable","2150-UBIT Payable","Liability",null,"BK1006","BK1006||1000","1000","Cash USD","Primary","JE_Override",null,2150,"UBIT Payable","2150-UBIT Payable","Liability"]
[null,null,null,null,null,null,"AC00082","[AVP] Dean's Research","AC00082-[AVP] Dean's Research","Activity","FD01","Active","2025-03-17T16:11:50.579797+00:00",null,"RC4713","Gain/Loss Sale of Asset","RC4713-Gain/Loss Sale of Asset","Revenue Category","Active",null,null,"00926","Ellen Hernandez","00926-Ellen Hernandez",null,null,null,"AS010634205","Megan Nielson (010634205) CMS - Chemistry and Biochemistry","AS010634205-Megan Nielson (010634205) CMS - Chemistry and Biochemistry","Active",null,null,null,null,null,null,"2160","Other Taxes Payable","2160-Other Taxes Payable","Liability",null,"BK1008","BK1008||1000","1000","Cash USD","Primary","JE_Override",null,2160,"Other Taxes Payable","2160-Other Taxes Payable","Liability"]
[null,null,null,null,null,null,"AC00083","[AVP] Annual Fund Scholarships","AC00083-[AVP] Annual Fund Scholarships","Activity","FD03","Active","2025-03-17T16:11:50.579797+00:00",null,"RC4714","Legal Fees Reimbursement","RC4714-Legal Fees Reimbursement","Revenue Category","Active",null,null,"00927","Katrina Bricker","00927-Katrina Bricker",null,null,null,"AS010648601","Bret Rowley (010648601) PF Electrical Shop","AS010648601-Bret Rowley (010648601) PF Electrical Shop","Active",null,null,null,null,null,null,"2200","Accrued Liabilities","2200-Accrued Liabilities","Liability",null,"BK1020","BK1020||1000","1000","Cash USD","Primary","JE_Override",null,2200,"Accrued Liabilities","2200-Accrued Liabilities","Liability"]
[null,null,null,null,null,null,"AC00084","[AVP] Graduate Tuition Scholarship","AC00084-[AVP] Graduate Tuition Scholarship","Activity","FD03","Active","2025-03-17T16:11:50.579797+00:00",null,"RC4715","Realized Currency Gain/Loss","RC4715-Realized Currency Gain/Loss","Revenue Category","Active",null,null,"00931","Greg Burton","00931-Greg Burton",null,null,null,"AS010703821","Alison Bawden (010703821) Deans Office BYU Marriott","AS010703821-Alison Bawden (010703821) Deans Office BYU Marriott","Active",null,null,null,null,null,null,"2210","Accrued Payroll-Biweekly","2210-Accrued Payroll-Biweekly","Liability",null,"BK1030","BK1030||1000","1000","Cash USD","Primary","JE_Override",null,2210,"Accrued Payroll-Biweekly","2210-Accrued Payroll-Biweekly","Liability"]
[null,null,null,null,null,null,"AC00085","[AVP] Graduate Studies Applications","AC00085-[AVP] Graduate Studies Applications","Activity","FD03","Active","2025-03-17T16:11:50.579797+00:00",null,"RC4716","Unrealized Currency Gain/Loss","RC4716-Unrealized Currency Gain/Loss","Revenue Category","Active",null,null,"00932","Joseph Hall","00932-Joseph Hall",null,null,null,"AS011324388","Lisa Argyle (011324388) FHSS - Political Science","AS011324388-Lisa Argyle (011324388) FHSS - Political Science","Active",null,null,null,null,null,null,"2215","Accrued Payroll-Faculty","2215-Accrued Payroll-Faculty","Liability",null,"BK1040","BK1040||1001","1001","Cash ILS","Primary","JE_Override",null,2215,"Accrued Payroll-Faculty","2215-Accrued Payroll-Faculty","Liability"]
[null,null,null,null,null,null,"AC00086","[AVP] Sunshine Fund - Grad Studies","AC00086-[AVP] Sunshine Fund - Grad Studies","Activity","FD07","Active","2025-03-17T16:11:50.579797+00:00",null,"RC4717","Credit Card Merchant Fee","RC4717-Credit Card Merchant Fee","Revenue Category","Active",null,null,"00933","Matthew Allen","00933-Matthew Allen",null,null,null,"AS011395899","Adam Cuppett (011395899) College of Engineering - Civil & Construction Engineering","AS011395899-Adam Cuppett (011395899) College of Engineering - Civil & Construction Engineering","Active",null,null,null,null,null,null,"2220","Accrued Payroll Benefits","2220-Accrued Payroll Benefits","Liability",null,"BK1041","BK1041||1000","1000","Cash USD","Primary","JE_Override",null,2220,"Accrued Payroll Benefits","2220-Accrued Payroll Benefits","Liability"]
[null,null,null,null,null,null,"AC00087","[AVP] Copyright Services","AC00087-[AVP] Copyright Services","Activity","FD02","Active","2025-03-17T16:11:50.579797+00:00",null,"RC4799","Other Income (reclass)","RC4799-Other Income (reclass)","Revenue Category","Active",null,null,"00935","Russell Hansen","00935-Russell Hansen",null,null,null,"AS011619868","Heather Erwin (011619868) Retail Services - Product Acquisition","AS011619868-Heather Erwin (011619868) Retail Services - Product Acquisition","Active",null,null,null,null,null,null,"2230","Accrued Vacation","2230-Accrued Vacation","Liability",null,"BK1042","BK1042||1001","1001","Cash ILS","Primary","JE_Override",null,2230,"Accrued Vacation","2230-Accrued Vacation","Liability"]
[null,null,null,null,null,null,"AC00088","[AVP] Copyright Services Sal Support","AC00088-[AVP] Copyright Services Sal Support","Activity","FD03","Active","2025-03-17T16:11:50.579797+00:00",null,"RC4800","Intra-Division Sales","RC4800-Intra-Division Sales","Revenue Category","Active",null,null,"00937","Michelle Hirsche","00937-Michelle Hirsche",null,null,null,"AS011820551","Deborah Hall (011820551) First-Year Experience (FYE) - Peer Mentoring","AS011820551-Deborah Hall (011820551) First-Year Experience (FYE) - Peer Mentoring","Active",null,null,null,null,null,null,"2300","Deposits Payable","2300-Deposits Payable","Liability",null,"BK1053","BK1053||1003","1003","Cash EUR","Primary","JE_Override",null,2300,"Deposits Payable","2300-Deposits Payable","Liability"]
[null,null,null,null,null,null,"AC00089","[AVP] Creative Works","AC00089-[AVP] Creative Works","Activity","FD03","Active","2025-03-17T16:11:50.579797+00:00",null,"RC4850","Intra-Division Purchases","RC4850-Intra-Division Purchases","Revenue Category","Active",null,null,"00940","Matt Imbler","00940-Matt Imbler",null,null,null,"AS011887947","Timothy Davis (011887947) Research & Learning - Humanities","AS011887947-Timothy Davis (011887947) Research & Learning - Humanities","Active",null,null,null,null,null,null,"2400","Annuities Payable","2400-Annuities Payable","Liability",null,"BK1054","BK1054||1003","1003","Cash EUR","Primary","JE_Override",null,2400,"Annuities Payable","2400-Annuities Payable","Liability"]
[null,null,null,null,null,null,"AC00090","[AVP] CW Catalog","AC00090-[AVP] CW Catalog","Activity","FD03","Active","2025-03-17T16:11:50.579797+00:00",null,"RC4890","Release Restrictions (UFSonly)","RC4890-Release Restrictions (UFSonly)","Revenue Category","Active",null,null,"00942","Jeff Wilks","00942-Jeff Wilks",null,null,null,"AS012082452","Camey Andersen (012082452) MSB - Management","AS012082452-Camey Andersen (012082452) MSB - Management","Active",null,null,null,null,null,null,"2491","Inter-Company Receivable/Payable","2491-Inter-Company Receivable/Payable","Liability",null,"BK1055","BK1055||1003","1003","Cash EUR","Primary","JE_Override",null,2491,"Inter-Company Receivable/Payable","2491-Inter-Company Receivable/Payable","Liability"]
[null,null,null,null,null,null,"AC00091","[AVP] BYU Store Catalog Sales","AC00091-[AVP] BYU Store Catalog Sales","Activity","FD03","Active","2025-03-17T16:11:50.579797+00:00",null,"RC4891","Endowment Payout Distribution","RC4891-Endowment Payout Distribution","Revenue Category","Active",null,null,"00943","Michael Searcy","00943-Michael Searcy",null,null,null,"AS012664224","Ben Harry (012664224) Research & Learning - Special Collections","AS012664224-Ben Harry (012664224) Research & Learning - Special Collections","Active",null,null,null,null,null,null,"2492","Inter-Worktag Receivable/Payable","2492-Inter-Worktag Receivable/Payable","Liability",null,"RC1210","RC1210||1210","1210","Off Campus Receivable","Primary","All",null,2492,"Inter-Worktag Receivable/Payable","2492-Inter-Worktag Receivable/Payable","Liability"]
[null,null,null,null,null,null,"AC00092","[AVP] CW Clearance","AC00092-[AVP] CW Clearance","Activity","FD03","Active","2025-03-17T16:11:50.579797+00:00",null,"RC4892","Endowment Payout Spendable Available","RC4892-Endowment Payout Spendable Available","Revenue Category","Active",null,null,"00945","Melanie von Bose","00945-Melanie von Bose",null,null,null,"AS012703001","Kenneth Bean (012703001) College of Engineering - Mechanical Engineering","AS012703001-Kenneth Bean (012703001) College of Engineering - Mechanical Engineering","Active",null,null,null,null,null,null,"2500","Notes Payable","2500-Notes Payable","Liability",null,"RC1230","RC1230||1230","1230","Church Receivable",null,"All",null,2500,"Notes Payable","2500-Notes Payable","Liability"]
[null,null,null,null,null,null,"AC00093","[AVP] Tech Transfer Operations","AC00093-[AVP] Tech Transfer Operations","Activity","FD03","Active","2025-03-17T16:11:50.579797+00:00",null,"RC4893","Reinvestment","RC4893-Reinvestment","Revenue Category","Active",null,null,"00950","Holly Madsen","00950-Holly Madsen",null,null,null,"AS012823792","Jason Stucki (012823792) CMS - Geological Sciences","AS012823792-Jason Stucki (012823792) CMS - Geological Sciences","Active",null,null,null,null,null,null,"2510","Notes Payable - Church","2510-Notes Payable - Church","Liability",null,"RC1290","RC1290||1290","1290","Clearing-Receivable","Primary","All",null,2510,"Notes Payable - Church","2510-Notes Payable - Church","Liability"]
[null,null,null,null,null,null,"AC00094","[AVP] Royalties-Administration","AC00094-[AVP] Royalties-Administration","Activity","FD03","Active","2025-03-17T16:11:50.579797+00:00",null,"RC4897","Investment Transfer In/Out (FS only)","RC4897-Investment Transfer In/Out (FS only)","Revenue Category","Active",null,null,"00959","Paul Stavast","00959-Paul Stavast",null,null,null,"AS013125210","Kevin Bauer (013125210) BYU Broadcasting - Digital Media","AS013125210-Kevin Bauer (013125210) BYU Broadcasting - Digital Media","Active",null,null,null,null,null,null,"2550","Lease Liability","2550-Lease Liability","Liability",null,"RC1298","RC1298||1299","1299","Account/Note Rec Reserve","Primary","All",null,2550,"Lease Liability","2550-Lease Liability","Liability"]
[null,null,null,null,null,null,"AC00095","[AVP] Technology Transfer","AC00095-[AVP] Technology Transfer","Activity","FD03","Active","2025-03-17T16:11:50.579797+00:00",null,"RC6403","Sponsored Program Income","RC6403-Sponsored Program Income","Revenue Category","Active",null,null,"00961","Cindy Brightenburg","00961-Cindy Brightenburg",null,null,null,"AS013153304","Brad Taylor (013153304) Academic Vice President","AS013153304-Brad Taylor (013153304) Academic Vice President","Active",null,null,null,null,null,null,"2600","Deferred Revenue","2600-Deferred Revenue","Liability",null,"RC2300","RC2300||2300","2300","Deposits Payable","Primary","All",null,2600,"Deferred Revenue","2600-Deferred Revenue","Liability"]
[null,null,null,null,null,null,"AC00096","[AVP] Centralized Animal Care","AC00096-[AVP] Centralized Animal Care","Activity","FD02","Active","2025-03-17T16:11:50.579797+00:00",null,"SC0101","Forward Balance (Budget Only)","SC0101-Forward Balance (Budget Only)","Spend Category","Active",null,null,"00966","Curtis Isaak","00966-Curtis Isaak",null,null,null,"AS013277357","Wendy Williamson (013277357) PF Building Operations","AS013277357-Wendy Williamson (013277357) PF Building Operations","Active",null,null,null,null,null,null,"2700","Retire Postretire Benefit Obligation","2700-Retire Postretire Benefit Obligation","Liability",null,"RC4001","RC4001||2600","2600","Deferred Revenue",null,"All",null,2700,"Retire Postretire Benefit Obligation","2700-Retire Postretire Benefit Obligation","Liability"]
[null,null,null,null,null,null,"AC00097","[ADM] Faculty Moving","AC00097-[ADM] Faculty Moving","Activity","FD01","Active","2025-03-17T16:11:50.579797+00:00",null,"SC0102","Annual Flexible Budget (Budget Only)","SC0102-Annual Flexible Budget (Budget Only)","Spend Category","Active",null,null,"00969","Arlene Cleverley","00969-Arlene Cleverley",null,null,null,"AS013404757","Bryan Howell (013404757) Fine Arts & Communications - Design","AS013404757-Bryan Howell (013404757) Fine Arts & Communications - Design","Active",null,null,null,null,null,null,"2710","Deferred Tax Liability","2710-Deferred Tax Liability","Liability",null,"RC4001","RC4001||4000","4000","Appropriations","Primary","All",null,2710,"Deferred Tax Liability","2710-Deferred Tax Liability","Liability"]
[null,null,null,null,null,null,"AC00098","[ADM] Faculty Recruitment","AC00098-[ADM] Faculty Recruitment","Activity","FD01","Active","2025-03-17T16:11:50.579797+00:00",null,"SC0103","Budget Unallocated (Budget Only)","SC0103-Budget Unallocated (Budget Only)","Spend Category","Active",null,null,"00974","Tammy Miner","00974-Tammy Miner",null,null,null,"AS013464292","Tony Grover (013464292) AVP - Dean, Clark Law School","AS013464292-Tony Grover (013464292) AVP - Dean, Clark Law School","Active",null,null,null,null,null,null,"3400","Net Assets (prior year)","3400-Net Assets (prior year)","Equity",null,"RC4002","RC4002||2600","2600","Deferred Revenue",null,"All",null,3400,"Net Assets (prior year)","3400-Net Assets (prior year)","Equity"]
[null,null,null,null,null,null,"AC00099","[AVP] Forums","AC00099-[AVP] Forums","Activity","FD01","Active","2025-03-17T16:11:50.579797+00:00",null,"SC0104","Research Carryover (Budget Only)","SC0104-Research Carryover (Budget Only)","Spend Category","Active",null,null,"00975","Cheri Koford","00975-Cheri Koford",null,null,null,"AS013542053","Isaac Smith (013542053) MSB - Management","AS013542053-Isaac Smith (013542053) MSB - Management","Active",null,null,null,null,null,null,"3500","Net Assets","3500-Net Assets","Equity",null,"RC4002","RC4002||4000","4000","Appropriations","Primary","All",null,3500,"Net Assets","3500-Net Assets","Equity"]
[null,null,null,null,null,null,"AC00100","[AVP] Advisor Prof Dev Committee","AC00100-[AVP] Advisor Prof Dev Committee","Activity","FD01","Active","2025-03-17T16:11:50.579797+00:00",null,"SC0610","Materials and Supplies (Budget Only)","SC0610-Materials and Supplies (Budget Only)","Spend Category","Active",null,null,"00979","Erin Rowan","00979-Erin Rowan",null,null,null,"AS013584809","Deena Hastings (013584809) Retail Services - Product Acquisition","AS013584809-Deena Hastings (013584809) Retail Services - Product Acquisition","Active",null,null,null,null,null,null,"3600","Net Assets-Reserve","3600-Net Assets-Reserve","Equity",null,"RC4101","RC4101||2600","2600","Deferred Revenue",null,"All",null,3600,"Net Assets-Reserve","3600-Net Assets-Reserve","Equity"]
[null,null,null,null,null,null,"AC00101","[AVP] Center for Teaching & Learning","AC00101-[AVP] Center for Teaching & Learning","Activity","FD02","Active","2025-03-17T16:11:50.579797+00:00",null,"SC0630","Student Aid (Budget Only)","SC0630-Student Aid (Budget Only)","Spend Category","Active",null,null,"00986","Rob Holcombe","00986-Rob Holcombe",null,null,null,"AS013664321","Taylor Morris (013664321) Performing Arts Management - Artist Management","AS013664321-Taylor Morris (013664321) Performing Arts Management - Artist Management","Active",null,null,null,null,null,null,"3609","Net Assets (Reserve Offset)","3609-Net Assets (Reserve Offset)","Equity",null,"RC4101","RC4101||4100","4100","Tuition and Fees","Primary","All",null,3609,"Net Assets (Reserve Offset)","3609-Net Assets (Reserve Offset)","Equity"]
[null,null,null,null,null,null,"AC00102","[AVP] Testing Services","AC00102-[AVP] Testing Services","Activity","FD01","Active","2025-03-27T02:04:07.663585+00:00",null,"SC0640","General and Administrative (Budget Only)","SC0640-General and Administrative (Budget Only)","Spend Category","Active",null,null,"00987","Jennefer Johnson","00987-Jennefer Johnson",null,null,null,"AS013758513","Megan Goodman (013758513) Purchasing and Travel - Continuing Education Operations","AS013758513-Megan Goodman (013758513) Purchasing and Travel - Continuing Education Operations","Active",null,null,null,null,null,null,"3670","Retirement Benefits Adjustment","3670-Retirement Benefits Adjustment","Equity",null,"RC4102","RC4102||2600","2600","Deferred Revenue",null,"All",null,3670,"Retirement Benefits Adjustment","3670-Retirement Benefits Adjustment","Equity"]
[null,null,null,null,null,null,"AC00103","[AVP] Exp Learning and Intern","AC00103-[AVP] Exp Learning and Intern","Activity","FD01","Active","2025-03-17T16:11:50.579797+00:00",null,"SC0670","Physical Facilities (Budget Only)","SC0670-Physical Facilities (Budget Only)","Spend Category","Active",null,null,"00989","Ben McKinnon","00989-Ben McKinnon",null,null,null,"AS013951239","Roger Dean (013951239) Retail Services - General Administration","AS013951239-Roger Dean (013951239) Retail Services - General Administration","Active",null,null,null,null,null,null,"3680","Cumulative Translation Adjustment","3680-Cumulative Translation Adjustment","Equity",null,"RC4102","RC4102||4100","4100","Tuition and Fees","Primary","All",null,3680,"Cumulative Translation Adjustment","3680-Cumulative Translation Adjustment","Equity"]
[null,null,null,null,null,null,"AC00104","[AVP] STEM Fair","AC00104-[AVP] STEM Fair","Activity","FD02","Active","2025-03-17T16:11:50.579797+00:00",null,"SC0691","Equipment (Budget Only)","SC0691-Equipment (Budget Only)","Spend Category","Active",null,null,"00990","Jessica Roberts","00990-Jessica Roberts",null,null,null,"AS013974932","Tevita Hola (013974932) Honor Code Office","AS013974932-Tevita Hola (013974932) Honor Code Office","Active",null,null,null,null,null,null,"3690","Net Assets (Proj Conv P&L)","3690-Net Assets (Proj Conv P&L)","Equity",null,"RC4103","RC4103||2600","2600","Deferred Revenue",null,"All",null,3690,"Net Assets (Proj Conv P&L)","3690-Net Assets (Proj Conv P&L)","Equity"]
[null,null,null,null,null,null,"AC00105","[AVP] Career Fair","AC00105-[AVP] Career Fair","Activity","FD02","Active","2025-03-17T16:11:50.579797+00:00",null,"SC0692","Converted Equipment (Budget Only)","SC0692-Converted Equipment (Budget Only)","Spend Category","Active",null,null,"00992","Becky Lueck/SL Center","00992-Becky Lueck/SL Center",null,null,null,"AS013983916","Ray Bernier (013983916) Asst Adm VP Physical Facil","AS013983916-Ray Bernier (013983916) Asst Adm VP Physical Facil","Active",null,null,null,null,null,null,"4000","Appropriations","4000-Appropriations","Income",null,"RC4103","RC4103||4100","4100","Tuition and Fees","Primary","All",null,4000,"Appropriations","4000-Appropriations","Income"]
[null,null,null,null,null,null,"AC00106","[AVP] Career  Programs","AC00106-[AVP] Career  Programs","Activity","FD03","Active","2025-03-17T16:11:50.579797+00:00",null,"SC0693","Equipment Maintenance (Budget Only)","SC0693-Equipment Maintenance (Budget Only)","Spend Category","Active",null,null,"00ESA","Economic Student Association","00ESA-Economic Student Association",null,null,null,"AS014079663","Keri Elmer (014079663) Life Sciences - Microbiology & Molecular Biology","AS014079663-Keri Elmer (014079663) Life Sciences - Microbiology & Molecular Biology","Active",null,null,null,null,null,null,"4100","Tuition and Fees","4100-Tuition and Fees","Income",null,"RC4104","RC4104||2600","2600","Deferred Revenue",null,"All",null,4100,"Tuition and Fees","4100-Tuition and Fees","Income"]
[null,null,null,null,null,null,"AC00107","[AVP] Alcuin Awards","AC00107-[AVP] Alcuin Awards","Activity","FD01","Active","2025-03-17T16:11:50.579797+00:00",null,"SC0694","Software (Budget Only)","SC0694-Software (Budget Only)","Spend Category","Active",null,null,"00GAS","Gas Cylinders","00GAS-Gas Cylinders",null,null,null,"AS014451246","Tim Smith (014451246) Athletics - Sports Camps","AS014451246-Tim Smith (014451246) Athletics - Sports Camps","Active",null,null,null,null,null,null,"4198","Tuition and Fees (Contra)","4198-Tuition and Fees (Contra)","Income",null,"RC4104","RC4104||4100","4100","Tuition and Fees","Primary","All",null,4198,"Tuition and Fees (Contra)","4198-Tuition and Fees (Contra)","Income"]
[null,null,null,null,null,null,"AC00108","[AVP] Natl Scholar Fellow & Progs","AC00108-[AVP] Natl Scholar Fellow & Progs","Activity","FD01","Active","2025-03-17T16:11:50.579797+00:00",null,"SC0695","Converted Software (Budget Only)","SC0695-Converted Software (Budget Only)","Spend Category","Active",null,null,"00I20","I-20 International Students","00I20-I-20 International Students",null,null,null,"AS014567267","Darcy Christensen (014567267) Retail Services - Product Acquisition","AS014567267-Darcy Christensen (014567267) Retail Services - Product Acquisition","Active",null,null,null,null,null,null,"4200","Gifts and Grants","4200-Gifts and Grants","Income",null,"RC4110","RC4110||2600","2600","Deferred Revenue",null,"All",null,4200,"Gifts and Grants","4200-Gifts and Grants","Income"]
[null,null,null,null,null,null,"AC00109","[AVP] UE Communications","AC00109-[AVP] UE Communications","Activity","FD01","Active","2025-03-17T16:11:50.579797+00:00",null,"SC0696","Library Content (Budget Only)","SC0696-Library Content (Budget Only)","Spend Category","Active",null,null,"01001","Vending Room","01001-Vending Room",null,null,null,"AS014746000","David Morgan (014746000) Fine Arts & Communications - Design","AS014746000-David Morgan (014746000) Fine Arts & Communications - Design","Active",null,null,null,null,null,null,"4300","Investment Income","4300-Investment Income","Income",null,"RC4110","RC4110||4100","4100","Tuition and Fees","Primary","All",null,4300,"Investment Income","4300-Investment Income","Income"]
[null,null,null,null,null,null,"AC00110","[AVP] PES Phi Eta Sigma","AC00110-[AVP] PES Phi Eta Sigma","Activity","FD02","Active","2025-03-17T16:11:50.579797+00:00",null,"SC0697","Converted Library Content (Budget Only)","SC0697-Converted Library Content (Budget Only)","Spend Category","Active",null,null,"01003","Vending Machines","01003-Vending Machines",null,null,null,"AS014888494","Amy Roper (014888494) Humanities - English","AS014888494-Amy Roper (014888494) Humanities - English","Active",null,null,null,null,null,null,"4310","Investment Gains and Losses","4310-Investment Gains and Losses","Income",null,"RC4111","RC4111||2600","2600","Deferred Revenue",null,"All",null,4310,"Investment Gains and Losses","4310-Investment Gains and Losses","Income"]
[null,null,null,null,null,null,"AC00111","[AVP] Phi Kappa Phi","AC00111-[AVP] Phi Kappa Phi","Activity","FD02","Active","2025-03-17T16:11:50.579797+00:00",null,"SC1055","Gift Cards","SC1055-Gift Cards","Spend Category","Active",null,null,"01004","Shannon Sanders","01004-Shannon Sanders",null,null,null,"AS014924130","Katie Gneiting (014924130) Computer Science","AS014924130-Katie Gneiting (014924130) Computer Science","Active",null,null,null,null,null,null,"4400","Sale of Services","4400-Sale of Services","Income",null,"RC4111","RC4111||4100","4100","Tuition and Fees","Primary","All",null,4400,"Sale of Services","4400-Sale of Services","Income"]
[null,null,null,null,null,null,"AC00112","[AVP] Golden Key Intl Honor Society","AC00112-[AVP] Golden Key Intl Honor Society","Activity","FD02","Active","2025-03-17T16:11:50.579797+00:00",null,"SC1218","Utah Sales Tax","SC1218-Utah Sales Tax","Spend Category","Active",null,null,"01005","Roma Hardy","01005-Roma Hardy",null,null,null,"AS014932898","Patty Jones (014932898) School of Music - Financial Support","AS014932898-Patty Jones (014932898) School of Music - Financial Support","Active",null,null,null,null,null,null,"4500","Sale of Goods","4500-Sale of Goods","Income",null,"RC4112","RC4112||2600","2600","Deferred Revenue",null,"All",null,4500,"Sale of Goods","4500-Sale of Goods","Income"]
[null,null,null,null,null,null,"AC00113","[AVP] Student/Faculty Mentoring","AC00113-[AVP] Student/Faculty Mentoring","Activity","FD03","Active","2025-03-17T16:11:50.579797+00:00",null,"SC1290","MFC Refunds","SC1290-MFC Refunds","Spend Category","Active",null,null,"01016","Daniel Niu","01016-Daniel Niu",null,null,null,"AS014999341","Darren Hawkins (014999341) FHSS - Political Science","AS014999341-Darren Hawkins (014999341) FHSS - Political Science","Active",null,null,null,null,null,null,"4700","Other Income","4700-Other Income","Income",null,"RC4112","RC4112||4100","4100","Tuition and Fees","Primary","All",null,4700,"Other Income","4700-Other Income","Income"]
[null,null,null,null,null,null,"AC00114","[AVP] First Year Experience","AC00114-[AVP] First Year Experience","Activity","FD01","Active","2025-04-09T02:03:42.464861+00:00",null,"SC1300","Inventory - Workday","SC1300-Inventory - Workday","Spend Category","Active",null,null,"01032","Jolene Johnson","01032-Jolene Johnson",null,null,null,"AS015095144","Jason Alleger (015095144) MSB - Marketing & Global Supply Chain","AS015095144-Jason Alleger (015095144) MSB - Marketing & Global Supply Chain","Active",null,null,null,null,null,null,"4780","Inter-Company Contribution Revenue","4780-Inter-Company Contribution Revenue","Income",null,"RC4113","RC4113||2600","2600","Deferred Revenue",null,"All",null,4780,"Inter-Company Contribution Revenue","4780-Inter-Company Contribution Revenue","Income"]
[null,null,null,null,null,null,"AC00115","[AVP] Freshman Year NSO","AC00115-[AVP] Freshman Year NSO","Activity","FD02","Active","2025-03-17T16:11:50.579797+00:00",null,"SC1310","Inventory - Campus Subsystems","SC1310-Inventory - Campus Subsystems","Spend Category","Active",null,null,"01055","Carrie Scoresby","01055-Carrie Scoresby",null,null,null,"AS015137540","Robyn Schwartz (015137540) Humanities - English","AS015137540-Robyn Schwartz (015137540) Humanities - English","Active",null,null,null,null,null,null,"4800","Intra-Division Sales","4800-Intra-Division Sales","Income",null,"RC4113","RC4113||4100","4100","Tuition and Fees","Primary","All",null,4800,"Intra-Division Sales","4800-Intra-Division Sales","Income"]
[null,null,null,null,null,null,"AC00116","[AVP] New Student Orientation - All","AC00116-[AVP] New Student Orientation - All","Activity","FD03","Active","2025-03-17T16:11:50.579797+00:00",null,"SC1390","Inventory - Clearing (Conversion Only)","SC1390-Inventory - Clearing (Conversion Only)","Spend Category","Active",null,null,"01058","Nick Hawkins","01058-Nick Hawkins",null,null,null,"AS015304960","Lorelie Sander (015304960) CE Large Programs","AS015304960-Lorelie Sander (015304960) CE Large Programs","Active",null,null,null,null,null,null,"4850","Intra-Division Purchases","4850-Intra-Division Purchases","Income",null,"RC4114","RC4114||2600","2600","Deferred Revenue",null,"All",null,4850,"Intra-Division Purchases","4850-Intra-Division Purchases","Income"]
[null,null,null,null,null,null,"AC00118","[AVP] General Education","AC00118-[AVP] General Education","Activity","FD01","Active","2025-03-17T16:11:50.579797+00:00",null,"SC1400","Prepaid Expenses","SC1400-Prepaid Expenses","Spend Category","Active",null,null,"01059","Mark Ormsby","01059-Mark Ormsby",null,null,null,"AS015995395","Tim Barlow (015995395) Concessions","AS015995395-Tim Barlow (015995395) Concessions","Active",null,null,null,null,null,null,"4890","Release of Restrictions","4890-Release of Restrictions","Income",null,"RC4114","RC4114||4100","4100","Tuition and Fees","Primary","All",null,4890,"Release of Restrictions","4890-Release of Restrictions","Income"]
[null,null,null,null,null,null,"AC00119","[AVP] Honors","AC00119-[AVP] Honors","Activity","FD01","Active","2025-03-17T16:11:50.579797+00:00",null,"SC1420","Other Assets","SC1420-Other Assets","Spend Category","Active",null,null,"01061","Mandi Johnson","01061-Mandi Johnson",null,null,null,"AS015996884","Jacob Gibb (015996884) Athletics - Creative Strategy - Graphic Design","AS015996884-Jacob Gibb (015996884) Athletics - Creative Strategy - Graphic Design","Active",null,null,null,null,null,null,"4900","Cost of Sales","4900-Cost of Sales","Expense",null,"RC4115","RC4115||2600","2600","Deferred Revenue",null,"All",null,4900,"Cost of Sales","4900-Cost of Sales","Expense"]
[null,null,null,null,null,null,"AC00120","[AVP] Honors Advisement","AC00120-[AVP] Honors Advisement","Activity","FD01","Active","2025-03-17T16:11:50.579797+00:00",null,"SC1490","Clearing-Prepaid and Other (Conversion Only)","SC1490-Clearing-Prepaid and Other (Conversion Only)","Spend Category","Active",null,null,"01076","Nieves Knapp","01076-Nieves Knapp",null,null,null,"AS016014282","Mary Chapman (016014282) Research & Learning - Humanities","AS016014282-Mary Chapman (016014282) Research & Learning - Humanities","Active",null,null,null,null,null,null,"5000","Salaries and Wages","5000-Salaries and Wages","Expense",null,"RC4115","RC4115||4100","4100","Tuition and Fees","Primary","All",null,5000,"Salaries and Wages","5000-Salaries and Wages","Expense"]
[null,null,null,null,null,null,"AC00121","[LIB] Library Departments","AC00121-[LIB] Library Departments","Activity","FD01","Active","2025-03-17T16:11:50.579797+00:00",null,"SC1600","Land","SC1600-Land","Spend Category","Active",null,null,"01089","Rick Miller","01089-Rick Miller",null,null,null,"AS016196969","Todd Weiler (016196969) Law School","AS016196969-Todd Weiler (016196969) Law School","Active",null,null,null,null,null,null,"5800","Project Labor Cost","5800-Project Labor Cost","Expense",null,"RC4116","RC4116||4100","4100","Tuition and Fees","Primary","All",null,5800,"Project Labor Cost","5800-Project Labor Cost","Expense"]
[null,null,null,null,null,null,"AC00122","[LIB] Business Office","AC00122-[LIB] Business Office","Activity","FD01","Active","2025-03-17T16:11:50.579797+00:00",null,"SC1605","Buildings","SC1605-Buildings","Spend Category","Active",null,null,"01102","Renata Forste","01102-Renata Forste",null,null,null,"AS016499569","Cecilia Peek (016499569) Kennedy International Center","AS016499569-Cecilia Peek (016499569) Kennedy International Center","Active",null,null,null,null,null,null,"5801","Project Labor Cost Recovery","5801-Project Labor Cost Recovery","Expense",null,"RC4117","RC4117||2600","2600","Deferred Revenue",null,"All",null,5801,"Project Labor Cost Recovery","5801-Project Labor Cost Recovery","Expense"]
[null,null,null,null,null,null,"AC00123","[LIB] LAO Secretaries/Events","AC00123-[LIB] LAO Secretaries/Events","Activity","FD01","Active","2025-03-17T16:11:50.579797+00:00",null,"SC1615","Other Improvements","SC1615-Other Improvements","Spend Category","Active",null,null,"01116","Judy Stoudt","01116-Judy Stoudt",null,null,null,"AS016528162","Craig Cozzens (016528162) PF Grounds - Site & Landscape Construction","AS016528162-Craig Cozzens (016528162) PF Grounds - Site & Landscape Construction","Active",null,null,null,null,null,null,"5900","Benefits","5900-Benefits","Expense",null,"RC4117","RC4117||4100","4100","Tuition and Fees","Primary","All",null,5900,"Benefits","5900-Benefits","Expense"]
[null,null,null,null,null,null,"AC00124","[LIB] Student Library Association","AC00124-[LIB] Student Library Association","Activity","FD02","Active","2025-03-17T16:11:50.579797+00:00",null,"SC1635","Misc Capital Assets","SC1635-Misc Capital Assets","Spend Category","Active",null,null,"01122","David A. Wood","01122-David A. Wood",null,null,null,"AS016720648","Lemikki Westlund (016720648) OIT Core - Finance","AS016720648-Lemikki Westlund (016720648) OIT Core - Finance","Active",null,null,null,null,null,null,"6100","Materials and Supplies","6100-Materials and Supplies","Expense",null,"RC4199","RC4199||2600","2600","Deferred Revenue",null,"All",null,6100,"Materials and Supplies","6100-Materials and Supplies","Expense"]
[null,null,null,null,null,null,"AC00125","[LIB] NDLTD","AC00125-[LIB] NDLTD","Activity","FD02","Active","2025-03-17T16:11:50.579797+00:00",null,"SC2010","Procurement Card Payable","SC2010-Procurement Card Payable","Spend Category","Active",null,null,"01124","Michael Larson","01124-Michael Larson",null,null,null,"AS017005018","Ryan Moffat (017005018) Life Sciences - Public Health","AS017005018-Ryan Moffat (017005018) Life Sciences - Public Health","Active",null,null,null,null,null,null,"6300","Student Aid","6300-Student Aid","Expense",null,"RC4199","RC4199||4100","4100","Tuition and Fees","Primary","All",null,6300,"Student Aid","6300-Student Aid","Expense"]
[null,null,null,null,null,null,"AC00126","[LIB] Library Royalties","AC00126-[LIB] Library Royalties","Activity","FD03","Active","2025-03-17T16:11:50.579797+00:00",null,"SC2011","Virtual Card Payable","SC2011-Virtual Card Payable","Spend Category","Active",null,null,"01128","Jennifer Johnson","01128-Jennifer Johnson",null,null,null,"AS017093289","Patti Freeman (017093289) MSB - Experience Design & Management","AS017093289-Patti Freeman (017093289) MSB - Experience Design & Management","Active",null,null,null,null,null,null,"6400","General and Administrative","6400-General and Administrative","Expense",null,"RC4201","RC4201||4200","4200","Gifts and Grants","Primary","JE_Gift|JE_Override",null,6400,"General and Administrative","6400-General and Administrative","Expense"]
[null,null,null,null,null,null,"AC00128","[LIB] Library Experiental Learning","AC00128-[LIB] Library Experiental Learning","Activity","FD03","Active","2025-03-17T16:11:50.579797+00:00",null,"SC2020","Other and Retainages Payable","SC2020-Other and Retainages Payable","Spend Category","Active",null,null,"01139","Ty Hopkins","01139-Ty Hopkins",null,null,null,"AS017161511","Luke Penrod (017161511) Concessions","AS017161511-Luke Penrod (017161511) Concessions","Active",null,null,null,null,null,null,"6498","General and Administrative (Contra)","6498-General and Administrative (Contra)","Expense",null,"RC4202","RC4202||4200","4200","Gifts and Grants","Primary","JE_Gift|JE_Override",null,6498,"General and Administrative (Contra)","6498-General and Administrative (Contra)","Expense"]
[null,null,null,null,null,null,"AC00129","[LIB] Exhibits","AC00129-[LIB] Exhibits","Activity","FD01","Active","2025-03-17T16:11:50.579797+00:00",null,"SC2021","Escheatment Expense","SC2021-Escheatment Expense","Spend Category","Active",null,null,"01150","Julianne Holt-Lunstad","01150-Julianne Holt-Lunstad",null,null,null,"AS017418640","Jamie Hansen (017418640) Research & Learning - Social Sciences","AS017418640-Jamie Hansen (017418640) Research & Learning - Social Sciences","Active",null,null,null,null,null,null,"6600","Interest Expense","6600-Interest Expense","Expense",null,"RC4203","RC4203||4200","4200","Gifts and Grants","Primary","JE_Gift|JE_Override",null,6600,"Interest Expense","6600-Interest Expense","Expense"]
[null,null,null,null,null,null,"AC00130","[LIB] Cataloging Spec. Collections","AC00130-[LIB] Cataloging Spec. Collections","Activity","FD01","Active","2025-03-17T16:11:50.579797+00:00",null,"SC2030","Other Payroll Deducts Payable","SC2030-Other Payroll Deducts Payable","Spend Category","Active",null,null,"01168","David Nelson/Malaysia","01168-David Nelson/Malaysia",null,null,null,"AS017608938","Jenelle Cox (017608938) Humanities - Linguistics","AS017608938-Jenelle Cox (017608938) Humanities - Linguistics","Active",null,null,null,null,null,null,"6700","Physical Facilities","6700-Physical Facilities","Expense",null,"RC4204","RC4204||4200","4200","Gifts and Grants","Primary","All",null,6700,"Physical Facilities","6700-Physical Facilities","Expense"]
[null,null,null,null,null,null,"AC00131","[LIB] Archival Processing Section","AC00131-[LIB] Archival Processing Section","Activity","FD01","Active","2025-03-17T16:11:50.579797+00:00",null,"SC2031","Garnishments","SC2031-Garnishments","Spend Category","Active",null,null,"01172","Jared Warren","01172-Jared Warren",null,null,null,"AS017661858","Brandon Mitchell (017661858) HS General Medicine","AS017661858-Brandon Mitchell (017661858) HS General Medicine","Active",null,null,null,null,null,null,"6900","Equipment, Software, Library","6900-Equipment, Software, Library","Expense",null,"RC4299","RC4299||4200","4200","Gifts and Grants","Primary","All",null,6900,"Equipment, Software, Library","6900-Equipment, Software, Library","Expense"]
[null,null,null,null,null,null,"AC00133","[LIB] Tech.Supplies & Access Devices","AC00133-[LIB] Tech.Supplies & Access Devices","Activity","FD01","Active","2025-03-17T16:11:50.579797+00:00",null,"SC2032","Employee Passthrough Donations","SC2032-Employee Passthrough Donations","Spend Category","Active",null,null,"01176","Monte Swain","01176-Monte Swain",null,null,null,"AS017846329","Elisabeth Eisenhut (017846329) Fine Arts & Communications - Dance","AS017846329-Elisabeth Eisenhut (017846329) Fine Arts & Communications - Dance","Active",null,null,null,null,null,null,"7000","Travel","7000-Travel","Expense",null,"RC4301","RC4301||4300","4300","Investment Income","Primary","All",null,7000,"Travel","7000-Travel","Expense"]
[null,null,null,null,null,null,"AC00134","[LIB] Library Printing","AC00134-[LIB] Library Printing","Activity","FD02","Active","2025-03-17T16:11:50.579797+00:00",null,"SC2033","FICA Offset/Recollect","SC2033-FICA Offset/Recollect","Spend Category","Active",null,null,"01189","Benjamin Gibbs","01189-Benjamin Gibbs",null,null,null,"AS017918284","Zack Beddoes (017918284) MSE  - Teacher Education","AS017918284-Zack Beddoes (017918284) MSE  - Teacher Education","Active",null,null,null,null,null,null,"8000","Depreciation","8000-Depreciation","Expense",null,"RC4302","RC4302||4300","4300","Investment Income","Primary","All",null,8000,"Depreciation","8000-Depreciation","Expense"]
[null,null,null,null,null,null,"AC00135","[LIB] Journal of Western Archives","AC00135-[LIB] Journal of Western Archives","Activity","FD02","Active","2025-03-17T16:11:50.579797+00:00",null,"SC2090","Clearing-Accounts Payable","SC2090-Clearing-Accounts Payable","Spend Category","Active",null,null,"01194","Andrew Ludlow","01194-Andrew Ludlow",null,null,null,"AS017971256","Carina Coria (017971256) Humanities - Spanish & Portuguese","AS017971256-Carina Coria (017971256) Humanities - Spanish & Portuguese","Active",null,null,null,null,null,null,"9199","AM Offset Default","9199-AM Offset Default","Expense",null,"RC4311","RC4311||4310","4310","Investment Gains and Losses","Primary","All",null,9199,"AM Offset Default","9199-AM Offset Default","Expense"]
[null,null,null,null,null,null,"AC00136","[LIB] Music Book Sales","AC00136-[LIB] Music Book Sales","Activity","FD02","Active","2025-03-17T16:11:50.579797+00:00",null,"SC2100","FICA Payable","SC2100-FICA Payable","Spend Category","Active",null,null,"01195","Cami Cornia","01195-Cami Cornia",null,null,null,"AS018009477","Anthony Schaefer (018009477) CMS - Chemistry and Biochemistry","AS018009477-Anthony Schaefer (018009477) CMS - Chemistry and Biochemistry","Active",null,null,null,null,null,null,"9250","Funds Transfer","9250-Funds Transfer","Expense",null,"RC4312","RC4312||4310","4310","Investment Gains and Losses","Primary","All",null,9250,"Funds Transfer","9250-Funds Transfer","Expense"]
[null,null,null,null,null,null,"AC00137","[LIB] Special Collections Income","AC00137-[LIB] Special Collections Income","Activity","FD02","Active","2025-03-17T16:11:50.579797+00:00",null,"SC2105","Federal Withholding Payable","SC2105-Federal Withholding Payable","Spend Category","Active",null,null,"01197","Leslie Miles","01197-Leslie Miles",null,null,null,"AS018010965","Val Anderson (018010965) Life Sciences - Plant & Wildlife Sciences","AS018010965-Val Anderson (018010965) Life Sciences - Plant & Wildlife Sciences","Active",null,null,null,null,null,null,"9780","Inter-Company Donation Expense","9780-Inter-Company Donation Expense","Expense",null,"RC4313","RC4313||4310","4310","Investment Gains and Losses","Primary","All",null,9780,"Inter-Company Donation Expense","9780-Inter-Company Donation Expense","Expense"]
[null,null,null,null,null,null,"AC00138","[LIB] FMA - CD Series","AC00138-[LIB] FMA - CD Series","Activity","FD02","Active","2025-03-17T16:11:50.579797+00:00",null,"SC2110","State Payroll Taxes Payable","SC2110-State Payroll Taxes Payable","Spend Category","Active",null,null,"01198","Kathryn Tucker[Kris Moretnsen]","01198-Kathryn Tucker[Kris Moretnsen]",null,null,null,"AS018019821","Taylor Nadauld (018019821) AVP - Dean, Marriott School of Business (MSB)","AS018019821-Taylor Nadauld (018019821) AVP - Dean, Marriott School of Business (MSB)","Active",null,null,null,null,null,null,"9981","Next Year Estimated Payout","9981-Next Year Estimated Payout","Expense",null,"RC4401","RC4401||2600","2600","Deferred Revenue",null,"All",null,9981,"Next Year Estimated Payout","9981-Next Year Estimated Payout","Expense"]
[null,null,null,null,null,null,"AC00139","[LIB] FMA - Publisher Royalty Paymnt","AC00139-[LIB] FMA - Publisher Royalty Paymnt","Activity","FD02","Active","2025-03-17T16:11:50.579797+00:00",null,"SC2130","Sales Tax Payable - Utah","SC2130-Sales Tax Payable - Utah","Spend Category","Active",null,null,"01200","Justin Harper","01200-Justin Harper",null,null,null,"AS018119026","Pamela Rock (018119026) FHSS - School of Family Life","AS018119026-Pamela Rock (018119026) FHSS - School of Family Life","Active",null,null,null,null,null,null,"9990","SFAS 158 Annual Pension Adj","9990-SFAS 158 Annual Pension Adj","Expense",null,"RC4401","RC4401||4400","4400","Sale of Services","Primary","All",null,9990,"SFAS 158 Annual Pension Adj","9990-SFAS 158 Annual Pension Adj","Expense"]
[null,null,null,null,null,null,"AC00143","[LIB] Family History","AC00143-[LIB] Family History","Activity","FD02","Active","2025-03-17T16:11:50.579797+00:00",null,"SC2132","Sales Tax Payable - Other States","SC2132-Sales Tax Payable - Other States","Spend Category","Active",null,null,"01205","Jacob Hickman","01205-Jacob Hickman",null,null,null,"AS018224850","Kathryn Knudsen (018224850) Fine Arts & Communications - Art","AS018224850-Kathryn Knudsen (018224850) Fine Arts & Communications - Art","Active",null,null,null,null,null,null,"9995","Allocation Clearing","9995-Allocation Clearing","Liability",null,"RC4402","RC4402||4400","4400","Sale of Services","Primary","All",null,9995,"Allocation Clearing","9995-Allocation Clearing","Liability"]
[null,null,null,null,null,null,"AC00144","[LIB] Children's Book Rev","AC00144-[LIB] Children's Book Rev","Activity","FD02","Active","2025-03-17T16:11:50.579797+00:00",null,"SC2140","Property Tax Payable","SC2140-Property Tax Payable","Spend Category","Active",null,null,"01230","Doug Prawitt","01230-Doug Prawitt",null,null,null,"AS018283196","Jane Brady (018283196) Humanities - English","AS018283196-Jane Brady (018283196) Humanities - English","Active",null,null,null,null,null,null,"9996","Cash Conversion (Fin Serv Only)","9996-Cash Conversion (Fin Serv Only)","Expense",null,"RC4403","RC4403||4400","4400","Sale of Services","Primary","All",null,9996,"Cash Conversion (Fin Serv Only)","9996-Cash Conversion (Fin Serv Only)","Expense"]
[null,null,null,null,null,null,"AC00146","[LIB] Information Literacy Award","AC00146-[LIB] Information Literacy Award","Activity","FD03","Active","2025-03-17T16:11:50.579797+00:00",null,"SC2150","UBIT Payable","SC2150-UBIT Payable","Spend Category","Active",null,null,"01233","Scott R Braithwaite","01233-Scott R Braithwaite",null,null,null,"AS018372900","Haley Dunkley (018372900) OIT Core -  CES Privacy & Records Mgmt","AS018372900-Haley Dunkley (018372900) OIT Core -  CES Privacy & Records Mgmt","Active",null,null,null,null,null,null,"9997E","Conversion Grant Expense","9997E-Conversion Grant Expense","Expense",null,"RC4404","RC4404||2600","2600","Deferred Revenue",null,"All",null,"9997E","Conversion Grant Expense","9997E-Conversion Grant Expense","Expense"]
[null,null,null,null,null,null,"AC00149","[LIB] Software Training","AC00149-[LIB] Software Training","Activity","FD01","Active","2025-03-17T16:11:50.579797+00:00",null,"SC2160","Other Taxes Payable","SC2160-Other Taxes Payable","Spend Category","Active",null,null,"01238","William Tayler","01238-William Tayler",null,null,null,"AS018408225","Tegwyn Ellingson (018408225) PF Grounds & Landscape Management","AS018408225-Tegwyn Ellingson (018408225) PF Grounds & Landscape Management","Active",null,null,null,null,null,null,"9997R","Conversion Grant Revenue","9997R-Conversion Grant Revenue","Income",null,"RC4404","RC4404||4400","4400","Sale of Services","Primary","All",null,"9997R","Conversion Grant Revenue","9997R-Conversion Grant Revenue","Income"]
[null,null,null,null,null,null,"AC00150","[LIB] Maker Space","AC00150-[LIB] Maker Space","Activity","FD01","Active","2025-03-17T16:11:50.579797+00:00",null,"SC2200","Accrued Liabilities (Conversion Only)","SC2200-Accrued Liabilities (Conversion Only)","Spend Category","Active",null,null,"01246","Petty Cash Broadcasting Expens","01246-Petty Cash Broadcasting Expens",null,null,null,"AS018542884","Melissa Larson (018542884) MSB - School of Accountancy","AS018542884-Melissa Larson (018542884) MSB - School of Accountancy","Active",null,null,null,null,null,null,"9998","Inventory Conversion","9998-Inventory Conversion","Asset",null,"RC4405","RC4405||2600","2600","Deferred Revenue",null,"All",null,9998,"Inventory Conversion","9998-Inventory Conversion","Asset"]
[null,null,null,null,null,null,"AC00151","[LIB] Media Production & Equip. Room","AC00151-[LIB] Media Production & Equip. Room","Activity","FD01","Active","2025-03-17T16:11:50.579797+00:00",null,"SC2300","Deposits Payable","SC2300-Deposits Payable","Spend Category","Active",null,null,"01255","Craig Hart","01255-Craig Hart",null,null,null,"AS018545473","John Adams (018545473) Museum of Art - Financial Support","AS018545473-John Adams (018545473) Museum of Art - Financial Support","Active",null,null,null,null,null,null,"9999","Conversion Grant Receviable","9999-Conversion Grant Receviable","Asset",null,"RC4405","RC4405||4400","4400","Sale of Services","Primary","All",null,9999,"Conversion Grant Receviable","9999-Conversion Grant Receviable","Asset"]
[null,null,null,null,null,null,"AC00152","[LIB] Media Production & Equip. Room","AC00152-[LIB] Media Production & Equip. Room","Activity","FD02","Active","2025-03-17T16:11:50.579797+00:00",null,"SC2400","Annuities Payable","SC2400-Annuities Payable","Spend Category","Active",null,null,"01256","Rebecca Lundwall","01256-Rebecca Lundwall",null,null,null,"AS018613633","Veeren Chengalaram (018613633) Catering Services","AS018613633-Veeren Chengalaram (018613633) Catering Services","Active",null,null,null,null,null,null,null,null,null,null,null,"RC4406","RC4406||2600","2600","Deferred Revenue",null,"All"]
[null,null,null,null,null,null,"AC00154","[LIB] Library Remodeling","AC00154-[LIB] Library Remodeling","Activity","FD01","Active","2025-03-17T16:11:50.579797+00:00",null,"SC2500","Notes Payable","SC2500-Notes Payable","Spend Category","Active",null,null,"01262","Lora Cook","01262-Lora Cook",null,null,null,"AS018757946","Cindy Brewer (018757946) Humanities - German & Russian","AS018757946-Cindy Brewer (018757946) Humanities - German & Russian","Active",null,null,null,null,null,null,null,null,null,null,null,"RC4406","RC4406||4400","4400","Sale of Services","Primary","All"]
[null,null,null,null,null,null,"AC00156","[LIB] Conservation","AC00156-[LIB] Conservation","Activity","FD01","Active","2025-03-20T02:04:12.994064+00:00",null,"SC2510","Notes Payable - Church","SC2510-Notes Payable - Church","Spend Category","Active",null,null,"01264","Richard West","01264-Richard West",null,null,null,"AS018762637","Ransford Sorensen (018762637) PF Moving, Receiving, & Office Furniture","AS018762637-Ransford Sorensen (018762637) PF Moving, Receiving, & Office Furniture","Active",null,null,null,null,null,null,null,null,null,null,null,"RC4407","RC4407||2600","2600","Deferred Revenue",null,"All"]
[null,null,null,null,null,null,"AC00157","[LIB] Collections Mgmt-General","AC00157-[LIB] Collections Mgmt-General","Activity","FD01","Active","2025-03-17T16:11:50.579797+00:00",null,"SC4100","Tuition and Fees Refunds","SC4100-Tuition and Fees Refunds","Spend Category","Active",null,null,"01284","Anton Bowden","01284-Anton Bowden",null,null,null,"AS018943446","Pedro Fernandez (018943446) Culinary Support Center","AS018943446-Pedro Fernandez (018943446) Culinary Support Center","Active",null,null,null,null,null,null,null,null,null,null,null,"RC4407","RC4407||4400","4400","Sale of Services","Primary","All"]
[null,null,null,null,null,null,"AC00158","[LIB] Collections Mgmt-Special","AC00158-[LIB] Collections Mgmt-Special","Activity","FD01","Active","2025-03-17T16:11:50.579797+00:00",null,"SC4901","Cost of Goods Sold","SC4901-Cost of Goods Sold","Spend Category","Active",null,null,"01298","Ben Jenkins","01298-Ben Jenkins",null,null,null,"AS018999930","Kelly Taylor (018999930) OIT Portfolio - Business, Finance, & HR","AS018999930-Kelly Taylor (018999930) OIT Portfolio - Business, Finance, & HR","Active",null,null,null,null,null,null,null,null,null,null,null,"RC4408","RC4408||2600","2600","Deferred Revenue",null,"All"]
[null,null,null,null,null,null,"AC00159","[LIB] Collections Mgmt-Auxiliary","AC00159-[LIB] Collections Mgmt-Auxiliary","Activity","FD01","Active","2025-03-17T16:11:50.579797+00:00",null,"SC4902","Inventory Adjustment","SC4902-Inventory Adjustment","Spend Category","Active",null,null,"01301","Teresa Harper","01301-Teresa Harper",null,null,null,"AS019040568","Greg Zippi (019040568) MSB - Marketing & Global Supply Chain","AS019040568-Greg Zippi (019040568) MSB - Marketing & Global Supply Chain","Active",null,null,null,null,null,null,null,null,null,null,null,"RC4408","RC4408||4400","4400","Sale of Services","Primary","All"]
[null,null,null,null,null,null,"AC00160","[LIB] Interlibrary Loan","AC00160-[LIB] Interlibrary Loan","Activity","FD02","Active","2025-03-17T16:11:50.579797+00:00",null,"SC4903","Freight-In","SC4903-Freight-In","Spend Category","Active",null,null,"01302","Terisa P Gabrielsen","01302-Terisa P Gabrielsen",null,null,null,"AS019164465","Blake Peterson (019164465) CMS - Mathematics Education","AS019164465-Blake Peterson (019164465) CMS - Mathematics Education","Active",null,null,null,null,null,null,null,null,null,null,null,"RC4409","RC4409||2600","2600","Deferred Revenue",null,"All"]
[null,null,null,null,null,null,"AC00162","[LIB] Library Collections","AC00162-[LIB] Library Collections","Activity","FD01","Active","2025-03-17T16:11:50.579797+00:00",null,"SC4904","Purchase Discounts Earned","SC4904-Purchase Discounts Earned","Spend Category","Active",null,null,"01306","Kelly Bready","01306-Kelly Bready",null,null,null,"AS019286404","Becca Hay (019286404) Humanities - English","AS019286404-Becca Hay (019286404) Humanities - English","Active",null,null,null,null,null,null,null,null,null,null,null,"RC4409","RC4409||4400","4400","Sale of Services","Primary","All"]
[null,null,null,null,null,null,"AC00163","[LIB] Monographs","AC00163-[LIB] Monographs","Activity","FD01","Active","2025-03-17T16:11:50.579797+00:00",null,"SC5000","Staff Exempt Salaries","SC5000-Staff Exempt Salaries","Spend Category","Active",null,null,"01307","Marc Killpack","01307-Marc Killpack",null,null,null,"AS019343441","Heidi Engh (019343441) Academic Advisement Center","AS019343441-Heidi Engh (019343441) Academic Advisement Center","Active",null,null,null,null,null,null,null,null,null,null,null,"RC4499","RC4499||2600","2600","Deferred Revenue",null,"All"]
[null,null,null,null,null,null,"AC00164","[LIB] Access Fees","AC00164-[LIB] Access Fees","Activity","FD01","Active","2025-03-17T16:11:50.579797+00:00",null,"SC5009","Staff Exempt Salaries (reclass)","SC5009-Staff Exempt Salaries (reclass)","Spend Category","Active",null,null,"01327","Lance Erickson","01327-Lance Erickson",null,null,null,"AS019488149","Anna Khorenko (019488149) Wilkinson Center","AS019488149-Anna Khorenko (019488149) Wilkinson Center","Active",null,null,null,null,null,null,null,null,null,null,null,"RC4499","RC4499||4400","4400","Sale of Services","Primary","All"]
[null,null,null,null,null,null,"AC00165","[LIB] E-Books","AC00165-[LIB] E-Books","Activity","FD01","Active","2025-03-17T16:11:50.579797+00:00",null,"SC5030","Staff Exempt Salaries (Overload)","SC5030-Staff Exempt Salaries (Overload)","Spend Category","Active",null,null,"01330","Amy Gabbitas","01330-Amy Gabbitas",null,null,null,"AS019681629","Ben Beck (019681629) MSB - Marketing & Global Supply Chain","AS019681629-Ben Beck (019681629) MSB - Marketing & Global Supply Chain","Active",null,null,null,null,null,null,null,null,null,null,null,"RC4501","RC4501||2600","2600","Deferred Revenue",null,"All"]
[null,null,null,null,null,null,"AC00166","[LIB] Spec Coll.-Approval","AC00166-[LIB] Spec Coll.-Approval","Activity","FD01","Active","2025-03-17T16:11:50.579797+00:00",null,"SC5100","Faculty Salaries","SC5100-Faculty Salaries","Spend Category","Active",null,null,"01341","Chien-Ti Lee","01341-Chien-Ti Lee",null,null,null,"AS019738012","Timothy Gubler (019738012) MSB - Management","AS019738012-Timothy Gubler (019738012) MSB - Management","Active",null,null,null,null,null,null,null,null,null,null,null,"RC4501","RC4501||4500","4500","Sale of Goods","Primary","All"]
[null,null,null,null,null,null,"AC00167","[LIB] Spec. Coll.-Standing Order","AC00167-[LIB] Spec. Coll.-Standing Order","Activity","FD01","Active","2025-03-17T16:11:50.579797+00:00",null,"SC5109","Faculty Salaries (reclass)","SC5109-Faculty Salaries (reclass)","Spend Category","Active",null,null,"01344","Daniel Kay","01344-Daniel Kay",null,null,null,"AS019844751","Steve Driggs (019844751) Fine Arts & Communications - School of Communications","AS019844751-Steve Driggs (019844751) Fine Arts & Communications - School of Communications","Active",null,null,null,null,null,null,null,null,null,null,null,"RC4502","RC4502||2600","2600","Deferred Revenue",null,"All"]
[null,null,null,null,null,null,"AC00168","[LIB] Databases One-Time","AC00168-[LIB] Databases One-Time","Activity","FD01","Active","2025-03-17T16:11:50.579797+00:00",null,"SC5120","Faculty Spring Summer Salaries","SC5120-Faculty Spring Summer Salaries","Spend Category","Active",null,null,"01346","Scott Sanders","01346-Scott Sanders",null,null,null,"AS019877473","Jonathan Pike (019877473) Wheatley Institute - Student Programs","AS019877473-Jonathan Pike (019877473) Wheatley Institute - Student Programs","Active",null,null,null,null,null,null,null,null,null,null,null,"RC4502","RC4502||4500","4500","Sale of Goods","Primary","All"]
[null,null,null,null,null,null,"AC00169","[LIB] Databases","AC00169-[LIB] Databases","Activity","FD01","Active","2025-03-17T16:11:50.579797+00:00",null,"SC5130","Faculty Salaries (Supplemental/Overload)","SC5130-Faculty Salaries (Supplemental/Overload)","Spend Category","Active",null,null,"01354","Aaron Miller","01354-Aaron Miller",null,null,null,"AS019877600","Brandt Redd (019877600) College of Engineering - Electrical & Computer Engineering","AS019877600-Brandt Redd (019877600) College of Engineering - Electrical & Computer Engineering","Active",null,null,null,null,null,null,null,null,null,null,null,"RC4503","RC4503||2600","2600","Deferred Revenue",null,"All"]
[null,null,null,null,null,null,"AC00170","[LIB] Commercial Binding/Travel","AC00170-[LIB] Commercial Binding/Travel","Activity","FD01","Active","2025-03-17T16:11:50.579797+00:00",null,"SC5190","Post Doc Research Associate","SC5190-Post Doc Research Associate","Spend Category","Active",null,null,"01356","Alexis Davis","01356-Alexis Davis",null,null,null,"AS019967479","Laura Hinton (019967479) Registrar's Office","AS019967479-Laura Hinton (019967479) Registrar's Office","Active",null,null,null,null,null,null,null,null,null,null,null,"RC4503","RC4503||4500","4500","Sale of Goods","Primary","All"]
[null,null,null,null,null,null,"AC00171","[LIB] Approval","AC00171-[LIB] Approval","Activity","FD01","Active","2025-03-17T16:11:50.579797+00:00",null,"SC5300","Faculty Adjunct Salaries","SC5300-Faculty Adjunct Salaries","Spend Category","Active",null,null,"01357","Shiegrid Hernandez","01357-Shiegrid Hernandez",null,null,null,"AS019990215","Rachel Friel (019990215) Athletics - Men's and Women's Swimming","AS019990215-Rachel Friel (019990215) Athletics - Men's and Women's Swimming","Active",null,null,null,null,null,null,null,null,null,null,null,"RC4504","RC4504||2600","2600","Deferred Revenue",null,"All"]
[null,null,null,null,null,null,"AC00172","[LIB] Serials-Print","AC00172-[LIB] Serials-Print","Activity","FD01","Active","2025-03-17T16:11:50.579797+00:00",null,"SC5309","Faculty Adjunct Salaries (reclass)","SC5309-Faculty Adjunct Salaries (reclass)","Spend Category","Active",null,null,"01359","Karla Ward","01359-Karla Ward",null,null,null,"AS020236009","Rick Johnson (020236009) Office of Research Computing","AS020236009-Rick Johnson (020236009) Office of Research Computing","Active",null,null,null,null,null,null,null,null,null,null,null,"RC4504","RC4504||4500","4500","Sale of Goods","Primary","All"]
[null,null,null,null,null,null,"AC00173","[LIB] Serials-Electronic","AC00173-[LIB] Serials-Electronic","Activity","FD01","Active","2025-03-17T16:11:50.579797+00:00",null,"SC5320","Faculty Adjunct Salaries - Part Benefits","SC5320-Faculty Adjunct Salaries - Part Benefits","Spend Category","Active",null,null,"01364","Christensen, McKay Scienc Fair","01364-Christensen, McKay Scienc Fair",null,null,null,"AS020370344","Melissa Puente (020370344) BYU Broadcasting - Producers Group","AS020370344-Melissa Puente (020370344) BYU Broadcasting - Producers Group","Active",null,null,null,null,null,null,null,null,null,null,null,"RC4505","RC4505||2600","2600","Deferred Revenue",null,"All"]
[null,null,null,null,null,null,"AC00174","[LIB] Memberships","AC00174-[LIB] Memberships","Activity","FD01","Active","2025-03-17T16:11:50.579797+00:00",null,"SC5400","Staff Non-Exempt Wages","SC5400-Staff Non-Exempt Wages","Spend Category","Active",null,null,"01366","Craig Hart/Toronto, FHSS","01366-Craig Hart/Toronto, FHSS",null,null,null,"AS020525807","Bonnie Anderson (020525807) AVP - Dean, Marriott School of Business (MSB)","AS020525807-Bonnie Anderson (020525807) AVP - Dean, Marriott School of Business (MSB)","Active",null,null,null,null,null,null,null,null,null,null,null,"RC4505","RC4505||4500","4500","Sale of Goods","Primary","All"]
[null,null,null,null,null,null,"AC00175","[LIB] Standing Order - Open","AC00175-[LIB] Standing Order - Open","Activity","FD01","Active","2025-03-17T16:11:50.579797+00:00",null,"SC5409","Staff Non-Exempt Wages (reclass)","SC5409-Staff Non-Exempt Wages (reclass)","Spend Category","Active",null,null,"01367","Sherina Saasa","01367-Sherina Saasa",null,null,null,"AS020644133","Mike Montague (020644133) PF Building Operations","AS020644133-Mike Montague (020644133) PF Building Operations","Active",null,null,null,null,null,null,null,null,null,null,null,"RC4506","RC4506||2600","2600","Deferred Revenue",null,"All"]
[null,null,null,null,null,null,"AC00176","[LIB] Coll. Dev.-Strategic","AC00176-[LIB] Coll. Dev.-Strategic","Activity","FD01","Active","2025-03-17T16:11:50.579797+00:00",null,"SC5430","Staff Non-Exempt Wages (Overtime/Premium)","SC5430-Staff Non-Exempt Wages (Overtime/Premium)","Spend Category","Active",null,null,"01368","Michael J Larson, FHSS-Psychol","01368-Michael J Larson, FHSS-Psychol",null,null,null,"AS020830771","Christopher Blythe (020830771) Humanities - English","AS020830771-Christopher Blythe (020830771) Humanities - English","Active",null,null,null,null,null,null,null,null,null,null,null,"RC4506","RC4506||4500","4500","Sale of Goods","Primary","All"]
[null,null,null,null,null,null,"AC00177","[LIB] CCLA One-Time","AC00177-[LIB] CCLA One-Time","Activity","FD01","Active","2025-03-17T16:11:50.579797+00:00",null,"SC5500","Student Contract Salaries","SC5500-Student Contract Salaries","Spend Category","Active",null,null,"01369","Rich Christianson","01369-Rich Christianson",null,null,null,"AS021068280","Alana Tilley (021068280) BYU Broadcasting - Unit Production Manager Group","AS021068280-Alana Tilley (021068280) BYU Broadcasting - Unit Production Manager Group","Active",null,null,null,null,null,null,null,null,null,null,null,"RC4507","RC4507||2600","2600","Deferred Revenue",null,"All"]
[null,null,null,null,null,null,"AC00178","[LIB] CES Shared Resources","AC00178-[LIB] CES Shared Resources","Activity","FD01","Active","2025-03-17T16:11:50.579797+00:00",null,"SC5502","Student Contract Salaries-FICA","SC5502-Student Contract Salaries-FICA","Spend Category","Active",null,null,"01370","Melissa Kagi","01370-Melissa Kagi",null,null,null,"AS021468034","Erika Price (021468034) BYU Broadcasting - BYU Radio","AS021468034-Erika Price (021468034) BYU Broadcasting - BYU Radio","Active",null,null,null,null,null,null,null,null,null,null,null,"RC4507","RC4507||4500","4500","Sale of Goods","Primary","All"]
[null,null,null,null,null,null,"AC00179","[LIB] Journal Packages","AC00179-[LIB] Journal Packages","Activity","FD01","Active","2025-03-17T16:11:50.579797+00:00",null,"SC5509","Student Contract Salaries (reclass)","SC5509-Student Contract Salaries (reclass)","Spend Category","Active",null,null,"01371","Sherinah Saasa","01371-Sherinah Saasa",null,null,null,"AS021523180","Bruce Patrick (021523180) Brand & Creative","AS021523180-Bruce Patrick (021523180) Brand & Creative","Active",null,null,null,null,null,null,null,null,null,null,null,"RC4599","RC4599||2600","2600","Deferred Revenue",null,"All"]
[null,null,null,null,null,null,"AC00180","[LIB] Open Access","AC00180-[LIB] Open Access","Activity","FD01","Active","2025-03-17T16:11:50.579797+00:00",null,"SC5600","Student Hourly Wages","SC5600-Student Hourly Wages","Spend Category","Active",null,null,"01D20","Campus Network Modernization","01D20-Campus Network Modernization",null,null,null,"AS021557994","Preston Manwaring (021557994) College of Engineering - Electrical & Computer Engineering","AS021557994-Preston Manwaring (021557994) College of Engineering - Electrical & Computer Engineering","Active",null,null,null,null,null,null,null,null,null,null,null,"RC4599","RC4599||4500","4500","Sale of Goods","Primary","All"]
[null,null,null,null,null,null,"AC00181","[LIB] Book Replacement","AC00181-[LIB] Book Replacement","Activity","FD02","Active","2025-03-17T16:11:50.579797+00:00",null,"SC5602","Student Hourly Wages-FICA","SC5602-Student Hourly Wages-FICA","Spend Category","Active",null,null,"01D21","Campus Network Modernization","01D21-Campus Network Modernization",null,null,null,"AS021718504","John Newman (021718504) Executive Chef","AS021718504-John Newman (021718504) Executive Chef","Active",null,null,null,null,null,null,null,null,null,null,null,"RC4701","RC4701||4700","4700","Other Income","Primary","All"]
[null,null,null,null,null,null,"AC00183","[REL] Prof Develop  Leave","AC00183-[REL] Prof Develop  Leave","Activity","FD01","Active","2025-03-17T16:11:50.579797+00:00",null,"SC5609","Student Hourly Wages (Reclass)","SC5609-Student Hourly Wages (Reclass)","Spend Category","Active",null,null,"02D20","Hybrid Classrooms","02D20-Hybrid Classrooms",null,null,null,"AS021766623","Nate Pototschnik (021766623) Athletics - Football Sport Performance","AS021766623-Nate Pototschnik (021766623) Athletics - Football Sport Performance","Active",null,null,null,null,null,null,null,null,null,null,null,"RC4702","RC4702||4700","4700","Other Income","Primary","All"]
[null,null,null,null,null,null,"AC00184","[REL] Univ Research Support","AC00184-[REL] Univ Research Support","Activity","FD01","Active","2025-03-17T16:11:50.579797+00:00",null,"SC5700","Part-time Wages - No Benefits","SC5700-Part-time Wages - No Benefits","Spend Category","Active",null,null,"02D21","CES Network Modernization","02D21-CES Network Modernization",null,null,null,"AS021769172","Andrew Roberts (021769172) Humanities Advisement & Careers","AS021769172-Andrew Roberts (021769172) Humanities Advisement & Careers","Active",null,null,null,null,null,null,null,null,null,null,null,"RC4703","RC4703||4700","4700","Other Income","Primary","All"]
[null,null,null,null,null,null,"AC00185","[REL] R L Evans Chair","AC00185-[REL] R L Evans Chair","Activity","FD01","Active","2025-03-17T16:11:50.579797+00:00",null,"SC5709","Part-time Wages (reclass)","SC5709-Part-time Wages (reclass)","Spend Category","Active",null,null,"03D20","Network Security Framework","03D20-Network Security Framework",null,null,null,"AS022295621","Jared Parrotti (022295621) PF Central Heating Plant","AS022295621-Jared Parrotti (022295621) PF Central Heating Plant","Active",null,null,null,null,null,null,null,null,null,null,null,"RC4704","RC4704||2600","2600","Deferred Revenue",null,"All"]
[null,null,null,null,null,null,"AC00186","[REL] Religious Ed Graduate Support","AC00186-[REL] Religious Ed Graduate Support","Activity","FD01","Active","2025-03-17T16:11:50.579797+00:00",null,"SC5730","Part-time Wages - Part Benefits","SC5730-Part-time Wages - Part Benefits","Spend Category","Active",null,null,"05CON","ITS Contingency","05CON-ITS Contingency",null,null,null,"AS022317019","Terryl Givens (022317019) Neal A. Maxwell Institute","AS022317019-Terryl Givens (022317019) Neal A. Maxwell Institute","Active",null,null,null,null,null,null,null,null,null,null,null,"RC4704","RC4704||4700","4700","Other Income","Primary","All"]
[null,null,null,null,null,null,"AC00187","[REL] Faculty Resource Center","AC00187-[REL] Faculty Resource Center","Activity","FD01","Active","2025-03-17T16:11:50.579797+00:00",null,"SC5800","Taxable Payroll Additions","SC5800-Taxable Payroll Additions","Spend Category","Active",null,null,"05D16","Classroom Technology Moderniza","05D16-Classroom Technology Moderniza",null,null,null,"AS022417354","Sherilyn Farnes (022417354) Religious Education - Church History & Doctrine","AS022417354-Sherilyn Farnes (022417354) Religious Education - Church History & Doctrine","Active",null,null,null,null,null,null,null,null,null,null,null,"RC4705","RC4705||4700","4700","Other Income","Primary","All"]
[null,null,null,null,null,null,"AC00188","[REL] Associate Dean - Teaching","AC00188-[REL] Associate Dean - Teaching","Activity","FD01","Active","2025-03-17T16:11:50.579797+00:00",null,"SC5860","Moving Reimbursement","SC5860-Moving Reimbursement","Spend Category","Active",null,null,"05D19","Class Technology Modernization","05D19-Class Technology Modernization",null,null,null,"AS022826946","Kierica McPherson (022826946) Fine Arts & Communications - Dance","AS022826946-Kierica McPherson (022826946) Fine Arts & Communications - Dance","Active",null,null,null,null,null,null,null,null,null,null,null,"RC4706","RC4706||4700","4700","Other Income","Primary","All"]
[null,null,null,null,null,null,"AC00189","[REL] Associate Dean - Scholarship/Research","AC00189-[REL] Associate Dean - Scholarship/Research","Activity","FD01","Active","2025-03-17T16:11:50.579797+00:00",null,"SC5890","Project Labor Cost","SC5890-Project Labor Cost","Spend Category","Active",null,null,"05D20","Classroom Technology Moderniza","05D20-Classroom Technology Moderniza",null,null,null,"AS022937338","Albert Tay (022937338) College of Engineering - Electrical & Computer Engineering","AS022937338-Albert Tay (022937338) College of Engineering - Electrical & Computer Engineering","Active",null,null,null,null,null,null,null,null,null,null,null,"RC4707","RC4707||4700","4700","Other Income","Primary","All"]
[null,null,null,null,null,null,"AC00190","[REL] Technology Support","AC00190-[REL] Technology Support","Activity","FD01","Active","2025-03-17T16:11:50.579797+00:00",null,"SC5891","Project Labor Cost Recovery","SC5891-Project Labor Cost Recovery","Spend Category","Active",null,null,"05D21","Classroom Technology Moderniz","05D21-Classroom Technology Moderniz",null,null,null,"AS022988593","Osiris Buelvas Morelos (022988593) PF Building Operations","AS022988593-Osiris Buelvas Morelos (022988593) PF Building Operations","Active",null,null,null,null,null,null,null,null,null,null,null,"RC4708","RC4708||4700","4700","Other Income","Primary","All"]
[null,null,null,null,null,null,"AC00191","[REL] Appropriated NonStudent Suppor","AC00191-[REL] Appropriated NonStudent Suppor","Activity","FD01","Active","2025-03-17T16:11:50.579797+00:00",null,"SC5892","Project Labor Cost Non-Capital","SC5892-Project Labor Cost Non-Capital","Spend Category","Active",null,null,"06D18","Production/Theatrical Tech","06D18-Production/Theatrical Tech",null,null,null,"AS023224089","Scott Lee (023224089) Dining Administration","AS023224089-Scott Lee (023224089) Dining Administration","Active",null,null,null,null,null,null,null,null,null,null,null,"RC4709","RC4709||4700","4700","Other Income","Primary","All"]
[null,null,null,null,null,null,"AC00192","[REL] Interfaith Engagement (RO)","AC00192-[REL] Interfaith Engagement (RO)","Activity","FD01","Active","2025-03-17T16:11:50.579797+00:00",null,"SC5893","Project Labor Cost Non-Capital Recovery","SC5893-Project Labor Cost Non-Capital Recovery","Spend Category","Active",null,null,"06D20","Production/Theatrical Tech","06D20-Production/Theatrical Tech",null,null,null,"AS023225392","Preston Back (023225392) Indefinite Leaves","AS023225392-Preston Back (023225392) Indefinite Leaves","Active",null,null,null,null,null,null,null,null,null,null,null,"RC4710","RC4710||4700","4700","Other Income","Primary","All"]
[null,null,null,null,null,null,"AC00193","[REL] RSC Endowment Appropriation","AC00193-[REL] RSC Endowment Appropriation","Activity","FD01","Active","2025-03-17T16:11:50.579797+00:00",null,"SC5899","Taxable Payroll Additions (reclass)","SC5899-Taxable Payroll Additions (reclass)","Spend Category","Active",null,null,"06D21","Production/Theatrical Tech","06D21-Production/Theatrical Tech",null,null,null,"AS023429296","Kristene Gillum (023429296) Retail Services - General Administration","AS023429296-Kristene Gillum (023429296) Retail Services - General Administration","Active",null,null,null,null,null,null,null,null,null,null,null,"RC4711","RC4711||4700","4700","Other Income","Primary","JE_Gift|JE_Override"]
[null,null,null,null,null,null,"AC00194","[REL] Gospel Sch Media Appropriation","AC00194-[REL] Gospel Sch Media Appropriation","Activity","FD01","Active","2025-03-17T16:11:50.579797+00:00",null,"SC5900","Staff Exempt Benefits","SC5900-Staff Exempt Benefits","Spend Category","Active",null,null,"079T3","JRCB WIRELESS  464-517 19322","079T3-JRCB WIRELESS  464-517 19322",null,null,null,"AS023653877","Brian Blumer (023653877) AVP - Dean, College of Engineering","AS023653877-Brian Blumer (023653877) AVP - Dean, College of Engineering","Active",null,null,null,null,null,null,null,null,null,null,null,"RC4712","RC4712||4700","4700","Other Income","Primary","JE_Override"]
[null,null,null,null,null,null,"AC00195","[REL] Inspiring Learning Appropriati","AC00195-[REL] Inspiring Learning Appropriati","Activity","FD01","Active","2025-03-17T16:11:50.579797+00:00",null,"SC5910","Faculty Benefits","SC5910-Faculty Benefits","Spend Category","Active",null,null,"07D20","AV Cable Plant Infrastucture","07D20-AV Cable Plant Infrastucture",null,null,null,"AS023754042","Korianne Johnson (023754042) Fine Arts & Communications - School of Music","AS023754042-Korianne Johnson (023754042) Fine Arts & Communications - School of Music","Active",null,null,null,null,null,null,null,null,null,null,null,"RC4713","RC4713||4700","4700","Other Income","Primary","JE_PPE|JE_Override"]
[null,null,null,null,null,null,"AC00196","[REL] RELED Grad Programs","AC00196-[REL] RELED Grad Programs","Activity","FD01","Active","2025-03-17T16:11:50.579797+00:00",null,"SC5930","Faculty Adjunct Benefits","SC5930-Faculty Adjunct Benefits","Spend Category","Active",null,null,"08D20","Life Safety Comm Systems","08D20-Life Safety Comm Systems",null,null,null,"AS023771842","Jennifer Benson (023771842) College of Nursing","AS023771842-Jennifer Benson (023771842) College of Nursing","Active",null,null,null,null,null,null,null,null,null,null,null,"RC4714","RC4714||4700","4700","Other Income","Primary","All"]
[null,null,null,null,null,null,"AC00197","[REL] Ugrad Mentoring Block Grants","AC00197-[REL] Ugrad Mentoring Block Grants","Activity","FD01","Active","2025-03-17T16:11:50.579797+00:00",null,"SC5940","Staff Non-Exempt Benefits","SC5940-Staff Non-Exempt Benefits","Spend Category","Active",null,null,"08D21","Life Safety Comm Systems","08D21-Life Safety Comm Systems",null,null,null,"AS023915470","Hiroko Tsuiki (023915470) Humanities - Asian & Near Eastern Languages","AS023915470-Hiroko Tsuiki (023915470) Humanities - Asian & Near Eastern Languages","Active",null,null,null,null,null,null,null,null,null,null,null,"RC4715","RC4715||4700","4700","Other Income","Primary","JE_Override"]
[null,null,null,null,null,null,"AC00198","[REL] Interfaith Club","AC00198-[REL] Interfaith Club","Activity","FD02","Active","2025-03-17T16:11:50.579797+00:00",null,"SC5950","Student Benefits","SC5950-Student Benefits","Spend Category","Active",null,null,"09015","Zions Bank Escrow Haz","09015-Zions Bank Escrow Haz",null,null,null,"AS024217202","Jose Salmeron (024217202) PMPC Administration","AS024217202-Jose Salmeron (024217202) PMPC Administration","Active",null,null,null,null,null,null,null,null,null,null,null,"RC4716","RC4716||4700","4700","Other Income","Primary","JE_Override"]
[null,null,null,null,null,null,"AC00199","[REL] Conference Travel Grants","AC00199-[REL] Conference Travel Grants","Activity","FD03","Active","2025-03-17T16:11:50.579797+00:00",null,"SC5970","Part-time Benefits","SC5970-Part-time Benefits","Spend Category","Active",null,null,"09020","Receipts-Transact Extracts","09020-Receipts-Transact Extracts",null,null,null,"AS024233410","Jake Peterson (024233410) BYU Broadcasting - Unit Production Manager Group","AS024233410-Jake Peterson (024233410) BYU Broadcasting - Unit Production Manager Group","Active",null,null,null,null,null,null,null,null,null,null,null,"RC4717","RC4717||4700","4700","Other Income","Primary","All"]
[null,null,null,null,null,null,"AC00200","[REL] RSC Grant Reserve","AC00200-[REL] RSC Grant Reserve","Activity","FD03","Active","2025-03-17T16:11:50.579797+00:00",null,"SC5990","Other Local/State Payroll Tax","SC5990-Other Local/State Payroll Tax","Spend Category","Active",null,null,"09021","Receipts-Pay My Tuition","09021-Receipts-Pay My Tuition",null,null,null,"AS024253975","Kathryn Blair (024253975) AVP - Dean, Clark Law School","AS024253975-Kathryn Blair (024253975) AVP - Dean, Clark Law School","Active",null,null,null,null,null,null,null,null,null,null,null,"RC4799","RC4799||4700","4700","Other Income","Primary","All"]
[null,null,null,null,null,null,"AC00201","[REL] Faculty-Student Mentoring","AC00201-[REL] Faculty-Student Mentoring","Activity","FD03","Active","2025-03-17T16:11:50.579797+00:00",null,"SC5995","University Benefits-Payments","SC5995-University Benefits-Payments","Spend Category","Active",null,null,"09022","CIBC","09022-CIBC",null,null,null,"AS024362791","James Gaskin (024362791) MSB - Information Systems","AS024362791-James Gaskin (024362791) MSB - Information Systems","Active",null,null,null,null,null,null,null,null,null,null,null,"RC4800","RC4800||4800","4800","Intra-Division Sales","Primary","All"]
[null,null,null,null,null,null,"AC00202","[REL] RELED Research Royalties","AC00202-[REL] RELED Research Royalties","Activity","FD03","Active","2025-03-17T16:11:50.579797+00:00",null,"SC5998","FICA Clearing (Payroll System Only)","SC5998-FICA Clearing (Payroll System Only)","Spend Category","Active",null,null,"09025","Receipts-On Campus POS","09025-Receipts-On Campus POS",null,null,null,"AS024539682","Chitral Chatterjee (024539682) CMS - Chemistry and Biochemistry","AS024539682-Chitral Chatterjee (024539682) CMS - Chemistry and Biochemistry","Active",null,null,null,null,null,null,null,null,null,null,null,"RC4850","RC4850||4850","4850","Intra-Division Purchases","Primary","All"]
[null,null,null,null,null,null,"AC00203","[REL] Religious Outreach","AC00203-[REL] Religious Outreach","Activity","FD03","Active","2025-03-17T16:11:50.579797+00:00",null,"SC5999","Benefits (reclass)","SC5999-Benefits (reclass)","Spend Category","Active",null,null,"09026","Receipts- Std Aux Svcs- Check","09026-Receipts- Std Aux Svcs- Check",null,null,null,"AS024690920","Amy Easton-Flake (024690920) Religious Education - Ancient Scripture","AS024690920-Amy Easton-Flake (024690920) Religious Education - Ancient Scripture","Active",null,null,null,null,null,null,null,null,null,null,null,"RC4890","RC4890||4890","4890","Release of Restrictions","Primary","JE_Gift|JE_Override"]
[null,null,null,null,null,null,"AC00204","[REL] Experiential Learning","AC00204-[REL] Experiential Learning","Activity","FD03","Active","2025-03-17T16:11:50.579797+00:00",null,"SC6101","Animal Supplies","SC6101-Animal Supplies","Spend Category","Active",null,null,"09030","Receipts-BYU Bookstore","09030-Receipts-BYU Bookstore",null,null,null,"AS025101628","Corbin Emerick (025101628) Research Accounting","AS025101628-Corbin Emerick (025101628) Research Accounting","Active",null,null,null,null,null,null,null,null,null,null,null,"RC4891","RC4891||4890","4890","Release of Restrictions","Primary","JE_Gift|JE_Override"]
[null,null,null,null,null,null,"AC00205","[REL] REL ED Sunshine Fund","AC00205-[REL] REL ED Sunshine Fund","Activity","FD07","Active","2025-03-17T16:11:50.579797+00:00",null,"SC6102","Animals","SC6102-Animals","Spend Category","Active",null,null,"09035","Receipts-Marriott Center","09035-Receipts-Marriott Center",null,null,null,"AS025162505","David Wiseman (025162505) Humanities - Spanish & Portuguese","AS025162505-David Wiseman (025162505) Humanities - Spanish & Portuguese","Active",null,null,null,null,null,null,null,null,null,null,null,"RC4892","RC4892||4890","4890","Release of Restrictions","Primary","JE_Gift|JE_Override"]
[null,null,null,null,null,null,"AC00206","[REL] Egyptian Dig","AC00206-[REL] Egyptian Dig","Activity","FD01","Active","2025-03-17T16:11:50.579797+00:00",null,"SC6103","Art","SC6103-Art","Spend Category","Active",null,null,"09040","Receipts-Print Services","09040-Receipts-Print Services",null,null,null,"AS025183689","Sophie Stanley (025183689) Fine Arts & Communications - School of Music","AS025183689-Sophie Stanley (025183689) Fine Arts & Communications - School of Music","Active",null,null,null,null,null,null,null,null,null,null,null,"RC4893","RC4893||4890","4890","Release of Restrictions","Primary","JE_Gift|JE_Override"]
[null,null,null,null,null,null,"AC00208","[AVP] RSC NonReligion Faculty Awards","AC00208-[AVP] RSC NonReligion Faculty Awards","Activity","FD01","Active","2025-03-17T16:11:50.579797+00:00",null,"SC6104","Art Supplies","SC6104-Art Supplies","Spend Category","Active",null,null,"09045","Receipts-BYU Broadcasting","09045-Receipts-BYU Broadcasting",null,null,null,"AS025187751","Jeanice Woodbrey (025187751) Fine Arts & Communications - School of Music","AS025187751-Jeanice Woodbrey (025187751) Fine Arts & Communications - School of Music","Active",null,null,null,null,null,null,null,null,null,null,null,"RC6402","RC6402||6400","6400","General and Administrative","Primary","All"]
[null,null,null,null,null,null,"AC00209","[AVP] The Religious Educator","AC00209-[AVP] The Religious Educator","Activity","FD02","Active","2025-03-17T16:11:50.579797+00:00",null,"SC6105","Athletic Supplies","SC6105-Athletic Supplies","Spend Category","Active",null,null,"09050","Receipts-Continuing Ed","09050-Receipts-Continuing Ed",null,null,null,"AS025389540","Jared Wilkey (025389540) Culinary Support Center","AS025389540-Jared Wilkey (025389540) Culinary Support Center","Active",null,null,null,null,null,null,null,null,null,null,null,"RC6403","RC6403||6400","6400","General and Administrative","Primary","All"]
[null,null,null,null,null,null,"AC00210","[AVP] RSC Publications","AC00210-[AVP] RSC Publications","Activity","FD02","Active","2025-03-17T16:11:50.579797+00:00",null,"SC6106","Audio Visual Supplies","SC6106-Audio Visual Supplies","Spend Category","Active",null,null,"09055","Receipts-Aspen Grove","09055-Receipts-Aspen Grove",null,null,null,"AS025510924","Jeff Hill (025510924) College of Engineering - Mechanical Engineering","AS025510924-Jeff Hill (025510924) College of Engineering - Mechanical Engineering","Active",null,null,null,null,null,null,null,null,null,null,null,"SC0101","SC0101||0100","0100","Budget Carryover/Unallocated","Budget_Only","JE_Override"]
[null,null,null,null,null,null,"AC00212","[REL] Rel Educ Student Computer Lab","AC00212-[REL] Rel Educ Student Computer Lab","Activity","FD01","Active","2025-03-17T16:11:50.579797+00:00",null,"SC6107","Clothing","SC6107-Clothing","Spend Category","Active",null,null,"09060","Receipts-Student Health Ctr","09060-Receipts-Student Health Ctr",null,null,null,"AS025583430","Douglas Walker (025583430) Dining Finance","AS025583430-Douglas Walker (025583430) Dining Finance","Active",null,null,null,null,null,null,null,null,null,null,null,"SC0102","SC0102||0100","0100","Budget Carryover/Unallocated","Budget_Only","JE_Override"]
[null,null,null,null,null,null,"AC00213","[REL] CHTS Admin","AC00213-[REL] CHTS Admin","Activity","FD01","Active","2025-03-17T16:11:50.579797+00:00",null,"SC6108","Data Network Supplies","SC6108-Data Network Supplies","Spend Category","Active",null,null,"09065","Receipts-BYU Sales (Treasury)","09065-Receipts-BYU Sales (Treasury)",null,null,null,"AS025690788","Danae Hamilton-Whitcomb (025690788) Research Accounting","AS025690788-Danae Hamilton-Whitcomb (025690788) Research Accounting","Active",null,null,null,null,null,null,null,null,null,null,null,"SC0103","SC0103||0100","0100","Budget Carryover/Unallocated","Budget_Only","JE_Override"]
[null,null,null,null,null,null,"AC00214","[REL] Stance for the Family","AC00214-[REL] Stance for the Family","Activity","FD02","Active","2025-03-17T16:11:50.579797+00:00",null,"SC6109","Floral Supplies","SC6109-Floral Supplies","Spend Category","Active",null,null,"09070","Receipts-Dining Services","09070-Receipts-Dining Services",null,null,null,"AS025767806","Peter Gardner (025767806) Brand & Creative","AS025767806-Peter Gardner (025767806) Brand & Creative","Active",null,null,null,null,null,null,null,null,null,null,null,"SC0104","SC0104||0100","0100","Budget Carryover/Unallocated","Budget_Only","JE_Override"]
[null,null,null,null,null,null,"AC00215","[REL] Foundations of Faith","AC00215-[REL] Foundations of Faith","Activity","FD03","Active","2025-03-17T16:11:50.579797+00:00",null,"SC6110","Food and Beverages","SC6110-Food and Beverages","Spend Category","Active",null,null,"09075","Receipts-Campus Life","09075-Receipts-Campus Life",null,null,null,"AS025827379","Brian Olson (025827379) Fine Arts & Communications - Theatre & Media Arts","AS025827379-Brian Olson (025827379) Fine Arts & Communications - Theatre & Media Arts","Active",null,null,null,null,null,null,null,null,null,null,null,"SC0610","SC0610||6100","6100","Materials and Supplies","Budget_Only","JE_Override"]
[null,null,null,null,null,null,"AC00217","[FHSS] Research Support","AC00217-[FHSS] Research Support","Activity","FD01","Active","2025-03-17T16:11:50.579797+00:00",null,"SC6111","Food Service Disposables","SC6111-Food Service Disposables","Spend Category","Active",null,null,"09080","Receipts-Alumni","09080-Receipts-Alumni",null,null,null,"AS026056907","Tracy Nuttall (026056907) Law School","AS026056907-Tracy Nuttall (026056907) Law School","Active",null,null,null,null,null,null,null,null,null,null,null,"SC0630","SC0630||6300","6300","Student Aid","Budget_Only","JE_Override"]
[null,null,null,null,null,null,"AC00218","[FHSS] FHSS Advisement Center","AC00218-[FHSS] FHSS Advisement Center","Activity","FD01","Active","2025-03-17T16:11:50.579797+00:00",null,"SC6112","Food Service Supplies","SC6112-Food Service Supplies","Spend Category","Active",null,null,"09085","Receipts-PERSS","09085-Receipts-PERSS",null,null,null,"AS026277052","Eric Blum (026277052) MSB - Public Service & Ethics","AS026277052-Eric Blum (026277052) MSB - Public Service & Ethics","Active",null,null,null,null,null,null,null,null,null,null,null,"SC0640","SC0640||6400","6400","General and Administrative","Budget_Only","JE_Override"]
[null,null,null,null,null,null,"AC00219","[FHSS] FHSS Computing Services","AC00219-[FHSS] FHSS Computing Services","Activity","FD01","Active","2025-03-17T16:11:50.579797+00:00",null,"SC6113","Fuel","SC6113-Fuel","Spend Category","Active",null,null,"09090","Receipts-Cougar Club","09090-Receipts-Cougar Club",null,null,null,"AS026423163","Andrea Richards (026423163) Dining Finance","AS026423163-Andrea Richards (026423163) Dining Finance","Active",null,null,null,null,null,null,null,null,null,null,null,"SC0670","SC0670||6700","6700","Physical Facilities","Budget_Only","JE_Override"]
[null,null,null,null,null,null,"AC00220","[FHSS] FHSS Writing Lab","AC00220-[FHSS] FHSS Writing Lab","Activity","FD01","Active","2025-03-17T16:11:50.579797+00:00",null,"SC6114","Hazardous Chemicals","SC6114-Hazardous Chemicals","Spend Category","Active",null,null,"09095","Receipts-BYU Music Group","09095-Receipts-BYU Music Group",null,null,null,"AS026563312","Sarah Warcup","AS026563312-Sarah Warcup","Active",null,null,null,null,null,null,null,null,null,null,null,"SC0691","SC0691||6900","6900","Equipment, Software, Library","Budget_Only","JE_Override"]
[null,null,null,null,null,null,"AC00221","[FHSS] MRI Facility Operations","AC00221-[FHSS] MRI Facility Operations","Activity","FD01","Active","2025-03-17T16:11:50.579797+00:00",null,"SC6115","Janitorial Supplies","SC6115-Janitorial Supplies","Spend Category","Active",null,null,"09100","Receipts-Outdoors Unlimited","09100-Receipts-Outdoors Unlimited",null,null,null,"AS026681880","Kevin Worthen (026681880) AVP - Dean, Clark Law School","AS026681880-Kevin Worthen (026681880) AVP - Dean, Clark Law School","Active",null,null,null,null,null,null,null,null,null,null,null,"SC0692","SC0692||6900","6900","Equipment, Software, Library","Budget_Only","JE_Override"]
[null,null,null,null,null,null,"AC00222","[FHSS] FHSS Belonging and Diversity","AC00222-[FHSS] FHSS Belonging and Diversity","Activity","FD01","Active","2025-03-17T16:11:50.579797+00:00",null,"SC6116","Laundry Supplies","SC6116-Laundry Supplies","Spend Category","Active",null,null,"09115","Receipts-Marriott School","09115-Receipts-Marriott School",null,null,null,"AS026743714","Jessica Harrison (026743714) MSE - Communication Disorders","AS026743714-Jessica Harrison (026743714) MSE - Communication Disorders","Active",null,null,null,null,null,null,null,null,null,null,null,"SC0693","SC0693||6900","6900","Equipment, Software, Library","Budget_Only","JE_Override"]
[null,null,null,null,null,null,"AC00223","[FHSS] MRI Facility Operations","AC00223-[FHSS] MRI Facility Operations","Activity","FD02","Active","2025-03-17T16:11:50.579797+00:00",null,"SC6117","Medical Supplies","SC6117-Medical Supplies","Spend Category","Active",null,null,"09120","Receipts - BYU Law School","09120-Receipts - BYU Law School",null,null,null,"AS026852607","Clint Payne (026852607) CE Classroom Programs","AS026852607-Clint Payne (026852607) CE Classroom Programs","Active",null,null,null,null,null,null,null,null,null,null,null,"SC0694","SC0694||6900","6900","Equipment, Software, Library","Budget_Only","JE_Override"]
[null,null,null,null,null,null,"AC00224","[FHSS] Prof Dev-Fh & Ss","AC00224-[FHSS] Prof Dev-Fh & Ss","Activity","FD03","Active","2025-03-17T16:11:50.579797+00:00",null,"SC6118","Musical Instrument Supplies","SC6118-Musical Instrument Supplies","Spend Category","Active",null,null,"09125","Web Credit Card Payments","09125-Web Credit Card Payments",null,null,null,"AS026889994","Moni Tiatia (026889994) Fine Arts & Communications - Dance","AS026889994-Moni Tiatia (026889994) Fine Arts & Communications - Dance","Active",null,null,null,null,null,null,null,null,null,null,null,"SC0695","SC0695||6900","6900","Equipment, Software, Library","Budget_Only","JE_Override"]
[null,null,null,null,null,null,"AC00225","[FHSS] Diversity, Collaboration & Inc","AC00225-[FHSS] Diversity, Collaboration & Inc","Activity","FD03","Active","2025-03-17T16:11:50.579797+00:00",null,"SC6119","Office Supplies","SC6119-Office Supplies","Spend Category","Active",null,null,"09527","Investment Adj","09527-Investment Adj",null,null,null,"AS026968306","Kara Stephenson (026968306) Special Events","AS026968306-Kara Stephenson (026968306) Special Events","Active",null,null,null,null,null,null,null,null,null,null,null,"SC0696","SC0696||6900","6900","Equipment, Software, Library","Budget_Only","JE_Override"]
[null,null,null,null,null,null,"AC00227","[FHSS] FHSS ELF","AC00227-[FHSS] FHSS ELF","Activity","FD03","Active","2025-03-17T16:11:50.579797+00:00",null,"SC6120","Other Expense","SC6120-Other Expense","Spend Category","Active",null,null,"09610","Agency Checks","09610-Agency Checks",null,null,null,"AS027018184","Cougar Hall (027018184) Life Sciences - Public Health","AS027018184-Cougar Hall (027018184) Life Sciences - Public Health","Active",null,null,null,null,null,null,null,null,null,null,null,"SC0697","SC0697||6900","6900","Equipment, Software, Library","Budget_Only","JE_Override"]
[null,null,null,null,null,null,"AC00228","[FHSS] Washington Sem Housn","AC00228-[FHSS] Washington Sem Housn","Activity","FD02","Active","2025-03-17T16:11:52.138121+00:00",null,"SC6121","Packaging","SC6121-Packaging","Spend Category","Active",null,null,"09699","Receipt Adjustments","09699-Receipt Adjustments",null,null,null,"AS027047970","Sarah Dethloff (027047970) Management Department","AS027047970-Sarah Dethloff (027047970) Management Department","Active",null,null,null,null,null,null,null,null,null,null,null,"SC1055","SC1055||1055","1055","Gift Cards","Primary","All"]
[null,null,null,null,null,null,"AC00229","[FHSS] Washington Seminar ELF","AC00229-[FHSS] Washington Seminar ELF","Activity","FD03","Active","2025-03-17T16:11:52.138121+00:00",null,"SC6122","Paper","SC6122-Paper","Spend Category","Active",null,null,"09799","Disbursement Adjustments","09799-Disbursement Adjustments",null,null,null,"AS027094351","Joyce Guidi (027094351) Humanities - French & Italian Languages","AS027094351-Joyce Guidi (027094351) Humanities - French & Italian Languages","Active",null,null,null,null,null,null,null,null,null,null,null,"SC1218","SC1218||1200","1200","Department Receivable","Primary","All"]
[null,null,null,null,null,null,"AC00230","[FHSS] American Hertg Book Royalty","AC00230-[FHSS] American Hertg Book Royalty","Activity","FD03","Active","2025-03-17T16:11:52.138121+00:00",null,"SC6123","Photography Supplies","SC6123-Photography Supplies","Spend Category","Active",null,null,"09900","Disbursements-A/P","09900-Disbursements-A/P",null,null,null,"AS027184603","Tim Law (027184603) BYU Broadcasting - Digital Media","AS027184603-Tim Law (027184603) BYU Broadcasting - Digital Media","Active",null,null,null,null,null,null,null,null,null,null,null,"SC1218","SC1218||1210","1210","Off Campus Receivable",null,"All"]
[null,null,null,null,null,null,"AC00231","[FHSS] Redd Public History","AC00231-[FHSS] Redd Public History","Activity","FD03","Active","2025-03-17T16:11:52.138121+00:00",null,"SC6124","Printed Media","SC6124-Printed Media","Spend Category","Active",null,null,"10000","Executive Director UCS","10000-Executive Director UCS",null,null,null,"AS027211109","Chris Grant (027211109) CMS - Mathematics","AS027211109-Chris Grant (027211109) CMS - Mathematics","Active",null,null,null,null,null,null,null,null,null,null,null,"SC1290","SC1290||1290","1290","Clearing-Receivable","Primary","All"]
[null,null,null,null,null,null,"AC00232","[FHSS] Charles Redd Center ELF","AC00232-[FHSS] Charles Redd Center ELF","Activity","FD03","Active","2025-03-17T16:11:52.138121+00:00",null,"SC6125","Printing Supplies","SC6125-Printing Supplies","Spend Category","Active",null,null,"10001","Special Projects","10001-Special Projects",null,null,null,"AS027489315","Chris Cloward (027489315) PF Building Operations","AS027489315-Chris Cloward (027489315) PF Building Operations","Active",null,null,null,null,null,null,null,null,null,null,null,"SC1300","SC1300||1300","1300","Inventory - Workday","Primary","All"]
[null,null,null,null,null,null,"AC00233","[FHSS] Civic Engagement Activities","AC00233-[FHSS] Civic Engagement Activities","Activity","FD03","Active","2025-03-17T16:11:52.138121+00:00",null,"SC6126","Scientific and Engineering Supplies","SC6126-Scientific and Engineering Supplies","Spend Category","Active",null,null,"10025","Faculty Profile System - BYU-H","10025-Faculty Profile System - BYU-H",null,null,null,"AS027512956","Michael Dorff (027512956) CMS - Mathematics","AS027512956-Michael Dorff (027512956) CMS - Mathematics","Active",null,null,null,null,null,null,null,null,null,null,null,"SC1310","SC1310||1310","1310","Inventory - Campus Subsystems","Primary","All"]
[null,null,null,null,null,null,"AC00234","[FHSS] Comprehensive Clinic","AC00234-[FHSS] Comprehensive Clinic","Activity","FD02","Active","2025-03-17T16:11:52.138121+00:00",null,"SC6127","Special Collections","SC6127-Special Collections","Spend Category","Active",null,null,"10165","Emergency Systems","10165-Emergency Systems",null,null,null,"AS028045615","Mike Gibson (028045615) Enrollment Services Executive Director's Office","AS028045615-Mike Gibson (028045615) Enrollment Services Executive Director's Office","Active",null,null,null,null,null,null,null,null,null,null,null,"SC1390","SC1390||1390","1390","Clearing-Inventory","Primary","All"]
[null,null,null,null,null,null,"AC00235","[FHSS] Fld Sch Archaeology","AC00235-[FHSS] Fld Sch Archaeology","Activity","FD01","Active","2025-03-17T16:11:52.138121+00:00",null,"SC6128","Special Collections Sales Proceeds","SC6128-Special Collections Sales Proceeds","Spend Category","Active",null,null,"10332","OIT Key Deposits","10332-OIT Key Deposits",null,null,null,"AS028158881","Jonathan Love (028158881) Law School","AS028158881-Jonathan Love (028158881) Law School","Active",null,null,null,null,null,null,null,null,null,null,null,"SC1400","SC1400||1400","1400","Prepaid Expenses","Primary","All"]
[null,null,null,null,null,null,"AC00236","[FHSS] Anthropology Grad Studnt Funds","AC00236-[FHSS] Anthropology Grad Studnt Funds","Activity","FD01","Active","2025-03-17T16:11:52.138121+00:00",null,"SC6129","Supplies (not otherwise specified)","SC6129-Supplies (not otherwise specified)","Spend Category","Active",null,null,"10365","Non Restr-Contract","10365-Non Restr-Contract",null,null,null,"AS028181473","Douglas Watson (028181473) Student Life VP","AS028181473-Douglas Watson (028181473) Student Life VP","Active",null,null,null,null,null,null,null,null,null,null,null,"SC1420","SC1420||1420","1420","Other Assets","Primary","All"]
[null,null,null,null,null,null,"AC00237","[FHSS] Anthropology Club","AC00237-[FHSS] Anthropology Club","Activity","FD02","Active","2025-03-17T16:11:52.138121+00:00",null,"SC6130","Teaching Supplies","SC6130-Teaching Supplies","Spend Category","Active",null,null,"1042S","IRS Form 1042S Tax","1042S-IRS Form 1042S Tax",null,null,null,"AS028209109","Hannah Steinagel (028209109) HS General Medicine - Nursing","AS028209109-Hannah Steinagel (028209109) HS General Medicine - Nursing","Active",null,null,null,null,null,null,null,null,null,null,null,"SC1490","SC1490||1490","1490","Clearing-Prepaid and Other","Primary","All"]
[null,null,null,null,null,null,"AC00238","[FHSS] Publications in Archaeology","AC00238-[FHSS] Publications in Archaeology","Activity","FD03","Active","2025-03-17T16:11:52.138121+00:00",null,"SC6131","Telecom Supplies","SC6131-Telecom Supplies","Spend Category","Active",null,null,"10501","Student Workshops","10501-Student Workshops",null,null,null,"AS028317569","Liege Pradera (028317569) Humanities - Spanish & Portuguese","AS028317569-Liege Pradera (028317569) Humanities - Spanish & Portuguese","Active",null,null,null,null,null,null,null,null,null,null,null,"SC1600","SC1600||1600","1600","Land","Primary","JE_PPE|JE_Override"]
[null,null,null,null,null,null,"AC00239","[FHSS] Zachary Chase GMA","AC00239-[FHSS] Zachary Chase GMA","Activity","FD03","Active","2025-03-17T16:11:52.138121+00:00",null,"SC6132","Vehicle Supplies","SC6132-Vehicle Supplies","Spend Category","Active",null,null,"10545","Computer Associates","10545-Computer Associates",null,null,null,"AS028472569","Angela Bradford (028472569) FHSS - School of Family Life","AS028472569-Angela Bradford (028472569) FHSS - School of Family Life","Active",null,null,null,null,null,null,null,null,null,null,null,"SC1605","SC1605||1605","1605","Buildings","Primary","JE_PPE|JE_Override"]
[null,null,null,null,null,null,"AC00240","[FHSS] Michael Searcy GMA","AC00240-[FHSS] Michael Searcy GMA","Activity","FD03","Active","2025-03-17T16:11:52.138121+00:00",null,"SC6133","Lab Gases and Cryogenics","SC6133-Lab Gases and Cryogenics","Spend Category","Active",null,null,"10580","Autodesk","10580-Autodesk",null,null,null,"AS028735751","Chris Verhaaren (028735751) CMS - Physics and Astronomy","AS028735751-Chris Verhaaren (028735751) CMS - Physics and Astronomy","Active",null,null,null,null,null,null,null,null,null,null,null,"SC1605","SC1605||1700","1700","Accumulated Depreciation",null,"JE_PPE|JE_Override"]
[null,null,null,null,null,null,"AC00241","[FHSS] Anthropology Field Schools","AC00241-[FHSS] Anthropology Field Schools","Activity","FD03","Active","2025-03-17T16:11:52.138121+00:00",null,"SC6199","Materials and Supplies (reclass)","SC6199-Materials and Supplies (reclass)","Spend Category","Active",null,null,"10583","Software - Microsoft (Campus)","10583-Software - Microsoft (Campus)",null,null,null,"AS028827741","Spencer James (028827741) FHSS - School of Family Life","AS028827741-Spencer James (028827741) FHSS - School of Family Life","Active",null,null,null,null,null,null,null,null,null,null,null,"SC1605","SC1605||8000","8000","Depreciation",null,"JE_PPE|JE_Override"]
[null,null,null,null,null,null,"AC00243","[FHSS] Anthropology ELF","AC00243-[FHSS] Anthropology ELF","Activity","FD03","Active","2025-03-17T16:11:52.138121+00:00",null,"SC6301","Scholarships","SC6301-Scholarships","Spend Category","Active",null,null,"10597","Environments","10597-Environments",null,null,null,"AS028889696","Jorge Morales (028889696) Research and Reporting","AS028889696-Jorge Morales (028889696) Research and Reporting","Active",null,null,null,null,null,null,null,null,null,null,null,"SC1615","SC1615||1615","1615","Other Improvements",null,"JE_PPE|JE_Override"]
[null,null,null,null,null,null,"AC00244","[FHSS] Museum People-Fees","AC00244-[FHSS] Museum People-Fees","Activity","FD03","Active","2025-03-17T16:11:52.138121+00:00",null,"SC6302","Graduate Fellowship","SC6302-Graduate Fellowship","Spend Category","Active",null,null,"10626","Business Support","10626-Business Support",null,null,null,"AS028945590","Marianne Ohran (028945590) Fine Arts & Communications - Theatre & Media Arts","AS028945590-Marianne Ohran (028945590) Fine Arts & Communications - Theatre & Media Arts","Active",null,null,null,null,null,null,null,null,null,null,null,"SC1635","SC1635||1635","1635","Misc Capital Assets","Primary","JE_PPE|JE_Override"]
[null,null,null,null,null,null,"AC00245","[FHSS] MPC Joint Projects","AC00245-[FHSS] MPC Joint Projects","Activity","FD03","Active","2025-03-17T16:11:52.138121+00:00",null,"SC6303","Grant","SC6303-Grant","Spend Category","Active",null,null,"10703","BYU Departments","10703-BYU Departments",null,null,null,"AS029024551","Janelle Macintosh (029024551) AVP - Dean, College of Nursing","AS029024551-Janelle Macintosh (029024551) AVP - Dean, College of Nursing","Active",null,null,null,null,null,null,null,null,null,null,null,"SC1635","SC1635||1700","1700","Accumulated Depreciation",null,"JE_PPE|JE_Override"]
[null,null,null,null,null,null,"AC00246","[FHSS] New World Arch Found Pubs","AC00246-[FHSS] New World Arch Found Pubs","Activity","FD03","Active","2025-03-17T16:11:52.138121+00:00",null,"SC6304","Leadership Award","SC6304-Leadership Award","Spend Category","Active",null,null,"10707","Subscriptions/Periodicals","10707-Subscriptions/Periodicals",null,null,null,"AS029076241","Tesia Tsai (029076241) Humanities - English","AS029076241-Tesia Tsai (029076241) Humanities - English","Active",null,null,null,null,null,null,null,null,null,null,null,"SC1635","SC1635||8000","8000","Depreciation",null,"JE_PPE|JE_Override"]
[null,null,null,null,null,null,"AC00247","[FHSS] HR- New World Arch Found","AC00247-[FHSS] HR- New World Arch Found","Activity","FD01","Active","2025-03-17T16:11:52.138121+00:00",null,"SC6305","Tuition Assistance NonBYU Student","SC6305-Tuition Assistance NonBYU Student","Spend Category","Active",null,null,"10708","Dues and Memberships","10708-Dues and Memberships",null,null,null,"AS029154702","Sofia Pesci (029154702) Athletics - Corporate Sponsorships","AS029154702-Sofia Pesci (029154702) Athletics - Corporate Sponsorships","Active",null,null,null,null,null,null,null,null,null,null,null,"SC2010","SC2010||2010","2010","Procurement Card Payable","Primary","All"]
[null,null,null,null,null,null,"AC00248","[FHSS] Economics Club","AC00248-[FHSS] Economics Club","Activity","FD02","Active","2025-03-17T16:11:52.138121+00:00",null,"SC6306","Employee Benefit Tuition Assistance","SC6306-Employee Benefit Tuition Assistance","Spend Category","Active",null,null,"10711","Graduate Studies","10711-Graduate Studies",null,null,null,"AS029227462","Jan Christensen (029227462) FHSS - School of Family Life","AS029227462-Jan Christensen (029227462) FHSS - School of Family Life","Active",null,null,null,null,null,null,null,null,null,null,null,"SC2011","SC2011||2010","2010","Procurement Card Payable","Primary","All"]
[null,null,null,null,null,null,"AC00249","[FHSS] Record Linking Lab","AC00249-[FHSS] Record Linking Lab","Activity","FD02","Active","2025-03-17T16:11:52.138121+00:00",null,"SC6307","Other Student Aid","SC6307-Other Student Aid","Spend Category","Active",null,null,"10726","Investigation-Infrastructure","10726-Investigation-Infrastructure",null,null,null,"AS029391794","Don Powell (029391794) AVP - Dean, Fine Arts and Communications","AS029391794-Don Powell (029391794) AVP - Dean, Fine Arts and Communications","Active",null,null,null,null,null,null,null,null,null,null,null,"SC2020","SC2020||2020","2020","Other and Retainages Payable","Primary","All"]
[null,null,null,null,null,null,"AC00250","[FHSS] P-Ship-Economics-Jrk","AC00250-[FHSS] P-Ship-Economics-Jrk","Activity","FD03","Active","2025-03-17T16:11:52.138121+00:00",null,"SC6308","Research Fellowships","SC6308-Research Fellowships","Spend Category","Active",null,null,"10745","Post Office","10745-Post Office",null,null,null,"AS029788789","Brian Spilker (029788789) MSB - School of Accountancy","AS029788789-Brian Spilker (029788789) MSB - School of Accountancy","Active",null,null,null,null,null,null,null,null,null,null,null,"SC2021","SC2021||2020","2020","Other and Retainages Payable","Primary","All"]
[null,null,null,null,null,null,"AC00252","[FHSS] Economics ELF","AC00252-[FHSS] Economics ELF","Activity","FD03","Active","2025-03-17T16:11:52.138121+00:00",null,"SC6399","Student Aid (reclass)","SC6399-Student Aid (reclass)","Spend Category","Active",null,null,"10759","Computer Rental","10759-Computer Rental",null,null,null,"AS029808262","Rachel Christensen (029808262) Fine Arts & Communications - School of Music","AS029808262-Rachel Christensen (029808262) Fine Arts & Communications - School of Music","Active",null,null,null,null,null,null,null,null,null,null,null,"SC2030","SC2030||2030","2030","Other Payroll Deducts Payable","Primary","All"]
[null,null,null,null,null,null,"AC00253","[FHSS] Geography Student Association","AC00253-[FHSS] Geography Student Association","Activity","FD02","Active","2025-03-17T16:11:52.138121+00:00",null,"SC6401","Advertising","SC6401-Advertising","Spend Category","Active",null,null,"10775","Specialized AV Systems","10775-Specialized AV Systems",null,null,null,"AS029853108","Jessica Mullen (029853108) Athletics - Academic Advisement","AS029853108-Jessica Mullen (029853108) Athletics - Academic Advisement","Active",null,null,null,null,null,null,null,null,null,null,null,"SC2031","SC2031||2030","2030","Other Payroll Deducts Payable","Primary","All"]
[null,null,null,null,null,null,"AC00254","[FHSS] SUPA","AC00254-[FHSS] SUPA","Activity","FD02","Active","2025-03-17T16:11:52.138121+00:00",null,"SC6402","Allocated Indirect Costs","SC6402-Allocated Indirect Costs","Spend Category","Active",null,null,"10777","Open Access Computer Lab","10777-Open Access Computer Lab",null,null,null,"AS029871649","Jennefer Dayton (029871649) HS Administration","AS029871649-Jennefer Dayton (029871649) HS Administration","Active",null,null,null,null,null,null,null,null,null,null,null,"SC2032","SC2032||2030","2030","Other Payroll Deducts Payable","Primary","All"]
[null,null,null,null,null,null,"AC00255","[FHSS] Praemon Student Association","AC00255-[FHSS] Praemon Student Association","Activity","FD02","Active","2025-03-17T16:11:52.138121+00:00",null,"SC6403","Animal Services","SC6403-Animal Services","Spend Category","Active",null,null,"10800","Consulting Services","10800-Consulting Services",null,null,null,"AS030130011","Lori Denning (030130011) Religious Education - Ancient Scripture","AS030130011-Lori Denning (030130011) Religious Education - Ancient Scripture","Active",null,null,null,null,null,null,null,null,null,null,null,"SC2033","SC2033||2030","2030","Other Payroll Deducts Payable","Primary","All"]
[null,null,null,null,null,null,"AC00256","[FHSS] Cartographic Lab","AC00256-[FHSS] Cartographic Lab","Activity","FD03","Active","2025-03-17T16:11:52.138121+00:00",null,"SC6404","Architectural or Engineering Services","SC6404-Architectural or Engineering Services","Spend Category","Active",null,null,"10850","Advisement Tools","10850-Advisement Tools",null,null,null,"AS030164319","Evan Brandley (030164319) Restaurants","AS030164319-Evan Brandley (030164319) Restaurants","Active",null,null,null,null,null,null,null,null,null,null,null,"SC2090","SC2090||2090","2090","Clearing-Accounts Payable","Primary","All"]
[null,null,null,null,null,null,"AC00258","[FHSS] Geography ELF","AC00258-[FHSS] Geography ELF","Activity","FD03","Active","2025-03-17T16:11:52.138121+00:00",null,"SC6405","Art and Design Services","SC6405-Art and Design Services","Spend Category","Active",null,null,"10877","Recruiting Tools","10877-Recruiting Tools",null,null,null,"AS030306005","Jean-Francois Van Huele (030306005) CMS - Physics and Astronomy","AS030306005-Jean-Francois Van Huele (030306005) CMS - Physics and Astronomy","Active",null,null,null,null,null,null,null,null,null,null,null,"SC2100","SC2100||2100","2100","FICA Payable","Primary","All"]
[null,null,null,null,null,null,"AC00259","[FHSS] Phi Alpha Theta","AC00259-[FHSS] Phi Alpha Theta","Activity","FD02","Active","2025-03-17T16:11:52.138121+00:00",null,"SC6406","Athletic Events","SC6406-Athletic Events","Spend Category","Active",null,null,"10878","Registration Tools","10878-Registration Tools",null,null,null,"AS030308835","Brigitte Madrian (030308835) Academic Vice President","AS030308835-Brigitte Madrian (030308835) Academic Vice President","Active",null,null,null,null,null,null,null,null,null,null,null,"SC2105","SC2105||2105","2105","Federal Withholding Payable","Primary","All"]
[null,null,null,null,null,null,"AC00260","[FHSS] Native American Rights","AC00260-[FHSS] Native American Rights","Activity","FD03","Active","2025-03-17T16:11:52.138121+00:00",null,"SC6407","Audio Visual Media Duplication","SC6407-Audio Visual Media Duplication","Spend Category","Active",null,null,"10881","Scheduling Systems","10881-Scheduling Systems",null,null,null,"AS030556343","Jacqueline Deaton (030556343) Humanities - Spanish & Portuguese","AS030556343-Jacqueline Deaton (030556343) Humanities - Spanish & Portuguese","Active",null,null,null,null,null,null,null,null,null,null,null,"SC2110","SC2110||2110","2110","State Payroll Taxes Payable","Primary","All"]
[null,null,null,null,null,null,"AC00262","[FHSS] HIstory ELF","AC00262-[FHSS] HIstory ELF","Activity","FD03","Active","2025-03-17T16:11:52.138121+00:00",null,"SC6408","Bank, Trust, Collection Fees","SC6408-Bank, Trust, Collection Fees","Spend Category","Active",null,null,"10942","Custom Training","10942-Custom Training",null,null,null,"AS030875626","Paul Gillespie (030875626) CE Advisement","AS030875626-Paul Gillespie (030875626) CE Advisement","Active",null,null,null,null,null,null,null,null,null,null,null,"SC2130","SC2130||2130","2130","Sales Tax Payable - Utah","Primary","All"]
[null,null,null,null,null,null,"AC00263","[FHSS] Fam History-Genealogy Projects","AC00263-[FHSS] Fam History-Genealogy Projects","Activity","FD02","Active","2025-03-27T02:04:07.663585+00:00",null,"SC6409","Bad Debt Expense","SC6409-Bad Debt Expense","Spend Category","Active",null,null,"10959","Media Engineering","10959-Media Engineering",null,null,null,"AS030949929","Brandon Smith (030949929) OIT Core - Tech Operations","AS030949929-Brandon Smith (030949929) OIT Core - Tech Operations","Active",null,null,null,null,null,null,null,null,null,null,null,"SC2132","SC2132||2132","2132","Sales Tax Payable-Other States","Primary","All"]
[null,null,null,null,null,null,"AC00264","[FHSS] Pi Sigma Alpha","AC00264-[FHSS] Pi Sigma Alpha","Activity","FD02","Active","2025-03-17T16:11:52.138121+00:00",null,"SC6410","Broadcast Services","SC6410-Broadcast Services","Spend Category","Active",null,null,"10971","Research & Development","10971-Research & Development",null,null,null,"AS030975637","Jennifer Chamberlain (030975637) CE Online Learning","AS030975637-Jennifer Chamberlain (030975637) CE Online Learning","Active",null,null,null,null,null,null,null,null,null,null,null,"SC2140","SC2140||2140","2140","Property Tax Payable","Primary","All"]
[null,null,null,null,null,null,"AC00265","[FHSS] Tocqueville Group","AC00265-[FHSS] Tocqueville Group","Activity","FD02","Active","2025-03-17T16:11:52.138121+00:00",null,"SC6411","Cash Prizes and Contest Payments","SC6411-Cash Prizes and Contest Payments","Spend Category","Active",null,null,"10997","Print Services","10997-Print Services",null,null,null,"AS031137958","Sharlan Montgomery Dunn (031137958) College of Engineering - Civil & Construction Engineering","AS031137958-Sharlan Montgomery Dunn (031137958) College of Engineering - Civil & Construction Engineering","Active",null,null,null,null,null,null,null,null,null,null,null,"SC2150","SC2150||2150","2150","UBIT Payable","Primary","All"]
[null,null,null,null,null,null,"AC00266","[FHSS] College Repub Club","AC00266-[FHSS] College Repub Club","Activity","FD02","Active","2025-03-17T16:11:52.138121+00:00",null,"SC6412","Cell Phones and Plans","SC6412-Cell Phones and Plans","Spend Category","Active",null,null,"11100","Alabama-Birmingham","11100-Alabama-Birmingham",null,null,null,"AS031321791","Becca Pike (031321791) Admissions Office","AS031321791-Becca Pike (031321791) Admissions Office","Active",null,null,null,null,null,null,null,null,null,null,null,"SC2160","SC2160||2160","2160","Other Taxes Payable","Primary","All"]
[null,null,null,null,null,null,"AC00267","[FHSS] College Democrats of BYU","AC00267-[FHSS] College Democrats of BYU","Activity","FD02","Active","2025-03-17T16:11:52.138121+00:00",null,"SC6413","Competition Officiating","SC6413-Competition Officiating","Spend Category","Active",null,null,"11103","Colorado-Colorado Springs","11103-Colorado-Colorado Springs",null,null,null,"AS031368018","Jen Watson (031368018) Fine Arts & Communications - Art","AS031368018-Jen Watson (031368018) Fine Arts & Communications - Art","Active",null,null,null,null,null,null,null,null,null,null,null,"SC2200","SC2200||2200","2200","Accrued Liabilities","Primary","All"]
[null,null,null,null,null,null,"AC00268","[FHSS] Prof-Pol-Sci-Magleby","AC00268-[FHSS] Prof-Pol-Sci-Magleby","Activity","FD03","Active","2025-03-17T16:11:52.138121+00:00",null,"SC6414","Computer Services","SC6414-Computer Services","Spend Category","Active",null,null,"11105","Florida-Tallahassee","11105-Florida-Tallahassee",null,null,null,"AS031530403","Kyle Grossarth (031530403) Athletics - Track & Field","AS031530403-Kyle Grossarth (031530403) Athletics - Track & Field","Active",null,null,null,null,null,null,null,null,null,null,null,"SC2300","SC2300||2300","2300","Deposits Payable","Primary","All"]
[null,null,null,null,null,null,"AC00269","[FHSS] Tocqueville Project","AC00269-[FHSS] Tocqueville Project","Activity","FD03","Active","2025-03-17T16:11:52.138121+00:00",null,"SC6415","Conference and Events Hosting","SC6415-Conference and Events Hosting","Spend Category","Active",null,null,"11110","Nevada-Reno","11110-Nevada-Reno",null,null,null,"AS031559035","Machelle Johnson (031559035) HS Administration","AS031559035-Machelle Johnson (031559035) HS Administration","Active",null,null,null,null,null,null,null,null,null,null,null,"SC2400","SC2400||2400","2400","Annuities Payable","Primary","All"]
[null,null,null,null,null,null,"AC00270","[FHSS] Global Politics Lab - GPL","AC00270-[FHSS] Global Politics Lab - GPL","Activity","FD03","Active","2025-03-17T16:11:52.138121+00:00",null,"SC6416","Conference Registration","SC6416-Conference Registration","Spend Category","Active",null,null,"11111","New York-New York","11111-New York-New York",null,null,null,"AS031820797","Catherine Hendricks (031820797) Asst Adm VP Human Resources","AS031820797-Catherine Hendricks (031820797) Asst Adm VP Human Resources","Active",null,null,null,null,null,null,null,null,null,null,null,"SC2500","SC2500||2500","2500","Notes Payable","Primary","All"]
[null,null,null,null,null,null,"AC00272","[FHSS] Political Science ELF","AC00272-[FHSS] Political Science ELF","Activity","FD03","Active","2025-03-17T16:11:52.138121+00:00",null,"SC6417","Consulting - Financial and Research","SC6417-Consulting - Financial and Research","Spend Category","Active",null,null,"11112","Ohio-Columbus","11112-Ohio-Columbus",null,null,null,"AS032014107","Alyssa Dixon (032014107) CITES","AS032014107-Alyssa Dixon (032014107) CITES","Active",null,null,null,null,null,null,null,null,null,null,null,"SC2510","SC2510||2510","2510","Notes Payable-Church","Primary","All"]
[null,null,null,null,null,null,"AC00273","[FHSS] Poli Sci Sunshine Fund","AC00273-[FHSS] Poli Sci Sunshine Fund","Activity","FD07","Active","2025-03-17T16:11:52.138121+00:00",null,"SC6418","Credit Card Merchant Fees","SC6418-Credit Card Merchant Fees","Spend Category","Active",null,null,"11113","Oregon-Eugene","11113-Oregon-Eugene",null,null,null,"AS032078028","Richard Vanfleet (032078028) CMS - Physics and Astronomy","AS032078028-Richard Vanfleet (032078028) CMS - Physics and Astronomy","Active",null,null,null,null,null,null,null,null,null,null,null,"SC4100","SC4100||1090","1090","Clearing-Cash","Primary","All"]
[null,null,null,null,null,null,"AC00274","[FHSS] CSED Project","AC00274-[FHSS] CSED Project","Activity","FD03","Active","2025-03-17T16:11:52.138121+00:00",null,"SC6419","Data Connectivity Services","SC6419-Data Connectivity Services","Spend Category","Active",null,null,"11116","Tennessee-Chattanooga","11116-Tennessee-Chattanooga",null,null,null,"AS032236373","Jane Fonua (032236373) Enrollment Services Office","AS032236373-Jane Fonua (032236373) Enrollment Services Office","Active",null,null,null,null,null,null,null,null,null,null,null,"SC4100","SC4100||1200","1200","Department Receivable",null,"All"]
[null,null,null,null,null,null,"AC00275","[FHSS] American Family Survey","AC00275-[FHSS] American Family Survey","Activity","FD03","Active","2025-03-17T16:11:52.138121+00:00",null,"SC6420","Educational Facilities - Rent/Lease <=1yr","SC6420-Educational Facilities - Rent/Lease <=1yr","Spend Category","Active",null,null,"11117","Tennessee-Knoxville","11117-Tennessee-Knoxville",null,null,null,"AS032236657","Dennis Tolley (032236657) CMS - Statistics","AS032236657-Dennis Tolley (032236657) CMS - Statistics","Active",null,null,null,null,null,null,null,null,null,null,null,"SC4100","SC4100||2600","2600","Deferred Revenue",null,"All"]
[null,null,null,null,null,null,"AC00276","[FHSS] Psychology","AC00276-[FHSS] Psychology","Activity","FD01","Active","2025-03-17T16:11:52.138121+00:00",null,"SC6421","Employee Development Services","SC6421-Employee Development Services","Spend Category","Active",null,null,"11118","Tennessee-Nashville","11118-Tennessee-Nashville",null,null,null,"AS032391768","Mark Choate (032391768) FHSS - History","AS032391768-Mark Choate (032391768) FHSS - History","Active",null,null,null,null,null,null,null,null,null,null,null,"SC4100","SC4100||4100","4100","Tuition and Fees","Primary","All"]
[null,null,null,null,null,null,"AC00277","[FHSS] Burlingame, Gary Ph D Students","AC00277-[FHSS] Burlingame, Gary Ph D Students","Activity","FD01","Active","2025-03-17T16:11:52.138121+00:00",null,"SC6422","Food Services and Caterers","SC6422-Food Services and Caterers","Spend Category","Active",null,null,"11119","Texas-Austin","11119-Texas-Austin",null,null,null,"AS032404620","Jeff Peters (032404620) Dean's Office - College of Engineering","AS032404620-Jeff Peters (032404620) Dean's Office - College of Engineering","Active",null,null,null,null,null,null,null,null,null,null,null,"SC4901","SC4901||4900","4900","Cost of Sales","Primary","All"]
[null,null,null,null,null,null,"AC00278","[FHSS] Clinical Psychology","AC00278-[FHSS] Clinical Psychology","Activity","FD02","Active","2025-03-17T16:11:52.138121+00:00",null,"SC6423","Foreign Exchange Payment Gain/Loss","SC6423-Foreign Exchange Payment Gain/Loss","Spend Category","Active",null,null,"11120","Texas-San Antonio","11120-Texas-San Antonio",null,null,null,"AS032435928","Anna Bates (032435928) Museum of Art - Exhibit Design","AS032435928-Anna Bates (032435928) Museum of Art - Exhibit Design","Active",null,null,null,null,null,null,null,null,null,null,null,"SC4902","SC4902||4900","4900","Cost of Sales","Primary","All"]
[null,null,null,null,null,null,"AC00279","[FHSS] Clinical Neuropsych Externship","AC00279-[FHSS] Clinical Neuropsych Externship","Activity","FD02","Active","2025-03-17T16:11:52.138121+00:00",null,"SC6424","Franchise Fees","SC6424-Franchise Fees","Spend Category","Active",null,null,"11121","Utah-Iron","11121-Utah-Iron",null,null,null,"AS032480110","Robert Johnson (032480110) Life Sciences - Biology","AS032480110-Robert Johnson (032480110) Life Sciences - Biology","Active",null,null,null,null,null,null,null,null,null,null,null,"SC4903","SC4903||4900","4900","Cost of Sales","Primary","All"]
[null,null,null,null,null,null,"AC00280","[FHSS] Psi Chi","AC00280-[FHSS] Psi Chi","Activity","FD02","Active","2025-03-17T16:11:52.138121+00:00",null,"SC6425","Government Fees","SC6425-Government Fees","Spend Category","Active",null,null,"11122","Texas-Lubbock","11122-Texas-Lubbock",null,null,null,"AS032528222","Dustin Jones (032528222) CE Online Learning","AS032528222-Dustin Jones (032528222) CE Online Learning","Active",null,null,null,null,null,null,null,null,null,null,null,"SC4904","SC4904||4900","4900","Cost of Sales","Primary","All"]
[null,null,null,null,null,null,"AC00281","[FHSS] EEG/ERP Training & Research","AC00281-[FHSS] EEG/ERP Training & Research","Activity","FD03","Active","2025-03-17T16:11:52.138121+00:00",null,"SC6426","Grants Subawards","SC6426-Grants Subawards","Spend Category","Active",null,null,"11126","Washington-Tacoma","11126-Washington-Tacoma",null,null,null,"AS032671402","Robert Ramos (032671402) Advance VP - Director, Athletics","AS032671402-Robert Ramos (032671402) Advance VP - Director, Athletics","Active",null,null,null,null,null,null,null,null,null,null,null,"SC5000","SC5000||5000","5000","Salaries and Wages","Primary","JE_Payroll|JE_Override"]
[null,null,null,null,null,null,"AC00282","[FHSS] Steven Luke Psychology","AC00282-[FHSS] Steven Luke Psychology","Activity","FD03","Active","2025-03-17T16:11:52.138121+00:00",null,"SC6427","Hosted Entertainment","SC6427-Hosted Entertainment","Spend Category","Active",null,null,"11127","Washington-Tri-Cities","11127-Washington-Tri-Cities",null,null,null,"AS032715097","Valori Tanner (032715097) Retail Services - BYU Store","AS032715097-Valori Tanner (032715097) Retail Services - BYU Store","Active",null,null,null,null,null,null,null,null,null,null,null,"SC5009","SC5009||5000","5000","Salaries and Wages","Primary","All"]
[null,null,null,null,null,null,"AC00283","[FHSS] Melissa Jones GMA","AC00283-[FHSS] Melissa Jones GMA","Activity","FD03","Active","2025-03-17T16:11:52.138121+00:00",null,"SC6428","Hosted Meals","SC6428-Hosted Meals","Spend Category","Active",null,null,"11128","Washington-Spokane","11128-Washington-Spokane",null,null,null,"AS032720112","Brooke Anderson (032720112) Advisement Computing, Math and Science","AS032720112-Brooke Anderson (032720112) Advisement Computing, Math and Science","Active",null,null,null,null,null,null,null,null,null,null,null,"SC5030","SC5030||5000","5000","Salaries and Wages","Primary","JE_Payroll|JE_Override"]
[null,null,null,null,null,null,"AC00284","[FHSS] Dee Higley GMA","AC00284-[FHSS] Dee Higley GMA","Activity","FD03","Active","2025-03-17T16:11:52.138121+00:00",null,"SC6429","Insurance","SC6429-Insurance","Spend Category","Active",null,null,"11129","Washington-Vancouver","11129-Washington-Vancouver",null,null,null,"AS032878961","David P Stringfellow (032878961) PF Building Projects, Maintenance & Transportation Services","AS032878961-David P Stringfellow (032878961) PF Building Projects, Maintenance & Transportation Services","Active",null,null,null,null,null,null,null,null,null,null,null,"SC5100","SC5100||5000","5000","Salaries and Wages","Primary","JE_Payroll|JE_Override"]
[null,null,null,null,null,null,"AC00285","[FHSS] B Brown Translation Medicine","AC00285-[FHSS] B Brown Translation Medicine","Activity","FD03","Active","2025-03-17T16:11:52.138121+00:00",null,"SC6430","Janitorial Services","SC6430-Janitorial Services","Spend Category","Active",null,null,"11130","WI Milwaukee","11130-WI Milwaukee",null,null,null,"AS032973061","Joseph McMurray (032973061) FHSS - Economics","AS032973061-Joseph McMurray (032973061) FHSS - Economics","Active",null,null,null,null,null,null,null,null,null,null,null,"SC5109","SC5109||5000","5000","Salaries and Wages","Primary","All"]
[null,null,null,null,null,null,"AC00287","[FHSS] Psychology ELF","AC00287-[FHSS] Psychology ELF","Activity","FD03","Active","2025-03-17T16:11:52.138121+00:00",null,"SC6431","Laundry Services","SC6431-Laundry Services","Spend Category","Active",null,null,"11131","WI Madison","11131-WI Madison",null,null,null,"AS032979023","Julee Braithwaite (032979023) Fine Arts & Communications - Dean's Office","AS032979023-Julee Braithwaite (032979023) Fine Arts & Communications - Dean's Office","Active",null,null,null,null,null,null,null,null,null,null,null,"SC5120","SC5120||5000","5000","Salaries and Wages","Primary","JE_Payroll|JE_Override"]
[null,null,null,null,null,null,"AC00288","[FHSS] MFHD Graduate Funds","AC00288-[FHSS] MFHD Graduate Funds","Activity","FD01","Active","2025-03-17T16:11:52.138121+00:00",null,"SC6432","Legal Services","SC6432-Legal Services","Spend Category","Active",null,null,"11145","Singapore-Singapore","11145-Singapore-Singapore",null,null,null,"AS033040609","Ben Bagley (033040609) BYU Broadcasting - Sports","AS033040609-Ben Bagley (033040609) BYU Broadcasting - Sports","Active",null,null,null,null,null,null,null,null,null,null,null,"SC5130","SC5130||5000","5000","Salaries and Wages","Primary","JE_Payroll|JE_Override"]
[null,null,null,null,null,null,"AC00289","[FHSS] MFT Graduate Funds","AC00289-[FHSS] MFT Graduate Funds","Activity","FD01","Active","2025-03-17T16:11:52.138121+00:00",null,"SC6433","Medical Services","SC6433-Medical Services","Spend Category","Active",null,null,"11149","New Mexico-Farmington","11149-New Mexico-Farmington",null,null,null,"AS033275920","Robyn Damon (033275920) Student Connection and Leadership Center","AS033275920-Robyn Damon (033275920) Student Connection and Leadership Center","Active",null,null,null,null,null,null,null,null,null,null,null,"SC5190","SC5190||5000","5000","Salaries and Wages","Primary","JE_Payroll|JE_Override"]
[null,null,null,null,null,null,"AC00290","[FHSS] Relate Institute","AC00290-[FHSS] Relate Institute","Activity","FD02","Active","2025-03-17T16:11:52.138121+00:00",null,"SC6434","Membership Dues","SC6434-Membership Dues","Spend Category","Active",null,null,"11150","Leadership Conference","11150-Leadership Conference",null,null,null,"AS033285124","Kory Staheli (033285124) Law School - Law Library","AS033285124-Kory Staheli (033285124) Law School - Law Library","Active",null,null,null,null,null,null,null,null,null,null,null,"SC5300","SC5300||5000","5000","Salaries and Wages","Primary","JE_Payroll|JE_Override"]
[null,null,null,null,null,null,"AC00291","[FHSS] Sewing Lab 185","AC00291-[FHSS] Sewing Lab 185","Activity","FD02","Active","2025-03-17T16:11:52.138121+00:00",null,"SC6435","Misc Independent Contractors","SC6435-Misc Independent Contractors","Spend Category","Active",null,null,"11151","Alaska, Anchorage","11151-Alaska, Anchorage",null,null,null,"AS033334487","Julia Qiao (033334487) Alumni Aspen Grove","AS033334487-Julia Qiao (033334487) Alumni Aspen Grove","Active",null,null,null,null,null,null,null,null,null,null,null,"SC5309","SC5309||5000","5000","Salaries and Wages","Primary","All"]
[null,null,null,null,null,null,"AC00292","[FHSS] Family Life Education Support","AC00292-[FHSS] Family Life Education Support","Activity","FD02","Active","2025-03-17T16:11:52.138121+00:00",null,"SC6436","Non-BYU Tuition Payment","SC6436-Non-BYU Tuition Payment","Spend Category","Active",null,null,"11153","Ohio, Cleveland","11153-Ohio, Cleveland",null,null,null,"AS033363707","Jon Rodriguez (033363707) Lee Library - Information Technology","AS033363707-Jon Rodriguez (033363707) Lee Library - Information Technology","Active",null,null,null,null,null,null,null,null,null,null,null,"SC5320","SC5320||5000","5000","Salaries and Wages","Primary","JE_Payroll|JE_Override"]
[null,null,null,null,null,null,"AC00293","[FHSS] Schl of Fam Life Student Assoc","AC00293-[FHSS] Schl of Fam Life Student Assoc","Activity","FD02","Active","2025-03-17T16:11:52.138121+00:00",null,"SC6437","Out of State Worker Contracts","SC6437-Out of State Worker Contracts","Spend Category","Active",null,null,"11206","Honored Alumni","11206-Honored Alumni",null,null,null,"AS033388524","Christopher Flood (033388524) Humanities - French & Italian Languages","AS033388524-Christopher Flood (033388524) Humanities - French & Italian Languages","Active",null,null,null,null,null,null,null,null,null,null,null,"SC5400","SC5400||5000","5000","Salaries and Wages","Primary","JE_Payroll|JE_Override"]
[null,null,null,null,null,null,"AC00294","[FHSS] Food Preparation Lab","AC00294-[FHSS] Food Preparation Lab","Activity","FD02","Active","2025-03-17T16:11:52.138121+00:00",null,"SC6438","Performers/Presenters","SC6438-Performers/Presenters","Spend Category","Active",null,null,"11300","ATH Office Administration","11300-ATH Office Administration",null,null,null,"AS033469928","Dan Graham (033469928) Athletics - Olympic Sport Medicine","AS033469928-Dan Graham (033469928) Athletics - Olympic Sport Medicine","Active",null,null,null,null,null,null,null,null,null,null,null,"SC5409","SC5409||5000","5000","Salaries and Wages","Primary","All"]
[null,null,null,null,null,null,"AC00295","[FHSS] U3 Research","AC00295-[FHSS] U3 Research","Activity","FD03","Active","2025-03-17T16:11:52.138121+00:00",null,"SC6439","Pest Control Services","SC6439-Pest Control Services","Spend Category","Active",null,null,"11303","ATH E Club","11303-ATH E Club",null,null,null,"AS033487669","Karen Abbott (033487669) Indefinite Leaves","AS033487669-Karen Abbott (033487669) Indefinite Leaves","Active",null,null,null,null,null,null,null,null,null,null,null,"SC5430","SC5430||5000","5000","Salaries and Wages","Primary","JE_Payroll|JE_Override"]
[null,null,null,null,null,null,"AC00296","[FHSS] Sexual Mindfulness","AC00296-[FHSS] Sexual Mindfulness","Activity","FD03","Active","2025-03-17T16:11:52.138121+00:00",null,"SC6440","Portable Structures-Rent/Lease <=1yr","SC6440-Portable Structures-Rent/Lease <=1yr","Spend Category","Active",null,null,"11307","ATH Cougar Room","11307-ATH Cougar Room",null,null,null,"AS033938754","Patrick Weaver (033938754) Cougareat","AS033938754-Patrick Weaver (033938754) Cougareat","Active",null,null,null,null,null,null,null,null,null,null,null,"SC5500","SC5500||5000","5000","Salaries and Wages","Primary","JE_Payroll|JE_Override"]
[null,null,null,null,null,null,"AC00297","[FHSS] Family Finance Research - F2R3","AC00297-[FHSS] Family Finance Research - F2R3","Activity","FD03","Active","2025-03-17T16:11:52.138121+00:00",null,"SC6441","Postage, Shipping and Freight","SC6441-Postage, Shipping and Freight","Spend Category","Active",null,null,"11310","Golf Events","11310-Golf Events",null,null,null,"AS034049120","Rob Martinsen (034049120) Humanities - Spanish & Portuguese","AS034049120-Rob Martinsen (034049120) Humanities - Spanish & Portuguese","Active",null,null,null,null,null,null,null,null,null,null,null,"SC5502","SC5502||5000","5000","Salaries and Wages","Primary","JE_Payroll|JE_Override"]
[null,null,null,null,null,null,"AC00298","[FHSS] Jackling Home Economics Fund","AC00298-[FHSS] Jackling Home Economics Fund","Activity","FD03","Active","2025-03-17T16:11:52.138121+00:00",null,"SC6442","Printing Services","SC6442-Printing Services","Spend Category","Active",null,null,"11311","ATH Hall of Fame","11311-ATH Hall of Fame",null,null,null,"AS034199857","David Brownell (034199857) Lee Library - Information Technology","AS034199857-David Brownell (034199857) Lee Library - Information Technology","Active",null,null,null,null,null,null,null,null,null,null,null,"SC5509","SC5509||5000","5000","Salaries and Wages","Primary","All"]
[null,null,null,null,null,null,"AC00299","[FHSS] Health Sexuality Research","AC00299-[FHSS] Health Sexuality Research","Activity","FD03","Active","2025-03-17T16:11:52.138121+00:00",null,"SC6443","Production Services","SC6443-Production Services","Spend Category","Active",null,null,"11312","ATH Legacy","11312-ATH Legacy",null,null,null,"AS034332558","Cheree Caldwell (034332558) MSE  - Teacher Education","AS034332558-Cheree Caldwell (034332558) MSE  - Teacher Education","Active",null,null,null,null,null,null,null,null,null,null,null,"SC5600","SC5600||5000","5000","Salaries and Wages","Primary","JE_Payroll|JE_Override"]
[null,null,null,null,null,null,"AC00300","[FHSS] MFT Process Project","AC00300-[FHSS] MFT Process Project","Activity","FD03","Active","2025-03-17T16:11:52.138121+00:00",null,"SC6444","Promotional and Branded Items","SC6444-Promotional and Branded Items","Spend Category","Active",null,null,"11313","ATH CC Trip","11313-ATH CC Trip",null,null,null,"AS034432760","Ronnie Foo (034432760) Cannon Center","AS034432760-Ronnie Foo (034432760) Cannon Center","Active",null,null,null,null,null,null,null,null,null,null,null,"SC5602","SC5602||5000","5000","Salaries and Wages","Primary","JE_Payroll|JE_Override"]
[null,null,null,null,null,null,"AC00301","[FHSS] PACIFIC Project","AC00301-[FHSS] PACIFIC Project","Activity","FD03","Active","2025-03-17T16:11:52.138121+00:00",null,"SC6445","Public Safety Services","SC6445-Public Safety Services","Spend Category","Active",null,null,"11318","ATH Cougar Strong","11318-ATH Cougar Strong",null,null,null,"AS034526225","Laura Dahl (034526225) CMS - Computer Science","AS034526225-Laura Dahl (034526225) CMS - Computer Science","Active",null,null,null,null,null,null,null,null,null,null,null,"SC5609","SC5609||5000","5000","Salaries and Wages","Primary","All"]
[null,null,null,null,null,null,"AC00302","[FHSS] Media Project","AC00302-[FHSS] Media Project","Activity","FD03","Active","2025-03-17T16:11:52.138121+00:00",null,"SC6446","Publication Services","SC6446-Publication Services","Spend Category","Active",null,null,"11319","ATH GoCougs.com","11319-ATH GoCougs.com",null,null,null,"AS034669016","Akash Sebastian (034669016) Athletics - Men's Basketball","AS034669016-Akash Sebastian (034669016) Athletics - Men's Basketball","Active",null,null,null,null,null,null,null,null,null,null,null,"SC5700","SC5700||5000","5000","Salaries and Wages","Primary","JE_Payroll|JE_Override"]
[null,null,null,null,null,null,"AC00303","[FHSS] Williams Prof-ship C H Hart","AC00303-[FHSS] Williams Prof-ship C H Hart","Activity","FD03","Active","2025-03-17T16:11:52.138121+00:00",null,"SC6447","Real Estate - Rent/Lease <=1yr","SC6447-Real Estate - Rent/Lease <=1yr","Spend Category","Active",null,null,"11323","ATH Cougar Room","11323-ATH Cougar Room",null,null,null,"AS035026299","Jeff Bednar (035026299) MSB - Management","AS035026299-Jeff Bednar (035026299) MSB - Management","Active",null,null,null,null,null,null,null,null,null,null,null,"SC5709","SC5709||5000","5000","Salaries and Wages","Primary","All"]
[null,null,null,null,null,null,"AC00304","[FHSS] READY Project","AC00304-[FHSS] READY Project","Activity","FD03","Active","2025-03-17T16:11:52.138121+00:00",null,"SC6448","Real Estate - Rent/Lease >1yr","SC6448-Real Estate - Rent/Lease >1yr","Spend Category","Active",null,null,"11324","ATH ATH CC Same Day Trips","11324-ATH ATH CC Same Day Trips",null,null,null,"AS035118477","Soraya Cullimore (035118477)","AS035118477-Soraya Cullimore (035118477)","Active",null,null,null,null,null,null,null,null,null,null,null,"SC5730","SC5730||5000","5000","Salaries and Wages","Primary","JE_Payroll|JE_Override"]
[null,null,null,null,null,null,"AC00305","[FHSS] American Families of Faith","AC00305-[FHSS] American Families of Faith","Activity","FD03","Active","2025-03-17T16:11:52.138121+00:00",null,"SC6449","Rent/Lease < = 1 year","SC6449-Rent/Lease < = 1 year","Spend Category","Active",null,null,"11325","ATH Y Fan","11325-ATH Y Fan",null,null,null,"AS035310543","Niwako Yamawaki (035310543) AVP - Dean, Family Home Social Science (FHSS)","AS035310543-Niwako Yamawaki (035310543) AVP - Dean, Family Home Social Science (FHSS)","Active",null,null,null,null,null,null,null,null,null,null,null,"SC5800","SC5800||5000","5000","Salaries and Wages","Primary","JE_Payroll|JE_Override"]
[null,null,null,null,null,null,"AC00306","[FHSS] CREATE Project","AC00306-[FHSS] CREATE Project","Activity","FD03","Active","2025-03-25T02:03:53.792937+00:00",null,"SC6450","Rent/Lease >1 Year","SC6450-Rent/Lease >1 Year","Spend Category","Active",null,null,"11326","ATH Regular Cougar","11326-ATH Regular Cougar",null,null,null,"AS035345304","Craig Shaw (035345304) College of Engineering - Civil & Construction Engineering","AS035345304-Craig Shaw (035345304) College of Engineering - Civil & Construction Engineering","Active",null,null,null,null,null,null,null,null,null,null,null,"SC5860","SC5860||5000","5000","Salaries and Wages","Primary","JE_Payroll|JE_Override"]
[null,null,null,null,null,null,"AC00307","[FHSS] CHAMPS Project","AC00307-[FHSS] CHAMPS Project","Activity","FD03","Active","2025-03-17T16:11:52.138121+00:00",null,"SC6451","Research Subjects","SC6451-Research Subjects","Spend Category","Active",null,null,"11327","ATH Bronze Cougar","11327-ATH Bronze Cougar",null,null,null,"AS035448980","Christina Johnson (035448980) Dean's Office Humanities","AS035448980-Christina Johnson (035448980) Dean's Office Humanities","Active",null,null,null,null,null,null,null,null,null,null,null,"SC5890","SC5890||5800","5800","Project Labor Cost","Primary","JE_Payroll|JE_Override"]
[null,null,null,null,null,null,"AC00308","[FHSS] Suicide Bereavement","AC00308-[FHSS] Suicide Bereavement","Activity","FD03","Active","2025-03-17T16:11:52.138121+00:00",null,"SC6452","Royalties and Licensing Fees","SC6452-Royalties and Licensing Fees","Spend Category","Active",null,null,"11328","ATH Platinum Cougar","11328-ATH Platinum Cougar",null,null,null,"AS035589209","Julie Kaio (035589209) PMPC Administration","AS035589209-Julie Kaio (035589209) PMPC Administration","Active",null,null,null,null,null,null,null,null,null,null,null,"SC5891","SC5891||5801","5801","Project Labor Cost Recovery","Primary","JE_Payroll|JE_Override"]
[null,null,null,null,null,null,"AC00309","[FHSS] ADEPT Project","AC00309-[FHSS] ADEPT Project","Activity","FD03","Active","2025-03-17T16:11:52.138121+00:00",null,"SC6453","Scientific Services","SC6453-Scientific Services","Spend Category","Active",null,null,"11329","ATH Silver Cougar","11329-ATH Silver Cougar",null,null,null,"AS035603264","Selma Alexandre (035603264) Lee Library - Metadata & IT Division","AS035603264-Selma Alexandre (035603264) Lee Library - Metadata & IT Division","Active",null,null,null,null,null,null,null,null,null,null,null,"SC5892","SC5892||5800","5800","Project Labor Cost","Primary","JE_Payroll|JE_Override"]
[null,null,null,null,null,null,"AC00310","[FHSS] Global Families Research","AC00310-[FHSS] Global Families Research","Activity","FD03","Active","2025-03-17T16:11:52.138121+00:00",null,"SC6454","Screening Services","SC6454-Screening Services","Spend Category","Active",null,null,"11330","ATH Golden Cougar","11330-ATH Golden Cougar",null,null,null,"AS035657201","JanaLee Longhurst (035657201) Jerusalem Center","AS035657201-JanaLee Longhurst (035657201) Jerusalem Center","Active",null,null,null,null,null,null,null,null,null,null,null,"SC5893","SC5893||5801","5801","Project Labor Cost Recovery","Primary","JE_Payroll|JE_Override"]
[null,null,null,null,null,null,"AC00312","[FHSS] SFL Writing Program","AC00312-[FHSS] SFL Writing Program","Activity","FD03","Active","2025-03-17T16:11:52.138121+00:00",null,"SC6455","Services (not otherwise specified)","SC6455-Services (not otherwise specified)","Spend Category","Active",null,null,"11331","ATH ATH CC Football Trip","11331-ATH ATH CC Football Trip",null,null,null,"AS035783483","James Oldroyd (035783483) MSB - Management","AS035783483-James Oldroyd (035783483) MSB - Management","Active",null,null,null,null,null,null,null,null,null,null,null,"SC5899","SC5899||5000","5000","Salaries and Wages","Primary","All"]
[null,null,null,null,null,null,"AC00313","[FHSS] RESTARTS","AC00313-[FHSS] RESTARTS","Activity","FD03","Active","2025-03-17T16:11:52.138121+00:00",null,"SC6456","Shared Partner Services","SC6456-Shared Partner Services","Spend Category","Active",null,null,"11332","ATH Legacy 2","11332-ATH Legacy 2",null,null,null,"AS035835926","Tyson Hutchins (035835926) Athletics - External Relations","AS035835926-Tyson Hutchins (035835926) Athletics - External Relations","Active",null,null,null,null,null,null,null,null,null,null,null,"SC5900","SC5900||5900","5900","Benefits","Primary","JE_Payroll|JE_Override"]
[null,null,null,null,null,null,"AC00314","[FHSS] Child Marriage in Ghana","AC00314-[FHSS] Child Marriage in Ghana","Activity","FD03","Active","2025-03-17T16:11:52.138121+00:00",null,"SC6457","Student Teacher Supervision","SC6457-Student Teacher Supervision","Spend Category","Active",null,null,"11333","ATH Legacy 3","11333-ATH Legacy 3",null,null,null,"AS035905773","Todd Cope (035905773) HS General Medicine - Nursing","AS035905773-Todd Cope (035905773) HS General Medicine - Nursing","Active",null,null,null,null,null,null,null,null,null,null,null,"SC5910","SC5910||5900","5900","Benefits","Primary","JE_Payroll|JE_Override"]
[null,null,null,null,null,null,"AC00315","[FHSS] Festivals Project","AC00315-[FHSS] Festivals Project","Activity","FD03","Active","2025-03-17T16:11:52.138121+00:00",null,"SC6458","Subscriptions","SC6458-Subscriptions","Spend Category","Active",null,null,"11334","ATH Legacy 4","11334-ATH Legacy 4",null,null,null,"AS036096603","Kasey Walker (036096603) CE FSY West","AS036096603-Kasey Walker (036096603) CE FSY West","Active",null,null,null,null,null,null,null,null,null,null,null,"SC5930","SC5930||5900","5900","Benefits","Primary","JE_Payroll|JE_Override"]
[null,null,null,null,null,null,"AC00316","[FHSS] Project M.E.D.I.A. PIA","AC00316-[FHSS] Project M.E.D.I.A. PIA","Activity","FD03","Active","2025-03-17T16:11:52.138121+00:00",null,"SC6459","Taxes","SC6459-Taxes","Spend Category","Active",null,null,"11335","ATH Legacy 5","11335-ATH Legacy 5",null,null,null,"AS036185835","David Lund (036185835) CE Student Success Center","AS036185835-David Lund (036185835) CE Student Success Center","Active",null,null,null,null,null,null,null,null,null,null,null,"SC5940","SC5940||5900","5900","Benefits","Primary","JE_Payroll|JE_Override"]
[null,null,null,null,null,null,"AC00318","[FHSS] SFL ELF","AC00318-[FHSS] SFL ELF","Activity","FD03","Active","2025-03-17T16:11:52.138121+00:00",null,"SC6460","Testing Services","SC6460-Testing Services","Spend Category","Active",null,null,"11336","ATH Legacy 6","11336-ATH Legacy 6",null,null,null,"AS036343192","Stephen Banks (036343192) PF Grounds - Landscaping Specialty","AS036343192-Stephen Banks (036343192) PF Grounds - Landscaping Specialty","Active",null,null,null,null,null,null,null,null,null,null,null,"SC5950","SC5950||5900","5900","Benefits","Primary","JE_Payroll|JE_Override"]
[null,null,null,null,null,null,"AC00319","[FHSS] Home Economics Sunshine Fund","AC00319-[FHSS] Home Economics Sunshine Fund","Activity","FD07","Active","2025-03-17T16:11:52.138121+00:00",null,"SC6461","TV, Media Subscription Services","SC6461-TV, Media Subscription Services","Spend Category","Active",null,null,"11338","Fund Raising","11338-Fund Raising",null,null,null,"AS036388489","Maddie Blonquist (036388489) Museum of Art","AS036388489-Maddie Blonquist (036388489) Museum of Art","Active",null,null,null,null,null,null,null,null,null,null,null,"SC5970","SC5970||5900","5900","Benefits","Primary","JE_Payroll|JE_Override"]
[null,null,null,null,null,null,"AC00320","[FHSS] Flourishing Families II","AC00320-[FHSS] Flourishing Families II","Activity","FD03","Active","2025-03-17T16:11:52.138121+00:00",null,"SC6462","University Donations","SC6462-University Donations","Spend Category","Active",null,null,"11339","ATH AD Circle","11339-ATH AD Circle",null,null,null,"AS036395666","Amy Tanner (036395666) CMS - Mathematics Education","AS036395666-Amy Tanner (036395666) CMS - Mathematics Education","Active",null,null,null,null,null,null,null,null,null,null,null,"SC5990","SC5990||5900","5900","Benefits","Primary","JE_Payroll|JE_Override"]
[null,null,null,null,null,null,"AC00321","[FHSS] Fam Clinic Fam Consl","AC00321-[FHSS] Fam Clinic Fam Consl","Activity","FD02","Active","2025-03-17T16:11:52.138121+00:00",null,"SC6463","Waste Disposal Services","SC6463-Waste Disposal Services","Spend Category","Active",null,null,"11342","Lifetime Silver","11342-Lifetime Silver",null,null,null,"AS036515720","John Burton (036515720) MSB - Experience Design & Management","AS036515720-John Burton (036515720) MSB - Experience Design & Management","Active",null,null,null,null,null,null,null,null,null,null,null,"SC5995","SC5995||5900","5900","Benefits","Primary","JE_Payroll|JE_Override"]
[null,null,null,null,null,null,"AC00322","[FHSS] C&FSL Business Operations","AC00322-[FHSS] C&FSL Business Operations","Activity","FD02","Active","2025-04-05T02:04:05.378113+00:00",null,"SC6464","Facilities and Administration Expense","SC6464-Facilities and Administration Expense","Spend Category","Active",null,null,"11352","Events","11352-Events",null,null,null,"AS036534225","Mark Tanner (036534225) Humanities - Linguistics","AS036534225-Mark Tanner (036534225) Humanities - Linguistics","Active",null,null,null,null,null,null,null,null,null,null,null,"SC5998","SC5998||5900","5900","Benefits","Primary","JE_Payroll|JE_Override"]
[null,null,null,null,null,null,"AC00323","[FHSS] Social Work","AC00323-[FHSS] Social Work","Activity","FD01","Active","2025-03-17T16:11:52.138121+00:00",null,"SC6465","Facilities and Administration Recovery","SC6465-Facilities and Administration Recovery","Spend Category","Active",null,null,"11353","Football","11353-Football",null,null,null,"AS036625497","James Swensen (036625497) Humanities - Comparative Arts & Letters","AS036625497-James Swensen (036625497) Humanities - Comparative Arts & Letters","Active",null,null,null,null,null,null,null,null,null,null,null,"SC5999","SC5999||5900","5900","Benefits","Primary","All"]
[null,null,null,null,null,null,"AC00324","[FHSS] Master of Social Work St Assoc","AC00324-[FHSS] Master of Social Work St Assoc","Activity","FD02","Active","2025-03-17T16:11:52.138121+00:00",null,"SC6466","Income Taxes","SC6466-Income Taxes","Spend Category","Active",null,null,"11354","Basketball Men's","11354-Basketball Men's",null,null,null,"AS036662118","Fenima Price (036662118) College of Engineering - Mechanical Engineering","AS036662118-Fenima Price (036662118) College of Engineering - Mechanical Engineering","Active",null,null,null,null,null,null,null,null,null,null,null,"SC6101","SC6101||1400","1400","Prepaid Expenses",null,"All"]
[null,null,null,null,null,null,"AC00326","[FHSS] Social Work ELF","AC00326-[FHSS] Social Work ELF","Activity","FD03","Active","2025-03-17T16:11:52.138121+00:00",null,"SC6467","Donation to Affiliate","SC6467-Donation to Affiliate","Spend Category","Active",null,null,"11355","Band Day","11355-Band Day",null,null,null,"AS036712284","Morgan Davis (036712284) Neal A. Maxwell Institute","AS036712284-Morgan Davis (036712284) Neal A. Maxwell Institute","Active",null,null,null,null,null,null,null,null,null,null,null,"SC6101","SC6101||6100","6100","Materials and Supplies","Primary","All"]
[null,null,null,null,null,null,"AC00327","[FHSS] Sociology Graduate Prog.","AC00327-[FHSS] Sociology Graduate Prog.","Activity","FD01","Active","2025-03-17T16:11:52.138121+00:00",null,"SC6499","General and Administrative (reclass)","SC6499-General and Administrative (reclass)","Spend Category","Active",null,null,"11358","Basketball Women's","11358-Basketball Women's",null,null,null,"AS036967697","Todd Fluckiger (036967697) Chemistry and Biochemistry","AS036967697-Todd Fluckiger (036967697) Chemistry and Biochemistry","Active",null,null,null,null,null,null,null,null,null,null,null,"SC6102","SC6102||1400","1400","Prepaid Expenses",null,"All"]
[null,null,null,null,null,null,"AC00328","[FHSS] Life & Family Legacies Study","AC00328-[FHSS] Life & Family Legacies Study","Activity","FD01","Active","2025-03-17T16:11:52.138121+00:00",null,"SC6610","Interest Expense","SC6610-Interest Expense","Spend Category","Active",null,null,"11359","Gymnastics","11359-Gymnastics",null,null,null,"AS037313380","Ernest Perry (037313380) Civil and Construction Enginee","AS037313380-Ernest Perry (037313380) Civil and Construction Enginee","Active",null,null,null,null,null,null,null,null,null,null,null,"SC6102","SC6102||6100","6100","Materials and Supplies","Primary","All"]
[null,null,null,null,null,null,"AC00329","[FHSS] Sociology Student Association","AC00329-[FHSS] Sociology Student Association","Activity","FD02","Active","2025-03-17T16:11:52.138121+00:00",null,"SC6701","Building Access Supplies","SC6701-Building Access Supplies","Spend Category","Active",null,null,"11360","Christmas Around the World","11360-Christmas Around the World",null,null,null,"AS037487026","Steve Blanthorn (037487026) HS Administration","AS037487026-Steve Blanthorn (037487026) HS Administration","Active",null,null,null,null,null,null,null,null,null,null,null,"SC6103","SC6103||1400","1400","Prepaid Expenses",null,"All"]
[null,null,null,null,null,null,"AC00330","[FHSS] Rural Socialogy Journal","AC00330-[FHSS] Rural Socialogy Journal","Activity","FD02","Active","2025-03-17T16:11:52.138121+00:00",null,"SC6702","Building Construction and Improvements","SC6702-Building Construction and Improvements","Spend Category","Active",null,null,"11361","Ballroom Dance - Sport","11361-Ballroom Dance - Sport",null,null,null,"AS037491809","Chelsea Cole (037491809) MSE  - Teacher Education","AS037491809-Chelsea Cole (037491809) MSE  - Teacher Education","Active",null,null,null,null,null,null,null,null,null,null,null,"SC6103","SC6103||6100","6100","Materials and Supplies","Primary","All"]
[null,null,null,null,null,null,"AC00331","[FHSS] Life & Family Legacies Study","AC00331-[FHSS] Life & Family Legacies Study","Activity","FD03","Active","2025-03-17T16:11:52.138121+00:00",null,"SC6703","Building Furnishings","SC6703-Building Furnishings","Spend Category","Active",null,null,"11362","Ballroom Dance - Concert","11362-Ballroom Dance - Concert",null,null,null,"AS037502553","Josh Price (037502553) CMS - Chemistry and Biochemistry","AS037502553-Josh Price (037502553) CMS - Chemistry and Biochemistry","Active",null,null,null,null,null,null,null,null,null,null,null,"SC6104","SC6104||1400","1400","Prepaid Expenses",null,"All"]
[null,null,null,null,null,null,"AC00332","[FHSS] Graduate Studies (TR)","AC00332-[FHSS] Graduate Studies (TR)","Activity","FD03","Active","2025-03-17T16:11:52.138121+00:00",null,"SC6704","Building Materials - Finishing","SC6704-Building Materials - Finishing","Spend Category","Active",null,null,"11363","Korean Club Bobsim","11363-Korean Club Bobsim",null,null,null,"AS037546469","John Patten (037546469) AVP - Dean, McKay School of Education (MSE)","AS037546469-John Patten (037546469) AVP - Dean, McKay School of Education (MSE)","Active",null,null,null,null,null,null,null,null,null,null,null,"SC6104","SC6104||6100","6100","Materials and Supplies","Primary","All"]
[null,null,null,null,null,null,"AC00333","[FHSS] Fatherhood Research Project","AC00333-[FHSS] Fatherhood Research Project","Activity","FD03","Active","2025-03-17T16:11:52.138121+00:00",null,"SC6705","Building Materials - Raw","SC6705-Building Materials - Raw","Spend Category","Active",null,null,"11364","Stadium of Fire","11364-Stadium of Fire",null,null,null,"AS037553377","Adam Brewer (037553377) FHSS - History","AS037553377-Adam Brewer (037553377) FHSS - History","Active",null,null,null,null,null,null,null,null,null,null,null,"SC6105","SC6105||1400","1400","Prepaid Expenses",null,"All"]
[null,null,null,null,null,null,"AC00335","[FHSS] Sociology ELF","AC00335-[FHSS] Sociology ELF","Activity","FD03","Active","2025-03-17T16:11:52.138121+00:00",null,"SC6706","Electrical Devices","SC6706-Electrical Devices","Spend Category","Active",null,null,"11365","Museum Exhibit","11365-Museum Exhibit",null,null,null,"AS037652184","Rachel McGovern (037652184) FHSS - School of Family Life","AS037652184-Rachel McGovern (037652184) FHSS - School of Family Life","Active",null,null,null,null,null,null,null,null,null,null,null,"SC6105","SC6105||6100","6100","Materials and Supplies","Primary","All"]
[null,null,null,null,null,null,"AC00336","[LFSC] Life Sciences Communications","AC00336-[LFSC] Life Sciences Communications","Activity","FD01","Active","2025-03-17T16:11:52.138121+00:00",null,"SC6707","Electrical Supplies","SC6707-Electrical Supplies","Spend Category","Active",null,null,"11368","Other Events","11368-Other Events",null,null,null,"AS037842686","Nina Whitehead (037842686) Marketing, Communications, & Technology","AS037842686-Nina Whitehead (037842686) Marketing, Communications, & Technology","Active",null,null,null,null,null,null,null,null,null,null,null,"SC6106","SC6106||1400","1400","Prepaid Expenses",null,"All"]
[null,null,null,null,null,null,"AC00337","[LFSC] Research & Prof Dev","AC00337-[LFSC] Research & Prof Dev","Activity","FD01","Active","2025-03-17T16:11:52.138121+00:00",null,"SC6708","Fans/Furnaces","SC6708-Fans/Furnaces","Spend Category","Active",null,null,"11374","Novelties","11374-Novelties",null,null,null,"AS037893603","Eric Eliason (037893603) Humanities - English","AS037893603-Eric Eliason (037893603) Humanities - English","Active",null,null,null,null,null,null,null,null,null,null,null,"SC6106","SC6106||1650","1650","Construction in Progress",null,"JE_PPE|JE_Override"]
[null,null,null,null,null,null,"AC00338","[LFSC] Unallocated Research","AC00338-[LFSC] Unallocated Research","Activity","FD01","Active","2025-03-17T16:11:52.138121+00:00",null,"SC6709","Flooring Materials","SC6709-Flooring Materials","Spend Category","Active",null,null,"11376","Concessions","11376-Concessions",null,null,null,"AS037908516","Jared Barrott (037908516) Life Sciences - Cell Biology & Physiology","AS037908516-Jared Barrott (037908516) Life Sciences - Cell Biology & Physiology","Active",null,null,null,null,null,null,null,null,null,null,null,"SC6106","SC6106||1651","1651","Construction in Progress (Non-Workday Projects)",null,"All"]
[null,null,null,null,null,null,"AC00339","[LFSC] LFSC Fac Research Publications","AC00339-[LFSC] LFSC Fac Research Publications","Activity","FD01","Active","2025-03-17T16:11:52.138121+00:00",null,"SC6710","Furnishing Accessories","SC6710-Furnishing Accessories","Spend Category","Active",null,null,"11377","Facility Rm Rent","11377-Facility Rm Rent",null,null,null,"AS038007991","Tom Halladay (038007991) PF Dining and MTC Maintenance","AS038007991-Tom Halladay (038007991) PF Dining and MTC Maintenance","Active",null,null,null,null,null,null,null,null,null,null,null,"SC6106","SC6106||4900","4900","Cost of Sales",null,"All"]
[null,null,null,null,null,null,"AC00340","[LFSC] Life Sciences Replacement","AC00340-[LFSC] Life Sciences Replacement","Activity","FD01","Active","2025-03-17T16:11:52.138121+00:00",null,"SC6711","Grounds and Landscaping Supplies","SC6711-Grounds and Landscaping Supplies","Spend Category","Active",null,null,"11378","P/P MC Projects","11378-P/P MC Projects",null,null,null,"AS038129523","Emily Leslie (038129523) FHSS - Economics","AS038129523-Emily Leslie (038129523) FHSS - Economics","Active",null,null,null,null,null,null,null,null,null,null,null,"SC6106","SC6106||6100","6100","Materials and Supplies","Primary","All"]
[null,null,null,null,null,null,"AC00341","[LFSC] Research Development","AC00341-[LFSC] Research Development","Activity","FD01","Active","2025-03-17T16:11:52.138121+00:00",null,"SC6712","Grounds Services","SC6712-Grounds Services","Spend Category","Active",null,null,"11379","P/P Stadium Projects","11379-P/P Stadium Projects",null,null,null,"AS038220462","Karen Seely (038220462) Brand & Creative","AS038220462-Karen Seely (038220462) Brand & Creative","Active",null,null,null,null,null,null,null,null,null,null,null,"SC6107","SC6107||1400","1400","Prepaid Expenses",null,"All"]
[null,null,null,null,null,null,"AC00342","[LFSC] LFSC-Internship Travel Grants","AC00342-[LFSC] LFSC-Internship Travel Grants","Activity","FD01","Active","2025-03-17T16:11:52.138121+00:00",null,"SC6713","Industrial Fixtures","SC6713-Industrial Fixtures","Spend Category","Active",null,null,"11380","P/P MC Events","11380-P/P MC Events",null,null,null,"AS038337912","Jim Armstrong (038337912) Dean's Office - Life Sciences","AS038337912-Jim Armstrong (038337912) Dean's Office - Life Sciences","Active",null,null,null,null,null,null,null,null,null,null,null,"SC6107","SC6107||1650","1650","Construction in Progress",null,"JE_PPE|JE_Override"]
[null,null,null,null,null,null,"AC00343","[LFSC] Life Sciences Special Projects","AC00343-[LFSC] Life Sciences Special Projects","Activity","FD01","Active","2025-03-17T16:11:52.138121+00:00",null,"SC6714","Lighting Fixtures and Lamps","SC6714-Lighting Fixtures and Lamps","Spend Category","Active",null,null,"11381","P/P Stadium Events","11381-P/P Stadium Events",null,null,null,"AS038391352","Darren Aiello (038391352) MSB - Finance","AS038391352-Darren Aiello (038391352) MSB - Finance","Active",null,null,null,null,null,null,null,null,null,null,null,"SC6107","SC6107||4900","4900","Cost of Sales",null,"All"]
[null,null,null,null,null,null,"AC00344","[LFSC] Ugrad Mentored Learning Suppt","AC00344-[LFSC] Ugrad Mentored Learning Suppt","Activity","FD01","Active","2025-03-17T16:11:52.138121+00:00",null,"SC6715","Plumbing Fixtures","SC6715-Plumbing Fixtures","Spend Category","Active",null,null,"11382","Media Services Events","11382-Media Services Events",null,null,null,"AS038401493","Katharina Paxman (038401493) Humanities - Philosophy","AS038401493-Katharina Paxman (038401493) Humanities - Philosophy","Active",null,null,null,null,null,null,null,null,null,null,null,"SC6107","SC6107||6100","6100","Materials and Supplies","Primary","All"]
[null,null,null,null,null,null,"AC00345","[LFSC] Operational Fndrsg Replac-LSDO","AC00345-[LFSC] Operational Fndrsg Replac-LSDO","Activity","FD01","Active","2025-03-17T16:11:52.138121+00:00",null,"SC6716","Retainage","SC6716-Retainage","Spend Category","Active",null,null,"11386","Safety Office Events","11386-Safety Office Events",null,null,null,"AS038520514","Lisa Mortensen (038520514) Risk Management & Safety - Risk Management & Insurance","AS038520514-Lisa Mortensen (038520514) Risk Management & Safety - Risk Management & Insurance","Active",null,null,null,null,null,null,null,null,null,null,null,"SC6108","SC6108||1400","1400","Prepaid Expenses",null,"All"]
[null,null,null,null,null,null,"AC00346","[LFSC] LFSC Belonging","AC00346-[LFSC] LFSC Belonging","Activity","FD01","Active","2025-03-17T16:11:52.138121+00:00",null,"SC6717","Retainage Interest","SC6717-Retainage Interest","Spend Category","Active",null,null,"11387","Security Events","11387-Security Events",null,null,null,"AS038547214","Hwasun Lee (038547214) Humanities - Asian & Near Eastern Languages","AS038547214-Hwasun Lee (038547214) Humanities - Asian & Near Eastern Languages","Active",null,null,null,null,null,null,null,null,null,null,null,"SC6108","SC6108||1650","1650","Construction in Progress",null,"JE_PPE|JE_Override"]
[null,null,null,null,null,null,"AC00347","[LFSC] Beef Field Day","AC00347-[LFSC] Beef Field Day","Activity","FD02","Active","2025-03-17T16:11:52.138121+00:00",null,"SC6718","Signage, Electronic","SC6718-Signage, Electronic","Spend Category","Active",null,null,"11388","Print Fee","11388-Print Fee",null,null,null,"AS038691148","Kevan Kovacs (038691148) PF Building Operations","AS038691148-Kevan Kovacs (038691148) PF Building Operations","Active",null,null,null,null,null,null,null,null,null,null,null,"SC6108","SC6108||1651","1651","Construction in Progress (Non-Workday Projects)",null,"All"]
[null,null,null,null,null,null,"AC00348","[LFSC] Life Sciences Royalties","AC00348-[LFSC] Life Sciences Royalties","Activity","FD03","Active","2025-03-17T16:11:52.138121+00:00",null,"SC6719","Signage, Non-electronic","SC6719-Signage, Non-electronic","Spend Category","Active",null,null,"11390","Ticket Office Service Fee","11390-Ticket Office Service Fee",null,null,null,"AS038692554","Hunter Henrichsen (038692554) Management Department","AS038692554-Hunter Henrichsen (038692554) Management Department","Active",null,null,null,null,null,null,null,null,null,null,null,"SC6108","SC6108||4900","4900","Cost of Sales",null,"All"]
[null,null,null,null,null,null,"AC00349","[LFSC] Equol Technology Royalties","AC00349-[LFSC] Equol Technology Royalties","Activity","FD03","Active","2025-03-17T16:11:52.138121+00:00",null,"SC6720","Specialized Trade Services - Physical Facilities","SC6720-Specialized Trade Services - Physical Facilities","Spend Category","Active",null,null,"11391","Gift Cards","11391-Gift Cards",null,null,null,"AS038790598","Joseph Roberson (038790598) CE BYU Online High School","AS038790598-Joseph Roberson (038790598) CE BYU Online High School","Active",null,null,null,null,null,null,null,null,null,null,null,"SC6108","SC6108||6100","6100","Materials and Supplies","Primary","All"]
[null,null,null,null,null,null,"AC00350","[LFSC] Turkey Vaccine Study","AC00350-[LFSC] Turkey Vaccine Study","Activity","FD03","Active","2025-03-17T16:11:52.138121+00:00",null,"SC6721","Stage and Studio Lighting (Asset Track)","SC6721-Stage and Studio Lighting (Asset Track)","Spend Category","Active",null,null,"11392","FB Cougar Club Tent","11392-FB Cougar Club Tent",null,null,null,"AS038874886","Doug Thomas (038874886) Fine Arts & Communications - Design","AS038874886-Doug Thomas (038874886) Fine Arts & Communications - Design","Active",null,null,null,null,null,null,null,null,null,null,null,"SC6109","SC6109||1400","1400","Prepaid Expenses",null,"All"]
[null,null,null,null,null,null,"AC00351","[LFSC] Undergrd Experintl Learng-LSDO","AC00351-[LFSC] Undergrd Experintl Learng-LSDO","Activity","FD03","Active","2025-03-17T16:11:52.138121+00:00",null,"SC6722","Utilities, Electricity","SC6722-Utilities, Electricity","Spend Category","Active",null,null,"11393","FB Varsity Tent","11393-FB Varsity Tent",null,null,null,"AS039054501","Terri Summers (039054501) Teacher Education","AS039054501-Terri Summers (039054501) Teacher Education","Active",null,null,null,null,null,null,null,null,null,null,null,"SC6109","SC6109||6100","6100","Materials and Supplies","Primary","All"]
[null,null,null,null,null,null,"AC00352","[LFSC] CURA Indirect Student Aid-LSDO","AC00352-[LFSC] CURA Indirect Student Aid-LSDO","Activity","FD03","Active","2025-03-17T16:11:52.138121+00:00",null,"SC6723","Utilities, Garbage Hauling","SC6723-Utilities, Garbage Hauling","Spend Category","Active",null,null,"11394","ATH FB Backyard Tent","11394-ATH FB Backyard Tent",null,null,null,"AS039175395","Bill Oldroyd (039175395) Enrollment Services Office","AS039175395-Bill Oldroyd (039175395) Enrollment Services Office","Active",null,null,null,null,null,null,null,null,null,null,null,"SC6110","SC6110||1400","1400","Prepaid Expenses",null,"All"]
[null,null,null,null,null,null,"AC00353","[LFSC] CURA Direct Student Aid-LSDO","AC00353-[LFSC] CURA Direct Student Aid-LSDO","Activity","FD03","Active","2025-03-17T16:11:52.138121+00:00",null,"SC6724","Utilities, Heat/Cool Unit","SC6724-Utilities, Heat/Cool Unit","Spend Category","Active",null,null,"11415","Living Legends","11415-Living Legends",null,null,null,"AS039392058","Allan Guymon (039392058) College of Engineering - Chemical Engineering","AS039392058-Allan Guymon (039392058) College of Engineering - Chemical Engineering","Active",null,null,null,null,null,null,null,null,null,null,null,"SC6110","SC6110||1650","1650","Construction in Progress",null,"JE_PPE|JE_Override"]
[null,null,null,null,null,null,"AC00354","[LFSC] Sunshine Fund-LFSC Dean's Off","AC00354-[LFSC] Sunshine Fund-LFSC Dean's Off","Activity","FD07","Active","2025-03-17T16:11:52.138121+00:00",null,"SC6725","Utilities, Natural Gas","SC6725-Utilities, Natural Gas","Spend Category","Active",null,null,"11416","Men's Chorus","11416-Men's Chorus",null,null,null,"AS039447169","John Gardner (039447169) MSB - Marketing & Global Supply Chain","AS039447169-John Gardner (039447169) MSB - Marketing & Global Supply Chain","Active",null,null,null,null,null,null,null,null,null,null,null,"SC6110","SC6110||4900","4900","Cost of Sales",null,"All"]
[null,null,null,null,null,null,"AC00355","[LFSC] LS Stockroom Inventory","AC00355-[LFSC] LS Stockroom Inventory","Activity","FD02","Active","2025-03-17T16:11:52.138121+00:00",null,"SC6726","Utilities, Other","SC6726-Utilities, Other","Spend Category","Active",null,null,"11419","Theater Ballet","11419-Theater Ballet",null,null,null,"AS039489742","Reese Purser (039489742) Fine Arts & Communications - Theatre & Media Arts","AS039489742-Reese Purser (039489742) Fine Arts & Communications - Theatre & Media Arts","Active",null,null,null,null,null,null,null,null,null,null,null,"SC6110","SC6110||6100","6100","Materials and Supplies","Primary","All"]
[null,null,null,null,null,null,"AC00356","[LFSC] Life Scs Student Council Club","AC00356-[LFSC] Life Scs Student Council Club","Activity","FD02","Active","2025-03-17T16:11:52.138121+00:00",null,"SC6727","Utilities, Sewer","SC6727-Utilities, Sewer","Spend Category","Active",null,null,"11422","Young Ambassadors","11422-Young Ambassadors",null,null,null,"AS039534394","Kenneth Plummer (039534394) Center for Teaching & Learning - Academic Technology","AS039534394-Kenneth Plummer (039534394) Center for Teaching & Learning - Academic Technology","Active",null,null,null,null,null,null,null,null,null,null,null,"SC6111","SC6111||1400","1400","Prepaid Expenses",null,"All"]
[null,null,null,null,null,null,"AC00357","[LFSC] Scientists in Business Club","AC00357-[LFSC] Scientists in Business Club","Activity","FD02","Active","2025-03-17T16:11:52.138121+00:00",null,"SC6728","Utilities, Water","SC6728-Utilities, Water","Spend Category","Active",null,null,"11423","Young Company","11423-Young Company",null,null,null,"AS039578575","Lynn Williams (039578575) Humanities - Spanish & Portuguese","AS039578575-Lynn Williams (039578575) Humanities - Spanish & Portuguese","Active",null,null,null,null,null,null,null,null,null,null,null,"SC6111","SC6111||1650","1650","Construction in Progress",null,"JE_PPE|JE_Override"]
[null,null,null,null,null,null,"AC00358","[LFSC] LFSC IT Computer Servers","AC00358-[LFSC] LFSC IT Computer Servers","Activity","FD01","Active","2025-03-17T16:11:52.138121+00:00",null,"SC6729","Warehouse Fixtures","SC6729-Warehouse Fixtures","Spend Category","Active",null,null,"11424","Alexa Anderson","11424-Alexa Anderson",null,null,null,"AS039615711","Mariana Call (039615711) PF Building Operations","AS039615711-Mariana Call (039615711) PF Building Operations","Active",null,null,null,null,null,null,null,null,null,null,null,"SC6111","SC6111||4900","4900","Cost of Sales",null,"All"]
[null,null,null,null,null,null,"AC00359","[LFSC] LFSC-Fulton-Chair-LSIT","AC00359-[LFSC] LFSC-Fulton-Chair-LSIT","Activity","FD03","Active","2025-03-17T16:11:52.138121+00:00",null,"SC6730","Window Treatments","SC6730-Window Treatments","Spend Category","Active",null,null,"11425","Amanda Cox","11425-Amanda Cox",null,null,null,"AS039620863","Stanford Owen (039620863) Law School","AS039620863-Stanford Owen (039620863) Law School","Active",null,null,null,null,null,null,null,null,null,null,null,"SC6111","SC6111||6100","6100","Materials and Supplies","Primary","All"]
[null,null,null,null,null,null,"AC00360","[LFSC] Undergrd Experintl Learng-LSIT","AC00360-[LFSC] Undergrd Experintl Learng-LSIT","Activity","FD03","Active","2025-03-17T16:11:52.138121+00:00",null,"SC6731","Stage and Studio Lighting (Only Workday Inventory Module)","SC6731-Stage and Studio Lighting (Only Workday Inventory Module)","Spend Category","Active",null,null,"11426","Nicol Legakis","11426-Nicol Legakis",null,null,null,"AS039628310","Amy Richins (039628310) FHSS - Dean's Office","AS039628310-Amy Richins (039628310) FHSS - Dean's Office","Active",null,null,null,null,null,null,null,null,null,null,null,"SC6112","SC6112||1400","1400","Prepaid Expenses",null,"All"]
[null,null,null,null,null,null,"AC00361","[LFSC] Grad Studies-NEURO","AC00361-[LFSC] Grad Studies-NEURO","Activity","FD01","Active","2025-03-17T16:11:52.138121+00:00",null,"SC6799","Physical Facilities (reclass)","SC6799-Physical Facilities (reclass)","Spend Category","Active",null,null,"11428","Mike Cunningham","11428-Mike Cunningham",null,null,null,"AS039692183","Adam Stevens (039692183) Technology Transfer Office","AS039692183-Adam Stevens (039692183) Technology Transfer Office","Active",null,null,null,null,null,null,null,null,null,null,null,"SC6112","SC6112||6100","6100","Materials and Supplies","Primary","All"]
[null,null,null,null,null,null,"AC00362","[LFSC] Neuroscience Club","AC00362-[LFSC] Neuroscience Club","Activity","FD02","Active","2025-03-17T16:11:52.138121+00:00",null,"SC6901","Art Equipment","SC6901-Art Equipment","Spend Category","Active",null,null,"11429","Alissa Lines","11429-Alissa Lines",null,null,null,"AS039811149","Heather Chewning (039811149) MSB - Public Service & Ethics","AS039811149-Heather Chewning (039811149) MSB - Public Service & Ethics","Active",null,null,null,null,null,null,null,null,null,null,null,"SC6113","SC6113||1400","1400","Prepaid Expenses",null,"All"]
[null,null,null,null,null,null,"AC00363","[LFSC] Neuroscience Center","AC00363-[LFSC] Neuroscience Center","Activity","FD03","Active","2025-03-17T16:11:52.138121+00:00",null,"SC6902","Athletic Equipment","SC6902-Athletic Equipment","Spend Category","Active",null,null,"11431","Scott Miller","11431-Scott Miller",null,null,null,"AS039836146","Savanna Bagley (039836146) Dining Designs","AS039836146-Savanna Bagley (039836146) Dining Designs","Active",null,null,null,null,null,null,null,null,null,null,null,"SC6113","SC6113||6100","6100","Materials and Supplies","Primary","All"]
[null,null,null,null,null,null,"AC00364","[LFSC] LFSC-Fulton-Chair-NEURO","AC00364-[LFSC] LFSC-Fulton-Chair-NEURO","Activity","FD03","Active","2025-03-17T16:11:52.138121+00:00",null,"SC6903","Audio Visual Equipment (Asset Track)","SC6903-Audio Visual Equipment (Asset Track)","Spend Category","Active",null,null,"11435","Jason Brown","11435-Jason Brown",null,null,null,"AS039884947","Rachel Platt (039884947) College of Nursing","AS039884947-Rachel Platt (039884947) College of Nursing","Active",null,null,null,null,null,null,null,null,null,null,null,"SC6114","SC6114||1400","1400","Prepaid Expenses",null,"All"]
[null,null,null,null,null,null,"AC00365","[LFSC] LFSC Farm / Skaggs Fund-NEURO","AC00365-[LFSC] LFSC Farm / Skaggs Fund-NEURO","Activity","FD03","Active","2025-03-17T16:11:52.138121+00:00",null,"SC6904","Communication Devices (Asset Track)","SC6904-Communication Devices (Asset Track)","Spend Category","Active",null,null,"11436","Seth McCullach","11436-Seth McCullach",null,null,null,"AS039965057","Lisa Sun (039965057) AVP - Dean, Clark Law School","AS039965057-Lisa Sun (039965057) AVP - Dean, Clark Law School","Active",null,null,null,null,null,null,null,null,null,null,null,"SC6114","SC6114||1650","1650","Construction in Progress",null,"JE_PPE|JE_Override"]
[null,null,null,null,null,null,"AC00366","[LFSC] Undergrd Experintl Learng-NEUR","AC00366-[LFSC] Undergrd Experintl Learng-NEUR","Activity","FD03","Active","2025-03-17T16:11:52.138121+00:00",null,"SC6905","Computer Hardware (Asset Track)","SC6905-Computer Hardware (Asset Track)","Spend Category","Active",null,null,"11437","Stephanie Andrewsen","11437-Stephanie Andrewsen",null,null,null,"AS039965505","Anna Metcalf (039965505) Athletics - External Relations","AS039965505-Anna Metcalf (039965505) Athletics - External Relations","Active",null,null,null,null,null,null,null,null,null,null,null,"SC6114","SC6114||4900","4900","Cost of Sales",null,"All"]
[null,null,null,null,null,null,"AC00367","[LFSC] CURA Indirect Student Aid-NEUR","AC00367-[LFSC] CURA Indirect Student Aid-NEUR","Activity","FD03","Active","2025-03-17T16:11:52.138121+00:00",null,"SC6906","Data Network Equipment (Asset Track)","SC6906-Data Network Equipment (Asset Track)","Spend Category","Active",null,null,"11439","Curtis Isaak","11439-Curtis Isaak",null,null,null,"AS040159463","Justin Dyer (040159463) Religious Education - Church History & Doctrine","AS040159463-Justin Dyer (040159463) Religious Education - Church History & Doctrine","Active",null,null,null,null,null,null,null,null,null,null,null,"SC6114","SC6114||6100","6100","Materials and Supplies","Primary","All"]
[null,null,null,null,null,null,"AC00368","[LFSC] CURA Direct Student Aid-NEUR","AC00368-[LFSC] CURA Direct Student Aid-NEUR","Activity","FD03","Active","2025-03-17T16:11:52.138121+00:00",null,"SC6907","Equipment (not otherwise specified) (Asset Track)","SC6907-Equipment (not otherwise specified) (Asset Track)","Spend Category","Active",null,null,"11440","Andy Bay","11440-Andy Bay",null,null,null,"AS040411844","James Hansen (040411844) MSB - School of Accountancy","AS040411844-James Hansen (040411844) MSB - School of Accountancy","Active",null,null,null,null,null,null,null,null,null,null,null,"SC6115","SC6115||1400","1400","Prepaid Expenses",null,"All"]
[null,null,null,null,null,null,"AC00369","[LFSC] MLBM Student Educators","AC00369-[LFSC] MLBM Student Educators","Activity","FD01","Active","2025-03-17T16:11:52.138121+00:00",null,"SC6908","Equipment Maintenance (not otherwise specified)","SC6908-Equipment Maintenance (not otherwise specified)","Spend Category","Active",null,null,"11441","Kathy Taylor","11441-Kathy Taylor",null,null,null,"AS040582603","Julie Averett (040582603) School of Accountancy","AS040582603-Julie Averett (040582603) School of Accountancy","Active",null,null,null,null,null,null,null,null,null,null,null,"SC6115","SC6115||6100","6100","Materials and Supplies","Primary","All"]
[null,null,null,null,null,null,"AC00370","[LFSC] Western N. American Naturalist","AC00370-[LFSC] Western N. American Naturalist","Activity","FD01","Active","2025-03-17T16:11:52.138121+00:00",null,"SC6909","Firearms","SC6909-Firearms","Spend Category","Active",null,null,"11442","Matt Sherry","11442-Matt Sherry",null,null,null,"AS040582729","Michael Ralls (040582729) OIT Portfolio - CES Network Center (CNC)","AS040582729-Michael Ralls (040582729) OIT Portfolio - CES Network Center (CNC)","Active",null,null,null,null,null,null,null,null,null,null,null,"SC6116","SC6116||1400","1400","Prepaid Expenses",null,"All"]
[null,null,null,null,null,null,"AC00371","[LFSC] Operational Fndrsg Replac-MLBM","AC00371-[LFSC] Operational Fndrsg Replac-MLBM","Activity","FD01","Active","2025-03-17T16:11:52.138121+00:00",null,"SC6910","Food Service Equipment","SC6910-Food Service Equipment","Spend Category","Active",null,null,"11445","NY Syracuse","11445-NY Syracuse",null,null,null,"AS040921974","Kellie Barnhurst (040921974) HS Administration","AS040921974-Kellie Barnhurst (040921974) HS Administration","Active",null,null,null,null,null,null,null,null,null,null,null,"SC6116","SC6116||6100","6100","Materials and Supplies","Primary","All"]
[null,null,null,null,null,null,"AC00372","[LFSC] MLBM Educational Programs","AC00372-[LFSC] MLBM Educational Programs","Activity","FD02","Active","2025-03-17T16:11:52.138121+00:00",null,"SC6911","Grants Capital Equipment","SC6911-Grants Capital Equipment","Spend Category","Active",null,null,"11446","Arkansas-Northwest","11446-Arkansas-Northwest",null,null,null,"AS040944422","Jay Anderson (040944422) Dean's Office - College of Engineering","AS040944422-Jay Anderson (040944422) Dean's Office - College of Engineering","Active",null,null,null,null,null,null,null,null,null,null,null,"SC6117","SC6117||1400","1400","Prepaid Expenses",null,"All"]
[null,null,null,null,null,null,"AC00373","[LFSC] Bean Museum Online Sales","AC00373-[LFSC] Bean Museum Online Sales","Activity","FD02","Active","2025-03-17T16:11:52.138121+00:00",null,"SC6912","Grants Non-Capital Equipment","SC6912-Grants Non-Capital Equipment","Spend Category","Active",null,null,"11447","Tour Lodging","11447-Tour Lodging",null,null,null,"AS041240744","Michael Standing (041240744) Microscopy","AS041240744-Michael Standing (041240744) Microscopy","Active",null,null,null,null,null,null,null,null,null,null,null,"SC6117","SC6117||6100","6100","Materials and Supplies","Primary","All"]
[null,null,null,null,null,null,"AC00374","[LFSC] Whiting, M-Young Scholar","AC00374-[LFSC] Whiting, M-Young Scholar","Activity","FD03","Active","2025-03-17T16:11:52.138121+00:00",null,"SC6913","Grounds Equipment","SC6913-Grounds Equipment","Spend Category","Active",null,null,"11453","Arizona-Phoenix","11453-Arizona-Phoenix",null,null,null,"AS041282040","Javier Romo (041282040) Humanities - Spanish & Portuguese","AS041282040-Javier Romo (041282040) Humanities - Spanish & Portuguese","Active",null,null,null,null,null,null,null,null,null,null,null,"SC6118","SC6118||1400","1400","Prepaid Expenses",null,"All"]
[null,null,null,null,null,null,"AC00375","[LFSC] Bean Museum Projects","AC00375-[LFSC] Bean Museum Projects","Activity","FD03","Active","2025-03-17T16:11:52.138121+00:00",null,"SC6914","Industrial Equipment","SC6914-Industrial Equipment","Spend Category","Active",null,null,"11454","Arizona-Tucson","11454-Arizona-Tucson",null,null,null,"AS041564784","Jianting Shi (041564784) College of Engineering - Civil & Construction Engineering","AS041564784-Jianting Shi (041564784) College of Engineering - Civil & Construction Engineering","Active",null,null,null,null,null,null,null,null,null,null,null,"SC6118","SC6118||6100","6100","Materials and Supplies","Primary","All"]
[null,null,null,null,null,null,"AC00376","[LFSC] Western N. American Naturalist","AC00376-[LFSC] Western N. American Naturalist","Activity","FD03","Active","2025-03-17T16:11:52.138121+00:00",null,"SC6915","Janitorial Equipment","SC6915-Janitorial Equipment","Spend Category","Active",null,null,"11456","California-East Bay","11456-California-East Bay",null,null,null,"AS041692304","Jonathan Black (041692304) OIT Resource - Platform Engineering","AS041692304-Jonathan Black (041692304) OIT Resource - Platform Engineering","Active",null,null,null,null,null,null,null,null,null,null,null,"SC6119","SC6119||1400","1400","Prepaid Expenses",null,"All"]
[null,null,null,null,null,null,"AC00377","[LFSC] Herbarium Support","AC00377-[LFSC] Herbarium Support","Activity","FD03","Active","2025-03-17T16:11:52.138121+00:00",null,"SC6916","Janitorial Equipment Maintenance","SC6916-Janitorial Equipment Maintenance","Spend Category","Active",null,null,"11457","California-Fresno","11457-California-Fresno",null,null,null,"AS041699320","Brian Baird (041699320) PMPC Administration","AS041699320-Brian Baird (041699320) PMPC Administration","Active",null,null,null,null,null,null,null,null,null,null,null,"SC6119","SC6119||1650","1650","Construction in Progress",null,"JE_PPE|JE_Override"]
[null,null,null,null,null,null,"AC00378","[LFSC] Fish Curation-Shiozawa","AC00378-[LFSC] Fish Curation-Shiozawa","Activity","FD03","Active","2025-03-17T16:11:52.138121+00:00",null,"SC6917","Laundry Equipment","SC6917-Laundry Equipment","Spend Category","Active",null,null,"11460","California-Orange County","11460-California-Orange County",null,null,null,"AS042554455","Laura Bond (042554455) Student Connection and Leadership Center","AS042554455-Laura Bond (042554455) Student Connection and Leadership Center","Active",null,null,null,null,null,null,null,null,null,null,null,"SC6119","SC6119||4900","4900","Cost of Sales",null,"All"]
[null,null,null,null,null,null,"AC00379","[LFSC] LFSC Farm / Skaggs Fund-MLBM","AC00379-[LFSC] LFSC Farm / Skaggs Fund-MLBM","Activity","FD03","Active","2025-03-17T16:11:52.138121+00:00",null,"SC6918","Library Content","SC6918-Library Content","Spend Category","Active",null,null,"11462","California-Sacramento","11462-California-Sacramento",null,null,null,"AS042626057","Derek Sainsbury (042626057) Religious Education - Church History & Doctrine","AS042626057-Derek Sainsbury (042626057) Religious Education - Church History & Doctrine","Active",null,null,null,null,null,null,null,null,null,null,null,"SC6119","SC6119||6100","6100","Materials and Supplies","Primary","All"]
[null,null,null,null,null,null,"AC00380","[LFSC] LFSC-Fulton-Chair-MLBM","AC00380-[LFSC] LFSC-Fulton-Chair-MLBM","Activity","FD03","Active","2025-03-17T16:11:52.138121+00:00",null,"SC6919","Library Subscriptions","SC6919-Library Subscriptions","Spend Category","Active",null,null,"11463","California-San Diego","11463-California-San Diego",null,null,null,"AS042950870","Mike Maynor (042950870) PF Building Operations","AS042950870-Mike Maynor (042950870) PF Building Operations","Active",null,null,null,null,null,null,null,null,null,null,null,"SC6120","SC6120||1400","1400","Prepaid Expenses",null,"All"]
[null,null,null,null,null,null,"AC00382","[LFSC] Undergrd Experintl Learng-MLBM","AC00382-[LFSC] Undergrd Experintl Learng-MLBM","Activity","FD03","Active","2025-03-17T16:11:52.138121+00:00",null,"SC6920","Media Content","SC6920-Media Content","Spend Category","Active",null,null,"11466","Colorado-Denver","11466-Colorado-Denver",null,null,null,"AS042952793","Katelyn Staley (042952793) PF Grounds - Landscaping Specialty","AS042952793-Katelyn Staley (042952793) PF Grounds - Landscaping Specialty","Active",null,null,null,null,null,null,null,null,null,null,null,"SC6120","SC6120||6100","6100","Materials and Supplies","Primary","All"]
[null,null,null,null,null,null,"AC00383","[LFSC] Sunshine Fund-MLBM","AC00383-[LFSC] Sunshine Fund-MLBM","Activity","FD07","Active","2025-03-17T16:11:52.138121+00:00",null,"SC6921","Medical Equipment","SC6921-Medical Equipment","Spend Category","Active",null,null,"11467","Georgia-Atlanta","11467-Georgia-Atlanta",null,null,null,"AS043026334","Quin Swallow (043026334) OIT Resource - Tech Operations - Enterprise Apps","AS043026334-Quin Swallow (043026334) OIT Resource - Tech Operations - Enterprise Apps","Active",null,null,null,null,null,null,null,null,null,null,null,"SC6121","SC6121||1400","1400","Prepaid Expenses",null,"All"]
[null,null,null,null,null,null,"AC00384","[LFSC] Bean Museum Gift Shp","AC00384-[LFSC] Bean Museum Gift Shp","Activity","FD02","Active","2025-03-17T16:11:52.138121+00:00",null,"SC6922","Medical Equipment - Maintenance","SC6922-Medical Equipment - Maintenance","Spend Category","Active",null,null,"11469","Idaho-Boise","11469-Idaho-Boise",null,null,null,"AS043140250","Kirk Rich (043140250) Dining Administration","AS043140250-Kirk Rich (043140250) Dining Administration","Active",null,null,null,null,null,null,null,null,null,null,null,"SC6121","SC6121||1650","1650","Construction in Progress",null,"JE_PPE|JE_Override"]
[null,null,null,null,null,null,"AC00385","[LFSC] Lytle Preserve","AC00385-[LFSC] Lytle Preserve","Activity","FD03","Active","2025-03-17T16:11:52.138121+00:00",null,"SC6923","Musical Instruments","SC6923-Musical Instruments","Spend Category","Active",null,null,"11470","Idaho-Idaho Falls","11470-Idaho-Idaho Falls",null,null,null,"AS043171855","Andy Bay (043171855) Alumni Relations","AS043171855-Andy Bay (043171855) Alumni Relations","Active",null,null,null,null,null,null,null,null,null,null,null,"SC6121","SC6121||4900","4900","Cost of Sales",null,"All"]
[null,null,null,null,null,null,"AC00386","[LFSC] Lytle Preserve Univ Support","AC00386-[LFSC] Lytle Preserve Univ Support","Activity","FD03","Active","2025-03-17T16:11:52.138121+00:00",null,"SC6924","Office Equipment (Asset Track)","SC6924-Office Equipment (Asset Track)","Spend Category","Active",null,null,"11471","Idaho-Pocatello","11471-Idaho-Pocatello",null,null,null,"AS043238269","Erin Bailey (043238269) Fine Arts & Communications - School of Music","AS043238269-Erin Bailey (043238269) Fine Arts & Communications - School of Music","Active",null,null,null,null,null,null,null,null,null,null,null,"SC6121","SC6121||6100","6100","Materials and Supplies","Primary","All"]
[null,null,null,null,null,null,"AC00387","[LFSC] Biology 100","AC00387-[LFSC] Biology 100","Activity","FD01","Active","2025-03-17T16:11:52.138121+00:00",null,"SC6925","Office Equipment - Maintenance","SC6925-Office Equipment - Maintenance","Spend Category","Active",null,null,"11472","Idaho-Twin Falls","11472-Idaho-Twin Falls",null,null,null,"AS043281326","Grayson Morgan (043281326) FHSS - Geography","AS043281326-Grayson Morgan (043281326) FHSS - Geography","Active",null,null,null,null,null,null,null,null,null,null,null,"SC6122","SC6122||1400","1400","Prepaid Expenses",null,"All"]
[null,null,null,null,null,null,"AC00388","[LFSC] Grad Student Funding-BIO","AC00388-[LFSC] Grad Student Funding-BIO","Activity","FD01","Active","2025-03-17T16:11:52.138121+00:00",null,"SC6926","Photography Equipment","SC6926-Photography Equipment","Spend Category","Active",null,null,"11473","Illinois-Chicago","11473-Illinois-Chicago",null,null,null,"AS043310669","Kristen Erekson (043310669) AVP - Dean, College of Nursing","AS043310669-Kristen Erekson (043310669) AVP - Dean, College of Nursing","Active",null,null,null,null,null,null,null,null,null,null,null,"SC6122","SC6122||6100","6100","Materials and Supplies","Primary","All"]
[null,null,null,null,null,null,"AC00389","[LFSC] Operational Fndrsg Replacm-BIO","AC00389-[LFSC] Operational Fndrsg Replacm-BIO","Activity","FD01","Active","2025-03-17T16:11:52.138121+00:00",null,"SC6927","Portable Structures","SC6927-Portable Structures","Spend Category","Active",null,null,"11476","Minnesota-Minneapolis/St.Paul","11476-Minnesota-Minneapolis/St.Paul",null,null,null,"AS043323198","Kevin John (043323198) Fine Arts & Communications - School of Communications","AS043323198-Kevin John (043323198) Fine Arts & Communications - School of Communications","Active",null,null,null,null,null,null,null,null,null,null,null,"SC6123","SC6123||1400","1400","Prepaid Expenses",null,"All"]
[null,null,null,null,null,null,"AC00390","[LFSC] BYU Pre-Veterinary Club","AC00390-[LFSC] BYU Pre-Veterinary Club","Activity","FD02","Active","2025-03-17T16:11:52.138121+00:00",null,"SC6928","Printing Equipment","SC6928-Printing Equipment","Spend Category","Active",null,null,"11477","Missouri-Kansas City","11477-Missouri-Kansas City",null,null,null,"AS044032831","John Clawson (044032831) College of Engineering - Electrical & Computer Engineering","AS044032831-John Clawson (044032831) College of Engineering - Electrical & Computer Engineering","Active",null,null,null,null,null,null,null,null,null,null,null,"SC6123","SC6123||6100","6100","Materials and Supplies","Primary","All"]
[null,null,null,null,null,null,"AC00391","[LFSC] Tanner Entomology Club","AC00391-[LFSC] Tanner Entomology Club","Activity","FD02","Active","2025-03-17T16:11:52.138121+00:00",null,"SC6929","Scientific and Engineering Equipment","SC6929-Scientific and Engineering Equipment","Spend Category","Active",null,null,"11479","Nebraska-Omaha","11479-Nebraska-Omaha",null,null,null,"AS044370492","Jay Brown (044370492) Housing Administration","AS044370492-Jay Brown (044370492) Housing Administration","Active",null,null,null,null,null,null,null,null,null,null,null,"SC6124","SC6124||1400","1400","Prepaid Expenses",null,"All"]
[null,null,null,null,null,null,"AC00392","[LFSC] Bioinformatics Resrch Club","AC00392-[LFSC] Bioinformatics Resrch Club","Activity","FD02","Active","2025-03-17T16:11:52.138121+00:00",null,"SC6930","Scientific Equipment - Maintenance","SC6930-Scientific Equipment - Maintenance","Spend Category","Active",null,null,"11480","Nevada-Las Vegas","11480-Nevada-Las Vegas",null,null,null,"AS044418697","Nicole Clawson (044418697) Humanities - English","AS044418697-Nicole Clawson (044418697) Humanities - English","Active",null,null,null,null,null,null,null,null,null,null,null,"SC6124","SC6124||6100","6100","Materials and Supplies","Primary","All"]
[null,null,null,null,null,null,"AC00393","[LFSC] Marine Biology Club","AC00393-[LFSC] Marine Biology Club","Activity","FD02","Active","2025-03-17T16:11:52.138121+00:00",null,"SC6931","Security Equipment (Asset Track)","SC6931-Security Equipment (Asset Track)","Spend Category","Active",null,null,"11481","New Jersey-North Jersey","11481-New Jersey-North Jersey",null,null,null,"AS044555761","James Cardon (044555761) FHSS - Economics","AS044555761-James Cardon (044555761) FHSS - Economics","Active",null,null,null,null,null,null,null,null,null,null,null,"SC6125","SC6125||1400","1400","Prepaid Expenses",null,"All"]
[null,null,null,null,null,null,"AC00394","[LFSC] Life Sci Pacific Islander Club","AC00394-[LFSC] Life Sci Pacific Islander Club","Activity","FD02","Active","2025-03-17T16:11:52.138121+00:00",null,"SC6932","Small Appliances","SC6932-Small Appliances","Spend Category","Active",null,null,"11482","New Mexico-Albuquerque","11482-New Mexico-Albuquerque",null,null,null,"AS045035609","TaraLee Cook (045035609) Management Department","AS045035609-TaraLee Cook (045035609) Management Department","Active",null,null,null,null,null,null,null,null,null,null,null,"SC6125","SC6125||1650","1650","Construction in Progress",null,"JE_PPE|JE_Override"]
[null,null,null,null,null,null,"AC00395","[LFSC] DNA Sequencing Lab","AC00395-[LFSC] DNA Sequencing Lab","Activity","FD02","Active","2025-03-17T16:11:52.138121+00:00",null,"SC6933","Software","SC6933-Software","Spend Category","Active",null,null,"11485","North Carolina-Charlotte","11485-North Carolina-Charlotte",null,null,null,"AS045167865","Brett Scharffs (045167865) AVP - Dean, Clark Law School","AS045167865-Brett Scharffs (045167865) AVP - Dean, Clark Law School","Active",null,null,null,null,null,null,null,null,null,null,null,"SC6125","SC6125||4900","4900","Cost of Sales",null,"All"]
[null,null,null,null,null,null,"AC00396","[LFSC] Biology Scholarships","AC00396-[LFSC] Biology Scholarships","Activity","FD03","Active","2025-03-17T16:11:52.138121+00:00",null,"SC6934","Software and Media - Licenses","SC6934-Software and Media - Licenses","Spend Category","Active",null,null,"11486","North Carolina-Raleigh/Durham","11486-North Carolina-Raleigh/Durham",null,null,null,"AS045325744","Brent Moore (045325744) OIT Leadership - CES Architecture","AS045325744-Brent Moore (045325744) OIT Leadership - CES Architecture","Active",null,null,null,null,null,null,null,null,null,null,null,"SC6125","SC6125||6100","6100","Materials and Supplies","Primary","All"]
[null,null,null,null,null,null,"AC00397","[LFSC] LFSC Farm / Skaggs Fund-BIOL","AC00397-[LFSC] LFSC Farm / Skaggs Fund-BIOL","Activity","FD03","Active","2025-03-17T16:11:52.138121+00:00",null,"SC6935","Telecom Equipment","SC6935-Telecom Equipment","Spend Category","Active",null,null,"11487","Ohio-Cincinnati","11487-Ohio-Cincinnati",null,null,null,"AS045666134","Ray Merritt (045666134) Asst Adm VP Physical Facil","AS045666134-Ray Merritt (045666134) Asst Adm VP Physical Facil","Active",null,null,null,null,null,null,null,null,null,null,null,"SC6126","SC6126||1400","1400","Prepaid Expenses",null,"All"]
[null,null,null,null,null,null,"AC00398","[LFSC] GMA Petrol fly genome S.Bybee","AC00398-[LFSC] GMA Petrol fly genome S.Bybee","Activity","FD03","Active","2025-03-17T16:11:52.138121+00:00",null,"SC6936","Vehicles Services","SC6936-Vehicles Services","Spend Category","Active",null,null,"11488","Oklahoma-Tulsa","11488-Oklahoma-Tulsa",null,null,null,"AS045860515","Eric Butler (045860515) PF Building Operations","AS045860515-Eric Butler (045860515) PF Building Operations","Active",null,null,null,null,null,null,null,null,null,null,null,"SC6126","SC6126||1650","1650","Construction in Progress",null,"JE_PPE|JE_Override"]
[null,null,null,null,null,null,"AC00399","[LFSC] Grad Mentoring Award-P.Ridge","AC00399-[LFSC] Grad Mentoring Award-P.Ridge","Activity","FD03","Active","2025-03-17T16:11:52.138121+00:00",null,"SC6937","Vehicles, Motor","SC6937-Vehicles, Motor","Spend Category","Active",null,null,"11490","Texas-Dallas/Ft.Worth","11490-Texas-Dallas/Ft.Worth",null,null,null,"AS046004146","Brian Jeffs (046004146) College of Engineering - Electrical & Computer Engineering","AS046004146-Brian Jeffs (046004146) College of Engineering - Electrical & Computer Engineering","Active",null,null,null,null,null,null,null,null,null,null,null,"SC6126","SC6126||4900","4900","Cost of Sales",null,"All"]
[null,null,null,null,null,null,"AC00400","[LFSC] Grad Mentoring Award-J.Jensen","AC00400-[LFSC] Grad Mentoring Award-J.Jensen","Activity","FD03","Active","2025-03-17T16:11:52.138121+00:00",null,"SC6938","Vehicles, Off-Road","SC6938-Vehicles, Off-Road","Spend Category","Active",null,null,"11491","Texas-El Paso/Las Cruces","11491-Texas-El Paso/Las Cruces",null,null,null,"AS046066685","Klint Hobbs (046066685) Student Life VP","AS046066685-Klint Hobbs (046066685) Student Life VP","Active",null,null,null,null,null,null,null,null,null,null,null,"SC6126","SC6126||6100","6100","Materials and Supplies","Primary","All"]
[null,null,null,null,null,null,"AC00401","[LFSC] Grad Mentoring Award-J.Johnson","AC00401-[LFSC] Grad Mentoring Award-J.Johnson","Activity","FD03","Active","2025-03-17T16:11:52.138121+00:00",null,"SC6939","Warehouse Equipment","SC6939-Warehouse Equipment","Spend Category","Active",null,null,"11492","Texas-Houston","11492-Texas-Houston",null,null,null,"AS046299199","Nicholas Mason (046299199) Humanities - English","AS046299199-Nicholas Mason (046299199) Humanities - English","Active",null,null,null,null,null,null,null,null,null,null,null,"SC6127","SC6127||1400","1400","Prepaid Expenses",null,"All"]
[null,null,null,null,null,null,"AC00402","[LFSC] LFSC-Fulton-Chair-BIOL","AC00402-[LFSC] LFSC-Fulton-Chair-BIOL","Activity","FD03","Active","2025-03-17T16:11:52.138121+00:00",null,"SC6940","Audio Visual Equipment (Only Workday Inventory Module)","SC6940-Audio Visual Equipment (Only Workday Inventory Module)","Spend Category","Active",null,null,"11494","Utah-Cache Valley","11494-Utah-Cache Valley",null,null,null,"AS046399270","Cameron Schuetzler (046399270) Campus Scheduling","AS046399270-Cameron Schuetzler (046399270) Campus Scheduling","Active",null,null,null,null,null,null,null,null,null,null,null,"SC6127","SC6127||6100","6100","Materials and Supplies","Primary","All"]
[null,null,null,null,null,null,"AC00403","[LFSC] Adams, BJ-Young Scholar","AC00403-[LFSC] Adams, BJ-Young Scholar","Activity","FD03","Active","2025-03-17T16:11:52.138121+00:00",null,"SC6941","Communication Devices (Only Workday Inventory Module)","SC6941-Communication Devices (Only Workday Inventory Module)","Spend Category","Active",null,null,"11495","Utah-Ogden","11495-Utah-Ogden",null,null,null,"AS046482685","David Dahl (046482685) AVP - Dean, Computational, Math,& Physical (CMS)","AS046482685-David Dahl (046482685) AVP - Dean, Computational, Math,& Physical (CMS)","Active",null,null,null,null,null,null,null,null,null,null,null,"SC6128","SC6128||6100","6100","Materials and Supplies","Primary","All"]
[null,null,null,null,null,null,"AC00405","[LFSC] CURA Indirect Student Aid-BIOL","AC00405-[LFSC] CURA Indirect Student Aid-BIOL","Activity","FD03","Active","2025-03-17T16:11:52.138121+00:00",null,"SC6942","Computer Hardware (Only Workday Inventory Module)","SC6942-Computer Hardware (Only Workday Inventory Module)","Spend Category","Active",null,null,"11496","Utah-Salt Lake City","11496-Utah-Salt Lake City",null,null,null,"AS046579839","Otavio Souza (046579839) Athletics - Men's Volleyball","AS046579839-Otavio Souza (046579839) Athletics - Men's Volleyball","Active",null,null,null,null,null,null,null,null,null,null,null,"SC6129","SC6129||1400","1400","Prepaid Expenses",null,"All"]
[null,null,null,null,null,null,"AC00406","[LFSC] Undergrd Experintl Learng-BIOL","AC00406-[LFSC] Undergrd Experintl Learng-BIOL","Activity","FD03","Active","2025-03-17T16:11:52.138121+00:00",null,"SC6943","Data Network Equipment (Only Workday Inventory Module)","SC6943-Data Network Equipment (Only Workday Inventory Module)","Spend Category","Active",null,null,"11497","PA Susquehanna Valley","11497-PA Susquehanna Valley",null,null,null,"AS046866186","Jani Radebaugh (046866186) CMS - Geological Sciences","AS046866186-Jani Radebaugh (046866186) CMS - Geological Sciences","Active",null,null,null,null,null,null,null,null,null,null,null,"SC6129","SC6129||1650","1650","Construction in Progress",null,"JE_PPE|JE_Override"]
[null,null,null,null,null,null,"AC00407","[LFSC] CURA Direct Student Aid-BIOL","AC00407-[LFSC] CURA Direct Student Aid-BIOL","Activity","FD03","Active","2025-03-17T16:11:52.138121+00:00",null,"SC6944","Equipment (not otherwise specified) (Only Workday Inventory Module)","SC6944-Equipment (not otherwise specified) (Only Workday Inventory Module)","Spend Category","Active",null,null,"11499","Washington-Seattle","11499-Washington-Seattle",null,null,null,"AS046927915","Shannon Keeley (046927915) Marketing, Communications, & Technology","AS046927915-Shannon Keeley (046927915) Marketing, Communications, & Technology","Active",null,null,null,null,null,null,null,null,null,null,null,"SC6129","SC6129||1651","1651","Construction in Progress (Non-Workday Projects)",null,"All"]
[null,null,null,null,null,null,"AC00408","[LFSC] Sunshine Fund-BIOL","AC00408-[LFSC] Sunshine Fund-BIOL","Activity","FD07","Active","2025-03-17T16:11:52.138121+00:00",null,"SC6945","Office Equipment (Only Workday Inventory Module)","SC6945-Office Equipment (Only Workday Inventory Module)","Spend Category","Active",null,null,"114T3","ESC ACCESS C411A-A1 13594","114T3-ESC ACCESS C411A-A1 13594",null,null,null,"AS047049476","Kameron Cooper (047049476) Fine Arts & Communications - Design","AS047049476-Kameron Cooper (047049476) Fine Arts & Communications - Design","Active",null,null,null,null,null,null,null,null,null,null,null,"SC6129","SC6129||4900","4900","Cost of Sales",null,"All"]
[null,null,null,null,null,null,"AC00409","[LFSC] Grad Studies-Deborah Johnson","AC00409-[LFSC] Grad Studies-Deborah Johnson","Activity","FD01","Active","2025-03-17T16:11:52.138121+00:00",null,"SC6946","Security Equipment (Only Workday Inventory Module)","SC6946-Security Equipment (Only Workday Inventory Module)","Spend Category","Active",null,null,"11500","Washington-Central/Moses Lake","11500-Washington-Central/Moses Lake",null,null,null,"AS047197454","Jodelle Roberts (047197454) PF Building Operations","AS047197454-Jodelle Roberts (047197454) PF Building Operations","Active",null,null,null,null,null,null,null,null,null,null,null,"SC6129","SC6129||6100","6100","Materials and Supplies","Primary","All"]
[null,null,null,null,null,null,"AC00410","[LFSC] Grad Studies-Devan Bursey","AC00410-[LFSC] Grad Studies-Devan Bursey","Activity","FD01","Active","2025-03-17T16:11:52.138121+00:00",null,"SC6999","Equipment (reclass)","SC6999-Equipment (reclass)","Spend Category","Active",null,null,"11502","PA-Greater Philadelphia","11502-PA-Greater Philadelphia",null,null,null,"AS047330929","Kessia Robinson (047330929) Humanities - English","AS047330929-Kessia Robinson (047330929) Humanities - English","Active",null,null,null,null,null,null,null,null,null,null,null,"SC6130","SC6130||1400","1400","Prepaid Expenses",null,"All"]
[null,null,null,null,null,null,"AC00411","[LFSC] Grad Student Funding-MMBIO","AC00411-[LFSC] Grad Student Funding-MMBIO","Activity","FD01","Active","2025-03-17T16:11:52.138121+00:00",null,"SC7001","Travel","SC7001-Travel","Spend Category","Active",null,null,"11503","Utah-Utah County","11503-Utah-Utah County",null,null,null,"AS047441517","Cameron Hee (047441517) Student Life VP","AS047441517-Cameron Hee (047441517) Student Life VP","Active",null,null,null,null,null,null,null,null,null,null,null,"SC6130","SC6130||6100","6100","Materials and Supplies","Primary","All"]
[null,null,null,null,null,null,"AC00412","[LFSC] Grad Studies-Stewart Morley","AC00412-[LFSC] Grad Studies-Stewart Morley","Activity","FD01","Active","2025-03-17T16:11:52.138121+00:00",null,"SC7002","Airfare Domestic","SC7002-Airfare Domestic","Spend Category","Active",null,null,"11504","Florida-Orlando","11504-Florida-Orlando",null,null,null,"AS047509842","Taylor Glad (047509842) OIT Resource - AV Events","AS047509842-Taylor Glad (047509842) OIT Resource - AV Events","Active",null,null,null,null,null,null,null,null,null,null,null,"SC6131","SC6131||1400","1400","Prepaid Expenses",null,"All"]
[null,null,null,null,null,null,"AC00413","[LFSC] Operational Fndrsg Replc-MMBIO","AC00413-[LFSC] Operational Fndrsg Replc-MMBIO","Activity","FD01","Active","2025-03-17T16:11:52.138121+00:00",null,"SC7003","Airfare Foreign","SC7003-Airfare Foreign","Spend Category","Active",null,null,"11505","Florida-South/Miami","11505-Florida-South/Miami",null,null,null,"AS047801238","Brayden Woodall (047801238) Athletics - Football","AS047801238-Brayden Woodall (047801238) Athletics - Football","Active",null,null,null,null,null,null,null,null,null,null,null,"SC6131","SC6131||1650","1650","Construction in Progress",null,"JE_PPE|JE_Override"]
[null,null,null,null,null,null,"AC00414","[LFSC] Aquatic Phylogenetics Lab","AC00414-[LFSC] Aquatic Phylogenetics Lab","Activity","FD02","Active","2025-03-17T16:11:52.138121+00:00",null,"SC7004","Transportation Services","SC7004-Transportation Services","Spend Category","Active",null,null,"11506","Florida-Tampa","11506-Florida-Tampa",null,null,null,"AS047860039","Cade Charlton (047860039) MSE - Counseling Psychology & Special Ed","AS047860039-Cade Charlton (047860039) MSE - Counseling Psychology & Special Ed","Active",null,null,null,null,null,null,null,null,null,null,null,"SC6131","SC6131||1651","1651","Construction in Progress (Non-Workday Projects)",null,"All"]
[null,null,null,null,null,null,"AC00415","[LFSC] MMBIO Club","AC00415-[LFSC] MMBIO Club","Activity","FD02","Active","2025-03-17T16:11:52.138121+00:00",null,"SC7005","Travel - Lodging","SC7005-Travel - Lodging","Spend Category","Active",null,null,"11507","Mississippi-Jackson","11507-Mississippi-Jackson",null,null,null,"AS047927218","Lisa Peck (047927218) FHSS - Internships","AS047927218-Lisa Peck (047927218) FHSS - Internships","Active",null,null,null,null,null,null,null,null,null,null,null,"SC6131","SC6131||4900","4900","Cost of Sales",null,"All"]
[null,null,null,null,null,null,"AC00416","[LFSC] Res Instru Core Facil (RICF)","AC00416-[LFSC] Res Instru Core Facil (RICF)","Activity","FD02","Active","2025-03-17T16:11:52.138121+00:00",null,"SC7006","Travel - Tour Guide Services","SC7006-Travel - Tour Guide Services","Spend Category","Active",null,null,"11508","Nevada-Elko","11508-Nevada-Elko",null,null,null,"AS048357616","Lauren Barnes (048357616) FHSS - School of Family Life","AS048357616-Lauren Barnes (048357616) FHSS - School of Family Life","Active",null,null,null,null,null,null,null,null,null,null,null,"SC6131","SC6131||6100","6100","Materials and Supplies","Primary","All"]
[null,null,null,null,null,null,"AC00417","[LFSC] Medical Lab Science Club","AC00417-[LFSC] Medical Lab Science Club","Activity","FD02","Active","2025-03-17T16:11:52.138121+00:00",null,"SC7099","Travel (reclass)","SC7099-Travel (reclass)","Spend Category","Active",null,null,"11511","Tailgates-Campus/HC","11511-Tailgates-Campus/HC",null,null,null,"AS048456520","Chris Gordon (048456520) BYU Broadcasting Administration","AS048456520-Chris Gordon (048456520) BYU Broadcasting Administration","Active",null,null,null,null,null,null,null,null,null,null,null,"SC6132","SC6132||1400","1400","Prepaid Expenses",null,"All"]
[null,null,null,null,null,null,"AC00418","[LFSC] Life Sciences Graduate Club","AC00418-[LFSC] Life Sciences Graduate Club","Activity","FD02","Active","2025-03-17T16:11:52.138121+00:00",null,"SC9996","Cash Conversion","SC9996-Cash Conversion","Spend Category","Active",null,null,"11512","Tailgates-Off Campus","11512-Tailgates-Off Campus",null,null,null,"AS048510154","Alexandra White (048510154) Athletics - Women's Golf","AS048510154-Alexandra White (048510154) Athletics - Women's Golf","Active",null,null,null,null,null,null,null,null,null,null,null,"SC6132","SC6132||6100","6100","Materials and Supplies","Primary","All"]
[null,null,null,null,null,null,"AC00419","[LFSC] Undergrad Resrch & Intern Club","AC00419-[LFSC] Undergrad Resrch & Intern Club","Activity","FD02","Active","2025-03-17T16:11:52.138121+00:00",null,null,null,null,null,null,null,null,"11513","Tailgates-Bowl Games","11513-Tailgates-Bowl Games",null,null,null,"AS048530014","Shelly Reed (048530014) AVP - Dean, College of Nursing","AS048530014-Shelly Reed (048530014) AVP - Dean, College of Nursing","Active",null,null,null,null,null,null,null,null,null,null,null,"SC6133","SC6133||1400","1400","Prepaid Expenses",null,"All"]
[null,null,null,null,null,null,"AC00420","[LFSC] Pre-Genetic Counseling Club","AC00420-[LFSC] Pre-Genetic Counseling Club","Activity","FD02","Active","2025-03-17T16:11:52.138121+00:00",null,null,null,null,null,null,null,null,"11521","Conferencing Odd Year","11521-Conferencing Odd Year",null,null,null,"AS048845092","Ryan Smith (048845092) AVP - Dean, Marriott School of Business (MSB)","AS048845092-Ryan Smith (048845092) AVP - Dean, Marriott School of Business (MSB)","Active",null,null,null,null,null,null,null,null,null,null,null,"SC6133","SC6133||1650","1650","Construction in Progress",null,"JE_PPE|JE_Override"]
[null,null,null,null,null,null,"AC00421","[LFSC] Operation Outbreak Club","AC00421-[LFSC] Operation Outbreak Club","Activity","FD02","Active","2025-03-17T16:11:52.138121+00:00",null,null,null,null,null,null,null,null,"11522","Conferencing Even Year","11522-Conferencing Even Year",null,null,null,"AS048878987","Nick Frederick (048878987) Religious Education - Ancient Scripture","AS048878987-Nick Frederick (048878987) Religious Education - Ancient Scripture","Active",null,null,null,null,null,null,null,null,null,null,null,"SC6133","SC6133||4900","4900","Cost of Sales",null,"All"]
[null,null,null,null,null,null,"AC00422","[LFSC] Enlightenment Society Club","AC00422-[LFSC] Enlightenment Society Club","Activity","FD02","Active","2025-03-17T16:11:52.138121+00:00",null,null,null,null,null,null,null,null,"11525","Family Camp Odd Year","11525-Family Camp Odd Year",null,null,null,"AS048974113","Valinda Rose (048974113) OIT Core - Business Process & Project Mgmt","AS048974113-Valinda Rose (048974113) OIT Core - Business Process & Project Mgmt","Active",null,null,null,null,null,null,null,null,null,null,null,"SC6133","SC6133||6100","6100","Materials and Supplies","Primary","All"]
[null,null,null,null,null,null,"AC00423","[LFSC] Graduate Studies-MMBIO RRGSE","AC00423-[LFSC] Graduate Studies-MMBIO RRGSE","Activity","FD03","Active","2025-03-17T16:11:52.138121+00:00",null,null,null,null,null,null,null,null,"11528","Family Camp Even Year","11528-Family Camp Even Year",null,null,null,"AS049047915","Reid Grawe (049047915) Business Career Center","AS049047915-Reid Grawe (049047915) Business Career Center","Active",null,null,null,null,null,null,null,null,null,null,null,"SC6199","SC6199||1400","1400","Prepaid Expenses",null,"All"]
[null,null,null,null,null,null,"AC00424","[LFSC] Phage Hunter's Class Royalties","AC00424-[LFSC] Phage Hunter's Class Royalties","Activity","FD03","Active","2025-03-17T16:11:52.138121+00:00",null,null,null,null,null,null,null,null,"11533","Football General","11533-Football General",null,null,null,"AS049318272","Ryan Jensen (049318272) FHSS - Geography","AS049318272-Ryan Jensen (049318272) FHSS - Geography","Active",null,null,null,null,null,null,null,null,null,null,null,"SC6199","SC6199||1650","1650","Construction in Progress",null,"JE_PPE|JE_Override"]
[null,null,null,null,null,null,"AC00425","[LFSC] Robison, R-Prostratin","AC00425-[LFSC] Robison, R-Prostratin","Activity","FD03","Active","2025-03-17T16:11:52.138121+00:00",null,null,null,null,null,null,null,null,"11536","Freedom Festival","11536-Freedom Festival",null,null,null,"AS049753059","Joseph Stuart (049753059) FHSS - History","AS049753059-Joseph Stuart (049753059) FHSS - History","Active",null,null,null,null,null,null,null,null,null,null,null,"SC6199","SC6199||1651","1651","Construction in Progress (Non-Workday Projects)",null,"All"]
[null,null,null,null,null,null,"AC00426","[LFSC] Grad Mentoring Award-S.Anderso","AC00426-[LFSC] Grad Mentoring Award-S.Anderso","Activity","FD03","Active","2025-03-17T16:11:52.138121+00:00",null,null,null,null,null,null,null,null,"11545","Cart 1","11545-Cart 1",null,null,null,"AS050065111","Robert Davis (050065111) CMS - Physics and Astronomy","AS050065111-Robert Davis (050065111) CMS - Physics and Astronomy","Active",null,null,null,null,null,null,null,null,null,null,null,"SC6199","SC6199||6100","6100","Materials and Supplies","Primary","All"]
[null,null,null,null,null,null,"AC00427","[LFSC] LFSC Farm / Skaggs Fund-MMBIO","AC00427-[LFSC] LFSC Farm / Skaggs Fund-MMBIO","Activity","FD03","Active","2025-03-17T16:11:52.138121+00:00",null,null,null,null,null,null,null,null,"11546","Cart 2","11546-Cart 2",null,null,null,"AS050481372","Jaren Pope (050481372) FHSS - Economics","AS050481372-Jaren Pope (050481372) FHSS - Economics","Active",null,null,null,null,null,null,null,null,null,null,null,"SC6301","SC6301||6300","6300","Student Aid","Primary","All"]
[null,null,null,null,null,null,"AC00428","[LFSC] Grad Mentoring Award-D.Erickso","AC00428-[LFSC] Grad Mentoring Award-D.Erickso","Activity","FD03","Active","2025-03-17T16:11:52.138121+00:00",null,null,null,null,null,null,null,null,"11547","Cart 3","11547-Cart 3",null,null,null,"AS050557255","Forrest Hansen (050557255) Law School - External Relations","AS050557255-Forrest Hansen (050557255) Law School - External Relations","Active",null,null,null,null,null,null,null,null,null,null,null,"SC6302","SC6302||6300","6300","Student Aid","Primary","All"]
[null,null,null,null,null,null,"AC00429","[LFSC] LFSC-Fulton-Chair-MMBIO","AC00429-[LFSC] LFSC-Fulton-Chair-MMBIO","Activity","FD03","Active","2025-03-17T16:11:52.138121+00:00",null,null,null,null,null,null,null,null,"11548","Cart 4","11548-Cart 4",null,null,null,"AS050558249","Kyle Mammen (050558249) CE Classroom Programs","AS050558249-Kyle Mammen (050558249) CE Classroom Programs","Active",null,null,null,null,null,null,null,null,null,null,null,"SC6303","SC6303||6300","6300","Student Aid","Primary","All"]
[null,null,null,null,null,null,"AC00431","[LFSC] CURA Indirect Studnt Aid-MMBIO","AC00431-[LFSC] CURA Indirect Studnt Aid-MMBIO","Activity","FD03","Active","2025-03-17T16:11:52.138121+00:00",null,null,null,null,null,null,null,null,"11549","Cart 5","11549-Cart 5",null,null,null,"AS050613103","Katie Palfreyman (050613103) Humanities - English","AS050613103-Katie Palfreyman (050613103) Humanities - English","Active",null,null,null,null,null,null,null,null,null,null,null,"SC6304","SC6304||6300","6300","Student Aid","Primary","All"]
[null,null,null,null,null,null,"AC00432","[LFSC] Undergrd Experintl Learng-MMBI","AC00432-[LFSC] Undergrd Experintl Learng-MMBI","Activity","FD03","Active","2025-03-17T16:11:52.138121+00:00",null,null,null,null,null,null,null,null,"11550","Cart 6","11550-Cart 6",null,null,null,"AS050636631","Jennie Voorhis (050636631) CE Business Services","AS050636631-Jennie Voorhis (050636631) CE Business Services","Active",null,null,null,null,null,null,null,null,null,null,null,"SC6305","SC6305||6300","6300","Student Aid","Primary","All"]
[null,null,null,null,null,null,"AC00433","[LFSC] CURA Direct Student Aid-MMBIO","AC00433-[LFSC] CURA Direct Student Aid-MMBIO","Activity","FD03","Active","2025-03-17T16:11:52.138121+00:00",null,null,null,null,null,null,null,null,"11560","Commencement","11560-Commencement",null,null,null,"AS050749641","Mike Holdaway (050749641) OIT Portfolio - CES Network Center (CNC)","AS050749641-Mike Holdaway (050749641) OIT Portfolio - CES Network Center (CNC)","Active",null,null,null,null,null,null,null,null,null,null,null,"SC6306","SC6306||6300","6300","Student Aid","Primary","All"]
[null,null,null,null,null,null,"AC00434","[LFSC] Sunshine Fund-MMBIO","AC00434-[LFSC] Sunshine Fund-MMBIO","Activity","FD07","Active","2025-03-17T16:11:52.138121+00:00",null,null,null,null,null,null,null,null,"11562","Sorenson Center","11562-Sorenson Center",null,null,null,"AS051347479","Gary Sujeta (051347479) PF Paint & Sign Shop","AS051347479-Gary Sujeta (051347479) PF Paint & Sign Shop","Active",null,null,null,null,null,null,null,null,null,null,null,"SC6307","SC6307||6300","6300","Student Aid","Primary","All"]
[null,null,null,null,null,null,"AC00435","[LFSC] Grad Student Funding-NDFS","AC00435-[LFSC] Grad Student Funding-NDFS","Activity","FD01","Active","2025-03-17T16:11:52.138121+00:00",null,null,null,null,null,null,null,null,"11563","Campus Model","11563-Campus Model",null,null,null,"AS051641497","Neil Thornock (051641497) Fine Arts & Communications - School of Music","AS051641497-Neil Thornock (051641497) Fine Arts & Communications - School of Music","Active",null,null,null,null,null,null,null,null,null,null,null,"SC6308","SC6308||6300","6300","Student Aid","Primary","All"]
[null,null,null,null,null,null,"AC00436","[LFSC] Dietetics Education","AC00436-[LFSC] Dietetics Education","Activity","FD02","Active","2025-03-17T16:11:52.138121+00:00",null,null,null,null,null,null,null,null,"11565","Block Y","11565-Block Y",null,null,null,"AS051756218","Jared Bell (051756218) Athletics - Corporate Sponsorships","AS051756218-Jared Bell (051756218) Athletics - Corporate Sponsorships","Active",null,null,null,null,null,null,null,null,null,null,null,"SC6399","SC6399||6300","6300","Student Aid","Primary","All"]
[null,null,null,null,null,null,"AC00437","[LFSC] Pendulum Court Dining","AC00437-[LFSC] Pendulum Court Dining","Activity","FD02","Active","2025-03-17T16:11:52.138121+00:00",null,null,null,null,null,null,null,null,"11570","Unassigned","11570-Unassigned",null,null,null,"AS051762343","Jennine Hollingshaus (051762343) Fine Arts & Communications - Theatre & Media Arts","AS051762343-Jennine Hollingshaus (051762343) Fine Arts & Communications - Theatre & Media Arts","Active",null,null,null,null,null,null,null,null,null,null,null,"SC6401","SC6401||1400","1400","Prepaid Expenses",null,"All"]
[null,null,null,null,null,null,"AC00438","[LFSC] Food Sciences Club","AC00438-[LFSC] Food Sciences Club","Activity","FD02","Active","2025-03-17T16:11:52.138121+00:00",null,null,null,null,null,null,null,null,"11581","Donations and Sponsorships","11581-Donations and Sponsorships",null,null,null,"AS051841946","Heidi Vogeler (051841946) MSE - Counseling Psychology & Special Ed","AS051841946-Heidi Vogeler (051841946) MSE - Counseling Psychology & Special Ed","Active",null,null,null,null,null,null,null,null,null,null,null,"SC6401","SC6401||6400","6400","General and Administrative","Primary","All"]
[null,null,null,null,null,null,"AC00439","[LFSC] Std Dietetic Assn Club","AC00439-[LFSC] Std Dietetic Assn Club","Activity","FD02","Active","2025-03-17T16:11:52.138121+00:00",null,null,null,null,null,null,null,null,"11587","UW Day of Caring","11587-UW Day of Caring",null,null,null,"AS051989848","Sariah Lunsford (051989848) CE Classroom Programs","AS051989848-Sariah Lunsford (051989848) CE Classroom Programs","Active",null,null,null,null,null,null,null,null,null,null,null,"SC6402","SC6402||6400","6400","General and Administrative","Primary","All"]
[null,null,null,null,null,null,"AC00440","[LFSC] Food Product Development","AC00440-[LFSC] Food Product Development","Activity","FD02","Active","2025-03-17T16:11:52.138121+00:00",null,null,null,null,null,null,null,null,"11588","United Way Campaign-Kick-Off","11588-United Way Campaign-Kick-Off",null,null,null,"AS052054401","Laura Wilson (052054401) Enterprise Solutions - HCM","AS052054401-Laura Wilson (052054401) Enterprise Solutions - HCM","Active",null,null,null,null,null,null,null,null,null,null,null,"SC6403","SC6403||1400","1400","Prepaid Expenses",null,"All"]
[null,null,null,null,null,null,"AC00441","[LFSC] Chromatography Center","AC00441-[LFSC] Chromatography Center","Activity","FD02","Active","2025-03-17T16:11:52.138121+00:00",null,null,null,null,null,null,null,null,"11593","UW Campaign","11593-UW Campaign",null,null,null,"AS052191006","Charlene Clark (052191006) FHSS - School of Social Work","AS052191006-Charlene Clark (052191006) FHSS - School of Social Work","Active",null,null,null,null,null,null,null,null,null,null,null,"SC6403","SC6403||6400","6400","General and Administrative","Primary","All"]
[null,null,null,null,null,null,"AC00442","[LFSC] Nutritional Science Club","AC00442-[LFSC] Nutritional Science Club","Activity","FD02","Active","2025-03-17T16:11:52.138121+00:00",null,null,null,null,null,null,null,null,"11600","Event 21","11600-Event 21",null,null,null,"AS052205547","Ryan Flake (052205547) BYU Broadcasting - Post Production","AS052205547-Ryan Flake (052205547) BYU Broadcasting - Post Production","Active",null,null,null,null,null,null,null,null,null,null,null,"SC6404","SC6404||1400","1400","Prepaid Expenses",null,"All"]
[null,null,null,null,null,null,"AC00443","[LFSC] Food Science Capstone","AC00443-[LFSC] Food Science Capstone","Activity","FD02","Active","2025-03-17T16:11:52.138121+00:00",null,null,null,null,null,null,null,null,"11601","Event 22","11601-Event 22",null,null,null,"AS052304264","Ken Lau (052304264) PF Building Operations","AS052304264-Ken Lau (052304264) PF Building Operations","Active",null,null,null,null,null,null,null,null,null,null,null,"SC6404","SC6404||1650","1650","Construction in Progress",null,"JE_PPE|JE_Override"]
[null,null,null,null,null,null,"AC00444","[LFSC] Food Micro Expr Lrng Projects","AC00444-[LFSC] Food Micro Expr Lrng Projects","Activity","FD02","Active","2025-03-17T16:11:52.138121+00:00",null,null,null,null,null,null,null,null,"11603","Campus Showcase","11603-Campus Showcase",null,null,null,"AS052378482","Ruth Ellis (052378482) Fine Arts & Communications - School of Music","AS052378482-Ruth Ellis (052378482) Fine Arts & Communications - School of Music","Active",null,null,null,null,null,null,null,null,null,null,null,"SC6404","SC6404||1651","1651","Construction in Progress (Non-Workday Projects)",null,"All"]
[null,null,null,null,null,null,"AC00445","[LFSC] Women in Science Club","AC00445-[LFSC] Women in Science Club","Activity","FD02","Active","2025-03-17T16:11:52.138121+00:00",null,null,null,null,null,null,null,null,"11604","Big 12","11604-Big 12",null,null,null,"AS052394475","Suzanne Julian (052394475) Research & Learning - Library Instruction","AS052394475-Suzanne Julian (052394475) Research & Learning - Library Instruction","Active",null,null,null,null,null,null,null,null,null,null,null,"SC6404","SC6404||6400","6400","General and Administrative","Primary","All"]
[null,null,null,null,null,null,"AC00446","[LFSC] Food Sensory Paneling","AC00446-[LFSC] Food Sensory Paneling","Activity","FD03","Active","2025-03-17T16:11:52.138121+00:00",null,null,null,null,null,null,null,null,"11609","Event 30","11609-Event 30",null,null,null,"AS052429999","Talita Wiener-Osman (052429999) Humanities - German & Russian","AS052429999-Talita Wiener-Osman (052429999) Humanities - German & Russian","Active",null,null,null,null,null,null,null,null,null,null,null,"SC6405","SC6405||1400","1400","Prepaid Expenses",null,"All"]
[null,null,null,null,null,null,"AC00447","[LFSC] Student Support Scholarship","AC00447-[LFSC] Student Support Scholarship","Activity","FD03","Active","2025-03-17T16:11:52.138121+00:00",null,null,null,null,null,null,null,null,"11659","Summit","11659-Summit",null,null,null,"AS052561772","Michael White (052561772) Humanities - Asian & Near Eastern Languages","AS052561772-Michael White (052561772) Humanities - Asian & Near Eastern Languages","Active",null,null,null,null,null,null,null,null,null,null,null,"SC6405","SC6405||6400","6400","General and Administrative","Primary","All"]
[null,null,null,null,null,null,"AC00448","[LFSC] NDFS Mentoring","AC00448-[LFSC] NDFS Mentoring","Activity","FD03","Active","2025-03-17T16:11:52.322069+00:00",null,null,null,null,null,null,null,null,"11666","Comp Ticket Misc Cultural Arts","11666-Comp Ticket Misc Cultural Arts",null,null,null,"AS052603694","Adam Law (052603694) Athletics - Baseball","AS052603694-Adam Law (052603694) Athletics - Baseball","Active",null,null,null,null,null,null,null,null,null,null,null,"SC6406","SC6406||1400","1400","Prepaid Expenses",null,"All"]
[null,null,null,null,null,null,"AC00449","[LFSC] LFSC Farm / Skaggs Fund-NDFS","AC00449-[LFSC] LFSC Farm / Skaggs Fund-NDFS","Activity","FD03","Active","2025-03-17T16:11:52.322069+00:00",null,null,null,null,null,null,null,null,"11667","Comp Ticket Misc Athletic-No f","11667-Comp Ticket Misc Athletic-No f",null,null,null,"AS052697389","Jon Brewer (052697389) Financial Aid and Scholarships","AS052697389-Jon Brewer (052697389) Financial Aid and Scholarships","Active",null,null,null,null,null,null,null,null,null,null,null,"SC6406","SC6406||6400","6400","General and Administrative","Primary","All"]
[null,null,null,null,null,null,"AC00450","[LFSC] Grad Mentoring Award-J.Tessem","AC00450-[LFSC] Grad Mentoring Award-J.Tessem","Activity","FD03","Active","2025-03-17T16:11:52.322069+00:00",null,null,null,null,null,null,null,null,"11668","BYU Management Society","11668-BYU Management Society",null,null,null,"AS052730332","Jennifer Cardon (052730332) CE Facilties & Emergency Coordination","AS052730332-Jennifer Cardon (052730332) CE Facilties & Emergency Coordination","Active",null,null,null,null,null,null,null,null,null,null,null,"SC6407","SC6407||1400","1400","Prepaid Expenses",null,"All"]
[null,null,null,null,null,null,"AC00451","[LFSC] Grad Mentoring Award-J.LeChemi","AC00451-[LFSC] Grad Mentoring Award-J.LeChemi","Activity","FD03","Active","2025-03-17T16:11:52.322069+00:00",null,null,null,null,null,null,null,null,"11675","Comp Basketball Season tickets","11675-Comp Basketball Season tickets",null,null,null,"AS052767711","Kerry Kartchner (052767711) FHSS - Political Science","AS052767711-Kerry Kartchner (052767711) FHSS - Political Science","Active",null,null,null,null,null,null,null,null,null,null,null,"SC6407","SC6407||6400","6400","General and Administrative","Primary","All"]
[null,null,null,null,null,null,"AC00452","[LFSC] LFSC-Fulton-Chair-NDFS","AC00452-[LFSC] LFSC-Fulton-Chair-NDFS","Activity","FD03","Active","2025-03-17T16:11:52.322069+00:00",null,null,null,null,null,null,null,null,"11685","ROTC","11685-ROTC",null,null,null,"AS052852966","Tamalin Christen (052852966) BYU Broadcasting - Marketing","AS052852966-Tamalin Christen (052852966) BYU Broadcasting - Marketing","Active",null,null,null,null,null,null,null,null,null,null,null,"SC6408","SC6408||6400","6400","General and Administrative","Primary","All"]
[null,null,null,null,null,null,"AC00454","[LFSC] Undergrd Experintl Learng-NDFS","AC00454-[LFSC] Undergrd Experintl Learng-NDFS","Activity","FD03","Active","2025-03-17T16:11:52.322069+00:00",null,null,null,null,null,null,null,null,"11686","SC Spartanburg","11686-SC Spartanburg",null,null,null,"AS053011563","Maddison Colvin (053011563) Fine Arts & Communications - Art","AS053011563-Maddison Colvin (053011563) Fine Arts & Communications - Art","Active",null,null,null,null,null,null,null,null,null,null,null,"SC6409","SC6409||6400","6400","General and Administrative","Primary","All"]
[null,null,null,null,null,null,"AC00455","[LFSC] CURA Indirect Student Aid-NDFS","AC00455-[LFSC] CURA Indirect Student Aid-NDFS","Activity","FD03","Active","2025-03-17T16:11:52.322069+00:00",null,null,null,null,null,null,null,null,"11687","Ballroom","11687-Ballroom",null,null,null,"AS053113933","Kathryn Ottosson (053113933) Lee Library - Collections Access","AS053113933-Kathryn Ottosson (053113933) Lee Library - Collections Access","Active",null,null,null,null,null,null,null,null,null,null,null,"SC6410","SC6410||1400","1400","Prepaid Expenses",null,"All"]
[null,null,null,null,null,null,"AC00456","[LFSC] CURA Direct Student Aid-NDFS","AC00456-[LFSC] CURA Direct Student Aid-NDFS","Activity","FD03","Active","2025-03-17T16:11:52.322069+00:00",null,null,null,null,null,null,null,null,"11688","Michael Johanson","11688-Michael Johanson",null,null,null,"AS053123721","Rob Smoot (053123721) Athletics - Cougar Club","AS053123721-Rob Smoot (053123721) Athletics - Cougar Club","Active",null,null,null,null,null,null,null,null,null,null,null,"SC6410","SC6410||6400","6400","General and Administrative","Primary","All"]
[null,null,null,null,null,null,"AC00457","[LFSC] Sunshine Fund-NDFS","AC00457-[LFSC] Sunshine Fund-NDFS","Activity","FD07","Active","2025-03-17T16:11:52.322069+00:00",null,null,null,null,null,null,null,null,"11689","Washer/Dryer Income","11689-Washer/Dryer Income",null,null,null,"AS053173168","Derek Griner (053173168) Student Life VP","AS053173168-Derek Griner (053173168) Student Life VP","Active",null,null,null,null,null,null,null,null,null,null,null,"SC6411","SC6411||6400","6400","General and Administrative","Primary","All"]
[null,null,null,null,null,null,"AC00458","[LFSC] Grad Student Funding-CELL","AC00458-[LFSC] Grad Student Funding-CELL","Activity","FD01","Active","2025-03-17T16:11:52.322069+00:00",null,null,null,null,null,null,null,null,"11690","Affinity - Young Ambassadors","11690-Affinity - Young Ambassadors",null,null,null,"AS053328098","Michael Hansen (053328098) Advancement Vice President","AS053328098-Michael Hansen (053328098) Advancement Vice President","Active",null,null,null,null,null,null,null,null,null,null,null,"SC6412","SC6412||1400","1400","Prepaid Expenses",null,"All"]
[null,null,null,null,null,null,"AC00459","[LFSC] Confocal Microscope Facility","AC00459-[LFSC] Confocal Microscope Facility","Activity","FD02","Active","2025-03-17T16:11:52.322069+00:00",null,null,null,null,null,null,null,null,"11692","Affinity - Vocal Point","11692-Affinity - Vocal Point",null,null,null,"AS053393841","Bill Pitt (053393841) College of Engineering - Chemical Engineering","AS053393841-Bill Pitt (053393841) College of Engineering - Chemical Engineering","Active",null,null,null,null,null,null,null,null,null,null,null,"SC6412","SC6412||6400","6400","General and Administrative","Primary","All"]
[null,null,null,null,null,null,"AC00460","[LFSC] Diabetes Awareness Events","AC00460-[LFSC] Diabetes Awareness Events","Activity","FD03","Active","2025-03-17T16:11:52.322069+00:00",null,null,null,null,null,null,null,null,"11694","Former Student Officer Society","11694-Former Student Officer Society",null,null,null,"AS053506341","Kara Stowers (053506341) CMS - Chemistry and Biochemistry","AS053506341-Kara Stowers (053506341) CMS - Chemistry and Biochemistry","Active",null,null,null,null,null,null,null,null,null,null,null,"SC6413","SC6413||1400","1400","Prepaid Expenses",null,"All"]
[null,null,null,null,null,null,"AC00461","[LFSC] Grad Studies-CELL","AC00461-[LFSC] Grad Studies-CELL","Activity","FD03","Active","2025-03-17T16:11:52.322069+00:00",null,null,null,null,null,null,null,null,"11695","Affinity-Cougarettes","11695-Affinity-Cougarettes",null,null,null,"AS053764043","Daril Johnson (053764043) CE Business Services","AS053764043-Daril Johnson (053764043) CE Business Services","Active",null,null,null,null,null,null,null,null,null,null,null,"SC6413","SC6413||6400","6400","General and Administrative","Primary","All"]
[null,null,null,null,null,null,"AC00462","[LFSC] LFSC Farm / Skaggs Fund-CELL","AC00462-[LFSC] LFSC Farm / Skaggs Fund-CELL","Activity","FD03","Active","2025-03-17T16:11:52.322069+00:00",null,null,null,null,null,null,null,null,"11696","Affinity-Folk Dance","11696-Affinity-Folk Dance",null,null,null,"AS053793368","Giovanni Tata (053793368) AVP - Associate AVP, Research and Graduate Studies","AS053793368-Giovanni Tata (053793368) AVP - Associate AVP, Research and Graduate Studies","Active",null,null,null,null,null,null,null,null,null,null,null,"SC6414","SC6414||1400","1400","Prepaid Expenses",null,"All"]
[null,null,null,null,null,null,"AC00463","[LFSC] Grad Mentoring Award-J.Edwards","AC00463-[LFSC] Grad Mentoring Award-J.Edwards","Activity","FD03","Active","2025-03-17T16:11:52.322069+00:00",null,null,null,null,null,null,null,null,"11697","Affinity-Living Legends","11697-Affinity-Living Legends",null,null,null,"AS053834421","Tommy Terooatea (053834421) Life Sciences - Biology","AS053834421-Tommy Terooatea (053834421) Life Sciences - Biology","Active",null,null,null,null,null,null,null,null,null,null,null,"SC6414","SC6414||1650","1650","Construction in Progress",null,"JE_PPE|JE_Override"]
[null,null,null,null,null,null,"AC00464","[LFSC] Grad Mentoring Award-J.Hansen","AC00464-[LFSC] Grad Mentoring Award-J.Hansen","Activity","FD03","Active","2025-03-17T16:11:52.322069+00:00",null,null,null,null,null,null,null,null,"11698","Affinity-Men's Chorus","11698-Affinity-Men's Chorus",null,null,null,"AS053906103","Annie Thunell (053906103) Heritage Halls","AS053906103-Annie Thunell (053906103) Heritage Halls","Active",null,null,null,null,null,null,null,null,null,null,null,"SC6414","SC6414||1651","1651","Construction in Progress (Non-Workday Projects)",null,"All"]
[null,null,null,null,null,null,"AC00465","[LFSC] Grad Mentoring Award-D.Kooyman","AC00465-[LFSC] Grad Mentoring Award-D.Kooyman","Activity","FD03","Active","2025-03-17T16:11:52.322069+00:00",null,null,null,null,null,null,null,null,"11699","Affinity-Nursing Society","11699-Affinity-Nursing Society",null,null,null,"AS053929956","Bart Chidester (053929956) BYU Broadcasting - Post Production","AS053929956-Bart Chidester (053929956) BYU Broadcasting - Post Production","Active",null,null,null,null,null,null,null,null,null,null,null,"SC6414","SC6414||6400","6400","General and Administrative","Primary","All"]
[null,null,null,null,null,null,"AC00466","[LFSC] Grad Mentoring Award-D.Thomson","AC00466-[LFSC] Grad Mentoring Award-D.Thomson","Activity","FD03","Active","2025-03-17T16:11:52.322069+00:00",null,null,null,null,null,null,null,null,"11700","Affinity-BYU Ballet","11700-Affinity-BYU Ballet",null,null,null,"AS053957372","Abby Prince (053957372) PF Building Operations","AS053957372-Abby Prince (053957372) PF Building Operations","Active",null,null,null,null,null,null,null,null,null,null,null,"SC6415","SC6415||1400","1400","Prepaid Expenses",null,"All"]
[null,null,null,null,null,null,"AC00467","[LFSC] D Kooyman Translation Medicine","AC00467-[LFSC] D Kooyman Translation Medicine","Activity","FD03","Active","2025-03-17T16:11:52.322069+00:00",null,null,null,null,null,null,null,null,"11703","Affinity-Film and TV Connectio","11703-Affinity-Film and TV Connectio",null,null,null,"AS054052529","Mark Preston (054052529) BYU Broadcasting - Marketing","AS054052529-Mark Preston (054052529) BYU Broadcasting - Marketing","Active",null,null,null,null,null,null,null,null,null,null,null,"SC6415","SC6415||6400","6400","General and Administrative","Primary","All"]
[null,null,null,null,null,null,"AC00468","[LFSC] T Jenkins Translation Medicine","AC00468-[LFSC] T Jenkins Translation Medicine","Activity","FD03","Active","2025-03-17T16:11:52.322069+00:00",null,null,null,null,null,null,null,null,"11704","Subscriptions/Periodicals","11704-Subscriptions/Periodicals",null,null,null,"AS054225613","Jackson DeMille (054225613) Helaman Halls","AS054225613-Jackson DeMille (054225613) Helaman Halls","Active",null,null,null,null,null,null,null,null,null,null,null,"SC6416","SC6416||1400","1400","Prepaid Expenses",null,"All"]
[null,null,null,null,null,null,"AC00469","[LFSC] LFSC-Fulton-Chair-CELL","AC00469-[LFSC] LFSC-Fulton-Chair-CELL","Activity","FD03","Active","2025-03-17T16:11:52.322069+00:00",null,null,null,null,null,null,null,null,"11705","Swim & Dive Chapter","11705-Swim & Dive Chapter",null,null,null,"AS054459686","Ed Adams (054459686) Academic Vice President","AS054459686-Ed Adams (054459686) Academic Vice President","Active",null,null,null,null,null,null,null,null,null,null,null,"SC6416","SC6416||6400","6400","General and Administrative","Primary","All"]
[null,null,null,null,null,null,"AC00471","[LFSC] CURA Indirect Studnt Aid-CELL","AC00471-[LFSC] CURA Indirect Studnt Aid-CELL","Activity","FD03","Active","2025-03-17T16:11:52.322069+00:00",null,null,null,null,null,null,null,null,"11706","Geography Chapter","11706-Geography Chapter",null,null,null,"AS054479354","Elizabeth Clark (054479354) Law School - International Center for Law and Religion","AS054479354-Elizabeth Clark (054479354) Law School - International Center for Law and Religion","Active",null,null,null,null,null,null,null,null,null,null,null,"SC6417","SC6417||1400","1400","Prepaid Expenses",null,"All"]
[null,null,null,null,null,null,"AC00472","[LFSC] Undergrd Experintl Learng-CELL","AC00472-[LFSC] Undergrd Experintl Learng-CELL","Activity","FD03","Active","2025-03-17T16:11:52.322069+00:00",null,null,null,null,null,null,null,null,"11707","Montana - Billings","11707-Montana - Billings",null,null,null,"AS054483461","Reed Peterson (054483461) Humanities - Asian & Near Eastern Languages","AS054483461-Reed Peterson (054483461) Humanities - Asian & Near Eastern Languages","Active",null,null,null,null,null,null,null,null,null,null,null,"SC6417","SC6417||6400","6400","General and Administrative","Primary","All"]
[null,null,null,null,null,null,"AC00473","[LFSC] CURA Direct Student Aid-CELL","AC00473-[LFSC] CURA Direct Student Aid-CELL","Activity","FD03","Active","2025-03-17T16:11:52.322069+00:00",null,null,null,null,null,null,null,null,"11710","Alumni Chapter Directors","11710-Alumni Chapter Directors",null,null,null,"AS054509286","D. J. Lee (054509286) College of Engineering - Electrical & Computer Engineering","AS054509286-D. J. Lee (054509286) College of Engineering - Electrical & Computer Engineering","Active",null,null,null,null,null,null,null,null,null,null,null,"SC6418","SC6418||6400","6400","General and Administrative","Primary","All"]
[null,null,null,null,null,null,"AC00474","[LFSC] Sunshine Fund-CELL","AC00474-[LFSC] Sunshine Fund-CELL","Activity","FD07","Active","2025-03-17T16:11:52.322069+00:00",null,null,null,null,null,null,null,null,"11711","South Carolina - Columbia","11711-South Carolina - Columbia",null,null,null,"AS054511304","Lance Mckinney (054511304) PF AVP Office","AS054511304-Lance Mckinney (054511304) PF AVP Office","Active",null,null,null,null,null,null,null,null,null,null,null,"SC6419","SC6419||1400","1400","Prepaid Expenses",null,"All"]
[null,null,null,null,null,null,"AC00475","[LFSC] Grad Studies-S.StClair","AC00475-[LFSC] Grad Studies-S.StClair","Activity","FD01","Active","2025-03-17T16:11:52.322069+00:00",null,null,null,null,null,null,null,null,"11713","Tennessee - Memphis","11713-Tennessee - Memphis",null,null,null,"AS054803398","Christine Tanner (054803398) Enrollment Services Executive Director's Office","AS054803398-Christine Tanner (054803398) Enrollment Services Executive Director's Office","Active",null,null,null,null,null,null,null,null,null,null,null,"SC6419","SC6419||6400","6400","General and Administrative","Primary","All"]
[null,null,null,null,null,null,"AC00476","[LFSC] Grad Student Funding-PWS","AC00476-[LFSC] Grad Student Funding-PWS","Activity","FD01","Active","2025-03-17T16:11:52.322069+00:00",null,null,null,null,null,null,null,null,"11714","Kansas - Wichita","11714-Kansas - Wichita",null,null,null,"AS054806940","Mindy Harmon (054806940) CE FSY Central","AS054806940-Mindy Harmon (054806940) CE FSY Central","Active",null,null,null,null,null,null,null,null,null,null,null,"SC6420","SC6420||1400","1400","Prepaid Expenses",null,"All"]
[null,null,null,null,null,null,"AC00477","[LFSC] Operational Fndrsg Replacm-PWS","AC00477-[LFSC] Operational Fndrsg Replacm-PWS","Activity","FD01","Active","2025-03-17T16:11:52.322069+00:00",null,null,null,null,null,null,null,null,"11715","Utah - St. George","11715-Utah - St. George",null,null,null,"AS054835693","Stephanie Andrewsen (054835693) Alumni and External Relations","AS054835693-Stephanie Andrewsen (054835693) Alumni and External Relations","Active",null,null,null,null,null,null,null,null,null,null,null,"SC6420","SC6420||6400","6400","General and Administrative","Primary","All"]
[null,null,null,null,null,null,"AC00478","[LFSC] Farm Research Plots","AC00478-[LFSC] Farm Research Plots","Activity","FD01","Active","2025-03-17T16:11:52.322069+00:00",null,null,null,null,null,null,null,null,"11728","American Samoa","11728-American Samoa",null,null,null,"AS054923615","Mike Diede (054923615) Life Sciences - Exercise Sciences","AS054923615-Mike Diede (054923615) Life Sciences - Exercise Sciences","Active",null,null,null,null,null,null,null,null,null,null,null,"SC6421","SC6421||1400","1400","Prepaid Expenses",null,"All"]
[null,null,null,null,null,null,"AC00479","[LFSC] Plant and Wildlife Sciences","AC00479-[LFSC] Plant and Wildlife Sciences","Activity","FD02","Active","2025-03-17T16:11:52.322069+00:00",null,null,null,null,null,null,null,null,"11739","Delaware - Wilmington","11739-Delaware - Wilmington",null,null,null,"AS054940732","Rich Patterson (054940732) FHSS - Economics","AS054940732-Rich Patterson (054940732) FHSS - Economics","Active",null,null,null,null,null,null,null,null,null,null,null,"SC6421","SC6421||6400","6400","General and Administrative","Primary","All"]
[null,null,null,null,null,null,"AC00480","[LFSC] Greenhouse Projects","AC00480-[LFSC] Greenhouse Projects","Activity","FD02","Active","2025-03-17T16:11:52.322069+00:00",null,null,null,null,null,null,null,null,"11742","Iowa-Des Moines","11742-Iowa-Des Moines",null,null,null,"AS055255631","Julie Peery (055255631) MSE  - Teacher Education","AS055255631-Julie Peery (055255631) MSE  - Teacher Education","Active",null,null,null,null,null,null,null,null,null,null,null,"SC6422","SC6422||1400","1400","Prepaid Expenses",null,"All"]
[null,null,null,null,null,null,"AC00481","[LFSC] Soil-Plant Analysis","AC00481-[LFSC] Soil-Plant Analysis","Activity","FD02","Active","2025-03-17T16:11:52.322069+00:00",null,null,null,null,null,null,null,null,"11752","Speeches","11752-Speeches",null,null,null,"AS055337058","Josh Richey (055337058) Enrollment Services Executive Director's Office","AS055337058-Josh Richey (055337058) Enrollment Services Executive Director's Office","Active",null,null,null,null,null,null,null,null,null,null,null,"SC6422","SC6422||6400","6400","General and Administrative","Primary","All"]
[null,null,null,null,null,null,"AC00482","[LFSC] Environmental Science Club","AC00482-[LFSC] Environmental Science Club","Activity","FD02","Active","2025-03-17T16:11:52.322069+00:00",null,null,null,null,null,null,null,null,"11753","Website Maintenance","11753-Website Maintenance",null,null,null,"AS055660543","Kerry Soper (055660543) AVP - Dean, Humanities","AS055660543-Kerry Soper (055660543) AVP - Dean, Humanities","Active",null,null,null,null,null,null,null,null,null,null,null,"SC6423","SC6423||6400","6400","General and Administrative","Primary","All"]
[null,null,null,null,null,null,"AC00483","[LFSC] Landscape Management Club","AC00483-[LFSC] Landscape Management Club","Activity","FD02","Active","2025-03-17T16:11:52.322069+00:00",null,null,null,null,null,null,null,null,"11754","April Commencement","11754-April Commencement",null,null,null,"AS055837095","Suvinia Purcell (055837095) PF Building Operations","AS055837095-Suvinia Purcell (055837095) PF Building Operations","Active",null,null,null,null,null,null,null,null,null,null,null,"SC6424","SC6424||1400","1400","Prepaid Expenses",null,"All"]
[null,null,null,null,null,null,"AC00484","[LFSC] Aquarium, Zoo and Rescue Club","AC00484-[LFSC] Aquarium, Zoo and Rescue Club","Activity","FD02","Active","2025-03-17T16:11:52.322069+00:00",null,null,null,null,null,null,null,null,"11760","Student Designers","11760-Student Designers",null,null,null,"AS055857647","Maggie Kopp (055857647) Research & Learning - Special Collections","AS055857647-Maggie Kopp (055857647) Research & Learning - Special Collections","Active",null,null,null,null,null,null,null,null,null,null,null,"SC6424","SC6424||6400","6400","General and Administrative","Primary","All"]
[null,null,null,null,null,null,"AC00485","[LFSC] Geographic Info System(GIS)Lab","AC00485-[LFSC] Geographic Info System(GIS)Lab","Activity","FD02","Active","2025-03-17T16:11:52.322069+00:00",null,null,null,null,null,null,null,null,"11761","Student Computing","11761-Student Computing",null,null,null,"AS056008210","Mech Tenney (056008210) Enterprise Solutions - HCM","AS056008210-Mech Tenney (056008210) Enterprise Solutions - HCM","Active",null,null,null,null,null,null,null,null,null,null,null,"SC6425","SC6425||1400","1400","Prepaid Expenses",null,"All"]
[null,null,null,null,null,null,"AC00486","[LFSC] Cementum Analysis Laboratory","AC00486-[LFSC] Cementum Analysis Laboratory","Activity","FD02","Active","2025-03-17T16:11:52.322069+00:00",null,null,null,null,null,null,null,null,"11762","Student Secretaries","11762-Student Secretaries",null,null,null,"AS056059275","Tamara Moss (056059275) CE Customer Support","AS056059275-Tamara Moss (056059275) CE Customer Support","Active",null,null,null,null,null,null,null,null,null,null,null,"SC6425","SC6425||6400","6400","General and Administrative","Primary","All"]
[null,null,null,null,null,null,"AC00487","[LFSC] Genetics and Biotech Club","AC00487-[LFSC] Genetics and Biotech Club","Activity","FD02","Active","2025-03-17T16:11:52.322069+00:00",null,null,null,null,null,null,null,null,"11763","Student Editors","11763-Student Editors",null,null,null,"AS056069198","John Wiscombe (056069198) PF Central Heating Plant","AS056069198-John Wiscombe (056069198) PF Central Heating Plant","Active",null,null,null,null,null,null,null,null,null,null,null,"SC6426","SC6426||6400","6400","General and Administrative","Primary","All"]
[null,null,null,null,null,null,"AC00488","[LFSC] Wildlife & Range Club","AC00488-[LFSC] Wildlife & Range Club","Activity","FD02","Active","2025-03-17T16:11:52.322069+00:00",null,null,null,null,null,null,null,null,"11764","Student Photography","11764-Student Photography",null,null,null,"AS056353237","Philip Hatch (056353237) PF Grounds - Landscaping Specialty","AS056353237-Philip Hatch (056353237) PF Grounds - Landscaping Specialty","Active",null,null,null,null,null,null,null,null,null,null,null,"SC6427","SC6427||1400","1400","Prepaid Expenses",null,"All"]
[null,null,null,null,null,null,"AC00489","[LFSC] Society for Range Mgmt Club","AC00489-[LFSC] Society for Range Mgmt Club","Activity","FD02","Active","2025-03-17T16:11:52.322069+00:00",null,null,null,null,null,null,null,null,"11765","Student Translators","11765-Student Translators",null,null,null,"AS056691258","Mark Wilson (056691258) Dean's Office Humanities","AS056691258-Mark Wilson (056691258) Dean's Office Humanities","Active",null,null,null,null,null,null,null,null,null,null,null,"SC6427","SC6427||6400","6400","General and Administrative","Primary","All"]
[null,null,null,null,null,null,"AC00490","[LFSC] Spotted Wilt","AC00490-[LFSC] Spotted Wilt","Activity","FD03","Active","2025-03-17T16:11:52.322069+00:00",null,null,null,null,null,null,null,null,"11766","Student SEO/Marketing","11766-Student SEO/Marketing",null,null,null,"AS056755503","Adam Brown (056755503) FHSS - Political Science","AS056755503-Adam Brown (056755503) FHSS - Political Science","Active",null,null,null,null,null,null,null,null,null,null,null,"SC6428","SC6428||1400","1400","Prepaid Expenses",null,"All"]
[null,null,null,null,null,null,"AC00491","[LFSC] National Assc of Landscape Pro","AC00491-[LFSC] National Assc of Landscape Pro","Activity","FD03","Active","2025-03-17T16:11:52.322069+00:00",null,null,null,null,null,null,null,null,"11767","Student Video Editing","11767-Student Video Editing",null,null,null,"AS056921368","Daniel Zappala (056921368) CMS - Computer Science","AS056921368-Daniel Zappala (056921368) CMS - Computer Science","Active",null,null,null,null,null,null,null,null,null,null,null,"SC6428","SC6428||6400","6400","General and Administrative","Primary","All"]
[null,null,null,null,null,null,"AC00492","[LFSC] LFSC Farm / Skaggs Fund-PWS","AC00492-[LFSC] LFSC Farm / Skaggs Fund-PWS","Activity","FD03","Active","2025-03-17T16:11:52.322069+00:00",null,null,null,null,null,null,null,null,"11770","Photography","11770-Photography",null,null,null,"AS056963913","Dustin Pead (056963913) Law School","AS056963913-Dustin Pead (056963913) Law School","Active",null,null,null,null,null,null,null,null,null,null,null,"SC6429","SC6429||1400","1400","Prepaid Expenses",null,"All"]
[null,null,null,null,null,null,"AC00493","[LFSC] Grad Mentoring Award-B.Abbott","AC00493-[LFSC] Grad Mentoring Award-B.Abbott","Activity","FD03","Active","2025-03-17T16:11:52.322069+00:00",null,null,null,null,null,null,null,null,"11772","Electronic Media","11772-Electronic Media",null,null,null,"AS057391302","Scott Raines (057391302) Religious Education - Church History & Doctrine","AS057391302-Scott Raines (057391302) Religious Education - Church History & Doctrine","Active",null,null,null,null,null,null,null,null,null,null,null,"SC6429","SC6429||6400","6400","General and Administrative","Primary","All"]
[null,null,null,null,null,null,"AC00494","[LFSC] LFSC-Fulton-Chair-PWS","AC00494-[LFSC] LFSC-Fulton-Chair-PWS","Activity","FD03","Active","2025-03-17T16:11:52.322069+00:00",null,null,null,null,null,null,null,null,"11773","Fonts","11773-Fonts",null,null,null,"AS057473288","Jennifer Harper (057473288) OIT Resource - CES Network Center (CNC) - Installation","AS057473288-Jennifer Harper (057473288) OIT Resource - CES Network Center (CNC) - Installation","Active",null,null,null,null,null,null,null,null,null,null,null,"SC6430","SC6430||1400","1400","Prepaid Expenses",null,"All"]
[null,null,null,null,null,null,"AC00496","[LFSC] CURA Indirect Student Aid-PWS","AC00496-[LFSC] CURA Indirect Student Aid-PWS","Activity","FD03","Active","2025-03-17T16:11:52.322069+00:00",null,null,null,null,null,null,null,null,"11775","Subscriptions","11775-Subscriptions",null,null,null,"AS057686851","Josh DeWitt (057686851) OIT Leadership - Enterprise Data Management and Finance","AS057686851-Josh DeWitt (057686851) OIT Leadership - Enterprise Data Management and Finance","Active",null,null,null,null,null,null,null,null,null,null,null,"SC6430","SC6430||6400","6400","General and Administrative","Primary","All"]
[null,null,null,null,null,null,"AC00497","[LFSC] Undergrd Experintl Learng-PWS","AC00497-[LFSC] Undergrd Experintl Learng-PWS","Activity","FD03","Active","2025-03-17T16:11:52.322069+00:00",null,null,null,null,null,null,null,null,"11776","Dues & Memberships","11776-Dues & Memberships",null,null,null,"AS057714922","Grant Hart (057714922) CMS - Physics and Astronomy","AS057714922-Grant Hart (057714922) CMS - Physics and Astronomy","Active",null,null,null,null,null,null,null,null,null,null,null,"SC6431","SC6431||1400","1400","Prepaid Expenses",null,"All"]
[null,null,null,null,null,null,"AC00498","[LFSC] CURA Direct Student Aid-PWS","AC00498-[LFSC] CURA Direct Student Aid-PWS","Activity","FD03","Active","2025-03-17T16:11:52.322069+00:00",null,null,null,null,null,null,null,null,"11777","Entry Fees","11777-Entry Fees",null,null,null,"AS057719021","Robyn Bretzing (057719021) MSE  - Teacher Education","AS057719021-Robyn Bretzing (057719021) MSE  - Teacher Education","Active",null,null,null,null,null,null,null,null,null,null,null,"SC6431","SC6431||6400","6400","General and Administrative","Primary","All"]
[null,null,null,null,null,null,"AC00499","[LFSC] Sunshine Fund-PWS","AC00499-[LFSC] Sunshine Fund-PWS","Activity","FD07","Active","2025-03-17T16:11:52.322069+00:00",null,null,null,null,null,null,null,null,"11800","Billable MU","11800-Billable MU",null,null,null,"AS058122752","Matthew Shumway (058122752) FHSS - Geography","AS058122752-Matthew Shumway (058122752) FHSS - Geography","Active",null,null,null,null,null,null,null,null,null,null,null,"SC6432","SC6432||1400","1400","Prepaid Expenses",null,"All"]
[null,null,null,null,null,null,"AC00500","[LFSC] Human Performance Research","AC00500-[LFSC] Human Performance Research","Activity","FD01","Active","2025-03-17T16:11:52.322069+00:00",null,null,null,null,null,null,null,null,"11801","Billable NMU","11801-Billable NMU",null,null,null,"AS058228598","Matthew Carlin (058228598) Fine Arts & Communications - Theatre & Media Arts","AS058228598-Matthew Carlin (058228598) Fine Arts & Communications - Theatre & Media Arts","Active",null,null,null,null,null,null,null,null,null,null,null,"SC6432","SC6432||6400","6400","General and Administrative","Primary","All"]
[null,null,null,null,null,null,"AC00501","[LFSC] Grad Student Funding-EXSC","AC00501-[LFSC] Grad Student Funding-EXSC","Activity","FD01","Active","2025-03-17T16:11:52.322069+00:00",null,null,null,null,null,null,null,null,"11850","Magazine Printing","11850-Magazine Printing",null,null,null,"AS058259212","Kimball Germane (058259212) CMS - Computer Science","AS058259212-Kimball Germane (058259212) CMS - Computer Science","Active",null,null,null,null,null,null,null,null,null,null,null,"SC6433","SC6433||1400","1400","Prepaid Expenses",null,"All"]
[null,null,null,null,null,null,"AC00502","[LFSC] Grad Studies-Sunku Kwon","AC00502-[LFSC] Grad Studies-Sunku Kwon","Activity","FD01","Active","2025-03-17T16:11:52.322069+00:00",null,null,null,null,null,null,null,null,"11851","Graphic Design","11851-Graphic Design",null,null,null,"AS058350365","Carol Salmon (058350365) CE Broadcast & Streaming Video","AS058350365-Carol Salmon (058350365) CE Broadcast & Streaming Video","Active",null,null,null,null,null,null,null,null,null,null,null,"SC6433","SC6433||6400","6400","General and Administrative","Primary","All"]
[null,null,null,null,null,null,"AC00503","[LFSC] Phy/Occupational Therapy Club","AC00503-[LFSC] Phy/Occupational Therapy Club","Activity","FD02","Active","2025-03-17T16:11:52.322069+00:00",null,null,null,null,null,null,null,null,"11852","BYU Today","11852-BYU Today",null,null,null,"AS058388706","Christian Brown (058388706) Staff and Student Recruiting","AS058388706-Christian Brown (058388706) Staff and Student Recruiting","Active",null,null,null,null,null,null,null,null,null,null,null,"SC6434","SC6434||1400","1400","Prepaid Expenses",null,"All"]
[null,null,null,null,null,null,"AC00504","[LFSC] Cougar Athletic Training Club","AC00504-[LFSC] Cougar Athletic Training Club","Activity","FD02","Active","2025-03-17T16:11:52.322069+00:00",null,null,null,null,null,null,null,null,"11853","U.S. Mailing","11853-U.S. Mailing",null,null,null,"AS058552581","Virginia Rosenthal (058552581) Humanities - German & Russian","AS058552581-Virginia Rosenthal (058552581) Humanities - German & Russian","Active",null,null,null,null,null,null,null,null,null,null,null,"SC6434","SC6434||6400","6400","General and Administrative","Primary","All"]
[null,null,null,null,null,null,"AC00505","[LFSC] Exercise Sciences Y-Be-Fit","AC00505-[LFSC] Exercise Sciences Y-Be-Fit","Activity","FD02","Active","2025-03-17T16:11:52.322069+00:00",null,null,null,null,null,null,null,null,"11854","Foreign Mailing","11854-Foreign Mailing",null,null,null,"AS058906896","Patrick Spencer (058906896) Fine Arts & Communications - Design","AS058906896-Patrick Spencer (058906896) Fine Arts & Communications - Design","Active",null,null,null,null,null,null,null,null,null,null,null,"SC6435","SC6435||1400","1400","Prepaid Expenses",null,"All"]
[null,null,null,null,null,null,"AC00506","[LFSC] Fitness for Life","AC00506-[LFSC] Fitness for Life","Activity","FD03","Active","2025-03-17T16:11:52.322069+00:00",null,null,null,null,null,null,null,null,"11855","BYU Mag Video Prep","11855-BYU Mag Video Prep",null,null,null,"AS059241497","Michael Adams (059241497) Student Life VP","AS059241497-Michael Adams (059241497) Student Life VP","Active",null,null,null,null,null,null,null,null,null,null,null,"SC6435","SC6435||1650","1650","Construction in Progress",null,"JE_PPE|JE_Override"]
[null,null,null,null,null,null,"AC00507","[LFSC] Jesse Knight Profrshp-K Knight","AC00507-[LFSC] Jesse Knight Profrshp-K Knight","Activity","FD03","Active","2025-03-17T16:11:52.322069+00:00",null,null,null,null,null,null,null,null,"11856","BYU Magazine website","11856-BYU Magazine website",null,null,null,"AS059416261","Tom Meservy (059416261) AVP - Dean, Marriott School of Business (MSB)","AS059416261-Tom Meservy (059416261) AVP - Dean, Marriott School of Business (MSB)","Active",null,null,null,null,null,null,null,null,null,null,null,"SC6435","SC6435||1651","1651","Construction in Progress (Non-Workday Projects)",null,"All"]
[null,null,null,null,null,null,"AC00508","[LFSC] Hopkins, Tyson-Young Scholar","AC00508-[LFSC] Hopkins, Tyson-Young Scholar","Activity","FD03","Active","2025-03-17T16:11:52.322069+00:00",null,null,null,null,null,null,null,null,"11857","Y Mag Podcast","11857-Y Mag Podcast",null,null,null,"AS059514570","Ammon Ho (059514570) PF Paint & Sign Shop","AS059514570-Ammon Ho (059514570) PF Paint & Sign Shop","Active",null,null,null,null,null,null,null,null,null,null,null,"SC6435","SC6435||6400","6400","General and Administrative","Primary","All"]
[null,null,null,null,null,null,"AC00509","[LFSC] Grad Mentoring Award-J.Gifford","AC00509-[LFSC] Grad Mentoring Award-J.Gifford","Activity","FD03","Active","2025-03-17T16:11:52.322069+00:00",null,null,null,null,null,null,null,null,"11860","Reunion 1","11860-Reunion 1",null,null,null,"AS059560897","Laura Muhlestein (059560897) Deans Office BYU Marriott","AS059560897-Laura Muhlestein (059560897) Deans Office BYU Marriott","Active",null,null,null,null,null,null,null,null,null,null,null,"SC6436","SC6436||6400","6400","General and Administrative","Primary","All"]
[null,null,null,null,null,null,"AC00510","[LFSC] LFSC-Fulton-Chair-EXSC","AC00510-[LFSC] LFSC-Fulton-Chair-EXSC","Activity","FD03","Active","2025-03-17T16:11:52.322069+00:00",null,null,null,null,null,null,null,null,"11861","Kentucky - Lexington","11861-Kentucky - Lexington",null,null,null,"AS059594692","Jen Nishiguchi (059594692) International VP","AS059594692-Jen Nishiguchi (059594692) International VP","Active",null,null,null,null,null,null,null,null,null,null,null,"SC6437","SC6437||6400","6400","General and Administrative","Primary","All"]
[null,null,null,null,null,null,"AC00512","[LFSC] Undergrd Experintl Learng-EXSC","AC00512-[LFSC] Undergrd Experintl Learng-EXSC","Activity","FD03","Active","2025-03-17T16:11:52.322069+00:00",null,null,null,null,null,null,null,null,"11862","Geology","11862-Geology",null,null,null,"AS059755157","Katelyn Williams (059755157) Student Wellness","AS059755157-Katelyn Williams (059755157) Student Wellness","Active",null,null,null,null,null,null,null,null,null,null,null,"SC6438","SC6438||1400","1400","Prepaid Expenses",null,"All"]
[null,null,null,null,null,null,"AC00513","[LFSC] CURA Indirect Student Aid-EXSC","AC00513-[LFSC] CURA Indirect Student Aid-EXSC","Activity","FD03","Active","2025-03-17T16:11:52.322069+00:00",null,null,null,null,null,null,null,null,"11863","Latino","11863-Latino",null,null,null,"AS059842597","Brandon Plewe (059842597) FHSS - Geography","AS059842597-Brandon Plewe (059842597) FHSS - Geography","Active",null,null,null,null,null,null,null,null,null,null,null,"SC6438","SC6438||6400","6400","General and Administrative","Primary","All"]
[null,null,null,null,null,null,"AC00514","[LFSC] CURA Direct Student Aid-EXSC","AC00514-[LFSC] CURA Direct Student Aid-EXSC","Activity","FD03","Active","2025-03-17T16:11:52.322069+00:00",null,null,null,null,null,null,null,null,"11867","LDS Educators Society","11867-LDS Educators Society",null,null,null,"AS059922615","Jon McBride (059922615) Athletics - External Relations","AS059922615-Jon McBride (059922615) Athletics - External Relations","Active",null,null,null,null,null,null,null,null,null,null,null,"SC6439","SC6439||1400","1400","Prepaid Expenses",null,"All"]
[null,null,null,null,null,null,"AC00515","[LFSC] Sunshine Fund-EXSC","AC00515-[LFSC] Sunshine Fund-EXSC","Activity","FD07","Active","2025-03-17T16:11:52.322069+00:00",null,null,null,null,null,null,null,null,"11868","Reunion 9","11868-Reunion 9",null,null,null,"AS060137761","Steve Christensen (060137761) AVP - Dean, McKay School of Education (MSE)","AS060137761-Steve Christensen (060137761) AVP - Dean, McKay School of Education (MSE)","Active",null,null,null,null,null,null,null,null,null,null,null,"SC6439","SC6439||6400","6400","General and Administrative","Primary","All"]
[null,null,null,null,null,null,"AC00516","[LFSC] Grad Student Funding-HLTH","AC00516-[LFSC] Grad Student Funding-HLTH","Activity","FD01","Active","2025-03-17T16:11:52.322069+00:00",null,null,null,null,null,null,null,null,"11879","TN Northeast","11879-TN Northeast",null,null,null,"AS060169501","Robert Means (060169501) Research & Learning - Humanities","AS060169501-Robert Means (060169501) Research & Learning - Humanities","Active",null,null,null,null,null,null,null,null,null,null,null,"SC6440","SC6440||1400","1400","Prepaid Expenses",null,"All"]
[null,null,null,null,null,null,"AC00517","[LFSC] Master of Public Health","AC00517-[LFSC] Master of Public Health","Activity","FD01","Active","2025-03-17T16:11:52.322069+00:00",null,null,null,null,null,null,null,null,"11885","45 Year Reunion","11885-45 Year Reunion",null,null,null,"AS060654770","Natalie Jensen (060654770) FHSS - Economics","AS060654770-Natalie Jensen (060654770) FHSS - Economics","Active",null,null,null,null,null,null,null,null,null,null,null,"SC6440","SC6440||6400","6400","General and Administrative","Primary","All"]
[null,null,null,null,null,null,"AC00518","[LFSC] BYU Public Health Assoc Club","AC00518-[LFSC] BYU Public Health Assoc Club","Activity","FD02","Active","2025-03-17T16:11:52.322069+00:00",null,null,null,null,null,null,null,null,"11889","Joy Weller","11889-Joy Weller",null,null,null,"AS060781695","Jeanette Geslison (060781695) Fine Arts & Communications - Dance","AS060781695-Jeanette Geslison (060781695) Fine Arts & Communications - Dance","Active",null,null,null,null,null,null,null,null,null,null,null,"SC6441","SC6441||1400","1400","Prepaid Expenses",null,"All"]
[null,null,null,null,null,null,"AC00519","[LFSC] Hepatitis B Virus Club","AC00519-[LFSC] Hepatitis B Virus Club","Activity","FD02","Active","2025-03-17T16:11:52.322069+00:00",null,null,null,null,null,null,null,null,"11957","Publications printing/graphics","11957-Publications printing/graphics",null,null,null,"AS060853265","Lola Taylor (060853265) Indefinite Leaves","AS060853265-Lola Taylor (060853265) Indefinite Leaves","Active",null,null,null,null,null,null,null,null,null,null,null,"SC6441","SC6441||6400","6400","General and Administrative","Primary","All"]
[null,null,null,null,null,null,"AC00520","[LFSC] ASSP Student Accoc. Club","AC00520-[LFSC] ASSP Student Accoc. Club","Activity","FD02","Active","2025-03-17T16:11:52.322069+00:00",null,null,null,null,null,null,null,null,"11959","CLC","11959-CLC",null,null,null,"AS060874409","Almy Hollis (060874409) Mechanical Engineering","AS060874409-Almy Hollis (060874409) Mechanical Engineering","Active",null,null,null,null,null,null,null,null,null,null,null,"SC6442","SC6442||1400","1400","Prepaid Expenses",null,"All"]
[null,null,null,null,null,null,"AC00521","[LFSC] The BYU Rotaract Club","AC00521-[LFSC] The BYU Rotaract Club","Activity","FD02","Active","2025-03-17T16:11:52.322069+00:00",null,null,null,null,null,null,null,null,"11965","Crafters License","11965-Crafters License",null,null,null,"AS061044013","Gary Smith (061044013) CE Software Development","AS061044013-Gary Smith (061044013) CE Software Development","Active",null,null,null,null,null,null,null,null,null,null,null,"SC6442","SC6442||6400","6400","General and Administrative","Primary","All"]
[null,null,null,null,null,null,"AC00522","[LFSC] IDR Redelfs/Lopez Integration","AC00522-[LFSC] IDR Redelfs/Lopez Integration","Activity","FD03","Active","2025-03-17T16:11:52.322069+00:00",null,null,null,null,null,null,null,null,"11981","Athletics","11981-Athletics",null,null,null,"AS061093642","Barry Holman (061093642) PF Campus Projects - Mechanical Engineering","AS061093642-Barry Holman (061093642) PF Campus Projects - Mechanical Engineering","Active",null,null,null,null,null,null,null,null,null,null,null,"SC6443","SC6443||1400","1400","Prepaid Expenses",null,"All"]
[null,null,null,null,null,null,"AC00523","[LFSC] LFSC-Fulton-Chair-PH","AC00523-[LFSC] LFSC-Fulton-Chair-PH","Activity","FD03","Active","2025-03-17T16:11:52.322069+00:00",null,null,null,null,null,null,null,null,"11A00","OIT Infrastruct - Distribution","11A00-OIT Infrastruct - Distribution",null,null,null,"AS061188345","Gary Lawlor (061188345) CMS - Mathematics","AS061188345-Gary Lawlor (061188345) CMS - Mathematics","Active",null,null,null,null,null,null,null,null,null,null,null,"SC6443","SC6443||6400","6400","General and Administrative","Primary","All"]
[null,null,null,null,null,null,"AC00525","[LFSC] CURA Indirect Student Aid-PH","AC00525-[LFSC] CURA Indirect Student Aid-PH","Activity","FD03","Active","2025-03-17T16:11:52.322069+00:00",null,null,null,null,null,null,null,null,"11A12","TV Headend Distribution","11A12-TV Headend Distribution",null,null,null,"AS061424253","Robert Coleman (061424253) PF Major Projects - Construction","AS061424253-Robert Coleman (061424253) PF Major Projects - Construction","Active",null,null,null,null,null,null,null,null,null,null,null,"SC6444","SC6444||1400","1400","Prepaid Expenses",null,"All"]
[null,null,null,null,null,null,"AC00526","[LFSC] Undergrd Experintl Learng-HLTH","AC00526-[LFSC] Undergrd Experintl Learng-HLTH","Activity","FD03","Active","2025-03-17T16:11:52.322069+00:00",null,null,null,null,null,null,null,null,"11A81","Network Core","11A81-Network Core",null,null,null,"AS061438825","Brooklyn Roemer (061438825) Brand & Creative","AS061438825-Brooklyn Roemer (061438825) Brand & Creative","Active",null,null,null,null,null,null,null,null,null,null,null,"SC6444","SC6444||6400","6400","General and Administrative","Primary","All"]
[null,null,null,null,null,null,"AC00527","[LFSC] CURA Direct Student Aid-PH","AC00527-[LFSC] CURA Direct Student Aid-PH","Activity","FD03","Active","2025-03-17T16:11:52.322069+00:00",null,null,null,null,null,null,null,null,"11A82","Network Distribution Equipment","11A82-Network Distribution Equipment",null,null,null,"AS061475058","Brian Chantry (061475058) Enrollment Services Executive Director's Office","AS061475058-Brian Chantry (061475058) Enrollment Services Executive Director's Office","Active",null,null,null,null,null,null,null,null,null,null,null,"SC6445","SC6445||1400","1400","Prepaid Expenses",null,"All"]
[null,null,null,null,null,null,"AC00528","[LFSC] Sunshine Fund-PH","AC00528-[LFSC] Sunshine Fund-PH","Activity","FD07","Active","2025-03-17T16:11:52.322069+00:00",null,null,null,null,null,null,null,null,"11A84","UPS","11A84-UPS",null,null,null,"AS061540758","Danielle LaFata (061540758) Athletics - Olympic Sport Medicine","AS061540758-Danielle LaFata (061540758) Athletics - Olympic Sport Medicine","Active",null,null,null,null,null,null,null,null,null,null,null,"SC6445","SC6445||6400","6400","General and Administrative","Primary","All"]
[null,null,null,null,null,null,"AC00530","[LAWS] J Reuben Clark Law Socty &Chap","AC00530-[LAWS] J Reuben Clark Law Socty &Chap","Activity","FD03","Active","2025-03-17T16:11:52.322069+00:00",null,null,null,null,null,null,null,null,"11A91","Wire Cable - Feeder (Trunk)","11A91-Wire Cable - Feeder (Trunk)",null,null,null,"AS061662374","Randy Page (061662374) Life Sciences - Dean's Office","AS061662374-Randy Page (061662374) Life Sciences - Dean's Office","Active",null,null,null,null,null,null,null,null,null,null,null,"SC6446","SC6446||1400","1400","Prepaid Expenses",null,"All"]
[null,null,null,null,null,null,"AC00531","[LAWS] Research Support","AC00531-[LAWS] Research Support","Activity","FD01","Active","2025-03-17T16:11:52.322069+00:00",null,null,null,null,null,null,null,null,"11A92","Wire Cable - Riser","11A92-Wire Cable - Riser",null,null,null,"AS061704489","Tara Carpenter Estrada (061704489) Fine Arts & Communications - Art","AS061704489-Tara Carpenter Estrada (061704489) Fine Arts & Communications - Art","Active",null,null,null,null,null,null,null,null,null,null,null,"SC6446","SC6446||6400","6400","General and Administrative","Primary","All"]
[null,null,null,null,null,null,"AC00532","[LAWS] Law School Scholar","AC00532-[LAWS] Law School Scholar","Activity","FD01","Active","2025-03-17T16:11:52.322069+00:00",null,null,null,null,null,null,null,null,"11A93","Wire Cable - Station","11A93-Wire Cable - Station",null,null,null,"AS061742652","Chad Carlos (061742652) MSB - Management","AS061742652-Chad Carlos (061742652) MSB - Management","Active",null,null,null,null,null,null,null,null,null,null,null,"SC6447","SC6447||1400","1400","Prepaid Expenses",null,"All"]
[null,null,null,null,null,null,"AC00533","[LAWS] Corpus Linguistics Project","AC00533-[LAWS] Corpus Linguistics Project","Activity","FD01","Active","2025-03-17T16:11:52.322069+00:00",null,null,null,null,null,null,null,null,"11A95","Fiber Cable - Feeder","11A95-Fiber Cable - Feeder",null,null,null,"AS061751916","Jeff Hardy (061751916) FHSS - History","AS061751916-Jeff Hardy (061751916) FHSS - History","Active",null,null,null,null,null,null,null,null,null,null,null,"SC6447","SC6447||6400","6400","General and Administrative","Primary","All"]
[null,null,null,null,null,null,"AC00534","[LAWS] MLSA","AC00534-[LAWS] MLSA","Activity","FD02","Active","2025-03-17T16:11:52.322069+00:00",null,null,null,null,null,null,null,null,"11A97","Fiber Station Cable","11A97-Fiber Station Cable",null,null,null,"AS061886773","Chris Smith (061886773) Fine Arts & Communications - School of Music","AS061886773-Chris Smith (061886773) Fine Arts & Communications - School of Music","Active",null,null,null,null,null,null,null,null,null,null,null,"SC6448","SC6448||1400","1400","Prepaid Expenses",null,"All"]
[null,null,null,null,null,null,"AC00535","[LAWS] Student Bar Assoc","AC00535-[LAWS] Student Bar Assoc","Activity","FD02","Active","2025-03-17T16:11:52.322069+00:00",null,null,null,null,null,null,null,null,"11A98","Fiber Cable - Tie","11A98-Fiber Cable - Tie",null,null,null,"AS061987570","Kelly Russell (061987570) Kennedy International Center","AS061987570-Kelly Russell (061987570) Kennedy International Center","Active",null,null,null,null,null,null,null,null,null,null,null,"SC6448","SC6448||6400","6400","General and Administrative","Primary","All"]
[null,null,null,null,null,null,"AC00536","[LAWS] Law Partners","AC00536-[LAWS] Law Partners","Activity","FD02","Active","2025-03-17T16:11:52.322069+00:00",null,null,null,null,null,null,null,null,"11AA1","Computer Racks","11AA1-Computer Racks",null,null,null,"AS062002515","Jason Adams (062002515) Life Sciences - Cell Biology & Physiology","AS062002515-Jason Adams (062002515) Life Sciences - Cell Biology & Physiology","Active",null,null,null,null,null,null,null,null,null,null,null,"SC6449","SC6449||1400","1400","Prepaid Expenses",null,"All"]
[null,null,null,null,null,null,"AC00537","[LAWS] Women in the Law","AC00537-[LAWS] Women in the Law","Activity","FD02","Active","2025-03-17T16:11:52.322069+00:00",null,null,null,null,null,null,null,null,"11AA2","Communications Racks","11AA2-Communications Racks",null,null,null,"AS062066510","Julian Riley (062066510) OIT Resource - AV Events","AS062066510-Julian Riley (062066510) OIT Resource - AV Events","Active",null,null,null,null,null,null,null,null,null,null,null,"SC6449","SC6449||1650","1650","Construction in Progress",null,"JE_PPE|JE_Override"]
[null,null,null,null,null,null,"AC00538","[LAWS] BYU Federal Soc","AC00538-[LAWS] BYU Federal Soc","Activity","FD02","Active","2025-03-17T16:11:52.322069+00:00",null,null,null,null,null,null,null,null,"11B00","OIT Infrastruct-Presentation","11B00-OIT Infrastruct-Presentation",null,null,null,"AS062412154","Jim Sawka (062412154) PF Building Projects, Maintenance & Transportation Services","AS062412154-Jim Sawka (062412154) PF Building Projects, Maintenance & Transportation Services","Active",null,null,null,null,null,null,null,null,null,null,null,"SC6449","SC6449||1651","1651","Construction in Progress (Non-Workday Projects)",null,"All"]
[null,null,null,null,null,null,"AC00539","[LAWS] ILSA","AC00539-[LAWS] ILSA","Activity","FD02","Active","2025-03-17T16:11:52.322069+00:00",null,null,null,null,null,null,null,null,"11B18","VIDEO/DATA PROJECTORS","11B18-VIDEO/DATA PROJECTORS",null,null,null,"AS062429828","Jon Ward (062429828) CE SLC - Administration","AS062429828-Jon Ward (062429828) CE SLC - Administration","Active",null,null,null,null,null,null,null,null,null,null,null,"SC6449","SC6449||6400","6400","General and Administrative","Primary","All"]
[null,null,null,null,null,null,"AC00540","[LAWS] DC Legal Society","AC00540-[LAWS] DC Legal Society","Activity","FD02","Active","2025-03-17T16:11:52.322069+00:00",null,null,null,null,null,null,null,null,"11B1J","Building Shared Equip","11B1J-Building Shared Equip",null,null,null,"AS063197888","Stephanie Dautel (063197888) BYU Broadcasting - Marketing","AS063197888-Stephanie Dautel (063197888) BYU Broadcasting - Marketing","Active",null,null,null,null,null,null,null,null,null,null,null,"SC6450","SC6450||1400","1400","Prepaid Expenses",null,"All"]
[null,null,null,null,null,null,"AC00541","[LAWS] Native Am Law St Asc","AC00541-[LAWS] Native Am Law St Asc","Activity","FD02","Active","2025-03-17T16:11:52.322069+00:00",null,null,null,null,null,null,null,null,"11B21","SPEAKERS-INSTAL&PERFORM SYS","11B21-SPEAKERS-INSTAL&PERFORM SYS",null,null,null,"AS063335072","Molly Rosenbaum (063335072) MSE - Counseling Psychology & Special Ed","AS063335072-Molly Rosenbaum (063335072) MSE - Counseling Psychology & Special Ed","Active",null,null,null,null,null,null,null,null,null,null,null,"SC6450","SC6450||1650","1650","Construction in Progress",null,"JE_PPE|JE_Override"]
[null,null,null,null,null,null,"AC00542","[LAWS] ADR Society","AC00542-[LAWS] ADR Society","Activity","FD02","Active","2025-03-17T16:11:52.322069+00:00",null,null,null,null,null,null,null,null,"11B22","INSTALLED SOUND REINFORCEMNT S","11B22-INSTALLED SOUND REINFORCEMNT S",null,null,null,"AS063351279","Gary Crye (063351279) OIT Portfolio - Teaching, Learning, & Research / Dev Tools","AS063351279-Gary Crye (063351279) OIT Portfolio - Teaching, Learning, & Research / Dev Tools","Active",null,null,null,null,null,null,null,null,null,null,null,"SC6450","SC6450||1651","1651","Construction in Progress (Non-Workday Projects)",null,"All"]
[null,null,null,null,null,null,"AC00543","[LAWS] Govt and Politics Law Society","AC00543-[LAWS] Govt and Politics Law Society","Activity","FD02","Active","2025-03-17T16:11:52.322069+00:00",null,null,null,null,null,null,null,null,"11B24","CAMPUS EP/BGM-DIS,BROADCST CNT","11B24-CAMPUS EP/BGM-DIS,BROADCST CNT",null,null,null,"AS063556313","Esteban Garcia (063556313) CE Systems Admin","AS063556313-Esteban Garcia (063556313) CE Systems Admin","Active",null,null,null,null,null,null,null,null,null,null,null,"SC6450","SC6450||6400","6400","General and Administrative","Primary","All"]
[null,null,null,null,null,null,"AC00544","[LAWS] Public Interest Law Foundation","AC00544-[LAWS] Public Interest Law Foundation","Activity","FD02","Active","2025-03-17T16:11:52.322069+00:00",null,null,null,null,null,null,null,null,"11B25","AUD-INTRCM SYS-INS-WIRE&WIRELS","11B25-AUD-INTRCM SYS-INS-WIRE&WIRELS",null,null,null,"AS063658480","Nate Garrett (063658480) PF Air Conditioning Shop","AS063658480-Nate Garrett (063658480) PF Air Conditioning Shop","Active",null,null,null,null,null,null,null,null,null,null,null,"SC6451","SC6451||1400","1400","Prepaid Expenses",null,"All"]
[null,null,null,null,null,null,"AC00545","[LAWS] EERS","AC00545-[LAWS] EERS","Activity","FD02","Active","2025-03-17T16:11:52.322069+00:00",null,null,null,null,null,null,null,null,"11B26","INPUT SOURCE-PLAYBCK DECK&MIC","11B26-INPUT SOURCE-PLAYBCK DECK&MIC",null,null,null,"AS064065708","Kristina Baardson (064065708) Purchasing and Travel - International Travel","AS064065708-Kristina Baardson (064065708) Purchasing and Travel - International Travel","Active",null,null,null,null,null,null,null,null,null,null,null,"SC6451","SC6451||6400","6400","General and Administrative","Primary","All"]
[null,null,null,null,null,null,"AC00546","[LAWS] SIPLA","AC00546-[LAWS] SIPLA","Activity","FD02","Active","2025-03-17T16:11:52.322069+00:00",null,null,null,null,null,null,null,null,"11B27","BLDG EP/BGM ORIG&PROC-AMP&TUNE","11B27-BLDG EP/BGM ORIG&PROC-AMP&TUNE",null,null,null,"AS064260018","Evan Parry (064260018) MSB - Public Service & Ethics","AS064260018-Evan Parry (064260018) MSB - Public Service & Ethics","Active",null,null,null,null,null,null,null,null,null,null,null,"SC6452","SC6452||1400","1400","Prepaid Expenses",null,"All"]
[null,null,null,null,null,null,"AC00547","[LAWS] SPENT(Sport/Entertainment Law)","AC00547-[LAWS] SPENT(Sport/Entertainment Law)","Activity","FD02","Active","2025-03-17T16:11:52.322069+00:00",null,null,null,null,null,null,null,null,"11B28","BLDG EP/BGM SPKR-VOL,WIRE&CONT","11B28-BLDG EP/BGM SPKR-VOL,WIRE&CONT",null,null,null,"AS064455119","Ryan Hardy (064455119) CE FSY","AS064455119-Ryan Hardy (064455119) CE FSY","Active",null,null,null,null,null,null,null,null,null,null,null,"SC6452","SC6452||6400","6400","General and Administrative","Primary","All"]
[null,null,null,null,null,null,"AC00548","[LAWS] Law School Support","AC00548-[LAWS] Law School Support","Activity","FD02","Active","2025-03-17T16:11:52.322069+00:00",null,null,null,null,null,null,null,null,"11B2Z","AUDIO/PAGING MISC.","11B2Z-AUDIO/PAGING MISC.",null,null,null,"AS064546661","Matthew Johnson (064546661) OIT Portfolio - Business, Finance, & HR","AS064546661-Matthew Johnson (064546661) OIT Portfolio - Business, Finance, & HR","Active",null,null,null,null,null,null,null,null,null,null,null,"SC6453","SC6453||1400","1400","Prepaid Expenses",null,"All"]
[null,null,null,null,null,null,"AC00549","[LAWS] Community Legal Clinic","AC00549-[LAWS] Community Legal Clinic","Activity","FD02","Active","2025-03-17T16:11:52.322069+00:00",null,null,null,null,null,null,null,null,"11B32","DIMMER PACKS","11B32-DIMMER PACKS",null,null,null,"AS064699868","Matt Porter (064699868) PF Central Heating Plant","AS064699868-Matt Porter (064699868) PF Central Heating Plant","Active",null,null,null,null,null,null,null,null,null,null,null,"SC6453","SC6453||6400","6400","General and Administrative","Primary","All"]
[null,null,null,null,null,null,"AC00550","[LAWS] Class Consulting Projects","AC00550-[LAWS] Class Consulting Projects","Activity","FD02","Active","2025-03-17T16:11:52.322069+00:00",null,null,null,null,null,null,null,null,"11B61","VIDEO CAM-INCL BROADCST CAMCOR","11B61-VIDEO CAM-INCL BROADCST CAMCOR",null,null,null,"AS065004973","Eden Peterson (065004973) MSB - Public Service & Ethics","AS065004973-Eden Peterson (065004973) MSB - Public Service & Ethics","Active",null,null,null,null,null,null,null,null,null,null,null,"SC6454","SC6454||1400","1400","Prepaid Expenses",null,"All"]
[null,null,null,null,null,null,"AC00551","[LAWS] BYU Law Review","AC00551-[LAWS] BYU Law Review","Activity","FD02","Active","2025-03-17T16:11:52.322069+00:00",null,null,null,null,null,null,null,null,"11B6B","Video Recording System","11B6B-Video Recording System",null,null,null,"AS065021516","Jared Franson (065021516) Athletics - Olympic Sport Medicine","AS065021516-Jared Franson (065021516) Athletics - Olympic Sport Medicine","Active",null,null,null,null,null,null,null,null,null,null,null,"SC6454","SC6454||6400","6400","General and Administrative","Primary","All"]
[null,null,null,null,null,null,"AC00552","[LAWS] Antitrust Society","AC00552-[LAWS] Antitrust Society","Activity","FD02","Active","2025-03-17T16:11:52.322069+00:00",null,null,null,null,null,null,null,null,"11B6E","VIDEO   TEST EQUIPMENT","11B6E-VIDEO   TEST EQUIPMENT",null,null,null,"AS065072862","Sariah Fales (065072862) Humanities - English","AS065072862-Sariah Fales (065072862) Humanities - English","Active",null,null,null,null,null,null,null,null,null,null,null,"SC6455","SC6455||1400","1400","Prepaid Expenses",null,"All"]
[null,null,null,null,null,null,"AC00553","[LAWS] American Constitution Society","AC00553-[LAWS] American Constitution Society","Activity","FD02","Active","2025-03-17T16:11:52.322069+00:00",null,null,null,null,null,null,null,null,"11B6F","Video Playback System","11B6F-Video Playback System",null,null,null,"AS065151407","Geoff Johnson (065151407) PF Auxiliary Maintenance","AS065151407-Geoff Johnson (065151407) PF Auxiliary Maintenance","Active",null,null,null,null,null,null,null,null,null,null,null,"SC6455","SC6455||1650","1650","Construction in Progress",null,"JE_PPE|JE_Override"]
[null,null,null,null,null,null,"AC00554","[LAWS] Latino/a Law Student Assoc","AC00554-[LAWS] Latino/a Law Student Assoc","Activity","FD02","Active","2025-03-17T16:11:52.322069+00:00",null,null,null,null,null,null,null,null,"11C00","OIT Access","11C00-OIT Access",null,null,null,"AS065155580","Cody Reeves (065155580) MSB - Management","AS065155580-Cody Reeves (065155580) MSB - Management","Active",null,null,null,null,null,null,null,null,null,null,null,"SC6455","SC6455||1651","1651","Construction in Progress (Non-Workday Projects)",null,"All"]
[null,null,null,null,null,null,"AC00555","[LAWS] Law School Professor Acct.","AC00555-[LAWS] Law School Professor Acct.","Activity","FD03","Active","2025-03-17T16:11:52.322069+00:00",null,null,null,null,null,null,null,null,"11D00","OIT Infrastruct-Servers","11D00-OIT Infrastruct-Servers",null,null,null,"AS065216056","Jacqueline Torres (065216056) Culinary Support Center","AS065216056-Jacqueline Torres (065216056) Culinary Support Center","Active",null,null,null,null,null,null,null,null,null,null,null,"SC6455","SC6455||6400","6400","General and Administrative","Primary","All"]
[null,null,null,null,null,null,"AC00556","[LAWS] Prfshp-Law-Welch","AC00556-[LAWS] Prfshp-Law-Welch","Activity","FD03","Active","2025-03-17T16:11:52.322069+00:00",null,null,null,null,null,null,null,null,"11D11","It Server - Speciality","11D11-It Server - Speciality",null,null,null,"AS065242203","Myrna Layton (065242203) Lee Library - Admin, Research & Learning","AS065242203-Myrna Layton (065242203) Lee Library - Admin, Research & Learning","Active",null,null,null,null,null,null,null,null,null,null,null,"SC6456","SC6456||1400","1400","Prepaid Expenses",null,"All"]
[null,null,null,null,null,null,"AC00557","[LAWS] Law & Social Change nonstudent","AC00557-[LAWS] Law & Social Change nonstudent","Activity","FD03","Active","2025-03-17T16:11:52.322069+00:00",null,null,null,null,null,null,null,null,"11D25","Department Server - Storage","11D25-Department Server - Storage",null,null,null,"AS065373396","Maggie Marchant (065373396) Research & Learning - Social Sciences","AS065373396-Maggie Marchant (065373396) Research & Learning - Social Sciences","Active",null,null,null,null,null,null,null,null,null,null,null,"SC6456","SC6456||6400","6400","General and Administrative","Primary","All"]
[null,null,null,null,null,null,"AC00558","[LAWS] Law - President's Innovation","AC00558-[LAWS] Law - President's Innovation","Activity","FD03","Active","2025-03-17T16:11:52.322069+00:00",null,null,null,null,null,null,null,null,"11D41","Central Server - Application","11D41-Central Server - Application",null,null,null,"AS065578519","Alisa Kesler Lund (065578519) FHSS - History","AS065578519-Alisa Kesler Lund (065578519) FHSS - History","Active",null,null,null,null,null,null,null,null,null,null,null,"SC6457","SC6457||1400","1400","Prepaid Expenses",null,"All"]
[null,null,null,null,null,null,"AC00560","[LAWS] Student/Faculty Mentoring","AC00560-[LAWS] Student/Faculty Mentoring","Activity","FD03","Active","2025-03-17T16:11:52.322069+00:00",null,null,null,null,null,null,null,null,"11E00","Software - Misc","11E00-Software - Misc",null,null,null,"AS065677979","Brad Barber (065677979) Law School","AS065677979-Brad Barber (065677979) Law School","Active",null,null,null,null,null,null,null,null,null,null,null,"SC6457","SC6457||6400","6400","General and Administrative","Primary","All"]
[null,null,null,null,null,null,"AC00561","[LAWS] Mediation Lab&Training Project","AC00561-[LAWS] Mediation Lab&Training Project","Activity","FD03","Active","2025-03-17T16:11:52.322069+00:00",null,null,null,null,null,null,null,null,"11E21","Enterprise Management Softwar","11E21-Enterprise Management Softwar",null,null,null,"AS065775978","Michael Goodrich (065775978) CMS - Computer Science","AS065775978-Michael Goodrich (065775978) CMS - Computer Science","Active",null,null,null,null,null,null,null,null,null,null,null,"SC6458","SC6458||1400","1400","Prepaid Expenses",null,"All"]
[null,null,null,null,null,null,"AC00562","[LAWS] Experiential Learning","AC00562-[LAWS] Experiential Learning","Activity","FD03","Active","2025-03-17T16:11:52.322069+00:00",null,null,null,null,null,null,null,null,"11E41","Application Software","11E41-Application Software",null,null,null,"AS065897875","Jack Stoneman (065897875) Humanities - Asian & Near Eastern Languages","AS065897875-Jack Stoneman (065897875) Humanities - Asian & Near Eastern Languages","Active",null,null,null,null,null,null,null,null,null,null,null,"SC6458","SC6458||6400","6400","General and Administrative","Primary","All"]
[null,null,null,null,null,null,"AC00563","[LAWS] Teaching Programs","AC00563-[LAWS] Teaching Programs","Activity","FD01","Active","2025-03-17T16:11:52.322069+00:00",null,null,null,null,null,null,null,null,"11SLA","McKay School of Education","11SLA-McKay School of Education",null,null,null,"AS066096561","Steven Bednar (066096561) Law School","AS066096561-Steven Bednar (066096561) Law School","Active",null,null,null,null,null,null,null,null,null,null,null,"SC6459","SC6459||1400","1400","Prepaid Expenses",null,"All"]
[null,null,null,null,null,null,"AC00564","[LAWS] Hosted & Regional Conferences","AC00564-[LAWS] Hosted & Regional Conferences","Activity","FD01","Active","2025-03-17T16:11:52.322069+00:00",null,null,null,null,null,null,null,null,"12000","General Airlines","12000-General Airlines",null,null,null,"AS066549145","June Standley (066549145) Enrollment Services Marketing and Communications","AS066549145-June Standley (066549145) Enrollment Services Marketing and Communications","Active",null,null,null,null,null,null,null,null,null,null,null,"SC6459","SC6459||6400","6400","General and Administrative","Primary","All"]
[null,null,null,null,null,null,"AC00565","[LAWS] Other Conferences","AC00565-[LAWS] Other Conferences","Activity","FD01","Active","2025-03-17T16:11:52.322069+00:00",null,null,null,null,null,null,null,null,"12001","Hotels","12001-Hotels",null,null,null,"AS066645543","Curt Holman (066645543) Fine Arts & Communications - Dance","AS066645543-Curt Holman (066645543) Fine Arts & Communications - Dance","Active",null,null,null,null,null,null,null,null,null,null,null,"SC6460","SC6460||1400","1400","Prepaid Expenses",null,"All"]
[null,null,null,null,null,null,"AC00566","[LAWS] Professorship - W. Cole Durham","AC00566-[LAWS] Professorship - W. Cole Durham","Activity","FD03","Active","2025-03-17T16:11:52.322069+00:00",null,null,null,null,null,null,null,null,"12002","Rental Cars","12002-Rental Cars",null,null,null,"AS066657479","Angela Jones (066657479) CMS - Computer Science","AS066657479-Angela Jones (066657479) CMS - Computer Science","Active",null,null,null,null,null,null,null,null,null,null,null,"SC6460","SC6460||6400","6400","General and Administrative","Primary","All"]
[null,null,null,null,null,null,"AC00567","[LAWS] Int'l Law & Religious Center","AC00567-[LAWS] Int'l Law & Religious Center","Activity","FD03","Active","2025-03-17T16:11:52.322069+00:00",null,null,null,null,null,null,null,null,"12005","Corporate Card","12005-Corporate Card",null,null,null,"AS066791363","Carolyn Billings (066791363) Athletics - Olympic Sport Medicine","AS066791363-Carolyn Billings (066791363) Athletics - Olympic Sport Medicine","Active",null,null,null,null,null,null,null,null,null,null,null,"SC6461","SC6461||1400","1400","Prepaid Expenses",null,"All"]
[null,null,null,null,null,null,"AC00568","[LAWS] Law & Religion Fellows","AC00568-[LAWS] Law & Religion Fellows","Activity","FD03","Active","2025-03-17T16:11:52.322069+00:00",null,null,null,null,null,null,null,null,"12006","JPMorgan Rebate","12006-JPMorgan Rebate",null,null,null,"AS066794452","Hans-Wilhelm Kelling (066794452) Humanities - German & Russian","AS066794452-Hans-Wilhelm Kelling (066794452) Humanities - German & Russian","Active",null,null,null,null,null,null,null,null,null,null,null,"SC6461","SC6461||6400","6400","General and Administrative","Primary","All"]
[null,null,null,null,null,null,"AC00569","[ENG] Mentored Learning","AC00569-[ENG] Mentored Learning","Activity","FD01","Active","2025-03-17T16:11:52.322069+00:00",null,null,null,null,null,null,null,null,"12007","Sabre Incentive","12007-Sabre Incentive",null,null,null,"AS067108432","Jarica Watts (067108432) Humanities - English","AS067108432-Jarica Watts (067108432) Humanities - English","Active",null,null,null,null,null,null,null,null,null,null,null,"SC6462","SC6462||6400","6400","General and Administrative","Primary","All"]
[null,null,null,null,null,null,"AC00570","[ENG] Named Professorships","AC00570-[ENG] Named Professorships","Activity","FD01","Active","2025-03-17T16:11:52.322069+00:00",null,null,null,null,null,null,null,null,"12015","Passport Services","12015-Passport Services",null,null,null,"AS067170317","Stephen Ricks (067170317) Humanities - Asian & Near Eastern Languages","AS067170317-Stephen Ricks (067170317) Humanities - Asian & Near Eastern Languages","Active",null,null,null,null,null,null,null,null,null,null,null,"SC6463","SC6463||1400","1400","Prepaid Expenses",null,"All"]
[null,null,null,null,null,null,"AC00571","[ENG] Dean's Ofc Operation","AC00571-[ENG] Dean's Ofc Operation","Activity","FD01","Active","2025-03-17T16:11:52.322069+00:00",null,null,null,null,null,null,null,null,"12020","General Office","12020-General Office",null,null,null,"AS067325976","Deanna O'Hara (067325976) PF Building Operations","AS067325976-Deanna O'Hara (067325976) PF Building Operations","Active",null,null,null,null,null,null,null,null,null,null,null,"SC6463","SC6463||6400","6400","General and Administrative","Primary","All"]
[null,null,null,null,null,null,"AC00572","[ENG] Research Support","AC00572-[ENG] Research Support","Activity","FD01","Active","2025-03-17T16:11:52.322069+00:00",null,null,null,null,null,null,null,null,"12022","Lori Sowards","12022-Lori Sowards",null,null,null,"AS067480259","Lita Little Giddins (067480259) Belonging Vice President","AS067480259-Lita Little Giddins (067480259) Belonging Vice President","Active",null,null,null,null,null,null,null,null,null,null,null,"SC6464","SC6464||6400","6400","General and Administrative","Primary","JE_Research|JE_Override"]
[null,null,null,null,null,null,"AC00573","[ENG] CAEDM","AC00573-[ENG] CAEDM","Activity","FD01","Active","2025-03-17T16:11:52.322069+00:00",null,null,null,null,null,null,null,null,"12023","Debbie Hall","12023-Debbie Hall",null,null,null,"AS067962948","Kirsten Russell (067962948) MSE - Communication Disorders","AS067962948-Kirsten Russell (067962948) MSE - Communication Disorders","Active",null,null,null,null,null,null,null,null,null,null,null,"SC6465","SC6465||6400","6400","General and Administrative","Primary","JE_Research|JE_Override"]
[null,null,null,null,null,null,"AC00574","[ENG] Department Supplemental","AC00574-[ENG] Department Supplemental","Activity","FD01","Active","2025-03-17T16:11:52.322069+00:00",null,null,null,null,null,null,null,null,"12024","Wendy Baumgarten","12024-Wendy Baumgarten",null,null,null,"AS067971939","Cathleen Barney (067971939) Enrollment Services Marketing and Communications","AS067971939-Cathleen Barney (067971939) Enrollment Services Marketing and Communications","Active",null,null,null,null,null,null,null,null,null,null,null,"SC6466","SC6466||1400","1400","Prepaid Expenses",null,"All"]
[null,null,null,null,null,null,"AC00575","[ENG] College Relations Operations","AC00575-[ENG] College Relations Operations","Activity","FD01","Active","2025-03-17T16:11:52.322069+00:00",null,null,null,null,null,null,null,null,"12026","Annette Landon","12026-Annette Landon",null,null,null,"AS068021830","Randy Clement (068021830) BYU Police Operations - Patrol","AS068021830-Randy Clement (068021830) BYU Police Operations - Patrol","Active",null,null,null,null,null,null,null,null,null,null,null,"SC6466","SC6466||6400","6400","General and Administrative","Primary","All"]
[null,null,null,null,null,null,"AC00576","[ENG] CAEDM Compt Lab","AC00576-[ENG] CAEDM Compt Lab","Activity","FD01","Active","2025-03-17T16:11:52.322069+00:00",null,null,null,null,null,null,null,null,"12028","Cindi ONeal","12028-Cindi ONeal",null,null,null,"AS068474825","Nathan Leonhardt (068474825) FHSS - School of Family Life","AS068474825-Nathan Leonhardt (068474825) FHSS - School of Family Life","Active",null,null,null,null,null,null,null,null,null,null,null,"SC6467","SC6467||6400","6400","General and Administrative","Primary","JE_Override"]
[null,null,null,null,null,null,"AC00577","[ENG] College Communications","AC00577-[ENG] College Communications","Activity","FD01","Active","2025-03-17T16:11:52.322069+00:00",null,null,null,null,null,null,null,null,"12029","Lori Ann Andersen","12029-Lori Ann Andersen",null,null,null,"AS068696210","Kim Underwood (068696210) Fine Arts & Communications - School of Music","AS068696210-Kim Underwood (068696210) Fine Arts & Communications - School of Music","Active",null,null,null,null,null,null,null,null,null,null,null,"SC6499","SC6499||1400","1400","Prepaid Expenses",null,"All"]
[null,null,null,null,null,null,"AC00578","[ENG] Research Development","AC00578-[ENG] Research Development","Activity","FD01","Active","2025-03-17T16:11:52.322069+00:00",null,null,null,null,null,null,null,null,"12030","Todd Bird","12030-Todd Bird",null,null,null,"AS068791480","Jeff Worthen (068791480) Executive Chef","AS068791480-Jeff Worthen (068791480) Executive Chef","Active",null,null,null,null,null,null,null,null,null,null,null,"SC6499","SC6499||1650","1650","Construction in Progress",null,"JE_PPE|JE_Override"]
[null,null,null,null,null,null,"AC00579","[ENG] Precision Machining Lab Supprt","AC00579-[ENG] Precision Machining Lab Supprt","Activity","FD01","Active","2025-03-17T16:11:52.322069+00:00",null,null,null,null,null,null,null,null,"12031","Erin Howe","12031-Erin Howe",null,null,null,"AS068792487","Jess Lyons (068792487) OIT Portfolio - Identity","AS068792487-Jess Lyons (068792487) OIT Portfolio - Identity","Active",null,null,null,null,null,null,null,null,null,null,null,"SC6499","SC6499||1651","1651","Construction in Progress (Non-Workday Projects)",null,"All"]
[null,null,null,null,null,null,"AC00580","[ENG] International Travel","AC00580-[ENG] International Travel","Activity","FD01","Active","2025-03-17T16:11:52.322069+00:00",null,null,null,null,null,null,null,null,"12032","Lei Liua","12032-Lei Liua",null,null,null,"AS068871759","Coleman Madsen (068871759) Dining Services","AS068871759-Coleman Madsen (068871759) Dining Services","Active",null,null,null,null,null,null,null,null,null,null,null,"SC6499","SC6499||6400","6400","General and Administrative","Primary","All"]
[null,null,null,null,null,null,"AC00581","[ENG] Coll of Eng Student Council","AC00581-[ENG] Coll of Eng Student Council","Activity","FD02","Active","2025-03-17T16:11:52.322069+00:00",null,null,null,null,null,null,null,null,"12034","Karen Brereton","12034-Karen Brereton",null,null,null,"AS069028046","Noelani Wayas (069028046) Business Career Center","AS069028046-Noelani Wayas (069028046) Business Career Center","Active",null,null,null,null,null,null,null,null,null,null,null,"SC6610","SC6610||6600","6600","Interest Expense","Primary","All"]
[null,null,null,null,null,null,"AC00582","[ENG] Precision Machining Lab","AC00582-[ENG] Precision Machining Lab","Activity","FD02","Active","2025-03-17T16:11:52.322069+00:00",null,null,null,null,null,null,null,null,"12037","Kristina Baardon","12037-Kristina Baardon",null,null,null,"AS069190747","Jake Naugle (069190747) Enrollment Services Marketing and Communications","AS069190747-Jake Naugle (069190747) Enrollment Services Marketing and Communications","Active",null,null,null,null,null,null,null,null,null,null,null,"SC6701","SC6701||1400","1400","Prepaid Expenses",null,"All"]
[null,null,null,null,null,null,"AC00583","[ENG] Coll of Eng Royalty","AC00583-[ENG] Coll of Eng Royalty","Activity","FD03","Active","2025-03-17T16:11:52.322069+00:00",null,null,null,null,null,null,null,null,"12040","Heather Hughes","12040-Heather Hughes",null,null,null,"AS069320555","Steven Palica (069320555) OIT Resource - Tech Operations - Enterprise Apps","AS069320555-Steven Palica (069320555) OIT Resource - Tech Operations - Enterprise Apps","Active",null,null,null,null,null,null,null,null,null,null,null,"SC6701","SC6701||1635","1635","Misc Capital Assets",null,"JE_PPE|JE_Override"]
[null,null,null,null,null,null,"AC00584","[ENG] CAEDM","AC00584-[ENG] CAEDM","Activity","FD03","Active","2025-03-17T16:11:52.322069+00:00",null,null,null,null,null,null,null,null,"12041","Alison Lopez","12041-Alison Lopez",null,null,null,"AS069351973","Rose Combs (069351973) OIT Resource - Application Engineering","AS069351973-Rose Combs (069351973) OIT Resource - Application Engineering","Active",null,null,null,null,null,null,null,null,null,null,null,"SC6701","SC6701||1650","1650","Construction in Progress",null,"JE_PPE|JE_Override"]
[null,null,null,null,null,null,"AC00585","[ENG] Prof Dev-Engineering","AC00585-[ENG] Prof Dev-Engineering","Activity","FD03","Active","2025-03-17T16:11:52.322069+00:00",null,null,null,null,null,null,null,null,"12042","Carter Brown","12042-Carter Brown",null,null,null,"AS069389994","Michelle Hirsche (069389994) PF Business Support and Compliance","AS069389994-Michelle Hirsche (069389994) PF Business Support and Compliance","Active",null,null,null,null,null,null,null,null,null,null,null,"SC6701","SC6701||1651","1651","Construction in Progress (Non-Workday Projects)",null,"All"]
[null,null,null,null,null,null,"AC00586","[ENG] Mentoring Grants","AC00586-[ENG] Mentoring Grants","Activity","FD03","Active","2025-03-17T16:11:52.322069+00:00",null,null,null,null,null,null,null,null,"12043","Jaelynn Christensen","12043-Jaelynn Christensen",null,null,null,"AS069577692","Maren Fischer (069577692) Registrar's Office","AS069577692-Maren Fischer (069577692) Registrar's Office","Active",null,null,null,null,null,null,null,null,null,null,null,"SC6701","SC6701||1700","1700","Accumulated Depreciation",null,"JE_PPE|JE_Override"]
[null,null,null,null,null,null,"AC00587","[ENG] CSR - Engineering (CAEDM)","AC00587-[ENG] CSR - Engineering (CAEDM)","Activity","FD03","Active","2025-03-17T16:11:52.322069+00:00",null,null,null,null,null,null,null,null,"12044","Kelly Van Sickle","12044-Kelly Van Sickle",null,null,null,"AS069598894","Chad Hancock (069598894) Life Sciences - Nutrition, Dietetics, & Food Science","AS069598894-Chad Hancock (069598894) Life Sciences - Nutrition, Dietetics, & Food Science","Active",null,null,null,null,null,null,null,null,null,null,null,"SC6701","SC6701||6700","6700","Physical Facilities","Primary","All"]
[null,null,null,null,null,null,"AC00589","[ENG] Experiential Learning","AC00589-[ENG] Experiential Learning","Activity","FD03","Active","2025-03-17T16:11:52.322069+00:00",null,null,null,null,null,null,null,null,"12045","Rachel Gunnell","12045-Rachel Gunnell",null,null,null,"AS069635491","Amy Soto (069635491) University Advisement Center","AS069635491-Amy Soto (069635491) University Advisement Center","Active",null,null,null,null,null,null,null,null,null,null,null,"SC6701","SC6701||8000","8000","Depreciation",null,"JE_PPE|JE_Override"]
[null,null,null,null,null,null,"AC00590","[ENG] Technology Education Club","AC00590-[ENG] Technology Education Club","Activity","FD02","Active","2025-03-17T16:11:52.322069+00:00",null,null,null,null,null,null,null,null,"12046","Teri Walker","12046-Teri Walker",null,null,null,"AS069772710","Alberto Puertas (069772710) University Advisement Center","AS069772710-Alberto Puertas (069772710) University Advisement Center","Active",null,null,null,null,null,null,null,null,null,null,null,"SC6702","SC6702||1400","1400","Prepaid Expenses",null,"All"]
[null,null,null,null,null,null,"AC00591","[ENG] Woods Stores","AC00591-[ENG] Woods Stores","Activity","FD02","Active","2025-03-17T16:11:52.322069+00:00",null,null,null,null,null,null,null,null,"12047","Tiffany Barney","12047-Tiffany Barney",null,null,null,"AS069777568","Craig Giles (069777568) PF Keys, Locks, & Access Control","AS069777568-Craig Giles (069777568) PF Keys, Locks, & Access Control","Active",null,null,null,null,null,null,null,null,null,null,null,"SC6702","SC6702||1610","1610","Building Improvements",null,"JE_PPE|JE_Override"]
[null,null,null,null,null,null,"AC00592","[ENG] Prototype Lab","AC00592-[ENG] Prototype Lab","Activity","FD02","Active","2025-03-17T16:11:52.322069+00:00",null,null,null,null,null,null,null,null,"12060","BYU-Hawaii","12060-BYU-Hawaii",null,null,null,"AS069827661","Clark Asay (069827661) AVP - Dean, Clark Law School","AS069827661-Clark Asay (069827661) AVP - Dean, Clark Law School","Active",null,null,null,null,null,null,null,null,null,null,null,"SC6702","SC6702||1650","1650","Construction in Progress",null,"JE_PPE|JE_Override"]
[null,null,null,null,null,null,"AC00593","[ENG] Metals Stores","AC00593-[ENG] Metals Stores","Activity","FD02","Active","2025-03-17T16:11:52.322069+00:00",null,null,null,null,null,null,null,null,"12071","Alumni Cell Phone","12071-Alumni Cell Phone",null,null,null,"AS070056977","Laura Greer (070056977) Humanities - Spanish & Portuguese","AS070056977-Laura Greer (070056977) Humanities - Spanish & Portuguese","Active",null,null,null,null,null,null,null,null,null,null,null,"SC6702","SC6702||1651","1651","Construction in Progress (Non-Workday Projects)",null,"All"]
[null,null,null,null,null,null,"AC00594","[ENG] Multi-Media Stores","AC00594-[ENG] Multi-Media Stores","Activity","FD02","Active","2025-03-17T16:11:52.322069+00:00",null,null,null,null,null,null,null,null,"12072","PT Employee Cell Phone","12072-PT Employee Cell Phone",null,null,null,"AS070309145","Lorenzo Hubbert (070309145) CE Marketing & Outreach","AS070309145-Lorenzo Hubbert (070309145) CE Marketing & Outreach","Active",null,null,null,null,null,null,null,null,null,null,null,"SC6702","SC6702||1700","1700","Accumulated Depreciation",null,"JE_PPE|JE_Override"]
[null,null,null,null,null,null,"AC00595","[ENG] BYU Utah Underwater Robotics","AC00595-[ENG] BYU Utah Underwater Robotics","Activity","FD02","Active","2025-03-17T16:11:52.322069+00:00",null,null,null,null,null,null,null,null,"12073","Retiree Cell Phone","12073-Retiree Cell Phone",null,null,null,"AS070311203","Trevor Wilson (070311203) Advancement Vice President","AS070311203-Trevor Wilson (070311203) Advancement Vice President","Active",null,null,null,null,null,null,null,null,null,null,null,"SC6702","SC6702||6700","6700","Physical Facilities","Primary","All"]
[null,null,null,null,null,null,"AC00596","[ENG] Digital Magicians","AC00596-[ENG] Digital Magicians","Activity","FD02","Active","2025-03-17T16:11:52.322069+00:00",null,null,null,null,null,null,null,null,"12074","Student Cell Phone","12074-Student Cell Phone",null,null,null,"AS070435816","Laurel Hornberger (070435816) CE Test Prep & Youth Programs","AS070435816-Laurel Hornberger (070435816) CE Test Prep & Youth Programs","Active",null,null,null,null,null,null,null,null,null,null,null,"SC6702","SC6702||8000","8000","Depreciation",null,"JE_PPE|JE_Override"]
[null,null,null,null,null,null,"AC00597","[ENG] EXPERIENTIAL LEARNING TEE","AC00597-[ENG] EXPERIENTIAL LEARNING TEE","Activity","FD03","Active","2025-03-17T16:11:52.322069+00:00",null,null,null,null,null,null,null,null,"12075","Employee Cell Phone","12075-Employee Cell Phone",null,null,null,"AS070485150","Richard Osguthorpe (070485150) Academic Vice President","AS070485150-Richard Osguthorpe (070485150) Academic Vice President","Active",null,null,null,null,null,null,null,null,null,null,null,"SC6703","SC6703||1400","1400","Prepaid Expenses",null,"All"]
[null,null,null,null,null,null,"AC00598","[ENG] Belonging & Diversity Initiati","AC00598-[ENG] Belonging & Diversity Initiati","Activity","FD01","Active","2025-03-17T16:11:52.322069+00:00",null,null,null,null,null,null,null,null,"12076","BYU-Pathways Cell Phone","12076-BYU-Pathways Cell Phone",null,null,null,"AS070916873","Loreen Allphin (070916873) AVP - Dean, Life Sciences","AS070916873-Loreen Allphin (070916873) AVP - Dean, Life Sciences","Active",null,null,null,null,null,null,null,null,null,null,null,"SC6703","SC6703||1620","1620","Furnishings and Fixtures",null,"JE_PPE|JE_Override"]
[null,null,null,null,null,null,"AC00599","[ENG] Animation","AC00599-[ENG] Animation","Activity","FD01","Active","2025-03-17T16:11:52.322069+00:00",null,null,null,null,null,null,null,null,"12077","Prev Employee Cell Phone","12077-Prev Employee Cell Phone",null,null,null,"AS071004251","Steve Hatch (071004251) PF Building Operations","AS071004251-Steve Hatch (071004251) PF Building Operations","Active",null,null,null,null,null,null,null,null,null,null,null,"SC6703","SC6703||1650","1650","Construction in Progress",null,"JE_PPE|JE_Override"]
[null,null,null,null,null,null,"AC00600","[ENG] BYU Center for Animation 2","AC00600-[ENG] BYU Center for Animation 2","Activity","FD01","Active","2025-03-17T16:11:52.322069+00:00",null,null,null,null,null,null,null,null,"12132","Admission Fees","12132-Admission Fees",null,null,null,"AS071229464","Brian Maynes (071229464) OIT Core - Finance - Materials Mgmt","AS071229464-Brian Maynes (071229464) OIT Core - Finance - Materials Mgmt","Active",null,null,null,null,null,null,null,null,null,null,null,"SC6703","SC6703||1651","1651","Construction in Progress (Non-Workday Projects)",null,"All"]
[null,null,null,null,null,null,"AC00601","[ENG] Kip Christensen","AC00601-[ENG] Kip Christensen","Activity","FD01","Active","2025-03-17T16:11:52.322069+00:00",null,null,null,null,null,null,null,null,"12300","R0480010 5-22410","12300-R0480010 5-22410",null,null,null,"AS071250280","Shari Skabelund (071250280) Athletics - Cougar Club","AS071250280-Shari Skabelund (071250280) Athletics - Cougar Club","Active",null,null,null,null,null,null,null,null,null,null,null,"SC6703","SC6703||1700","1700","Accumulated Depreciation",null,"JE_PPE|JE_Override"]
[null,null,null,null,null,null,"AC00602","[ENG] Skaggs, Paul Research","AC00602-[ENG] Skaggs, Paul Research","Activity","FD01","Active","2025-03-17T16:11:52.322069+00:00",null,null,null,null,null,null,null,null,"12301","R0480023 5-22323","12301-R0480023 5-22323",null,null,null,"AS071437415","Jon Jensen (071437415) PF Campus Projects - Mechanical Engineering","AS071437415-Jon Jensen (071437415) PF Campus Projects - Mechanical Engineering","Active",null,null,null,null,null,null,null,null,null,null,null,"SC6703","SC6703||6700","6700","Physical Facilities","Primary","All"]
[null,null,null,null,null,null,"AC00603","[ENG] Industrial Design","AC00603-[ENG] Industrial Design","Activity","FD01","Active","2025-03-17T16:11:52.322069+00:00",null,null,null,null,null,null,null,null,"12302","CAPSTONE","12302-CAPSTONE",null,null,null,"AS071482089","George Monsivais (071482089) CE Research, Planning & Asmnt","AS071482089-George Monsivais (071482089) CE Research, Planning & Asmnt","Active",null,null,null,null,null,null,null,null,null,null,null,"SC6703","SC6703||8000","8000","Depreciation",null,"JE_PPE|JE_Override"]
[null,null,null,null,null,null,"AC00604","[ENG] EXPERIENTIAL LEARNING ID","AC00604-[ENG] EXPERIENTIAL LEARNING ID","Activity","FD03","Active","2025-03-17T16:11:52.322069+00:00",null,null,null,null,null,null,null,null,"12303","R0480004 5-21004","12303-R0480004 5-21004",null,null,null,"AS071907233","Craig Merrill (071907233) MSB - Finance","AS071907233-Craig Merrill (071907233) MSB - Finance","Active",null,null,null,null,null,null,null,null,null,null,null,"SC6704","SC6704||1400","1400","Prepaid Expenses",null,"All"]
[null,null,null,null,null,null,"AC00605","[ENG] School of Technology","AC00605-[ENG] School of Technology","Activity","FD01","Active","2025-03-17T16:11:52.322069+00:00",null,null,null,null,null,null,null,null,"12304","R0480006 5-21006","12304-R0480006 5-21006",null,null,null,"AS072208327","Kirk Jacobs (072208327) PF Building Projects, Maintenance & Transportation Services","AS072208327-Kirk Jacobs (072208327) PF Building Projects, Maintenance & Transportation Services","Active",null,null,null,null,null,null,null,null,null,null,null,"SC6704","SC6704||1610","1610","Building Improvements",null,"JE_PPE|JE_Override"]
[null,null,null,null,null,null,"AC00606","[ENG] MFGEN Stores","AC00606-[ENG] MFGEN Stores","Activity","FD01","Active","2025-03-17T16:11:52.322069+00:00",null,null,null,null,null,null,null,null,"12305","R0500616 5-22616","12305-R0500616 5-22616",null,null,null,"AS072791261","Steven Johnson (072791261) AVP - Dean, Computational, Math,& Physical (CMS)","AS072791261-Steven Johnson (072791261) AVP - Dean, Computational, Math,& Physical (CMS)","Active",null,null,null,null,null,null,null,null,null,null,null,"SC6704","SC6704||1650","1650","Construction in Progress",null,"JE_PPE|JE_Override"]
[null,null,null,null,null,null,"AC00607","[ENG] TECM Computer Lab","AC00607-[ENG] TECM Computer Lab","Activity","FD01","Active","2025-03-17T16:11:52.322069+00:00",null,null,null,null,null,null,null,null,"12307","R0480007 5-21007","12307-R0480007 5-21007",null,null,null,"AS072864443","Danny Yeo (072864443) Dean's Office - Life Sciences","AS072864443-Danny Yeo (072864443) Dean's Office - Life Sciences","Active",null,null,null,null,null,null,null,null,null,null,null,"SC6704","SC6704||1651","1651","Construction in Progress (Non-Workday Projects)",null,"All"]
[null,null,null,null,null,null,"AC00608","[ENG] MFGEN Computer Lab","AC00608-[ENG] MFGEN Computer Lab","Activity","FD01","Active","2025-03-17T16:11:52.322069+00:00",null,null,null,null,null,null,null,null,"12309","R0300991 5-20991","12309-R0300991 5-20991",null,null,null,"AS072995413","Ashley Fraser (072995413) FHSS - School of Family Life","AS072995413-Ashley Fraser (072995413) FHSS - School of Family Life","Active",null,null,null,null,null,null,null,null,null,null,null,"SC6704","SC6704||1700","1700","Accumulated Depreciation",null,"JE_PPE|JE_Override"]
[null,null,null,null,null,null,"AC00609","[ENG] MFGEN - Grad Studies","AC00609-[ENG] MFGEN - Grad Studies","Activity","FD01","Active","2025-03-17T16:11:52.322069+00:00",null,null,null,null,null,null,null,null,"12310","R0201007","12310-R0201007",null,null,null,"AS073019648","Tia Looney (073019648) BYU Security Operations - Police Dispatch","AS073019648-Tia Looney (073019648) BYU Security Operations - Police Dispatch","Active",null,null,null,null,null,null,null,null,null,null,null,"SC6704","SC6704||6700","6700","Physical Facilities","Primary","All"]
[null,null,null,null,null,null,"AC00610","[ENG] School of Technology Director","AC00610-[ENG] School of Technology Director","Activity","FD01","Active","2025-03-17T16:11:52.322069+00:00",null,null,null,null,null,null,null,null,"12315","R0700039 5-22039","12315-R0700039 5-22039",null,null,null,"AS073116030","Makay Jackman (073116030) Cannon Center","AS073116030-Makay Jackman (073116030) Cannon Center","Active",null,null,null,null,null,null,null,null,null,null,null,"SC6704","SC6704||8000","8000","Depreciation",null,"JE_PPE|JE_Override"]
[null,null,null,null,null,null,"AC00611","[ENG] Ekstrom, Joseph Research","AC00611-[ENG] Ekstrom, Joseph Research","Activity","FD01","Active","2025-03-17T16:11:52.322069+00:00",null,null,null,null,null,null,null,null,"12316","R0481000","12316-R0481000",null,null,null,"AS073120070","Robert Richardson (073120070) CMS - Statistics","AS073120070-Robert Richardson (073120070) CMS - Statistics","Active",null,null,null,null,null,null,null,null,null,null,null,"SC6705","SC6705||1400","1400","Prepaid Expenses",null,"All"]
[null,null,null,null,null,null,"AC00612","[ENG] School of Technology Oper","AC00612-[ENG] School of Technology Oper","Activity","FD01","Active","2025-03-17T16:11:52.322069+00:00",null,null,null,null,null,null,null,null,"12317","R0501006","12317-R0501006",null,null,null,"AS073238647","Stephen Kelson (073238647) Law School","AS073238647-Stephen Kelson (073238647) Law School","Active",null,null,null,null,null,null,null,null,null,null,null,"SC6705","SC6705||1610","1610","Building Improvements",null,"JE_PPE|JE_Override"]
[null,null,null,null,null,null,"AC00613","[ENG] MFET Tech Trans","AC00613-[ENG] MFET Tech Trans","Activity","FD03","Active","2025-03-17T16:11:52.322069+00:00",null,null,null,null,null,null,null,null,"12318","R0201028","12318-R0201028",null,null,null,"AS073285474","Dennis Crawford (073285474) PF Electrical Shop","AS073285474-Dennis Crawford (073285474) PF Electrical Shop","Active",null,null,null,null,null,null,null,null,null,null,null,"SC6705","SC6705||1650","1650","Construction in Progress",null,"JE_PPE|JE_Override"]
[null,null,null,null,null,null,"AC00614","[ENG] MFGEN - Machine Burden","AC00614-[ENG] MFGEN - Machine Burden","Activity","FD03","Active","2025-03-17T16:11:52.322069+00:00",null,null,null,null,null,null,null,null,"12319","R0701000","12319-R0701000",null,null,null,"AS073706975","Kristy Christensen (073706975) FHSS - Anthropology","AS073706975-Kristy Christensen (073706975) FHSS - Anthropology","Active",null,null,null,null,null,null,null,null,null,null,null,"SC6705","SC6705||1651","1651","Construction in Progress (Non-Workday Projects)",null,"All"]
[null,null,null,null,null,null,"AC00615","[ENG] Technology-Grad Student Funds","AC00615-[ENG] Technology-Grad Student Funds","Activity","FD03","Active","2025-03-17T16:11:52.322069+00:00",null,null,null,null,null,null,null,null,"12320","R0131001","12320-R0131001",null,null,null,"AS073955008","D Keith Willmore (073955008) HS General Medicine","AS073955008-D Keith Willmore (073955008) HS General Medicine","Active",null,null,null,null,null,null,null,null,null,null,null,"SC6705","SC6705||1700","1700","Accumulated Depreciation",null,"JE_PPE|JE_Override"]
[null,null,null,null,null,null,"AC00616","[ENG] General Study Account","AC00616-[ENG] General Study Account","Activity","FD03","Active","2025-03-17T16:11:52.322069+00:00",null,null,null,null,null,null,null,null,"12321","R0601027","12321-R0601027",null,null,null,"AS074084978","Coleby Clawson (074084978) Advance VP - Director, Athletics","AS074084978-Coleby Clawson (074084978) Advance VP - Director, Athletics","Active",null,null,null,null,null,null,null,null,null,null,null,"SC6705","SC6705||6700","6700","Physical Facilities","Primary","All"]
[null,null,null,null,null,null,"AC00617","[ENG] EXPERIENTIAL LEARNING SOT","AC00617-[ENG] EXPERIENTIAL LEARNING SOT","Activity","FD03","Active","2025-03-17T16:11:52.322069+00:00",null,null,null,null,null,null,null,null,"12322","R0701001","12322-R0701001",null,null,null,"AS074189672","Adam Dyer (074189672) Fine Arts & Communications - Dance","AS074189672-Adam Dyer (074189672) Fine Arts & Communications - Dance","Active",null,null,null,null,null,null,null,null,null,null,null,"SC6705","SC6705||8000","8000","Depreciation",null,"JE_PPE|JE_Override"]
[null,null,null,null,null,null,"AC00618","[ENG] Mentoring Grant - Brent Adams","AC00618-[ENG] Mentoring Grant - Brent Adams","Activity","FD03","Active","2025-03-17T16:11:52.322069+00:00",null,null,null,null,null,null,null,null,"12323","R0481001","12323-R0481001",null,null,null,"AS074432079","Marilyn Richards (074432079) University Advisement Center","AS074432079-Marilyn Richards (074432079) University Advisement Center","Active",null,null,null,null,null,null,null,null,null,null,null,"SC6706","SC6706||1400","1400","Prepaid Expenses",null,"All"]
[null,null,null,null,null,null,"AC00619","[ENG] Faculty Mentoring 3","AC00619-[ENG] Faculty Mentoring 3","Activity","FD03","Active","2025-03-17T16:11:52.322069+00:00",null,null,null,null,null,null,null,null,"12324","R0481002","12324-R0481002",null,null,null,"AS074495546","Lynne Kganetso (074495546) MSE  - Teacher Education","AS074495546-Lynne Kganetso (074495546) MSE  - Teacher Education","Active",null,null,null,null,null,null,null,null,null,null,null,"SC6706","SC6706||1610","1610","Building Improvements",null,"JE_PPE|JE_Override"]
[null,null,null,null,null,null,"AC00620","[ENG] Faculty Mentoring 4","AC00620-[ENG] Faculty Mentoring 4","Activity","FD03","Active","2025-03-17T16:11:52.322069+00:00",null,null,null,null,null,null,null,null,"12325","R0701002","12325-R0701002",null,null,null,"AS074733418","Kevin Wilson (074733418) Alumni and External Relations","AS074733418-Kevin Wilson (074733418) Alumni and External Relations","Active",null,null,null,null,null,null,null,null,null,null,null,"SC6706","SC6706||1650","1650","Construction in Progress",null,"JE_PPE|JE_Override"]
[null,null,null,null,null,null,"AC00621","[ENG] Faculty Mentoring 5","AC00621-[ENG] Faculty Mentoring 5","Activity","FD03","Active","2025-03-17T16:11:52.322069+00:00",null,null,null,null,null,null,null,null,"12326","R0201057","12326-R0201057",null,null,null,"AS074884027","Gil Fellingham (074884027) CMS - Statistics","AS074884027-Gil Fellingham (074884027) CMS - Statistics","Active",null,null,null,null,null,null,null,null,null,null,null,"SC6706","SC6706||1651","1651","Construction in Progress (Non-Workday Projects)",null,"All"]
[null,null,null,null,null,null,"AC00622","[ENG] ChE JJ Christensen Profsrship","AC00622-[ENG] ChE JJ Christensen Profsrship","Activity","FD01","Active","2025-03-17T16:11:52.322069+00:00",null,null,null,null,null,null,null,null,"12327","R0701003","12327-R0701003",null,null,null,"AS074918829","Brett McInelly (074918829) Humanities - English","AS074918829-Brett McInelly (074918829) Humanities - English","Active",null,null,null,null,null,null,null,null,null,null,null,"SC6706","SC6706||1700","1700","Accumulated Depreciation",null,"JE_PPE|JE_Override"]
[null,null,null,null,null,null,"AC00623","[ENG] Chem Engr Compt Lab","AC00623-[ENG] Chem Engr Compt Lab","Activity","FD01","Active","2025-03-17T16:11:52.322069+00:00",null,null,null,null,null,null,null,null,"12328","R0301052","12328-R0301052",null,null,null,"AS075710348","Scott Bradford (075710348) FHSS - Economics","AS075710348-Scott Bradford (075710348) FHSS - Economics","Active",null,null,null,null,null,null,null,null,null,null,null,"SC6706","SC6706||6700","6700","Physical Facilities","Primary","All"]
[null,null,null,null,null,null,"AC00624","[ENG] John Harb","AC00624-[ENG] John Harb","Activity","FD01","Active","2025-03-17T16:11:52.322069+00:00",null,null,null,null,null,null,null,null,"12329","R0701004","12329-R0701004",null,null,null,"AS075946174","Kyle Rollins (075946174) College of Engineering - Civil & Construction Engineering","AS075946174-Kyle Rollins (075946174) College of Engineering - Civil & Construction Engineering","Active",null,null,null,null,null,null,null,null,null,null,null,"SC6706","SC6706||8000","8000","Depreciation",null,"JE_PPE|JE_Override"]
[null,null,null,null,null,null,"AC00625","[ENG] Chem Engr Graduate Studies","AC00625-[ENG] Chem Engr Graduate Studies","Activity","FD01","Active","2025-03-17T16:11:52.322069+00:00",null,null,null,null,null,null,null,null,"12331","R0601050","12331-R0601050",null,null,null,"AS076001278","Ryan Biddulph (076001278) Fine Arts & Communications - Dance","AS076001278-Ryan Biddulph (076001278) Fine Arts & Communications - Dance","Active",null,null,null,null,null,null,null,null,null,null,null,"SC6707","SC6707||1400","1400","Prepaid Expenses",null,"All"]
[null,null,null,null,null,null,"AC00626","[ENG] KAS Research","AC00626-[ENG] KAS Research","Activity","FD01","Active","2025-03-17T16:11:52.322069+00:00",null,null,null,null,null,null,null,null,"12332","R0601051","12332-R0601051",null,null,null,"AS076203614","Clifton Fleming (076203614) AVP - Dean, Clark Law School","AS076203614-Clifton Fleming (076203614) AVP - Dean, Clark Law School","Active",null,null,null,null,null,null,null,null,null,null,null,"SC6707","SC6707||1650","1650","Construction in Progress",null,"JE_PPE|JE_Override"]
[null,null,null,null,null,null,"AC00627","[ENG] AICHE-Student Chapter","AC00627-[ENG] AICHE-Student Chapter","Activity","FD02","Active","2025-03-17T16:11:52.322069+00:00",null,null,null,null,null,null,null,null,"12333","R0701006","12333-R0701006",null,null,null,"AS076237443","Susan Facer (076237443) Registrar's Office","AS076237443-Susan Facer (076237443) Registrar's Office","Active",null,null,null,null,null,null,null,null,null,null,null,"SC6707","SC6707||1651","1651","Construction in Progress (Non-Workday Projects)",null,"All"]
[null,null,null,null,null,null,"AC00628","[ENG] BYU-DIPPR Lab","AC00628-[ENG] BYU-DIPPR Lab","Activity","FD02","Active","2025-03-25T02:03:53.792937+00:00",null,null,null,null,null,null,null,null,"12335","R0481003","12335-R0481003",null,null,null,"AS076335336","Sydney Brustad (076335336) Enrollment Services Marketing and Communications","AS076335336-Sydney Brustad (076335336) Enrollment Services Marketing and Communications","Active",null,null,null,null,null,null,null,null,null,null,null,"SC6707","SC6707||4900","4900","Cost of Sales",null,"All"]
[null,null,null,null,null,null,"AC00629","[ENG] Polymer Analysis Lab","AC00629-[ENG] Polymer Analysis Lab","Activity","FD02","Active","2025-03-17T16:11:52.322069+00:00",null,null,null,null,null,null,null,null,"12336","R0131004","12336-R0131004",null,null,null,"AS076425921","Shayla Bott (076425921) AVP - Dean, Fine Arts and Communications","AS076425921-Shayla Bott (076425921) AVP - Dean, Fine Arts and Communications","Active",null,null,null,null,null,null,null,null,null,null,null,"SC6707","SC6707||6700","6700","Physical Facilities","Primary","All"]
[null,null,null,null,null,null,"AC00630","[ENG] 2ft Prosthetics","AC00630-[ENG] 2ft Prosthetics","Activity","FD02","Active","2025-03-17T16:11:52.322069+00:00",null,null,null,null,null,null,null,null,"12337","R0201097","12337-R0201097",null,null,null,"AS076467577","Scott Lesser (076467577) Fine Arts & Communications - School of Music","AS076467577-Scott Lesser (076467577) Fine Arts & Communications - School of Music","Active",null,null,null,null,null,null,null,null,null,null,null,"SC6708","SC6708||1400","1400","Prepaid Expenses",null,"All"]
[null,null,null,null,null,null,"AC00631","[ENG] American Nuclear Society","AC00631-[ENG] American Nuclear Society","Activity","FD02","Active","2025-03-17T16:11:52.322069+00:00",null,null,null,null,null,null,null,null,"12340","R0702001","12340-R0702001",null,null,null,"AS076572580","Matt Greene (076572580) CE Classroom Programs","AS076572580-Matt Greene (076572580) CE Classroom Programs","Active",null,null,null,null,null,null,null,null,null,null,null,"SC6708","SC6708||1610","1610","Building Improvements",null,"JE_PPE|JE_Override"]
[null,null,null,null,null,null,"AC00632","[ENG] Engineers in Business","AC00632-[ENG] Engineers in Business","Activity","FD02","Active","2025-03-17T16:11:52.322069+00:00",null,null,null,null,null,null,null,null,"12341","R0202038","12341-R0202038",null,null,null,"AS076871747","Michael Barber (076871747) FHSS - Political Science","AS076871747-Michael Barber (076871747) FHSS - Political Science","Active",null,null,null,null,null,null,null,null,null,null,null,"SC6708","SC6708||1650","1650","Construction in Progress",null,"JE_PPE|JE_Override"]
[null,null,null,null,null,null,"AC00633","[ENG] Global Eng Outreach GEO Club","AC00633-[ENG] Global Eng Outreach GEO Club","Activity","FD02","Active","2025-03-17T16:11:52.322069+00:00",null,null,null,null,null,null,null,null,"12343","R0502013","12343-R0502013",null,null,null,"AS076949728","Miguel Pomar (076949728) Business Career Center","AS076949728-Miguel Pomar (076949728) Business Career Center","Active",null,null,null,null,null,null,null,null,null,null,null,"SC6708","SC6708||1651","1651","Construction in Progress (Non-Workday Projects)",null,"All"]
[null,null,null,null,null,null,"AC00634","[ENG] BYU Chapter SPE","AC00634-[ENG] BYU Chapter SPE","Activity","FD02","Active","2025-03-17T16:11:52.322069+00:00",null,null,null,null,null,null,null,null,"12344","COE","12344-COE",null,null,null,"AS077036480","Brian Capt (077036480) College of Engineering - Civil & Construction Engineering","AS077036480-Brian Capt (077036480) College of Engineering - Civil & Construction Engineering","Active",null,null,null,null,null,null,null,null,null,null,null,"SC6708","SC6708||1700","1700","Accumulated Depreciation",null,"JE_PPE|JE_Override"]
[null,null,null,null,null,null,"AC00635","[ENG] Energy Club","AC00635-[ENG] Energy Club","Activity","FD02","Active","2025-03-17T16:11:52.322069+00:00",null,null,null,null,null,null,null,null,"12345","R0482002","12345-R0482002",null,null,null,"AS077196723","Kathleen Reyes (077196723) Dean's Office FHSS","AS077196723-Kathleen Reyes (077196723) Dean's Office FHSS","Active",null,null,null,null,null,null,null,null,null,null,null,"SC6708","SC6708||6700","6700","Physical Facilities","Primary","All"]
[null,null,null,null,null,null,"AC00636","[ENG] Chem Engr Equip Repl","AC00636-[ENG] Chem Engr Equip Repl","Activity","FD03","Active","2025-03-17T16:11:52.322069+00:00",null,null,null,null,null,null,null,null,"12346","R0482003","12346-R0482003",null,null,null,"AS077213193","Jason Keeler (077213193) Center for Language Studies","AS077213193-Jason Keeler (077213193) Center for Language Studies","Active",null,null,null,null,null,null,null,null,null,null,null,"SC6708","SC6708||8000","8000","Depreciation",null,"JE_PPE|JE_Override"]
[null,null,null,null,null,null,"AC00637","[ENG] Plasma Reactro Maint","AC00637-[ENG] Plasma Reactro Maint","Activity","FD03","Active","2025-03-17T16:11:52.322069+00:00",null,null,null,null,null,null,null,null,"12347","R0482004","12347-R0482004",null,null,null,"AS077355719","Shiegrid Hernandez (077355719) Multicultural","AS077355719-Shiegrid Hernandez (077355719) Multicultural","Active",null,null,null,null,null,null,null,null,null,null,null,"SC6709","SC6709||1400","1400","Prepaid Expenses",null,"All"]
[null,null,null,null,null,null,"AC00638","[ENG] Pitt License Royalty","AC00638-[ENG] Pitt License Royalty","Activity","FD03","Active","2025-03-17T16:11:52.322069+00:00",null,null,null,null,null,null,null,null,"12348","R0482005","12348-R0482005",null,null,null,"AS077676615","Brian King (077676615) OIT Resource - Platform Engineering","AS077676615-Brian King (077676615) OIT Resource - Platform Engineering","Active",null,null,null,null,null,null,null,null,null,null,null,"SC6709","SC6709||1610","1610","Building Improvements",null,"JE_PPE|JE_Override"]
[null,null,null,null,null,null,"AC00639","[ENG] WVW Resid Funds","AC00639-[ENG] WVW Resid Funds","Activity","FD03","Active","2025-03-17T16:11:52.322069+00:00",null,null,null,null,null,null,null,null,"12349","R0702004","12349-R0702004",null,null,null,"AS077761957","Brandon Bodily (077761957) Cannon Center","AS077761957-Brandon Bodily (077761957) Cannon Center","Active",null,null,null,null,null,null,null,null,null,null,null,"SC6709","SC6709||1650","1650","Construction in Progress",null,"JE_PPE|JE_Override"]
[null,null,null,null,null,null,"AC00640","[ENG] Pope, Bill J Fellowship","AC00640-[ENG] Pope, Bill J Fellowship","Activity","FD03","Active","2025-03-17T16:11:52.322069+00:00",null,null,null,null,null,null,null,null,"12350","R0702005","12350-R0702005",null,null,null,"AS078081441","Scott Beck (078081441) PF Central Heating Plant","AS078081441-Scott Beck (078081441) PF Central Heating Plant","Active",null,null,null,null,null,null,null,null,null,null,null,"SC6709","SC6709||1651","1651","Construction in Progress (Non-Workday Projects)",null,"All"]
[null,null,null,null,null,null,"AC00641","[ENG] CHB Prof Account","AC00641-[ENG] CHB Prof Account","Activity","FD03","Active","2025-03-17T16:11:52.322069+00:00",null,null,null,null,null,null,null,null,"12351","R0702006","12351-R0702006",null,null,null,"AS078265269","Ben Abbott (078265269) Life Sciences - Plant & Wildlife Sciences","AS078265269-Ben Abbott (078265269) Life Sciences - Plant & Wildlife Sciences","Active",null,null,null,null,null,null,null,null,null,null,null,"SC6709","SC6709||1700","1700","Accumulated Depreciation",null,"JE_PPE|JE_Override"]
[null,null,null,null,null,null,"AC00642","[ENG] Bradley C. Bundy Grad Mentor","AC00642-[ENG] Bradley C. Bundy Grad Mentor","Activity","FD03","Active","2025-03-17T16:11:52.322069+00:00",null,null,null,null,null,null,null,null,"12352","R0702007","12352-R0702007",null,null,null,"AS078265449","Bethany Kramer (078265449) Staff Compensation","AS078265449-Bethany Kramer (078265449) Staff Compensation","Active",null,null,null,null,null,null,null,null,null,null,null,"SC6709","SC6709||6700","6700","Physical Facilities","Primary","All"]
[null,null,null,null,null,null,"AC00643","[ENG] Alonzo D. Cook Grad Mentor","AC00643-[ENG] Alonzo D. Cook Grad Mentor","Activity","FD03","Active","2025-03-17T16:11:52.322069+00:00",null,null,null,null,null,null,null,null,"12353","R0482024","12353-R0482024",null,null,null,"AS078429420","Byron Johnson (078429420) Chemical Engineering","AS078429420-Byron Johnson (078429420) Chemical Engineering","Active",null,null,null,null,null,null,null,null,null,null,null,"SC6709","SC6709||8000","8000","Depreciation",null,"JE_PPE|JE_Override"]
[null,null,null,null,null,null,"AC00644","[ENG] W Pitt Interdispl Research","AC00644-[ENG] W Pitt Interdispl Research","Activity","FD03","Active","2025-03-17T16:11:52.322069+00:00",null,null,null,null,null,null,null,null,"12354","R0482023","12354-R0482023",null,null,null,"AS078487300","Brandan Beerli (078487300) MSE - Dean's Office, McKay School of Education","AS078487300-Brandan Beerli (078487300) MSE - Dean's Office, McKay School of Education","Active",null,null,null,null,null,null,null,null,null,null,null,"SC6710","SC6710||1400","1400","Prepaid Expenses",null,"All"]
[null,null,null,null,null,null,"AC00645","[ENG] Doug Tree - IDR Grant 2020","AC00645-[ENG] Doug Tree - IDR Grant 2020","Activity","FD03","Active","2025-03-17T16:11:52.322069+00:00",null,null,null,null,null,null,null,null,"12355","R0482022","12355-R0482022",null,null,null,"AS078578788","Bekki Brau (078578788) MSB - Marketing & Global Supply Chain","AS078578788-Bekki Brau (078578788) MSB - Marketing & Global Supply Chain","Active",null,null,null,null,null,null,null,null,null,null,null,"SC6710","SC6710||1620","1620","Furnishings and Fixtures",null,"JE_PPE|JE_Override"]
[null,null,null,null,null,null,"AC00647","[ENG] EXPERIENTIAL LEARNING CHE","AC00647-[ENG] EXPERIENTIAL LEARNING CHE","Activity","FD03","Active","2025-03-17T16:11:52.322069+00:00",null,null,null,null,null,null,null,null,"12357","R0482025","12357-R0482025",null,null,null,"AS079167675","Lisa Walker (079167675) Digital Printing","AS079167675-Lisa Walker (079167675) Digital Printing","Active",null,null,null,null,null,null,null,null,null,null,null,"SC6710","SC6710||1650","1650","Construction in Progress",null,"JE_PPE|JE_Override"]
[null,null,null,null,null,null,"AC00648","[ENG] Mentoring Grant R Rowley","AC00648-[ENG] Mentoring Grant R Rowley","Activity","FD03","Active","2025-03-17T16:11:52.322069+00:00",null,null,null,null,null,null,null,null,"12399","RC Profit Offset","12399-RC Profit Offset",null,null,null,"AS079242464","Devan Jensen (079242464) Religious Education - Ancient Scripture","AS079242464-Devan Jensen (079242464) Religious Education - Ancient Scripture","Active",null,null,null,null,null,null,null,null,null,null,null,"SC6710","SC6710||1651","1651","Construction in Progress (Non-Workday Projects)",null,"All"]
[null,null,null,null,null,null,"AC00649","[ENG] Faculty Mentoring 1","AC00649-[ENG] Faculty Mentoring 1","Activity","FD03","Active","2025-03-17T16:11:52.322069+00:00",null,null,null,null,null,null,null,null,"12499","Participant Support Cost (NSF)","12499-Participant Support Cost (NSF)",null,null,null,"AS079396687","Sarah Rollo (079396687) McKay School of Education Assistant Dean External Relations","AS079396687-Sarah Rollo (079396687) McKay School of Education Assistant Dean External Relations","Active",null,null,null,null,null,null,null,null,null,null,null,"SC6710","SC6710||1700","1700","Accumulated Depreciation",null,"JE_PPE|JE_Override"]
[null,null,null,null,null,null,"AC00650","[ENG] Faculty Mentoring 2","AC00650-[ENG] Faculty Mentoring 2","Activity","FD03","Active","2025-03-17T16:11:52.322069+00:00",null,null,null,null,null,null,null,null,"12500","Minimum Pension Liability","12500-Minimum Pension Liability",null,null,null,"AS079530594","Ben Lambert (079530594) Rollins Center Entrep & Tech","AS079530594-Ben Lambert (079530594) Rollins Center Entrep & Tech","Active",null,null,null,null,null,null,null,null,null,null,null,"SC6710","SC6710||6700","6700","Physical Facilities","Primary","All"]
[null,null,null,null,null,null,"AC00651","[ENG] Faculty Mentoring 3","AC00651-[ENG] Faculty Mentoring 3","Activity","FD03","Active","2025-03-17T16:11:52.322069+00:00",null,null,null,null,null,null,null,null,"12600","FS Prof Development Council","12600-FS Prof Development Council",null,null,null,"AS079533006","Kazuhiko Yamashita (079533006) Humanities - Asian & Near Eastern Languages","AS079533006-Kazuhiko Yamashita (079533006) Humanities - Asian & Near Eastern Languages","Active",null,null,null,null,null,null,null,null,null,null,null,"SC6710","SC6710||8000","8000","Depreciation",null,"JE_PPE|JE_Override"]
[null,null,null,null,null,null,"AC00652","[ENG] Faculty Mentoring 4","AC00652-[ENG] Faculty Mentoring 4","Activity","FD03","Active","2025-03-17T16:11:52.322069+00:00",null,null,null,null,null,null,null,null,"12601","FS Annual Activities Council","12601-FS Annual Activities Council",null,null,null,"AS079587356","Lynnett Rands (079587356) AVP - Dean, Clark Law School","AS079587356-Lynnett Rands (079587356) AVP - Dean, Clark Law School","Active",null,null,null,null,null,null,null,null,null,null,null,"SC6711","SC6711||1400","1400","Prepaid Expenses",null,"All"]
[null,null,null,null,null,null,"AC00653","[ENG] Combustion Lab","AC00653-[ENG] Combustion Lab","Activity","FD01","Active","2025-03-17T16:11:52.322069+00:00",null,null,null,null,null,null,null,null,"12602","FS Employee Engagement Council","12602-FS Employee Engagement Council",null,null,null,"AS079654515","Greg Sessions (079654515) PF Paint & Sign Shop","AS079654515-Greg Sessions (079654515) PF Paint & Sign Shop","Active",null,null,null,null,null,null,null,null,null,null,null,"SC6711","SC6711||1615","1615","Other Improvements",null,"JE_PPE|JE_Override"]
[null,null,null,null,null,null,"AC00654","[ENG] NSF Entertainment","AC00654-[ENG] NSF Entertainment","Activity","FD01","Active","2025-03-17T16:11:52.322069+00:00",null,null,null,null,null,null,null,null,"12603","FS Newsletter Council","12603-FS Newsletter Council",null,null,null,"AS079740344","Nelia Justiniano (079740344) Center for Language Studies","AS079740344-Nelia Justiniano (079740344) Center for Language Studies","Active",null,null,null,null,null,null,null,null,null,null,null,"SC6711","SC6711||1650","1650","Construction in Progress",null,"JE_PPE|JE_Override"]
[null,null,null,null,null,null,"AC00655","[ENG] Combustion Computer","AC00655-[ENG] Combustion Computer","Activity","FD03","Active","2025-03-17T16:11:52.322069+00:00",null,null,null,null,null,null,null,null,"12604","FS Division Meeting Council","12604-FS Division Meeting Council",null,null,null,"AS080052346","Craig Vandyke (080052346) CMS - Computer Science","AS080052346-Craig Vandyke (080052346) CMS - Computer Science","Active",null,null,null,null,null,null,null,null,null,null,null,"SC6711","SC6711||1651","1651","Construction in Progress (Non-Workday Projects)",null,"All"]
[null,null,null,null,null,null,"AC00656","[ENG] ACERC Industrial Fnd","AC00656-[ENG] ACERC Industrial Fnd","Activity","FD03","Active","2025-03-17T16:11:52.322069+00:00",null,null,null,null,null,null,null,null,"12SLA","College of Nursing","12SLA-College of Nursing",null,null,null,"AS080370425","Tod Myers (080370425) CE FSY","AS080370425-Tod Myers (080370425) CE FSY","Active",null,null,null,null,null,null,null,null,null,null,null,"SC6711","SC6711||1700","1700","Accumulated Depreciation",null,"JE_PPE|JE_Override"]
[null,null,null,null,null,null,"AC00657","[ENG] ACERC Id Cost Share","AC00657-[ENG] ACERC Id Cost Share","Activity","FD03","Active","2025-03-17T16:11:52.322069+00:00",null,null,null,null,null,null,null,null,"13065","LSDO Shipping","13065-LSDO Shipping",null,null,null,"AS080550255","Paul Reynolds (080550255) Life Sciences - Cell Biology & Physiology","AS080550255-Paul Reynolds (080550255) Life Sciences - Cell Biology & Physiology","Active",null,null,null,null,null,null,null,null,null,null,null,"SC6711","SC6711||6700","6700","Physical Facilities","Primary","All"]
[null,null,null,null,null,null,"AC00658","[ENG] ACERC 4G Cost Share","AC00658-[ENG] ACERC 4G Cost Share","Activity","FD03","Active","2025-03-17T16:11:52.322069+00:00",null,null,null,null,null,null,null,null,"13067","LSDO Posilac","13067-LSDO Posilac",null,null,null,"AS080612947","Gerrit van Dyk (080612947) Research & Learning - Social Sciences","AS080612947-Gerrit van Dyk (080612947) Research & Learning - Social Sciences","Active",null,null,null,null,null,null,null,null,null,null,null,"SC6711","SC6711||8000","8000","Depreciation",null,"JE_PPE|JE_Override"]
[null,null,null,null,null,null,"AC00659","[ENG] ACERC 6I Cost Share","AC00659-[ENG] ACERC 6I Cost Share","Activity","FD03","Active","2025-03-17T16:11:52.322069+00:00",null,null,null,null,null,null,null,null,"13125","LSDO Event Coordinator","13125-LSDO Event Coordinator",null,null,null,"AS080715937","Manase Palemani (080715937) Dining Administration","AS080715937-Manase Palemani (080715937) Dining Administration","Active",null,null,null,null,null,null,null,null,null,null,null,"SC6712","SC6712||1400","1400","Prepaid Expenses",null,"All"]
[null,null,null,null,null,null,"AC00660","[ENG] ACERC 6C Cost Share","AC00660-[ENG] ACERC 6C Cost Share","Activity","FD03","Active","2025-03-17T16:11:52.322069+00:00",null,null,null,null,null,null,null,null,"13126","LSDO Leadership Council (LSLC)","13126-LSDO Leadership Council (LSLC)",null,null,null,"AS080945711","Kylee Sullivan (080945711) Heritage Halls","AS080945711-Kylee Sullivan (080945711) Heritage Halls","Active",null,null,null,null,null,null,null,null,null,null,null,"SC6712","SC6712||6700","6700","Physical Facilities","Primary","All"]
[null,null,null,null,null,null,"AC00661","[ENG] ACERC Operations","AC00661-[ENG] ACERC Operations","Activity","FD03","Active","2025-03-17T16:11:52.322069+00:00",null,null,null,null,null,null,null,null,"13129","LSDO 1st Gen Insprg Learng-DSA","13129-LSDO 1st Gen Insprg Learng-DSA",null,null,null,"AS081084485","Jessica Zurcher (081084485) Fine Arts & Communications - School of Communications","AS081084485-Jessica Zurcher (081084485) Fine Arts & Communications - School of Communications","Active",null,null,null,null,null,null,null,null,null,null,null,"SC6713","SC6713||1400","1400","Prepaid Expenses",null,"All"]
[null,null,null,null,null,null,"AC00662","[ENG] Simmons (SCCR) Fellowships","AC00662-[ENG] Simmons (SCCR) Fellowships","Activity","FD03","Active","2025-03-17T16:11:52.322069+00:00",null,null,null,null,null,null,null,null,"13130","LSDO_COMMS-PLC Activities","13130-LSDO_COMMS-PLC Activities",null,null,null,"AS081166921","Brandon Dailey (081166921) Student Financial Services","AS081166921-Brandon Dailey (081166921) Student Financial Services","Active",null,null,null,null,null,null,null,null,null,null,null,"SC6713","SC6713||1610","1610","Building Improvements",null,"JE_PPE|JE_Override"]
[null,null,null,null,null,null,"AC00663","[ENG] ACERC Instrument","AC00663-[ENG] ACERC Instrument","Activity","FD03","Active","2025-03-17T16:11:52.322069+00:00",null,null,null,null,null,null,null,null,"13131","LSDO Interdisc Rsrch Awd (IDR)","13131-LSDO Interdisc Rsrch Awd (IDR)",null,null,null,"AS081226254","Casey Deccio (081226254) CMS - Computer Science","AS081226254-Casey Deccio (081226254) CMS - Computer Science","Active",null,null,null,null,null,null,null,null,null,null,null,"SC6713","SC6713||1650","1650","Construction in Progress",null,"JE_PPE|JE_Override"]
[null,null,null,null,null,null,"AC00664","[ENG] ACERC Equipment","AC00664-[ENG] ACERC Equipment","Activity","FD03","Active","2025-03-17T16:11:52.322069+00:00",null,null,null,null,null,null,null,null,"13150","LSDO Remodeling","13150-LSDO Remodeling",null,null,null,"AS081618275","Autumn Mosis (081618275) Heritage Halls","AS081618275-Autumn Mosis (081618275) Heritage Halls","Active",null,null,null,null,null,null,null,null,null,null,null,"SC6713","SC6713||1651","1651","Construction in Progress (Non-Workday Projects)",null,"All"]
[null,null,null,null,null,null,"AC00665","[ENG] ACERC Software Supp","AC00665-[ENG] ACERC Software Supp","Activity","FD03","Active","2025-03-17T16:11:52.563115+00:00",null,null,null,null,null,null,null,null,"13156","LSDO Facilities","13156-LSDO Facilities",null,null,null,"AS081653032","Enoch Boekweg (081653032) Electrical and Computer Eng","AS081653032-Enoch Boekweg (081653032) Electrical and Computer Eng","Active",null,null,null,null,null,null,null,null,null,null,null,"SC6713","SC6713||1700","1700","Accumulated Depreciation",null,"JE_PPE|JE_Override"]
[null,null,null,null,null,null,"AC00666","[ENG] Combustion Lab Publ","AC00666-[ENG] Combustion Lab Publ","Activity","FD03","Active","2025-03-17T16:11:52.563115+00:00",null,null,null,null,null,null,null,null,"13158","LSDO Furnishings","13158-LSDO Furnishings",null,null,null,"AS081765401","Chris Huff (081765401) PF Building Operations","AS081765401-Chris Huff (081765401) PF Building Operations","Active",null,null,null,null,null,null,null,null,null,null,null,"SC6713","SC6713||6700","6700","Physical Facilities","Primary","All"]
[null,null,null,null,null,null,"AC00667","[ENG] ACERC Indirect Cost Share","AC00667-[ENG] ACERC Indirect Cost Share","Activity","FD03","Active","2025-03-17T16:11:52.563115+00:00",null,null,null,null,null,null,null,null,"13160","LSDO Facilities Equipment","13160-LSDO Facilities Equipment",null,null,null,"AS081822585","Elizabeth Merrill (081822585) CE BYU Online High School","AS081822585-Elizabeth Merrill (081822585) CE BYU Online High School","Active",null,null,null,null,null,null,null,null,null,null,null,"SC6713","SC6713||8000","8000","Depreciation",null,"JE_PPE|JE_Override"]
[null,null,null,null,null,null,"AC00668","[ENG] Multi Burner Optimiz","AC00668-[ENG] Multi Burner Optimiz","Activity","FD03","Active","2025-03-17T16:11:52.563115+00:00",null,null,null,null,null,null,null,null,"13200","LSDO Unallocated Expense","13200-LSDO Unallocated Expense",null,null,null,"AS081827389","Dave Laws (081827389) College of Engineering - Mechanical Engineering","AS081827389-Dave Laws (081827389) College of Engineering - Mechanical Engineering","Active",null,null,null,null,null,null,null,null,null,null,null,"SC6714","SC6714||1400","1400","Prepaid Expenses",null,"All"]
[null,null,null,null,null,null,"AC00669","[ENG] Civil Engr Compt Lab","AC00669-[ENG] Civil Engr Compt Lab","Activity","FD01","Active","2025-03-17T16:11:52.563115+00:00",null,null,null,null,null,null,null,null,"13201","LSDO Facility/Land Improvement","13201-LSDO Facility/Land Improvement",null,null,null,"AS081990395","Stash Dabrowski (081990395) Athletics - Olympic Sport Medicine","AS081990395-Stash Dabrowski (081990395) Athletics - Olympic Sport Medicine","Active",null,null,null,null,null,null,null,null,null,null,null,"SC6714","SC6714||1620","1620","Furnishings and Fixtures",null,"JE_PPE|JE_Override"]
[null,null,null,null,null,null,"AC00670","[ENG] Ecgl","AC00670-[ENG] Ecgl","Activity","FD01","Active","2025-03-17T16:11:52.563115+00:00",null,null,null,null,null,null,null,null,"13202","LSDO Central UT Science Fair","13202-LSDO Central UT Science Fair",null,null,null,"AS082159155","Tommy Cox (082159155) Dean's Office - College of Engineering","AS082159155-Tommy Cox (082159155) Dean's Office - College of Engineering","Active",null,null,null,null,null,null,null,null,null,null,null,"SC6714","SC6714||1650","1650","Construction in Progress",null,"JE_PPE|JE_Override"]
[null,null,null,null,null,null,"AC00671","[ENG] Civil Engineering","AC00671-[ENG] Civil Engineering","Activity","FD01","Active","2025-03-17T16:11:52.563115+00:00",null,null,null,null,null,null,null,null,"13204","LSDO 3-Minute Thesis Competiti","13204-LSDO 3-Minute Thesis Competiti",null,null,null,"AS082281630","Kevin Douglas Whitehead (082281630) AVP - Dean, Religious Education","AS082281630-Kevin Douglas Whitehead (082281630) AVP - Dean, Religious Education","Active",null,null,null,null,null,null,null,null,null,null,null,"SC6714","SC6714||1651","1651","Construction in Progress (Non-Workday Projects)",null,"All"]
[null,null,null,null,null,null,"AC00672","[ENG] American Soc of Civil Engineer","AC00672-[ENG] American Soc of Civil Engineer","Activity","FD02","Active","2025-03-17T16:11:52.563115+00:00",null,null,null,null,null,null,null,null,"13205","LSDO LFSC IT Advisory Committe","13205-LSDO LFSC IT Advisory Committe",null,null,null,"AS082326281","Cramer England (082326281) BYU Broadcasting - Post Production","AS082326281-Cramer England (082326281) BYU Broadcasting - Post Production","Active",null,null,null,null,null,null,null,null,null,null,null,"SC6714","SC6714||1700","1700","Accumulated Depreciation",null,"JE_PPE|JE_Override"]
[null,null,null,null,null,null,"AC00673","[ENG] The Earthquake Engrg Rsch Inst","AC00673-[ENG] The Earthquake Engrg Rsch Inst","Activity","FD02","Active","2025-03-17T16:11:52.563115+00:00",null,null,null,null,null,null,null,null,"13214","LSDO Equity-Ut Coop Assoc","13214-LSDO Equity-Ut Coop Assoc",null,null,null,"AS082372531","Oliver Johnson (082372531) College of Engineering - Mechanical Engineering","AS082372531-Oliver Johnson (082372531) College of Engineering - Mechanical Engineering","Active",null,null,null,null,null,null,null,null,null,null,null,"SC6714","SC6714||6700","6700","Physical Facilities","Primary","All"]
[null,null,null,null,null,null,"AC00674","[ENG] BYU AISC Steel Bridge","AC00674-[ENG] BYU AISC Steel Bridge","Activity","FD02","Active","2025-03-17T16:11:52.563115+00:00",null,null,null,null,null,null,null,null,"13215","LSDO Equity-Valley Wide Cooper","13215-LSDO Equity-Valley Wide Cooper",null,null,null,"AS082401814","Kurt Jensen (082401814) PF Dining and MTC Maintenance","AS082401814-Kurt Jensen (082401814) PF Dining and MTC Maintenance","Active",null,null,null,null,null,null,null,null,null,null,null,"SC6714","SC6714||8000","8000","Depreciation",null,"JE_PPE|JE_Override"]
[null,null,null,null,null,null,"AC00675","[ENG] Women in Civil Engineering","AC00675-[ENG] Women in Civil Engineering","Activity","FD02","Active","2025-03-17T16:11:52.563115+00:00",null,null,null,null,null,null,null,null,"13216","LSDO Equity-Mountainland Apple","13216-LSDO Equity-Mountainland Apple",null,null,null,"AS082405720","Jeffery Barrow (082405720) Life Sciences - Cell Biology & Physiology","AS082405720-Jeffery Barrow (082405720) Life Sciences - Cell Biology & Physiology","Active",null,null,null,null,null,null,null,null,null,null,null,"SC6715","SC6715||1400","1400","Prepaid Expenses",null,"All"]
[null,null,null,null,null,null,"AC00676","[ENG] Women in Construction","AC00676-[ENG] Women in Construction","Activity","FD02","Active","2025-03-17T16:11:52.563115+00:00",null,null,null,null,null,null,null,null,"13217","LSDO Equity-Raft River Electri","13217-LSDO Equity-Raft River Electri",null,null,null,"AS082411637","Derek Gurr (082411637) BYU Studies","AS082411637-Derek Gurr (082411637) BYU Studies","Active",null,null,null,null,null,null,null,null,null,null,null,"SC6715","SC6715||1620","1620","Furnishings and Fixtures",null,"JE_PPE|JE_Override"]
[null,null,null,null,null,null,"AC00677","[ENG] BYU AREMA Student Chapter","AC00677-[ENG] BYU AREMA Student Chapter","Activity","FD02","Active","2025-03-17T16:11:52.563115+00:00",null,null,null,null,null,null,null,null,"13218","LSDO Equity-Western Dairy","13218-LSDO Equity-Western Dairy",null,null,null,"AS082436747","Tara Haubner (082436747) CE FSY Travel","AS082436747-Tara Haubner (082436747) CE FSY Travel","Active",null,null,null,null,null,null,null,null,null,null,null,"SC6715","SC6715||1650","1650","Construction in Progress",null,"JE_PPE|JE_Override"]
[null,null,null,null,null,null,"AC00678","[ENG] Tau Beta Pi","AC00678-[ENG] Tau Beta Pi","Activity","FD02","Active","2025-03-17T16:11:52.563115+00:00",null,null,null,null,null,null,null,null,"13220","LSDO Bench to Bedside Event","13220-LSDO Bench to Bedside Event",null,null,null,"AS082439498","Jason Walker (082439498) MSB - Public Service & Ethics","AS082439498-Jason Walker (082439498) MSB - Public Service & Ethics","Active",null,null,null,null,null,null,null,null,null,null,null,"SC6715","SC6715||1651","1651","Construction in Progress (Non-Workday Projects)",null,"All"]
[null,null,null,null,null,null,"AC00679","[ENG] BYU Ite Student Chap","AC00679-[ENG] BYU Ite Student Chap","Activity","FD02","Active","2025-03-17T16:11:52.563115+00:00",null,null,null,null,null,null,null,null,"13221","LSDO \"Super\" Internship-Fellow","13221-LSDO \"Super\" Internship-Fellow",null,null,null,"AS082698950","Jennifer Wimmer (082698950) MSE  - Teacher Education","AS082698950-Jennifer Wimmer (082698950) MSE  - Teacher Education","Active",null,null,null,null,null,null,null,null,null,null,null,"SC6715","SC6715||1700","1700","Accumulated Depreciation",null,"JE_PPE|JE_Override"]
[null,null,null,null,null,null,"AC00680","[ENG] Environmental Model Rsch Lab","AC00680-[ENG] Environmental Model Rsch Lab","Activity","FD03","Active","2025-03-17T16:11:52.563115+00:00",null,null,null,null,null,null,null,null,"13222","LSDO Horse Barn (LSRL)","13222-LSDO Horse Barn (LSRL)",null,null,null,"AS082878943","Don Fairchild (082878943) OIT Resource - Enterprise Data Management and BI Engineering","AS082878943-Don Fairchild (082878943) OIT Resource - Enterprise Data Management and BI Engineering","Active",null,null,null,null,null,null,null,null,null,null,null,"SC6715","SC6715||6700","6700","Physical Facilities","Primary","All"]
[null,null,null,null,null,null,"AC00681","[ENG] CEEn Schlrshp Soc Symposium","AC00681-[ENG] CEEn Schlrshp Soc Symposium","Activity","FD03","Active","2025-03-17T16:11:52.563115+00:00",null,null,null,null,null,null,null,null,"13223","LSDO Sponsored Research Recogn","13223-LSDO Sponsored Research Recogn",null,null,null,"AS083023921","Drew Johnson (083023921) PMPC Administration","AS083023921-Drew Johnson (083023921) PMPC Administration","Active",null,null,null,null,null,null,null,null,null,null,null,"SC6715","SC6715||8000","8000","Depreciation",null,"JE_PPE|JE_Override"]
[null,null,null,null,null,null,"AC00682","[ENG] Vehicle Delay Estimation","AC00682-[ENG] Vehicle Delay Estimation","Activity","FD03","Active","2025-03-17T16:11:52.563115+00:00",null,null,null,null,null,null,null,null,"13224","LSDO BioUtah/BioHive","13224-LSDO BioUtah/BioHive",null,null,null,"AS083269696","Jordan Jones (083269696) Humanities - Spanish & Portuguese","AS083269696-Jordan Jones (083269696) Humanities - Spanish & Portuguese","Active",null,null,null,null,null,null,null,null,null,null,null,"SC6716","SC6716||1650","1650","Construction in Progress",null,"JE_PPE|JE_Override"]
[null,null,null,null,null,null,"AC00683","[ENG] Applied Optimization","AC00683-[ENG] Applied Optimization","Activity","FD03","Active","2025-03-17T16:11:52.563115+00:00",null,null,null,null,null,null,null,null,"13225","LSDO IGEM","13225-LSDO IGEM",null,null,null,"AS083311104","Brandon Dunson (083311104) Athletics - Men's Basketball","AS083311104-Brandon Dunson (083311104) Athletics - Men's Basketball","Active",null,null,null,null,null,null,null,null,null,null,null,"SC6716","SC6716||1651","1651","Construction in Progress (Non-Workday Projects)",null,"All"]
[null,null,null,null,null,null,"AC00684","[ENG] UDOT Residual","AC00684-[ENG] UDOT Residual","Activity","FD03","Active","2025-03-17T16:11:52.563115+00:00",null,null,null,null,null,null,null,null,"13226","LSDO Dean/Assoc. Dean Fac. Out","13226-LSDO Dean/Assoc. Dean Fac. Out",null,null,null,"AS083756334","Brye Williamson (083756334) PF Building Operations","AS083756334-Brye Williamson (083756334) PF Building Operations","Active",null,null,null,null,null,null,null,null,null,null,null,"SC6716","SC6716||6700","6700","Physical Facilities","Primary","All"]
[null,null,null,null,null,null,"AC00685","[ENG] J Nelson Grad Mentoring Grant","AC00685-[ENG] J Nelson Grad Mentoring Grant","Activity","FD03","Active","2025-03-17T16:11:52.563115+00:00",null,null,null,null,null,null,null,null,"13227","LSDO Faculty & Staff Developme","13227-LSDO Faculty & Staff Developme",null,null,null,"AS083786435","Roberta Larsen (083786435) Life Sciences - Biology","AS083786435-Roberta Larsen (083786435) Life Sciences - Biology","Active",null,null,null,null,null,null,null,null,null,null,null,"SC6717","SC6717||1650","1650","Construction in Progress",null,"JE_PPE|JE_Override"]
[null,null,null,null,null,null,"AC00686","[ENG] Civil Engr Royalties","AC00686-[ENG] Civil Engr Royalties","Activity","FD03","Active","2025-03-17T16:11:52.563115+00:00",null,null,null,null,null,null,null,null,"13228","LSDO STEM-Y-Faculty Institute","13228-LSDO STEM-Y-Faculty Institute",null,null,null,"AS083874358","Sheli Sillito Walker (083874358) MSB - Management","AS083874358-Sheli Sillito Walker (083874358) MSB - Management","Active",null,null,null,null,null,null,null,null,null,null,null,"SC6717","SC6717||1651","1651","Construction in Progress (Non-Workday Projects)",null,"All"]
[null,null,null,null,null,null,"AC00687","[ENG] Civil Eng Equip Repl","AC00687-[ENG] Civil Eng Equip Repl","Activity","FD03","Active","2025-03-17T16:11:52.563115+00:00",null,null,null,null,null,null,null,null,"13229","LSDO Faculty Buyback Support","13229-LSDO Faculty Buyback Support",null,null,null,"AS083875837","Jeff Wilks (083875837) AVP - Dean, Marriott School of Business (MSB)","AS083875837-Jeff Wilks (083875837) AVP - Dean, Marriott School of Business (MSB)","Active",null,null,null,null,null,null,null,null,null,null,null,"SC6717","SC6717||6700","6700","Physical Facilities","Primary","All"]
[null,null,null,null,null,null,"AC00689","[ENG] EXPERIENTIAL LEARNING CEE","AC00689-[ENG] EXPERIENTIAL LEARNING CEE","Activity","FD03","Active","2025-03-17T16:11:52.563115+00:00",null,null,null,null,null,null,null,null,"13230","LSDO BELONGING-First Generatio","13230-LSDO BELONGING-First Generatio",null,null,null,"AS083905404","Isaac King (083905404) Museum of Art","AS083905404-Isaac King (083905404) Museum of Art","Active",null,null,null,null,null,null,null,null,null,null,null,"SC6718","SC6718||1400","1400","Prepaid Expenses",null,"All"]
[null,null,null,null,null,null,"AC00690","[ENG] Mentoring Grant - S Guthrie","AC00690-[ENG] Mentoring Grant - S Guthrie","Activity","FD03","Active","2025-03-17T16:11:52.563115+00:00",null,null,null,null,null,null,null,null,"13231","LSDO Interdisciplinary Resrch","13231-LSDO Interdisciplinary Resrch",null,null,null,"AS084014736","Siri Schneck (084014736) HS General Medicine - Nursing","AS084014736-Siri Schneck (084014736) HS General Medicine - Nursing","Active",null,null,null,null,null,null,null,null,null,null,null,"SC6718","SC6718||1620","1620","Furnishings and Fixtures",null,"JE_PPE|JE_Override"]
[null,null,null,null,null,null,"AC00691","[ENG] Mentoring Grant J. Nelson","AC00691-[ENG] Mentoring Grant J. Nelson","Activity","FD03","Active","2025-03-17T16:11:52.563115+00:00",null,null,null,null,null,null,null,null,"13232","LSDO Dept Chair Leadership Dev","13232-LSDO Dept Chair Leadership Dev",null,null,null,"AS084026095","Robert Walz (084026095) Fine Arts & Communications - School of Communications","AS084026095-Robert Walz (084026095) Fine Arts & Communications - School of Communications","Active",null,null,null,null,null,null,null,null,null,null,null,"SC6718","SC6718||1650","1650","Construction in Progress",null,"JE_PPE|JE_Override"]
[null,null,null,null,null,null,"AC00692","[ENG] Mentoring Grant - Kyle Rollins","AC00692-[ENG] Mentoring Grant - Kyle Rollins","Activity","FD03","Active","2025-03-17T16:11:52.563115+00:00",null,null,null,null,null,null,null,null,"13233","LSDO COMMS-Sesquicentennial","13233-LSDO COMMS-Sesquicentennial",null,null,null,"AS084189517","Gustavious Williams (084189517) College of Engineering - Civil & Construction Engineering","AS084189517-Gustavious Williams (084189517) College of Engineering - Civil & Construction Engineering","Active",null,null,null,null,null,null,null,null,null,null,null,"SC6718","SC6718||1651","1651","Construction in Progress (Non-Workday Projects)",null,"All"]
[null,null,null,null,null,null,"AC00693","[ENG] Faculty Mentoring 2","AC00693-[ENG] Faculty Mentoring 2","Activity","FD03","Active","2025-03-17T16:11:52.563115+00:00",null,null,null,null,null,null,null,null,"13234","LSDO Equity-Intermountain Farm","13234-LSDO Equity-Intermountain Farm",null,null,null,"AS084222944","Steve Perry (084222944) BYU Broadcasting - BYU Radio","AS084222944-Steve Perry (084222944) BYU Broadcasting - BYU Radio","Active",null,null,null,null,null,null,null,null,null,null,null,"SC6718","SC6718||1700","1700","Accumulated Depreciation",null,"JE_PPE|JE_Override"]
[null,null,null,null,null,null,"AC00694","[ENG] Faculty Mentoring 3","AC00694-[ENG] Faculty Mentoring 3","Activity","FD03","Active","2025-03-17T16:11:52.563115+00:00",null,null,null,null,null,null,null,null,"13235","LSDO Stockroom-Inventory to be","13235-LSDO Stockroom-Inventory to be",null,null,null,"AS084567411","Joseph Staker (084567411) PF Central Heating Plant","AS084567411-Joseph Staker (084567411) PF Central Heating Plant","Active",null,null,null,null,null,null,null,null,null,null,null,"SC6718","SC6718||6700","6700","Physical Facilities","Primary","All"]
[null,null,null,null,null,null,"AC00695","[ENG] Faculty Mentoring 4","AC00695-[ENG] Faculty Mentoring 4","Activity","FD03","Active","2025-03-17T16:11:52.563115+00:00",null,null,null,null,null,null,null,null,"13236","LSDO Sci Spt Shop-Shop Tools","13236-LSDO Sci Spt Shop-Shop Tools",null,null,null,"AS084662261","Brian Christensen (084662261) Fine Arts & Communications - Art","AS084662261-Brian Christensen (084662261) Fine Arts & Communications - Art","Active",null,null,null,null,null,null,null,null,null,null,null,"SC6718","SC6718||8000","8000","Depreciation",null,"JE_PPE|JE_Override"]
[null,null,null,null,null,null,"AC00696","[ENG] Construction Management","AC00696-[ENG] Construction Management","Activity","FD01","Active","2025-03-17T16:11:52.563115+00:00",null,null,null,null,null,null,null,null,"13237","LSDO Sci Spt Shop-Shop Repairs","13237-LSDO Sci Spt Shop-Shop Repairs",null,null,null,"AS084663531","Scott Walters (084663531) PF Building Operations","AS084663531-Scott Walters (084663531) PF Building Operations","Active",null,null,null,null,null,null,null,null,null,null,null,"SC6719","SC6719||1400","1400","Prepaid Expenses",null,"All"]
[null,null,null,null,null,null,"AC00697","[ENG] Const. Managemnt Club","AC00697-[ENG] Const. Managemnt Club","Activity","FD02","Active","2025-03-17T16:11:52.563115+00:00",null,null,null,null,null,null,null,null,"13238","LSDO Stockroom-Loan Items","13238-LSDO Stockroom-Loan Items",null,null,null,"AS084953801","Anthony Perez (084953801) Brand & Creative","AS084953801-Anthony Perez (084953801) Brand & Creative","Active",null,null,null,null,null,null,null,null,null,null,null,"SC6719","SC6719||1620","1620","Furnishings and Fixtures",null,"JE_PPE|JE_Override"]
[null,null,null,null,null,null,"AC00698","[ENG] Construction Stores","AC00698-[ENG] Construction Stores","Activity","FD02","Active","2025-03-17T16:11:52.563115+00:00",null,null,null,null,null,null,null,null,"13239","LSDO Stockroom-Sell Items","13239-LSDO Stockroom-Sell Items",null,null,null,"AS085060780","Brad Hewitt (085060780) OIT Resource - CES Network Center (CNC) - Installation","AS085060780-Brad Hewitt (085060780) OIT Resource - CES Network Center (CNC) - Installation","Active",null,null,null,null,null,null,null,null,null,null,null,"SC6719","SC6719||1650","1650","Construction in Progress",null,"JE_PPE|JE_Override"]
[null,null,null,null,null,null,"AC00699","[ENG] Power/Energy","AC00699-[ENG] Power/Energy","Activity","FD02","Active","2025-03-17T16:11:52.563115+00:00",null,null,null,null,null,null,null,null,"13240","LSDO Stockroom-Sell Items-\"R\"","13240-LSDO Stockroom-Sell Items-\"R\"",null,null,null,"AS085239152","Steven Luke (085239152) FHSS - Psychology","AS085239152-Steven Luke (085239152) FHSS - Psychology","Active",null,null,null,null,null,null,null,null,null,null,null,"SC6719","SC6719||1651","1651","Construction in Progress (Non-Workday Projects)",null,"All"]
[null,null,null,null,null,null,"AC00700","[ENG] Plastics/Upholstery Stores","AC00700-[ENG] Plastics/Upholstery Stores","Activity","FD02","Active","2025-03-17T16:11:52.563115+00:00",null,null,null,null,null,null,null,null,"13250","LSDO ADVISE-Career Research","13250-LSDO ADVISE-Career Research",null,null,null,"AS085269220","Travis Coyne (085269220) Fine Arts & Communications - Theatre & Media Arts","AS085269220-Travis Coyne (085269220) Fine Arts & Communications - Theatre & Media Arts","Active",null,null,null,null,null,null,null,null,null,null,null,"SC6719","SC6719||1700","1700","Accumulated Depreciation",null,"JE_PPE|JE_Override"]
[null,null,null,null,null,null,"AC00701","[ENG] Architecture Club","AC00701-[ENG] Architecture Club","Activity","FD02","Active","2025-03-17T16:11:52.563115+00:00",null,null,null,null,null,null,null,null,"13251","LSDO ADVISE-ETS Biology Exams","13251-LSDO ADVISE-ETS Biology Exams",null,null,null,"AS085379998","Paul Richards (085379998) College of Engineering - Civil & Construction Engineering","AS085379998-Paul Richards (085379998) College of Engineering - Civil & Construction Engineering","Active",null,null,null,null,null,null,null,null,null,null,null,"SC6719","SC6719||6700","6700","Physical Facilities","Primary","All"]
[null,null,null,null,null,null,"AC00702","[ENG] EXPERIENTIAL LEARNING CFM","AC00702-[ENG] EXPERIENTIAL LEARNING CFM","Activity","FD03","Active","2025-03-17T16:11:52.563115+00:00",null,null,null,null,null,null,null,null,"13252","LSDO ADVISE-Career Services","13252-LSDO ADVISE-Career Services",null,null,null,"AS085544891","Matt Butler (085544891) FHSS - Economics","AS085544891-Matt Butler (085544891) FHSS - Economics","Active",null,null,null,null,null,null,null,null,null,null,null,"SC6719","SC6719||8000","8000","Depreciation",null,"JE_PPE|JE_Override"]
[null,null,null,null,null,null,"AC00703","[ENG] Facilities and Property Mgmt","AC00703-[ENG] Facilities and Property Mgmt","Activity","FD01","Active","2025-03-17T16:11:52.563115+00:00",null,null,null,null,null,null,null,null,"13253","LSDO ADVISE-Communication","13253-LSDO ADVISE-Communication",null,null,null,"AS085618274","John Chaston (085618274) Life Sciences - Plant & Wildlife Sciences","AS085618274-John Chaston (085618274) Life Sciences - Plant & Wildlife Sciences","Active",null,null,null,null,null,null,null,null,null,null,null,"SC6720","SC6720||1400","1400","Prepaid Expenses",null,"All"]
[null,null,null,null,null,null,"AC00704","[ENG] Campbell, Jeffery Research","AC00704-[ENG] Campbell, Jeffery Research","Activity","FD01","Active","2025-03-17T16:11:52.563115+00:00",null,null,null,null,null,null,null,null,"13254","LSDO ADVISE-Development","13254-LSDO ADVISE-Development",null,null,null,"AS085963895","Joshua Price (085963895) FHSS - Economics","AS085963895-Joshua Price (085963895) FHSS - Economics","Active",null,null,null,null,null,null,null,null,null,null,null,"SC6720","SC6720||1650","1650","Construction in Progress",null,"JE_PPE|JE_Override"]
[null,null,null,null,null,null,"AC00705","[ENG] BYU IFMA","AC00705-[ENG] BYU IFMA","Activity","FD02","Active","2025-03-17T16:11:52.563115+00:00",null,null,null,null,null,null,null,null,"13255","LSDO ADVISE-Graduation","13255-LSDO ADVISE-Graduation",null,null,null,"AS086020728","Jyothish Joy (086020728) CMS - Chemistry and Biochemistry","AS086020728-Jyothish Joy (086020728) CMS - Chemistry and Biochemistry","Active",null,null,null,null,null,null,null,null,null,null,null,"SC6720","SC6720||1651","1651","Construction in Progress (Non-Workday Projects)",null,"All"]
[null,null,null,null,null,null,"AC00706","[ENG] Center for Remote Sensing","AC00706-[ENG] Center for Remote Sensing","Activity","FD01","Active","2025-03-17T16:11:52.563115+00:00",null,null,null,null,null,null,null,null,"13256","LSDO ADVISE-Internship/Ment","13256-LSDO ADVISE-Internship/Ment",null,null,null,"AS086077890","Chad Brimley (086077890) Dean of Students","AS086077890-Chad Brimley (086077890) Dean of Students","Active",null,null,null,null,null,null,null,null,null,null,null,"SC6720","SC6720||6700","6700","Physical Facilities","Primary","All"]
[null,null,null,null,null,null,"AC00707","[ENG] Elec Engr Compt Lab","AC00707-[ENG] Elec Engr Compt Lab","Activity","FD01","Active","2025-03-17T16:11:52.563115+00:00",null,null,null,null,null,null,null,null,"13257","LSDO ADVISE-New Student Orien","13257-LSDO ADVISE-New Student Orien",null,null,null,"AS086106508","Mikayla Robins (086106508) CE Education Week","AS086106508-Mikayla Robins (086106508) CE Education Week","Active",null,null,null,null,null,null,null,null,null,null,null,"SC6721","SC6721||1400","1400","Prepaid Expenses",null,"All"]
[null,null,null,null,null,null,"AC00708","[ENG] College - UAV","AC00708-[ENG] College - UAV","Activity","FD01","Active","2025-03-17T16:11:52.563115+00:00",null,null,null,null,null,null,null,null,"13258","LSDO ADVISE-Office Operations","13258-LSDO ADVISE-Office Operations",null,null,null,"AS086170895","Richard Warr (086170895) CMS - Statistics","AS086170895-Richard Warr (086170895) CMS - Statistics","Active",null,null,null,null,null,null,null,null,null,null,null,"SC6721","SC6721||1620","1620","Furnishings and Fixtures",null,"JE_PPE|JE_Override"]
[null,null,null,null,null,null,"AC00709","[ENG] Electrical Engineering","AC00709-[ENG] Electrical Engineering","Activity","FD01","Active","2025-03-17T16:11:52.563115+00:00",null,null,null,null,null,null,null,null,"13259","LSDO ADVISE-Promotional Mate","13259-LSDO ADVISE-Promotional Mate",null,null,null,"AS086393576","Eric Swenson (086393576) CMS - Mathematics","AS086393576-Eric Swenson (086393576) CMS - Mathematics","Active",null,null,null,null,null,null,null,null,null,null,null,"SC6721","SC6721||1650","1650","Construction in Progress",null,"JE_PPE|JE_Override"]
[null,null,null,null,null,null,"AC00710","[ENG] MERS Laboratory","AC00710-[ENG] MERS Laboratory","Activity","FD01","Active","2025-03-17T16:11:52.563115+00:00",null,null,null,null,null,null,null,null,"13260","LSDO ADVISE-Scholarships","13260-LSDO ADVISE-Scholarships",null,null,null,"AS086418765","Bonnie Bingham (086418765) Dean's Office Humanities","AS086418765-Bonnie Bingham (086418765) Dean's Office Humanities","Active",null,null,null,null,null,null,null,null,null,null,null,"SC6721","SC6721||1651","1651","Construction in Progress (Non-Workday Projects)",null,"All"]
[null,null,null,null,null,null,"AC00711","[ENG] EUCLID","AC00711-[ENG] EUCLID","Activity","FD01","Active","2025-03-17T16:11:52.563115+00:00",null,null,null,null,null,null,null,null,"13261","LSDO ADVISE-Und Student Counc","13261-LSDO ADVISE-Und Student Counc",null,null,null,"AS086472691","Brody Blair (086472691) PF Auxiliary Maintenance","AS086472691-Brody Blair (086472691) PF Auxiliary Maintenance","Active",null,null,null,null,null,null,null,null,null,null,null,"SC6721","SC6721||1700","1700","Accumulated Depreciation",null,"JE_PPE|JE_Override"]
[null,null,null,null,null,null,"AC00712","[ENG] MAGICC Laboratory","AC00712-[ENG] MAGICC Laboratory","Activity","FD01","Active","2025-03-17T16:11:52.563115+00:00",null,null,null,null,null,null,null,null,"13262","LSDO ADVISE-LFSC Consultant","13262-LSDO ADVISE-LFSC Consultant",null,null,null,"AS086530432","Erik Larson (086530432) Humanities - Spanish & Portuguese","AS086530432-Erik Larson (086530432) Humanities - Spanish & Portuguese","Active",null,null,null,null,null,null,null,null,null,null,null,"SC6721","SC6721||6700","6700","Physical Facilities","Primary","All"]
[null,null,null,null,null,null,"AC00713","[ENG] Auto Pilot Tech Transfer","AC00713-[ENG] Auto Pilot Tech Transfer","Activity","FD01","Active","2025-03-17T16:11:52.563115+00:00",null,null,null,null,null,null,null,null,"13263","LSDO ADVISE-LFSCI 101","13263-LSDO ADVISE-LFSCI 101",null,null,null,"AS086584610","Rebecca Hunter (086584610) MSE  - Teacher Education","AS086584610-Rebecca Hunter (086584610) MSE  - Teacher Education","Active",null,null,null,null,null,null,null,null,null,null,null,"SC6721","SC6721||8000","8000","Depreciation",null,"JE_PPE|JE_Override"]
[null,null,null,null,null,null,"AC00714","[ENG] Cleanroom Consumables","AC00714-[ENG] Cleanroom Consumables","Activity","FD01","Active","2025-03-17T16:11:52.563115+00:00",null,null,null,null,null,null,null,null,"13264","LSDO ADVISE-Learning Center","13264-LSDO ADVISE-Learning Center",null,null,null,"AS086585781","Tim Wilda (086585781) PF Transportation & Manufacturing Services","AS086585781-Tim Wilda (086585781) PF Transportation & Manufacturing Services","Active",null,null,null,null,null,null,null,null,null,null,null,"SC6722","SC6722||1400","1400","Prepaid Expenses",null,"All"]
[null,null,null,null,null,null,"AC00715","[ENG] Soc of Hispanic Prof Eng","AC00715-[ENG] Soc of Hispanic Prof Eng","Activity","FD02","Active","2025-03-17T16:11:52.563115+00:00",null,null,null,null,null,null,null,null,"13265","LSDO Choose to Give","13265-LSDO Choose to Give",null,null,null,"AS086625637","Annalee Hickman Pierson (086625637) Law School - Law Library","AS086625637-Annalee Hickman Pierson (086625637) Law School - Law Library","Active",null,null,null,null,null,null,null,null,null,null,null,"SC6722","SC6722||6700","6700","Physical Facilities","Primary","All"]
[null,null,null,null,null,null,"AC00716","[ENG] Eta Kappa Nu","AC00716-[ENG] Eta Kappa Nu","Activity","FD02","Active","2025-03-17T16:11:52.563115+00:00",null,null,null,null,null,null,null,null,"13270","LSDO LSIT-Service Desk","13270-LSDO LSIT-Service Desk",null,null,null,"AS086643686","Johanne Hillam (086643686) French and Italian Languages","AS086643686-Johanne Hillam (086643686) French and Italian Languages","Active",null,null,null,null,null,null,null,null,null,null,null,"SC6723","SC6723||1400","1400","Prepaid Expenses",null,"All"]
[null,null,null,null,null,null,"AC00717","[ENG] IEEE Club","AC00717-[ENG] IEEE Club","Activity","FD02","Active","2025-03-17T16:11:52.563115+00:00",null,null,null,null,null,null,null,null,"13271","LSDO LSIT-Engineering","13271-LSDO LSIT-Engineering",null,null,null,"AS086667644","Celeste Beesley (086667644) FHSS - Political Science","AS086667644-Celeste Beesley (086667644) FHSS - Political Science","Active",null,null,null,null,null,null,null,null,null,null,null,"SC6723","SC6723||6700","6700","Physical Facilities","Primary","All"]
[null,null,null,null,null,null,"AC00718","[ENG] Elect Engr Stores","AC00718-[ENG] Elect Engr Stores","Activity","FD02","Active","2025-03-17T16:11:52.563115+00:00",null,null,null,null,null,null,null,null,"13272","LSDO LSIT-Development","13272-LSDO LSIT-Development",null,null,null,"AS086950517","Rebecca Hornberger (086950517) HS Administration","AS086950517-Rebecca Hornberger (086950517) HS Administration","Active",null,null,null,null,null,null,null,null,null,null,null,"SC6724","SC6724||1400","1400","Prepaid Expenses",null,"All"]
[null,null,null,null,null,null,"AC00719","[ENG] Cleanroom","AC00719-[ENG] Cleanroom","Activity","FD02","Active","2025-03-17T16:11:52.563115+00:00",null,null,null,null,null,null,null,null,"13273","LSDO LSIT-Design","13273-LSDO LSIT-Design",null,null,null,"AS087251463","Sandra Sephton (087251463) FHSS - Psychology","AS087251463-Sandra Sephton (087251463) FHSS - Psychology","Active",null,null,null,null,null,null,null,null,null,null,null,"SC6724","SC6724||6700","6700","Physical Facilities","Primary","All"]
[null,null,null,null,null,null,"AC00720","[ENG] BYU Spacecraft Club","AC00720-[ENG] BYU Spacecraft Club","Activity","FD02","Active","2025-03-17T16:11:52.563115+00:00",null,null,null,null,null,null,null,null,"13275","LSDO NEURO-Grad Students-Maste","13275-LSDO NEURO-Grad Students-Maste",null,null,null,"AS087450572","Tyler Shumway (087450572) MSB - Finance","AS087450572-Tyler Shumway (087450572) MSB - Finance","Active",null,null,null,null,null,null,null,null,null,null,null,"SC6725","SC6725||1400","1400","Prepaid Expenses",null,"All"]
[null,null,null,null,null,null,"AC00721","[ENG] Local Inspir for Future Engin","AC00721-[ENG] Local Inspir for Future Engin","Activity","FD02","Active","2025-03-17T16:11:52.563115+00:00",null,null,null,null,null,null,null,null,"13276","LSDO NEURO-Graduate Students-D","13276-LSDO NEURO-Graduate Students-D",null,null,null,"AS087539527","Tyler Griffin (087539527) AVP - Dean, Religious Education","AS087539527-Tyler Griffin (087539527) AVP - Dean, Religious Education","Active",null,null,null,null,null,null,null,null,null,null,null,"SC6725","SC6725||6700","6700","Physical Facilities","Primary","All"]
[null,null,null,null,null,null,"AC00722","[ENG] Briarwood Web Develpoment","AC00722-[ENG] Briarwood Web Develpoment","Activity","FD02","Active","2025-03-17T16:11:52.563115+00:00",null,null,null,null,null,null,null,null,"13277","LSDO NEURO-Mentored Resch Fac","13277-LSDO NEURO-Mentored Resch Fac",null,null,null,"AS087606974","Ron Goodman (087606974) PF Central Heating Plant","AS087606974-Ron Goodman (087606974) PF Central Heating Plant","Active",null,null,null,null,null,null,null,null,null,null,null,"SC6726","SC6726||1400","1400","Prepaid Expenses",null,"All"]
[null,null,null,null,null,null,"AC00723","[ENG] CERS Operations","AC00723-[ENG] CERS Operations","Activity","FD03","Active","2025-03-17T16:11:52.563115+00:00",null,null,null,null,null,null,null,null,"13278","LSDO Michael Stark","13278-LSDO Michael Stark",null,null,null,"AS087946977","Sherri Hadfield (087946977) Humanities - Linguistics","AS087946977-Sherri Hadfield (087946977) Humanities - Linguistics","Active",null,null,null,null,null,null,null,null,null,null,null,"SC6726","SC6726||6700","6700","Physical Facilities","Primary","All"]
[null,null,null,null,null,null,"AC00724","[ENG] Coray Professorship DG Long","AC00724-[ENG] Coray Professorship DG Long","Activity","FD03","Active","2025-03-17T16:11:52.563115+00:00",null,null,null,null,null,null,null,null,"13279","LSDO Benjamin Crookston","13279-LSDO Benjamin Crookston",null,null,null,"AS088222291","Annalyn Osborn (088222291) Humanities - Spanish & Portuguese","AS088222291-Annalyn Osborn (088222291) Humanities - Spanish & Portuguese","Active",null,null,null,null,null,null,null,null,null,null,null,"SC6727","SC6727||1400","1400","Prepaid Expenses",null,"All"]
[null,null,null,null,null,null,"AC00725","[ENG] Elec Eng Equip Repl","AC00725-[ENG] Elec Eng Equip Repl","Activity","FD03","Active","2025-03-17T16:11:52.563115+00:00",null,null,null,null,null,null,null,null,"13280","LSDO Brian Johnson","13280-LSDO Brian Johnson",null,null,null,"AS088368339","Brett Hashimoto (088368339) Humanities - Linguistics","AS088368339-Brett Hashimoto (088368339) Humanities - Linguistics","Active",null,null,null,null,null,null,null,null,null,null,null,"SC6727","SC6727||6700","6700","Physical Facilities","Primary","All"]
[null,null,null,null,null,null,"AC00726","[ENG] Sigproc Royalty","AC00726-[ENG] Sigproc Royalty","Activity","FD03","Active","2025-03-17T16:11:52.563115+00:00",null,null,null,null,null,null,null,null,"13281","LSDO Loreen Flinders","13281-LSDO Loreen Flinders",null,null,null,"AS088387496","Craig Fisher (088387496) PF Grounds - Site & Landscape Construction","AS088387496-Craig Fisher (088387496) PF Grounds - Site & Landscape Construction","Active",null,null,null,null,null,null,null,null,null,null,null,"SC6728","SC6728||1400","1400","Prepaid Expenses",null,"All"]
[null,null,null,null,null,null,"AC00727","[ENG] Sig Process Research","AC00727-[ENG] Sig Process Research","Activity","FD03","Active","2025-03-17T16:11:52.563115+00:00",null,null,null,null,null,null,null,null,"13282","LSDO Josh Leavitt","13282-LSDO Josh Leavitt",null,null,null,"AS088427572","Lee McCullough (088427572) Law School","AS088427572-Lee McCullough (088427572) Law School","Active",null,null,null,null,null,null,null,null,null,null,null,"SC6728","SC6728||6700","6700","Physical Facilities","Primary","All"]
[null,null,null,null,null,null,"AC00728","[ENG] KF Warnick-Young Scholar","AC00728-[ENG] KF Warnick-Young Scholar","Activity","FD03","Active","2025-03-17T16:11:52.563115+00:00",null,null,null,null,null,null,null,null,"13283","LSDO Susan Fullmer","13283-LSDO Susan Fullmer",null,null,null,"AS088607893","Alyson Ball (088607893) MTC Dining","AS088607893-Alyson Ball (088607893) MTC Dining","Active",null,null,null,null,null,null,null,null,null,null,null,"SC6729","SC6729||1400","1400","Prepaid Expenses",null,"All"]
[null,null,null,null,null,null,"AC00729","[ENG] Dept Secretarial Support","AC00729-[ENG] Dept Secretarial Support","Activity","FD03","Active","2025-03-17T16:11:52.563115+00:00",null,null,null,null,null,null,null,null,"13284","LSDO Tonya Fischio","13284-LSDO Tonya Fischio",null,null,null,"AS088807559","Amber Jensen (088807559) Humanities - English","AS088807559-Amber Jensen (088807559) Humanities - English","Active",null,null,null,null,null,null,null,null,null,null,null,"SC6729","SC6729||1620","1620","Furnishings and Fixtures",null,"JE_PPE|JE_Override"]
[null,null,null,null,null,null,"AC00730","[ENG] Young Scholar - Brad Hutchings","AC00730-[ENG] Young Scholar - Brad Hutchings","Activity","FD03","Active","2025-03-17T16:11:52.563115+00:00",null,null,null,null,null,null,null,null,"13285","LSDO Michael Barnes","13285-LSDO Michael Barnes",null,null,null,"AS089085651","Josh Lee (089085651) MSB - School of Accountancy","AS089085651-Josh Lee (089085651) MSB - School of Accountancy","Active",null,null,null,null,null,null,null,null,null,null,null,"SC6729","SC6729||1650","1650","Construction in Progress",null,"JE_PPE|JE_Override"]
[null,null,null,null,null,null,"AC00731","[ENG] Automated Accom","AC00731-[ENG] Automated Accom","Activity","FD03","Active","2025-03-17T16:11:52.563115+00:00",null,null,null,null,null,null,null,null,"13286","LSDO Rebecca Scholl","13286-LSDO Rebecca Scholl",null,null,null,"AS089272986","Bart Stoddard (089272986) Housing Administration","AS089272986-Bart Stoddard (089272986) Housing Administration","Active",null,null,null,null,null,null,null,null,null,null,null,"SC6729","SC6729||1651","1651","Construction in Progress (Non-Workday Projects)",null,"All"]
[null,null,null,null,null,null,"AC00732","[ENG] Microsphere Resonant","AC00732-[ENG] Microsphere Resonant","Activity","FD03","Active","2025-03-17T16:11:52.563115+00:00",null,null,null,null,null,null,null,null,"13287","LSDO Terri Moser","13287-LSDO Terri Moser",null,null,null,"AS089308063","Lauren Davies (089308063) MSE - Communication Disorders","AS089308063-Lauren Davies (089308063) MSE - Communication Disorders","Active",null,null,null,null,null,null,null,null,null,null,null,"SC6729","SC6729||1700","1700","Accumulated Depreciation",null,"JE_PPE|JE_Override"]
[null,null,null,null,null,null,"AC00733","[ENG] Auto Pilot Tech Transfer","AC00733-[ENG] Auto Pilot Tech Transfer","Activity","FD03","Active","2025-03-17T16:11:52.563115+00:00",null,null,null,null,null,null,null,null,"13288","LSDO Russell Nielson","13288-LSDO Russell Nielson",null,null,null,"AS089356046","Jackson Behling (089356046) Electrical and Computer Eng","AS089356046-Jackson Behling (089356046) Electrical and Computer Eng","Active",null,null,null,null,null,null,null,null,null,null,null,"SC6729","SC6729||6700","6700","Physical Facilities","Primary","All"]
[null,null,null,null,null,null,"AC00734","[ENG] IML Equipment Replacement","AC00734-[ENG] IML Equipment Replacement","Activity","FD03","Active","2025-03-17T16:11:52.563115+00:00",null,null,null,null,null,null,null,null,"13289","LSDO Laura Bridgewater","13289-LSDO Laura Bridgewater",null,null,null,"AS089398090","Blake Barker (089398090) CMS - Mathematics","AS089398090-Blake Barker (089398090) CMS - Mathematics","Active",null,null,null,null,null,null,null,null,null,null,null,"SC6729","SC6729||8000","8000","Depreciation",null,"JE_PPE|JE_Override"]
[null,null,null,null,null,null,"AC00735","[ENG] Pattern Generator","AC00735-[ENG] Pattern Generator","Activity","FD03","Active","2025-03-17T16:11:52.563115+00:00",null,null,null,null,null,null,null,null,"13290","LSDO Student Secretary","13290-LSDO Student Secretary",null,null,null,"AS089405044","Sherrie Bangerter (089405044) CE FSY","AS089405044-Sherrie Bangerter (089405044) CE FSY","Active",null,null,null,null,null,null,null,null,null,null,null,"SC6730","SC6730||1400","1400","Prepaid Expenses",null,"All"]
[null,null,null,null,null,null,"AC00736","[ENG] CSR - Engineering (ECE)","AC00736-[ENG] CSR - Engineering (ECE)","Activity","FD03","Active","2025-03-17T16:11:52.563115+00:00",null,null,null,null,null,null,null,null,"13291","LSDO YSA 3rd Stake-#503266","13291-LSDO YSA 3rd Stake-#503266",null,null,null,"AS089471812","Darrell Goff (089471812) Mechanical Engineering","AS089471812-Darrell Goff (089471812) Mechanical Engineering","Active",null,null,null,null,null,null,null,null,null,null,null,"SC6730","SC6730||1620","1620","Furnishings and Fixtures",null,"JE_PPE|JE_Override"]
[null,null,null,null,null,null,"AC00737","[ENG] IMMERSE Consolidated","AC00737-[ENG] IMMERSE Consolidated","Activity","FD03","Active","2025-03-17T16:11:52.563115+00:00",null,null,null,null,null,null,null,null,"13292","LSDO COMMS-Student","13292-LSDO COMMS-Student",null,null,null,"AS089938606","Pattie Shumway (089938606) MSB - Experience Design & Management","AS089938606-Pattie Shumway (089938606) MSB - Experience Design & Management","Active",null,null,null,null,null,null,null,null,null,null,null,"SC6730","SC6730||1650","1650","Construction in Progress",null,"JE_PPE|JE_Override"]
[null,null,null,null,null,null,"AC00738","[ENG] A Hawkins Grad Mentoring Award","AC00738-[ENG] A Hawkins Grad Mentoring Award","Activity","FD03","Active","2025-03-17T16:11:52.563115+00:00",null,null,null,null,null,null,null,null,"13293","LSDO COMMS-Student Events","13293-LSDO COMMS-Student Events",null,null,null,"AS090325831","Scott Champion (090325831) BYU Broadcasting - Creative Services","AS090325831-Scott Champion (090325831) BYU Broadcasting - Creative Services","Active",null,null,null,null,null,null,null,null,null,null,null,"SC6730","SC6730||1651","1651","Construction in Progress (Non-Workday Projects)",null,"All"]
[null,null,null,null,null,null,"AC00739","[ENG] D Smalley - PIA 2020 - ECEn","AC00739-[ENG] D Smalley - PIA 2020 - ECEn","Activity","FD03","Active","2025-03-17T16:11:52.563115+00:00",null,null,null,null,null,null,null,null,"13294","LSDO COMMS-Writer","13294-LSDO COMMS-Writer",null,null,null,"AS090428073","Logan Matthews (090428073) Athletics - Olympic Sport Medicine","AS090428073-Logan Matthews (090428073) Athletics - Olympic Sport Medicine","Active",null,null,null,null,null,null,null,null,null,null,null,"SC6730","SC6730||1700","1700","Accumulated Depreciation",null,"JE_PPE|JE_Override"]
[null,null,null,null,null,null,"AC00740","[ENG] Interdisciplinary Robotics","AC00740-[ENG] Interdisciplinary Robotics","Activity","FD03","Active","2025-03-17T16:11:52.563115+00:00",null,null,null,null,null,null,null,null,"13295","LSDO COMMS-Internal Communicat","13295-LSDO COMMS-Internal Communicat",null,null,null,"AS090471404","Deborah Himes (090471404) AVP - Dean, College of Nursing","AS090471404-Deborah Himes (090471404) AVP - Dean, College of Nursing","Active",null,null,null,null,null,null,null,null,null,null,null,"SC6730","SC6730||6700","6700","Physical Facilities","Primary","All"]
[null,null,null,null,null,null,"AC00741","[ENG] Y-Ride -PIA2022 ? ECEn","AC00741-[ENG] Y-Ride -PIA2022 ? ECEn","Activity","FD03","Active","2025-03-17T16:11:52.563115+00:00",null,null,null,null,null,null,null,null,"13296","LSDO COMMS-Social Media","13296-LSDO COMMS-Social Media",null,null,null,"AS090634933","Jeffrey Niven (090634933) College of Engineering - Mechanical Engineering","AS090634933-Jeffrey Niven (090634933) College of Engineering - Mechanical Engineering","Active",null,null,null,null,null,null,null,null,null,null,null,"SC6730","SC6730||8000","8000","Depreciation",null,"JE_PPE|JE_Override"]
[null,null,null,null,null,null,"AC00743","[ENG] EXPERIENTIAL LEARNING ECE","AC00743-[ENG] EXPERIENTIAL LEARNING ECE","Activity","FD03","Active","2025-03-17T16:11:52.563115+00:00",null,null,null,null,null,null,null,null,"13297","LSDO COMMS-Video/Photography","13297-LSDO COMMS-Video/Photography",null,null,null,"AS090673468","Kimberly Wright (090673468) Fine Arts & Communications - Theatre & Media Arts","AS090673468-Kimberly Wright (090673468) Fine Arts & Communications - Theatre & Media Arts","Active",null,null,null,null,null,null,null,null,null,null,null,"SC6731","SC6731||1300","1300","Inventory","Primary","All"]
[null,null,null,null,null,null,"AC00744","[ENG] Faculty Mentoring 2","AC00744-[ENG] Faculty Mentoring 2","Activity","FD03","Active","2025-03-17T16:11:52.563115+00:00",null,null,null,null,null,null,null,null,"13298","LSDO COMMS-Design","13298-LSDO COMMS-Design",null,null,null,"AS090692682","Mark Johnson (090692682) MSB - Finance","AS090692682-Mark Johnson (090692682) MSB - Finance","Active",null,null,null,null,null,null,null,null,null,null,null,"SC6731","SC6731||1650","1650","Construction in Progress",null,"JE_PPE|JE_Override"]
[null,null,null,null,null,null,"AC00745","[ENG] Faculty Mentoring 3","AC00745-[ENG] Faculty Mentoring 3","Activity","FD03","Active","2025-03-17T16:11:52.563115+00:00",null,null,null,null,null,null,null,null,"13299","LSDO BELONGING-Women in Life S","13299-LSDO BELONGING-Women in Life S",null,null,null,"AS090754573","Martha Carter (090754573) Cannon Center","AS090754573-Martha Carter (090754573) Cannon Center","Active",null,null,null,null,null,null,null,null,null,null,null,"SC6731","SC6731||4900","4900","Cost of Sales",null,"All"]
[null,null,null,null,null,null,"AC00746","[ENG] Faculty Mentoring 4","AC00746-[ENG] Faculty Mentoring 4","Activity","FD03","Active","2025-03-17T16:11:52.563115+00:00",null,null,null,null,null,null,null,null,"13305","LSB Research at BYU","13305-LSB Research at BYU",null,null,null,"AS090902923","Erin Ricks (090902923) Purchasing and Travel - Campus Finance","AS090902923-Erin Ricks (090902923) Purchasing and Travel - Campus Finance","Active",null,null,null,null,null,null,null,null,null,null,null,"SC6799","SC6799||1400","1400","Prepaid Expenses",null,"All"]
[null,null,null,null,null,null,"AC00747","[ENG] Faculty Mentoring 5","AC00747-[ENG] Faculty Mentoring 5","Activity","FD03","Active","2025-03-17T16:11:52.563115+00:00",null,null,null,null,null,null,null,null,"13307","LSB Administrator/Donor Confer","13307-LSB Administrator/Donor Confer",null,null,null,"AS090924308","Kathy Taylor (090924308) Alumni Relations","AS090924308-Kathy Taylor (090924308) Alumni Relations","Active",null,null,null,null,null,null,null,null,null,null,null,"SC6799","SC6799||1650","1650","Construction in Progress",null,"JE_PPE|JE_Override"]
[null,null,null,null,null,null,"AC00748","[ENG] Information Technology","AC00748-[ENG] Information Technology","Activity","FD01","Active","2025-03-17T16:11:52.563115+00:00",null,null,null,null,null,null,null,null,"13332","LSB Student Keys","13332-LSB Student Keys",null,null,null,"AS090941769","Ezra Smith (090941769) Lee Library - Acquisitions","AS090941769-Ezra Smith (090941769) Lee Library - Acquisitions","Active",null,null,null,null,null,null,null,null,null,null,null,"SC6799","SC6799||1651","1651","Construction in Progress (Non-Workday Projects)",null,"All"]
[null,null,null,null,null,null,"AC00749","[ENG] Lunt, Barry Research","AC00749-[ENG] Lunt, Barry Research","Activity","FD01","Active","2025-03-17T16:11:52.563115+00:00",null,null,null,null,null,null,null,null,"13333","LSB Copiers","13333-LSB Copiers",null,null,null,"AS091090788","Cree Jones (091090788) AVP - Dean, Clark Law School","AS091090788-Cree Jones (091090788) AVP - Dean, Clark Law School","Active",null,null,null,null,null,null,null,null,null,null,null,"SC6799","SC6799||6700","6700","Physical Facilities","Primary","All"]
[null,null,null,null,null,null,"AC00750","[ENG] IT Stores","AC00750-[ENG] IT Stores","Activity","FD02","Active","2025-03-17T16:11:52.563115+00:00",null,null,null,null,null,null,null,null,"13335","LSB Christmas","13335-LSB Christmas",null,null,null,"AS091140327","Teresa Thompson (091140327) Lee Library - Acquisitions","AS091140327-Teresa Thompson (091140327) Lee Library - Acquisitions","Active",null,null,null,null,null,null,null,null,null,null,null,"SC6901","SC6901||1400","1400","Prepaid Expenses",null,"All"]
[null,null,null,null,null,null,"AC00751","[ENG] Information Tech Studnt Assoc","AC00751-[ENG] Information Tech Studnt Assoc","Activity","FD02","Active","2025-03-17T16:11:52.563115+00:00",null,null,null,null,null,null,null,null,"13342","LSB Outreach","13342-LSB Outreach",null,null,null,"AS091329105","Tony Martinez (091329105) CMS - Computer Science","AS091329105-Tony Martinez (091329105) CMS - Computer Science","Active",null,null,null,null,null,null,null,null,null,null,null,"SC6901","SC6901||1625","1625","Capital Equipment",null,"JE_PPE|JE_Override"]
[null,null,null,null,null,null,"AC00752","[ENG] CSSAA","AC00752-[ENG] CSSAA","Activity","FD02","Active","2025-03-17T16:11:52.563115+00:00",null,null,null,null,null,null,null,null,"13356","LSDO Annual Giving Replacement","13356-LSDO Annual Giving Replacement",null,null,null,"AS091388504","David Quittner (091388504) PMPC Administration","AS091388504-David Quittner (091388504) PMPC Administration","Active",null,null,null,null,null,null,null,null,null,null,null,"SC6901","SC6901||1650","1650","Construction in Progress",null,"JE_PPE|JE_Override"]
[null,null,null,null,null,null,"AC00753","[ENG] User Experience Design Club","AC00753-[ENG] User Experience Design Club","Activity","FD02","Active","2025-03-17T16:11:52.563115+00:00",null,null,null,null,null,null,null,null,"13357","LSDO Cancer Research Replaceme","13357-LSDO Cancer Research Replaceme",null,null,null,"AS091471725","Amanda Pope (091471725) MSB - School of Accountancy","AS091471725-Amanda Pope (091471725) MSB - School of Accountancy","Active",null,null,null,null,null,null,null,null,null,null,null,"SC6901","SC6901||1651","1651","Construction in Progress (Non-Workday Projects)",null,"All"]
[null,null,null,null,null,null,"AC00754","[ENG] International Internships","AC00754-[ENG] International Internships","Activity","FD03","Active","2025-03-17T16:11:52.563115+00:00",null,null,null,null,null,null,null,null,"13358","LSDO Exhibit Replacement","13358-LSDO Exhibit Replacement",null,null,null,"AS091601248","Ben Cookson (091601248) Retail Services - Information Technology","AS091601248-Ben Cookson (091601248) Retail Services - Information Technology","Active",null,null,null,null,null,null,null,null,null,null,null,"SC6901","SC6901||1700","1700","Accumulated Depreciation",null,"JE_PPE|JE_Override"]
[null,null,null,null,null,null,"AC00755","[ENG] EXPERIENTIAL LEARNING IT","AC00755-[ENG] EXPERIENTIAL LEARNING IT","Activity","FD03","Active","2025-03-17T16:11:52.563115+00:00",null,null,null,null,null,null,null,null,"13359","LSDO MMBIO Research Replacemen","13359-LSDO MMBIO Research Replacemen",null,null,null,"AS091888194","David Erickson (091888194) Life Sciences - Microbiology & Molecular Biology","AS091888194-David Erickson (091888194) Life Sciences - Microbiology & Molecular Biology","Active",null,null,null,null,null,null,null,null,null,null,null,"SC6901","SC6901||6900","6900","Equipment, Software, Library","Primary","All"]
[null,null,null,null,null,null,"AC00756","[ENG] Mechanical Engineering","AC00756-[ENG] Mechanical Engineering","Activity","FD01","Active","2025-03-17T16:11:52.563115+00:00",null,null,null,null,null,null,null,null,"13360","LSDO R.Robison Lab Replacement","13360-LSDO R.Robison Lab Replacement",null,null,null,"AS091896615","Patricia Febres Aragon (091896615) MTC Dining","AS091896615-Patricia Febres Aragon (091896615) MTC Dining","Active",null,null,null,null,null,null,null,null,null,null,null,"SC6901","SC6901||8000","8000","Depreciation",null,"JE_PPE|JE_Override"]
[null,null,null,null,null,null,"AC00757","[ENG] Mech Engr Compt Lab","AC00757-[ENG] Mech Engr Compt Lab","Activity","FD01","Active","2025-03-17T16:11:52.563115+00:00",null,null,null,null,null,null,null,null,"13361","LSDO K.O'Neill Lab Replacement","13361-LSDO K.O'Neill Lab Replacement",null,null,null,"AS092017795","Nicole Brady (092017795) Fine Arts & Communications - School of Music","AS092017795-Nicole Brady (092017795) Fine Arts & Communications - School of Music","Active",null,null,null,null,null,null,null,null,null,null,null,"SC6902","SC6902||1400","1400","Prepaid Expenses",null,"All"]
[null,null,null,null,null,null,"AC00758","[ENG] Spencer Magleby","AC00758-[ENG] Spencer Magleby","Activity","FD01","Active","2025-03-17T16:11:52.563115+00:00",null,null,null,null,null,null,null,null,"13362","LSDO Andean Crops Replacement","13362-LSDO Andean Crops Replacement",null,null,null,"AS092130398","Shawn Nevers (092130398) AVP - Dean, Clark Law School","AS092130398-Shawn Nevers (092130398) AVP - Dean, Clark Law School","Active",null,null,null,null,null,null,null,null,null,null,null,"SC6902","SC6902||1625","1625","Capital Equipment",null,"JE_PPE|JE_Override"]
[null,null,null,null,null,null,"AC00759","[ENG] Mechanical Engineering","AC00759-[ENG] Mechanical Engineering","Activity","FD01","Active","2025-03-17T16:11:52.563115+00:00",null,null,null,null,null,null,null,null,"13363","LSDO Environmental Toxicol Rep","13363-LSDO Environmental Toxicol Rep",null,null,null,"AS092360852","Rust Tippett (092360852) Law School","AS092360852-Rust Tippett (092360852) Law School","Active",null,null,null,null,null,null,null,null,null,null,null,"SC6902","SC6902||1650","1650","Construction in Progress",null,"JE_PPE|JE_Override"]
[null,null,null,null,null,null,"AC00760","[ENG] Am Soc of Mech Eng","AC00760-[ENG] Am Soc of Mech Eng","Activity","FD02","Active","2025-03-17T16:11:52.563115+00:00",null,null,null,null,null,null,null,null,"13400","LSPW Campus Visitor","13400-LSPW Campus Visitor",null,null,null,"AS092499390","Kristi Aase (092499390) CE BYU Online","AS092499390-Kristi Aase (092499390) CE BYU Online","Active",null,null,null,null,null,null,null,null,null,null,null,"SC6902","SC6902||1651","1651","Construction in Progress (Non-Workday Projects)",null,"All"]
[null,null,null,null,null,null,"AC00761","[ENG] Am Inst of Aero-Astr","AC00761-[ENG] Am Inst of Aero-Astr","Activity","FD02","Active","2025-03-17T16:11:52.563115+00:00",null,null,null,null,null,null,null,null,"13401","LSPW PWS Teach.& Resear. Labor","13401-LSPW PWS Teach.& Resear. Labor",null,null,null,"AS092583590","Diljeet Taylor (092583590) Athletics - Administration","AS092583590-Diljeet Taylor (092583590) Athletics - Administration","Active",null,null,null,null,null,null,null,null,null,null,null,"SC6902","SC6902||1700","1700","Accumulated Depreciation",null,"JE_PPE|JE_Override"]
[null,null,null,null,null,null,"AC00762","[ENG] Society of Women Engineers","AC00762-[ENG] Society of Women Engineers","Activity","FD02","Active","2025-03-17T16:11:52.563115+00:00",null,null,null,null,null,null,null,null,"13402","LSPW Microscopy Laboratory","13402-LSPW Microscopy Laboratory",null,null,null,"AS092942493","Quin Monson (092942493) FHSS - Political Science","AS092942493-Quin Monson (092942493) FHSS - Political Science","Active",null,null,null,null,null,null,null,null,null,null,null,"SC6902","SC6902||6900","6900","Equipment, Software, Library","Primary","All"]
[null,null,null,null,null,null,"AC00763","[ENG] Soc. of Automotive Eng. BYU","AC00763-[ENG] Soc. of Automotive Eng. BYU","Activity","FD02","Active","2025-03-17T16:11:52.563115+00:00",null,null,null,null,null,null,null,null,"13403","LSPW V-PW5V 2019 FORDSTruck/Mc","13403-LSPW V-PW5V 2019 FORDSTruck/Mc",null,null,null,"AS092988811","Jane Hinckley (092988811) Humanities - Comparative Arts & Letters","AS092988811-Jane Hinckley (092988811) Humanities - Comparative Arts & Letters","Active",null,null,null,null,null,null,null,null,null,null,null,"SC6902","SC6902||8000","8000","Depreciation",null,"JE_PPE|JE_Override"]
[null,null,null,null,null,null,"AC00764","[ENG] BYU Mechatronics Club","AC00764-[ENG] BYU Mechatronics Club","Activity","FD02","Active","2025-03-17T16:11:52.563115+00:00",null,null,null,null,null,null,null,null,"13404","LSPW V-PW8V 2014 GMC Sierra/PW","13404-LSPW V-PW8V 2014 GMC Sierra/PW",null,null,null,"AS093236604","Melissa Newberry (093236604) MSE  - Teacher Education","AS093236604-Melissa Newberry (093236604) MSE  - Teacher Education","Active",null,null,null,null,null,null,null,null,null,null,null,"SC6903","SC6903||1400","1400","Prepaid Expenses",null,"All"]
[null,null,null,null,null,null,"AC00765","[ENG] BYU Rocketry Club","AC00765-[ENG] BYU Rocketry Club","Activity","FD02","Active","2025-03-17T16:11:52.563115+00:00",null,null,null,null,null,null,null,null,"13405","LSPW V-PW9V 2013 TOY T.Truck/A","13405-LSPW V-PW9V 2013 TOY T.Truck/A",null,null,null,"AS093350422","Genie Lamb (093350422) Retail Services - MTC Store","AS093350422-Genie Lamb (093350422) Retail Services - MTC Store","Active",null,null,null,null,null,null,null,null,null,null,null,"SC6903","SC6903||1625","1625","Capital Equipment",null,"JE_PPE|JE_Override"]
[null,null,null,null,null,null,"AC00766","[ENG] BYU Drone Team","AC00766-[ENG] BYU Drone Team","Activity","FD02","Active","2025-03-17T16:11:52.563115+00:00",null,null,null,null,null,null,null,null,"13406","LSPW V-PW28 2016 ECHO TRLR/McM","13406-LSPW V-PW28 2016 ECHO TRLR/McM",null,null,null,"AS093396688","Mike MacKay (093396688) Religious Education - Church History & Doctrine","AS093396688-Mike MacKay (093396688) Religious Education - Church History & Doctrine","Active",null,null,null,null,null,null,null,null,null,null,null,"SC6903","SC6903||1650","1650","Construction in Progress",null,"JE_PPE|JE_Override"]
[null,null,null,null,null,null,"AC00767","[ENG] BYU Aeronautics Club","AC00767-[ENG] BYU Aeronautics Club","Activity","FD02","Active","2025-03-17T16:11:52.563115+00:00",null,null,null,null,null,null,null,null,"13407","LSPW V-PW34VV 2021 TOYTTruck/M","13407-LSPW V-PW34VV 2021 TOYTTruck/M",null,null,null,"AS093486263","LeAnna Florence Willmore (093486263) Fine Arts & Communications - School of Music","AS093486263-LeAnna Florence Willmore (093486263) Fine Arts & Communications - School of Music","Active",null,null,null,null,null,null,null,null,null,null,null,"SC6903","SC6903||1651","1651","Construction in Progress (Non-Workday Projects)",null,"All"]
[null,null,null,null,null,null,"AC00768","[ENG] OMEGA","AC00768-[ENG] OMEGA","Activity","FD02","Active","2025-03-17T16:11:52.563115+00:00",null,null,null,null,null,null,null,null,"13408","LSPW V-PW42 2013 Polaris ATV/A","13408-LSPW V-PW42 2013 Polaris ATV/A",null,null,null,"AS093516232","Kimberlee Quinn (093516232) CE FSY West","AS093516232-Kimberlee Quinn (093516232) CE FSY West","Active",null,null,null,null,null,null,null,null,null,null,null,"SC6903","SC6903||1700","1700","Accumulated Depreciation",null,"JE_PPE|JE_Override"]
[null,null,null,null,null,null,"AC00769","[ENG] BYU Supermileage Club","AC00769-[ENG] BYU Supermileage Club","Activity","FD02","Active","2025-03-17T16:11:52.563115+00:00",null,null,null,null,null,null,null,null,"13409","LSPW V-PW44 2018 HOND ATV/McMi","13409-LSPW V-PW44 2018 HOND ATV/McMi",null,null,null,"AS093594587","Chad Nielson (093594587) PF Flooring & Upholstery Shop","AS093594587-Chad Nielson (093594587) PF Flooring & Upholstery Shop","Active",null,null,null,null,null,null,null,null,null,null,null,"SC6903","SC6903||6900","6900","Equipment, Software, Library","Primary","All"]
[null,null,null,null,null,null,"AC00770","[ENG] BYU Engineering Design","AC00770-[ENG] BYU Engineering Design","Activity","FD02","Active","2025-03-17T16:11:52.563115+00:00",null,null,null,null,null,null,null,null,"13410","LSPW V-PW45 2018 HOND ATV/McMi","13410-LSPW V-PW45 2018 HOND ATV/McMi",null,null,null,"AS093654513","Bob Ridge (093654513) FHSS - Psychology","AS093654513-Bob Ridge (093654513) FHSS - Psychology","Active",null,null,null,null,null,null,null,null,null,null,null,"SC6903","SC6903||8000","8000","Depreciation",null,"JE_PPE|JE_Override"]
[null,null,null,null,null,null,"AC00771","[ENG] BYU Wind Energy Club","AC00771-[ENG] BYU Wind Energy Club","Activity","FD02","Active","2025-03-17T16:11:52.563115+00:00",null,null,null,null,null,null,null,null,"13411","LSPW PWS 480 Env Capstone: DA&","13411-LSPW PWS 480 Env Capstone: DA&",null,null,null,"AS093734228","Randy Corbett (093734228) Fine Arts & Communications - School of Music","AS093734228-Randy Corbett (093734228) Fine Arts & Communications - School of Music","Active",null,null,null,null,null,null,null,null,null,null,null,"SC6904","SC6904||1400","1400","Prepaid Expenses",null,"All"]
[null,null,null,null,null,null,"AC00772","[ENG] Biomedical Engineering Club","AC00772-[ENG] Biomedical Engineering Club","Activity","FD02","Active","2025-03-17T16:11:52.563115+00:00",null,null,null,null,null,null,null,null,"13412","LSPW De Santiago Lazalde, Josh","13412-LSPW De Santiago Lazalde, Josh",null,null,null,"AS093794797","Natalie Broekman (093794797) Athletics - Gymnastics","AS093794797-Natalie Broekman (093794797) Athletics - Gymnastics","Active",null,null,null,null,null,null,null,null,null,null,null,"SC6904","SC6904||1625","1625","Capital Equipment",null,"JE_PPE|JE_Override"]
[null,null,null,null,null,null,"AC00773","[ENG] Mech Engr Equip Repl","AC00773-[ENG] Mech Engr Equip Repl","Activity","FD03","Active","2025-03-17T16:11:52.563115+00:00",null,null,null,null,null,null,null,null,"13413","LSPW Vawdrey, Wendy","13413-LSPW Vawdrey, Wendy",null,null,null,"AS094053349","Kaika Cole (094053349) Fine Arts & Communications - Dance","AS094053349-Kaika Cole (094053349) Fine Arts & Communications - Dance","Active",null,null,null,null,null,null,null,null,null,null,null,"SC6904","SC6904||1650","1650","Construction in Progress",null,"JE_PPE|JE_Override"]
[null,null,null,null,null,null,"AC00774","[ENG] LL Howell-Univ Professorship","AC00774-[ENG] LL Howell-Univ Professorship","Activity","FD03","Active","2025-03-17T16:11:52.563115+00:00",null,null,null,null,null,null,null,null,"13414","LSPW Hall, Brianna Wells","13414-LSPW Hall, Brianna Wells",null,null,null,"AS094249479","Shaun Sessions (094249479) OIT Resource - CES Network Center (CNC )- Engineering","AS094249479-Shaun Sessions (094249479) OIT Resource - CES Network Center (CNC )- Engineering","Active",null,null,null,null,null,null,null,null,null,null,null,"SC6904","SC6904||1651","1651","Construction in Progress (Non-Workday Projects)",null,"All"]
[null,null,null,null,null,null,"AC00775","[ENG] Heat Transfer","AC00775-[ENG] Heat Transfer","Activity","FD03","Active","2025-03-17T16:11:52.563115+00:00",null,null,null,null,null,null,null,null,"13415","LSPW Tuckett/Wges/Experiential","13415-LSPW Tuckett/Wges/Experiential",null,null,null,"AS094297332","Melanie Cox (094297332) Religious Education - Church History & Doctrine","AS094297332-Melanie Cox (094297332) Religious Education - Church History & Doctrine","Active",null,null,null,null,null,null,null,null,null,null,null,"SC6904","SC6904||1700","1700","Accumulated Depreciation",null,"JE_PPE|JE_Override"]
[null,null,null,null,null,null,"AC00776","[ENG] Magleby Royalties","AC00776-[ENG] Magleby Royalties","Activity","FD03","Active","2025-03-17T16:11:52.563115+00:00",null,null,null,null,null,null,null,null,"13416","LSPW Vermeulen/Wges/Experienti","13416-LSPW Vermeulen/Wges/Experienti",null,null,null,"AS094488103","Jason Douglas (094488103) OIT Leadership - CES Architecture","AS094488103-Jason Douglas (094488103) OIT Leadership - CES Architecture","Active",null,null,null,null,null,null,null,null,null,null,null,"SC6904","SC6904||6900","6900","Equipment, Software, Library","Primary","All"]
[null,null,null,null,null,null,"AC00777","[ENG] Howell Study","AC00777-[ENG] Howell Study","Activity","FD03","Active","2025-03-17T16:11:52.563115+00:00",null,null,null,null,null,null,null,null,"13417","LSPW Calder, Bridget","13417-LSPW Calder, Bridget",null,null,null,"AS094493845","Chad Turley (094493845) CE Online Learning","AS094493845-Chad Turley (094493845) CE Online Learning","Active",null,null,null,null,null,null,null,null,null,null,null,"SC6904","SC6904||8000","8000","Depreciation",null,"JE_PPE|JE_Override"]
[null,null,null,null,null,null,"AC00778","[ENG] CD Sorensen-Duffin Fellowship","AC00778-[ENG] CD Sorensen-Duffin Fellowship","Activity","FD03","Active","2025-03-17T16:11:52.563115+00:00",null,null,null,null,null,null,null,null,"13418","LSPW Featherstone, Janilyn","13418-LSPW Featherstone, Janilyn",null,null,null,"AS094506491","Carrie Sandholtz (094506491) Humanities - Spanish & Portuguese","AS094506491-Carrie Sandholtz (094506491) Humanities - Spanish & Portuguese","Active",null,null,null,null,null,null,null,null,null,null,null,"SC6905","SC6905||1400","1400","Prepaid Expenses",null,"All"]
[null,null,null,null,null,null,"AC00779","[ENG] Batch Melter Modeling Sys - BW","AC00779-[ENG] Batch Melter Modeling Sys - BW","Activity","FD03","Active","2025-03-17T16:11:52.563115+00:00",null,null,null,null,null,null,null,null,"13419","LSPW Wilcox, Susan","13419-LSPW Wilcox, Susan",null,null,null,"AS094633696","Michael Pease (094633696) Student Wellness","AS094633696-Michael Pease (094633696) Student Wellness","Active",null,null,null,null,null,null,null,null,null,null,null,"SC6905","SC6905||1625","1625","Capital Equipment",null,"JE_PPE|JE_Override"]
[null,null,null,null,null,null,"AC00780","[ENG] DMAC R&D","AC00780-[ENG] DMAC R&D","Activity","FD03","Active","2025-03-17T16:11:52.563115+00:00",null,null,null,null,null,null,null,null,"13420","LSPW V-PW26 2020 A-FB TRLR/McM","13420-LSPW V-PW26 2020 A-FB TRLR/McM",null,null,null,"AS094715756","Shannon Mahana (094715756) Food To-Go","AS094715756-Shannon Mahana (094715756) Food To-Go","Active",null,null,null,null,null,null,null,null,null,null,null,"SC6905","SC6905||1650","1650","Construction in Progress",null,"JE_PPE|JE_Override"]
[null,null,null,null,null,null,"AC00781","[ENG] AFOSR UAV Carryover","AC00781-[ENG] AFOSR UAV Carryover","Activity","FD03","Active","2025-03-17T16:11:52.563115+00:00",null,null,null,null,null,null,null,null,"13421","LSPW Kent, Scott Dunlop","13421-LSPW Kent, Scott Dunlop",null,null,null,"AS095019039","Derryck Dunn (095019039) Retail Services - Product Acquisition","AS095019039-Derryck Dunn (095019039) Retail Services - Product Acquisition","Active",null,null,null,null,null,null,null,null,null,null,null,"SC6905","SC6905||1651","1651","Construction in Progress (Non-Workday Projects)",null,"All"]
[null,null,null,null,null,null,"AC00782","[ENG] Mattson Royalty Acct","AC00782-[ENG] Mattson Royalty Acct","Activity","FD03","Active","2025-03-17T16:11:52.563115+00:00",null,null,null,null,null,null,null,null,"13422","LSPW V-PW65 2019 YAMA GATV/McM","13422-LSPW V-PW65 2019 YAMA GATV/McM",null,null,null,"AS095061117","Laura Padilla-Walker (095061117) Academic Vice President","AS095061117-Laura Padilla-Walker (095061117) Academic Vice President","Active",null,null,null,null,null,null,null,null,null,null,null,"SC6905","SC6905||1700","1700","Accumulated Depreciation",null,"JE_PPE|JE_Override"]
[null,null,null,null,null,null,"AC00783","[ENG] C-UAS Membership Carryover","AC00783-[ENG] C-UAS Membership Carryover","Activity","FD03","Active","2025-03-17T16:11:52.563115+00:00",null,null,null,null,null,null,null,null,"13423","LSPW V-PW35 2005 GMC 8 Van/Abb","13423-LSPW V-PW35 2005 GMC 8 Van/Abb",null,null,null,"AS095115976","Jason Sorensen (095115976) CMS - Chemistry and Biochemistry","AS095115976-Jason Sorensen (095115976) CMS - Chemistry and Biochemistry","Active",null,null,null,null,null,null,null,null,null,null,null,"SC6905","SC6905||6900","6900","Equipment, Software, Library","Primary","All"]
[null,null,null,null,null,null,"AC00784","[ENG] T Munro Grad Mentoring Grant","AC00784-[ENG] T Munro Grad Mentoring Grant","Activity","FD03","Active","2025-03-17T16:11:52.563115+00:00",null,null,null,null,null,null,null,null,"13424","LSPW DB31 1979 Boat/Aanderud","13424-LSPW DB31 1979 Boat/Aanderud",null,null,null,"AS095284696","Cori Reynolds (095284696) AVP - Dean, College of Nursing","AS095284696-Cori Reynolds (095284696) AVP - Dean, College of Nursing","Active",null,null,null,null,null,null,null,null,null,null,null,"SC6905","SC6905||8000","8000","Depreciation",null,"JE_PPE|JE_Override"]
[null,null,null,null,null,null,"AC00785","[ENG] M Colton Grad Mentoring Grant","AC00785-[ENG] M Colton Grad Mentoring Grant","Activity","FD03","Active","2025-03-17T16:11:52.563115+00:00",null,null,null,null,null,null,null,null,"13425","LSPW Charles Redd Center","13425-LSPW Charles Redd Center",null,null,null,"AS095380991","Natalie H Miles (095380991) Brand & Creative","AS095380991-Natalie H Miles (095380991) Brand & Creative","Active",null,null,null,null,null,null,null,null,null,null,null,"SC6906","SC6906||1400","1400","Prepaid Expenses",null,"All"]
[null,null,null,null,null,null,"AC00786","[ENG] Design Collective Operation","AC00786-[ENG] Design Collective Operation","Activity","FD03","Active","2025-03-17T16:11:52.563115+00:00",null,null,null,null,null,null,null,null,"13426","LSPW V-PW21 2019 ECHO TRLR/Hop","13426-LSPW V-PW21 2019 ECHO TRLR/Hop",null,null,null,"AS095433130","Christopher Reeves (095433130) PMPC Administration","AS095433130-Christopher Reeves (095433130) PMPC Administration","Active",null,null,null,null,null,null,null,null,null,null,null,"SC6906","SC6906||1625","1625","Capital Equipment",null,"JE_PPE|JE_Override"]
[null,null,null,null,null,null,"AC00787","[ENG] A Bowden GMA","AC00787-[ENG] A Bowden GMA","Activity","FD03","Active","2025-03-17T16:11:52.563115+00:00",null,null,null,null,null,null,null,null,"13427","LSPW V-PW75 2018 SRTC/Larsen","13427-LSPW V-PW75 2018 SRTC/Larsen",null,null,null,"AS095509230","Michael Larson (095509230) FHSS - Psychology","AS095509230-Michael Larson (095509230) FHSS - Psychology","Active",null,null,null,null,null,null,null,null,null,null,null,"SC6906","SC6906||1650","1650","Construction in Progress",null,"JE_PPE|JE_Override"]
[null,null,null,null,null,null,"AC00788","[ENG] D Cook Graduate Studies","AC00788-[ENG] D Cook Graduate Studies","Activity","FD03","Active","2025-03-17T16:11:52.563115+00:00",null,null,null,null,null,null,null,null,"13428","LSPW V-PW18 2018 SRTC/Larsen","13428-LSPW V-PW18 2018 SRTC/Larsen",null,null,null,"AS095564660","Brandon Rogers (095564660) Humanities - Spanish & Portuguese","AS095564660-Brandon Rogers (095564660) Humanities - Spanish & Portuguese","Active",null,null,null,null,null,null,null,null,null,null,null,"SC6906","SC6906||1651","1651","Construction in Progress (Non-Workday Projects)",null,"All"]
[null,null,null,null,null,null,"AC00789","[ENG] J Blotter Techprep  Grant","AC00789-[ENG] J Blotter Techprep  Grant","Activity","FD03","Active","2025-03-17T16:11:52.563115+00:00",null,null,null,null,null,null,null,null,"13429","LSPW V-PW93 2016 UTV/Hansen N.","13429-LSPW V-PW93 2016 UTV/Hansen N.",null,null,null,"AS095654939","David Moore (095654939) Academic Vice President","AS095654939-David Moore (095654939) Academic Vice President","Active",null,null,null,null,null,null,null,null,null,null,null,"SC6906","SC6906||1700","1700","Accumulated Depreciation",null,"JE_PPE|JE_Override"]
[null,null,null,null,null,null,"AC00790","[ENG] J Blotter Grad Mentoring Grant","AC00790-[ENG] J Blotter Grad Mentoring Grant","Activity","FD03","Active","2025-03-17T16:11:52.563115+00:00",null,null,null,null,null,null,null,null,"13430","LSPW PWS 168 Personal Genomics","13430-LSPW PWS 168 Personal Genomics",null,null,null,"AS095690725","Christian McClellan (095690725) Student Wellness","AS095690725-Christian McClellan (095690725) Student Wellness","Active",null,null,null,null,null,null,null,null,null,null,null,"SC6906","SC6906||6900","6900","Equipment, Software, Library","Primary","All"]
[null,null,null,null,null,null,"AC00791","[ENG] J Blotter-IDR Grant","AC00791-[ENG] J Blotter-IDR Grant","Activity","FD03","Active","2025-03-17T16:11:52.563115+00:00",null,null,null,null,null,null,null,null,"13431","LSPW PWS 335 Comp. Animal Nutr","13431-LSPW PWS 335 Comp. Animal Nutr",null,null,null,"AS095763998","Caroline Potter (095763998) Helaman Halls","AS095763998-Caroline Potter (095763998) Helaman Halls","Active",null,null,null,null,null,null,null,null,null,null,null,"SC6906","SC6906||8000","8000","Depreciation",null,"JE_PPE|JE_Override"]
[null,null,null,null,null,null,"AC00792","[ENG] Capstone Surplus","AC00792-[ENG] Capstone Surplus","Activity","FD03","Active","2025-03-17T16:11:52.563115+00:00",null,null,null,null,null,null,null,null,"13432","LSPW PWS 155 Careers in Env. S","13432-LSPW PWS 155 Careers in Env. S",null,null,null,"AS095798542","Kevin Paxton (095798542) Risk Management and Safety","AS095798542-Kevin Paxton (095798542) Risk Management and Safety","Active",null,null,null,null,null,null,null,null,null,null,null,"SC6907","SC6907||1400","1400","Prepaid Expenses",null,"All"]
[null,null,null,null,null,null,"AC00793","[ENG] BYU Propulsion Research Team","AC00793-[ENG] BYU Propulsion Research Team","Activity","FD03","Active","2025-03-17T16:11:52.563115+00:00",null,null,null,null,null,null,null,null,"13433","LSPW PWS 481 S.Studies/Land.Ma","13433-LSPW PWS 481 S.Studies/Land.Ma",null,null,null,"AS095811804","Christian Tupou (095811804) Athletics - Football Sport Performance","AS095811804-Christian Tupou (095811804) Athletics - Football Sport Performance","Active",null,null,null,null,null,null,null,null,null,null,null,"SC6907","SC6907||1625","1625","Capital Equipment",null,"JE_PPE|JE_Override"]
[null,null,null,null,null,null,"AC00794","[ENG] Student  Leadership Grant","AC00794-[ENG] Student  Leadership Grant","Activity","FD03","Active","2025-03-17T16:11:52.563115+00:00",null,null,null,null,null,null,null,null,"13434","LSPW Nelson, Shannon","13434-LSPW Nelson, Shannon",null,null,null,"AS095964435","Tuckett Slade (095964435) Athletics - Baseball","AS095964435-Tuckett Slade (095964435) Athletics - Baseball","Active",null,null,null,null,null,null,null,null,null,null,null,"SC6907","SC6907||1650","1650","Construction in Progress",null,"JE_PPE|JE_Override"]
[null,null,null,null,null,null,"AC00795","[ENG] SAE Baja Competition","AC00795-[ENG] SAE Baja Competition","Activity","FD03","Active","2025-03-17T16:11:52.563115+00:00",null,null,null,null,null,null,null,null,"13435","LSPW HC Golf Extrav.&Career Fa","13435-LSPW HC Golf Extrav.&Career Fa",null,null,null,"AS096148278","Vianey Villamizar Gonzalez (096148278) CMS - Mathematics","AS096148278-Vianey Villamizar Gonzalez (096148278) CMS - Mathematics","Active",null,null,null,null,null,null,null,null,null,null,null,"SC6907","SC6907||1651","1651","Construction in Progress (Non-Workday Projects)",null,"All"]
[null,null,null,null,null,null,"AC00796","[ENG] Join Plastics - Nelson","AC00796-[ENG] Join Plastics - Nelson","Activity","FD03","Active","2025-03-17T16:11:52.563115+00:00",null,null,null,null,null,null,null,null,"13436","LSPW PWS 315 Conflict Resol. M","13436-LSPW PWS 315 Conflict Resol. M",null,null,null,"AS096234010","Eric Smith (096234010) OIT Portfolio - Business, Finance, & HR","AS096234010-Eric Smith (096234010) OIT Portfolio - Business, Finance, & HR","Active",null,null,null,null,null,null,null,null,null,null,null,"SC6907","SC6907||1700","1700","Accumulated Depreciation",null,"JE_PPE|JE_Override"]
[null,null,null,null,null,null,"AC00798","[ENG] EXPERIENTIAL LEARNING ME","AC00798-[ENG] EXPERIENTIAL LEARNING ME","Activity","FD03","Active","2025-03-17T16:11:52.563115+00:00",null,null,null,null,null,null,null,null,"13437","LSPW PWS 405 Envir. Chemistry","13437-LSPW PWS 405 Envir. Chemistry",null,null,null,"AS096289421","Mike Hill (096289421) Lee Library - R&L Library Instruction","AS096289421-Mike Hill (096289421) Lee Library - R&L Library Instruction","Active",null,null,null,null,null,null,null,null,null,null,null,"SC6907","SC6907||6900","6900","Equipment, Software, Library","Primary","All"]
[null,null,null,null,null,null,"AC00799","[ENG] Mentoring Grant D Maynes","AC00799-[ENG] Mentoring Grant D Maynes","Activity","FD03","Active","2025-03-17T16:11:52.563115+00:00",null,null,null,null,null,null,null,null,"13438","LSPW PWS 406 Envir. Chemistry","13438-LSPW PWS 406 Envir. Chemistry",null,null,null,"AS096380687","Shannon Brodie (096380687) Heritage Halls","AS096380687-Shannon Brodie (096380687) Heritage Halls","Active",null,null,null,null,null,null,null,null,null,null,null,"SC6907","SC6907||8000","8000","Depreciation",null,"JE_PPE|JE_Override"]
[null,null,null,null,null,null,"AC00800","[ENG] Faculty Mentoring 1","AC00800-[ENG] Faculty Mentoring 1","Activity","FD03","Active","2025-03-17T16:11:52.563115+00:00",null,null,null,null,null,null,null,null,"13439","LSPW PWS 513 Envir. Field Intr","13439-LSPW PWS 513 Envir. Field Intr",null,null,null,"AS096543172","Mark Davies (096543172) Dining Services","AS096543172-Mark Davies (096543172) Dining Services","Active",null,null,null,null,null,null,null,null,null,null,null,"SC6908","SC6908||1400","1400","Prepaid Expenses",null,"All"]
[null,null,null,null,null,null,"AC00801","[ENG] Faculty Mentoring 2","AC00801-[ENG] Faculty Mentoring 2","Activity","FD03","Active","2025-03-17T16:11:52.563115+00:00",null,null,null,null,null,null,null,null,"13440","LSPW PWS 586 Plant Cell Biolog","13440-LSPW PWS 586 Plant Cell Biolog",null,null,null,"AS097060501","Wendy Birmingham (097060501) FHSS - Dean's Office","AS097060501-Wendy Birmingham (097060501) FHSS - Dean's Office","Active",null,null,null,null,null,null,null,null,null,null,null,"SC6908","SC6908||6900","6900","Equipment, Software, Library","Primary","All"]
[null,null,null,null,null,null,"AC00802","[ENG] Faculty Mentoring 3","AC00802-[ENG] Faculty Mentoring 3","Activity","FD03","Active","2025-03-17T16:11:52.563115+00:00",null,null,null,null,null,null,null,null,"13441","LSPW PWS 634 Analysis of Popul","13441-LSPW PWS 634 Analysis of Popul",null,null,null,"AS097130319","Stephen Bay (097130319) Humanities - Comparative Arts & Letters","AS097130319-Stephen Bay (097130319) Humanities - Comparative Arts & Letters","Active",null,null,null,null,null,null,null,null,null,null,null,"SC6909","SC6909||1400","1400","Prepaid Expenses",null,"All"]
[null,null,null,null,null,null,"AC00803","[ENG] Manufacturing Engineering","AC00803-[ENG] Manufacturing Engineering","Activity","FD01","Active","2025-03-17T16:11:52.563115+00:00",null,null,null,null,null,null,null,null,"13442","LSPW PWS 660 Envir. Site Evalu","13442-LSPW PWS 660 Envir. Site Evalu",null,null,null,"AS097295280","Josh Stanfield (097295280) Risk Management & Safety - Environmental Health & Safety","AS097295280-Josh Stanfield (097295280) Risk Management & Safety - Environmental Health & Safety","Active",null,null,null,null,null,null,null,null,null,null,null,"SC6909","SC6909||1625","1625","Capital Equipment",null,"JE_PPE|JE_Override"]
[null,null,null,null,null,null,"AC00804","[ENG] Brent Strong","AC00804-[ENG] Brent Strong","Activity","FD01","Active","2025-03-17T16:11:52.563115+00:00",null,null,null,null,null,null,null,null,"13443","LSPW PWS 588/469 Metagenomics","13443-LSPW PWS 588/469 Metagenomics",null,null,null,"AS097305350","Sergei Burov (097305350) CE Software Development","AS097305350-Sergei Burov (097305350) CE Software Development","Active",null,null,null,null,null,null,null,null,null,null,null,"SC6909","SC6909||1700","1700","Accumulated Depreciation",null,"JE_PPE|JE_Override"]
[null,null,null,null,null,null,"AC00805","[ENG] Charles Harrell","AC00805-[ENG] Charles Harrell","Activity","FD01","Active","2025-03-17T16:11:52.563115+00:00",null,null,null,null,null,null,null,null,"13444","LSPW PWS 470 Genomic Analysis","13444-LSPW PWS 470 Genomic Analysis",null,null,null,"AS097527377","Lisa Hale (097527377) Humanities - English","AS097527377-Lisa Hale (097527377) Humanities - English","Active",null,null,null,null,null,null,null,null,null,null,null,"SC6909","SC6909||6900","6900","Equipment, Software, Library","Primary","All"]
[null,null,null,null,null,null,"AC00806","[ENG] Venture Factory","AC00806-[ENG] Venture Factory","Activity","FD02","Active","2025-03-17T16:11:52.563115+00:00",null,null,null,null,null,null,null,null,"13445","LSPW PWS 553 Restoration Ecolo","13445-LSPW PWS 553 Restoration Ecolo",null,null,null,"AS097734838","Alexandre Campos (097734838) PF Building Operations","AS097734838-Alexandre Campos (097734838) PF Building Operations","Active",null,null,null,null,null,null,null,null,null,null,null,"SC6909","SC6909||8000","8000","Depreciation",null,"JE_PPE|JE_Override"]
[null,null,null,null,null,null,"AC00807","[ENG] SAMPE-BYU St Chpt","AC00807-[ENG] SAMPE-BYU St Chpt","Activity","FD02","Active","2025-03-17T16:11:52.563115+00:00",null,null,null,null,null,null,null,null,"13447","LSPW V-PW63 2019 Honda ATV/Rob","13447-LSPW V-PW63 2019 Honda ATV/Rob",null,null,null,"AS097770556","Matt Curtis (097770556) CE Marketing & Outreach","AS097770556-Matt Curtis (097770556) CE Marketing & Outreach","Active",null,null,null,null,null,null,null,null,null,null,null,"SC6910","SC6910||1400","1400","Prepaid Expenses",null,"All"]
[null,null,null,null,null,null,"AC00808","[ENG] Society of Mfg Engineers","AC00808-[ENG] Society of Mfg Engineers","Activity","FD02","Active","2025-03-17T16:11:52.563115+00:00",null,null,null,null,null,null,null,null,"13448","LSPW V-PW13 2014 F Trailer/Lar","13448-LSPW V-PW13 2014 F Trailer/Lar",null,null,null,"AS097944718","Jon Hardy (097944718) Treasury Services","AS097944718-Jon Hardy (097944718) Treasury Services","Active",null,null,null,null,null,null,null,null,null,null,null,"SC6910","SC6910||1625","1625","Capital Equipment",null,"JE_PPE|JE_Override"]
[null,null,null,null,null,null,"AC00809","[ENG] Rapid Prototype Machine","AC00809-[ENG] Rapid Prototype Machine","Activity","FD02","Active","2025-03-17T16:11:52.563115+00:00",null,null,null,null,null,null,null,null,"13449","LSPW Alcaligenes Project/Aande","13449-LSPW Alcaligenes Project/Aande",null,null,null,"AS097983968","McKenzie Rees (097983968) MSB - Management","AS097983968-McKenzie Rees (097983968) MSB - Management","Active",null,null,null,null,null,null,null,null,null,null,null,"SC6910","SC6910||1650","1650","Construction in Progress",null,"JE_PPE|JE_Override"]
[null,null,null,null,null,null,"AC00810","[ENG] Waterjet Machine","AC00810-[ENG] Waterjet Machine","Activity","FD02","Active","2025-03-17T16:11:52.563115+00:00",null,null,null,null,null,null,null,null,"13450","LSPW Ranjana Pal","13450-LSPW Ranjana Pal",null,null,null,"AS098317976","Anton Bowden (098317976) College of Engineering - Mechanical Engineering","AS098317976-Anton Bowden (098317976) College of Engineering - Mechanical Engineering","Active",null,null,null,null,null,null,null,null,null,null,null,"SC6910","SC6910||1651","1651","Construction in Progress (Non-Workday Projects)",null,"All"]
[null,null,null,null,null,null,"AC00811","[ENG] BYU Women in Manufacturing","AC00811-[ENG] BYU Women in Manufacturing","Activity","FD02","Active","2025-03-17T16:11:52.563115+00:00",null,null,null,null,null,null,null,null,"13451","LSPW V-PW22 2019SnakeRTrail/Al","13451-LSPW V-PW22 2019SnakeRTrail/Al",null,null,null,"AS098330149","David Morris (098330149) Regulatory Accounting","AS098330149-David Morris (098330149) Regulatory Accounting","Active",null,null,null,null,null,null,null,null,null,null,null,"SC6910","SC6910||1700","1700","Accumulated Depreciation",null,"JE_PPE|JE_Override"]
[null,null,null,null,null,null,"AC00812","[ENG] Strong Residual","AC00812-[ENG] Strong Residual","Activity","FD03","Active","2025-03-17T16:11:52.563115+00:00",null,null,null,null,null,null,null,null,"13452","LSPW V-PW25 2019SnakeRTrailer/","13452-LSPW V-PW25 2019SnakeRTrailer/",null,null,null,"AS098407041","Pania Sagapolutele (098407041) CE FSY Travel","AS098407041-Pania Sagapolutele (098407041) CE FSY Travel","Active",null,null,null,null,null,null,null,null,null,null,null,"SC6910","SC6910||6900","6900","Equipment, Software, Library","Primary","All"]
[null,null,null,null,null,null,"AC00813","[ENG] Development Research","AC00813-[ENG] Development Research","Activity","FD03","Active","2025-03-17T16:11:52.563115+00:00",null,null,null,null,null,null,null,null,"13453","LSPW V-PW 1 2017 TOYT T.Truck/","13453-LSPW V-PW 1 2017 TOYT T.Truck/",null,null,null,"AS098504004","Taylor Wells (098504004) MSB - Information Systems","AS098504004-Taylor Wells (098504004) MSB - Information Systems","Active",null,null,null,null,null,null,null,null,null,null,null,"SC6910","SC6910||8000","8000","Depreciation",null,"JE_PPE|JE_Override"]
[null,null,null,null,null,null,"AC00814","[ENG] Residual-Cadsimulati","AC00814-[ENG] Residual-Cadsimulati","Activity","FD03","Active","2025-03-17T16:11:52.563115+00:00",null,null,null,null,null,null,null,null,"13454","LSPW V-PW2V 2021TOYT TRUCK/DEP","13454-LSPW V-PW2V 2021TOYT TRUCK/DEP",null,null,null,"AS098635396","David Robertson (098635396) CE Software Development","AS098635396-David Robertson (098635396) CE Software Development","Active",null,null,null,null,null,null,null,null,null,null,null,"SC6911","SC6911||1400","1400","Prepaid Expenses",null,"All"]
[null,null,null,null,null,null,"AC00815","[ENG] T Nelson-Contract Funds","AC00815-[ENG] T Nelson-Contract Funds","Activity","FD03","Active","2025-03-17T16:11:52.563115+00:00",null,null,null,null,null,null,null,null,"13455","LSPW V-PW2V 2017 TOYT.PTruck/P","13455-LSPW V-PW2V 2017 TOYT.PTruck/P",null,null,null,"AS098686472","Charles Tuua (098686472) MTC Dining","AS098686472-Charles Tuua (098686472) MTC Dining","Active",null,null,null,null,null,null,null,null,null,null,null,"SC6911","SC6911||1625","1625","Capital Equipment",null,"JE_PPE|JE_Override"]
[null,null,null,null,null,null,"AC00816","[ENG] AB Strong-GE Professorship","AC00816-[ENG] AB Strong-GE Professorship","Activity","FD03","Active","2025-03-17T16:11:52.563115+00:00",null,null,null,null,null,null,null,null,"13456","LSPW V-PW4V 2016 TOYT T.Truck/","13456-LSPW V-PW4V 2016 TOYT T.Truck/",null,null,null,"AS098946008","Spencer Waddell (098946008) Fine Arts & Communications - Dance","AS098946008-Spencer Waddell (098946008) Fine Arts & Communications - Dance","Active",null,null,null,null,null,null,null,null,null,null,null,"SC6911","SC6911||1700","1700","Accumulated Depreciation",null,"JE_PPE|JE_Override"]
[null,null,null,null,null,null,"AC00818","[ENG] EXPERIENTIAL LEARNING MET","AC00818-[ENG] EXPERIENTIAL LEARNING MET","Activity","FD03","Active","2025-03-17T16:11:52.563115+00:00",null,null,null,null,null,null,null,null,"13457","LSPW V-PW6V 2016 TOYT TC Truck","13457-LSPW V-PW6V 2016 TOYT TC Truck",null,null,null,"AS098989264","Brian Santiago (098989264) Advance VP - Director, Athletics","AS098989264-Brian Santiago (098989264) Advance VP - Director, Athletics","Active",null,null,null,null,null,null,null,null,null,null,null,"SC6911","SC6911||6900","6900","Equipment, Software, Library","Primary","All"]
[null,null,null,null,null,null,"AC00819","[HUM] Research Support","AC00819-[HUM] Research Support","Activity","FD01","Active","2025-03-17T16:11:52.563115+00:00",null,null,null,null,null,null,null,null,"13458","LSPW V-PW5V 2017 FORD Truck/La","13458-LSPW V-PW5V 2017 FORD Truck/La",null,null,null,"AS099054981","Marin Barney (099054981) Marketing and Production - Marketing Services","AS099054981-Marin Barney (099054981) Marketing and Production - Marketing Services","Active",null,null,null,null,null,null,null,null,null,null,null,"SC6911","SC6911||8000","8000","Depreciation",null,"JE_PPE|JE_Override"]
[null,null,null,null,null,null,"AC00820","[HUM] Humanities DMAC","AC00820-[HUM] Humanities DMAC","Activity","FD01","Active","2025-03-17T16:11:52.563115+00:00",null,null,null,null,null,null,null,null,"13459","LSPW V-PW7V 2017 TOYTTruck/St","13459-LSPW V-PW7V 2017 TOYTTruck/St",null,null,null,"AS099166466","Lauryn Wilde (099166466) Humanities WordCruncher Office","AS099166466-Lauryn Wilde (099166466) Humanities WordCruncher Office","Active",null,null,null,null,null,null,null,null,null,null,null,"SC6912","SC6912||1400","1400","Prepaid Expenses",null,"All"]
[null,null,null,null,null,null,"AC00821","[HUM] International Cinema","AC00821-[HUM] International Cinema","Activity","FD01","Active","2025-03-17T16:11:52.563115+00:00",null,null,null,null,null,null,null,null,"13460","LSPW V-PW9 2018 TOYT T.Truck/A","13460-LSPW V-PW9 2018 TOYT T.Truck/A",null,null,null,"AS099403160","Blaine Winters (099403160) AVP - Dean, College of Nursing","AS099403160-Blaine Winters (099403160) AVP - Dean, College of Nursing","Active",null,null,null,null,null,null,null,null,null,null,null,"SC6912","SC6912||6900","6900","Equipment, Software, Library","Primary","All"]
[null,null,null,null,null,null,"AC00822","[HUM] Foreign Language Teacher Summer Institute","AC00822-[HUM] Foreign Language Teacher Summer Institute","Activity","FD01","Active","2025-03-17T16:11:52.563115+00:00",null,null,null,null,null,null,null,null,"13461","LSPW V-PW4V 2018 TOYT T.Truck/","13461-LSPW V-PW4V 2018 TOYT T.Truck/",null,null,null,"AS099746864","Garrett Boden (099746864) Lee Library - R&L Library Instruction","AS099746864-Garrett Boden (099746864) Lee Library - R&L Library Instruction","Active",null,null,null,null,null,null,null,null,null,null,null,"SC6913","SC6913||1400","1400","Prepaid Expenses",null,"All"]
[null,null,null,null,null,null,"AC00824","[HUM] Humanities Copy Machines","AC00824-[HUM] Humanities Copy Machines","Activity","FD02","Active","2025-03-17T16:11:52.563115+00:00",null,null,null,null,null,null,null,null,"13462","LSPW V-PW6V 2018 TOYTTCTruck/L","13462-LSPW V-PW6V 2018 TOYTTCTruck/L",null,null,null,"AS099753917","Yina Patterson (099753917) Humanities - Asian & Near Eastern Languages","AS099753917-Yina Patterson (099753917) Humanities - Asian & Near Eastern Languages","Active",null,null,null,null,null,null,null,null,null,null,null,"SC6913","SC6913||1625","1625","Capital Equipment",null,"JE_PPE|JE_Override"]
[null,null,null,null,null,null,"AC00825","[HUM] Humanities Royalties","AC00825-[HUM] Humanities Royalties","Activity","FD03","Active","2025-03-17T16:11:52.563115+00:00",null,null,null,null,null,null,null,null,"13463","LSPW V-PW16 2017 UNK TRLR/Lars","13463-LSPW V-PW16 2017 UNK TRLR/Lars",null,null,null,"AS099967397","Tanner Eastmond (099967397) FHSS - Economics","AS099967397-Tanner Eastmond (099967397) FHSS - Economics","Active",null,null,null,null,null,null,null,null,null,null,null,"SC6913","SC6913||1700","1700","Accumulated Depreciation",null,"JE_PPE|JE_Override"]
[null,null,null,null,null,null,"AC00826","[HUM] Hum Faculty Research Grants","AC00826-[HUM] Hum Faculty Research Grants","Activity","FD03","Active","2025-03-17T16:11:52.563115+00:00",null,null,null,null,null,null,null,null,"13464","LSPW V-PW15 2012 JAY TRLR/McMi","13464-LSPW V-PW15 2012 JAY TRLR/McMi",null,null,null,"AS100036881","David Neilsen (100036881) CMS - Physics and Astronomy","AS100036881-David Neilsen (100036881) CMS - Physics and Astronomy","Active",null,null,null,null,null,null,null,null,null,null,null,"SC6913","SC6913||6900","6900","Equipment, Software, Library","Primary","All"]
[null,null,null,null,null,null,"AC00827","[HUM] Humanities Internship Program","AC00827-[HUM] Humanities Internship Program","Activity","FD03","Active","2025-03-17T16:11:52.563115+00:00",null,null,null,null,null,null,null,null,"13465","LSPW V-PW36 2020 CHV BOLT EV/A","13465-LSPW V-PW36 2020 CHV BOLT EV/A",null,null,null,"AS100411981","Sarah Alatorre (100411981) Alumni Aspen Grove","AS100411981-Sarah Alatorre (100411981) Alumni Aspen Grove","Active",null,null,null,null,null,null,null,null,null,null,null,"SC6913","SC6913||8000","8000","Depreciation",null,"JE_PPE|JE_Override"]
[null,null,null,null,null,null,"AC00829","[HUM] Humanities Exp Learning","AC00829-[HUM] Humanities Exp Learning","Activity","FD03","Active","2025-03-17T16:11:52.563115+00:00",null,null,null,null,null,null,null,null,"13466","LSPW V-PW59 2013 HOND ATV/Smit","13466-LSPW V-PW59 2013 HOND ATV/Smit",null,null,null,"AS100524882","Michael Biggerstaff (100524882) Religious Education - Ancient Scripture","AS100524882-Michael Biggerstaff (100524882) Religious Education - Ancient Scripture","Active",null,null,null,null,null,null,null,null,null,null,null,"SC6914","SC6914||1400","1400","Prepaid Expenses",null,"All"]
[null,null,null,null,null,null,"AC00830","[HUM] WSTAR Research Group","AC00830-[HUM] WSTAR Research Group","Activity","FD01","Active","2025-03-17T16:11:52.563115+00:00",null,null,null,null,null,null,null,null,"13467","LSPW V-PW60 2010 KUBO TRAC/Arr","13467-LSPW V-PW60 2010 KUBO TRAC/Arr",null,null,null,"AS100537744","Lia Saunders (100537744) Cougareat","AS100537744-Lia Saunders (100537744) Cougareat","Active",null,null,null,null,null,null,null,null,null,null,null,"SC6914","SC6914||1625","1625","Capital Equipment",null,"JE_PPE|JE_Override"]
[null,null,null,null,null,null,"AC00831","[HUM] Translation Studies Research Group","AC00831-[HUM] Translation Studies Research Group","Activity","FD01","Active","2025-03-17T16:11:52.563115+00:00",null,null,null,null,null,null,null,null,"13468","LSPW V-PW55 2015 Artic Cat ATV","13468-LSPW V-PW55 2015 Artic Cat ATV",null,null,null,"AS100575024","Lincoln Blumell (100575024) Religious Education - Ancient Scripture","AS100575024-Lincoln Blumell (100575024) Religious Education - Ancient Scripture","Active",null,null,null,null,null,null,null,null,null,null,null,"SC6914","SC6914||1650","1650","Construction in Progress",null,"JE_PPE|JE_Override"]
[null,null,null,null,null,null,"AC00833","[HUM] Black Music Research Group","AC00833-[HUM] Black Music Research Group","Activity","FD01","Active","2025-03-17T16:11:52.563115+00:00",null,null,null,null,null,null,null,null,"13469","LSPW V-PW56 2014 Honda ATV/Lar","13469-LSPW V-PW56 2014 Honda ATV/Lar",null,null,null,"AS100660268","Dustin Bruening (100660268) Life Sciences - Exercise Sciences","AS100660268-Dustin Bruening (100660268) Life Sciences - Exercise Sciences","Active",null,null,null,null,null,null,null,null,null,null,null,"SC6914","SC6914||1651","1651","Construction in Progress (Non-Workday Projects)",null,"All"]
[null,null,null,null,null,null,"AC00835","[HUM] Theology & Humanities Research Group","AC00835-[HUM] Theology & Humanities Research Group","Activity","FD01","Active","2025-03-17T16:11:52.563115+00:00",null,null,null,null,null,null,null,null,"13470","LSPW V-PW65 2007 Honda ATV/Lar","13470-LSPW V-PW65 2007 Honda ATV/Lar",null,null,null,"AS100851493","Chooi Low (100851493) Culinary Support Center","AS100851493-Chooi Low (100851493) Culinary Support Center","Active",null,null,null,null,null,null,null,null,null,null,null,"SC6914","SC6914||1700","1700","Accumulated Depreciation",null,"JE_PPE|JE_Override"]
[null,null,null,null,null,null,"AC00837","[HUM] Applied Humanities Research Group","AC00837-[HUM] Applied Humanities Research Group","Activity","FD01","Active","2025-03-17T16:11:52.563115+00:00",null,null,null,null,null,null,null,null,"13471","LSPW V-PW89 2000KubotaTrac/Mad","13471-LSPW V-PW89 2000KubotaTrac/Mad",null,null,null,"AS101152079","Charles White (101152079) PF Paint & Sign Shop","AS101152079-Charles White (101152079) PF Paint & Sign Shop","Active",null,null,null,null,null,null,null,null,null,null,null,"SC6914","SC6914||6900","6900","Equipment, Software, Library","Primary","All"]
[null,null,null,null,null,null,"AC00838","[HUM] Boarding School Stories Reasearch Group","AC00838-[HUM] Boarding School Stories Reasearch Group","Activity","FD01","Active","2025-03-17T16:11:52.563115+00:00",null,null,null,null,null,null,null,null,"13472","LSPW V-PW92V 1997 Sierra Trail","13472-LSPW V-PW92V 1997 Sierra Trail",null,null,null,"AS101219233","Kyoko Jensen (101219233) Humanities - Asian & Near Eastern Languages","AS101219233-Kyoko Jensen (101219233) Humanities - Asian & Near Eastern Languages","Active",null,null,null,null,null,null,null,null,null,null,null,"SC6914","SC6914||8000","8000","Depreciation",null,"JE_PPE|JE_Override"]
[null,null,null,null,null,null,"AC00839","[HUM] Greek & Latin Translation Research Group","AC00839-[HUM] Greek & Latin Translation Research Group","Activity","FD01","Active","2025-03-17T16:11:52.563115+00:00",null,null,null,null,null,null,null,null,"13473","LSPW V-PW58 2015 Honda ATV/Smi","13473-LSPW V-PW58 2015 Honda ATV/Smi",null,null,null,"AS101323358","Gary McGinn (101323358) FHSS - Geography","AS101323358-Gary McGinn (101323358) FHSS - Geography","Active",null,null,null,null,null,null,null,null,null,null,null,"SC6915","SC6915||1400","1400","Prepaid Expenses",null,"All"]
[null,null,null,null,null,null,"AC00840","[HUM] Editing & Publishing Research Group","AC00840-[HUM] Editing & Publishing Research Group","Activity","FD01","Active","2025-03-17T16:11:52.563115+00:00",null,null,null,null,null,null,null,null,"13474","LSPW V-PW66 2015 BIG TRLR/Arri","13474-LSPW V-PW66 2015 BIG TRLR/Arri",null,null,null,"AS101341694","Alyssa Erickson (101341694) CE Online Learning","AS101341694-Alyssa Erickson (101341694) CE Online Learning","Active",null,null,null,null,null,null,null,null,null,null,null,"SC6915","SC6915||1625","1625","Capital Equipment",null,"JE_PPE|JE_Override"]
[null,null,null,null,null,null,"AC00841","[HUM] Romantic & Victorian Research Group","AC00841-[HUM] Romantic & Victorian Research Group","Activity","FD01","Active","2025-03-17T16:11:52.563115+00:00",null,null,null,null,null,null,null,null,"13475","LSPW V-PW67 2012 BIG TRLR/Arri","13475-LSPW V-PW67 2012 BIG TRLR/Arri",null,null,null,"AS101365331","Kent Minson (101365331) Retail Services - Course Materials","AS101365331-Kent Minson (101365331) Retail Services - Course Materials","Active",null,null,null,null,null,null,null,null,null,null,null,"SC6915","SC6915||1650","1650","Construction in Progress",null,"JE_PPE|JE_Override"]
[null,null,null,null,null,null,"AC00842","[HUM] MARS Research Group","AC00842-[HUM] MARS Research Group","Activity","FD01","Active","2025-03-17T16:11:52.563115+00:00",null,null,null,null,null,null,null,null,"13476","LSPW V-PW82 2014 Polaris SNO/L","13476-LSPW V-PW82 2014 Polaris SNO/L",null,null,null,"AS101541513","Adam Stout (101541513) OIT Portfolio - Enterprise Data Management","AS101541513-Adam Stout (101541513) OIT Portfolio - Enterprise Data Management","Active",null,null,null,null,null,null,null,null,null,null,null,"SC6915","SC6915||1651","1651","Construction in Progress (Non-Workday Projects)",null,"All"]
[null,null,null,null,null,null,"AC00843","[HUM] Literature/Belf Symposium","AC00843-[HUM] Literature/Belf Symposium","Activity","FD03","Active","2025-03-17T16:11:52.563115+00:00",null,null,null,null,null,null,null,null,"13477","LSPW V-PW68 2016 Honda ATV/All","13477-LSPW V-PW68 2016 Honda ATV/All",null,null,null,"AS102016148","Kimberly Hao (102016148) Lee Library Administration - Collections Services","AS102016148-Kimberly Hao (102016148) Lee Library Administration - Collections Services","Active",null,null,null,null,null,null,null,null,null,null,null,"SC6915","SC6915||1700","1700","Accumulated Depreciation",null,"JE_PPE|JE_Override"]
[null,null,null,null,null,null,"AC00844","[HUM] Humanities Belonging","AC00844-[HUM] Humanities Belonging","Activity","FD01","Active","2025-03-17T16:11:52.563115+00:00",null,null,null,null,null,null,null,null,"13478","LSPW V-PW41 2016 YAMA ATV/Ande","13478-LSPW V-PW41 2016 YAMA ATV/Ande",null,null,null,"AS102434188","Clay Aucoin (102434188) Athletics - Football","AS102434188-Clay Aucoin (102434188) Athletics - Football","Active",null,null,null,null,null,null,null,null,null,null,null,"SC6915","SC6915||6900","6900","Equipment, Software, Library","Primary","All"]
[null,null,null,null,null,null,"AC00845","[HUM] Humanities Leadership Council","AC00845-[HUM] Humanities Leadership Council","Activity","FD02","Active","2025-03-17T16:11:52.563115+00:00",null,null,null,null,null,null,null,null,"13479","LSPWV-PW3V 2015 Ram Truck/Ande","13479-LSPWV-PW3V 2015 Ram Truck/Ande",null,null,null,"AS102715566","Jeff Goeders (102715566) College of Engineering - Electrical & Computer Engineering","AS102715566-Jeff Goeders (102715566) College of Engineering - Electrical & Computer Engineering","Active",null,null,null,null,null,null,null,null,null,null,null,"SC6915","SC6915||8000","8000","Depreciation",null,"JE_PPE|JE_Override"]
[null,null,null,null,null,null,"AC00846","[HUM] Translation & Localization Club","AC00846-[HUM] Translation & Localization Club","Activity","FD02","Active","2025-03-17T16:11:52.563115+00:00",null,null,null,null,null,null,null,null,"13480","LSPW V-PW20 2017 Ram Truck/Pet","13480-LSPW V-PW20 2017 Ram Truck/Pet",null,null,null,"AS103108258","Mike Moser (103108258) Athletics - Administration","AS103108258-Mike Moser (103108258) Athletics - Administration","Active",null,null,null,null,null,null,null,null,null,null,null,"SC6916","SC6916||1400","1400","Prepaid Expenses",null,"All"]
[null,null,null,null,null,null,"AC00847","[HUM] Medical Humanities Club","AC00847-[HUM] Medical Humanities Club","Activity","FD02","Active","2025-03-17T16:11:52.563115+00:00",null,null,null,null,null,null,null,null,"13481","LSPW V-PW32V 2017 TOYT Truck/P","13481-LSPW V-PW32V 2017 TOYT Truck/P",null,null,null,"AS103157340","Jason Christensen (103157340) Management Department","AS103157340-Jason Christensen (103157340) Management Department","Active",null,null,null,null,null,null,null,null,null,null,null,"SC6916","SC6916||6900","6900","Equipment, Software, Library","Primary","All"]
[null,null,null,null,null,null,"AC00848","[HUM] Humanities to Business Club","AC00848-[HUM] Humanities to Business Club","Activity","FD02","Active","2025-03-17T16:11:52.563115+00:00",null,null,null,null,null,null,null,null,"13482","LSPW V-PW80 2018 AL Trailer/An","13482-LSPW V-PW80 2018 AL Trailer/An",null,null,null,"AS103158501","Bruce Bailey (103158501) Life Sciences - Exercise Sciences","AS103158501-Bruce Bailey (103158501) Life Sciences - Exercise Sciences","Active",null,null,null,null,null,null,null,null,null,null,null,"SC6917","SC6917||1400","1400","Prepaid Expenses",null,"All"]
[null,null,null,null,null,null,"AC00849","[HUM] Chinese Club","AC00849-[HUM] Chinese Club","Activity","FD02","Active","2025-03-17T16:11:52.563115+00:00",null,null,null,null,null,null,null,null,"13483","LSPW V-PW31 Welding TRLR/Madse","13483-LSPW V-PW31 Welding TRLR/Madse",null,null,null,"AS103188899","Matt Finlayson (103188899) OIT Resource - AV Events","AS103188899-Matt Finlayson (103188899) OIT Resource - AV Events","Active",null,null,null,null,null,null,null,null,null,null,null,"SC6917","SC6917||1625","1625","Capital Equipment",null,"JE_PPE|JE_Override"]
[null,null,null,null,null,null,"AC00850","[HUM] Korean Language & Culture Club","AC00850-[HUM] Korean Language & Culture Club","Activity","FD02","Active","2025-03-17T16:11:52.563115+00:00",null,null,null,null,null,null,null,null,"13484","LSPW V-PW75 1980 Home Trailer/","13484-LSPW V-PW75 1980 Home Trailer/",null,null,null,"AS103862017","Nathanial Brown (103862017) OIT Resource - CES Network Center (CNC) - Installation","AS103862017-Nathanial Brown (103862017) OIT Resource - CES Network Center (CNC) - Installation","Active",null,null,null,null,null,null,null,null,null,null,null,"SC6917","SC6917||1650","1650","Construction in Progress",null,"JE_PPE|JE_Override"]
[null,null,null,null,null,null,"AC00851","[HUM] Japan Club","AC00851-[HUM] Japan Club","Activity","FD02","Active","2025-03-17T16:11:52.563115+00:00",null,null,null,null,null,null,null,null,"13485","LSPW V-PW31 2018 GMC STruck/PW","13485-LSPW V-PW31 2018 GMC STruck/PW",null,null,null,"AS103926048","Linda Chahal (103926048) PF Business Support and Compliance","AS103926048-Linda Chahal (103926048) PF Business Support and Compliance","Active",null,null,null,null,null,null,null,null,null,null,null,"SC6917","SC6917||1651","1651","Construction in Progress (Non-Workday Projects)",null,"All"]
[null,null,null,null,null,null,"AC00852","[HUM] Japanese Language Fair","AC00852-[HUM] Japanese Language Fair","Activity","FD02","Active","2025-03-17T16:11:52.563115+00:00",null,null,null,null,null,null,null,null,"13486","LSPW V-PW51 2018 YAMA ATV/Lars","13486-LSPW V-PW51 2018 YAMA ATV/Lars",null,null,null,"AS104186036","Huistean Kay (104186036) Food to Go Services","AS104186036-Huistean Kay (104186036) Food to Go Services","Active",null,null,null,null,null,null,null,null,null,null,null,"SC6917","SC6917||1700","1700","Accumulated Depreciation",null,"JE_PPE|JE_Override"]
[null,null,null,null,null,null,"AC00853","[HUM] Japan Student Assoc","AC00853-[HUM] Japan Student Assoc","Activity","FD02","Active","2025-03-17T16:11:52.563115+00:00",null,null,null,null,null,null,null,null,"13487","LSPW V-PW65V 2013 YAMA ATV/Lar","13487-LSPW V-PW65V 2013 YAMA ATV/Lar",null,null,null,"AS104461069","Vince Stroud (104461069) Athletics - Administration","AS104461069-Vince Stroud (104461069) Athletics - Administration","Active",null,null,null,null,null,null,null,null,null,null,null,"SC6917","SC6917||6900","6900","Equipment, Software, Library","Primary","All"]
[null,null,null,null,null,null,"AC00854","[HUM] BYU Hebrew Student Association","AC00854-[HUM] BYU Hebrew Student Association","Activity","FD02","Active","2025-03-17T16:11:52.563115+00:00",null,null,null,null,null,null,null,null,"13488","LSPW VRI/PWS Dep/Hansen&Hopkin","13488-LSPW VRI/PWS Dep/Hansen&Hopkin",null,null,null,"AS104510559","Byron Noel (104510559) Human Resource Business Partners","AS104510559-Byron Noel (104510559) Human Resource Business Partners","Active",null,null,null,null,null,null,null,null,null,null,null,"SC6917","SC6917||8000","8000","Depreciation",null,"JE_PPE|JE_Override"]
[null,null,null,null,null,null,"AC00855","[HUM] Arabic Club","AC00855-[HUM] Arabic Club","Activity","FD02","Active","2025-03-17T16:11:52.563115+00:00",null,null,null,null,null,null,null,null,"13489","LSPW VRI/Geography Dep/Jenson","13489-LSPW VRI/Geography Dep/Jenson",null,null,null,"AS104822464","Candilyn Newell (104822464) Careers & Experiential Learning - Career Services","AS104822464-Candilyn Newell (104822464) Careers & Experiential Learning - Career Services","Active",null,null,null,null,null,null,null,null,null,null,null,"SC6918","SC6918||1400","1400","Prepaid Expenses",null,"All"]
[null,null,null,null,null,null,"AC00856","[HUM] Nihongo Program","AC00856-[HUM] Nihongo Program","Activity","FD03","Active","2025-03-17T16:11:52.563115+00:00",null,null,null,null,null,null,null,null,"13490","LSPW VRI/Statistics Dep/Heaton","13490-LSPW VRI/Statistics Dep/Heaton",null,null,null,"AS105110905","Joe Belnap (105110905) OIT Resource - Application Engineering","AS105110905-Joe Belnap (105110905) OIT Resource - Application Engineering","Active",null,null,null,null,null,null,null,null,null,null,null,"SC6918","SC6918||1632","1632","Library Content",null,"JE_PPE|JE_Override"]
[null,null,null,null,null,null,"AC00857","[HUM] Ind Study Course Development","AC00857-[HUM] Ind Study Course Development","Activity","FD03","Active","2025-03-17T16:11:52.563115+00:00",null,null,null,null,null,null,null,null,"13491","LSPW Navajo Nation Pinyon R/St","13491-LSPW Navajo Nation Pinyon R/St",null,null,null,"AS105157189","Catherine Green (105157189) Catering Services","AS105157189-Catherine Green (105157189) Catering Services","Active",null,null,null,null,null,null,null,null,null,null,null,"SC6918","SC6918||1700","1700","Accumulated Depreciation",null,"JE_PPE|JE_Override"]
[null,null,null,null,null,null,"AC00859","[HUM] American Sign Language","AC00859-[HUM] American Sign Language","Activity","FD01","Active","2025-03-17T16:11:52.563115+00:00",null,null,null,null,null,null,null,null,"13492","LSPW Charles Redd Center/Smith","13492-LSPW Charles Redd Center/Smith",null,null,null,"AS105291972","Melissa Hawkley (105291972) Religious Education - Ancient Scripture","AS105291972-Melissa Hawkley (105291972) Religious Education - Ancient Scripture","Active",null,null,null,null,null,null,null,null,null,null,null,"SC6918","SC6918||6900","6900","Equipment, Software, Library","Primary","All"]
[null,null,null,null,null,null,"AC00860","[HUM] CLS-Measurement & Evaluation","AC00860-[HUM] CLS-Measurement & Evaluation","Activity","FD01","Active","2025-03-17T16:11:52.563115+00:00",null,null,null,null,null,null,null,null,"13493","LSPW SANT-Bears Ears Research-","13493-LSPW SANT-Bears Ears Research-",null,null,null,"AS105381758","Jon Ostenson (105381758) Humanities - English","AS105381758-Jon Ostenson (105381758) Humanities - English","Active",null,null,null,null,null,null,null,null,null,null,null,"SC6918","SC6918||8000","8000","Depreciation",null,"JE_PPE|JE_Override"]
[null,null,null,null,null,null,"AC00861","[HUM] CLS-Research & Proficiency Srvcs","AC00861-[HUM] CLS-Research & Proficiency Srvcs","Activity","FD01","Active","2025-03-17T16:11:52.563115+00:00",null,null,null,null,null,null,null,null,"13494","LSPW Kennedy Center","13494-LSPW Kennedy Center",null,null,null,"AS105603909","Karl Diether (105603909) MSB - Finance","AS105603909-Karl Diether (105603909) MSB - Finance","Active",null,null,null,null,null,null,null,null,null,null,null,"SC6919","SC6919||1400","1400","Prepaid Expenses",null,"All"]
[null,null,null,null,null,null,"AC00862","[HUM] CLS-Translation & Localization","AC00862-[HUM] CLS-Translation & Localization","Activity","FD01","Active","2025-03-17T16:11:52.563115+00:00",null,null,null,null,null,null,null,null,"13495","LSPW Agbiochem/Bacteria/Geary","13495-LSPW Agbiochem/Bacteria/Geary",null,null,null,"AS105622997","Roger Harrison (105622997) CMS - Chemistry and Biochemistry","AS105622997-Roger Harrison (105622997) CMS - Chemistry and Biochemistry","Active",null,null,null,null,null,null,null,null,null,null,null,"SC6919","SC6919||6900","6900","Equipment, Software, Library","Primary","All"]
[null,null,null,null,null,null,"AC00863","[HUM] CLS-Curriculum & Instruction","AC00863-[HUM] CLS-Curriculum & Instruction","Activity","FD01","Active","2025-03-17T16:11:52.563115+00:00",null,null,null,null,null,null,null,null,"13496","LSPW Wastewater SARS-COV-2/Aan","13496-LSPW Wastewater SARS-COV-2/Aan",null,null,null,"AS106135949","Mike Robinson (106135949) AVP - Dean, College of Nursing","AS106135949-Mike Robinson (106135949) AVP - Dean, College of Nursing","Active",null,null,null,null,null,null,null,null,null,null,null,"SC6920","SC6920||1400","1400","Prepaid Expenses",null,"All"]
[null,null,null,null,null,null,"AC00864","[HUM] CES-Global Education Support","AC00864-[HUM] CES-Global Education Support","Activity","FD01","Active","2025-03-17T16:11:52.563115+00:00",null,null,null,null,null,null,null,null,"13497","LSPW Charles Redd Center/St Cl","13497-LSPW Charles Redd Center/St Cl",null,null,null,"AS106247348","Charity Wyatt (106247348) AVP - Dean, Clark Law School","AS106247348-Charity Wyatt (106247348) AVP - Dean, Clark Law School","Active",null,null,null,null,null,null,null,null,null,null,null,"SC6920","SC6920||1638","1638","Media",null,"JE_PPE|JE_Override"]
[null,null,null,null,null,null,"AC00865","[HUM] American Sign Language Club","AC00865-[HUM] American Sign Language Club","Activity","FD02","Active","2025-03-17T16:11:52.563115+00:00",null,null,null,null,null,null,null,null,"13498","LSPW Charles Redd Center/Stewa","13498-LSPW Charles Redd Center/Stewa",null,null,null,"AS106323990","Craig Youngs (106323990) OIT Leadership - CES Security Mgmt","AS106323990-Craig Youngs (106323990) OIT Leadership - CES Security Mgmt","Active",null,null,null,null,null,null,null,null,null,null,null,"SC6920","SC6920||1700","1700","Accumulated Depreciation",null,"JE_PPE|JE_Override"]
[null,null,null,null,null,null,"AC00866","[HUM] CLS Graduate","AC00866-[HUM] CLS Graduate","Activity","FD01","Active","2025-03-17T16:11:52.563115+00:00",null,null,null,null,null,null,null,null,"13499","LSPW Charles Redd Center/Allph","13499-LSPW Charles Redd Center/Allph",null,null,null,"AS106463112","Kurt Sandholtz (106463112) MSB - Public Service & Ethics","AS106463112-Kurt Sandholtz (106463112) MSB - Public Service & Ethics","Active",null,null,null,null,null,null,null,null,null,null,null,"SC6920","SC6920||6900","6900","Equipment, Software, Library","Primary","All"]
[null,null,null,null,null,null,"AC00867","[HUM] WebCAPE","AC00867-[HUM] WebCAPE","Activity","FD03","Active","2025-03-17T16:11:52.563115+00:00",null,null,null,null,null,null,null,null,"13500","LSBM Director","13500-LSBM Director",null,null,null,"AS106484257","Robert Johns (106484257) CE FSY Central","AS106484257-Robert Johns (106484257) CE FSY Central","Active",null,null,null,null,null,null,null,null,null,null,null,"SC6920","SC6920||8000","8000","Depreciation",null,"JE_PPE|JE_Override"]
[null,null,null,null,null,null,"AC00868","[HUM] Mentored Learning-Ext Funded","AC00868-[HUM] Mentored Learning-Ext Funded","Activity","FD03","Active","2025-03-17T16:11:52.563115+00:00",null,null,null,null,null,null,null,null,"13501","LSBM Roberta Larsen","13501-LSBM Roberta Larsen",null,null,null,"AS106494435","Brent Feland (106494435) Life Sciences - Exercise Sciences","AS106494435-Brent Feland (106494435) Life Sciences - Exercise Sciences","Active",null,null,null,null,null,null,null,null,null,null,null,"SC6921","SC6921||1400","1400","Prepaid Expenses",null,"All"]
[null,null,null,null,null,null,"AC00869","[HUM] Eye Tracking Research Grant","AC00869-[HUM] Eye Tracking Research Grant","Activity","FD03","Active","2025-03-17T16:11:52.563115+00:00",null,null,null,null,null,null,null,null,"13502","LSBM Museum Bldg","13502-LSBM Museum Bldg",null,null,null,"AS106775394","Michael Davie (106775394) Athletics - Olympic Sport Medicine","AS106775394-Michael Davie (106775394) Athletics - Olympic Sport Medicine","Active",null,null,null,null,null,null,null,null,null,null,null,"SC6921","SC6921||1625","1625","Capital Equipment",null,"JE_PPE|JE_Override"]
[null,null,null,null,null,null,"AC00870","[HUM] Comp Adaptive Lang Test: CALT","AC00870-[HUM] Comp Adaptive Lang Test: CALT","Activity","FD03","Active","2025-03-17T16:11:52.563115+00:00",null,null,null,null,null,null,null,null,"13504","LSBM VLR4-Ford Dump Bed (gas o","13504-LSBM VLR4-Ford Dump Bed (gas o",null,null,null,"AS107037544","Melissa Gibbs (107037544) School of Communications","AS107037544-Melissa Gibbs (107037544) School of Communications","Active",null,null,null,null,null,null,null,null,null,null,null,"SC6921","SC6921||1650","1650","Construction in Progress",null,"JE_PPE|JE_Override"]
[null,null,null,null,null,null,"AC00871","[HUM] RM Lifelong Lang Learning -PIA","AC00871-[HUM] RM Lifelong Lang Learning -PIA","Activity","FD03","Active","2025-03-17T16:11:52.563115+00:00",null,null,null,null,null,null,null,null,"13505","LSBM Lytle vehicle maintenance","13505-LSBM Lytle vehicle maintenance",null,null,null,"AS107316947","Sarah Hall (107316947) Life Sciences - Public Health","AS107316947-Sarah Hall (107316947) Life Sciences - Public Health","Active",null,null,null,null,null,null,null,null,null,null,null,"SC6921","SC6921||1651","1651","Construction in Progress (Non-Workday Projects)",null,"All"]
[null,null,null,null,null,null,"AC00872","[HUM] Machine Learning&LASER-PIA2022","AC00872-[HUM] Machine Learning&LASER-PIA2022","Activity","FD03","Active","2025-03-17T16:11:52.563115+00:00",null,null,null,null,null,null,null,null,"13506","LSBM Packer, Ken","13506-LSBM Packer, Ken",null,null,null,"AS107371388","Lilibeth Blas (107371388) Cannon Center","AS107371388-Lilibeth Blas (107371388) Cannon Center","Active",null,null,null,null,null,null,null,null,null,null,null,"SC6921","SC6921||1700","1700","Accumulated Depreciation",null,"JE_PPE|JE_Override"]
[null,null,null,null,null,null,"AC00873","[HUM] CLS-ASL","AC00873-[HUM] CLS-ASL","Activity","FD03","Active","2025-03-17T16:11:52.563115+00:00",null,null,null,null,null,null,null,null,"13507","LSBM Hammari, Josh","13507-LSBM Hammari, Josh",null,null,null,"AS107489318","Hien Nguyen (107489318) HS Administration","AS107489318-Hien Nguyen (107489318) HS Administration","Active",null,null,null,null,null,null,null,null,null,null,null,"SC6921","SC6921||6900","6900","Equipment, Software, Library","Primary","All"]
[null,null,null,null,null,null,"AC00874","[HUM] CLS-GES","AC00874-[HUM] CLS-GES","Activity","FD03","Active","2025-03-17T16:11:52.563115+00:00",null,null,null,null,null,null,null,null,"13508","LSBM Kite, Taylor","13508-LSBM Kite, Taylor",null,null,null,"AS107495401","Michelle Davis (107495401) PF Grounds Maintenance","AS107495401-Michelle Davis (107495401) PF Grounds Maintenance","Active",null,null,null,null,null,null,null,null,null,null,null,"SC6921","SC6921||8000","8000","Depreciation",null,"JE_PPE|JE_Override"]
[null,null,null,null,null,null,"AC00875","[HUM] CLS-R&PS","AC00875-[HUM] CLS-R&PS","Activity","FD03","Active","2025-03-17T16:11:52.563115+00:00",null,null,null,null,null,null,null,null,"13509","LSBM Knight, Katy","13509-LSBM Knight, Katy",null,null,null,"AS107513872","Ryan Kerr (107513872) Special Events","AS107513872-Ryan Kerr (107513872) Special Events","Active",null,null,null,null,null,null,null,null,null,null,null,"SC6922","SC6922||1400","1400","Prepaid Expenses",null,"All"]
[null,null,null,null,null,null,"AC00877","[HUM] Language Houses","AC00877-[HUM] Language Houses","Activity","FD02","Active","2025-03-17T16:11:52.563115+00:00",null,null,null,null,null,null,null,null,"13510","LSBM Dallin Leota","13510-LSBM Dallin Leota",null,null,null,"AS107524522","Benjamin Bikman (107524522) Life Sciences - Cell Biology & Physiology","AS107524522-Benjamin Bikman (107524522) Life Sciences - Cell Biology & Physiology","Active",null,null,null,null,null,null,null,null,null,null,null,"SC6922","SC6922||6900","6900","Equipment, Software, Library","Primary","All"]
[null,null,null,null,null,null,"AC00879","[HUM] Italian Language House","AC00879-[HUM] Italian Language House","Activity","FD02","Active","2025-03-17T16:11:52.563115+00:00",null,null,null,null,null,null,null,null,"13511","LSBM VLR1 - 2013 GMC (gas only","13511-LSBM VLR1 - 2013 GMC (gas only",null,null,null,"AS107556193","Cindy Busard (107556193) BYU Store Support-Admin Service","AS107556193-Cindy Busard (107556193) BYU Store Support-Admin Service","Active",null,null,null,null,null,null,null,null,null,null,null,"SC6923","SC6923||1400","1400","Prepaid Expenses",null,"All"]
[null,null,null,null,null,null,"AC00880","[HUM] French Language House","AC00880-[HUM] French Language House","Activity","FD02","Active","2025-03-17T16:11:52.698977+00:00",null,null,null,null,null,null,null,null,"13512","LSBM Diesel Storage","13512-LSBM Diesel Storage",null,null,null,"AS107594780","Steve Liddle (107594780) MSB - Information Systems","AS107594780-Steve Liddle (107594780) MSB - Information Systems","Active",null,null,null,null,null,null,null,null,null,null,null,"SC6923","SC6923||1625","1625","Capital Equipment",null,"JE_PPE|JE_Override"]
[null,null,null,null,null,null,"AC00881","[HUM] Spanish Language House","AC00881-[HUM] Spanish Language House","Activity","FD02","Active","2025-03-17T16:11:52.698977+00:00",null,null,null,null,null,null,null,null,"13513","LSBM Petroleum (non-diesel) St","13513-LSBM Petroleum (non-diesel) St",null,null,null,"AS107742924","Linda Godfrey (107742924) International Vice President","AS107742924-Linda Godfrey (107742924) International Vice President","Active",null,null,null,null,null,null,null,null,null,null,null,"SC6923","SC6923||1700","1700","Accumulated Depreciation",null,"JE_PPE|JE_Override"]
[null,null,null,null,null,null,"AC00882","[HUM] Portuguese Language House","AC00882-[HUM] Portuguese Language House","Activity","FD02","Active","2025-03-17T16:11:52.698977+00:00",null,null,null,null,null,null,null,null,"13514","LSBM Janene Auger","13514-LSBM Janene Auger",null,null,null,"AS107796095","Ashley Pun Eveson (107796095) The Neal A. Maxwell Institute","AS107796095-Ashley Pun Eveson (107796095) The Neal A. Maxwell Institute","Active",null,null,null,null,null,null,null,null,null,null,null,"SC6923","SC6923||6900","6900","Equipment, Software, Library","Primary","All"]
[null,null,null,null,null,null,"AC00883","[HUM] Russian Language House","AC00883-[HUM] Russian Language House","Activity","FD02","Active","2025-03-17T16:11:52.698977+00:00",null,null,null,null,null,null,null,null,"13515","LSBM Schenck, Travis","13515-LSBM Schenck, Travis",null,null,null,"AS108275287","Jared Ludlow (108275287) AVP - Assistant AVP, Religious Publications","AS108275287-Jared Ludlow (108275287) AVP - Assistant AVP, Religious Publications","Active",null,null,null,null,null,null,null,null,null,null,null,"SC6923","SC6923||8000","8000","Depreciation",null,"JE_PPE|JE_Override"]
[null,null,null,null,null,null,"AC00884","[HUM] German Language House","AC00884-[HUM] German Language House","Activity","FD02","Active","2025-03-17T16:11:52.698977+00:00",null,null,null,null,null,null,null,null,"13516","LSBM Hadfied, Robert","13516-LSBM Hadfied, Robert",null,null,null,"AS108586581","Christian Asplund (108586581) Fine Arts & Communications - School of Music","AS108586581-Christian Asplund (108586581) Fine Arts & Communications - School of Music","Active",null,null,null,null,null,null,null,null,null,null,null,"SC6924","SC6924||1400","1400","Prepaid Expenses",null,"All"]
[null,null,null,null,null,null,"AC00885","[HUM] Japanese Language House","AC00885-[HUM] Japanese Language House","Activity","FD02","Active","2025-03-17T16:11:52.698977+00:00",null,null,null,null,null,null,null,null,"13517","LSBM Skidmore, Skip","13517-LSBM Skidmore, Skip",null,null,null,"AS108807243","Lindsay Von Forell (108807243) CE Controller","AS108807243-Lindsay Von Forell (108807243) CE Controller","Active",null,null,null,null,null,null,null,null,null,null,null,"SC6924","SC6924||1625","1625","Capital Equipment",null,"JE_PPE|JE_Override"]
[null,null,null,null,null,null,"AC00886","[HUM] Chinese Language House","AC00886-[HUM] Chinese Language House","Activity","FD02","Active","2025-03-17T16:11:52.698977+00:00",null,null,null,null,null,null,null,null,"13519","LSBM Baker, Randy","13519-LSBM Baker, Randy",null,null,null,"AS109639638","Brad Bailey (109639638) OIT Leadership - Enterprise Data Management and Finance","AS109639638-Brad Bailey (109639638) OIT Leadership - Enterprise Data Management and Finance","Active",null,null,null,null,null,null,null,null,null,null,null,"SC6924","SC6924||1650","1650","Construction in Progress",null,"JE_PPE|JE_Override"]
[null,null,null,null,null,null,"AC00887","[HUM] Hebrew Language House","AC00887-[HUM] Hebrew Language House","Activity","FD02","Active","2025-03-17T16:11:52.698977+00:00",null,null,null,null,null,null,null,null,"13520","LSBM Exhibits General","13520-LSBM Exhibits General",null,null,null,"AS109700517","Amanda Boden (109700517) CE FSY Central","AS109700517-Amanda Boden (109700517) CE FSY Central","Active",null,null,null,null,null,null,null,null,null,null,null,"SC6924","SC6924||1651","1651","Construction in Progress (Non-Workday Projects)",null,"All"]
[null,null,null,null,null,null,"AC00888","[HUM] Korean Language House","AC00888-[HUM] Korean Language House","Activity","FD02","Active","2025-03-17T16:11:52.698977+00:00",null,null,null,null,null,null,null,null,"13521","LSBM Citizen Science Center","13521-LSBM Citizen Science Center",null,null,null,"AS109830211","Jacquelyn Christensen (109830211) Humanities - Linguistics","AS109830211-Jacquelyn Christensen (109830211) Humanities - Linguistics","Active",null,null,null,null,null,null,null,null,null,null,null,"SC6924","SC6924||1700","1700","Accumulated Depreciation",null,"JE_PPE|JE_Override"]
[null,null,null,null,null,null,"AC00889","[HUM] Arabic Language House","AC00889-[HUM] Arabic Language House","Activity","FD02","Active","2025-03-17T16:11:52.698977+00:00",null,null,null,null,null,null,null,null,"13522","LSBM Date Night","13522-LSBM Date Night",null,null,null,"AS110311183","Timothy Mabey (110311183) Helaman Halls","AS110311183-Timothy Mabey (110311183) Helaman Halls","Active",null,null,null,null,null,null,null,null,null,null,null,"SC6924","SC6924||6900","6900","Equipment, Software, Library","Primary","All"]
[null,null,null,null,null,null,"AC00890","[HUM] Writing Center","AC00890-[HUM] Writing Center","Activity","FD01","Active","2025-03-17T16:11:52.698977+00:00",null,null,null,null,null,null,null,null,"13523","LSBM Education Other","13523-LSBM Education Other",null,null,null,"AS110533256","David Jones (110533256) PMPC Administration","AS110533256-David Jones (110533256) PMPC Administration","Active",null,null,null,null,null,null,null,null,null,null,null,"SC6924","SC6924||8000","8000","Depreciation",null,"JE_PPE|JE_Override"]
[null,null,null,null,null,null,"AC00891","[HUM] English Graduate","AC00891-[HUM] English Graduate","Activity","FD01","Active","2025-03-17T16:11:52.698977+00:00",null,null,null,null,null,null,null,null,"13524","LSBM Junior Naturalist","13524-LSBM Junior Naturalist",null,null,null,"AS110798678","Paige Despain (110798678) Office of Research Computing","AS110798678-Paige Despain (110798678) Office of Research Computing","Active",null,null,null,null,null,null,null,null,null,null,null,"SC6925","SC6925||1400","1400","Prepaid Expenses",null,"All"]
[null,null,null,null,null,null,"AC00892","[HUM] University Writing","AC00892-[HUM] University Writing","Activity","FD01","Active","2025-03-17T16:11:52.698977+00:00",null,null,null,null,null,null,null,null,"13525","LSBM Outreach","13525-LSBM Outreach",null,null,null,"AS110845320","Scott Murff (110845320) MSB - Management","AS110845320-Scott Murff (110845320) MSB - Management","Active",null,null,null,null,null,null,null,null,null,null,null,"SC6925","SC6925||6900","6900","Equipment, Software, Library","Primary","All"]
[null,null,null,null,null,null,"AC00893","[HUM] Writing Across the Curriculum","AC00893-[HUM] Writing Across the Curriculum","Activity","FD01","Active","2025-03-17T16:11:52.698977+00:00",null,null,null,null,null,null,null,null,"13526","LSBM Educ. Collection Rental","13526-LSBM Educ. Collection Rental",null,null,null,"AS110874617","Ben Drewry (110874617) Careers & Experiential Learning - Career Services","AS110874617-Ben Drewry (110874617) Careers & Experiential Learning - Career Services","Active",null,null,null,null,null,null,null,null,null,null,null,"SC6926","SC6926||1400","1400","Prepaid Expenses",null,"All"]
[null,null,null,null,null,null,"AC00894","[HUM] Writing Fellows","AC00894-[HUM] Writing Fellows","Activity","FD01","Active","2025-03-17T16:11:52.698977+00:00",null,null,null,null,null,null,null,null,"13527","LSBM Nature Experienceships","13527-LSBM Nature Experienceships",null,null,null,"AS111308486","Hattie Norcross Eppel (111308486) Title IX","AS111308486-Hattie Norcross Eppel (111308486) Title IX","Active",null,null,null,null,null,null,null,null,null,null,null,"SC6926","SC6926||1625","1625","Capital Equipment",null,"JE_PPE|JE_Override"]
[null,null,null,null,null,null,"AC00895","[HUM] Inscape Magazine","AC00895-[HUM] Inscape Magazine","Activity","FD02","Active","2025-03-17T16:11:52.698977+00:00",null,null,null,null,null,null,null,null,"13528","LSBM Darwin Day","13528-LSBM Darwin Day",null,null,null,"AS111742893","Carina Alleman (111742893) AVP - Dean, Family Home Social Science (FHSS)","AS111742893-Carina Alleman (111742893) AVP - Dean, Family Home Social Science (FHSS)","Active",null,null,null,null,null,null,null,null,null,null,null,"SC6926","SC6926||1700","1700","Accumulated Depreciation",null,"JE_PPE|JE_Override"]
[null,null,null,null,null,null,"AC00896","[HUM] English Society","AC00896-[HUM] English Society","Activity","FD02","Active","2025-03-17T16:11:52.698977+00:00",null,null,null,null,null,null,null,null,"13529","LSBM Bio-Box Rental","13529-LSBM Bio-Box Rental",null,null,null,"AS111858564","Emma Warr (111858564) Wilkinson Center","AS111858564-Emma Warr (111858564) Wilkinson Center","Active",null,null,null,null,null,null,null,null,null,null,null,"SC6926","SC6926||6900","6900","Equipment, Software, Library","Primary","All"]
[null,null,null,null,null,null,"AC00897","[HUM] English Graduate Society","AC00897-[HUM] English Graduate Society","Activity","FD02","Active","2025-03-17T16:11:52.698977+00:00",null,null,null,null,null,null,null,null,"13530","LSBM Biology Boot Camp","13530-LSBM Biology Boot Camp",null,null,null,"AS111965440","Carri Jenkins (111965440) Advancement Vice President","AS111965440-Carri Jenkins (111965440) Advancement Vice President","Active",null,null,null,null,null,null,null,null,null,null,null,"SC6926","SC6926||8000","8000","Depreciation",null,"JE_PPE|JE_Override"]
[null,null,null,null,null,null,"AC00898","[HUM] Central Utah Writing Project","AC00898-[HUM] Central Utah Writing Project","Activity","FD02","Active","2025-03-17T16:11:52.698977+00:00",null,null,null,null,null,null,null,null,"13531","LSBM Trivia Night","13531-LSBM Trivia Night",null,null,null,"AS112047555","Bruce Money (112047555) MSB - Marketing & Global Supply Chain","AS112047555-Bruce Money (112047555) MSB - Marketing & Global Supply Chain","Active",null,null,null,null,null,null,null,null,null,null,null,"SC6927","SC6927||1400","1400","Prepaid Expenses",null,"All"]
[null,null,null,null,null,null,"AC00899","[HUM] Fourth Genre","AC00899-[HUM] Fourth Genre","Activity","FD02","Active","2025-03-17T16:11:52.698977+00:00",null,null,null,null,null,null,null,null,"13532","LSBM Critter Camp","13532-LSBM Critter Camp",null,null,null,"AS112181328","Paula Moore (112181328) MSB - Dean's Office, Marriott School of Business","AS112181328-Paula Moore (112181328) MSB - Dean's Office, Marriott School of Business","Active",null,null,null,null,null,null,null,null,null,null,null,"SC6927","SC6927||1625","1625","Capital Equipment",null,"JE_PPE|JE_Override"]
[null,null,null,null,null,null,"AC00900","[HUM] Writing 150 Royalties","AC00900-[HUM] Writing 150 Royalties","Activity","FD03","Active","2025-03-17T16:11:52.698977+00:00",null,null,null,null,null,null,null,null,"13533","LSBM Clark, Shawn-Research","13533-LSBM Clark, Shawn-Research",null,null,null,"AS113098638","Megan Sanborn Jones (113098638) AVP - Dean, Fine Arts and Communications","AS113098638-Megan Sanborn Jones (113098638) AVP - Dean, Fine Arts and Communications","Active",null,null,null,null,null,null,null,null,null,null,null,"SC6927","SC6927||1650","1650","Construction in Progress",null,"JE_PPE|JE_Override"]
[null,null,null,null,null,null,"AC00901","[HUM] English Internship Program","AC00901-[HUM] English Internship Program","Activity","FD03","Active","2025-03-17T16:11:52.698977+00:00",null,null,null,null,null,null,null,null,"13534","LSBM Baumann, Richard-Research","13534-LSBM Baumann, Richard-Research",null,null,null,"AS113324354","Rebecca Lewis (113324354) Fine Arts & Communications - Dance","AS113324354-Rebecca Lewis (113324354) Fine Arts & Communications - Dance","Active",null,null,null,null,null,null,null,null,null,null,null,"SC6927","SC6927||1651","1651","Construction in Progress (Non-Workday Projects)",null,"All"]
[null,null,null,null,null,null,"AC00902","[HUM] Graduate Studies (TR)","AC00902-[HUM] Graduate Studies (TR)","Activity","FD03","Active","2025-03-17T16:11:52.698977+00:00",null,null,null,null,null,null,null,null,"13535","LSBM Game Night","13535-LSBM Game Night",null,null,null,"AS113348858","Mark Epling (113348858) OIT Leadership - CES Architecture","AS113348858-Mark Epling (113348858) OIT Leadership - CES Architecture","Active",null,null,null,null,null,null,null,null,null,null,null,"SC6927","SC6927||1700","1700","Accumulated Depreciation",null,"JE_PPE|JE_Override"]
[null,null,null,null,null,null,"AC00903","[HUM] Grad Studies Mentor Grant","AC00903-[HUM] Grad Studies Mentor Grant","Activity","FD03","Active","2025-03-17T16:11:52.698977+00:00",null,null,null,null,null,null,null,null,"13536","LSBM Family Home Evening","13536-LSBM Family Home Evening",null,null,null,"AS113451975","Scott Baldwin (113451975) FHSS - Psychology","AS113451975-Scott Baldwin (113451975) FHSS - Psychology","Active",null,null,null,null,null,null,null,null,null,null,null,"SC6927","SC6927||6900","6900","Equipment, Software, Library","Primary","All"]
[null,null,null,null,null,null,"AC00904","[HUM] Advanced Writing Royalties","AC00904-[HUM] Advanced Writing Royalties","Activity","FD03","Active","2025-03-17T16:11:52.698977+00:00",null,null,null,null,null,null,null,null,"13537","LSBM Whiting, Mike-Insect-Rese","13537-LSBM Whiting, Mike-Insect-Rese",null,null,null,"AS113453562","Michael Pack (113453562) Sorensen Center","AS113453562-Michael Pack (113453562) Sorensen Center","Active",null,null,null,null,null,null,null,null,null,null,null,"SC6927","SC6927||8000","8000","Depreciation",null,"JE_PPE|JE_Override"]
[null,null,null,null,null,null,"AC00906","[HUM] English Dept Sunshine Fund","AC00906-[HUM] English Dept Sunshine Fund","Activity","FD07","Active","2025-03-17T16:11:52.698977+00:00",null,null,null,null,null,null,null,null,"13539","LSBM Rogers, Duke-Research","13539-LSBM Rogers, Duke-Research",null,null,null,"AS113777939","Jeff Batt (113777939) MSE - Instructional Psychology & Technology","AS113777939-Jeff Batt (113777939) MSE - Instructional Psychology & Technology","Active",null,null,null,null,null,null,null,null,null,null,null,"SC6928","SC6928||1400","1400","Prepaid Expenses",null,"All"]
[null,null,null,null,null,null,"AC00907","[HUM] Italian Club","AC00907-[HUM] Italian Club","Activity","FD02","Active","2025-03-17T16:11:52.698977+00:00",null,null,null,null,null,null,null,null,"13540","LSBM Utah Flora 5th Edition","13540-LSBM Utah Flora 5th Edition",null,null,null,"AS113815654","Shane Wright (113815654) International VP","AS113815654-Shane Wright (113815654) International VP","Active",null,null,null,null,null,null,null,null,null,null,null,"SC6928","SC6928||1625","1625","Capital Equipment",null,"JE_PPE|JE_Override"]
[null,null,null,null,null,null,"AC00908","[HUM] Pi Delta Phi","AC00908-[HUM] Pi Delta Phi","Activity","FD02","Active","2025-03-17T16:11:52.698977+00:00",null,null,null,null,null,null,null,null,"13542","LSBM Whiting, Alison-Research","13542-LSBM Whiting, Alison-Research",null,null,null,"AS113878491","Scott McClellan (113878491) Facilities Planning and Design - Campus Projects","AS113878491-Scott McClellan (113878491) Facilities Planning and Design - Campus Projects","Active",null,null,null,null,null,null,null,null,null,null,null,"SC6928","SC6928||1650","1650","Construction in Progress",null,"JE_PPE|JE_Override"]
[null,null,null,null,null,null,"AC00909","[HUM] The French Club","AC00909-[HUM] The French Club","Activity","FD02","Active","2025-03-17T16:11:52.698977+00:00",null,null,null,null,null,null,null,null,"13543","LSBM Bybee, Seth-Research","13543-LSBM Bybee, Seth-Research",null,null,null,"AS114057097","Catherine Pavia (114057097) Humanities - English","AS114057097-Catherine Pavia (114057097) Humanities - English","Active",null,null,null,null,null,null,null,null,null,null,null,"SC6928","SC6928||1651","1651","Construction in Progress (Non-Workday Projects)",null,"All"]
[null,null,null,null,null,null,"AC00910","[HUM] French Language Fair","AC00910-[HUM] French Language Fair","Activity","FD02","Active","2025-03-17T16:11:52.698977+00:00",null,null,null,null,null,null,null,null,"13544","LSBM Adams, Byron-Research","13544-LSBM Adams, Byron-Research",null,null,null,"AS114158363","Jonathan Wade (114158363) Humanities - Spanish & Portuguese","AS114158363-Jonathan Wade (114158363) Humanities - Spanish & Portuguese","Active",null,null,null,null,null,null,null,null,null,null,null,"SC6928","SC6928||1700","1700","Accumulated Depreciation",null,"JE_PPE|JE_Override"]
[null,null,null,null,null,null,"AC00911","[HUM] NCFS","AC00911-[HUM] NCFS","Activity","FD02","Active","2025-03-17T16:11:52.698977+00:00",null,null,null,null,null,null,null,null,"13546","LSBM Shiozawa, Dennis-Research","13546-LSBM Shiozawa, Dennis-Research",null,null,null,"AS114164260","Matthew Owens (114164260) PF Air Conditioning Shop","AS114164260-Matthew Owens (114164260) PF Air Conditioning Shop","Active",null,null,null,null,null,null,null,null,null,null,null,"SC6928","SC6928||6900","6900","Equipment, Software, Library","Primary","All"]
[null,null,null,null,null,null,"AC00912","[HUM] Their Story is Our Story","AC00912-[HUM] Their Story is Our Story","Activity","FD02","Active","2025-03-17T16:11:52.698977+00:00",null,null,null,null,null,null,null,null,"13547","LSBM Johnson, J - Fishes-Resea","13547-LSBM Johnson, J - Fishes-Resea",null,null,null,"AS114204612","Michelle Prososki","AS114204612-Michelle Prososki","Active",null,null,null,null,null,null,null,null,null,null,null,"SC6928","SC6928||8000","8000","Depreciation",null,"JE_PPE|JE_Override"]
[null,null,null,null,null,null,"AC00913","[HUM] French Language Experience","AC00913-[HUM] French Language Experience","Activity","FD03","Active","2025-03-17T16:11:52.698977+00:00",null,null,null,null,null,null,null,null,"13549","LSBM Museum Remodel","13549-LSBM Museum Remodel",null,null,null,"AS114287004","Merry Bird (114287004) PF Building Operations","AS114287004-Merry Bird (114287004) PF Building Operations","Active",null,null,null,null,null,null,null,null,null,null,null,"SC6929","SC6929||1400","1400","Prepaid Expenses",null,"All"]
[null,null,null,null,null,null,"AC00914","[HUM] Graduate Studies (TR)","AC00914-[HUM] Graduate Studies (TR)","Activity","FD03","Active","2025-03-17T16:11:52.698977+00:00",null,null,null,null,null,null,null,null,"13550","LSBM CITES","13550-LSBM CITES",null,null,null,"AS114308799","Joe Merrill (114308799) Retail Services - General Administration","AS114308799-Joe Merrill (114308799) Retail Services - General Administration","Active",null,null,null,null,null,null,null,null,null,null,null,"SC6929","SC6929||1625","1625","Capital Equipment",null,"JE_PPE|JE_Override"]
[null,null,null,null,null,null,"AC00916","[HUM] French & Italian Sunshine Fund","AC00916-[HUM] French & Italian Sunshine Fund","Activity","FD07","Active","2025-03-17T16:11:52.698977+00:00",null,null,null,null,null,null,null,null,"13551","LSBM Probst, Taylor-Research","13551-LSBM Probst, Taylor-Research",null,null,null,"AS114478265","Taylor Burrell (114478265) PF Air Conditioning Shop","AS114478265-Taylor Burrell (114478265) PF Air Conditioning Shop","Active",null,null,null,null,null,null,null,null,null,null,null,"SC6929","SC6929||1650","1650","Construction in Progress",null,"JE_PPE|JE_Override"]
[null,null,null,null,null,null,"AC00917","[HUM] German Language Fair","AC00917-[HUM] German Language Fair","Activity","FD02","Active","2025-03-17T16:11:52.698977+00:00",null,null,null,null,null,null,null,null,"13553","LSBM Lichens Curration","13553-LSBM Lichens Curration",null,null,null,"AS114545215","Brent Barson (114545215) AVP - Dean, Fine Arts and Communications","AS114545215-Brent Barson (114545215) AVP - Dean, Fine Arts and Communications","Active",null,null,null,null,null,null,null,null,null,null,null,"SC6929","SC6929||1651","1651","Construction in Progress (Non-Workday Projects)",null,"All"]
[null,null,null,null,null,null,"AC00918","[HUM] The German Society","AC00918-[HUM] The German Society","Activity","FD02","Active","2025-03-17T16:11:52.698977+00:00",null,null,null,null,null,null,null,null,"13554","LSBM Data Basing - Leigh","13554-LSBM Data Basing - Leigh",null,null,null,"AS114817681","Christopher Burgess (114817681) Athletics - Men's Basketball","AS114817681-Christopher Burgess (114817681) Athletics - Men's Basketball","Active",null,null,null,null,null,null,null,null,null,null,null,"SC6929","SC6929||1700","1700","Accumulated Depreciation",null,"JE_PPE|JE_Override"]
[null,null,null,null,null,null,"AC00919","[HUM] Russian Club","AC00919-[HUM] Russian Club","Activity","FD02","Active","2025-03-17T16:11:52.698977+00:00",null,null,null,null,null,null,null,null,"13555","LSBM Data Basing-Mike","13555-LSBM Data Basing-Mike",null,null,null,"AS115006992","Pam Dansie (115006992) PF Building Operations","AS115006992-Pam Dansie (115006992) PF Building Operations","Active",null,null,null,null,null,null,null,null,null,null,null,"SC6929","SC6929||6900","6900","Equipment, Software, Library","Primary","All"]
[null,null,null,null,null,null,"AC00920","[HUM] German Honor Society","AC00920-[HUM] German Honor Society","Activity","FD02","Active","2025-03-17T16:11:52.698977+00:00",null,null,null,null,null,null,null,null,"13557","LSBM Johnson, Leigh-Research","13557-LSBM Johnson, Leigh-Research",null,null,null,"AS115055430","Amy Foote (115055430) General Accounting","AS115055430-Amy Foote (115055430) General Accounting","Active",null,null,null,null,null,null,null,null,null,null,null,"SC6929","SC6929||8000","8000","Depreciation",null,"JE_PPE|JE_Override"]
[null,null,null,null,null,null,"AC00921","[HUM] Russian Honor Society","AC00921-[HUM] Russian Honor Society","Activity","FD02","Active","2025-03-17T16:11:52.698977+00:00",null,null,null,null,null,null,null,null,"13558","LSBM Johnson, Robert-Research","13558-LSBM Johnson, Robert-Research",null,null,null,"AS115130085","Courtney Stephens (115130085) CE IS Course Dev - World Languages","AS115130085-Courtney Stephens (115130085) CE IS Course Dev - World Languages","Active",null,null,null,null,null,null,null,null,null,null,null,"SC6930","SC6930||1400","1400","Prepaid Expenses",null,"All"]
[null,null,null,null,null,null,"AC00922","[HUM] Slovene Linguistics Studies","AC00922-[HUM] Slovene Linguistics Studies","Activity","FD02","Active","2025-03-17T16:11:52.698977+00:00",null,null,null,null,null,null,null,null,"13559","LSBM Quest for Knowledge","13559-LSBM Quest for Knowledge",null,null,null,"AS115241136","Kylie Patterson (115241136) Special Events","AS115241136-Kylie Patterson (115241136) Special Events","Active",null,null,null,null,null,null,null,null,null,null,null,"SC6930","SC6930||6900","6900","Equipment, Software, Library","Primary","All"]
[null,null,null,null,null,null,"AC00924","[HUM] ODH Ticcit","AC00924-[HUM] ODH Ticcit","Activity","FD01","Active","2025-03-17T16:11:52.698977+00:00",null,null,null,null,null,null,null,null,"13560","LSBM Hunter, Kennedy Rsrch","13560-LSBM Hunter, Kennedy Rsrch",null,null,null,"AS115640550","Todd Brown (115640550) CES Information Security Operations Center (CESSOC)","AS115640550-Todd Brown (115640550) CES Information Security Operations Center (CESSOC)","Active",null,null,null,null,null,null,null,null,null,null,null,"SC6931","SC6931||1400","1400","Prepaid Expenses",null,"All"]
[null,null,null,null,null,null,"AC00925","[HUM] DigHT","AC00925-[HUM] DigHT","Activity","FD01","Active","2025-03-17T16:11:52.698977+00:00",null,null,null,null,null,null,null,null,"13562","LSBM Sale/Expense-Mounts","13562-LSBM Sale/Expense-Mounts",null,null,null,"AS115778561","Maren Johnson (115778561) Humanities - English","AS115778561-Maren Johnson (115778561) Humanities - English","Active",null,null,null,null,null,null,null,null,null,null,null,"SC6931","SC6931||1625","1625","Capital Equipment",null,"JE_PPE|JE_Override"]
[null,null,null,null,null,null,"AC00926","[HUM] CLIPS","AC00926-[HUM] CLIPS","Activity","FD02","Active","2025-03-17T16:11:52.698977+00:00",null,null,null,null,null,null,null,null,"13563","LSBM Grants/Awards","13563-LSBM Grants/Awards",null,null,null,"AS116029884","Kristen Betts (116029884) MSE  - Teacher Education","AS116029884-Kristen Betts (116029884) MSE  - Teacher Education","Active",null,null,null,null,null,null,null,null,null,null,null,"SC6931","SC6931||1650","1650","Construction in Progress",null,"JE_PPE|JE_Override"]
[null,null,null,null,null,null,"AC00927","[HUM] FLATS","AC00927-[HUM] FLATS","Activity","FD03","Active","2025-03-17T16:11:52.698977+00:00",null,null,null,null,null,null,null,null,"13564","LSBM Nelson, Riley-Research","13564-LSBM Nelson, Riley-Research",null,null,null,"AS116053592","Jared Bellon (116053592) PMPC Administration","AS116053592-Jared Bellon (116053592) PMPC Administration","Active",null,null,null,null,null,null,null,null,null,null,null,"SC6931","SC6931||1651","1651","Construction in Progress (Non-Workday Projects)",null,"All"]
[null,null,null,null,null,null,"AC00928","[HUM] Research Match Funds","AC00928-[HUM] Research Match Funds","Activity","FD03","Active","2025-03-17T16:11:52.698977+00:00",null,null,null,null,null,null,null,null,"13565","LSBM Frandsen, Paul - Research","13565-LSBM Frandsen, Paul - Research",null,null,null,"AS116189748","Greg Hooke (116189748) Asst Adm VP Physical Facil","AS116189748-Greg Hooke (116189748) Asst Adm VP Physical Facil","Active",null,null,null,null,null,null,null,null,null,null,null,"SC6931","SC6931||1700","1700","Accumulated Depreciation",null,"JE_PPE|JE_Override"]
[null,null,null,null,null,null,"AC00930","[HUM] WordCruncher Operations, RTG","AC00930-[HUM] WordCruncher Operations, RTG","Activity","FD02","Active","2025-03-17T16:11:52.698977+00:00",null,null,null,null,null,null,null,null,"13566","LSBM Whipple, Clint - Research","13566-LSBM Whipple, Clint - Research",null,null,null,"AS116207011","Valerie Buck (116207011) Lee Library - Metadata & IT Division","AS116207011-Valerie Buck (116207011) Lee Library - Metadata & IT Division","Active",null,null,null,null,null,null,null,null,null,null,null,"SC6931","SC6931||6900","6900","Equipment, Software, Library","Primary","All"]
[null,null,null,null,null,null,"AC00931","[HUM] Comparative Studies-Graduates","AC00931-[HUM] Comparative Studies-Graduates","Activity","FD01","Active","2025-03-17T16:11:52.698977+00:00",null,null,null,null,null,null,null,null,"13567","LSBM Tree of Life Exhibit","13567-LSBM Tree of Life Exhibit",null,null,null,"AS116234850","Elsa Torgersen (116234850) CE FSY Logistics","AS116234850-Elsa Torgersen (116234850) CE FSY Logistics","Active",null,null,null,null,null,null,null,null,null,null,null,"SC6931","SC6931||8000","8000","Depreciation",null,"JE_PPE|JE_Override"]
[null,null,null,null,null,null,"AC00932","[HUM] Scandinavian Program","AC00932-[HUM] Scandinavian Program","Activity","FD01","Active","2025-03-17T16:11:52.698977+00:00",null,null,null,null,null,null,null,null,"13568","LSBM Social Media","13568-LSBM Social Media",null,null,null,"AS116373126","Aaron Nielson (116373126) AVP - Dean, Clark Law School","AS116373126-Aaron Nielson (116373126) AVP - Dean, Clark Law School","Active",null,null,null,null,null,null,null,null,null,null,null,"SC6932","SC6932||1400","1400","Prepaid Expenses",null,"All"]
[null,null,null,null,null,null,"AC00933","[HUM] Art History Association","AC00933-[HUM] Art History Association","Activity","FD02","Active","2025-03-17T16:11:52.698977+00:00",null,null,null,null,null,null,null,null,"13569","LSBM Book-Lichen","13569-LSBM Book-Lichen",null,null,null,"AS117041348","Shawn Trauntvein (117041348) Financial Aid and Scholarships","AS117041348-Shawn Trauntvein (117041348) Financial Aid and Scholarships","Active",null,null,null,null,null,null,null,null,null,null,null,"SC6932","SC6932||1625","1625","Capital Equipment",null,"JE_PPE|JE_Override"]
[null,null,null,null,null,null,"AC00934","[HUM] IHUM CLUB","AC00934-[HUM] IHUM CLUB","Activity","FD02","Active","2025-03-17T16:11:52.698977+00:00",null,null,null,null,null,null,null,null,"13570","LSBM Infromation Desk Supplies","13570-LSBM Infromation Desk Supplies",null,null,null,"AS117156772","Laura Lamoreaux (117156772) College of Engineering - Chemical Engineering","AS117156772-Laura Lamoreaux (117156772) College of Engineering - Chemical Engineering","Active",null,null,null,null,null,null,null,null,null,null,null,"SC6932","SC6932||1650","1650","Construction in Progress",null,"JE_PPE|JE_Override"]
[null,null,null,null,null,null,"AC00935","[HUM] Eta Sigma Phi","AC00935-[HUM] Eta Sigma Phi","Activity","FD02","Active","2025-03-17T16:11:52.698977+00:00",null,null,null,null,null,null,null,null,"13571","LSBM Recycling Exhibit","13571-LSBM Recycling Exhibit",null,null,null,"AS117318368","Daniel Quarnberg (117318368) Law School","AS117318368-Daniel Quarnberg (117318368) Law School","Active",null,null,null,null,null,null,null,null,null,null,null,"SC6932","SC6932||1651","1651","Construction in Progress (Non-Workday Projects)",null,"All"]
[null,null,null,null,null,null,"AC00936","[HUM] American Society of Papryologists","AC00936-[HUM] American Society of Papryologists","Activity","FD02","Active","2025-03-17T16:11:52.698977+00:00",null,null,null,null,null,null,null,null,"13572","LSBM Africa Room Exhibit","13572-LSBM Africa Room Exhibit",null,null,null,"AS117344720","Joseph Hall (117344720) Dean's Office - CMS","AS117344720-Joseph Hall (117344720) Dean's Office - CMS","Active",null,null,null,null,null,null,null,null,null,null,null,"SC6932","SC6932||1700","1700","Accumulated Depreciation",null,"JE_PPE|JE_Override"]
[null,null,null,null,null,null,"AC00937","[HUM] Journal of American Culture","AC00937-[HUM] Journal of American Culture","Activity","FD02","Active","2025-03-17T16:11:52.698977+00:00",null,null,null,null,null,null,null,null,"13573","LSBM Connections Exhibit","13573-LSBM Connections Exhibit",null,null,null,"AS117548330","Julia Ashworth (117548330) Fine Arts & Communications - Theatre & Media Arts","AS117548330-Julia Ashworth (117548330) Fine Arts & Communications - Theatre & Media Arts","Active",null,null,null,null,null,null,null,null,null,null,null,"SC6932","SC6932||6900","6900","Equipment, Software, Library","Primary","All"]
[null,null,null,null,null,null,"AC00938","[HUM] BYU Scandinavian Club","AC00938-[HUM] BYU Scandinavian Club","Activity","FD02","Active","2025-03-17T16:11:52.698977+00:00",null,null,null,null,null,null,null,null,"13574","LSBM Insect Color Exhibit","13574-LSBM Insect Color Exhibit",null,null,null,"AS117745761","Curtis Child (117745761) AVP - Dean, Family Home Social Science (FHSS)","AS117745761-Curtis Child (117745761) AVP - Dean, Family Home Social Science (FHSS)","Active",null,null,null,null,null,null,null,null,null,null,null,"SC6932","SC6932||8000","8000","Depreciation",null,"JE_PPE|JE_Override"]
[null,null,null,null,null,null,"AC00939","[HUM] Scandinavian Internshp Program","AC00939-[HUM] Scandinavian Internshp Program","Activity","FD03","Active","2025-03-17T16:11:52.698977+00:00",null,null,null,null,null,null,null,null,"13575","LSBM Covid Exhibit","13575-LSBM Covid Exhibit",null,null,null,"AS117773720","Steve Hill (117773720) Enrollment Services Executive Director's Office","AS117773720-Steve Hill (117773720) Enrollment Services Executive Director's Office","Active",null,null,null,null,null,null,null,null,null,null,null,"SC6933","SC6933||1400","1400","Prepaid Expenses",null,"All"]
[null,null,null,null,null,null,"AC00940","[HUM] HUM 101 Course Support","AC00940-[HUM] HUM 101 Course Support","Activity","FD03","Active","2025-03-17T16:11:52.698977+00:00",null,null,null,null,null,null,null,null,"13576","LSBM Climate Change Exhibit","13576-LSBM Climate Change Exhibit",null,null,null,"AS117842228","Cordell Briggs (117842228) Dining Services","AS117842228-Cordell Briggs (117842228) Dining Services","Active",null,null,null,null,null,null,null,null,null,null,null,"SC6933","SC6933||1637","1637","Software",null,"JE_PPE|JE_Override"]
[null,null,null,null,null,null,"AC00942","[HUM] Humanities Publication Center-Editors","AC00942-[HUM] Humanities Publication Center-Editors","Activity","FD01","Active","2025-03-17T16:11:52.698977+00:00",null,null,null,null,null,null,null,null,"13577","LSBM Seeds Exhibit","13577-LSBM Seeds Exhibit",null,null,null,"AS118085270","Gina Jackson (118085270) College of Nursing","AS118085270-Gina Jackson (118085270) College of Nursing","Active",null,null,null,null,null,null,null,null,null,null,null,"SC6933","SC6933||1700","1700","Accumulated Depreciation",null,"JE_PPE|JE_Override"]
[null,null,null,null,null,null,"AC00943","[HUM] Move and Stance Research Group","AC00943-[HUM] Move and Stance Research Group","Activity","FD01","Active","2025-03-17T16:11:52.698977+00:00",null,null,null,null,null,null,null,null,"13578","LSBM Diversification Exhibit","13578-LSBM Diversification Exhibit",null,null,null,"AS118518496","Phillip Hartog (118518496) Athletics - Olympic Sport Medicine","AS118518496-Phillip Hartog (118518496) Athletics - Olympic Sport Medicine","Active",null,null,null,null,null,null,null,null,null,null,null,"SC6933","SC6933||6900","6900","Equipment, Software, Library","Primary","All"]
[null,null,null,null,null,null,"AC00944","[HUM] Linguistics Graduate","AC00944-[HUM] Linguistics Graduate","Activity","FD01","Active","2025-03-17T16:11:52.698977+00:00",null,null,null,null,null,null,null,null,"13579","LSBM Donation Box","13579-LSBM Donation Box",null,null,null,"AS118901715","Pace Nielsen (118901715) CMS - Mathematics","AS118901715-Pace Nielsen (118901715) CMS - Mathematics","Active",null,null,null,null,null,null,null,null,null,null,null,"SC6933","SC6933||8000","8000","Depreciation",null,"JE_PPE|JE_Override"]
[null,null,null,null,null,null,"AC00945","[HUM] Humanities Publication Center-Operations","AC00945-[HUM] Humanities Publication Center-Operations","Activity","FD02","Active","2025-03-17T16:11:52.698977+00:00",null,null,null,null,null,null,null,null,"13580","LSBM Photo Show","13580-LSBM Photo Show",null,null,null,"AS119095763","David Sims (119095763) FHSS - Economics","AS119095763-David Sims (119095763) FHSS - Economics","Active",null,null,null,null,null,null,null,null,null,null,null,"SC6934","SC6934||1400","1400","Prepaid Expenses",null,"All"]
[null,null,null,null,null,null,"AC00946","[HUM] The Leading Edge","AC00946-[HUM] The Leading Edge","Activity","FD02","Active","2025-03-17T16:11:52.698977+00:00",null,null,null,null,null,null,null,null,"13581","LSBM LM-1 Truck","13581-LSBM LM-1 Truck",null,null,null,"AS119110661","Mark Beecher (119110661) Student Life VP","AS119110661-Mark Beecher (119110661) Student Life VP","Active",null,null,null,null,null,null,null,null,null,null,null,"SC6934","SC6934||6900","6900","Equipment, Software, Library","Primary","All"]
[null,null,null,null,null,null,"AC00947","[HUM] Linguistics Student Society","AC00947-[HUM] Linguistics Student Society","Activity","FD02","Active","2025-03-17T16:11:52.698977+00:00",null,null,null,null,null,null,null,null,"13584","LSBM LM-2 Camry -Grey","13584-LSBM LM-2 Camry -Grey",null,null,null,"AS119352652","Travis Dance (119352652) PF Planning & Construction - Major Projects","AS119352652-Travis Dance (119352652) PF Planning & Construction - Major Projects","Active",null,null,null,null,null,null,null,null,null,null,null,"SC6935","SC6935||1400","1400","Prepaid Expenses",null,"All"]
[null,null,null,null,null,null,"AC00948","[HUM] STET - The Editors Network","AC00948-[HUM] STET - The Editors Network","Activity","FD02","Active","2025-03-17T16:11:52.698977+00:00",null,null,null,null,null,null,null,null,"13586","Lytle Improvements","13586-Lytle Improvements",null,null,null,"AS119433638","Emilee Barrett (119433638) CE Test Prep & Youth Programs","AS119433638-Emilee Barrett (119433638) CE Test Prep & Youth Programs","Active",null,null,null,null,null,null,null,null,null,null,null,"SC6935","SC6935||1625","1625","Capital Equipment",null,"JE_PPE|JE_Override"]
[null,null,null,null,null,null,"AC00949","[HUM] ELANG 430R Stowaway Mag","AC00949-[HUM] ELANG 430R Stowaway Mag","Activity","FD02","Active","2025-03-17T16:11:52.698977+00:00",null,null,null,null,null,null,null,null,"13587","LSBM LM-1 Truck Rental","13587-LSBM LM-1 Truck Rental",null,null,null,"AS119461870","Troy Wilde (119461870) OIT Portfolio - Identity","AS119461870-Troy Wilde (119461870) OIT Portfolio - Identity","Active",null,null,null,null,null,null,null,null,null,null,null,"SC6935","SC6935||1650","1650","Construction in Progress",null,"JE_PPE|JE_Override"]
[null,null,null,null,null,null,"AC00950","[HUM] Ling Royalties","AC00950-[HUM] Ling Royalties","Activity","FD03","Active","2025-03-17T16:11:52.698977+00:00",null,null,null,null,null,null,null,null,"13588","LSBM Leavitt, Steve-Research","13588-LSBM Leavitt, Steve-Research",null,null,null,"AS119593747","Cindy Monson Litchford (119593747) Athletics - Track & Field","AS119593747-Cindy Monson Litchford (119593747) Athletics - Track & Field","Active",null,null,null,null,null,null,null,null,null,null,null,"SC6935","SC6935||1651","1651","Construction in Progress (Non-Workday Projects)",null,"All"]
[null,null,null,null,null,null,"AC00951","[HUM] Graduate Studies (TR)","AC00951-[HUM] Graduate Studies (TR)","Activity","FD03","Active","2025-03-17T16:11:52.698977+00:00",null,null,null,null,null,null,null,null,"13589","LSBM Tanner Lecture","13589-LSBM Tanner Lecture",null,null,null,"AS119743920","Kris Nelson (119743920) Academic Vice President","AS119743920-Kris Nelson (119743920) Academic Vice President","Active",null,null,null,null,null,null,null,null,null,null,null,"SC6935","SC6935||1700","1700","Accumulated Depreciation",null,"JE_PPE|JE_Override"]
[null,null,null,null,null,null,"AC00952","[HUM] Editing Internshhip Enhancemen","AC00952-[HUM] Editing Internshhip Enhancemen","Activity","FD03","Active","2025-03-17T16:11:52.698977+00:00",null,null,null,null,null,null,null,null,"13590","LSBM Halloween Family Night","13590-LSBM Halloween Family Night",null,null,null,"AS119812781","Bill Keenan (119812781) Business Career Center","AS119812781-Bill Keenan (119812781) Business Career Center","Active",null,null,null,null,null,null,null,null,null,null,null,"SC6935","SC6935||6900","6900","Equipment, Software, Library","Primary","All"]
[null,null,null,null,null,null,"AC00955","[HUM] Spanish and Portuguese Graduate","AC00955-[HUM] Spanish and Portuguese Graduate","Activity","FD01","Active","2025-03-17T16:11:52.698977+00:00",null,null,null,null,null,null,null,null,"13591","LSBM Easter Family Night","13591-LSBM Easter Family Night",null,null,null,"AS119933025","Samuel Payne (119933025) Life Sciences - Biology","AS119933025-Samuel Payne (119933025) Life Sciences - Biology","Active",null,null,null,null,null,null,null,null,null,null,null,"SC6935","SC6935||8000","8000","Depreciation",null,"JE_PPE|JE_Override"]
[null,null,null,null,null,null,"AC00956","[HUM] Spanish Resource Center","AC00956-[HUM] Spanish Resource Center","Activity","FD01","Active","2025-03-17T16:11:52.698977+00:00",null,null,null,null,null,null,null,null,"13592","LSBM Night at the Museums","13592-LSBM Night at the Museums",null,null,null,"AS120315123","Jordan Brady (120315123) Athletics - Men's Basketball","AS120315123-Jordan Brady (120315123) Athletics - Men's Basketball","Active",null,null,null,null,null,null,null,null,null,null,null,"SC6936","SC6936||1400","1400","Prepaid Expenses",null,"All"]
[null,null,null,null,null,null,"AC00957","[HUM] Educational Outreach-S&P","AC00957-[HUM] Educational Outreach-S&P","Activity","FD02","Active","2025-03-17T16:11:52.698977+00:00",null,null,null,null,null,null,null,null,"13593","LSBM Promotional Giveaways","13593-LSBM Promotional Giveaways",null,null,null,"AS120405939","Ann Marie Lambert (120405939) Honor Code Office","AS120405939-Ann Marie Lambert (120405939) Honor Code Office","Active",null,null,null,null,null,null,null,null,null,null,null,"SC6936","SC6936||6900","6900","Equipment, Software, Library","Primary","All"]
[null,null,null,null,null,null,"AC00958","[HUM] Spanish Musical Group","AC00958-[HUM] Spanish Musical Group","Activity","FD02","Active","2025-03-17T16:11:52.698977+00:00",null,null,null,null,null,null,null,null,"13594","LSBM Discover Utah-Shelf Exhib","13594-LSBM Discover Utah-Shelf Exhib",null,null,null,"AS120420148","Victor Pinto (120420148) PF Paint & Sign Shop","AS120420148-Victor Pinto (120420148) PF Paint & Sign Shop","Active",null,null,null,null,null,null,null,null,null,null,null,"SC6937","SC6937||1400","1400","Prepaid Expenses",null,"All"]
[null,null,null,null,null,null,"AC00959","[HUM] Sigma Delta Pi","AC00959-[HUM] Sigma Delta Pi","Activity","FD02","Active","2025-03-17T16:11:52.698977+00:00",null,null,null,null,null,null,null,null,"13595","LSBM Marketing","13595-LSBM Marketing",null,null,null,"AS120428382","Jennifer Schill (120428382) Research & Learning - Social Sciences","AS120428382-Jennifer Schill (120428382) Research & Learning - Social Sciences","Active",null,null,null,null,null,null,null,null,null,null,null,"SC6937","SC6937||1630","1630","Vehicles",null,"JE_PPE|JE_Override"]
[null,null,null,null,null,null,"AC00960","[HUM] Phi Lambda Beta - Beta Ypsilon","AC00960-[HUM] Phi Lambda Beta - Beta Ypsilon","Activity","FD02","Active","2025-03-17T16:11:52.698977+00:00",null,null,null,null,null,null,null,null,"13596","LSBM Lytle Max-Planck-Inst-cle","13596-LSBM Lytle Max-Planck-Inst-cle",null,null,null,"AS120510499","Iz Boekweg (120510499) PF Grounds - Site & Landscape Construction","AS120510499-Iz Boekweg (120510499) PF Grounds - Site & Landscape Construction","Active",null,null,null,null,null,null,null,null,null,null,null,"SC6937","SC6937||1700","1700","Accumulated Depreciation",null,"JE_PPE|JE_Override"]
[null,null,null,null,null,null,"AC00961","[HUM] Spanish 321 Royalties","AC00961-[HUM] Spanish 321 Royalties","Activity","FD03","Active","2025-03-17T16:11:52.698977+00:00",null,null,null,null,null,null,null,null,"13597","LSBM Lytle Land","13597-LSBM Lytle Land",null,null,null,"AS120636344","Scott Webb (120636344) MSB - Marketing & Global Supply Chain","AS120636344-Scott Webb (120636344) MSB - Marketing & Global Supply Chain","Active",null,null,null,null,null,null,null,null,null,null,null,"SC6937","SC6937||6900","6900","Equipment, Software, Library","Primary","All"]
[null,null,null,null,null,null,"AC00963","[HUM] Span & Port Sunshine Fund","AC00963-[HUM] Span & Port Sunshine Fund","Activity","FD07","Active","2025-03-17T16:11:52.698977+00:00",null,null,null,null,null,null,null,null,"13598","LSBM Residual Const Funds","13598-LSBM Residual Const Funds",null,null,null,"AS120701340","Aaron Moody (120701340) CE Registration & Cashier","AS120701340-Aaron Moody (120701340) CE Registration & Cashier","Active",null,null,null,null,null,null,null,null,null,null,null,"SC6937","SC6937||8000","8000","Depreciation",null,"JE_PPE|JE_Override"]
[null,null,null,null,null,null,"AC00964","[MSE] School Research","AC00964-[MSE] School Research","Activity","FD01","Active","2025-03-17T16:11:52.698977+00:00",null,null,null,null,null,null,null,null,"13599","LSBM Lytle home remodel","13599-LSBM Lytle home remodel",null,null,null,"AS120882572","Kalani Sitake (120882572) Advance VP - Director, Athletics","AS120882572-Kalani Sitake (120882572) Advance VP - Director, Athletics","Active",null,null,null,null,null,null,null,null,null,null,null,"SC6938","SC6938||1400","1400","Prepaid Expenses",null,"All"]
[null,null,null,null,null,null,"AC00965","[MSE] Ed Inquiry, Measurement, Eval","AC00965-[MSE] Ed Inquiry, Measurement, Eval","Activity","FD01","Active","2025-03-17T16:11:52.698977+00:00",null,null,null,null,null,null,null,null,"13600","LSBI Res Cycle Sequencing","13600-LSBI Res Cycle Sequencing",null,null,null,"AS120961401","Stephanie Breinholt (120961401) Fine Arts & Communications - Theatre & Media Arts","AS120961401-Stephanie Breinholt (120961401) Fine Arts & Communications - Theatre & Media Arts","Active",null,null,null,null,null,null,null,null,null,null,null,"SC6938","SC6938||1625","1625","Capital Equipment",null,"JE_PPE|JE_Override"]
[null,null,null,null,null,null,"AC00966","[MSE] University Research","AC00966-[MSE] University Research","Activity","FD01","Active","2025-03-17T16:11:52.698977+00:00",null,null,null,null,null,null,null,null,"13601","LSBI Res Lane Usage","13601-LSBI Res Lane Usage",null,null,null,"AS121137236","Bryan Hamblin (121137236) AVP - Dean, Clark Law School","AS121137236-Bryan Hamblin (121137236) AVP - Dean, Clark Law School","Active",null,null,null,null,null,null,null,null,null,null,null,"SC6938","SC6938||1700","1700","Accumulated Depreciation",null,"JE_PPE|JE_Override"]
[null,null,null,null,null,null,"AC00967","[MSE] Visiting Scholars","AC00967-[MSE] Visiting Scholars","Activity","FD01","Active","2025-03-17T16:11:52.698977+00:00",null,null,null,null,null,null,null,null,"13602","LSBI Res Fragment Analysis","13602-LSBI Res Fragment Analysis",null,null,null,"AS121169186","William Rust (121169186) College of Engineering - Mechanical Engineering","AS121169186-William Rust (121169186) College of Engineering - Mechanical Engineering","Active",null,null,null,null,null,null,null,null,null,null,null,"SC6938","SC6938||6900","6900","Equipment, Software, Library","Primary","All"]
[null,null,null,null,null,null,"AC00968","[MSE] PPAT Student Support","AC00968-[MSE] PPAT Student Support","Activity","FD01","Active","2025-03-17T16:11:52.698977+00:00",null,null,null,null,null,null,null,null,"13603","LSBI Res Big Dye","13603-LSBI Res Big Dye",null,null,null,"AS121548413","Quint Colman (121548413) PMPC Administration","AS121548413-Quint Colman (121548413) PMPC Administration","Active",null,null,null,null,null,null,null,null,null,null,null,"SC6938","SC6938||8000","8000","Depreciation",null,"JE_PPE|JE_Override"]
[null,null,null,null,null,null,"AC00969","[MSE] Student Teaching Sup","AC00969-[MSE] Student Teaching Sup","Activity","FD01","Active","2025-03-17T16:11:52.698977+00:00",null,null,null,null,null,null,null,null,"13604","LSBI Res PacBio Sequel","13604-LSBI Res PacBio Sequel",null,null,null,"AS121668778","Bethany Duerst (121668778) Staff Compensation","AS121668778-Bethany Duerst (121668778) Staff Compensation","Active",null,null,null,null,null,null,null,null,null,null,null,"SC6939","SC6939||1400","1400","Prepaid Expenses",null,"All"]
[null,null,null,null,null,null,"AC00970","[MSE] Grad Student Support","AC00970-[MSE] Grad Student Support","Activity","FD01","Active","2025-03-17T16:11:52.698977+00:00",null,null,null,null,null,null,null,null,"13605","LSBI Res Illumina","13605-LSBI Res Illumina",null,null,null,"AS121684964","Jenny Wheeler (121684964) AAVP, Faculty Dev - University Librarian, Lee Library","AS121684964-Jenny Wheeler (121684964) AAVP, Faculty Dev - University Librarian, Lee Library","Active",null,null,null,null,null,null,null,null,null,null,null,"SC6939","SC6939||1625","1625","Capital Equipment",null,"JE_PPE|JE_Override"]
[null,null,null,null,null,null,"AC00971","[MSE] Coop Teach Cash","AC00971-[MSE] Coop Teach Cash","Activity","FD01","Active","2025-03-17T16:11:52.698977+00:00",null,null,null,null,null,null,null,null,"13606","LSBI Res pg and Agilent bioana","13606-LSBI Res pg and Agilent bioana",null,null,null,"AS121802238","Tom Pittman (121802238) Dean's Office FHSS","AS121802238-Tom Pittman (121802238) Dean's Office FHSS","Active",null,null,null,null,null,null,null,null,null,null,null,"SC6939","SC6939||1650","1650","Construction in Progress",null,"JE_PPE|JE_Override"]
[null,null,null,null,null,null,"AC00972","[MSE] Education Advisement","AC00972-[MSE] Education Advisement","Activity","FD01","Active","2025-03-17T16:11:52.698977+00:00",null,null,null,null,null,null,null,null,"13607","LSBI Womens Resrch Init 2020","13607-LSBI Womens Resrch Init 2020",null,null,null,"AS121934274","Inho Jung (121934274) Humanities - Asian & Near Eastern Languages","AS121934274-Inho Jung (121934274) Humanities - Asian & Near Eastern Languages","Active",null,null,null,null,null,null,null,null,null,null,null,"SC6939","SC6939||1651","1651","Construction in Progress (Non-Workday Projects)",null,"All"]
[null,null,null,null,null,null,"AC00973","[MSE] Accounting","AC00973-[MSE] Accounting","Activity","FD01","Active","2025-03-17T16:11:52.698977+00:00",null,null,null,null,null,null,null,null,"13608","LSBI Bio 550 Behavioral Ecolog","13608-LSBI Bio 550 Behavioral Ecolog",null,null,null,"AS121944169","Duncan Larsen (121944169) Dean's Office - College of Engineering","AS121944169-Duncan Larsen (121944169) Dean's Office - College of Engineering","Active",null,null,null,null,null,null,null,null,null,null,null,"SC6939","SC6939||1700","1700","Accumulated Depreciation",null,"JE_PPE|JE_Override"]
[null,null,null,null,null,null,"AC00974","[MSE] MSE Multicultural Committee","AC00974-[MSE] MSE Multicultural Committee","Activity","FD01","Active","2025-03-17T16:11:52.698977+00:00",null,null,null,null,null,null,null,null,"13609","LSBI EEL Facility-Research","13609-LSBI EEL Facility-Research",null,null,null,"AS121995597","Eric Bybee (121995597) MSE  - Teacher Education","AS121995597-Eric Bybee (121995597) MSE  - Teacher Education","Active",null,null,null,null,null,null,null,null,null,null,null,"SC6939","SC6939||6900","6900","Equipment, Software, Library","Primary","All"]
[null,null,null,null,null,null,"AC00975","[MSE] Tech Lab","AC00975-[MSE] Tech Lab","Activity","FD01","Active","2025-03-17T16:11:52.698977+00:00",null,null,null,null,null,null,null,null,"13610","LSBI Bio 235 Field Botany","13610-LSBI Bio 235 Field Botany",null,null,null,"AS122125065","David Burnett (122125065) OIT Core -  Tech Support","AS122125065-David Burnett (122125065) OIT Core -  Tech Support","Active",null,null,null,null,null,null,null,null,null,null,null,"SC6939","SC6939||8000","8000","Depreciation",null,"JE_PPE|JE_Override"]
[null,null,null,null,null,null,"AC00976","[MSE] Education Computing Support","AC00976-[MSE] Education Computing Support","Activity","FD01","Active","2025-03-17T16:11:52.698977+00:00",null,null,null,null,null,null,null,null,"13611","LSBI Bio 364 Bioinfomatics Alg","13611-LSBI Bio 364 Bioinfomatics Alg",null,null,null,"AS122238061","Eusebio Enciso (122238061) Culinary Support Center","AS122238061-Eusebio Enciso (122238061) Culinary Support Center","Active",null,null,null,null,null,null,null,null,null,null,null,"SC6940","SC6940||1300","1300","Inventory","Primary","All"]
[null,null,null,null,null,null,"AC00977","[MSE] Accreditation Assessment","AC00977-[MSE] Accreditation Assessment","Activity","FD01","Active","2025-03-17T16:11:52.698977+00:00",null,null,null,null,null,null,null,null,"13612","LSBI Bio 291R Vet Med Seminar","13612-LSBI Bio 291R Vet Med Seminar",null,null,null,"AS122333112","Brigham Talbot (122333112) Registrar's Office","AS122333112-Brigham Talbot (122333112) Registrar's Office","Active",null,null,null,null,null,null,null,null,null,null,null,"SC6940","SC6940||1650","1650","Construction in Progress",null,"JE_PPE|JE_Override"]
[null,null,null,null,null,null,"AC00978","[MSE] CITES Fellowship","AC00978-[MSE] CITES Fellowship","Activity","FD01","Active","2025-03-17T16:11:52.698977+00:00",null,null,null,null,null,null,null,null,"13613","LSBI Bio 392R Prevet Preceptor","13613-LSBI Bio 392R Prevet Preceptor",null,null,null,"AS122381038","James White (122381038) Cougareat","AS122381038-James White (122381038) Cougareat","Active",null,null,null,null,null,null,null,null,null,null,null,"SC6940","SC6940||4900","4900","Cost of Sales",null,"All"]
[null,null,null,null,null,null,"AC00979","[MSE] Grant Specialist","AC00979-[MSE] Grant Specialist","Activity","FD01","Active","2025-03-17T16:11:52.698977+00:00",null,null,null,null,null,null,null,null,"13614","LSBI Bio 120 Field Biology","13614-LSBI Bio 120 Field Biology",null,null,null,"AS122448945","E.J. Caffaro (122448945) Enrollment Services Office","AS122448945-E.J. Caffaro (122448945) Enrollment Services Office","Active",null,null,null,null,null,null,null,null,null,null,null,"SC6940","SC6940||6900","6900","Equipment, Software, Library",null,"All"]
[null,null,null,null,null,null,"AC00980","[MSE] Research Office","AC00980-[MSE] Research Office","Activity","FD01","Active","2025-03-17T16:11:52.698977+00:00",null,null,null,null,null,null,null,null,"13615","LSBI Bio 380 Animal Phys Anato","13615-LSBI Bio 380 Animal Phys Anato",null,null,null,"AS122455676","Daniel Bradshaw (122455676) Fine Arts & Communications - School of Music","AS122455676-Daniel Bradshaw (122455676) Fine Arts & Communications - School of Music","Active",null,null,null,null,null,null,null,null,null,null,null,"SC6941","SC6941||1300","1300","Inventory","Primary","All"]
[null,null,null,null,null,null,"AC00981","[MSE] AIME Club","AC00981-[MSE] AIME Club","Activity","FD02","Active","2025-03-17T16:11:52.698977+00:00",null,null,null,null,null,null,null,null,"13616","LSBI Bio 447 Mammology","13616-LSBI Bio 447 Mammology",null,null,null,"AS122543874","Eric Howard (122543874) Lee Library - Communications","AS122543874-Eric Howard (122543874) Lee Library - Communications","Active",null,null,null,null,null,null,null,null,null,null,null,"SC6941","SC6941||1650","1650","Construction in Progress",null,"JE_PPE|JE_Override"]
[null,null,null,null,null,null,"AC00982","[MSE] Student Teaching Fee","AC00982-[MSE] Student Teaching Fee","Activity","FD03","Active","2025-03-17T16:11:52.698977+00:00",null,null,null,null,null,null,null,null,"13617","LSBI Bio 557 Stream Ecology","13617-LSBI Bio 557 Stream Ecology",null,null,null,"AS122597533","Kendall Wilson (122597533) PF Carpenter Shop","AS122597533-Kendall Wilson (122597533) PF Carpenter Shop","Active",null,null,null,null,null,null,null,null,null,null,null,"SC6941","SC6941||4900","4900","Cost of Sales",null,"All"]
[null,null,null,null,null,null,"AC00983","[MSE] Beede Project User Payments","AC00983-[MSE] Beede Project User Payments","Activity","FD03","Active","2025-03-17T16:11:52.698977+00:00",null,null,null,null,null,null,null,null,"13618","LSBI Bio 443 Icthyology","13618-LSBI Bio 443 Icthyology",null,null,null,"AS122658126","Steven Wood (122658126) CMS - Chemistry and Biochemistry","AS122658126-Steven Wood (122658126) CMS - Chemistry and Biochemistry","Active",null,null,null,null,null,null,null,null,null,null,null,"SC6941","SC6941||6900","6900","Equipment, Software, Library",null,"All"]
[null,null,null,null,null,null,"AC00984","[MSE] Critical Thinking","AC00984-[MSE] Critical Thinking","Activity","FD03","Active","2025-03-17T16:11:52.698977+00:00",null,null,null,null,null,null,null,null,"13619","LSBI Bio 194 Intro to Mentored","13619-LSBI Bio 194 Intro to Mentored",null,null,null,"AS123043357","Kiri Case (123043357) Humanities - English","AS123043357-Kiri Case (123043357) Humanities - English","Active",null,null,null,null,null,null,null,null,null,null,null,"SC6942","SC6942||1300","1300","Inventory","Primary","All"]
[null,null,null,null,null,null,"AC00985","[MSE] What's Best for Matthew Paymnt","AC00985-[MSE] What's Best for Matthew Paymnt","Activity","FD03","Active","2025-03-17T16:11:52.698977+00:00",null,null,null,null,null,null,null,null,"13620","LSBI Dept Funds Allocation-Fun","13620-LSBI Dept Funds Allocation-Fun",null,null,null,"AS123392561","Debbie Tehrani (123392561) PF Building Projects, Maintenance & Transportation Services","AS123392561-Debbie Tehrani (123392561) PF Building Projects, Maintenance & Transportation Services","Active",null,null,null,null,null,null,null,null,null,null,null,"SC6942","SC6942||1650","1650","Construction in Progress",null,"JE_PPE|JE_Override"]
[null,null,null,null,null,null,"AC00986","[MSE] Beede Distribution Account","AC00986-[MSE] Beede Distribution Account","Activity","FD03","Active","2025-03-17T16:11:52.698977+00:00",null,null,null,null,null,null,null,null,"13621","LSBI South Pacific Projects","13621-LSBI South Pacific Projects",null,null,null,"AS123417982","Ansalee Greenwood (123417982) Humanities - English","AS123417982-Ansalee Greenwood (123417982) Humanities - English","Active",null,null,null,null,null,null,null,null,null,null,null,"SC6942","SC6942||4900","4900","Cost of Sales",null,"All"]
[null,null,null,null,null,null,"AC00987","[MSE] Live Text Licensing Fee","AC00987-[MSE] Live Text Licensing Fee","Activity","FD03","Active","2025-03-17T16:11:52.698977+00:00",null,null,null,null,null,null,null,null,"13622","LSBI AD1 (McMillian)","13622-LSBI AD1 (McMillian)",null,null,null,"AS123433674","Othello Richards (123433674) Fine Arts & Communications - School of Communications","AS123433674-Othello Richards (123433674) Fine Arts & Communications - School of Communications","Active",null,null,null,null,null,null,null,null,null,null,null,"SC6942","SC6942||6900","6900","Equipment, Software, Library",null,"All"]
[null,null,null,null,null,null,"AC00988","[MSE] Student Teachers","AC00988-[MSE] Student Teachers","Activity","FD03","Active","2025-03-17T16:11:52.698977+00:00",null,null,null,null,null,null,null,null,"13623","LSBI Alzheimer s Disease","13623-LSBI Alzheimer s Disease",null,null,null,"AS123542369","Gary Whitaker (123542369) Dining Administration","AS123542369-Gary Whitaker (123542369) Dining Administration","Active",null,null,null,null,null,null,null,null,null,null,null,"SC6943","SC6943||1300","1300","Inventory","Primary","All"]
[null,null,null,null,null,null,"AC00989","[MSE] MSE Professional Development","AC00989-[MSE] MSE Professional Development","Activity","FD03","Active","2025-03-17T16:11:52.698977+00:00",null,null,null,null,null,null,null,null,"13624","LSBI Bio 264 Stat Analy for Bi","13624-LSBI Bio 264 Stat Analy for Bi",null,null,null,"AS123563353","Nicole Donahoo (123563353) MSB - School of Accountancy","AS123563353-Nicole Donahoo (123563353) MSB - School of Accountancy","Active",null,null,null,null,null,null,null,null,null,null,null,"SC6943","SC6943||1650","1650","Construction in Progress",null,"JE_PPE|JE_Override"]
[null,null,null,null,null,null,"AC00990","[MSE] Education - President's Innova","AC00990-[MSE] Education - President's Innova","Activity","FD03","Active","2025-03-17T16:11:52.698977+00:00",null,null,null,null,null,null,null,null,"13625","LSBI Leavitt, Steve","13625-LSBI Leavitt, Steve",null,null,null,"AS123697382","Jeff Copas (123697382) PF Building Operations","AS123697382-Jeff Copas (123697382) PF Building Operations","Active",null,null,null,null,null,null,null,null,null,null,null,"SC6943","SC6943||4900","4900","Cost of Sales",null,"All"]
[null,null,null,null,null,null,"AC00991","[MSE] Experiential Inspiring Learn","AC00991-[MSE] Experiential Inspiring Learn","Activity","FD03","Active","2025-03-17T16:11:52.698977+00:00",null,null,null,null,null,null,null,null,"13626","LSBI Bio 100 Online Developmen","13626-LSBI Bio 100 Online Developmen",null,null,null,"AS123812983","Mira Larsen (123812983) Fine Arts & Communications - Dance","AS123812983-Mira Larsen (123812983) Fine Arts & Communications - Dance","Active",null,null,null,null,null,null,null,null,null,null,null,"SC6943","SC6943||6900","6900","Equipment, Software, Library",null,"All"]
[null,null,null,null,null,null,"AC00992","[MSE] Teacher ED Sunshine Fund","AC00992-[MSE] Teacher ED Sunshine Fund","Activity","FD07","Active","2025-03-17T16:11:52.698977+00:00",null,null,null,null,null,null,null,null,"13627","LSBI Evolution Display Case","13627-LSBI Evolution Display Case",null,null,null,"AS123820240","Ron Hager (123820240) Life Sciences - Exercise Sciences","AS123820240-Ron Hager (123820240) Life Sciences - Exercise Sciences","Active",null,null,null,null,null,null,null,null,null,null,null,"SC6944","SC6944||1300","1300","Inventory","Primary","All"]
[null,null,null,null,null,null,"AC00993","[MSE] HR- Student Teachers","AC00993-[MSE] HR- Student Teachers","Activity","FD03","Active","2025-03-17T16:11:52.698977+00:00",null,null,null,null,null,null,null,null,"13628","LSBI Bio 445 Herpetology","13628-LSBI Bio 445 Herpetology",null,null,null,"AS123985964","Stephen Done (123985964) BYU Broadcasting - Digital Media","AS123985964-Stephen Done (123985964) BYU Broadcasting - Digital Media","Active",null,null,null,null,null,null,null,null,null,null,null,"SC6944","SC6944||1650","1650","Construction in Progress",null,"JE_PPE|JE_Override"]
[null,null,null,null,null,null,"AC00994","[MSE] Database/Web","AC00994-[MSE] Database/Web","Activity","FD01","Active","2025-03-17T16:11:52.698977+00:00",null,null,null,null,null,null,null,null,"13629","LSBI Bio 265 Bio Data Science","13629-LSBI Bio 265 Bio Data Science",null,null,null,"AS124120943","Randa Alvord (124120943) Advisement, College of Fine Arts and Communications","AS124120943-Randa Alvord (124120943) Advisement, College of Fine Arts and Communications","Active",null,null,null,null,null,null,null,null,null,null,null,"SC6944","SC6944||4900","4900","Cost of Sales",null,"All"]
[null,null,null,null,null,null,"AC00995","[MSE] Ext. Relations/Creative","AC00995-[MSE] Ext. Relations/Creative","Activity","FD01","Active","2025-03-17T16:11:52.698977+00:00",null,null,null,null,null,null,null,null,"13630","LSBI Bio 511 Lichenology","13630-LSBI Bio 511 Lichenology",null,null,null,"AS124472486","Layne Peterson (124472486) Fine Arts & Communications - School of Communications","AS124472486-Layne Peterson (124472486) Fine Arts & Communications - School of Communications","Active",null,null,null,null,null,null,null,null,null,null,null,"SC6944","SC6944||6900","6900","Equipment, Software, Library",null,"All"]
[null,null,null,null,null,null,"AC00996","[MSE] Ed Society/Alumni","AC00996-[MSE] Ed Society/Alumni","Activity","FD01","Active","2025-03-17T16:11:52.698977+00:00",null,null,null,null,null,null,null,null,"13631","LSBI Speciation and Phylogeogr","13631-LSBI Speciation and Phylogeogr",null,null,null,"AS124508116","Jen Yamamoto (124508116) CMS - Statistics","AS124508116-Jen Yamamoto (124508116) CMS - Statistics","Active",null,null,null,null,null,null,null,null,null,null,null,"SC6945","SC6945||1300","1300","Inventory","Primary","All"]
[null,null,null,null,null,null,"AC00997","[MSE] Recruitment","AC00997-[MSE] Recruitment","Activity","FD01","Active","2025-03-17T16:11:52.698977+00:00",null,null,null,null,null,null,null,null,"13632","LSBI Bio 316 Adv Sci Writing a","13632-LSBI Bio 316 Adv Sci Writing a",null,null,null,"AS124732026","Mark Ellison (124732026) Religious Education - Ancient Scripture","AS124732026-Mark Ellison (124732026) Religious Education - Ancient Scripture","Active",null,null,null,null,null,null,null,null,null,null,null,"SC6945","SC6945||1650","1650","Construction in Progress",null,"JE_PPE|JE_Override"]
[null,null,null,null,null,null,"AC00998","[MSE] Grad Studies/COMD Scholarship","AC00998-[MSE] Grad Studies/COMD Scholarship","Activity","FD01","Active","2025-03-17T16:11:52.698977+00:00",null,null,null,null,null,null,null,null,"13633","LSBI Bio 450 Conservation Biol","13633-LSBI Bio 450 Conservation Biol",null,null,null,"AS124891767","Emily Sumsion (124891767) CE FSY West","AS124891767-Emily Sumsion (124891767) CE FSY West","Active",null,null,null,null,null,null,null,null,null,null,null,"SC6945","SC6945||4900","4900","Cost of Sales",null,"All"]
[null,null,null,null,null,null,"AC00999","[MSE] NSSLHA","AC00999-[MSE] NSSLHA","Activity","FD02","Active","2025-03-17T16:11:52.698977+00:00",null,null,null,null,null,null,null,null,"13634","LSBI Bio 378 Practicum in Bio","13634-LSBI Bio 378 Practicum in Bio",null,null,null,"AS125090296","Clifton Farnsworth (125090296) College of Engineering - Civil & Construction Engineering","AS125090296-Clifton Farnsworth (125090296) College of Engineering - Civil & Construction Engineering","Active",null,null,null,null,null,null,null,null,null,null,null,"SC6945","SC6945||6900","6900","Equipment, Software, Library",null,"All"]
[null,null,null,null,null,null,"AC01000","[MSE] Audiology Clinic","AC01000-[MSE] Audiology Clinic","Activity","FD03","Active","2025-03-17T16:11:52.698977+00:00",null,null,null,null,null,null,null,null,"13635","LSBI Bio 541 Aquatic Entomolog","13635-LSBI Bio 541 Aquatic Entomolog",null,null,null,"AS125095502","Blake Hansen (125095502) MSE - Counseling Psychology & Special Ed","AS125095502-Blake Hansen (125095502) MSE - Counseling Psychology & Special Ed","Active",null,null,null,null,null,null,null,null,null,null,null,"SC6946","SC6946||1300","1300","Inventory","Primary","All"]
[null,null,null,null,null,null,"AC01001","[MSE] Speech-Language Clinic","AC01001-[MSE] Speech-Language Clinic","Activity","FD03","Active","2025-03-17T16:11:52.698977+00:00",null,null,null,null,null,null,null,null,"13636","LSBI Great Basin","13636-LSBI Great Basin",null,null,null,"AS125815511","Bonnie Geldmacher (125815511) Law Library","AS125815511-Bonnie Geldmacher (125815511) Law Library","Active",null,null,null,null,null,null,null,null,null,null,null,"SC6946","SC6946||1650","1650","Construction in Progress",null,"JE_PPE|JE_Override"]
[null,null,null,null,null,null,"AC01002","[MSE] PIF - Stroke Study","AC01002-[MSE] PIF - Stroke Study","Activity","FD03","Active","2025-04-11T02:03:42.982071+00:00",null,null,null,null,null,null,null,null,"13637","LSBI Willes B of M Studies","13637-LSBI Willes B of M Studies",null,null,null,"AS125840977","Jeremy Fraser (125840977) PF Moving, Receiving, & Office Furniture","AS125840977-Jeremy Fraser (125840977) PF Moving, Receiving, & Office Furniture","Active",null,null,null,null,null,null,null,null,null,null,null,"SC6946","SC6946||4900","4900","Cost of Sales",null,"All"]
[null,null,null,null,null,null,"AC01003","[MSE] Discretionary Research Fund","AC01003-[MSE] Discretionary Research Fund","Activity","FD03","Active","2025-03-17T16:11:52.698977+00:00",null,null,null,null,null,null,null,null,"13638","LSBI Bio 379 Class Mgmt and La","13638-LSBI Bio 379 Class Mgmt and La",null,null,null,"AS126243836","Tyson Williamson (126243836) College of Engineering - Civil & Construction Engineering","AS126243836-Tyson Williamson (126243836) College of Engineering - Civil & Construction Engineering","Active",null,null,null,null,null,null,null,null,null,null,null,"SC6946","SC6946||6900","6900","Equipment, Software, Library",null,"All"]
[null,null,null,null,null,null,"AC01005","[MSE] Counseling and Special","AC01005-[MSE] Counseling and Special","Activity","FD01","Active","2025-03-17T16:11:52.698977+00:00",null,null,null,null,null,null,null,null,"13639","LSBI Clark, Shawn","13639-LSBI Clark, Shawn",null,null,null,"AS126333697","Mark Hughes (126333697) CMS - Mathematics","AS126333697-Mark Hughes (126333697) CMS - Mathematics","Active",null,null,null,null,null,null,null,null,null,null,null,"SC6999","SC6999||1400","1400","Prepaid Expenses",null,"All"]
[null,null,null,null,null,null,"AC01006","[MSE] Academy of Spiritual Center","AC01006-[MSE] Academy of Spiritual Center","Activity","FD01","Active","2025-03-17T16:11:52.698977+00:00",null,null,null,null,null,null,null,null,"13640","LSBI Summer Student Wages","13640-LSBI Summer Student Wages",null,null,null,"AS126379521","Yvette Anderson (126379521) Master of Business Administration","AS126379521-Yvette Anderson (126379521) Master of Business Administration","Active",null,null,null,null,null,null,null,null,null,null,null,"SC6999","SC6999||1650","1650","Construction in Progress",null,"JE_PPE|JE_Override"]
[null,null,null,null,null,null,"AC01007","[MSE] St Council Exceptional Childrn","AC01007-[MSE] St Council Exceptional Childrn","Activity","FD02","Active","2025-03-17T16:11:52.698977+00:00",null,null,null,null,null,null,null,null,"13641","LSBI Bio 455 Plant Ecology","13641-LSBI Bio 455 Plant Ecology",null,null,null,"AS126545477","Tara Marquez (126545477) Athletics - Olympic Sport Medicine","AS126545477-Tara Marquez (126545477) Athletics - Olympic Sport Medicine","Active",null,null,null,null,null,null,null,null,null,null,null,"SC6999","SC6999||1651","1651","Construction in Progress (Non-Workday Projects)",null,"All"]
[null,null,null,null,null,null,"AC01008","[MSE] Spiritual Foundations","AC01008-[MSE] Spiritual Foundations","Activity","FD03","Active","2025-03-17T16:11:52.698977+00:00",null,null,null,null,null,null,null,null,"13642","LSBI Griffen, Blaine","13642-LSBI Griffen, Blaine",null,null,null,"AS126590901","Zack Warren (126590901) Athletics - Administration","AS126590901-Zack Warren (126590901) Athletics - Administration","Active",null,null,null,null,null,null,null,null,null,null,null,"SC6999","SC6999||6900","6900","Equipment, Software, Library","Primary","All"]
[null,null,null,null,null,null,"AC01009","[MSE] Autism Project","AC01009-[MSE] Autism Project","Activity","FD03","Active","2025-03-17T16:11:52.698977+00:00",null,null,null,null,null,null,null,null,"13643","LSBI Bio 463 Genetics of Human","13643-LSBI Bio 463 Genetics of Human",null,null,null,"AS126632870","Julie Rivers (126632870) International VP Office","AS126632870-Julie Rivers (126632870) International VP Office","Active",null,null,null,null,null,null,null,null,null,null,null,"SC7001","SC7001||1400","1400","Prepaid Expenses",null,"All"]
[null,null,null,null,null,null,"AC01010","[MSE] IDR Suicide Risk Grant","AC01010-[MSE] IDR Suicide Risk Grant","Activity","FD03","Active","2025-03-17T16:11:52.698977+00:00",null,null,null,null,null,null,null,null,"13644","LSBI Bio 476 Biology Student T","13644-LSBI Bio 476 Biology Student T",null,null,null,"AS126634758","Kirsten Thompson (126634758) Center for Teaching and Learning","AS126634758-Kirsten Thompson (126634758) Center for Teaching and Learning","Active",null,null,null,null,null,null,null,null,null,null,null,"SC7001","SC7001||7000","7000","Travel","Primary","All"]
[null,null,null,null,null,null,"AC01011","[MSE] E. Cutrer Grad Mentoring Award","AC01011-[MSE] E. Cutrer Grad Mentoring Award","Activity","FD03","Active","2025-03-17T16:11:52.698977+00:00",null,null,null,null,null,null,null,null,"13645","LSBI Bio 496R Secondary teachi","13645-LSBI Bio 496R Secondary teachi",null,null,null,"AS126682227","Earl Brown (126682227) Humanities - Linguistics","AS126682227-Earl Brown (126682227) Humanities - Linguistics","Active",null,null,null,null,null,null,null,null,null,null,null,"SC7002","SC7002||1400","1400","Prepaid Expenses",null,"All"]
[null,null,null,null,null,null,"AC01013","[MSE] Ed Leadership and Foundations","AC01013-[MSE] Ed Leadership and Foundations","Activity","FD01","Active","2025-03-17T16:11:52.698977+00:00",null,null,null,null,null,null,null,null,"13646","LSBI Bio 503 Research Orientat","13646-LSBI Bio 503 Research Orientat",null,null,null,"AS127277455","Brook Gotberg (127277455) AVP - Dean, Clark Law School","AS127277455-Brook Gotberg (127277455) AVP - Dean, Clark Law School","Active",null,null,null,null,null,null,null,null,null,null,null,"SC7002","SC7002||7000","7000","Travel","Primary","All"]
[null,null,null,null,null,null,"AC01014","[MSE] Principals Academy Fellowship","AC01014-[MSE] Principals Academy Fellowship","Activity","FD01","Active","2025-03-17T16:11:52.698977+00:00",null,null,null,null,null,null,null,null,"13647","LSBI Bio 510 Bio Systematics C","13647-LSBI Bio 510 Bio Systematics C",null,null,null,"AS127470044","Nathan Haines (127470044) Fine Arts & Communications - School of Music","AS127470044-Nathan Haines (127470044) Fine Arts & Communications - School of Music","Active",null,null,null,null,null,null,null,null,null,null,null,"SC7003","SC7003||1400","1400","Prepaid Expenses",null,"All"]
[null,null,null,null,null,null,"AC01015","[MSE] Ed Law Journal","AC01015-[MSE] Ed Law Journal","Activity","FD02","Active","2025-03-17T16:11:52.698977+00:00",null,null,null,null,null,null,null,null,"13648","LSBI Bio 512 Angiosperm Phylog","13648-LSBI Bio 512 Angiosperm Phylog",null,null,null,"AS127546071","Anna Duvall (127546071) Fine Arts & Communications - Dance","AS127546071-Anna Duvall (127546071) Fine Arts & Communications - Dance","Active",null,null,null,null,null,null,null,null,null,null,null,"SC7003","SC7003||7000","7000","Travel","Primary","All"]
[null,null,null,null,null,null,"AC01016","[MSE] Leadership R & D","AC01016-[MSE] Leadership R & D","Activity","FD03","Active","2025-03-17T16:11:52.698977+00:00",null,null,null,null,null,null,null,null,"13649","LSBI Bio 517 Pub in Peer Rev J","13649-LSBI Bio 517 Pub in Peer Rev J",null,null,null,"AS127614029","Marsh Morford (127614029) BYU Broadcasting - Post Production","AS127614029-Marsh Morford (127614029) BYU Broadcasting - Post Production","Active",null,null,null,null,null,null,null,null,null,null,null,"SC7004","SC7004||1400","1400","Prepaid Expenses",null,"All"]
[null,null,null,null,null,null,"AC01018","[MSE] Instruct Material L","AC01018-[MSE] Instruct Material L","Activity","FD01","Active","2025-03-17T16:11:52.698977+00:00",null,null,null,null,null,null,null,null,"13650","LSPW CURA-Aanderud, Zachary","13650-LSPW CURA-Aanderud, Zachary",null,null,null,"AS127769758","Scott Payne (127769758) OIT Core - Business Process & Project Mgmt","AS127769758-Scott Payne (127769758) OIT Core - Business Process & Project Mgmt","Active",null,null,null,null,null,null,null,null,null,null,null,"SC7004","SC7004||7000","7000","Travel","Primary","All"]
[null,null,null,null,null,null,"AC01019","[MSE] Instructional Science","AC01019-[MSE] Instructional Science","Activity","FD01","Active","2025-03-17T16:11:52.698977+00:00",null,null,null,null,null,null,null,null,"13651","LSPW CURA-Abbott, Benjamin","13651-LSPW CURA-Abbott, Benjamin",null,null,null,"AS127929233","Brooke Downs (127929233) Humanities - English","AS127929233-Brooke Downs (127929233) Humanities - English","Active",null,null,null,null,null,null,null,null,null,null,null,"SC7005","SC7005||1400","1400","Prepaid Expenses",null,"All"]
[null,null,null,null,null,null,"AC01020","[MSE] Undergrad Research Training","AC01020-[MSE] Undergrad Research Training","Activity","FD01","Active","2025-03-17T16:11:52.698977+00:00",null,null,null,null,null,null,null,null,"13652","LSPW CURA-Allen, Phil","13652-LSPW CURA-Allen, Phil",null,null,null,"AS128083483","Gregory Macfarlane (128083483) College of Engineering - Civil & Construction Engineering","AS128083483-Gregory Macfarlane (128083483) College of Engineering - Civil & Construction Engineering","Active",null,null,null,null,null,null,null,null,null,null,null,"SC7005","SC7005||7000","7000","Travel","Primary","All"]
[null,null,null,null,null,null,"AC01021","[MSE] Grad Study Robert Bodily","AC01021-[MSE] Grad Study Robert Bodily","Activity","FD01","Active","2025-03-17T16:11:52.698977+00:00",null,null,null,null,null,null,null,null,"13653","LSPW CURA-Allphin, Loreen","13653-LSPW CURA-Allphin, Loreen",null,null,null,"AS128447981","Todd Uffens (128447981) Retail Services - General Administration","AS128447981-Todd Uffens (128447981) Retail Services - General Administration","Active",null,null,null,null,null,null,null,null,null,null,null,"SC7006","SC7006||1400","1400","Prepaid Expenses",null,"All"]
[null,null,null,null,null,null,"AC01022","[MSE] Inst Psych & Tech Student Org","AC01022-[MSE] Inst Psych & Tech Student Org","Activity","FD02","Active","2025-03-17T16:11:52.698977+00:00",null,null,null,null,null,null,null,null,"13654","LSPW CURA-Anderson, Val","13654-LSPW CURA-Anderson, Val",null,null,null,"AS128595921","David Draper (128595921) Mechanical Engineering","AS128595921-David Draper (128595921) Mechanical Engineering","Active",null,null,null,null,null,null,null,null,null,null,null,"SC7006","SC7006||7000","7000","Travel","Primary","All"]
[null,null,null,null,null,null,"AC01023","[MSE] Graduate Studies-Inst Psy","AC01023-[MSE] Graduate Studies-Inst Psy","Activity","FD03","Active","2025-03-17T16:11:52.698977+00:00",null,null,null,null,null,null,null,null,"13655","LSPW CURA-Arrington, Matthew","13655-LSPW CURA-Arrington, Matthew",null,null,null,"AS128774011","Traci Neilsen (128774011) CMS - Physics and Astronomy","AS128774011-Traci Neilsen (128774011) CMS - Physics and Astronomy","Active",null,null,null,null,null,null,null,null,null,null,null,"SC7099","SC7099||1400","1400","Prepaid Expenses",null,"All"]
[null,null,null,null,null,null,"AC01024","[MSE] IP&T Designated Funds","AC01024-[MSE] IP&T Designated Funds","Activity","FD03","Active","2025-03-17T16:11:52.698977+00:00",null,null,null,null,null,null,null,null,"13656","LSPW CURA-Chaston, John","13656-LSPW CURA-Chaston, John",null,null,null,"AS128853436","Greg Corlett (128853436) Computer Science","AS128853436-Greg Corlett (128853436) Computer Science","Active",null,null,null,null,null,null,null,null,null,null,null,"SC7099","SC7099||7000","7000","Travel","Primary","All"]
[null,null,null,null,null,null,"AC01026","[MSE] CITES District Operations","AC01026-[MSE] CITES District Operations","Activity","FD01","Active","2025-03-17T16:11:52.698977+00:00",null,null,null,null,null,null,null,null,"13657","LSPW CURA-Standring, Sam","13657-LSPW CURA-Standring, Sam",null,null,null,"AS129016922","Jeff Lyon (129016922) Lee Library - Metadata & IT Division","AS129016922-Jeff Lyon (129016922) Lee Library - Metadata & IT Division","Active"]
[null,null,null,null,null,null,"AC01027","[MSE] Science & Engineering Fair","AC01027-[MSE] Science & Engineering Fair","Activity","FD02","Active","2025-03-17T16:11:52.698977+00:00",null,null,null,null,null,null,null,null,"13658","LSPW CURA-Frandsen, Paul","13658-LSPW CURA-Frandsen, Paul",null,null,null,"AS129251124","Greg Conner (129251124) CMS - Mathematics","AS129251124-Greg Conner (129251124) CMS - Mathematics","Active"]
[null,null,null,null,null,null,"AC01028","[MSE] Technology Project","AC01028-[MSE] Technology Project","Activity","FD03","Active","2025-03-17T16:11:52.698977+00:00",null,null,null,null,null,null,null,null,"13659","LSPW CURA-Geary, Bradley","13659-LSPW CURA-Geary, Bradley",null,null,null,"AS129666591","Eric Hansen (129666591) OIT Resource - Application Engineering","AS129666591-Eric Hansen (129666591) OIT Resource - Application Engineering","Active"]
[null,null,null,null,null,null,"AC01029","[MSE] BYU Partnership Renewal","AC01029-[MSE] BYU Partnership Renewal","Activity","FD03","Active","2025-03-17T16:11:52.698977+00:00",null,null,null,null,null,null,null,null,"13660","LSPW CURA-Hansen, Neil","13660-LSPW CURA-Hansen, Neil",null,null,null,"AS130025478","Heather Leary (130025478) MSE - Instructional Psychology & Technology","AS130025478-Heather Leary (130025478) MSE - Instructional Psychology & Technology","Active"]
[null,null,null,null,null,null,"AC01030","[MSE] CI-MTSS","AC01030-[MSE] CI-MTSS","Activity","FD03","Active","2025-03-17T16:11:52.698977+00:00",null,null,null,null,null,null,null,null,"13661","LSPW CURA-Hopkins, Bryan","13661-LSPW CURA-Hopkins, Bryan",null,null,null,"AS130212271","Justin Peatross (130212271) CMS - Physics and Astronomy","AS130212271-Justin Peatross (130212271) CMS - Physics and Astronomy","Active"]
[null,null,null,null,null,null,"AC01032","[MSE] Cites Capital Campaign","AC01032-[MSE] Cites Capital Campaign","Activity","FD03","Active","2025-03-17T16:11:52.698977+00:00",null,null,null,null,null,null,null,null,"13662","LSPW CURA-Hulet, April","13662-LSPW CURA-Hulet, April",null,null,null,"AS130331894","Jason Hansen (130331894) Life Sciences - Cell Biology & Physiology","AS130331894-Jason Hansen (130331894) Life Sciences - Cell Biology & Physiology","Active"]
[null,null,null,null,null,null,"AC01033","[MSE] CITES Sunshine Fund","AC01033-[MSE] CITES Sunshine Fund","Activity","FD07","Active","2025-03-17T16:11:52.698977+00:00",null,null,null,null,null,null,null,null,"13663","LSPW CURA-Jarvis, David","13663-LSPW CURA-Jarvis, David",null,null,null,"AS130365989","David Orton (130365989) OIT Portfolio - Tech Planning CES","AS130365989-David Orton (130365989) OIT Portfolio - Tech Planning CES","Active"]
[null,null,null,null,null,null,"AC01034","[MSE] Teacher Ed Grad Scholarships","AC01034-[MSE] Teacher Ed Grad Scholarships","Activity","FD01","Active","2025-03-17T16:11:52.698977+00:00",null,null,null,null,null,null,null,null,"13664","LSPW CURA-Jellen, Eric","13664-LSPW CURA-Jellen, Eric",null,null,null,"AS130490818","Kirsti Nelson (130490818) Purchasing and Travel- Campus Travel","AS130490818-Kirsti Nelson (130490818) Purchasing and Travel- Campus Travel","Active"]
[null,null,null,null,null,null,"AC01035","[MSE] Materials Account - Nebo Dist","AC01035-[MSE] Materials Account - Nebo Dist","Activity","FD01","Active","2025-03-17T16:11:52.698977+00:00",null,null,null,null,null,null,null,null,"13665","LSPW CURA-Jolley, Greg","13665-LSPW CURA-Jolley, Greg",null,null,null,"AS130563092","Brendan Wright (130563092) AVP - Dean, Graduate Studies","AS130563092-Brendan Wright (130563092) AVP - Dean, Graduate Studies","Active"]
[null,null,null,null,null,null,"AC01036","[MSE] Materials Account - Jordan Dis","AC01036-[MSE] Materials Account - Jordan Dis","Activity","FD01","Active","2025-03-17T16:11:52.698977+00:00",null,null,null,null,null,null,null,null,"13666","LSPW CURA-Larsen, Randy","13666-LSPW CURA-Larsen, Randy",null,null,null,"AS130564577","Kosha Hansen (130564577) Facilities Planning and Design - Campus Projects","AS130564577-Kosha Hansen (130564577) Facilities Planning and Design - Campus Projects","Active"]
[null,null,null,null,null,null,"AC01037","[MSE] Materials Account - Provo Dist","AC01037-[MSE] Materials Account - Provo Dist","Activity","FD01","Active","2025-03-17T16:11:52.698977+00:00",null,null,null,null,null,null,null,null,"13667","LSPW CURA-Madsen, Matthew","13667-LSPW CURA-Madsen, Matthew",null,null,null,"AS130700616","Ken Horton (130700616) Law School","AS130700616-Ken Horton (130700616) Law School","Active"]
[null,null,null,null,null,null,"AC01038","[MSE] Materials Account - Wasatch","AC01038-[MSE] Materials Account - Wasatch","Activity","FD01","Active","2025-03-17T16:11:52.698977+00:00",null,null,null,null,null,null,null,null,"13668","LSPW CURA-Maughan, Jeff","13668-LSPW CURA-Maughan, Jeff",null,null,null,"AS130971411","Susie Quartey (130971411) Research Administration - Sponsored Projects","AS130971411-Susie Quartey (130971411) Research Administration - Sponsored Projects","Active"]
[null,null,null,null,null,null,"AC01039","[MSE] Materials Account - Alpine Dis","AC01039-[MSE] Materials Account - Alpine Dis","Activity","FD01","Active","2025-03-17T16:11:52.698977+00:00",null,null,null,null,null,null,null,null,"13669","LSPW CURA-McMillan, Brock","13669-LSPW CURA-McMillan, Brock",null,null,null,"AS130973917","Stephanie Bair (130973917) AVP - Dean, Clark Law School","AS130973917-Stephanie Bair (130973917) AVP - Dean, Clark Law School","Active"]
[null,null,null,null,null,null,"AC01040","[MSE] Materials Account - ECE","AC01040-[MSE] Materials Account - ECE","Activity","FD01","Active","2025-03-17T16:11:52.698977+00:00",null,null,null,null,null,null,null,null,"13670","LSPW CURA-Petersen, Steven","13670-LSPW CURA-Petersen, Steven",null,null,null,"AS131008737","Damon Darais (131008737) OIT Leadership - CES Architecture","AS131008737-Damon Darais (131008737) OIT Leadership - CES Architecture","Active"]
[null,null,null,null,null,null,"AC01041","[MSE] Student Mentoring Program","AC01041-[MSE] Student Mentoring Program","Activity","FD01","Active","2025-03-17T16:11:52.698977+00:00",null,null,null,null,null,null,null,null,"13671","LSPW CURA-Robinson, Todd","13671-LSPW CURA-Robinson, Todd",null,null,null,"AS131324809","Ashley Jex (131324809) Fine Arts & Communications - Dance","AS131324809-Ashley Jex (131324809) Fine Arts & Communications - Dance","Active"]
[null,null,null,null,null,null,"AC01042","[MSE] Student Academic Assoc","AC01042-[MSE] Student Academic Assoc","Activity","FD01","Active","2025-03-17T16:11:52.698977+00:00",null,null,null,null,null,null,null,null,"13672","LSPW CURA-Smith, Thomas","13672-LSPW CURA-Smith, Thomas",null,null,null,"AS131471623","Montana Djanie (131471623) Enrollment Services Executive Director's Office","AS131471623-Montana Djanie (131471623) Enrollment Services Executive Director's Office","Active"]
[null,null,null,null,null,null,"AC01043","[MSE] Pre Intern Workshop","AC01043-[MSE] Pre Intern Workshop","Activity","FD01","Active","2025-03-17T16:11:52.698977+00:00",null,null,null,null,null,null,null,null,"13673","LSPW CURA-St. Clair, Sam","13673-LSPW CURA-St. Clair, Sam",null,null,null,"AS131511199","Ed McCracken (131511199) Enterprise Solutions - Finance/P&T","AS131511199-Ed McCracken (131511199) Enterprise Solutions - Finance/P&T","Active"]
[null,null,null,null,null,null,"AC01044","[MSE] BYU Reading Council","AC01044-[MSE] BYU Reading Council","Activity","FD02","Active","2025-03-17T16:11:52.698977+00:00",null,null,null,null,null,null,null,null,"13674","LSPW CURA-Stewart, J. Ryan","13674-LSPW CURA-Stewart, J. Ryan",null,null,null,"AS131577106","Joel Campbell (131577106) Fine Arts & Communications - School of Communications","AS131577106-Joel Campbell (131577106) Fine Arts & Communications - School of Communications","Active"]
[null,null,null,null,null,null,"AC01045","[MSE] Early Childhood Ed Club","AC01045-[MSE] Early Childhood Ed Club","Activity","FD02","Active","2025-03-17T16:11:52.698977+00:00",null,null,null,null,null,null,null,null,"13675","LSPW Colman/Noorda, Ch.","13675-LSPW Colman/Noorda, Ch.",null,null,null,"AS131602654","Ray Lines (131602654) OIT Leadership - AVP","AS131602654-Ray Lines (131602654) OIT Leadership - AVP","Active"]
[null,null,null,null,null,null,"AC01046","[MSE] Learning/Teaching Tech Lab","AC01046-[MSE] Learning/Teaching Tech Lab","Activity","FD02","Active","2025-03-17T16:11:52.698977+00:00",null,null,null,null,null,null,null,null,"13676","LSPW Hopkins/Cole D.","13676-LSPW Hopkins/Cole D.",null,null,null,"AS131905426","Lisa Denning (131905426) BYU Security Operations - Police Dispatch","AS131905426-Lisa Denning (131905426) BYU Security Operations - Police Dispatch","Active"]
[null,null,null,null,null,null,"AC01047","[MSE] Teacher Education LRC","AC01047-[MSE] Teacher Education LRC","Activity","FD03","Active","2025-03-17T16:11:52.698977+00:00",null,null,null,null,null,null,null,null,"13677","LSPW Frandsen/Tolman E.","13677-LSPW Frandsen/Tolman E.",null,null,null,"AS132409976","Evan Lambson (132409976) OIT Resource - Application Engineering","AS132409976-Evan Lambson (132409976) OIT Resource - Application Engineering","Active"]
[null,null,null,null,null,null,"AC01048","[MSE] PETE Fulton Funds","AC01048-[MSE] PETE Fulton Funds","Activity","FD03","Active","2025-03-17T16:11:52.698977+00:00",null,null,null,null,null,null,null,null,"13678","LSPW Smith/Raj V.","13678-LSPW Smith/Raj V.",null,null,null,"AS132557605","Curtis LeBaron (132557605) MSB - Management","AS132557605-Curtis LeBaron (132557605) MSB - Management","Active"]
[null,null,null,null,null,null,"AC01049","[MSE] SEEL Project","AC01049-[MSE] SEEL Project","Activity","FD03","Active","2025-03-17T16:11:52.698977+00:00",null,null,null,null,null,null,null,null,"13679","LSPW Frandsen/Bursell M","13679-LSPW Frandsen/Bursell M",null,null,null,"AS132569840","Whitley Kelemen (132569840) MSB - Experience Design & Management","AS132569840-Whitley Kelemen (132569840) MSB - Experience Design & Management","Active"]
[null,null,null,null,null,null,"AC01051","[MSB] MSB Graduate Scholarships","AC01051-[MSB] MSB Graduate Scholarships","Activity","FD01","Active","2025-03-17T16:11:52.698977+00:00",null,null,null,null,null,null,null,null,"13680","LSPW Jellen/Taylor J.","13680-LSPW Jellen/Taylor J.",null,null,null,"AS132612214","Scarlett Lindsay (132612214) CE Multimedia Services","AS132612214-Scarlett Lindsay (132612214) CE Multimedia Services","Active"]
[null,null,null,null,null,null,"AC01052","[MSB] Driggs Chair","AC01052-[MSB] Driggs Chair","Activity","FD01","Active","2025-03-17T16:11:52.698977+00:00",null,null,null,null,null,null,null,null,"13681","LSPW Abbott/Norris A.","13681-LSPW Abbott/Norris A.",null,null,null,"AS132849662","Marianna Tronchuk (132849662) Cougareat","AS132849662-Marianna Tronchuk (132849662) Cougareat","Active"]
[null,null,null,null,null,null,"AC01053","[MSB] MSB Transfers & Services","AC01053-[MSB] MSB Transfers & Services","Activity","FD02","Active","2025-03-17T16:11:52.698977+00:00",null,null,null,null,null,null,null,null,"13682","LSPW Abbott/Stanford T.","13682-LSPW Abbott/Stanford T.",null,null,null,"AS132862844","Carolee Rogers (132862844) Humanities - Linguistics","AS132862844-Carolee Rogers (132862844) Humanities - Linguistics","Active"]
[null,null,null,null,null,null,"AC01054","[MSB] MSB Tuition Transfers","AC01054-[MSB] MSB Tuition Transfers","Activity","FD03","Active","2025-03-17T16:11:52.698977+00:00",null,null,null,null,null,null,null,null,"13683","LSPW Robinson/Billin T.","13683-LSPW Robinson/Billin T.",null,null,null,"AS133151076","Mark Atwood (133151076) PF Building Operations","AS133151076-Mark Atwood (133151076) PF Building Operations","Active"]
[null,null,null,null,null,null,"AC01055","[MSB] Marriott School Transfers","AC01055-[MSB] Marriott School Transfers","Activity","FD03","Active","2025-03-17T16:11:52.698977+00:00",null,null,null,null,null,null,null,null,"13684","LSPW Chaston/Gottfredson S.","13684-LSPW Chaston/Gottfredson S.",null,null,null,"AS133245229","Eva Witesman (133245229) MSB - Public Service & Ethics","AS133245229-Eva Witesman (133245229) MSB - Public Service & Ethics","Active"]
[null,null,null,null,null,null,"AC01056","[MSB] BYU DAC Learn Do Become","AC01056-[MSB] BYU DAC Learn Do Become","Activity","FD03","Active","2025-03-17T16:11:52.698977+00:00",null,null,null,null,null,null,null,null,"13685","LSPW Geary/Nielson E.","13685-LSPW Geary/Nielson E.",null,null,null,"AS133388472","Ryan Miller (133388472) FHSS - School of Social Work","AS133388472-Ryan Miller (133388472) FHSS - School of Social Work","Active"]
[null,null,null,null,null,null,"AC01058","[MSB] BYU Experiential Learning","AC01058-[MSB] BYU Experiential Learning","Activity","FD03","Active","2025-03-17T16:11:52.698977+00:00",null,null,null,null,null,null,null,null,"13686","LSPW Frandsen/Coenen E.","13686-LSPW Frandsen/Coenen E.",null,null,null,"AS133389743","Jordan Stewart (133389743) Fine Arts & Communications - Design","AS133389743-Jordan Stewart (133389743) Fine Arts & Communications - Design","Active"]
[null,null,null,null,null,null,"AC01059","[MSB] NAC Spouses Sunshine Fund","AC01059-[MSB] NAC Spouses Sunshine Fund","Activity","FD07","Active","2025-03-17T16:11:52.698977+00:00",null,null,null,null,null,null,null,null,"13687","LSPW Chaston/Davis M.","13687-LSPW Chaston/Davis M.",null,null,null,"AS133647388","Brendan Huber (133647388) Lee Library - Information Technology","AS133647388-Brendan Huber (133647388) Lee Library - Information Technology","Active"]
[null,null,null,null,null,null,"AC01060","[MSB] WACSB (Western Assoc of Coll)","AC01060-[MSB] WACSB (Western Assoc of Coll)","Activity","FD07","Active","2025-03-17T16:11:52.698977+00:00",null,null,null,null,null,null,null,null,"13688","LSPW Allen/Flake A.","13688-LSPW Allen/Flake A.",null,null,null,"AS133692455","Tim McLain (133692455) AVP - Dean, College of Engineering","AS133692455-Tim McLain (133692455) AVP - Dean, College of Engineering","Active"]
[null,null,null,null,null,null,"AC01061","[MSB] Executive Lectures","AC01061-[MSB] Executive Lectures","Activity","FD01","Active","2025-03-17T16:11:52.698977+00:00",null,null,null,null,null,null,null,null,"13689","LSPW Abbott/Frandsen B.","13689-LSPW Abbott/Frandsen B.",null,null,null,"AS133811138","Ruth Aguirre (133811138) FHSS - School of Social Work","AS133811138-Ruth Aguirre (133811138) FHSS - School of Social Work","Active"]
[null,null,null,null,null,null,"AC01062","[MSB] Research Support","AC01062-[MSB] Research Support","Activity","FD01","Active","2025-03-17T16:11:52.698977+00:00",null,null,null,null,null,null,null,null,"13690","LSPW Audubon Group/W&R Club","13690-LSPW Audubon Group/W&R Club",null,null,null,"AS133832735","Robbie Chaney (133832735) Life Sciences - Public Health","AS133832735-Robbie Chaney (133832735) Life Sciences - Public Health","Active"]
[null,null,null,null,null,null,"AC01063","[MSB] MSB Student Council","AC01063-[MSB] MSB Student Council","Activity","FD01","Active","2025-03-17T16:11:52.698977+00:00",null,null,null,null,null,null,null,null,"13691","LSPW Ecological Restoration/W&","13691-LSPW Ecological Restoration/W&",null,null,null,"AS133959713","Nathan Crane (133959713) College of Engineering - Mechanical Engineering","AS133959713-Nathan Crane (133959713) College of Engineering - Mechanical Engineering","Active"]
[null,null,null,null,null,null,"AC01064","[MSB] MSB Student Council","AC01064-[MSB] MSB Student Council","Activity","FD02","Active","2025-03-17T16:11:52.698977+00:00",null,null,null,null,null,null,null,null,"13692","LSPW PWS 2024","13692-LSPW PWS 2024",null,null,null,"AS134122299","Jacob Speakman (134122299) OIT Resource - Application Engineering","AS134122299-Jacob Speakman (134122299) OIT Resource - Application Engineering","Active"]
[null,null,null,null,null,null,"AC01065","[MSB] Marriott School Support","AC01065-[MSB] Marriott School Support","Activity","FD03","Active","2025-03-17T16:11:52.698977+00:00",null,null,null,null,null,null,null,null,"13693","LSPW PWS 2025","13693-LSPW PWS 2025",null,null,null,"AS134167750","Sione Pouha (134167750) Athletics - Football","AS134167750-Sione Pouha (134167750) Athletics - Football","Active"]
[null,null,null,null,null,null,"AC01084","[MSB] Rollins Center Operating Acct","AC01084-[MSB] Rollins Center Operating Acct","Activity","FD03","Active","2025-03-17T16:11:52.698977+00:00",null,null,null,null,null,null,null,null,"13712","LSDO \"R\" Projects","13712-LSDO \"R\" Projects",null,null,null,"AS136117065","Shane Jorgenson (136117065) Dean's Office - CMS","AS136117065-Shane Jorgenson (136117065) Dean's Office - CMS","Active"]
[null,null,null,null,null,null,"AC01089","[MSB] BYU Chinese Business Club","AC01089-[MSB] BYU Chinese Business Club","Activity","FD02","Active","2025-03-17T16:11:52.698977+00:00",null,null,null,null,null,null,null,null,"13717","LSDO COMMS-Magazine","13717-LSDO COMMS-Magazine",null,null,null,"AS137112792","Jaclyn Brown (137112792) Fine Arts & Communications - Dance","AS137112792-Jaclyn Brown (137112792) Fine Arts & Communications - Dance","Active"]
[null,null,null,null,null,null,"AC01130","[MSB] MKSC Sunshine Fund","AC01130-[MSB] MKSC Sunshine Fund","Activity","FD07","Active","2025-03-17T16:11:52.869001+00:00",null,null,null,null,null,null,null,null,"13756","LSDO Animal Care Facility","13756-LSDO Animal Care Facility",null,null,null,"AS142228559","Nathan Walch (142228559) University Accessibility Center","AS142228559-Nathan Walch (142228559) University Accessibility Center","Active"]
[null,null,null,null,null,null,"AC01142","[MSB] Undergrad Supply Chain Assoc.","AC01142-[MSB] Undergrad Supply Chain Assoc.","Activity","FD02","Active","2025-03-17T16:11:52.869001+00:00",null,null,null,null,null,null,null,null,"13767","LSDO COMMS-Donor Relations","13767-LSDO COMMS-Donor Relations",null,null,null,"AS143931736","Don Liufau (143931736) Catering Services","AS143931736-Don Liufau (143931736) Catering Services","Active"]
[null,null,null,null,null,null,"AC01170","[MSB] Crocker Fellowship Budget","AC01170-[MSB] Crocker Fellowship Budget","Activity","FD01","Active","2025-03-17T16:11:52.869001+00:00",null,null,null,null,null,null,null,null,"13793","LSDO Copier-MX6071-LSB4004Est","13793-LSDO Copier-MX6071-LSB4004Est",null,null,null,"AS147506573","Lee Cummard (147506573) Athletics - Women's Basketball","AS147506573-Lee Cummard (147506573) Athletics - Women's Basketball","Active"]
[null,null,null,null,null,null,"AC01190","[MSB] BYU City Mgt Alumni & Friends","AC01190-[MSB] BYU City Mgt Alumni & Friends","Activity","FD02","Active","2025-03-17T16:11:52.869001+00:00",null,null,null,null,null,null,null,null,"14015","Merchant Fees","14015-Merchant Fees",null,null,null,"AS149755403","Daniel Duraes Machado (149755403) OIT Resource - Application Engineering","AS149755403-Daniel Duraes Machado (149755403) OIT Resource - Application Engineering","Active"]
[null,null,null,null,null,null,"AC01222","[NURS] Experiential Learning","AC01222-[NURS] Experiential Learning","Activity","FD03","Active","2025-03-17T16:11:52.869001+00:00",null,null,null,null,null,null,null,null,"14073","Dues-Subscriptions","14073-Dues-Subscriptions",null,null,null,"AS155648107","Jeffrey Woodbury (155648107) BYU Broadcasting - Digital Media","AS155648107-Jeffrey Woodbury (155648107) BYU Broadcasting - Digital Media","Active"]
[null,null,null,null,null,null,"AC01231","[NURS] Grad Mentor Nuttall","AC01231-[NURS] Grad Mentor Nuttall","Activity","FD03","Active","2025-03-17T16:11:52.869001+00:00",null,null,null,null,null,null,null,null,"14090","Creative Services","14090-Creative Services",null,null,null,"AS156860807","Jay Raines (156860807) Management Department","AS156860807-Jay Raines (156860807) Management Department","Active"]
[null,null,null,null,null,null,"AC01252","[ARTS] Experiential Learning FAC","AC01252-[ARTS] Experiential Learning FAC","Activity","FD03","Active","2025-03-17T16:11:52.869001+00:00",null,null,null,null,null,null,null,null,"14140","Student Textbook Benefit","14140-Student Textbook Benefit",null,null,null,"AS160499412","Becky Lundwall (160499412) FHSS - Psychology","AS160499412-Becky Lundwall (160499412) FHSS - Psychology","Active"]
[null,null,null,null,null,null,"AC01275","[ARTS] Dance Dept. Scholarshps","AC01275-[ARTS] Dance Dept. Scholarshps","Activity","FD01","Active","2025-03-17T16:11:52.869001+00:00",null,null,null,null,null,null,null,null,"14188","Square One","14188-Square One",null,null,null,"AS164684203","Clint Guymon (164684203) College of Engineering - Chemical Engineering","AS164684203-Clint Guymon (164684203) College of Engineering - Chemical Engineering","Active"]
[null,null,null,null,null,null,"AC01308","[ARTS] BYU SDEO Club","AC01308-[ARTS] BYU SDEO Club","Activity","FD02","Active","2025-03-17T16:11:52.869001+00:00",null,null,null,null,null,null,null,null,"14640","Monthly Service","14640-Monthly Service",null,null,null,"AS170871284","Rickelle Richards (170871284) Life Sciences - Nutrition, Dietetics, & Food Science","AS170871284-Rickelle Richards (170871284) Life Sciences - Nutrition, Dietetics, & Food Science","Active"]
[null,null,null,null,null,null,"AC01330","[ARTS] Art Prod Sunshine Fund","AC01330-[ARTS] Art Prod Sunshine Fund","Activity","FD07","Active","2025-03-17T16:11:53.01151+00:00",null,null,null,null,null,null,null,null,"14977","Marketing-Social Media Ads","14977-Marketing-Social Media Ads",null,null,null,"AS175342656","Thad Brown (175342656) Enrollment Services Executive Director's Office","AS175342656-Thad Brown (175342656) Enrollment Services Executive Director's Office","Active"]
[null,null,null,null,null,null,"AC01348","[ARTS] Men's Chorus Dues","AC01348-[ARTS] Men's Chorus Dues","Activity","FD02","Active","2025-04-01T02:03:57.526982+00:00",null,null,null,null,null,null,null,null,"15022","UAC Awards Banquet","15022-UAC Awards Banquet",null,null,null,"AS178385558","Tosh Yoshioka (178385558) MTC Dining","AS178385558-Tosh Yoshioka (178385558) MTC Dining","Active"]
[null,null,null,null,null,null,"AC01363","[ARTS] Sound Recording","AC01363-[ARTS] Sound Recording","Activity","FD02","Active","2025-03-17T16:11:53.01151+00:00",null,null,null,null,null,null,null,null,"15054","LEAD","15054-LEAD",null,null,null,"AS182259368","Rebekah Jakeman (182259368) Humanities - English","AS182259368-Rebekah Jakeman (182259368) Humanities - English","Active"]
[null,null,null,null,null,null,"AC01384","[ARTS] Women's Chorus Clothes","AC01384-[ARTS] Women's Chorus Clothes","Activity","FD02","Active","2025-04-01T02:03:57.526982+00:00",null,null,null,null,null,null,null,null,"15098","Women to Women","15098-Women to Women",null,null,null,"AS187209135","Brent Chowen (187209135) MSE  - Teacher Education","AS187209135-Brent Chowen (187209135) MSE  - Teacher Education","Active"]
[null,null,null,null,null,null,"AC01421","[ARTS] TMA Prop Rentals","AC01421-[ARTS] TMA Prop Rentals","Activity","FD02","Active","2025-03-17T16:11:53.01151+00:00",null,null,null,null,null,null,null,null,"15225","Dispatch","15225-Dispatch",null,null,null,"AS194365154","Taylor Adams (194365154) Registrar's Office","AS194365154-Taylor Adams (194365154) Registrar's Office","Active"]
[null,null,null,null,null,null,"AC01447","[ARTS] Art Film & Digital Media Funds","AC01447-[ARTS] Art Film & Digital Media Funds","Activity","FD01","Active","2025-03-17T16:11:53.01151+00:00",null,null,null,null,null,null,null,null,"15305","HS Nursing","15305-HS Nursing",null,null,null,"AS199178200","Shauna Howell (199178200) Athletics - Creative Strategy - Graphic Design","AS199178200-Shauna Howell (199178200) Athletics - Creative Strategy - Graphic Design","Active"]
[null,null,null,null,null,null,"AC01465","[ARTS] IDSA Student Chapter","AC01465-[ARTS] IDSA Student Chapter","Activity","FD02","Active","2025-03-17T16:11:53.01151+00:00",null,null,null,null,null,null,null,null,"15476","Foster Love","15476-Foster Love",null,null,null,"AS202160519","Brandon Gassaway (202160519) CMS - Chemistry and Biochemistry","AS202160519-Brandon Gassaway (202160519) CMS - Chemistry and Biochemistry","Active"]
[null,null,null,null,null,null,"AC01477","[CMS] CPMS Simmons Endowment Payout","AC01477-[CMS] CPMS Simmons Endowment Payout","Activity","FD03","Active","2025-03-17T16:11:53.01151+00:00",null,null,null,null,null,null,null,null,"15493","Underwater Robotics","15493-Underwater Robotics",null,null,null,"AS204383765","Woodruff Miller (204383765) College of Engineering - Civil & Construction Engineering","AS204383765-Woodruff Miller (204383765) College of Engineering - Civil & Construction Engineering","Active"]
[null,null,null,null,null,null,"AC01503","[CMS] Atmospheric Measurements Proj","AC01503-[CMS] Atmospheric Measurements Proj","Activity","FD03","Active","2025-03-17T16:11:53.01151+00:00",null,null,null,null,null,null,null,null,"15548","Sub for Santa","15548-Sub for Santa",null,null,null,"AS208830468","James Hartshorn (208830468) Humanities - Linguistics","AS208830468-James Hartshorn (208830468) Humanities - Linguistics","Active"]
[null,null,null,null,null,null,"AC01522","[CMS] Assoc Computing Mac","AC01522-[CMS] Assoc Computing Mac","Activity","FD02","Active","2025-03-17T16:11:53.01151+00:00",null,null,null,null,null,null,null,null,"15572","Community Food Banks","15572-Community Food Banks",null,null,null,"AS212067395","Trent Woolford (212067395) BYU Broadcasting - Post Production","AS212067395-Trent Woolford (212067395) BYU Broadcasting - Post Production","Active"]
[null,null,null,null,null,null,"AC01556","[CMS] Stratigraphic Paleo Lab","AC01556-[CMS] Stratigraphic Paleo Lab","Activity","FD03","Active","2025-03-17T16:11:53.126618+00:00",null,null,null,null,null,null,null,null,"15661","Sports Psychology Club","15661-Sports Psychology Club",null,null,null,"AS220242099","Jon Shepherd (220242099) PF Landscaping Specialty","AS220242099-Jon Shepherd (220242099) PF Landscaping Specialty","Active"]
[null,null,null,null,null,null,"AC01585","[CMS] P & A REU Program","AC01585-[CMS] P & A REU Program","Activity","FD01","Active","2025-03-17T16:11:53.126618+00:00",null,null,null,null,null,null,null,null,"15689","Tall Club","15689-Tall Club",null,null,null,"AS225180417","Scott Schaefermeyer (225180417) Center for Teaching & Learning - Academic Technology","AS225180417-Scott Schaefermeyer (225180417) Center for Teaching & Learning - Academic Technology","Active"]
[null,null,null,null,null,null,"AC01603","[CMS] BYU Statistics/Mu Sigma Rho","AC01603-[CMS] BYU Statistics/Mu Sigma Rho","Activity","FD02","Active","2025-03-17T16:11:53.126618+00:00",null,null,null,null,null,null,null,null,"15707","BYUSA SAC","15707-BYUSA SAC",null,null,null,"AS229379216","Matt Christensen (229379216) Church History and Doctrine","AS229379216-Matt Christensen (229379216) Church History and Doctrine","Active"]
[null,null,null,null,null,null,"AC01633","[ADM] Retail Community","AC01633-[ADM] Retail Community","Activity","FD03","Active","2025-03-17T16:11:53.126618+00:00",null,null,null,null,null,null,null,null,"15742","Disney History Club","15742-Disney History Club",null,null,null,"AS234294886","Katelyn Nichols (234294886) CMS - Chemistry and Biochemistry","AS234294886-Katelyn Nichols (234294886) CMS - Chemistry and Biochemistry","Active"]
[null,null,null,null,null,null,"AC01641","[ADM] University Unallocated","AC01641-[ADM] University Unallocated","Activity","FD01","Active","2025-03-17T16:11:53.126618+00:00",null,null,null,null,null,null,null,null,"15751","Senior Celebration","15751-Senior Celebration",null,null,null,"AS236270493","Natalie Chambers (236270493) CE Advisement","AS236270493-Natalie Chambers (236270493) CE Advisement","Active"]
[null,null,null,null,null,null,"AC01658","[FIN] Taxes","AC01658-[FIN] Taxes","Activity","FD01","Active","2025-03-17T16:11:53.126618+00:00",null,null,null,null,null,null,null,null,"15779","South Asian Student Assoc","15779-South Asian Student Assoc",null,null,null,"AS238653435","Debra Fordham (238653435) BYU Broadcasting - Producers Group","AS238653435-Debra Fordham (238653435) BYU Broadcasting - Producers Group","Active"]
[null,null,null,null,null,null,"AC01684","[FIN] AR-LDS Public Affairs Off","AC01684-[FIN] AR-LDS Public Affairs Off","Activity","FD01","Active","2025-03-17T16:11:53.126618+00:00",null,null,null,null,null,null,null,null,"15805","Social Workers Club","15805-Social Workers Club",null,null,null,"AS244160984","Cory Dennis (244160984) FHSS - School of Social Work","AS244160984-Cory Dennis (244160984) FHSS - School of Social Work","Active"]
[null,null,null,null,null,null,"AC01718","[PROD] Open Source Printing","AC01718-[PROD] Open Source Printing","Activity","FD02","Active","2025-03-17T16:11:53.126618+00:00",null,null,null,null,null,null,null,null,"15838","West Coast Swing Club","15838-West Coast Swing Club",null,null,null,"AS250842321","Mandy Christensen (250842321) Life Sciences - Exercise Sciences","AS250842321-Mandy Christensen (250842321) Life Sciences - Exercise Sciences","Active"]
[null,null,null,null,null,null,"AC01745","[PFAC] Stake Ward Projects","AC01745-[PFAC] Stake Ward Projects","Activity","FD01","Active","2025-03-17T16:11:53.126618+00:00",null,null,null,null,null,null,null,null,"15859","BYU Andean Student Association","15859-BYU Andean Student Association",null,null,null,"AS257109299","Dawn-Marie Wood (257109299) FHSS - Psychology","AS257109299-Dawn-Marie Wood (257109299) FHSS - Psychology","Active"]
[null,null,null,null,null,null,"AC01763","[STLF] UAC Research GeriLynn Vorkink","AC01763-[STLF] UAC Research GeriLynn Vorkink","Activity","FD01","Active","2025-03-17T16:11:53.24074+00:00",null,null,null,null,null,null,null,null,"15878","Club 5","15878-Club 5",null,null,null,"AS259821048","Mary Davis (259821048) Life Sciences - Microbiology & Molecular Biology","AS259821048-Mary Davis (259821048) Life Sciences - Microbiology & Molecular Biology","Active"]
[null,null,null,null,null,null,"AC01780","[STLF] Allied Health Club","AC01780-[STLF] Allied Health Club","Activity","FD02","Active","2025-03-17T16:11:53.24074+00:00",null,null,null,null,null,null,null,null,"15893","Lego Club","15893-Lego Club",null,null,null,"AS262263178","Lisa Giguere (262263178) Academic Advisement Center","AS262263178-Lisa Giguere (262263178) Academic Advisement Center","Active"]
[null,null,null,null,null,null,"AC01801","[STLF] Student Wellness Support","AC01801-[STLF] Student Wellness Support","Activity","FD02","Active","2025-03-17T16:11:53.24074+00:00",null,null,null,null,null,null,null,null,"15965","Mentor 2","15965-Mentor 2",null,null,null,"AS266131671","Neil Anderson (266131671) College of Engineering - Civil & Construction Engineering","AS266131671-Neil Anderson (266131671) College of Engineering - Civil & Construction Engineering","Active"]
[null,null,null,null,null,null,"AC01837","[ENRL] Elks Scholarship","AC01837-[ENRL] Elks Scholarship","Activity","FD07","Active","2025-03-17T16:11:53.24074+00:00",null,null,null,null,null,null,null,null,"16134","Foreign & International","16134-Foreign & International",null,null,null,"AS272325579","Melissa Whaley (272325579) PF Business Support - Warehouse","AS272325579-Melissa Whaley (272325579) PF Business Support - Warehouse","Active"]
[null,null,null,null,null,null,"AC01856","[ENRL] Regents - GAP","AC01856-[ENRL] Regents - GAP","Activity","FD07","Active","2025-03-17T16:11:53.24074+00:00",null,null,null,null,null,null,null,null,"16222","Research Fellows Law & Rel","16222-Research Fellows Law & Rel",null,null,null,"AS275111666","Nick Totten (275111666) Lee Library - Metadata & IT Division","AS275111666-Nick Totten (275111666) Lee Library - Metadata & IT Division","Active"]
[null,null,null,null,null,null,"AC01877","[HCEN] Gibbons, Deborah","AC01877-[HCEN] Gibbons, Deborah","Activity","FD02","Active","2025-03-17T16:11:53.24074+00:00",null,null,null,null,null,null,null,null,"16284","Law Review","16284-Law Review",null,null,null,"AS278213477","Jearlene Leishman (278213477) Enterprise Solutions - Security","AS278213477-Jearlene Leishman (278213477) Enterprise Solutions - Security","Active"]
[null,null,null,null,null,null,"AC01888","[HCEN] Tanner, Leslie","AC01888-[HCEN] Tanner, Leslie","Activity","FD02","Active","2025-03-17T16:11:53.24074+00:00",null,null,null,null,null,null,null,null,"16300","Barristers Ball","16300-Barristers Ball",null,null,null,"AS280480027","Jeff Sheets (280480027) Fine Arts & Communications - School of Communications","AS280480027-Jeff Sheets (280480027) Fine Arts & Communications - School of Communications","Active"]
[null,null,null,null,null,null,"AC01915","[AER] BYU Management Society Clearng","AC01915-[AER] BYU Management Society Clearng","Activity","FD02","Active","2025-03-17T16:11:53.24074+00:00",null,null,null,null,null,null,null,null,"16382","New York Law Society","16382-New York Law Society",null,null,null,"AS285541357","Kelly Bready (285541357) Fine Arts & Communications - Design","AS285541357-Kelly Bready (285541357) Fine Arts & Communications - Design","Active"]
[null,null,null,null,null,null,"AC01932","[AER] Alumni Comm & Mktg","AC01932-[AER] Alumni Comm & Mktg","Activity","FD01","Active","2025-03-17T16:11:53.24074+00:00",null,null,null,null,null,null,null,null,"16500","Law School Events","16500-Law School Events",null,null,null,"AS288190488","Adam Baker (288190488) OIT Leadership - CES Security Mgmt","AS288190488-Adam Baker (288190488) OIT Leadership - CES Security Mgmt","Active"]
[null,null,null,null,null,null,"AC01961","[AER] AZ Tucson","AC01961-[AER] AZ Tucson","Activity","FD02","Active","2025-03-17T16:11:53.24074+00:00",null,null,null,null,null,null,null,null,"16786","International Tour","16786-International Tour",null,null,null,"AS295953096","Morgan Lyons (295953096) Title IX","AS295953096-Morgan Lyons (295953096) Title IX","Active"]
[null,null,null,null,null,null,"AC01991","[AER] WI Green Bay/Appleton","AC01991-[AER] WI Green Bay/Appleton","Activity","FD02","Active","2025-03-17T16:11:53.337779+00:00",null,null,null,null,null,null,null,null,"16891","Restructuring Academy","16891-Restructuring Academy",null,null,null,"AS302328320","Dean Busby (302328320) FHSS - School of Family Life","AS302328320-Dean Busby (302328320) FHSS - School of Family Life","Active"]
[null,null,null,null,null,null,"AC02008","[AER] Brand Management and Marketing","AC02008-[AER] Brand Management and Marketing","Activity","FD02","Active","2025-03-17T16:11:53.337779+00:00",null,null,null,null,null,null,null,null,"16934","Oxford","16934-Oxford",null,null,null,"AS305318051","Becca Hurley (305318051) BYU Broadcasting - BYU Radio","AS305318051-Becca Hurley (305318051) BYU Broadcasting - BYU Radio","Active"]
[null,null,null,null,null,null,"AC02016","[BYUB] BYUB Unrestricted Content Gifts","AC02016-[BYUB] BYUB Unrestricted Content Gifts","Activity","FD02","Active","2025-03-17T16:11:53.337779+00:00",null,null,null,null,null,null,null,null,"16960","Director Travel","16960-Director Travel",null,null,null,"AS306761491","Gary Fuller (306761491) Humanities - English","AS306761491-Gary Fuller (306761491) Humanities - English","Active"]
[null,null,null,null,null,null,"AC02045","[ATH] NCAA Travel","AC02045-[ATH] NCAA Travel","Activity","FD02","Active","2025-03-17T16:11:53.337779+00:00",null,null,null,null,null,null,null,null,"17054","ATH Student Athlete Building","17054-ATH Student Athlete Building",null,null,null,"AS312701541","Kelsey Smith (312701541) Humanities - English","AS312701541-Kelsey Smith (312701541) Humanities - English","Active"]
[null,null,null,null,null,null,"AC02062","[ATH] Football Bowl Team","AC02062-[ATH] Football Bowl Team","Activity","FD02","Active","2025-03-17T16:11:53.337779+00:00",null,null,null,null,null,null,null,null,"17095","ATH Diversity and Inclusion","17095-ATH Diversity and Inclusion",null,null,null,"AS316048066","John Best (316048066) CE Academic Outreach & Sales","AS316048066-John Best (316048066) CE Academic Outreach & Sales","Active"]
[null,null,null,null,null,null,"AC02088","[ATH] Sports Camps-Fathers and Sons","AC02088-[ATH] Sports Camps-Fathers and Sons","Activity","FD02","Active","2025-03-17T16:11:53.337779+00:00",null,null,null,null,null,null,null,null,"17143","ATH National Female Sports Day","17143-ATH National Female Sports Day",null,null,null,"AS322862850","Laurie Urquiaga (322862850) Law School - Information Tech","AS322862850-Laurie Urquiaga (322862850) Law School - Information Tech","Active"]
[null,null,null,null,null,null,"AC02121","[ATH] Sports Camps-Wint Soccer Boys","AC02121-[ATH] Sports Camps-Wint Soccer Boys","Activity","FD02","Active","2025-03-17T16:11:53.337779+00:00",null,null,null,null,null,null,null,null,"17360","ATH Track Meet- Robison Invita","17360-ATH Track Meet- Robison Invita",null,null,null,"AS328514894","Kerstine Hart (328514894) MSE - Communication Disorders","AS328514894-Kerstine Hart (328514894) MSE - Communication Disorders","Active"]
[null,null,null,null,null,null,"AC02138","[INVP] International Ambassadors","AC02138-[INVP] International Ambassadors","Activity","FD01","Active","2025-03-17T16:11:53.337779+00:00",null,null,null,null,null,null,null,null,"17479","ATH Novelties","17479-ATH Novelties",null,null,null,"AS332136456","Emily Darowski (332136456) FHSS - Psychology","AS332136456-Emily Darowski (332136456) FHSS - Psychology","Active"]
[null,null,null,null,null,null,"AC02161","[INVP] Chamber Orchestra","AC02161-[INVP] Chamber Orchestra","Activity","FD03","Active","2025-03-17T16:11:53.337779+00:00",null,null,null,null,null,null,null,null,"17600","ATH Mktg-BC","17600-ATH Mktg-BC",null,null,null,"AS335113248","Andrea Howard (335113248) Law Library - Acquisitions","AS335113248-Andrea Howard (335113248) Law Library - Acquisitions","Active"]
[null,null,null,null,null,null,"AC02176","[KC] Kennedy Cntr China","AC02176-[KC] Kennedy Cntr China","Activity","FD01","Active","2025-03-17T16:11:53.431221+00:00",null,null,null,null,null,null,null,null,"17680","ATH Transcription","17680-ATH Transcription",null,null,null,"AS337851838","Alissa Hickman (337851838) PF Building Operations","AS337851838-Alissa Hickman (337851838) PF Building Operations","Active"]
[null,null,null,null,null,null,"AC02197","[KC] Publications","AC02197-[KC] Publications","Activity","FD03","Active","2025-03-17T16:11:53.431221+00:00",null,null,null,null,null,null,null,null,"17717","ATH Broadcast","17717-ATH Broadcast",null,null,null,"AS342996200","Melanie Livingston (342996200) AVP - Dean, College of Nursing","AS342996200-Melanie Livingston (342996200) AVP - Dean, College of Nursing","Active"]
[null,null,null,null,null,null,"AC02212","[KC] International Biology Internsh","AC02212-[KC] International Biology Internsh","Activity","FD02","Active","2025-03-17T16:11:53.431221+00:00",null,null,null,null,null,null,null,null,"17760","ATH Retreat","17760-ATH Retreat",null,null,null,"AS345188102","Theresa Sorensen (345188102) BYU Broadcasting - Programming","AS345188102-Theresa Sorensen (345188102) BYU Broadcasting - Programming","Active"]
[null,null,null,null,null,null,"AC02252","[KC] ISP Program","AC02252-[KC] ISP Program","Activity","FD02","Active","2025-03-17T16:11:53.431221+00:00",null,null,null,null,null,null,null,null,"17858","ATH Hotels","17858-ATH Hotels",null,null,null,"AS352930871","Craig Mattinson (352930871) PF Building Operations","AS352930871-Craig Mattinson (352930871) PF Building Operations","Active"]
[null,null,null,null,null,null,"AC02273","[KC] Latin America: Self-Reliance S","AC02273-[KC] Latin America: Self-Reliance S","Activity","FD02","Active","2025-03-17T16:11:53.431221+00:00",null,null,null,null,null,null,null,null,"17901","ATH Odd Year Season Ticket","17901-ATH Odd Year Season Ticket",null,null,null,"AS356376044","Rich Ziegler (356376044) Mechanical Engineering","AS356376044-Rich Ziegler (356376044) Mechanical Engineering","Active"]
[null,null,null,null,null,null,"AC02290","[KC] Spain OleSAY II","AC02290-[KC] Spain OleSAY II","Activity","FD02","Active","2025-03-17T16:11:53.431221+00:00",null,null,null,null,null,null,null,null,"17918","ATH Odd Year Game 17","17918-ATH Odd Year Game 17",null,null,null,"AS359041187","Sterling Sudweeks (359041187) Life Sciences - Cell Biology & Physiology","AS359041187-Sterling Sudweeks (359041187) Life Sciences - Cell Biology & Physiology","Active"]
[null,null,null,null,null,null,"AC02304","[KC] Portugal SA","AC02304-[KC] Portugal SA","Activity","FD02","Active","2025-03-17T16:11:53.431221+00:00",null,null,null,null,null,null,null,null,"17975","ATH University","17975-ATH University",null,null,null,"AS361754058","Tehina Mo'o (361754058) PF Building Operations","AS361754058-Tehina Mo'o (361754058) PF Building Operations","Active"]
[null,null,null,null,null,null,"AC02327","[KC] London Centre Study Abroad Spr","AC02327-[KC] London Centre Study Abroad Spr","Activity","FD02","Active","2025-03-17T16:11:53.431221+00:00",null,null,null,null,null,null,null,null,"19022","Beckstead, Merrill","19022-Beckstead, Merrill",null,null,null,"AS365607964","John Hoffmann (365607964) FHSS - Sociology","AS365607964-John Hoffmann (365607964) FHSS - Sociology","Active"]
[null,null,null,null,null,null,"AC02344","[KC] Fiji Cultural Immersion in Vil","AC02344-[KC] Fiji Cultural Immersion in Vil","Activity","FD02","Active","2025-03-17T16:11:53.431221+00:00",null,null,null,null,null,null,null,null,"19052","Matthew Memmott","19052-Matthew Memmott",null,null,null,"AS369292349","Mike Neuffer (369292349) Business Career Center","AS369292349-Mike Neuffer (369292349) Business Career Center","Active"]
[null,null,null,null,null,null,"AC02376","[KC] Wordsworth Trust Internship","AC02376-[KC] Wordsworth Trust Internship","Activity","FD02","Active","2025-03-17T16:11:53.431221+00:00",null,null,null,null,null,null,null,null,"19198","ITE","19198-ITE",null,null,null,"AS374402034","Brad Clark (374402034) OIT Resource - CES Network Center (CNC )- Project Mgmt","AS374402034-Brad Clark (374402034) OIT Resource - CES Network Center (CNC )- Project Mgmt","Active"]
[null,null,null,null,null,null,"AC02403","[OIT] IT Motor Pool","AC02403-[OIT] IT Motor Pool","Activity","FD01","Active","2025-03-17T16:11:53.504097+00:00",null,null,null,null,null,null,null,null,"19307","Adams, Brent Larsen","19307-Adams, Brent Larsen",null,null,null,"AS380295180","Chongming Yang (380295180) Dean's Office FHSS","AS380295180-Chongming Yang (380295180) Dean's Office FHSS","Active"]
[null,null,null,null,null,null,"AC02420","[OIT] Inactive OUs Prior Years (Fund 11)","AC02420-[OIT] Inactive OUs Prior Years (Fund 11)","Activity","FD01","Active","2025-03-17T16:11:53.504097+00:00",null,null,null,null,null,null,null,null,"19327","Marc Killpack","19327-Marc Killpack",null,null,null,"AS383388361","Debra Wells (383388361) Humanities - Asian & Near Eastern Languages","AS383388361-Debra Wells (383388361) Humanities - Asian & Near Eastern Languages","Active"]
[null,null,null,null,null,null,"AC02427","[ADM] Indirect Cost Reimbursments","AC02427-[ADM] Indirect Cost Reimbursments","Activity","FD01","Active","2025-03-17T16:11:53.504097+00:00",null,null,null,null,null,null,null,null,"19341","Julie Crockett","19341-Julie Crockett",null,null,null,"AS384938767","Jason Renfro (384938767) OIT Core - Business Process & Project Mgmt","AS384938767-Jason Renfro (384938767) OIT Core - Business Process & Project Mgmt","Active"]
[null,null,null,null,null,null,"AC02457","[ADM] Sem & Instit UT Valley So","AC02457-[ADM] Sem & Instit UT Valley So","Activity","FD01","Active","2025-03-17T16:11:53.504097+00:00",null,null,null,null,null,null,null,null,"19410","Michael Scott - Spec RA Money","19410-Michael Scott - Spec RA Money",null,null,null,"AS390599126","Sam Brown (390599126) Dean of Students Office","AS390599126-Sam Brown (390599126) Dean of Students Office","Active"]
[null,null,null,null,null,null,"AC02478","[ADM] Reserve for Encumbrances","AC02478-[ADM] Reserve for Encumbrances","Activity","FD01","Active","2025-03-17T16:11:53.504097+00:00",null,null,null,null,null,null,null,null,"19455","Don Dawson","19455-Don Dawson",null,null,null,"AS395182117","Erik Christensen (395182117) Advancement VP","AS395182117-Erik Christensen (395182117) Advancement VP","Active"]
[null,null,null,null,null,null,"AC02499","[ADM] TIAA Roth IRA","AC02499-[ADM] TIAA Roth IRA","Activity","FD01","Active","2025-03-17T16:11:53.504097+00:00",null,null,null,null,null,null,null,null,"19492","Brandt Redd","19492-Brandt Redd",null,null,null,"AS398734700","William Wickert (398734700) BYU Broadcasting - Master Control","AS398734700-William Wickert (398734700) BYU Broadcasting - Master Control","Active"]
[null,null,null,null,null,null,"AC02533","[FIN] PCA-General & Administrative","AC02533-[FIN] PCA-General & Administrative","Activity","FD20","Active","2025-03-17T16:11:53.504097+00:00",null,null,null,null,null,null,null,null,"19616","NAHB-Nat Assoc of Hme Bldrs","19616-NAHB-Nat Assoc of Hme Bldrs",null,null,null,"AS404980165","Nancy Morrill (404980165) Life Sciences - Microbiology & Molecular Biology","AS404980165-Nancy Morrill (404980165) Life Sciences - Microbiology & Molecular Biology","Active"]
[null,null,null,null,null,null,"AC02554","[ADM] Research Capital Equipment","AC02554-[ADM] Research Capital Equipment","Activity","FD06","Active","2025-03-17T16:11:53.504097+00:00",null,null,null,null,null,null,null,null,"19718","Justin Weidman","19718-Justin Weidman",null,null,null,"AS409241699","Aron Madsen (409241699) Mechanical Engineering","AS409241699-Aron Madsen (409241699) Mechanical Engineering","Active"]
[null,null,null,null,null,null,"AC02571","[ENRL] Grad Schl of Mgmt","AC02571-[ENRL] Grad Schl of Mgmt","Activity","FD03","Active","2025-03-17T16:11:53.504097+00:00",null,null,null,null,null,null,null,null,"19756","Clint Bybee","19756-Clint Bybee",null,null,null,"AS412845633","Jessica Everett (412845633) Law School","AS412845633-Jessica Everett (412845633) Law School","Active"]
[null,null,null,null,null,null,"AC02587","[PHIL] Philanthropies Internal Events","AC02587-[PHIL] Philanthropies Internal Events","Activity","FD07","Active","2025-03-17T16:11:53.504097+00:00",null,null,null,null,null,null,null,null,"19782","Yuri Hovanski   Startup","19782-Yuri Hovanski   Startup",null,null,null,"AS415258744","Nicole Kooistra (415258744) Deans Office BYU Marriott","AS415258744-Nicole Kooistra (415258744) Deans Office BYU Marriott","Active"]
[null,null,null,null,null,null,"AC02608","[PHIL] BYU Annual Giving","AC02608-[PHIL] BYU Annual Giving","Activity","FD07","Active","2025-03-17T16:11:53.590488+00:00",null,null,null,null,null,null,null,null,"19862","UNASSIGNED","19862-UNASSIGNED",null,null,null,"AS419250498","Kayla Mennenga (419250498) FHSS - School of Family Life","AS419250498-Kayla Mennenga (419250498) FHSS - School of Family Life","Active"]
[null,null,null,null,null,null,"AC02622","[PHIL] Pending DE Donor Liason","AC02622-[PHIL] Pending DE Donor Liason","Activity","FD07","Active","2025-03-17T16:11:53.590488+00:00",null,null,null,null,null,null,null,null,"19901","Global Engineering Outreach","19901-Global Engineering Outreach",null,null,null,"AS421097042","Shawna Gygi (421097042) Business Career Center","AS421097042-Shawna Gygi (421097042) Business Career Center","Active"]
[null,null,null,null,null,null,"AC02653","[CE] High School Organization Consulting","AC02653-[CE] High School Organization Consulting","Activity","FD03","Active","2025-03-17T16:11:53.590488+00:00",null,null,null,null,null,null,null,null,"19959","Dom Republic - Construction","19959-Dom Republic - Construction",null,null,null,"AS425191332","Kevin Haws (425191332) Humanities - Linguistics","AS425191332-Kevin Haws (425191332) Humanities - Linguistics","Active"]
[null,null,null,null,null,null,"AC02692","[CE] UN MFG 201: History of Creativity 1","AC02692-[CE] UN MFG 201: History of Creativity 1","Activity","FD02","Active","2025-03-17T16:11:53.590488+00:00",null,null,null,null,null,null,null,null,"20272","Anth - Charles Nuckolls","20272-Anth - Charles Nuckolls",null,null,null,"AS432102113","Jay Buckley (432102113) FHSS - History","AS432102113-Jay Buckley (432102113) FHSS - History","Active"]
[null,null,null,null,null,null,"AC02702","[CE] UN GEOG 120: Geography & World Affairs","AC02702-[CE] UN GEOG 120: Geography & World Affairs","Activity","FD02","Active","2025-03-17T16:11:53.590488+00:00",null,null,null,null,null,null,null,null,"20371","FL - Home Economics","20371-FL - Home Economics",null,null,null,"AS434272079","Nathan Ward (434272079) Dean of Students","AS434272079-Nathan Ward (434272079) Dean of Students","Active"]
[null,null,null,null,null,null,"AC02729","[CE] UN PSYCH 111: Psychological Science","AC02729-[CE] UN PSYCH 111: Psychological Science","Activity","FD02","Active","2025-03-17T16:11:53.590488+00:00",null,null,null,null,null,null,null,null,"20663","Soc Scott Sanders","20663-Soc Scott Sanders",null,null,null,"AS440153654","Brandon Smith (440153654) Dean's Office - CMS","AS440153654-Brandon Smith (440153654) Dean's Office - CMS","Active"]
[null,null,null,null,null,null,"AC02746","[CE] UN SFL 102: Intro to Interior Design","AC02746-[CE] UN SFL 102: Intro to Interior Design","Activity","FD02","Active","2025-03-17T16:11:53.590488+00:00",null,null,null,null,null,null,null,null,"20917","GWS","20917-GWS",null,null,null,"AS442794735","Rebecca Peterson (442794735) MSE - Counseling Psychology & Special Ed","AS442794735-Rebecca Peterson (442794735) MSE - Counseling Psychology & Special Ed","Active"]
[null,null,null,null,null,null,"AC02778","[CE] UN COMMS 411: Media Effects","AC02778-[CE] UN COMMS 411: Media Effects","Activity","FD02","Active","2025-03-17T16:11:53.590488+00:00",null,null,null,null,null,null,null,null,"20980","Chris Quinlan","20980-Chris Quinlan",null,null,null,"AS447020779","Gaye Strathearn (447020779) AVP - Dean, Religious Education","AS447020779-Gaye Strathearn (447020779) AVP - Dean, Religious Education","Active"]
[null,null,null,null,null,null,"AC02783","[CE] UN MUSIC 114R: Beginning Piano Techniques Part 2","AC02783-[CE] UN MUSIC 114R: Beginning Piano Techniques Part 2","Activity","FD02","Active","2025-03-17T16:11:53.590488+00:00",null,null,null,null,null,null,null,null,"20986","Carri Ward","20986-Carri Ward",null,null,null,"AS447634755","Julie Brinley (447634755) College of Nursing","AS447634755-Julie Brinley (447634755) College of Nursing","Active"]
[null,null,null,null,null,null,"AC02822","[CE] UN ENGL 220: Composing Personal History","AC02822-[CE] UN ENGL 220: Composing Personal History","Activity","FD02","Active","2025-03-17T16:11:53.660064+00:00",null,null,null,null,null,null,null,null,"21164","Communications Studies","21164-Communications Studies",null,null,null,"AS454009130","Stevan Lars Nielsen (454009130) Student Life VP","AS454009130-Stevan Lars Nielsen (454009130) Student Life VP","Active"]
[null,null,null,null,null,null,"AC02829","[CE] UN ENGL 317R: Writing Creative Nonfiction","AC02829-[CE] UN ENGL 317R: Writing Creative Nonfiction","Activity","FD02","Active","2025-03-17T16:11:53.660064+00:00",null,null,null,null,null,null,null,null,"21176","Development/Fund Raising","21176-Development/Fund Raising",null,null,null,"AS454974925","Karen McCleary (454974925) Human Resources Operations Center","AS454974925-Karen McCleary (454974925) Human Resources Operations Center","Active"]
[null,null,null,null,null,null,"AC02860","[CE] CEC GERM 2201: German Workbook 2A","AC02860-[CE] CEC GERM 2201: German Workbook 2A","Activity","FD02","Active","2025-03-17T16:11:53.660064+00:00",null,null,null,null,null,null,null,null,"21340","Stage Mgr","21340-Stage Mgr",null,null,null,"AS458670596","Ken Christensen (458670596) CMS - Chemistry and Biochemistry","AS458670596-Ken Christensen (458670596) CMS - Chemistry and Biochemistry","Active"]
[null,null,null,null,null,null,"AC02877","[CE] UN SPAN 102: Foundational Spanish Part 2","AC02877-[CE] UN SPAN 102: Foundational Spanish Part 2","Activity","FD02","Active","2025-03-17T16:11:53.660064+00:00",null,null,null,null,null,null,null,null,"21397","TMA Production","21397-TMA Production",null,null,null,"AS462566971","Katie Lewis (462566971) BYU Studies","AS462566971-Katie Lewis (462566971) BYU Studies","Active"]
[null,null,null,null,null,null,"AC02902","[CE] UN HLTH 436: Sexuality Education in the Curriculum","AC02902-[CE] UN HLTH 436: Sexuality Education in the Curriculum","Activity","FD02","Active","2025-03-17T16:11:53.660064+00:00",null,null,null,null,null,null,null,null,"21447","Barlow - Commissions","21447-Barlow - Commissions",null,null,null,"AS466950943","Brigham Frandsen (466950943) FHSS - Economics","AS466950943-Brigham Frandsen (466950943) FHSS - Economics","Active"]
[null,null,null,null,null,null,"AC02914","[CE] UN ACC 200: Principles of Accounting","AC02914-[CE] UN ACC 200: Principles of Accounting","Activity","FD02","Active","2025-03-17T16:11:53.660064+00:00",null,null,null,null,null,null,null,null,"21503","MOA Exhibit Catalogs","21503-MOA Exhibit Catalogs",null,null,null,"AS468756708","Manny Marzan (468756708) PF Plumbing & Mechanical Shop","AS468756708-Manny Marzan (468756708) PF Plumbing & Mechanical Shop","Active"]
[null,null,null,null,null,null,"AC02935","[CE] UN MSB 596R: Business Italian","AC02935-[CE] UN MSB 596R: Business Italian","Activity","FD02","Active","2025-03-17T16:11:53.660064+00:00",null,null,null,null,null,null,null,null,"21536","MOA Gallery Design-Graphics","21536-MOA Gallery Design-Graphics",null,null,null,"AS470964825","Andrew Parry (470964825) MSB - Marketing & Global Supply Chain","AS470964825-Andrew Parry (470964825) MSB - Marketing & Global Supply Chain","Active"]
[null,null,null,null,null,null,"AC02974","[CE] UN PHSCS 220: Intro to Electricity and Magnetism","AC02974-[CE] UN PHSCS 220: Intro to Electricity and Magnetism","Activity","FD02","Active","2025-03-17T16:11:53.660064+00:00",null,null,null,null,null,null,null,null,"21627","N.A.S.M.","21627-N.A.S.M.",null,null,null,"AS476333230","Nicole Stevens (476333230) CE Software Development","AS476333230-Nicole Stevens (476333230) CE Software Development","Active"]
[null,null,null,null,null,null,"AC02990","[CE] UN REL C 261: Intro to Family History and Genealogy","AC02990-[CE] UN REL C 261: Intro to Family History and Genealogy","Activity","FD02","Active","2025-03-17T16:11:53.660064+00:00",null,null,null,null,null,null,null,null,"21645","Percussion","21645-Percussion",null,null,null,"AS478319079","Jason Theler (478319079) CITES","AS478319079-Jason Theler (478319079) CITES","Active"]
[null,null,null,null,null,null,"AC03011","[CE] IS Language Pronunciation App","AC03011-[CE] IS Language Pronunciation App","Activity","FD02","Active","2025-03-17T16:11:53.660064+00:00",null,null,null,null,null,null,null,null,"21694","Ben Nichols","21694-Ben Nichols",null,null,null,"AS483177568","Wayne Buckwalter (483177568) HS Administration","AS483177568-Wayne Buckwalter (483177568) HS Administration","Active"]
[null,null,null,null,null,null,"AC03025","[CE] HS eDynamics","AC03025-[CE] HS eDynamics","Activity","FD02","Active","2025-03-17T16:11:53.760059+00:00",null,null,null,null,null,null,null,null,"21712","Shelby Luke","21712-Shelby Luke",null,null,null,"AS487274627","Scott Summers (487274627) AVP - Dean, College of Nursing","AS487274627-Scott Summers (487274627) AVP - Dean, College of Nursing","Active"]
[null,null,null,null,null,null,"AC03044","[CE] HS CTE 052: Intro to Agriscience","AC03044-[CE] HS CTE 052: Intro to Agriscience","Activity","FD02","Active","2025-03-17T16:11:53.760059+00:00",null,null,null,null,null,null,null,null,"21731","Threlfall, Tim","21731-Threlfall, Tim",null,null,null,"AS491679085","Stephen Buhler (491679085) PF Transportation & Manufacturing Services","AS491679085-Stephen Buhler (491679085) PF Transportation & Manufacturing Services","Active"]
[null,null,null,null,null,null,"AC03065","[CE] HS COMMS 051: Public Speaking","AC03065-[CE] HS COMMS 051: Public Speaking","Activity","FD02","Active","2025-03-17T16:11:53.760059+00:00",null,null,null,null,null,null,null,null,"21807","BYUB Classical 89 Support","21807-BYUB Classical 89 Support",null,null,null,"AS496559267","Mary Hedengren (496559267) Humanities - English","AS496559267-Mary Hedengren (496559267) Humanities - English","Active"]
[null,null,null,null,null,null,"AC03097","[CE] HS ENGL 051: Eleventh-Grade English, Part 1","AC03097-[CE] HS ENGL 051: Eleventh-Grade English, Part 1","Activity","FD02","Active","2025-03-17T16:11:53.760059+00:00",null,null,null,null,null,null,null,null,"22001","Books","22001-Books",null,null,null,"AS501862911","Andrew LaRose (501862911) BYU Broadcasting - Master Control","AS501862911-Andrew LaRose (501862911) BYU Broadcasting - Master Control","Active"]
[null,null,null,null,null,null,"AC03124","[CE] HS APCALC 061: AP Calculus AB, Part 1","AC03124-[CE] HS APCALC 061: AP Calculus AB, Part 1","Activity","FD02","Active","2025-03-17T16:11:53.760059+00:00",null,null,null,null,null,null,null,null,"22353","LISR Japanese","22353-LISR Japanese",null,null,null,"AS509311193","Jeremy Grimshaw (509311193) AVP - Dean, Fine Arts and Communications","AS509311193-Jeremy Grimshaw (509311193) AVP - Dean, Fine Arts and Communications","Active"]
[null,null,null,null,null,null,"AC03141","[CE] HS PRECALC 041: Part 1","AC03141-[CE] HS PRECALC 041: Part 1","Activity","FD02","Active","2025-03-17T16:11:53.760059+00:00",null,null,null,null,null,null,null,null,"22374","FL Teaching","22374-FL Teaching",null,null,null,"AS513683152","Lane Fischer (513683152) MSE - Counseling Psychology & Special Ed","AS513683152-Lane Fischer (513683152) MSE - Counseling Psychology & Special Ed","Active"]
[null,null,null,null,null,null,"AC03169","[CE] HS WALK 041: Walking Fitness","AC03169-[CE] HS WALK 041: Walking Fitness","Activity","FD02","Active","2025-03-17T16:11:53.760059+00:00",null,null,null,null,null,null,null,null,"22427","CUWP","22427-CUWP",null,null,null,"AS519128755","Beverly Bell (519128755) Heritage Halls","AS519128755-Beverly Bell (519128755) Heritage Halls","Active"]
[null,null,null,null,null,null,"AC03178","[CE] HS CHEM 041: Chemistry Part 1","AC03178-[CE] HS CHEM 041: Chemistry Part 1","Activity","FD02","Active","2025-03-17T16:11:53.760059+00:00",null,null,null,null,null,null,null,null,"22439","Course Enhancement","22439-Course Enhancement",null,null,null,"AS520987268","Aaron Schade (520987268) Religious Education - Ancient Scripture","AS520987268-Aaron Schade (520987268) Religious Education - Ancient Scripture","Active"]
[null,null,null,null,null,null,"AC03195","[CE] HS GEOG 041: World Geography","AC03195-[CE] HS GEOG 041: World Geography","Activity","FD02","Active","2025-03-17T16:11:53.760059+00:00",null,null,null,null,null,null,null,null,"22847","ASL","22847-ASL",null,null,null,"AS523684505","Natalie Davis (523684505) Humanities - English","AS523684505-Natalie Davis (523684505) Humanities - English","Active"]
[null,null,null,null,null,null,"AC03224","[CE] HS HIST 061: World History, Part 1","AC03224-[CE] HS HIST 061: World History, Part 1","Activity","FD02","Active","2025-03-17T16:11:53.814975+00:00",null,null,null,null,null,null,null,null,"22928","French & Italian","22928-French & Italian",null,null,null,"AS528975130","Brent Christensen (528975130) FHSS - Political Science","AS528975130-Brent Christensen (528975130) FHSS - Political Science","Active"]
[null,null,null,null,null,null,"AC03254","[CE] HS CHIN 053: Second-Year Chinese, Part 2","AC03254-[CE] HS CHIN 053: Second-Year Chinese, Part 2","Activity","FD02","Active","2025-03-17T16:11:53.814975+00:00",null,null,null,null,null,null,null,null,"23030","Cheryl Corbett","23030-Cheryl Corbett",null,null,null,"AS536810171","David Kaiser (536810171) Student Life VP","AS536810171-David Kaiser (536810171) Student Life VP","Active"]
[null,null,null,null,null,null,"AC03271","[CE] HS KOREA 051: Second-Year Korean, Part 1","AC03271-[CE] HS KOREA 051: Second-Year Korean, Part 1","Activity","FD02","Active","2025-03-17T16:11:53.814975+00:00",null,null,null,null,null,null,null,null,"23067","Michael Thomas","23067-Michael Thomas",null,null,null,"AS540916347","Chris Boyd (540916347) PF Central Heating Plant","AS540916347-Chris Boyd (540916347) PF Central Heating Plant","Active"]
[null,null,null,null,null,null,"AC03296","[CE] BYUO A HTG 100: American Heritage","AC03296-[CE] BYUO A HTG 100: American Heritage","Activity","FD02","Active","2025-03-17T16:11:53.814975+00:00",null,null,null,null,null,null,null,null,"23121","Renea Beckstrand","23121-Renea Beckstrand",null,null,null,"AS545396998","Doug Atkinson (545396998) FHSS - Political Science","AS545396998-Doug Atkinson (545396998) FHSS - Political Science","Active"]
[null,null,null,null,null,null,"AC03308","[CE] BYUO ASL 431: Intro to American Sign Language Linguistics","AC03308-[CE] BYUO ASL 431: Intro to American Sign Language Linguistics","Activity","FD02","Active","2025-03-17T16:11:53.814975+00:00",null,null,null,null,null,null,null,null,"23140","Shelly Reed","23140-Shelly Reed",null,null,null,"AS547910066","Lance Davidson (547910066) Life Sciences - Exercise Sciences","AS547910066-Lance Davidson (547910066) Life Sciences - Exercise Sciences","Active"]
[null,null,null,null,null,null,"AC03326","[CE] BYUO CHIN 442: Classical and Literary Chinese","AC03326-[CE] BYUO CHIN 442: Classical and Literary Chinese","Activity","FD02","Active","2025-03-17T16:11:53.814975+00:00",null,null,null,null,null,null,null,null,"23183","Jeanette Drake","23183-Jeanette Drake",null,null,null,"AS551760750","Travis Steward (551760750) Alumni Aspen Grove","AS551760750-Travis Steward (551760750) Alumni Aspen Grove","Active"]
[null,null,null,null,null,null,"AC03349","[CE] BYUO CS 462: Distributed System Design","AC03349-[CE] BYUO CS 462: Distributed System Design","Activity","FD02","Active","2025-03-17T16:11:53.814975+00:00",null,null,null,null,null,null,null,null,"23388","Christine Platt","23388-Christine Platt",null,null,null,"AS555882291","Jake Rhodes (555882291) CMS - Statistics","AS555882291-Jake Rhodes (555882291) CMS - Statistics","Active"]
[null,null,null,null,null,null,"AC03386","[CE] BYUO GERM 300R: Third-Year Proficiency Tutorial","AC03386-[CE] BYUO GERM 300R: Third-Year Proficiency Tutorial","Activity","FD02","Active","2025-03-17T16:11:53.814975+00:00",null,null,null,null,null,null,null,null,"23586","Mike Robinson","23586-Mike Robinson",null,null,null,"AS563961115","Dennis Wright (563961115) Fine Arts & Communications - Theatre & Media Arts","AS563961115-Dennis Wright (563961115) Fine Arts & Communications - Theatre & Media Arts","Active"]
[null,null,null,null,null,null,"AC03407","[CE] BYUO HIST 364: Utah History","AC03407-[CE] BYUO HIST 364: Utah History","Activity","FD02","Active","2025-03-17T16:11:53.814975+00:00",null,null,null,null,null,null,null,null,"23678","Denise Cummins","23678-Denise Cummins",null,null,null,"AS567123678","Kiana Schlenker (567123678) Athletics - Corporate Sponsorships","AS567123678-Kiana Schlenker (567123678) Athletics - Corporate Sponsorships","Active"]
[null,null,null,null,null,null,"AC03424","[CE] BYUO IHUM 240: Intro to Humanities of Asia","AC03424-[CE] BYUO IHUM 240: Intro to Humanities of Asia","Activity","FD02","Active","2025-03-17T16:11:53.814975+00:00",null,null,null,null,null,null,null,null,"23728","Kristen Erekson","23728-Kristen Erekson",null,null,null,"AS571541502","Sam Prestwich (571541502) Dean's Office FHSS","AS571541502-Sam Prestwich (571541502) Dean's Office FHSS","Active"]
[null,null,null,null,null,null,"AC03437","[CE] BYUO IP&T 464: Instructional Design for Business","AC03437-[CE] BYUO IP&T 464: Instructional Design for Business","Activity","FD02","Active","2025-03-17T16:11:53.906813+00:00",null,null,null,null,null,null,null,null,"23822","[NURS] Spanish For Nurses","23822-[NURS] Spanish For Nurses",null,null,null,"AS574523885","Donovan Marshall (574523885) Athletics - Olympic Sport Medicine - Strength","AS574523885-Donovan Marshall (574523885) Athletics - Olympic Sport Medicine - Strength","Active"]
[null,null,null,null,null,null,"AC03461","[CE] BYUO IP&T 674R: Quasi-Experimental Studies","AC03461-[CE] BYUO IP&T 674R: Quasi-Experimental Studies","Activity","FD02","Active","2025-03-17T16:11:53.906813+00:00",null,null,null,null,null,null,null,null,"23929","Deborah Himes","23929-Deborah Himes",null,null,null,"AS579675238","Erik Nelson (579675238) Life Sciences - Public Health","AS579675238-Erik Nelson (579675238) Life Sciences - Public Health","Active"]
[null,null,null,null,null,null,"AC03478","[CE] BYUO IP&T 799R: Doctoral Dissertation","AC03478-[CE] BYUO IP&T 799R: Doctoral Dissertation","Activity","FD02","Active","2025-03-17T16:11:53.906813+00:00",null,null,null,null,null,null,null,null,"23973","Petr Ruda","23973-Petr Ruda",null,null,null,"AS582631949","Michael Christensen (582631949) CMS - Statistics","AS582631949-Michael Christensen (582631949) CMS - Statistics","Active"]
[null,null,null,null,null,null,"AC03513","[CE] BYUO MSB 494R: On-Campus Experiential Projects","AC03513-[CE] BYUO MSB 494R: On-Campus Experiential Projects","Activity","FD02","Active","2025-03-17T16:11:53.906813+00:00",null,null,null,null,null,null,null,null,"24093","Women in Chemistry","24093-Women in Chemistry",null,null,null,"AS587775029","Skyler Coombs (587775029) Careers & Experiential Learning - Career Services","AS587775029-Skyler Coombs (587775029) Careers & Experiential Learning - Career Services","Active"]
[null,null,null,null,null,null,"AC03537","[CE] BYUO POLI 202: Western Political Heritage 2","AC03537-[CE] BYUO POLI 202: Western Political Heritage 2","Activity","FD02","Active","2025-03-17T16:11:53.906813+00:00",null,null,null,null,null,null,null,null,"24171","TA Student Instructor","24171-TA Student Instructor",null,null,null,"AS591230143","Sarah Bellini (591230143) Life Sciences - Nutrition, Dietetics, & Food Science","AS591230143-Sarah Bellini (591230143) Life Sciences - Nutrition, Dietetics, & Food Science","Active"]
[null,null,null,null,null,null,"AC03554","[CE] BYUO PSYCH 305: Multicultural Psychology","AC03554-[CE] BYUO PSYCH 305: Multicultural Psychology","Activity","FD02","Active","2025-03-17T16:11:53.906813+00:00",null,null,null,null,null,null,null,null,"24351","X-Ray Diffraction","24351-X-Ray Diffraction",null,null,null,"AS593732880","Justin Weidman (593732880) College of Engineering - Civil & Construction Engineering","AS593732880-Justin Weidman (593732880) College of Engineering - Civil & Construction Engineering","Active"]
[null,null,null,null,null,null,"AC03585","[CE] BYUO RUSS 199R: Academic Internship","AC03585-[CE] BYUO RUSS 199R: Academic Internship","Activity","FD02","Active","2025-03-17T16:11:53.906813+00:00",null,null,null,null,null,null,null,null,"24576","Pam Van Ry","24576-Pam Van Ry",null,null,null,"AS599210124","Suzette Payne (599210124) Helaman Halls","AS599210124-Suzette Payne (599210124) Helaman Halls","Active"]
[null,null,null,null,null,null,"AC03592","[CE] BYUO SFL 102: Intro to Interiors","AC03592-[CE] BYUO SFL 102: Intro to Interiors","Activity","FD02","Active","2025-03-17T16:11:53.906813+00:00",null,null,null,null,null,null,null,null,"24616","Lamb, John","24616-Lamb, John",null,null,null,"AS600353699","Valerie Haws (600353699) PF Locksmith Shop","AS600353699-Valerie Haws (600353699) PF Locksmith Shop","Active"]
[null,null,null,null,null,null,"AC03609","[CE] BYUO SOC 111: Introductory Sociology","AC03609-[CE] BYUO SOC 111: Introductory Sociology","Activity","FD02","Active","2025-03-17T16:11:53.906813+00:00",null,null,null,null,null,null,null,null,"24836","Woodfield, Brian","24836-Woodfield, Brian",null,null,null,"AS603355802","Rachel Yu Liu (603355802) Humanities - Asian & Near Eastern Languages","AS603355802-Rachel Yu Liu (603355802) Humanities - Asian & Near Eastern Languages","Active"]
[null,null,null,null,null,null,"AC03637","[CE] BYUO TELL 589R: English Language Learners Content Instruction","AC03637-[CE] BYUO TELL 589R: English Language Learners Content Instruction","Activity","FD02","Active","2025-03-17T16:11:53.906813+00:00",null,null,null,null,null,null,null,null,"25009","Egbert,Parris","25009-Egbert,Parris",null,null,null,"AS608760740","Roy Bean (608760740) FHSS - School of Family Life","AS608760740-Roy Bean (608760740) FHSS - School of Family Life","Active"]
[null,null,null,null,null,null,"AC03714","[CE] FSY UT Ephraim","AC03714-[CE] FSY UT Ephraim","Activity","FD02","Active","2025-03-17T16:11:53.988465+00:00",null,null,null,null,null,null,null,null,"25040","CS Dept Office","25040-CS Dept Office",null,null,null,"AS612936035","Kyle Petersen (612936035) CMS - Mathematics Education","AS612936035-Kyle Petersen (612936035) CMS - Mathematics Education","Active"]
[null,null,null,null,null,null,"AC03798","[CE] FSY TX Stephenville","AC03798-[CE] FSY TX Stephenville","Activity","FD02","Active","2025-03-17T16:11:53.988465+00:00",null,null,null,null,null,null,null,null,"25067","TA 235","25067-TA 235",null,null,null,"AS616961298","Mikaela Cook (616961298) Law School","AS616961298-Mikaela Cook (616961298) Law School","Active"]
[null,null,null,null,null,null,"AC03872","[CE] FSY CO Fort Collins","AC03872-[CE] FSY CO Fort Collins","Activity","FD02","Active","2025-03-17T16:11:53.988465+00:00",null,null,null,null,null,null,null,null,"25091","TA  CS  486","25091-TA  CS  486",null,null,null,"AS620045569","Stephen Pincock (620045569) Indefinite Leaves","AS620045569-Stephen Pincock (620045569) Indefinite Leaves","Active"]
[null,null,null,null,null,null,"AC03903","[CE] FSY VA Williamsburg","AC03903-[CE] FSY VA Williamsburg","Activity","FD02","Active","2025-03-17T16:11:53.988465+00:00",null,null,null,null,null,null,null,null,"25221","Mike Dorias","25221-Mike Dorias",null,null,null,"AS622616511","Michael Kelly (622616511) Humanities - German & Russian","AS622616511-Michael Kelly (622616511) Humanities - German & Russian","Active"]
[null,null,null,null,null,null,"AC03973","[CE] EFY Special Edition IL Nauvoo 04","AC03973-[CE] EFY Special Edition IL Nauvoo 04","Activity","FD02","Active","2025-03-17T16:11:53.988465+00:00",null,null,null,null,null,null,null,null,"25300","Bakker, Lennard","25300-Bakker, Lennard",null,null,null,"AS626820320","Ava Cecil (626820320) AVP - Dean, College of Nursing","AS626820320-Ava Cecil (626820320) AVP - Dean, College of Nursing","Active"]
[null,null,null,null,null,null,"AC04028","[CE] EFYSA Conference IL Nauvoo","AC04028-[CE] EFYSA Conference IL Nauvoo","Activity","FD02","Active","2025-03-17T16:11:53.988465+00:00",null,null,null,null,null,null,null,null,"25351","Paul Jenkins","25351-Paul Jenkins",null,null,null,"AS632299765","Glen Cooper (632299765) Humanities - Philosophy","AS632299765-Glen Cooper (632299765) Humanities - Philosophy","Active"]
[null,null,null,null,null,null,"AC04045","[CE] SL MPA 631: Public Program Evaluation","AC04045-[CE] SL MPA 631: Public Program Evaluation","Activity","FD02","Active","2025-03-17T16:11:53.988465+00:00",null,null,null,null,null,null,null,null,"25380","Focus","25380-Focus",null,null,null,"AS636645795","Michelle Barlow (636645795) Special Events","AS636645795-Michelle Barlow (636645795) Special Events","Active"]
[null,null,null,null,null,null,"AC04066","[CE] SL GEOG 101: Global Environment","AC04066-[CE] SL GEOG 101: Global Environment","Activity","FD02","Active","2025-03-17T16:11:53.988465+00:00",null,null,null,null,null,null,null,null,"25410","Alumni Relations","25410-Alumni Relations",null,null,null,"AS640989342","Ryan Nixon (640989342) AVP - Dean, McKay School of Education (MSE)","AS640989342-Ryan Nixon (640989342) AVP - Dean, McKay School of Education (MSE)","Active"]
[null,null,null,null,null,null,"AC04079","[CE] SL POLI 110: American Government and Politics","AC04079-[CE] SL POLI 110: American Government and Politics","Activity","FD02","Active","2025-03-17T16:11:53.988465+00:00",null,null,null,null,null,null,null,null,"25425","Women in Math","25425-Women in Math",null,null,null,"AS643200816","Michael Bown (643200816) College of Engineering - Civil & Construction Engineering","AS643200816-Michael Bown (643200816) College of Engineering - Civil & Construction Engineering","Active"]
[null,null,null,null,null,null,"AC04103","[CE] SL SFL 160: Intro to Family Processes","AC04103-[CE] SL SFL 160: Intro to Family Processes","Activity","FD02","Active","2025-03-17T16:11:54.091948+00:00",null,null,null,null,null,null,null,null,"25505","Cannon, Tenille","25505-Cannon, Tenille",null,null,null,"AS646923111","Troy Cox (646923111) Center for Language Studies","AS646923111-Troy Cox (646923111) Center for Language Studies","Active"]
[null,null,null,null,null,null,"AC04120","[CE] SL SOC 111: Introductory Sociology","AC04120-[CE] SL SOC 111: Introductory Sociology","Activity","FD02","Active","2025-03-17T16:11:54.091948+00:00",null,null,null,null,null,null,null,null,"25605","Demonstrations","25605-Demonstrations",null,null,null,"AS650558250","Brittany Maloy (650558250) Lee Library - R&L Library Instruction","AS650558250-Brittany Maloy (650558250) Lee Library - R&L Library Instruction","Active"]
[null,null,null,null,null,null,"AC04151","[CE] SL MATH 097: Intermediate Algebra","AC04151-[CE] SL MATH 097: Intermediate Algebra","Activity","FD02","Active","2025-03-17T16:11:54.091948+00:00",null,null,null,null,null,null,null,null,"25650","Mosenkov, Aleksandr V.","25650-Mosenkov, Aleksandr V.",null,null,null,"AS656145563","Chelsea Swain (656145563) BYU Broadcasting - Unit Production Manager Group","AS656145563-Chelsea Swain (656145563) BYU Broadcasting - Unit Production Manager Group","Active"]
[null,null,null,null,null,null,"AC04179","[CE] SL COMMS 235: Intro to Public Relations","AC04179-[CE] SL COMMS 235: Intro to Public Relations","Activity","FD02","Active","2025-03-17T16:11:54.091948+00:00",null,null,null,null,null,null,null,null,"25684","Brian E. Anderson","25684-Brian E. Anderson",null,null,null,"AS659721735","Brianna Hall (659721735) Life Sciences - Plant & Wildlife Sciences","AS659721735-Brianna Hall (659721735) Life Sciences - Plant & Wildlife Sciences","Active"]
[null,null,null,null,null,null,"AC04196","[CE] SL MUSIC 202: Civilization: Music 2","AC04196-[CE] SL MUSIC 202: Civilization: Music 2","Activity","FD02","Active","2025-03-17T16:11:54.091948+00:00",null,null,null,null,null,null,null,null,"25721","Richard L. Sandberg","25721-Richard L. Sandberg",null,null,null,"AS663745404","Miriam Boswell (663745404) Wyview Park/Riviera","AS663745404-Miriam Boswell (663745404) Wyview Park/Riviera","Active"]
[null,null,null,null,null,null,"AC04206","[CE] SL VA 115: Two Dimensional Design","AC04206-[CE] SL VA 115: Two Dimensional Design","Activity","FD02","Active","2025-03-17T16:11:54.091948+00:00",null,null,null,null,null,null,null,null,"25731","PHSCS 137","25731-PHSCS 137",null,null,null,"AS665491387","Aaron Roderick (665491387) Athletics - Football","AS665491387-Aaron Roderick (665491387) Athletics - Football","Active"]
[null,null,null,null,null,null,"AC04233","[CE] SL ENGL 232: Shakespeare","AC04233-[CE] SL ENGL 232: Shakespeare","Activity","FD02","Active","2025-03-17T16:11:54.091948+00:00",null,null,null,null,null,null,null,null,"25760","PHSCS 601/602","25760-PHSCS 601/602",null,null,null,"AS670337728","Kate Lindsay Patterson (670337728) MSB - Public Service & Ethics","AS670337728-Kate Lindsay Patterson (670337728) MSB - Public Service & Ethics","Active"]
[null,null,null,null,null,null,"AC04250","[CE] SL PHIL 201: History of Philosophy 1","AC04250-[CE] SL PHIL 201: History of Philosophy 1","Activity","FD02","Active","2025-03-17T16:11:54.091948+00:00",null,null,null,null,null,null,null,null,"25811","Mansfield, Kimri","25811-Mansfield, Kimri",null,null,null,"AS672968604","Byran Korth (672968604) Religious Education - Church History & Doctrine","AS672968604-Byran Korth (672968604) Religious Education - Church History & Doctrine","Active"]
[null,null,null,null,null,null,"AC04278","[CE] SL REL C 324: Doctrine and Covenants","AC04278-[CE] SL REL C 324: Doctrine and Covenants","Activity","FD02","Active","2025-03-17T16:11:54.091948+00:00",null,null,null,null,null,null,null,null,"25844","Actuarial","25844-Actuarial",null,null,null,"AS677625018","Savannah Ogden (677625018) CE Registration & Cashier","AS677625018-Savannah Ogden (677625018) CE Registration & Cashier","Active"]
[null,null,null,null,null,null,"AC04309","[CE] EC SC ED 353: Multicultural Education","AC04309-[CE] EC SC ED 353: Multicultural Education","Activity","FD02","Active","2025-03-17T16:11:54.159986+00:00",null,null,null,null,null,null,null,null,"25925","[CMS] Belonging","25925-[CMS] Belonging",null,null,null,"AS682425846","Cammy Peterson (682425846) College of Engineering - Electrical & Computer Engineering","AS682425846-Cammy Peterson (682425846) College of Engineering - Electrical & Computer Engineering","Active"]
[null,null,null,null,null,null,"AC04326","[CE] EC CFM 650: Construction Company Development -- now CFM 550","AC04326-[CE] EC CFM 650: Construction Company Development -- now CFM 550","Activity","FD02","Active","2025-03-17T16:11:54.159986+00:00",null,null,null,null,null,null,null,null,"25972","Recruiting: Undergraduate","25972-Recruiting: Undergraduate",null,null,null,"AS684382430","Dan Chandler (684382430) Student Life VP","AS684382430-Dan Chandler (684382430) Student Life VP","Active"]
[null,null,null,null,null,null,"AC04350","[CE] EC SOC W 680R: Pharmacology","AC04350-[CE] EC SOC W 680R: Pharmacology","Activity","FD02","Active","2025-03-17T16:11:54.159986+00:00",null,null,null,null,null,null,null,null,"26020","James Gaskin","26020-James Gaskin",null,null,null,"AS688003506","Shae Jones (688003506) PF Transportation & Manufacturing Services","AS688003506-Shae Jones (688003506) PF Transportation & Manufacturing Services","Active"]
[null,null,null,null,null,null,"AC04363","[CE] EC SFL 102: Intro to Interiors","AC04363-[CE] EC SFL 102: Intro to Interiors","Activity","FD02","Active","2025-03-17T16:11:54.159986+00:00",null,null,null,null,null,null,null,null,"26034","MGT OB/HR PT Faculty","26034-MGT OB/HR PT Faculty",null,null,null,"AS690343226","Tyler Wangsgard (690343226) CE IT Project Management","AS690343226-Tyler Wangsgard (690343226) CE IT Project Management","Active"]
[null,null,null,null,null,null,"AC04384","[CE] EC SFL 358: Media, Family, and Human Development","AC04384-[CE] EC SFL 358: Media, Family, and Human Development","Activity","FD02","Active","2025-03-17T16:11:54.159986+00:00",null,null,null,null,null,null,null,null,"26055","Steve Liddle","26055-Steve Liddle",null,null,null,"AS693577233","Craig Cardon (693577233) Dean of Students Office","AS693577233-Craig Cardon (693577233) Dean of Students Office","Active"]
[null,null,null,null,null,null,"AC04401","[CE] EC GEOG 271: Middle East","AC04401-[CE] EC GEOG 271: Middle East","Activity","FD02","Active","2025-03-17T16:11:54.159986+00:00",null,null,null,null,null,null,null,null,"26073","MCT Social Media","26073-MCT Social Media",null,null,null,"AS697624051","Jared Whitehead (697624051) CMS - Mathematics","AS697624051-Jared Whitehead (697624051) CMS - Mathematics","Active"]
[null,null,null,null,null,null,"AC04439","[CE] EC PSYCH 381: Behavioral Neurobiology","AC04439-[CE] EC PSYCH 381: Behavioral Neurobiology","Activity","FD02","Active","2025-03-17T16:11:54.159986+00:00",null,null,null,null,null,null,null,null,"26111","MBA EMBA Class Combined 2 (1K)","26111-MBA EMBA Class Combined 2 (1K)",null,null,null,"AS704105552","David Decker (704105552) PF AVP Office","AS704105552-David Decker (704105552) PF AVP Office","Active"]
[null,null,null,null,null,null,"AC04460","[CE] EC DESGD 396: Graphic Design Practicum: Typography","AC04460-[CE] EC DESGD 396: Graphic Design Practicum: Typography","Activity","FD02","Active","2025-03-17T16:11:54.159986+00:00",null,null,null,null,null,null,null,null,"26133","Troy Nielson","26133-Troy Nielson",null,null,null,"AS707720616","Tony Gunn (707720616) Auxiliary Administration Office","AS707720616-Tony Gunn (707720616) Auxiliary Administration Office","Active"]
[null,null,null,null,null,null,"AC04473","[CE] EC DESIL 488: Professional Practices for Illustrators","AC04473-[CE] EC DESIL 488: Professional Practices for Illustrators","Activity","FD02","Active","2025-03-17T16:11:54.159986+00:00",null,null,null,null,null,null,null,null,"26147","Other Ballard Center Class","26147-Other Ballard Center Class",null,null,null,"AS711867409","Jennifer Brooks (711867409) CMS - Mathematics","AS711867409-Jennifer Brooks (711867409) CMS - Mathematics","Active"]
[null,null,null,null,null,null,"AC04497","[CE] EC CSANM 350: Character Animation in 3D now DESAN 352 Intermediate Character Animation","AC04497-[CE] EC CSANM 350: Character Animation in 3D now DESAN 352 Intermediate Character Animation","Activity","FD02","Active","2025-03-17T16:11:54.222705+00:00",null,null,null,null,null,null,null,null,"26173","Lab Equipment","26173-Lab Equipment",null,null,null,"AS716265747","Jared Patching (716265747) College of Fine Arts and Comm - Marketing & Production","AS716265747-Jared Patching (716265747) College of Fine Arts and Comm - Marketing & Production","Active"]
[null,null,null,null,null,null,"AC04514","[CE] EC COMMS 319: Research in Communication","AC04514-[CE] EC COMMS 319: Research in Communication","Activity","FD02","Active","2025-03-17T16:11:54.222705+00:00",null,null,null,null,null,null,null,null,"26192","Craig J. Lindstrom","26192-Craig J. Lindstrom",null,null,null,"AS720482705","Michael Jones (720482705) AVP - Dean, Computational, Math,& Physical (CMS)","AS720482705-Michael Jones (720482705) AVP - Dean, Computational, Math,& Physical (CMS)","Active"]
[null,null,null,null,null,null,"AC04545","[CE] EC DANCE 180: Social Dance, Beginning","AC04545-[CE] EC DANCE 180: Social Dance, Beginning","Activity","FD02","Active","2025-03-17T16:11:54.222705+00:00",null,null,null,null,null,null,null,null,"26226","GBC Student Travel","26226-GBC Student Travel",null,null,null,"AS726683222","Jessie Scoville (726683222) CE Advisement","AS726683222-Jessie Scoville (726683222) CE Advisement","Active"]
[null,null,null,null,null,null,"AC04551","[CE] EC DANCE 326: Dance for Elementary Classroom","AC04551-[CE] EC DANCE 326: Dance for Elementary Classroom","Activity","FD02","Active","2025-03-17T16:11:54.222705+00:00",null,null,null,null,null,null,null,null,"26232","GBC CIBER Fees","26232-GBC CIBER Fees",null,null,null,"AS727624040","Teri Chatterton (727624040) OIT Resource - Enterprise Data Management and BI Engineering","AS727624040-Teri Chatterton (727624040) OIT Resource - Enterprise Data Management and BI Engineering","Active"]
[null,null,null,null,null,null,"AC04590","[CE] EC TMA 160: Theatre Production 1","AC04590-[CE] EC TMA 160: Theatre Production 1","Activity","FD02","Active","2025-03-17T16:11:54.222705+00:00",null,null,null,null,null,null,null,null,"26274","BCC Mgr of Recruiting Ops","26274-BCC Mgr of Recruiting Ops",null,null,null,"AS735417038","Janae Austin (735417038) HS Administration","AS735417038-Janae Austin (735417038) HS Administration","Active"]
[null,null,null,null,null,null,"AC04596","[CE] EC TMA 266: Principles of Stage Craft","AC04596-[CE] EC TMA 266: Principles of Stage Craft","Activity","FD02","Active","2025-03-17T16:11:54.222705+00:00",null,null,null,null,null,null,null,null,"26280","Travis Dyer","26280-Travis Dyer",null,null,null,"AS736501964","Cindy Ledingham (736501964) Research & Learning - Social Sciences","AS736501964-Cindy Ledingham (736501964) Research & Learning - Social Sciences","Active"]
[null,null,null,null,null,null,"AC04627","[CE] EC ASL 211R: ASL Intermediate Conversation","AC04627-[CE] EC ASL 211R: ASL Intermediate Conversation","Activity","FD02","Active","2025-03-17T16:11:54.222705+00:00",null,null,null,null,null,null,null,null,"26314","Kelli Ritter","26314-Kelli Ritter",null,null,null,"AS743023050","Dia Beck (743023050) Enterprise Solutions - Finance/P&T","AS743023050-Dia Beck (743023050) Enterprise Solutions - Finance/P&T","Active"]
[null,null,null,null,null,null,"AC04644","[CE] EC FLANG 102R: First-Year Language Study","AC04644-[CE] EC FLANG 102R: First-Year Language Study","Activity","FD02","Active","2025-03-17T16:11:54.222705+00:00",null,null,null,null,null,null,null,null,"26331","Arkin Hill","26331-Arkin Hill",null,null,null,"AS745871590","Shannon Grandy (745871590) AVP - Dean, Clark Law School","AS745871590-Shannon Grandy (745871590) AVP - Dean, Clark Law School","Active"]
[null,null,null,null,null,null,"AC04672","[CE] EC HMONG 102: First-Year Hmong","AC04672-[CE] EC HMONG 102: First-Year Hmong","Activity","FD02","Active","2025-03-17T16:11:54.222705+00:00",null,null,null,null,null,null,null,null,"26419","Isaac Smith","26419-Isaac Smith",null,null,null,"AS751358317","Kevin Smith (751358317) CE Information Technology","AS751358317-Kevin Smith (751358317) CE Information Technology","Active"]
[null,null,null,null,null,null,"AC04681","[CE] EC INDON 202: Second-Year Indonesian","AC04681-[CE] EC INDON 202: Second-Year Indonesian","Activity","FD02","Active","2025-03-17T16:11:54.222705+00:00",null,null,null,null,null,null,null,null,"26429","MSD Grad Bash","26429-MSD Grad Bash",null,null,null,"AS753416728","Tom Mallory (753416728) Center for Teaching & Learning - Academic Technology","AS753416728-Tom Mallory (753416728) Center for Teaching & Learning - Academic Technology","Active"]
[null,null,null,null,null,null,"AC04720","[CE] EC SWAHI 102: First-Year Swahili","AC04720-[CE] EC SWAHI 102: First-Year Swahili","Activity","FD02","Active","2025-03-17T16:11:54.281822+00:00",null,null,null,null,null,null,null,null,"26471","Human Resources / Finance","26471-Human Resources / Finance",null,null,null,"AS760738946","Kirsten Leigh Kelly (760738946) Master of Business Administration","AS760738946-Kirsten Leigh Kelly (760738946) Master of Business Administration","Active"]
[null,null,null,null,null,null,"AC04723","[CE] EC TAGAL 102: First-Year Filipino, Tagalog","AC04723-[CE] EC TAGAL 102: First-Year Filipino, Tagalog","Activity","FD02","Active","2025-03-17T16:11:54.281822+00:00",null,null,null,null,null,null,null,null,"26475","MGT Healthcare Industry Networ","26475-MGT Healthcare Industry Networ",null,null,null,"AS761192573","Brittany Hyde (761192573) Student Wellness","AS761192573-Brittany Hyde (761192573) Student Wellness","Active"]
[null,null,null,null,null,null,"AC04757","[CE] EC WELSH 305: Language Skills Development: Welsh","AC04757-[CE] EC WELSH 305: Language Skills Development: Welsh","Activity","FD02","Active","2025-03-17T16:11:54.281822+00:00",null,null,null,null,null,null,null,null,"26527","IS INTEX","26527-IS INTEX",null,null,null,"AS767189716","Casey Allen (767189716) Humanities - English","AS767189716-Casey Allen (767189716) Humanities - English","Active"]
[null,null,null,null,null,null,"AC04774","[CE] EC SPAN 330: Intro to Hispanic Literature","AC04774-[CE] EC SPAN 330: Intro to Hispanic Literature","Activity","FD02","Active","2025-03-17T16:11:54.281822+00:00",null,null,null,null,null,null,null,null,"26544","CET","26544-CET",null,null,null,"AS771235891","Nathan Holley (771235891) BYU Broadcasting - BYU Radio","AS771235891-Nathan Holley (771235891) BYU Broadcasting - BYU Radio","Active"]
[null,null,null,null,null,null,"AC04795","[CE] EC SCAND 344R: Topics in Scandinavian Studies","AC04795-[CE] EC SCAND 344R: Topics in Scandinavian Studies","Activity","FD02","Active","2025-03-17T16:11:54.281822+00:00",null,null,null,null,null,null,null,null,"26565","Finance Department","26565-Finance Department",null,null,null,"AS775034773","Kristin Bean (775034773) PF Business Support and Compliance","AS775034773-Kristin Bean (775034773) PF Business Support and Compliance","Active"]
[null,null,null,null,null,null,"AC04811","[CE] EC IHUM 201: Western Humanities 1: Antiquity to Renaissance","AC04811-[CE] EC IHUM 201: Western Humanities 1: Antiquity to Renaissance","Activity","FD02","Active","2025-03-17T16:11:54.281822+00:00",null,null,null,null,null,null,null,null,"26582","Dyer, Gibb","26582-Dyer, Gibb",null,null,null,"AS777490664","Austin Camper (777490664) Campus Accommodations - Housing","AS777490664-Austin Camper (777490664) Campus Accommodations - Housing","Active"]
[null,null,null,null,null,null,"AC04832","[CE] EC CL CV 201: Classical Tradition 1","AC04832-[CE] EC CL CV 201: Classical Tradition 1","Activity","FD02","Active","2025-03-17T16:11:54.281822+00:00",null,null,null,null,null,null,null,null,"26617","California, San Francisco","26617-California, San Francisco",null,null,null,"AS780553922","Alema Fitisemanu (780553922) CE FSY Hiring","AS780553922-Alema Fitisemanu (780553922) CE FSY Hiring","Active"]
[null,null,null,null,null,null,"AC04871","[CE] EC ENGL 235: Studies in American Literature","AC04871-[CE] EC ENGL 235: Studies in American Literature","Activity","FD02","Active","2025-03-17T16:11:54.281822+00:00",null,null,null,null,null,null,null,null,"26699","Blair Morgan","26699-Blair Morgan",null,null,null,"AS788264805","Nathan Hurst (788264805) Fine Arts & Communications - School of Music","AS788264805-Nathan Hurst (788264805) Fine Arts & Communications - School of Music","Active"]
[null,null,null,null,null,null,"AC04883","[CE] EC ENGL 450R: Studies in Literary Criticism and Theory","AC04883-[CE] EC ENGL 450R: Studies in Literary Criticism and Theory","Activity","FD02","Active","2025-03-17T16:11:54.281822+00:00",null,null,null,null,null,null,null,null,"26735","MPA ASPA","26735-MPA ASPA",null,null,null,"AS790308276","Wendy Duran (790308276) University President","AS790308276-Wendy Duran (790308276) University President","Active"]
[null,null,null,null,null,null,"AC04908","[CE] EC CHIN 102: Beginning Mandarin 2","AC04908-[CE] EC CHIN 102: Beginning Mandarin 2","Activity","FD02","Active","2025-03-17T16:11:54.281822+00:00",null,null,null,null,null,null,null,null,"26787","MBA Branding kits","26787-MBA Branding kits",null,null,null,"AS795261074","Rich Son (795261074) Center for Teaching & Learning - Academic Technology","AS795261074-Rich Son (795261074) Center for Teaching & Learning - Academic Technology","Active"]
[null,null,null,null,null,null,"AC04925","[CE] EC PHIL 201: History of Philosophy 1","AC04925-[CE] EC PHIL 201: History of Philosophy 1","Activity","FD02","Active","2025-03-17T16:11:54.368072+00:00",null,null,null,null,null,null,null,null,"26810","MBA Winter Re-Orientation","26810-MBA Winter Re-Orientation",null,null,null,"AS797675677","Jeff Olsen (797675677) BYU Broadcasting - Marketing","AS797675677-Jeff Olsen (797675677) BYU Broadcasting - Marketing","Active"]
[null,null,null,null,null,null,"AC04959","[CE] EC EXSC 419:  Medical Issues","AC04959-[CE] EC EXSC 419:  Medical Issues","Activity","FD02","Active","2025-03-17T16:11:54.368072+00:00",null,null,null,null,null,null,null,null,"26873","New Hampshire","26873-New Hampshire",null,null,null,"AS805544294","Chris Karpowitz (805544294) FHSS - Political Science","AS805544294-Chris Karpowitz (805544294) FHSS - Political Science","Active"]
[null,null,null,null,null,null,"AC04962","[CE] EC EXSC 519: Medical issues in Athletic Training","AC04962-[CE] EC EXSC 519: Medical issues in Athletic Training","Activity","FD02","Active","2025-03-17T16:11:54.368072+00:00",null,null,null,null,null,null,null,null,"26880","Pennsylvania, Philadelphia","26880-Pennsylvania, Philadelphia",null,null,null,"AS807028616","Juleah Roberts (807028616) HS Administration","AS807028616-Juleah Roberts (807028616) HS Administration","Active"]
[null,null,null,null,null,null,"AC05001","[CE] EC ENT 490R: Topics in Entrepreneurship","AC05001-[CE] EC ENT 490R: Topics in Entrepreneurship","Activity","FD02","Active","2025-03-17T16:11:54.368072+00:00",null,null,null,null,null,null,null,null,"26934","SOA Tax Policy Club","26934-SOA Tax Policy Club",null,null,null,"AS816677729","Maria Tucker (816677729) Fine Arts & Communications - Dance","AS816677729-Maria Tucker (816677729) Fine Arts & Communications - Dance","Active"]
[null,null,null,null,null,null,"AC05010","[CE] EC IS 515: Advanced Spreadsheets for Business Analysis","AC05010-[CE] EC IS 515: Advanced Spreadsheets for Business Analysis","Activity","FD02","Active","2025-03-17T16:11:54.368072+00:00",null,null,null,null,null,null,null,null,"26944","Breck Wightman","26944-Breck Wightman",null,null,null,"AS818491423","Jacob Keller (818491423) PF Auxiliary Maintenance","AS818491423-Jacob Keller (818491423) PF Auxiliary Maintenance","Active"]
[null,null,null,null,null,null,"AC05038","[CE] EC REL A 211: New Testament","AC05038-[CE] EC REL A 211: New Testament","Activity","FD02","Active","2025-03-17T16:11:54.368072+00:00",null,null,null,null,null,null,null,null,"27026","Off Campus Church","27026-Off Campus Church",null,null,null,"AS823432022","Shawn Butler (823432022) Master of Business Administration","AS823432022-Shawn Butler (823432022) Master of Business Administration","Active"]
[null,null,null,null,null,null,"AC05055","[CE] EC REL C 351: World Religions","AC05055-[CE] EC REL C 351: World Religions","Activity","FD02","Active","2025-03-17T16:11:54.368072+00:00",null,null,null,null,null,null,null,null,"27087","Non-profit Organizations","27087-Non-profit Organizations",null,null,null,"AS826687571","Kevin Garver (826687571) Admissions Office","AS826687571-Kevin Garver (826687571) Admissions Office","Active"]
[null,null,null,null,null,null,"AC05082","[CE] EC SWELL 155: Self-Defense","AC05082-[CE] EC SWELL 155: Self-Defense","Activity","FD02","Active","2025-03-17T16:11:54.368072+00:00",null,null,null,null,null,null,null,null,"27151","Facilities Services","27151-Facilities Services",null,null,null,"AS831233963","Chad Little (831233963) Marketing, Communications, & Technology","AS831233963-Chad Little (831233963) Marketing, Communications, & Technology","Active"]
[null,null,null,null,null,null,"AC05092","[CE] EC SWELL 186: Volleyball, Beginning","AC05092-[CE] EC SWELL 186: Volleyball, Beginning","Activity","FD02","Active","2025-03-17T16:11:54.368072+00:00",null,null,null,null,null,null,null,null,"27164","Grocery","27164-Grocery",null,null,null,"AS832097079","Yihsuan Wood (832097079) Humanities - Asian & Near Eastern Languages","AS832097079-Yihsuan Wood (832097079) Humanities - Asian & Near Eastern Languages","Active"]
[null,null,null,null,null,null,"AC05113","[CE] EC STDEV 272: Preview of Medicine","AC05113-[CE] EC STDEV 272: Preview of Medicine","Activity","FD02","Active","2025-03-17T16:11:54.368072+00:00",null,null,null,null,null,null,null,null,"27233","Dining Linens","27233-Dining Linens",null,null,null,"AS836768293","Marny Parkin (836768293) BYU Studies","AS836768293-Marny Parkin (836768293) BYU Studies","Active"]
[null,null,null,null,null,null,"AC05196","[CE] CW Broadway Boot Camp","AC05196-[CE] CW Broadway Boot Camp","Activity","FD02","Active","2025-03-17T16:11:54.421438+00:00",null,null,null,null,null,null,null,null,"27303","Insurance - Spring","27303-Insurance - Spring",null,null,null,"AS843753387","Colby Christensen (843753387) Enrollment Services Administrative Assistants","AS843753387-Colby Christensen (843753387) Enrollment Services Administrative Assistants","Active"]
[null,null,null,null,null,null,"AC05220","[CE] CW Marketing for Program","AC05220-[CE] CW Marketing for Program","Activity","FD02","Active","2025-03-17T16:11:54.421438+00:00",null,null,null,null,null,null,null,null,"27350","Studio 1030 Booth Lease","27350-Studio 1030 Booth Lease",null,null,null,"AS845223146","Caitlin Ackley (845223146) CE BYU Online High School","AS845223146-Caitlin Ackley (845223146) CE BYU Online High School","Active"]
[null,null,null,null,null,null,"AC05262","[CE] CW ACT Prep AZ Mesa 02","AC05262-[CE] CW ACT Prep AZ Mesa 02","Activity","FD02","Active","2025-03-17T16:11:54.421438+00:00",null,null,null,null,null,null,null,null,"27422","Event Support","27422-Event Support",null,null,null,"AS849882374","Liz Donakey (849882374) Museum of Art - Education","AS849882374-Liz Donakey (849882374) Museum of Art - Education","Active"]
[null,null,null,null,null,null,"AC05295","[CE] CW GRE 03","AC05295-[CE] CW GRE 03","Activity","FD02","Active","2025-03-17T16:11:54.421438+00:00",null,null,null,null,null,null,null,null,"27526","Wendy's","27526-Wendy's",null,null,null,"AS853833504","Matt Madden (853833504) MSB - Marketing & Global Supply Chain","AS853833504-Matt Madden (853833504) MSB - Marketing & Global Supply Chain","Active"]
[null,null,null,null,null,null,"AC05323","[HUM] Foreign Language House Research Group","AC05323-[HUM] Foreign Language House Research Group","Activity","FD01","Active","2025-03-17T16:11:54.421438+00:00",null,null,null,null,null,null,null,null,"27561","Skyroom","27561-Skyroom",null,null,null,"AS857529447","Alex Petersen (857529447) CMS - Statistics","AS857529447-Alex Petersen (857529447) CMS - Statistics","Active"]
[null,null,null,null,null,null,"AC05344","[ENG] Network Engin Assn","AC05344-[ENG] Network Engin Assn","Activity","FD02","Active","2025-03-17T16:11:54.483487+00:00",null,null,null,null,null,null,null,null,"28052","Fulton Chair","28052-Fulton Chair",null,null,null,"AS860769907","Jess Walker (860769907) PF Building Projects, Maintenance & Transportation Services","AS860769907-Jess Walker (860769907) PF Building Projects, Maintenance & Transportation Services","Active"]
[null,null,null,null,null,null,"AC05378","[LAWS] Sports Club","AC05378-[LAWS] Sports Club","Activity","FD02","Active","2025-03-17T16:11:54.483487+00:00",null,null,null,null,null,null,null,null,"28258","Tour Team","28258-Tour Team",null,null,null,"AS870117832","Kathryn Tucker (870117832) Deans Office BYU Marriott","AS870117832-Kathryn Tucker (870117832) Deans Office BYU Marriott","Active"]
[null,null,null,null,null,null,"AC05403","[ATH] Sports Camps-Counselor pay","AC05403-[ATH] Sports Camps-Counselor pay","Activity","FD02","Active","2025-03-17T16:11:54.483487+00:00",null,null,null,null,null,null,null,null,"28402","LSPH Networking Event","28402-LSPH Networking Event",null,null,null,"AS873870124","Andrew Fry (873870124) College of Engineering - Chemical Engineering","AS873870124-Andrew Fry (873870124) College of Engineering - Chemical Engineering","Active"]
[null,null,null,null,null,null,"AC05420","[HUM] Collaborative Writing GSAC-PIA","AC05420-[HUM] Collaborative Writing GSAC-PIA","Activity","FD03","Active","2025-03-17T16:11:54.483487+00:00",null,null,null,null,null,null,null,null,"28419","LSPH Merrill, Ray","28419-LSPH Merrill, Ray",null,null,null,"AS877412473","David Dougall (877412473) Indefinite Leaves","AS877412473-David Dougall (877412473) Indefinite Leaves","Active"]
[null,null,null,null,null,null,"AC05450","[HUM] Engl Dept Sunshine Fund-Adj","AC05450-[HUM] Engl Dept Sunshine Fund-Adj","Activity","FD07","Active","2025-03-17T16:11:54.483487+00:00",null,null,null,null,null,null,null,null,"28503","LSES Hopkins, Ty","28503-LSES Hopkins, Ty",null,null,null,"AS882295292","Tyson Ricks (882295292) PF Grounds & Landscape Management","AS882295292-Tyson Ricks (882295292) PF Grounds & Landscape Management","Active"]
[null,null,null,null,null,null,"AC05457","[PHIL] Ed Knight","AC05457-[PHIL] Ed Knight","Activity","FD07","Active","2025-03-17T16:11:54.483487+00:00",null,null,null,null,null,null,null,null,"28510","LSES Henderson, Adrienne","28510-LSES Henderson, Adrienne",null,null,null,"AS883124120","Jared Warren (883124120) FHSS - Psychology","AS883124120-Jared Warren (883124120) FHSS - Psychology","Active"]
[null,null,null,null,null,null,"AC05479","[CE] BYUO STDEV 143: Positive Living","AC05479-[CE] BYUO STDEV 143: Positive Living","Activity","FD02","Active","2025-03-17T16:11:54.483487+00:00",null,null,null,null,null,null,null,null,"28527","LSES Hager, Ron","28527-LSES Hager, Ron",null,null,null,"AS890056778","Justin Caldwell (890056778) Retail Services - General Administration","AS890056778-Justin Caldwell (890056778) Retail Services - General Administration","Active"]
[null,null,null,null,null,null,"AC05511","[STLF] Bunting, Bryce Research","AC05511-[STLF] Bunting, Bryce Research","Activity","FD01","Active","2025-03-17T16:11:54.483487+00:00",null,null,null,null,null,null,null,null,"28558","LSES Deru, Landon","28558-LSES Deru, Landon",null,null,null,"AS896402743","Carol Ward (896402743) FHSS - Sociology","AS896402743-Carol Ward (896402743) FHSS - Sociology","Active"]
[null,null,null,null,null,null,"AC05539","[REL] Andrew Hedges - Faculty Consolidated","AC05539-[REL] Andrew Hedges - Faculty Consolidated","Activity","FD04","Active","2025-03-17T16:11:54.483487+00:00",null,null,null,null,null,null,null,null,"28590","LSES 670 Ex Prescript","28590-LSES 670 Ex Prescript",null,null,null,"AS903154142","Lindsey Blau (903154142) Undergraduate Education - Dean's Office","AS903154142-Lindsey Blau (903154142) Undergraduate Education - Dean's Office","Active"]
[null,null,null,null,null,null,"AC05556","[REL] Guy Dorius - Faculty Consolidated","AC05556-[REL] Guy Dorius - Faculty Consolidated","Activity","FD04","Active","2025-03-17T16:11:54.536451+00:00",null,null,null,null,null,null,null,null,"28716","Noelani Wayas","28716-Noelani Wayas",null,null,null,"AS906824598","Alena Allred (906824598) Chemistry and Biochemistry","AS906824598-Alena Allred (906824598) Chemistry and Biochemistry","Active"]
[null,null,null,null,null,null,"AC05583","[REL] C Swift - Faculty Consolidated","AC05583-[REL] C Swift - Faculty Consolidated","Activity","FD04","Active","2025-03-17T16:11:54.536451+00:00",null,null,null,null,null,null,null,null,"28912","Women's Soccer","28912-Women's Soccer",null,null,null,"AS911714183","Corry Cropper (911714183) AVP - Dean, Humanities","AS911714183-Corry Cropper (911714183) AVP - Dean, Humanities","Active"]
[null,null,null,null,null,null,"AC05593","[REL] Nick Frederick - Faculty Consolidated","AC05593-[REL] Nick Frederick - Faculty Consolidated","Activity","FD04","Active","2025-03-17T16:11:54.536451+00:00",null,null,null,null,null,null,null,null,"28979","Locker Fees","28979-Locker Fees",null,null,null,"AS912441307","Tyler Gardner (912441307) Humanities - English","AS912441307-Tyler Gardner (912441307) Humanities - English","Active"]
[null,null,null,null,null,null,"AC05610","[REL] Jan Martin - Faculty Consolidated","AC05610-[REL] Jan Martin - Faculty Consolidated","Activity","FD04","Active","2025-03-17T16:11:54.536451+00:00",null,null,null,null,null,null,null,null,"29081","Staff Meetings","29081-Staff Meetings",null,null,null,"AS915485562","Matt Wheelwright (915485562) College of Engineering - Civil & Construction Engineering","AS915485562-Matt Wheelwright (915485562) College of Engineering - Civil & Construction Engineering","Active"]
[null,null,null,null,null,null,"AC05634","[CMS] Brian M. Hartman - Faculty Consolidated","AC05634-[CMS] Brian M. Hartman - Faculty Consolidated","Activity","FD04","Active","2025-03-17T16:11:54.536451+00:00",null,null,null,null,null,null,null,null,"29201","Honors Courses","29201-Honors Courses",null,null,null,"AS920376619","Amy Jensen (920376619) AVP - Dean, Fine Arts and Communications","AS920376619-Amy Jensen (920376619) AVP - Dean, Fine Arts and Communications","Active"]
[null,null,null,null,null,null,"AC05669","[CMS] Denise Stephens - Faculty Consolidated","AC05669-[CMS] Denise Stephens - Faculty Consolidated","Activity","FD04","Active","2025-03-17T16:11:54.536451+00:00",null,null,null,null,null,null,null,null,"29528","Cords & Medallions","29528-Cords & Medallions",null,null,null,"AS926268948","Matthew Allen (926268948) CMS - Chemistry and Biochemistry","AS926268948-Matthew Allen (926268948) CMS - Chemistry and Biochemistry","Active"]
[null,null,null,null,null,null,"AC05690","[CMS] Williams, Steven - Faculty Consolidated","AC05690-[CMS] Williams, Steven - Faculty Consolidated","Activity","FD04","Active","2025-03-17T16:11:54.536451+00:00",null,null,null,null,null,null,null,null,"29701","Pre-Convocation Social","29701-Pre-Convocation Social",null,null,null,"AS931174054","Brandon Bitter (931174054) PF Campus Projects - Civil Engineering","AS931174054-Brandon Bitter (931174054) PF Campus Projects - Civil Engineering","Active"]
[null,null,null,null,null,null,"AC05706","[CMS] Xian - Jin Li - Faculty Consolidated","AC05706-[CMS] Xian - Jin Li - Faculty Consolidated","Activity","FD04","Active","2025-03-17T16:11:54.536451+00:00",null,null,null,null,null,null,null,null,"29739","Temporary Hires","29739-Temporary Hires",null,null,null,"AS934262405","Brandon Muirhead (934262405) MSB - Finance","AS934262405-Brandon Muirhead (934262405) MSB - Finance","Active"]
[null,null,null,null,null,null,"AC05723","[CMS] Jennifer L. Brooks Faculty Consolidated","AC05723-[CMS] Jennifer L. Brooks Faculty Consolidated","Activity","FD04","Active","2025-03-17T16:11:54.536451+00:00",null,null,null,null,null,null,null,null,"29832","Schedule Printing","29832-Schedule Printing",null,null,null,"AS937543542","Aaron Nielsen (937543542) PF Building Operations","AS937543542-Aaron Nielsen (937543542) PF Building Operations","Active"]
[null,null,null,null,null,null,"AC05744","[CMS] Bart Kowallis - Faculty Consolidated","AC05744-[CMS] Bart Kowallis - Faculty Consolidated","Activity","FD04","Active","2025-03-17T16:11:54.536451+00:00",null,null,null,null,null,null,null,null,"29939","Student Wages","29939-Student Wages",null,null,null,"AS940175998","Iman Maghami (940175998) College of Engineering - Civil & Construction Engineering","AS940175998-Iman Maghami (940175998) College of Engineering - Civil & Construction Engineering","Active"]
[null,null,null,null,null,null,"AC05778","[CMS] Quinn Snell - Faculty Consolidated","AC05778-[CMS] Quinn Snell - Faculty Consolidated","Activity","FD04","Active","2025-03-17T16:11:54.593212+00:00",null,null,null,null,null,null,null,null,"30015","LSPW Undergraduates","30015-LSPW Undergraduates",null,null,null,"AS947318537","Natalie Nielson (947318537) Humanities - Comparative Arts & Letters","AS947318537-Natalie Nielson (947318537) Humanities - Comparative Arts & Letters","Active"]
[null,null,null,null,null,null,"AC05803","[CMS] J Nielson - Faculty Consolidated","AC05803-[CMS] J Nielson - Faculty Consolidated","Activity","FD04","Active","2025-03-17T16:11:54.593212+00:00",null,null,null,null,null,null,null,null,"30040","LSPW PWS 303 Soil Cons & Resou","30040-LSPW PWS 303 Soil Cons & Resou",null,null,null,"AS955101639","Trevor Boulter (955101639) Purchasing and Travel - Dining Procurement","AS955101639-Trevor Boulter (955101639) Purchasing and Travel - Dining Procurement","Active"]
[null,null,null,null,null,null,"AC05820","[CMS] David Dearden - Faculty Consolidated","AC05820-[CMS] David Dearden - Faculty Consolidated","Activity","FD04","Active","2025-03-17T16:11:54.593212+00:00",null,null,null,null,null,null,null,null,"30057","LSPW PWS 431 Integ Man of PPes","30057-LSPW PWS 431 Integ Man of PPes",null,null,null,"AS958184101","Alan Openshaw (958184101) CE Production Processes","AS958184101-Alan Openshaw (958184101) CE Production Processes","Active"]
[null,null,null,null,null,null,"AC05829","[CMS] David J Michaelis - Faculty Consolidated","AC05829-[CMS] David J Michaelis - Faculty Consolidated","Activity","FD04","Active","2025-03-17T16:11:54.593212+00:00",null,null,null,null,null,null,null,null,"30066","LSPW PWS 520 Saline & Sodic So","30066-LSPW PWS 520 Saline & Sodic So",null,null,null,"AS959699484","Dallin Rahlf (959699484) University Relations","AS959699484-Dallin Rahlf (959699484) University Relations","Active"]
[null,null,null,null,null,null,"AC05857","[MSE] T. Leavitt - Faculty Consolidated","AC05857-[MSE] T. Leavitt - Faculty Consolidated","Activity","FD04","Active","2025-03-17T16:11:54.593212+00:00",null,null,null,null,null,null,null,null,"30094","LSPW PWS 212 Landscape Irrigat","30094-LSPW PWS 212 Landscape Irrigat",null,null,null,"AS964777572","Carolina Nunez (964777572) AVP - Dean, Clark Law School","AS964777572-Carolina Nunez (964777572) AVP - Dean, Clark Law School","Active"]
[null,null,null,null,null,null,"AC05874","[MSE] Corinna Peterken Faculty Consolidated","AC05874-[MSE] Corinna Peterken Faculty Consolidated","Activity","FD04","Active","2025-03-17T16:11:54.593212+00:00",null,null,null,null,null,null,null,null,"30107","LSPW Stewart, J. Ryan","30107-LSPW Stewart, J. Ryan",null,null,null,"AS967637535","Peter Madsen (967637535) MSB - Management","AS967637535-Peter Madsen (967637535) MSB - Management","Active"]
[null,null,null,null,null,null,"AC05901","[MSE] P Hallam - Faculty Consolidated","AC05901-[MSE] P Hallam - Faculty Consolidated","Activity","FD04","Active","2025-03-17T16:11:54.593212+00:00",null,null,null,null,null,null,null,null,"30134","LSPW Madsen, Matthew","30134-LSPW Madsen, Matthew",null,null,null,"AS975132412","Kristin Matthews (975132412) Humanities - English","AS975132412-Kristin Matthews (975132412) Humanities - English","Active"]
[null,null,null,null,null,null,"AC05933","[MSE] Richard Harris - Faculty Consolidated","AC05933-[MSE] Richard Harris - Faculty Consolidated","Activity","FD04","Active","2025-03-17T16:11:54.593212+00:00",null,null,null,null,null,null,null,null,"30168","LSPW PWS 344 Nat.History of Wi","30168-LSPW PWS 344 Nat.History of Wi",null,null,null,"AS980887710","Dave Ericson (980887710) Advancement VP","AS980887710-Dave Ericson (980887710) Advancement VP","Active"]
[null,null,null,null,null,null,"AC05950","[MSE] L. Christensen - Faculty Consolidated","AC05950-[MSE] L. Christensen - Faculty Consolidated","Activity","FD04","Active","2025-03-17T16:11:54.593212+00:00",null,null,null,null,null,null,null,null,"30185","LSPW PWS 640 Dev Plant Physiol","30185-LSPW PWS 640 Dev Plant Physiol",null,null,null,"AS983190707","Bradley Goronson (983190707) CE Academic Systems","AS983190707-Bradley Goronson (983190707) CE Academic Systems","Active"]
[null,null,null,null,null,null,"AC05977","[MSB] Jacob Thornock - Faculty Consolidated","AC05977-[MSB] Jacob Thornock - Faculty Consolidated","Activity","FD04","Active","2025-03-17T16:11:54.652844+00:00",null,null,null,null,null,null,null,null,"30212","LSBI Bio 556 Limnology","30212-LSBI Bio 556 Limnology",null,null,null,"AS988953503","Benjamin Frandsen (988953503) CMS - Physics and Astronomy","AS988953503-Benjamin Frandsen (988953503) CMS - Physics and Astronomy","Active"]
[null,null,null,null,null,null,"AC05987","[MSB] Liljegren, Jonathan - Faculty Consolidated","AC05987-[MSB] Liljegren, Jonathan - Faculty Consolidated","Activity","FD04","Active","2025-03-17T16:11:54.652844+00:00",null,null,null,null,null,null,null,null,"30223","LSBI Bio 559R Advanced Topics","30223-LSBI Bio 559R Advanced Topics",null,null,null,"AS990443547","Karl Parkinson (990443547) OIT Portfolio - Help & Support","AS990443547-Karl Parkinson (990443547) OIT Portfolio - Help & Support","Active"]
[null,null,null,null,null,null,"AC06004","[MSB] Wightman, Breck - Faculty Consolidated","AC06004-[MSB] Wightman, Breck - Faculty Consolidated","Activity","FD04","Active","2025-03-17T16:11:54.652844+00:00",null,null,null,null,null,null,null,null,"30246","LSBI Rogers, Duke S","30246-LSBI Rogers, Duke S",null,null,null,"AS995602089","Melissa S Jones (995602089) FHSS - Sociology","AS995602089-Melissa S Jones (995602089) FHSS - Sociology","Active"]
[null,null,null,null,null,null,"AC06025","[MSB] Marc Dotson - Faculty Consolidated","AC06025-[MSB] Marc Dotson - Faculty Consolidated","Activity","FD04","Active","2025-03-17T16:11:54.652844+00:00",null,null,null,null,null,null,null,null,"30271","LSBI 2020 Rheumatic Rescue","30271-LSBI 2020 Rheumatic Rescue"]
[null,null,null,null,null,null,"AC06044","[MSB] Mark Hansen - Faculty Consolidated","AC06044-[MSB] Mark Hansen - Faculty Consolidated","Activity","FD04","Active","2025-03-17T16:11:54.652844+00:00",null,null,null,null,null,null,null,null,"30295","LSBI 23 CURA R Nelson-A Monson","30295-LSBI 23 CURA R Nelson-A Monson"]
[null,null,null,null,null,null,"AC06080","[MSB] Nathan Twyman Faculty Consolidated","AC06080-[MSB] Nathan Twyman Faculty Consolidated","Activity","FD04","Active","2025-03-17T16:11:54.652844+00:00",null,null,null,null,null,null,null,null,"30334","LSBI BIO 465 Bioinformatics","30334-LSBI BIO 465 Bioinformatics"]
[null,null,null,null,null,null,"AC06101","[MSB] Andrew Holmes - Faculty Consolidated","AC06101-[MSB] Andrew Holmes - Faculty Consolidated","Activity","FD04","Active","2025-03-17T16:11:54.652844+00:00",null,null,null,null,null,null,null,null,"30367","LSBI Redd Center","30367-LSBI Redd Center"]
[null,null,null,null,null,null,"AC06116","[MSB] Mark Johnson - Faculty Consolidated","AC06116-[MSB] Mark Johnson - Faculty Consolidated","Activity","FD04","Active","2025-03-17T16:11:54.652844+00:00",null,null,null,null,null,null,null,null,"30392","LSBI Fragment Analysis","30392-LSBI Fragment Analysis"]
[null,null,null,null,null,null,"AC06138","[LFSC] Novilla, Len - Faculty Consolidated","AC06138-[LFSC] Novilla, Len - Faculty Consolidated","Activity","FD04","Active","2025-03-21T02:04:04.659901+00:00",null,null,null,null,null,null,null,null,"30417","LSND Della Corte, Karen-Grad","30417-LSND Della Corte, Karen-Grad"]
[null,null,null,null,null,null,"AC06155","[LFSC] Erik Nelson - Faculty Consolidated","AC06155-[LFSC] Erik Nelson - Faculty Consolidated","Activity","FD04","Active","2025-03-21T02:04:04.659901+00:00",null,null,null,null,null,null,null,null,"30439","LSND LeCheminant, James","30439-LSND LeCheminant, James"]
[null,null,null,null,null,null,"AC06188","[LFSC] Kenealey, Jason - Faculty Consolidated","AC06188-[LFSC] Kenealey, Jason - Faculty Consolidated","Activity","FD04","Active","2025-03-21T02:04:04.659901+00:00",null,null,null,null,null,null,null,null,"30472","LS Coll UG Rsrch Awd-CURA 12","30472-LS Coll UG Rsrch Awd-CURA 12"]
[null,null,null,null,null,null,"AC06214","[LFSC] Johnson, Steven M - Faculty Consolidated","AC06214-[LFSC] Johnson, Steven M - Faculty Consolidated","Activity","FD04","Active","2025-03-21T02:04:06.631604+00:00",null,null,null,null,null,null,null,null,"30515","LS Coll UG Rsrch Awd-CURA 23","30515-LS Coll UG Rsrch Awd-CURA 23"]
[null,null,null,null,null,null,"AC06231","[LFSC] Hyldahl, Rob - Faculty Consolidated","AC06231-[LFSC] Hyldahl, Rob - Faculty Consolidated","Activity","FD04","Active","2025-03-21T02:04:06.631604+00:00",null,null,null,null,null,null,null,null,"30532","LSMM Graduate Students","30532-LSMM Graduate Students"]
[null,null,null,null,null,null,"AC06243","[LFSC] Davidson, Lance - Faculty Consolidated","AC06243-[LFSC] Davidson, Lance - Faculty Consolidated","Activity","FD04","Active","2025-03-21T02:04:06.631604+00:00",null,null,null,null,null,null,null,null,"30544","LSMM Cornaby, Caleb - Fellowsh","30544-LSMM Cornaby, Caleb - Fellowsh"]
[null,null,null,null,null,null,"AC06268","[LFSC] Koide, Roger t - Faculty Consolidated","AC06268-[LFSC] Koide, Roger t - Faculty Consolidated","Activity","FD04","Active","2025-03-17T16:11:54.704116+00:00",null,null,null,null,null,null,null,null,"30569","LSMM Emmeline B. Wells Grant","30569-LSMM Emmeline B. Wells Grant"]
[null,null,null,null,null,null,"AC06285","[LFSC] Clark, Shawn - Faculty Consolidated","AC06285-[LFSC] Clark, Shawn - Faculty Consolidated","Activity","FD04","Active","2025-03-17T16:11:54.704116+00:00",null,null,null,null,null,null,null,null,"30586","LSMM MMBIO 518","30586-LSMM MMBIO 518"]
[null,null,null,null,null,null,"AC06315","[LIB] Daniel Broadbent Faculty Consolidated","AC06315-[LIB] Daniel Broadbent Faculty Consolidated","Activity","FD04","Active","2025-03-17T16:11:54.704116+00:00",null,null,null,null,null,null,null,null,"30663","LSES SYP training","30663-LSES SYP training"]
[null,null,null,null,null,null,"AC06344","[LIB] Valerie Buck - Faculty Consolidated","AC06344-[LIB] Valerie Buck - Faculty Consolidated","Activity","FD04","Active","2025-03-17T16:11:54.704116+00:00",null,null,null,null,null,null,null,null,"30719","LSCE Mizrachi, Dario","30719-LSCE Mizrachi, Dario"]
[null,null,null,null,null,null,"AC06361","[HUM] Bateman, Blair - Faculty Consolidated","AC06361-[HUM] Bateman, Blair - Faculty Consolidated","Activity","FD04","Active","2025-03-17T16:11:54.704116+00:00",null,null,null,null,null,null,null,null,"30758","LSCE UG Travel Outside Dept","30758-LSCE UG Travel Outside Dept"]
[null,null,null,null,null,null,"AC06387","[HUM] Smead, Rob Faculty Consolidated","AC06387-[HUM] Smead, Rob Faculty Consolidated","Activity","FD04","Active","2025-03-17T16:11:54.800235+00:00",null,null,null,null,null,null,null,null,"30808","LSCE CELL 582","30808-LSCE CELL 582"]
[null,null,null,null,null,null,"AC06398","[HUM] White, Justin - Faculty Consolidated","AC06398-[HUM] White, Justin - Faculty Consolidated","Activity","FD04","Active","2025-03-17T16:11:54.800235+00:00",null,null,null,null,null,null,null,null,"30819","LSCE CELL 210","30819-LSCE CELL 210"]
[null,null,null,null,null,null,"AC06419","[HUM] Tanner, Mark - Faculty Consolidated","AC06419-[HUM] Tanner, Mark - Faculty Consolidated","Activity","FD04","Active","2025-03-17T16:11:54.800235+00:00",null,null,null,null,null,null,null,null,"30911","LSPW Hansen, Neil","30911-LSPW Hansen, Neil"]
[null,null,null,null,null,null,"AC06438","[HUM] Baker, Holly - Faculty Consolidated","AC06438-[HUM] Baker, Holly - Faculty Consolidated","Activity","FD04","Active","2025-03-17T16:11:54.800235+00:00",null,null,null,null,null,null,null,null,"30930","LSPW V-PW51 2011 YAMA ATV/Lars","30930-LSPW V-PW51 2011 YAMA ATV/Lars"]
[null,null,null,null,null,null,"AC06474","[HUM] Madden, Patrick - Faculty Consolidated","AC06474-[HUM] Madden, Patrick - Faculty Consolidated","Activity","FD04","Active","2025-03-17T16:11:54.800235+00:00",null,null,null,null,null,null,null,null,"30966","LSPW V-PW40 2023 TOY T TRUCK/M","30966-LSPW V-PW40 2023 TOY T TRUCK/M"]
[null,null,null,null,null,null,"AC06495","[HUM] Eastley, Aaron - Faculty Consolidated","AC06495-[HUM] Eastley, Aaron - Faculty Consolidated","Activity","FD04","Active","2025-03-17T16:11:54.800235+00:00",null,null,null,null,null,null,null,null,"30987","LSPW PWS 2021","30987-LSPW PWS 2021"]
[null,null,null,null,null,null,"AC06510","[HUM] Harris, Sharon Faculty Consolidated","AC06510-[HUM] Harris, Sharon Faculty Consolidated","Activity","FD04","Active","2025-03-17T16:11:54.800235+00:00",null,null,null,null,null,null,null,null,"31002","Camera Repair","31002-Camera Repair"]
[null,null,null,null,null,null,"AC06528","[HUM] Cropper, Corry - Faculty Consolidated","AC06528-[HUM] Cropper, Corry - Faculty Consolidated","Activity","FD04","Active","2025-03-17T16:11:54.800235+00:00",null,null,null,null,null,null,null,null,"32204","Challenge 3 Knife","32204-Challenge 3 Knife"]
[null,null,null,null,null,null,"AC06549","[HUM] Yamada, Marc - Faculty Consolidated","AC06549-[HUM] Yamada, Marc - Faculty Consolidated","Activity","FD04","Active","2025-03-17T16:11:54.800235+00:00",null,null,null,null,null,null,null,null,"32242","Computer Support","32242-Computer Support"]
[null,null,null,null,null,null,"AC06582","[HUM] Stoneman, Jack - Faculty Consolidated","AC06582-[HUM] Stoneman, Jack - Faculty Consolidated","Activity","FD04","Active","2025-03-17T16:11:54.800235+00:00",null,null,null,null,null,null,null,null,"32293","Horizon Binder","32293-Horizon Binder"]
[null,null,null,null,null,null,"AC06586","[HUM] Tsuchiya, Shinsuke Faculty Consolidated","AC06586-[HUM] Tsuchiya, Shinsuke Faculty Consolidated","Activity","FD04","Active","2025-03-17T16:11:54.842818+00:00",null,null,null,null,null,null,null,null,"32301","Vehicle Rental","32301-Vehicle Rental"]
[null,null,null,null,null,null,"AC06625","[PHIL] Greg Baliff","AC06625-[PHIL] Greg Baliff","Activity","FD07","Active","2025-03-17T16:11:54.842818+00:00",null,null,null,null,null,null,null,null,"33097","Athletic Training","33097-Athletic Training"]
[null,null,null,null,null,null,"AC06633","[ARTS] Weeks, Milinda - Faculty Consolidated","AC06633-[ARTS] Weeks, Milinda - Faculty Consolidated","Activity","FD04","Active","2025-03-17T16:11:54.842818+00:00",null,null,null,null,null,null,null,null,"34017","Transcription","34017-Transcription"]
[null,null,null,null,null,null,"AC06662","[ARTS] Will Kimball - Faculty Consolidated","AC06662-[ARTS] Will Kimball - Faculty Consolidated","Activity","FD04","Active","2025-03-17T16:11:54.842818+00:00",null,null,null,null,null,null,null,null,"34074","Tuition Assistance Program","34074-Tuition Assistance Program"]
[null,null,null,null,null,null,"AC06679","[ARTS] Lindeman, Steve - Faculty Consolidated","AC06679-[ARTS] Lindeman, Steve - Faculty Consolidated","Activity","FD04","Active","2025-03-17T16:11:54.842818+00:00",null,null,null,null,null,null,null,null,"34104","Mormon Media","34104-Mormon Media"]
[null,null,null,null,null,null,"AC06709","[ARTS] Bryce, Dan Faculty Consolidated","AC06709-[ARTS] Bryce, Dan Faculty Consolidated","Activity","FD04","Active","2025-03-17T16:11:54.842818+00:00",null,null,null,null,null,null,null,null,"34150","Geography","34150-Geography"]
[null,null,null,null,null,null,"AC06716","[ARTS] Hofheins, Nathan - Faculty Consolidated","AC06716-[ARTS] Hofheins, Nathan - Faculty Consolidated","Activity","FD04","Active","2025-03-17T16:11:54.842818+00:00",null,null,null,null,null,null,null,null,"34170","Social Sciences - General","34170-Social Sciences - General"]
[null,null,null,null,null,null,"AC06755","[ARTS] Pulfer, Adrian - Faculty Consolidated","AC06755-[ARTS] Pulfer, Adrian - Faculty Consolidated","Activity","FD04","Active","2025-03-17T16:11:54.842818+00:00",null,null,null,null,null,null,null,null,"34224","Literature - German","34224-Literature - German"]
[null,null,null,null,null,null,"AC06760","[ARTS] Thomas, Doug - Faculty Consolidated","AC06760-[ARTS] Thomas, Doug - Faculty Consolidated","Activity","FD04","Active","2025-03-17T16:11:54.842818+00:00",null,null,null,null,null,null,null,null,"34230","Science Fiction","34230-Science Fiction"]
[null,null,null,null,null,null,"AC06792","[ARTS] Hiliary Wolfley Faculty Consolidated","AC06792-[ARTS] Hiliary Wolfley Faculty Consolidated","Activity","FD04","Active","2025-03-17T16:11:54.842818+00:00",null,null,null,null,null,null,null,null,"34311","Manufacturing Engineering","34311-Manufacturing Engineering"]
[null,null,null,null,null,null,"AC06809","[FHSS] Dahlin, Eric - Faculty Consolidated","AC06809-[FHSS] Dahlin, Eric - Faculty Consolidated","Activity","FD04","Active","2025-03-17T16:11:54.9036+00:00",null,null,null,null,null,null,null,null,"34336","Reference - Social Science","34336-Reference - Social Science"]
[null,null,null,null,null,null,"AC06833","[AVP] Carroll, Jason - Faculty Consolidated","AC06833-[AVP] Carroll, Jason - Faculty Consolidated","Activity","FD04","Active","2025-03-17T16:11:54.9036+00:00",null,null,null,null,null,null,null,null,"34372","Retrospective - Series","34372-Retrospective - Series"]
[null,null,null,null,null,null,"AC06847","[FHSS] Anderson, Shayne - Faculty Consolidated","AC06847-[FHSS] Anderson, Shayne - Faculty Consolidated","Activity","FD04","Active","2025-03-17T16:11:54.9036+00:00",null,null,null,null,null,null,null,null,"34389","Bibliographic Records","34389-Bibliographic Records"]
[null,null,null,null,null,null,"AC06871","[FHSS] Ogles, Ben M - Faculty Consolidated","AC06871-[FHSS] Ogles, Ben M - Faculty Consolidated","Activity","FD04","Active","2025-03-17T16:11:54.9036+00:00",null,null,null,null,null,null,null,null,"34521","Lost","34521-Lost"]
[null,null,null,null,null,null,"AC06909","[FHSS] Cavallini, Adriane - Faculty Consolidated","AC06909-[FHSS] Cavallini, Adriane - Faculty Consolidated","Activity","FD04","Active","2025-03-17T16:11:54.9036+00:00",null,null,null,null,null,null,null,null,"35121","Carpenter, Tara","35121-Carpenter, Tara"]
[null,null,null,null,null,null,"AC06928","[FHSS] Brown, Adam - Faculty Consolidated","AC06928-[FHSS] Brown, Adam - Faculty Consolidated","Activity","FD04","Active","2025-03-17T16:11:54.9036+00:00",null,null,null,null,null,null,null,null,"35143","Kunz, Justin","35143-Kunz, Justin"]
[null,null,null,null,null,null,"AC06949","[FHSS] Rugh, Susan S - Faculty Consolidated","AC06949-[FHSS] Rugh, Susan S - Faculty Consolidated","Activity","FD04","Active","2025-03-17T16:11:54.9036+00:00",null,null,null,null,null,null,null,null,"35167","Ostraff, Joe","35167-Ostraff, Joe"]
[null,null,null,null,null,null,"AC06961","[FHSS] Hadfield, Leslie - Faculty Consolidated","AC06961-[FHSS] Hadfield, Leslie - Faculty Consolidated","Activity","FD04","Active","2025-03-17T16:11:54.9036+00:00",null,null,null,null,null,null,null,null,"35182","[ARTS] 3-D Studio Stdnt FT","35182-[ARTS] 3-D Studio Stdnt FT"]
[null,null,null,null,null,null,"AC06987","[FHSS] Ray, Daren - Faculty Consolidated","AC06987-[FHSS] Ray, Daren - Faculty Consolidated","Activity","FD04","Active","2025-03-17T16:11:54.9036+00:00",null,null,null,null,null,null,null,null,"35254","DESGD 441R Design Lab","35254-DESGD 441R Design Lab"]
[null,null,null,null,null,null,"AC07007","[FHSS] Showalter, Mark H - Faculty Consolidated","AC07007-[FHSS] Showalter, Mark H - Faculty Consolidated","Activity","FD04","Active","2025-03-17T16:11:54.957842+00:00",null,null,null,null,null,null,null,null,"35291","Sorenson, Sarianne","35291-Sorenson, Sarianne"]
[null,null,null,null,null,null,"AC07043","[FHSS] Searcy, Michael - Faculty Consolidated","AC07043-[FHSS] Searcy, Michael - Faculty Consolidated","Activity","FD04","Active","2025-03-17T16:11:54.957842+00:00",null,null,null,null,null,null,null,null,"35340","VAEmpGiving-AE Off-Camp Exp","35340-VAEmpGiving-AE Off-Camp Exp"]
[null,null,null,null,null,null,"AC07072","[NURS] Stacie Hunsaker - Faculty Consolidated","AC07072-[NURS] Stacie Hunsaker - Faculty Consolidated","Activity","FD04","Active","2025-03-17T16:11:54.957842+00:00",null,null,null,null,null,null,null,null,"35428","RFM CD: Ready for a Miracle","35428-RFM CD: Ready for a Miracle"]
[null,null,null,null,null,null,"AC07089","[NURS] Sarah Davis - Faculty Consolidated","AC07089-[NURS] Sarah Davis - Faculty Consolidated","Activity","FD04","Active","2025-03-17T16:11:54.957842+00:00",null,null,null,null,null,null,null,null,"35454","MERCH VP Gray Blue Hat","35454-MERCH VP Gray Blue Hat"]
[null,null,null,null,null,null,"AC07115","[ENG] M Lords - Faculty Consolidated","AC07115-[ENG] M Lords - Faculty Consolidated","Activity","FD04","Active","2025-03-17T16:11:54.957842+00:00",null,null,null,null,null,null,null,null,"35482","iTunes: Other Income","35482-iTunes: Other Income"]
[null,null,null,null,null,null,"AC07126","[ENG] Larry Howell - Faculty Consolidated","AC07126-[ENG] Larry Howell - Faculty Consolidated","Activity","FD04","Active","2025-03-17T16:11:54.957842+00:00",null,null,null,null,null,null,null,null,"35497","POSTER: Noteworthy","35497-POSTER: Noteworthy"]
[null,null,null,null,null,null,"AC07143","[ENG] B Iverson - Faculty Consolidated","AC07143-[ENG] B Iverson - Faculty Consolidated","Activity","FD04","Active","2025-03-17T16:11:54.957842+00:00",null,null,null,null,null,null,null,null,"35615","JOR 'JOttley Retrospective' CD","35615-JOR 'JOttley Retrospective' CD"]
[null,null,null,null,null,null,"AC07170","[ENG] A Hawkins - Faculty Consolidated","AC07170-[ENG] A Hawkins - Faculty Consolidated","Activity","FD04","Active","2025-03-17T16:11:54.957842+00:00",null,null,null,null,null,null,null,null,"35644","LMD-CD: Lead Thou Me On-Deluxe","35644-LMD-CD: Lead Thou Me On-Deluxe"]
[null,null,null,null,null,null,"AC07202","[ENG] J Christofferson - Faculty Consolidated","AC07202-[ENG] J Christofferson - Faculty Consolidated","Activity","FD04","Active","2025-03-17T16:11:54.957842+00:00",null,null,null,null,null,null,null,null,"35677","APQ '2 Pianos, 8 Hands' CD","35677-APQ '2 Pianos, 8 Hands' CD"]
[null,null,null,null,null,null,"AC07219","[ENG] M Scott - Faculty Consolidated","AC07219-[ENG] M Scott - Faculty Consolidated","Activity","FD04","Active","2025-03-17T16:11:55.003647+00:00",null,null,null,null,null,null,null,null,"35697","DSM-I Can Only Imagine:YMP028","35697-DSM-I Can Only Imagine:YMP028"]
[null,null,null,null,null,null,"AC07240","[ENG] J. Hedengren - Faculty Consolidated","AC07240-[ENG] J. Hedengren - Faculty Consolidated","Activity","FD04","Active","2025-03-17T16:11:55.003647+00:00",null,null,null,null,null,null,null,null,"35733","Bastian, Darren","35733-Bastian, Darren"]
[null,null,null,null,null,null,"AC07258","[LAWS] Paul Stancil - Faculty Consolidated","AC07258-[LAWS] Paul Stancil - Faculty Consolidated","Activity","FD04","Active","2025-03-17T16:11:55.003647+00:00",null,null,null,null,null,null,null,null,"35767","Wahlquist, Michael","35767-Wahlquist, Michael"]
[null,null,null,null,null,null,"AC07273","[LAWS] Curt Anderson - Faculty Consolidated","AC07273-[LAWS] Curt Anderson - Faculty Consolidated","Activity","FD04","Active","2025-03-17T16:11:55.003647+00:00",null,null,null,null,null,null,null,null,"35787","Morgan, LeeAnn","35787-Morgan, LeeAnn"]
[null,null,null,null,null,null,"AC07316","[AVP] Neilson, Reid - Faculty Consolidated","AC07316-[AVP] Neilson, Reid - Faculty Consolidated","Activity","FD04","Active","2025-03-17T16:11:55.003647+00:00",null,null,null,null,null,null,null,null,"35849","SWG 'Shout With Glory!' CD","35849-SWG 'Shout With Glory!' CD"]
[null,null,null,null,null,null,"AC07332","[CE] GCHS ALG 053: Algebra 1","AC07332-[CE] GCHS ALG 053: Algebra 1","Activity","FD02","Active","2025-03-17T16:11:55.003647+00:00",null,null,null,null,null,null,null,null,"35864","Kimball, Will","35864-Kimball, Will"]
[null,null,null,null,null,null,"AC07355","[CE] EC AZER 201: Second-Year Azerbaijani","AC07355-[CE] EC AZER 201: Second-Year Azerbaijani","Activity","FD02","Active","2025-03-17T16:11:55.003647+00:00",null,null,null,null,null,null,null,null,"35933","Marching Band","35933-Marching Band"]
[null,null,null,null,null,null,"AC07380","[CE] FSY AB Edmonton","AC07380-[CE] FSY AB Edmonton","Activity","FD02","Active","2025-03-17T16:11:55.003647+00:00",null,null,null,null,null,null,null,null,"35966","BYU Music Publishing Group","35966-BYU Music Publishing Group"]
[null,null,null,null,null,null,"AC07415","[CE] EC SLAT 613: Second Language","AC07415-[CE] EC SLAT 613: Second Language","Activity","FD02","Active","2025-03-17T16:11:55.003647+00:00",null,null,null,null,null,null,null,null,"36021","Fijian","36021-Fijian"]
[null,null,null,null,null,null,"AC07420","[CE] FSY ID Caldwell","AC07420-[CE] FSY ID Caldwell","Activity","FD02","Active","2025-03-17T16:11:55.003647+00:00",null,null,null,null,null,null,null,null,"36026","Mongolian","36026-Mongolian"]
[null,null,null,null,null,null,"AC07459","[CE] EC DIGHT 590R: Digital Humanities Seminar","AC07459-[CE] EC DIGHT 590R: Digital Humanities Seminar","Activity","FD02","Active","2025-03-17T16:11:55.052098+00:00",null,null,null,null,null,null,null,null,"36073","Italian","36073-Italian"]
[null,null,null,null,null,null,"AC07472","[ADM] Annual President's Events","AC07472-[ADM] Annual President's Events","Activity","FD01","Active","2025-03-17T16:11:55.052098+00:00",null,null,null,null,null,null,null,null,"36147","English Connect","36147-English Connect"]
[null,null,null,null,null,null,"AC07498","[REL] Church History Travel Study","AC07498-[REL] Church History Travel Study","Activity","FD02","Active","2025-03-17T16:11:55.052098+00:00",null,null,null,null,null,null,null,null,"36508","BYU ELC ESL Mongolia","36508-BYU ELC ESL Mongolia"]
[null,null,null,null,null,null,"AC07515","[MSB] Faith and Belief at Work","AC07515-[MSB] Faith and Belief at Work","Activity","FD02","Active","2025-03-17T16:11:55.052098+00:00",null,null,null,null,null,null,null,null,"36525","MTC Facilities Maintenance","36525-MTC Facilities Maintenance"]
[null,null,null,null,null,null,"AC07544","[ADM] UPMIFA Net Asset Trnsfr Board","AC07544-[ADM] UPMIFA Net Asset Trnsfr Board","Activity","FD24","Active","2025-03-17T16:11:55.052098+00:00",null,null,null,null,null,null,null,null,"36570","BYU Store Missionary Supplies","36570-BYU Store Missionary Supplies"]
[null,null,null,null,null,null,"AC07552","[MTC] MTC Projects","AC07552-[MTC] MTC Projects","Activity","FD07","Active","2025-03-17T16:11:55.052098+00:00",null,null,null,null,null,null,null,null,"36580","Missionary Fleet Maintenance","36580-Missionary Fleet Maintenance"]
[null,null,null,null,null,null,"AC07592","[CE] HS CCR 002: College and Career Readiness Level 2","AC07592-[CE] HS CCR 002: College and Career Readiness Level 2","Activity","FD02","Active","2025-03-17T16:11:55.052098+00:00",null,null,null,null,null,null,null,null,"38056","Discounts","38056-Discounts"]
[null,null,null,null,null,null,"AC07596","[CE] UN SFL 280: Dynamics of Clothing","AC07596-[CE] UN SFL 280: Dynamics of Clothing","Activity","FD02","Active","2025-03-17T16:11:55.052098+00:00",null,null,null,null,null,null,null,null,"38064","Private Contractors","38064-Private Contractors"]
[null,null,null,null,null,null,"AC07630","[HUM] Rogers, Brandon - Faculty Consolidated","AC07630-[HUM] Rogers, Brandon - Faculty Consolidated","Activity","FD04","Active","2025-03-21T02:04:06.631604+00:00",null,null,null,null,null,null,null,null,"38216","Non-Housing","38216-Non-Housing"]
[null,null,null,null,null,null,"AC07653","[CE] FSY NJ Lawrenceville","AC07653-[CE] FSY NJ Lawrenceville","Activity","FD02","Active","2025-03-17T16:11:55.095375+00:00",null,null,null,null,null,null,null,null,"38275","MMS - Animation (Mkg)","38275-MMS - Animation (Mkg)"]
[null,null,null,null,null,null,"AC07671","[CE] University Initiatives","AC07671-[CE] University Initiatives","Activity","FD02","Active","2025-03-17T16:11:55.095375+00:00",null,null,null,null,null,null,null,null,"38652","Meals (Staff)","38652-Meals (Staff)"]
[null,null,null,null,null,null,"AC07687","[ARTS] Parker, Michael - Faculty Consolidated","AC07687-[ARTS] Parker, Michael - Faculty Consolidated","Activity","FD04","Active","2025-03-17T16:11:55.095375+00:00",null,null,null,null,null,null,null,null,"38689","Food","38689-Food"]
[null,null,null,null,null,null,"AC07708","[ADM] Dining-Wyview Creamery","AC07708-[ADM] Dining-Wyview Creamery","Activity","FD01","Active","2025-03-17T16:11:55.095375+00:00",null,null,null,null,null,null,null,null,"38764","Replacement Badge (1st)","38764-Replacement Badge (1st)"]
[null,null,null,null,null,null,"AC07744","[ADM] Laundry","AC07744-[ADM] Laundry","Activity","FD01","Active","2025-03-17T16:11:55.095375+00:00",null,null,null,null,null,null,null,null,"38879","Sponsor (Bronze)","38879-Sponsor (Bronze)"]
[null,null,null,null,null,null,"AC07767","[CE] FSY Travel & P-Card (Phyllis)","AC07767-[CE] FSY Travel & P-Card (Phyllis)","Activity","FD02","Active","2025-03-17T16:11:55.095375+00:00",null,null,null,null,null,null,null,null,"38932","CE Alloc - IS High School Mult","38932-CE Alloc - IS High School Mult"]
[null,null,null,null,null,null,"AC07784","[AVP] Access Equip BYU Studies","AC07784-[AVP] Access Equip BYU Studies","Activity","FD01","Active","2025-03-17T16:11:55.095375+00:00",null,null,null,null,null,null,null,null,"39402","GS Belonging Fellowship","39402-GS Belonging Fellowship"]
[null,null,null,null,null,null,"AC07795","[AVP] Access Equip ISP-Technology Transfer","AC07795-[AVP] Access Equip ISP-Technology Transfer","Activity","FD01","Active","2025-03-17T16:11:55.095375+00:00",null,null,null,null,null,null,null,null,"39416","Admission Expenses","39416-Admission Expenses"]
[null,null,null,null,null,null,"AC07821","[ADM] Access Equip Risk Management","AC07821-[ADM] Access Equip Risk Management","Activity","FD01","Active","2025-03-17T16:11:55.095375+00:00",null,null,null,null,null,null,null,null,"39490","Suanne Wilda","39490-Suanne Wilda"]
[null,null,null,null,null,null,"AC07838","[ATH] CST - Collective Hosting","AC07838-[ATH] CST - Collective Hosting","Activity","FD02","Active","2025-03-17T16:11:55.095375+00:00",null,null,null,null,null,null,null,null,"39634","ProfDev -Chris","39634-ProfDev -Chris"]
[null,null,null,null,null,null,"AC07867","[LFSC] Access Equip Public Health","AC07867-[LFSC] Access Equip Public Health","Activity","FD01","Active","2025-03-17T16:11:55.134434+00:00",null,null,null,null,null,null,null,null,"39722","Program Development","39722-Program Development"]
[null,null,null,null,null,null,"AC07897","[LIB] RWC","AC07897-[LIB] RWC","Activity","FD01","Active","2025-03-25T02:03:53.792937+00:00",null,null,null,null,null,null,null,null,"41700","Pos10001600-Director","41700-Pos10001600-Director"]
[null,null,null,null,null,null,"AC07914","[ADM] AR Orem Utah Temple","AC07914-[ADM] AR Orem Utah Temple","Activity","FD01","Active","2025-03-22T02:03:32.386352+00:00",null,null,null,null,null,null,null,null,"41778","Pos2542-Consultant","41778-Pos2542-Consultant"]
[null,null,null,null,null,null,"AC07925","[MSB] Wright, Zach - Faculty Consolidated","AC07925-[MSB] Wright, Zach - Faculty Consolidated","Activity","FD04","Active","2025-03-17T16:11:55.134434+00:00",null,null,null,null,null,null,null,null,"43SLA","Philanthropies","43SLA-Philanthropies"]
[null,null,null,null,null,null,"AC07957","[LFSC] Science Support Shop Repairs","AC07957-[LFSC] Science Support Shop Repairs","Activity","FD02","Active","2025-04-04T02:04:15.198066+00:00",null,null,null,null,null,null,null,null,"45330","Shipping-Special","45330-Shipping-Special"]
[null,null,null,null,null,null,"CC10014","[AVP] BYU Studies","CC10014-[AVP] BYU Studies","Cost Center","FD01","Active","2025-01-05T03:04:18.691986+00:00",null,null,null,null,null,null,null,null,"47008","MI Mormon Theology Seminar","47008-MI Mormon Theology Seminar"]
[null,null,null,null,null,null,"CC10040","[LIB] Special Collections","CC10040-[LIB] Special Collections","Cost Center","FD01","Active","2025-02-01T03:04:45.703564+00:00",null,null,null,null,null,null,null,null,"47803","Student Employee Meetings","47803-Student Employee Meetings"]
[null,null,null,null,null,null,"CC10073","[FHSS] Political Science","CC10073-[FHSS] Political Science","Cost Center","FD01","Active","2025-03-06T03:04:07.254647+00:00",null,null,null,null,null,null,null,null,"47849","Event #8","47849-Event #8"]
[null,null,null,null,null,null,"CC10090","[LFSC] Monte Bean Life Science Museum","CC10090-[LFSC] Monte Bean Life Science Museum","Cost Center","FD01","Active","2025-03-13T02:03:44.050009+00:00",null,null,null,null,null,null,null,null,"47867","External Advisory","47867-External Advisory"]
[null,null,null,null,null,null,"CC10112","[ENG] Manufacturing Engineering Tech","CC10112-[ENG] Manufacturing Engineering Tech","Cost Center","FD01","Active","2025-01-05T03:04:18.691986+00:00",null,null,null,null,null,null,null,null,"48010","Church History Symposium","48010-Church History Symposium"]
[null,null,null,null,null,null,"CC10127","[HUM] Linguistics","CC10127-[HUM] Linguistics","Cost Center","FD01","Active","2025-03-11T02:04:05.977113+00:00",null,null,null,null,null,null,null,null,"48052","Visualizing Learning","48052-Visualizing Learning"]
[null,null,null,null,null,null,"CC10148","[MSB] MSB Undergrad Advisement","CC10148-[MSB] MSB Undergrad Advisement","Cost Center","FD01","Active","2025-02-25T03:04:03.371912+00:00",null,null,null,null,null,null,null,null,"49013","Bar Dues & Memberships","49013-Bar Dues & Memberships"]
[null,null,null,null,null,null,"CC10163","[MSB] Military Science","CC10163-[MSB] Military Science","Cost Center","FD01","Active","2025-01-05T03:04:18.691986+00:00",null,null,null,null,null,null,null,null,"4D016","Customer Relationship Managmnt","4D016-Customer Relationship Managmnt"]
[null,null,null,null,null,null,"CC10203","[ADM] Security Operations","CC10203-[ADM] Security Operations","Cost Center","FD01","Active","2025-03-19T02:04:02.297738+00:00",null,null,null,null,null,null,null,null,"4D115","Job Scheduler","4D115-Job Scheduler"]
[null,null,null,null,null,null,"CC10224","[ADM] Sustainabliity","CC10224-[ADM] Sustainabliity","Cost Center","FD01","Active","2025-01-05T03:04:20.593726+00:00",null,null,null,null,null,null,null,null,"4D157","Project Governance","4D157-Project Governance"]
[null,null,null,null,null,null,"CC10235","[DINE] Culinary Support Center","CC10235-[DINE] Culinary Support Center","Cost Center","FD02","Active","2025-02-20T03:04:04.15874+00:00",null,null,null,null,null,null,null,null,"51007","McEachran / Insurance Policy","51007-McEachran / Insurance Policy"]
[null,null,null,null,null,null,"CC10261","[DINE] Cougar Express","CC10261-[DINE] Cougar Express","Cost Center","FD02","Active","2025-03-27T02:04:05.819702+00:00",null,null,null,null,null,null,null,null,"51143","Norman Jorgensen/Insurance Pol","51143-Norman Jorgensen/Insurance Pol"]
[null,null,null,null,null,null,"CC10278","[RETS] Studio 1030","CC10278-[RETS] Studio 1030","Cost Center","FD02","Active","2025-01-05T03:04:20.593726+00:00",null,null,null,null,null,null,null,null,"51175","Frost Foundat/Frost-Whited Co","51175-Frost Foundat/Frost-Whited Co"]
[null,null,null,null,null,null,"CC10307","[PFAC] Gardening Maintenanc","CC10307-[PFAC] Gardening Maintenanc","Cost Center","FD01","Active","2025-01-05T03:04:20.593726+00:00",null,null,null,null,null,null,null,null,"52011","Smith, Carruth-241590694","52011-Smith, Carruth-241590694"]
[null,null,null,null,null,null,"CC10315","[PFAC] Air Conditioning Shp","CC10315-[PFAC] Air Conditioning Shp","Cost Center","FD01","Active","2025-01-05T03:04:20.593726+00:00",null,null,null,null,null,null,null,null,"52035","Oscarson, Don-241401637","52035-Oscarson, Don-241401637"]
[null,null,null,null,null,null,"CC10354","[STLF] Helaman Halls","CC10354-[STLF] Helaman Halls","Cost Center","FD02","Active","2025-02-14T03:03:43.386461+00:00",null,null,null,null,null,null,null,null,"52217","Draper, Trudy-241501998","52217-Draper, Trudy-241501998"]
[null,null,null,null,null,null,"CC10358","[STLF] Wymount Terrace","CC10358-[STLF] Wymount Terrace","Cost Center","FD02","Active","2025-01-05T03:04:20.65832+00:00",null,null,null,null,null,null,null,null,"52222","Strain, A W Cr-1-241100056","52222-Strain, A W Cr-1-241100056"]
[null,null,null,null,null,null,"CC10391","[BYUB] BYUB Human Resources","CC10391-[BYUB] BYUB Human Resources","Cost Center","FD02","Active","2025-01-05T03:04:20.65832+00:00",null,null,null,null,null,null,null,null,"52355","Day, Douglas-961501475","52355-Day, Douglas-961501475"]
[null,null,null,null,null,null,"CC10408","[ATH] Men's Athletics","CC10408-[ATH] Men's Athletics","Cost Center","FD02","Active","2025-02-26T03:04:08.25364+00:00",null,null,null,null,null,null,null,null,"52391","Ostrander, C-241504141","52391-Ostrander, C-241504141"]
[null,null,null,null,null,null,"CC10429","[ATH] Women's Volleyball","CC10429-[ATH] Women's Volleyball","Cost Center","FD02","Active","2025-01-05T03:04:20.65832+00:00",null,null,null,null,null,null,null,null,"52426","Burton, Mark-961501590","52426-Burton, Mark-961501590"]
[null,null,null,null,null,null,"CC10450","[OIT] IT CORE - ID Center","CC10450-[OIT] IT CORE - ID Center","Cost Center","FD01","Active","2025-01-05T03:04:20.65832+00:00",null,null,null,null,null,null,null,null,"52472","RDT 04-Tooley-241402387","52472-RDT 04-Tooley-241402387"]
[null,null,null,null,null,null,"CC10484","[ADM] Confidential Salaries - Academic Support","CC10484-[ADM] Confidential Salaries - Academic Support","Cost Center","FD01","Active","2025-01-05T03:04:20.65832+00:00",null,null,null,null,null,null,null,null,"52564","Hansen, Quade P.-243001526","52564-Hansen, Quade P.-243001526"]
[null,null,null,null,null,null,"CC10508","[CE] Idaho Instructors","CC10508-[CE] Idaho Instructors","Cost Center","FD02","Active","2025-01-05T03:04:20.694121+00:00",null,null,null,null,null,null,null,null,"52602","Rogers, Milton S. 243002201","52602-Rogers, Milton S. 243002201"]
[null,null,null,null,null,null,"CC10528","[CE] Animation","CC10528-[CE] Animation","Cost Center","FD02","Active","2025-01-05T03:04:20.694121+00:00",null,null,null,null,null,null,null,null,"52630","Howell, Ann 2019 243002629","52630-Howell, Ann 2019 243002629"]
[null,null,null,null,null,null,"CC10550","[CE] SLC Academic & Operational Administration","CC10550-[CE] SLC Academic & Operational Administration","Cost Center","FD02","Active","2025-01-05T03:04:20.694121+00:00",null,null,null,null,null,null,null,null,"52647","[ADM] HOWELL 2024 243001655","52647-[ADM] HOWELL 2024 243001655"]
[null,null,null,null,null,null,"CC10573","[DINE] Culinary Finishing Kitchen","CC10573-[DINE] Culinary Finishing Kitchen","Cost Center","FD02","Active","2025-03-07T03:03:47.690758+00:00",null,null,null,null,null,null,null,null,"53822","Jenkins, Margaret/Mortgage","53822-Jenkins, Margaret/Mortgage"]
[null,null,null,null,null,null,"GF00018","[AER] QE - Brimhall, G - Essay","GF00018-[AER] QE - Brimhall, G - Essay","Gift","FD29","Active","2025-04-09T02:03:40.492826+00:00",null,null,null,null,null,null,null,null,"54979","True Fit Corp/Cougar Capital","54979-True Fit Corp/Cougar Capital"]
[null,null,null,null,null,null,"GF00020","[AER] QE - Alum - Phoenix","GF00020-[AER] QE - Alum - Phoenix","Gift","FD29","Active","2025-04-09T02:03:40.492826+00:00",null,null,null,null,null,null,null,null,"54D20","Dept Construction New 2020","54D20-Dept Construction New 2020"]
[null,null,null,null,null,null,"GF00059","[ATH] QE - Athletic Schol & Grad Support","GF00059-[ATH] QE - Athletic Schol & Grad Support","Gift","FD29","Active","2025-04-09T02:03:40.492826+00:00",null,null,null,null,null,null,null,null,"55247","Choose to Give","55247-Choose to Give"]
[null,null,null,null,null,null,"GF00069","[AER] QE - Brigham Young Magazine","GF00069-[AER] QE - Brigham Young Magazine","Gift","FD29","Active","2025-04-09T02:03:40.492826+00:00",null,null,null,null,null,null,null,null,"55268","Grad Fair","55268-Grad Fair"]
[null,null,null,null,null,null,"GF00096","[LAWS] QE - Kirkham, Francis","GF00096-[LAWS] QE - Kirkham, Francis","Gift","FD29","Active","2025-04-09T02:03:40.492826+00:00",null,null,null,null,null,null,null,null,"57003","Student Competitions-Projects","57003-Student Competitions-Projects"]
[null,null,null,null,null,null,"GF00113","[LAWS] QE - Horseshoe Mine","GF00113-[LAWS] QE - Horseshoe Mine","Gift","FD29","Active","2025-04-09T02:03:40.492826+00:00",null,null,null,null,null,null,null,null,"57026","Gala","57026-Gala"]
[null,null,null,null,null,null,"GF00145","[NURS] QE - Kennington, Ruth","GF00145-[NURS] QE - Kennington, Ruth","Gift","FD29","Active","2025-04-09T02:03:40.492826+00:00",null,null,null,null,null,null,null,null,"57102","EW2-DPD: Eric Whitacre - Vol.","57102-EW2-DPD: Eric Whitacre - Vol."]
[null,null,null,null,null,null,"GF00150","[NURS] QE - Global Health Nurse Endowment","GF00150-[NURS] QE - Global Health Nurse Endowment","Gift","FD29","Active","2025-04-09T02:03:40.492826+00:00",null,null,null,null,null,null,null,null,"57107","[INVP] JPM-CD: James Prigmore Music","57107-[INVP] JPM-CD: James Prigmore Music"]
[null,null,null,null,null,null,"GF00189","[ENRL] QE - Hatch, Orrin G","GF00189-[ENRL] QE - Hatch, Orrin G","Gift","FD29","Active","2025-04-09T02:03:40.60888+00:00",null,null,null,null,null,null,null,null,"57147","NAS-DPD: New American Songbook","57147-NAS-DPD: New American Songbook"]
[null,null,null,null,null,null,"GF00196","[ENRL] QE - Brown, Theodore Scholarship","GF00196-[ENRL] QE - Brown, Theodore Scholarship","Gift","FD29","Active","2025-04-09T02:03:40.60888+00:00",null,null,null,null,null,null,null,null,"57155","HIB-CD: He Is Born","57155-HIB-CD: He Is Born"]
[null,null,null,null,null,null,"GF00226","[FHSS] QE - History Dept Field Study","GF00226-[FHSS] QE - History Dept Field Study","Gift","FD29","Active","2025-04-09T02:03:40.60888+00:00",null,null,null,null,null,null,null,null,"57189","VPS: I Lived (DPD)","57189-VPS: I Lived (DPD)"]
[null,null,null,null,null,null,"GF00243","[FHSS] QE - MPC General Endowment","GF00243-[FHSS] QE - MPC General Endowment","Gift","FD29","Active","2025-04-09T02:03:40.60888+00:00",null,null,null,null,null,null,null,null,"57206","WKT 'Collage - Trombone' DPD","57206-WKT 'Collage - Trombone' DPD"]
[null,null,null,null,null,null,"GF00268","[ARTS] QE - Art Museum Maint","GF00268-[ARTS] QE - Art Museum Maint","Gift","FD29","Active","2025-04-09T02:03:40.60888+00:00",null,null,null,null,null,null,null,null,"57232","MRL 'My Redeemer Lives' (DPD)","57232-MRL 'My Redeemer Lives' (DPD)"]
[null,null,null,null,null,null,"GF00280","[ARTS] QE - Grow, Spencer Family","GF00280-[ARTS] QE - Grow, Spencer Family","Gift","FD29","Active","2025-04-09T02:03:40.60888+00:00",null,null,null,null,null,null,null,null,"57244","DCC 'Bells at BYU' (DPD)","57244-DCC 'Bells at BYU' (DPD)"]
[null,null,null,null,null,null,"GF00323","[HUM] QE - Digital Humanities Development","GF00323-[HUM] QE - Digital Humanities Development","Gift","FD29","Active","2025-04-09T02:03:40.726806+00:00",null,null,null,null,null,null,null,null,"57288","NW-SNGL: River Deep Mount High","57288-NW-SNGL: River Deep Mount High"]
[null,null,null,null,null,null,"GF00340","[INVP] QE - PAM Inspiring Learning","GF00340-[INVP] QE - PAM Inspiring Learning","Gift","FD29","Active","2025-04-09T02:03:40.726806+00:00",null,null,null,null,null,null,null,null,"57306","Thevenin-3 Little Bears","57306-Thevenin-3 Little Bears"]
[null,null,null,null,null,null,"GF00356","[LFSC] QE - Wentz, Peter & Vida","GF00356-[LFSC] QE - Wentz, Peter & Vida","Gift","FD29","Active","2025-04-11T02:03:42.61164+00:00",null,null,null,null,null,null,null,null,"57393","Babe the Sheep Pig","57393-Babe the Sheep Pig"]
[null,null,null,null,null,null,"GF00377","[LFSC] QE - Anderson, Robert N. Assist","GF00377-[LFSC] QE - Anderson, Robert N. Assist","Gift","FD29","Active","2025-04-09T02:03:40.726806+00:00",null,null,null,null,null,null,null,null,"57443","Promposal OAFP","57443-Promposal OAFP"]
[null,null,null,null,null,null,"GF00391","[MSB] QE - Stoddard Career Advancement","GF00391-[MSB] QE - Stoddard Career Advancement","Gift","FD29","Active","2025-04-09T02:03:40.726806+00:00",null,null,null,null,null,null,null,null,"57503","DMV-VP: The First Noel (CUS)","57503-DMV-VP: The First Noel (CUS)"]
[null,null,null,null,null,null,"GF00414","[MSB] QE - Albrecht, LeAnn","GF00414-[MSB] QE - Albrecht, LeAnn","Gift","FD29","Active","2025-04-09T02:03:40.726806+00:00",null,null,null,null,null,null,null,null,"57526","DSM-SaviorRedmrSoul:YMP014,003","57526-DSM-SaviorRedmrSoul:YMP014,003"]
[null,null,null,null,null,null,"GF00453","[MSB] QE - Abell, Nelson D","GF00453-[MSB] QE - Abell, Nelson D","Gift","FD29","Active","2025-04-09T02:03:40.867072+00:00",null,null,null,null,null,null,null,null,"57570","DFM-CD: Dawn Fire Mist","57570-DFM-CD: Dawn Fire Mist"]
[null,null,null,null,null,null,"GF00463","[MSE] QE - Debernardi-Education","GF00463-[MSE] QE - Debernardi-Education","Gift","FD29","Active","2025-04-09T02:03:40.867072+00:00",null,null,null,null,null,null,null,null,"57580","WBM-CD: Wendell Berry In Music","57580-WBM-CD: Wendell Berry In Music"]
[null,null,null,null,null,null,"GF00490","[CMS] QE - Geology Field Course","GF00490-[CMS] QE - Geology Field Course","Gift","FD29","Active","2025-04-09T02:03:40.867072+00:00",null,null,null,null,null,null,null,null,"57611","DSM-You Will Be Found:YMP002","57611-DSM-You Will Be Found:YMP002"]
[null,null,null,null,null,null,"GF00507","[CMS] QE - Carroll, Loren & Marilyn SCCR","GF00507-[CMS] QE - Carroll, Loren & Marilyn SCCR","Gift","FD29","Active","2025-04-09T02:03:40.867072+00:00",null,null,null,null,null,null,null,null,"57631","ZQU-CD: Zagranitsa","57631-ZQU-CD: Zagranitsa"]
[null,null,null,null,null,null,"GF00535","[AVP] QE - Religious Studies Center","GF00535-[AVP] QE - Religious Studies Center","Gift","FD29","Active","2025-04-09T02:03:40.867072+00:00",null,null,null,null,null,null,null,null,"57664","BPV-DPD: Partial View","57664-BPV-DPD: Partial View"]
[null,null,null,null,null,null,"GF00544","[FIN] QE - Duran, Anita A","GF00544-[FIN] QE - Duran, Anita A","Gift","FD29","Active","2025-04-09T02:03:40.867072+00:00",null,null,null,null,null,null,null,null,"57673","VP-SNGL: Brillan Rayos de clem","57673-VP-SNGL: Brillan Rayos de clem"]
[null,null,null,null,null,null,"GF00583","[LFSC] TM - Bobbitt, James Kidney Disease","GF00583-[LFSC] TM - Bobbitt, James Kidney Disease","Gift","FD23","Active","2025-04-09T02:03:40.867072+00:00",null,null,null,null,null,null,null,null,"57717","DMV-VP: Silent Night","57717-DMV-VP: Silent Night"]
[null,null,null,null,null,null,"GF00590","[AVP] TE - White, Steven V","GF00590-[AVP] TE - White, Steven V","Gift","FD23","Active","2025-04-09T02:03:40.867072+00:00",null,null,null,null,null,null,null,null,"57725","DMV-NWY: End of Time (LS)","57725-DMV-NWY: End of Time (LS)"]
[null,null,null,null,null,null,"GF00620","[ATH] TE - Marsh, Henry D.","GF00620-[ATH] TE - Marsh, Henry D.","Gift","FD23","Active","2025-04-09T02:03:40.9797+00:00",null,null,null,null,null,null,null,null,"57758","NW-SNGL: The First Noel","57758-NW-SNGL: The First Noel"]
[null,null,null,null,null,null,"GF00637","[ATH] TE - Walker, Jacob and Nicea Athl","GF00637-[ATH] TE - Walker, Jacob and Nicea Athl","Gift","FD23","Active","2025-04-09T02:03:40.9797+00:00",null,null,null,null,null,null,null,null,"57780","DMV-CH:Cncrt Vid-Concert Choir","57780-DMV-CH:Cncrt Vid-Concert Choir"]
[null,null,null,null,null,null,"GF00662","[ATH] TE - Bertasso, Michael Ath Schol","GF00662-[ATH] TE - Bertasso, Michael Ath Schol","Gift","FD23","Active","2025-04-09T02:03:40.9797+00:00",null,null,null,null,null,null,null,null,"57815","Artist Rlty:P Hollens-OneVoice","57815-Artist Rlty:P Hollens-OneVoice"]
[null,null,null,null,null,null,"GF00674","[ATH] TE - Ball, Angie and Ben","GF00674-[ATH] TE - Ball, Angie and Ben","Gift","FD23","Active","2025-04-09T02:03:41.084243+00:00",null,null,null,null,null,null,null,null,"57828","NW-SNGL: Olivia Rodrigo Medley","57828-NW-SNGL: Olivia Rodrigo Medley"]
[null,null,null,null,null,null,"GF00713","[ATH] TE - Richens Family Athletic Sch","GF00713-[ATH] TE - Richens Family Athletic Sch","Gift","FD23","Active","2025-04-09T02:03:41.084243+00:00",null,null,null,null,null,null,null,null,"57870","WC-SNGL:It is Well With MySoul","57870-WC-SNGL:It is Well With MySoul"]
[null,null,null,null,null,null,"GF00734","[ATH] TE - Peay, Lori Lee","GF00734-[ATH] TE - Peay, Lori Lee","Gift","FD23","Active","2025-04-09T02:03:41.084243+00:00",null,null,null,null,null,null,null,null,"57891","DMV-VP:Carol Bells/Strang-Shaw","57891-DMV-VP:Carol Bells/Strang-Shaw"]
[null,null,null,null,null,null,"GF00750","[AVP] TE - Stott, Keith and Barbara","GF00750-[AVP] TE - Stott, Keith and Barbara","Gift","FD23","Active","2025-04-09T02:03:41.164974+00:00",null,null,null,null,null,null,null,null,"57907","DSM-Somday I'll MeetYou:YMP042","57907-DSM-Somday I'll MeetYou:YMP042"]
[null,null,null,null,null,null,"GF00771","[LAWS] TE - Nearon, David and Linda","GF00771-[LAWS] TE - Nearon, David and Linda","Gift","FD23","Active","2025-04-09T02:03:41.164974+00:00",null,null,null,null,null,null,null,null,"57928","[INVP] GOG-DPD: Goodness of God (EP)","57928-[INVP] GOG-DPD: Goodness of God (EP)"]
[null,null,null,null,null,null,"GF00785","[LAWS] TE - Richards, Stephen L","GF00785-[LAWS] TE - Richards, Stephen L","Gift","FD23","Active","2025-04-09T02:03:41.164974+00:00",null,null,null,null,null,null,null,null,"57942","DMV-YA: I'm So Blessed","57942-DMV-YA: I'm So Blessed"]
[null,null,null,null,null,null,"GF00804","[LAWS] TE - Backman, Robert L.","GF00804-[LAWS] TE - Backman, Robert L.","Gift","FD23","Active","2025-04-09T02:03:41.164974+00:00",null,null,null,null,null,null,null,null,"57961","VP-SNGL: Wicked Medley","57961-VP-SNGL: Wicked Medley"]
[null,null,null,null,null,null,"GF00825","[LAWS] TE - Welch Legal History, Scripture","GF00825-[LAWS] TE - Welch Legal History, Scripture","Gift","FD23","Active","2025-04-09T02:03:41.164974+00:00",null,null,null,null,null,null,null,null,"57982","[INVP] DMV-CC: There is a Green Hill","57982-[INVP] DMV-CC: There is a Green Hill"]
[null,null,null,null,null,null,"GF00857","[ENG] TE - Budge, Dr. W. Don & Kaye M.","GF00857-[ENG] TE - Budge, Dr. W. Don & Kaye M.","Gift","FD23","Active","2025-04-09T02:03:41.164974+00:00",null,null,null,null,null,null,null,null,"58641","SSII Liquid LLC 8% Interest","58641-SSII Liquid LLC 8% Interest"]
[null,null,null,null,null,null,"GF00885","[ENG] TE - Hinkle, Beverly and Ivan","GF00885-[ENG] TE - Hinkle, Beverly and Ivan","Gift","FD23","Active","2025-04-09T02:03:41.164974+00:00",null,null,null,null,null,null,null,null,"60SLA","Advancement VP","60SLA-Advancement VP"]
[null,null,null,null,null,null,"GF00902","[ENG] TE - Paullin Endowed Fund","GF00902-[ENG] TE - Paullin Endowed Fund","Gift","FD23","Active","2025-04-09T02:03:41.164974+00:00",null,null,null,null,null,null,null,null,"61233","Repl Fire Alarm Sys North WP","61233-Repl Fire Alarm Sys North WP"]
[null,null,null,null,null,null,"GF00930","[ENG] TE - Jonsson, John F","GF00930-[ENG] TE - Jonsson, John F","Gift","FD23","Active","2025-04-09T02:03:41.164974+00:00",null,null,null,null,null,null,null,null,"61433","Repl Apt furnaces WT 9","61433-Repl Apt furnaces WT 9"]
[null,null,null,null,null,null,"GF00939","[ENG] TE - Gardner, Michael E.","GF00939-[ENG] TE - Gardner, Michael E.","Gift","FD23","Active","2025-04-09T02:03:41.29978+00:00",null,null,null,null,null,null,null,null,"61454","Repl (22) Uphol Chairs 3530WSC","61454-Repl (22) Uphol Chairs 3530WSC"]
[null,null,null,null,null,null,"GF00956","[ENG] TE - Burns, Fritz B. Scholarship","GF00956-[ENG] TE - Burns, Fritz B. Scholarship","Gift","FD23","Active","2025-04-09T02:03:41.29978+00:00",null,null,null,null,null,null,null,null,"61476","Repl Chiller HLC","61476-Repl Chiller HLC"]
[null,null,null,null,null,null,"GF00995","[NURS] TE - Christiansen, Natalia A.","GF00995-[NURS] TE - Christiansen, Natalia A.","Gift","FD23","Active","2025-04-09T02:03:41.29978+00:00",null,null,null,null,null,null,null,null,"61532","Replace WT Smoke Detectors","61532-Replace WT Smoke Detectors"]
[null,null,null,null,null,null,"GF01001","[NURS] TE - Christensen, Roy and Carol Sch","GF01001-[NURS] TE - Christensen, Roy and Carol Sch","Gift","FD23","Active","2025-04-09T02:03:41.29978+00:00",null,null,null,null,null,null,null,null,"61538","Repl Vinyl WP02-04","61538-Repl Vinyl WP02-04"]
[null,null,null,null,null,null,"GF01032","[STLF] TE - Wilson, Joann W","GF01032-[STLF] TE - Wilson, Joann W","Gift","FD23","Active","2025-04-09T02:03:41.29978+00:00",null,null,null,null,null,null,null,null,"61571","Install Genetec Readers HL","61571-Install Genetec Readers HL"]
[null,null,null,null,null,null,"GF01053","[STLF] TE - Fee, Chris & Eve","GF01053-[STLF] TE - Fee, Chris & Eve","Gift","FD23","Active","2025-04-09T02:03:41.29978+00:00",null,null,null,null,null,null,null,null,"61592","Replace Family Vinyl WP 2024","61592-Replace Family Vinyl WP 2024"]
[null,null,null,null,null,null,"GF01073","[STLF] TE - Fields, Katherine Smith","GF01073-[STLF] TE - Fields, Katherine Smith","Gift","FD23","Active","2025-04-09T02:03:41.29978+00:00",null,null,null,null,null,null,null,null,"61612","Repaint - RVA,B,C,D","61612-Repaint - RVA,B,C,D"]
[null,null,null,null,null,null,"GF01086","[STLF] TE - Jenkins Student Disability","GF01086-[STLF] TE - Jenkins Student Disability","Gift","FD23","Active","2025-04-09T02:03:41.418464+00:00",null,null,null,null,null,null,null,null,"61625","Repl Mattresses HLF, HLJ","61625-Repl Mattresses HLF, HLJ"]
[null,null,null,null,null,null,"GF01107","[ENRL] TE - Griffis, Westberry","GF01107-[ENRL] TE - Griffis, Westberry","Gift","FD23","Active","2025-04-09T02:03:41.418464+00:00",null,null,null,null,null,null,null,null,"61646","Repl Family Carpet WP 2025","61646-Repl Family Carpet WP 2025"]
[null,null,null,null,null,null,"GF01145","[ENRL] TE - Paul, Dewitt J","GF01145-[ENRL] TE - Paul, Dewitt J","Gift","FD23","Active","2025-04-09T02:03:41.418464+00:00",null,null,null,null,null,null,null,null,"62132","G Research 2","62132-G Research 2"]
[null,null,null,null,null,null,"GF01166","[ENRL] TE - Freeport-McMoRan","GF01166-[ENRL] TE - Freeport-McMoRan","Gift","FD23","Active","2025-04-09T02:03:41.418464+00:00",null,null,null,null,null,null,null,null,"62319","C Event 9","62319-C Event 9"]
[null,null,null,null,null,null,"GF01183","[ENRL] TE - Stout, Clair L","GF01183-[ENRL] TE - Stout, Clair L","Gift","FD23","Active","2025-04-09T02:03:41.418464+00:00",null,null,null,null,null,null,null,null,"62500","Religion & Human Flourishing","62500-Religion & Human Flourishing"]
[null,null,null,null,null,null,"GF01196","[ENRL] TE - Trietsch, Norma Jean","GF01196-[ENRL] TE - Trietsch, Norma Jean","Gift","FD23","Active","2025-04-09T02:03:41.418464+00:00",null,null,null,null,null,null,null,null,"62521","R Event 11","62521-R Event 11"]
[null,null,null,null,null,null,"GF01220","[ENRL] TE - Barnes, J Richard","GF01220-[ENRL] TE - Barnes, J Richard","Gift","FD23","Active","2025-04-09T02:03:41.418464+00:00",null,null,null,null,null,null,null,null,"62617","F Event 7","62617-F Event 7"]
[null,null,null,null,null,null,"GF01237","[ENRL] TE - Detroit Outreach","GF01237-[ENRL] TE - Detroit Outreach","Gift","FD23","Active","2025-04-09T02:03:41.418464+00:00",null,null,null,null,null,null,null,null,"62661","F Co-Sponsorship-Off Campus","62661-F Co-Sponsorship-Off Campus"]
[null,null,null,null,null,null,"GF01268","[ENRL] TE - Erickson, Dehlin A","GF01268-[ENRL] TE - Erickson, Dehlin A","Gift","FD23","Active","2025-04-09T02:03:41.418464+00:00",null,null,null,null,null,null,null,null,"64251","[INVP] Blackpool 2006-Academic","64251-[INVP] Blackpool 2006-Academic"]
[null,null,null,null,null,null,"GF01296","[ENRL] TE - de Bonneville, Cheri","GF01296-[ENRL] TE - de Bonneville, Cheri","Gift","FD23","Active","2025-04-09T02:03:41.564541+00:00",null,null,null,null,null,null,null,null,"64293","FD Ogden Onstage 3/25/23","64293-FD Ogden Onstage 3/25/23"]
[null,null,null,null,null,null,"GF01313","[ENRL] TE - Jones, Annie Scholarship","GF01313-[ENRL] TE - Jones, Annie Scholarship","Gift","FD23","Active","2025-04-09T02:03:41.564541+00:00",null,null,null,null,null,null,null,null,"64313","Onstage Ogden MC & WC","64313-Onstage Ogden MC & WC"]
[null,null,null,null,null,null,"GF01323","[ENRL] TE - Cassidy, Lynne Scholarship","GF01323-[ENRL] TE - Cassidy, Lynne Scholarship","Gift","FD23","Active","2025-04-09T02:03:41.564541+00:00",null,null,null,null,null,null,null,null,"64323","AE New Stdnt Orient 8/31/23","64323-AE New Stdnt Orient 8/31/23"]
[null,null,null,null,null,null,"GF01350","[ENRL] TE - Hill Family Scholarship","GF01350-[ENRL] TE - Hill Family Scholarship","Gift","FD23","Active","2025-04-09T02:03:41.564541+00:00",null,null,null,null,null,null,null,null,"64350","NW Festive Finals 12/14/23","64350-NW Festive Finals 12/14/23"]
[null,null,null,null,null,null,"GF01367","[ENRL] TE - McCleve, Lonnie and Debbie","GF01367-[ENRL] TE - McCleve, Lonnie and Debbie","Gift","FD23","Active","2025-04-09T02:03:41.564541+00:00",null,null,null,null,null,null,null,null,"64367","BD No California 2/24-3/2/25","64367-BD No California 2/24-3/2/25"]
[null,null,null,null,null,null,"GF01395","[ENRL] TE - Child, William and Patricia","GF01395-[ENRL] TE - Child, William and Patricia","Gift","FD23","Active","2025-04-09T02:03:41.564541+00:00",null,null,null,null,null,null,null,null,"64395","NW Festive Finals 12/10/24","64395-NW Festive Finals 12/10/24"]
[null,null,null,null,null,null,"GF01426","[FHSS] TE - Hillier Family Endowed Fund","GF01426-[FHSS] TE - Hillier Family Endowed Fund","Gift","FD23","Active","2025-04-09T02:03:41.564541+00:00",null,null,null,null,null,null,null,null,"65002","Golf Tournament","65002-Golf Tournament"]
[null,null,null,null,null,null,"GF01443","[FHSS] TE - Pope, Clayne - Prof","GF01443-[FHSS] TE - Pope, Clayne - Prof","Gift","FD23","Active","2025-04-09T02:03:41.564541+00:00",null,null,null,null,null,null,null,null,"65068","[ATH] Splash Summit","65068-[ATH] Splash Summit"]
[null,null,null,null,null,null,"GF01467","[FHSS] TE - Quinn, Edward & Joan","GF01467-[FHSS] TE - Quinn, Edward & Joan","Gift","FD23","Active","2025-04-09T02:03:41.564541+00:00",null,null,null,null,null,null,null,null,"65143","KPMG, LLP","65143-KPMG, LLP"]
[null,null,null,null,null,null,"GF01480","[FHSS] TE - Harris, Chauncy D","GF01480-[FHSS] TE - Harris, Chauncy D","Gift","FD23","Active","2025-04-09T02:03:41.564541+00:00",null,null,null,null,null,null,null,null,"65181","Quick Quack Car Wash","65181-Quick Quack Car Wash"]
[null,null,null,null,null,null,"GF01501","[FHSS] TE - Ingersoll, Dr. William Chair","GF01501-[FHSS] TE - Ingersoll, Dr. William Chair","Gift","FD23","Active","2025-04-09T02:03:41.685166+00:00",null,null,null,null,null,null,null,null,"65242","BYU Dining","65242-BYU Dining"]
[null,null,null,null,null,null,"GF01518","[FHSS] TE - Ritchie, Leon and Elda","GF01518-[FHSS] TE - Ritchie, Leon and Elda","Gift","FD23","Active","2025-04-09T02:03:41.685166+00:00",null,null,null,null,null,null,null,null,"65298","Hokulia Shave Ice","65298-Hokulia Shave Ice"]
[null,null,null,null,null,null,"GF01556","[ARTS] TE - Rawlinson Family Dance","GF01556-[ARTS] TE - Rawlinson Family Dance","Gift","FD23","Active","2025-04-09T02:03:41.685166+00:00",null,null,null,null,null,null,null,null,"65373","ShipEx","65373-ShipEx"]
[null,null,null,null,null,null,"GF01577","[ARTS] TE - Jensen, Martha F. Scholarship","GF01577-[ARTS] TE - Jensen, Martha F. Scholarship","Gift","FD23","Active","2025-04-09T02:03:41.685166+00:00",null,null,null,null,null,null,null,null,"65396","Tandem Ventures","65396-Tandem Ventures"]
[null,null,null,null,null,null,"GF01590","[ARTS] TE - Beckham, Raymond E.","GF01590-[ARTS] TE - Beckham, Raymond E.","Gift","FD23","Active","2025-04-09T02:03:41.766885+00:00",null,null,null,null,null,null,null,null,"65409","Stonehaven Dental","65409-Stonehaven Dental"]
[null,null,null,null,null,null,"GF01614","[ARTS] TE - King, Diana Memorial","GF01614-[ARTS] TE - King, Diana Memorial","Gift","FD23","Active","2025-04-09T02:03:41.766885+00:00",null,null,null,null,null,null,null,null,"65433","Black Properties","65433-Black Properties"]
[null,null,null,null,null,null,"GF01631","[ARTS] TE - Clawson, Vinnie","GF01631-[ARTS] TE - Clawson, Vinnie","Gift","FD23","Active","2025-04-09T02:03:41.766885+00:00",null,null,null,null,null,null,null,null,"66242","SKYHIVES/COUGAR CAP","66242-SKYHIVES/COUGAR CAP"]
[null,null,null,null,null,null,"GF01662","[ARTS] TE - Kitchen Family Scholarship","GF01662-[ARTS] TE - Kitchen Family Scholarship","Gift","FD23","Active","2025-04-09T02:03:41.828063+00:00",null,null,null,null,null,null,null,null,"67006","External reviewer meals","67006-External reviewer meals"]
[null,null,null,null,null,null,"GF01668","[ARTS] TE - George, Jennifer Geer","GF01668-[ARTS] TE - George, Jennifer Geer","Gift","FD23","Active","2025-04-09T02:03:41.828063+00:00",null,null,null,null,null,null,null,null,"67020","Dept lunch with the President","67020-Dept lunch with the President"]
[null,null,null,null,null,null,"GF01707","[HUM] TE - Woods, Taylor and Tamara","GF01707-[HUM] TE - Woods, Taylor and Tamara","Gift","FD23","Active","2025-04-09T02:03:41.828063+00:00",null,null,null,null,null,null,null,null,"67128","Vehicle PD 8 (Blue Cam Blaine)","67128-Vehicle PD 8 (Blue Cam Blaine)"]
[null,null,null,null,null,null,"GF01713","[HUM] TE - Tanner, Orea B","GF01713-[HUM] TE - Tanner, Orea B","Gift","FD23","Active","2025-04-09T02:03:41.828063+00:00",null,null,null,null,null,null,null,null,"67134","Bike","67134-Bike"]
[null,null,null,null,null,null,"GF01744","[INVP] TE - Swedish Schol & Lect","GF01744-[INVP] TE - Swedish Schol & Lect","Gift","FD23","Active","2025-04-09T02:03:41.828063+00:00",null,null,null,null,null,null,null,null,"67308","[INVP] DMV-NW: What Child Is This? / Ave Maria","67308-[INVP] DMV-NW: What Child Is This? / Ave Maria"]
[null,null,null,null,null,null,"GF01761","[INVP] TE - Sorensen, Stephanie A Cappella","GF01761-[INVP] TE - Sorensen, Stephanie A Cappella","Gift","FD23","Active","2025-04-09T02:03:41.828063+00:00",null,null,null,null,null,null,null,null,"80000","Experiential Learning","80000-Experiential Learning"]
[null,null,null,null,null,null,"GF01789","[LFSC] TE - Tanner, Wilmer W","GF01789-[LFSC] TE - Tanner, Wilmer W","Gift","FD23","Active","2025-04-11T02:03:42.61164+00:00",null,null,null,null,null,null,null,null,"80038","LSCE Gonda,Amber-Research","80038-LSCE Gonda,Amber-Research"]
[null,null,null,null,null,null,"GF01798","[LFSC] TE - Allred, Dorald M","GF01798-[LFSC] TE - Allred, Dorald M","Gift","FD23","Active","2025-04-11T02:03:42.982071+00:00",null,null,null,null,null,null,null,null,"80047","LSCE Sudweeks,Serling-Research","80047-LSCE Sudweeks,Serling-Research"]
[null,null,null,null,null,null,"GF01838","[LFSC] TE - Brown, Wallace and Patricia","GF01838-[LFSC] TE - Brown, Wallace and Patricia","Gift","FD23","Active","2025-04-09T02:03:41.898194+00:00",null,null,null,null,null,null,null,null,"80126","LSPW Stewart,Ryan-Research","80126-LSPW Stewart,Ryan-Research"]
[null,null,null,null,null,null,"GF01862","[LFSC] TE - Hallam, Merrill J","GF01862-[LFSC] TE - Hallam, Merrill J","Gift","FD23","Active","2025-04-09T02:03:41.898194+00:00",null,null,null,null,null,null,null,null,"80150","LSPW Maughan Exp Learning","80150-LSPW Maughan Exp Learning"]
[null,null,null,null,null,null,"GF01875","[LFSC] TE - Booth, Gary M","GF01875-[LFSC] TE - Booth, Gary M","Gift","FD23","Active","2025-04-09T02:03:41.898194+00:00",null,null,null,null,null,null,null,null,"80163","LSPW Allphin Res & Exp Learnin","80163-LSPW Allphin Res & Exp Learnin"]
[null,null,null,null,null,null,"GF01892","[MSB] TE - Marriott, J Willard MSB","GF01892-[MSB] TE - Marriott, J Willard MSB","Gift","FD23","Active","2025-04-09T02:03:41.898194+00:00",null,null,null,null,null,null,null,null,"80180","LSPW Maughan Res & Exp Learnin","80180-LSPW Maughan Res & Exp Learnin"]
[null,null,null,null,null,null,"GF01913","[MSB] TE - Brooksby, Jason B","GF01913-[MSB] TE - Brooksby, Jason B","Gift","FD23","Active","2025-04-09T02:03:41.898194+00:00",null,null,null,null,null,null,null,null,"80201","LSPW PWS 003 Experiential Lear","80201-LSPW PWS 003 Experiential Lear"]
[null,null,null,null,null,null,"GF01929","[MSB] TE - White, Georgia T","GF01929-[MSB] TE - White, Georgia T","Gift","FD23","Active","2025-04-09T02:03:41.898194+00:00",null,null,null,null,null,null,null,null,"80514","LSES Gifford, Jayson - Researc","80514-LSES Gifford, Jayson - Researc"]
[null,null,null,null,null,null,"GF01972","[MSB] TE - Larson, Bruce Goldman Sachs","GF01972-[MSB] TE - Larson, Bruce Goldman Sachs","Gift","FD23","Active","2025-04-09T02:03:41.898194+00:00",null,null,null,null,null,null,null,null,"84D20","Explore IoT SMART","84D20-Explore IoT SMART"]
[null,null,null,null,null,null,"GF01985","[MSB] TE - Marriott, Paul M. Scholarship","GF01985-[MSB] TE - Marriott, Paul M. Scholarship","Gift","FD23","Active","2025-04-09T02:03:42.006217+00:00",null,null,null,null,null,null,null,null,"94D21","Provide simple and configurabl","94D21-Provide simple and configurabl"]
[null,null,null,null,null,null,"GF02005","[MSB] TE - Covey, Stephen G","GF02005-[MSB] TE - Covey, Stephen G","Gift","FD23","Active","2025-04-09T02:03:42.006217+00:00",null,null,null,null,null,null,null,null,"AB246","Angela Bradford","AB246-Angela Bradford"]
[null,null,null,null,null,null,"GF02026","[MSB] TE - Finch, Richard","GF02026-[MSB] TE - Finch, Richard","Gift","FD23","Active","2025-04-09T02:03:42.006217+00:00",null,null,null,null,null,null,null,null,"AEPCS","ATL Exec Management Contractor","AEPCS-ATL Exec Management Contractor"]
[null,null,null,null,null,null,"GF02057","[MSB] TE - Brown, Denny L","GF02057-[MSB] TE - Brown, Denny L","Gift","FD23","Active","2025-04-09T02:03:42.006217+00:00",null,null,null,null,null,null,null,null,"ALEXJ","Alex Jensen","ALEXJ-Alex Jensen"]
[null,null,null,null,null,null,"GF02063","[MSB] TE - Thorsell, Hazel S","GF02063-[MSB] TE - Thorsell, Hazel S","Gift","FD23","Active","2025-04-09T02:03:42.006217+00:00",null,null,null,null,null,null,null,null,"AMCOR","Americorp Scholarships","AMCOR-Americorp Scholarships"]
[null,null,null,null,null,null,"GF02102","[MSB] TE - Bennett, Steven and Brenda Sch","GF02102-[MSB] TE - Bennett, Steven and Brenda Sch","Gift","FD23","Active","2025-04-09T02:03:42.006217+00:00",null,null,null,null,null,null,null,null,"ATHDP","Athletics SHC Deposits","ATHDP-Athletics SHC Deposits"]
[null,null,null,null,null,null,"GF02119","[MSB] TE - Lewis Family Scholarship","GF02119-[MSB] TE - Lewis Family Scholarship","Gift","FD23","Active","2025-04-09T02:03:42.006217+00:00",null,null,null,null,null,null,null,null,"BANDM","Band men","BANDM-Band men"]
[null,null,null,null,null,null,"GF02128","[MSE] TE - Holdaway, Lee Kae","GF02128-[MSE] TE - Holdaway, Lee Kae","Gift","FD23","Active","2025-04-09T02:03:42.006217+00:00",null,null,null,null,null,null,null,null,"BECCA","Rebecca Dudley","BECCA-Rebecca Dudley"]
[null,null,null,null,null,null,"GF02156","[MSE] TE - Daines, Anna Merrill","GF02156-[MSE] TE - Daines, Anna Merrill","Gift","FD23","Active","2025-04-09T02:03:42.006217+00:00",null,null,null,null,null,null,null,null,"BG154","Tax Management","BG154-Tax Management"]
[null,null,null,null,null,null,"GF02173","[MSE] TE - Everett, Orpha Maria","GF02173-[MSE] TE - Everett, Orpha Maria","Gift","FD23","Active","2025-04-09T02:03:42.006217+00:00",null,null,null,null,null,null,null,null,"BG173","WIFI management","BG173-WIFI management"]
[null,null,null,null,null,null,"GF02200","[MSE] TE - Tracy, Ellen Jacklin","GF02200-[MSE] TE - Tracy, Ellen Jacklin","Gift","FD23","Active","2025-04-09T02:03:42.201935+00:00",null,null,null,null,null,null,null,null,"BG547","SQL Management","BG547-SQL Management"]
[null,null,null,null,null,null,"GF02232","[CMS] TE - Lee, Garth-Undergrad","GF02232-[CMS] TE - Lee, Garth-Undergrad","Gift","FD23","Active","2025-04-09T02:03:42.201935+00:00",null,null,null,null,null,null,null,null,"BONDT","Bond Technologies","BONDT-Bond Technologies"]
[null,null,null,null,null,null,"GF02253","[CMS] TE - Allred, Tracie R","GF02253-[CMS] TE - Allred, Tracie R","Gift","FD23","Active","2025-04-09T02:03:42.201935+00:00",null,null,null,null,null,null,null,null,"BYPAS","BYU Political Affairs Society","BYPAS-BYU Political Affairs Society"]
[null,null,null,null,null,null,"GF02272","[CMS] TE - Fulton, Ira A. Chair CPMS","GF02272-[CMS] TE - Fulton, Ira A. Chair CPMS","Gift","FD23","Active","2025-04-09T02:03:42.201935+00:00",null,null,null,null,null,null,null,null,"C1494","Philipoom Construction","C1494-Philipoom Construction"]
[null,null,null,null,null,null,"GF02286","[CMS] TE - Copley, Bryant (Geology)","GF02286-[CMS] TE - Copley, Bryant (Geology)","Gift","FD23","Active","2025-04-09T02:03:42.201935+00:00",null,null,null,null,null,null,null,null,"C1513","GSL Electric","C1513-GSL Electric"]
[null,null,null,null,null,null,"GF02307","[CMS] TE - Gardner, John Hale","GF02307-[CMS] TE - Gardner, John Hale","Gift","FD23","Active","2025-04-09T02:03:42.307079+00:00",null,null,null,null,null,null,null,null,"C1540","OTIS ELEVATOR","C1540-OTIS ELEVATOR"]
[null,null,null,null,null,null,"GF02323","[CMS] TE - Taylor, Carol B. Fellowship","GF02323-[CMS] TE - Taylor, Carol B. Fellowship","Gift","FD23","Active","2025-04-09T02:03:42.307079+00:00",null,null,null,null,null,null,null,null,"C1558","Zwick Construction","C1558-Zwick Construction"]
[null,null,null,null,null,null,"GF02344","[REL] TE - Christensen (Relig)","GF02344-[REL] TE - Christensen (Relig)","Gift","FD23","Active","2025-04-09T02:03:42.307079+00:00",null,null,null,null,null,null,null,null,"C1589","Arnell-West, Inc.","C1589-Arnell-West, Inc."]
[null,null,null,null,null,null,"GF02383","[FIN] TE - Mason, Charles & Clara","GF02383-[FIN] TE - Mason, Charles & Clara","Gift","FD23","Active","2025-04-09T02:03:42.307079+00:00",null,null,null,null,null,null,null,null,"CAFPI","Artful Cmpn-Promo Item","CAFPI-Artful Cmpn-Promo Item"]
[null,null,null,null,null,null,"GF02396","[ENG] DG - Jonsson, John F- Deferred Gift","GF02396-[ENG] DG - Jonsson, John F- Deferred Gift","Gift","FD27","Active","2025-01-12T03:04:23.29146+00:00",null,null,null,null,null,null,null,null,"CAP08","Capstone Team 8","CAP08-Capstone Team 8"]
[null,null,null,null,null,null,"GF02421","[ENRL] DG - Newby, Karl & Carrol- Deferred Gift","GF02421-[ENRL] DG - Newby, Karl & Carrol- Deferred Gift","Gift","FD27","Active","2025-01-12T03:04:23.29146+00:00",null,null,null,null,null,null,null,null,"CAP33","Capstone Team 33","CAP33-Capstone Team 33"]
[null,null,null,null,null,null,"GF02438","[ENRL] DG - K Hill Schol- Deferred Gift","GF02438-[ENRL] DG - K Hill Schol- Deferred Gift","Gift","FD27","Active","2025-01-12T03:04:23.29146+00:00",null,null,null,null,null,null,null,null,"CAP50","Capstone Team 50","CAP50-Capstone Team 50"]
[null,null,null,null,null,null,"GF02468","[LFSC] DG - Harrison - Botany Schol- Deferred Gift","GF02468-[LFSC] DG - Harrison - Botany Schol- Deferred Gift","Gift","FD27","Active","2025-01-12T03:04:23.29146+00:00",null,null,null,null,null,null,null,null,"CBSEV","Big Stories Cmpn-Events","CBSEV-Big Stories Cmpn-Events"]
[null,null,null,null,null,null,"GF02475","[MSB] DG - Day, Rodney and Virginia- Deferred Gift","GF02475-[MSB] DG - Day, Rodney and Virginia- Deferred Gift","Gift","FD27","Active","2025-01-12T03:04:23.29146+00:00",null,null,null,null,null,null,null,null,"CBSOT","Big Stories Cmpn-Other","CBSOT-Big Stories Cmpn-Other"]
[null,null,null,null,null,null,"GF02515","[FIN] PM - Babcock, Harold","GF02515-[FIN] PM - Babcock, Harold","Gift","FD27","Active","2025-01-12T03:04:23.328437+00:00",null,null,null,null,null,null,null,null,"CCNSM","LivingRecord Cmpn-Social Mktg","CCNSM-LivingRecord Cmpn-Social Mktg"]
[null,null,null,null,null,null,"GF02524","[FIN] PM - Dyer, Gordon W","GF02524-[FIN] PM - Dyer, Gordon W","Gift","FD27","Active","2025-01-12T03:04:23.328437+00:00",null,null,null,null,null,null,null,null,"CCWSM","Constant Won Cmpn-Social Mktg","CCWSM-Constant Won Cmpn-Social Mktg"]
[null,null,null,null,null,null,"GF02553","[FIN] PM - Belleau, Wayne South Odgen Utah Property","GF02553-[FIN] PM - Belleau, Wayne South Odgen Utah Property","Gift","FD20","Active","2025-01-12T03:04:23.328437+00:00",null,null,null,null,null,null,null,null,"CFRDM","Family Rules Cmpn-Digital","CFRDM-Family Rules Cmpn-Digital"]
[null,null,null,null,null,null,"GF02570","[FIN] PM - N-Ross, Darrel L","GF02570-[FIN] PM - N-Ross, Darrel L","Gift","FD20","Active","2025-01-12T03:04:23.328437+00:00",null,null,null,null,null,null,null,null,"CG110","Scheduling","CG110-Scheduling"]
[null,null,null,null,null,null,"GF02597","[FIN] PM - Mount Baldy Partnership Vacant Land Phoenix AZ","GF02597-[FIN] PM - Mount Baldy Partnership Vacant Land Phoenix AZ","Gift","FD20","Active","2025-01-12T03:04:23.328437+00:00",null,null,null,null,null,null,null,null,"CG153","Career/Resume Management","CG153-Career/Resume Management"]
[null,null,null,null,null,null,"GF02607","[FIN] PM - Turner, Robert","GF02607-[FIN] PM - Turner, Robert","Gift","FD20","Active","2025-01-12T03:04:23.328437+00:00",null,null,null,null,null,null,null,null,"CG163","Classroom Administration/Gradi","CG163-Classroom Administration/Gradi"]
[null,null,null,null,null,null,"GF02649","[AER] BG - Farmington NM Reg Rep Grant","GF02649-[AER] BG - Farmington NM Reg Rep Grant","Gift","FD20","Active","2025-01-12T03:04:23.328437+00:00",null,null,null,null,null,null,null,null,"CG523","Business Objects Management","CG523-Business Objects Management"]
[null,null,null,null,null,null,"GF02651","[AER] BG - Alumni Chapter Replenish Grant","GF02651-[AER] BG - Alumni Chapter Replenish Grant","Gift","FD20","Active","2025-01-12T03:04:23.328437+00:00",null,null,null,null,null,null,null,null,"CG526","SPSS","CG526-SPSS"]
[null,null,null,null,null,null,"GF02687","[AER] BG - Construction Mgt Repl Grant","GF02687-[AER] BG - Construction Mgt Repl Grant","Gift","FD20","Active","2025-01-12T03:04:23.328437+00:00",null,null,null,null,null,null,null,null,"CHASE","Zachary Chase","CHASE-Zachary Chase"]
[null,null,null,null,null,null,"GF02708","[ATH] BG - FB practice Field Renovt 2007","GF02708-[ATH] BG - FB practice Field Renovt 2007","Gift","FD20","Active","2025-01-12T03:04:23.374583+00:00",null,null,null,null,null,null,null,null,"CHYIF","Her Y Cmpn-Influencers","CHYIF-Her Y Cmpn-Influencers"]
[null,null,null,null,null,null,"GF02724","[ATH] BG - Club Seating","GF02724-[ATH] BG - Club Seating","Gift","FD20","Active","2025-01-12T03:04:23.374583+00:00",null,null,null,null,null,null,null,null,"CINOA","Insider Cmpn-On-air","CINOA-Insider Cmpn-On-air"]
[null,null,null,null,null,null,"GF02741","[ATH] BG - Women Golf Fund","GF02741-[ATH] BG - Women Golf Fund","Gift","FD20","Active","2025-01-12T03:04:23.374583+00:00",null,null,null,null,null,null,null,null,"CLASY","MSE Classy Day","CLASY-MSE Classy Day"]
[null,null,null,null,null,null,"GF02763","[AVP] BG - Maxwell Institute","GF02763-[AVP] BG - Maxwell Institute","Gift","FD20","Active","2025-01-12T03:04:23.374583+00:00",null,null,null,null,null,null,null,null,"CMGMD","Making Good Cmpn-Mktg Day","CMGMD-Making Good Cmpn-Mktg Day"]
[null,null,null,null,null,null,"GF02798","[LAWS] BG - Fritz Burns Merit Scholarship","GF02798-[LAWS] BG - Fritz Burns Merit Scholarship","Gift","FD20","Active","2025-01-12T03:04:23.374583+00:00",null,null,null,null,null,null,null,null,"CORY4","Cory Dennis","CORY4-Cory Dennis"]
[null,null,null,null,null,null,"GF02823","[LAWS] BG - Diversity Scholarships","GF02823-[LAWS] BG - Diversity Scholarships","Gift","FD20","Active","2025-01-12T03:04:23.406263+00:00",null,null,null,null,null,null,null,null,"CPBKT","Radio DeepBl Cmpn-Press Kits","CPBKT-Radio DeepBl Cmpn-Press Kits"]
[null,null,null,null,null,null,"GF02840","[ENG] BG - Chem Engr Grad Schol","GF02840-[ENG] BG - Chem Engr Grad Schol","Gift","FD20","Active","2025-01-12T03:04:23.406263+00:00",null,null,null,null,null,null,null,null,"CPPKT","ParentInProg Cmpn-Press Kits","CPPKT-ParentInProg Cmpn-Press Kits"]
[null,null,null,null,null,null,"GF02849","[ENG] BG - ChE Department Misc Support","GF02849-[ENG] BG - ChE Department Misc Support","Gift","FD20","Active","2025-01-12T03:04:23.406263+00:00",null,null,null,null,null,null,null,null,"CRADM","Random Acts Cmpn-Digital","CRADM-Random Acts Cmpn-Digital"]
[null,null,null,null,null,null,"GF02878","[ENG] BG - College of Engineering TFG","GF02878-[ENG] BG - College of Engineering TFG","Gift","FD20","Active","2025-01-12T03:04:23.406263+00:00",null,null,null,null,null,null,null,null,"CRSPI","Radio BigStryCmpn-Promo Item","CRSPI-Radio BigStryCmpn-Promo Item"]
[null,null,null,null,null,null,"GF02895","[ENG] BG - Global Projects in Eng & Tech","GF02895-[ENG] BG - Global Projects in Eng & Tech","Gift","FD20","Active","2025-01-12T03:04:23.406263+00:00",null,null,null,null,null,null,null,null,"CRXMD","Red Rocks Cmpn-Mktg Day","CRXMD-Red Rocks Cmpn-Mktg Day"]
[null,null,null,null,null,null,"GF02923","[ENG] BG - Elect Engineer Senior Enhance Study Project","GF02923-[ENG] BG - Elect Engineer Senior Enhance Study Project","Gift","FD20","Active","2025-01-12T03:04:23.406263+00:00",null,null,null,null,null,null,null,null,"CSBCM","Coach ShowBB Cmpn-Content Mktg","CSBCM-Coach ShowBB Cmpn-Content Mktg"]
[null,null,null,null,null,null,"GF02956","[ENG] BG - Electric Car","GF02956-[ENG] BG - Electric Car","Gift","FD20","Active","2025-01-12T03:04:23.406263+00:00",null,null,null,null,null,null,null,null,"CSFDM","Coach ShowFB Cmpn-Digital","CSFDM-Coach ShowFB Cmpn-Digital"]
[null,null,null,null,null,null,"GF02973","[STLF] BG - Extramurals Womens Lacrosse","GF02973-[STLF] BG - Extramurals Womens Lacrosse","Gift","FD20","Active","2025-01-12T03:04:23.406263+00:00",null,null,null,null,null,null,null,null,"CSHNT","CashNet","CSHNT-CashNet"]
[null,null,null,null,null,null,"GF03002","[ENRL] BG - Olson, Vilate Schl","GF03002-[ENRL] BG - Olson, Vilate Schl","Gift","FD20","Active","2025-01-12T03:04:23.406263+00:00",null,null,null,null,null,null,null,null,"CSNPR","Sports Nation Cmpn-Public Rel.","CSNPR-Sports Nation Cmpn-Public Rel."]
[null,null,null,null,null,null,"GF03012","[ENRL] BG - UHEAA Grants","GF03012-[ENRL] BG - UHEAA Grants","Gift","FD20","Active","2025-01-12T03:04:23.406263+00:00",null,null,null,null,null,null,null,null,"CSPPI","Sports Camp. Prom. Item","CSPPI-Sports Camp. Prom. Item"]
[null,null,null,null,null,null,"GF03030","[ENRL] BG - Helen R Drake Bingham Sig Scho","GF03030-[ENRL] BG - Helen R Drake Bingham Sig Scho","Gift","FD20","Active","2025-01-12T03:04:23.471921+00:00",null,null,null,null,null,null,null,null,"CSVMD","Survivalist Cmpn-Mktg Day","CSVMD-Survivalist Cmpn-Mktg Day"]
[null,null,null,null,null,null,"GF03054","[ENRL] BG - Jardine Family Signature Schol","GF03054-[ENRL] BG - Jardine Family Signature Schol","Gift","FD20","Active","2025-01-12T03:04:23.471921+00:00",null,null,null,null,null,null,null,null,"CTWIN","Call of Wild Cmpn-Insider","CTWIN-Call of Wild Cmpn-Insider"]
[null,null,null,null,null,null,"GF03090","[ENRL] BG - John J Lanenga Sig Scholarship","GF03090-[ENRL] BG - John J Lanenga Sig Scholarship","Gift","FD20","Active","2025-01-12T03:04:23.471921+00:00",null,null,null,null,null,null,null,null,"CTXFR","Frisco CO City Tax","CTXFR-Frisco CO City Tax"]
[null,null,null,null,null,null,"GF03107","[ENRL] BG - Evan N. Stevenson Sig Scholar","GF03107-[ENRL] BG - Evan N. Stevenson Sig Scholar","Gift","FD20","Active","2025-01-12T03:04:23.471921+00:00",null,null,null,null,null,null,null,null,"CTXMC","McCall ID City Tax","CTXMC-McCall ID City Tax"]
[null,null,null,null,null,null,"GF03129","[ENRL] BG - Mary Williams Sig Schol","GF03129-[ENRL] BG - Mary Williams Sig Schol","Gift","FD20","Active","2025-01-12T03:04:23.471921+00:00",null,null,null,null,null,null,null,null,"CUCEV","Uncomfy Cmpn-Events","CUCEV-Uncomfy Cmpn-Events"]
[null,null,null,null,null,null,"GF03146","[ENRL] BG - Weaver, Joy Signature Schol","GF03146-[ENRL] BG - Weaver, Joy Signature Schol","Gift","FD20","Active","2025-01-12T03:04:23.471921+00:00",null,null,null,null,null,null,null,null,"CWKDM","CW Kids Cmpn-Digital","CWKDM-CW Kids Cmpn-Digital"]
[null,null,null,null,null,null,"GF03167","[ENRL] BG - Krebs Family Signature Scholar","GF03167-[ENRL] BG - Krebs Family Signature Scholar","Gift","FD20","Active","2025-01-12T03:04:23.471921+00:00",null,null,null,null,null,null,null,null,"D4524","Monte Bean Museum Initiative","D4524-Monte Bean Museum Initiative"]
[null,null,null,null,null,null,"GF03208","[FHSS] BG - Gerontology Gifts","GF03208-[FHSS] BG - Gerontology Gifts","Gift","FD20","Active","2025-01-12T03:04:23.471921+00:00",null,null,null,null,null,null,null,null,"DA342","Kines&Reltd Sci-Dnc","DA342-Kines&Reltd Sci-Dnc"]
[null,null,null,null,null,null,"GF03235","[ARTS] BG - Friends of Dance","GF03235-[ARTS] BG - Friends of Dance","Gift","FD20","Active","2025-01-12T03:04:23.508528+00:00",null,null,null,null,null,null,null,null,"DCOBI","Derin Cobia","DCOBI-Derin Cobia"]
[null,null,null,null,null,null,"GF03257","[ARTS] BG - BARLOW - 2020","GF03257-[ARTS] BG - BARLOW - 2020","Gift","FD20","Active","2025-01-12T03:04:23.508528+00:00",null,null,null,null,null,null,null,null,"DF241","Maughan, Rex & Ruth","DF241-Maughan, Rex & Ruth"]
[null,null,null,null,null,null,"GF03275","[ARTS] BG - Fine Arts Museum","GF03275-[ARTS] BG - Fine Arts Museum","Gift","FD20","Active","2025-01-12T03:04:23.508528+00:00",null,null,null,null,null,null,null,null,"DHBEV","Dining Hall Beverages","DHBEV-Dining Hall Beverages"]
[null,null,null,null,null,null,"GF03287","[ARTS] BG - Opera-Voice-Conducting Scholarships","GF03287-[ARTS] BG - Opera-Voice-Conducting Scholarships","Gift","FD20","Active","2025-01-12T03:04:23.508528+00:00",null,null,null,null,null,null,null,null,"DLB25","Bowen, Donna Lee","DLB25-Bowen, Donna Lee"]
[null,null,null,null,null,null,"GF03313","[ARTS] BG - Theater & Media Arts","GF03313-[ARTS] BG - Theater & Media Arts","Gift","FD20","Active","2025-01-12T03:04:23.553457+00:00",null,null,null,null,null,null,null,null,"DM032","DC, UPS Replacement Completion","DM032-DC, UPS Replacement Completion"]
[null,null,null,null,null,null,"GF03330","[HUM] BG - Comparative Arts&Letters Gift","GF03330-[HUM] BG - Comparative Arts&Letters Gift","Gift","FD20","Active","2025-01-12T03:04:23.553457+00:00",null,null,null,null,null,null,null,null,"DM050","SHC, BYUI Firewall Replacement","DM050-SHC, BYUI Firewall Replacement"]
[null,null,null,null,null,null,"GF03366","[HUM] BG - Spanish & Portuguese Gift Fund","GF03366-[HUM] BG - Spanish & Portuguese Gift Fund","Gift","FD20","Active","2025-01-12T03:04:23.553457+00:00",null,null,null,null,null,null,null,null,"DNGHL","Dining Hall","DNGHL-Dining Hall"]
[null,null,null,null,null,null,"GF03397","[LIB] BG - Library Annual Fund","GF03397-[LIB] BG - Library Annual Fund","Gift","FD20","Active","2025-01-12T03:04:23.553457+00:00",null,null,null,null,null,null,null,null,"E9984","EX99Education","E9984-EX99Education"]
[null,null,null,null,null,null,"GF03418","[LFSC] BG - Life Sciences Annual Fund","GF03418-[LFSC] BG - Life Sciences Annual Fund","Gift","FD20","Active","2025-01-12T03:04:23.553457+00:00",null,null,null,null,null,null,null,null,"ECSI2","ECSI Accrued Interest","ECSI2-ECSI Accrued Interest"]
[null,null,null,null,null,null,"GF03446","[LFSC] BG - B.Harrison Arboretum-Range Gdn","GF03446-[LFSC] BG - B.Harrison Arboretum-Range Gdn","Gift","FD20","Active","2025-01-12T03:04:23.553457+00:00",null,null,null,null,null,null,null,null,"EFYKY","EFY KY Tax Withholding","EFYKY-EFY KY Tax Withholding"]
[null,null,null,null,null,null,"GF03458","[LFSC] BG - Coleman, Craig-Andean Crops","GF03458-[LFSC] BG - Coleman, Craig-Andean Crops","Gift","FD20","Active","2025-01-12T03:04:23.553457+00:00",null,null,null,null,null,null,null,null,"EFYND","EFY ND Tax Withholding","EFYND-EFY ND Tax Withholding"]
[null,null,null,null,null,null,"GF03482","[MSB] BG - Marriott School Annual Fund","GF03482-[MSB] BG - Marriott School Annual Fund","Gift","FD20","Active","2025-01-12T03:04:23.553457+00:00",null,null,null,null,null,null,null,null,"EGRST","EFP Grip Student","EGRST-EFP Grip Student"]
[null,null,null,null,null,null,"GF03502","[MSB] BG - ExDM Annual Fund","GF03502-[MSB] BG - ExDM Annual Fund","Gift","FD20","Active","2025-01-12T03:04:23.553457+00:00",null,null,null,null,null,null,null,null,"EPMST","EFP UPM Student","EPMST-EFP UPM Student"]
[null,null,null,null,null,null,"GF03548","[MSB] BG - Military Science Student Suprt","GF03548-[MSB] BG - Military Science Student Suprt","Gift","FD20","Active","2025-01-12T03:04:23.623879+00:00",null,null,null,null,null,null,null,null,"EYING","EYING","EYING-EYING"]
[null,null,null,null,null,null,"GF03577","[MSE] BG - MSE/COMD Grad Scholarship","GF03577-[MSE] BG - MSE/COMD Grad Scholarship","Gift","FD20","Active","2025-01-12T03:04:23.623879+00:00",null,null,null,null,null,null,null,null,"FGRDP","Forfeited Graduate Deposits","FGRDP-Forfeited Graduate Deposits"]
[null,null,null,null,null,null,"GF03592","[MSE] BG - Peery Scholarship Gift Account","GF03592-[MSE] BG - Peery Scholarship Gift Account","Gift","FD20","Active","2025-01-12T03:04:23.623879+00:00",null,null,null,null,null,null,null,null,"FS158","SFAS 158 Adjustment","FS158-SFAS 158 Adjustment"]
[null,null,null,null,null,null,"GF03617","[CMS] BG - Theoretical Interface Chem","GF03617-[CMS] BG - Theoretical Interface Chem","Gift","FD20","Active","2025-01-12T03:04:23.623879+00:00",null,null,null,null,null,null,null,null,"G0542","Graduate MMBIO 365","G0542-Graduate MMBIO 365"]
[null,null,null,null,null,null,"GF03634","[CMS] BG - Data Mining Project","GF03634-[CMS] BG - Data Mining Project","Gift","FD20","Active","2025-01-12T03:04:23.623879+00:00",null,null,null,null,null,null,null,null,"G3727","Graduate Visiting Scholars","G3727-Graduate Visiting Scholars"]
[null,null,null,null,null,null,"GF03667","[CMS] BG - R. Paul Nixon Geology GE Fund","GF03667-[CMS] BG - R. Paul Nixon Geology GE Fund","Gift","FD20","Active","2025-01-12T03:04:23.623879+00:00",null,null,null,null,null,null,null,null,"GIBBS","Richard Gibbs","GIBBS-Richard Gibbs"]
[null,null,null,null,null,null,"GF03693","[CMS] BG - Statistics Student Aid","GF03693-[CMS] BG - Statistics Student Aid","Gift","FD20","Active","2025-01-12T03:04:23.658203+00:00",null,null,null,null,null,null,null,null,"GRDFW","Graduate Fellowships","GRDFW-Graduate Fellowships"]
[null,null,null,null,null,null,"GF03710","[REL] BG - Church Hist & Doctr Discretionary","GF03710-[REL] BG - Church Hist & Doctr Discretionary","Gift","FD20","Active","2025-02-04T03:04:52.555317+00:00",null,null,null,null,null,null,null,null,"GS522","Feland, B. - Grad Students","GS522-Feland, B. - Grad Students"]
[null,null,null,null,null,null,"GF03718","[STLF] BG - HSG Financial Gifts","GF03718-[STLF] BG - HSG Financial Gifts","Gift","FD20","Active","2025-01-12T03:04:23.658203+00:00",null,null,null,null,null,null,null,null,"GSCLO","Gift Shop Clothing","GSCLO-Gift Shop Clothing"]
[null,null,null,null,null,null,"GF03750","[FIN] PM - N-Wheatley, Jack","GF03750-[FIN] PM - N-Wheatley, Jack","Gift","FD20","Active","2025-01-12T03:04:23.658203+00:00",null,null,null,null,null,null,null,null,"HL008","HL Building Care Area 8","HL008-HL Building Care Area 8"]
[null,null,null,null,null,null,"GF03770","[BYUB] RG- Misc. TV Production Funds","GF03770-[BYUB] RG- Misc. TV Production Funds","Gift","FD28","Active","2025-01-12T03:04:23.658203+00:00",null,null,null,null,null,null,null,null,"HSDCA","HSDL-CANO CA Tax Withholding","HSDCA-HSDL-CANO CA Tax Withholding"]
[null,null,null,null,null,null,"GF03823","[ENG] RG- Milt & Heidi Shipp DSA","GF03823-[ENG] RG- Milt & Heidi Shipp DSA","Gift","FD28","Active","2025-01-12T03:04:23.658203+00:00",null,null,null,null,null,null,null,null,"ID100","xHonor Code Enhancements","ID100-xHonor Code Enhancements"]
[null,null,null,null,null,null,"GF03853","[HUM] RG-Portugal Student Support-FLAD/Camoe","GF03853-[HUM] RG-Portugal Student Support-FLAD/Camoe","Gift","FD28","Active","2025-03-14T02:03:41.433601+00:00",null,null,null,null,null,null,null,null,"ID243","xNetwork API NIT 2","ID243-xNetwork API NIT 2"]
[null,null,null,null,null,null,"GF03873","[LFSC] RG- Lytle Preserve Land Fund","GF03873-[LFSC] RG- Lytle Preserve Land Fund","Gift","FD28","Active","2025-04-11T02:03:42.982071+00:00",null,null,null,null,null,null,null,null,"IP005","Change Readiness Employees","IP005-Change Readiness Employees"]
[null,null,null,null,null,null,"GF03899","[REL] RG- Virtual Tours Project","GF03899-[REL] RG- Virtual Tours Project","Gift","FD28","Active","2025-01-12T03:04:23.710669+00:00",null,null,null,null,null,null,null,null,"JCREG","Due to Jerusalem","JCREG-Due to Jerusalem"]
[null,null,null,null,null,null,"GF03910","[ATH] DG - Annual Scholarship Fund- Deferred Gift","GF03910-[ATH] DG - Annual Scholarship Fund- Deferred Gift","Gift","FD21","Active","2025-01-12T03:04:23.710669+00:00",null,null,null,null,null,null,null,null,"JHARD","Hardy, Jeff","JHARD-Hardy, Jeff"]
[null,null,null,null,null,null,"GF03928","[ENG] DG - Coll of Engineer Annual Fund- Deferred Gift","GF03928-[ENG] DG - Coll of Engineer Annual Fund- Deferred Gift","Gift","FD21","Active","2025-01-12T03:04:23.710669+00:00",null,null,null,null,null,null,null,null,"JNELS","Jenae Nelson","JNELS-Jenae Nelson"]
[null,null,null,null,null,null,"GF03951","[ADM] DG - SFLC Replacement Facility Cons- Deferred Gift","GF03951-[ADM] DG - SFLC Replacement Facility Cons- Deferred Gift","Gift","FD21","Active","2025-01-12T03:04:23.710669+00:00",null,null,null,null,null,null,null,null,"JTURN","Jill Turner","JTURN-Jill Turner"]
[null,null,null,null,null,null,"GF03987","[REL] DG - Religious Education- Deferred Gift","GF03987-[REL] DG - Religious Education- Deferred Gift","Gift","FD21","Active","2025-01-12T03:04:23.710669+00:00",null,null,null,null,null,null,null,null,"K0223","Servers","K0223-Servers"]
[null,null,null,null,null,null,"GF04009","[STLF] II - Residence Life Administration","GF04009-[STLF] II - Residence Life Administration","Gift","FD02","Active","2025-04-09T02:03:42.307079+00:00",null,null,null,null,null,null,null,null,"K0461","Misc Distribution","K0461-Misc Distribution"]
[null,null,null,null,null,null,"GF04024","[AVP] TE - Madsen, Truman Fellowship","GF04024-[AVP] TE - Madsen, Truman Fellowship","Gift","FD23","Active","2025-04-09T02:03:42.307079+00:00",null,null,null,null,null,null,null,null,"K9107","TMCB Remodel","K9107-TMCB Remodel"]
[null,null,null,null,null,null,"GF04042","[ATH] BG - Whole Athlete Initiative","GF04042-[ATH] BG - Whole Athlete Initiative","Gift","FD20","Active","2025-01-12T03:04:23.710669+00:00",null,null,null,null,null,null,null,null,"KLUDW","Kristy Ludwig","KLUDW-Kristy Ludwig"]
[null,null,null,null,null,null,"GF04064","[ENRL] BG - Harris, F. Sig Scholarship","GF04064-[ENRL] BG - Harris, F. Sig Scholarship","Gift","FD20","Active","2025-01-12T03:04:23.767307+00:00",null,null,null,null,null,null,null,null,"LEYES","Lynn Eyestone","LEYES-Lynn Eyestone"]
[null,null,null,null,null,null,"GF04129","[ENG] TE - Rainsdon, Darwin and Jenean","GF04129-[ENG] TE - Rainsdon, Darwin and Jenean","Gift","FD23","Active","2025-04-09T02:03:42.307079+00:00",null,null,null,null,null,null,null,null,"LV005","Repair undrgrd roof concession","LV005-Repair undrgrd roof concession"]
[null,null,null,null,null,null,"GF04133","[ENG] TE - Eagar, Thomas W.","GF04133-[ENG] TE - Eagar, Thomas W.","Gift","FD23","Active","2025-04-09T02:03:42.38179+00:00",null,null,null,null,null,null,null,null,"LV009","Replace Air Handler Systm LVES","LV009-Replace Air Handler Systm LVES"]
[null,null,null,null,null,null,"GF04174","[MSB] TE - Case, Stuart P.","GF04174-[MSB] TE - Case, Stuart P.","Gift","FD23","Active","2025-04-09T02:03:42.38179+00:00",null,null,null,null,null,null,null,null,"M1888","Roof Replacement S1","M1888-Roof Replacement S1"]
[null,null,null,null,null,null,"GF04183","[ATH] TE - Beck, Wendell and Julie","GF04183-[ATH] TE - Beck, Wendell and Julie","Gift","FD23","Active","2025-04-09T02:03:42.38179+00:00",null,null,null,null,null,null,null,null,"M1912","Lighting - S1","M1912-Lighting - S1"]
[null,null,null,null,null,null,"GF04212","[ENG] TE - Thomas Harvey Fletcher Endowed Fund","GF04212-[ENG] TE - Thomas Harvey Fletcher Endowed Fund","Gift","FD23","Active","2025-04-09T02:03:42.38179+00:00",null,null,null,null,null,null,null,null,"M1953","Network Distribution Infr.-S2","M1953-Network Distribution Infr.-S2"]
[null,null,null,null,null,null,"GF04229","[ATH] PE - Sheri Zimmerman Klein Memoral Endowed Athletic Scholarship","GF04229-[ATH] PE - Sheri Zimmerman Klein Memoral Endowed Athletic Scholarship","Gift","FD21","Active","2025-01-18T03:04:40.253559+00:00",null,null,null,null,null,null,null,null,"M1979","Replace Caeferia Lights S1","M1979-Replace Caeferia Lights S1"]
[null,null,null,null,null,null,"GF04255","[CMS] PE - Silicon Valley BYU Endowed Scholarship/Mentorship Fund in Science","GF04255-[CMS] PE - Silicon Valley BYU Endowed Scholarship/Mentorship Fund in Science","Gift","FD21","Active","2025-01-18T03:04:40.253559+00:00",null,null,null,null,null,null,null,null,"M2013","Reroute NE Storm Drain by S1","M2013-Reroute NE Storm Drain by S1"]
[null,null,null,null,null,null,"GF04266","[CMS] PE - Travis and Amy Oliphant Family Endowed Math Fund","GF04266-[CMS] PE - Travis and Amy Oliphant Family Endowed Math Fund","Gift","FD21","Active","2025-02-08T03:04:09.855001+00:00",null,null,null,null,null,null,null,null,"M2027","T2 Video Display System","M2027-T2 Video Display System"]
[null,null,null,null,null,null,"GF04306","[CMS] TE - SM SCCR Endowed Fund","GF04306-[CMS] TE - SM SCCR Endowed Fund","Gift","FD23","Active","2025-04-09T02:03:42.38179+00:00",null,null,null,null,null,null,null,null,"M2080","Food Cabinet AL-1840-EC - S1","M2080-Food Cabinet AL-1840-EC - S1"]
[null,null,null,null,null,null,"GF04311","[AER] BG - Prescott, AZ Management Society Scholarship","GF04311-[AER] BG - Prescott, AZ Management Society Scholarship","Gift","FD20","Active","2025-01-12T03:04:23.80315+00:00",null,null,null,null,null,null,null,null,"M2085","Missionary Comp Replace. 2021","M2085-Missionary Comp Replace. 2021"]
[null,null,null,null,null,null,"GF04343","[ENRL] TE - Norton, D R and Naomi Endowment INACTIVE","GF04343-[ENRL] TE - Norton, D R and Naomi Endowment INACTIVE","Gift","FD23","Active","2025-04-09T02:03:42.38179+00:00",null,null,null,null,null,null,null,null,"M2123","Packet Assembly room S1","M2123-Packet Assembly room S1"]
[null,null,null,null,null,null,"GF04360","[AER] BG - Cougarettes - Alumni Chapter Scholarships","GF04360-[AER] BG - Cougarettes - Alumni Chapter Scholarships","Gift","FD20","Active","2025-01-12T03:04:23.80315+00:00",null,null,null,null,null,null,null,null,"M2152","Ntwrk Swtch Replacemnts MTCG","M2152-Ntwrk Swtch Replacemnts MTCG"]
[null,null,null,null,null,null,"GF04383","[AER] BG - Women's Basketball - Alumni Chapter Scholarships","GF04383-[AER] BG - Women's Basketball - Alumni Chapter Scholarships","Gift","FD20","Active","2025-01-12T03:04:23.80315+00:00",null,null,null,null,null,null,null,null,"M2180","Outdoor wireless-MTC","M2180-Outdoor wireless-MTC"]
[null,null,null,null,null,null,"GF04397","[AER] BG - MT Billings - Alumni Chapter Scholarships","GF04397-[AER] BG - MT Billings - Alumni Chapter Scholarships","Gift","FD20","Active","2025-01-12T03:04:23.80315+00:00",null,null,null,null,null,null,null,null,"M2194","Headsets, Tutoring/Mentoring","M2194-Headsets, Tutoring/Mentoring"]
[null,null,null,null,null,null,"GF04418","[ENG] BG - Cybersecurity Competitions","GF04418-[ENG] BG - Cybersecurity Competitions","Gift","FD20","Active","2025-01-12T03:04:23.80315+00:00",null,null,null,null,null,null,null,null,"M2266","Lighting Dimmer Panel S3","M2266-Lighting Dimmer Panel S3"]
[null,null,null,null,null,null,"GF04456","[ARTS] TE - Janet L. Swenson Endowed Scholarship Fund","GF04456-[ARTS] TE - Janet L. Swenson Endowed Scholarship Fund","Gift","FD23","Active","2025-04-09T02:03:42.464861+00:00",null,null,null,null,null,null,null,null,"M2303","8 iPads-Interp Team Reorg","M2303-8 iPads-Interp Team Reorg"]
[null,null,null,null,null,null,"GF04474","[INVP] BG - Global Student Support","GF04474-[INVP] BG - Global Student Support","Gift","FD20","Active","2025-04-09T02:03:42.464861+00:00",null,null,null,null,null,null,null,null,"M2322","Repl 3 MTC Utility Vehicles","M2322-Repl 3 MTC Utility Vehicles"]
[null,null,null,null,null,null,"GF04495","[MSE] PE - Thorsen Go Forth to Serve Endowed Fund","GF04495-[MSE] PE - Thorsen Go Forth to Serve Endowed Fund","Gift","FD21","Active","2025-04-09T02:03:42.464861+00:00",null,null,null,null,null,null,null,null,"M2344","MTC Concrete-Flatwork,Curb,Gut","M2344-MTC Concrete-Flatwork,Curb,Gut"]
[null,null,null,null,null,null,"GF04507","[MSB] PE - Grace and William Bell Memorial Endowed Scholarship","GF04507-[MSB] PE - Grace and William Bell Memorial Endowed Scholarship","Gift","FD21","Active","2025-04-09T02:03:42.464861+00:00",null,null,null,null,null,null,null,null,"M2356","R6 Caulking/Gasket","M2356-R6 Caulking/Gasket"]
[null,null,null,null,null,null,"GR00029","[ENG] AW00187 Subaward 22-0578-Aquaveo","GR00029-[ENG] AW00187 Subaward 22-0578-Aquaveo","Grant","FD05","Active","2025-04-02T02:04:30.253716+00:00",null,null,null,null,null,null,null,null,"M2419","R1, R3, R5 Clean. Caulk. Seal","M2419-R1, R3, R5 Clean. Caulk. Seal"]
[null,null,null,null,null,null,"GR00077","[ENG] Ames-NASA-Advancing the NASA GEOGloWS To","GR00077-[ENG] Ames-NASA-Advancing the NASA GEOGloWS To","Grant","FD05","Active","2025-04-02T02:04:30.253716+00:00",null,null,null,null,null,null,null,null,"M2446","[MTC] MTC Mattress Twin","M2446-[MTC] MTC Mattress Twin"]
[null,null,null,null,null,null,"GR00265","[ENG] Nelson-ONR-Investigation of friction stir","GR00265-[ENG] Nelson-ONR-Investigation of friction stir","Grant","FD05","Active","2025-03-22T02:03:32.386352+00:00",null,null,null,null,null,null,null,null,"M4557","HBLL Roof","M4557-HBLL Roof"]
[null,null,null,null,null,null,"GR00317","[ENG] Munro-NSF-Improvement of Modeling Predic","GR00317-[ENG] Munro-NSF-Improvement of Modeling Predic","Grant","FD05","Active","2025-01-12T03:04:22.202228+00:00",null,null,null,null,null,null,null,null,"M5436","JRCB Elevators","M5436-JRCB Elevators"]
[null,null,null,null,null,null,"GR00494","[FHSS] Cannon-The Church of Jesus Christ-Ottoman Census of Palestine In","GR00494-[FHSS] Cannon-The Church of Jesus Christ-Ottoman Census of Palestine In","Grant","FD05","Active","2025-04-03T02:04:43.922927+00:00",null,null,null,null,null,null,null,null,"M6759","TNRB 561/591, Remodel","M6759-TNRB 561/591, Remodel"]
[null,null,null,null,null,null,"GR00597","[LFSC] Leavitt-Univ of Tennessee, Knoxville-Digitization TCN: Collaborativ","GR00597-[LFSC] Leavitt-Univ of Tennessee, Knoxville-Digitization TCN: Collaborativ","Grant","FD05","Active","2025-03-01T03:03:25.44141+00:00",null,null,null,null,null,null,null,null,"M7600","ASB B180 Remodel","M7600-ASB B180 Remodel"]
[null,null,null,null,null,null,"GR00744","[LFSC] StClair-US Forest Service-Global Change Interactions in","GR00744-[LFSC] StClair-US Forest Service-Global Change Interactions in","Grant","FD05","Active","2025-04-09T02:03:40.492826+00:00",null,null,null,null,null,null,null,null,"M8889","LVES W260/W282 Remodel","M8889-LVES W260/W282 Remodel"]
[null,null,null,null,null,null,"GR00820","[MSE] Caldarella-Univ of Kansas-Initial Efficacy Evaluation of","GR00820-[MSE] Caldarella-Univ of Kansas-Initial Efficacy Evaluation of","Grant","FD05","Active","2025-04-01T02:03:57.526982+00:00",null,null,null,null,null,null,null,null,"M9052","CMPS EV Charging Stations","M9052-CMPS EV Charging Stations"]
[null,null,null,null,null,null,"GR00955","[CMS] Crandall-Carnegie Mellon University-Success: Self-Assessment and U","GR00955-[CMS] Crandall-Carnegie Mellon University-Success: Self-Assessment and U","Grant","FD05","Active","2025-02-16T03:03:27.511022+00:00",null,null,null,null,null,null,null,null,"MARCH","March","MARCH-March"]
[null,null,null,null,null,null,"GR00965","[CMS] Page-FCLTech (Facebook)-Increasing Transparency of Fin","GR00965-[CMS] Page-FCLTech (Facebook)-Increasing Transparency of Fin","Grant","FD05","Active","2025-01-12T03:04:22.247372+00:00",null,null,null,null,null,null,null,null,"MATOE","Multi Art Other","MATOE-Multi Art Other"]
[null,null,null,null,null,null,"GR01089","[CMS] Neilsen-ONR-Hybrid approach to seabed char","GR01089-[CMS] Neilsen-ONR-Hybrid approach to seabed char","Grant","FD05","Active","2025-03-01T03:03:25.44141+00:00",null,null,null,null,null,null,null,null,"ME275","ME Statistics Implementation","ME275-ME Statistics Implementation"]
[null,null,null,null,null,null,"GR01180","[ENG] George-ElectraFly-STTR: Application of Novel Com","GR01180-[ENG] George-ElectraFly-STTR: Application of Novel Com","Grant","FD05","Active","2025-03-06T03:04:07.254647+00:00",null,null,null,null,null,null,null,null,"ME456","ME456","ME456-ME456"]
[null,null,null,null,null,null,"GR01212","[LFSC] Frandsen-NSF-IntBIO: Silk Protein Innovatio","GR01212-[LFSC] Frandsen-NSF-IntBIO: Silk Protein Innovatio","Grant","FD05","Active","2025-03-07T03:03:47.690758+00:00",null,null,null,null,null,null,null,null,"ME572","Design for Additive Mfging","ME572-Design for Additive Mfging"]
[null,null,null,null,null,null,"GR01230","[MSE] Kellems-Utah State Board of Ed-COUGS (Creating Opportunities","GR01230-[MSE] Kellems-Utah State Board of Ed-COUGS (Creating Opportunities","Grant","FD05","Active","2025-02-16T03:03:27.511022+00:00",null,null,null,null,null,null,null,null,"MELPS","Multi Electric Payroll","MELPS-Multi Electric Payroll"]
[null,null,null,null,null,null,"GR01257","[LFSC] Payne-NIH-Diversity Supplement for Alyss","GR01257-[LFSC] Payne-NIH-Diversity Supplement for Alyss","Grant","FD05","Active","2025-01-12T03:04:22.296791+00:00",null,null,null,null,null,null,null,null,"MFCST","Multicam Facilities Student","MFCST-Multicam Facilities Student"]
[null,null,null,null,null,null,"GR01351","[CMS] Christensen-Boston Childrens Hospital-CMG2 as a target for safe and","GR01351-[CMS] Christensen-Boston Childrens Hospital-CMG2 as a target for safe and","Grant","FD05","Active","2025-02-25T03:04:03.371912+00:00",null,null,null,null,null,null,null,null,"MMCCS","Multi Misc Crew Contractor","MMCCS-Multi Misc Crew Contractor"]
[null,null,null,null,null,null,"GR01384","[ENG] Ning-National Renewable Energy Lab-Differentiable Programming for","GR01384-[ENG] Ning-National Renewable Energy Lab-Differentiable Programming for","Grant","FD05","Active","2025-01-12T03:04:22.339521+00:00",null,null,null,null,null,null,null,null,"MPMOE","Multi UPM Other","MPMOE-Multi UPM Other"]
[null,null,null,null,null,null,"GR01405","[ENG] Lundrigan-Riverside Research Institute-Investigating Privacy-Preservi","GR01405-[ENG] Lundrigan-Riverside Research Institute-Investigating Privacy-Preservi","Grant","FD05","Active","2025-04-02T02:04:30.253716+00:00",null,null,null,null,null,null,null,null,"MSJON","Melissa Jones","MSJON-Melissa Jones"]
[null,null,null,null,null,null,"GR01427","[MSE] Flox-Utah Division of Arts and Museums-Native American Curriculum Ini","GR01427-[MSE] Flox-Utah Division of Arts and Museums-Native American Curriculum Ini","Grant","FD05","Active","2025-03-29T02:04:00.025684+00:00",null,null,null,null,null,null,null,null,"MTAFT","Multi Tape FTE","MTAFT-Multi Tape FTE"]
[null,null,null,null,null,null,"GR01478","[LFSC] Hansen-Snow Canyon Therapeutics-Assessment of wogonin products","GR01478-[LFSC] Hansen-Snow Canyon Therapeutics-Assessment of wogonin products","Grant","FD05","Active","2025-02-01T03:04:47.287503+00:00",null,null,null,null,null,null,null,null,"MTRLD","Multi Travel Lodging","MTRLD-Multi Travel Lodging"]
[null,null,null,null,null,null,"GR01499","[ENG] Allen-Pratt and Whitney-Characterizing the Damping and","GR01499-[ENG] Allen-Pratt and Whitney-Characterizing the Damping and","Grant","FD05","Active","2025-01-12T03:04:22.296791+00:00",null,null,null,null,null,null,null,null,"N1052","ERL Control Boxes","N1052-ERL Control Boxes"]
[null,null,null,null,null,null,"GR01535","[ENG] Rappleye-Lawrence Livermore National Labs-Development of In-Situ Chlorin","GR01535-[ENG] Rappleye-Lawrence Livermore National Labs-Development of In-Situ Chlorin","Grant","FD05","Active","2025-03-05T16:04:23.03584+00:00",null,null,null,null,null,null,null,null,"N1634","PPCH Conf Rm","N1634-PPCH Conf Rm"]
[null,null,null,null,null,null,"GR01572","[CMS] Anderson-Univ of Iowa-Protecting Teacher's Voices: I","GR01572-[CMS] Anderson-Univ of Iowa-Protecting Teacher's Voices: I","Grant","FD05","Active","2025-01-12T03:04:22.392553+00:00",null,null,null,null,null,null,null,null,"N2555","WSC 1941/1943 Break Room","N2555-WSC 1941/1943 Break Room"]
[null,null,null,null,null,null,"GR01592","[LFSC] Pang-Western Dairy Center-Rapid determination of lactose","GR01592-[LFSC] Pang-Western Dairy Center-Rapid determination of lactose","Grant","FD05","Active","2025-03-06T03:04:09.120458+00:00",null,null,null,null,null,null,null,null,"N3518","BRMB 365 Remodel","N3518-BRMB 365 Remodel"]
[null,null,null,null,null,null,"GR01622","[CMS] Dearden-NSF 2403998-Probing Molecular Folding and Unfolding Rates","GR01622-[CMS] Dearden-NSF 2403998-Probing Molecular Folding and Unfolding Rates","Grant","FD05","Active","2025-01-12T03:04:22.392553+00:00",null,null,null,null,null,null,null,null,"N4464","WSC1351 Remodel","N4464-WSC1351 Remodel"]
[null,null,null,null,null,null,"GR01631","[CMS] Hart-DOE KCNSC PO N000523044-Trace Elements in Cluster Expansions","GR01631-[CMS] Hart-DOE KCNSC PO N000523044-Trace Elements in Cluster Expansions","Grant","FD05","Active","2025-03-07T03:03:47.690758+00:00",null,null,null,null,null,null,null,null,"N4670","MSRB 250 Ceiling Replacement","N4670-MSRB 250 Ceiling Replacement"]
[null,null,null,null,null,null,"GR01650","[CMS] Castle-DHHS NIH 2R15GM114789-03-Synthesizing Bioactive Peptides","GR01650-[CMS] Castle-DHHS NIH 2R15GM114789-03-Synthesizing Bioactive Peptides","Grant","FD05","Active","2025-01-12T03:04:22.392553+00:00",null,null,null,null,null,null,null,null,"N4995","ITB 3018 Remodel","N4995-ITB 3018 Remodel"]
[null,null,null,null,null,null,"GR01676","[LFSC] Edwards-DHHS NIH 2R15DA049260-02A1-Ventral Tegmental Area GABA Neurons","GR01676-[LFSC] Edwards-DHHS NIH 2R15DA049260-02A1-Ventral Tegmental Area GABA Neurons","Grant","FD05","Active","2025-01-12T03:04:22.392553+00:00",null,null,null,null,null,null,null,null,"N6046","SAB Field Camera Poles","N6046-SAB Field Camera Poles"]
[null,null,null,null,null,null,"GR01712","[LFSC] AW00494 Subaward 23-0602-University of Washington","GR01712-[LFSC] AW00494 Subaward 23-0602-University of Washington","Grant","FD05","Active","2025-04-09T02:03:40.492826+00:00",null,null,null,null,null,null,null,null,"N7187","TNRB 663 TV & Outlet","N7187-TNRB 663 TV & Outlet"]
[null,null,null,null,null,null,"GR01755","[CMS] Sandberg-DOE-Advanced Imaging of intergranular strain dynamics-SC0022133","GR01755-[CMS] Sandberg-DOE-Advanced Imaging of intergranular strain dynamics-SC0022133","Grant","FD05","Active","2025-04-11T02:03:42.61164+00:00",null,null,null,null,null,null,null,null,"ND194","NDFS 194","ND194-NDFS 194"]
[null,null,null,null,null,null,"GR01778","[CMS] Peterson-NSF 2405224-REU-Designing a Teacher Learning Sequence for Building on Mathematical Opportunities in Student Thinking (MOSTs)","GR01778-[CMS] Peterson-NSF 2405224-REU-Designing a Teacher Learning Sequence for Building on Mathematical Opportunities in Student Thinking (MOSTs)","Grant","FD05","Active","2025-03-21T02:04:04.659901+00:00",null,null,null,null,null,null,null,null,"ND435","NDFS 435","ND435-NDFS 435"]
[null,null,null,null,null,null,"GR01793","[ENG ] Nelson-WMO-GEOGLOWS Implementation: Hispaniola, Cuba, Jamaica, Trinidad and Tobago in the framework of HydroSOS","GR01793-[ENG ] Nelson-WMO-GEOGLOWS Implementation: Hispaniola, Cuba, Jamaica, Trinidad and Tobago in the framework of HydroSOS","Grant","FD05","Active","2025-04-02T02:04:30.253716+00:00",null,null,null,null,null,null,null,null,"ND631","NDFS 631R","ND631-NDFS 631R"]
[null,null,null,null,null,null,"GR01814","[ENG ] Miles-GE PO 401218063-Modeling of Friction Welding of Next Generation Super Alloys using Improved Flow Stress Data","GR01814-[ENG ] Miles-GE PO 401218063-Modeling of Friction Welding of Next Generation Super Alloys using Improved Flow Stress Data","Grant","FD05","Active","2025-03-14T02:03:41.433601+00:00",null,null,null,null,null,null,null,null,"NSRES","LSND Stokes, Nathan - Research","NSRES-LSND Stokes, Nathan - Research"]
[null,null,null,null,null,null,"GR02038","[ENG] Warnick-HiFunda/Army-Electromagnetic Protection","GR02038-[ENG] Warnick-HiFunda/Army-Electromagnetic Protection","Grant","FD05","Active","2025-02-20T03:04:06.036491+00:00",null,null,null,null,null,null,null,null,"P0702","Sprinkler Sprvsr/Watermaster","P0702-Sprinkler Sprvsr/Watermaster"]
[null,null,null,null,null,null,"GR02060","[ENG] Miles-GEResearch-Friction Welding PO 401223610","GR02060-[ENG] Miles-GEResearch-Friction Welding PO 401223610","Grant","FD05","Active","2025-03-19T02:04:04.920913+00:00",null,null,null,null,null,null,null,null,"P0806","Waste Removal Specialist","P0806-Waste Removal Specialist"]
[null,null,null,null,null,null,"PJ000000010","[AVP] Planar AWG  Circuits","PJ000000010-[AVP] Planar AWG  Circuits","Project","FD03","Active","2025-01-23T03:04:39.611235+00:00",null,null,null,null,null,null,null,null,"P0913","Gardening Specialist - H","P0913-Gardening Specialist - H"]
[null,null,null,null,null,null,"PJ000000021","[ARTS] Zakhir Hussein & Jayanthi Kuma","PJ000000021-[ARTS] Zakhir Hussein & Jayanthi Kuma","Project","FD02","Active","2025-01-12T03:04:20.913937+00:00",null,null,null,null,null,null,null,null,"P1206","Manufacturing Shop","P1206-Manufacturing Shop"]
[null,null,null,null,null,null,"PJ000000047","[AVP] Akedah (The Binding)","PJ000000047-[AVP] Akedah (The Binding)","Project","FD03","Active","2025-01-12T03:04:20.913937+00:00",null,null,null,null,null,null,null,null,"P2401","Carpenter Projects Lead","P2401-Carpenter Projects Lead"]
[null,null,null,null,null,null,"PJ000000064","[AVP] Nursing Video/Tubes","PJ000000064-[AVP] Nursing Video/Tubes","Project","FD03","Active","2025-01-12T03:04:21.010112+00:00",null,null,null,null,null,null,null,null,"P2418","Carpenter Projects 6","P2418-Carpenter Projects 6"]
[null,null,null,null,null,null,"PJ000000093","[ARTS] BRAVO! Jazz at Lincoln Center","PJ000000093-[ARTS] BRAVO! Jazz at Lincoln Center","Project","FD02","Active","2025-01-12T03:04:20.913937+00:00",null,null,null,null,null,null,null,null,"P3300","Electrical Shop Management","P3300-Electrical Shop Management"]
[null,null,null,null,null,null,"PJ000000123","[ARTS] Rosencrantz & Guildenstern are","PJ000000123-[ARTS] Rosencrantz & Guildenstern are","Project","FD02","Active","2025-01-12T03:04:20.913937+00:00",null,null,null,null,null,null,null,null,"PAQOA","Acquisitions Promo-On-air","PAQOA-Acquisitions Promo-On-air"]
[null,null,null,null,null,null,"PJ000000140","[ARTS] Winter-Theatre Ballet","PJ000000140-[ARTS] Winter-Theatre Ballet","Project","FD02","Active","2025-01-12T03:04:20.913937+00:00",null,null,null,null,null,null,null,null,"PC056","Cust Area 5 SFH 3","PC056-Cust Area 5 SFH 3"]
[null,null,null,null,null,null,"PJ000000165","[ARTS] For the Strenght of Youth","PJ000000165-[ARTS] For the Strenght of Youth","Project","FD02","Active","2025-01-12T03:04:21.010112+00:00",null,null,null,null,null,null,null,null,"PC252","Cust Area 25 RB 1","PC252-Cust Area 25 RB 1"]
[null,null,null,null,null,null,"PJ000000177","[ARTS] New Student Orientation","PJ000000177-[ARTS] New Student Orientation","Project","FD02","Active","2025-01-12T03:04:21.010112+00:00",null,null,null,null,null,null,null,null,"PC402","Cust Area 40 JSB","PC402-Cust Area 40 JSB"]
[null,null,null,null,null,null,"PJ000000194","[ARTS] Dance Classroom Video Recordin","PJ000000194-[ARTS] Dance Classroom Video Recordin","Project","FD02","Active","2025-01-12T03:04:21.010112+00:00",null,null,null,null,null,null,null,null,"PC653","Cust Area 65 HBLL 2","PC653-Cust Area 65 HBLL 2"]
[null,null,null,null,null,null,"PJ000000220","[ARTS] Fall-Wind Symphony","PJ000000220-[ARTS] Fall-Wind Symphony","Project","FD02","Active","2025-01-12T03:04:21.010112+00:00",null,null,null,null,null,null,null,null,"PCALO","Presidents Council Allocations","PCALO-Presidents Council Allocations"]
[null,null,null,null,null,null,"PJ000000253","[ARTS] Winter-WINTER Guest Artists","PJ000000253-[ARTS] Winter-WINTER Guest Artists","Project","FD02","Active","2025-01-12T03:04:20.913937+00:00",null,null,null,null,null,null,null,null,"PD502","Electrical Engineering","PD502-Electrical Engineering"]
[null,null,null,null,null,null,"PJ000000270","[ARTS] Winter-Tangent Percussion Quartet","PJ000000270-[ARTS] Winter-Tangent Percussion Quartet","Project","FD02","Active","2025-01-12T03:04:20.913937+00:00",null,null,null,null,null,null,null,null,"PEEFY","EFY","PEEFY-EFY"]
[null,null,null,null,null,null,"PJ000000292","[ARTS] Winter-BYU Chamber Orchestra","PJ000000292-[ARTS] Winter-BYU Chamber Orchestra","Project","FD02","Active","2025-01-12T03:04:20.913937+00:00",null,null,null,null,null,null,null,null,"PGXSU","Post Graphics Supplies","PGXSU-Post Graphics Supplies"]
[null,null,null,null,null,null,"PJ000000308","[ADM] SPCL-HZRD Material Tsting-CMPS","PJ000000308-[ADM] SPCL-HZRD Material Tsting-CMPS","Project","FD06","Active","2025-01-31T03:05:04.561931+00:00",null,null,null,null,null,null,null,null,"PH778","xHBLL 1750, Steelcase Desks","PH778-xHBLL 1750, Steelcase Desks"]
[null,null,null,null,null,null,"PJ000000329","[ADM] CREATE WALKWAY BTWN 121,123-RB","PJ000000329-[ADM] CREATE WALKWAY BTWN 121,123-RB","Project","FD06","Active","2025-01-31T03:05:04.561931+00:00",null,null,null,null,null,null,null,null,"PH837","LVES W154 and W165","PH837-LVES W154 and W165"]
[null,null,null,null,null,null,"PJ000000344","[ADM] Carpet-BRWB","PJ000000344-[ADM] Carpet-BRWB","Project","FD06","Active","2025-01-31T03:05:04.561931+00:00",null,null,null,null,null,null,null,null,"PHSOA","Hello Sunday Promo-On-air","PHSOA-Hello Sunday Promo-On-air"]
[null,null,null,null,null,null,"PJ000000384","[ADM] RMDL D240 - ASB","PJ000000384-[ADM] RMDL D240 - ASB","Project","FD06","Active","2025-01-31T03:05:04.561931+00:00",null,null,null,null,null,null,null,null,"PRO25","Promise Scholarship 2025","PRO25-Promise Scholarship 2025"]
[null,null,null,null,null,null,"PJ000000405","[ADM] 4 New Study Rooms - HBLL","PJ000000405-[ADM] 4 New Study Rooms - HBLL","Project","FD06","Active","2025-01-31T03:05:04.561931+00:00",null,null,null,null,null,null,null,null,"PSKOA","Kind of SparkPromo-On-air","PSKOA-Kind of SparkPromo-On-air"]
[null,null,null,null,null,null,"PJ000000422","[ADM] Furniture, Offices - EB","PJ000000422-[ADM] Furniture, Offices - EB","Project","FD06","Active","2025-01-31T03:05:06.057765+00:00",null,null,null,null,null,null,null,null,"PTF06","Developer Tools","PTF06-Developer Tools"]
[null,null,null,null,null,null,"PJ000000432","[ADM] Automated Bathroom Fixtures-EB","PJ000000432-[ADM] Automated Bathroom Fixtures-EB","Project","FD06","Active","2025-01-31T03:05:04.561931+00:00",null,null,null,null,null,null,null,null,"PTHOA","Holiday Dram Promo-On-air","PTHOA-Holiday Dram Promo-On-air"]
[null,null,null,null,null,null,"PJ000000459","[ADM] RMDL COMP LAB 226-NICB","PJ000000459-[ADM] RMDL COMP LAB 226-NICB","Project","FD06","Active","2025-01-31T03:05:06.057765+00:00",null,null,null,null,null,null,null,null,"RDESC","DeSchweinitz, Rebecca","RDESC-DeSchweinitz, Rebecca"]
[null,null,null,null,null,null,"PJ000000476","[ADM] Conference Booths 380-JRCB","PJ000000476-[ADM] Conference Booths 380-JRCB","Project","FD06","Active","2025-01-31T03:05:06.057765+00:00",null,null,null,null,null,null,null,null,"RGEOE","Radio General Other","RGEOE-Radio General Other"]
[null,null,null,null,null,null,"PJ000000508","[ADM] OFFICE UPGRADES 1028-ITB","PJ000000508-[ADM] OFFICE UPGRADES 1028-ITB","Project","FD06","Active","2025-01-31T03:05:06.057765+00:00",null,null,null,null,null,null,null,null,"RRS01","Richard Sudweeks Expenses","RRS01-Richard Sudweeks Expenses"]
[null,null,null,null,null,null,"PJ000000535","[ATH] New Tables BlueZone  W180-LVES","PJ000000535-[ATH] New Tables BlueZone  W180-LVES","Project","FD02","Active","2025-01-31T03:05:06.057765+00:00",null,null,null,null,null,null,null,null,"SARES","LSND Skaggs Award Research","SARES-LSND Skaggs Award Research"]
[null,null,null,null,null,null,"PJ000000552","[ATH] ENCLOSE AREA E180 & E190-LVES","PJ000000552-[ATH] ENCLOSE AREA E180 & E190-LVES","Project","FD02","Active","2025-01-31T03:05:04.561931+00:00",null,null,null,null,null,null,null,null,"SCHOT","Sch of Tech","SCHOT-Sch of Tech"]
[null,null,null,null,null,null,"PJ000000559","[STLF] DSGN TMPRY PRKING RIVIERA-CMPS","PJ000000559-[STLF] DSGN TMPRY PRKING RIVIERA-CMPS","Project","FD02","Active","2025-01-31T03:05:04.561931+00:00",null,null,null,null,null,null,null,null,"SECED","Secondary Education Support","SECED-Secondary Education Support"]
[null,null,null,null,null,null,"PJ000000589","[PFAC] Diving Harness in Ceiling - RB","PJ000000589-[PFAC] Diving Harness in Ceiling - RB","Project","FD06","Active","2025-04-02T02:04:28.356935+00:00",null,null,null,null,null,null,null,null,"SL000","School Leadership","SL000-School Leadership"]
[null,null,null,null,null,null,"PJ000000606","[ADM] NEW STOREFRONT&WALLS W121-TNRB","PJ000000606-[ADM] NEW STOREFRONT&WALLS W121-TNRB","Project","FD06","Active","2025-01-31T03:05:06.23028+00:00",null,null,null,null,null,null,null,null,"SPANW","Spain women","SPANW-Spain women"]
[null,null,null,null,null,null,"PJ000000631","[ADM] Seal Concrete Gaps Seats-MLRP","PJ000000631-[ADM] Seal Concrete Gaps Seats-MLRP","Project","FD06","Active","2025-01-31T03:05:06.23028+00:00",null,null,null,null,null,null,null,null,"STXAK","State Tax - Alaska","STXAK-State Tax - Alaska"]
[null,null,null,null,null,null,"PJ000000665","[ADM] CONVERT OFFICE 123J-SAB","PJ000000665-[ADM] CONVERT OFFICE 123J-SAB","Project","FD06","Active","2025-01-31T03:05:06.23028+00:00",null,null,null,null,null,null,null,null,"STXNY","State Tax - NY","STXNY-State Tax - NY"]
[null,null,null,null,null,null,"PJ000000686","[ADM] INSTALL WATER TANK - B66","PJ000000686-[ADM] INSTALL WATER TANK - B66","Project","FD06","Active","2025-01-31T03:05:06.23028+00:00",null,null,null,null,null,null,null,null,"SV003","Campus Safety","SV003-Campus Safety"]
[null,null,null,null,null,null,"PJ000000703","[ADM] PARTITION IN ROOM 425 - CB","PJ000000703-[ADM] PARTITION IN ROOM 425 - CB","Project","FD06","Active","2025-01-31T03:05:06.23028+00:00",null,null,null,null,null,null,null,null,"SV022","Student Life Services","SV022-Student Life Services"]
[null,null,null,null,null,null,"PJ000000719","[ADM] LOCKER RM ENGNRG CNTRCT-MC","PJ000000719-[ADM] LOCKER RM ENGNRG CNTRCT-MC","Project","FD06","Active","2025-01-31T03:05:06.057765+00:00",null,null,null,null,null,null,null,null,"SV041","Data Security & Backup","SV041-Data Security & Backup"]
[null,null,null,null,null,null,"PJ000000740","[AVP] Poetic Dreamspace","PJ000000740-[AVP] Poetic Dreamspace","Project","FD03","Active","2025-01-12T03:04:20.913937+00:00",null,null,null,null,null,null,null,null,"SV074","Records Management","SV074-Records Management"]
[null,null,null,null,null,null,"PJ000000754","[AVP] Percussion Techniques -ONC","PJ000000754-[AVP] Percussion Techniques -ONC","Project","FD03","Active","2025-01-12T03:04:21.100378+00:00",null,null,null,null,null,null,null,null,"TAFEL","Department TA Fellowship","TAFEL-Department TA Fellowship"]
[null,null,null,null,null,null,"PJ000000777","[AVP] L 2017-021 Moxtek Assignment","PJ000000777-[AVP] L 2017-021 Moxtek Assignment","Project","FD03","Active","2025-01-23T03:04:39.611235+00:00",null,null,null,null,null,null,null,null,"TRLIU","Tracy Liu","TRLIU-Tracy Liu"]
[null,null,null,null,null,null,"PJ000000816","[AVP] Fitness for Life","PJ000000816-[AVP] Fitness for Life","Project","FD03","Active","2025-01-12T03:04:20.913937+00:00",null,null,null,null,null,null,null,null,"UTALO","Utilities Allocations","UTALO-Utilities Allocations"]
[null,null,null,null,null,null,"PJ000000827","[AVP] Inclusive Pedagogy IG OnCampus","PJ000000827-[AVP] Inclusive Pedagogy IG OnCampus","Project","FD03","Active","2025-01-12T03:04:20.913937+00:00",null,null,null,null,null,null,null,null,"VMCDS","Visa/Mastercard/Discover cards","VMCDS-Visa/Mastercard/Discover cards"]
[null,null,null,null,null,null,"PJ000000854","[ADM] Design Roof Replace-SAB","PJ000000854-[ADM] Design Roof Replace-SAB","Project","FD06","Active","2025-01-31T03:05:06.23028+00:00",null,null,null,null,null,null,null,null,"Y1203","Project BYU-1203","Y1203-Project BYU-1203"]
[null,null,null,null,null,null,"PJ000000871","[AVP] Ancestors, Season I","PJ000000871-[AVP] Ancestors, Season I","Project","FD03","Active","2025-01-12T03:04:20.913937+00:00",null,null,null,null,null,null,null,null,"YREND","Year-end","YREND-Year-end"]
[null,null,null,null,null,null,"PJ000000899","[AVP] The Surface","PJ000000899-[AVP] The Surface","Project","FD03","Active","2025-01-12T03:04:20.913937+00:00",null,null,null,null,null,null,null,null,"Z0504","Z05 Gallery Guides","Z0504-Z05 Gallery Guides"]
[null,null,null,null,null,null,"PJ000000908","[AVP] TALL","PJ000000908-[AVP] TALL","Project","FD03","Active","2025-01-12T03:04:20.913937+00:00",null,null,null,null,null,null,null,null,"Z0624","Z06 Guest/VA Lecturers","Z0624-Z06 Guest/VA Lecturers"]
[null,null,null,null,null,null,"PJ000000947","[AVP] Italian WebCAPE","PJ000000947-[AVP] Italian WebCAPE","Project","FD03","Active","2025-01-12T03:04:21.010112+00:00",null,null,null,null,null,null,null,null,"Z1123","Z11 Symposium","Z1123-Z11 Symposium"]
[null,null,null,null,null,null,"PJ000000954","[AVP] Biblical Hebrew Tool ONC","PJ000000954-[AVP] Biblical Hebrew Tool ONC","Project","FD03","Active","2025-01-12T03:04:21.010112+00:00",null,null,null,null,null,null,null,null,"Z1154","Z11 Education Special Programs","Z1154-Z11 Education Special Programs"]
[null,null,null,null,null,null,"PJ000000984","[AVP] Mild Violence","PJ000000984-[AVP] Mild Violence","Project","FD03","Active","2025-01-12T03:04:21.100378+00:00",null,null,null,null,null,null,null,null,"Z1556","Z15 Educ Campus/Public Events","Z1556-Z15 Educ Campus/Public Events"]
[null,null,null,null,null,null,"PJ000001001","[ADM] RPLC-Floor 2-3 VAV boxes-JRCB","PJ000001001-[ADM] RPLC-Floor 2-3 VAV boxes-JRCB","Project","FD06","Active","2025-01-31T03:05:06.057765+00:00",null,null,null,null,null,null,null,null,"Z1734","Z17 Painting","Z1734-Z17 Painting"]
[null,null,null,null,null,null,"PJ000001026","[AVP] Ayamel@BYU","PJ000001026-[AVP] Ayamel@BYU","Project","FD03","Active","2025-01-12T03:04:21.100378+00:00"]
[null,null,null,null,null,null,"PJ000001038","[AVP] WCr:  1830 BofM Apple","PJ000001038-[AVP] WCr:  1830 BofM Apple","Project","FD03","Active","2025-01-12T03:04:21.010112+00:00"]
[null,null,null,null,null,null,"PJ000001077","[AVP] Spanish & Portuguese","PJ000001077-[AVP] Spanish & Portuguese","Project","FD03","Active","2025-01-12T03:04:21.010112+00:00"]
[null,null,null,null,null,null,"PJ000001098","[AVP] Michael's Superheroes","PJ000001098-[AVP] Michael's Superheroes","Project","FD03","Active","2025-01-12T03:04:21.176512+00:00"]
[null,null,null,null,null,null,"PJ000001114","[AVP] D2012-026 Torque Modulation FS","PJ000001114-[AVP] D2012-026 Torque Modulation FS","Project","FD03","Active","2025-01-23T03:04:39.611235+00:00"]
[null,null,null,null,null,null,"PJ000001135","[ADM] RMDL 4TH FL PHYSICS LABS-ESC","PJ000001135-[ADM] RMDL 4TH FL PHYSICS LABS-ESC","Project","FD06","Active","2025-01-31T03:05:06.23028+00:00"]
[null,null,null,null,null,null,"PJ000001149","[ADM] WATER SOFTENER RPLC - JFSB","PJ000001149-[ADM] WATER SOFTENER RPLC - JFSB","Project","FD06","Active","2025-01-31T03:05:06.23028+00:00"]
[null,null,null,null,null,null,"PJ000001168","[ADM] RPLC-Padded seating-MC","PJ000001168-[ADM] RPLC-Padded seating-MC","Project","FD06","Active","2025-01-31T03:05:06.370671+00:00"]
[null,null,null,null,null,null,"PJ000001189","[ADM] ERHX-3 HEAT EXCHNGR-MOA","PJ000001189-[ADM] ERHX-3 HEAT EXCHNGR-MOA","Project","FD06","Active","2025-01-31T03:05:06.057765+00:00"]
[null,null,null,null,null,null,"PJ000001221","[ADM] Ceilings with VAV RPLC-JRCB","PJ000001221-[ADM] Ceilings with VAV RPLC-JRCB","Project","FD06","Active","2025-01-31T03:05:06.370671+00:00"]
[null,null,null,null,null,null,"PJ000001248","[ADM] MTC CNA Facilities 100%BYU","PJ000001248-[ADM] MTC CNA Facilities 100%BYU","Project","FD06","Active","2025-01-12T03:04:19.485198+00:00"]
[null,null,null,null,null,null,"PJ000001265","[ADM] RPLC CTRL for Heat&AC Unit-UPB","PJ000001265-[ADM] RPLC CTRL for Heat&AC Unit-UPB","Project","FD06","Active","2025-01-31T03:05:06.057765+00:00"]
[null,null,null,null,null,null,"PJ000001293","[ADM] JRMC CNA PARENT ACCT","PJ000001293-[ADM] JRMC CNA PARENT ACCT","Project","FD06","Active","2025-01-12T03:04:19.643495+00:00"]
[null,null,null,null,null,null,"PJ000001302","[ADM] Hot Water Pumps-JRCB","PJ000001302-[ADM] Hot Water Pumps-JRCB","Project","FD06","Active","2025-01-31T03:05:06.057765+00:00"]
[null,null,null,null,null,null,"PJ000001319","[ADM] RPLC-Water System-CMPS","PJ000001319-[ADM] RPLC-Water System-CMPS","Project","FD06","Active","2025-01-31T03:05:06.23028+00:00"]
[null,null,null,null,null,null,"PJ000001344","[ADM] RPLC-Air Compressors-ESC","PJ000001344-[ADM] RPLC-Air Compressors-ESC","Project","FD06","Active","2025-01-31T03:05:06.370671+00:00"]
[null,null,null,null,null,null,"PJ000001378","[ADM] FRNTR/FRNSHNG STDNT CMNS-JRMC","PJ000001378-[ADM] FRNTR/FRNSHNG STDNT CMNS-JRMC","Project","FD06","Active","2025-01-12T03:04:19.643495+00:00"]
[null,null,null,null,null,null,"PJ000001395","[ADM] Batteries for Fire Alarm-CMPS","PJ000001395-[ADM] Batteries for Fire Alarm-CMPS","Project","FD06","Active","2025-01-31T03:05:06.370671+00:00"]
[null,null,null,null,null,null,"PJ000001432","[LFSC] This is The Place Exhibit-MLBM","PJ000001432-[LFSC] This is The Place Exhibit-MLBM","Project","FD06","Active","2025-01-31T03:05:06.521058+00:00"]
[null,null,null,null,null,null,"PJ000001444","[ADM] ROOF, SINGLE PLY EPDM-BRMB","PJ000001444-[ADM] ROOF, SINGLE PLY EPDM-BRMB","Project","FD06","Active","2025-01-31T03:05:06.521058+00:00"]
[null,null,null,null,null,null,"PJ000001461","[ADM] HBLL LIBRARY RECORDS","PJ000001461-[ADM] HBLL LIBRARY RECORDS","Project","FD06","Active","2025-01-31T03:05:06.521058+00:00"]
[null,null,null,null,null,null,"PJ000001483","[AVP] D2014-020 Built-up Shapes","PJ000001483-[AVP] D2014-020 Built-up Shapes","Project","FD03","Active","2025-01-23T03:04:39.611235+00:00"]
[null,null,null,null,null,null,"PJ000001520","[OIT] 2022 ITI SOC Improvement","PJ000001520-[OIT] 2022 ITI SOC Improvement","Project","FD06","Active","2025-01-12T03:04:19.643495+00:00"]
[null,null,null,null,null,null,"PJ000001541","[OIT] 2023 ITD-CES INITIATIVE","PJ000001541-[OIT] 2023 ITD-CES INITIATIVE","Project","FD06","Active","2025-02-04T03:04:49.546065+00:00"]
[null,null,null,null,null,null,"PJ000001558","[AVP] D2014-100 Multi-stage Stent","PJ000001558-[AVP] D2014-100 Multi-stage Stent","Project","FD03","Active","2025-01-23T03:04:39.611235+00:00"]
[null,null,null,null,null,null,"PJ000001571","[ADM] RPLC-Ann. Ext. Light-CMPS","PJ000001571-[ADM] RPLC-Ann. Ext. Light-CMPS","Project","FD06","Active","2025-01-31T03:05:06.521058+00:00"]
[null,null,null,null,null,null,"PJ000001595","[OIT] 2023 OIT AV Events","PJ000001595-[OIT] 2023 OIT AV Events","Project","FD06","Active","2025-03-15T02:03:41.606114+00:00"]
[null,null,null,null,null,null,"PJ000001626","[AVP] D2009-81 PCR Assay, Botulism","PJ000001626-[AVP] D2009-81 PCR Assay, Botulism","Project","FD03","Active","2025-01-23T03:04:39.611235+00:00"]
[null,null,null,null,null,null,"PJ000001657","[ADM] UPS SERVICE CONTRACT-CMPS","PJ000001657-[ADM] UPS SERVICE CONTRACT-CMPS","Project","FD06","Active","2025-01-31T03:05:06.370671+00:00"]
[null,null,null,null,null,null,"PJ000001685","[AVP] D2017 031 Leaky Mode Light","PJ000001685-[AVP] D2017 031 Leaky Mode Light","Project","FD03","Active","2025-01-23T03:04:39.611235+00:00"]
[null,null,null,null,null,null,"PJ000001702","[ADM] BUILDING CONTROLS-CMPS","PJ000001702-[ADM] BUILDING CONTROLS-CMPS","Project","FD06","Active","2025-01-31T03:05:06.370671+00:00"]
[null,null,null,null,null,null,"PJ000001733","[MSE] Polynesian Conference","PJ000001733-[MSE] Polynesian Conference","Project","FD03","Active","2025-01-12T03:04:21.176512+00:00"]
[null,null,null,null,null,null,"PJ000001739","[MSB] MBA Finance Retreat EVEN Yrs","PJ000001739-[MSB] MBA Finance Retreat EVEN Yrs","Project","FD03","Active","2025-01-12T03:04:21.100378+00:00"]
[null,null,null,null,null,null,"PJ000001756","[AVP] XD2012-014 Solid State C Fuses","PJ000001756-[AVP] XD2012-014 Solid State C Fuses","Project","FD03","Active","2025-01-23T03:04:39.611235+00:00"]
[null,null,null,null,null,null,"PJ000001784","[ADM] SHELVING SRVC CONTRACT-CMPS","PJ000001784-[ADM] SHELVING SRVC CONTRACT-CMPS","Project","FD06","Active","2025-01-31T03:05:06.521058+00:00"]
[null,null,null,null,null,null,"PJ000001815","[BYUB] Grace Notes Season 4","PJ000001815-[BYUB] Grace Notes Season 4","Project","FD02","Active","2025-01-31T03:05:06.370671+00:00"]
[null,null,null,null,null,null,"PJ000001832","[AVP] D2015-065 Table app Arch Srvy","PJ000001832-[AVP] D2015-065 Table app Arch Srvy","Project","FD03","Active","2025-01-23T03:04:39.611235+00:00"]
[null,null,null,null,null,null,"PJ000001856","[ADM] ANNUAL CONCRETE GRINDING-CMPS","PJ000001856-[ADM] ANNUAL CONCRETE GRINDING-CMPS","Project","FD06","Active","2025-01-31T03:05:06.370671+00:00"]
[null,null,null,null,null,null,"PJ000001869","[BYUB] Sports Nation 2022","PJ000001869-[BYUB] Sports Nation 2022","Project","FD02","Active","2025-02-19T03:04:25.347349+00:00"]
[null,null,null,null,null,null,"PJ000001890","[AVP] D2016-023 Feature Descriptor","PJ000001890-[AVP] D2016-023 Feature Descriptor","Project","FD03","Active","2025-01-23T03:04:41.444459+00:00"]
[null,null,null,null,null,null,"PJ000001928","[ADM] IMPR-Dmpster Enclosre 3/5-CMPS","PJ000001928-[ADM] IMPR-Dmpster Enclosre 3/5-CMPS","Project","FD06","Active","2025-01-31T03:05:06.370671+00:00"]
[null,null,null,null,null,null,"PJ000001945","[BYUB] Sports Nation 2023","PJ000001945-[BYUB] Sports Nation 2023","Project","FD02","Active","2025-02-19T03:04:25.347349+00:00"]
[null,null,null,null,null,null,"PJ000001966","[AVP] D2002-06 Noise Suppression","PJ000001966-[AVP] D2002-06 Noise Suppression","Project","FD03","Active","2025-01-23T03:04:41.444459+00:00"]
[null,null,null,null,null,null,"PJ000001979","[AVP] L268 Sensable Technologies","PJ000001979-[AVP] L268 Sensable Technologies","Project","FD03","Active","2025-01-23T03:04:39.611235+00:00"]
[null,null,null,null,null,null,"PJ000002003","[ADM] IMPR-C194 RMDL Labs-BNSN","PJ000002003-[ADM] IMPR-C194 RMDL Labs-BNSN","Project","FD06","Active","2025-01-31T03:05:06.521058+00:00"]
[null,null,null,null,null,null,"PJ000002020","[ADM] Rooftop Anchoring - TNRB","PJ000002020-[ADM] Rooftop Anchoring - TNRB","Project","FD06","Active","2025-01-31T03:05:06.521058+00:00"]
[null,null,null,null,null,null,"PJ000002051","[ADM] RCNFGR EXSTNG WRKSTN 451B-HCEB","PJ000002051-[ADM] RCNFGR EXSTNG WRKSTN 451B-HCEB","Project","FD06","Active","2025-01-31T03:05:06.521058+00:00"]
[null,null,null,null,null,null,"PJ000002080","[BYUB] Coordinators Corner 2023","PJ000002080-[BYUB] Coordinators Corner 2023","Project","FD02","Active","2025-02-19T03:04:25.347349+00:00"]
[null,null,null,null,null,null,"PJ000002101","[AVP] WCr: Original Txt BofM CashNet","PJ000002101-[AVP] WCr: Original Txt BofM CashNet","Project","FD03","Active","2025-01-12T03:04:21.176512+00:00"]
[null,null,null,null,null,null,"PJ000002130","[ADM] RMDL S221A-ESC","PJ000002130-[ADM] RMDL S221A-ESC","Project","FD06","Active","2025-01-31T03:05:06.521058+00:00"]
[null,null,null,null,null,null,"PJ000002141","[ADM] RPLC-Door Access Devices-CMPS","PJ000002141-[ADM] RPLC-Door Access Devices-CMPS","Project","FD06","Active","2025-01-31T03:05:06.645118+00:00"]
[null,null,null,null,null,null,"PJ000002158","[ADM] Central Heaing Plant Planning","PJ000002158-[ADM] Central Heaing Plant Planning","Project","FD06","Active","2025-01-31T03:05:06.521058+00:00"]
[null,null,null,null,null,null,"PJ000002186","[ADM] TABLE FOR CONFERENCE RM-HBLL","PJ000002186-[ADM] TABLE FOR CONFERENCE RM-HBLL","Project","FD06","Active","2025-01-31T03:05:06.645118+00:00"]
[null,null,null,null,null,null,"PJ000002217","[AVP] Balancing the Cosmos","PJ000002217-[AVP] Balancing the Cosmos","Project","FD03","Active","2025-01-12T03:04:21.100378+00:00"]
[null,null,null,null,null,null,"PJ000002234","[OIT] 2021 ITS Software Maintenance","PJ000002234-[OIT] 2021 ITS Software Maintenance","Project","FD06","Active","2025-01-12T03:04:20.257497+00:00"]
[null,null,null,null,null,null,"PJ000002258","[ADM] RMV CEILING&PANELLING LV4-HBLL","PJ000002258-[ADM] RMV CEILING&PANELLING LV4-HBLL","Project","FD06","Active","2025-01-31T03:05:06.645118+00:00"]
[null,null,null,null,null,null,"PJ000002272","[ADM] 25 CNFRC RM CHAIRS N288-ESC","PJ000002272-[ADM] 25 CNFRC RM CHAIRS N288-ESC","Project","FD06","Active","2025-01-31T03:05:06.645118+00:00"]
[null,null,null,null,null,null,"PJ000002293","[ADM] RTRO 19-Doors Elec Panel-JRMC","PJ000002293-[ADM] RTRO 19-Doors Elec Panel-JRMC","Project","FD06","Active","2025-01-12T03:04:20.257497+00:00"]
[null,null,null,null,null,null,"PJ000002310","[ADM] RMDL Geospatial 2420,2421-HBLL","PJ000002310-[ADM] RMDL Geospatial 2420,2421-HBLL","Project","FD06","Active","2025-01-31T03:05:06.645118+00:00"]
[null,null,null,null,null,null,"PJ000002349","[ADM] RTRO-Cooling Tower Repair-CMPS","PJ000002349-[ADM] RTRO-Cooling Tower Repair-CMPS","Project","FD06","Active","2025-01-31T03:05:06.645118+00:00"]
[null,null,null,null,null,null,"PJ000002371","[ADM] GIS Mapping Supprt Annual-CMPS","PJ000002371-[ADM] GIS Mapping Supprt Annual-CMPS","Project","FD06","Active","2025-01-31T03:05:06.764347+00:00"]
[null,null,null,null,null,null,"PJ000002384","[ADM] DESK & SEATING REPLACMENT-KMBL","PJ000002384-[ADM] DESK & SEATING REPLACMENT-KMBL","Project","FD06","Active","2025-01-31T03:05:06.764347+00:00"]
[null,null,null,null,null,null,"PJ000002404","[BYUB] Come Follow Up S3 (Old Test)","PJ000002404-[BYUB] Come Follow Up S3 (Old Test)","Project","FD02","Active","2025-02-19T03:04:25.347349+00:00"]
[null,null,null,null,null,null,"PJ000002425","[ARTS] MDT Senior Recitals","PJ000002425-[ARTS] MDT Senior Recitals","Project","FD02","Active","2025-01-12T03:04:21.176512+00:00"]
[null,null,null,null,null,null,"PJ000002456","[AVP] Eliza and I","PJ000002456-[AVP] Eliza and I","Project","FD03","Active","2025-01-12T03:04:21.100378+00:00"]
[null,null,null,null,null,null,"PJ000002462","[ADM] UPGR 3FL VAV BOX - HBLL","PJ000002462-[ADM] UPGR 3FL VAV BOX - HBLL","Project","FD06","Active","2025-01-31T03:05:06.764347+00:00"]
[null,null,null,null,null,null,"PJ000002502","[STLF] Building Energy Audit Yr1-WSC","PJ000002502-[STLF] Building Energy Audit Yr1-WSC","Project","FD02","Active","2025-01-31T03:05:06.764347+00:00"]
[null,null,null,null,null,null,"PJ000002508","[ADM] Shelves/Chairs 400B-KMBL","PJ000002508-[ADM] Shelves/Chairs 400B-KMBL","Project","FD06","Active","2025-01-31T03:05:06.764347+00:00"]
[null,null,null,null,null,null,"PJ000002539","[ADM] PF Elevator Contribution-SAB","PJ000002539-[ADM] PF Elevator Contribution-SAB","Project","FD06","Active","2025-01-31T03:05:06.764347+00:00"]
[null,null,null,null,null,null,"PJ000002556","[AVP] L Revitale No Equity 2017-039","PJ000002556-[AVP] L Revitale No Equity 2017-039","Project","FD03","Active","2025-01-23T03:04:39.611235+00:00"]
[null,null,null,null,null,null,"PJ000002585","[BYUB] Womens Volleyball 2021","PJ000002585-[BYUB] Womens Volleyball 2021","Project","FD02","Active","2025-02-19T03:04:25.347349+00:00"]
[null,null,null,null,null,null,"PJ000002598","[ADM] REMODEL D341A & D341 - ASB","PJ000002598-[ADM] REMODEL D341A & D341 - ASB","Project","FD06","Active","2025-01-31T03:05:06.764347+00:00"]
[null,null,null,null,null,null,"PJ000002637","[HCEN] REPLACE BOILER FLUES-SHC","PJ000002637-[HCEN] REPLACE BOILER FLUES-SHC","Project","FD02","Active","2025-01-31T03:05:06.764347+00:00"]
[null,null,null,null,null,null,"PJ000002641","[AVP] Digital Speech","PJ000002641-[AVP] Digital Speech","Project","FD03","Active","2025-01-12T03:04:21.100378+00:00"]
[null,null,null,null,null,null,"PJ000002675","[OIT] 2022 ITI Communication Improve","PJ000002675-[OIT] 2022 ITI Communication Improve","Project","FD06","Active","2025-01-12T03:04:20.368745+00:00"]
[null,null,null,null,null,null,"PJ000002693","[ADM] IMPV-UtilitySupport-ECS1","PJ000002693-[ADM] IMPV-UtilitySupport-ECS1","Project","FD06","Active","2025-01-31T03:05:06.861923+00:00"]
[null,null,null,null,null,null,"PJ000002714","[ADM] LRG MTL LCKNG STRG CABNTS-TNRB","PJ000002714-[ADM] LRG MTL LCKNG STRG CABNTS-TNRB","Project","FD06","Active","2025-01-31T03:05:06.861923+00:00"]
[null,null,null,null,null,null,"PJ000002730","[INVP] VP - St. George - 12/3-4/2021","PJ000002730-[INVP] VP - St. George - 12/3-4/2021","Project","FD03","Active","2025-01-12T03:04:20.473677+00:00"]
[null,null,null,null,null,null,"PJ000002751","[OIT] 2022 ITI SOC Replacement","PJ000002751-[OIT] 2022 ITI SOC Replacement","Project","FD06","Active","2025-01-12T03:04:20.473677+00:00"]
[null,null,null,null,null,null,"PJ000002790","[ADM] Heat & AC Grounds Sheds-CMPS","PJ000002790-[ADM] Heat & AC Grounds Sheds-CMPS","Project","FD06","Active","2025-01-31T03:05:06.861923+00:00"]
[null,null,null,null,null,null,"PJ000002802","[ADM] OTHR 18 Advance Planning JRMC","PJ000002802-[ADM] OTHR 18 Advance Planning JRMC","Project","FD06","Active","2025-01-12T03:04:20.473677+00:00"]
[null,null,null,null,null,null,"PJ000002828","[BYUB] Relative Race Season 9","PJ000002828-[BYUB] Relative Race Season 9","Project","FD02","Active","2025-02-19T03:04:25.347349+00:00"]
[null,null,null,null,null,null,"PJ000002845","[OIT] 2020 ITI IMPR Access 3C","PJ000002845-[OIT] 2020 ITI IMPR Access 3C","Project","FD06","Active","2025-01-12T03:04:20.473677+00:00"]
[null,null,null,null,null,null,"PJ000002877","[ADM] CABLE MANGMNT TRAYS 3361-TMCB","PJ000002877-[ADM] CABLE MANGMNT TRAYS 3361-TMCB","Project","FD06","Active","2025-01-31T03:05:06.861923+00:00"]
[null,null,null,null,null,null,"PJ000002884","[ADM] NW ACCS PRES REESE OFFCE - ASB","PJ000002884-[ADM] NW ACCS PRES REESE OFFCE - ASB","Project","FD06","Active","2025-01-31T03:05:06.935658+00:00"]
[null,null,null,null,null,null,"PJ000002923","[ADM] RM/LAB COMPTR TABLES 235 SNLB","PJ000002923-[ADM] RM/LAB COMPTR TABLES 235 SNLB","Project","FD06","Active","2025-01-31T03:05:06.935658+00:00"]
[null,null,null,null,null,null,"PJ000002932","[ADM] RMDL OFFICE SPACE 2014F -JKB","PJ000002932-[ADM] RMDL OFFICE SPACE 2014F -JKB","Project","FD06","Active","2025-01-31T03:05:06.935658+00:00"]
[null,null,null,null,null,null,"PJ000002960","[ADM] BLD SHLVS&RCNFG LYOT 3064 JFSB","PJ000002960-[ADM] BLD SHLVS&RCNFG LYOT 3064 JFSB","Project","FD06","Active","2025-01-31T03:05:06.861923+00:00"]
[null,null,null,null,null,null,"PJ000002977","[ADM] CHAIR&DSK, PAINT WALL 262-TLRB","PJ000002977-[ADM] CHAIR&DSK, PAINT WALL 262-TLRB","Project","FD06","Active","2025-01-31T03:05:06.935658+00:00"]
[null,null,null,null,null,null,"PJ000003004","[OIT] 2024 ITI CS Replacement","PJ000003004-[OIT] 2024 ITI CS Replacement","Project","FD06","Active","2025-02-04T03:04:49.546065+00:00"]
[null,null,null,null,null,null,"PJ000003014","[OIT] 2024 ITI HSO Replacement","PJ000003014-[OIT] 2024 ITI HSO Replacement","Project","FD06","Active","2025-02-04T03:04:49.546065+00:00"]
[null,null,null,null,null,null,"PJ000003053","[ADM] Elevator 4 -HBLL","PJ000003053-[ADM] Elevator 4 -HBLL","Project","FD06","Active","2025-01-31T03:05:06.935658+00:00"]
[null,null,null,null,null,null,"PJ000003076","[ADM] 2024 CNA OTHER-FANS- JRCB","PJ000003076-[ADM] 2024 CNA OTHER-FANS- JRCB","Project","FD06","Active","2025-01-31T03:05:06.935658+00:00"]
[null,null,null,null,null,null,"PJ000003090","[ADM] Protective Concrete Coat-CMPS","PJ000003090-[ADM] Protective Concrete Coat-CMPS","Project","FD06","Active","2025-01-31T03:05:06.935658+00:00"]
[null,null,null,null,null,null,"PJ000003111","[ADM] Light Fixture Retrofit -CMPS","PJ000003111-[ADM] Light Fixture Retrofit -CMPS","Project","FD06","Active","2025-01-31T03:05:06.935658+00:00"]
[null,null,null,null,null,null,"PJ000003127","[ADM] Interior Light Fixture -KMBL","PJ000003127-[ADM] Interior Light Fixture -KMBL","Project","FD06","Active","2025-01-31T03:05:06.935658+00:00"]
[null,null,null,null,null,null,"PJ000003144","[ADM] Chairs -ESC","PJ000003144-[ADM] Chairs -ESC","Project","FD06","Active","2025-01-31T03:05:06.935658+00:00"]
[null,null,null,null,null,null,"PJ000003165","[ADM] Signage -CMPS","PJ000003165-[ADM] Signage -CMPS","Project","FD06","Active","2025-01-31T03:05:06.935658+00:00"]
[null,null,null,null,null,null,"PJ000003199","[BYUB] Devotionals 2024","PJ000003199-[BYUB] Devotionals 2024","Project","FD02","Active","2025-02-19T03:04:25.347349+00:00"]
[null,null,null,null,null,null,"PJ000003224","[ADM] Rm 350 Recnfgr Grad Lab-KMBL","PJ000003224-[ADM] Rm 350 Recnfgr Grad Lab-KMBL","Project","FD06","Active","2025-01-31T03:05:06.980684+00:00"]
[null,null,null,null,null,null,"PJ000003241","[ADM] Comb Suites L233 & L224 - LVES","PJ000003241-[ADM] Comb Suites L233 & L224 - LVES","Project","FD06","Active","2025-01-31T03:05:06.980684+00:00"]
[null,null,null,null,null,null,"PJ000003276","[ATH] EXPAND PRESS SEAT SEC 135 - MC","PJ000003276-[ATH] EXPAND PRESS SEAT SEC 135 - MC","Project","FD02","Active","2025-01-31T03:05:06.980684+00:00"]
[null,null,null,null,null,null,"PJ000003283","[ADM] REPURPOSE OFFCE 4056-JFSB","PJ000003283-[ADM] REPURPOSE OFFCE 4056-JFSB","Project","FD06","Active","2025-01-31T03:05:06.980684+00:00"]
[null,null,null,null,null,null,"PJ000003301","[ADM] Cmpstn Shingles Gabled Rf-OBSH","PJ000003301-[ADM] Cmpstn Shingles Gabled Rf-OBSH","Project","FD06","Active","2025-01-31T03:05:06.980684+00:00"]
[null,null,null,null,null,null,"PJ000003328","[ADM] Caulking -OBSH","PJ000003328-[ADM] Caulking -OBSH","Project","FD06","Active","2025-01-31T03:05:06.980684+00:00"]
[null,null,null,null,null,null,"PJ000003360","[ADM] Storefront Door in 240 -UPC","PJ000003360-[ADM] Storefront Door in 240 -UPC","Project","FD06","Active","2025-01-31T03:05:06.980684+00:00"]
[null,null,null,null,null,null,"PJ000003377","[ADM] BTU Meter Rplcmts-CMPS","PJ000003377-[ADM] BTU Meter Rplcmts-CMPS","Project","FD06","Active","2025-01-31T03:05:07.046037+00:00"]
[null,null,null,null,null,null,"PJ000003404","[ADM] Garage Panel -OBSH","PJ000003404-[ADM] Garage Panel -OBSH","Project","FD06","Active","2025-01-31T03:05:06.980684+00:00"]
[null,null,null,null,null,null,"PJ000003414","[ADM] REDESIGN OFFI SPACE 3018 - ITB","PJ000003414-[ADM] REDESIGN OFFI SPACE 3018 - ITB","Project","FD06","Active","2025-01-31T03:05:06.980684+00:00"]
[null,null,null,null,null,null,"PJ000003431","[ADM] UPS A-C String#4,Bttries-TMCB","PJ000003431-[ADM] UPS A-C String#4,Bttries-TMCB","Project","FD06","Active","2025-01-31T03:05:06.980684+00:00"]
[null,null,null,null,null,null,"PJ000003455","[ADM] NEW DESK, STORGE DRAW 220J-SAB","PJ000003455-[ADM] NEW DESK, STORGE DRAW 220J-SAB","Project","FD06","Active","2025-01-31T03:05:07.046037+00:00"]
[null,null,null,null,null,null,"PJ000003493","[BYUB] Making Good S3","PJ000003493-[BYUB] Making Good S3","Project","FD02","Active","2025-02-19T03:04:25.347349+00:00"]
[null,null,null,null,null,null,"PJ000003514","[ADM] UPDATE DOOR GEN SYST - HC","PJ000003514-[ADM] UPDATE DOOR GEN SYST - HC","Project","FD06","Active","2025-01-31T03:05:07.046037+00:00"]
[null,null,null,null,null,null,"PJ000003530","[ADM] CONE REPLACEMENT PLAN- CONE","PJ000003530-[ADM] CONE REPLACEMENT PLAN- CONE","Project","FD06","Active","2025-01-31T03:05:07.046037+00:00"]
[null,null,null,null,null,null,"PJ000003547","[ARTS] F24 BRAVO! Chariot of Fire","PJ000003547-[ARTS] F24 BRAVO! Chariot of Fire","Project","FD02","Active","2025-01-12T03:04:21.176512+00:00"]
[null,null,null,null,null,null,"PJ000003568","[ADM] NEW OFFIC FURNITURE 520 - TNRB","PJ000003568-[ADM] NEW OFFIC FURNITURE 520 - TNRB","Project","FD06","Active","2025-01-31T03:05:07.046037+00:00"]
[null,null,null,null,null,null,"PJ000003602","[ADM] ADD RESTRM CHAMP TERRACE -LVES","PJ000003602-[ADM] ADD RESTRM CHAMP TERRACE -LVES","Project","FD06","Active","2025-01-31T03:05:07.046037+00:00"]
[null,null,null,null,null,null,"PJ000003623","[ADM] ENERGY SAVING LIGHTS - CB","PJ000003623-[ADM] ENERGY SAVING LIGHTS - CB","Project","FD06","Active","2025-01-31T03:05:07.093382+00:00"]
[null,null,null,null,null,null,"PJ000003645","[BYUB] Awards 2024","PJ000003645-[BYUB] Awards 2024","Project","FD02","Active","2025-01-31T03:05:07.046037+00:00"]
[null,null,null,null,null,null,"PJ000003654","[BYUB] Writers Room - Summer 2024","PJ000003654-[BYUB] Writers Room - Summer 2024","Project","FD02","Active","2025-01-31T03:05:07.093382+00:00"]
[null,null,null,null,null,null,"PJ000003682","[ADM] NEW OFF FRN 639 - TNRB","PJ000003682-[ADM] NEW OFF FRN 639 - TNRB","Project","FD06","Active","2025-01-31T03:05:07.046037+00:00"]
[null,null,null,null,null,null,"PJ000003699","[ARTS] Ed Week-Vocal Point & Notewort","PJ000003699-[ARTS] Ed Week-Vocal Point & Notewort","Project","FD02","Active","2025-01-12T03:04:21.176512+00:00"]
[null,null,null,null,null,null,"PJ000003726","[ADM] OFFICE REFRESH 438 - TNRB","PJ000003726-[ADM] OFFICE REFRESH 438 - TNRB","Project","FD06","Active","2025-01-31T03:05:07.093382+00:00"]
[null,null,null,null,null,null,"PJ000003758","[ADM] OFFICE FURNITURE 201L - MCKB","PJ000003758-[ADM] OFFICE FURNITURE 201L - MCKB","Project","FD06","Active","2025-01-31T03:05:07.093382+00:00"]
[null,null,null,null,null,null,"PJ000003775","[BYUB] Insurmountable","PJ000003775-[BYUB] Insurmountable","Project","FD02","Active","2025-02-20T03:04:04.15874+00:00"]
[null,null,null,null,null,null,"PJ000003798","[ADM] 2025 CNA Table - RB","PJ000003798-[ADM] 2025 CNA Table - RB","Project","FD06","Active","2025-01-31T03:05:07.093382+00:00"]
[null,null,null,null,null,null,"PJ000003812","[ADM] 2025 CNA Phase 3/3 Ctrls -JRCB","PJ000003812-[ADM] 2025 CNA Phase 3/3 Ctrls -JRCB","Project","FD06","Active","2025-01-31T03:05:07.093382+00:00"]
[null,null,null,null,null,null,"PJ000003829","[ADM] 2025 CNA Exhst FansEF-2&11-CTB","PJ000003829-[ADM] 2025 CNA Exhst FansEF-2&11-CTB","Project","FD06","Active","2025-01-31T03:05:07.133127+00:00"]
[null,null,null,null,null,null,"PJ000003850","[ADM] 2025 CNA UPS Batteries 171B-CB","PJ000003850-[ADM] 2025 CNA UPS Batteries 171B-CB","Project","FD06","Active","2025-01-31T03:05:07.133127+00:00"]
[null,null,null,null,null,null,"PJ000003869","[ADM] 2025 CNA Clean Caulk Seal-MCDB","PJ000003869-[ADM] 2025 CNA Clean Caulk Seal-MCDB","Project","FD06","Active","2025-01-31T03:05:07.133127+00:00"]
[null,null,null,null,null,null,"PJ000003905","[ADM] 2025 CNA Panel ILJ Rm197 -SNLB","PJ000003905-[ADM] 2025 CNA Panel ILJ Rm197 -SNLB","Project","FD06","Active","2025-01-31T03:05:07.133127+00:00"]
[null,null,null,null,null,null,"PJ000003926","[ADM] 2025 CNA Data Ctr FireSys-TMCB","PJ000003926-[ADM] 2025 CNA Data Ctr FireSys-TMCB","Project","FD06","Active","2025-01-31T03:05:07.133127+00:00"]
[null,null,null,null,null,null,"PJ000003941","[ADM] 2025 CNA Expand Room 690-KMBL","PJ000003941-[ADM] 2025 CNA Expand Room 690-KMBL","Project","FD06","Active","2025-01-31T03:05:07.133127+00:00"]
[null,null,null,null,null,null,"PJ000003963","[ADM] 2025 CNA CARPET - JSB","PJ000003963-[ADM] 2025 CNA CARPET - JSB","Project","FD06","Active","2025-01-31T03:05:07.093382+00:00"]
[null,null,null,null,null,null,"PJ000003980","[ADM] 2025 CNA Lockers - MLBM","PJ000003980-[ADM] 2025 CNA Lockers - MLBM","Project","FD06","Active","2025-01-31T03:05:07.093382+00:00"]
[null,null,null,null,null,null,"PJ000004013","[DINE] MOVE C-CURE TO GENETEC - FTGB","PJ000004013-[DINE] MOVE C-CURE TO GENETEC - FTGB","Project","FD02","Active","2025-01-31T03:05:07.198087+00:00"]
[null,null,null,null,null,null,"PJ000004039","[ADM] INSTALL VIDEO WALL - MB","PJ000004039-[ADM] INSTALL VIDEO WALL - MB","Project","FD06","Active","2025-01-31T03:05:07.198087+00:00"]
[null,null,null,null,null,null,"PJ000004056","[ADM] BD 2 NW WK RM 5 FLR N5666-HBLL","PJ000004056-[ADM] BD 2 NW WK RM 5 FLR N5666-HBLL","Project","FD06","Active","2025-01-31T03:05:07.198087+00:00"]
[null,null,null,null,null,null,"PJ000004064","[LIB] Access Fees","PJ000004064-[LIB] Access Fees","Project","FD01","Active","2025-01-23T03:04:41.444459+00:00"]
[null,null,null,null,null,null,"PJ000004093","[LIB] Taylor, Clarence Dixon","PJ000004093-[LIB] Taylor, Clarence Dixon","Project","FD01","Active","2025-01-23T03:04:41.444459+00:00"]
[null,null,null,null,null,null,"PJ000004110","[ADM] 2025 ITI Network Improvement","PJ000004110-[ADM] 2025 ITI Network Improvement","Project","FD06","Active","2025-01-23T03:04:41.444459+00:00"]
[null,null,null,null,null,null,"PJ000004140","BYUB 2025 Replacement- Server","PJ000004140-BYUB 2025 Replacement- Server","Project","FD02","Active","2025-01-31T03:05:07.198087+00:00"]
[null,null,null,null,null,null,"PJ000004170","2025 CNA OTHER - Analysis and Development - CMPS","PJ000004170-2025 CNA OTHER - Analysis and Development - CMPS","Project","FD06","Active","2025-04-03T02:04:41.93478+00:00"]
[null,null,null,null,null,null,"PJ000004187","Test proj","PJ000004187-Test proj","Project","FD06","Active","2025-01-31T03:05:07.198087+00:00"]
[null,null,null,null,null,null,"PJ000004213","Peltier based Adiabatic Scanning Calorimeter (pASC)","PJ000004213-Peltier based Adiabatic Scanning Calorimeter (pASC)","Project","FD05","Active","2025-03-20T02:04:10.712747+00:00"]
[null,null,null,null,null,null,"PJ000004224","2025 CNA REPLACE - Annual Elevator Misc Components - CMPS","PJ000004224-2025 CNA REPLACE - Annual Elevator Misc Components - CMPS","Project","FD06","Active","2025-03-06T03:04:07.254647+00:00"]
[null,null,null,null,null,null,"PJ000004245","2025 CNA RETROFIT - Operable Wall/Overhead Door Service Contract - CMPS","PJ000004245-2025 CNA RETROFIT - Operable Wall/Overhead Door Service Contract - CMPS","Project","FD06","Active","2025-03-07T03:03:47.690758+00:00"]
[null,null,null,null,null,null,"PJ000004264","2025 CNA IMPROVE - Water System New Improvements - CMPS","PJ000004264-2025 CNA IMPROVE - Water System New Improvements - CMPS","Project","FD06","Active","2025-03-07T03:03:47.690758+00:00"]
[null,null,null,null,null,null,"PJ000004300","[PFAC] EQUIPMENT ROOM WORKSTATION 1122 - MC","PJ000004300-[PFAC] EQUIPMENT ROOM WORKSTATION 1122 - MC","Project","FD02","Active","2025-03-20T02:04:10.712747+00:00"]
[null,null,null,null,null,null,"PJ000004321","[PFAC] PHASE 2 - FURNITURE & ELECTRICAL - COLLABORATION SPACE 136 -ROTC","PJ000004321-[PFAC] PHASE 2 - FURNITURE & ELECTRICAL - COLLABORATION SPACE 136 -ROTC","Project","FD06","Active","2025-03-20T02:04:10.712747+00:00"]
[null,null,null,null,null,null,"PJ000004336","[BYUB] Awards 2025","PJ000004336-[BYUB] Awards 2025","Project","FD02","Active","2025-03-20T02:04:10.712747+00:00"]
[null,null,null,null,null,null,"PJ000004354","[STLF] 2025 Repl 75 ea. 6' Long Folding Virco Banquet Tables in WSC","PJ000004354-[STLF] 2025 Repl 75 ea. 6' Long Folding Virco Banquet Tables in WSC","Project","FD02","Active","2025-04-02T02:04:28.356935+00:00"]
[null,null,null,null,null,null,"PJ000004375","[BYUB] BYU Football with Kalani Sitake 2025","PJ000004375-[BYUB] BYU Football with Kalani Sitake 2025","Project","FD02","Active","2025-04-11T02:03:40.567837+00:00"]
[null,null,null,null,null,null,"PJIT-000000148","JSB 140","PJIT-000000148-JSB 140"," Replace Sound System (PRJ-8439)","Cost Center","Project","2025-01-09T03:04:37.798994+00:00"]
[null,null,null,null,null,null,"PJIT-000000154","JRCB 205 and 303, Add video cameras (PRJ-8467)","PJIT-000000154-JRCB 205 and 303, Add video cameras (PRJ-8467)","Project","FD06","Active","2025-02-07T03:05:24.75733+00:00"]
[null,null,null,null,null,null,"PJIT-000000209","Arts 2123A, Assistant Deans Office (PRJ-8814)","PJIT-000000209-Arts 2123A, Assistant Deans Office (PRJ-8814)","Project","FD06","Active","2025-03-11T02:04:05.977113+00:00"]
[null,null,null,null,null,null,"PJIT-000000217","Arts 2137, Photo Studio (PRJ-8822)","PJIT-000000217-Arts 2137, Photo Studio (PRJ-8822)","Project","FD06","Active","2025-03-11T02:04:05.977113+00:00"]
[null,null,null,null,null,null,"PJIT-000000246","Arts 3107, Reception (PRJ-8851)","PJIT-000000246-Arts 3107, Reception (PRJ-8851)","Project","FD06","Active","2025-03-11T02:04:05.977113+00:00"]
[null,null,null,null,null,null,"PJIT-000000263","Arts 3147, Life Drawing Studio 1 (PRJ-8869)","PJIT-000000263-Arts 3147, Life Drawing Studio 1 (PRJ-8869)","Project","FD06","Active","2025-02-06T03:04:22.663354+00:00"]
[null,null,null,null,null,null,"PJIT-000000289","Arts 4159 Studio B","PJIT-000000289-Arts 4159 Studio B","Project","FD06","Active","2025-03-11T02:04:05.977113+00:00"]
[null,null,null,null,null,null,"PJIT-000000301","Arts 4240, New Genre Stage (PRJ-8909)","PJIT-000000301-Arts 4240, New Genre Stage (PRJ-8909)","Project","FD06","Active","2025-04-02T02:04:28.356935+00:00"]
[null,null,null,null,null,null,"PJIT-000000380","Centralized Identity CES Support (center proposal) (PRJ-9685)","PJIT-000000380-Centralized Identity CES Support (center proposal) (PRJ-9685)","Project","FD06","Active","2025-04-01T02:03:57.526982+00:00"]
[null,null,null,null,null,null,"PJIT-000000385","2024 Program Granite HR and Finance Workday transition (PRJ-9692)","PJIT-000000385-2024 Program Granite HR and Finance Workday transition (PRJ-9692)","Project","FD06","Active","2025-04-06T02:03:51.690599+00:00"]
[null,null,null,null,null,null,"PJIT-000000420","Corelight & Arista replacements (PRJ-9743)","PJIT-000000420-Corelight & Arista replacements (PRJ-9743)","Project","FD06","Active","2025-01-09T03:04:37.798994+00:00"]
[null,null,null,null,null,null,"PJIT-000000439","Xpression Studio (SFH)","PJIT-000000439-Xpression Studio (SFH)","Project","FD06","Active","2025-01-02T03:05:07.072506+00:00"]
[null,null,null,null,null,null,"PJIT-000000477","Student Wellness Solution (PRJ-9842)","PJIT-000000477-Student Wellness Solution (PRJ-9842)","Project","FD06","Active","2025-02-07T03:05:24.75733+00:00"]
[null,null,null,null,null,null,"PJIT-000000499","WSC 3500, Install Security Camera and Move FPD (M9676) (PRJ-9975)","PJIT-000000499-WSC 3500, Install Security Camera and Move FPD (M9676) (PRJ-9975)","Project","FD06","Active","2025-04-02T02:04:28.356935+00:00"]
[null,null,null,null,null,null,"PJIT-000000547","ENSN College AV Transition - Room 302 (PRJ-10224)","PJIT-000000547-ENSN College AV Transition - Room 302 (PRJ-10224)","Project","FD01","Active","2025-01-15T03:04:58.646831+00:00"]
[null,null,null,null,null,null,"PJIT-000000629","MOA Wireless Upgrade (PRJ-10374)","PJIT-000000629-MOA Wireless Upgrade (PRJ-10374)","Project","FD02","Active","2025-01-15T03:04:58.646831+00:00"]
[null,null,null,null,null,null,"PJIT-000000652","MC Wireless Upgrade","PJIT-000000652-MC Wireless Upgrade","Project","FD06","Active","2025-01-02T03:05:07.221923+00:00"]
[null,null,null,null,null,null,"PJIT-000000679","TMCB 1016, 1131, 2239, 3345 Cat6A Upgrade","PJIT-000000679-TMCB 1016, 1131, 2239, 3345 Cat6A Upgrade","Project","FD06","Active","2025-01-02T03:05:06.891923+00:00"]
[null,null,null,null,null,null,"PJIT-000000691","ITB 3306 blend tech (PRJ-10566)","PJIT-000000691-ITB 3306 blend tech (PRJ-10566)","Project","FD06","Active","2025-01-29T03:04:18.341583+00:00"]
[null,null,null,null,null,null,"PJIT-000000738","MLBM 1007, Replace VIA with AppleTV/Ditto (PRJ-10819)","PJIT-000000738-MLBM 1007, Replace VIA with AppleTV/Ditto (PRJ-10819)","Project","FD06","Active","2025-01-29T03:04:18.341583+00:00"]
[null,null,null,null,null,null,"PJIT-000000782","RB, Security camera additions to entrances","PJIT-000000782-RB, Security camera additions to entrances","Project","FD06","Active","2025-01-02T03:05:07.221923+00:00"]
[null,null,null,null,null,null,"PJIT-000000846","SLC 101, 408, 410, 411, and 418 Replace Screens (PRJ-11188)","PJIT-000000846-SLC 101, 408, 410, 411, and 418 Replace Screens (PRJ-11188)","Project","FD02","Active","2025-01-15T03:04:58.646831+00:00"]
[null,null,null,null,null,null,"PJIT-000000896","CES Tenant Discovery for BYUI, BYUH, and Ensign","PJIT-000000896-CES Tenant Discovery for BYUI, BYUH, and Ensign","Project","FD06","Active","2025-01-02T03:05:10.204032+00:00"]
[null,null,null,null,null,null,"PJIT-000000925","PCI Compliance - Password Requirements (PRJ-11401)","PJIT-000000925-PCI Compliance - Password Requirements (PRJ-11401)","Project","FD06","Active","2025-02-06T03:04:22.663354+00:00"]
[null,null,null,null,null,null,"PJIT-000000973","DIgicert Supplemental (PRJ-11490)","PJIT-000000973-DIgicert Supplemental (PRJ-11490)","Project","FD06","Active","2025-02-06T03:04:22.663354+00:00"]
[null,null,null,null,null,null,"PJIT-000000987","MCKB 167, Network Jack Install (PRJ-11521)","PJIT-000000987-MCKB 167, Network Jack Install (PRJ-11521)","Project","FD06","Active","2025-03-26T02:03:09.435783+00:00"]
[null,null,null,null,null,null,"PJIT-000001005","MSRB 241, Replace VIA with AppleTV/Ditto (PRJ-11543)","PJIT-000001005-MSRB 241, Replace VIA with AppleTV/Ditto (PRJ-11543)","Project","FD06","Active","2025-01-02T03:05:07.221923+00:00"]
[null,null,null,null,null,null,"PJIT-000001030","CB 395A, Replace VIA with AppleTV/Ditto (PRJ-11577)","PJIT-000001030-CB 395A, Replace VIA with AppleTV/Ditto (PRJ-11577)","Project","FD06","Active","2025-03-13T02:03:44.050009+00:00"]
[null,null,null,null,null,null,"PJIT-000001070","ASB C373, Replace VIA with AppleTV/Ditto (PRJ-11623)","PJIT-000001070-ASB C373, Replace VIA with AppleTV/Ditto (PRJ-11623)","Project","FD06","Active","2025-03-13T02:03:44.050009+00:00"]
[null,null,null,null,null,null,"PJIT-000001093","ULB Paging","PJIT-000001093-ULB Paging","Project","FD06","Active","2025-01-02T03:05:10.204032+00:00"]
[null,null,null,null,null,null,"PJIT-000001124","Arts 2280acde SLL","PJIT-000001124-Arts 2280acde SLL","Project","FD06","Active","2025-03-11T02:04:05.977113+00:00"]
[null,null,null,null,null,null,"PJIT-000001146","TLRB, Add New Observation Cameras","PJIT-000001146-TLRB, Add New Observation Cameras","Project","FD06","Active","2025-01-02T03:05:10.316556+00:00"]
[null,null,null,null,null,null,"PJIT-000001164","TNRB 675 ","PJIT-000001164-TNRB 675 "," Flat Panel I/O System (PRJ-11812)","Cost Center","Project","2025-02-07T03:05:24.75733+00:00"]
[null,null,null,null,null,null,"PJIT-000001518","BYU Identity - Modernization Apps Dependent on PRO (Discovery)","PJIT-000001518-BYU Identity - Modernization Apps Dependent on PRO (Discovery)","Project","FD06","Active","2025-02-14T03:03:43.386461+00:00"]
[null,null,null,null,null,null,"PJIT-000001532","CB 385, Classroom Presentation System","PJIT-000001532-CB 385, Classroom Presentation System","Project","FD06","Active","2025-03-13T02:03:44.050009+00:00"]
[null,null,null,null,null,null,"PJIT-000001555","JKB 2009, Classroom Presentation System","PJIT-000001555-JKB 2009, Classroom Presentation System","Project","FD06","Active","2025-02-14T03:03:43.386461+00:00"]
[null,null,null,null,null,null,"PJIT-000001572","2025 AV Development Efforts","PJIT-000001572-2025 AV Development Efforts","Project","FD06","Active","2025-02-20T03:04:04.15874+00:00"]
[null,null,null,null,null,null,"PJIT-000001610","ESC Addition A110, Install 55'' FPD, HDMI Jack, TEC Pi (M7851)","PJIT-000001610-ESC Addition A110, Install 55'' FPD, HDMI Jack, TEC Pi (M7851)","Project","FD06","Active","2025-02-27T03:03:44.609062+00:00"]
[null,null,null,null,null,null,"PJIT-000001615","ESC Addition A124, Install 55'' TV, AppleTV, HDMI, TEC Pi (M7851)","PJIT-000001615-ESC Addition A124, Install 55'' TV, AppleTV, HDMI, TEC Pi (M7851)","Project","FD06","Active","2025-02-27T03:03:44.609062+00:00"]
[null,null,null,null,null,null,"PJIT-000001655","SAB Weight Room Video Board N3018","PJIT-000001655-SAB Weight Room Video Board N3018","Project","FD06","Active","2025-02-12T03:04:46.358961+00:00"]
[null,null,null,null,null,null,"PJIT-000001662","MARB B119, Classroom Presentation System","PJIT-000001662-MARB B119, Classroom Presentation System","Project","FD06","Active","2025-03-13T02:03:44.050009+00:00"]
[null,null,null,null,null,null,"PJIT-000001692","I-CMPS, Wireless Controller Replacement","PJIT-000001692-I-CMPS, Wireless Controller Replacement","Project","FD06","Active","2025-04-09T02:03:37.489617+00:00"]
[null,null,null,null,null,null,"PJIT-000001710","~*H-GYM, C-Sider Store Move","PJIT-000001710-~*H-GYM, C-Sider Store Move","Project","FD06","Active","2025-04-05T02:04:05.378113+00:00"]
[null,null,null,null,null,null,"PJIT-000001743","Ironman Software Renewal","PJIT-000001743-Ironman Software Renewal","Project","FD01","Active","2025-02-15T03:04:02.344689+00:00"]
[null,null,null,null,null,null,"PJIT-000001752","BYUH HALE Exterior Door Locks","PJIT-000001752-BYUH HALE Exterior Door Locks","Project","FD06","Active","2025-02-20T03:04:04.15874+00:00"]
[null,null,null,null,null,null,"PJIT-000001793","~*H-GYM, Food Truck","PJIT-000001793-~*H-GYM, Food Truck","Project","FD06","Active","2025-04-02T02:04:28.356935+00:00"]
[null,null,null,null,null,null,"PJIT-000001797","P-JKB, Switch Replacement 2025","PJIT-000001797-P-JKB, Switch Replacement 2025","Project","FD06","Active","2025-04-10T02:03:34.096238+00:00"]
[null,null,null,null,null,null,"PJIT-000001832","2025 Relish IQ Vendor Validation","PJIT-000001832-2025 Relish IQ Vendor Validation","Project","FD03","Active","2025-03-15T02:03:41.606114+00:00"]
[null,null,null,null,null,null,"PJIT-000001855","MC 3402, AV Classroom Replacement","PJIT-000001855-MC 3402, AV Classroom Replacement","Project","FD06","Active","2025-03-22T02:03:32.386352+00:00"]
[null,null,null,null,null,null,"PJIT-000001875","SLC 345, Update with (3) Fully Matrixed FPDs in New Locations","PJIT-000001875-SLC 345, Update with (3) Fully Matrixed FPDs in New Locations","Project","FD02","Active","2025-04-03T02:04:41.93478+00:00"]
[null,null,null,null,null,null,"PJIT-000001893","SLC 410, Add (3) FPDs Fully Matrixed","PJIT-000001893-SLC 410, Add (3) FPDs Fully Matrixed","Project","FD02","Active","2025-04-08T02:03:40.844661+00:00"]
[null,null,null,null,null,null,"PJOP-000000103","Privacy Office","PJOP-000000103-Privacy Office","Project","FD01","Active","2025-01-02T03:05:07.946926+00:00"]
[null,null,null,null,null,null,"PJOP-000000139","Student Life Services","PJOP-000000139-Student Life Services","Project","FD01","Active","2025-01-02T03:05:07.946926+00:00"]
[null,null,null,null,null,null,"PJOP-000000161","Provo YSA 4th Stake Conference 10/27/24","PJOP-000000161-Provo YSA 4th Stake Conference 10/27/24","Project","FD01","Active","2025-01-02T03:05:07.841932+00:00"]
[null,null,null,null,null,null,"PJOP-000000190","WVLB v TCU 10/12/24 (PRJ-11341)","PJOP-000000190-WVLB v TCU 10/12/24 (PRJ-11341)","Project","FD01","Active","2025-01-08T03:04:35.097272+00:00"]
[null,null,null,null,null,null,"PJOP-000000208","MSOC v Utah State 10/11/24 (PRJ-11419)","PJOP-000000208-MSOC v Utah State 10/11/24 (PRJ-11419)","Project","FD02","Active","2025-01-15T03:04:58.646831+00:00"]
[null,null,null,null,null,null,"PJOP-000000258","Wheatley: Rabbi Meir Soloveichik 9/25/24 (PRJ-11571)","PJOP-000000258-Wheatley: Rabbi Meir Soloveichik 9/25/24 (PRJ-11571)","Project","FD01","Active","2025-01-15T03:04:58.646831+00:00"]
[null,null,null,null,null,null,"PJOP-000000278","Fiesta 11/1/24 (PRJ-11691)","PJOP-000000278-Fiesta 11/1/24 (PRJ-11691)","Project","FD02","Active","2025-01-10T03:04:00.898887+00:00"]
[null,null,null,null,null,null,"PJOP-000000326","OIT Christmas Party 12/6/24","PJOP-000000326-OIT Christmas Party 12/6/24","Project","FD01","Active","2025-01-02T03:05:10.316556+00:00"]
[null,null,null,null,null,null,"PJOP-000000421","Setup and Strike Indoor Track Meet 1/16/25-1/18/25","PJOP-000000421-Setup and Strike Indoor Track Meet 1/16/25-1/18/25","Project","FD01","Active","2025-01-30T03:04:51.919518+00:00"]
[null,null,null,null,null,null,"PJOP-000000438","Philanthropies Summit Meetings 2/4/25","PJOP-000000438-Philanthropies Summit Meetings 2/4/25","Project","FD07","Active","2025-02-07T03:05:24.75733+00:00"]
[null,null,null,null,null,null,"PJOP-000000463","2025 Windows Management Operational","PJOP-000000463-2025 Windows Management Operational","Project","FD01","Active","2025-02-11T16:05:13.368373+00:00"]
[null,null,null,null,null,null,"PJOP-000000475","2025 Informatica PowerCenter Operational","PJOP-000000475-2025 Informatica PowerCenter Operational","Project","FD01","Active","2025-02-11T16:05:13.368373+00:00"]
[null,null,null,null,null,null,"PJOP-000000492","Concert: My Cantus Valentine 2/14/25-2/15/25","PJOP-000000492-Concert: My Cantus Valentine 2/14/25-2/15/25","Project","FD02","Active","2025-02-20T03:04:04.15874+00:00"]
[null,null,null,null,null,null,"PJOP-000000519","Public Domain Film Festival 3/7/25","PJOP-000000519-Public Domain Film Festival 3/7/25","Project","FD01","Active","2025-03-05T16:04:20.253838+00:00"]
[null,null,null,null,null,null,"PJOP-000000553","WRUG v Life University 3/22/25","PJOP-000000553-WRUG v Life University 3/22/25","Project","FD02","Active","2025-03-20T02:04:10.712747+00:00"]
[null,null,null,null,null,null,"PJOP-000000572","Naturalization Ceremony 4/4/25","PJOP-000000572-Naturalization Ceremony 4/4/25","Project","FD01","Active","2025-04-03T02:04:41.93478+00:00"]
[null,null,null,null,null,null,"PJOP-000000594","SOFT v Fresno State 4/14/25","PJOP-000000594-SOFT v Fresno State 4/14/25","Project","FD01","Active","2025-04-10T02:03:36.125036+00:00"]
[null,null,null,null,null,null,"PP000000078_FA_Production>Scene_Shop","American Ghost S: FA Production > Scene Shop    (Starts: 05/14/2024)","PP000000078_FA_Production>Scene_Shop-American Ghost S: FA Production > Scene Shop    (Starts: 05/14/2024)","Project Plan","FD02","Active","2025-01-12T03:04:21.255165+00:00"]
[null,null,null,null,null,null,"PP000000080_FA_Production>FA_Makeup_Hair","FA Production > FA Makeup & Hair    (Starts: 12/30/2023)","PP000000080_FA_Production>FA_Makeup_Hair-FA Production > FA Makeup & Hair    (Starts: 12/30/2023)","Project Plan","FD02","Active","2025-01-12T03:04:21.255165+00:00"]
[null,null,null,null,null,null,"PP000000081_FA_Production>FA_Makeup_Hair","FA Production > FA Makeup & Hair    (Starts: 12/30/2023)","PP000000081_FA_Production>FA_Makeup_Hair-FA Production > FA Makeup & Hair    (Starts: 12/30/2023)","Project Plan","FD02","Active","2025-01-12T03:04:21.255165+00:00"]
[null,null,null,null,null,null,"PP000000083_FA_Production>Stage_Manager","FA Production > Stage Manager    (Starts: 12/30/2023)","PP000000083_FA_Production>Stage_Manager-FA Production > Stage Manager    (Starts: 12/30/2023)","Project Plan","FD02","Active","2025-01-12T03:04:21.255165+00:00"]
[null,null,null,null,null,null,"PP000000085_FA_Production>Front_of_House","FA Production > Front of House    (Starts: 12/30/2023)","PP000000085_FA_Production>Front_of_House-FA Production > Front of House    (Starts: 12/30/2023)","Project Plan","FD02","Active","2025-01-12T03:04:21.255165+00:00"]
[null,null,null,null,null,null,"PP000000086_FA_Production>Audio","FA Production > Audio    (Starts: 12/30/2023)","PP000000086_FA_Production>Audio-FA Production > Audio    (Starts: 12/30/2023)","Project Plan","FD02","Active","2025-01-12T03:04:21.255165+00:00"]
[null,null,null,null,null,null,"PP000000087_FA_Production>Other","FA Production > Other    (Starts: 12/30/2023)","PP000000087_FA_Production>Other-FA Production > Other    (Starts: 12/30/2023)","Project Plan","FD02","Active","2025-01-12T03:04:21.319185+00:00"]
[null,null,null,null,null,null,"PP000000088_FA_Production>Stage_Manager","FA Production > Stage Manager    (Starts: 12/30/2023)","PP000000088_FA_Production>Stage_Manager-FA Production > Stage Manager    (Starts: 12/30/2023)","Project Plan","FD02","Active","2025-01-12T03:04:21.255165+00:00"]
[null,null,null,null,null,null,"PP000000102_FA_Production>Scene_Shop","FA Production > Scene Shop    (Starts: 12/30/2023)","PP000000102_FA_Production>Scene_Shop-FA Production > Scene Shop    (Starts: 12/30/2023)","Project Plan","FD02","Active","2025-01-12T03:04:21.255165+00:00"]
[null,null,null,null,null,null,"PP000000103_FA_Production>Lighting","536 Fall Project: FA Production > Lighting    (Starts: 12/30/2023)","PP000000103_FA_Production>Lighting-536 Fall Project: FA Production > Lighting    (Starts: 12/30/2023)","Project Plan","FD02","Active","2025-01-12T03:04:21.319185+00:00"]
[null,null,null,null,null,null,"PP000000105_FA_Production>Stage_Operations","FA Production > Stage Operations    (Starts: 12/30/2023)","PP000000105_FA_Production>Stage_Operations-FA Production > Stage Operations    (Starts: 12/30/2023)","Project Plan","FD02","Active","2025-01-12T03:04:21.397276+00:00"]
[null,null,null,null,null,null,"PP000000106_FA_Production>FA_Makeup_Hair","FA Production > FA Makeup & Hair    (Starts: 12/30/2023)","PP000000106_FA_Production>FA_Makeup_Hair-FA Production > FA Makeup & Hair    (Starts: 12/30/2023)","Project Plan","FD02","Active","2025-01-12T03:04:21.255165+00:00"]
[null,null,null,null,null,null,"PP000000108_FA_Production>Marketing","FA Production > Marketing    (Starts: 09/30/2024)","PP000000108_FA_Production>Marketing-FA Production > Marketing    (Starts: 09/30/2024)","Project Plan","FD02","Active","2025-01-12T03:04:21.319185+00:00"]
[null,null,null,null,null,null,"PP000000109_FA_Production>Producer","FA Production > Producer    (Starts: 12/30/2023)","PP000000109_FA_Production>Producer-FA Production > Producer    (Starts: 12/30/2023)","Project Plan","FD02","Active","2025-01-12T03:04:21.319185+00:00"]
[null,null,null,null,null,null,"PP000000110_FA_Production>Props","FA Production > Props    (Starts: 12/30/2023)","PP000000110_FA_Production>Props-FA Production > Props    (Starts: 12/30/2023)","Project Plan","FD02","Active","2025-01-12T03:04:21.319185+00:00"]
[null,null,null,null,null,null,"PP000000112_FA_Production>Lighting","FA Production > Lighting    (Starts: 12/30/2023)","PP000000112_FA_Production>Lighting-FA Production > Lighting    (Starts: 12/30/2023)","Project Plan","FD02","Active","2025-01-12T03:04:21.319185+00:00"]
[null,null,null,null,null,null,"PP000000114_FA_Production>Projection","Conservatory Performance: FA Production > Projection    (Starts: 12/30/2023)","PP000000114_FA_Production>Projection-Conservatory Performance: FA Production > Projection    (Starts: 12/30/2023)","Project Plan","FD02","Active","2025-01-12T03:04:21.319185+00:00"]
[null,null,null,null,null,null,"PP000000116_FA_Production>Audio","FA Production > Audio    (Starts: 12/30/2023)","PP000000116_FA_Production>Audio-FA Production > Audio    (Starts: 12/30/2023)","Project Plan","FD02","Active","2025-01-12T03:04:21.319185+00:00"]
[null,null,null,null,null,null,"PP000000117_FA_Production>Creative","FA Production > Creative    (Starts: 12/30/2023)","PP000000117_FA_Production>Creative-FA Production > Creative    (Starts: 12/30/2023)","Project Plan","FD02","Active","2025-01-12T03:04:21.397276+00:00"]
[null,null,null,null,null,null,"PP000000118_FA_Production>FA_Makeup_Hair","FA Production > FA Makeup & Hair    (Starts: 12/30/2023)","PP000000118_FA_Production>FA_Makeup_Hair-FA Production > FA Makeup & Hair    (Starts: 12/30/2023)","Project Plan","FD02","Active","2025-01-12T03:04:21.319185+00:00"]
[null,null,null,null,null,null,"PP000000119_FA_Production>Projection","FA Production > Projection    (Starts: 12/30/2023)","PP000000119_FA_Production>Projection-FA Production > Projection    (Starts: 12/30/2023)","Project Plan","FD02","Active","2025-01-12T03:04:21.460794+00:00"]
[null,null,null,null,null,null,"PP000000121_FA_Production>Stage_Operations","FA Production > Stage Operations    (Starts: 12/30/2023)","PP000000121_FA_Production>Stage_Operations-FA Production > Stage Operations    (Starts: 12/30/2023)","Project Plan","FD02","Active","2025-01-12T03:04:21.460794+00:00"]
[null,null,null,null,null,null,"PP000000122_FA_Production>Costume_Shop","FA Production > Costume    (Starts: 12/30/2023)","PP000000122_FA_Production>Costume_Shop-FA Production > Costume    (Starts: 12/30/2023)","Project Plan","FD02","Active","2025-01-12T03:04:21.319185+00:00"]
[null,null,null,null,null,null,"PP000000124_FA_Production>Props","FA Production > Props    (Starts: 12/30/2023)","PP000000124_FA_Production>Props-FA Production > Props    (Starts: 12/30/2023)","Project Plan","FD02","Active","2025-01-12T03:04:21.397276+00:00"]
[null,null,null,null,null,null,"PP000000125_FA_Production>Lighting","FA Production > Lighting    (Starts: 12/30/2023)","PP000000125_FA_Production>Lighting-FA Production > Lighting    (Starts: 12/30/2023)","Project Plan","FD02","Active","2025-01-12T03:04:21.460794+00:00"]
[null,null,null,null,null,null,"PP000000127_FA_Production>Creative","A Midsummer Night's Dream: FA Production > Creative    (Starts: 12/30/2023)","PP000000127_FA_Production>Creative-A Midsummer Night's Dream: FA Production > Creative    (Starts: 12/30/2023)","Project Plan","FD02","Active","2025-01-12T03:04:21.460794+00:00"]
[null,null,null,null,null,null,"PP000000128_FA_Production>Front_of_House","As You Like It: FA Production > Front of House    (Starts: 12/30/2023)","PP000000128_FA_Production>Front_of_House-As You Like It: FA Production > Front of House    (Starts: 12/30/2023)","Project Plan","FD02","Active","2025-01-12T03:04:21.319185+00:00"]
[null,null,null,null,null,null,"PP000000130_FA_Production>Creative","FA Production > Creative    (Starts: 12/30/2023)","PP000000130_FA_Production>Creative-FA Production > Creative    (Starts: 12/30/2023)","Project Plan","FD02","Active","2025-01-12T03:04:21.319185+00:00"]
[null,null,null,null,null,null,"PP000000130_FA_Production>Run_Crew","FA Production > Run Crew    (Starts: 12/30/2023)","PP000000130_FA_Production>Run_Crew-FA Production > Run Crew    (Starts: 12/30/2023)","Project Plan","FD02","Active","2025-01-12T03:04:21.319185+00:00"]
[null,null,null,null,null,null,"PP000000133_FA_Production>Lighting","FA Production > Lighting    (Starts: 12/30/2023)","PP000000133_FA_Production>Lighting-FA Production > Lighting    (Starts: 12/30/2023)","Project Plan","FD02","Active","2025-01-31T03:05:07.273692+00:00"]
[null,null,null,null,null,null,"PP000000133_FA_Production>Scene_Shop","FA Production > Scene Shop    (Starts: 12/30/2023)","PP000000133_FA_Production>Scene_Shop-FA Production > Scene Shop    (Starts: 12/30/2023)","Project Plan","FD02","Active","2025-01-31T03:05:07.273692+00:00"]
[null,null,null,null,null,null,"PP000000135_FA_Production>Scene_Shop","FA Production > Scene Shop    (Starts: 12/30/2023)","PP000000135_FA_Production>Scene_Shop-FA Production > Scene Shop    (Starts: 12/30/2023)","Project Plan","FD02","Active","2025-01-12T03:04:21.460794+00:00"]
[null,null,null,null,null,null,"PP000000136_FA_Production>Stage_Operations","FA Production > Stage Operations    (Starts: 12/30/2023)","PP000000136_FA_Production>Stage_Operations-FA Production > Stage Operations    (Starts: 12/30/2023)","Project Plan","FD02","Active","2025-01-12T03:04:21.397276+00:00"]
[null,null,null,null,null,null,"PP000000138_FA_Production>Projection","FA Production > Projection    (Starts: 12/30/2023)","PP000000138_FA_Production>Projection-FA Production > Projection    (Starts: 12/30/2023)","Project Plan","FD02","Active","2025-01-12T03:04:21.397276+00:00"]
[null,null,null,null,null,null,"PP000000139_FA_Production>Marketing","FA Production > Marketing    (Starts: 12/30/2023)","PP000000139_FA_Production>Marketing-FA Production > Marketing    (Starts: 12/30/2023)","Project Plan","FD02","Active","2025-01-12T03:04:21.536697+00:00"]
[null,null,null,null,null,null,"PP000000142_FA_Production>Front_of_House","FA Production > Front of House    (Starts: 12/30/2023)","PP000000142_FA_Production>Front_of_House-FA Production > Front of House    (Starts: 12/30/2023)","Project Plan","FD02","Active","2025-01-12T03:04:21.397276+00:00"]
[null,null,null,null,null,null,"PP000000143_FA_Production>Marketing","FA Production > Marketing    (Starts: 06/20/2024)","PP000000143_FA_Production>Marketing-FA Production > Marketing    (Starts: 06/20/2024)","Project Plan","FD02","Active","2025-01-12T03:04:21.709885+00:00"]
[null,null,null,null,null,null,"PP000000144_FA_Production>Other","FA Production > Other    (Starts: 06/20/2024)","PP000000144_FA_Production>Other-FA Production > Other    (Starts: 06/20/2024)","Project Plan","FD02","Active","2025-01-12T03:04:21.650491+00:00"]
[null,null,null,null,null,null,"PP000000145_FA_Production>Stage_Manager","FA Production > Stage Manager    (Starts: 12/30/2023)","PP000000145_FA_Production>Stage_Manager-FA Production > Stage Manager    (Starts: 12/30/2023)","Project Plan","FD02","Active","2025-01-12T03:04:21.709885+00:00"]
[null,null,null,null,null,null,"PP000000146_FA_Production>Scene_Shop","FA Production > Scene Shop    (Starts: 12/30/2023)","PP000000146_FA_Production>Scene_Shop-FA Production > Scene Shop    (Starts: 12/30/2023)","Project Plan","FD02","Active","2025-01-12T03:04:21.650491+00:00"]
[null,null,null,null,null,null,"PP000000148_FA_Production>Costume_Shop","FA Production > Costume    (Starts: 12/30/2023)","PP000000148_FA_Production>Costume_Shop-FA Production > Costume    (Starts: 12/30/2023)","Project Plan","FD02","Active","2025-01-12T03:04:21.709885+00:00"]
[null,null,null,null,null,null,"PP000000150_FA_Production>Stage_Operations","FA Production > Stage Operations    (Starts: 12/30/2023)","PP000000150_FA_Production>Stage_Operations-FA Production > Stage Operations    (Starts: 12/30/2023)","Project Plan","FD02","Active","2025-01-12T03:04:21.709885+00:00"]
[null,null,null,null,null,null,"PP000000151_FA_Production>Projection","FA Production > Projection    (Starts: 12/30/2023)","PP000000151_FA_Production>Projection-FA Production > Projection    (Starts: 12/30/2023)","Project Plan","FD02","Active","2025-01-12T03:04:21.709885+00:00"]
[null,null,null,null,null,null,"PP000000153_FA_Production>Marketing","FA Production > Marketing    (Starts: 12/30/2023)","PP000000153_FA_Production>Marketing-FA Production > Marketing    (Starts: 12/30/2023)","Project Plan","FD02","Active","2025-01-12T03:04:21.709885+00:00"]
[null,null,null,null,null,null,"PP000000154_FA_Production>Producer","Listen Up Series: FA Production > Producer    (Starts: 12/30/2023)","PP000000154_FA_Production>Producer-Listen Up Series: FA Production > Producer    (Starts: 12/30/2023)","Project Plan","FD02","Active","2025-01-12T03:04:21.709885+00:00"]
[null,null,null,null,null,null,"PP000000202_FA_Production>Marketing","FA Production > Marketing    (Starts: 12/30/2023)","PP000000202_FA_Production>Marketing-FA Production > Marketing    (Starts: 12/30/2023)","Project Plan","FD02","Active","2025-01-12T03:04:21.772455+00:00"]
[null,null,null,null,null,null,"PP000000203_FA_Production>Audio","FA Production > Audio    (Starts: 12/30/2023)","PP000000203_FA_Production>Audio-FA Production > Audio    (Starts: 12/30/2023)","Project Plan","FD02","Active","2025-01-12T03:04:21.772455+00:00"]
[null,null,null,null,null,null,"PP000000205_FA_Production>Projection","FA Production > Projection    (Starts: 12/30/2023)","PP000000205_FA_Production>Projection-FA Production > Projection    (Starts: 12/30/2023)","Project Plan","FD02","Active","2025-01-12T03:04:21.824934+00:00"]
[null,null,null,null,null,null,"PP000000205_FA_Production>Scene_Shop","FA Production > Scene Shop    (Starts: 12/30/2023)","PP000000205_FA_Production>Scene_Shop-FA Production > Scene Shop    (Starts: 12/30/2023)","Project Plan","FD02","Active","2025-01-12T03:04:21.824934+00:00"]
[null,null,null,null,null,null,"PP000000208_FA_Production>Costume_Shop","FA Production > Costume    (Starts: 12/30/2023)","PP000000208_FA_Production>Costume_Shop-FA Production > Costume    (Starts: 12/30/2023)","Project Plan","FD02","Active","2025-01-12T03:04:21.772455+00:00"]
[null,null,null,null,null,null,"PP000000209_FA_Production>FA_Makeup_Hair","FA Production > FA Makeup & Hair    (Starts: 12/30/2023)","PP000000209_FA_Production>FA_Makeup_Hair-FA Production > FA Makeup & Hair    (Starts: 12/30/2023)","Project Plan","FD02","Active","2025-01-12T03:04:21.824934+00:00"]
[null,null,null,null,null,null,"PP000000210_FA_Production>Stage_Manager","FA Production > Stage Manager    (Starts: 12/30/2023)","PP000000210_FA_Production>Stage_Manager-FA Production > Stage Manager    (Starts: 12/30/2023)","Project Plan","FD02","Active","2025-01-12T03:04:21.772455+00:00"]
[null,null,null,null,null,null,"PP000000211_FA_Production>Props","FA Production > Props    (Starts: 12/30/2023)","PP000000211_FA_Production>Props-FA Production > Props    (Starts: 12/30/2023)","Project Plan","FD02","Active","2025-01-12T03:04:21.824934+00:00"]
[null,null,null,null,null,null,"PP000000214_FA_Production>Front_of_House","FA Production > Front of House    (Starts: 12/30/2023)","PP000000214_FA_Production>Front_of_House-FA Production > Front of House    (Starts: 12/30/2023)","Project Plan","FD02","Active","2025-01-12T03:04:21.824934+00:00"]
[null,null,null,null,null,null,"PP000000215_FA_Production>Props","FA Production > Props    (Starts: 12/30/2023)","PP000000215_FA_Production>Props-FA Production > Props    (Starts: 12/30/2023)","Project Plan","FD02","Active","2025-01-12T03:04:21.824934+00:00"]
[null,null,null,null,null,null,"PP000000216_FA_Production>Run_Crew","FA Production > Run Crew    (Starts: 12/30/2023)","PP000000216_FA_Production>Run_Crew-FA Production > Run Crew    (Starts: 12/30/2023)","Project Plan","FD02","Active","2025-01-12T03:04:21.824934+00:00"]
[null,null,null,null,null,null,"PP000000218_FA_Production>Creative","FA Production > Creative    (Starts: 12/30/2023)","PP000000218_FA_Production>Creative-FA Production > Creative    (Starts: 12/30/2023)","Project Plan","FD02","Active","2025-01-12T03:04:21.824934+00:00"]
[null,null,null,null,null,null,"PP000000219_FA_Production>Costume_Shop","FA Production > Costume    (Starts: 12/30/2023)","PP000000219_FA_Production>Costume_Shop-FA Production > Costume    (Starts: 12/30/2023)","Project Plan","FD02","Active","2025-01-12T03:04:21.824934+00:00"]
[null,null,null,null,null,null,"PP000000220_FA_Production>Lighting","FA Production > Lighting    (Starts: 12/30/2023)","PP000000220_FA_Production>Lighting-FA Production > Lighting    (Starts: 12/30/2023)","Project Plan","FD02","Active","2025-01-12T03:04:21.824934+00:00"]
[null,null,null,null,null,null,"PP000000221_FA_Production>Run_Crew","FA Production > Run Crew    (Starts: 12/30/2023)","PP000000221_FA_Production>Run_Crew-FA Production > Run Crew    (Starts: 12/30/2023)","Project Plan","FD02","Active","2025-01-12T03:04:21.875336+00:00"]
[null,null,null,null,null,null,"PP000000223_FA_Production>Stage_Manager","FA Production > Stage Manager    (Starts: 12/30/2023)","PP000000223_FA_Production>Stage_Manager-FA Production > Stage Manager    (Starts: 12/30/2023)","Project Plan","FD02","Active","2025-01-12T03:04:21.875336+00:00"]
[null,null,null,null,null,null,"PP000000225_FA_Production>Marketing","FA Production > Marketing    (Starts: 12/30/2023)","PP000000225_FA_Production>Marketing-FA Production > Marketing    (Starts: 12/30/2023)","Project Plan","FD02","Active","2025-01-12T03:04:21.875336+00:00"]
[null,null,null,null,null,null,"PP000000226_FA_Production>Scene_Shop","FA Production > Scene Shop    (Starts: 12/30/2023)","PP000000226_FA_Production>Scene_Shop-FA Production > Scene Shop    (Starts: 12/30/2023)","Project Plan","FD02","Active","2025-01-12T03:04:21.875336+00:00"]
[null,null,null,null,null,null,"PP000000228_FA_Production>Props","FA Production > Props    (Starts: 12/30/2023)","PP000000228_FA_Production>Props-FA Production > Props    (Starts: 12/30/2023)","Project Plan","FD02","Active","2025-01-12T03:04:21.824934+00:00"]
[null,null,null,null,null,null,"PP000000229_FA_Production>Front_of_House","FA Production > Front of House    (Starts: 12/30/2023)","PP000000229_FA_Production>Front_of_House-FA Production > Front of House    (Starts: 12/30/2023)","Project Plan","FD02","Active","2025-01-12T03:04:21.875336+00:00"]
[null,null,null,null,null,null,"PP000000230_FA_Production>Marketing","FA Production > Marketing    (Starts: 12/30/2023)","PP000000230_FA_Production>Marketing-FA Production > Marketing    (Starts: 12/30/2023)","Project Plan","FD02","Active","2025-01-12T03:04:21.875336+00:00"]
[null,null,null,null,null,null,"PP000000233_FA_Production>Audio","FA Production > Audio    (Starts: 12/30/2023)","PP000000233_FA_Production>Audio-FA Production > Audio    (Starts: 12/30/2023)","Project Plan","FD02","Active","2025-01-12T03:04:21.937427+00:00"]
[null,null,null,null,null,null,"PP000000233_FA_Production>Marketing","FA Production > Marketing    (Starts: 12/30/2023)","PP000000233_FA_Production>Marketing-FA Production > Marketing    (Starts: 12/30/2023)","Project Plan","FD02","Active","2025-01-12T03:04:21.937427+00:00"]
[null,null,null,null,null,null,"PP000000235_FA_Production>Other","FA Production > Other    (Starts: 12/30/2023)","PP000000235_FA_Production>Other-FA Production > Other    (Starts: 12/30/2023)","Project Plan","FD02","Active","2025-01-12T03:04:21.937427+00:00"]
[null,null,null,null,null,null,"PP000000236_FA_Production>Stage_Manager","FA Production > Stage Manager    (Starts: 12/30/2023)","PP000000236_FA_Production>Stage_Manager-FA Production > Stage Manager    (Starts: 12/30/2023)","Project Plan","FD02","Active","2025-01-12T03:04:21.875336+00:00"]
[null,null,null,null,null,null,"PP000000238_FA_Production>FA_Makeup_Hair","FA Production > FA Makeup & Hair    (Starts: 12/30/2023)","PP000000238_FA_Production>FA_Makeup_Hair-FA Production > FA Makeup & Hair    (Starts: 12/30/2023)","Project Plan","FD02","Active","2025-01-12T03:04:21.875336+00:00"]
[null,null,null,null,null,null,"PP000000239_FA_Production>Costume_Shop","FA Production > Costume    (Starts: 12/30/2023)","PP000000239_FA_Production>Costume_Shop-FA Production > Costume    (Starts: 12/30/2023)","Project Plan","FD02","Active","2025-01-12T03:04:21.937427+00:00"]
[null,null,null,null,null,null,"PP000000240_FA_Production>Other","FA Production > Other    (Starts: 12/30/2023)","PP000000240_FA_Production>Other-FA Production > Other    (Starts: 12/30/2023)","Project Plan","FD02","Active","2025-01-12T03:04:21.937427+00:00"]
[null,null,null,null,null,null,"PP000000243_FA_Production>Audio","FA Production > Audio    (Starts: 12/30/2023)","PP000000243_FA_Production>Audio-FA Production > Audio    (Starts: 12/30/2023)","Project Plan","FD02","Active","2025-01-12T03:04:21.937427+00:00"]
[null,null,null,null,null,null,"PP000000244_FA_Production>Creative","FA Production > Creative    (Starts: 12/30/2023)","PP000000244_FA_Production>Creative-FA Production > Creative    (Starts: 12/30/2023)","Project Plan","FD02","Active","2025-01-12T03:04:21.937427+00:00"]
[null,null,null,null,null,null,"PP000000245_FA_Production>Producer","FA Production > Producer    (Starts: 12/30/2023)","PP000000245_FA_Production>Producer-FA Production > Producer    (Starts: 12/30/2023)","Project Plan","FD02","Active","2025-01-12T03:04:21.98+00:00"]
[null,null,null,null,null,null,"PP000000246_FA_Production>Marketing","FA Production > Marketing    (Starts: 12/30/2023)","PP000000246_FA_Production>Marketing-FA Production > Marketing    (Starts: 12/30/2023)","Project Plan","FD02","Active","2025-01-12T03:04:21.536697+00:00"]
[null,null,null,null,null,null,"PP000000248_FA_Production>Audio","FA Production > Audio    (Starts: 12/30/2023)","PP000000248_FA_Production>Audio-FA Production > Audio    (Starts: 12/30/2023)","Project Plan","FD02","Active","2025-01-12T03:04:21.536697+00:00"]
[null,null,null,null,null,null,"PP000000249_FA_Production>Creative","FA Production > Creative    (Starts: 12/30/2023)","PP000000249_FA_Production>Creative-FA Production > Creative    (Starts: 12/30/2023)","Project Plan","FD02","Active","2025-01-12T03:04:21.460794+00:00"]
[null,null,null,null,null,null,"PP000000251_FA_Production>FA_Makeup_Hair","FA Production > FA Makeup & Hair    (Starts: 12/30/2023)","PP000000251_FA_Production>FA_Makeup_Hair-FA Production > FA Makeup & Hair    (Starts: 12/30/2023)","Project Plan","FD02","Active","2025-01-12T03:04:21.460794+00:00"]
[null,null,null,null,null,null,"PP000000253_FA_Production>Costume_Shop","FA Production > Costume    (Starts: 12/30/2023)","PP000000253_FA_Production>Costume_Shop-FA Production > Costume    (Starts: 12/30/2023)","Project Plan","FD02","Active","2025-01-12T03:04:21.460794+00:00"]
[null,null,null,null,null,null,"PP000000254_FA_Production>FA_Makeup_Hair","FA Production > FA Makeup & Hair    (Starts: 12/30/2023)","PP000000254_FA_Production>FA_Makeup_Hair-FA Production > FA Makeup & Hair    (Starts: 12/30/2023)","Project Plan","FD02","Active","2025-01-12T03:04:21.592641+00:00"]
[null,null,null,null,null,null,"PP000000256_FA_Production>Audio","FA Production > Audio    (Starts: 12/30/2023)","PP000000256_FA_Production>Audio-FA Production > Audio    (Starts: 12/30/2023)","Project Plan","FD02","Active","2025-01-12T03:04:21.592641+00:00"]
[null,null,null,null,null,null,"PP000000256_FA_Production>Props","FA Production > Props    (Starts: 12/30/2023)","PP000000256_FA_Production>Props-FA Production > Props    (Starts: 12/30/2023)","Project Plan","FD02","Active","2025-01-12T03:04:21.592641+00:00"]
[null,null,null,null,null,null,"PP000000257_FA_Production>Scene_Shop","FA Production > Scene Shop    (Starts: 12/30/2023)","PP000000257_FA_Production>Scene_Shop-FA Production > Scene Shop    (Starts: 12/30/2023)","Project Plan","FD02","Active","2025-01-12T03:04:21.536697+00:00"]
[null,null,null,null,null,null,"PP000000259_FA_Production>Props","FA Production > Props    (Starts: 12/30/2023)","PP000000259_FA_Production>Props-FA Production > Props    (Starts: 12/30/2023)","Project Plan","FD02","Active","2025-01-12T03:04:21.536697+00:00"]
[null,null,null,null,null,null,"PP000000261_FA_Production>Run_Crew","FA Production > Run Crew    (Starts: 12/30/2023)","PP000000261_FA_Production>Run_Crew-FA Production > Run Crew    (Starts: 12/30/2023)","Project Plan","FD02","Active","2025-01-12T03:04:21.536697+00:00"]
[null,null,null,null,null,null,"PP000000262_FA_Production>Stage_Manager","FA Production > Stage Manager    (Starts: 12/30/2023)","PP000000262_FA_Production>Stage_Manager-FA Production > Stage Manager    (Starts: 12/30/2023)","Project Plan","FD02","Active","2025-01-12T03:04:21.592641+00:00"]
[null,null,null,null,null,null,"PP000000264_FA_Production>Other","FA Production > Other    (Starts: 12/30/2023)","PP000000264_FA_Production>Other-FA Production > Other    (Starts: 12/30/2023)","Project Plan","FD02","Active","2025-01-12T03:04:21.592641+00:00"]
[null,null,null,null,null,null,"PP000000265_FA_Production>Lighting","FA Production > Lighting    (Starts: 12/30/2023)","PP000000265_FA_Production>Lighting-FA Production > Lighting    (Starts: 12/30/2023)","Project Plan","FD02","Active","2025-01-12T03:04:21.536697+00:00"]
[null,null,null,null,null,null,"PP000000266_FA_Production>Run_Crew","FA Production > Run Crew    (Starts: 12/30/2023)","PP000000266_FA_Production>Run_Crew-FA Production > Run Crew    (Starts: 12/30/2023)","Project Plan","FD02","Active","2025-01-12T03:04:21.592641+00:00"]
[null,null,null,null,null,null,"PP000000267_FA_Production>Stage_Manager","FA Production > Stage Manager    (Starts: 12/30/2023)","PP000000267_FA_Production>Stage_Manager-FA Production > Stage Manager    (Starts: 12/30/2023)","Project Plan","FD02","Active","2025-01-12T03:04:21.536697+00:00"]
[null,null,null,null,null,null,"PP000000270_FA_Production>Marketing","FA Production > Marketing    (Starts: 12/30/2023)","PP000000270_FA_Production>Marketing-FA Production > Marketing    (Starts: 12/30/2023)","Project Plan","FD02","Active","2025-01-12T03:04:21.592641+00:00"]
[null,null,null,null,null,null,"PP000000271_FA_Production>Scene_Shop","FA Production > Scene Shop    (Starts: 12/30/2023)","PP000000271_FA_Production>Scene_Shop-FA Production > Scene Shop    (Starts: 12/30/2023)","Project Plan","FD02","Active","2025-01-12T03:04:21.937427+00:00"]
[null,null,null,null,null,null,"PP000000272_FA_Production>Props","FA Production > Props    (Starts: 12/30/2023)","PP000000272_FA_Production>Props-FA Production > Props    (Starts: 12/30/2023)","Project Plan","FD02","Active","2025-01-12T03:04:21.98+00:00"]
[null,null,null,null,null,null,"PP000000274_FA_Production>Audio","FA Production > Audio    (Starts: 12/30/2023)","PP000000274_FA_Production>Audio-FA Production > Audio    (Starts: 12/30/2023)","Project Plan","FD02","Active","2025-01-12T03:04:21.98+00:00"]
[null,null,null,null,null,null,"PP000000275_FA_Production>Marketing","FA Production > Marketing    (Starts: 12/30/2023)","PP000000275_FA_Production>Marketing-FA Production > Marketing    (Starts: 12/30/2023)","Project Plan","FD02","Active","2025-01-12T03:04:21.937427+00:00"]
[null,null,null,null,null,null,"PP000000277_FA_Production>Other","FA Production > Other    (Starts: 12/30/2023)","PP000000277_FA_Production>Other-FA Production > Other    (Starts: 12/30/2023)","Project Plan","FD02","Active","2025-01-12T03:04:21.937427+00:00"]
[null,null,null,null,null,null,"PP000000277_FA_Production>Stage_Manager","FA Production > Stage Manager    (Starts: 12/30/2023)","PP000000277_FA_Production>Stage_Manager-FA Production > Stage Manager    (Starts: 12/30/2023)","Project Plan","FD02","Active","2025-01-12T03:04:21.937427+00:00"]
[null,null,null,null,null,null,"PP000000280_FA_Production>Other","FA Production > Other    (Starts: 12/30/2023)","PP000000280_FA_Production>Other-FA Production > Other    (Starts: 12/30/2023)","Project Plan","FD02","Active","2025-01-12T03:04:21.98+00:00"]
[null,null,null,null,null,null,"PP000000280_FA_Production>Stage_Manager","FA Production > Stage Manager    (Starts: 12/30/2023)","PP000000280_FA_Production>Stage_Manager-FA Production > Stage Manager    (Starts: 12/30/2023)","Project Plan","FD02","Active","2025-01-12T03:04:21.98+00:00"]
[null,null,null,null,null,null,"PP000000282_FA_Production>Stage_Operations","FA Production > Stage Operations    (Starts: 12/30/2023)","PP000000282_FA_Production>Stage_Operations-FA Production > Stage Operations    (Starts: 12/30/2023)","Project Plan","FD02","Active","2025-01-12T03:04:21.98+00:00"]
[null,null,null,null,null,null,"PP000000284_FA_Production>Costume_Shop","FA Production > Costume    (Starts: 12/30/2023)","PP000000284_FA_Production>Costume_Shop-FA Production > Costume    (Starts: 12/30/2023)","Project Plan","FD02","Active","2025-01-12T03:04:21.536697+00:00"]
[null,null,null,null,null,null,"PP000000285_FA_Production>Props","FA Production > Props    (Starts: 12/30/2023)","PP000000285_FA_Production>Props-FA Production > Props    (Starts: 12/30/2023)","Project Plan","FD02","Active","2025-01-12T03:04:21.650491+00:00"]
[null,null,null,null,null,null,"PP000000286_FA_Production>Producer","Commercial Musi: FA Production > Producer    (Starts: 12/30/2023)","PP000000286_FA_Production>Producer-Commercial Musi: FA Production > Producer    (Starts: 12/30/2023)","Project Plan","FD02","Active","2025-01-12T03:04:21.592641+00:00"]
[null,null,null,null,null,null,"PP000000289_FA_Production>Creative","FA Production > Creative    (Starts: 12/30/2023)","PP000000289_FA_Production>Creative-FA Production > Creative    (Starts: 12/30/2023)","Project Plan","FD02","Active","2025-01-12T03:04:21.650491+00:00"]
[null,null,null,null,null,null,"PP000000290_FA_Production>Run_Crew","FA Production > Run Crew    (Starts: 12/30/2023)","PP000000290_FA_Production>Run_Crew-FA Production > Run Crew    (Starts: 12/30/2023)","Project Plan","FD02","Active","2025-01-12T03:04:21.592641+00:00"]
[null,null,null,null,null,null,"PP000000291_FA_Production>Projection","FA Production > Projection    (Starts: 12/30/2023)","PP000000291_FA_Production>Projection-FA Production > Projection    (Starts: 12/30/2023)","Project Plan","FD02","Active","2025-01-12T03:04:21.650491+00:00"]
[null,null,null,null,null,null,"PP000000292_FA_Production>Run_Crew","FA Production > Run Crew    (Starts: 12/30/2023)","PP000000292_FA_Production>Run_Crew-FA Production > Run Crew    (Starts: 12/30/2023)","Project Plan","FD02","Active","2025-01-12T03:04:21.592641+00:00"]
[null,null,null,null,null,null,"PP000000824_FA_Production>Creative","FA Production > Creative    (Starts: 12/30/2023)","PP000000824_FA_Production>Creative-FA Production > Creative    (Starts: 12/30/2023)","Project Plan","FD02","Active","2025-01-12T03:04:21.98+00:00"]
[null,null,null,null,null,null,"PP000000825_FA_Production>FA_Makeup_Hair","FA Production > FA Makeup & Hair    (Starts: 12/30/2023)","PP000000825_FA_Production>FA_Makeup_Hair-FA Production > FA Makeup & Hair    (Starts: 12/30/2023)","Project Plan","FD02","Active","2025-01-12T03:04:21.98+00:00"]
[null,null,null,null,null,null,"PP000000892_FA_Production>Costume_Shop","FA Production > Costume    (Starts: 12/30/2023)","PP000000892_FA_Production>Costume_Shop-FA Production > Costume    (Starts: 12/30/2023)","Project Plan","FD02","Active","2025-01-12T03:04:21.650491+00:00"]
[null,null,null,null,null,null,"PP000000892_FA_Production>Stage_Operations","FA Production > Stage Operations    (Starts: 12/30/2023)","PP000000892_FA_Production>Stage_Operations-FA Production > Stage Operations    (Starts: 12/30/2023)","Project Plan","FD02","Active","2025-01-12T03:04:21.709885+00:00"]
[null,null,null,null,null,null,"PP000000919_FA_Production>Front_of_House","FA Production > Front of House    (Starts: 12/30/2023)","PP000000919_FA_Production>Front_of_House-FA Production > Front of House    (Starts: 12/30/2023)","Project Plan","FD02","Active","2025-01-12T03:04:21.709885+00:00"]
[null,null,null,null,null,null,"PP000000920_FA_Production>Props","FA Production > Props    (Starts: 12/30/2023)","PP000000920_FA_Production>Props-FA Production > Props    (Starts: 12/30/2023)","Project Plan","FD02","Active","2025-01-12T03:04:21.650491+00:00"]
[null,null,null,null,null,null,"PP000000922_FA_Production>Run_Crew","FA Production > Run Crew    (Starts: 12/30/2023)","PP000000922_FA_Production>Run_Crew-FA Production > Run Crew    (Starts: 12/30/2023)","Project Plan","FD02","Active","2025-01-12T03:04:21.650491+00:00"]
[null,null,null,null,null,null,"PP000000922_FA_Production>Stage_Manager","FA Production > Stage Manager    (Starts: 12/30/2023)","PP000000922_FA_Production>Stage_Manager-FA Production > Stage Manager    (Starts: 12/30/2023)","Project Plan","FD02","Active","2025-01-12T03:04:21.650491+00:00"]
[null,null,null,null,null,null,"PP000000925_FA_Production>Run_Crew","FA Production > Run Crew    (Starts: 12/30/2023)","PP000000925_FA_Production>Run_Crew-FA Production > Run Crew    (Starts: 12/30/2023)","Project Plan","FD02","Active","2025-01-12T03:04:21.772455+00:00"]
[null,null,null,null,null,null,"PP000000926_FA_Production>Stage_Manager","Philharmonic: FA Production > Stage Manager    (Starts: 12/30/2023)","PP000000926_FA_Production>Stage_Manager-Philharmonic: FA Production > Stage Manager    (Starts: 12/30/2023)","Project Plan","FD02","Active","2025-01-12T03:04:21.709885+00:00"]
[null,null,null,null,null,null,"PP000001027_FA_Production>Other","FA Production > Other    (Starts: 12/30/2023)","PP000001027_FA_Production>Other-FA Production > Other    (Starts: 12/30/2023)","Project Plan","FD02","Active","2025-01-12T03:04:21.772455+00:00"]
[null,null,null,null,null,null,"PP000001029_FA_Production>Lighting","FA Production > Lighting    (Starts: 12/30/2023)","PP000001029_FA_Production>Lighting-FA Production > Lighting    (Starts: 12/30/2023)","Project Plan","FD02","Active","2025-01-12T03:04:21.772455+00:00"]
[null,null,null,null,null,null,"PP000001031_FA_Production>Other","FA Production > Other    (Starts: 12/30/2023)","PP000001031_FA_Production>Other-FA Production > Other    (Starts: 12/30/2023)","Project Plan","FD02","Active","2025-01-12T03:04:21.772455+00:00"]
[null,null,null,null,null,null,"PP000002062_FA_Production>FA_Makeup_Hair","FA Production > FA Makeup & Hair    (Starts: 12/30/2023)","PP000002062_FA_Production>FA_Makeup_Hair-FA Production > FA Makeup & Hair    (Starts: 12/30/2023)","Project Plan","FD02","Active","2025-01-12T03:04:22.024732+00:00"]
[null,null,null,null,null,null,"PP000002426_FA_Production>Lighting","haracters of Myth: FA Production > Lighting    (Starts: 12/30/2023)","PP000002426_FA_Production>Lighting-haracters of Myth: FA Production > Lighting    (Starts: 12/30/2023)","Project Plan","FD02","Active","2025-01-12T03:04:22.083811+00:00"]
[null,null,null,null,null,null,"PP000002427_FA_Production>Run_Crew","FA Production > Run Crew    (Starts: 12/30/2023)","PP000002427_FA_Production>Run_Crew-FA Production > Run Crew    (Starts: 12/30/2023)","Project Plan","FD02","Active","2025-01-12T03:04:22.024732+00:00"]
[null,null,null,null,null,null,"PP000002432_FA_Production>Audio","Recitals: FA Production > Audio    (Starts: 12/30/2023)","PP000002432_FA_Production>Audio-Recitals: FA Production > Audio    (Starts: 12/30/2023)","Project Plan","FD02","Active","2025-01-12T03:04:21.772455+00:00"]
[null,null,null,null,null,null,"PP000002432_FA_Production>Stage_Operations","Recitals: FA Production > Stage Operations    (Starts: 12/30/2023)","PP000002432_FA_Production>Stage_Operations-Recitals: FA Production > Stage Operations    (Starts: 12/30/2023)","Project Plan","FD02","Active","2025-01-12T03:04:21.772455+00:00"]
[null,null,null,null,null,null,"PP000002434_FA_Production>Lighting","FA Production > Lighting    (Starts: 12/30/2023)","PP000002434_FA_Production>Lighting-FA Production > Lighting    (Starts: 12/30/2023)","Project Plan","FD02","Active","2025-01-12T03:04:22.024732+00:00"]
[null,null,null,null,null,null,"PP000002435_FA_Production>Marketing","FA Production > Marketing    (Starts: 12/30/2023)","PP000002435_FA_Production>Marketing-FA Production > Marketing    (Starts: 12/30/2023)","Project Plan","FD02","Active","2025-01-12T03:04:21.98+00:00"]
[null,null,null,null,null,null,"PP000002490_FA_Production>Audio","FA Production > Audio    (Starts: 12/30/2023)","PP000002490_FA_Production>Audio-FA Production > Audio    (Starts: 12/30/2023)","Project Plan","FD02","Active","2025-01-12T03:04:22.024732+00:00"]
[null,null,null,null,null,null,"PP000002491_FA_Production>Marketing","FA Production > Marketing    (Starts: 12/30/2023)","PP000002491_FA_Production>Marketing-FA Production > Marketing    (Starts: 12/30/2023)","Project Plan","FD02","Active","2025-01-12T03:04:22.024732+00:00"]
[null,null,null,null,null,null,"PP000002492_FA_Production>FA_Makeup_Hair","FA Production > FA Makeup & Hair    (Starts: 12/30/2023)","PP000002492_FA_Production>FA_Makeup_Hair-FA Production > FA Makeup & Hair    (Starts: 12/30/2023)","Project Plan","FD02","Active","2025-01-12T03:04:22.024732+00:00"]
[null,null,null,null,null,null,"PP000002493_FA_Production>Stage_Manager","FA Production > Stage Manager    (Starts: 12/30/2023)","PP000002493_FA_Production>Stage_Manager-FA Production > Stage Manager    (Starts: 12/30/2023)","Project Plan","FD02","Active","2025-01-12T03:04:22.024732+00:00"]
[null,null,null,null,null,null,"PP000002543_FA_Production>Audio","FA Production > Audio    (Starts: 12/30/2023)","PP000002543_FA_Production>Audio-FA Production > Audio    (Starts: 12/30/2023)","Project Plan","FD02","Active","2025-01-12T03:04:22.024732+00:00"]
[null,null,null,null,null,null,"PP000002568_FA_Production>Audio","FA Production > Audio    (Starts: 12/30/2023)","PP000002568_FA_Production>Audio-FA Production > Audio    (Starts: 12/30/2023)","Project Plan","FD02","Active","2025-01-12T03:04:22.024732+00:00"]
[null,null,null,null,null,null,"PP000002568_FA_Production>Other","FA Production > Other    (Starts: 12/30/2023)","PP000002568_FA_Production>Other-FA Production > Other    (Starts: 12/30/2023)","Project Plan","FD02","Active","2025-01-12T03:04:22.024732+00:00"]
[null,null,null,null,null,null,"PP000002643_FA_Production>Costume_Shop","FA Production > Costume    (Starts: 12/30/2023)","PP000002643_FA_Production>Costume_Shop-FA Production > Costume    (Starts: 12/30/2023)","Project Plan","FD02","Active","2025-01-12T03:04:22.024732+00:00"]
[null,null,null,null,null,null,"PP000002643_FA_Production>Marketing","FA Production > Marketing    (Starts: 12/30/2023)","PP000002643_FA_Production>Marketing-FA Production > Marketing    (Starts: 12/30/2023)","Project Plan","FD02","Active","2025-01-12T03:04:22.024732+00:00"]
[null,null,null,null,null,null,"PP000002868_FA_Production>Producer","FA Production > Producer    (Starts: 12/30/2023)","PP000002868_FA_Production>Producer-FA Production > Producer    (Starts: 12/30/2023)","Project Plan","FD02","Active","2025-01-12T03:04:22.083811+00:00"]
[null,null,null,null,null,null,"PP000002869_FA_Production>Props","FA Production > Props    (Starts: 12/30/2023)","PP000002869_FA_Production>Props-FA Production > Props    (Starts: 12/30/2023)","Project Plan","FD02","Active","2025-01-12T03:04:22.134052+00:00"]
[null,null,null,null,null,null,"PP000002871_FA_Production>Other","FA Production > Other    (Starts: 12/30/2023)","PP000002871_FA_Production>Other-FA Production > Other    (Starts: 12/30/2023)","Project Plan","FD02","Active","2025-01-12T03:04:22.134052+00:00"]
[null,null,null,null,null,null,"PP000002872_FA_Production>Creative","FA Production > Creative    (Starts: 12/30/2023)","PP000002872_FA_Production>Creative-FA Production > Creative    (Starts: 12/30/2023)","Project Plan","FD02","Active","2025-01-12T03:04:22.083811+00:00"]
[null,null,null,null,null,null,"PP000003035_FA_Production>Run_Crew","Babe the Sheep Pig: FA Production > Run Crew    (Starts: 02/01/2024)","PP000003035_FA_Production>Run_Crew-Babe the Sheep Pig: FA Production > Run Crew    (Starts: 02/01/2024)","Project Plan","FD02","Active","2025-01-12T03:04:22.134052+00:00"]
[null,null,null,null,null,null,"PP000003035_FA_Production>Stage_Manager","Babe the Sheep Pig: FA Production > Stage Manager    (Starts: 02/01/2024)","PP000003035_FA_Production>Stage_Manager-Babe the Sheep Pig: FA Production > Stage Manager    (Starts: 02/01/2024)","Project Plan","FD02","Active","2025-01-12T03:04:22.134052+00:00"]
[null,null,null,null,null,null,"PP000003243_FA_Production>FA_Makeup_Hair","FA Production > FA Makeup & Hair    (Starts: 02/01/2024)","PP000003243_FA_Production>FA_Makeup_Hair-FA Production > FA Makeup & Hair    (Starts: 02/01/2024)","Project Plan","FD02","Active","2025-01-12T03:04:22.134052+00:00"]
[null,null,null,null,null,null,"PP000003449_FA_Production>Projection","FA Production > Projection    (Starts: 09/30/2024)","PP000003449_FA_Production>Projection-FA Production > Projection    (Starts: 09/30/2024)","Project Plan","FD02","Active","2025-01-12T03:04:22.024732+00:00"]
[null,null,null,null,null,null,"PP000003531_FA_Production>Props","FA Production > Props    (Starts: 09/30/2024)","PP000003531_FA_Production>Props-FA Production > Props    (Starts: 09/30/2024)","Project Plan","FD02","Active","2025-01-12T03:04:22.083811+00:00"]
[null,null,null,null,null,null,"PP000003532_FA_Production>Scene_Shop","FA Production > Scene Shop    (Starts: 09/30/2024)","PP000003532_FA_Production>Scene_Shop-FA Production > Scene Shop    (Starts: 09/30/2024)","Project Plan","FD02","Active","2025-01-12T03:04:22.134052+00:00"]
[null,null,null,null,null,null,"PP000003536_FA_Production>FA_Makeup_Hair","FA Production > FA Makeup & Hair    (Starts: 09/30/2024)","PP000003536_FA_Production>FA_Makeup_Hair-FA Production > FA Makeup & Hair    (Starts: 09/30/2024)","Project Plan","FD02","Active","2025-02-14T03:03:46.24314+00:00"]
[null,null,null,null,null,null,"PP000003995_FA_Production>Other","FA Production > Other    (Starts: 10/01/2024)","PP000003995_FA_Production>Other-FA Production > Other    (Starts: 10/01/2024)","Project Plan","FD02","Active","2025-01-28T03:04:30.001237+00:00"]
[null,null,null,null,null,null,"PPIT000000688_OIT>a>Deliver","OIT > Deliver    (Starts: 01/01/2025)","PPIT000000688_OIT>a>Deliver-OIT > Deliver    (Starts: 01/01/2025)","Project Plan","FD01","Active","2025-04-06T02:03:51.690599+00:00"]
[null,null,null,null,null,null,"PPOP000000101_OIT>d>User_Support","OIT > User Support  (01/01/2025 - 12/31/2025)","PPOP000000101_OIT>d>User_Support-OIT > User Support  (01/01/2025 - 12/31/2025)","Project Plan","FD01","Active","2025-01-02T03:05:12.976744+00:00"]
[null,null,null,null,null,null,"PPOP000000103_OIT>c>Order_Fulfillment","OIT > Order Fulfillment  (01/01/2025 - 12/31/2025)","PPOP000000103_OIT>c>Order_Fulfillment-OIT > Order Fulfillment  (01/01/2025 - 12/31/2025)","Project Plan","FD01","Active","2025-01-02T03:05:12.976744+00:00"]
[null,null,null,null,null,null,"PPOP000000109_OIT>a>Maintenance","OIT > Maintenance  (01/01/2025 - 12/31/2025)","PPOP000000109_OIT>a>Maintenance-OIT > Maintenance  (01/01/2025 - 12/31/2025)","Project Plan","FD01","Active","2025-01-02T03:05:12.976744+00:00"]
[null,null,null,null,null,null,"PPOP000000112_OIT>c>Order_Fulfillment","OIT > Order Fulfillment  (01/01/2025 - 12/31/2025)","PPOP000000112_OIT>c>Order_Fulfillment-OIT > Order Fulfillment  (01/01/2025 - 12/31/2025)","Project Plan","FD01","Active","2025-01-02T03:05:13.038921+00:00"]
[null,null,null,null,null,null,"PPOP000000117_OIT>e>Consultation_Planning","OIT > Consultation & Planning  (01/01/2025 - 12/31/2025)","PPOP000000117_OIT>e>Consultation_Planning-OIT > Consultation & Planning  (01/01/2025 - 12/31/2025)","Project Plan","FD01","Active","2025-01-02T03:05:12.976744+00:00"]
[null,null,null,null,null,null,"PPOP000000124_OIT>b>Enhancement","OIT > Enhancement  (01/01/2025 - 12/31/2025)","PPOP000000124_OIT>b>Enhancement-OIT > Enhancement  (01/01/2025 - 12/31/2025)","Project Plan","FD01","Active","2025-01-02T03:05:13.038921+00:00"]
[null,null,null,null,null,null,"PPOP000000127_OIT>d>User_Support","OIT > User Support  (01/01/2025 - 12/31/2025)","PPOP000000127_OIT>d>User_Support-OIT > User Support  (01/01/2025 - 12/31/2025)","Project Plan","FD01","Active","2025-01-02T03:05:13.038921+00:00"]
[null,null,null,null,null,null,"PPOP000000133_OIT>a>Maintenance","OIT > Maintenance  (01/01/2025 - 12/31/2025)","PPOP000000133_OIT>a>Maintenance-OIT > Maintenance  (01/01/2025 - 12/31/2025)","Project Plan","FD01","Active","2025-01-02T03:05:13.038921+00:00"]
[null,null,null,null,null,null,"PPOP000000135_OIT>a>Maintenance","OIT > Maintenance  (01/01/2025 - 12/31/2025)","PPOP000000135_OIT>a>Maintenance-OIT > Maintenance  (01/01/2025 - 12/31/2025)","Project Plan","FD01","Active","2025-01-02T03:05:13.038921+00:00"]
[null,null,null,null,null,null,"PPOP000000138_OIT>c>Order_Fulfillment","OIT > Order Fulfillment  (01/01/2025 - 12/31/2025)","PPOP000000138_OIT>c>Order_Fulfillment-OIT > Order Fulfillment  (01/01/2025 - 12/31/2025)","Project Plan","FD01","Active","2025-01-02T03:05:13.038921+00:00"]
[null,null,null,null,null,null,"PPOP000000143_OIT>b>Enhancement","OIT > Enhancement  (01/01/2025 - 12/31/2025)","PPOP000000143_OIT>b>Enhancement-OIT > Enhancement  (01/01/2025 - 12/31/2025)","Project Plan","FD01","Active","2025-02-20T03:04:04.15874+00:00"]
[null,null,null,null,null,null,"PPOP000000150_OIT>b>Enhancement","OIT > Enhancement  (01/01/2025 - 12/31/2025)","PPOP000000150_OIT>b>Enhancement-OIT > Enhancement  (01/01/2025 - 12/31/2025)","Project Plan","FD01","Active","2025-01-02T03:05:13.093738+00:00"]
[null,null,null,null,null,null,"PPOP000000153_OIT>d>User_Support","OIT > User Support  (01/01/2025 - 12/31/2025)","PPOP000000153_OIT>d>User_Support-OIT > User Support  (01/01/2025 - 12/31/2025)","Project Plan","FD01","Active","2025-01-02T03:05:13.038921+00:00"]
[null,null,null,null,null,null,"PPOP000000180_OIT>a>Deliver","OIT > Deliver    (Starts: 01/01/2025)","PPOP000000180_OIT>a>Deliver-OIT > Deliver    (Starts: 01/01/2025)","Project Plan","FD01","Active","2025-01-08T03:04:37.01015+00:00"]
[null,null,null,null,null,null,"PPOP000000228_OIT>c>Order_Fulfillment","OIT > Order Fulfillment","PPOP000000228_OIT>c>Order_Fulfillment-OIT > Order Fulfillment","Project Plan","FD01","Active","2025-01-08T03:04:37.01015+00:00"]
[null,null,null,null,null,null,"PPOP000000261_OIT>a>Deliver","OIT > Deliver    (Starts: 01/01/2025)","PPOP000000261_OIT>a>Deliver-OIT > Deliver    (Starts: 01/01/2025)","Project Plan","FD01","Active","2025-01-02T03:05:13.093738+00:00"]
[null,null,null,null,null,null,"PPOP000000406_OIT>c>Order_Fulfillment","OIT > Order Fulfillment  (01/01/2025 - 12/31/2025)","PPOP000000406_OIT>c>Order_Fulfillment-OIT > Order Fulfillment  (01/01/2025 - 12/31/2025)","Project Plan","FD01","Active","2025-01-29T03:04:18.341583+00:00"]
[null,null,null,null,null,null,"PPOP000000427_OIT>c>Order_Fulfillment","OIT > Order Fulfillment  (01/01/2025 - 12/31/2025)","PPOP000000427_OIT>c>Order_Fulfillment-OIT > Order Fulfillment  (01/01/2025 - 12/31/2025)","Project Plan","FD01","Active","2025-01-29T03:04:18.341583+00:00"]
[null,null,null,null,null,null,"PPOP000000451_OIT>d>User_Support","OIT > User Support  (01/01/2025 - 12/31/2025)","PPOP000000451_OIT>d>User_Support-OIT > User Support  (01/01/2025 - 12/31/2025)","Project Plan","FD01","Active","2025-02-08T03:04:07.450549+00:00"]
[null,null,null,null,null,null,"PPOP000000458_OIT>c>Order_Fulfillment","OIT > Order Fulfillment  (01/01/2025 - 12/31/2025)","PPOP000000458_OIT>c>Order_Fulfillment-OIT > Order Fulfillment  (01/01/2025 - 12/31/2025)","Project Plan","FD01","Active","2025-02-11T16:05:13.368373+00:00"]
[null,null,null,null,null,null,"PPOP000000460_OIT>c>Order_Fulfillment","OIT > Order Fulfillment  (01/01/2025 - 12/31/2025)","PPOP000000460_OIT>c>Order_Fulfillment-OIT > Order Fulfillment  (01/01/2025 - 12/31/2025)","Project Plan","FD01","Active","2025-02-11T16:05:13.368373+00:00"]
[null,null,null,null,null,null,"PPOP000000460_OIT>d>User_Support","OIT > User Support  (01/01/2025 - 12/31/2025)","PPOP000000460_OIT>d>User_Support-OIT > User Support  (01/01/2025 - 12/31/2025)","Project Plan","FD01","Active","2025-02-11T16:05:13.368373+00:00"]
[null,null,null,null,null,null,"PPOP000000460_OIT>e>Consultation_Planning","OIT > Consultation & Planning  (01/01/2025 - 12/31/2025)","PPOP000000460_OIT>e>Consultation_Planning-OIT > Consultation & Planning  (01/01/2025 - 12/31/2025)","Project Plan","FD01","Active","2025-02-11T16:05:13.368373+00:00"]
[null,null,null,null,null,null,"PPOP000000461_OIT>a>Maintenance","OIT > Maintenance  (01/01/2025 - 12/31/2025)","PPOP000000461_OIT>a>Maintenance-OIT > Maintenance  (01/01/2025 - 12/31/2025)","Project Plan","FD01","Active","2025-03-27T02:04:07.663585+00:00"]
[null,null,null,null,null,null,"PPOP000000461_OIT>b>Enhancement","OIT > Enhancement  (01/01/2025 - 12/31/2025)","PPOP000000461_OIT>b>Enhancement-OIT > Enhancement  (01/01/2025 - 12/31/2025)","Project Plan","FD01","Active","2025-03-27T02:04:07.663585+00:00"]
[null,null,null,null,null,null,"PPOP000000461_OIT>c>Order_Fulfillment","OIT > Order Fulfillment  (01/01/2025 - 12/31/2025)","PPOP000000461_OIT>c>Order_Fulfillment-OIT > Order Fulfillment  (01/01/2025 - 12/31/2025)","Project Plan","FD01","Active","2025-03-27T02:04:07.663585+00:00"]
[null,null,null,null,null,null,"PPOP000000461_OIT>d>User_Support","OIT > User Support  (01/01/2025 - 12/31/2025)","PPOP000000461_OIT>d>User_Support-OIT > User Support  (01/01/2025 - 12/31/2025)","Project Plan","FD01","Active","2025-03-27T02:04:07.663585+00:00"]
[null,null,null,null,null,null,"PPOP000000461_OIT>e>Consultation_Planning","OIT > Consultation & Planning  (01/01/2025 - 12/31/2025)","PPOP000000461_OIT>e>Consultation_Planning-OIT > Consultation & Planning  (01/01/2025 - 12/31/2025)","Project Plan","FD01","Active","2025-03-27T02:04:07.663585+00:00"]
[null,null,null,null,null,null,"PPOP000000462_OIT>a>Maintenance","OIT > Maintenance  (01/01/2025 - 12/31/2025)","PPOP000000462_OIT>a>Maintenance-OIT > Maintenance  (01/01/2025 - 12/31/2025)","Project Plan","FD01","Active","2025-02-11T16:05:13.368373+00:00"]
[null,null,null,null,null,null,"PPOP000000462_OIT>b>Enhancement","OIT > Enhancement  (01/01/2025 - 12/31/2025)","PPOP000000462_OIT>b>Enhancement-OIT > Enhancement  (01/01/2025 - 12/31/2025)","Project Plan","FD01","Active","2025-02-11T16:05:16.411397+00:00"]
[null,null,null,null,null,null,"PPOP000000462_OIT>c>Order_Fulfillment","OIT > Order Fulfillment  (01/01/2025 - 12/31/2025)","PPOP000000462_OIT>c>Order_Fulfillment-OIT > Order Fulfillment  (01/01/2025 - 12/31/2025)","Project Plan","FD01","Active","2025-02-11T16:05:16.411397+00:00"]
[null,null,null,null,null,null,"PPOP000000462_OIT>d>User_Support","OIT > User Support  (01/01/2025 - 12/31/2025)","PPOP000000462_OIT>d>User_Support-OIT > User Support  (01/01/2025 - 12/31/2025)","Project Plan","FD01","Active","2025-02-11T16:05:16.411397+00:00"]
[null,null,null,null,null,null,"PPOP000000462_OIT>e>Consultation_Planning","OIT > Consultation & Planning  (01/01/2025 - 12/31/2025)","PPOP000000462_OIT>e>Consultation_Planning-OIT > Consultation & Planning  (01/01/2025 - 12/31/2025)","Project Plan","FD01","Active","2025-02-11T16:05:16.411397+00:00"]
[null,null,null,null,null,null,"PPOP000000463_OIT>a>Maintenance","OIT > Maintenance  (01/01/2025 - 12/31/2025)","PPOP000000463_OIT>a>Maintenance-OIT > Maintenance  (01/01/2025 - 12/31/2025)","Project Plan","FD01","Active","2025-02-11T16:05:13.368373+00:00"]
[null,null,null,null,null,null,"PPOP000000463_OIT>b>Enhancement","OIT > Enhancement  (01/01/2025 - 12/31/2025)","PPOP000000463_OIT>b>Enhancement-OIT > Enhancement  (01/01/2025 - 12/31/2025)","Project Plan","FD01","Active","2025-02-11T16:05:13.368373+00:00"]
[null,null,null,null,null,null,"PPOP000000463_OIT>c>Order_Fulfillment","OIT > Order Fulfillment  (01/01/2025 - 12/31/2025)","PPOP000000463_OIT>c>Order_Fulfillment-OIT > Order Fulfillment  (01/01/2025 - 12/31/2025)","Project Plan","FD01","Active","2025-02-11T16:05:13.368373+00:00"]
[null,null,null,null,null,null,"PPOP000000463_OIT>d>User_Support","OIT > User Support  (01/01/2025 - 12/31/2025)","PPOP000000463_OIT>d>User_Support-OIT > User Support  (01/01/2025 - 12/31/2025)","Project Plan","FD01","Active","2025-02-11T16:05:13.368373+00:00"]
[null,null,null,null,null,null,"PPOP000000463_OIT>e>Consultation_Planning","OIT > Consultation & Planning  (01/01/2025 - 12/31/2025)","PPOP000000463_OIT>e>Consultation_Planning-OIT > Consultation & Planning  (01/01/2025 - 12/31/2025)","Project Plan","FD01","Active","2025-02-11T16:05:13.368373+00:00"]
[null,null,null,null,null,null,"PPOP000000464_OIT>a>Maintenance","OIT > Maintenance  (01/01/2025 - 12/31/2025)","PPOP000000464_OIT>a>Maintenance-OIT > Maintenance  (01/01/2025 - 12/31/2025)","Project Plan","FD01","Active","2025-02-11T16:05:16.411397+00:00"]
[null,null,null,null,null,null,"PPOP000000464_OIT>b>Enhancement","OIT > Enhancement  (01/01/2025 - 12/31/2025)","PPOP000000464_OIT>b>Enhancement-OIT > Enhancement  (01/01/2025 - 12/31/2025)","Project Plan","FD01","Active","2025-02-11T16:05:16.411397+00:00"]
[null,null,null,null,null,null,"PPOP000000464_OIT>c>Order_Fulfillment","OIT > Order Fulfillment  (01/01/2025 - 12/31/2025)","PPOP000000464_OIT>c>Order_Fulfillment-OIT > Order Fulfillment  (01/01/2025 - 12/31/2025)","Project Plan","FD01","Active","2025-02-11T16:05:16.411397+00:00"]
[null,null,null,null,null,null,"PPOP000000464_OIT>d>User_Support","OIT > User Support  (01/01/2025 - 12/31/2025)","PPOP000000464_OIT>d>User_Support-OIT > User Support  (01/01/2025 - 12/31/2025)","Project Plan","FD01","Active","2025-02-11T16:05:16.411397+00:00"]
[null,null,null,null,null,null,"PPOP000000464_OIT>e>Consultation_Planning","OIT > Consultation & Planning  (01/01/2025 - 12/31/2025)","PPOP000000464_OIT>e>Consultation_Planning-OIT > Consultation & Planning  (01/01/2025 - 12/31/2025)","Project Plan","FD01","Active","2025-02-11T16:05:16.411397+00:00"]
[null,null,null,null,null,null,"PPOP000000465_OIT>a>Maintenance","OIT > Maintenance  (01/01/2025 - 12/31/2025)","PPOP000000465_OIT>a>Maintenance-OIT > Maintenance  (01/01/2025 - 12/31/2025)","Project Plan","FD01","Active","2025-02-12T03:04:46.358961+00:00"]
[null,null,null,null,null,null,"PPOP000000465_OIT>b>Enhancement","OIT > Enhancement  (01/01/2025 - 12/31/2025)","PPOP000000465_OIT>b>Enhancement-OIT > Enhancement  (01/01/2025 - 12/31/2025)","Project Plan","FD01","Active","2025-02-12T03:04:46.358961+00:00"]
[null,null,null,null,null,null,"PPOP000000465_OIT>c>Order_Fulfillment","OIT > Order Fulfillment  (01/01/2025 - 12/31/2025)","PPOP000000465_OIT>c>Order_Fulfillment-OIT > Order Fulfillment  (01/01/2025 - 12/31/2025)","Project Plan","FD01","Active","2025-02-12T03:04:46.358961+00:00"]
[null,null,null,null,null,null,"PPOP000000465_OIT>d>User_Support","OIT > User Support  (01/01/2025 - 12/31/2025)","PPOP000000465_OIT>d>User_Support-OIT > User Support  (01/01/2025 - 12/31/2025)","Project Plan","FD01","Active","2025-02-12T03:04:46.358961+00:00"]
[null,null,null,null,null,null,"PPOP000000465_OIT>e>Consultation_Planning","OIT > Consultation & Planning  (01/01/2025 - 12/31/2025)","PPOP000000465_OIT>e>Consultation_Planning-OIT > Consultation & Planning  (01/01/2025 - 12/31/2025)","Project Plan","FD01","Active","2025-02-12T03:04:46.358961+00:00"]
[null,null,null,null,null,null,"PPOP000000466_OIT>a>Maintenance","OIT > Maintenance  (01/01/2025 - 12/31/2025)","PPOP000000466_OIT>a>Maintenance-OIT > Maintenance  (01/01/2025 - 12/31/2025)","Project Plan","FD01","Active","2025-02-11T16:05:16.411397+00:00"]
[null,null,null,null,null,null,"PPOP000000466_OIT>b>Enhancement","OIT > Enhancement  (01/01/2025 - 12/31/2025)","PPOP000000466_OIT>b>Enhancement-OIT > Enhancement  (01/01/2025 - 12/31/2025)","Project Plan","FD01","Active","2025-02-11T16:05:16.411397+00:00"]
[null,null,null,null,null,null,"PPOP000000466_OIT>c>Order_Fulfillment","OIT > Order Fulfillment  (01/01/2025 - 12/31/2025)","PPOP000000466_OIT>c>Order_Fulfillment-OIT > Order Fulfillment  (01/01/2025 - 12/31/2025)","Project Plan","FD01","Active","2025-02-11T16:05:16.411397+00:00"]
[null,null,null,null,null,null,"PPOP000000466_OIT>d>User_Support","OIT > User Support  (01/01/2025 - 12/31/2025)","PPOP000000466_OIT>d>User_Support-OIT > User Support  (01/01/2025 - 12/31/2025)","Project Plan","FD01","Active","2025-02-11T16:05:16.411397+00:00"]
[null,null,null,null,null,null,"PPOP000000466_OIT>e>Consultation_Planning","OIT > Consultation & Planning  (01/01/2025 - 12/31/2025)","PPOP000000466_OIT>e>Consultation_Planning-OIT > Consultation & Planning  (01/01/2025 - 12/31/2025)","Project Plan","FD01","Active","2025-02-11T16:05:16.411397+00:00"]
[null,null,null,null,null,null,"PPOP000000467_OIT>a>Maintenance","OIT > Maintenance  (01/01/2025 - 12/31/2025)","PPOP000000467_OIT>a>Maintenance-OIT > Maintenance  (01/01/2025 - 12/31/2025)","Project Plan","FD01","Active","2025-02-11T16:05:16.411397+00:00"]
[null,null,null,null,null,null,"PPOP000000467_OIT>b>Enhancement","OIT > Enhancement  (01/01/2025 - 12/31/2025)","PPOP000000467_OIT>b>Enhancement-OIT > Enhancement  (01/01/2025 - 12/31/2025)","Project Plan","FD01","Active","2025-02-11T16:05:16.411397+00:00"]
[null,null,null,null,null,null,"PPOP000000467_OIT>c>Order_Fulfillment","OIT > Order Fulfillment  (01/01/2025 - 12/31/2025)","PPOP000000467_OIT>c>Order_Fulfillment-OIT > Order Fulfillment  (01/01/2025 - 12/31/2025)","Project Plan","FD01","Active","2025-02-11T16:05:16.411397+00:00"]
[null,null,null,null,null,null,"PPOP000000467_OIT>d>User_Support","OIT > User Support  (01/01/2025 - 12/31/2025)","PPOP000000467_OIT>d>User_Support-OIT > User Support  (01/01/2025 - 12/31/2025)","Project Plan","FD01","Active","2025-02-11T16:05:16.411397+00:00"]
[null,null,null,null,null,null,"PPOP000000467_OIT>e>Consultation_Planning","OIT > Consultation & Planning  (01/01/2025 - 12/31/2025)","PPOP000000467_OIT>e>Consultation_Planning-OIT > Consultation & Planning  (01/01/2025 - 12/31/2025)","Project Plan","FD01","Active","2025-02-11T16:05:16.411397+00:00"]
[null,null,null,null,null,null,"PPOP000000468_OIT>a>Maintenance","OIT > Maintenance  (01/01/2025 - 12/31/2025)","PPOP000000468_OIT>a>Maintenance-OIT > Maintenance  (01/01/2025 - 12/31/2025)","Project Plan","FD01","Active","2025-02-11T16:05:16.411397+00:00"]
[null,null,null,null,null,null,"PPOP000000468_OIT>b>Enhancement","OIT > Enhancement  (01/01/2025 - 12/31/2025)","PPOP000000468_OIT>b>Enhancement-OIT > Enhancement  (01/01/2025 - 12/31/2025)","Project Plan","FD01","Active","2025-02-11T16:05:16.411397+00:00"]
[null,null,null,null,null,null,"PPOP000000468_OIT>c>Order_Fulfillment","OIT > Order Fulfillment  (01/01/2025 - 12/31/2025)","PPOP000000468_OIT>c>Order_Fulfillment-OIT > Order Fulfillment  (01/01/2025 - 12/31/2025)","Project Plan","FD01","Active","2025-02-11T16:05:16.411397+00:00"]
[null,null,null,null,null,null,"PPOP000000468_OIT>d>User_Support","OIT > User Support  (01/01/2025 - 12/31/2025)","PPOP000000468_OIT>d>User_Support-OIT > User Support  (01/01/2025 - 12/31/2025)","Project Plan","FD01","Active","2025-02-11T16:05:16.411397+00:00"]
[null,null,null,null,null,null,"PPOP000000468_OIT>e>Consultation_Planning","OIT > Consultation & Planning  (01/01/2025 - 12/31/2025)","PPOP000000468_OIT>e>Consultation_Planning-OIT > Consultation & Planning  (01/01/2025 - 12/31/2025)","Project Plan","FD01","Active","2025-02-11T16:05:16.411397+00:00"]
[null,null,null,null,null,null,"PPOP000000469_OIT>a>Maintenance","OIT > Maintenance  (01/01/2025 - 12/31/2025)","PPOP000000469_OIT>a>Maintenance-OIT > Maintenance  (01/01/2025 - 12/31/2025)","Project Plan","FD01","Active","2025-02-11T16:05:16.411397+00:00"]
[null,null,null,null,null,null,"PPOP000000469_OIT>b>Enhancement","OIT > Enhancement  (01/01/2025 - 12/31/2025)","PPOP000000469_OIT>b>Enhancement-OIT > Enhancement  (01/01/2025 - 12/31/2025)","Project Plan","FD01","Active","2025-02-11T16:05:16.411397+00:00"]
[null,null,null,null,null,null,"PPOP000000469_OIT>c>Order_Fulfillment","OIT > Order Fulfillment  (01/01/2025 - 12/31/2025)","PPOP000000469_OIT>c>Order_Fulfillment-OIT > Order Fulfillment  (01/01/2025 - 12/31/2025)","Project Plan","FD01","Active","2025-02-11T16:05:16.411397+00:00"]
[null,null,null,null,null,null,"PPOP000000469_OIT>d>User_Support","OIT > User Support  (01/01/2025 - 12/31/2025)","PPOP000000469_OIT>d>User_Support-OIT > User Support  (01/01/2025 - 12/31/2025)","Project Plan","FD01","Active","2025-02-11T16:05:16.411397+00:00"]
[null,null,null,null,null,null,"PPOP000000469_OIT>e>Consultation_Planning","OIT > Consultation & Planning  (01/01/2025 - 12/31/2025)","PPOP000000469_OIT>e>Consultation_Planning-OIT > Consultation & Planning  (01/01/2025 - 12/31/2025)","Project Plan","FD01","Active","2025-02-11T16:05:16.411397+00:00"]
[null,null,null,null,null,null,"PPOP000000470_OIT>a>Maintenance","OIT > Maintenance  (01/01/2025 - 12/31/2025)","PPOP000000470_OIT>a>Maintenance-OIT > Maintenance  (01/01/2025 - 12/31/2025)","Project Plan","FD01","Active","2025-02-11T16:05:16.411397+00:00"]
[null,null,null,null,null,null,"PPOP000000470_OIT>b>Enhancement","OIT > Enhancement  (01/01/2025 - 12/31/2025)","PPOP000000470_OIT>b>Enhancement-OIT > Enhancement  (01/01/2025 - 12/31/2025)","Project Plan","FD01","Active","2025-02-11T16:05:16.411397+00:00"]
[null,null,null,null,null,null,"PPOP000000470_OIT>c>Order_Fulfillment","OIT > Order Fulfillment  (01/01/2025 - 12/31/2025)","PPOP000000470_OIT>c>Order_Fulfillment-OIT > Order Fulfillment  (01/01/2025 - 12/31/2025)","Project Plan","FD01","Active","2025-02-11T16:05:16.411397+00:00"]
[null,null,null,null,null,null,"PPOP000000470_OIT>d>User_Support","OIT > User Support  (01/01/2025 - 12/31/2025)","PPOP000000470_OIT>d>User_Support-OIT > User Support  (01/01/2025 - 12/31/2025)","Project Plan","FD01","Active","2025-02-11T16:05:16.411397+00:00"]
[null,null,null,null,null,null,"PPOP000000470_OIT>e>Consultation_Planning","OIT > Consultation & Planning  (01/01/2025 - 12/31/2025)","PPOP000000470_OIT>e>Consultation_Planning-OIT > Consultation & Planning  (01/01/2025 - 12/31/2025)","Project Plan","FD01","Active","2025-02-11T16:05:16.411397+00:00"]
[null,null,null,null,null,null,"PPOP000000471_OIT>a>Maintenance","OIT > Maintenance  (01/01/2025 - 12/31/2025)","PPOP000000471_OIT>a>Maintenance-OIT > Maintenance  (01/01/2025 - 12/31/2025)","Project Plan","FD01","Active","2025-02-11T16:05:16.411397+00:00"]
[null,null,null,null,null,null,"PPOP000000471_OIT>b>Enhancement","OIT > Enhancement  (01/01/2025 - 12/31/2025)","PPOP000000471_OIT>b>Enhancement-OIT > Enhancement  (01/01/2025 - 12/31/2025)","Project Plan","FD01","Active","2025-02-11T16:05:16.411397+00:00"]
[null,null,null,null,null,null,"PPOP000000471_OIT>c>Order_Fulfillment","OIT > Order Fulfillment  (01/01/2025 - 12/31/2025)","PPOP000000471_OIT>c>Order_Fulfillment-OIT > Order Fulfillment  (01/01/2025 - 12/31/2025)","Project Plan","FD01","Active","2025-02-11T16:05:16.411397+00:00"]
[null,null,null,null,null,null,"PPOP000000471_OIT>d>User_Support","OIT > User Support  (01/01/2025 - 12/31/2025)","PPOP000000471_OIT>d>User_Support-OIT > User Support  (01/01/2025 - 12/31/2025)","Project Plan","FD01","Active","2025-02-11T16:05:16.411397+00:00"]
[null,null,null,null,null,null,"PPOP000000471_OIT>e>Consultation_Planning","OIT > Consultation & Planning  (01/01/2025 - 12/31/2025)","PPOP000000471_OIT>e>Consultation_Planning-OIT > Consultation & Planning  (01/01/2025 - 12/31/2025)","Project Plan","FD01","Active","2025-02-11T16:05:16.411397+00:00"]
[null,null,null,null,null,null,"PPOP000000472_OIT>a>Maintenance","OIT > Maintenance  (01/01/2025 - 12/31/2025)","PPOP000000472_OIT>a>Maintenance-OIT > Maintenance  (01/01/2025 - 12/31/2025)","Project Plan","FD01","Active","2025-02-11T16:05:16.411397+00:00"]
[null,null,null,null,null,null,"PPOP000000472_OIT>b>Enhancement","OIT > Enhancement  (01/01/2025 - 12/31/2025)","PPOP000000472_OIT>b>Enhancement-OIT > Enhancement  (01/01/2025 - 12/31/2025)","Project Plan","FD01","Active","2025-02-11T16:05:16.411397+00:00"]
[null,null,null,null,null,null,"PPOP000000472_OIT>c>Order_Fulfillment","OIT > Order Fulfillment  (01/01/2025 - 12/31/2025)","PPOP000000472_OIT>c>Order_Fulfillment-OIT > Order Fulfillment  (01/01/2025 - 12/31/2025)","Project Plan","FD01","Active","2025-02-11T16:05:16.411397+00:00"]
[null,null,null,null,null,null,"PPOP000000472_OIT>d>User_Support","OIT > User Support  (01/01/2025 - 12/31/2025)","PPOP000000472_OIT>d>User_Support-OIT > User Support  (01/01/2025 - 12/31/2025)","Project Plan","FD01","Active","2025-02-11T16:05:16.411397+00:00"]
[null,null,null,null,null,null,"PPOP000000472_OIT>e>Consultation_Planning","OIT > Consultation & Planning  (01/01/2025 - 12/31/2025)","PPOP000000472_OIT>e>Consultation_Planning-OIT > Consultation & Planning  (01/01/2025 - 12/31/2025)","Project Plan","FD01","Active","2025-02-11T16:05:16.411397+00:00"]
[null,null,null,null,null,null,"PPOP000000473_OIT>a>Maintenance","OIT > Maintenance  (01/01/2025 - 12/31/2025)","PPOP000000473_OIT>a>Maintenance-OIT > Maintenance  (01/01/2025 - 12/31/2025)","Project Plan","FD01","Active","2025-02-11T16:05:16.411397+00:00"]
[null,null,null,null,null,null,"PPOP000000473_OIT>b>Enhancement","OIT > Enhancement  (01/01/2025 - 12/31/2025)","PPOP000000473_OIT>b>Enhancement-OIT > Enhancement  (01/01/2025 - 12/31/2025)","Project Plan","FD01","Active","2025-02-11T16:05:16.411397+00:00"]
[null,null,null,null,null,null,"PPOP000000473_OIT>c>Order_Fulfillment","OIT > Order Fulfillment  (01/01/2025 - 12/31/2025)","PPOP000000473_OIT>c>Order_Fulfillment-OIT > Order Fulfillment  (01/01/2025 - 12/31/2025)","Project Plan","FD01","Active","2025-02-11T16:05:16.411397+00:00"]
[null,null,null,null,null,null,"PPOP000000473_OIT>d>User_Support","OIT > User Support  (01/01/2025 - 12/31/2025)","PPOP000000473_OIT>d>User_Support-OIT > User Support  (01/01/2025 - 12/31/2025)","Project Plan","FD01","Active","2025-02-11T16:05:16.411397+00:00"]
[null,null,null,null,null,null,"PPOP000000473_OIT>e>Consultation_Planning","OIT > Consultation & Planning  (01/01/2025 - 12/31/2025)","PPOP000000473_OIT>e>Consultation_Planning-OIT > Consultation & Planning  (01/01/2025 - 12/31/2025)","Project Plan","FD01","Active","2025-02-11T16:05:16.411397+00:00"]
[null,null,null,null,null,null,"PPOP000000474_OIT>a>Maintenance","OIT > Maintenance  (01/01/2025 - 12/31/2025)","PPOP000000474_OIT>a>Maintenance-OIT > Maintenance  (01/01/2025 - 12/31/2025)","Project Plan","FD01","Active","2025-02-11T16:05:16.411397+00:00"]
[null,null,null,null,null,null,"PPOP000000474_OIT>b>Enhancement","OIT > Enhancement  (01/01/2025 - 12/31/2025)","PPOP000000474_OIT>b>Enhancement-OIT > Enhancement  (01/01/2025 - 12/31/2025)","Project Plan","FD01","Active","2025-02-11T16:05:16.411397+00:00"]
[null,null,null,null,null,null,"PPOP000000474_OIT>c>Order_Fulfillment","OIT > Order Fulfillment  (01/01/2025 - 12/31/2025)","PPOP000000474_OIT>c>Order_Fulfillment-OIT > Order Fulfillment  (01/01/2025 - 12/31/2025)","Project Plan","FD01","Active","2025-02-11T16:05:16.411397+00:00"]
[null,null,null,null,null,null,"PPOP000000474_OIT>d>User_Support","OIT > User Support  (01/01/2025 - 12/31/2025)","PPOP000000474_OIT>d>User_Support-OIT > User Support  (01/01/2025 - 12/31/2025)","Project Plan","FD01","Active","2025-02-11T16:05:16.411397+00:00"]
[null,null,null,null,null,null,"PPOP000000474_OIT>e>Consultation_Planning","OIT > Consultation & Planning  (01/01/2025 - 12/31/2025)","PPOP000000474_OIT>e>Consultation_Planning-OIT > Consultation & Planning  (01/01/2025 - 12/31/2025)","Project Plan","FD01","Active","2025-02-11T16:05:16.411397+00:00"]
[null,null,null,null,null,null,"PPOP000000475_OIT>a>Maintenance","OIT > Maintenance  (01/01/2025 - 12/31/2025)","PPOP000000475_OIT>a>Maintenance-OIT > Maintenance  (01/01/2025 - 12/31/2025)","Project Plan","FD01","Active","2025-02-11T16:05:16.411397+00:00"]
[null,null,null,null,null,null,"PPOP000000475_OIT>b>Enhancement","OIT > Enhancement  (01/01/2025 - 12/31/2025)","PPOP000000475_OIT>b>Enhancement-OIT > Enhancement  (01/01/2025 - 12/31/2025)","Project Plan","FD01","Active","2025-02-11T16:05:16.411397+00:00"]
[null,null,null,null,null,null,"PPOP000000475_OIT>c>Order_Fulfillment","OIT > Order Fulfillment  (01/01/2025 - 12/31/2025)","PPOP000000475_OIT>c>Order_Fulfillment-OIT > Order Fulfillment  (01/01/2025 - 12/31/2025)","Project Plan","FD01","Active","2025-02-11T16:05:16.411397+00:00"]
[null,null,null,null,null,null,"PPOP000000475_OIT>d>User_Support","OIT > User Support  (01/01/2025 - 12/31/2025)","PPOP000000475_OIT>d>User_Support-OIT > User Support  (01/01/2025 - 12/31/2025)","Project Plan","FD01","Active","2025-02-11T16:05:16.411397+00:00"]
[null,null,null,null,null,null,"PPOP000000475_OIT>e>Consultation_Planning","OIT > Consultation & Planning  (01/01/2025 - 12/31/2025)","PPOP000000475_OIT>e>Consultation_Planning-OIT > Consultation & Planning  (01/01/2025 - 12/31/2025)","Project Plan","FD01","Active","2025-02-11T16:05:16.411397+00:00"]
[null,null,null,null,null,null,"PPOP000000476_OIT>a>Maintenance","OIT > Maintenance  (01/01/2025 - 12/31/2025)","PPOP000000476_OIT>a>Maintenance-OIT > Maintenance  (01/01/2025 - 12/31/2025)","Project Plan","FD01","Active","2025-02-11T16:05:16.411397+00:00"]
[null,null,null,null,null,null,"PPOP000000476_OIT>b>Enhancement","OIT > Enhancement  (01/01/2025 - 12/31/2025)","PPOP000000476_OIT>b>Enhancement-OIT > Enhancement  (01/01/2025 - 12/31/2025)","Project Plan","FD01","Active","2025-02-11T16:05:16.411397+00:00"]
[null,null,null,null,null,null,"PPOP000000476_OIT>c>Order_Fulfillment","OIT > Order Fulfillment  (01/01/2025 - 12/31/2025)","PPOP000000476_OIT>c>Order_Fulfillment-OIT > Order Fulfillment  (01/01/2025 - 12/31/2025)","Project Plan","FD01","Active","2025-02-11T16:05:16.411397+00:00"]
[null,null,null,null,null,null,"PPOP000000476_OIT>d>User_Support","OIT > User Support  (01/01/2025 - 12/31/2025)","PPOP000000476_OIT>d>User_Support-OIT > User Support  (01/01/2025 - 12/31/2025)","Project Plan","FD01","Active","2025-02-11T16:05:16.411397+00:00"]
[null,null,null,null,null,null,"PPOP000000476_OIT>e>Consultation_Planning","OIT > Consultation & Planning  (01/01/2025 - 12/31/2025)","PPOP000000476_OIT>e>Consultation_Planning-OIT > Consultation & Planning  (01/01/2025 - 12/31/2025)","Project Plan","FD01","Active","2025-02-11T16:05:16.411397+00:00"]
[null,null,null,null,null,null,"PPOP000000477_OIT>a>Maintenance","OIT > Maintenance  (01/01/2025 - 12/31/2025)","PPOP000000477_OIT>a>Maintenance-OIT > Maintenance  (01/01/2025 - 12/31/2025)","Project Plan","FD01","Active","2025-02-11T16:05:16.411397+00:00"]
[null,null,null,null,null,null,"PPOP000000477_OIT>b>Enhancement","OIT > Enhancement  (01/01/2025 - 12/31/2025)","PPOP000000477_OIT>b>Enhancement-OIT > Enhancement  (01/01/2025 - 12/31/2025)","Project Plan","FD01","Active","2025-02-11T16:05:16.411397+00:00"]
[null,null,null,null,null,null,"PPOP000000477_OIT>c>Order_Fulfillment","OIT > Order Fulfillment  (01/01/2025 - 12/31/2025)","PPOP000000477_OIT>c>Order_Fulfillment-OIT > Order Fulfillment  (01/01/2025 - 12/31/2025)","Project Plan","FD01","Active","2025-02-11T16:05:16.411397+00:00"]
[null,null,null,null,null,null,"PPOP000000477_OIT>d>User_Support","OIT > User Support  (01/01/2025 - 12/31/2025)","PPOP000000477_OIT>d>User_Support-OIT > User Support  (01/01/2025 - 12/31/2025)","Project Plan","FD01","Active","2025-02-11T16:05:16.411397+00:00"]
[null,null,null,null,null,null,"PPOP000000477_OIT>e>Consultation_Planning","OIT > Consultation & Planning  (01/01/2025 - 12/31/2025)","PPOP000000477_OIT>e>Consultation_Planning-OIT > Consultation & Planning  (01/01/2025 - 12/31/2025)","Project Plan","FD01","Active","2025-02-11T16:05:16.411397+00:00"]
[null,null,null,null,null,null,"PPOP000000478_OIT>a>Maintenance","OIT > Maintenance  (01/01/2025 - 12/31/2025)","PPOP000000478_OIT>a>Maintenance-OIT > Maintenance  (01/01/2025 - 12/31/2025)","Project Plan","FD01","Active","2025-02-11T16:05:16.411397+00:00"]
[null,null,null,null,null,null,"PPOP000000478_OIT>b>Enhancement","OIT > Enhancement  (01/01/2025 - 12/31/2025)","PPOP000000478_OIT>b>Enhancement-OIT > Enhancement  (01/01/2025 - 12/31/2025)","Project Plan","FD01","Active","2025-02-11T16:05:16.411397+00:00"]
[null,null,null,null,null,null,"PPOP000000478_OIT>c>Order_Fulfillment","OIT > Order Fulfillment  (01/01/2025 - 12/31/2025)","PPOP000000478_OIT>c>Order_Fulfillment-OIT > Order Fulfillment  (01/01/2025 - 12/31/2025)","Project Plan","FD01","Active","2025-02-11T16:05:16.411397+00:00"]
[null,null,null,null,null,null,"PPOP000000478_OIT>d>User_Support","OIT > User Support  (01/01/2025 - 12/31/2025)","PPOP000000478_OIT>d>User_Support-OIT > User Support  (01/01/2025 - 12/31/2025)","Project Plan","FD01","Active","2025-02-11T16:05:16.411397+00:00"]
[null,null,null,null,null,null,"PPOP000000478_OIT>e>Consultation_Planning","OIT > Consultation & Planning  (01/01/2025 - 12/31/2025)","PPOP000000478_OIT>e>Consultation_Planning-OIT > Consultation & Planning  (01/01/2025 - 12/31/2025)","Project Plan","FD01","Active","2025-02-11T16:05:16.411397+00:00"]
[null,null,null,null,null,null,"PPOP000000479_OIT>a>Maintenance","OIT > Maintenance  (01/01/2025 - 12/31/2025)","PPOP000000479_OIT>a>Maintenance-OIT > Maintenance  (01/01/2025 - 12/31/2025)","Project Plan","FD01","Active","2025-02-11T16:05:16.411397+00:00"]
[null,null,null,null,null,null,"PPOP000000479_OIT>b>Enhancement","OIT > Enhancement  (01/01/2025 - 12/31/2025)","PPOP000000479_OIT>b>Enhancement-OIT > Enhancement  (01/01/2025 - 12/31/2025)","Project Plan","FD01","Active","2025-02-11T16:05:16.411397+00:00"]
[null,null,null,null,null,null,"PPOP000000479_OIT>c>Order_Fulfillment","OIT > Order Fulfillment  (01/01/2025 - 12/31/2025)","PPOP000000479_OIT>c>Order_Fulfillment-OIT > Order Fulfillment  (01/01/2025 - 12/31/2025)","Project Plan","FD01","Active","2025-02-11T16:05:16.411397+00:00"]
[null,null,null,null,null,null,"PPOP000000479_OIT>d>User_Support","OIT > User Support  (01/01/2025 - 12/31/2025)","PPOP000000479_OIT>d>User_Support-OIT > User Support  (01/01/2025 - 12/31/2025)","Project Plan","FD01","Active","2025-02-11T16:05:16.411397+00:00"]
[null,null,null,null,null,null,"PPOP000000479_OIT>e>Consultation_Planning","OIT > Consultation & Planning  (01/01/2025 - 12/31/2025)","PPOP000000479_OIT>e>Consultation_Planning-OIT > Consultation & Planning  (01/01/2025 - 12/31/2025)","Project Plan","FD01","Active","2025-02-11T16:05:16.411397+00:00"]
[null,null,null,null,null,null,"PPOP000000480_OIT>a>Maintenance","OIT > Maintenance  (01/01/2025 - 12/31/2025)","PPOP000000480_OIT>a>Maintenance-OIT > Maintenance  (01/01/2025 - 12/31/2025)","Project Plan","FD01","Active","2025-02-11T16:05:16.411397+00:00"]
[null,null,null,null,null,null,"PPOP000000480_OIT>b>Enhancement","OIT > Enhancement  (01/01/2025 - 12/31/2025)","PPOP000000480_OIT>b>Enhancement-OIT > Enhancement  (01/01/2025 - 12/31/2025)","Project Plan","FD01","Active","2025-02-11T16:05:16.411397+00:00"]
[null,null,null,null,null,null,"PPOP000000480_OIT>c>Order_Fulfillment","OIT > Order Fulfillment  (01/01/2025 - 12/31/2025)","PPOP000000480_OIT>c>Order_Fulfillment-OIT > Order Fulfillment  (01/01/2025 - 12/31/2025)","Project Plan","FD01","Active","2025-02-11T16:05:16.411397+00:00"]
[null,null,null,null,null,null,"PPOP000000480_OIT>d>User_Support","OIT > User Support  (01/01/2025 - 12/31/2025)","PPOP000000480_OIT>d>User_Support-OIT > User Support  (01/01/2025 - 12/31/2025)","Project Plan","FD01","Active","2025-02-11T16:05:16.411397+00:00"]
[null,null,null,null,null,null,"PPOP000000480_OIT>e>Consultation_Planning","OIT > Consultation & Planning  (01/01/2025 - 12/31/2025)","PPOP000000480_OIT>e>Consultation_Planning-OIT > Consultation & Planning  (01/01/2025 - 12/31/2025)","Project Plan","FD01","Active","2025-02-11T16:05:16.411397+00:00"]
[null,null,null,null,null,null,"PPOP000000481_OIT>a>Maintenance","OIT > Maintenance  (01/01/2025 - 12/31/2025)","PPOP000000481_OIT>a>Maintenance-OIT > Maintenance  (01/01/2025 - 12/31/2025)","Project Plan","FD01","Active","2025-02-11T16:05:16.411397+00:00"]
[null,null,null,null,null,null,"PPOP000000481_OIT>b>Enhancement","OIT > Enhancement  (01/01/2025 - 12/31/2025)","PPOP000000481_OIT>b>Enhancement-OIT > Enhancement  (01/01/2025 - 12/31/2025)","Project Plan","FD01","Active","2025-02-11T16:05:16.411397+00:00"]
[null,null,null,null,null,null,"PPOP000000481_OIT>c>Order_Fulfillment","OIT > Order Fulfillment  (01/01/2025 - 12/31/2025)","PPOP000000481_OIT>c>Order_Fulfillment-OIT > Order Fulfillment  (01/01/2025 - 12/31/2025)","Project Plan","FD01","Active","2025-02-11T16:05:16.411397+00:00"]
[null,null,null,null,null,null,"PPOP000000481_OIT>d>User_Support","OIT > User Support  (01/01/2025 - 12/31/2025)","PPOP000000481_OIT>d>User_Support-OIT > User Support  (01/01/2025 - 12/31/2025)","Project Plan","FD01","Active","2025-02-11T16:05:16.411397+00:00"]
[null,null,null,null,null,null,"PPOP000000481_OIT>e>Consultation_Planning","OIT > Consultation & Planning  (01/01/2025 - 12/31/2025)","PPOP000000481_OIT>e>Consultation_Planning-OIT > Consultation & Planning  (01/01/2025 - 12/31/2025)","Project Plan","FD01","Active","2025-02-11T16:05:16.411397+00:00"]
[null,null,null,null,null,null,"PPOP000000482_OIT>a>Maintenance","OIT > Maintenance  (01/01/2025 - 12/31/2025)","PPOP000000482_OIT>a>Maintenance-OIT > Maintenance  (01/01/2025 - 12/31/2025)","Project Plan","FD01","Active","2025-02-11T16:05:16.411397+00:00"]
[null,null,null,null,null,null,"PPOP000000482_OIT>b>Enhancement","OIT > Enhancement  (01/01/2025 - 12/31/2025)","PPOP000000482_OIT>b>Enhancement-OIT > Enhancement  (01/01/2025 - 12/31/2025)","Project Plan","FD01","Active","2025-02-11T16:05:16.411397+00:00"]
[null,null,null,null,null,null,"PPOP000000482_OIT>c>Order_Fulfillment","OIT > Order Fulfillment  (01/01/2025 - 12/31/2025)","PPOP000000482_OIT>c>Order_Fulfillment-OIT > Order Fulfillment  (01/01/2025 - 12/31/2025)","Project Plan","FD01","Active","2025-02-11T16:05:16.411397+00:00"]
[null,null,null,null,null,null,"PPOP000000482_OIT>d>User_Support","OIT > User Support  (01/01/2025 - 12/31/2025)","PPOP000000482_OIT>d>User_Support-OIT > User Support  (01/01/2025 - 12/31/2025)","Project Plan","FD01","Active","2025-02-11T16:05:16.411397+00:00"]
[null,null,null,null,null,null,"PPOP000000482_OIT>e>Consultation_Planning","OIT > Consultation & Planning  (01/01/2025 - 12/31/2025)","PPOP000000482_OIT>e>Consultation_Planning-OIT > Consultation & Planning  (01/01/2025 - 12/31/2025)","Project Plan","FD01","Active","2025-02-11T16:05:16.411397+00:00"]
[null,null,null,null,null,null,"PPOP000000483_OIT>a>Maintenance","OIT > Maintenance  (01/01/2025 - 12/31/2025)","PPOP000000483_OIT>a>Maintenance-OIT > Maintenance  (01/01/2025 - 12/31/2025)","Project Plan","FD01","Active","2025-02-11T16:05:16.411397+00:00"]
[null,null,null,null,null,null,"PPOP000000483_OIT>b>Enhancement","OIT > Enhancement  (01/01/2025 - 12/31/2025)","PPOP000000483_OIT>b>Enhancement-OIT > Enhancement  (01/01/2025 - 12/31/2025)","Project Plan","FD01","Active","2025-02-11T16:05:16.411397+00:00"]
[null,null,null,null,null,null,"PPOP000000483_OIT>c>Order_Fulfillment","OIT > Order Fulfillment  (01/01/2025 - 12/31/2025)","PPOP000000483_OIT>c>Order_Fulfillment-OIT > Order Fulfillment  (01/01/2025 - 12/31/2025)","Project Plan","FD01","Active","2025-02-11T16:05:16.411397+00:00"]
[null,null,null,null,null,null,"PPOP000000483_OIT>d>User_Support","OIT > User Support  (01/01/2025 - 12/31/2025)","PPOP000000483_OIT>d>User_Support-OIT > User Support  (01/01/2025 - 12/31/2025)","Project Plan","FD01","Active","2025-02-11T16:05:16.411397+00:00"]
[null,null,null,null,null,null,"PPOP000000483_OIT>e>Consultation_Planning","OIT > Consultation & Planning  (01/01/2025 - 12/31/2025)","PPOP000000483_OIT>e>Consultation_Planning-OIT > Consultation & Planning  (01/01/2025 - 12/31/2025)","Project Plan","FD01","Active","2025-02-11T16:05:16.411397+00:00"]
[null,null,null,null,null,null,"PPOP000000484_OIT>a>Maintenance","OIT > Maintenance  (01/01/2025 - 12/31/2025)","PPOP000000484_OIT>a>Maintenance-OIT > Maintenance  (01/01/2025 - 12/31/2025)","Project Plan","FD01","Active","2025-02-12T03:04:47.840261+00:00"]
[null,null,null,null,null,null,"PPOP000000484_OIT>b>Enhancement","OIT > Enhancement  (01/01/2025 - 12/31/2025)","PPOP000000484_OIT>b>Enhancement-OIT > Enhancement  (01/01/2025 - 12/31/2025)","Project Plan","FD01","Active","2025-02-12T03:04:47.840261+00:00"]
[null,null,null,null,null,null,"PPOP000000484_OIT>c>Order_Fulfillment","OIT > Order Fulfillment  (01/01/2025 - 12/31/2025)","PPOP000000484_OIT>c>Order_Fulfillment-OIT > Order Fulfillment  (01/01/2025 - 12/31/2025)","Project Plan","FD01","Active","2025-02-12T03:04:47.840261+00:00"]
[null,null,null,null,null,null,"PPOP000000484_OIT>d>User_Support","OIT > User Support  (01/01/2025 - 12/31/2025)","PPOP000000484_OIT>d>User_Support-OIT > User Support  (01/01/2025 - 12/31/2025)","Project Plan","FD01","Active","2025-02-12T03:04:47.840261+00:00"]
[null,null,null,null,null,null,"PPOP000000484_OIT>e>Consultation_Planning","OIT > Consultation & Planning  (01/01/2025 - 12/31/2025)","PPOP000000484_OIT>e>Consultation_Planning-OIT > Consultation & Planning  (01/01/2025 - 12/31/2025)","Project Plan","FD01","Active","2025-02-12T03:04:47.840261+00:00"]
[null,null,null,null,null,null,"PPOP000000485_OIT>a>Maintenance","OIT > Maintenance  (01/01/2025 - 12/31/2025)","PPOP000000485_OIT>a>Maintenance-OIT > Maintenance  (01/01/2025 - 12/31/2025)","Project Plan","FD01","Active","2025-02-12T03:04:47.840261+00:00"]
[null,null,null,null,null,null,"PPOP000000485_OIT>b>Enhancement","OIT > Enhancement  (01/01/2025 - 12/31/2025)","PPOP000000485_OIT>b>Enhancement-OIT > Enhancement  (01/01/2025 - 12/31/2025)","Project Plan","FD01","Active","2025-02-12T03:04:47.840261+00:00"]
[null,null,null,null,null,null,"PPOP000000485_OIT>c>Order_Fulfillment","OIT > Order Fulfillment  (01/01/2025 - 12/31/2025)","PPOP000000485_OIT>c>Order_Fulfillment-OIT > Order Fulfillment  (01/01/2025 - 12/31/2025)","Project Plan","FD01","Active","2025-02-12T03:04:47.840261+00:00"]
[null,null,null,null,null,null,"PPOP000000485_OIT>d>User_Support","OIT > User Support  (01/01/2025 - 12/31/2025)","PPOP000000485_OIT>d>User_Support-OIT > User Support  (01/01/2025 - 12/31/2025)","Project Plan","FD01","Active","2025-02-12T03:04:47.840261+00:00"]
[null,null,null,null,null,null,"PPOP000000485_OIT>e>Consultation_Planning","OIT > Consultation & Planning  (01/01/2025 - 12/31/2025)","PPOP000000485_OIT>e>Consultation_Planning-OIT > Consultation & Planning  (01/01/2025 - 12/31/2025)","Project Plan","FD01","Active","2025-02-12T03:04:47.840261+00:00"]
[null,null,null,null,null,null,"PPOP000000486_OIT>a>Maintenance","OIT > Maintenance  (01/01/2025 - 12/31/2025)","PPOP000000486_OIT>a>Maintenance-OIT > Maintenance  (01/01/2025 - 12/31/2025)","Project Plan","FD01","Active","2025-02-12T03:04:47.840261+00:00"]
[null,null,null,null,null,null,"PPOP000000486_OIT>b>Enhancement","OIT > Enhancement  (01/01/2025 - 12/31/2025)","PPOP000000486_OIT>b>Enhancement-OIT > Enhancement  (01/01/2025 - 12/31/2025)","Project Plan","FD01","Active","2025-02-12T03:04:47.840261+00:00"]
[null,null,null,null,null,null,"PPOP000000486_OIT>c>Order_Fulfillment","OIT > Order Fulfillment  (01/01/2025 - 12/31/2025)","PPOP000000486_OIT>c>Order_Fulfillment-OIT > Order Fulfillment  (01/01/2025 - 12/31/2025)","Project Plan","FD01","Active","2025-02-12T03:04:47.840261+00:00"]
[null,null,null,null,null,null,"PPOP000000486_OIT>d>User_Support","OIT > User Support  (01/01/2025 - 12/31/2025)","PPOP000000486_OIT>d>User_Support-OIT > User Support  (01/01/2025 - 12/31/2025)","Project Plan","FD01","Active","2025-02-12T03:04:47.840261+00:00"]
[null,null,null,null,null,null,"PPOP000000486_OIT>e>Consultation_Planning","OIT > Consultation & Planning  (01/01/2025 - 12/31/2025)","PPOP000000486_OIT>e>Consultation_Planning-OIT > Consultation & Planning  (01/01/2025 - 12/31/2025)","Project Plan","FD01","Active","2025-02-12T03:04:47.840261+00:00"]
[null,null,null,null,null,null,"PPOP000000487_OIT>a>Maintenance","OIT > Maintenance  (01/01/2025 - 12/31/2025)","PPOP000000487_OIT>a>Maintenance-OIT > Maintenance  (01/01/2025 - 12/31/2025)","Project Plan","FD01","Active","2025-02-12T03:04:47.840261+00:00"]
[null,null,null,null,null,null,"PPOP000000487_OIT>b>Enhancement","OIT > Enhancement  (01/01/2025 - 12/31/2025)","PPOP000000487_OIT>b>Enhancement-OIT > Enhancement  (01/01/2025 - 12/31/2025)","Project Plan","FD01","Active","2025-02-12T03:04:47.840261+00:00"]
[null,null,null,null,null,null,"PPOP000000487_OIT>c>Order_Fulfillment","OIT > Order Fulfillment  (01/01/2025 - 12/31/2025)","PPOP000000487_OIT>c>Order_Fulfillment-OIT > Order Fulfillment  (01/01/2025 - 12/31/2025)","Project Plan","FD01","Active","2025-02-12T03:04:47.840261+00:00"]
[null,null,null,null,null,null,"PPOP000000487_OIT>d>User_Support","OIT > User Support  (01/01/2025 - 12/31/2025)","PPOP000000487_OIT>d>User_Support-OIT > User Support  (01/01/2025 - 12/31/2025)","Project Plan","FD01","Active","2025-02-12T03:04:47.840261+00:00"]
[null,null,null,null,null,null,"PPOP000000487_OIT>e>Consultation_Planning","OIT > Consultation & Planning  (01/01/2025 - 12/31/2025)","PPOP000000487_OIT>e>Consultation_Planning-OIT > Consultation & Planning  (01/01/2025 - 12/31/2025)","Project Plan","FD01","Active","2025-02-12T03:04:47.840261+00:00"]
[null,null,null,null,null,null,"PPOP000000488_OIT>a>Maintenance","OIT > Maintenance  (01/01/2025 - 12/31/2025)","PPOP000000488_OIT>a>Maintenance-OIT > Maintenance  (01/01/2025 - 12/31/2025)","Project Plan","FD01","Active","2025-02-12T03:04:46.358961+00:00"]
[null,null,null,null,null,null,"PPOP000000488_OIT>b>Enhancement","OIT > Enhancement  (01/01/2025 - 12/31/2025)","PPOP000000488_OIT>b>Enhancement-OIT > Enhancement  (01/01/2025 - 12/31/2025)","Project Plan","FD01","Active","2025-02-12T03:04:46.358961+00:00"]
[null,null,null,null,null,null,"PPOP000000488_OIT>c>Order_Fulfillment","OIT > Order Fulfillment  (01/01/2025 - 12/31/2025)","PPOP000000488_OIT>c>Order_Fulfillment-OIT > Order Fulfillment  (01/01/2025 - 12/31/2025)","Project Plan","FD01","Active","2025-02-12T03:04:47.840261+00:00"]
[null,null,null,null,null,null,"PPOP000000488_OIT>d>User_Support","OIT > User Support  (01/01/2025 - 12/31/2025)","PPOP000000488_OIT>d>User_Support-OIT > User Support  (01/01/2025 - 12/31/2025)","Project Plan","FD01","Active","2025-02-12T03:04:47.840261+00:00"]
[null,null,null,null,null,null,"PPOP000000488_OIT>e>Consultation_Planning","OIT > Consultation & Planning  (01/01/2025 - 12/31/2025)","PPOP000000488_OIT>e>Consultation_Planning-OIT > Consultation & Planning  (01/01/2025 - 12/31/2025)","Project Plan","FD01","Active","2025-02-12T03:04:47.840261+00:00"]
[null,null,null,null,null,null,"PPOP000000489_OIT>a>Maintenance","OIT > Maintenance  (01/01/2025 - 12/31/2025)","PPOP000000489_OIT>a>Maintenance-OIT > Maintenance  (01/01/2025 - 12/31/2025)","Project Plan","FD01","Active","2025-02-12T03:04:46.358961+00:00"]
[null,null,null,null,null,null,"PPOP000000489_OIT>b>Enhancement","OIT > Enhancement  (01/01/2025 - 12/31/2025)","PPOP000000489_OIT>b>Enhancement-OIT > Enhancement  (01/01/2025 - 12/31/2025)","Project Plan","FD01","Active","2025-02-12T03:04:46.358961+00:00"]
[null,null,null,null,null,null,"PPOP000000489_OIT>c>Order_Fulfillment","OIT > Order Fulfillment  (01/01/2025 - 12/31/2025)","PPOP000000489_OIT>c>Order_Fulfillment-OIT > Order Fulfillment  (01/01/2025 - 12/31/2025)","Project Plan","FD01","Active","2025-02-12T03:04:46.358961+00:00"]
[null,null,null,null,null,null,"PPOP000000489_OIT>d>User_Support","OIT > User Support  (01/01/2025 - 12/31/2025)","PPOP000000489_OIT>d>User_Support-OIT > User Support  (01/01/2025 - 12/31/2025)","Project Plan","FD01","Active","2025-02-12T03:04:46.358961+00:00"]
[null,null,null,null,null,null,"PPOP000000489_OIT>e>Consultation_Planning","OIT > Consultation & Planning  (01/01/2025 - 12/31/2025)","PPOP000000489_OIT>e>Consultation_Planning-OIT > Consultation & Planning  (01/01/2025 - 12/31/2025)","Project Plan","FD01","Active","2025-02-12T03:04:46.358961+00:00"]
[null,null,null,null,null,null,"PPOP000000490_OIT>a>Maintenance","OIT > Maintenance  (01/01/2025 - 12/31/2025)","PPOP000000490_OIT>a>Maintenance-OIT > Maintenance  (01/01/2025 - 12/31/2025)","Project Plan","FD01","Active","2025-02-12T03:04:47.840261+00:00"]
[null,null,null,null,null,null,"PPOP000000490_OIT>b>Enhancement","OIT > Enhancement  (01/01/2025 - 12/31/2025)","PPOP000000490_OIT>b>Enhancement-OIT > Enhancement  (01/01/2025 - 12/31/2025)","Project Plan","FD01","Active","2025-02-12T03:04:47.840261+00:00"]
[null,null,null,null,null,null,"PPOP000000490_OIT>c>Order_Fulfillment","OIT > Order Fulfillment  (01/01/2025 - 12/31/2025)","PPOP000000490_OIT>c>Order_Fulfillment-OIT > Order Fulfillment  (01/01/2025 - 12/31/2025)","Project Plan","FD01","Active","2025-02-12T03:04:47.840261+00:00"]
[null,null,null,null,null,null,"PPOP000000490_OIT>d>User_Support","OIT > User Support  (01/01/2025 - 12/31/2025)","PPOP000000490_OIT>d>User_Support-OIT > User Support  (01/01/2025 - 12/31/2025)","Project Plan","FD01","Active","2025-02-12T03:04:47.840261+00:00"]
[null,null,null,null,null,null,"PPOP000000490_OIT>e>Consultation_Planning","OIT > Consultation & Planning  (01/01/2025 - 12/31/2025)","PPOP000000490_OIT>e>Consultation_Planning-OIT > Consultation & Planning  (01/01/2025 - 12/31/2025)","Project Plan","FD01","Active","2025-02-12T03:04:47.840261+00:00"]
[null,null,null,null,null,null,"PPOP000000491_OIT>c>Order_Fulfillment","OIT > Order Fulfillment  (01/01/2025 - 12/31/2025)","PPOP000000491_OIT>c>Order_Fulfillment-OIT > Order Fulfillment  (01/01/2025 - 12/31/2025)","Project Plan","FD02","Active","2025-02-20T03:04:04.15874+00:00"]
[null,null,null,null,null,null,"PPOP000000494_OIT>c>Order_Fulfillment","OIT > Order Fulfillment  (01/01/2025 - 12/31/2025)","PPOP000000494_OIT>c>Order_Fulfillment-OIT > Order Fulfillment  (01/01/2025 - 12/31/2025)","Project Plan","FD01","Active","2025-02-14T03:03:46.24314+00:00"]
[null,null,null,null,null,null,"PPOP000000496_OIT>c>Order_Fulfillment","OIT > Order Fulfillment  (01/01/2025 - 12/31/2025)","PPOP000000496_OIT>c>Order_Fulfillment-OIT > Order Fulfillment  (01/01/2025 - 12/31/2025)","Project Plan","FD01","Active","2025-02-15T03:04:02.344689+00:00"]
[null,null,null,null,null,null,"PPOP000000500_OIT>c>Order_Fulfillment","OIT > Order Fulfillment  (01/01/2025 - 12/31/2025)","PPOP000000500_OIT>c>Order_Fulfillment-OIT > Order Fulfillment  (01/01/2025 - 12/31/2025)","Project Plan","FD01","Active","2025-03-28T02:03:39.792418+00:00"]
[null,null,null,null,null,null,"PPOP000000501_OIT>c>Order_Fulfillment","OIT > Order Fulfillment  (01/01/2025 - 12/31/2025)","PPOP000000501_OIT>c>Order_Fulfillment-OIT > Order Fulfillment  (01/01/2025 - 12/31/2025)","Project Plan","FD01","Active","2025-02-20T03:04:06.036491+00:00"]
[null,null,null,null,null,null,"PPOP000000502_OIT>c>Order_Fulfillment","OIT > Order Fulfillment  (01/01/2025 - 12/31/2025)","PPOP000000502_OIT>c>Order_Fulfillment-OIT > Order Fulfillment  (01/01/2025 - 12/31/2025)","Project Plan","FD01","Active","2025-02-20T03:04:06.036491+00:00"]
[null,null,null,null,null,null,"PPOP000000506_OIT>c>Order_Fulfillment","OIT > Order Fulfillment  (01/01/2025 - 12/31/2025)","PPOP000000506_OIT>c>Order_Fulfillment-OIT > Order Fulfillment  (01/01/2025 - 12/31/2025)","Project Plan","FD01","Active","2025-02-26T03:04:08.25364+00:00"]
[null,null,null,null,null,null,"PPOP000000507_OIT>c>Order_Fulfillment","OIT > Order Fulfillment  (01/01/2025 - 12/31/2025)","PPOP000000507_OIT>c>Order_Fulfillment-OIT > Order Fulfillment  (01/01/2025 - 12/31/2025)","Project Plan","FD01","Active","2025-02-26T03:04:08.25364+00:00"]
[null,null,null,null,null,null,"PPOP000000508_OIT>c>Order_Fulfillment","OIT > Order Fulfillment  (01/01/2025 - 12/31/2025)","PPOP000000508_OIT>c>Order_Fulfillment-OIT > Order Fulfillment  (01/01/2025 - 12/31/2025)","Project Plan","FD01","Active","2025-02-26T03:04:08.25364+00:00"]
[null,null,null,null,null,null,"PPOP000000511_OIT>c>Order_Fulfillment","OIT > Order Fulfillment  (01/01/2025 - 12/31/2025)","PPOP000000511_OIT>c>Order_Fulfillment-OIT > Order Fulfillment  (01/01/2025 - 12/31/2025)","Project Plan","FD01","Active","2025-03-15T02:03:41.606114+00:00"]
[null,null,null,null,null,null,"PPOP000000514_OIT>c>Order_Fulfillment","OIT > Order Fulfillment  (01/01/2025 - 12/31/2025)","PPOP000000514_OIT>c>Order_Fulfillment-OIT > Order Fulfillment  (01/01/2025 - 12/31/2025)","Project Plan","FD01","Active","2025-02-27T03:03:44.609062+00:00"]
[null,null,null,null,null,null,"PPOP000000517_OIT>c>Order_Fulfillment","OIT > Order Fulfillment  (01/01/2025 - 12/31/2025)","PPOP000000517_OIT>c>Order_Fulfillment-OIT > Order Fulfillment  (01/01/2025 - 12/31/2025)","Project Plan","FD01","Active","2025-03-05T16:04:22.838397+00:00"]
[null,null,null,null,null,null,"PPOP000000518_OIT>c>Order_Fulfillment","OIT > Order Fulfillment  (01/01/2025 - 12/31/2025)","PPOP000000518_OIT>c>Order_Fulfillment-OIT > Order Fulfillment  (01/01/2025 - 12/31/2025)","Project Plan","FD01","Active","2025-03-05T16:04:22.838397+00:00"]
[null,null,null,null,null,null,"PPOP000000520_OIT>c>Order_Fulfillment","OIT > Order Fulfillment  (01/01/2025 - 12/31/2025)","PPOP000000520_OIT>c>Order_Fulfillment-OIT > Order Fulfillment  (01/01/2025 - 12/31/2025)","Project Plan","FD01","Active","2025-03-05T16:04:22.838397+00:00"]
[null,null,null,null,null,null,"PPOP000000521_OIT>c>Order_Fulfillment","OIT > Order Fulfillment  (01/01/2025 - 12/31/2025)","PPOP000000521_OIT>c>Order_Fulfillment-OIT > Order Fulfillment  (01/01/2025 - 12/31/2025)","Project Plan","FD01","Active","2025-03-05T16:04:22.838397+00:00"]
[null,null,null,null,null,null,"PPOP000000527_OIT>c>Order_Fulfillment","OIT > Order Fulfillment  (01/01/2025 - 12/31/2025)","PPOP000000527_OIT>c>Order_Fulfillment-OIT > Order Fulfillment  (01/01/2025 - 12/31/2025)","Project Plan","FD01","Active","2025-03-11T02:04:07.596407+00:00"]
[null,null,null,null,null,null,"PPOP000000529_OIT>c>Order_Fulfillment","OIT > Order Fulfillment  (01/01/2025 - 12/31/2025)","PPOP000000529_OIT>c>Order_Fulfillment-OIT > Order Fulfillment  (01/01/2025 - 12/31/2025)","Project Plan","FD01","Active","2025-03-11T02:04:07.596407+00:00"]
[null,null,null,null,null,null,"PPOP000000531_OIT>c>Order_Fulfillment","OIT > Order Fulfillment  (01/01/2025 - 12/31/2025)","PPOP000000531_OIT>c>Order_Fulfillment-OIT > Order Fulfillment  (01/01/2025 - 12/31/2025)","Project Plan","FD01","Active","2025-03-11T02:04:07.596407+00:00"]
[null,null,null,null,null,null,"PPOP000000534_OIT>c>Order_Fulfillment","OIT > Order Fulfillment  (01/01/2025 - 12/31/2025)","PPOP000000534_OIT>c>Order_Fulfillment-OIT > Order Fulfillment  (01/01/2025 - 12/31/2025)","Project Plan","FD01","Active","2025-03-11T02:04:07.596407+00:00"]
[null,null,null,null,null,null,"PPOP000000542_OIT>c>Order_Fulfillment","OIT > Order Fulfillment  (01/01/2025 - 12/31/2025)","PPOP000000542_OIT>c>Order_Fulfillment-OIT > Order Fulfillment  (01/01/2025 - 12/31/2025)","Project Plan","FD01","Active","2025-03-13T02:03:45.777917+00:00"]
[null,null,null,null,null,null,"PPOP000000544_OIT>c>Order_Fulfillment","OIT > Order Fulfillment  (01/01/2025 - 12/31/2025)","PPOP000000544_OIT>c>Order_Fulfillment-OIT > Order Fulfillment  (01/01/2025 - 12/31/2025)","Project Plan","FD01","Active","2025-03-14T02:03:41.433601+00:00"]
[null,null,null,null,null,null,"PPOP000000545_OIT>c>Order_Fulfillment","OIT > Order Fulfillment  (01/01/2025 - 12/31/2025)","PPOP000000545_OIT>c>Order_Fulfillment-OIT > Order Fulfillment  (01/01/2025 - 12/31/2025)","Project Plan","FD01","Active","2025-03-14T02:03:41.433601+00:00"]
[null,null,null,null,null,null,"PPOP000000546_OIT>c>Order_Fulfillment","OIT > Order Fulfillment  (01/01/2025 - 12/31/2025)","PPOP000000546_OIT>c>Order_Fulfillment-OIT > Order Fulfillment  (01/01/2025 - 12/31/2025)","Project Plan","FD01","Active","2025-03-19T02:04:04.74007+00:00"]
[null,null,null,null,null,null,"PPOP000000548_OIT>c>Order_Fulfillment","OIT > Order Fulfillment  (01/01/2025 - 12/31/2025)","PPOP000000548_OIT>c>Order_Fulfillment-OIT > Order Fulfillment  (01/01/2025 - 12/31/2025)","Project Plan","FD01","Active","2025-03-19T02:04:04.74007+00:00"]
[null,null,null,null,null,null,"PPOP000000549_OIT>c>Order_Fulfillment","OIT > Order Fulfillment  (01/01/2025 - 12/31/2025)","PPOP000000549_OIT>c>Order_Fulfillment-OIT > Order Fulfillment  (01/01/2025 - 12/31/2025)","Project Plan","FD01","Active","2025-03-19T02:04:04.74007+00:00"]
[null,null,null,null,null,null,"PPOP000000550_OIT>c>Order_Fulfillment","OIT > Order Fulfillment  (01/01/2025 - 12/31/2025)","PPOP000000550_OIT>c>Order_Fulfillment-OIT > Order Fulfillment  (01/01/2025 - 12/31/2025)","Project Plan","FD01","Active","2025-03-19T02:04:04.74007+00:00"]
[null,null,null,null,null,null,"PPOP000000551_OIT>c>Order_Fulfillment","OIT > Order Fulfillment  (01/01/2025 - 12/31/2025)","PPOP000000551_OIT>c>Order_Fulfillment-OIT > Order Fulfillment  (01/01/2025 - 12/31/2025)","Project Plan","FD01","Active","2025-03-19T02:04:04.74007+00:00"]
[null,null,null,null,null,null,"PPOP000000554_OIT>c>Order_Fulfillment","OIT > Order Fulfillment  (01/01/2025 - 12/31/2025)","PPOP000000554_OIT>c>Order_Fulfillment-OIT > Order Fulfillment  (01/01/2025 - 12/31/2025)","Project Plan","FD01","Active","2025-03-20T02:04:12.994064+00:00"]
[null,null,null,null,null,null,"PPOP000000556_OIT>c>Order_Fulfillment","OIT > Order Fulfillment  (01/01/2025 - 12/31/2025)","PPOP000000556_OIT>c>Order_Fulfillment-OIT > Order Fulfillment  (01/01/2025 - 12/31/2025)","Project Plan","FD01","Active","2025-03-25T02:03:53.792937+00:00"]
[null,null,null,null,null,null,"PPOP000000557_OIT>c>Order_Fulfillment","OIT > Order Fulfillment  (01/01/2025 - 12/31/2025)","PPOP000000557_OIT>c>Order_Fulfillment-OIT > Order Fulfillment  (01/01/2025 - 12/31/2025)","Project Plan","FD01","Active","2025-03-26T02:03:11.755369+00:00"]
[null,null,null,null,null,null,"PPOP000000558_OIT>c>Order_Fulfillment","OIT > Order Fulfillment  (01/01/2025 - 12/31/2025)","PPOP000000558_OIT>c>Order_Fulfillment-OIT > Order Fulfillment  (01/01/2025 - 12/31/2025)","Project Plan","FD01","Active","2025-03-26T02:03:11.755369+00:00"]
[null,null,null,null,null,null,"PPOP000000561_OIT>c>Order_Fulfillment","OIT > Order Fulfillment  (01/01/2025 - 12/31/2025)","PPOP000000561_OIT>c>Order_Fulfillment-OIT > Order Fulfillment  (01/01/2025 - 12/31/2025)","Project Plan","FD01","Active","2025-03-28T02:03:39.792418+00:00"]
[null,null,null,null,null,null,"PPOP000000563_OIT>c>Order_Fulfillment","OIT > Order Fulfillment  (01/01/2025 - 12/31/2025)","PPOP000000563_OIT>c>Order_Fulfillment-OIT > Order Fulfillment  (01/01/2025 - 12/31/2025)","Project Plan","FD01","Active","2025-03-28T02:03:39.792418+00:00"]
[null,null,null,null,null,null,"PPOP000000564_OIT>c>Order_Fulfillment","OIT > Order Fulfillment  (01/01/2025 - 12/31/2025)","PPOP000000564_OIT>c>Order_Fulfillment-OIT > Order Fulfillment  (01/01/2025 - 12/31/2025)","Project Plan","FD01","Active","2025-03-28T02:03:39.792418+00:00"]
[null,null,null,null,null,null,"PPOP000000567_OIT>c>Order_Fulfillment","OIT > Order Fulfillment  (01/01/2025 - 12/31/2025)","PPOP000000567_OIT>c>Order_Fulfillment-OIT > Order Fulfillment  (01/01/2025 - 12/31/2025)","Project Plan","FD01","Active","2025-04-02T02:04:30.253716+00:00"]
[null,null,null,null,null,null,"PPOP000000568_OIT>c>Order_Fulfillment","OIT > Order Fulfillment  (01/01/2025 - 12/31/2025)","PPOP000000568_OIT>c>Order_Fulfillment-OIT > Order Fulfillment  (01/01/2025 - 12/31/2025)","Project Plan","FD01","Active","2025-04-10T02:03:36.125036+00:00"]
[null,null,null,null,null,null,"PPOP000000569_OIT>c>Order_Fulfillment","OIT > Order Fulfillment  (01/01/2025 - 12/31/2025)","PPOP000000569_OIT>c>Order_Fulfillment-OIT > Order Fulfillment  (01/01/2025 - 12/31/2025)","Project Plan","FD01","Active","2025-04-03T02:04:41.93478+00:00"]
[null,null,null,null,null,null,"PPOP000000571_OIT>c>Order_Fulfillment","OIT > Order Fulfillment  (01/01/2025 - 12/31/2025)","PPOP000000571_OIT>c>Order_Fulfillment-OIT > Order Fulfillment  (01/01/2025 - 12/31/2025)","Project Plan","FD01","Active","2025-04-02T02:04:30.253716+00:00"]
[null,null,null,null,null,null,"PPOP000000573_OIT>c>Order_Fulfillment","OIT > Order Fulfillment  (01/01/2025 - 12/31/2025)","PPOP000000573_OIT>c>Order_Fulfillment-OIT > Order Fulfillment  (01/01/2025 - 12/31/2025)","Project Plan","FD01","Active","2025-04-03T02:04:43.922927+00:00"]
[null,null,null,null,null,null,"PPOP000000575_OIT>c>Order_Fulfillment","OIT > Order Fulfillment  (01/01/2025 - 12/31/2025)","PPOP000000575_OIT>c>Order_Fulfillment-OIT > Order Fulfillment  (01/01/2025 - 12/31/2025)","Project Plan","FD01","Active","2025-04-08T02:03:43.196923+00:00"]
[null,null,null,null,null,null,"PPOP000000578_OIT>c>Order_Fulfillment","OIT > Order Fulfillment  (01/01/2025 - 12/31/2025)","PPOP000000578_OIT>c>Order_Fulfillment-OIT > Order Fulfillment  (01/01/2025 - 12/31/2025)","Project Plan","FD01","Active","2025-04-03T02:04:41.93478+00:00"]
[null,null,null,null,null,null,"PPOP000000579_OIT>c>Order_Fulfillment","OIT > Order Fulfillment  (01/01/2025 - 12/31/2025)","PPOP000000579_OIT>c>Order_Fulfillment-OIT > Order Fulfillment  (01/01/2025 - 12/31/2025)","Project Plan","FD01","Active","2025-04-03T02:04:43.922927+00:00"]
[null,null,null,null,null,null,"PPOP000000580_OIT>c>Order_Fulfillment","OIT > Order Fulfillment  (01/01/2025 - 12/31/2025)","PPOP000000580_OIT>c>Order_Fulfillment-OIT > Order Fulfillment  (01/01/2025 - 12/31/2025)","Project Plan","FD01","Active","2025-04-08T02:03:43.196923+00:00"]
[null,null,null,null,null,null,"PPOP000000581_OIT>c>Order_Fulfillment","OIT > Order Fulfillment  (01/01/2025 - 12/31/2025)","PPOP000000581_OIT>c>Order_Fulfillment-OIT > Order Fulfillment  (01/01/2025 - 12/31/2025)","Project Plan","FD01","Active","2025-04-08T02:03:43.196923+00:00"]
[null,null,null,null,null,null,"PPOP000000582_OIT>c>Order_Fulfillment","OIT > Order Fulfillment  (01/01/2025 - 12/31/2025)","PPOP000000582_OIT>c>Order_Fulfillment-OIT > Order Fulfillment  (01/01/2025 - 12/31/2025)","Project Plan","FD01","Active","2025-04-08T02:03:43.196923+00:00"]
[null,null,null,null,null,null,"PPOP000000583_OIT>c>Order_Fulfillment","OIT > Order Fulfillment  (01/01/2025 - 12/31/2025)","PPOP000000583_OIT>c>Order_Fulfillment-OIT > Order Fulfillment  (01/01/2025 - 12/31/2025)","Project Plan","FD01","Active","2025-04-08T02:03:43.196923+00:00"]
[null,null,null,null,null,null,"PPOP000000584_OIT>c>Order_Fulfillment","OIT > Order Fulfillment  (01/01/2025 - 12/31/2025)","PPOP000000584_OIT>c>Order_Fulfillment-OIT > Order Fulfillment  (01/01/2025 - 12/31/2025)","Project Plan","FD01","Active","2025-04-08T02:03:43.196923+00:00"]
[null,null,null,null,null,null,"PPOP000000586_OIT>c>Order_Fulfillment","OIT > Order Fulfillment  (01/01/2025 - 12/31/2025)","PPOP000000586_OIT>c>Order_Fulfillment-OIT > Order Fulfillment  (01/01/2025 - 12/31/2025)","Project Plan","FD01","Active","2025-04-08T02:03:43.196923+00:00"]
[null,null,null,null,null,null,"PPOP000000591_OIT>c>Order_Fulfillment","OIT > Order Fulfillment  (01/01/2025 - 12/31/2025)","PPOP000000591_OIT>c>Order_Fulfillment-OIT > Order Fulfillment  (01/01/2025 - 12/31/2025)","Project Plan","FD02","Active","2025-04-08T02:03:43.196923+00:00"]
[null,null,null,null,null,null,"PPOP000000594_OIT>c>Order_Fulfillment","OIT > Order Fulfillment  (01/01/2025 - 12/31/2025)","PPOP000000594_OIT>c>Order_Fulfillment-OIT > Order Fulfillment  (01/01/2025 - 12/31/2025)","Project Plan","FD01","Active","2025-04-10T02:03:36.314245+00:00"]
[null,null,null,null,null,null,"PPOP000000595_OIT>c>Order_Fulfillment","OIT > Order Fulfillment  (01/01/2025 - 12/31/2025)","PPOP000000595_OIT>c>Order_Fulfillment-OIT > Order Fulfillment  (01/01/2025 - 12/31/2025)","Project Plan","FD01","Active","2025-04-10T02:03:36.314245+00:00"]
[null,null,null,null,null,null,"PROJECT_PLAN_TASK-3-89455","FA Production > Audio","PROJECT_PLAN_TASK-3-89455-FA Production > Audio","Project Plan","FD02","Active","2025-01-28T03:04:30.001237+00:00"]
[null,null,null,null,null,null,"PROJECT_PLAN_TASK-3-89456","FA Production > Costume","PROJECT_PLAN_TASK-3-89456-FA Production > Costume","Project Plan","FD02","Active","2025-01-28T03:04:30.001237+00:00"]
[null,null,null,null,null,null,"PROJECT_PLAN_TASK-3-89457","FA Production > FA Makeup & Hair","PROJECT_PLAN_TASK-3-89457-FA Production > FA Makeup & Hair","Project Plan","FD02","Active","2025-01-28T03:04:30.001237+00:00"]
[null,null,null,null,null,null,"PROJECT_PLAN_TASK-3-89458","FA Production > Front of House","PROJECT_PLAN_TASK-3-89458-FA Production > Front of House","Project Plan","FD02","Active","2025-01-28T03:04:30.001237+00:00"]
[null,null,null,null,null,null,"PROJECT_PLAN_TASK-3-89459","FA Production > Lighting","PROJECT_PLAN_TASK-3-89459-FA Production > Lighting","Project Plan","FD02","Active","2025-01-28T03:04:30.001237+00:00"]
[null,null,null,null,null,null,"PROJECT_PLAN_TASK-3-89469","FA Production > Audio","PROJECT_PLAN_TASK-3-89469-FA Production > Audio","Project Plan","FD01","Active","2025-01-23T03:04:41.67576+00:00"]
[null,null,null,null,null,null,"PROJECT_PLAN_TASK-3-89470","FA Production > Costume","PROJECT_PLAN_TASK-3-89470-FA Production > Costume","Project Plan","FD01","Active","2025-01-23T03:04:41.67576+00:00"]
[null,null,null,null,null,null,"PROJECT_PLAN_TASK-3-89471","FA Production > FA Makeup & Hair","PROJECT_PLAN_TASK-3-89471-FA Production > FA Makeup & Hair","Project Plan","FD01","Active","2025-01-23T03:04:41.67576+00:00"]
[null,null,null,null,null,null,"PROJECT_PLAN_TASK-3-89472","FA Production > Front of House","PROJECT_PLAN_TASK-3-89472-FA Production > Front of House","Project Plan","FD01","Active","2025-01-23T03:04:41.67576+00:00"]
[null,null,null,null,null,null,"PROJECT_PLAN_TASK-3-89473","FA Production > Lighting","PROJECT_PLAN_TASK-3-89473-FA Production > Lighting","Project Plan","FD01","Active","2025-01-23T03:04:41.67576+00:00"]
[null,null,null,null,null,null,"PROJECT_PLAN_TASK-3-89474","FA Production > Marketing","PROJECT_PLAN_TASK-3-89474-FA Production > Marketing","Project Plan","FD01","Active","2025-01-23T03:04:41.67576+00:00"]
[null,null,null,null,null,null,"PROJECT_PLAN_TASK-3-89475","FA Production > Producer","PROJECT_PLAN_TASK-3-89475-FA Production > Producer","Project Plan","FD01","Active","2025-01-23T03:04:41.67576+00:00"]
[null,null,null,null,null,null,"PROJECT_PLAN_TASK-3-89476","FA Production > Props","PROJECT_PLAN_TASK-3-89476-FA Production > Props","Project Plan","FD01","Active","2025-01-23T03:04:41.67576+00:00"]
[null,null,null,null,null,null,"PROJECT_PLAN_TASK-3-89477","FA Production > Scene Shop","PROJECT_PLAN_TASK-3-89477-FA Production > Scene Shop","Project Plan","FD01","Active","2025-01-23T03:04:41.67576+00:00"]
[null,null,null,null,null,null,"PROJECT_PLAN_TASK-3-89478","FA Production > Stage Operations","PROJECT_PLAN_TASK-3-89478-FA Production > Stage Operations","Project Plan","FD01","Active","2025-01-23T03:04:41.67576+00:00"]
[null,null,null,null,null,null,"PROJECT_PLAN_TASK-3-89479","FA Production > Creative","PROJECT_PLAN_TASK-3-89479-FA Production > Creative","Project Plan","FD01","Active","2025-01-23T03:04:41.67576+00:00"]
[null,null,null,null,null,null,"PROJECT_PLAN_TASK-3-89480","FA Production > Other","PROJECT_PLAN_TASK-3-89480-FA Production > Other","Project Plan","FD01","Active","2025-01-23T03:04:41.67576+00:00"]
[null,null,null,null,null,null,"PROJECT_PLAN_TASK-3-89481","FA Production > Run Crew","PROJECT_PLAN_TASK-3-89481-FA Production > Run Crew","Project Plan","FD01","Active","2025-01-23T03:04:41.67576+00:00"]
[null,null,null,null,null,null,"PROJECT_PLAN_TASK-3-89483","FA Production > Audio","PROJECT_PLAN_TASK-3-89483-FA Production > Audio","Project Plan","FD01","Active","2025-03-26T02:03:11.50475+00:00"]
[null,null,null,null,null,null,"PROJECT_PLAN_TASK-3-89484","FA Production > Costume","PROJECT_PLAN_TASK-3-89484-FA Production > Costume","Project Plan","FD01","Active","2025-03-26T02:03:11.50475+00:00"]
[null,null,null,null,null,null,"PROJECT_PLAN_TASK-3-89485","FA Production > FA Makeup & Hair","PROJECT_PLAN_TASK-3-89485-FA Production > FA Makeup & Hair","Project Plan","FD01","Active","2025-03-26T02:03:11.50475+00:00"]
[null,null,null,null,null,null,"PROJECT_PLAN_TASK-3-89486","FA Production > Front of House","PROJECT_PLAN_TASK-3-89486-FA Production > Front of House","Project Plan","FD01","Active","2025-03-26T02:03:11.50475+00:00"]
[null,null,null,null,null,null,"PROJECT_PLAN_TASK-3-89487","FA Production > Lighting","PROJECT_PLAN_TASK-3-89487-FA Production > Lighting","Project Plan","FD01","Active","2025-03-26T02:03:11.50475+00:00"]
[null,null,null,null,null,null,"PROJECT_PLAN_TASK-3-89488","FA Production > Marketing","PROJECT_PLAN_TASK-3-89488-FA Production > Marketing","Project Plan","FD01","Active","2025-03-26T02:03:11.50475+00:00"]
[null,null,null,null,null,null,"PROJECT_PLAN_TASK-3-89489","FA Production > Producer","PROJECT_PLAN_TASK-3-89489-FA Production > Producer","Project Plan","FD01","Active","2025-03-26T02:03:11.50475+00:00"]
[null,null,null,null,null,null,"PROJECT_PLAN_TASK-3-89490","FA Production > Props","PROJECT_PLAN_TASK-3-89490-FA Production > Props","Project Plan","FD01","Active","2025-03-26T02:03:11.50475+00:00"]
[null,null,null,null,null,null,"PROJECT_PLAN_TASK-3-89491","FA Production > Scene Shop","PROJECT_PLAN_TASK-3-89491-FA Production > Scene Shop","Project Plan","FD01","Active","2025-03-26T02:03:11.50475+00:00"]
[null,null,null,null,null,null,"PROJECT_PLAN_TASK-3-89492","FA Production > Stage Operations","PROJECT_PLAN_TASK-3-89492-FA Production > Stage Operations","Project Plan","FD01","Active","2025-03-26T02:03:11.50475+00:00"]
[null,null,null,null,null,null,"PROJECT_PLAN_TASK-3-89493","FA Production > Creative","PROJECT_PLAN_TASK-3-89493-FA Production > Creative","Project Plan","FD01","Active","2025-03-26T02:03:11.50475+00:00"]
[null,null,null,null,null,null,"PROJECT_PLAN_TASK-3-89494","FA Production > Other","PROJECT_PLAN_TASK-3-89494-FA Production > Other","Project Plan","FD01","Active","2025-03-26T02:03:11.50475+00:00"]
[null,null,null,null,null,null,"PROJECT_PLAN_TASK-3-89495","FA Production > Run Crew","PROJECT_PLAN_TASK-3-89495-FA Production > Run Crew","Project Plan","FD01","Active","2025-03-26T02:03:11.50475+00:00"]
[null,null,null,null,null,null,"PROJECT_PLAN_TASK-3-89496","FA Production > Stage Manager","PROJECT_PLAN_TASK-3-89496-FA Production > Stage Manager","Project Plan","FD01","Active","2025-03-26T02:03:11.50475+00:00"]
[null,null,null,null,null,null,"PROJECT_PLAN_TASK-3-93930","FA Production > Audio","PROJECT_PLAN_TASK-3-93930-FA Production > Audio","Project Plan","FD01","Active","2025-02-06T03:04:24.626914+00:00"]
[null,null,null,null,null,null,"PROJECT_PLAN_TASK-3-93931","FA Production > Costume","PROJECT_PLAN_TASK-3-93931-FA Production > Costume","Project Plan","FD01","Active","2025-02-06T03:04:24.626914+00:00"]
[null,null,null,null,null,null,"PROJECT_PLAN_TASK-3-93932","FA Production > FA Makeup & Hair","PROJECT_PLAN_TASK-3-93932-FA Production > FA Makeup & Hair","Project Plan","FD01","Active","2025-02-06T03:04:24.626914+00:00"]
[null,null,null,null,null,null,"PROJECT_PLAN_TASK-3-93933","FA Production > Front of House","PROJECT_PLAN_TASK-3-93933-FA Production > Front of House","Project Plan","FD01","Active","2025-02-06T03:04:24.626914+00:00"]
[null,null,null,null,null,null,"PROJECT_PLAN_TASK-3-93934","FA Production > Lighting","PROJECT_PLAN_TASK-3-93934-FA Production > Lighting","Project Plan","FD01","Active","2025-02-06T03:04:24.626914+00:00"]
[null,null,null,null,null,null,"PROJECT_PLAN_TASK-3-93935","FA Production > Marketing","PROJECT_PLAN_TASK-3-93935-FA Production > Marketing","Project Plan","FD01","Active","2025-02-06T03:04:24.626914+00:00"]
[null,null,null,null,null,null,"PROJECT_PLAN_TASK-3-93936","FA Production > Producer","PROJECT_PLAN_TASK-3-93936-FA Production > Producer","Project Plan","FD01","Active","2025-02-06T03:04:24.626914+00:00"]
[null,null,null,null,null,null,"PROJECT_PLAN_TASK-3-93937","FA Production > Props","PROJECT_PLAN_TASK-3-93937-FA Production > Props","Project Plan","FD01","Active","2025-02-06T03:04:24.626914+00:00"]
[null,null,null,null,null,null,"PROJECT_PLAN_TASK-3-93938","FA Production > Scene Shop","PROJECT_PLAN_TASK-3-93938-FA Production > Scene Shop","Project Plan","FD01","Active","2025-02-06T03:04:24.626914+00:00"]
[null,null,null,null,null,null,"PROJECT_PLAN_TASK-3-93939","FA Production > Stage Operations","PROJECT_PLAN_TASK-3-93939-FA Production > Stage Operations","Project Plan","FD01","Active","2025-02-06T03:04:24.626914+00:00"]
[null,null,null,null,null,null,"PROJECT_PLAN_TASK-3-93940","FA Production > Creative","PROJECT_PLAN_TASK-3-93940-FA Production > Creative","Project Plan","FD01","Active","2025-02-06T03:04:24.626914+00:00"]
[null,null,null,null,null,null,"PROJECT_PLAN_TASK-3-93941","FA Production > Other","PROJECT_PLAN_TASK-3-93941-FA Production > Other","Project Plan","FD01","Active","2025-02-06T03:04:24.626914+00:00"]
[null,null,null,null,null,null,"PROJECT_PLAN_TASK-3-93942","FA Production > Run Crew","PROJECT_PLAN_TASK-3-93942-FA Production > Run Crew","Project Plan","FD01","Active","2025-02-06T03:04:24.626914+00:00"]
[null,null,null,null,null,null,"PROJECT_PLAN_TASK-3-93943","FA Production > Stage Manager","PROJECT_PLAN_TASK-3-93943-FA Production > Stage Manager","Project Plan","FD01","Active","2025-02-06T03:04:24.626914+00:00"]

{"sheet":"Tenant","index":4,"n_rows":16,"n_cols":23,"rows_kept":16,"cut":false,"hidden":false,"merged":[[1,5,1,12],[1,15,2,16],[1,17,2,17],[1,18,2,18],[1,19,2,20]]}
[null,null,null,null,null,null,null,null,null,null,null,null,null,{"$f":"_xlfn.DAYS(NOW(),O4)","v":0},{"$f":"\"Refresh Worktags\" & CHAR(10) & \"* \" & _xlfn.DAYS(NOW(),O4) & \" days since worktag refresh\"","v":"Refresh Worktags\n* 0 days since worktag refresh"}]
[null,null,"Intra Campus",null,null,null,null,null,null,null,null,null,null,null,null,"Journal Sources",null,"Ledger","Currency","Books",null,null,"Amendment Type"]
[null,null,"Revenue","Tenant","Type",null,null,null,null,null,null,null,null,"Version","Last Updated",null,null,"Ledger","Currency"]
[null,null,"Y","Production","BANK","ALU","Brigham Young University Alumni, LLC","ALU-Brigham Young University Alumni, LLC","Actuals","2025-Jan (Calendar Year)","2025-01-01","2025-01-31","Open",1,"2025-04-11","JE Campus","JE_Campus","Actuals","CAD","(blank)",null,null,"Current Year Amendment"]
[null,null,null,"Sandbox","JRNL","BYU","Brigham Young University","BYU-Brigham Young University","Actuals","2025-Jan (Calendar Year)","2025-01-01","2025-01-31","Open",null,null,"JE Campus (Class, Assignee, or Std Expr Changes Only)","JE Campus (Class, Assignee, or Std Expr Changes Only)","Commitment","EUR","Financial Adjustment","Financial_Adjustment",null,"Permanent Amendment"]
[null,null,null,null,null,"CAN","EFY-Canada Foundation","CAN-EFY-Canada Foundation","Actuals","2025-Jan (Calendar Year)","2025-01-01","2025-01-31","Open",null,null,"JE Gift (Fin Serv Only)","JE_Gift","Obligation","GBP",null,null,null,"Faculty Consolidation Amendment"]
[null,null,null,null,null,"CEE","CE Events, LLC","CEE-CE Events, LLC","Actuals","2025-Jan (Calendar Year)","2025-01-01","2025-01-31","Open",null,null,"JE Override (Fin Serv Only)","JE_Override",null,"ILS",null,null,null,"Project Transfers Amendment"]
[null,null,null,null,null,"FSY","FSY, LLC","FSY-FSY, LLC","Actuals","2025-Jan (Calendar Year)","2025-01-01","2025-01-31","Open",null,null,"JE Payroll (Fin Serv Only)","JE_Payroll",null,"USD",null,null,null,"Carryovers Amendment (Budget Office use only)"]
[null,null,null,null,null,"HED","HEDL, LLC","HED-HEDL, LLC","Actuals","2025-Jan (Calendar Year)","2025-01-01","2025-01-31","Open",null,null,"JE PPE (Fin Serv Only)","JE_PPE"]
[null,null,null,null,null,"IHS","HSDL, LLC","IHS-HSDL, LLC","Actuals","2025-Jan (Calendar Year)","2025-01-01","2025-01-31","Open",null,null,"JE Research (Fin Serv Only)","JE_Research"]
[null,null,null,null,null,"INT","BYU International, LLC","INT-BYU International, LLC","Actuals","2025-Jan (Calendar Year)","2025-01-01","2025-01-31","Open"]
[null,null,null,null,null,"JER","The Jerusalem Center for Near Eastern Studies","JER-The Jerusalem Center for Near Eastern Studies","Actuals","2025-Jan (Calendar Year)","2025-01-01","2025-01-31","Open"]
[null,null,null,null,null,"LDN","Brigham Young University, Ltd.","LDN-Brigham Young University, Ltd.","Actuals","2025-Jan (Calendar Year)","2025-01-01","2025-01-31","Open"]
[null,null,null,null,null,"USD_CAN","USD EFY-Canada Foundation","USD_CAN-USD EFY-Canada Foundation","Actuals","2025-Jan (Calendar Year)","2025-01-01","2025-01-31","Open"]
[null,null,null,null,null,"USD_JER","USD The Jerusalem Center for Near Eastern Studies","USD_JER-USD The Jerusalem Center for Near Eastern Studies","Actuals","2025-Jan (Calendar Year)","2025-01-01","2025-01-31","Open"]
[null,null,null,null,null,"USD_LDN","USD Brigham Young University, Ltd.","USD_LDN-USD Brigham Young University, Ltd.","Actuals","2025-Jan (Calendar Year)","2025-01-01","2025-01-31","Open"]

{"sheet":"AccountSCRC_Concat","index":5,"n_rows":1300,"n_cols":8,"rows_kept":1300,"cut":false,"hidden":true,"merged":[]}
[{"$f":"IF(B1<>\"\",IF(C1<>\"\",B1&\"_\"&C1&\" \"&D1&\"/\"&E1,B1&\" \"&D1),\"\")","v":"0100_SC0101 Budget Carryover/Unallocated/Forward Balance (Budget Only)"},{"$f":"Worktags!AS197","v":"0100"},{"$f":"IF(Worktags!AQ197<>Worktags!AS197,Worktags!AQ197,\"\")","v":"SC0101"},{"$f":"IFERROR(VLOOKUP(B1,Worktags!AL:AO,2,FALSE),\"\")","v":"Budget Carryover/Unallocated"},{"$f":"IFERROR(VLOOKUP(C1,Worktags!O:T,2,FALSE),\"\")","v":"Forward Balance (Budget Only)"},null,{"$f":"MAX(IF(ISBLANK(Worktags!AL:AL),0,ROW(Worktags!AL:AL)))","v":143},{"$f":"MAX(IF(ISBLANK(Worktags!AR:AR),0,ROW(Worktags!AR:AR)))","v":963}]
["0100_SC0102 Budget Carryover/Unallocated/Annual Flexible Budget (Budget Only)",{"$f":"Worktags!AS198","v":"0100"},{"$f":"IF(Worktags!AQ198<>Worktags!AS198,Worktags!AQ198,\"\")","v":"SC0102"},{"$f":"IFERROR(VLOOKUP(B2,Worktags!AL:AO,2,FALSE),\"\")","v":"Budget Carryover/Unallocated"},{"$f":"IFERROR(VLOOKUP(C2,Worktags!O:T,2,FALSE),\"\")","v":"Annual Flexible Budget (Budget Only)"}]
["0100_SC0103 Budget Carryover/Unallocated/Budget Unallocated (Budget Only)",{"$f":"Worktags!AS199","v":"0100"},{"$f":"IF(Worktags!AQ199<>Worktags!AS199,Worktags!AQ199,\"\")","v":"SC0103"},{"$f":"IFERROR(VLOOKUP(B3,Worktags!AL:AO,2,FALSE),\"\")","v":"Budget Carryover/Unallocated"},{"$f":"IFERROR(VLOOKUP(C3,Worktags!O:T,2,FALSE),\"\")","v":"Budget Unallocated (Budget Only)"}]
["0100_SC0104 Budget Carryover/Unallocated/Research Carryover (Budget Only)",{"$f":"Worktags!AS200","v":"0100"},{"$f":"IF(Worktags!AQ200<>Worktags!AS200,Worktags!AQ200,\"\")","v":"SC0104"},{"$f":"IFERROR(VLOOKUP(B4,Worktags!AL:AO,2,FALSE),\"\")","v":"Budget Carryover/Unallocated"},{"$f":"IFERROR(VLOOKUP(C4,Worktags!O:T,2,FALSE),\"\")","v":"Research Carryover (Budget Only)"}]
["1650 Construction in Progress",{"$f":"Worktags!AL67","v":"1650"},null,{"$f":"IFERROR(VLOOKUP(B5,Worktags!AL:AO,2,FALSE),\"\")","v":"Construction in Progress"}]
["1651 Construction In Progress (Non-Workday Projects)",{"$f":"Worktags!AL68","v":"1651"},null,{"$f":"IFERROR(VLOOKUP(B6,Worktags!AL:AO,2,FALSE),\"\")","v":"Construction In Progress (Non-Workday Projects)"}]
["4000 Appropriations",{"$f":"Worktags!AL106","v":"4000"},null,{"$f":"IFERROR(VLOOKUP(B7,Worktags!AL:AO,2,FALSE),\"\")","v":"Appropriations"}]
["4000_RC4001 Appropriations/Church Appropriation",{"$f":"Worktags!AS98","v":"4000"},{"$f":"IF(Worktags!AQ98<>Worktags!AS98,Worktags!AQ98,\"\")","v":"RC4001"},{"$f":"IFERROR(VLOOKUP(B8,Worktags!AL:AO,2,FALSE),\"\")","v":"Appropriations"},{"$f":"IFERROR(VLOOKUP(C8,Worktags!O:T,2,FALSE),\"\")","v":"Church Appropriation"}]
["4000_RC4002 Appropriations/University Allocation",{"$f":"Worktags!AS100","v":"4000"},{"$f":"IF(Worktags!AQ100<>Worktags!AS100,Worktags!AQ100,\"\")","v":"RC4002"},{"$f":"IFERROR(VLOOKUP(B9,Worktags!AL:AO,2,FALSE),\"\")","v":"Appropriations"},{"$f":"IFERROR(VLOOKUP(C9,Worktags!O:T,2,FALSE),\"\")","v":"University Allocation"}]
["4100 Tuition and Fees",{"$f":"Worktags!AL107","v":"4100"},null,{"$f":"IFERROR(VLOOKUP(B10,Worktags!AL:AO,2,FALSE),\"\")","v":"Tuition and Fees"}]
["4100_RC4101 Tuition and Fees/Tuition",{"$f":"Worktags!AS102","v":"4100"},{"$f":"IF(Worktags!AQ102<>Worktags!AS102,Worktags!AQ102,\"\")","v":"RC4101"},{"$f":"IFERROR(VLOOKUP(B11,Worktags!AL:AO,2,FALSE),\"\")","v":"Tuition and Fees"},{"$f":"IFERROR(VLOOKUP(C11,Worktags!O:T,2,FALSE),\"\")","v":"Tuition"}]
["4100_RC4102 Tuition and Fees/Student Fee Distribution",{"$f":"Worktags!AS104","v":"4100"},{"$f":"IF(Worktags!AQ104<>Worktags!AS104,Worktags!AQ104,\"\")","v":"RC4102"},{"$f":"IFERROR(VLOOKUP(B12,Worktags!AL:AO,2,FALSE),\"\")","v":"Tuition and Fees"},{"$f":"IFERROR(VLOOKUP(C12,Worktags!O:T,2,FALSE),\"\")","v":"Student Fee Distribution"}]
["4100_RC4103 Tuition and Fees/Non-Credit Income",{"$f":"Worktags!AS106","v":"4100"},{"$f":"IF(Worktags!AQ106<>Worktags!AS106,Worktags!AQ106,\"\")","v":"RC4103"},{"$f":"IFERROR(VLOOKUP(B13,Worktags!AL:AO,2,FALSE),\"\")","v":"Tuition and Fees"},{"$f":"IFERROR(VLOOKUP(C13,Worktags!O:T,2,FALSE),\"\")","v":"Non-Credit Income"}]
["4100_RC4104 Tuition and Fees/Student Fees",{"$f":"Worktags!AS108","v":"4100"},{"$f":"IF(Worktags!AQ108<>Worktags!AS108,Worktags!AQ108,\"\")","v":"RC4104"},{"$f":"IFERROR(VLOOKUP(B14,Worktags!AL:AO,2,FALSE),\"\")","v":"Tuition and Fees"},{"$f":"IFERROR(VLOOKUP(C14,Worktags!O:T,2,FALSE),\"\")","v":"Student Fees"}]
["4100_RC4110 Tuition and Fees/Grad Service Fee",{"$f":"Worktags!AS110","v":"4100"},{"$f":"IF(Worktags!AQ110<>Worktags!AS110,Worktags!AQ110,\"\")","v":"RC4110"},{"$f":"IFERROR(VLOOKUP(B15,Worktags!AL:AO,2,FALSE),\"\")","v":"Tuition and Fees"},{"$f":"IFERROR(VLOOKUP(C15,Worktags!O:T,2,FALSE),\"\")","v":"Grad Service Fee"}]
["4100_RC4111 Tuition and Fees/Admission Fees",{"$f":"Worktags!AS112","v":"4100"},{"$f":"IF(Worktags!AQ112<>Worktags!AS112,Worktags!AQ112,\"\")","v":"RC4111"},{"$f":"IFERROR(VLOOKUP(B16,Worktags!AL:AO,2,FALSE),\"\")","v":"Tuition and Fees"},{"$f":"IFERROR(VLOOKUP(C16,Worktags!O:T,2,FALSE),\"\")","v":"Admission Fees"}]
["4100_RC4112 Tuition and Fees/Graduation Fees",{"$f":"Worktags!AS114","v":"4100"},{"$f":"IF(Worktags!AQ114<>Worktags!AS114,Worktags!AQ114,\"\")","v":"RC4112"},{"$f":"IFERROR(VLOOKUP(B17,Worktags!AL:AO,2,FALSE),\"\")","v":"Tuition and Fees"},{"$f":"IFERROR(VLOOKUP(C17,Worktags!O:T,2,FALSE),\"\")","v":"Graduation Fees"}]
["4100_RC4113 Tuition and Fees/Transcript Fees",{"$f":"Worktags!AS116","v":"4100"},{"$f":"IF(Worktags!AQ116<>Worktags!AS116,Worktags!AQ116,\"\")","v":"RC4113"},{"$f":"IFERROR(VLOOKUP(B18,Worktags!AL:AO,2,FALSE),\"\")","v":"Tuition and Fees"},{"$f":"IFERROR(VLOOKUP(C18,Worktags!O:T,2,FALSE),\"\")","v":"Transcript Fees"}]
["4100_RC4114 Tuition and Fees/Special Exam Fees",{"$f":"Worktags!AS118","v":"4100"},{"$f":"IF(Worktags!AQ118<>Worktags!AS118,Worktags!AQ118,\"\")","v":"RC4114"},{"$f":"IFERROR(VLOOKUP(B19,Worktags!AL:AO,2,FALSE),\"\")","v":"Tuition and Fees"},{"$f":"IFERROR(VLOOKUP(C19,Worktags!O:T,2,FALSE),\"\")","v":"Special Exam Fees"}]
["4100_RC4115 Tuition and Fees/ACT Test Fees",{"$f":"Worktags!AS120","v":"4100"},{"$f":"IF(Worktags!AQ120<>Worktags!AS120,Worktags!AQ120,\"\")","v":"RC4115"},{"$f":"IFERROR(VLOOKUP(B20,Worktags!AL:AO,2,FALSE),\"\")","v":"Tuition and Fees"},{"$f":"IFERROR(VLOOKUP(C20,Worktags!O:T,2,FALSE),\"\")","v":"ACT Test Fees"}]
["4100_RC4116 Tuition and Fees/Library Fines",{"$f":"Worktags!AS121","v":"4100"},{"$f":"IF(Worktags!AQ121<>Worktags!AS121,Worktags!AQ121,\"\")","v":"RC4116"},{"$f":"IFERROR(VLOOKUP(B21,Worktags!AL:AO,2,FALSE),\"\")","v":"Tuition and Fees"},{"$f":"IFERROR(VLOOKUP(C21,Worktags!O:T,2,FALSE),\"\")","v":"Library Fines"}]
["4100_RC4117 Tuition and Fees/Locker Rentals",{"$f":"Worktags!AS123","v":"4100"},{"$f":"IF(Worktags!AQ123<>Worktags!AS123,Worktags!AQ123,\"\")","v":"RC4117"},{"$f":"IFERROR(VLOOKUP(B22,Worktags!AL:AO,2,FALSE),\"\")","v":"Tuition and Fees"},{"$f":"IFERROR(VLOOKUP(C22,Worktags!O:T,2,FALSE),\"\")","v":"Locker Rentals"}]
["4100_RC4199 Tuition and Fees/Tuition and Fees (reclass)",{"$f":"Worktags!AS125","v":"4100"},{"$f":"IF(Worktags!AQ125<>Worktags!AS125,Worktags!AQ125,\"\")","v":"RC4199"},{"$f":"IFERROR(VLOOKUP(B23,Worktags!AL:AO,2,FALSE),\"\")","v":"Tuition and Fees"},{"$f":"IFERROR(VLOOKUP(C23,Worktags!O:T,2,FALSE),\"\")","v":"Tuition and Fees (reclass)"}]
["4100_SC4100 Tuition and Fees/Tuition and Fees Refunds",{"$f":"Worktags!AS255","v":"4100"},{"$f":"IF(Worktags!AQ255<>Worktags!AS255,Worktags!AQ255,\"\")","v":"SC4100"},{"$f":"IFERROR(VLOOKUP(B24,Worktags!AL:AO,2,FALSE),\"\")","v":"Tuition and Fees"},{"$f":"IFERROR(VLOOKUP(C24,Worktags!O:T,2,FALSE),\"\")","v":"Tuition and Fees Refunds"}]
["4198 Tuition and Fees (Contra)",{"$f":"Worktags!AL108","v":"4198"},null,{"$f":"IFERROR(VLOOKUP(B25,Worktags!AL:AO,2,FALSE),\"\")","v":"Tuition and Fees (Contra)"}]
["4200 Gifts and Grants",{"$f":"Worktags!AL109","v":"4200"},null,{"$f":"IFERROR(VLOOKUP(B26,Worktags!AL:AO,2,FALSE),\"\")","v":"Gifts and Grants"}]
["4200_RC4201 Gifts and Grants/Gift Revenue-Cash",{"$f":"Worktags!AS126","v":"4200"},{"$f":"IF(Worktags!AQ126<>Worktags!AS126,Worktags!AQ126,\"\")","v":"RC4201"},{"$f":"IFERROR(VLOOKUP(B27,Worktags!AL:AO,2,FALSE),\"\")","v":"Gifts and Grants"},{"$f":"IFERROR(VLOOKUP(C27,Worktags!O:T,2,FALSE),\"\")","v":"Gift Revenue-Cash"}]
["4200_RC4202 Gifts and Grants/Gift Revenue-Securities",{"$f":"Worktags!AS127","v":"4200"},{"$f":"IF(Worktags!AQ127<>Worktags!AS127,Worktags!AQ127,\"\")","v":"RC4202"},{"$f":"IFERROR(VLOOKUP(B28,Worktags!AL:AO,2,FALSE),\"\")","v":"Gifts and Grants"},{"$f":"IFERROR(VLOOKUP(C28,Worktags!O:T,2,FALSE),\"\")","v":"Gift Revenue-Securities"}]
["4200_RC4203 Gifts and Grants/Gift Revenue - Tangible Property",{"$f":"Worktags!AS128","v":"4200"},{"$f":"IF(Worktags!AQ128<>Worktags!AS128,Worktags!AQ128,\"\")","v":"RC4203"},{"$f":"IFERROR(VLOOKUP(B29,Worktags!AL:AO,2,FALSE),\"\")","v":"Gifts and Grants"},{"$f":"IFERROR(VLOOKUP(C29,Worktags!O:T,2,FALSE),\"\")","v":"Gift Revenue - Tangible Property"}]
["4200_RC4204 Gifts and Grants/Sponsored Program Revenue",{"$f":"Worktags!AS129","v":"4200"},{"$f":"IF(Worktags!AQ129<>Worktags!AS129,Worktags!AQ129,\"\")","v":"RC4204"},{"$f":"IFERROR(VLOOKUP(B30,Worktags!AL:AO,2,FALSE),\"\")","v":"Gifts and Grants"},{"$f":"IFERROR(VLOOKUP(C30,Worktags!O:T,2,FALSE),\"\")","v":"Sponsored Program Revenue"}]
["4200_RC4299 Gifts and Grants/Gift Revenue (reclass)",{"$f":"Worktags!AS130","v":"4200"},{"$f":"IF(Worktags!AQ130<>Worktags!AS130,Worktags!AQ130,\"\")","v":"RC4299"},{"$f":"IFERROR(VLOOKUP(B31,Worktags!AL:AO,2,FALSE),\"\")","v":"Gifts and Grants"},{"$f":"IFERROR(VLOOKUP(C31,Worktags!O:T,2,FALSE),\"\")","v":"Gift Revenue (reclass)"}]
["4300 Investment Income",{"$f":"Worktags!AL110","v":"4300"},null,{"$f":"IFERROR(VLOOKUP(B32,Worktags!AL:AO,2,FALSE),\"\")","v":"Investment Income"}]
["4300_RC4301 Investment Income/Investment Dividend Income",{"$f":"Worktags!AS131","v":"4300"},{"$f":"IF(Worktags!AQ131<>Worktags!AS131,Worktags!AQ131,\"\")","v":"RC4301"},{"$f":"IFERROR(VLOOKUP(B33,Worktags!AL:AO,2,FALSE),\"\")","v":"Investment Income"},{"$f":"IFERROR(VLOOKUP(C33,Worktags!O:T,2,FALSE),\"\")","v":"Investment Dividend Income"}]
["4300_RC4302 Investment Income/Investment Interest Income",{"$f":"Worktags!AS132","v":"4300"},{"$f":"IF(Worktags!AQ132<>Worktags!AS132,Worktags!AQ132,\"\")","v":"RC4302"},{"$f":"IFERROR(VLOOKUP(B34,Worktags!AL:AO,2,FALSE),\"\")","v":"Investment Income"},{"$f":"IFERROR(VLOOKUP(C34,Worktags!O:T,2,FALSE),\"\")","v":"Investment Interest Income"}]
["4310 Investment Gains and Losses",{"$f":"Worktags!AL111","v":"4310"},null,{"$f":"IFERROR(VLOOKUP(B35,Worktags!AL:AO,2,FALSE),\"\")","v":"Investment Gains and Losses"}]
["4310_RC4311 Investment Gains and Losses/Investment Gains/Losses",{"$f":"Worktags!AS133","v":"4310"},{"$f":"IF(Worktags!AQ133<>Worktags!AS133,Worktags!AQ133,\"\")","v":"RC4311"},{"$f":"IFERROR(VLOOKUP(B36,Worktags!AL:AO,2,FALSE),\"\")","v":"Investment Gains and Losses"},{"$f":"IFERROR(VLOOKUP(C36,Worktags!O:T,2,FALSE),\"\")","v":"Investment Gains/Losses"}]
["4310_RC4312 Investment Gains and Losses/Investment Income Assets Held for Liquidation",{"$f":"Worktags!AS134","v":"4310"},{"$f":"IF(Worktags!AQ134<>Worktags!AS134,Worktags!AQ134,\"\")","v":"RC4312"},{"$f":"IFERROR(VLOOKUP(B37,Worktags!AL:AO,2,FALSE),\"\")","v":"Investment Gains and Losses"},{"$f":"IFERROR(VLOOKUP(C37,Worktags!O:T,2,FALSE),\"\")","v":"Investment Income Assets Held for Liquidation"}]
["4310_RC4313 Investment Gains and Losses/Unrealized Investment Gains/Losses",{"$f":"Worktags!AS135","v":"4310"},{"$f":"IF(Worktags!AQ135<>Worktags!AS135,Worktags!AQ135,\"\")","v":"RC4313"},{"$f":"IFERROR(VLOOKUP(B38,Worktags!AL:AO,2,FALSE),\"\")","v":"Investment Gains and Losses"},{"$f":"IFERROR(VLOOKUP(C38,Worktags!O:T,2,FALSE),\"\")","v":"Unrealized Investment Gains/Losses"}]
["4400 Sale of Services",{"$f":"Worktags!AL112","v":"4400"},null,{"$f":"IFERROR(VLOOKUP(B39,Worktags!AL:AO,2,FALSE),\"\")","v":"Sale of Services"}]
["4400_RC4401 Sale of Services/Sale of Services",{"$f":"Worktags!AS137","v":"4400"},{"$f":"IF(Worktags!AQ137<>Worktags!AS137,Worktags!AQ137,\"\")","v":"RC4401"},{"$f":"IFERROR(VLOOKUP(B40,Worktags!AL:AO,2,FALSE),\"\")","v":"Sale of Services"},{"$f":"IFERROR(VLOOKUP(C40,Worktags!O:T,2,FALSE),\"\")","v":"Sale of Services"}]
["4400_RC4402 Sale of Services/Sale of Services-Campus Appropriation",{"$f":"Worktags!AS138","v":"4400"},{"$f":"IF(Worktags!AQ138<>Worktags!AS138,Worktags!AQ138,\"\")","v":"RC4402"},{"$f":"IFERROR(VLOOKUP(B41,Worktags!AL:AO,2,FALSE),\"\")","v":"Sale of Services"},{"$f":"IFERROR(VLOOKUP(C41,Worktags!O:T,2,FALSE),\"\")","v":"Sale of Services-Campus Appropriation"}]
["4400_RC4403 Sale of Services/Sale of Services-Campus Other",{"$f":"Worktags!AS139","v":"4400"},{"$f":"IF(Worktags!AQ139<>Worktags!AS139,Worktags!AQ139,\"\")","v":"RC4403"},{"$f":"IFERROR(VLOOKUP(B42,Worktags!AL:AO,2,FALSE),\"\")","v":"Sale of Services"},{"$f":"IFERROR(VLOOKUP(C42,Worktags!O:T,2,FALSE),\"\")","v":"Sale of Services-Campus Other"}]
["4400_RC4404 Sale of Services/Sale of Services-Taxable",{"$f":"Worktags!AS141","v":"4400"},{"$f":"IF(Worktags!AQ141<>Worktags!AS141,Worktags!AQ141,\"\")","v":"RC4404"},{"$f":"IFERROR(VLOOKUP(B43,Worktags!AL:AO,2,FALSE),\"\")","v":"Sale of Services"},{"$f":"IFERROR(VLOOKUP(C43,Worktags!O:T,2,FALSE),\"\")","v":"Sale of Services-Taxable"}]
["4400_RC4405 Sale of Services/Sale of Services-Refunds",{"$f":"Worktags!AS143","v":"4400"},{"$f":"IF(Worktags!AQ143<>Worktags!AS143,Worktags!AQ143,\"\")","v":"RC4405"},{"$f":"IFERROR(VLOOKUP(B44,Worktags!AL:AO,2,FALSE),\"\")","v":"Sale of Services"},{"$f":"IFERROR(VLOOKUP(C44,Worktags!O:T,2,FALSE),\"\")","v":"Sale of Services-Refunds"}]
["4400_RC4406 Sale of Services/Sponsorship Revenue",{"$f":"Worktags!AS145","v":"4400"},{"$f":"IF(Worktags!AQ145<>Worktags!AS145,Worktags!AQ145,\"\")","v":"RC4406"},{"$f":"IFERROR(VLOOKUP(B45,Worktags!AL:AO,2,FALSE),\"\")","v":"Sale of Services"},{"$f":"IFERROR(VLOOKUP(C45,Worktags!O:T,2,FALSE),\"\")","v":"Sponsorship Revenue"}]
["4400_RC4407 Sale of Services/Publishing Revenue",{"$f":"Worktags!AS147","v":"4400"},{"$f":"IF(Worktags!AQ147<>Worktags!AS147,Worktags!AQ147,\"\")","v":"RC4407"},{"$f":"IFERROR(VLOOKUP(B46,Worktags!AL:AO,2,FALSE),\"\")","v":"Sale of Services"},{"$f":"IFERROR(VLOOKUP(C46,Worktags!O:T,2,FALSE),\"\")","v":"Publishing Revenue"}]
["4400_RC4408 Sale of Services/Digital Download Revenue",{"$f":"Worktags!AS149","v":"4400"},{"$f":"IF(Worktags!AQ149<>Worktags!AS149,Worktags!AQ149,\"\")","v":"RC4408"},{"$f":"IFERROR(VLOOKUP(B47,Worktags!AL:AO,2,FALSE),\"\")","v":"Sale of Services"},{"$f":"IFERROR(VLOOKUP(C47,Worktags!O:T,2,FALSE),\"\")","v":"Digital Download Revenue"}]
["4400_RC4409 Sale of Services/Digital Streaming Revenue",{"$f":"Worktags!AS151","v":"4400"},{"$f":"IF(Worktags!AQ151<>Worktags!AS151,Worktags!AQ151,\"\")","v":"RC4409"},{"$f":"IFERROR(VLOOKUP(B48,Worktags!AL:AO,2,FALSE),\"\")","v":"Sale of Services"},{"$f":"IFERROR(VLOOKUP(C48,Worktags!O:T,2,FALSE),\"\")","v":"Digital Streaming Revenue"}]
["4400_RC4499 Sale of Services/Sale of Services (reclass)",{"$f":"Worktags!AS153","v":"4400"},{"$f":"IF(Worktags!AQ153<>Worktags!AS153,Worktags!AQ153,\"\")","v":"RC4499"},{"$f":"IFERROR(VLOOKUP(B49,Worktags!AL:AO,2,FALSE),\"\")","v":"Sale of Services"},{"$f":"IFERROR(VLOOKUP(C49,Worktags!O:T,2,FALSE),\"\")","v":"Sale of Services (reclass)"}]
["4500 Sale of Goods",{"$f":"Worktags!AL113","v":"4500"},null,{"$f":"IFERROR(VLOOKUP(B50,Worktags!AL:AO,2,FALSE),\"\")","v":"Sale of Goods"}]
["4500_RC4501 Sale of Goods/Sale of Goods",{"$f":"Worktags!AS155","v":"4500"},{"$f":"IF(Worktags!AQ155<>Worktags!AS155,Worktags!AQ155,\"\")","v":"RC4501"},{"$f":"IFERROR(VLOOKUP(B51,Worktags!AL:AO,2,FALSE),\"\")","v":"Sale of Goods"},{"$f":"IFERROR(VLOOKUP(C51,Worktags!O:T,2,FALSE),\"\")","v":"Sale of Goods"}]
["4500_RC4502 Sale of Goods/Sale of Goods-Taxable",{"$f":"Worktags!AS157","v":"4500"},{"$f":"IF(Worktags!AQ157<>Worktags!AS157,Worktags!AQ157,\"\")","v":"RC4502"},{"$f":"IFERROR(VLOOKUP(B52,Worktags!AL:AO,2,FALSE),\"\")","v":"Sale of Goods"},{"$f":"IFERROR(VLOOKUP(C52,Worktags!O:T,2,FALSE),\"\")","v":"Sale of Goods-Taxable"}]
["4500_RC4503 Sale of Goods/Sale of Goods-Discount/Returns",{"$f":"Worktags!AS159","v":"4500"},{"$f":"IF(Worktags!AQ159<>Worktags!AS159,Worktags!AQ159,\"\")","v":"RC4503"},{"$f":"IFERROR(VLOOKUP(B53,Worktags!AL:AO,2,FALSE),\"\")","v":"Sale of Goods"},{"$f":"IFERROR(VLOOKUP(C53,Worktags!O:T,2,FALSE),\"\")","v":"Sale of Goods-Discount/Returns"}]
["4500_RC4504 Sale of Goods/Sales - Online and Out of State",{"$f":"Worktags!AS161","v":"4500"},{"$f":"IF(Worktags!AQ161<>Worktags!AS161,Worktags!AQ161,\"\")","v":"RC4504"},{"$f":"IFERROR(VLOOKUP(B54,Worktags!AL:AO,2,FALSE),\"\")","v":"Sale of Goods"},{"$f":"IFERROR(VLOOKUP(C54,Worktags!O:T,2,FALSE),\"\")","v":"Sales - Online and Out of State"}]
["4500_RC4505 Sale of Goods/Ticket Sales",{"$f":"Worktags!AS163","v":"4500"},{"$f":"IF(Worktags!AQ163<>Worktags!AS163,Worktags!AQ163,\"\")","v":"RC4505"},{"$f":"IFERROR(VLOOKUP(B55,Worktags!AL:AO,2,FALSE),\"\")","v":"Sale of Goods"},{"$f":"IFERROR(VLOOKUP(C55,Worktags!O:T,2,FALSE),\"\")","v":"Ticket Sales"}]
["4500_RC4506 Sale of Goods/Ticket Sales-Taxable",{"$f":"Worktags!AS165","v":"4500"},{"$f":"IF(Worktags!AQ165<>Worktags!AS165,Worktags!AQ165,\"\")","v":"RC4506"},{"$f":"IFERROR(VLOOKUP(B56,Worktags!AL:AO,2,FALSE),\"\")","v":"Sale of Goods"},{"$f":"IFERROR(VLOOKUP(C56,Worktags!O:T,2,FALSE),\"\")","v":"Ticket Sales-Taxable"}]
["4500_RC4507 Sale of Goods/Ticket Sales-Refunds",{"$f":"Worktags!AS167","v":"4500"},{"$f":"IF(Worktags!AQ167<>Worktags!AS167,Worktags!AQ167,\"\")","v":"RC4507"},{"$f":"IFERROR(VLOOKUP(B57,Worktags!AL:AO,2,FALSE),\"\")","v":"Sale of Goods"},{"$f":"IFERROR(VLOOKUP(C57,Worktags!O:T,2,FALSE),\"\")","v":"Ticket Sales-Refunds"}]
["4500_RC4599 Sale of Goods/Sale of Goods (reclass)",{"$f":"Worktags!AS169","v":"4500"},{"$f":"IF(Worktags!AQ169<>Worktags!AS169,Worktags!AQ169,\"\")","v":"RC4599"},{"$f":"IFERROR(VLOOKUP(B58,Worktags!AL:AO,2,FALSE),\"\")","v":"Sale of Goods"},{"$f":"IFERROR(VLOOKUP(C58,Worktags!O:T,2,FALSE),\"\")","v":"Sale of Goods (reclass)"}]
["4700 Other Income",{"$f":"Worktags!AL114","v":"4700"},null,{"$f":"IFERROR(VLOOKUP(B59,Worktags!AL:AO,2,FALSE),\"\")","v":"Other Income"}]
["4700_RC4701 Other Income/Non-Investment-Dividend Income",{"$f":"Worktags!AS170","v":"4700"},{"$f":"IF(Worktags!AQ170<>Worktags!AS170,Worktags!AQ170,\"\")","v":"RC4701"},{"$f":"IFERROR(VLOOKUP(B60,Worktags!AL:AO,2,FALSE),\"\")","v":"Other Income"},{"$f":"IFERROR(VLOOKUP(C60,Worktags!O:T,2,FALSE),\"\")","v":"Non-Investment-Dividend Income"}]
["4700_RC4702 Other Income/Non-Investment-Interest Income",{"$f":"Worktags!AS171","v":"4700"},{"$f":"IF(Worktags!AQ171<>Worktags!AS171,Worktags!AQ171,\"\")","v":"RC4702"},{"$f":"IFERROR(VLOOKUP(B61,Worktags!AL:AO,2,FALSE),\"\")","v":"Other Income"},{"$f":"IFERROR(VLOOKUP(C61,Worktags!O:T,2,FALSE),\"\")","v":"Non-Investment-Interest Income"}]
["4700_RC4703 Other Income/Non-Investment-Gains/Losses",{"$f":"Worktags!AS172","v":"4700"},{"$f":"IF(Worktags!AQ172<>Worktags!AS172,Worktags!AQ172,\"\")","v":"RC4703"},{"$f":"IFERROR(VLOOKUP(B62,Worktags!AL:AO,2,FALSE),\"\")","v":"Other Income"},{"$f":"IFERROR(VLOOKUP(C62,Worktags!O:T,2,FALSE),\"\")","v":"Non-Investment-Gains/Losses"}]
["4700_RC4704 Other Income/Rental Income",{"$f":"Worktags!AS174","v":"4700"},{"$f":"IF(Worktags!AQ174<>Worktags!AS174,Worktags!AQ174,\"\")","v":"RC4704"},{"$f":"IFERROR(VLOOKUP(B63,Worktags!AL:AO,2,FALSE),\"\")","v":"Other Income"},{"$f":"IFERROR(VLOOKUP(C63,Worktags!O:T,2,FALSE),\"\")","v":"Rental Income"}]
["4700_RC4705 Other Income/Agency Deposits",{"$f":"Worktags!AS175","v":"4700"},{"$f":"IF(Worktags!AQ175<>Worktags!AS175,Worktags!AQ175,\"\")","v":"RC4705"},{"$f":"IFERROR(VLOOKUP(B64,Worktags!AL:AO,2,FALSE),\"\")","v":"Other Income"},{"$f":"IFERROR(VLOOKUP(C64,Worktags!O:T,2,FALSE),\"\")","v":"Agency Deposits"}]
[{"$f":"IF(B65<>\"\",IF(C65<>\"\",B65&\"_\"&C65&\" \"&D65&\"/\"&E65,B65&\" \"&D65),\"\")","v":"4700_RC4706 Other Income/Club Association Dues and Fees"},{"$f":"Worktags!AS176","v":"4700"},{"$f":"IF(Worktags!AQ176<>Worktags!AS176,Worktags!AQ176,\"\")","v":"RC4706"},{"$f":"IFERROR(VLOOKUP(B65,Worktags!AL:AO,2,FALSE),\"\")","v":"Other Income"},{"$f":"IFERROR(VLOOKUP(C65,Worktags!O:T,2,FALSE),\"\")","v":"Club Association Dues and Fees"}]
["4700_RC4707 Other Income/Royalty Income",{"$f":"Worktags!AS177","v":"4700"},{"$f":"IF(Worktags!AQ177<>Worktags!AS177,Worktags!AQ177,\"\")","v":"RC4707"},{"$f":"IFERROR(VLOOKUP(B66,Worktags!AL:AO,2,FALSE),\"\")","v":"Other Income"},{"$f":"IFERROR(VLOOKUP(C66,Worktags!O:T,2,FALSE),\"\")","v":"Royalty Income"}]
["4700_RC4708 Other Income/Distributed Royalty Income",{"$f":"Worktags!AS178","v":"4700"},{"$f":"IF(Worktags!AQ178<>Worktags!AS178,Worktags!AQ178,\"\")","v":"RC4708"},{"$f":"IFERROR(VLOOKUP(B67,Worktags!AL:AO,2,FALSE),\"\")","v":"Other Income"},{"$f":"IFERROR(VLOOKUP(C67,Worktags!O:T,2,FALSE),\"\")","v":"Distributed Royalty Income"}]
["4700_RC4709 Other Income/Over/Short",{"$f":"Worktags!AS179","v":"4700"},{"$f":"IF(Worktags!AQ179<>Worktags!AS179,Worktags!AQ179,\"\")","v":"RC4709"},{"$f":"IFERROR(VLOOKUP(B68,Worktags!AL:AO,2,FALSE),\"\")","v":"Other Income"},{"$f":"IFERROR(VLOOKUP(C68,Worktags!O:T,2,FALSE),\"\")","v":"Over/Short"}]
["4700_RC4710 Other Income/Other Income",{"$f":"Worktags!AS180","v":"4700"},{"$f":"IF(Worktags!AQ180<>Worktags!AS180,Worktags!AQ180,\"\")","v":"RC4710"},{"$f":"IFERROR(VLOOKUP(B69,Worktags!AL:AO,2,FALSE),\"\")","v":"Other Income"},{"$f":"IFERROR(VLOOKUP(C69,Worktags!O:T,2,FALSE),\"\")","v":"Other Income"}]
["4700_RC4711 Other Income/Restricted Transfers (UFSonly)",{"$f":"Worktags!AS181","v":"4700"},{"$f":"IF(Worktags!AQ181<>Worktags!AS181,Worktags!AQ181,\"\")","v":"RC4711"},{"$f":"IFERROR(VLOOKUP(B70,Worktags!AL:AO,2,FALSE),\"\")","v":"Other Income"},{"$f":"IFERROR(VLOOKUP(C70,Worktags!O:T,2,FALSE),\"\")","v":"Restricted Transfers (UFSonly)"}]
["4700_RC4712 Other Income/Interest Alloc-Claim on Cash",{"$f":"Worktags!AS182","v":"4700"},{"$f":"IF(Worktags!AQ182<>Worktags!AS182,Worktags!AQ182,\"\")","v":"RC4712"},{"$f":"IFERROR(VLOOKUP(B71,Worktags!AL:AO,2,FALSE),\"\")","v":"Other Income"},{"$f":"IFERROR(VLOOKUP(C71,Worktags!O:T,2,FALSE),\"\")","v":"Interest Alloc-Claim on Cash"}]
["4700_RC4713 Other Income/Gain/Loss Sale of Asset",{"$f":"Worktags!AS183","v":"4700"},{"$f":"IF(Worktags!AQ183<>Worktags!AS183,Worktags!AQ183,\"\")","v":"RC4713"},{"$f":"IFERROR(VLOOKUP(B72,Worktags!AL:AO,2,FALSE),\"\")","v":"Other Income"},{"$f":"IFERROR(VLOOKUP(C72,Worktags!O:T,2,FALSE),\"\")","v":"Gain/Loss Sale of Asset"}]
["4700_RC4714 Other Income/Legal Fees Reimbursement",{"$f":"Worktags!AS184","v":"4700"},{"$f":"IF(Worktags!AQ184<>Worktags!AS184,Worktags!AQ184,\"\")","v":"RC4714"},{"$f":"IFERROR(VLOOKUP(B73,Worktags!AL:AO,2,FALSE),\"\")","v":"Other Income"},{"$f":"IFERROR(VLOOKUP(C73,Worktags!O:T,2,FALSE),\"\")","v":"Legal Fees Reimbursement"}]
["4700_RC4715 Other Income/Realized Currency Gain/Loss",{"$f":"Worktags!AS185","v":"4700"},{"$f":"IF(Worktags!AQ185<>Worktags!AS185,Worktags!AQ185,\"\")","v":"RC4715"},{"$f":"IFERROR(VLOOKUP(B74,Worktags!AL:AO,2,FALSE),\"\")","v":"Other Income"},{"$f":"IFERROR(VLOOKUP(C74,Worktags!O:T,2,FALSE),\"\")","v":"Realized Currency Gain/Loss"}]
["4700_RC4716 Other Income/Unrealized Currency Gain/Loss",{"$f":"Worktags!AS186","v":"4700"},{"$f":"IF(Worktags!AQ186<>Worktags!AS186,Worktags!AQ186,\"\")","v":"RC4716"},{"$f":"IFERROR(VLOOKUP(B75,Worktags!AL:AO,2,FALSE),\"\")","v":"Other Income"},{"$f":"IFERROR(VLOOKUP(C75,Worktags!O:T,2,FALSE),\"\")","v":"Unrealized Currency Gain/Loss"}]
["4700_RC4717 Other Income/Credit Card Merchant Fee",{"$f":"Worktags!AS187","v":"4700"},{"$f":"IF(Worktags!AQ187<>Worktags!AS187,Worktags!AQ187,\"\")","v":"RC4717"},{"$f":"IFERROR(VLOOKUP(B76,Worktags!AL:AO,2,FALSE),\"\")","v":"Other Income"},{"$f":"IFERROR(VLOOKUP(C76,Worktags!O:T,2,FALSE),\"\")","v":"Credit Card Merchant Fee"}]
["4700_RC4799 Other Income/Other Income (reclass)",{"$f":"Worktags!AS188","v":"4700"},{"$f":"IF(Worktags!AQ188<>Worktags!AS188,Worktags!AQ188,\"\")","v":"RC4799"},{"$f":"IFERROR(VLOOKUP(B77,Worktags!AL:AO,2,FALSE),\"\")","v":"Other Income"},{"$f":"IFERROR(VLOOKUP(C77,Worktags!O:T,2,FALSE),\"\")","v":"Other Income (reclass)"}]
["4780 Inter-Company Contribution Revenue",{"$f":"Worktags!AL115","v":"4780"},null,{"$f":"IFERROR(VLOOKUP(B78,Worktags!AL:AO,2,FALSE),\"\")","v":"Inter-Company Contribution Revenue"}]
["4780 Inter-Company Contribution Revenue",{"$f":"Worktags!AS72","v":"4780"},{"$f":"IF(Worktags!AQ72<>Worktags!AS72,Worktags!AQ72,\"\")","v":""},{"$f":"IFERROR(VLOOKUP(B79,Worktags!AL:AO,2,FALSE),\"\")","v":"Inter-Company Contribution Revenue"},{"$f":"IFERROR(VLOOKUP(C79,Worktags!O:T,2,FALSE),\"\")","v":""}]
["4800 Intra-Division Sales",{"$f":"Worktags!AL116","v":"4800"},null,{"$f":"IFERROR(VLOOKUP(B80,Worktags!AL:AO,2,FALSE),\"\")","v":"Intra-Division Sales"}]
["4800_RC4800 Intra-Division Sales/Intra-Division Sales",{"$f":"Worktags!AS189","v":"4800"},{"$f":"IF(Worktags!AQ189<>Worktags!AS189,Worktags!AQ189,\"\")","v":"RC4800"},{"$f":"IFERROR(VLOOKUP(B81,Worktags!AL:AO,2,FALSE),\"\")","v":"Intra-Division Sales"},{"$f":"IFERROR(VLOOKUP(C81,Worktags!O:T,2,FALSE),\"\")","v":"Intra-Division Sales"}]
["4850 Intra-Division Purchases",{"$f":"Worktags!AL117","v":"4850"},null,{"$f":"IFERROR(VLOOKUP(B82,Worktags!AL:AO,2,FALSE),\"\")","v":"Intra-Division Purchases"}]
["4850_RC4850 Intra-Division Purchases/Intra-Division Purchases",{"$f":"Worktags!AS190","v":"4850"},{"$f":"IF(Worktags!AQ190<>Worktags!AS190,Worktags!AQ190,\"\")","v":"RC4850"},{"$f":"IFERROR(VLOOKUP(B83,Worktags!AL:AO,2,FALSE),\"\")","v":"Intra-Division Purchases"},{"$f":"IFERROR(VLOOKUP(C83,Worktags!O:T,2,FALSE),\"\")","v":"Intra-Division Purchases"}]
["4890 Release of Restrictions",{"$f":"Worktags!AL118","v":"4890"},null,{"$f":"IFERROR(VLOOKUP(B84,Worktags!AL:AO,2,FALSE),\"\")","v":"Release of Restrictions"}]
["4890_RC4890 Release of Restrictions/Release Restrictions (UFSonly)",{"$f":"Worktags!AS191","v":"4890"},{"$f":"IF(Worktags!AQ191<>Worktags!AS191,Worktags!AQ191,\"\")","v":"RC4890"},{"$f":"IFERROR(VLOOKUP(B85,Worktags!AL:AO,2,FALSE),\"\")","v":"Release of Restrictions"},{"$f":"IFERROR(VLOOKUP(C85,Worktags!O:T,2,FALSE),\"\")","v":"Release Restrictions (UFSonly)"}]
["4890_RC4891 Release of Restrictions/Endowment Payout Distribution",{"$f":"Worktags!AS192","v":"4890"},{"$f":"IF(Worktags!AQ192<>Worktags!AS192,Worktags!AQ192,\"\")","v":"RC4891"},{"$f":"IFERROR(VLOOKUP(B86,Worktags!AL:AO,2,FALSE),\"\")","v":"Release of Restrictions"},{"$f":"IFERROR(VLOOKUP(C86,Worktags!O:T,2,FALSE),\"\")","v":"Endowment Payout Distribution"}]
["4890_RC4892 Release of Restrictions/Endowment Payout Spendable Available",{"$f":"Worktags!AS193","v":"4890"},{"$f":"IF(Worktags!AQ193<>Worktags!AS193,Worktags!AQ193,\"\")","v":"RC4892"},{"$f":"IFERROR(VLOOKUP(B87,Worktags!AL:AO,2,FALSE),\"\")","v":"Release of Restrictions"},{"$f":"IFERROR(VLOOKUP(C87,Worktags!O:T,2,FALSE),\"\")","v":"Endowment Payout Spendable Available"}]
["4890_RC4893 Release of Restrictions/Reinvestment",{"$f":"Worktags!AS194","v":"4890"},{"$f":"IF(Worktags!AQ194<>Worktags!AS194,Worktags!AQ194,\"\")","v":"RC4893"},{"$f":"IFERROR(VLOOKUP(B88,Worktags!AL:AO,2,FALSE),\"\")","v":"Release of Restrictions"},{"$f":"IFERROR(VLOOKUP(C88,Worktags!O:T,2,FALSE),\"\")","v":"Reinvestment"}]
["4900 Cost of Sales",{"$f":"Worktags!AL119","v":"4900"},null,{"$f":"IFERROR(VLOOKUP(B89,Worktags!AL:AO,2,FALSE),\"\")","v":"Cost of Sales"}]
["4900_SC4901 Cost of Sales/Cost of Goods Sold",{"$f":"Worktags!AS256","v":"4900"},{"$f":"IF(Worktags!AQ256<>Worktags!AS256,Worktags!AQ256,\"\")","v":"SC4901"},{"$f":"IFERROR(VLOOKUP(B90,Worktags!AL:AO,2,FALSE),\"\")","v":"Cost of Sales"},{"$f":"IFERROR(VLOOKUP(C90,Worktags!O:T,2,FALSE),\"\")","v":"Cost of Goods Sold"}]
["4900_SC4902 Cost of Sales/Inventory Adjustment",{"$f":"Worktags!AS257","v":"4900"},{"$f":"IF(Worktags!AQ257<>Worktags!AS257,Worktags!AQ257,\"\")","v":"SC4902"},{"$f":"IFERROR(VLOOKUP(B91,Worktags!AL:AO,2,FALSE),\"\")","v":"Cost of Sales"},{"$f":"IFERROR(VLOOKUP(C91,Worktags!O:T,2,FALSE),\"\")","v":"Inventory Adjustment"}]
["4900_SC4903 Cost of Sales/Freight-In",{"$f":"Worktags!AS258","v":"4900"},{"$f":"IF(Worktags!AQ258<>Worktags!AS258,Worktags!AQ258,\"\")","v":"SC4903"},{"$f":"IFERROR(VLOOKUP(B92,Worktags!AL:AO,2,FALSE),\"\")","v":"Cost of Sales"},{"$f":"IFERROR(VLOOKUP(C92,Worktags!O:T,2,FALSE),\"\")","v":"Freight-In"}]
["4900_SC4904 Cost of Sales/Purchase Discounts Earned",{"$f":"Worktags!AS259","v":"4900"},{"$f":"IF(Worktags!AQ259<>Worktags!AS259,Worktags!AQ259,\"\")","v":"SC4904"},{"$f":"IFERROR(VLOOKUP(B93,Worktags!AL:AO,2,FALSE),\"\")","v":"Cost of Sales"},{"$f":"IFERROR(VLOOKUP(C93,Worktags!O:T,2,FALSE),\"\")","v":"Purchase Discounts Earned"}]
["4900_SC6106 Cost of Sales/Audio Visual Supplies",{"$f":"Worktags!AS313","v":"4900"},{"$f":"IF(Worktags!AQ313<>Worktags!AS313,Worktags!AQ313,\"\")","v":"SC6106"},{"$f":"IFERROR(VLOOKUP(B94,Worktags!AL:AO,2,FALSE),\"\")","v":"Cost of Sales"},{"$f":"IFERROR(VLOOKUP(C94,Worktags!O:T,2,FALSE),\"\")","v":"Audio Visual Supplies"}]
["4900_SC6107 Cost of Sales/Clothing",{"$f":"Worktags!AS317","v":"4900"},{"$f":"IF(Worktags!AQ317<>Worktags!AS317,Worktags!AQ317,\"\")","v":"SC6107"},{"$f":"IFERROR(VLOOKUP(B95,Worktags!AL:AO,2,FALSE),\"\")","v":"Cost of Sales"},{"$f":"IFERROR(VLOOKUP(C95,Worktags!O:T,2,FALSE),\"\")","v":"Clothing"}]
["4900_SC6108 Cost of Sales/Data Network Supplies",{"$f":"Worktags!AS322","v":"4900"},{"$f":"IF(Worktags!AQ322<>Worktags!AS322,Worktags!AQ322,\"\")","v":"SC6108"},{"$f":"IFERROR(VLOOKUP(B96,Worktags!AL:AO,2,FALSE),\"\")","v":"Cost of Sales"},{"$f":"IFERROR(VLOOKUP(C96,Worktags!O:T,2,FALSE),\"\")","v":"Data Network Supplies"}]
["4900_SC6110 Cost of Sales/Food and Beverages",{"$f":"Worktags!AS328","v":"4900"},{"$f":"IF(Worktags!AQ328<>Worktags!AS328,Worktags!AQ328,\"\")","v":"SC6110"},{"$f":"IFERROR(VLOOKUP(B97,Worktags!AL:AO,2,FALSE),\"\")","v":"Cost of Sales"},{"$f":"IFERROR(VLOOKUP(C97,Worktags!O:T,2,FALSE),\"\")","v":"Food and Beverages"}]
["4900_SC6111 Cost of Sales/Food Service Disposables",{"$f":"Worktags!AS332","v":"4900"},{"$f":"IF(Worktags!AQ332<>Worktags!AS332,Worktags!AQ332,\"\")","v":"SC6111"},{"$f":"IFERROR(VLOOKUP(B98,Worktags!AL:AO,2,FALSE),\"\")","v":"Cost of Sales"},{"$f":"IFERROR(VLOOKUP(C98,Worktags!O:T,2,FALSE),\"\")","v":"Food Service Disposables"}]
["4900_SC6114 Cost of Sales/Hazardous Chemicals",{"$f":"Worktags!AS340","v":"4900"},{"$f":"IF(Worktags!AQ340<>Worktags!AS340,Worktags!AQ340,\"\")","v":"SC6114"},{"$f":"IFERROR(VLOOKUP(B99,Worktags!AL:AO,2,FALSE),\"\")","v":"Cost of Sales"},{"$f":"IFERROR(VLOOKUP(C99,Worktags!O:T,2,FALSE),\"\")","v":"Hazardous Chemicals"}]
["4900_SC6119 Cost of Sales/Office Supplies",{"$f":"Worktags!AS352","v":"4900"},{"$f":"IF(Worktags!AQ352<>Worktags!AS352,Worktags!AQ352,\"\")","v":"SC6119"},{"$f":"IFERROR(VLOOKUP(B100,Worktags!AL:AO,2,FALSE),\"\")","v":"Cost of Sales"},{"$f":"IFERROR(VLOOKUP(C100,Worktags!O:T,2,FALSE),\"\")","v":"Office Supplies"}]
["4900_SC6121 Cost of Sales/Packaging",{"$f":"Worktags!AS358","v":"4900"},{"$f":"IF(Worktags!AQ358<>Worktags!AS358,Worktags!AQ358,\"\")","v":"SC6121"},{"$f":"IFERROR(VLOOKUP(B101,Worktags!AL:AO,2,FALSE),\"\")","v":"Cost of Sales"},{"$f":"IFERROR(VLOOKUP(C101,Worktags!O:T,2,FALSE),\"\")","v":"Packaging"}]
["4900_SC6125 Cost of Sales/Printing Supplies",{"$f":"Worktags!AS368","v":"4900"},{"$f":"IF(Worktags!AQ368<>Worktags!AS368,Worktags!AQ368,\"\")","v":"SC6125"},{"$f":"IFERROR(VLOOKUP(B102,Worktags!AL:AO,2,FALSE),\"\")","v":"Cost of Sales"},{"$f":"IFERROR(VLOOKUP(C102,Worktags!O:T,2,FALSE),\"\")","v":"Printing Supplies"}]
["4900_SC6126 Cost of Sales/Scientific and Engineering Supplies",{"$f":"Worktags!AS372","v":"4900"},{"$f":"IF(Worktags!AQ372<>Worktags!AS372,Worktags!AQ372,\"\")","v":"SC6126"},{"$f":"IFERROR(VLOOKUP(B103,Worktags!AL:AO,2,FALSE),\"\")","v":"Cost of Sales"},{"$f":"IFERROR(VLOOKUP(C103,Worktags!O:T,2,FALSE),\"\")","v":"Scientific and Engineering Supplies"}]
["4900_SC6129 Cost of Sales/Supplies (not otherwise specified)",{"$f":"Worktags!AS380","v":"4900"},{"$f":"IF(Worktags!AQ380<>Worktags!AS380,Worktags!AQ380,\"\")","v":"SC6129"},{"$f":"IFERROR(VLOOKUP(B104,Worktags!AL:AO,2,FALSE),\"\")","v":"Cost of Sales"},{"$f":"IFERROR(VLOOKUP(C104,Worktags!O:T,2,FALSE),\"\")","v":"Supplies (not otherwise specified)"}]
["4900_SC6131 Cost of Sales/Telecom Supplies",{"$f":"Worktags!AS387","v":"4900"},{"$f":"IF(Worktags!AQ387<>Worktags!AS387,Worktags!AQ387,\"\")","v":"SC6131"},{"$f":"IFERROR(VLOOKUP(B105,Worktags!AL:AO,2,FALSE),\"\")","v":"Cost of Sales"},{"$f":"IFERROR(VLOOKUP(C105,Worktags!O:T,2,FALSE),\"\")","v":"Telecom Supplies"}]
["4900_SC6133 Cost of Sales/Lab Gases and Cryogenics",{"$f":"Worktags!AS393","v":"4900"},{"$f":"IF(Worktags!AQ393<>Worktags!AS393,Worktags!AQ393,\"\")","v":"SC6133"},{"$f":"IFERROR(VLOOKUP(B106,Worktags!AL:AO,2,FALSE),\"\")","v":"Cost of Sales"},{"$f":"IFERROR(VLOOKUP(C106,Worktags!O:T,2,FALSE),\"\")","v":"Lab Gases and Cryogenics"}]
["4900_SC6707 Cost of Sales/Electrical Supplies",{"$f":"Worktags!AS591","v":"4900"},{"$f":"IF(Worktags!AQ591<>Worktags!AS591,Worktags!AQ591,\"\")","v":"SC6707"},{"$f":"IFERROR(VLOOKUP(B107,Worktags!AL:AO,2,FALSE),\"\")","v":"Cost of Sales"},{"$f":"IFERROR(VLOOKUP(C107,Worktags!O:T,2,FALSE),\"\")","v":"Electrical Supplies"}]
["4900_SC6731 Cost of Sales/Stage and Studio Lighting (Only Workday Inventory Module)",{"$f":"Worktags!AS705","v":"4900"},{"$f":"IF(Worktags!AQ705<>Worktags!AS705,Worktags!AQ705,\"\")","v":"SC6731"},{"$f":"IFERROR(VLOOKUP(B108,Worktags!AL:AO,2,FALSE),\"\")","v":"Cost of Sales"},{"$f":"IFERROR(VLOOKUP(C108,Worktags!O:T,2,FALSE),\"\")","v":"Stage and Studio Lighting (Only Workday Inventory Module)"}]
["4900_SC6940 Cost of Sales/Audio Visual Equipment (Only Workday Inventory Module)",{"$f":"Worktags!AS920","v":"4900"},{"$f":"IF(Worktags!AQ920<>Worktags!AS920,Worktags!AQ920,\"\")","v":"SC6940"},{"$f":"IFERROR(VLOOKUP(B109,Worktags!AL:AO,2,FALSE),\"\")","v":"Cost of Sales"},{"$f":"IFERROR(VLOOKUP(C109,Worktags!O:T,2,FALSE),\"\")","v":"Audio Visual Equipment (Only Workday Inventory Module)"}]
["4900_SC6941 Cost of Sales/Communication Devices (Only Workday Inventory Module)",{"$f":"Worktags!AS924","v":"4900"},{"$f":"IF(Worktags!AQ924<>Worktags!AS924,Worktags!AQ924,\"\")","v":"SC6941"},{"$f":"IFERROR(VLOOKUP(B110,Worktags!AL:AO,2,FALSE),\"\")","v":"Cost of Sales"},{"$f":"IFERROR(VLOOKUP(C110,Worktags!O:T,2,FALSE),\"\")","v":"Communication Devices (Only Workday Inventory Module)"}]
["4900_SC6942 Cost of Sales/Computer Hardware (Only Workday Inventory Module)",{"$f":"Worktags!AS928","v":"4900"},{"$f":"IF(Worktags!AQ928<>Worktags!AS928,Worktags!AQ928,\"\")","v":"SC6942"},{"$f":"IFERROR(VLOOKUP(B111,Worktags!AL:AO,2,FALSE),\"\")","v":"Cost of Sales"},{"$f":"IFERROR(VLOOKUP(C111,Worktags!O:T,2,FALSE),\"\")","v":"Computer Hardware (Only Workday Inventory Module)"}]
["4900_SC6943 Cost of Sales/Data Network Equipment (Only Workday Inventory Module)",{"$f":"Worktags!AS932","v":"4900"},{"$f":"IF(Worktags!AQ932<>Worktags!AS932,Worktags!AQ932,\"\")","v":"SC6943"},{"$f":"IFERROR(VLOOKUP(B112,Worktags!AL:AO,2,FALSE),\"\")","v":"Cost of Sales"},{"$f":"IFERROR(VLOOKUP(C112,Worktags!O:T,2,FALSE),\"\")","v":"Data Network Equipment (Only Workday Inventory Module)"}]
["4900_SC6944 Cost of Sales/Equipment (not otherwise specified) (Only Workday Inventory Module)",{"$f":"Worktags!AS936","v":"4900"},{"$f":"IF(Worktags!AQ936<>Worktags!AS936,Worktags!AQ936,\"\")","v":"SC6944"},{"$f":"IFERROR(VLOOKUP(B113,Worktags!AL:AO,2,FALSE),\"\")","v":"Cost of Sales"},{"$f":"IFERROR(VLOOKUP(C113,Worktags!O:T,2,FALSE),\"\")","v":"Equipment (not otherwise specified) (Only Workday Inventory Module)"}]
["4900_SC6945 Cost of Sales/Office Equipment (Only Workday Inventory Module)",{"$f":"Worktags!AS940","v":"4900"},{"$f":"IF(Worktags!AQ940<>Worktags!AS940,Worktags!AQ940,\"\")","v":"SC6945"},{"$f":"IFERROR(VLOOKUP(B114,Worktags!AL:AO,2,FALSE),\"\")","v":"Cost of Sales"},{"$f":"IFERROR(VLOOKUP(C114,Worktags!O:T,2,FALSE),\"\")","v":"Office Equipment (Only Workday Inventory Module)"}]
["4900_SC6946 Cost of Sales/Security Equipment (Only Workday Inventory Module)",{"$f":"Worktags!AS944","v":"4900"},{"$f":"IF(Worktags!AQ944<>Worktags!AS944,Worktags!AQ944,\"\")","v":"SC6946"},{"$f":"IFERROR(VLOOKUP(B115,Worktags!AL:AO,2,FALSE),\"\")","v":"Cost of Sales"},{"$f":"IFERROR(VLOOKUP(C115,Worktags!O:T,2,FALSE),\"\")","v":"Security Equipment (Only Workday Inventory Module)"}]
["5000 Salaries and Wages",{"$f":"Worktags!AL120","v":"5000"},null,{"$f":"IFERROR(VLOOKUP(B116,Worktags!AL:AO,2,FALSE),\"\")","v":"Salaries and Wages"}]
["5000_SC5000 Salaries and Wages/Staff Exempt Salaries",{"$f":"Worktags!AS260","v":"5000"},{"$f":"IF(Worktags!AQ260<>Worktags!AS260,Worktags!AQ260,\"\")","v":"SC5000"},{"$f":"IFERROR(VLOOKUP(B117,Worktags!AL:AO,2,FALSE),\"\")","v":"Salaries and Wages"},{"$f":"IFERROR(VLOOKUP(C117,Worktags!O:T,2,FALSE),\"\")","v":"Staff Exempt Salaries"}]
["5000_SC5009 Salaries and Wages/Staff Exempt Salaries (reclass)",{"$f":"Worktags!AS261","v":"5000"},{"$f":"IF(Worktags!AQ261<>Worktags!AS261,Worktags!AQ261,\"\")","v":"SC5009"},{"$f":"IFERROR(VLOOKUP(B118,Worktags!AL:AO,2,FALSE),\"\")","v":"Salaries and Wages"},{"$f":"IFERROR(VLOOKUP(C118,Worktags!O:T,2,FALSE),\"\")","v":"Staff Exempt Salaries (reclass)"}]
["5000_SC5030 Salaries and Wages/Staff Exempt Salaries (Overload)",{"$f":"Worktags!AS262","v":"5000"},{"$f":"IF(Worktags!AQ262<>Worktags!AS262,Worktags!AQ262,\"\")","v":"SC5030"},{"$f":"IFERROR(VLOOKUP(B119,Worktags!AL:AO,2,FALSE),\"\")","v":"Salaries and Wages"},{"$f":"IFERROR(VLOOKUP(C119,Worktags!O:T,2,FALSE),\"\")","v":"Staff Exempt Salaries (Overload)"}]
["5000_SC5100 Salaries and Wages/Faculty Salaries",{"$f":"Worktags!AS263","v":"5000"},{"$f":"IF(Worktags!AQ263<>Worktags!AS263,Worktags!AQ263,\"\")","v":"SC5100"},{"$f":"IFERROR(VLOOKUP(B120,Worktags!AL:AO,2,FALSE),\"\")","v":"Salaries and Wages"},{"$f":"IFERROR(VLOOKUP(C120,Worktags!O:T,2,FALSE),\"\")","v":"Faculty Salaries"}]
["5000_SC5109 Salaries and Wages/Faculty Salaries (reclass)",{"$f":"Worktags!AS264","v":"5000"},{"$f":"IF(Worktags!AQ264<>Worktags!AS264,Worktags!AQ264,\"\")","v":"SC5109"},{"$f":"IFERROR(VLOOKUP(B121,Worktags!AL:AO,2,FALSE),\"\")","v":"Salaries and Wages"},{"$f":"IFERROR(VLOOKUP(C121,Worktags!O:T,2,FALSE),\"\")","v":"Faculty Salaries (reclass)"}]
["5000_SC5120 Salaries and Wages/Faculty Spring Summer Salaries",{"$f":"Worktags!AS265","v":"5000"},{"$f":"IF(Worktags!AQ265<>Worktags!AS265,Worktags!AQ265,\"\")","v":"SC5120"},{"$f":"IFERROR(VLOOKUP(B122,Worktags!AL:AO,2,FALSE),\"\")","v":"Salaries and Wages"},{"$f":"IFERROR(VLOOKUP(C122,Worktags!O:T,2,FALSE),\"\")","v":"Faculty Spring Summer Salaries"}]
["5000_SC5130 Salaries and Wages/Faculty Salaries (Supplemental/Overload)",{"$f":"Worktags!AS266","v":"5000"},{"$f":"IF(Worktags!AQ266<>Worktags!AS266,Worktags!AQ266,\"\")","v":"SC5130"},{"$f":"IFERROR(VLOOKUP(B123,Worktags!AL:AO,2,FALSE),\"\")","v":"Salaries and Wages"},{"$f":"IFERROR(VLOOKUP(C123,Worktags!O:T,2,FALSE),\"\")","v":"Faculty Salaries (Supplemental/Overload)"}]
["5000_SC5190 Salaries and Wages/Post Doc Research Associate",{"$f":"Worktags!AS267","v":"5000"},{"$f":"IF(Worktags!AQ267<>Worktags!AS267,Worktags!AQ267,\"\")","v":"SC5190"},{"$f":"IFERROR(VLOOKUP(B124,Worktags!AL:AO,2,FALSE),\"\")","v":"Salaries and Wages"},{"$f":"IFERROR(VLOOKUP(C124,Worktags!O:T,2,FALSE),\"\")","v":"Post Doc Research Associate"}]
["5000_SC5300 Salaries and Wages/Faculty Adjunct Salaries",{"$f":"Worktags!AS268","v":"5000"},{"$f":"IF(Worktags!AQ268<>Worktags!AS268,Worktags!AQ268,\"\")","v":"SC5300"},{"$f":"IFERROR(VLOOKUP(B125,Worktags!AL:AO,2,FALSE),\"\")","v":"Salaries and Wages"},{"$f":"IFERROR(VLOOKUP(C125,Worktags!O:T,2,FALSE),\"\")","v":"Faculty Adjunct Salaries"}]
["5000_SC5309 Salaries and Wages/Faculty Adjunct Salaries (reclass)",{"$f":"Worktags!AS269","v":"5000"},{"$f":"IF(Worktags!AQ269<>Worktags!AS269,Worktags!AQ269,\"\")","v":"SC5309"},{"$f":"IFERROR(VLOOKUP(B126,Worktags!AL:AO,2,FALSE),\"\")","v":"Salaries and Wages"},{"$f":"IFERROR(VLOOKUP(C126,Worktags!O:T,2,FALSE),\"\")","v":"Faculty Adjunct Salaries (reclass)"}]
["5000_SC5320 Salaries and Wages/Faculty Adjunct Salaries - Part Benefits",{"$f":"Worktags!AS270","v":"5000"},{"$f":"IF(Worktags!AQ270<>Worktags!AS270,Worktags!AQ270,\"\")","v":"SC5320"},{"$f":"IFERROR(VLOOKUP(B127,Worktags!AL:AO,2,FALSE),\"\")","v":"Salaries and Wages"},{"$f":"IFERROR(VLOOKUP(C127,Worktags!O:T,2,FALSE),\"\")","v":"Faculty Adjunct Salaries - Part Benefits"}]
["5000_SC5400 Salaries and Wages/Staff Non-Exempt Wages",{"$f":"Worktags!AS271","v":"5000"},{"$f":"IF(Worktags!AQ271<>Worktags!AS271,Worktags!AQ271,\"\")","v":"SC5400"},{"$f":"IFERROR(VLOOKUP(B128,Worktags!AL:AO,2,FALSE),\"\")","v":"Salaries and Wages"},{"$f":"IFERROR(VLOOKUP(C128,Worktags!O:T,2,FALSE),\"\")","v":"Staff Non-Exempt Wages"}]
[{"$f":"IF(B129<>\"\",IF(C129<>\"\",B129&\"_\"&C129&\" \"&D129&\"/\"&E129,B129&\" \"&D129),\"\")","v":"5000_SC5409 Salaries and Wages/Staff Non-Exempt Wages (reclass)"},{"$f":"Worktags!AS272","v":"5000"},{"$f":"IF(Worktags!AQ272<>Worktags!AS272,Worktags!AQ272,\"\")","v":"SC5409"},{"$f":"IFERROR(VLOOKUP(B129,Worktags!AL:AO,2,FALSE),\"\")","v":"Salaries and Wages"},{"$f":"IFERROR(VLOOKUP(C129,Worktags!O:T,2,FALSE),\"\")","v":"Staff Non-Exempt Wages (reclass)"}]
["5000_SC5430 Salaries and Wages/Staff Non-Exempt Wages (Overtime/Premium)",{"$f":"Worktags!AS273","v":"5000"},{"$f":"IF(Worktags!AQ273<>Worktags!AS273,Worktags!AQ273,\"\")","v":"SC5430"},{"$f":"IFERROR(VLOOKUP(B130,Worktags!AL:AO,2,FALSE),\"\")","v":"Salaries and Wages"},{"$f":"IFERROR(VLOOKUP(C130,Worktags!O:T,2,FALSE),\"\")","v":"Staff Non-Exempt Wages (Overtime/Premium)"}]
["5000_SC5500 Salaries and Wages/Student Contract Salaries",{"$f":"Worktags!AS274","v":"5000"},{"$f":"IF(Worktags!AQ274<>Worktags!AS274,Worktags!AQ274,\"\")","v":"SC5500"},{"$f":"IFERROR(VLOOKUP(B131,Worktags!AL:AO,2,FALSE),\"\")","v":"Salaries and Wages"},{"$f":"IFERROR(VLOOKUP(C131,Worktags!O:T,2,FALSE),\"\")","v":"Student Contract Salaries"}]
["5000_SC5502 Salaries and Wages/Student Contract Salaries-FICA",{"$f":"Worktags!AS275","v":"5000"},{"$f":"IF(Worktags!AQ275<>Worktags!AS275,Worktags!AQ275,\"\")","v":"SC5502"},{"$f":"IFERROR(VLOOKUP(B132,Worktags!AL:AO,2,FALSE),\"\")","v":"Salaries and Wages"},{"$f":"IFERROR(VLOOKUP(C132,Worktags!O:T,2,FALSE),\"\")","v":"Student Contract Salaries-FICA"}]
["5000_SC5509 Salaries and Wages/Student Contract Salaries (reclass)",{"$f":"Worktags!AS276","v":"5000"},{"$f":"IF(Worktags!AQ276<>Worktags!AS276,Worktags!AQ276,\"\")","v":"SC5509"},{"$f":"IFERROR(VLOOKUP(B133,Worktags!AL:AO,2,FALSE),\"\")","v":"Salaries and Wages"},{"$f":"IFERROR(VLOOKUP(C133,Worktags!O:T,2,FALSE),\"\")","v":"Student Contract Salaries (reclass)"}]
["5000_SC5600 Salaries and Wages/Student Hourly Wages",{"$f":"Worktags!AS277","v":"5000"},{"$f":"IF(Worktags!AQ277<>Worktags!AS277,Worktags!AQ277,\"\")","v":"SC5600"},{"$f":"IFERROR(VLOOKUP(B134,Worktags!AL:AO,2,FALSE),\"\")","v":"Salaries and Wages"},{"$f":"IFERROR(VLOOKUP(C134,Worktags!O:T,2,FALSE),\"\")","v":"Student Hourly Wages"}]
["5000_SC5602 Salaries and Wages/Student Hourly Wages-FICA",{"$f":"Worktags!AS278","v":"5000"},{"$f":"IF(Worktags!AQ278<>Worktags!AS278,Worktags!AQ278,\"\")","v":"SC5602"},{"$f":"IFERROR(VLOOKUP(B135,Worktags!AL:AO,2,FALSE),\"\")","v":"Salaries and Wages"},{"$f":"IFERROR(VLOOKUP(C135,Worktags!O:T,2,FALSE),\"\")","v":"Student Hourly Wages-FICA"}]
["5000_SC5609 Salaries and Wages/Student Hourly Wages (Reclass)",{"$f":"Worktags!AS279","v":"5000"},{"$f":"IF(Worktags!AQ279<>Worktags!AS279,Worktags!AQ279,\"\")","v":"SC5609"},{"$f":"IFERROR(VLOOKUP(B136,Worktags!AL:AO,2,FALSE),\"\")","v":"Salaries and Wages"},{"$f":"IFERROR(VLOOKUP(C136,Worktags!O:T,2,FALSE),\"\")","v":"Student Hourly Wages (Reclass)"}]
["5000_SC5700 Salaries and Wages/Part-time Wages - No Benefits",{"$f":"Worktags!AS280","v":"5000"},{"$f":"IF(Worktags!AQ280<>Worktags!AS280,Worktags!AQ280,\"\")","v":"SC5700"},{"$f":"IFERROR(VLOOKUP(B137,Worktags!AL:AO,2,FALSE),\"\")","v":"Salaries and Wages"},{"$f":"IFERROR(VLOOKUP(C137,Worktags!O:T,2,FALSE),\"\")","v":"Part-time Wages - No Benefits"}]
["5000_SC5709 Salaries and Wages/Part-time Wages (reclass)",{"$f":"Worktags!AS281","v":"5000"},{"$f":"IF(Worktags!AQ281<>Worktags!AS281,Worktags!AQ281,\"\")","v":"SC5709"},{"$f":"IFERROR(VLOOKUP(B138,Worktags!AL:AO,2,FALSE),\"\")","v":"Salaries and Wages"},{"$f":"IFERROR(VLOOKUP(C138,Worktags!O:T,2,FALSE),\"\")","v":"Part-time Wages (reclass)"}]
["5000_SC5730 Salaries and Wages/Part-time Wages - Part Benefits",{"$f":"Worktags!AS282","v":"5000"},{"$f":"IF(Worktags!AQ282<>Worktags!AS282,Worktags!AQ282,\"\")","v":"SC5730"},{"$f":"IFERROR(VLOOKUP(B139,Worktags!AL:AO,2,FALSE),\"\")","v":"Salaries and Wages"},{"$f":"IFERROR(VLOOKUP(C139,Worktags!O:T,2,FALSE),\"\")","v":"Part-time Wages - Part Benefits"}]
["5000_SC5800 Salaries and Wages/Taxable Payroll Additions",{"$f":"Worktags!AS283","v":"5000"},{"$f":"IF(Worktags!AQ283<>Worktags!AS283,Worktags!AQ283,\"\")","v":"SC5800"},{"$f":"IFERROR(VLOOKUP(B140,Worktags!AL:AO,2,FALSE),\"\")","v":"Salaries and Wages"},{"$f":"IFERROR(VLOOKUP(C140,Worktags!O:T,2,FALSE),\"\")","v":"Taxable Payroll Additions"}]
["5000_SC5860 Salaries and Wages/Moving Reimbursement",{"$f":"Worktags!AS284","v":"5000"},{"$f":"IF(Worktags!AQ284<>Worktags!AS284,Worktags!AQ284,\"\")","v":"SC5860"},{"$f":"IFERROR(VLOOKUP(B141,Worktags!AL:AO,2,FALSE),\"\")","v":"Salaries and Wages"},{"$f":"IFERROR(VLOOKUP(C141,Worktags!O:T,2,FALSE),\"\")","v":"Moving Reimbursement"}]
["5000_SC5899 Salaries and Wages/Taxable Payroll Additions (reclass)",{"$f":"Worktags!AS289","v":"5000"},{"$f":"IF(Worktags!AQ289<>Worktags!AS289,Worktags!AQ289,\"\")","v":"SC5899"},{"$f":"IFERROR(VLOOKUP(B142,Worktags!AL:AO,2,FALSE),\"\")","v":"Salaries and Wages"},{"$f":"IFERROR(VLOOKUP(C142,Worktags!O:T,2,FALSE),\"\")","v":"Taxable Payroll Additions (reclass)"}]
["5800 Project Labor Cost",{"$f":"Worktags!AL121","v":"5800"},null,{"$f":"IFERROR(VLOOKUP(B143,Worktags!AL:AO,2,FALSE),\"\")","v":"Project Labor Cost"}]
["5800_SC5890 Project Labor Cost/Project Labor Cost",{"$f":"Worktags!AS285","v":"5800"},{"$f":"IF(Worktags!AQ285<>Worktags!AS285,Worktags!AQ285,\"\")","v":"SC5890"},{"$f":"IFERROR(VLOOKUP(B144,Worktags!AL:AO,2,FALSE),\"\")","v":"Project Labor Cost"},{"$f":"IFERROR(VLOOKUP(C144,Worktags!O:T,2,FALSE),\"\")","v":"Project Labor Cost"}]
["5800_SC5892 Project Labor Cost/Project Labor Cost Non-Capital",{"$f":"Worktags!AS287","v":"5800"},{"$f":"IF(Worktags!AQ287<>Worktags!AS287,Worktags!AQ287,\"\")","v":"SC5892"},{"$f":"IFERROR(VLOOKUP(B145,Worktags!AL:AO,2,FALSE),\"\")","v":"Project Labor Cost"},{"$f":"IFERROR(VLOOKUP(C145,Worktags!O:T,2,FALSE),\"\")","v":"Project Labor Cost Non-Capital"}]
["5801 Project Labor Cost Recovery",{"$f":"Worktags!AL122","v":"5801"},null,{"$f":"IFERROR(VLOOKUP(B146,Worktags!AL:AO,2,FALSE),\"\")","v":"Project Labor Cost Recovery"}]
["5801_SC5891 Project Labor Cost Recovery/Project Labor Cost Recovery",{"$f":"Worktags!AS286","v":"5801"},{"$f":"IF(Worktags!AQ286<>Worktags!AS286,Worktags!AQ286,\"\")","v":"SC5891"},{"$f":"IFERROR(VLOOKUP(B147,Worktags!AL:AO,2,FALSE),\"\")","v":"Project Labor Cost Recovery"},{"$f":"IFERROR(VLOOKUP(C147,Worktags!O:T,2,FALSE),\"\")","v":"Project Labor Cost Recovery"}]
["5801_SC5893 Project Labor Cost Recovery/Project Labor Cost Non-Capital Recovery",{"$f":"Worktags!AS288","v":"5801"},{"$f":"IF(Worktags!AQ288<>Worktags!AS288,Worktags!AQ288,\"\")","v":"SC5893"},{"$f":"IFERROR(VLOOKUP(B148,Worktags!AL:AO,2,FALSE),\"\")","v":"Project Labor Cost Recovery"},{"$f":"IFERROR(VLOOKUP(C148,Worktags!O:T,2,FALSE),\"\")","v":"Project Labor Cost Non-Capital Recovery"}]
["5900 Benefits",{"$f":"Worktags!AL123","v":"5900"},null,{"$f":"IFERROR(VLOOKUP(B149,Worktags!AL:AO,2,FALSE),\"\")","v":"Benefits"}]
["5900_SC5900 Benefits/Staff Exempt Benefits",{"$f":"Worktags!AS290","v":"5900"},{"$f":"IF(Worktags!AQ290<>Worktags!AS290,Worktags!AQ290,\"\")","v":"SC5900"},{"$f":"IFERROR(VLOOKUP(B150,Worktags!AL:AO,2,FALSE),\"\")","v":"Benefits"},{"$f":"IFERROR(VLOOKUP(C150,Worktags!O:T,2,FALSE),\"\")","v":"Staff Exempt Benefits"}]
["5900_SC5910 Benefits/Faculty Benefits",{"$f":"Worktags!AS291","v":"5900"},{"$f":"IF(Worktags!AQ291<>Worktags!AS291,Worktags!AQ291,\"\")","v":"SC5910"},{"$f":"IFERROR(VLOOKUP(B151,Worktags!AL:AO,2,FALSE),\"\")","v":"Benefits"},{"$f":"IFERROR(VLOOKUP(C151,Worktags!O:T,2,FALSE),\"\")","v":"Faculty Benefits"}]
["5900_SC5930 Benefits/Faculty Adjunct Benefits",{"$f":"Worktags!AS292","v":"5900"},{"$f":"IF(Worktags!AQ292<>Worktags!AS292,Worktags!AQ292,\"\")","v":"SC5930"},{"$f":"IFERROR(VLOOKUP(B152,Worktags!AL:AO,2,FALSE),\"\")","v":"Benefits"},{"$f":"IFERROR(VLOOKUP(C152,Worktags!O:T,2,FALSE),\"\")","v":"Faculty Adjunct Benefits"}]
["5900_SC5940 Benefits/Staff Non-Exempt Benefits",{"$f":"Worktags!AS293","v":"5900"},{"$f":"IF(Worktags!AQ293<>Worktags!AS293,Worktags!AQ293,\"\")","v":"SC5940"},{"$f":"IFERROR(VLOOKUP(B153,Worktags!AL:AO,2,FALSE),\"\")","v":"Benefits"},{"$f":"IFERROR(VLOOKUP(C153,Worktags!O:T,2,FALSE),\"\")","v":"Staff Non-Exempt Benefits"}]
["5900_SC5950 Benefits/Student Benefits",{"$f":"Worktags!AS294","v":"5900"},{"$f":"IF(Worktags!AQ294<>Worktags!AS294,Worktags!AQ294,\"\")","v":"SC5950"},{"$f":"IFERROR(VLOOKUP(B154,Worktags!AL:AO,2,FALSE),\"\")","v":"Benefits"},{"$f":"IFERROR(VLOOKUP(C154,Worktags!O:T,2,FALSE),\"\")","v":"Student Benefits"}]
["5900_SC5970 Benefits/Part-time Benefits",{"$f":"Worktags!AS295","v":"5900"},{"$f":"IF(Worktags!AQ295<>Worktags!AS295,Worktags!AQ295,\"\")","v":"SC5970"},{"$f":"IFERROR(VLOOKUP(B155,Worktags!AL:AO,2,FALSE),\"\")","v":"Benefits"},{"$f":"IFERROR(VLOOKUP(C155,Worktags!O:T,2,FALSE),\"\")","v":"Part-time Benefits"}]
["5900_SC5990 Benefits/Other Local/State Payroll Tax",{"$f":"Worktags!AS296","v":"5900"},{"$f":"IF(Worktags!AQ296<>Worktags!AS296,Worktags!AQ296,\"\")","v":"SC5990"},{"$f":"IFERROR(VLOOKUP(B156,Worktags!AL:AO,2,FALSE),\"\")","v":"Benefits"},{"$f":"IFERROR(VLOOKUP(C156,Worktags!O:T,2,FALSE),\"\")","v":"Other Local/State Payroll Tax"}]
["5900_SC5995 Benefits/University Benefits-Payments",{"$f":"Worktags!AS297","v":"5900"},{"$f":"IF(Worktags!AQ297<>Worktags!AS297,Worktags!AQ297,\"\")","v":"SC5995"},{"$f":"IFERROR(VLOOKUP(B157,Worktags!AL:AO,2,FALSE),\"\")","v":"Benefits"},{"$f":"IFERROR(VLOOKUP(C157,Worktags!O:T,2,FALSE),\"\")","v":"University Benefits-Payments"}]
["5900_SC5998 Benefits/FICA Clearing (Payroll System Only)",{"$f":"Worktags!AS298","v":"5900"},{"$f":"IF(Worktags!AQ298<>Worktags!AS298,Worktags!AQ298,\"\")","v":"SC5998"},{"$f":"IFERROR(VLOOKUP(B158,Worktags!AL:AO,2,FALSE),\"\")","v":"Benefits"},{"$f":"IFERROR(VLOOKUP(C158,Worktags!O:T,2,FALSE),\"\")","v":"FICA Clearing (Payroll System Only)"}]
["5900_SC5999 Benefits/Benefits (reclass)",{"$f":"Worktags!AS299","v":"5900"},{"$f":"IF(Worktags!AQ299<>Worktags!AS299,Worktags!AQ299,\"\")","v":"SC5999"},{"$f":"IFERROR(VLOOKUP(B159,Worktags!AL:AO,2,FALSE),\"\")","v":"Benefits"},{"$f":"IFERROR(VLOOKUP(C159,Worktags!O:T,2,FALSE),\"\")","v":"Benefits (reclass)"}]
["6100 Materials and Supplies",{"$f":"Worktags!AL124","v":"6100"},null,{"$f":"IFERROR(VLOOKUP(B160,Worktags!AL:AO,2,FALSE),\"\")","v":"Materials and Supplies"}]
["6100_SC0610 Materials and Supplies/Materials and Supplies (Budget Only)",{"$f":"Worktags!AS201","v":"6100"},{"$f":"IF(Worktags!AQ201<>Worktags!AS201,Worktags!AQ201,\"\")","v":"SC0610"},{"$f":"IFERROR(VLOOKUP(B161,Worktags!AL:AO,2,FALSE),\"\")","v":"Materials and Supplies"},{"$f":"IFERROR(VLOOKUP(C161,Worktags!O:T,2,FALSE),\"\")","v":"Materials and Supplies (Budget Only)"}]
["6100_SC6101 Materials and Supplies/Animal Supplies",{"$f":"Worktags!AS301","v":"6100"},{"$f":"IF(Worktags!AQ301<>Worktags!AS301,Worktags!AQ301,\"\")","v":"SC6101"},{"$f":"IFERROR(VLOOKUP(B162,Worktags!AL:AO,2,FALSE),\"\")","v":"Materials and Supplies"},{"$f":"IFERROR(VLOOKUP(C162,Worktags!O:T,2,FALSE),\"\")","v":"Animal Supplies"}]
["6100_SC6102 Materials and Supplies/Animals",{"$f":"Worktags!AS303","v":"6100"},{"$f":"IF(Worktags!AQ303<>Worktags!AS303,Worktags!AQ303,\"\")","v":"SC6102"},{"$f":"IFERROR(VLOOKUP(B163,Worktags!AL:AO,2,FALSE),\"\")","v":"Materials and Supplies"},{"$f":"IFERROR(VLOOKUP(C163,Worktags!O:T,2,FALSE),\"\")","v":"Animals"}]
["6100_SC6103 Materials and Supplies/Art",{"$f":"Worktags!AS305","v":"6100"},{"$f":"IF(Worktags!AQ305<>Worktags!AS305,Worktags!AQ305,\"\")","v":"SC6103"},{"$f":"IFERROR(VLOOKUP(B164,Worktags!AL:AO,2,FALSE),\"\")","v":"Materials and Supplies"},{"$f":"IFERROR(VLOOKUP(C164,Worktags!O:T,2,FALSE),\"\")","v":"Art"}]
["6100_SC6104 Materials and Supplies/Art Supplies",{"$f":"Worktags!AS307","v":"6100"},{"$f":"IF(Worktags!AQ307<>Worktags!AS307,Worktags!AQ307,\"\")","v":"SC6104"},{"$f":"IFERROR(VLOOKUP(B165,Worktags!AL:AO,2,FALSE),\"\")","v":"Materials and Supplies"},{"$f":"IFERROR(VLOOKUP(C165,Worktags!O:T,2,FALSE),\"\")","v":"Art Supplies"}]
["6100_SC6105 Materials and Supplies/Athletic Supplies",{"$f":"Worktags!AS309","v":"6100"},{"$f":"IF(Worktags!AQ309<>Worktags!AS309,Worktags!AQ309,\"\")","v":"SC6105"},{"$f":"IFERROR(VLOOKUP(B166,Worktags!AL:AO,2,FALSE),\"\")","v":"Materials and Supplies"},{"$f":"IFERROR(VLOOKUP(C166,Worktags!O:T,2,FALSE),\"\")","v":"Athletic Supplies"}]
["6100_SC6106 Materials and Supplies/Audio Visual Supplies",{"$f":"Worktags!AS314","v":"6100"},{"$f":"IF(Worktags!AQ314<>Worktags!AS314,Worktags!AQ314,\"\")","v":"SC6106"},{"$f":"IFERROR(VLOOKUP(B167,Worktags!AL:AO,2,FALSE),\"\")","v":"Materials and Supplies"},{"$f":"IFERROR(VLOOKUP(C167,Worktags!O:T,2,FALSE),\"\")","v":"Audio Visual Supplies"}]
["6100_SC6107 Materials and Supplies/Clothing",{"$f":"Worktags!AS318","v":"6100"},{"$f":"IF(Worktags!AQ318<>Worktags!AS318,Worktags!AQ318,\"\")","v":"SC6107"},{"$f":"IFERROR(VLOOKUP(B168,Worktags!AL:AO,2,FALSE),\"\")","v":"Materials and Supplies"},{"$f":"IFERROR(VLOOKUP(C168,Worktags!O:T,2,FALSE),\"\")","v":"Clothing"}]
["6100_SC6108 Materials and Supplies/Data Network Supplies",{"$f":"Worktags!AS323","v":"6100"},{"$f":"IF(Worktags!AQ323<>Worktags!AS323,Worktags!AQ323,\"\")","v":"SC6108"},{"$f":"IFERROR(VLOOKUP(B169,Worktags!AL:AO,2,FALSE),\"\")","v":"Materials and Supplies"},{"$f":"IFERROR(VLOOKUP(C169,Worktags!O:T,2,FALSE),\"\")","v":"Data Network Supplies"}]
["6100_SC6109 Materials and Supplies/Floral Supplies",{"$f":"Worktags!AS325","v":"6100"},{"$f":"IF(Worktags!AQ325<>Worktags!AS325,Worktags!AQ325,\"\")","v":"SC6109"},{"$f":"IFERROR(VLOOKUP(B170,Worktags!AL:AO,2,FALSE),\"\")","v":"Materials and Supplies"},{"$f":"IFERROR(VLOOKUP(C170,Worktags!O:T,2,FALSE),\"\")","v":"Floral Supplies"}]
["6100_SC6110 Materials and Supplies/Food and Beverages",{"$f":"Worktags!AS329","v":"6100"},{"$f":"IF(Worktags!AQ329<>Worktags!AS329,Worktags!AQ329,\"\")","v":"SC6110"},{"$f":"IFERROR(VLOOKUP(B171,Worktags!AL:AO,2,FALSE),\"\")","v":"Materials and Supplies"},{"$f":"IFERROR(VLOOKUP(C171,Worktags!O:T,2,FALSE),\"\")","v":"Food and Beverages"}]
["6100_SC6111 Materials and Supplies/Food Service Disposables",{"$f":"Worktags!AS333","v":"6100"},{"$f":"IF(Worktags!AQ333<>Worktags!AS333,Worktags!AQ333,\"\")","v":"SC6111"},{"$f":"IFERROR(VLOOKUP(B172,Worktags!AL:AO,2,FALSE),\"\")","v":"Materials and Supplies"},{"$f":"IFERROR(VLOOKUP(C172,Worktags!O:T,2,FALSE),\"\")","v":"Food Service Disposables"}]
["6100_SC6112 Materials and Supplies/Food Service Supplies",{"$f":"Worktags!AS335","v":"6100"},{"$f":"IF(Worktags!AQ335<>Worktags!AS335,Worktags!AQ335,\"\")","v":"SC6112"},{"$f":"IFERROR(VLOOKUP(B173,Worktags!AL:AO,2,FALSE),\"\")","v":"Materials and Supplies"},{"$f":"IFERROR(VLOOKUP(C173,Worktags!O:T,2,FALSE),\"\")","v":"Food Service Supplies"}]
["6100_SC6113 Materials and Supplies/Fuel",{"$f":"Worktags!AS337","v":"6100"},{"$f":"IF(Worktags!AQ337<>Worktags!AS337,Worktags!AQ337,\"\")","v":"SC6113"},{"$f":"IFERROR(VLOOKUP(B174,Worktags!AL:AO,2,FALSE),\"\")","v":"Materials and Supplies"},{"$f":"IFERROR(VLOOKUP(C174,Worktags!O:T,2,FALSE),\"\")","v":"Fuel"}]
["6100_SC6114 Materials and Supplies/Hazardous Chemicals",{"$f":"Worktags!AS341","v":"6100"},{"$f":"IF(Worktags!AQ341<>Worktags!AS341,Worktags!AQ341,\"\")","v":"SC6114"},{"$f":"IFERROR(VLOOKUP(B175,Worktags!AL:AO,2,FALSE),\"\")","v":"Materials and Supplies"},{"$f":"IFERROR(VLOOKUP(C175,Worktags!O:T,2,FALSE),\"\")","v":"Hazardous Chemicals"}]
["6100_SC6115 Materials and Supplies/Janitorial Supplies",{"$f":"Worktags!AS343","v":"6100"},{"$f":"IF(Worktags!AQ343<>Worktags!AS343,Worktags!AQ343,\"\")","v":"SC6115"},{"$f":"IFERROR(VLOOKUP(B176,Worktags!AL:AO,2,FALSE),\"\")","v":"Materials and Supplies"},{"$f":"IFERROR(VLOOKUP(C176,Worktags!O:T,2,FALSE),\"\")","v":"Janitorial Supplies"}]
["6100_SC6116 Materials and Supplies/Laundry Supplies",{"$f":"Worktags!AS345","v":"6100"},{"$f":"IF(Worktags!AQ345<>Worktags!AS345,Worktags!AQ345,\"\")","v":"SC6116"},{"$f":"IFERROR(VLOOKUP(B177,Worktags!AL:AO,2,FALSE),\"\")","v":"Materials and Supplies"},{"$f":"IFERROR(VLOOKUP(C177,Worktags!O:T,2,FALSE),\"\")","v":"Laundry Supplies"}]
["6100_SC6117 Materials and Supplies/Medical Supplies",{"$f":"Worktags!AS347","v":"6100"},{"$f":"IF(Worktags!AQ347<>Worktags!AS347,Worktags!AQ347,\"\")","v":"SC6117"},{"$f":"IFERROR(VLOOKUP(B178,Worktags!AL:AO,2,FALSE),\"\")","v":"Materials and Supplies"},{"$f":"IFERROR(VLOOKUP(C178,Worktags!O:T,2,FALSE),\"\")","v":"Medical Supplies"}]
["6100_SC6118 Materials and Supplies/Musical Instrument Supplies",{"$f":"Worktags!AS349","v":"6100"},{"$f":"IF(Worktags!AQ349<>Worktags!AS349,Worktags!AQ349,\"\")","v":"SC6118"},{"$f":"IFERROR(VLOOKUP(B179,Worktags!AL:AO,2,FALSE),\"\")","v":"Materials and Supplies"},{"$f":"IFERROR(VLOOKUP(C179,Worktags!O:T,2,FALSE),\"\")","v":"Musical Instrument Supplies"}]
["6100_SC6119 Materials and Supplies/Office Supplies",{"$f":"Worktags!AS353","v":"6100"},{"$f":"IF(Worktags!AQ353<>Worktags!AS353,Worktags!AQ353,\"\")","v":"SC6119"},{"$f":"IFERROR(VLOOKUP(B180,Worktags!AL:AO,2,FALSE),\"\")","v":"Materials and Supplies"},{"$f":"IFERROR(VLOOKUP(C180,Worktags!O:T,2,FALSE),\"\")","v":"Office Supplies"}]
["6100_SC6120 Materials and Supplies/Other Expense",{"$f":"Worktags!AS355","v":"6100"},{"$f":"IF(Worktags!AQ355<>Worktags!AS355,Worktags!AQ355,\"\")","v":"SC6120"},{"$f":"IFERROR(VLOOKUP(B181,Worktags!AL:AO,2,FALSE),\"\")","v":"Materials and Supplies"},{"$f":"IFERROR(VLOOKUP(C181,Worktags!O:T,2,FALSE),\"\")","v":"Other Expense"}]
["6100_SC6121 Materials and Supplies/Packaging",{"$f":"Worktags!AS359","v":"6100"},{"$f":"IF(Worktags!AQ359<>Worktags!AS359,Worktags!AQ359,\"\")","v":"SC6121"},{"$f":"IFERROR(VLOOKUP(B182,Worktags!AL:AO,2,FALSE),\"\")","v":"Materials and Supplies"},{"$f":"IFERROR(VLOOKUP(C182,Worktags!O:T,2,FALSE),\"\")","v":"Packaging"}]
["6100_SC6122 Materials and Supplies/Paper",{"$f":"Worktags!AS361","v":"6100"},{"$f":"IF(Worktags!AQ361<>Worktags!AS361,Worktags!AQ361,\"\")","v":"SC6122"},{"$f":"IFERROR(VLOOKUP(B183,Worktags!AL:AO,2,FALSE),\"\")","v":"Materials and Supplies"},{"$f":"IFERROR(VLOOKUP(C183,Worktags!O:T,2,FALSE),\"\")","v":"Paper"}]
["6100_SC6123 Materials and Supplies/Photography Supplies",{"$f":"Worktags!AS363","v":"6100"},{"$f":"IF(Worktags!AQ363<>Worktags!AS363,Worktags!AQ363,\"\")","v":"SC6123"},{"$f":"IFERROR(VLOOKUP(B184,Worktags!AL:AO,2,FALSE),\"\")","v":"Materials and Supplies"},{"$f":"IFERROR(VLOOKUP(C184,Worktags!O:T,2,FALSE),\"\")","v":"Photography Supplies"}]
["6100_SC6124 Materials and Supplies/Printed Media",{"$f":"Worktags!AS365","v":"6100"},{"$f":"IF(Worktags!AQ365<>Worktags!AS365,Worktags!AQ365,\"\")","v":"SC6124"},{"$f":"IFERROR(VLOOKUP(B185,Worktags!AL:AO,2,FALSE),\"\")","v":"Materials and Supplies"},{"$f":"IFERROR(VLOOKUP(C185,Worktags!O:T,2,FALSE),\"\")","v":"Printed Media"}]
["6100_SC6125 Materials and Supplies/Printing Supplies",{"$f":"Worktags!AS369","v":"6100"},{"$f":"IF(Worktags!AQ369<>Worktags!AS369,Worktags!AQ369,\"\")","v":"SC6125"},{"$f":"IFERROR(VLOOKUP(B186,Worktags!AL:AO,2,FALSE),\"\")","v":"Materials and Supplies"},{"$f":"IFERROR(VLOOKUP(C186,Worktags!O:T,2,FALSE),\"\")","v":"Printing Supplies"}]
["6100_SC6126 Materials and Supplies/Scientific and Engineering Supplies",{"$f":"Worktags!AS373","v":"6100"},{"$f":"IF(Worktags!AQ373<>Worktags!AS373,Worktags!AQ373,\"\")","v":"SC6126"},{"$f":"IFERROR(VLOOKUP(B187,Worktags!AL:AO,2,FALSE),\"\")","v":"Materials and Supplies"},{"$f":"IFERROR(VLOOKUP(C187,Worktags!O:T,2,FALSE),\"\")","v":"Scientific and Engineering Supplies"}]
["6100_SC6127 Materials and Supplies/Special Collections",{"$f":"Worktags!AS375","v":"6100"},{"$f":"IF(Worktags!AQ375<>Worktags!AS375,Worktags!AQ375,\"\")","v":"SC6127"},{"$f":"IFERROR(VLOOKUP(B188,Worktags!AL:AO,2,FALSE),\"\")","v":"Materials and Supplies"},{"$f":"IFERROR(VLOOKUP(C188,Worktags!O:T,2,FALSE),\"\")","v":"Special Collections"}]
["6100_SC6128 Materials and Supplies/Special Collections Sales Proceeds",{"$f":"Worktags!AS376","v":"6100"},{"$f":"IF(Worktags!AQ376<>Worktags!AS376,Worktags!AQ376,\"\")","v":"SC6128"},{"$f":"IFERROR(VLOOKUP(B189,Worktags!AL:AO,2,FALSE),\"\")","v":"Materials and Supplies"},{"$f":"IFERROR(VLOOKUP(C189,Worktags!O:T,2,FALSE),\"\")","v":"Special Collections Sales Proceeds"}]
["6100_SC6129 Materials and Supplies/Supplies (not otherwise specified)",{"$f":"Worktags!AS381","v":"6100"},{"$f":"IF(Worktags!AQ381<>Worktags!AS381,Worktags!AQ381,\"\")","v":"SC6129"},{"$f":"IFERROR(VLOOKUP(B190,Worktags!AL:AO,2,FALSE),\"\")","v":"Materials and Supplies"},{"$f":"IFERROR(VLOOKUP(C190,Worktags!O:T,2,FALSE),\"\")","v":"Supplies (not otherwise specified)"}]
["6100_SC6130 Materials and Supplies/Teaching Supplies",{"$f":"Worktags!AS383","v":"6100"},{"$f":"IF(Worktags!AQ383<>Worktags!AS383,Worktags!AQ383,\"\")","v":"SC6130"},{"$f":"IFERROR(VLOOKUP(B191,Worktags!AL:AO,2,FALSE),\"\")","v":"Materials and Supplies"},{"$f":"IFERROR(VLOOKUP(C191,Worktags!O:T,2,FALSE),\"\")","v":"Teaching Supplies"}]
["6100_SC6131 Materials and Supplies/Telecom Supplies",{"$f":"Worktags!AS388","v":"6100"},{"$f":"IF(Worktags!AQ388<>Worktags!AS388,Worktags!AQ388,\"\")","v":"SC6131"},{"$f":"IFERROR(VLOOKUP(B192,Worktags!AL:AO,2,FALSE),\"\")","v":"Materials and Supplies"},{"$f":"IFERROR(VLOOKUP(C192,Worktags!O:T,2,FALSE),\"\")","v":"Telecom Supplies"}]
[{"$f":"IF(B193<>\"\",IF(C193<>\"\",B193&\"_\"&C193&\" \"&D193&\"/\"&E193,B193&\" \"&D193),\"\")","v":"6100_SC6132 Materials and Supplies/Vehicle Supplies"},{"$f":"Worktags!AS390","v":"6100"},{"$f":"IF(Worktags!AQ390<>Worktags!AS390,Worktags!AQ390,\"\")","v":"SC6132"},{"$f":"IFERROR(VLOOKUP(B193,Worktags!AL:AO,2,FALSE),\"\")","v":"Materials and Supplies"},{"$f":"IFERROR(VLOOKUP(C193,Worktags!O:T,2,FALSE),\"\")","v":"Vehicle Supplies"}]
["6100_SC6133 Materials and Supplies/Lab Gases and Cryogenics",{"$f":"Worktags!AS394","v":"6100"},{"$f":"IF(Worktags!AQ394<>Worktags!AS394,Worktags!AQ394,\"\")","v":"SC6133"},{"$f":"IFERROR(VLOOKUP(B194,Worktags!AL:AO,2,FALSE),\"\")","v":"Materials and Supplies"},{"$f":"IFERROR(VLOOKUP(C194,Worktags!O:T,2,FALSE),\"\")","v":"Lab Gases and Cryogenics"}]
["6100_SC6199 Materials and Supplies/Materials and Supplies (reclass)",{"$f":"Worktags!AS398","v":"6100"},{"$f":"IF(Worktags!AQ398<>Worktags!AS398,Worktags!AQ398,\"\")","v":"SC6199"},{"$f":"IFERROR(VLOOKUP(B195,Worktags!AL:AO,2,FALSE),\"\")","v":"Materials and Supplies"},{"$f":"IFERROR(VLOOKUP(C195,Worktags!O:T,2,FALSE),\"\")","v":"Materials and Supplies (reclass)"}]
["6300 Student Aid",{"$f":"Worktags!AL125","v":"6300"},null,{"$f":"IFERROR(VLOOKUP(B196,Worktags!AL:AO,2,FALSE),\"\")","v":"Student Aid"}]
["6300_SC0630 Student Aid/Student Aid (Budget Only)",{"$f":"Worktags!AS202","v":"6300"},{"$f":"IF(Worktags!AQ202<>Worktags!AS202,Worktags!AQ202,\"\")","v":"SC0630"},{"$f":"IFERROR(VLOOKUP(B197,Worktags!AL:AO,2,FALSE),\"\")","v":"Student Aid"},{"$f":"IFERROR(VLOOKUP(C197,Worktags!O:T,2,FALSE),\"\")","v":"Student Aid (Budget Only)"}]
["6300_SC6301 Student Aid/Scholarships",{"$f":"Worktags!AS399","v":"6300"},{"$f":"IF(Worktags!AQ399<>Worktags!AS399,Worktags!AQ399,\"\")","v":"SC6301"},{"$f":"IFERROR(VLOOKUP(B198,Worktags!AL:AO,2,FALSE),\"\")","v":"Student Aid"},{"$f":"IFERROR(VLOOKUP(C198,Worktags!O:T,2,FALSE),\"\")","v":"Scholarships"}]
["6300_SC6302 Student Aid/Graduate Fellowship",{"$f":"Worktags!AS400","v":"6300"},{"$f":"IF(Worktags!AQ400<>Worktags!AS400,Worktags!AQ400,\"\")","v":"SC6302"},{"$f":"IFERROR(VLOOKUP(B199,Worktags!AL:AO,2,FALSE),\"\")","v":"Student Aid"},{"$f":"IFERROR(VLOOKUP(C199,Worktags!O:T,2,FALSE),\"\")","v":"Graduate Fellowship"}]
["6300_SC6303 Student Aid/Grant",{"$f":"Worktags!AS401","v":"6300"},{"$f":"IF(Worktags!AQ401<>Worktags!AS401,Worktags!AQ401,\"\")","v":"SC6303"},{"$f":"IFERROR(VLOOKUP(B200,Worktags!AL:AO,2,FALSE),\"\")","v":"Student Aid"},{"$f":"IFERROR(VLOOKUP(C200,Worktags!O:T,2,FALSE),\"\")","v":"Grant"}]
["6300_SC6304 Student Aid/Leadership Award",{"$f":"Worktags!AS402","v":"6300"},{"$f":"IF(Worktags!AQ402<>Worktags!AS402,Worktags!AQ402,\"\")","v":"SC6304"},{"$f":"IFERROR(VLOOKUP(B201,Worktags!AL:AO,2,FALSE),\"\")","v":"Student Aid"},{"$f":"IFERROR(VLOOKUP(C201,Worktags!O:T,2,FALSE),\"\")","v":"Leadership Award"}]
["6300_SC6305 Student Aid/Tuition Assistance NonBYU Student",{"$f":"Worktags!AS403","v":"6300"},{"$f":"IF(Worktags!AQ403<>Worktags!AS403,Worktags!AQ403,\"\")","v":"SC6305"},{"$f":"IFERROR(VLOOKUP(B202,Worktags!AL:AO,2,FALSE),\"\")","v":"Student Aid"},{"$f":"IFERROR(VLOOKUP(C202,Worktags!O:T,2,FALSE),\"\")","v":"Tuition Assistance NonBYU Student"}]
["6300_SC6306 Student Aid/Employee Benefit Tuition Assistance",{"$f":"Worktags!AS404","v":"6300"},{"$f":"IF(Worktags!AQ404<>Worktags!AS404,Worktags!AQ404,\"\")","v":"SC6306"},{"$f":"IFERROR(VLOOKUP(B203,Worktags!AL:AO,2,FALSE),\"\")","v":"Student Aid"},{"$f":"IFERROR(VLOOKUP(C203,Worktags!O:T,2,FALSE),\"\")","v":"Employee Benefit Tuition Assistance"}]
["6300_SC6307 Student Aid/Other Student Aid",{"$f":"Worktags!AS405","v":"6300"},{"$f":"IF(Worktags!AQ405<>Worktags!AS405,Worktags!AQ405,\"\")","v":"SC6307"},{"$f":"IFERROR(VLOOKUP(B204,Worktags!AL:AO,2,FALSE),\"\")","v":"Student Aid"},{"$f":"IFERROR(VLOOKUP(C204,Worktags!O:T,2,FALSE),\"\")","v":"Other Student Aid"}]
["6300_SC6308 Student Aid/Research Fellowships",{"$f":"Worktags!AS406","v":"6300"},{"$f":"IF(Worktags!AQ406<>Worktags!AS406,Worktags!AQ406,\"\")","v":"SC6308"},{"$f":"IFERROR(VLOOKUP(B205,Worktags!AL:AO,2,FALSE),\"\")","v":"Student Aid"},{"$f":"IFERROR(VLOOKUP(C205,Worktags!O:T,2,FALSE),\"\")","v":"Research Fellowships"}]
["6300_SC6399 Student Aid/Student Aid (reclass)",{"$f":"Worktags!AS407","v":"6300"},{"$f":"IF(Worktags!AQ407<>Worktags!AS407,Worktags!AQ407,\"\")","v":"SC6399"},{"$f":"IFERROR(VLOOKUP(B206,Worktags!AL:AO,2,FALSE),\"\")","v":"Student Aid"},{"$f":"IFERROR(VLOOKUP(C206,Worktags!O:T,2,FALSE),\"\")","v":"Student Aid (reclass)"}]
["6400 General and Administrative",{"$f":"Worktags!AL126","v":"6400"},null,{"$f":"IFERROR(VLOOKUP(B207,Worktags!AL:AO,2,FALSE),\"\")","v":"General and Administrative"}]
["6400_RC6402 General and Administrative/",{"$f":"Worktags!AS195","v":"6400"},{"$f":"IF(Worktags!AQ195<>Worktags!AS195,Worktags!AQ195,\"\")","v":"RC6402"},{"$f":"IFERROR(VLOOKUP(B208,Worktags!AL:AO,2,FALSE),\"\")","v":"General and Administrative"},{"$f":"IFERROR(VLOOKUP(C208,Worktags!O:T,2,FALSE),\"\")","v":""}]
["6400_RC6403 General and Administrative/Sponsored Program Income",{"$f":"Worktags!AS196","v":"6400"},{"$f":"IF(Worktags!AQ196<>Worktags!AS196,Worktags!AQ196,\"\")","v":"RC6403"},{"$f":"IFERROR(VLOOKUP(B209,Worktags!AL:AO,2,FALSE),\"\")","v":"General and Administrative"},{"$f":"IFERROR(VLOOKUP(C209,Worktags!O:T,2,FALSE),\"\")","v":"Sponsored Program Income"}]
["6400_SC0640 General and Administrative/General and Administrative (Budget Only)",{"$f":"Worktags!AS203","v":"6400"},{"$f":"IF(Worktags!AQ203<>Worktags!AS203,Worktags!AQ203,\"\")","v":"SC0640"},{"$f":"IFERROR(VLOOKUP(B210,Worktags!AL:AO,2,FALSE),\"\")","v":"General and Administrative"},{"$f":"IFERROR(VLOOKUP(C210,Worktags!O:T,2,FALSE),\"\")","v":"General and Administrative (Budget Only)"}]
["6400_SC6401 General and Administrative/Advertising",{"$f":"Worktags!AS409","v":"6400"},{"$f":"IF(Worktags!AQ409<>Worktags!AS409,Worktags!AQ409,\"\")","v":"SC6401"},{"$f":"IFERROR(VLOOKUP(B211,Worktags!AL:AO,2,FALSE),\"\")","v":"General and Administrative"},{"$f":"IFERROR(VLOOKUP(C211,Worktags!O:T,2,FALSE),\"\")","v":"Advertising"}]
["6400_SC6402 General and Administrative/Allocated Indirect Costs",{"$f":"Worktags!AS410","v":"6400"},{"$f":"IF(Worktags!AQ410<>Worktags!AS410,Worktags!AQ410,\"\")","v":"SC6402"},{"$f":"IFERROR(VLOOKUP(B212,Worktags!AL:AO,2,FALSE),\"\")","v":"General and Administrative"},{"$f":"IFERROR(VLOOKUP(C212,Worktags!O:T,2,FALSE),\"\")","v":"Allocated Indirect Costs"}]
["6400_SC6403 General and Administrative/Animal Services",{"$f":"Worktags!AS412","v":"6400"},{"$f":"IF(Worktags!AQ412<>Worktags!AS412,Worktags!AQ412,\"\")","v":"SC6403"},{"$f":"IFERROR(VLOOKUP(B213,Worktags!AL:AO,2,FALSE),\"\")","v":"General and Administrative"},{"$f":"IFERROR(VLOOKUP(C213,Worktags!O:T,2,FALSE),\"\")","v":"Animal Services"}]
["6400_SC6404 General and Administrative/Architectural or Engineering Services",{"$f":"Worktags!AS416","v":"6400"},{"$f":"IF(Worktags!AQ416<>Worktags!AS416,Worktags!AQ416,\"\")","v":"SC6404"},{"$f":"IFERROR(VLOOKUP(B214,Worktags!AL:AO,2,FALSE),\"\")","v":"General and Administrative"},{"$f":"IFERROR(VLOOKUP(C214,Worktags!O:T,2,FALSE),\"\")","v":"Architectural or Engineering Services"}]
["6400_SC6405 General and Administrative/Art and Design Services",{"$f":"Worktags!AS418","v":"6400"},{"$f":"IF(Worktags!AQ418<>Worktags!AS418,Worktags!AQ418,\"\")","v":"SC6405"},{"$f":"IFERROR(VLOOKUP(B215,Worktags!AL:AO,2,FALSE),\"\")","v":"General and Administrative"},{"$f":"IFERROR(VLOOKUP(C215,Worktags!O:T,2,FALSE),\"\")","v":"Art and Design Services"}]
["6400_SC6406 General and Administrative/Athletic Events",{"$f":"Worktags!AS420","v":"6400"},{"$f":"IF(Worktags!AQ420<>Worktags!AS420,Worktags!AQ420,\"\")","v":"SC6406"},{"$f":"IFERROR(VLOOKUP(B216,Worktags!AL:AO,2,FALSE),\"\")","v":"General and Administrative"},{"$f":"IFERROR(VLOOKUP(C216,Worktags!O:T,2,FALSE),\"\")","v":"Athletic Events"}]
["6400_SC6407 General and Administrative/Audio Visual Media Duplication",{"$f":"Worktags!AS422","v":"6400"},{"$f":"IF(Worktags!AQ422<>Worktags!AS422,Worktags!AQ422,\"\")","v":"SC6407"},{"$f":"IFERROR(VLOOKUP(B217,Worktags!AL:AO,2,FALSE),\"\")","v":"General and Administrative"},{"$f":"IFERROR(VLOOKUP(C217,Worktags!O:T,2,FALSE),\"\")","v":"Audio Visual Media Duplication"}]
["6400_SC6408 General and Administrative/Bank, Trust, Collection Fees",{"$f":"Worktags!AS423","v":"6400"},{"$f":"IF(Worktags!AQ423<>Worktags!AS423,Worktags!AQ423,\"\")","v":"SC6408"},{"$f":"IFERROR(VLOOKUP(B218,Worktags!AL:AO,2,FALSE),\"\")","v":"General and Administrative"},{"$f":"IFERROR(VLOOKUP(C218,Worktags!O:T,2,FALSE),\"\")","v":"Bank, Trust, Collection Fees"}]
["6400_SC6409 General and Administrative/Bad Debt Expense",{"$f":"Worktags!AS424","v":"6400"},{"$f":"IF(Worktags!AQ424<>Worktags!AS424,Worktags!AQ424,\"\")","v":"SC6409"},{"$f":"IFERROR(VLOOKUP(B219,Worktags!AL:AO,2,FALSE),\"\")","v":"General and Administrative"},{"$f":"IFERROR(VLOOKUP(C219,Worktags!O:T,2,FALSE),\"\")","v":"Bad Debt Expense"}]
["6400_SC6410 General and Administrative/Broadcast Services",{"$f":"Worktags!AS426","v":"6400"},{"$f":"IF(Worktags!AQ426<>Worktags!AS426,Worktags!AQ426,\"\")","v":"SC6410"},{"$f":"IFERROR(VLOOKUP(B220,Worktags!AL:AO,2,FALSE),\"\")","v":"General and Administrative"},{"$f":"IFERROR(VLOOKUP(C220,Worktags!O:T,2,FALSE),\"\")","v":"Broadcast Services"}]
["6400_SC6411 General and Administrative/Cash Prizes and Contest Payments",{"$f":"Worktags!AS427","v":"6400"},{"$f":"IF(Worktags!AQ427<>Worktags!AS427,Worktags!AQ427,\"\")","v":"SC6411"},{"$f":"IFERROR(VLOOKUP(B221,Worktags!AL:AO,2,FALSE),\"\")","v":"General and Administrative"},{"$f":"IFERROR(VLOOKUP(C221,Worktags!O:T,2,FALSE),\"\")","v":"Cash Prizes and Contest Payments"}]
["6400_SC6412 General and Administrative/Cell Phones and Plans",{"$f":"Worktags!AS429","v":"6400"},{"$f":"IF(Worktags!AQ429<>Worktags!AS429,Worktags!AQ429,\"\")","v":"SC6412"},{"$f":"IFERROR(VLOOKUP(B222,Worktags!AL:AO,2,FALSE),\"\")","v":"General and Administrative"},{"$f":"IFERROR(VLOOKUP(C222,Worktags!O:T,2,FALSE),\"\")","v":"Cell Phones and Plans"}]
["6400_SC6413 General and Administrative/Competition Officiating",{"$f":"Worktags!AS431","v":"6400"},{"$f":"IF(Worktags!AQ431<>Worktags!AS431,Worktags!AQ431,\"\")","v":"SC6413"},{"$f":"IFERROR(VLOOKUP(B223,Worktags!AL:AO,2,FALSE),\"\")","v":"General and Administrative"},{"$f":"IFERROR(VLOOKUP(C223,Worktags!O:T,2,FALSE),\"\")","v":"Competition Officiating"}]
["6400_SC6414 General and Administrative/Computer Services",{"$f":"Worktags!AS435","v":"6400"},{"$f":"IF(Worktags!AQ435<>Worktags!AS435,Worktags!AQ435,\"\")","v":"SC6414"},{"$f":"IFERROR(VLOOKUP(B224,Worktags!AL:AO,2,FALSE),\"\")","v":"General and Administrative"},{"$f":"IFERROR(VLOOKUP(C224,Worktags!O:T,2,FALSE),\"\")","v":"Computer Services"}]
["6400_SC6415 General and Administrative/Conference and Events Hosting",{"$f":"Worktags!AS437","v":"6400"},{"$f":"IF(Worktags!AQ437<>Worktags!AS437,Worktags!AQ437,\"\")","v":"SC6415"},{"$f":"IFERROR(VLOOKUP(B225,Worktags!AL:AO,2,FALSE),\"\")","v":"General and Administrative"},{"$f":"IFERROR(VLOOKUP(C225,Worktags!O:T,2,FALSE),\"\")","v":"Conference and Events Hosting"}]
["6400_SC6416 General and Administrative/Conference Registration",{"$f":"Worktags!AS439","v":"6400"},{"$f":"IF(Worktags!AQ439<>Worktags!AS439,Worktags!AQ439,\"\")","v":"SC6416"},{"$f":"IFERROR(VLOOKUP(B226,Worktags!AL:AO,2,FALSE),\"\")","v":"General and Administrative"},{"$f":"IFERROR(VLOOKUP(C226,Worktags!O:T,2,FALSE),\"\")","v":"Conference Registration"}]
["6400_SC6417 General and Administrative/Consulting - Financial and Research",{"$f":"Worktags!AS441","v":"6400"},{"$f":"IF(Worktags!AQ441<>Worktags!AS441,Worktags!AQ441,\"\")","v":"SC6417"},{"$f":"IFERROR(VLOOKUP(B227,Worktags!AL:AO,2,FALSE),\"\")","v":"General and Administrative"},{"$f":"IFERROR(VLOOKUP(C227,Worktags!O:T,2,FALSE),\"\")","v":"Consulting - Financial and Research"}]
["6400_SC6418 General and Administrative/Credit Card Merchant Fees",{"$f":"Worktags!AS442","v":"6400"},{"$f":"IF(Worktags!AQ442<>Worktags!AS442,Worktags!AQ442,\"\")","v":"SC6418"},{"$f":"IFERROR(VLOOKUP(B228,Worktags!AL:AO,2,FALSE),\"\")","v":"General and Administrative"},{"$f":"IFERROR(VLOOKUP(C228,Worktags!O:T,2,FALSE),\"\")","v":"Credit Card Merchant Fees"}]
["6400_SC6419 General and Administrative/Data Connectivity Services",{"$f":"Worktags!AS444","v":"6400"},{"$f":"IF(Worktags!AQ444<>Worktags!AS444,Worktags!AQ444,\"\")","v":"SC6419"},{"$f":"IFERROR(VLOOKUP(B229,Worktags!AL:AO,2,FALSE),\"\")","v":"General and Administrative"},{"$f":"IFERROR(VLOOKUP(C229,Worktags!O:T,2,FALSE),\"\")","v":"Data Connectivity Services"}]
["6400_SC6420 General and Administrative/Educational Facilities - Rent/Lease <=1yr",{"$f":"Worktags!AS446","v":"6400"},{"$f":"IF(Worktags!AQ446<>Worktags!AS446,Worktags!AQ446,\"\")","v":"SC6420"},{"$f":"IFERROR(VLOOKUP(B230,Worktags!AL:AO,2,FALSE),\"\")","v":"General and Administrative"},{"$f":"IFERROR(VLOOKUP(C230,Worktags!O:T,2,FALSE),\"\")","v":"Educational Facilities - Rent/Lease <=1yr"}]
["6400_SC6421 General and Administrative/Employee Development Services",{"$f":"Worktags!AS448","v":"6400"},{"$f":"IF(Worktags!AQ448<>Worktags!AS448,Worktags!AQ448,\"\")","v":"SC6421"},{"$f":"IFERROR(VLOOKUP(B231,Worktags!AL:AO,2,FALSE),\"\")","v":"General and Administrative"},{"$f":"IFERROR(VLOOKUP(C231,Worktags!O:T,2,FALSE),\"\")","v":"Employee Development Services"}]
["6400_SC6422 General and Administrative/Food Services and Caterers",{"$f":"Worktags!AS450","v":"6400"},{"$f":"IF(Worktags!AQ450<>Worktags!AS450,Worktags!AQ450,\"\")","v":"SC6422"},{"$f":"IFERROR(VLOOKUP(B232,Worktags!AL:AO,2,FALSE),\"\")","v":"General and Administrative"},{"$f":"IFERROR(VLOOKUP(C232,Worktags!O:T,2,FALSE),\"\")","v":"Food Services and Caterers"}]
["6400_SC6423 General and Administrative/Foreign Exchange Payment Gain/Loss",{"$f":"Worktags!AS451","v":"6400"},{"$f":"IF(Worktags!AQ451<>Worktags!AS451,Worktags!AQ451,\"\")","v":"SC6423"},{"$f":"IFERROR(VLOOKUP(B233,Worktags!AL:AO,2,FALSE),\"\")","v":"General and Administrative"},{"$f":"IFERROR(VLOOKUP(C233,Worktags!O:T,2,FALSE),\"\")","v":"Foreign Exchange Payment Gain/Loss"}]
["6400_SC6424 General and Administrative/Franchise Fees",{"$f":"Worktags!AS453","v":"6400"},{"$f":"IF(Worktags!AQ453<>Worktags!AS453,Worktags!AQ453,\"\")","v":"SC6424"},{"$f":"IFERROR(VLOOKUP(B234,Worktags!AL:AO,2,FALSE),\"\")","v":"General and Administrative"},{"$f":"IFERROR(VLOOKUP(C234,Worktags!O:T,2,FALSE),\"\")","v":"Franchise Fees"}]
["6400_SC6425 General and Administrative/Government Fees",{"$f":"Worktags!AS455","v":"6400"},{"$f":"IF(Worktags!AQ455<>Worktags!AS455,Worktags!AQ455,\"\")","v":"SC6425"},{"$f":"IFERROR(VLOOKUP(B235,Worktags!AL:AO,2,FALSE),\"\")","v":"General and Administrative"},{"$f":"IFERROR(VLOOKUP(C235,Worktags!O:T,2,FALSE),\"\")","v":"Government Fees"}]
["6400_SC6426 General and Administrative/Grants Subawards",{"$f":"Worktags!AS456","v":"6400"},{"$f":"IF(Worktags!AQ456<>Worktags!AS456,Worktags!AQ456,\"\")","v":"SC6426"},{"$f":"IFERROR(VLOOKUP(B236,Worktags!AL:AO,2,FALSE),\"\")","v":"General and Administrative"},{"$f":"IFERROR(VLOOKUP(C236,Worktags!O:T,2,FALSE),\"\")","v":"Grants Subawards"}]
["6400_SC6427 General and Administrative/Hosted Entertainment",{"$f":"Worktags!AS458","v":"6400"},{"$f":"IF(Worktags!AQ458<>Worktags!AS458,Worktags!AQ458,\"\")","v":"SC6427"},{"$f":"IFERROR(VLOOKUP(B237,Worktags!AL:AO,2,FALSE),\"\")","v":"General and Administrative"},{"$f":"IFERROR(VLOOKUP(C237,Worktags!O:T,2,FALSE),\"\")","v":"Hosted Entertainment"}]
["6400_SC6428 General and Administrative/Hosted Meals",{"$f":"Worktags!AS460","v":"6400"},{"$f":"IF(Worktags!AQ460<>Worktags!AS460,Worktags!AQ460,\"\")","v":"SC6428"},{"$f":"IFERROR(VLOOKUP(B238,Worktags!AL:AO,2,FALSE),\"\")","v":"General and Administrative"},{"$f":"IFERROR(VLOOKUP(C238,Worktags!O:T,2,FALSE),\"\")","v":"Hosted Meals"}]
["6400_SC6429 General and Administrative/Insurance",{"$f":"Worktags!AS462","v":"6400"},{"$f":"IF(Worktags!AQ462<>Worktags!AS462,Worktags!AQ462,\"\")","v":"SC6429"},{"$f":"IFERROR(VLOOKUP(B239,Worktags!AL:AO,2,FALSE),\"\")","v":"General and Administrative"},{"$f":"IFERROR(VLOOKUP(C239,Worktags!O:T,2,FALSE),\"\")","v":"Insurance"}]
["6400_SC6430 General and Administrative/Janitorial Services",{"$f":"Worktags!AS464","v":"6400"},{"$f":"IF(Worktags!AQ464<>Worktags!AS464,Worktags!AQ464,\"\")","v":"SC6430"},{"$f":"IFERROR(VLOOKUP(B240,Worktags!AL:AO,2,FALSE),\"\")","v":"General and Administrative"},{"$f":"IFERROR(VLOOKUP(C240,Worktags!O:T,2,FALSE),\"\")","v":"Janitorial Services"}]
["6400_SC6431 General and Administrative/Laundry Services",{"$f":"Worktags!AS466","v":"6400"},{"$f":"IF(Worktags!AQ466<>Worktags!AS466,Worktags!AQ466,\"\")","v":"SC6431"},{"$f":"IFERROR(VLOOKUP(B241,Worktags!AL:AO,2,FALSE),\"\")","v":"General and Administrative"},{"$f":"IFERROR(VLOOKUP(C241,Worktags!O:T,2,FALSE),\"\")","v":"Laundry Services"}]
["6400_SC6432 General and Administrative/Legal Services",{"$f":"Worktags!AS468","v":"6400"},{"$f":"IF(Worktags!AQ468<>Worktags!AS468,Worktags!AQ468,\"\")","v":"SC6432"},{"$f":"IFERROR(VLOOKUP(B242,Worktags!AL:AO,2,FALSE),\"\")","v":"General and Administrative"},{"$f":"IFERROR(VLOOKUP(C242,Worktags!O:T,2,FALSE),\"\")","v":"Legal Services"}]
["6400_SC6433 General and Administrative/Medical Services",{"$f":"Worktags!AS470","v":"6400"},{"$f":"IF(Worktags!AQ470<>Worktags!AS470,Worktags!AQ470,\"\")","v":"SC6433"},{"$f":"IFERROR(VLOOKUP(B243,Worktags!AL:AO,2,FALSE),\"\")","v":"General and Administrative"},{"$f":"IFERROR(VLOOKUP(C243,Worktags!O:T,2,FALSE),\"\")","v":"Medical Services"}]
["6400_SC6434 General and Administrative/Membership Dues",{"$f":"Worktags!AS472","v":"6400"},{"$f":"IF(Worktags!AQ472<>Worktags!AS472,Worktags!AQ472,\"\")","v":"SC6434"},{"$f":"IFERROR(VLOOKUP(B244,Worktags!AL:AO,2,FALSE),\"\")","v":"General and Administrative"},{"$f":"IFERROR(VLOOKUP(C244,Worktags!O:T,2,FALSE),\"\")","v":"Membership Dues"}]
["6400_SC6435 General and Administrative/Misc Independent Contractors",{"$f":"Worktags!AS476","v":"6400"},{"$f":"IF(Worktags!AQ476<>Worktags!AS476,Worktags!AQ476,\"\")","v":"SC6435"},{"$f":"IFERROR(VLOOKUP(B245,Worktags!AL:AO,2,FALSE),\"\")","v":"General and Administrative"},{"$f":"IFERROR(VLOOKUP(C245,Worktags!O:T,2,FALSE),\"\")","v":"Misc Independent Contractors"}]
["6400_SC6436 General and Administrative/Non-BYU Tuition Payment",{"$f":"Worktags!AS477","v":"6400"},{"$f":"IF(Worktags!AQ477<>Worktags!AS477,Worktags!AQ477,\"\")","v":"SC6436"},{"$f":"IFERROR(VLOOKUP(B246,Worktags!AL:AO,2,FALSE),\"\")","v":"General and Administrative"},{"$f":"IFERROR(VLOOKUP(C246,Worktags!O:T,2,FALSE),\"\")","v":"Non-BYU Tuition Payment"}]
["6400_SC6437 General and Administrative/Out of State Worker Contracts",{"$f":"Worktags!AS478","v":"6400"},{"$f":"IF(Worktags!AQ478<>Worktags!AS478,Worktags!AQ478,\"\")","v":"SC6437"},{"$f":"IFERROR(VLOOKUP(B247,Worktags!AL:AO,2,FALSE),\"\")","v":"General and Administrative"},{"$f":"IFERROR(VLOOKUP(C247,Worktags!O:T,2,FALSE),\"\")","v":"Out of State Worker Contracts"}]
["6400_SC6438 General and Administrative/Performers/Presenters",{"$f":"Worktags!AS480","v":"6400"},{"$f":"IF(Worktags!AQ480<>Worktags!AS480,Worktags!AQ480,\"\")","v":"SC6438"},{"$f":"IFERROR(VLOOKUP(B248,Worktags!AL:AO,2,FALSE),\"\")","v":"General and Administrative"},{"$f":"IFERROR(VLOOKUP(C248,Worktags!O:T,2,FALSE),\"\")","v":"Performers/Presenters"}]
["6400_SC6439 General and Administrative/Pest Control Services",{"$f":"Worktags!AS482","v":"6400"},{"$f":"IF(Worktags!AQ482<>Worktags!AS482,Worktags!AQ482,\"\")","v":"SC6439"},{"$f":"IFERROR(VLOOKUP(B249,Worktags!AL:AO,2,FALSE),\"\")","v":"General and Administrative"},{"$f":"IFERROR(VLOOKUP(C249,Worktags!O:T,2,FALSE),\"\")","v":"Pest Control Services"}]
["6400_SC6440 General and Administrative/Portable Structures-Rent/Lease <=1yr",{"$f":"Worktags!AS484","v":"6400"},{"$f":"IF(Worktags!AQ484<>Worktags!AS484,Worktags!AQ484,\"\")","v":"SC6440"},{"$f":"IFERROR(VLOOKUP(B250,Worktags!AL:AO,2,FALSE),\"\")","v":"General and Administrative"},{"$f":"IFERROR(VLOOKUP(C250,Worktags!O:T,2,FALSE),\"\")","v":"Portable Structures-Rent/Lease <=1yr"}]
["6400_SC6441 General and Administrative/Postage, Shipping and Freight",{"$f":"Worktags!AS486","v":"6400"},{"$f":"IF(Worktags!AQ486<>Worktags!AS486,Worktags!AQ486,\"\")","v":"SC6441"},{"$f":"IFERROR(VLOOKUP(B251,Worktags!AL:AO,2,FALSE),\"\")","v":"General and Administrative"},{"$f":"IFERROR(VLOOKUP(C251,Worktags!O:T,2,FALSE),\"\")","v":"Postage, Shipping and Freight"}]
["6400_SC6442 General and Administrative/Printing Services",{"$f":"Worktags!AS488","v":"6400"},{"$f":"IF(Worktags!AQ488<>Worktags!AS488,Worktags!AQ488,\"\")","v":"SC6442"},{"$f":"IFERROR(VLOOKUP(B252,Worktags!AL:AO,2,FALSE),\"\")","v":"General and Administrative"},{"$f":"IFERROR(VLOOKUP(C252,Worktags!O:T,2,FALSE),\"\")","v":"Printing Services"}]
["6400_SC6443 General and Administrative/Production Services",{"$f":"Worktags!AS490","v":"6400"},{"$f":"IF(Worktags!AQ490<>Worktags!AS490,Worktags!AQ490,\"\")","v":"SC6443"},{"$f":"IFERROR(VLOOKUP(B253,Worktags!AL:AO,2,FALSE),\"\")","v":"General and Administrative"},{"$f":"IFERROR(VLOOKUP(C253,Worktags!O:T,2,FALSE),\"\")","v":"Production Services"}]
["6400_SC6444 General and Administrative/Promotional and Branded Items",{"$f":"Worktags!AS492","v":"6400"},{"$f":"IF(Worktags!AQ492<>Worktags!AS492,Worktags!AQ492,\"\")","v":"SC6444"},{"$f":"IFERROR(VLOOKUP(B254,Worktags!AL:AO,2,FALSE),\"\")","v":"General and Administrative"},{"$f":"IFERROR(VLOOKUP(C254,Worktags!O:T,2,FALSE),\"\")","v":"Promotional and Branded Items"}]
["6400_SC6445 General and Administrative/Public Safety Services",{"$f":"Worktags!AS494","v":"6400"},{"$f":"IF(Worktags!AQ494<>Worktags!AS494,Worktags!AQ494,\"\")","v":"SC6445"},{"$f":"IFERROR(VLOOKUP(B255,Worktags!AL:AO,2,FALSE),\"\")","v":"General and Administrative"},{"$f":"IFERROR(VLOOKUP(C255,Worktags!O:T,2,FALSE),\"\")","v":"Public Safety Services"}]
["6400_SC6446 General and Administrative/Publication Services",{"$f":"Worktags!AS496","v":"6400"},{"$f":"IF(Worktags!AQ496<>Worktags!AS496,Worktags!AQ496,\"\")","v":"SC6446"},{"$f":"IFERROR(VLOOKUP(B256,Worktags!AL:AO,2,FALSE),\"\")","v":"General and Administrative"},{"$f":"IFERROR(VLOOKUP(C256,Worktags!O:T,2,FALSE),\"\")","v":"Publication Services"}]
[{"$f":"IF(B257<>\"\",IF(C257<>\"\",B257&\"_\"&C257&\" \"&D257&\"/\"&E257,B257&\" \"&D257),\"\")","v":"6400_SC6447 General and Administrative/Real Estate - Rent/Lease <=1yr"},{"$f":"Worktags!AS498","v":"6400"},{"$f":"IF(Worktags!AQ498<>Worktags!AS498,Worktags!AQ498,\"\")","v":"SC6447"},{"$f":"IFERROR(VLOOKUP(B257,Worktags!AL:AO,2,FALSE),\"\")","v":"General and Administrative"},{"$f":"IFERROR(VLOOKUP(C257,Worktags!O:T,2,FALSE),\"\")","v":"Real Estate - Rent/Lease <=1yr"}]
["6400_SC6448 General and Administrative/Real Estate - Rent/Lease >1yr",{"$f":"Worktags!AS500","v":"6400"},{"$f":"IF(Worktags!AQ500<>Worktags!AS500,Worktags!AQ500,\"\")","v":"SC6448"},{"$f":"IFERROR(VLOOKUP(B258,Worktags!AL:AO,2,FALSE),\"\")","v":"General and Administrative"},{"$f":"IFERROR(VLOOKUP(C258,Worktags!O:T,2,FALSE),\"\")","v":"Real Estate - Rent/Lease >1yr"}]
["6400_SC6449 General and Administrative/Rent/Lease < = 1 year",{"$f":"Worktags!AS504","v":"6400"},{"$f":"IF(Worktags!AQ504<>Worktags!AS504,Worktags!AQ504,\"\")","v":"SC6449"},{"$f":"IFERROR(VLOOKUP(B259,Worktags!AL:AO,2,FALSE),\"\")","v":"General and Administrative"},{"$f":"IFERROR(VLOOKUP(C259,Worktags!O:T,2,FALSE),\"\")","v":"Rent/Lease < = 1 year"}]
["6400_SC6450 General and Administrative/Rent/Lease >1 Year",{"$f":"Worktags!AS508","v":"6400"},{"$f":"IF(Worktags!AQ508<>Worktags!AS508,Worktags!AQ508,\"\")","v":"SC6450"},{"$f":"IFERROR(VLOOKUP(B260,Worktags!AL:AO,2,FALSE),\"\")","v":"General and Administrative"},{"$f":"IFERROR(VLOOKUP(C260,Worktags!O:T,2,FALSE),\"\")","v":"Rent/Lease >1 Year"}]
["6400_SC6451 General and Administrative/Research Subjects",{"$f":"Worktags!AS510","v":"6400"},{"$f":"IF(Worktags!AQ510<>Worktags!AS510,Worktags!AQ510,\"\")","v":"SC6451"},{"$f":"IFERROR(VLOOKUP(B261,Worktags!AL:AO,2,FALSE),\"\")","v":"General and Administrative"},{"$f":"IFERROR(VLOOKUP(C261,Worktags!O:T,2,FALSE),\"\")","v":"Research Subjects"}]
["6400_SC6452 General and Administrative/Royalties and Licensing Fees",{"$f":"Worktags!AS512","v":"6400"},{"$f":"IF(Worktags!AQ512<>Worktags!AS512,Worktags!AQ512,\"\")","v":"SC6452"},{"$f":"IFERROR(VLOOKUP(B262,Worktags!AL:AO,2,FALSE),\"\")","v":"General and Administrative"},{"$f":"IFERROR(VLOOKUP(C262,Worktags!O:T,2,FALSE),\"\")","v":"Royalties and Licensing Fees"}]
["6400_SC6453 General and Administrative/Scientific Services",{"$f":"Worktags!AS514","v":"6400"},{"$f":"IF(Worktags!AQ514<>Worktags!AS514,Worktags!AQ514,\"\")","v":"SC6453"},{"$f":"IFERROR(VLOOKUP(B263,Worktags!AL:AO,2,FALSE),\"\")","v":"General and Administrative"},{"$f":"IFERROR(VLOOKUP(C263,Worktags!O:T,2,FALSE),\"\")","v":"Scientific Services"}]
["6400_SC6454 General and Administrative/Screening Services",{"$f":"Worktags!AS516","v":"6400"},{"$f":"IF(Worktags!AQ516<>Worktags!AS516,Worktags!AQ516,\"\")","v":"SC6454"},{"$f":"IFERROR(VLOOKUP(B264,Worktags!AL:AO,2,FALSE),\"\")","v":"General and Administrative"},{"$f":"IFERROR(VLOOKUP(C264,Worktags!O:T,2,FALSE),\"\")","v":"Screening Services"}]
["6400_SC6455 General and Administrative/Services (not otherwise specified)",{"$f":"Worktags!AS520","v":"6400"},{"$f":"IF(Worktags!AQ520<>Worktags!AS520,Worktags!AQ520,\"\")","v":"SC6455"},{"$f":"IFERROR(VLOOKUP(B265,Worktags!AL:AO,2,FALSE),\"\")","v":"General and Administrative"},{"$f":"IFERROR(VLOOKUP(C265,Worktags!O:T,2,FALSE),\"\")","v":"Services (not otherwise specified)"}]
["6400_SC6456 General and Administrative/Shared Partner Services",{"$f":"Worktags!AS522","v":"6400"},{"$f":"IF(Worktags!AQ522<>Worktags!AS522,Worktags!AQ522,\"\")","v":"SC6456"},{"$f":"IFERROR(VLOOKUP(B266,Worktags!AL:AO,2,FALSE),\"\")","v":"General and Administrative"},{"$f":"IFERROR(VLOOKUP(C266,Worktags!O:T,2,FALSE),\"\")","v":"Shared Partner Services"}]
["6400_SC6457 General and Administrative/Student Teacher Supervision",{"$f":"Worktags!AS524","v":"6400"},{"$f":"IF(Worktags!AQ524<>Worktags!AS524,Worktags!AQ524,\"\")","v":"SC6457"},{"$f":"IFERROR(VLOOKUP(B267,Worktags!AL:AO,2,FALSE),\"\")","v":"General and Administrative"},{"$f":"IFERROR(VLOOKUP(C267,Worktags!O:T,2,FALSE),\"\")","v":"Student Teacher Supervision"}]
["6400_SC6458 General and Administrative/Subscriptions",{"$f":"Worktags!AS526","v":"6400"},{"$f":"IF(Worktags!AQ526<>Worktags!AS526,Worktags!AQ526,\"\")","v":"SC6458"},{"$f":"IFERROR(VLOOKUP(B268,Worktags!AL:AO,2,FALSE),\"\")","v":"General and Administrative"},{"$f":"IFERROR(VLOOKUP(C268,Worktags!O:T,2,FALSE),\"\")","v":"Subscriptions"}]
["6400_SC6459 General and Administrative/Taxes",{"$f":"Worktags!AS528","v":"6400"},{"$f":"IF(Worktags!AQ528<>Worktags!AS528,Worktags!AQ528,\"\")","v":"SC6459"},{"$f":"IFERROR(VLOOKUP(B269,Worktags!AL:AO,2,FALSE),\"\")","v":"General and Administrative"},{"$f":"IFERROR(VLOOKUP(C269,Worktags!O:T,2,FALSE),\"\")","v":"Taxes"}]
["6400_SC6460 General and Administrative/Testing Services",{"$f":"Worktags!AS530","v":"6400"},{"$f":"IF(Worktags!AQ530<>Worktags!AS530,Worktags!AQ530,\"\")","v":"SC6460"},{"$f":"IFERROR(VLOOKUP(B270,Worktags!AL:AO,2,FALSE),\"\")","v":"General and Administrative"},{"$f":"IFERROR(VLOOKUP(C270,Worktags!O:T,2,FALSE),\"\")","v":"Testing Services"}]
["6400_SC6461 General and Administrative/TV, Media Subscription Services",{"$f":"Worktags!AS532","v":"6400"},{"$f":"IF(Worktags!AQ532<>Worktags!AS532,Worktags!AQ532,\"\")","v":"SC6461"},{"$f":"IFERROR(VLOOKUP(B271,Worktags!AL:AO,2,FALSE),\"\")","v":"General and Administrative"},{"$f":"IFERROR(VLOOKUP(C271,Worktags!O:T,2,FALSE),\"\")","v":"TV, Media Subscription Services"}]
["6400_SC6462 General and Administrative/University Donations",{"$f":"Worktags!AS533","v":"6400"},{"$f":"IF(Worktags!AQ533<>Worktags!AS533,Worktags!AQ533,\"\")","v":"SC6462"},{"$f":"IFERROR(VLOOKUP(B272,Worktags!AL:AO,2,FALSE),\"\")","v":"General and Administrative"},{"$f":"IFERROR(VLOOKUP(C272,Worktags!O:T,2,FALSE),\"\")","v":"University Donations"}]
["6400_SC6463 General and Administrative/Waste Disposal Services",{"$f":"Worktags!AS535","v":"6400"},{"$f":"IF(Worktags!AQ535<>Worktags!AS535,Worktags!AQ535,\"\")","v":"SC6463"},{"$f":"IFERROR(VLOOKUP(B273,Worktags!AL:AO,2,FALSE),\"\")","v":"General and Administrative"},{"$f":"IFERROR(VLOOKUP(C273,Worktags!O:T,2,FALSE),\"\")","v":"Waste Disposal Services"}]
["6400_SC6464 General and Administrative/Facilities and Administration Expense",{"$f":"Worktags!AS536","v":"6400"},{"$f":"IF(Worktags!AQ536<>Worktags!AS536,Worktags!AQ536,\"\")","v":"SC6464"},{"$f":"IFERROR(VLOOKUP(B274,Worktags!AL:AO,2,FALSE),\"\")","v":"General and Administrative"},{"$f":"IFERROR(VLOOKUP(C274,Worktags!O:T,2,FALSE),\"\")","v":"Facilities and Administration Expense"}]
["6400_SC6465 General and Administrative/Facilities and Administration Recovery",{"$f":"Worktags!AS537","v":"6400"},{"$f":"IF(Worktags!AQ537<>Worktags!AS537,Worktags!AQ537,\"\")","v":"SC6465"},{"$f":"IFERROR(VLOOKUP(B275,Worktags!AL:AO,2,FALSE),\"\")","v":"General and Administrative"},{"$f":"IFERROR(VLOOKUP(C275,Worktags!O:T,2,FALSE),\"\")","v":"Facilities and Administration Recovery"}]
["6400_SC6466 General and Administrative/Income Taxes",{"$f":"Worktags!AS539","v":"6400"},{"$f":"IF(Worktags!AQ539<>Worktags!AS539,Worktags!AQ539,\"\")","v":"SC6466"},{"$f":"IFERROR(VLOOKUP(B276,Worktags!AL:AO,2,FALSE),\"\")","v":"General and Administrative"},{"$f":"IFERROR(VLOOKUP(C276,Worktags!O:T,2,FALSE),\"\")","v":"Income Taxes"}]
["6400_SC6467 General and Administrative/Donation to Affiliate",{"$f":"Worktags!AS540","v":"6400"},{"$f":"IF(Worktags!AQ540<>Worktags!AS540,Worktags!AQ540,\"\")","v":"SC6467"},{"$f":"IFERROR(VLOOKUP(B277,Worktags!AL:AO,2,FALSE),\"\")","v":"General and Administrative"},{"$f":"IFERROR(VLOOKUP(C277,Worktags!O:T,2,FALSE),\"\")","v":"Donation to Affiliate"}]
["6400_SC6499 General and Administrative/General and Administrative (reclass)",{"$f":"Worktags!AS544","v":"6400"},{"$f":"IF(Worktags!AQ544<>Worktags!AS544,Worktags!AQ544,\"\")","v":"SC6499"},{"$f":"IFERROR(VLOOKUP(B278,Worktags!AL:AO,2,FALSE),\"\")","v":"General and Administrative"},{"$f":"IFERROR(VLOOKUP(C278,Worktags!O:T,2,FALSE),\"\")","v":"General and Administrative (reclass)"}]
["6498 General and Administrative (Contra)",{"$f":"Worktags!AL127","v":"6498"},null,{"$f":"IFERROR(VLOOKUP(B279,Worktags!AL:AO,2,FALSE),\"\")","v":"General and Administrative (Contra)"}]
["6600 Interest Expense",{"$f":"Worktags!AL128","v":"6600"},null,{"$f":"IFERROR(VLOOKUP(B280,Worktags!AL:AO,2,FALSE),\"\")","v":"Interest Expense"}]
["6600_SC6610 Interest Expense/Interest Expense",{"$f":"Worktags!AS545","v":"6600"},{"$f":"IF(Worktags!AQ545<>Worktags!AS545,Worktags!AQ545,\"\")","v":"SC6610"},{"$f":"IFERROR(VLOOKUP(B281,Worktags!AL:AO,2,FALSE),\"\")","v":"Interest Expense"},{"$f":"IFERROR(VLOOKUP(C281,Worktags!O:T,2,FALSE),\"\")","v":"Interest Expense"}]
["6700 Physical Facilities",{"$f":"Worktags!AL129","v":"6700"},null,{"$f":"IFERROR(VLOOKUP(B282,Worktags!AL:AO,2,FALSE),\"\")","v":"Physical Facilities"}]
["6700_SC0670 Physical Facilities/Physical Facilities (Budget Only)",{"$f":"Worktags!AS204","v":"6700"},{"$f":"IF(Worktags!AQ204<>Worktags!AS204,Worktags!AQ204,\"\")","v":"SC0670"},{"$f":"IFERROR(VLOOKUP(B283,Worktags!AL:AO,2,FALSE),\"\")","v":"Physical Facilities"},{"$f":"IFERROR(VLOOKUP(C283,Worktags!O:T,2,FALSE),\"\")","v":"Physical Facilities (Budget Only)"}]
["6700_SC6701 Physical Facilities/Building Access Supplies",{"$f":"Worktags!AS551","v":"6700"},{"$f":"IF(Worktags!AQ551<>Worktags!AS551,Worktags!AQ551,\"\")","v":"SC6701"},{"$f":"IFERROR(VLOOKUP(B284,Worktags!AL:AO,2,FALSE),\"\")","v":"Physical Facilities"},{"$f":"IFERROR(VLOOKUP(C284,Worktags!O:T,2,FALSE),\"\")","v":"Building Access Supplies"}]
["6700_SC6702 Physical Facilities/Building Construction and Improvements",{"$f":"Worktags!AS558","v":"6700"},{"$f":"IF(Worktags!AQ558<>Worktags!AS558,Worktags!AQ558,\"\")","v":"SC6702"},{"$f":"IFERROR(VLOOKUP(B285,Worktags!AL:AO,2,FALSE),\"\")","v":"Physical Facilities"},{"$f":"IFERROR(VLOOKUP(C285,Worktags!O:T,2,FALSE),\"\")","v":"Building Construction and Improvements"}]
["6700_SC6703 Physical Facilities/Building Furnishings",{"$f":"Worktags!AS565","v":"6700"},{"$f":"IF(Worktags!AQ565<>Worktags!AS565,Worktags!AQ565,\"\")","v":"SC6703"},{"$f":"IFERROR(VLOOKUP(B286,Worktags!AL:AO,2,FALSE),\"\")","v":"Physical Facilities"},{"$f":"IFERROR(VLOOKUP(C286,Worktags!O:T,2,FALSE),\"\")","v":"Building Furnishings"}]
["6700_SC6704 Physical Facilities/Building Materials - Finishing",{"$f":"Worktags!AS572","v":"6700"},{"$f":"IF(Worktags!AQ572<>Worktags!AS572,Worktags!AQ572,\"\")","v":"SC6704"},{"$f":"IFERROR(VLOOKUP(B287,Worktags!AL:AO,2,FALSE),\"\")","v":"Physical Facilities"},{"$f":"IFERROR(VLOOKUP(C287,Worktags!O:T,2,FALSE),\"\")","v":"Building Materials - Finishing"}]
["6700_SC6705 Physical Facilities/Building Materials - Raw",{"$f":"Worktags!AS579","v":"6700"},{"$f":"IF(Worktags!AQ579<>Worktags!AS579,Worktags!AQ579,\"\")","v":"SC6705"},{"$f":"IFERROR(VLOOKUP(B288,Worktags!AL:AO,2,FALSE),\"\")","v":"Physical Facilities"},{"$f":"IFERROR(VLOOKUP(C288,Worktags!O:T,2,FALSE),\"\")","v":"Building Materials - Raw"}]
["6700_SC6706 Physical Facilities/Electrical Devices",{"$f":"Worktags!AS586","v":"6700"},{"$f":"IF(Worktags!AQ586<>Worktags!AS586,Worktags!AQ586,\"\")","v":"SC6706"},{"$f":"IFERROR(VLOOKUP(B289,Worktags!AL:AO,2,FALSE),\"\")","v":"Physical Facilities"},{"$f":"IFERROR(VLOOKUP(C289,Worktags!O:T,2,FALSE),\"\")","v":"Electrical Devices"}]
["6700_SC6707 Physical Facilities/Electrical Supplies",{"$f":"Worktags!AS592","v":"6700"},{"$f":"IF(Worktags!AQ592<>Worktags!AS592,Worktags!AQ592,\"\")","v":"SC6707"},{"$f":"IFERROR(VLOOKUP(B290,Worktags!AL:AO,2,FALSE),\"\")","v":"Physical Facilities"},{"$f":"IFERROR(VLOOKUP(C290,Worktags!O:T,2,FALSE),\"\")","v":"Electrical Supplies"}]
["6700_SC6708 Physical Facilities/Fans/Furnaces",{"$f":"Worktags!AS598","v":"6700"},{"$f":"IF(Worktags!AQ598<>Worktags!AS598,Worktags!AQ598,\"\")","v":"SC6708"},{"$f":"IFERROR(VLOOKUP(B291,Worktags!AL:AO,2,FALSE),\"\")","v":"Physical Facilities"},{"$f":"IFERROR(VLOOKUP(C291,Worktags!O:T,2,FALSE),\"\")","v":"Fans/Furnaces"}]
["6700_SC6709 Physical Facilities/Flooring Materials",{"$f":"Worktags!AS605","v":"6700"},{"$f":"IF(Worktags!AQ605<>Worktags!AS605,Worktags!AQ605,\"\")","v":"SC6709"},{"$f":"IFERROR(VLOOKUP(B292,Worktags!AL:AO,2,FALSE),\"\")","v":"Physical Facilities"},{"$f":"IFERROR(VLOOKUP(C292,Worktags!O:T,2,FALSE),\"\")","v":"Flooring Materials"}]
["6700_SC6710 Physical Facilities/Furnishing Accessories",{"$f":"Worktags!AS612","v":"6700"},{"$f":"IF(Worktags!AQ612<>Worktags!AS612,Worktags!AQ612,\"\")","v":"SC6710"},{"$f":"IFERROR(VLOOKUP(B293,Worktags!AL:AO,2,FALSE),\"\")","v":"Physical Facilities"},{"$f":"IFERROR(VLOOKUP(C293,Worktags!O:T,2,FALSE),\"\")","v":"Furnishing Accessories"}]
["6700_SC6711 Physical Facilities/Grounds and Landscaping Supplies",{"$f":"Worktags!AS619","v":"6700"},{"$f":"IF(Worktags!AQ619<>Worktags!AS619,Worktags!AQ619,\"\")","v":"SC6711"},{"$f":"IFERROR(VLOOKUP(B294,Worktags!AL:AO,2,FALSE),\"\")","v":"Physical Facilities"},{"$f":"IFERROR(VLOOKUP(C294,Worktags!O:T,2,FALSE),\"\")","v":"Grounds and Landscaping Supplies"}]
["6700_SC6712 Physical Facilities/Grounds Services",{"$f":"Worktags!AS622","v":"6700"},{"$f":"IF(Worktags!AQ622<>Worktags!AS622,Worktags!AQ622,\"\")","v":"SC6712"},{"$f":"IFERROR(VLOOKUP(B295,Worktags!AL:AO,2,FALSE),\"\")","v":"Physical Facilities"},{"$f":"IFERROR(VLOOKUP(C295,Worktags!O:T,2,FALSE),\"\")","v":"Grounds Services"}]
["6700_SC6713 Physical Facilities/Industrial Fixtures",{"$f":"Worktags!AS628","v":"6700"},{"$f":"IF(Worktags!AQ628<>Worktags!AS628,Worktags!AQ628,\"\")","v":"SC6713"},{"$f":"IFERROR(VLOOKUP(B296,Worktags!AL:AO,2,FALSE),\"\")","v":"Physical Facilities"},{"$f":"IFERROR(VLOOKUP(C296,Worktags!O:T,2,FALSE),\"\")","v":"Industrial Fixtures"}]
["6700_SC6714 Physical Facilities/Lighting Fixtures and Lamps",{"$f":"Worktags!AS635","v":"6700"},{"$f":"IF(Worktags!AQ635<>Worktags!AS635,Worktags!AQ635,\"\")","v":"SC6714"},{"$f":"IFERROR(VLOOKUP(B297,Worktags!AL:AO,2,FALSE),\"\")","v":"Physical Facilities"},{"$f":"IFERROR(VLOOKUP(C297,Worktags!O:T,2,FALSE),\"\")","v":"Lighting Fixtures and Lamps"}]
["6700_SC6715 Physical Facilities/Plumbing Fixtures",{"$f":"Worktags!AS642","v":"6700"},{"$f":"IF(Worktags!AQ642<>Worktags!AS642,Worktags!AQ642,\"\")","v":"SC6715"},{"$f":"IFERROR(VLOOKUP(B298,Worktags!AL:AO,2,FALSE),\"\")","v":"Physical Facilities"},{"$f":"IFERROR(VLOOKUP(C298,Worktags!O:T,2,FALSE),\"\")","v":"Plumbing Fixtures"}]
["6700_SC6716 Physical Facilities/Retainage",{"$f":"Worktags!AS646","v":"6700"},{"$f":"IF(Worktags!AQ646<>Worktags!AS646,Worktags!AQ646,\"\")","v":"SC6716"},{"$f":"IFERROR(VLOOKUP(B299,Worktags!AL:AO,2,FALSE),\"\")","v":"Physical Facilities"},{"$f":"IFERROR(VLOOKUP(C299,Worktags!O:T,2,FALSE),\"\")","v":"Retainage"}]
["6700_SC6717 Physical Facilities/Retainage Interest",{"$f":"Worktags!AS649","v":"6700"},{"$f":"IF(Worktags!AQ649<>Worktags!AS649,Worktags!AQ649,\"\")","v":"SC6717"},{"$f":"IFERROR(VLOOKUP(B300,Worktags!AL:AO,2,FALSE),\"\")","v":"Physical Facilities"},{"$f":"IFERROR(VLOOKUP(C300,Worktags!O:T,2,FALSE),\"\")","v":"Retainage Interest"}]
["6700_SC6718 Physical Facilities/Signage, Electronic",{"$f":"Worktags!AS655","v":"6700"},{"$f":"IF(Worktags!AQ655<>Worktags!AS655,Worktags!AQ655,\"\")","v":"SC6718"},{"$f":"IFERROR(VLOOKUP(B301,Worktags!AL:AO,2,FALSE),\"\")","v":"Physical Facilities"},{"$f":"IFERROR(VLOOKUP(C301,Worktags!O:T,2,FALSE),\"\")","v":"Signage, Electronic"}]
["6700_SC6719 Physical Facilities/Signage, Non-electronic",{"$f":"Worktags!AS662","v":"6700"},{"$f":"IF(Worktags!AQ662<>Worktags!AS662,Worktags!AQ662,\"\")","v":"SC6719"},{"$f":"IFERROR(VLOOKUP(B302,Worktags!AL:AO,2,FALSE),\"\")","v":"Physical Facilities"},{"$f":"IFERROR(VLOOKUP(C302,Worktags!O:T,2,FALSE),\"\")","v":"Signage, Non-electronic"}]
["6700_SC6720 Physical Facilities/Specialized Trade Services - Physical Facilities",{"$f":"Worktags!AS667","v":"6700"},{"$f":"IF(Worktags!AQ667<>Worktags!AS667,Worktags!AQ667,\"\")","v":"SC6720"},{"$f":"IFERROR(VLOOKUP(B303,Worktags!AL:AO,2,FALSE),\"\")","v":"Physical Facilities"},{"$f":"IFERROR(VLOOKUP(C303,Worktags!O:T,2,FALSE),\"\")","v":"Specialized Trade Services - Physical Facilities"}]
["6700_SC6721 Physical Facilities/Stage and Studio Lighting (Asset Track)",{"$f":"Worktags!AS673","v":"6700"},{"$f":"IF(Worktags!AQ673<>Worktags!AS673,Worktags!AQ673,\"\")","v":"SC6721"},{"$f":"IFERROR(VLOOKUP(B304,Worktags!AL:AO,2,FALSE),\"\")","v":"Physical Facilities"},{"$f":"IFERROR(VLOOKUP(C304,Worktags!O:T,2,FALSE),\"\")","v":"Stage and Studio Lighting (Asset Track)"}]
["6700_SC6722 Physical Facilities/Utilities, Electricity",{"$f":"Worktags!AS676","v":"6700"},{"$f":"IF(Worktags!AQ676<>Worktags!AS676,Worktags!AQ676,\"\")","v":"SC6722"},{"$f":"IFERROR(VLOOKUP(B305,Worktags!AL:AO,2,FALSE),\"\")","v":"Physical Facilities"},{"$f":"IFERROR(VLOOKUP(C305,Worktags!O:T,2,FALSE),\"\")","v":"Utilities, Electricity"}]
["6700_SC6723 Physical Facilities/Utilities, Garbage Hauling",{"$f":"Worktags!AS678","v":"6700"},{"$f":"IF(Worktags!AQ678<>Worktags!AS678,Worktags!AQ678,\"\")","v":"SC6723"},{"$f":"IFERROR(VLOOKUP(B306,Worktags!AL:AO,2,FALSE),\"\")","v":"Physical Facilities"},{"$f":"IFERROR(VLOOKUP(C306,Worktags!O:T,2,FALSE),\"\")","v":"Utilities, Garbage Hauling"}]
["6700_SC6724 Physical Facilities/Utilities, Heat/Cool Unit",{"$f":"Worktags!AS680","v":"6700"},{"$f":"IF(Worktags!AQ680<>Worktags!AS680,Worktags!AQ680,\"\")","v":"SC6724"},{"$f":"IFERROR(VLOOKUP(B307,Worktags!AL:AO,2,FALSE),\"\")","v":"Physical Facilities"},{"$f":"IFERROR(VLOOKUP(C307,Worktags!O:T,2,FALSE),\"\")","v":"Utilities, Heat/Cool Unit"}]
["6700_SC6725 Physical Facilities/Utilities, Natural Gas",{"$f":"Worktags!AS682","v":"6700"},{"$f":"IF(Worktags!AQ682<>Worktags!AS682,Worktags!AQ682,\"\")","v":"SC6725"},{"$f":"IFERROR(VLOOKUP(B308,Worktags!AL:AO,2,FALSE),\"\")","v":"Physical Facilities"},{"$f":"IFERROR(VLOOKUP(C308,Worktags!O:T,2,FALSE),\"\")","v":"Utilities, Natural Gas"}]
["6700_SC6726 Physical Facilities/Utilities, Other",{"$f":"Worktags!AS684","v":"6700"},{"$f":"IF(Worktags!AQ684<>Worktags!AS684,Worktags!AQ684,\"\")","v":"SC6726"},{"$f":"IFERROR(VLOOKUP(B309,Worktags!AL:AO,2,FALSE),\"\")","v":"Physical Facilities"},{"$f":"IFERROR(VLOOKUP(C309,Worktags!O:T,2,FALSE),\"\")","v":"Utilities, Other"}]
["6700_SC6727 Physical Facilities/Utilities, Sewer",{"$f":"Worktags!AS686","v":"6700"},{"$f":"IF(Worktags!AQ686<>Worktags!AS686,Worktags!AQ686,\"\")","v":"SC6727"},{"$f":"IFERROR(VLOOKUP(B310,Worktags!AL:AO,2,FALSE),\"\")","v":"Physical Facilities"},{"$f":"IFERROR(VLOOKUP(C310,Worktags!O:T,2,FALSE),\"\")","v":"Utilities, Sewer"}]
["6700_SC6728 Physical Facilities/Utilities, Water",{"$f":"Worktags!AS688","v":"6700"},{"$f":"IF(Worktags!AQ688<>Worktags!AS688,Worktags!AQ688,\"\")","v":"SC6728"},{"$f":"IFERROR(VLOOKUP(B311,Worktags!AL:AO,2,FALSE),\"\")","v":"Physical Facilities"},{"$f":"IFERROR(VLOOKUP(C311,Worktags!O:T,2,FALSE),\"\")","v":"Utilities, Water"}]
["6700_SC6729 Physical Facilities/Warehouse Fixtures",{"$f":"Worktags!AS694","v":"6700"},{"$f":"IF(Worktags!AQ694<>Worktags!AS694,Worktags!AQ694,\"\")","v":"SC6729"},{"$f":"IFERROR(VLOOKUP(B312,Worktags!AL:AO,2,FALSE),\"\")","v":"Physical Facilities"},{"$f":"IFERROR(VLOOKUP(C312,Worktags!O:T,2,FALSE),\"\")","v":"Warehouse Fixtures"}]
["6700_SC6730 Physical Facilities/Window Treatments",{"$f":"Worktags!AS701","v":"6700"},{"$f":"IF(Worktags!AQ701<>Worktags!AS701,Worktags!AQ701,\"\")","v":"SC6730"},{"$f":"IFERROR(VLOOKUP(B313,Worktags!AL:AO,2,FALSE),\"\")","v":"Physical Facilities"},{"$f":"IFERROR(VLOOKUP(C313,Worktags!O:T,2,FALSE),\"\")","v":"Window Treatments"}]
["6700_SC6799 Physical Facilities/Physical Facilities (reclass)",{"$f":"Worktags!AS709","v":"6700"},{"$f":"IF(Worktags!AQ709<>Worktags!AS709,Worktags!AQ709,\"\")","v":"SC6799"},{"$f":"IFERROR(VLOOKUP(B314,Worktags!AL:AO,2,FALSE),\"\")","v":"Physical Facilities"},{"$f":"IFERROR(VLOOKUP(C314,Worktags!O:T,2,FALSE),\"\")","v":"Physical Facilities (reclass)"}]
["6900 Equipment, Software, Library",{"$f":"Worktags!AL130","v":"6900"},null,{"$f":"IFERROR(VLOOKUP(B315,Worktags!AL:AO,2,FALSE),\"\")","v":"Equipment, Software, Library"}]
["6900_SC0691 Equipment, Software, Library/Equipment (Budget Only)",{"$f":"Worktags!AS205","v":"6900"},{"$f":"IF(Worktags!AQ205<>Worktags!AS205,Worktags!AQ205,\"\")","v":"SC0691"},{"$f":"IFERROR(VLOOKUP(B316,Worktags!AL:AO,2,FALSE),\"\")","v":"Equipment, Software, Library"},{"$f":"IFERROR(VLOOKUP(C316,Worktags!O:T,2,FALSE),\"\")","v":"Equipment (Budget Only)"}]
["6900_SC0692 Equipment, Software, Library/Converted Equipment (Budget Only)",{"$f":"Worktags!AS206","v":"6900"},{"$f":"IF(Worktags!AQ206<>Worktags!AS206,Worktags!AQ206,\"\")","v":"SC0692"},{"$f":"IFERROR(VLOOKUP(B317,Worktags!AL:AO,2,FALSE),\"\")","v":"Equipment, Software, Library"},{"$f":"IFERROR(VLOOKUP(C317,Worktags!O:T,2,FALSE),\"\")","v":"Converted Equipment (Budget Only)"}]
["6900_SC0693 Equipment, Software, Library/Equipment Maintenance (Budget Only)",{"$f":"Worktags!AS207","v":"6900"},{"$f":"IF(Worktags!AQ207<>Worktags!AS207,Worktags!AQ207,\"\")","v":"SC0693"},{"$f":"IFERROR(VLOOKUP(B318,Worktags!AL:AO,2,FALSE),\"\")","v":"Equipment, Software, Library"},{"$f":"IFERROR(VLOOKUP(C318,Worktags!O:T,2,FALSE),\"\")","v":"Equipment Maintenance (Budget Only)"}]
["6900_SC0694 Equipment, Software, Library/Software (Budget Only)",{"$f":"Worktags!AS208","v":"6900"},{"$f":"IF(Worktags!AQ208<>Worktags!AS208,Worktags!AQ208,\"\")","v":"SC0694"},{"$f":"IFERROR(VLOOKUP(B319,Worktags!AL:AO,2,FALSE),\"\")","v":"Equipment, Software, Library"},{"$f":"IFERROR(VLOOKUP(C319,Worktags!O:T,2,FALSE),\"\")","v":"Software (Budget Only)"}]
["6900_SC0695 Equipment, Software, Library/Converted Software (Budget Only)",{"$f":"Worktags!AS209","v":"6900"},{"$f":"IF(Worktags!AQ209<>Worktags!AS209,Worktags!AQ209,\"\")","v":"SC0695"},{"$f":"IFERROR(VLOOKUP(B320,Worktags!AL:AO,2,FALSE),\"\")","v":"Equipment, Software, Library"},{"$f":"IFERROR(VLOOKUP(C320,Worktags!O:T,2,FALSE),\"\")","v":"Converted Software (Budget Only)"}]
[{"$f":"IF(B321<>\"\",IF(C321<>\"\",B321&\"_\"&C321&\" \"&D321&\"/\"&E321,B321&\" \"&D321),\"\")","v":"6900_SC0696 Equipment, Software, Library/Library Content (Budget Only)"},{"$f":"Worktags!AS210","v":"6900"},{"$f":"IF(Worktags!AQ210<>Worktags!AS210,Worktags!AQ210,\"\")","v":"SC0696"},{"$f":"IFERROR(VLOOKUP(B321,Worktags!AL:AO,2,FALSE),\"\")","v":"Equipment, Software, Library"},{"$f":"IFERROR(VLOOKUP(C321,Worktags!O:T,2,FALSE),\"\")","v":"Library Content (Budget Only)"}]
["6900_SC0697 Equipment, Software, Library/Converted Library Content (Budget Only)",{"$f":"Worktags!AS211","v":"6900"},{"$f":"IF(Worktags!AQ211<>Worktags!AS211,Worktags!AQ211,\"\")","v":"SC0697"},{"$f":"IFERROR(VLOOKUP(B322,Worktags!AL:AO,2,FALSE),\"\")","v":"Equipment, Software, Library"},{"$f":"IFERROR(VLOOKUP(C322,Worktags!O:T,2,FALSE),\"\")","v":"Converted Library Content (Budget Only)"}]
["6900_SC6901 Equipment, Software, Library/Art Equipment",{"$f":"Worktags!AS715","v":"6900"},{"$f":"IF(Worktags!AQ715<>Worktags!AS715,Worktags!AQ715,\"\")","v":"SC6901"},{"$f":"IFERROR(VLOOKUP(B323,Worktags!AL:AO,2,FALSE),\"\")","v":"Equipment, Software, Library"},{"$f":"IFERROR(VLOOKUP(C323,Worktags!O:T,2,FALSE),\"\")","v":"Art Equipment"}]
["6900_SC6902 Equipment, Software, Library/Athletic Equipment",{"$f":"Worktags!AS722","v":"6900"},{"$f":"IF(Worktags!AQ722<>Worktags!AS722,Worktags!AQ722,\"\")","v":"SC6902"},{"$f":"IFERROR(VLOOKUP(B324,Worktags!AL:AO,2,FALSE),\"\")","v":"Equipment, Software, Library"},{"$f":"IFERROR(VLOOKUP(C324,Worktags!O:T,2,FALSE),\"\")","v":"Athletic Equipment"}]
["6900_SC6903 Equipment, Software, Library/Audio Visual Equipment (Asset Track)",{"$f":"Worktags!AS729","v":"6900"},{"$f":"IF(Worktags!AQ729<>Worktags!AS729,Worktags!AQ729,\"\")","v":"SC6903"},{"$f":"IFERROR(VLOOKUP(B325,Worktags!AL:AO,2,FALSE),\"\")","v":"Equipment, Software, Library"},{"$f":"IFERROR(VLOOKUP(C325,Worktags!O:T,2,FALSE),\"\")","v":"Audio Visual Equipment (Asset Track)"}]
["6900_SC6904 Equipment, Software, Library/Communication Devices (Asset Track)",{"$f":"Worktags!AS736","v":"6900"},{"$f":"IF(Worktags!AQ736<>Worktags!AS736,Worktags!AQ736,\"\")","v":"SC6904"},{"$f":"IFERROR(VLOOKUP(B326,Worktags!AL:AO,2,FALSE),\"\")","v":"Equipment, Software, Library"},{"$f":"IFERROR(VLOOKUP(C326,Worktags!O:T,2,FALSE),\"\")","v":"Communication Devices (Asset Track)"}]
["6900_SC6905 Equipment, Software, Library/Computer Hardware (Asset Track)",{"$f":"Worktags!AS743","v":"6900"},{"$f":"IF(Worktags!AQ743<>Worktags!AS743,Worktags!AQ743,\"\")","v":"SC6905"},{"$f":"IFERROR(VLOOKUP(B327,Worktags!AL:AO,2,FALSE),\"\")","v":"Equipment, Software, Library"},{"$f":"IFERROR(VLOOKUP(C327,Worktags!O:T,2,FALSE),\"\")","v":"Computer Hardware (Asset Track)"}]
["6900_SC6906 Equipment, Software, Library/Data Network Equipment (Asset Track)",{"$f":"Worktags!AS750","v":"6900"},{"$f":"IF(Worktags!AQ750<>Worktags!AS750,Worktags!AQ750,\"\")","v":"SC6906"},{"$f":"IFERROR(VLOOKUP(B328,Worktags!AL:AO,2,FALSE),\"\")","v":"Equipment, Software, Library"},{"$f":"IFERROR(VLOOKUP(C328,Worktags!O:T,2,FALSE),\"\")","v":"Data Network Equipment (Asset Track)"}]
["6900_SC6907 Equipment, Software, Library/Equipment (not otherwise specified) (Asset Track)",{"$f":"Worktags!AS757","v":"6900"},{"$f":"IF(Worktags!AQ757<>Worktags!AS757,Worktags!AQ757,\"\")","v":"SC6907"},{"$f":"IFERROR(VLOOKUP(B329,Worktags!AL:AO,2,FALSE),\"\")","v":"Equipment, Software, Library"},{"$f":"IFERROR(VLOOKUP(C329,Worktags!O:T,2,FALSE),\"\")","v":"Equipment (not otherwise specified) (Asset Track)"}]
["6900_SC6908 Equipment, Software, Library/Equipment Maintenance (not otherwise specified)",{"$f":"Worktags!AS760","v":"6900"},{"$f":"IF(Worktags!AQ760<>Worktags!AS760,Worktags!AQ760,\"\")","v":"SC6908"},{"$f":"IFERROR(VLOOKUP(B330,Worktags!AL:AO,2,FALSE),\"\")","v":"Equipment, Software, Library"},{"$f":"IFERROR(VLOOKUP(C330,Worktags!O:T,2,FALSE),\"\")","v":"Equipment Maintenance (not otherwise specified)"}]
["6900_SC6909 Equipment, Software, Library/Firearms",{"$f":"Worktags!AS764","v":"6900"},{"$f":"IF(Worktags!AQ764<>Worktags!AS764,Worktags!AQ764,\"\")","v":"SC6909"},{"$f":"IFERROR(VLOOKUP(B331,Worktags!AL:AO,2,FALSE),\"\")","v":"Equipment, Software, Library"},{"$f":"IFERROR(VLOOKUP(C331,Worktags!O:T,2,FALSE),\"\")","v":"Firearms"}]
["6900_SC6910 Equipment, Software, Library/Food Service Equipment",{"$f":"Worktags!AS771","v":"6900"},{"$f":"IF(Worktags!AQ771<>Worktags!AS771,Worktags!AQ771,\"\")","v":"SC6910"},{"$f":"IFERROR(VLOOKUP(B332,Worktags!AL:AO,2,FALSE),\"\")","v":"Equipment, Software, Library"},{"$f":"IFERROR(VLOOKUP(C332,Worktags!O:T,2,FALSE),\"\")","v":"Food Service Equipment"}]
["6900_SC6911 Equipment, Software, Library/Grants Capital Equipment",{"$f":"Worktags!AS776","v":"6900"},{"$f":"IF(Worktags!AQ776<>Worktags!AS776,Worktags!AQ776,\"\")","v":"SC6911"},{"$f":"IFERROR(VLOOKUP(B333,Worktags!AL:AO,2,FALSE),\"\")","v":"Equipment, Software, Library"},{"$f":"IFERROR(VLOOKUP(C333,Worktags!O:T,2,FALSE),\"\")","v":"Grants Capital Equipment"}]
["6900_SC6912 Equipment, Software, Library/Grants Non-Capital Equipment",{"$f":"Worktags!AS779","v":"6900"},{"$f":"IF(Worktags!AQ779<>Worktags!AS779,Worktags!AQ779,\"\")","v":"SC6912"},{"$f":"IFERROR(VLOOKUP(B334,Worktags!AL:AO,2,FALSE),\"\")","v":"Equipment, Software, Library"},{"$f":"IFERROR(VLOOKUP(C334,Worktags!O:T,2,FALSE),\"\")","v":"Grants Non-Capital Equipment"}]
["6900_SC6913 Equipment, Software, Library/Grounds Equipment",{"$f":"Worktags!AS783","v":"6900"},{"$f":"IF(Worktags!AQ783<>Worktags!AS783,Worktags!AQ783,\"\")","v":"SC6913"},{"$f":"IFERROR(VLOOKUP(B335,Worktags!AL:AO,2,FALSE),\"\")","v":"Equipment, Software, Library"},{"$f":"IFERROR(VLOOKUP(C335,Worktags!O:T,2,FALSE),\"\")","v":"Grounds Equipment"}]
["6900_SC6914 Equipment, Software, Library/Industrial Equipment",{"$f":"Worktags!AS790","v":"6900"},{"$f":"IF(Worktags!AQ790<>Worktags!AS790,Worktags!AQ790,\"\")","v":"SC6914"},{"$f":"IFERROR(VLOOKUP(B336,Worktags!AL:AO,2,FALSE),\"\")","v":"Equipment, Software, Library"},{"$f":"IFERROR(VLOOKUP(C336,Worktags!O:T,2,FALSE),\"\")","v":"Industrial Equipment"}]
["6900_SC6915 Equipment, Software, Library/Janitorial Equipment",{"$f":"Worktags!AS797","v":"6900"},{"$f":"IF(Worktags!AQ797<>Worktags!AS797,Worktags!AQ797,\"\")","v":"SC6915"},{"$f":"IFERROR(VLOOKUP(B337,Worktags!AL:AO,2,FALSE),\"\")","v":"Equipment, Software, Library"},{"$f":"IFERROR(VLOOKUP(C337,Worktags!O:T,2,FALSE),\"\")","v":"Janitorial Equipment"}]
["6900_SC6916 Equipment, Software, Library/Janitorial Equipment Maintenance",{"$f":"Worktags!AS800","v":"6900"},{"$f":"IF(Worktags!AQ800<>Worktags!AS800,Worktags!AQ800,\"\")","v":"SC6916"},{"$f":"IFERROR(VLOOKUP(B338,Worktags!AL:AO,2,FALSE),\"\")","v":"Equipment, Software, Library"},{"$f":"IFERROR(VLOOKUP(C338,Worktags!O:T,2,FALSE),\"\")","v":"Janitorial Equipment Maintenance"}]
["6900_SC6917 Equipment, Software, Library/Laundry Equipment",{"$f":"Worktags!AS806","v":"6900"},{"$f":"IF(Worktags!AQ806<>Worktags!AS806,Worktags!AQ806,\"\")","v":"SC6917"},{"$f":"IFERROR(VLOOKUP(B339,Worktags!AL:AO,2,FALSE),\"\")","v":"Equipment, Software, Library"},{"$f":"IFERROR(VLOOKUP(C339,Worktags!O:T,2,FALSE),\"\")","v":"Laundry Equipment"}]
["6900_SC6918 Equipment, Software, Library/Library Content",{"$f":"Worktags!AS811","v":"6900"},{"$f":"IF(Worktags!AQ811<>Worktags!AS811,Worktags!AQ811,\"\")","v":"SC6918"},{"$f":"IFERROR(VLOOKUP(B340,Worktags!AL:AO,2,FALSE),\"\")","v":"Equipment, Software, Library"},{"$f":"IFERROR(VLOOKUP(C340,Worktags!O:T,2,FALSE),\"\")","v":"Library Content"}]
["6900_SC6919 Equipment, Software, Library/Library Subscriptions",{"$f":"Worktags!AS814","v":"6900"},{"$f":"IF(Worktags!AQ814<>Worktags!AS814,Worktags!AQ814,\"\")","v":"SC6919"},{"$f":"IFERROR(VLOOKUP(B341,Worktags!AL:AO,2,FALSE),\"\")","v":"Equipment, Software, Library"},{"$f":"IFERROR(VLOOKUP(C341,Worktags!O:T,2,FALSE),\"\")","v":"Library Subscriptions"}]
["6900_SC6920 Equipment, Software, Library/Media Content",{"$f":"Worktags!AS818","v":"6900"},{"$f":"IF(Worktags!AQ818<>Worktags!AS818,Worktags!AQ818,\"\")","v":"SC6920"},{"$f":"IFERROR(VLOOKUP(B342,Worktags!AL:AO,2,FALSE),\"\")","v":"Equipment, Software, Library"},{"$f":"IFERROR(VLOOKUP(C342,Worktags!O:T,2,FALSE),\"\")","v":"Media Content"}]
["6900_SC6921 Equipment, Software, Library/Medical Equipment",{"$f":"Worktags!AS825","v":"6900"},{"$f":"IF(Worktags!AQ825<>Worktags!AS825,Worktags!AQ825,\"\")","v":"SC6921"},{"$f":"IFERROR(VLOOKUP(B343,Worktags!AL:AO,2,FALSE),\"\")","v":"Equipment, Software, Library"},{"$f":"IFERROR(VLOOKUP(C343,Worktags!O:T,2,FALSE),\"\")","v":"Medical Equipment"}]
["6900_SC6922 Equipment, Software, Library/Medical Equipment - Maintenance",{"$f":"Worktags!AS828","v":"6900"},{"$f":"IF(Worktags!AQ828<>Worktags!AS828,Worktags!AQ828,\"\")","v":"SC6922"},{"$f":"IFERROR(VLOOKUP(B344,Worktags!AL:AO,2,FALSE),\"\")","v":"Equipment, Software, Library"},{"$f":"IFERROR(VLOOKUP(C344,Worktags!O:T,2,FALSE),\"\")","v":"Medical Equipment - Maintenance"}]
["6900_SC6923 Equipment, Software, Library/Musical Instruments",{"$f":"Worktags!AS832","v":"6900"},{"$f":"IF(Worktags!AQ832<>Worktags!AS832,Worktags!AQ832,\"\")","v":"SC6923"},{"$f":"IFERROR(VLOOKUP(B345,Worktags!AL:AO,2,FALSE),\"\")","v":"Equipment, Software, Library"},{"$f":"IFERROR(VLOOKUP(C345,Worktags!O:T,2,FALSE),\"\")","v":"Musical Instruments"}]
["6900_SC6924 Equipment, Software, Library/Office Equipment (Asset Track)",{"$f":"Worktags!AS839","v":"6900"},{"$f":"IF(Worktags!AQ839<>Worktags!AS839,Worktags!AQ839,\"\")","v":"SC6924"},{"$f":"IFERROR(VLOOKUP(B346,Worktags!AL:AO,2,FALSE),\"\")","v":"Equipment, Software, Library"},{"$f":"IFERROR(VLOOKUP(C346,Worktags!O:T,2,FALSE),\"\")","v":"Office Equipment (Asset Track)"}]
["6900_SC6925 Equipment, Software, Library/Office Equipment - Maintenance",{"$f":"Worktags!AS842","v":"6900"},{"$f":"IF(Worktags!AQ842<>Worktags!AS842,Worktags!AQ842,\"\")","v":"SC6925"},{"$f":"IFERROR(VLOOKUP(B347,Worktags!AL:AO,2,FALSE),\"\")","v":"Equipment, Software, Library"},{"$f":"IFERROR(VLOOKUP(C347,Worktags!O:T,2,FALSE),\"\")","v":"Office Equipment - Maintenance"}]
["6900_SC6926 Equipment, Software, Library/Photography Equipment",{"$f":"Worktags!AS846","v":"6900"},{"$f":"IF(Worktags!AQ846<>Worktags!AS846,Worktags!AQ846,\"\")","v":"SC6926"},{"$f":"IFERROR(VLOOKUP(B348,Worktags!AL:AO,2,FALSE),\"\")","v":"Equipment, Software, Library"},{"$f":"IFERROR(VLOOKUP(C348,Worktags!O:T,2,FALSE),\"\")","v":"Photography Equipment"}]
["6900_SC6927 Equipment, Software, Library/Portable Structures",{"$f":"Worktags!AS853","v":"6900"},{"$f":"IF(Worktags!AQ853<>Worktags!AS853,Worktags!AQ853,\"\")","v":"SC6927"},{"$f":"IFERROR(VLOOKUP(B349,Worktags!AL:AO,2,FALSE),\"\")","v":"Equipment, Software, Library"},{"$f":"IFERROR(VLOOKUP(C349,Worktags!O:T,2,FALSE),\"\")","v":"Portable Structures"}]
["6900_SC6928 Equipment, Software, Library/Printing Equipment",{"$f":"Worktags!AS860","v":"6900"},{"$f":"IF(Worktags!AQ860<>Worktags!AS860,Worktags!AQ860,\"\")","v":"SC6928"},{"$f":"IFERROR(VLOOKUP(B350,Worktags!AL:AO,2,FALSE),\"\")","v":"Equipment, Software, Library"},{"$f":"IFERROR(VLOOKUP(C350,Worktags!O:T,2,FALSE),\"\")","v":"Printing Equipment"}]
["6900_SC6929 Equipment, Software, Library/Scientific and Engineering Equipment",{"$f":"Worktags!AS867","v":"6900"},{"$f":"IF(Worktags!AQ867<>Worktags!AS867,Worktags!AQ867,\"\")","v":"SC6929"},{"$f":"IFERROR(VLOOKUP(B351,Worktags!AL:AO,2,FALSE),\"\")","v":"Equipment, Software, Library"},{"$f":"IFERROR(VLOOKUP(C351,Worktags!O:T,2,FALSE),\"\")","v":"Scientific and Engineering Equipment"}]
["6900_SC6930 Equipment, Software, Library/Scientific Equipment - Maintenance",{"$f":"Worktags!AS870","v":"6900"},{"$f":"IF(Worktags!AQ870<>Worktags!AS870,Worktags!AQ870,\"\")","v":"SC6930"},{"$f":"IFERROR(VLOOKUP(B352,Worktags!AL:AO,2,FALSE),\"\")","v":"Equipment, Software, Library"},{"$f":"IFERROR(VLOOKUP(C352,Worktags!O:T,2,FALSE),\"\")","v":"Scientific Equipment - Maintenance"}]
["6900_SC6931 Equipment, Software, Library/Security Equipment (Asset Track)",{"$f":"Worktags!AS876","v":"6900"},{"$f":"IF(Worktags!AQ876<>Worktags!AS876,Worktags!AQ876,\"\")","v":"SC6931"},{"$f":"IFERROR(VLOOKUP(B353,Worktags!AL:AO,2,FALSE),\"\")","v":"Equipment, Software, Library"},{"$f":"IFERROR(VLOOKUP(C353,Worktags!O:T,2,FALSE),\"\")","v":"Security Equipment (Asset Track)"}]
["6900_SC6932 Equipment, Software, Library/Small Appliances",{"$f":"Worktags!AS883","v":"6900"},{"$f":"IF(Worktags!AQ883<>Worktags!AS883,Worktags!AQ883,\"\")","v":"SC6932"},{"$f":"IFERROR(VLOOKUP(B354,Worktags!AL:AO,2,FALSE),\"\")","v":"Equipment, Software, Library"},{"$f":"IFERROR(VLOOKUP(C354,Worktags!O:T,2,FALSE),\"\")","v":"Small Appliances"}]
["6900_SC6933 Equipment, Software, Library/Software",{"$f":"Worktags!AS888","v":"6900"},{"$f":"IF(Worktags!AQ888<>Worktags!AS888,Worktags!AQ888,\"\")","v":"SC6933"},{"$f":"IFERROR(VLOOKUP(B355,Worktags!AL:AO,2,FALSE),\"\")","v":"Equipment, Software, Library"},{"$f":"IFERROR(VLOOKUP(C355,Worktags!O:T,2,FALSE),\"\")","v":"Software"}]
["6900_SC6934 Equipment, Software, Library/Software and Media - Licenses",{"$f":"Worktags!AS891","v":"6900"},{"$f":"IF(Worktags!AQ891<>Worktags!AS891,Worktags!AQ891,\"\")","v":"SC6934"},{"$f":"IFERROR(VLOOKUP(B356,Worktags!AL:AO,2,FALSE),\"\")","v":"Equipment, Software, Library"},{"$f":"IFERROR(VLOOKUP(C356,Worktags!O:T,2,FALSE),\"\")","v":"Software and Media - Licenses"}]
["6900_SC6935 Equipment, Software, Library/Telecom Equipment",{"$f":"Worktags!AS897","v":"6900"},{"$f":"IF(Worktags!AQ897<>Worktags!AS897,Worktags!AQ897,\"\")","v":"SC6935"},{"$f":"IFERROR(VLOOKUP(B357,Worktags!AL:AO,2,FALSE),\"\")","v":"Equipment, Software, Library"},{"$f":"IFERROR(VLOOKUP(C357,Worktags!O:T,2,FALSE),\"\")","v":"Telecom Equipment"}]
["6900_SC6936 Equipment, Software, Library/Vehicles Services",{"$f":"Worktags!AS900","v":"6900"},{"$f":"IF(Worktags!AQ900<>Worktags!AS900,Worktags!AQ900,\"\")","v":"SC6936"},{"$f":"IFERROR(VLOOKUP(B358,Worktags!AL:AO,2,FALSE),\"\")","v":"Equipment, Software, Library"},{"$f":"IFERROR(VLOOKUP(C358,Worktags!O:T,2,FALSE),\"\")","v":"Vehicles Services"}]
["6900_SC6937 Equipment, Software, Library/Vehicles, Motor",{"$f":"Worktags!AS904","v":"6900"},{"$f":"IF(Worktags!AQ904<>Worktags!AS904,Worktags!AQ904,\"\")","v":"SC6937"},{"$f":"IFERROR(VLOOKUP(B359,Worktags!AL:AO,2,FALSE),\"\")","v":"Equipment, Software, Library"},{"$f":"IFERROR(VLOOKUP(C359,Worktags!O:T,2,FALSE),\"\")","v":"Vehicles, Motor"}]
["6900_SC6938 Equipment, Software, Library/Vehicles, Off-Road",{"$f":"Worktags!AS909","v":"6900"},{"$f":"IF(Worktags!AQ909<>Worktags!AS909,Worktags!AQ909,\"\")","v":"SC6938"},{"$f":"IFERROR(VLOOKUP(B360,Worktags!AL:AO,2,FALSE),\"\")","v":"Equipment, Software, Library"},{"$f":"IFERROR(VLOOKUP(C360,Worktags!O:T,2,FALSE),\"\")","v":"Vehicles, Off-Road"}]
["6900_SC6939 Equipment, Software, Library/Warehouse Equipment",{"$f":"Worktags!AS916","v":"6900"},{"$f":"IF(Worktags!AQ916<>Worktags!AS916,Worktags!AQ916,\"\")","v":"SC6939"},{"$f":"IFERROR(VLOOKUP(B361,Worktags!AL:AO,2,FALSE),\"\")","v":"Equipment, Software, Library"},{"$f":"IFERROR(VLOOKUP(C361,Worktags!O:T,2,FALSE),\"\")","v":"Warehouse Equipment"}]
["6900_SC6940 Equipment, Software, Library/Audio Visual Equipment (Only Workday Inventory Module)",{"$f":"Worktags!AS921","v":"6900"},{"$f":"IF(Worktags!AQ921<>Worktags!AS921,Worktags!AQ921,\"\")","v":"SC6940"},{"$f":"IFERROR(VLOOKUP(B362,Worktags!AL:AO,2,FALSE),\"\")","v":"Equipment, Software, Library"},{"$f":"IFERROR(VLOOKUP(C362,Worktags!O:T,2,FALSE),\"\")","v":"Audio Visual Equipment (Only Workday Inventory Module)"}]
["6900_SC6941 Equipment, Software, Library/Communication Devices (Only Workday Inventory Module)",{"$f":"Worktags!AS925","v":"6900"},{"$f":"IF(Worktags!AQ925<>Worktags!AS925,Worktags!AQ925,\"\")","v":"SC6941"},{"$f":"IFERROR(VLOOKUP(B363,Worktags!AL:AO,2,FALSE),\"\")","v":"Equipment, Software, Library"},{"$f":"IFERROR(VLOOKUP(C363,Worktags!O:T,2,FALSE),\"\")","v":"Communication Devices (Only Workday Inventory Module)"}]
["6900_SC6942 Equipment, Software, Library/Computer Hardware (Only Workday Inventory Module)",{"$f":"Worktags!AS929","v":"6900"},{"$f":"IF(Worktags!AQ929<>Worktags!AS929,Worktags!AQ929,\"\")","v":"SC6942"},{"$f":"IFERROR(VLOOKUP(B364,Worktags!AL:AO,2,FALSE),\"\")","v":"Equipment, Software, Library"},{"$f":"IFERROR(VLOOKUP(C364,Worktags!O:T,2,FALSE),\"\")","v":"Computer Hardware (Only Workday Inventory Module)"}]
["6900_SC6943 Equipment, Software, Library/Data Network Equipment (Only Workday Inventory Module)",{"$f":"Worktags!AS933","v":"6900"},{"$f":"IF(Worktags!AQ933<>Worktags!AS933,Worktags!AQ933,\"\")","v":"SC6943"},{"$f":"IFERROR(VLOOKUP(B365,Worktags!AL:AO,2,FALSE),\"\")","v":"Equipment, Software, Library"},{"$f":"IFERROR(VLOOKUP(C365,Worktags!O:T,2,FALSE),\"\")","v":"Data Network Equipment (Only Workday Inventory Module)"}]
["6900_SC6944 Equipment, Software, Library/Equipment (not otherwise specified) (Only Workday Inventory Module)",{"$f":"Worktags!AS937","v":"6900"},{"$f":"IF(Worktags!AQ937<>Worktags!AS937,Worktags!AQ937,\"\")","v":"SC6944"},{"$f":"IFERROR(VLOOKUP(B366,Worktags!AL:AO,2,FALSE),\"\")","v":"Equipment, Software, Library"},{"$f":"IFERROR(VLOOKUP(C366,Worktags!O:T,2,FALSE),\"\")","v":"Equipment (not otherwise specified) (Only Workday Inventory Module)"}]
["6900_SC6945 Equipment, Software, Library/Office Equipment (Only Workday Inventory Module)",{"$f":"Worktags!AS941","v":"6900"},{"$f":"IF(Worktags!AQ941<>Worktags!AS941,Worktags!AQ941,\"\")","v":"SC6945"},{"$f":"IFERROR(VLOOKUP(B367,Worktags!AL:AO,2,FALSE),\"\")","v":"Equipment, Software, Library"},{"$f":"IFERROR(VLOOKUP(C367,Worktags!O:T,2,FALSE),\"\")","v":"Office Equipment (Only Workday Inventory Module)"}]
["6900_SC6946 Equipment, Software, Library/Security Equipment (Only Workday Inventory Module)",{"$f":"Worktags!AS945","v":"6900"},{"$f":"IF(Worktags!AQ945<>Worktags!AS945,Worktags!AQ945,\"\")","v":"SC6946"},{"$f":"IFERROR(VLOOKUP(B368,Worktags!AL:AO,2,FALSE),\"\")","v":"Equipment, Software, Library"},{"$f":"IFERROR(VLOOKUP(C368,Worktags!O:T,2,FALSE),\"\")","v":"Security Equipment (Only Workday Inventory Module)"}]
["6900_SC6999 Equipment, Software, Library/Equipment (reclass)",{"$f":"Worktags!AS949","v":"6900"},{"$f":"IF(Worktags!AQ949<>Worktags!AS949,Worktags!AQ949,\"\")","v":"SC6999"},{"$f":"IFERROR(VLOOKUP(B369,Worktags!AL:AO,2,FALSE),\"\")","v":"Equipment, Software, Library"},{"$f":"IFERROR(VLOOKUP(C369,Worktags!O:T,2,FALSE),\"\")","v":"Equipment (reclass)"}]
["7000 Travel",{"$f":"Worktags!AL131","v":"7000"},null,{"$f":"IFERROR(VLOOKUP(B370,Worktags!AL:AO,2,FALSE),\"\")","v":"Travel"}]
["7000_SC7001 Travel/Travel",{"$f":"Worktags!AS951","v":"7000"},{"$f":"IF(Worktags!AQ951<>Worktags!AS951,Worktags!AQ951,\"\")","v":"SC7001"},{"$f":"IFERROR(VLOOKUP(B371,Worktags!AL:AO,2,FALSE),\"\")","v":"Travel"},{"$f":"IFERROR(VLOOKUP(C371,Worktags!O:T,2,FALSE),\"\")","v":"Travel"}]
["7000_SC7002 Travel/Airfare Domestic",{"$f":"Worktags!AS953","v":"7000"},{"$f":"IF(Worktags!AQ953<>Worktags!AS953,Worktags!AQ953,\"\")","v":"SC7002"},{"$f":"IFERROR(VLOOKUP(B372,Worktags!AL:AO,2,FALSE),\"\")","v":"Travel"},{"$f":"IFERROR(VLOOKUP(C372,Worktags!O:T,2,FALSE),\"\")","v":"Airfare Domestic"}]
["7000_SC7003 Travel/Airfare Foreign",{"$f":"Worktags!AS955","v":"7000"},{"$f":"IF(Worktags!AQ955<>Worktags!AS955,Worktags!AQ955,\"\")","v":"SC7003"},{"$f":"IFERROR(VLOOKUP(B373,Worktags!AL:AO,2,FALSE),\"\")","v":"Travel"},{"$f":"IFERROR(VLOOKUP(C373,Worktags!O:T,2,FALSE),\"\")","v":"Airfare Foreign"}]
["7000_SC7004 Travel/Transportation Services",{"$f":"Worktags!AS957","v":"7000"},{"$f":"IF(Worktags!AQ957<>Worktags!AS957,Worktags!AQ957,\"\")","v":"SC7004"},{"$f":"IFERROR(VLOOKUP(B374,Worktags!AL:AO,2,FALSE),\"\")","v":"Travel"},{"$f":"IFERROR(VLOOKUP(C374,Worktags!O:T,2,FALSE),\"\")","v":"Transportation Services"}]
["7000_SC7005 Travel/Travel - Lodging",{"$f":"Worktags!AS959","v":"7000"},{"$f":"IF(Worktags!AQ959<>Worktags!AS959,Worktags!AQ959,\"\")","v":"SC7005"},{"$f":"IFERROR(VLOOKUP(B375,Worktags!AL:AO,2,FALSE),\"\")","v":"Travel"},{"$f":"IFERROR(VLOOKUP(C375,Worktags!O:T,2,FALSE),\"\")","v":"Travel - Lodging"}]
["7000_SC7006 Travel/Travel - Tour Guide Services",{"$f":"Worktags!AS961","v":"7000"},{"$f":"IF(Worktags!AQ961<>Worktags!AS961,Worktags!AQ961,\"\")","v":"SC7006"},{"$f":"IFERROR(VLOOKUP(B376,Worktags!AL:AO,2,FALSE),\"\")","v":"Travel"},{"$f":"IFERROR(VLOOKUP(C376,Worktags!O:T,2,FALSE),\"\")","v":"Travel - Tour Guide Services"}]
["7000_SC7099 Travel/Travel (reclass)",{"$f":"Worktags!AS963","v":"7000"},{"$f":"IF(Worktags!AQ963<>Worktags!AS963,Worktags!AQ963,\"\")","v":"SC7099"},{"$f":"IFERROR(VLOOKUP(B377,Worktags!AL:AO,2,FALSE),\"\")","v":"Travel"},{"$f":"IFERROR(VLOOKUP(C377,Worktags!O:T,2,FALSE),\"\")","v":"Travel (reclass)"}]
["8000 Depreciation",{"$f":"Worktags!AL132","v":"8000"},null,{"$f":"IFERROR(VLOOKUP(B378,Worktags!AL:AO,2,FALSE),\"\")","v":"Depreciation"}]
["8000_SC1605 Depreciation/Buildings",{"$f":"Worktags!AS225","v":"8000"},{"$f":"IF(Worktags!AQ225<>Worktags!AS225,Worktags!AQ225,\"\")","v":"SC1605"},{"$f":"IFERROR(VLOOKUP(B379,Worktags!AL:AO,2,FALSE),\"\")","v":"Depreciation"},{"$f":"IFERROR(VLOOKUP(C379,Worktags!O:T,2,FALSE),\"\")","v":"Buildings"}]
["8000_SC1635 Depreciation/Misc Capital Assets",{"$f":"Worktags!AS229","v":"8000"},{"$f":"IF(Worktags!AQ229<>Worktags!AS229,Worktags!AQ229,\"\")","v":"SC1635"},{"$f":"IFERROR(VLOOKUP(B380,Worktags!AL:AO,2,FALSE),\"\")","v":"Depreciation"},{"$f":"IFERROR(VLOOKUP(C380,Worktags!O:T,2,FALSE),\"\")","v":"Misc Capital Assets"}]
["8000_SC6701 Depreciation/Building Access Supplies",{"$f":"Worktags!AS552","v":"8000"},{"$f":"IF(Worktags!AQ552<>Worktags!AS552,Worktags!AQ552,\"\")","v":"SC6701"},{"$f":"IFERROR(VLOOKUP(B381,Worktags!AL:AO,2,FALSE),\"\")","v":"Depreciation"},{"$f":"IFERROR(VLOOKUP(C381,Worktags!O:T,2,FALSE),\"\")","v":"Building Access Supplies"}]
["8000_SC6702 Depreciation/Building Construction and Improvements",{"$f":"Worktags!AS559","v":"8000"},{"$f":"IF(Worktags!AQ559<>Worktags!AS559,Worktags!AQ559,\"\")","v":"SC6702"},{"$f":"IFERROR(VLOOKUP(B382,Worktags!AL:AO,2,FALSE),\"\")","v":"Depreciation"},{"$f":"IFERROR(VLOOKUP(C382,Worktags!O:T,2,FALSE),\"\")","v":"Building Construction and Improvements"}]
["8000_SC6703 Depreciation/Building Furnishings",{"$f":"Worktags!AS566","v":"8000"},{"$f":"IF(Worktags!AQ566<>Worktags!AS566,Worktags!AQ566,\"\")","v":"SC6703"},{"$f":"IFERROR(VLOOKUP(B383,Worktags!AL:AO,2,FALSE),\"\")","v":"Depreciation"},{"$f":"IFERROR(VLOOKUP(C383,Worktags!O:T,2,FALSE),\"\")","v":"Building Furnishings"}]
["8000_SC6704 Depreciation/Building Materials - Finishing",{"$f":"Worktags!AS573","v":"8000"},{"$f":"IF(Worktags!AQ573<>Worktags!AS573,Worktags!AQ573,\"\")","v":"SC6704"},{"$f":"IFERROR(VLOOKUP(B384,Worktags!AL:AO,2,FALSE),\"\")","v":"Depreciation"},{"$f":"IFERROR(VLOOKUP(C384,Worktags!O:T,2,FALSE),\"\")","v":"Building Materials - Finishing"}]
[{"$f":"IF(B385<>\"\",IF(C385<>\"\",B385&\"_\"&C385&\" \"&D385&\"/\"&E385,B385&\" \"&D385),\"\")","v":"8000_SC6705 Depreciation/Building Materials - Raw"},{"$f":"Worktags!AS580","v":"8000"},{"$f":"IF(Worktags!AQ580<>Worktags!AS580,Worktags!AQ580,\"\")","v":"SC6705"},{"$f":"IFERROR(VLOOKUP(B385,Worktags!AL:AO,2,FALSE),\"\")","v":"Depreciation"},{"$f":"IFERROR(VLOOKUP(C385,Worktags!O:T,2,FALSE),\"\")","v":"Building Materials - Raw"}]
["8000_SC6706 Depreciation/Electrical Devices",{"$f":"Worktags!AS587","v":"8000"},{"$f":"IF(Worktags!AQ587<>Worktags!AS587,Worktags!AQ587,\"\")","v":"SC6706"},{"$f":"IFERROR(VLOOKUP(B386,Worktags!AL:AO,2,FALSE),\"\")","v":"Depreciation"},{"$f":"IFERROR(VLOOKUP(C386,Worktags!O:T,2,FALSE),\"\")","v":"Electrical Devices"}]
["8000_SC6708 Depreciation/Fans/Furnaces",{"$f":"Worktags!AS599","v":"8000"},{"$f":"IF(Worktags!AQ599<>Worktags!AS599,Worktags!AQ599,\"\")","v":"SC6708"},{"$f":"IFERROR(VLOOKUP(B387,Worktags!AL:AO,2,FALSE),\"\")","v":"Depreciation"},{"$f":"IFERROR(VLOOKUP(C387,Worktags!O:T,2,FALSE),\"\")","v":"Fans/Furnaces"}]
["8000_SC6709 Depreciation/Flooring Materials",{"$f":"Worktags!AS606","v":"8000"},{"$f":"IF(Worktags!AQ606<>Worktags!AS606,Worktags!AQ606,\"\")","v":"SC6709"},{"$f":"IFERROR(VLOOKUP(B388,Worktags!AL:AO,2,FALSE),\"\")","v":"Depreciation"},{"$f":"IFERROR(VLOOKUP(C388,Worktags!O:T,2,FALSE),\"\")","v":"Flooring Materials"}]
["8000_SC6710 Depreciation/Furnishing Accessories",{"$f":"Worktags!AS613","v":"8000"},{"$f":"IF(Worktags!AQ613<>Worktags!AS613,Worktags!AQ613,\"\")","v":"SC6710"},{"$f":"IFERROR(VLOOKUP(B389,Worktags!AL:AO,2,FALSE),\"\")","v":"Depreciation"},{"$f":"IFERROR(VLOOKUP(C389,Worktags!O:T,2,FALSE),\"\")","v":"Furnishing Accessories"}]
["8000_SC6711 Depreciation/Grounds and Landscaping Supplies",{"$f":"Worktags!AS620","v":"8000"},{"$f":"IF(Worktags!AQ620<>Worktags!AS620,Worktags!AQ620,\"\")","v":"SC6711"},{"$f":"IFERROR(VLOOKUP(B390,Worktags!AL:AO,2,FALSE),\"\")","v":"Depreciation"},{"$f":"IFERROR(VLOOKUP(C390,Worktags!O:T,2,FALSE),\"\")","v":"Grounds and Landscaping Supplies"}]
["8000_SC6713 Depreciation/Industrial Fixtures",{"$f":"Worktags!AS629","v":"8000"},{"$f":"IF(Worktags!AQ629<>Worktags!AS629,Worktags!AQ629,\"\")","v":"SC6713"},{"$f":"IFERROR(VLOOKUP(B391,Worktags!AL:AO,2,FALSE),\"\")","v":"Depreciation"},{"$f":"IFERROR(VLOOKUP(C391,Worktags!O:T,2,FALSE),\"\")","v":"Industrial Fixtures"}]
["8000_SC6714 Depreciation/Lighting Fixtures and Lamps",{"$f":"Worktags!AS636","v":"8000"},{"$f":"IF(Worktags!AQ636<>Worktags!AS636,Worktags!AQ636,\"\")","v":"SC6714"},{"$f":"IFERROR(VLOOKUP(B392,Worktags!AL:AO,2,FALSE),\"\")","v":"Depreciation"},{"$f":"IFERROR(VLOOKUP(C392,Worktags!O:T,2,FALSE),\"\")","v":"Lighting Fixtures and Lamps"}]
["8000_SC6715 Depreciation/Plumbing Fixtures",{"$f":"Worktags!AS643","v":"8000"},{"$f":"IF(Worktags!AQ643<>Worktags!AS643,Worktags!AQ643,\"\")","v":"SC6715"},{"$f":"IFERROR(VLOOKUP(B393,Worktags!AL:AO,2,FALSE),\"\")","v":"Depreciation"},{"$f":"IFERROR(VLOOKUP(C393,Worktags!O:T,2,FALSE),\"\")","v":"Plumbing Fixtures"}]
["8000_SC6718 Depreciation/Signage, Electronic",{"$f":"Worktags!AS656","v":"8000"},{"$f":"IF(Worktags!AQ656<>Worktags!AS656,Worktags!AQ656,\"\")","v":"SC6718"},{"$f":"IFERROR(VLOOKUP(B394,Worktags!AL:AO,2,FALSE),\"\")","v":"Depreciation"},{"$f":"IFERROR(VLOOKUP(C394,Worktags!O:T,2,FALSE),\"\")","v":"Signage, Electronic"}]
["8000_SC6719 Depreciation/Signage, Non-electronic",{"$f":"Worktags!AS663","v":"8000"},{"$f":"IF(Worktags!AQ663<>Worktags!AS663,Worktags!AQ663,\"\")","v":"SC6719"},{"$f":"IFERROR(VLOOKUP(B395,Worktags!AL:AO,2,FALSE),\"\")","v":"Depreciation"},{"$f":"IFERROR(VLOOKUP(C395,Worktags!O:T,2,FALSE),\"\")","v":"Signage, Non-electronic"}]
["8000_SC6721 Depreciation/Stage and Studio Lighting (Asset Track)",{"$f":"Worktags!AS674","v":"8000"},{"$f":"IF(Worktags!AQ674<>Worktags!AS674,Worktags!AQ674,\"\")","v":"SC6721"},{"$f":"IFERROR(VLOOKUP(B396,Worktags!AL:AO,2,FALSE),\"\")","v":"Depreciation"},{"$f":"IFERROR(VLOOKUP(C396,Worktags!O:T,2,FALSE),\"\")","v":"Stage and Studio Lighting (Asset Track)"}]
["8000_SC6729 Depreciation/Warehouse Fixtures",{"$f":"Worktags!AS695","v":"8000"},{"$f":"IF(Worktags!AQ695<>Worktags!AS695,Worktags!AQ695,\"\")","v":"SC6729"},{"$f":"IFERROR(VLOOKUP(B397,Worktags!AL:AO,2,FALSE),\"\")","v":"Depreciation"},{"$f":"IFERROR(VLOOKUP(C397,Worktags!O:T,2,FALSE),\"\")","v":"Warehouse Fixtures"}]
["8000_SC6730 Depreciation/Window Treatments",{"$f":"Worktags!AS702","v":"8000"},{"$f":"IF(Worktags!AQ702<>Worktags!AS702,Worktags!AQ702,\"\")","v":"SC6730"},{"$f":"IFERROR(VLOOKUP(B398,Worktags!AL:AO,2,FALSE),\"\")","v":"Depreciation"},{"$f":"IFERROR(VLOOKUP(C398,Worktags!O:T,2,FALSE),\"\")","v":"Window Treatments"}]
["8000_SC6901 Depreciation/Art Equipment",{"$f":"Worktags!AS716","v":"8000"},{"$f":"IF(Worktags!AQ716<>Worktags!AS716,Worktags!AQ716,\"\")","v":"SC6901"},{"$f":"IFERROR(VLOOKUP(B399,Worktags!AL:AO,2,FALSE),\"\")","v":"Depreciation"},{"$f":"IFERROR(VLOOKUP(C399,Worktags!O:T,2,FALSE),\"\")","v":"Art Equipment"}]
["8000_SC6902 Depreciation/Athletic Equipment",{"$f":"Worktags!AS723","v":"8000"},{"$f":"IF(Worktags!AQ723<>Worktags!AS723,Worktags!AQ723,\"\")","v":"SC6902"},{"$f":"IFERROR(VLOOKUP(B400,Worktags!AL:AO,2,FALSE),\"\")","v":"Depreciation"},{"$f":"IFERROR(VLOOKUP(C400,Worktags!O:T,2,FALSE),\"\")","v":"Athletic Equipment"}]
["8000_SC6903 Depreciation/Audio Visual Equipment (Asset Track)",{"$f":"Worktags!AS730","v":"8000"},{"$f":"IF(Worktags!AQ730<>Worktags!AS730,Worktags!AQ730,\"\")","v":"SC6903"},{"$f":"IFERROR(VLOOKUP(B401,Worktags!AL:AO,2,FALSE),\"\")","v":"Depreciation"},{"$f":"IFERROR(VLOOKUP(C401,Worktags!O:T,2,FALSE),\"\")","v":"Audio Visual Equipment (Asset Track)"}]
["8000_SC6904 Depreciation/Communication Devices (Asset Track)",{"$f":"Worktags!AS737","v":"8000"},{"$f":"IF(Worktags!AQ737<>Worktags!AS737,Worktags!AQ737,\"\")","v":"SC6904"},{"$f":"IFERROR(VLOOKUP(B402,Worktags!AL:AO,2,FALSE),\"\")","v":"Depreciation"},{"$f":"IFERROR(VLOOKUP(C402,Worktags!O:T,2,FALSE),\"\")","v":"Communication Devices (Asset Track)"}]
["8000_SC6905 Depreciation/Computer Hardware (Asset Track)",{"$f":"Worktags!AS744","v":"8000"},{"$f":"IF(Worktags!AQ744<>Worktags!AS744,Worktags!AQ744,\"\")","v":"SC6905"},{"$f":"IFERROR(VLOOKUP(B403,Worktags!AL:AO,2,FALSE),\"\")","v":"Depreciation"},{"$f":"IFERROR(VLOOKUP(C403,Worktags!O:T,2,FALSE),\"\")","v":"Computer Hardware (Asset Track)"}]
["8000_SC6906 Depreciation/Data Network Equipment (Asset Track)",{"$f":"Worktags!AS751","v":"8000"},{"$f":"IF(Worktags!AQ751<>Worktags!AS751,Worktags!AQ751,\"\")","v":"SC6906"},{"$f":"IFERROR(VLOOKUP(B404,Worktags!AL:AO,2,FALSE),\"\")","v":"Depreciation"},{"$f":"IFERROR(VLOOKUP(C404,Worktags!O:T,2,FALSE),\"\")","v":"Data Network Equipment (Asset Track)"}]
["8000_SC6907 Depreciation/Equipment (not otherwise specified) (Asset Track)",{"$f":"Worktags!AS758","v":"8000"},{"$f":"IF(Worktags!AQ758<>Worktags!AS758,Worktags!AQ758,\"\")","v":"SC6907"},{"$f":"IFERROR(VLOOKUP(B405,Worktags!AL:AO,2,FALSE),\"\")","v":"Depreciation"},{"$f":"IFERROR(VLOOKUP(C405,Worktags!O:T,2,FALSE),\"\")","v":"Equipment (not otherwise specified) (Asset Track)"}]
["8000_SC6909 Depreciation/Firearms",{"$f":"Worktags!AS765","v":"8000"},{"$f":"IF(Worktags!AQ765<>Worktags!AS765,Worktags!AQ765,\"\")","v":"SC6909"},{"$f":"IFERROR(VLOOKUP(B406,Worktags!AL:AO,2,FALSE),\"\")","v":"Depreciation"},{"$f":"IFERROR(VLOOKUP(C406,Worktags!O:T,2,FALSE),\"\")","v":"Firearms"}]
["8000_SC6910 Depreciation/Food Service Equipment",{"$f":"Worktags!AS772","v":"8000"},{"$f":"IF(Worktags!AQ772<>Worktags!AS772,Worktags!AQ772,\"\")","v":"SC6910"},{"$f":"IFERROR(VLOOKUP(B407,Worktags!AL:AO,2,FALSE),\"\")","v":"Depreciation"},{"$f":"IFERROR(VLOOKUP(C407,Worktags!O:T,2,FALSE),\"\")","v":"Food Service Equipment"}]
["8000_SC6911 Depreciation/Grants Capital Equipment",{"$f":"Worktags!AS777","v":"8000"},{"$f":"IF(Worktags!AQ777<>Worktags!AS777,Worktags!AQ777,\"\")","v":"SC6911"},{"$f":"IFERROR(VLOOKUP(B408,Worktags!AL:AO,2,FALSE),\"\")","v":"Depreciation"},{"$f":"IFERROR(VLOOKUP(C408,Worktags!O:T,2,FALSE),\"\")","v":"Grants Capital Equipment"}]
["8000_SC6913 Depreciation/Grounds Equipment",{"$f":"Worktags!AS784","v":"8000"},{"$f":"IF(Worktags!AQ784<>Worktags!AS784,Worktags!AQ784,\"\")","v":"SC6913"},{"$f":"IFERROR(VLOOKUP(B409,Worktags!AL:AO,2,FALSE),\"\")","v":"Depreciation"},{"$f":"IFERROR(VLOOKUP(C409,Worktags!O:T,2,FALSE),\"\")","v":"Grounds Equipment"}]
["8000_SC6914 Depreciation/Industrial Equipment",{"$f":"Worktags!AS791","v":"8000"},{"$f":"IF(Worktags!AQ791<>Worktags!AS791,Worktags!AQ791,\"\")","v":"SC6914"},{"$f":"IFERROR(VLOOKUP(B410,Worktags!AL:AO,2,FALSE),\"\")","v":"Depreciation"},{"$f":"IFERROR(VLOOKUP(C410,Worktags!O:T,2,FALSE),\"\")","v":"Industrial Equipment"}]
["8000_SC6915 Depreciation/Janitorial Equipment",{"$f":"Worktags!AS798","v":"8000"},{"$f":"IF(Worktags!AQ798<>Worktags!AS798,Worktags!AQ798,\"\")","v":"SC6915"},{"$f":"IFERROR(VLOOKUP(B411,Worktags!AL:AO,2,FALSE),\"\")","v":"Depreciation"},{"$f":"IFERROR(VLOOKUP(C411,Worktags!O:T,2,FALSE),\"\")","v":"Janitorial Equipment"}]
["8000_SC6917 Depreciation/Laundry Equipment",{"$f":"Worktags!AS807","v":"8000"},{"$f":"IF(Worktags!AQ807<>Worktags!AS807,Worktags!AQ807,\"\")","v":"SC6917"},{"$f":"IFERROR(VLOOKUP(B412,Worktags!AL:AO,2,FALSE),\"\")","v":"Depreciation"},{"$f":"IFERROR(VLOOKUP(C412,Worktags!O:T,2,FALSE),\"\")","v":"Laundry Equipment"}]
["8000_SC6918 Depreciation/Library Content",{"$f":"Worktags!AS812","v":"8000"},{"$f":"IF(Worktags!AQ812<>Worktags!AS812,Worktags!AQ812,\"\")","v":"SC6918"},{"$f":"IFERROR(VLOOKUP(B413,Worktags!AL:AO,2,FALSE),\"\")","v":"Depreciation"},{"$f":"IFERROR(VLOOKUP(C413,Worktags!O:T,2,FALSE),\"\")","v":"Library Content"}]
["8000_SC6920 Depreciation/Media Content",{"$f":"Worktags!AS819","v":"8000"},{"$f":"IF(Worktags!AQ819<>Worktags!AS819,Worktags!AQ819,\"\")","v":"SC6920"},{"$f":"IFERROR(VLOOKUP(B414,Worktags!AL:AO,2,FALSE),\"\")","v":"Depreciation"},{"$f":"IFERROR(VLOOKUP(C414,Worktags!O:T,2,FALSE),\"\")","v":"Media Content"}]
["8000_SC6921 Depreciation/Medical Equipment",{"$f":"Worktags!AS826","v":"8000"},{"$f":"IF(Worktags!AQ826<>Worktags!AS826,Worktags!AQ826,\"\")","v":"SC6921"},{"$f":"IFERROR(VLOOKUP(B415,Worktags!AL:AO,2,FALSE),\"\")","v":"Depreciation"},{"$f":"IFERROR(VLOOKUP(C415,Worktags!O:T,2,FALSE),\"\")","v":"Medical Equipment"}]
["8000_SC6923 Depreciation/Musical Instruments",{"$f":"Worktags!AS833","v":"8000"},{"$f":"IF(Worktags!AQ833<>Worktags!AS833,Worktags!AQ833,\"\")","v":"SC6923"},{"$f":"IFERROR(VLOOKUP(B416,Worktags!AL:AO,2,FALSE),\"\")","v":"Depreciation"},{"$f":"IFERROR(VLOOKUP(C416,Worktags!O:T,2,FALSE),\"\")","v":"Musical Instruments"}]
["8000_SC6924 Depreciation/Office Equipment (Asset Track)",{"$f":"Worktags!AS840","v":"8000"},{"$f":"IF(Worktags!AQ840<>Worktags!AS840,Worktags!AQ840,\"\")","v":"SC6924"},{"$f":"IFERROR(VLOOKUP(B417,Worktags!AL:AO,2,FALSE),\"\")","v":"Depreciation"},{"$f":"IFERROR(VLOOKUP(C417,Worktags!O:T,2,FALSE),\"\")","v":"Office Equipment (Asset Track)"}]
["8000_SC6926 Depreciation/Photography Equipment",{"$f":"Worktags!AS847","v":"8000"},{"$f":"IF(Worktags!AQ847<>Worktags!AS847,Worktags!AQ847,\"\")","v":"SC6926"},{"$f":"IFERROR(VLOOKUP(B418,Worktags!AL:AO,2,FALSE),\"\")","v":"Depreciation"},{"$f":"IFERROR(VLOOKUP(C418,Worktags!O:T,2,FALSE),\"\")","v":"Photography Equipment"}]
["8000_SC6927 Depreciation/Portable Structures",{"$f":"Worktags!AS854","v":"8000"},{"$f":"IF(Worktags!AQ854<>Worktags!AS854,Worktags!AQ854,\"\")","v":"SC6927"},{"$f":"IFERROR(VLOOKUP(B419,Worktags!AL:AO,2,FALSE),\"\")","v":"Depreciation"},{"$f":"IFERROR(VLOOKUP(C419,Worktags!O:T,2,FALSE),\"\")","v":"Portable Structures"}]
["8000_SC6928 Depreciation/Printing Equipment",{"$f":"Worktags!AS861","v":"8000"},{"$f":"IF(Worktags!AQ861<>Worktags!AS861,Worktags!AQ861,\"\")","v":"SC6928"},{"$f":"IFERROR(VLOOKUP(B420,Worktags!AL:AO,2,FALSE),\"\")","v":"Depreciation"},{"$f":"IFERROR(VLOOKUP(C420,Worktags!O:T,2,FALSE),\"\")","v":"Printing Equipment"}]
["8000_SC6929 Depreciation/Scientific and Engineering Equipment",{"$f":"Worktags!AS868","v":"8000"},{"$f":"IF(Worktags!AQ868<>Worktags!AS868,Worktags!AQ868,\"\")","v":"SC6929"},{"$f":"IFERROR(VLOOKUP(B421,Worktags!AL:AO,2,FALSE),\"\")","v":"Depreciation"},{"$f":"IFERROR(VLOOKUP(C421,Worktags!O:T,2,FALSE),\"\")","v":"Scientific and Engineering Equipment"}]
["8000_SC6931 Depreciation/Security Equipment (Asset Track)",{"$f":"Worktags!AS877","v":"8000"},{"$f":"IF(Worktags!AQ877<>Worktags!AS877,Worktags!AQ877,\"\")","v":"SC6931"},{"$f":"IFERROR(VLOOKUP(B422,Worktags!AL:AO,2,FALSE),\"\")","v":"Depreciation"},{"$f":"IFERROR(VLOOKUP(C422,Worktags!O:T,2,FALSE),\"\")","v":"Security Equipment (Asset Track)"}]
["8000_SC6932 Depreciation/Small Appliances",{"$f":"Worktags!AS884","v":"8000"},{"$f":"IF(Worktags!AQ884<>Worktags!AS884,Worktags!AQ884,\"\")","v":"SC6932"},{"$f":"IFERROR(VLOOKUP(B423,Worktags!AL:AO,2,FALSE),\"\")","v":"Depreciation"},{"$f":"IFERROR(VLOOKUP(C423,Worktags!O:T,2,FALSE),\"\")","v":"Small Appliances"}]
["8000_SC6933 Depreciation/Software",{"$f":"Worktags!AS889","v":"8000"},{"$f":"IF(Worktags!AQ889<>Worktags!AS889,Worktags!AQ889,\"\")","v":"SC6933"},{"$f":"IFERROR(VLOOKUP(B424,Worktags!AL:AO,2,FALSE),\"\")","v":"Depreciation"},{"$f":"IFERROR(VLOOKUP(C424,Worktags!O:T,2,FALSE),\"\")","v":"Software"}]
["8000_SC6935 Depreciation/Telecom Equipment",{"$f":"Worktags!AS898","v":"8000"},{"$f":"IF(Worktags!AQ898<>Worktags!AS898,Worktags!AQ898,\"\")","v":"SC6935"},{"$f":"IFERROR(VLOOKUP(B425,Worktags!AL:AO,2,FALSE),\"\")","v":"Depreciation"},{"$f":"IFERROR(VLOOKUP(C425,Worktags!O:T,2,FALSE),\"\")","v":"Telecom Equipment"}]
["8000_SC6937 Depreciation/Vehicles, Motor",{"$f":"Worktags!AS905","v":"8000"},{"$f":"IF(Worktags!AQ905<>Worktags!AS905,Worktags!AQ905,\"\")","v":"SC6937"},{"$f":"IFERROR(VLOOKUP(B426,Worktags!AL:AO,2,FALSE),\"\")","v":"Depreciation"},{"$f":"IFERROR(VLOOKUP(C426,Worktags!O:T,2,FALSE),\"\")","v":"Vehicles, Motor"}]
["8000_SC6938 Depreciation/Vehicles, Off-Road",{"$f":"Worktags!AS910","v":"8000"},{"$f":"IF(Worktags!AQ910<>Worktags!AS910,Worktags!AQ910,\"\")","v":"SC6938"},{"$f":"IFERROR(VLOOKUP(B427,Worktags!AL:AO,2,FALSE),\"\")","v":"Depreciation"},{"$f":"IFERROR(VLOOKUP(C427,Worktags!O:T,2,FALSE),\"\")","v":"Vehicles, Off-Road"}]
["8000_SC6939 Depreciation/Warehouse Equipment",{"$f":"Worktags!AS917","v":"8000"},{"$f":"IF(Worktags!AQ917<>Worktags!AS917,Worktags!AQ917,\"\")","v":"SC6939"},{"$f":"IFERROR(VLOOKUP(B428,Worktags!AL:AO,2,FALSE),\"\")","v":"Depreciation"},{"$f":"IFERROR(VLOOKUP(C428,Worktags!O:T,2,FALSE),\"\")","v":"Warehouse Equipment"}]
["9199 AM Offset Default",{"$f":"Worktags!AL133","v":"9199"},null,{"$f":"IFERROR(VLOOKUP(B429,Worktags!AL:AO,2,FALSE),\"\")","v":"AM Offset Default"}]
["9250 Funds Transfer",{"$f":"Worktags!AL134","v":"9250"},null,{"$f":"IFERROR(VLOOKUP(B430,Worktags!AL:AO,2,FALSE),\"\")","v":"Funds Transfer"}]
["9250 Funds Transfer",{"$f":"Worktags!AS73","v":"9250"},{"$f":"IF(Worktags!AQ73<>Worktags!AS73,Worktags!AQ73,\"\")","v":""},{"$f":"IFERROR(VLOOKUP(B431,Worktags!AL:AO,2,FALSE),\"\")","v":"Funds Transfer"},{"$f":"IFERROR(VLOOKUP(C431,Worktags!O:T,2,FALSE),\"\")","v":""}]
["9780 Inter-Company Donation Expense",{"$f":"Worktags!AS74","v":"9780"},{"$f":"IF(Worktags!AQ74<>Worktags!AS74,Worktags!AQ74,\"\")","v":""},{"$f":"IFERROR(VLOOKUP(B432,Worktags!AL:AO,2,FALSE),\"\")","v":"Inter-Company Donation Expense"},{"$f":"IFERROR(VLOOKUP(C432,Worktags!O:T,2,FALSE),\"\")","v":""}]
["9981 Next Year Estimated Payout",{"$f":"Worktags!AS75","v":"9981"},{"$f":"IF(Worktags!AQ75<>Worktags!AS75,Worktags!AQ75,\"\")","v":""},{"$f":"IFERROR(VLOOKUP(B433,Worktags!AL:AO,2,FALSE),\"\")","v":"Next Year Estimated Payout"},{"$f":"IFERROR(VLOOKUP(C433,Worktags!O:T,2,FALSE),\"\")","v":""}]
["9990 SFAS 158 Annual Pension Adj",{"$f":"Worktags!AS76","v":"9990"},{"$f":"IF(Worktags!AQ76<>Worktags!AS76,Worktags!AQ76,\"\")","v":""},{"$f":"IFERROR(VLOOKUP(B434,Worktags!AL:AO,2,FALSE),\"\")","v":"SFAS 158 Annual Pension Adj"},{"$f":"IFERROR(VLOOKUP(C434,Worktags!O:T,2,FALSE),\"\")","v":""}]
[{"$f":"IF(B435<>\"\",IF(C435<>\"\",B435&\"_\"&C435&\" \"&D435&\"/\"&E435,B435&\" \"&D435),\"\")","v":""}]
[""]
[""]
[""]
[""]
[""]
[""]
[""]
[""]
[""]
[""]
[""]
[""]
[""]
[{"$f":"IF(B449<>\"\",IF(C449<>\"\",B449&\"_\"&C449&\" \"&D449&\"/\"&E449,B449&\" \"&D449),\"\")","v":""}]
[""]
[""]
[""]
[""]
[""]
[""]
[""]
[""]
[""]
[""]
[""]
[""]
[""]
[""]
[""]
[""]
[""]
[""]
[""]
[""]
[""]
[""]
[""]
[""]
[""]
[""]
[""]
[""]
[""]
[""]
[""]
[""]
[""]
[""]
[""]
[""]
[""]
[""]
[""]
[""]
[""]
[""]
[""]
[""]
[""]
[""]
[""]
[""]
[""]
[""]
[""]
[""]
[""]
[""]
[""]
[""]
[""]
[""]
[""]
[""]
[""]
[""]
[""]
[{"$f":"IF(B513<>\"\",IF(C513<>\"\",B513&\"_\"&C513&\" \"&D513&\"/\"&E513,B513&\" \"&D513),\"\")","v":""}]
[""]
[""]
[""]
[""]
[""]
[""]
[""]
[""]
[""]
[""]
[""]
[""]
[""]
[""]
[""]
[""]
[""]
[""]
[""]
[""]
[""]
[""]
[""]
[""]
[""]
[""]
[""]
[""]
[""]
[""]
[""]
[""]
[""]
[""]
[""]
[""]
[""]
[""]
[""]
[""]
[""]
[""]
[""]
[""]
[""]
[""]
[""]
[""]
[""]
[""]
[""]
[""]
[""]
[""]
[""]
[""]
[""]
[""]
[""]
[""]
[""]
[""]
[""]
[{"$f":"IF(B577<>\"\",IF(C577<>\"\",B577&\"_\"&C577&\" \"&D577&\"/\"&E577,B577&\" \"&D577),\"\")","v":""}]
[""]
[""]
[""]
[""]
[""]
[""]
[""]
[""]
[""]
[""]
[""]
[""]
[""]
[""]
[""]
[""]
[""]
[""]
[""]
[""]
[""]
[""]
[""]
[""]
[""]
[""]
[""]
[""]
[""]
[""]
[""]
[""]
[""]
[""]
[""]
[""]
[""]
[""]
[""]
[""]
[""]
[""]
[""]
[""]
[""]
[""]
[""]
[""]
[""]
[""]
[""]
[""]
[""]
[""]
[""]
[""]
[""]
[""]
[""]
[""]
[""]
[""]
[""]
[{"$f":"IF(B641<>\"\",IF(C641<>\"\",B641&\"_\"&C641&\" \"&D641&\"/\"&E641,B641&\" \"&D641),\"\")","v":""}]
[""]
[""]
[""]
[""]
[""]
[""]
[""]
[""]
[""]
[""]
[""]
[""]
[""]
[""]
[""]
[""]
[""]
[""]
[""]
[""]
[""]
[""]
[""]
[""]
[""]
[""]
[""]
[""]
[""]
[""]
[""]
[""]
[""]
[""]
[""]
[""]
[""]
[""]
[""]
[""]
[""]
[""]
[""]
[""]
[""]
[""]
[""]
[""]
[""]
[""]
[""]
[""]
[""]
[""]
[""]
[""]
[""]
[""]
[""]
[""]
[""]
[""]
[""]
[{"$f":"IF(B705<>\"\",IF(C705<>\"\",B705&\"_\"&C705&\" \"&D705&\"/\"&E705,B705&\" \"&D705),\"\")","v":""}]
[""]
[""]
[""]
[""]
[""]
[""]
[""]
[""]
[""]
[""]
[""]
[""]
[""]
[""]
[""]
[""]
[""]
[""]
[""]
[""]
[""]
[""]
[""]
[""]
[""]
[""]
[""]
[""]
[""]
[""]
[""]
[""]
[""]
[""]
[""]
[""]
[""]
[""]
[""]
[""]
[""]
[""]
[""]
[""]
[""]
[""]
[""]
[""]
[""]
[""]
[""]
[""]
[""]
[""]
[""]
[""]
[""]
[""]
[""]
[""]
[""]
[""]
[""]
[{"$f":"IF(B769<>\"\",IF(C769<>\"\",B769&\"_\"&C769&\" \"&D769&\"/\"&E769,B769&\" \"&D769),\"\")","v":""}]
[""]
[""]
[""]
[""]
[""]
[""]
[""]
[""]
[""]
[""]
[""]
[""]
[""]
[""]
[""]
[""]
[""]
[""]
[""]
[""]
[""]
[""]
[""]
[""]
[""]
[""]
[""]
[""]
[""]
[""]
[""]
[""]
[""]
[""]
[""]
[""]
[""]
[""]
[""]
[""]
[""]
[""]
[""]
[""]
[""]
[""]
[""]
[""]
[""]
[""]
[""]
[""]
[""]
[""]
[""]
[""]
[""]
[""]
[""]
[""]
[""]
[""]
[""]
[{"$f":"IF(B833<>\"\",IF(C833<>\"\",B833&\"_\"&C833&\" \"&D833&\"/\"&E833,B833&\" \"&D833),\"\")","v":""}]
[""]
[""]
[""]
[""]
[""]
[""]
[""]
[""]
[""]
[""]
[""]
[""]
[""]
[""]
[""]
[""]
[""]
[""]
[""]
[""]
[""]
[""]
[""]
[""]
[""]
[""]
[""]
[""]
[""]
[""]
[""]
[""]
[""]
[""]
[""]
[""]
[""]
[""]
[""]
[""]
[""]
[""]
[""]
[""]
[""]
[""]
[""]
[""]
[""]
[""]
[""]
[""]
[""]
[""]
[""]
[""]
[""]
[""]
[""]
[""]
[""]
[""]
[""]
[{"$f":"IF(B897<>\"\",IF(C897<>\"\",B897&\"_\"&C897&\" \"&D897&\"/\"&E897,B897&\" \"&D897),\"\")","v":""}]
[{"$f":"IF(B898<>\"\",IF(C898<>\"\",B898&\"_\"&C898&\" \"&D898&\"/\"&E898,B898&\" \"&D898),\"\")","v":""}]
[""]
[""]
[""]
[""]
[""]
[""]
[""]
[""]
[""]
[""]
[""]
[""]
[""]
[""]
[""]
[""]
[""]
[""]
[""]
[""]
[""]
[""]
[""]
[""]
[""]
[""]
[""]
[""]
[""]
[""]
[""]
[""]
[""]
[""]
[""]
[""]
[""]
[""]
[""]
[""]
[""]
[""]
[""]
[""]
[""]
[""]
[""]
[""]
[""]
[""]
[""]
[""]
[""]
[""]
[""]
[""]
[""]
[""]
[""]
[""]
[""]
[""]
[{"$f":"IF(B961<>\"\",IF(C961<>\"\",B961&\"_\"&C961&\" \"&D961&\"/\"&E961,B961&\" \"&D961),\"\")","v":""}]
[""]
[""]
[""]
[""]
[""]
[""]
[""]
[""]
[""]
[""]
[""]
[""]
[""]
[""]
[""]
[""]
[""]
[""]
[""]
[""]
[""]
[""]
[""]
[""]
[""]
[""]
[""]
[""]
[""]
[""]
[""]
[""]
[""]
[""]
[""]
[""]
[""]
[""]
[""]
[""]
[""]
[""]
[""]
[""]
[""]
[""]
[""]
[""]
[""]
[""]
[""]
[""]
[""]
[""]
[""]
[""]
[""]
[""]
[""]
[""]
[""]
[""]
[""]
[{"$f":"IF(B1025<>\"\",IF(C1025<>\"\",B1025&\"_\"&C1025&\" \"&D1025&\"/\"&E1025,B1025&\" \"&D1025),\"\")","v":""}]
[""]
[""]
[""]
[""]
[""]
[""]
[""]
[""]
[""]
[""]
[""]
[""]
[""]
[""]
[""]
[""]
[""]
[""]
[""]
[""]
[""]
[""]
[""]
[""]
[""]
[""]
[""]
[""]
[""]
[""]
[""]
[""]
[""]
[""]
[""]
[""]
[""]
[""]
[""]
[""]
[""]
[""]
[""]
[""]
[""]
[""]
[""]
[""]
[""]
[""]
[""]
[""]
[""]
[""]
[""]
[""]
[""]
[""]
[""]
[""]
[""]
[""]
[""]
[{"$f":"IF(B1089<>\"\",IF(C1089<>\"\",B1089&\"_\"&C1089&\" \"&D1089&\"/\"&E1089,B1089&\" \"&D1089),\"\")","v":""}]
[""]
[""]
[""]
[""]
[""]
[""]
[""]
[""]
[""]
[""]
[""]
[""]
[""]
[""]
[""]
[""]
[""]
[""]
[""]
[""]
[""]
[""]
[""]
[""]
[""]
[""]
[""]
[""]
[""]
[""]
[""]
[""]
[""]
[""]
[""]
[""]
[""]
[""]
[""]
[""]
[""]
[""]
[""]
[""]
[""]
[""]
[""]
[""]
[""]
[""]
[""]
[""]
[""]
[""]
[""]
[""]
[""]
[""]
[""]
[""]
[""]
[""]
[""]
[{"$f":"IF(B1153<>\"\",IF(C1153<>\"\",B1153&\"_\"&C1153&\" \"&D1153&\"/\"&E1153,B1153&\" \"&D1153),\"\")","v":""}]
[""]
[""]
[""]
[""]
[""]
[""]
[""]
[""]
[""]
[""]
[""]
[""]
[""]
[""]
[""]
[""]
[""]
[""]
[""]
[""]
[""]
[""]
[""]
[""]
[""]
[""]
[""]
[""]
[""]
[""]
[""]
[""]
[""]
[""]
[""]
[""]
[""]
[""]
[""]
[""]
[""]
[""]
[""]
[""]
[""]
[""]
[""]
[""]
[""]
[""]
[""]
[""]
[""]
[""]
[""]
[""]
[""]
[""]
[""]
[""]
[""]
[""]
[""]
[{"$f":"IF(B1217<>\"\",IF(C1217<>\"\",B1217&\"_\"&C1217&\" \"&D1217&\"/\"&E1217,B1217&\" \"&D1217),\"\")","v":""}]
[""]
[""]
[""]
[""]
[""]
[""]
[""]
[""]
[""]
[""]
[""]
[""]
[""]
[""]
[""]
[""]
[""]
[""]
[""]
[""]
[""]
[""]
[""]
[""]
[""]
[""]
[""]
[""]
[""]
[""]
[""]
[""]
[""]
[""]
[""]
[""]
[""]
[""]
[""]
[""]
[""]
[""]
[""]
[""]
[""]
[""]
[""]
[""]
[""]
[""]
[""]
[""]
[""]
[""]
[""]
[""]
[""]
[""]
[""]
[""]
[""]
[""]
[""]
[{"$f":"IF(B1281<>\"\",IF(C1281<>\"\",B1281&\"_\"&C1281&\" \"&D1281&\"/\"&E1281,B1281&\" \"&D1281),\"\")","v":""}]
[""]
[""]
[""]
[""]
[""]
[""]
[""]
[""]
[""]
[""]
[""]
[""]
[""]
[""]
[""]
[""]
[""]
[""]
[""]

{"sheet":"Budget Info","index":6,"n_rows":43,"n_cols":18,"rows_kept":43,"cut":false,"hidden":true,"merged":[[1,1,1,4],[1,8,1,9],[1,14,1,17]]}
[]
[null,"Plan Name",null,null,null,null,"Amendment Type",null,"Plan Structure",null,null,null,null,null,"Fund"]
[null,"NAME","NAME","STRUCTURE","COMPANY",null,null,null,"STRUCTURE","STRUCTURE_ID",null,null,null,null,"Fund","Description","Hierarchy"]
[null,"ALU Capital FY23","ALU Capital FY23","Consolidated_Budget_Structure_Capital","ALU",null,"Allocations Amendment",null,"Consolidated Budget Capital","Consolidated_Budget_Structure_Capital",null,null,null,null,"FD01","Appropriated","Unrestricted","FD01-Appropriated"]
[null,"ALU Capital FY24","ALU Capital FY24","Consolidated_Budget_Structure_Capital","ALU",null,"Current Year Amendment",null,"Consolidated Budget Operating","Consolidated_Budget_Structure_Operating",null,null,null,null,"FD02","Self Supporting","Unrestricted","FD02-Self Supporting"]
[null,"ALU Operating FY23","ALU Operating FY23","Consolidated_Budget_Structure_Operating","ALU",null,"Original Amendment (Budget Office use only)",null,"Consolidated Budget Parent","Consolidated_Budget_Structure_Parent",null,null,null,null,"FD03","Designated","Unrestricted","FD03-Designated"]
[null,"ALU Operating FY24","ALU Operating FY24","Consolidated_Budget_Structure_Operating","ALU",null,"Permanent Amendment",null,null,null,null,null,null,null,"FD04","Faculty Consolidation","Unrestricted","FD04-Faculty Consolidation"]
[null,"BYU Capital FY23","BYU Capital FY23","Consolidated_Budget_Structure_Capital","BYU",null,"Project Amendment",null,null,null,null,null,null,null,"FD05","Sponsored Awards","Unrestricted","FD05-Sponsored Awards"]
[null,"BYU Capital FY24","BYU Capital FY24","Consolidated_Budget_Structure_Capital","BYU",null,"Sponsored Award Amendment",null,null,null,null,null,null,null,"FD06","Plant Fund","Unrestricted","FD06-Plant Fund"]
[null,"BYU Operating FY23","BYU Operating FY23","Consolidated_Budget_Structure_Operating","BYU",null,null,null,null,null,null,null,null,null,"FD07","Agency","Unrestricted","FD07-Agency"]
[null,"BYU Operating FY24","BYU Operating FY24","Consolidated_Budget_Structure_Operating","BYU",null,null,null,null,null,null,null,null,null,"FD20","Gift Unrestricted","Unrestricted","FD20-Gift Unrestricted"]
[null,"CAN Capital FY23","CAN Capital FY23","Consolidated_Budget_Structure_Capital","CAN",null,null,null,null,null,null,null,null,null,"FD21","Gift Temporarily Restricted","Temporarily Restricted","FD21-Gift Temporarily Restricted"]
[null,"CAN Capital FY24","CAN Capital FY24","Consolidated_Budget_Structure_Capital","CAN",null,null,null,null,null,null,null,null,null,"FD22","Endowment Payout - Temp Restricted","Temporarily Restricted","FD22-Endowment Payout - Temp Restricted"]
[null,"CAN Operating FY23","CAN Operating FY23","Consolidated_Budget_Structure_Operating","CAN",null,null,null,null,null,null,null,null,null,"FD23","Endowment Spendable","Unrestricted","FD23-Endowment Spendable"]
[null,"CAN Operating FY24","CAN Operating FY24","Consolidated_Budget_Structure_Operating","CAN",null,null,null,null,null,null,null,null,null,"FD24","Endowment Temporarily Restricted","Temporarily Restricted","FD24-Endowment Temporarily Restricted"]
[null,"CEE Capital FY23","CEE Capital FY23","Consolidated_Budget_Structure_Capital","CEE",null,null,null,null,null,null,null,null,null,"FD25","Endowment Permanently Restricted","Permanently Restricted","FD25-Endowment Permanently Restricted"]
[null,"CEE Capital FY24","CEE Capital FY24","Consolidated_Budget_Structure_Capital","CEE",null,null,null,null,null,null,null,null,null,"FD26","Endowment Quasi","Unrestricted","FD26-Endowment Quasi"]
[null,"CEE Operating FY23","CEE Operating FY23","Consolidated_Budget_Structure_Operating","CEE",null,null,null,null,null,null,null,null,null,"FD27","Permanently Restricted - Other","Permanently Restricted","FD27-Permanently Restricted - Other"]
[null,"CEE Operating FY24","CEE Operating FY24","Consolidated_Budget_Structure_Operating","CEE"]
[null,"FSY Capital FY23","FSY Capital FY23","Consolidated_Budget_Structure_Capital","FSY"]
[null,"FSY Capital FY24","FSY Capital FY24","Consolidated_Budget_Structure_Capital","FSY"]
[null,"FSY Operating FY23","FSY Operating FY23","Consolidated_Budget_Structure_Operating","FSY"]
[null,"FSY Operating FY24","FSY Operating FY24","Consolidated_Budget_Structure_Operating","FSY"]
[null,"HED Capital FY23","HED Capital FY23","Consolidated_Budget_Structure_Capital","HED"]
[null,"HED Capital FY24","HED Capital FY24","Consolidated_Budget_Structure_Capital","HED"]
[null,"HED Operating FY23","HED Operating FY23","Consolidated_Budget_Structure_Operating","HED"]
[null,"HED Operating FY24","HED Operating FY24","Consolidated_Budget_Structure_Operating","HED"]
[null,"IHS Capital FY23","IHS Capital FY23","Consolidated_Budget_Structure_Capital","IHS"]
[null,"IHS Capital FY24","IHS Capital FY24","Consolidated_Budget_Structure_Capital","IHS"]
[null,"IHS Operating FY23","IHS Operating FY23","Consolidated_Budget_Structure_Operating","IHS"]
[null,"IHS Operating FY24","IHS Operating FY24","Consolidated_Budget_Structure_Operating","IHS"]
[null,"INT Capital FY23","INT Capital FY23","Consolidated_Budget_Structure_Capital","INT"]
[null,"INT Capital FY24","INT Capital FY24","Consolidated_Budget_Structure_Capital","INT"]
[null,"INT Operating FY23","INT Operating FY23","Consolidated_Budget_Structure_Operating","INT"]
[null,"INT Operating FY24","INT Operating FY24","Consolidated_Budget_Structure_Operating","INT"]
[null,"JER Capital FY23","JER Capital FY23","Consolidated_Budget_Structure_Capital","JER"]
[null,"JER Capital FY24","JER Capital FY24","Consolidated_Budget_Structure_Capital","JER"]
[null,"JER Operating FY23","JER Operating FY23","Consolidated_Budget_Structure_Operating","JER"]
[null,"JER Operating FY24","JER Operating FY24","Consolidated_Budget_Structure_Operating","JER"]
[null,"LDN Capital FY23","LDN Capital FY23","Consolidated_Budget_Structure_Capital","LDN"]
[null,"LDN Capital FY24","LDN Capital FY24","Consolidated_Budget_Structure_Capital","LDN"]
[null,"LDN Operating FY23","LDN Operating FY23","Consolidated_Budget_Structure_Operating","LDN"]
[null,"LDN Operating FY24","LDN Operating FY24","Consolidated_Budget_Structure_Operating","LDN"]

{"sheet":"Import Budget Amendment","index":7,"n_rows":6,"n_cols":24,"rows_kept":6,"cut":false,"hidden":true,"merged":[[0,0,0,23],[1,1,1,4],[1,5,1,6],[1,7,1,16],[1,17,1,23]]}
["Import Budget Amendment - v41.2"]
["Area","All",null,null,null,"Comment Data (All > Business Process Parameters)",null,"Budget Amendment High Volume Data (All)",null,null,null,null,null,null,null,null,null,"Attachment Data+ (All > Budget Amendment High Volume Data)"]
["Restrictions","Required","Optional","Optional","Optional","Optional","Optional","Optional","Optional","Required","Required","Optional","Required","Required","Required","Required","Optional","Required","Optional","Optional","Optional","Optional","Optional","Optional"]
["Format","Text","Y/N","Budget_Amendment_ID","Y/N","Text","Contingent_Worker_ID","Text","Y/N","Company_Reference_ID","Budget_Structure_ID","Custom_Budget_ID","Number","YYYY-MM-DD","Text","Business_Plan_Amendment_Type_ID","Y/N","Text","Text","Text","Text","Y/N","Text","Text"]
["Fields","Header Key*","Add Only","Budget Amendment","Auto Complete","Comment","Worker","ID","Submit","Company Or Company Hierarchy*","Budget Structure*","Budget Name","Fiscal Year*","Amendment Date*","Description*","Budget Amendment Type*","Balanced Amendment","Row ID*","Content Type","Filename","Encoding","Compressed","File Content","Comment"]
[null,{"$f":"IF(Template!A8<>\"\",Template!A8,\"\")","v":""},null,null,{"$f":"IF($B$6<>\"\",\"N\",\"\")","v":""},null,null,null,{"$f":"IF($B$6<>\"\",\"Y\",\"\")","v":""},{"$f":"IF($B$6<>\"\",VLOOKUP(Template!$C$8,Worktags!$BH:$BK,4,FALSE),\"\")","v":""},{"$f":"IF($B$6<>\"\",VLOOKUP(Template!$C$8,Worktags!$BH:$BK,3,FALSE),\"\")","v":""},{"$f":"IF($B$6<>\"\",VLOOKUP(Template!$C$8,Worktags!$BH:$BK,2,FALSE),\"\")","v":""},{"$f":"IF($B$6<>\"\",TEXT(Template!$B$8,\"yyyy\"),\"\")","v":""},{"$f":"IF($B$6<>\"\",Template!$B$8,\"\")","v":""},{"$f":"IF($B$6<>\"\",Template!$BT$8,\"\")","v":""},{"$f":"IF($B$6<>\"\",Template!$D$8,\"\")","v":""},{"$f":"IF($B$6<>\"\",Template!$AQ$8,\"\")","v":""}]

{"sheet":"Amendment Entry Data","index":8,"n_rows":818,"n_cols":26,"rows_kept":818,"cut":false,"hidden":true,"merged":[[0,0,0,25],[1,1,1,25]]}
["Amendment Entry Data"]
["Area","All"]
["Restrictions","Required","Required","Required","Optional","Optional","Optional","Optional","Optional","Optional","Optional","Optional","Optional","Optional","Optional","Optional","Optional","Optional","Optional","Optional","Optional","Optional","Optional","Optional","Optional","Optional"]
["Format","Text","Text","Fiscal_Posting_Interval_ID","Cost_Center_Reference_ID","Revenue_Category_ID","Spend_Category_ID","Custom_Organization_Reference_ID","Project_ID","Gift_Reference_ID","Custom_Organization_Reference_ID","Program_ID","Fund_ID","Custom_Organization_Reference_ID","Custom_Organization_Reference_ID","Ledger_Account_ID","Account_Set_ID","Ledger_Account_Summary_ID","Account_Set_ID","Currency_ID","Book_Code_ID","Number (26,6)","Number (26,6)","Number (18,6)","Unit_of_Time_ID","Text"]
["Fields","Header Key","Line Key","Fiscal Time Interval*","Cost Center","Revenue Category","Spend Cateogry","Activity","Project","Gift","Class","Program","Fund","Assignee","Student Experience","Ledger Account","Account Set","Ledger Account Summary","Account Set","Budget Currency","Book Code","Budget Debit Amount","Budget Credit Amount","Quantity Change","Unit","Memo"]
[null,{"$f":"Template!$H$8","v":0},1,"Calendar_Year_Mar",{"$f":"IF(LEFT(Template!$K$8,2)=\"CC\",Template!$K$8,\"\")","v":""},{"$f":"IF(LEFT(Template!$M$8,2)=\"RC\",Template!$M$8,\"\")","v":""},{"$f":"IF(LEFT(Template!$M$8,2)=\"SC\",Template!$M$8,\"\")","v":""},{"$f":"IF(LEFT(Template!$K$8,2)=\"AC\",Template!$K$8,\"\")","v":""},{"$f":"IF(OR(LEFT(Template!$K$8,2)=\"PJ\", LEFT(Template!$K$8,2)=\"PR\"),Template!$K$8,\"\")","v":""},{"$f":"IF(LEFT(Template!$K$8,2)=\"GF\",Template!$K$8,\"\")","v":""},{"$f":"IF(Template!$S$8<>\"\",Template!$S$8,\"\")","v":""},null,null,null,null,{"$f":"IF(Template!$L$8<>\"\",Template!$L$8,\"\")","v":""},"BYU_Child",null,null,"USD",null,33289.910000000003,null,null,null,{"$f":"IF(Template!$O$8<>\"\",Template!$O$8,\"\")","v":""}]
[null,{"$f":"Template!$H$9","v":0},{"$f":"IF(B7=B6,C6+1,1)","v":2},"Calendar_Year_Mar",{"$f":"IF(LEFT(Template!$K$9,2)=\"CC\",Template!$K$9,\"\")","v":""},{"$f":"IF(LEFT(Template!$M$9,2)=\"RC\",Template!$M$9,\"\")","v":""},{"$f":"IF(LEFT(Template!$M$9,2)=\"SC\",Template!$M$9,\"\")","v":""},{"$f":"IF(LEFT(Template!$K$9,2)=\"AC\",Template!$K$9,\"\")","v":""},{"$f":"IF(OR(LEFT(Template!$K$9,2)=\"PJ\", LEFT(Template!$K$9,2)=\"PR\"),Template!$K$9,\"\")","v":""},{"$f":"IF(LEFT(Template!$K$9,2)=\"GF\",Template!$K$9,\"\")","v":""},{"$f":"IF(Template!$S$9<>\"\",Template!$S$9,\"\")","v":""},null,null,null,null,{"$f":"IF(Template!$L$9<>\"\",Template!$L$9,\"\")","v":""},"BYU_Child",null,null,"USD",null,21.03,null,null,null,{"$f":"IF(Template!$O$9<>\"\",Template!$O$9,\"\")","v":""}]
[null,{"$f":"Template!$H$10","v":0},3,"Calendar_Year_Mar",{"$f":"IF(LEFT(Template!$K$10,2)=\"CC\",Template!$K$10,\"\")","v":""},{"$f":"IF(LEFT(Template!$M$10,2)=\"RC\",Template!$M$10,\"\")","v":""},{"$f":"IF(LEFT(Template!$M$10,2)=\"SC\",Template!$M$10,\"\")","v":""},{"$f":"IF(LEFT(Template!$K$10,2)=\"AC\",Template!$K$10,\"\")","v":""},{"$f":"IF(OR(LEFT(Template!$K$10,2)=\"PJ\", LEFT(Template!$K$10,2)=\"PR\"),Template!$K$10,\"\")","v":""},{"$f":"IF(LEFT(Template!$K$10,2)=\"GF\",Template!$K$10,\"\")","v":""},{"$f":"IF(Template!$S$10<>\"\",Template!$S$10,\"\")","v":""},null,null,null,null,{"$f":"IF(Template!$L$10<>\"\",Template!$L$10,\"\")","v":""},"BYU_Child",null,null,"USD",null,38685.65,null,null,null,{"$f":"IF(Template!$O$10<>\"\",Template!$O$10,\"\")","v":""}]
[null,{"$f":"Template!$H$11","v":0},4,"Calendar_Year_Mar",{"$f":"IF(LEFT(Template!$K$11,2)=\"CC\",Template!$K$11,\"\")","v":""},{"$f":"IF(LEFT(Template!$M$11,2)=\"RC\",Template!$M$11,\"\")","v":""},{"$f":"IF(LEFT(Template!$M$11,2)=\"SC\",Template!$M$11,\"\")","v":""},{"$f":"IF(LEFT(Template!$K$11,2)=\"AC\",Template!$K$11,\"\")","v":""},{"$f":"IF(OR(LEFT(Template!$K$11,2)=\"PJ\", LEFT(Template!$K$11,2)=\"PR\"),Template!$K$11,\"\")","v":""},{"$f":"IF(LEFT(Template!$K$11,2)=\"GF\",Template!$K$11,\"\")","v":""},{"$f":"IF(Template!$S$11<>\"\",Template!$S$11,\"\")","v":""},null,null,null,null,{"$f":"IF(Template!$L$11<>\"\",Template!$L$11,\"\")","v":""},"BYU_Child",null,null,"USD",null,21504.05,null,null,null,{"$f":"IF(Template!$O$11<>\"\",Template!$O$11,\"\")","v":""}]
[null,{"$f":"Template!$H$13","v":0},5,"Calendar_Year_Mar",{"$f":"IF(LEFT(Template!$K$13,2)=\"CC\",Template!$K$13,\"\")","v":""},{"$f":"IF(LEFT(Template!$M$13,2)=\"RC\",Template!$M$13,\"\")","v":""},{"$f":"IF(LEFT(Template!$M$13,2)=\"SC\",Template!$M$13,\"\")","v":""},{"$f":"IF(LEFT(Template!$K$13,2)=\"AC\",Template!$K$13,\"\")","v":""},{"$f":"IF(OR(LEFT(Template!$K$13,2)=\"PJ\", LEFT(Template!$K$13,2)=\"PR\"),Template!$K$13,\"\")","v":""},{"$f":"IF(LEFT(Template!$K$13,2)=\"GF\",Template!$K$13,\"\")","v":""},{"$f":"IF(Template!$S$13<>\"\",Template!$S$13,\"\")","v":""},null,null,null,null,{"$f":"IF(Template!$L$13<>\"\",Template!$L$13,\"\")","v":""},"BYU_Child",null,null,"USD",null,2121.2399999999998,null,null,null,{"$f":"IF(Template!$O$13<>\"\",Template!$O$13,\"\")","v":""}]
[null,{"$f":"Template!$H$14","v":0},6,"Calendar_Year_Mar",{"$f":"IF(LEFT(Template!$K$14,2)=\"CC\",Template!$K$14,\"\")","v":""},{"$f":"IF(LEFT(Template!$M$14,2)=\"RC\",Template!$M$14,\"\")","v":""},{"$f":"IF(LEFT(Template!$M$14,2)=\"SC\",Template!$M$14,\"\")","v":""},{"$f":"IF(LEFT(Template!$K$14,2)=\"AC\",Template!$K$14,\"\")","v":""},{"$f":"IF(OR(LEFT(Template!$K$14,2)=\"PJ\", LEFT(Template!$K$14,2)=\"PR\"),Template!$K$14,\"\")","v":""},{"$f":"IF(LEFT(Template!$K$14,2)=\"GF\",Template!$K$14,\"\")","v":""},{"$f":"IF(Template!$S$14<>\"\",Template!$S$14,\"\")","v":""},null,null,null,null,{"$f":"IF(Template!$L$14<>\"\",Template!$L$14,\"\")","v":""},"BYU_Child",null,null,"USD",null,null,1316.16,null,null,{"$f":"IF(Template!$O$14<>\"\",Template!$O$14,\"\")","v":""}]
[null,{"$f":"Template!$H$15","v":0},7,"Calendar_Year_Mar",{"$f":"IF(LEFT(Template!$K$15,2)=\"CC\",Template!$K$15,\"\")","v":""},{"$f":"IF(LEFT(Template!$M$15,2)=\"RC\",Template!$M$15,\"\")","v":""},{"$f":"IF(LEFT(Template!$M$15,2)=\"SC\",Template!$M$15,\"\")","v":""},{"$f":"IF(LEFT(Template!$K$15,2)=\"AC\",Template!$K$15,\"\")","v":""},{"$f":"IF(OR(LEFT(Template!$K$15,2)=\"PJ\", LEFT(Template!$K$15,2)=\"PR\"),Template!$K$15,\"\")","v":""},{"$f":"IF(LEFT(Template!$K$15,2)=\"GF\",Template!$K$15,\"\")","v":""},{"$f":"IF(Template!$S$15<>\"\",Template!$S$15,\"\")","v":""},null,null,null,null,{"$f":"IF(Template!$L$15<>\"\",Template!$L$15,\"\")","v":""},"BYU_Child",null,null,"USD",null,62.45,null,null,null,{"$f":"IF(Template!$O$15<>\"\",Template!$O$15,\"\")","v":""}]
[null,{"$f":"Template!$H$16","v":0},8,"Calendar_Year_Mar",{"$f":"IF(LEFT(Template!$K$16,2)=\"CC\",Template!$K$16,\"\")","v":""},{"$f":"IF(LEFT(Template!$M$16,2)=\"RC\",Template!$M$16,\"\")","v":""},{"$f":"IF(LEFT(Template!$M$16,2)=\"SC\",Template!$M$16,\"\")","v":""},{"$f":"IF(LEFT(Template!$K$16,2)=\"AC\",Template!$K$16,\"\")","v":""},{"$f":"IF(OR(LEFT(Template!$K$16,2)=\"PJ\", LEFT(Template!$K$16,2)=\"PR\"),Template!$K$16,\"\")","v":""},{"$f":"IF(LEFT(Template!$K$16,2)=\"GF\",Template!$K$16,\"\")","v":""},{"$f":"IF(Template!$S$16<>\"\",Template!$S$16,\"\")","v":""},null,null,null,null,{"$f":"IF(Template!$L$16<>\"\",Template!$L$16,\"\")","v":""},"BYU_Child",null,null,"USD",null,288.41000000000003,null,null,null,{"$f":"IF(Template!$O$16<>\"\",Template!$O$16,\"\")","v":""}]
[null,{"$f":"Template!$H$17","v":0},9,"Calendar_Year_Mar",{"$f":"IF(LEFT(Template!$K$17,2)=\"CC\",Template!$K$17,\"\")","v":""},{"$f":"IF(LEFT(Template!$M$17,2)=\"RC\",Template!$M$17,\"\")","v":""},{"$f":"IF(LEFT(Template!$M$17,2)=\"SC\",Template!$M$17,\"\")","v":""},{"$f":"IF(LEFT(Template!$K$17,2)=\"AC\",Template!$K$17,\"\")","v":""},{"$f":"IF(OR(LEFT(Template!$K$17,2)=\"PJ\", LEFT(Template!$K$17,2)=\"PR\"),Template!$K$17,\"\")","v":""},{"$f":"IF(LEFT(Template!$K$17,2)=\"GF\",Template!$K$17,\"\")","v":""},{"$f":"IF(Template!$S$17<>\"\",Template!$S$17,\"\")","v":""},null,null,null,null,{"$f":"IF(Template!$L$17<>\"\",Template!$L$17,\"\")","v":""},"BYU_Child",null,null,"USD",null,985,null,null,null,{"$f":"IF(Template!$O$17<>\"\",Template!$O$17,\"\")","v":""}]
[null,{"$f":"Template!$H$18","v":0},10,"Calendar_Year_Mar",{"$f":"IF(LEFT(Template!$K$18,2)=\"CC\",Template!$K$18,\"\")","v":""},{"$f":"IF(LEFT(Template!$M$18,2)=\"RC\",Template!$M$18,\"\")","v":""},{"$f":"IF(LEFT(Template!$M$18,2)=\"SC\",Template!$M$18,\"\")","v":""},{"$f":"IF(LEFT(Template!$K$18,2)=\"AC\",Template!$K$18,\"\")","v":""},{"$f":"IF(OR(LEFT(Template!$K$18,2)=\"PJ\", LEFT(Template!$K$18,2)=\"PR\"),Template!$K$18,\"\")","v":""},{"$f":"IF(LEFT(Template!$K$18,2)=\"GF\",Template!$K$18,\"\")","v":""},{"$f":"IF(Template!$S$18<>\"\",Template!$S$18,\"\")","v":""},null,null,null,null,{"$f":"IF(Template!$L$18<>\"\",Template!$L$18,\"\")","v":""},"BYU_Child",null,null,"USD",null,508.97,null,null,null,{"$f":"IF(Template!$O$18<>\"\",Template!$O$18,\"\")","v":""}]
[null,{"$f":"Template!$H$19","v":0},11,"Calendar_Year_Mar",{"$f":"IF(LEFT(Template!$K$19,2)=\"CC\",Template!$K$19,\"\")","v":""},{"$f":"IF(LEFT(Template!$M$19,2)=\"RC\",Template!$M$19,\"\")","v":""},{"$f":"IF(LEFT(Template!$M$19,2)=\"SC\",Template!$M$19,\"\")","v":""},{"$f":"IF(LEFT(Template!$K$19,2)=\"AC\",Template!$K$19,\"\")","v":""},{"$f":"IF(OR(LEFT(Template!$K$19,2)=\"PJ\", LEFT(Template!$K$19,2)=\"PR\"),Template!$K$19,\"\")","v":""},{"$f":"IF(LEFT(Template!$K$19,2)=\"GF\",Template!$K$19,\"\")","v":""},{"$f":"IF(Template!$S$19<>\"\",Template!$S$19,\"\")","v":""},null,null,null,null,{"$f":"IF(Template!$L$19<>\"\",Template!$L$19,\"\")","v":""},"BYU_Child",null,null,"USD",null,23.45,null,null,null,{"$f":"IF(Template!$O$19<>\"\",Template!$O$19,\"\")","v":""}]
[null,{"$f":"Template!$H$20","v":0},12,"Calendar_Year_Mar",{"$f":"IF(LEFT(Template!$K$20,2)=\"CC\",Template!$K$20,\"\")","v":""},{"$f":"IF(LEFT(Template!$M$20,2)=\"RC\",Template!$M$20,\"\")","v":""},{"$f":"IF(LEFT(Template!$M$20,2)=\"SC\",Template!$M$20,\"\")","v":""},{"$f":"IF(LEFT(Template!$K$20,2)=\"AC\",Template!$K$20,\"\")","v":""},{"$f":"IF(OR(LEFT(Template!$K$20,2)=\"PJ\", LEFT(Template!$K$20,2)=\"PR\"),Template!$K$20,\"\")","v":""},{"$f":"IF(LEFT(Template!$K$20,2)=\"GF\",Template!$K$20,\"\")","v":""},{"$f":"IF(Template!$S$20<>\"\",Template!$S$20,\"\")","v":""},null,null,null,null,{"$f":"IF(Template!$L$20<>\"\",Template!$L$20,\"\")","v":""},"BYU_Child",null,null,"USD",null,39.56,null,null,null,{"$f":"IF(Template!$O$20<>\"\",Template!$O$20,\"\")","v":""}]
[null,{"$f":"Template!$H$21","v":0},13,"Calendar_Year_Mar",{"$f":"IF(LEFT(Template!$K$21,2)=\"CC\",Template!$K$21,\"\")","v":""},{"$f":"IF(LEFT(Template!$M$21,2)=\"RC\",Template!$M$21,\"\")","v":""},{"$f":"IF(LEFT(Template!$M$21,2)=\"SC\",Template!$M$21,\"\")","v":""},{"$f":"IF(LEFT(Template!$K$21,2)=\"AC\",Template!$K$21,\"\")","v":""},{"$f":"IF(OR(LEFT(Template!$K$21,2)=\"PJ\", LEFT(Template!$K$21,2)=\"PR\"),Template!$K$21,\"\")","v":""},{"$f":"IF(LEFT(Template!$K$21,2)=\"GF\",Template!$K$21,\"\")","v":""},{"$f":"IF(Template!$S$21<>\"\",Template!$S$21,\"\")","v":""},null,null,null,null,{"$f":"IF(Template!$L$21<>\"\",Template!$L$21,\"\")","v":""},"BYU_Child",null,null,"USD",null,119.37,null,null,null,{"$f":"IF(Template!$O$21<>\"\",Template!$O$21,\"\")","v":""}]
[null,{"$f":"Template!$H$22","v":0},14,"Calendar_Year_Mar",{"$f":"IF(LEFT(Template!$K$22,2)=\"CC\",Template!$K$22,\"\")","v":""},{"$f":"IF(LEFT(Template!$M$22,2)=\"RC\",Template!$M$22,\"\")","v":""},{"$f":"IF(LEFT(Template!$M$22,2)=\"SC\",Template!$M$22,\"\")","v":""},{"$f":"IF(LEFT(Template!$K$22,2)=\"AC\",Template!$K$22,\"\")","v":""},{"$f":"IF(OR(LEFT(Template!$K$22,2)=\"PJ\", LEFT(Template!$K$22,2)=\"PR\"),Template!$K$22,\"\")","v":""},{"$f":"IF(LEFT(Template!$K$22,2)=\"GF\",Template!$K$22,\"\")","v":""},{"$f":"IF(Template!$S$22<>\"\",Template!$S$22,\"\")","v":""},null,null,null,null,{"$f":"IF(Template!$L$22<>\"\",Template!$L$22,\"\")","v":""},"BYU_Child",null,null,"USD",null,3039.34,null,null,null,{"$f":"IF(Template!$O$22<>\"\",Template!$O$22,\"\")","v":""}]
[null,{"$f":"Template!$H$23","v":0},15,"Calendar_Year_Mar",{"$f":"IF(LEFT(Template!$K$23,2)=\"CC\",Template!$K$23,\"\")","v":""},{"$f":"IF(LEFT(Template!$M$23,2)=\"RC\",Template!$M$23,\"\")","v":""},{"$f":"IF(LEFT(Template!$M$23,2)=\"SC\",Template!$M$23,\"\")","v":""},{"$f":"IF(LEFT(Template!$K$23,2)=\"AC\",Template!$K$23,\"\")","v":""},{"$f":"IF(OR(LEFT(Template!$K$23,2)=\"PJ\", LEFT(Template!$K$23,2)=\"PR\"),Template!$K$23,\"\")","v":""},{"$f":"IF(LEFT(Template!$K$23,2)=\"GF\",Template!$K$23,\"\")","v":""},{"$f":"IF(Template!$S$23<>\"\",Template!$S$23,\"\")","v":""},null,null,null,null,{"$f":"IF(Template!$L$23<>\"\",Template!$L$23,\"\")","v":""},"BYU_Child",null,null,"USD",null,35.78,null,null,null,{"$f":"IF(Template!$O$23<>\"\",Template!$O$23,\"\")","v":""}]
[null,{"$f":"Template!$H$25","v":0},16,"Calendar_Year_Mar",{"$f":"IF(LEFT(Template!$K$25,2)=\"CC\",Template!$K$25,\"\")","v":""},{"$f":"IF(LEFT(Template!$M$25,2)=\"RC\",Template!$M$25,\"\")","v":""},{"$f":"IF(LEFT(Template!$M$25,2)=\"SC\",Template!$M$25,\"\")","v":""},{"$f":"IF(LEFT(Template!$K$25,2)=\"AC\",Template!$K$25,\"\")","v":""},{"$f":"IF(OR(LEFT(Template!$K$25,2)=\"PJ\", LEFT(Template!$K$25,2)=\"PR\"),Template!$K$25,\"\")","v":""},{"$f":"IF(LEFT(Template!$K$25,2)=\"GF\",Template!$K$25,\"\")","v":""},{"$f":"IF(Template!$S$25<>\"\",Template!$S$25,\"\")","v":""},null,null,null,null,{"$f":"IF(Template!$L$25<>\"\",Template!$L$25,\"\")","v":""},"BYU_Child",null,null,"USD",null,18719.400000000001,null,null,null,{"$f":"IF(Template!$O$25<>\"\",Template!$O$25,\"\")","v":""}]
[null,{"$f":"Template!$H$26","v":0},17,"Calendar_Year_Mar",{"$f":"IF(LEFT(Template!$K$26,2)=\"CC\",Template!$K$26,\"\")","v":""},{"$f":"IF(LEFT(Template!$M$26,2)=\"RC\",Template!$M$26,\"\")","v":""},{"$f":"IF(LEFT(Template!$M$26,2)=\"SC\",Template!$M$26,\"\")","v":""},{"$f":"IF(LEFT(Template!$K$26,2)=\"AC\",Template!$K$26,\"\")","v":""},{"$f":"IF(OR(LEFT(Template!$K$26,2)=\"PJ\", LEFT(Template!$K$26,2)=\"PR\"),Template!$K$26,\"\")","v":""},{"$f":"IF(LEFT(Template!$K$26,2)=\"GF\",Template!$K$26,\"\")","v":""},{"$f":"IF(Template!$S$26<>\"\",Template!$S$26,\"\")","v":""},null,null,null,null,{"$f":"IF(Template!$L$26<>\"\",Template!$L$26,\"\")","v":""},"BYU_Child",null,null,"USD",null,10488.37,null,null,null,{"$f":"IF(Template!$O$26<>\"\",Template!$O$26,\"\")","v":""}]
[null,{"$f":"Template!$H$27","v":0},18,"Calendar_Year_Mar",{"$f":"IF(LEFT(Template!$K$27,2)=\"CC\",Template!$K$27,\"\")","v":""},{"$f":"IF(LEFT(Template!$M$27,2)=\"RC\",Template!$M$27,\"\")","v":""},{"$f":"IF(LEFT(Template!$M$27,2)=\"SC\",Template!$M$27,\"\")","v":""},{"$f":"IF(LEFT(Template!$K$27,2)=\"AC\",Template!$K$27,\"\")","v":""},{"$f":"IF(OR(LEFT(Template!$K$27,2)=\"PJ\", LEFT(Template!$K$27,2)=\"PR\"),Template!$K$27,\"\")","v":""},{"$f":"IF(LEFT(Template!$K$27,2)=\"GF\",Template!$K$27,\"\")","v":""},{"$f":"IF(Template!$S$27<>\"\",Template!$S$27,\"\")","v":""},null,null,null,null,{"$f":"IF(Template!$L$27<>\"\",Template!$L$27,\"\")","v":""},"BYU_Child",null,null,"USD",null,689.23,null,null,null,{"$f":"IF(Template!$O$27<>\"\",Template!$O$27,\"\")","v":""}]
[null,{"$f":"Template!$H$28","v":0},19,"Calendar_Year_Mar",{"$f":"IF(LEFT(Template!$K$28,2)=\"CC\",Template!$K$28,\"\")","v":""},{"$f":"IF(LEFT(Template!$M$28,2)=\"RC\",Template!$M$28,\"\")","v":""},{"$f":"IF(LEFT(Template!$M$28,2)=\"SC\",Template!$M$28,\"\")","v":""},{"$f":"IF(LEFT(Template!$K$28,2)=\"AC\",Template!$K$28,\"\")","v":""},{"$f":"IF(OR(LEFT(Template!$K$28,2)=\"PJ\", LEFT(Template!$K$28,2)=\"PR\"),Template!$K$28,\"\")","v":""},{"$f":"IF(LEFT(Template!$K$28,2)=\"GF\",Template!$K$28,\"\")","v":""},{"$f":"IF(Template!$S$28<>\"\",Template!$S$28,\"\")","v":""},null,null,null,null,{"$f":"IF(Template!$L$28<>\"\",Template!$L$28,\"\")","v":""},"BYU_Child",null,null,"USD",null,3746.54,null,null,null,{"$f":"IF(Template!$O$28<>\"\",Template!$O$28,\"\")","v":""}]
[null,{"$f":"Template!#REF!","v":{"$error":"#REF!"}},{"$error":"#REF!"},"Calendar_Year_Mar",{"$f":"IF(LEFT(Template!#REF!,2)=\"CC\",Template!#REF!,\"\")","v":{"$error":"#REF!"}},{"$f":"IF(LEFT(Template!#REF!,2)=\"RC\",Template!#REF!,\"\")","v":{"$error":"#REF!"}},{"$f":"IF(LEFT(Template!#REF!,2)=\"SC\",Template!#REF!,\"\")","v":{"$error":"#REF!"}},{"$f":"IF(LEFT(Template!#REF!,2)=\"AC\",Template!#REF!,\"\")","v":{"$error":"#REF!"}},{"$f":"IF(OR(LEFT(Template!#REF!,2)=\"PJ\", LEFT(Template!#REF!,2)=\"PR\"),Template!#REF!,\"\")","v":{"$error":"#REF!"}},{"$f":"IF(LEFT(Template!#REF!,2)=\"GF\",Template!#REF!,\"\")","v":{"$error":"#REF!"}},{"$f":"IF(Template!#REF!<>\"\",Template!#REF!,\"\")","v":{"$error":"#REF!"}},null,null,null,null,{"$f":"IF(Template!#REF!<>\"\",Template!#REF!,\"\")","v":{"$error":"#REF!"}},"BYU_Child",null,null,"USD",null,180.14,null,null,null,{"$f":"IF(Template!#REF!<>\"\",Template!#REF!,\"\")","v":{"$error":"#REF!"}}]
[null,{"$f":"Template!$H$32","v":0},{"$error":"#REF!"},"Calendar_Year_Mar",{"$f":"IF(LEFT(Template!$K$32,2)=\"CC\",Template!$K$32,\"\")","v":""},{"$f":"IF(LEFT(Template!$M$32,2)=\"RC\",Template!$M$32,\"\")","v":""},{"$f":"IF(LEFT(Template!$M$32,2)=\"SC\",Template!$M$32,\"\")","v":""},{"$f":"IF(LEFT(Template!$K$32,2)=\"AC\",Template!$K$32,\"\")","v":""},{"$f":"IF(OR(LEFT(Template!$K$32,2)=\"PJ\", LEFT(Template!$K$32,2)=\"PR\"),Template!$K$32,\"\")","v":""},{"$f":"IF(LEFT(Template!$K$32,2)=\"GF\",Template!$K$32,\"\")","v":""},{"$f":"IF(Template!$S$32<>\"\",Template!$S$32,\"\")","v":""},null,null,null,null,{"$f":"IF(Template!$L$32<>\"\",Template!$L$32,\"\")","v":""},"BYU_Child",null,null,"USD",null,1004.06,null,null,null,{"$f":"IF(Template!$O$32<>\"\",Template!$O$32,\"\")","v":""}]
[null,{"$f":"Template!$H$33","v":0},{"$error":"#REF!"},"Calendar_Year_Mar",{"$f":"IF(LEFT(Template!$K$33,2)=\"CC\",Template!$K$33,\"\")","v":""},{"$f":"IF(LEFT(Template!$M$33,2)=\"RC\",Template!$M$33,\"\")","v":""},{"$f":"IF(LEFT(Template!$M$33,2)=\"SC\",Template!$M$33,\"\")","v":""},{"$f":"IF(LEFT(Template!$K$33,2)=\"AC\",Template!$K$33,\"\")","v":""},{"$f":"IF(OR(LEFT(Template!$K$33,2)=\"PJ\", LEFT(Template!$K$33,2)=\"PR\"),Template!$K$33,\"\")","v":""},{"$f":"IF(LEFT(Template!$K$33,2)=\"GF\",Template!$K$33,\"\")","v":""},{"$f":"IF(Template!$S$33<>\"\",Template!$S$33,\"\")","v":""},null,null,null,null,{"$f":"IF(Template!$L$33<>\"\",Template!$L$33,\"\")","v":""},"BYU_Child",null,null,"USD",null,2054.06,null,null,null,{"$f":"IF(Template!$O$33<>\"\",Template!$O$33,\"\")","v":""}]
[null,{"$f":"Template!$H$39","v":0},{"$error":"#REF!"},"Calendar_Year_Mar",{"$f":"IF(LEFT(Template!$K$39,2)=\"CC\",Template!$K$39,\"\")","v":""},{"$f":"IF(LEFT(Template!$M$39,2)=\"RC\",Template!$M$39,\"\")","v":""},{"$f":"IF(LEFT(Template!$M$39,2)=\"SC\",Template!$M$39,\"\")","v":""},{"$f":"IF(LEFT(Template!$K$39,2)=\"AC\",Template!$K$39,\"\")","v":""},{"$f":"IF(OR(LEFT(Template!$K$39,2)=\"PJ\", LEFT(Template!$K$39,2)=\"PR\"),Template!$K$39,\"\")","v":""},{"$f":"IF(LEFT(Template!$K$39,2)=\"GF\",Template!$K$39,\"\")","v":""},{"$f":"IF(Template!$S$39<>\"\",Template!$S$39,\"\")","v":""},null,null,null,null,{"$f":"IF(Template!$L$39<>\"\",Template!$L$39,\"\")","v":""},"BYU_Child",null,null,"USD",null,246.24,null,null,null,{"$f":"IF(Template!$O$39<>\"\",Template!$O$39,\"\")","v":""}]
[null,{"$f":"Template!$H$40","v":0},{"$error":"#REF!"},"Calendar_Year_Mar",{"$f":"IF(LEFT(Template!$K$40,2)=\"CC\",Template!$K$40,\"\")","v":""},{"$f":"IF(LEFT(Template!$M$40,2)=\"RC\",Template!$M$40,\"\")","v":""},{"$f":"IF(LEFT(Template!$M$40,2)=\"SC\",Template!$M$40,\"\")","v":""},{"$f":"IF(LEFT(Template!$K$40,2)=\"AC\",Template!$K$40,\"\")","v":""},{"$f":"IF(OR(LEFT(Template!$K$40,2)=\"PJ\", LEFT(Template!$K$40,2)=\"PR\"),Template!$K$40,\"\")","v":""},{"$f":"IF(LEFT(Template!$K$40,2)=\"GF\",Template!$K$40,\"\")","v":""},{"$f":"IF(Template!$S$40<>\"\",Template!$S$40,\"\")","v":""},null,null,null,null,{"$f":"IF(Template!$L$40<>\"\",Template!$L$40,\"\")","v":""},"BYU_Child",null,null,"USD",null,14872.39,null,null,null,{"$f":"IF(Template!$O$40<>\"\",Template!$O$40,\"\")","v":""}]
[null,{"$f":"Template!$H$41","v":0},{"$error":"#REF!"},"Calendar_Year_Mar",{"$f":"IF(LEFT(Template!$K$41,2)=\"CC\",Template!$K$41,\"\")","v":""},{"$f":"IF(LEFT(Template!$M$41,2)=\"RC\",Template!$M$41,\"\")","v":""},{"$f":"IF(LEFT(Template!$M$41,2)=\"SC\",Template!$M$41,\"\")","v":""},{"$f":"IF(LEFT(Template!$K$41,2)=\"AC\",Template!$K$41,\"\")","v":""},{"$f":"IF(OR(LEFT(Template!$K$41,2)=\"PJ\", LEFT(Template!$K$41,2)=\"PR\"),Template!$K$41,\"\")","v":""},{"$f":"IF(LEFT(Template!$K$41,2)=\"GF\",Template!$K$41,\"\")","v":""},{"$f":"IF(Template!$S$41<>\"\",Template!$S$41,\"\")","v":""},null,null,null,null,{"$f":"IF(Template!$L$41<>\"\",Template!$L$41,\"\")","v":""},"BYU_Child",null,null,"USD",null,1007.42,null,null,null,{"$f":"IF(Template!$O$41<>\"\",Template!$O$41,\"\")","v":""}]
[null,{"$f":"Template!$H$43","v":0},{"$error":"#REF!"},"Calendar_Year_Mar",{"$f":"IF(LEFT(Template!$K$43,2)=\"CC\",Template!$K$43,\"\")","v":""},{"$f":"IF(LEFT(Template!$M$43,2)=\"RC\",Template!$M$43,\"\")","v":""},{"$f":"IF(LEFT(Template!$M$43,2)=\"SC\",Template!$M$43,\"\")","v":""},{"$f":"IF(LEFT(Template!$K$43,2)=\"AC\",Template!$K$43,\"\")","v":""},{"$f":"IF(OR(LEFT(Template!$K$43,2)=\"PJ\", LEFT(Template!$K$43,2)=\"PR\"),Template!$K$43,\"\")","v":""},{"$f":"IF(LEFT(Template!$K$43,2)=\"GF\",Template!$K$43,\"\")","v":""},{"$f":"IF(Template!$S$43<>\"\",Template!$S$43,\"\")","v":""},null,null,null,null,{"$f":"IF(Template!$L$43<>\"\",Template!$L$43,\"\")","v":""},"BYU_Child",null,null,"USD",null,158.86000000000001,null,null,null,{"$f":"IF(Template!$O$43<>\"\",Template!$O$43,\"\")","v":""}]
[null,{"$f":"Template!$H$44","v":0},{"$error":"#REF!"},"Calendar_Year_Mar",{"$f":"IF(LEFT(Template!$K$44,2)=\"CC\",Template!$K$44,\"\")","v":""},{"$f":"IF(LEFT(Template!$M$44,2)=\"RC\",Template!$M$44,\"\")","v":""},{"$f":"IF(LEFT(Template!$M$44,2)=\"SC\",Template!$M$44,\"\")","v":""},{"$f":"IF(LEFT(Template!$K$44,2)=\"AC\",Template!$K$44,\"\")","v":""},{"$f":"IF(OR(LEFT(Template!$K$44,2)=\"PJ\", LEFT(Template!$K$44,2)=\"PR\"),Template!$K$44,\"\")","v":""},{"$f":"IF(LEFT(Template!$K$44,2)=\"GF\",Template!$K$44,\"\")","v":""},{"$f":"IF(Template!$S$44<>\"\",Template!$S$44,\"\")","v":""},null,null,null,null,{"$f":"IF(Template!$L$44<>\"\",Template!$L$44,\"\")","v":""},"BYU_Child",null,null,"USD",null,82.08,null,null,null,{"$f":"IF(Template!$O$44<>\"\",Template!$O$44,\"\")","v":""}]
[null,{"$f":"Template!$H$49","v":0},{"$error":"#REF!"},"Calendar_Year_Mar",{"$f":"IF(LEFT(Template!$K$49,2)=\"CC\",Template!$K$49,\"\")","v":""},{"$f":"IF(LEFT(Template!$M$49,2)=\"RC\",Template!$M$49,\"\")","v":""},{"$f":"IF(LEFT(Template!$M$49,2)=\"SC\",Template!$M$49,\"\")","v":""},{"$f":"IF(LEFT(Template!$K$49,2)=\"AC\",Template!$K$49,\"\")","v":""},{"$f":"IF(OR(LEFT(Template!$K$49,2)=\"PJ\", LEFT(Template!$K$49,2)=\"PR\"),Template!$K$49,\"\")","v":""},{"$f":"IF(LEFT(Template!$K$49,2)=\"GF\",Template!$K$49,\"\")","v":""},{"$f":"IF(Template!$S$49<>\"\",Template!$S$49,\"\")","v":""},null,null,null,null,{"$f":"IF(Template!$L$49<>\"\",Template!$L$49,\"\")","v":""},"BYU_Child",null,null,"USD",null,10968.81,null,null,null,{"$f":"IF(Template!$O$49<>\"\",Template!$O$49,\"\")","v":""}]
[null,{"$f":"Template!$H$50","v":0},{"$error":"#REF!"},"Calendar_Year_Mar",{"$f":"IF(LEFT(Template!$K$50,2)=\"CC\",Template!$K$50,\"\")","v":""},{"$f":"IF(LEFT(Template!$M$50,2)=\"RC\",Template!$M$50,\"\")","v":""},{"$f":"IF(LEFT(Template!$M$50,2)=\"SC\",Template!$M$50,\"\")","v":""},{"$f":"IF(LEFT(Template!$K$50,2)=\"AC\",Template!$K$50,\"\")","v":""},{"$f":"IF(OR(LEFT(Template!$K$50,2)=\"PJ\", LEFT(Template!$K$50,2)=\"PR\"),Template!$K$50,\"\")","v":""},{"$f":"IF(LEFT(Template!$K$50,2)=\"GF\",Template!$K$50,\"\")","v":""},{"$f":"IF(Template!$S$50<>\"\",Template!$S$50,\"\")","v":""},null,null,null,null,{"$f":"IF(Template!$L$50<>\"\",Template!$L$50,\"\")","v":""},"BYU_Child",null,null,"USD",null,30504.63,null,null,null,{"$f":"IF(Template!$O$50<>\"\",Template!$O$50,\"\")","v":""}]
[null,{"$f":"Template!$H$51","v":0},{"$error":"#REF!"},"Calendar_Year_Mar",{"$f":"IF(LEFT(Template!$K$51,2)=\"CC\",Template!$K$51,\"\")","v":""},{"$f":"IF(LEFT(Template!$M$51,2)=\"RC\",Template!$M$51,\"\")","v":""},{"$f":"IF(LEFT(Template!$M$51,2)=\"SC\",Template!$M$51,\"\")","v":""},{"$f":"IF(LEFT(Template!$K$51,2)=\"AC\",Template!$K$51,\"\")","v":""},{"$f":"IF(OR(LEFT(Template!$K$51,2)=\"PJ\", LEFT(Template!$K$51,2)=\"PR\"),Template!$K$51,\"\")","v":""},{"$f":"IF(LEFT(Template!$K$51,2)=\"GF\",Template!$K$51,\"\")","v":""},{"$f":"IF(Template!$S$51<>\"\",Template!$S$51,\"\")","v":""},null,null,null,null,{"$f":"IF(Template!$L$51<>\"\",Template!$L$51,\"\")","v":""},"BYU_Child",null,null,"USD",null,357.73,null,null,null,{"$f":"IF(Template!$O$51<>\"\",Template!$O$51,\"\")","v":""}]
[null,{"$f":"Template!$H$52","v":0},{"$error":"#REF!"},"Calendar_Year_Mar",{"$f":"IF(LEFT(Template!$K$52,2)=\"CC\",Template!$K$52,\"\")","v":""},{"$f":"IF(LEFT(Template!$M$52,2)=\"RC\",Template!$M$52,\"\")","v":""},{"$f":"IF(LEFT(Template!$M$52,2)=\"SC\",Template!$M$52,\"\")","v":""},{"$f":"IF(LEFT(Template!$K$52,2)=\"AC\",Template!$K$52,\"\")","v":""},{"$f":"IF(OR(LEFT(Template!$K$52,2)=\"PJ\", LEFT(Template!$K$52,2)=\"PR\"),Template!$K$52,\"\")","v":""},{"$f":"IF(LEFT(Template!$K$52,2)=\"GF\",Template!$K$52,\"\")","v":""},{"$f":"IF(Template!$S$52<>\"\",Template!$S$52,\"\")","v":""},null,null,null,null,{"$f":"IF(Template!$L$52<>\"\",Template!$L$52,\"\")","v":""},"BYU_Child",null,null,"USD",null,58.12,null,null,null,{"$f":"IF(Template!$O$52<>\"\",Template!$O$52,\"\")","v":""}]
[null,{"$f":"Template!$H$53","v":0},{"$error":"#REF!"},"Calendar_Year_Mar",{"$f":"IF(LEFT(Template!$K$53,2)=\"CC\",Template!$K$53,\"\")","v":""},{"$f":"IF(LEFT(Template!$M$53,2)=\"RC\",Template!$M$53,\"\")","v":""},{"$f":"IF(LEFT(Template!$M$53,2)=\"SC\",Template!$M$53,\"\")","v":""},{"$f":"IF(LEFT(Template!$K$53,2)=\"AC\",Template!$K$53,\"\")","v":""},{"$f":"IF(OR(LEFT(Template!$K$53,2)=\"PJ\", LEFT(Template!$K$53,2)=\"PR\"),Template!$K$53,\"\")","v":""},{"$f":"IF(LEFT(Template!$K$53,2)=\"GF\",Template!$K$53,\"\")","v":""},{"$f":"IF(Template!$S$53<>\"\",Template!$S$53,\"\")","v":""},null,null,null,null,{"$f":"IF(Template!$L$53<>\"\",Template!$L$53,\"\")","v":""},"BYU_Child",null,null,"USD",null,1512.76,null,null,null,{"$f":"IF(Template!$O$53<>\"\",Template!$O$53,\"\")","v":""}]
[null,{"$f":"Template!$H$54","v":0},{"$error":"#REF!"},"Calendar_Year_Mar",{"$f":"IF(LEFT(Template!$K$54,2)=\"CC\",Template!$K$54,\"\")","v":""},{"$f":"IF(LEFT(Template!$M$54,2)=\"RC\",Template!$M$54,\"\")","v":""},{"$f":"IF(LEFT(Template!$M$54,2)=\"SC\",Template!$M$54,\"\")","v":""},{"$f":"IF(LEFT(Template!$K$54,2)=\"AC\",Template!$K$54,\"\")","v":""},{"$f":"IF(OR(LEFT(Template!$K$54,2)=\"PJ\", LEFT(Template!$K$54,2)=\"PR\"),Template!$K$54,\"\")","v":""},{"$f":"IF(LEFT(Template!$K$54,2)=\"GF\",Template!$K$54,\"\")","v":""},{"$f":"IF(Template!$S$54<>\"\",Template!$S$54,\"\")","v":""},null,null,null,null,{"$f":"IF(Template!$L$54<>\"\",Template!$L$54,\"\")","v":""},"BYU_Child",null,null,"USD",null,762.83,null,null,null,{"$f":"IF(Template!$O$54<>\"\",Template!$O$54,\"\")","v":""}]
[null,{"$f":"Template!$H$55","v":0},{"$error":"#REF!"},"Calendar_Year_Mar",{"$f":"IF(LEFT(Template!$K$55,2)=\"CC\",Template!$K$55,\"\")","v":""},{"$f":"IF(LEFT(Template!$M$55,2)=\"RC\",Template!$M$55,\"\")","v":""},{"$f":"IF(LEFT(Template!$M$55,2)=\"SC\",Template!$M$55,\"\")","v":""},{"$f":"IF(LEFT(Template!$K$55,2)=\"AC\",Template!$K$55,\"\")","v":""},{"$f":"IF(OR(LEFT(Template!$K$55,2)=\"PJ\", LEFT(Template!$K$55,2)=\"PR\"),Template!$K$55,\"\")","v":""},{"$f":"IF(LEFT(Template!$K$55,2)=\"GF\",Template!$K$55,\"\")","v":""},{"$f":"IF(Template!$S$55<>\"\",Template!$S$55,\"\")","v":""},null,null,null,null,{"$f":"IF(Template!$L$55<>\"\",Template!$L$55,\"\")","v":""},"BYU_Child",null,null,"USD",null,143.29,null,null,null,{"$f":"IF(Template!$O$55<>\"\",Template!$O$55,\"\")","v":""}]
[null,{"$f":"Template!$H$56","v":0},{"$error":"#REF!"},"Calendar_Year_Mar",{"$f":"IF(LEFT(Template!$K$56,2)=\"CC\",Template!$K$56,\"\")","v":""},{"$f":"IF(LEFT(Template!$M$56,2)=\"RC\",Template!$M$56,\"\")","v":""},{"$f":"IF(LEFT(Template!$M$56,2)=\"SC\",Template!$M$56,\"\")","v":""},{"$f":"IF(LEFT(Template!$K$56,2)=\"AC\",Template!$K$56,\"\")","v":""},{"$f":"IF(OR(LEFT(Template!$K$56,2)=\"PJ\", LEFT(Template!$K$56,2)=\"PR\"),Template!$K$56,\"\")","v":""},{"$f":"IF(LEFT(Template!$K$56,2)=\"GF\",Template!$K$56,\"\")","v":""},{"$f":"IF(Template!$S$56<>\"\",Template!$S$56,\"\")","v":""},null,null,null,null,{"$f":"IF(Template!$L$56<>\"\",Template!$L$56,\"\")","v":""},"BYU_Child",null,null,"USD",null,1483.73,null,null,null,{"$f":"IF(Template!$O$56<>\"\",Template!$O$56,\"\")","v":""}]
[null,{"$f":"Template!$H$57","v":0},{"$error":"#REF!"},"Calendar_Year_Mar",{"$f":"IF(LEFT(Template!$K$57,2)=\"CC\",Template!$K$57,\"\")","v":""},{"$f":"IF(LEFT(Template!$M$57,2)=\"RC\",Template!$M$57,\"\")","v":""},{"$f":"IF(LEFT(Template!$M$57,2)=\"SC\",Template!$M$57,\"\")","v":""},{"$f":"IF(LEFT(Template!$K$57,2)=\"AC\",Template!$K$57,\"\")","v":""},{"$f":"IF(OR(LEFT(Template!$K$57,2)=\"PJ\", LEFT(Template!$K$57,2)=\"PR\"),Template!$K$57,\"\")","v":""},{"$f":"IF(LEFT(Template!$K$57,2)=\"GF\",Template!$K$57,\"\")","v":""},{"$f":"IF(Template!$S$57<>\"\",Template!$S$57,\"\")","v":""},null,null,null,null,{"$f":"IF(Template!$L$57<>\"\",Template!$L$57,\"\")","v":""},"BYU_Child",null,null,"USD",null,582.61,null,null,null,{"$f":"IF(Template!$O$57<>\"\",Template!$O$57,\"\")","v":""}]
[null,{"$f":"Template!$H$58","v":0},{"$error":"#REF!"},"Calendar_Year_Mar",{"$f":"IF(LEFT(Template!$K$58,2)=\"CC\",Template!$K$58,\"\")","v":""},{"$f":"IF(LEFT(Template!$M$58,2)=\"RC\",Template!$M$58,\"\")","v":""},{"$f":"IF(LEFT(Template!$M$58,2)=\"SC\",Template!$M$58,\"\")","v":""},{"$f":"IF(LEFT(Template!$K$58,2)=\"AC\",Template!$K$58,\"\")","v":""},{"$f":"IF(OR(LEFT(Template!$K$58,2)=\"PJ\", LEFT(Template!$K$58,2)=\"PR\"),Template!$K$58,\"\")","v":""},{"$f":"IF(LEFT(Template!$K$58,2)=\"GF\",Template!$K$58,\"\")","v":""},{"$f":"IF(Template!$S$58<>\"\",Template!$S$58,\"\")","v":""},null,null,null,null,{"$f":"IF(Template!$L$58<>\"\",Template!$L$58,\"\")","v":""},"BYU_Child",null,null,"USD",null,442.75,null,null,null,{"$f":"IF(Template!$O$58<>\"\",Template!$O$58,\"\")","v":""}]
[null,{"$f":"Template!$H$59","v":0},{"$error":"#REF!"},"Calendar_Year_Mar",{"$f":"IF(LEFT(Template!$K$59,2)=\"CC\",Template!$K$59,\"\")","v":""},{"$f":"IF(LEFT(Template!$M$59,2)=\"RC\",Template!$M$59,\"\")","v":""},{"$f":"IF(LEFT(Template!$M$59,2)=\"SC\",Template!$M$59,\"\")","v":""},{"$f":"IF(LEFT(Template!$K$59,2)=\"AC\",Template!$K$59,\"\")","v":""},{"$f":"IF(OR(LEFT(Template!$K$59,2)=\"PJ\", LEFT(Template!$K$59,2)=\"PR\"),Template!$K$59,\"\")","v":""},{"$f":"IF(LEFT(Template!$K$59,2)=\"GF\",Template!$K$59,\"\")","v":""},{"$f":"IF(Template!$S$59<>\"\",Template!$S$59,\"\")","v":""},null,null,null,null,{"$f":"IF(Template!$L$59<>\"\",Template!$L$59,\"\")","v":""},"BYU_Child",null,null,"USD",null,865.93,null,null,null,{"$f":"IF(Template!$O$59<>\"\",Template!$O$59,\"\")","v":""}]
[null,{"$f":"Template!$H$60","v":0},{"$error":"#REF!"},"Calendar_Year_Mar",{"$f":"IF(LEFT(Template!$K$60,2)=\"CC\",Template!$K$60,\"\")","v":""},{"$f":"IF(LEFT(Template!$M$60,2)=\"RC\",Template!$M$60,\"\")","v":""},{"$f":"IF(LEFT(Template!$M$60,2)=\"SC\",Template!$M$60,\"\")","v":""},{"$f":"IF(LEFT(Template!$K$60,2)=\"AC\",Template!$K$60,\"\")","v":""},{"$f":"IF(OR(LEFT(Template!$K$60,2)=\"PJ\", LEFT(Template!$K$60,2)=\"PR\"),Template!$K$60,\"\")","v":""},{"$f":"IF(LEFT(Template!$K$60,2)=\"GF\",Template!$K$60,\"\")","v":""},{"$f":"IF(Template!$S$60<>\"\",Template!$S$60,\"\")","v":""},null,null,null,null,{"$f":"IF(Template!$L$60<>\"\",Template!$L$60,\"\")","v":""},"BYU_Child",null,null,"USD",null,534.48,null,null,null,{"$f":"IF(Template!$O$60<>\"\",Template!$O$60,\"\")","v":""}]
[null,{"$f":"Template!$H$61","v":0},{"$error":"#REF!"},"Calendar_Year_Mar",{"$f":"IF(LEFT(Template!$K$61,2)=\"CC\",Template!$K$61,\"\")","v":""},{"$f":"IF(LEFT(Template!$M$61,2)=\"RC\",Template!$M$61,\"\")","v":""},{"$f":"IF(LEFT(Template!$M$61,2)=\"SC\",Template!$M$61,\"\")","v":""},{"$f":"IF(LEFT(Template!$K$61,2)=\"AC\",Template!$K$61,\"\")","v":""},{"$f":"IF(OR(LEFT(Template!$K$61,2)=\"PJ\", LEFT(Template!$K$61,2)=\"PR\"),Template!$K$61,\"\")","v":""},{"$f":"IF(LEFT(Template!$K$61,2)=\"GF\",Template!$K$61,\"\")","v":""},{"$f":"IF(Template!$S$61<>\"\",Template!$S$61,\"\")","v":""},null,null,null,null,{"$f":"IF(Template!$L$61<>\"\",Template!$L$61,\"\")","v":""},"BYU_Child",null,null,"USD",null,1730.22,null,null,null,{"$f":"IF(Template!$O$61<>\"\",Template!$O$61,\"\")","v":""}]
[null,{"$f":"Template!$H$62","v":0},{"$error":"#REF!"},"Calendar_Year_Mar",{"$f":"IF(LEFT(Template!$K$62,2)=\"CC\",Template!$K$62,\"\")","v":""},{"$f":"IF(LEFT(Template!$M$62,2)=\"RC\",Template!$M$62,\"\")","v":""},{"$f":"IF(LEFT(Template!$M$62,2)=\"SC\",Template!$M$62,\"\")","v":""},{"$f":"IF(LEFT(Template!$K$62,2)=\"AC\",Template!$K$62,\"\")","v":""},{"$f":"IF(OR(LEFT(Template!$K$62,2)=\"PJ\", LEFT(Template!$K$62,2)=\"PR\"),Template!$K$62,\"\")","v":""},{"$f":"IF(LEFT(Template!$K$62,2)=\"GF\",Template!$K$62,\"\")","v":""},{"$f":"IF(Template!$S$62<>\"\",Template!$S$62,\"\")","v":""},null,null,null,null,{"$f":"IF(Template!$L$62<>\"\",Template!$L$62,\"\")","v":""},"BYU_Child",null,null,"USD",null,150.04,null,null,null,{"$f":"IF(Template!$O$62<>\"\",Template!$O$62,\"\")","v":""}]
[null,{"$f":"Template!$H$63","v":0},{"$error":"#REF!"},"Calendar_Year_Mar",{"$f":"IF(LEFT(Template!$K$63,2)=\"CC\",Template!$K$63,\"\")","v":""},{"$f":"IF(LEFT(Template!$M$63,2)=\"RC\",Template!$M$63,\"\")","v":""},{"$f":"IF(LEFT(Template!$M$63,2)=\"SC\",Template!$M$63,\"\")","v":""},{"$f":"IF(LEFT(Template!$K$63,2)=\"AC\",Template!$K$63,\"\")","v":""},{"$f":"IF(OR(LEFT(Template!$K$63,2)=\"PJ\", LEFT(Template!$K$63,2)=\"PR\"),Template!$K$63,\"\")","v":""},{"$f":"IF(LEFT(Template!$K$63,2)=\"GF\",Template!$K$63,\"\")","v":""},{"$f":"IF(Template!$S$63<>\"\",Template!$S$63,\"\")","v":""},null,null,null,null,{"$f":"IF(Template!$L$63<>\"\",Template!$L$63,\"\")","v":""},"BYU_Child",null,null,"USD",null,897.13,null,null,null,{"$f":"IF(Template!$O$63<>\"\",Template!$O$63,\"\")","v":""}]
[null,{"$f":"Template!$H$64","v":0},{"$error":"#REF!"},"Calendar_Year_Mar",{"$f":"IF(LEFT(Template!$K$64,2)=\"CC\",Template!$K$64,\"\")","v":""},{"$f":"IF(LEFT(Template!$M$64,2)=\"RC\",Template!$M$64,\"\")","v":""},{"$f":"IF(LEFT(Template!$M$64,2)=\"SC\",Template!$M$64,\"\")","v":""},{"$f":"IF(LEFT(Template!$K$64,2)=\"AC\",Template!$K$64,\"\")","v":""},{"$f":"IF(OR(LEFT(Template!$K$64,2)=\"PJ\", LEFT(Template!$K$64,2)=\"PR\"),Template!$K$64,\"\")","v":""},{"$f":"IF(LEFT(Template!$K$64,2)=\"GF\",Template!$K$64,\"\")","v":""},{"$f":"IF(Template!$S$64<>\"\",Template!$S$64,\"\")","v":""},null,null,null,null,{"$f":"IF(Template!$L$64<>\"\",Template!$L$64,\"\")","v":""},"BYU_Child",null,null,"USD",null,431.54,null,null,null,{"$f":"IF(Template!$O$64<>\"\",Template!$O$64,\"\")","v":""}]
[null,{"$f":"Template!$H$65","v":0},{"$error":"#REF!"},"Calendar_Year_Mar",{"$f":"IF(LEFT(Template!$K$65,2)=\"CC\",Template!$K$65,\"\")","v":""},{"$f":"IF(LEFT(Template!$M$65,2)=\"RC\",Template!$M$65,\"\")","v":""},{"$f":"IF(LEFT(Template!$M$65,2)=\"SC\",Template!$M$65,\"\")","v":""},{"$f":"IF(LEFT(Template!$K$65,2)=\"AC\",Template!$K$65,\"\")","v":""},{"$f":"IF(OR(LEFT(Template!$K$65,2)=\"PJ\", LEFT(Template!$K$65,2)=\"PR\"),Template!$K$65,\"\")","v":""},{"$f":"IF(LEFT(Template!$K$65,2)=\"GF\",Template!$K$65,\"\")","v":""},{"$f":"IF(Template!$S$65<>\"\",Template!$S$65,\"\")","v":""},null,null,null,null,{"$f":"IF(Template!$L$65<>\"\",Template!$L$65,\"\")","v":""},"BYU_Child",null,null,"USD",null,2377.83,null,null,null,{"$f":"IF(Template!$O$65<>\"\",Template!$O$65,\"\")","v":""}]
[null,{"$f":"Template!$H$66","v":0},{"$error":"#REF!"},"Calendar_Year_Mar",{"$f":"IF(LEFT(Template!$K$66,2)=\"CC\",Template!$K$66,\"\")","v":""},{"$f":"IF(LEFT(Template!$M$66,2)=\"RC\",Template!$M$66,\"\")","v":""},{"$f":"IF(LEFT(Template!$M$66,2)=\"SC\",Template!$M$66,\"\")","v":""},{"$f":"IF(LEFT(Template!$K$66,2)=\"AC\",Template!$K$66,\"\")","v":""},{"$f":"IF(OR(LEFT(Template!$K$66,2)=\"PJ\", LEFT(Template!$K$66,2)=\"PR\"),Template!$K$66,\"\")","v":""},{"$f":"IF(LEFT(Template!$K$66,2)=\"GF\",Template!$K$66,\"\")","v":""},{"$f":"IF(Template!$S$66<>\"\",Template!$S$66,\"\")","v":""},null,null,null,null,{"$f":"IF(Template!$L$66<>\"\",Template!$L$66,\"\")","v":""},"BYU_Child",null,null,"USD",null,2503.56,null,null,null,{"$f":"IF(Template!$O$66<>\"\",Template!$O$66,\"\")","v":""}]
[null,{"$f":"Template!$H$67","v":0},{"$error":"#REF!"},"Calendar_Year_Mar",{"$f":"IF(LEFT(Template!$K$67,2)=\"CC\",Template!$K$67,\"\")","v":""},{"$f":"IF(LEFT(Template!$M$67,2)=\"RC\",Template!$M$67,\"\")","v":""},{"$f":"IF(LEFT(Template!$M$67,2)=\"SC\",Template!$M$67,\"\")","v":""},{"$f":"IF(LEFT(Template!$K$67,2)=\"AC\",Template!$K$67,\"\")","v":""},{"$f":"IF(OR(LEFT(Template!$K$67,2)=\"PJ\", LEFT(Template!$K$67,2)=\"PR\"),Template!$K$67,\"\")","v":""},{"$f":"IF(LEFT(Template!$K$67,2)=\"GF\",Template!$K$67,\"\")","v":""},{"$f":"IF(Template!$S$67<>\"\",Template!$S$67,\"\")","v":""},null,null,null,null,{"$f":"IF(Template!$L$67<>\"\",Template!$L$67,\"\")","v":""},"BYU_Child",null,null,"USD",null,430.53,null,null,null,{"$f":"IF(Template!$O$67<>\"\",Template!$O$67,\"\")","v":""}]
[null,{"$f":"Template!$H$68","v":0},{"$error":"#REF!"},"Calendar_Year_Mar",{"$f":"IF(LEFT(Template!$K$68,2)=\"CC\",Template!$K$68,\"\")","v":""},{"$f":"IF(LEFT(Template!$M$68,2)=\"RC\",Template!$M$68,\"\")","v":""},{"$f":"IF(LEFT(Template!$M$68,2)=\"SC\",Template!$M$68,\"\")","v":""},{"$f":"IF(LEFT(Template!$K$68,2)=\"AC\",Template!$K$68,\"\")","v":""},{"$f":"IF(OR(LEFT(Template!$K$68,2)=\"PJ\", LEFT(Template!$K$68,2)=\"PR\"),Template!$K$68,\"\")","v":""},{"$f":"IF(LEFT(Template!$K$68,2)=\"GF\",Template!$K$68,\"\")","v":""},{"$f":"IF(Template!$S$68<>\"\",Template!$S$68,\"\")","v":""},null,null,null,null,{"$f":"IF(Template!$L$68<>\"\",Template!$L$68,\"\")","v":""},"BYU_Child",null,null,"USD",null,471.7,null,null,null,{"$f":"IF(Template!$O$68<>\"\",Template!$O$68,\"\")","v":""}]
[null,{"$f":"Template!$H$69","v":0},{"$error":"#REF!"},"Calendar_Year_Mar",{"$f":"IF(LEFT(Template!$K$69,2)=\"CC\",Template!$K$69,\"\")","v":""},{"$f":"IF(LEFT(Template!$M$69,2)=\"RC\",Template!$M$69,\"\")","v":""},{"$f":"IF(LEFT(Template!$M$69,2)=\"SC\",Template!$M$69,\"\")","v":""},{"$f":"IF(LEFT(Template!$K$69,2)=\"AC\",Template!$K$69,\"\")","v":""},{"$f":"IF(OR(LEFT(Template!$K$69,2)=\"PJ\", LEFT(Template!$K$69,2)=\"PR\"),Template!$K$69,\"\")","v":""},{"$f":"IF(LEFT(Template!$K$69,2)=\"GF\",Template!$K$69,\"\")","v":""},{"$f":"IF(Template!$S$69<>\"\",Template!$S$69,\"\")","v":""},null,null,null,null,{"$f":"IF(Template!$L$69<>\"\",Template!$L$69,\"\")","v":""},"BYU_Child",null,null,"USD",null,6.53,null,null,null,{"$f":"IF(Template!$O$69<>\"\",Template!$O$69,\"\")","v":""}]
[null,{"$f":"Template!$H$70","v":0},{"$error":"#REF!"},"Calendar_Year_Mar",{"$f":"IF(LEFT(Template!$K$70,2)=\"CC\",Template!$K$70,\"\")","v":""},{"$f":"IF(LEFT(Template!$M$70,2)=\"RC\",Template!$M$70,\"\")","v":""},{"$f":"IF(LEFT(Template!$M$70,2)=\"SC\",Template!$M$70,\"\")","v":""},{"$f":"IF(LEFT(Template!$K$70,2)=\"AC\",Template!$K$70,\"\")","v":""},{"$f":"IF(OR(LEFT(Template!$K$70,2)=\"PJ\", LEFT(Template!$K$70,2)=\"PR\"),Template!$K$70,\"\")","v":""},{"$f":"IF(LEFT(Template!$K$70,2)=\"GF\",Template!$K$70,\"\")","v":""},{"$f":"IF(Template!$S$70<>\"\",Template!$S$70,\"\")","v":""},null,null,null,null,{"$f":"IF(Template!$L$70<>\"\",Template!$L$70,\"\")","v":""},"BYU_Child",null,null,"USD",null,1366.23,null,null,null,{"$f":"IF(Template!$O$70<>\"\",Template!$O$70,\"\")","v":""}]
[null,{"$f":"Template!$H$71","v":0},{"$error":"#REF!"},"Calendar_Year_Mar",{"$f":"IF(LEFT(Template!$K$71,2)=\"CC\",Template!$K$71,\"\")","v":""},{"$f":"IF(LEFT(Template!$M$71,2)=\"RC\",Template!$M$71,\"\")","v":""},{"$f":"IF(LEFT(Template!$M$71,2)=\"SC\",Template!$M$71,\"\")","v":""},{"$f":"IF(LEFT(Template!$K$71,2)=\"AC\",Template!$K$71,\"\")","v":""},{"$f":"IF(OR(LEFT(Template!$K$71,2)=\"PJ\", LEFT(Template!$K$71,2)=\"PR\"),Template!$K$71,\"\")","v":""},{"$f":"IF(LEFT(Template!$K$71,2)=\"GF\",Template!$K$71,\"\")","v":""},{"$f":"IF(Template!$S$71<>\"\",Template!$S$71,\"\")","v":""},null,null,null,null,{"$f":"IF(Template!$L$71<>\"\",Template!$L$71,\"\")","v":""},"BYU_Child",null,null,"USD",null,81.88,null,null,null,{"$f":"IF(Template!$O$71<>\"\",Template!$O$71,\"\")","v":""}]
[null,{"$f":"Template!$H$72","v":0},{"$error":"#REF!"},"Calendar_Year_Mar",{"$f":"IF(LEFT(Template!$K$72,2)=\"CC\",Template!$K$72,\"\")","v":""},{"$f":"IF(LEFT(Template!$M$72,2)=\"RC\",Template!$M$72,\"\")","v":""},{"$f":"IF(LEFT(Template!$M$72,2)=\"SC\",Template!$M$72,\"\")","v":""},{"$f":"IF(LEFT(Template!$K$72,2)=\"AC\",Template!$K$72,\"\")","v":""},{"$f":"IF(OR(LEFT(Template!$K$72,2)=\"PJ\", LEFT(Template!$K$72,2)=\"PR\"),Template!$K$72,\"\")","v":""},{"$f":"IF(LEFT(Template!$K$72,2)=\"GF\",Template!$K$72,\"\")","v":""},{"$f":"IF(Template!$S$72<>\"\",Template!$S$72,\"\")","v":""},null,null,null,null,{"$f":"IF(Template!$L$72<>\"\",Template!$L$72,\"\")","v":""},"BYU_Child",null,null,"USD",null,11425.26,null,null,null,{"$f":"IF(Template!$O$72<>\"\",Template!$O$72,\"\")","v":""}]
[null,{"$f":"Template!$H$73","v":0},{"$error":"#REF!"},"Calendar_Year_Mar",{"$f":"IF(LEFT(Template!$K$73,2)=\"CC\",Template!$K$73,\"\")","v":""},{"$f":"IF(LEFT(Template!$M$73,2)=\"RC\",Template!$M$73,\"\")","v":""},{"$f":"IF(LEFT(Template!$M$73,2)=\"SC\",Template!$M$73,\"\")","v":""},{"$f":"IF(LEFT(Template!$K$73,2)=\"AC\",Template!$K$73,\"\")","v":""},{"$f":"IF(OR(LEFT(Template!$K$73,2)=\"PJ\", LEFT(Template!$K$73,2)=\"PR\"),Template!$K$73,\"\")","v":""},{"$f":"IF(LEFT(Template!$K$73,2)=\"GF\",Template!$K$73,\"\")","v":""},{"$f":"IF(Template!$S$73<>\"\",Template!$S$73,\"\")","v":""},null,null,null,null,{"$f":"IF(Template!$L$73<>\"\",Template!$L$73,\"\")","v":""},"BYU_Child",null,null,"USD",null,689.3,null,null,null,{"$f":"IF(Template!$O$73<>\"\",Template!$O$73,\"\")","v":""}]
[null,{"$f":"Template!$H$75","v":0},{"$error":"#REF!"},"Calendar_Year_Mar",{"$f":"IF(LEFT(Template!$K$75,2)=\"CC\",Template!$K$75,\"\")","v":""},{"$f":"IF(LEFT(Template!$M$75,2)=\"RC\",Template!$M$75,\"\")","v":""},{"$f":"IF(LEFT(Template!$M$75,2)=\"SC\",Template!$M$75,\"\")","v":""},{"$f":"IF(LEFT(Template!$K$75,2)=\"AC\",Template!$K$75,\"\")","v":""},{"$f":"IF(OR(LEFT(Template!$K$75,2)=\"PJ\", LEFT(Template!$K$75,2)=\"PR\"),Template!$K$75,\"\")","v":""},{"$f":"IF(LEFT(Template!$K$75,2)=\"GF\",Template!$K$75,\"\")","v":""},{"$f":"IF(Template!$S$75<>\"\",Template!$S$75,\"\")","v":""},null,null,null,null,{"$f":"IF(Template!$L$75<>\"\",Template!$L$75,\"\")","v":""},"BYU_Child",null,null,"USD",null,5452.44,null,null,null,{"$f":"IF(Template!$O$75<>\"\",Template!$O$75,\"\")","v":""}]
[null,{"$f":"Template!$H$76","v":0},{"$error":"#REF!"},"Calendar_Year_Mar",{"$f":"IF(LEFT(Template!$K$76,2)=\"CC\",Template!$K$76,\"\")","v":""},{"$f":"IF(LEFT(Template!$M$76,2)=\"RC\",Template!$M$76,\"\")","v":""},{"$f":"IF(LEFT(Template!$M$76,2)=\"SC\",Template!$M$76,\"\")","v":""},{"$f":"IF(LEFT(Template!$K$76,2)=\"AC\",Template!$K$76,\"\")","v":""},{"$f":"IF(OR(LEFT(Template!$K$76,2)=\"PJ\", LEFT(Template!$K$76,2)=\"PR\"),Template!$K$76,\"\")","v":""},{"$f":"IF(LEFT(Template!$K$76,2)=\"GF\",Template!$K$76,\"\")","v":""},{"$f":"IF(Template!$S$76<>\"\",Template!$S$76,\"\")","v":""},null,null,null,null,{"$f":"IF(Template!$L$76<>\"\",Template!$L$76,\"\")","v":""},"BYU_Child",null,null,"USD",null,197,null,null,null,{"$f":"IF(Template!$O$76<>\"\",Template!$O$76,\"\")","v":""}]
[null,{"$f":"Template!$H$81","v":0},{"$error":"#REF!"},"Calendar_Year_Mar",{"$f":"IF(LEFT(Template!$K$81,2)=\"CC\",Template!$K$81,\"\")","v":""},{"$f":"IF(LEFT(Template!$M$81,2)=\"RC\",Template!$M$81,\"\")","v":""},{"$f":"IF(LEFT(Template!$M$81,2)=\"SC\",Template!$M$81,\"\")","v":""},{"$f":"IF(LEFT(Template!$K$81,2)=\"AC\",Template!$K$81,\"\")","v":""},{"$f":"IF(OR(LEFT(Template!$K$81,2)=\"PJ\", LEFT(Template!$K$81,2)=\"PR\"),Template!$K$81,\"\")","v":""},{"$f":"IF(LEFT(Template!$K$81,2)=\"GF\",Template!$K$81,\"\")","v":""},{"$f":"IF(Template!$S$81<>\"\",Template!$S$81,\"\")","v":""},null,null,null,null,{"$f":"IF(Template!$L$81<>\"\",Template!$L$81,\"\")","v":""},"BYU_Child",null,null,"USD",null,9445.43,null,null,null,{"$f":"IF(Template!$O$81<>\"\",Template!$O$81,\"\")","v":""}]
[null,{"$f":"Template!$H$82","v":0},{"$error":"#REF!"},"Calendar_Year_Mar",{"$f":"IF(LEFT(Template!$K$82,2)=\"CC\",Template!$K$82,\"\")","v":""},{"$f":"IF(LEFT(Template!$M$82,2)=\"RC\",Template!$M$82,\"\")","v":""},{"$f":"IF(LEFT(Template!$M$82,2)=\"SC\",Template!$M$82,\"\")","v":""},{"$f":"IF(LEFT(Template!$K$82,2)=\"AC\",Template!$K$82,\"\")","v":""},{"$f":"IF(OR(LEFT(Template!$K$82,2)=\"PJ\", LEFT(Template!$K$82,2)=\"PR\"),Template!$K$82,\"\")","v":""},{"$f":"IF(LEFT(Template!$K$82,2)=\"GF\",Template!$K$82,\"\")","v":""},{"$f":"IF(Template!$S$82<>\"\",Template!$S$82,\"\")","v":""},null,null,null,null,{"$f":"IF(Template!$L$82<>\"\",Template!$L$82,\"\")","v":""},"BYU_Child",null,null,"USD",null,1697.49,null,null,null,{"$f":"IF(Template!$O$82<>\"\",Template!$O$82,\"\")","v":""}]
[null,{"$f":"Template!$H$83","v":0},{"$error":"#REF!"},"Calendar_Year_Mar",{"$f":"IF(LEFT(Template!$K$83,2)=\"CC\",Template!$K$83,\"\")","v":""},{"$f":"IF(LEFT(Template!$M$83,2)=\"RC\",Template!$M$83,\"\")","v":""},{"$f":"IF(LEFT(Template!$M$83,2)=\"SC\",Template!$M$83,\"\")","v":""},{"$f":"IF(LEFT(Template!$K$83,2)=\"AC\",Template!$K$83,\"\")","v":""},{"$f":"IF(OR(LEFT(Template!$K$83,2)=\"PJ\", LEFT(Template!$K$83,2)=\"PR\"),Template!$K$83,\"\")","v":""},{"$f":"IF(LEFT(Template!$K$83,2)=\"GF\",Template!$K$83,\"\")","v":""},{"$f":"IF(Template!$S$83<>\"\",Template!$S$83,\"\")","v":""},null,null,null,null,{"$f":"IF(Template!$L$83<>\"\",Template!$L$83,\"\")","v":""},"BYU_Child",null,null,"USD",null,736.9,null,null,null,{"$f":"IF(Template!$O$83<>\"\",Template!$O$83,\"\")","v":""}]
[null,{"$f":"Template!$H$85","v":0},{"$error":"#REF!"},"Calendar_Year_Mar",{"$f":"IF(LEFT(Template!$K$85,2)=\"CC\",Template!$K$85,\"\")","v":""},{"$f":"IF(LEFT(Template!$M$85,2)=\"RC\",Template!$M$85,\"\")","v":""},{"$f":"IF(LEFT(Template!$M$85,2)=\"SC\",Template!$M$85,\"\")","v":""},{"$f":"IF(LEFT(Template!$K$85,2)=\"AC\",Template!$K$85,\"\")","v":""},{"$f":"IF(OR(LEFT(Template!$K$85,2)=\"PJ\", LEFT(Template!$K$85,2)=\"PR\"),Template!$K$85,\"\")","v":""},{"$f":"IF(LEFT(Template!$K$85,2)=\"GF\",Template!$K$85,\"\")","v":""},{"$f":"IF(Template!$S$85<>\"\",Template!$S$85,\"\")","v":""},null,null,null,null,{"$f":"IF(Template!$L$85<>\"\",Template!$L$85,\"\")","v":""},"BYU_Child",null,null,"USD",null,781.78,null,null,null,{"$f":"IF(Template!$O$85<>\"\",Template!$O$85,\"\")","v":""}]
[null,{"$f":"Template!$H$86","v":0},{"$error":"#REF!"},"Calendar_Year_Mar",{"$f":"IF(LEFT(Template!$K$86,2)=\"CC\",Template!$K$86,\"\")","v":""},{"$f":"IF(LEFT(Template!$M$86,2)=\"RC\",Template!$M$86,\"\")","v":""},{"$f":"IF(LEFT(Template!$M$86,2)=\"SC\",Template!$M$86,\"\")","v":""},{"$f":"IF(LEFT(Template!$K$86,2)=\"AC\",Template!$K$86,\"\")","v":""},{"$f":"IF(OR(LEFT(Template!$K$86,2)=\"PJ\", LEFT(Template!$K$86,2)=\"PR\"),Template!$K$86,\"\")","v":""},{"$f":"IF(LEFT(Template!$K$86,2)=\"GF\",Template!$K$86,\"\")","v":""},{"$f":"IF(Template!$S$86<>\"\",Template!$S$86,\"\")","v":""},null,null,null,null,{"$f":"IF(Template!$L$86<>\"\",Template!$L$86,\"\")","v":""},"BYU_Child",null,null,"USD",null,3467.46,null,null,null,{"$f":"IF(Template!$O$86<>\"\",Template!$O$86,\"\")","v":""}]
[null,{"$f":"Template!$H$87","v":0},{"$error":"#REF!"},"Calendar_Year_Mar",{"$f":"IF(LEFT(Template!$K$87,2)=\"CC\",Template!$K$87,\"\")","v":""},{"$f":"IF(LEFT(Template!$M$87,2)=\"RC\",Template!$M$87,\"\")","v":""},{"$f":"IF(LEFT(Template!$M$87,2)=\"SC\",Template!$M$87,\"\")","v":""},{"$f":"IF(LEFT(Template!$K$87,2)=\"AC\",Template!$K$87,\"\")","v":""},{"$f":"IF(OR(LEFT(Template!$K$87,2)=\"PJ\", LEFT(Template!$K$87,2)=\"PR\"),Template!$K$87,\"\")","v":""},{"$f":"IF(LEFT(Template!$K$87,2)=\"GF\",Template!$K$87,\"\")","v":""},{"$f":"IF(Template!$S$87<>\"\",Template!$S$87,\"\")","v":""},null,null,null,null,{"$f":"IF(Template!$L$87<>\"\",Template!$L$87,\"\")","v":""},"BYU_Child",null,null,"USD",null,1957.71,null,null,null,{"$f":"IF(Template!$O$87<>\"\",Template!$O$87,\"\")","v":""}]
[null,{"$f":"Template!$H$88","v":0},{"$error":"#REF!"},"Calendar_Year_Mar",{"$f":"IF(LEFT(Template!$K$88,2)=\"CC\",Template!$K$88,\"\")","v":""},{"$f":"IF(LEFT(Template!$M$88,2)=\"RC\",Template!$M$88,\"\")","v":""},{"$f":"IF(LEFT(Template!$M$88,2)=\"SC\",Template!$M$88,\"\")","v":""},{"$f":"IF(LEFT(Template!$K$88,2)=\"AC\",Template!$K$88,\"\")","v":""},{"$f":"IF(OR(LEFT(Template!$K$88,2)=\"PJ\", LEFT(Template!$K$88,2)=\"PR\"),Template!$K$88,\"\")","v":""},{"$f":"IF(LEFT(Template!$K$88,2)=\"GF\",Template!$K$88,\"\")","v":""},{"$f":"IF(Template!$S$88<>\"\",Template!$S$88,\"\")","v":""},null,null,null,null,{"$f":"IF(Template!$L$88<>\"\",Template!$L$88,\"\")","v":""},"BYU_Child",null,null,"USD",null,153.25,null,null,null,{"$f":"IF(Template!$O$88<>\"\",Template!$O$88,\"\")","v":""}]
[null,{"$f":"Template!$H$89","v":0},{"$error":"#REF!"},"Calendar_Year_Mar",{"$f":"IF(LEFT(Template!$K$89,2)=\"CC\",Template!$K$89,\"\")","v":""},{"$f":"IF(LEFT(Template!$M$89,2)=\"RC\",Template!$M$89,\"\")","v":""},{"$f":"IF(LEFT(Template!$M$89,2)=\"SC\",Template!$M$89,\"\")","v":""},{"$f":"IF(LEFT(Template!$K$89,2)=\"AC\",Template!$K$89,\"\")","v":""},{"$f":"IF(OR(LEFT(Template!$K$89,2)=\"PJ\", LEFT(Template!$K$89,2)=\"PR\"),Template!$K$89,\"\")","v":""},{"$f":"IF(LEFT(Template!$K$89,2)=\"GF\",Template!$K$89,\"\")","v":""},{"$f":"IF(Template!$S$89<>\"\",Template!$S$89,\"\")","v":""},null,null,null,null,{"$f":"IF(Template!$L$89<>\"\",Template!$L$89,\"\")","v":""},"BYU_Child",null,null,"USD",null,85.92,null,null,null,{"$f":"IF(Template!$O$89<>\"\",Template!$O$89,\"\")","v":""}]
[null,{"$f":"Template!$H$90","v":0},{"$error":"#REF!"},"Calendar_Year_Mar",{"$f":"IF(LEFT(Template!$K$90,2)=\"CC\",Template!$K$90,\"\")","v":""},{"$f":"IF(LEFT(Template!$M$90,2)=\"RC\",Template!$M$90,\"\")","v":""},{"$f":"IF(LEFT(Template!$M$90,2)=\"SC\",Template!$M$90,\"\")","v":""},{"$f":"IF(LEFT(Template!$K$90,2)=\"AC\",Template!$K$90,\"\")","v":""},{"$f":"IF(OR(LEFT(Template!$K$90,2)=\"PJ\", LEFT(Template!$K$90,2)=\"PR\"),Template!$K$90,\"\")","v":""},{"$f":"IF(LEFT(Template!$K$90,2)=\"GF\",Template!$K$90,\"\")","v":""},{"$f":"IF(Template!$S$90<>\"\",Template!$S$90,\"\")","v":""},null,null,null,null,{"$f":"IF(Template!$L$90<>\"\",Template!$L$90,\"\")","v":""},"BYU_Child",null,null,"USD",null,14317.9,null,null,null,{"$f":"IF(Template!$O$90<>\"\",Template!$O$90,\"\")","v":""}]
[null,{"$f":"Template!$H$95","v":0},{"$error":"#REF!"},"Calendar_Year_Mar",{"$f":"IF(LEFT(Template!$K$95,2)=\"CC\",Template!$K$95,\"\")","v":""},{"$f":"IF(LEFT(Template!$M$95,2)=\"RC\",Template!$M$95,\"\")","v":""},{"$f":"IF(LEFT(Template!$M$95,2)=\"SC\",Template!$M$95,\"\")","v":""},{"$f":"IF(LEFT(Template!$K$95,2)=\"AC\",Template!$K$95,\"\")","v":""},{"$f":"IF(OR(LEFT(Template!$K$95,2)=\"PJ\", LEFT(Template!$K$95,2)=\"PR\"),Template!$K$95,\"\")","v":""},{"$f":"IF(LEFT(Template!$K$95,2)=\"GF\",Template!$K$95,\"\")","v":""},{"$f":"IF(Template!$S$95<>\"\",Template!$S$95,\"\")","v":""},null,null,null,null,{"$f":"IF(Template!$L$95<>\"\",Template!$L$95,\"\")","v":""},"BYU_Child",null,null,"USD",null,6331.66,null,null,null,{"$f":"IF(Template!$O$95<>\"\",Template!$O$95,\"\")","v":""}]
[null,{"$f":"Template!$H$98","v":0},{"$error":"#REF!"},"Calendar_Year_Mar",{"$f":"IF(LEFT(Template!$K$98,2)=\"CC\",Template!$K$98,\"\")","v":""},{"$f":"IF(LEFT(Template!$M$98,2)=\"RC\",Template!$M$98,\"\")","v":""},{"$f":"IF(LEFT(Template!$M$98,2)=\"SC\",Template!$M$98,\"\")","v":""},{"$f":"IF(LEFT(Template!$K$98,2)=\"AC\",Template!$K$98,\"\")","v":""},{"$f":"IF(OR(LEFT(Template!$K$98,2)=\"PJ\", LEFT(Template!$K$98,2)=\"PR\"),Template!$K$98,\"\")","v":""},{"$f":"IF(LEFT(Template!$K$98,2)=\"GF\",Template!$K$98,\"\")","v":""},{"$f":"IF(Template!$S$98<>\"\",Template!$S$98,\"\")","v":""},null,null,null,null,{"$f":"IF(Template!$L$98<>\"\",Template!$L$98,\"\")","v":""},"BYU_Child",null,null,"USD",null,247.81,null,null,null,{"$f":"IF(Template!$O$98<>\"\",Template!$O$98,\"\")","v":""}]
[null,{"$f":"Template!$H$99","v":0},{"$f":"IF(B71=B70,C70+1,1)","v":{"$error":"#REF!"}},"Calendar_Year_Mar",{"$f":"IF(LEFT(Template!$K$99,2)=\"CC\",Template!$K$99,\"\")","v":""},{"$f":"IF(LEFT(Template!$M$99,2)=\"RC\",Template!$M$99,\"\")","v":""},{"$f":"IF(LEFT(Template!$M$99,2)=\"SC\",Template!$M$99,\"\")","v":""},{"$f":"IF(LEFT(Template!$K$99,2)=\"AC\",Template!$K$99,\"\")","v":""},{"$f":"IF(OR(LEFT(Template!$K$99,2)=\"PJ\", LEFT(Template!$K$99,2)=\"PR\"),Template!$K$99,\"\")","v":""},{"$f":"IF(LEFT(Template!$K$99,2)=\"GF\",Template!$K$99,\"\")","v":""},{"$f":"IF(Template!$S$99<>\"\",Template!$S$99,\"\")","v":""},null,null,null,null,{"$f":"IF(Template!$L$99<>\"\",Template!$L$99,\"\")","v":""},"BYU_Child",null,null,"USD",null,14286.35,null,null,null,{"$f":"IF(Template!$O$99<>\"\",Template!$O$99,\"\")","v":""}]
[null,{"$f":"Template!$H$100","v":0},{"$error":"#REF!"},"Calendar_Year_Mar",{"$f":"IF(LEFT(Template!$K$100,2)=\"CC\",Template!$K$100,\"\")","v":""},{"$f":"IF(LEFT(Template!$M$100,2)=\"RC\",Template!$M$100,\"\")","v":""},{"$f":"IF(LEFT(Template!$M$100,2)=\"SC\",Template!$M$100,\"\")","v":""},{"$f":"IF(LEFT(Template!$K$100,2)=\"AC\",Template!$K$100,\"\")","v":""},{"$f":"IF(OR(LEFT(Template!$K$100,2)=\"PJ\", LEFT(Template!$K$100,2)=\"PR\"),Template!$K$100,\"\")","v":""},{"$f":"IF(LEFT(Template!$K$100,2)=\"GF\",Template!$K$100,\"\")","v":""},{"$f":"IF(Template!$S$100<>\"\",Template!$S$100,\"\")","v":""},null,null,null,null,{"$f":"IF(Template!$L$100<>\"\",Template!$L$100,\"\")","v":""},"BYU_Child",null,null,"USD",null,72.010000000000005,null,null,null,{"$f":"IF(Template!$O$100<>\"\",Template!$O$100,\"\")","v":""}]
[null,{"$f":"Template!$H$101","v":0},{"$error":"#REF!"},"Calendar_Year_Mar",{"$f":"IF(LEFT(Template!$K$101,2)=\"CC\",Template!$K$101,\"\")","v":""},{"$f":"IF(LEFT(Template!$M$101,2)=\"RC\",Template!$M$101,\"\")","v":""},{"$f":"IF(LEFT(Template!$M$101,2)=\"SC\",Template!$M$101,\"\")","v":""},{"$f":"IF(LEFT(Template!$K$101,2)=\"AC\",Template!$K$101,\"\")","v":""},{"$f":"IF(OR(LEFT(Template!$K$101,2)=\"PJ\", LEFT(Template!$K$101,2)=\"PR\"),Template!$K$101,\"\")","v":""},{"$f":"IF(LEFT(Template!$K$101,2)=\"GF\",Template!$K$101,\"\")","v":""},{"$f":"IF(Template!$S$101<>\"\",Template!$S$101,\"\")","v":""},null,null,null,null,{"$f":"IF(Template!$L$101<>\"\",Template!$L$101,\"\")","v":""},"BYU_Child",null,null,"USD",null,49.25,null,null,null,{"$f":"IF(Template!$O$101<>\"\",Template!$O$101,\"\")","v":""}]
[null,{"$f":"Template!$H$107","v":0},{"$error":"#REF!"},"Calendar_Year_Mar",{"$f":"IF(LEFT(Template!$K$107,2)=\"CC\",Template!$K$107,\"\")","v":""},{"$f":"IF(LEFT(Template!$M$107,2)=\"RC\",Template!$M$107,\"\")","v":""},{"$f":"IF(LEFT(Template!$M$107,2)=\"SC\",Template!$M$107,\"\")","v":""},{"$f":"IF(LEFT(Template!$K$107,2)=\"AC\",Template!$K$107,\"\")","v":""},{"$f":"IF(OR(LEFT(Template!$K$107,2)=\"PJ\", LEFT(Template!$K$107,2)=\"PR\"),Template!$K$107,\"\")","v":""},{"$f":"IF(LEFT(Template!$K$107,2)=\"GF\",Template!$K$107,\"\")","v":""},{"$f":"IF(Template!$S$107<>\"\",Template!$S$107,\"\")","v":""},null,null,null,null,{"$f":"IF(Template!$L$107<>\"\",Template!$L$107,\"\")","v":""},"BYU_Child",null,null,"USD",null,181.06,null,null,null,{"$f":"IF(Template!$O$107<>\"\",Template!$O$107,\"\")","v":""}]
[null,{"$f":"Template!$H$108","v":0},{"$error":"#REF!"},"Calendar_Year_Mar",{"$f":"IF(LEFT(Template!$K$108,2)=\"CC\",Template!$K$108,\"\")","v":""},{"$f":"IF(LEFT(Template!$M$108,2)=\"RC\",Template!$M$108,\"\")","v":""},{"$f":"IF(LEFT(Template!$M$108,2)=\"SC\",Template!$M$108,\"\")","v":""},{"$f":"IF(LEFT(Template!$K$108,2)=\"AC\",Template!$K$108,\"\")","v":""},{"$f":"IF(OR(LEFT(Template!$K$108,2)=\"PJ\", LEFT(Template!$K$108,2)=\"PR\"),Template!$K$108,\"\")","v":""},{"$f":"IF(LEFT(Template!$K$108,2)=\"GF\",Template!$K$108,\"\")","v":""},{"$f":"IF(Template!$S$108<>\"\",Template!$S$108,\"\")","v":""},null,null,null,null,{"$f":"IF(Template!$L$108<>\"\",Template!$L$108,\"\")","v":""},"BYU_Child",null,null,"USD",null,19.27,null,null,null,{"$f":"IF(Template!$O$108<>\"\",Template!$O$108,\"\")","v":""}]
[null,{"$f":"Template!$H$113","v":0},{"$error":"#REF!"},"Calendar_Year_Mar",{"$f":"IF(LEFT(Template!$K$113,2)=\"CC\",Template!$K$113,\"\")","v":""},{"$f":"IF(LEFT(Template!$M$113,2)=\"RC\",Template!$M$113,\"\")","v":""},{"$f":"IF(LEFT(Template!$M$113,2)=\"SC\",Template!$M$113,\"\")","v":""},{"$f":"IF(LEFT(Template!$K$113,2)=\"AC\",Template!$K$113,\"\")","v":""},{"$f":"IF(OR(LEFT(Template!$K$113,2)=\"PJ\", LEFT(Template!$K$113,2)=\"PR\"),Template!$K$113,\"\")","v":""},{"$f":"IF(LEFT(Template!$K$113,2)=\"GF\",Template!$K$113,\"\")","v":""},{"$f":"IF(Template!$S$113<>\"\",Template!$S$113,\"\")","v":""},null,null,null,null,{"$f":"IF(Template!$L$113<>\"\",Template!$L$113,\"\")","v":""},"BYU_Child",null,null,"USD",null,11.55,null,null,null,{"$f":"IF(Template!$O$113<>\"\",Template!$O$113,\"\")","v":""}]
[null,{"$f":"Template!$H$114","v":0},{"$error":"#REF!"},"Calendar_Year_Mar",{"$f":"IF(LEFT(Template!$K$114,2)=\"CC\",Template!$K$114,\"\")","v":""},{"$f":"IF(LEFT(Template!$M$114,2)=\"RC\",Template!$M$114,\"\")","v":""},{"$f":"IF(LEFT(Template!$M$114,2)=\"SC\",Template!$M$114,\"\")","v":""},{"$f":"IF(LEFT(Template!$K$114,2)=\"AC\",Template!$K$114,\"\")","v":""},{"$f":"IF(OR(LEFT(Template!$K$114,2)=\"PJ\", LEFT(Template!$K$114,2)=\"PR\"),Template!$K$114,\"\")","v":""},{"$f":"IF(LEFT(Template!$K$114,2)=\"GF\",Template!$K$114,\"\")","v":""},{"$f":"IF(Template!$S$114<>\"\",Template!$S$114,\"\")","v":""},null,null,null,null,{"$f":"IF(Template!$L$114<>\"\",Template!$L$114,\"\")","v":""},"BYU_Child",null,null,"USD",null,89.31,null,null,null,{"$f":"IF(Template!$O$114<>\"\",Template!$O$114,\"\")","v":""}]
[null,{"$f":"Template!$H$115","v":0},{"$error":"#REF!"},"Calendar_Year_Mar",{"$f":"IF(LEFT(Template!$K$115,2)=\"CC\",Template!$K$115,\"\")","v":""},{"$f":"IF(LEFT(Template!$M$115,2)=\"RC\",Template!$M$115,\"\")","v":""},{"$f":"IF(LEFT(Template!$M$115,2)=\"SC\",Template!$M$115,\"\")","v":""},{"$f":"IF(LEFT(Template!$K$115,2)=\"AC\",Template!$K$115,\"\")","v":""},{"$f":"IF(OR(LEFT(Template!$K$115,2)=\"PJ\", LEFT(Template!$K$115,2)=\"PR\"),Template!$K$115,\"\")","v":""},{"$f":"IF(LEFT(Template!$K$115,2)=\"GF\",Template!$K$115,\"\")","v":""},{"$f":"IF(Template!$S$115<>\"\",Template!$S$115,\"\")","v":""},null,null,null,null,{"$f":"IF(Template!$L$115<>\"\",Template!$L$115,\"\")","v":""},"BYU_Child",null,null,"USD",null,153289,null,null,null,{"$f":"IF(Template!$O$115<>\"\",Template!$O$115,\"\")","v":""}]
[null,{"$f":"Template!$H$116","v":0},{"$error":"#REF!"},"Calendar_Year_Mar",{"$f":"IF(LEFT(Template!$K$116,2)=\"CC\",Template!$K$116,\"\")","v":""},{"$f":"IF(LEFT(Template!$M$116,2)=\"RC\",Template!$M$116,\"\")","v":""},{"$f":"IF(LEFT(Template!$M$116,2)=\"SC\",Template!$M$116,\"\")","v":""},{"$f":"IF(LEFT(Template!$K$116,2)=\"AC\",Template!$K$116,\"\")","v":""},{"$f":"IF(OR(LEFT(Template!$K$116,2)=\"PJ\", LEFT(Template!$K$116,2)=\"PR\"),Template!$K$116,\"\")","v":""},{"$f":"IF(LEFT(Template!$K$116,2)=\"GF\",Template!$K$116,\"\")","v":""},{"$f":"IF(Template!$S$116<>\"\",Template!$S$116,\"\")","v":""},null,null,null,null,{"$f":"IF(Template!$L$116<>\"\",Template!$L$116,\"\")","v":""},"BYU_Child",null,null,"USD",null,86.41,null,null,null,{"$f":"IF(Template!$O$116<>\"\",Template!$O$116,\"\")","v":""}]
[null,{"$f":"Template!$H$117","v":0},{"$error":"#REF!"},"Calendar_Year_Mar",{"$f":"IF(LEFT(Template!$K$117,2)=\"CC\",Template!$K$117,\"\")","v":""},{"$f":"IF(LEFT(Template!$M$117,2)=\"RC\",Template!$M$117,\"\")","v":""},{"$f":"IF(LEFT(Template!$M$117,2)=\"SC\",Template!$M$117,\"\")","v":""},{"$f":"IF(LEFT(Template!$K$117,2)=\"AC\",Template!$K$117,\"\")","v":""},{"$f":"IF(OR(LEFT(Template!$K$117,2)=\"PJ\", LEFT(Template!$K$117,2)=\"PR\"),Template!$K$117,\"\")","v":""},{"$f":"IF(LEFT(Template!$K$117,2)=\"GF\",Template!$K$117,\"\")","v":""},{"$f":"IF(Template!$S$117<>\"\",Template!$S$117,\"\")","v":""},null,null,null,null,{"$f":"IF(Template!$L$117<>\"\",Template!$L$117,\"\")","v":""},"BYU_Child",null,null,"USD",null,848.32,null,null,null,{"$f":"IF(Template!$O$117<>\"\",Template!$O$117,\"\")","v":""}]
[null,{"$f":"Template!$H$118","v":0},{"$error":"#REF!"},"Calendar_Year_Mar",{"$f":"IF(LEFT(Template!$K$118,2)=\"CC\",Template!$K$118,\"\")","v":""},{"$f":"IF(LEFT(Template!$M$118,2)=\"RC\",Template!$M$118,\"\")","v":""},{"$f":"IF(LEFT(Template!$M$118,2)=\"SC\",Template!$M$118,\"\")","v":""},{"$f":"IF(LEFT(Template!$K$118,2)=\"AC\",Template!$K$118,\"\")","v":""},{"$f":"IF(OR(LEFT(Template!$K$118,2)=\"PJ\", LEFT(Template!$K$118,2)=\"PR\"),Template!$K$118,\"\")","v":""},{"$f":"IF(LEFT(Template!$K$118,2)=\"GF\",Template!$K$118,\"\")","v":""},{"$f":"IF(Template!$S$118<>\"\",Template!$S$118,\"\")","v":""},null,null,null,null,{"$f":"IF(Template!$L$118<>\"\",Template!$L$118,\"\")","v":""},"BYU_Child",null,null,"USD",null,303.2,null,null,null,{"$f":"IF(Template!$O$118<>\"\",Template!$O$118,\"\")","v":""}]
[null,{"$f":"Template!$H$119","v":0},{"$error":"#REF!"},"Calendar_Year_Mar",{"$f":"IF(LEFT(Template!$K$119,2)=\"CC\",Template!$K$119,\"\")","v":""},{"$f":"IF(LEFT(Template!$M$119,2)=\"RC\",Template!$M$119,\"\")","v":""},{"$f":"IF(LEFT(Template!$M$119,2)=\"SC\",Template!$M$119,\"\")","v":""},{"$f":"IF(LEFT(Template!$K$119,2)=\"AC\",Template!$K$119,\"\")","v":""},{"$f":"IF(OR(LEFT(Template!$K$119,2)=\"PJ\", LEFT(Template!$K$119,2)=\"PR\"),Template!$K$119,\"\")","v":""},{"$f":"IF(LEFT(Template!$K$119,2)=\"GF\",Template!$K$119,\"\")","v":""},{"$f":"IF(Template!$S$119<>\"\",Template!$S$119,\"\")","v":""},null,null,null,null,{"$f":"IF(Template!$L$119<>\"\",Template!$L$119,\"\")","v":""},"BYU_Child",null,null,"USD",null,30.34,null,null,null,{"$f":"IF(Template!$O$119<>\"\",Template!$O$119,\"\")","v":""}]
[null,{"$f":"Template!$H$120","v":0},{"$error":"#REF!"},"Calendar_Year_Mar",{"$f":"IF(LEFT(Template!$K$120,2)=\"CC\",Template!$K$120,\"\")","v":""},{"$f":"IF(LEFT(Template!$M$120,2)=\"RC\",Template!$M$120,\"\")","v":""},{"$f":"IF(LEFT(Template!$M$120,2)=\"SC\",Template!$M$120,\"\")","v":""},{"$f":"IF(LEFT(Template!$K$120,2)=\"AC\",Template!$K$120,\"\")","v":""},{"$f":"IF(OR(LEFT(Template!$K$120,2)=\"PJ\", LEFT(Template!$K$120,2)=\"PR\"),Template!$K$120,\"\")","v":""},{"$f":"IF(LEFT(Template!$K$120,2)=\"GF\",Template!$K$120,\"\")","v":""},{"$f":"IF(Template!$S$120<>\"\",Template!$S$120,\"\")","v":""},null,null,null,null,{"$f":"IF(Template!$L$120<>\"\",Template!$L$120,\"\")","v":""},"BYU_Child",null,null,"USD",null,290.97000000000003,null,null,null,{"$f":"IF(Template!$O$120<>\"\",Template!$O$120,\"\")","v":""}]
[null,{"$f":"Template!$H$121","v":0},{"$error":"#REF!"},"Calendar_Year_Mar",{"$f":"IF(LEFT(Template!$K$121,2)=\"CC\",Template!$K$121,\"\")","v":""},{"$f":"IF(LEFT(Template!$M$121,2)=\"RC\",Template!$M$121,\"\")","v":""},{"$f":"IF(LEFT(Template!$M$121,2)=\"SC\",Template!$M$121,\"\")","v":""},{"$f":"IF(LEFT(Template!$K$121,2)=\"AC\",Template!$K$121,\"\")","v":""},{"$f":"IF(OR(LEFT(Template!$K$121,2)=\"PJ\", LEFT(Template!$K$121,2)=\"PR\"),Template!$K$121,\"\")","v":""},{"$f":"IF(LEFT(Template!$K$121,2)=\"GF\",Template!$K$121,\"\")","v":""},{"$f":"IF(Template!$S$121<>\"\",Template!$S$121,\"\")","v":""},null,null,null,null,{"$f":"IF(Template!$L$121<>\"\",Template!$L$121,\"\")","v":""},"BYU_Child",null,null,"USD",null,872.71,null,null,null,{"$f":"IF(Template!$O$121<>\"\",Template!$O$121,\"\")","v":""}]
[null,{"$f":"Template!$H$123","v":0},{"$error":"#REF!"},"Calendar_Year_Mar",{"$f":"IF(LEFT(Template!$K$123,2)=\"CC\",Template!$K$123,\"\")","v":""},{"$f":"IF(LEFT(Template!$M$123,2)=\"RC\",Template!$M$123,\"\")","v":""},{"$f":"IF(LEFT(Template!$M$123,2)=\"SC\",Template!$M$123,\"\")","v":""},{"$f":"IF(LEFT(Template!$K$123,2)=\"AC\",Template!$K$123,\"\")","v":""},{"$f":"IF(OR(LEFT(Template!$K$123,2)=\"PJ\", LEFT(Template!$K$123,2)=\"PR\"),Template!$K$123,\"\")","v":""},{"$f":"IF(LEFT(Template!$K$123,2)=\"GF\",Template!$K$123,\"\")","v":""},{"$f":"IF(Template!$S$123<>\"\",Template!$S$123,\"\")","v":""},null,null,null,null,{"$f":"IF(Template!$L$123<>\"\",Template!$L$123,\"\")","v":""},"BYU_Child",null,null,"USD",null,6898.59,null,null,null,{"$f":"IF(Template!$O$123<>\"\",Template!$O$123,\"\")","v":""}]
[null,{"$f":"Template!$H$125","v":0},{"$error":"#REF!"},"Calendar_Year_Mar",{"$f":"IF(LEFT(Template!$K$125,2)=\"CC\",Template!$K$125,\"\")","v":""},{"$f":"IF(LEFT(Template!$M$125,2)=\"RC\",Template!$M$125,\"\")","v":""},{"$f":"IF(LEFT(Template!$M$125,2)=\"SC\",Template!$M$125,\"\")","v":""},{"$f":"IF(LEFT(Template!$K$125,2)=\"AC\",Template!$K$125,\"\")","v":""},{"$f":"IF(OR(LEFT(Template!$K$125,2)=\"PJ\", LEFT(Template!$K$125,2)=\"PR\"),Template!$K$125,\"\")","v":""},{"$f":"IF(LEFT(Template!$K$125,2)=\"GF\",Template!$K$125,\"\")","v":""},{"$f":"IF(Template!$S$125<>\"\",Template!$S$125,\"\")","v":""},null,null,null,null,{"$f":"IF(Template!$L$125<>\"\",Template!$L$125,\"\")","v":""},"BYU_Child",null,null,"USD",null,9301.83,null,null,null,{"$f":"IF(Template!$O$125<>\"\",Template!$O$125,\"\")","v":""}]
[null,{"$f":"Template!$H$126","v":0},{"$error":"#REF!"},"Calendar_Year_Mar",{"$f":"IF(LEFT(Template!$K$126,2)=\"CC\",Template!$K$126,\"\")","v":""},{"$f":"IF(LEFT(Template!$M$126,2)=\"RC\",Template!$M$126,\"\")","v":""},{"$f":"IF(LEFT(Template!$M$126,2)=\"SC\",Template!$M$126,\"\")","v":""},{"$f":"IF(LEFT(Template!$K$126,2)=\"AC\",Template!$K$126,\"\")","v":""},{"$f":"IF(OR(LEFT(Template!$K$126,2)=\"PJ\", LEFT(Template!$K$126,2)=\"PR\"),Template!$K$126,\"\")","v":""},{"$f":"IF(LEFT(Template!$K$126,2)=\"GF\",Template!$K$126,\"\")","v":""},{"$f":"IF(Template!$S$126<>\"\",Template!$S$126,\"\")","v":""},null,null,null,null,{"$f":"IF(Template!$L$126<>\"\",Template!$L$126,\"\")","v":""},"BYU_Child",null,null,"USD",null,985.62,null,null,null,{"$f":"IF(Template!$O$126<>\"\",Template!$O$126,\"\")","v":""}]
[null,{"$f":"Template!$H$127","v":0},{"$error":"#REF!"},"Calendar_Year_Mar",{"$f":"IF(LEFT(Template!$K$127,2)=\"CC\",Template!$K$127,\"\")","v":""},{"$f":"IF(LEFT(Template!$M$127,2)=\"RC\",Template!$M$127,\"\")","v":""},{"$f":"IF(LEFT(Template!$M$127,2)=\"SC\",Template!$M$127,\"\")","v":""},{"$f":"IF(LEFT(Template!$K$127,2)=\"AC\",Template!$K$127,\"\")","v":""},{"$f":"IF(OR(LEFT(Template!$K$127,2)=\"PJ\", LEFT(Template!$K$127,2)=\"PR\"),Template!$K$127,\"\")","v":""},{"$f":"IF(LEFT(Template!$K$127,2)=\"GF\",Template!$K$127,\"\")","v":""},{"$f":"IF(Template!$S$127<>\"\",Template!$S$127,\"\")","v":""},null,null,null,null,{"$f":"IF(Template!$L$127<>\"\",Template!$L$127,\"\")","v":""},"BYU_Child",null,null,"USD",null,38870.94,null,null,null,{"$f":"IF(Template!$O$127<>\"\",Template!$O$127,\"\")","v":""}]
[null,{"$f":"Template!$H$128","v":0},{"$error":"#REF!"},"Calendar_Year_Mar",{"$f":"IF(LEFT(Template!$K$128,2)=\"CC\",Template!$K$128,\"\")","v":""},{"$f":"IF(LEFT(Template!$M$128,2)=\"RC\",Template!$M$128,\"\")","v":""},{"$f":"IF(LEFT(Template!$M$128,2)=\"SC\",Template!$M$128,\"\")","v":""},{"$f":"IF(LEFT(Template!$K$128,2)=\"AC\",Template!$K$128,\"\")","v":""},{"$f":"IF(OR(LEFT(Template!$K$128,2)=\"PJ\", LEFT(Template!$K$128,2)=\"PR\"),Template!$K$128,\"\")","v":""},{"$f":"IF(LEFT(Template!$K$128,2)=\"GF\",Template!$K$128,\"\")","v":""},{"$f":"IF(Template!$S$128<>\"\",Template!$S$128,\"\")","v":""},null,null,null,null,{"$f":"IF(Template!$L$128<>\"\",Template!$L$128,\"\")","v":""},"BYU_Child",null,null,"USD",null,2353.87,null,null,null,{"$f":"IF(Template!$O$128<>\"\",Template!$O$128,\"\")","v":""}]
[null,{"$f":"Template!$H$129","v":0},{"$error":"#REF!"},"Calendar_Year_Mar",{"$f":"IF(LEFT(Template!$K$129,2)=\"CC\",Template!$K$129,\"\")","v":""},{"$f":"IF(LEFT(Template!$M$129,2)=\"RC\",Template!$M$129,\"\")","v":""},{"$f":"IF(LEFT(Template!$M$129,2)=\"SC\",Template!$M$129,\"\")","v":""},{"$f":"IF(LEFT(Template!$K$129,2)=\"AC\",Template!$K$129,\"\")","v":""},{"$f":"IF(OR(LEFT(Template!$K$129,2)=\"PJ\", LEFT(Template!$K$129,2)=\"PR\"),Template!$K$129,\"\")","v":""},{"$f":"IF(LEFT(Template!$K$129,2)=\"GF\",Template!$K$129,\"\")","v":""},{"$f":"IF(Template!$S$129<>\"\",Template!$S$129,\"\")","v":""},null,null,null,null,{"$f":"IF(Template!$L$129<>\"\",Template!$L$129,\"\")","v":""},"BYU_Child",null,null,"USD",null,1005.35,null,null,null,{"$f":"IF(Template!$O$129<>\"\",Template!$O$129,\"\")","v":""}]
[null,{"$f":"Template!$H$130","v":0},{"$error":"#REF!"},"Calendar_Year_Mar",{"$f":"IF(LEFT(Template!$K$130,2)=\"CC\",Template!$K$130,\"\")","v":""},{"$f":"IF(LEFT(Template!$M$130,2)=\"RC\",Template!$M$130,\"\")","v":""},{"$f":"IF(LEFT(Template!$M$130,2)=\"SC\",Template!$M$130,\"\")","v":""},{"$f":"IF(LEFT(Template!$K$130,2)=\"AC\",Template!$K$130,\"\")","v":""},{"$f":"IF(OR(LEFT(Template!$K$130,2)=\"PJ\", LEFT(Template!$K$130,2)=\"PR\"),Template!$K$130,\"\")","v":""},{"$f":"IF(LEFT(Template!$K$130,2)=\"GF\",Template!$K$130,\"\")","v":""},{"$f":"IF(Template!$S$130<>\"\",Template!$S$130,\"\")","v":""},null,null,null,null,{"$f":"IF(Template!$L$130<>\"\",Template!$L$130,\"\")","v":""},"BYU_Child",null,null,"USD",null,173.25,null,null,null,{"$f":"IF(Template!$O$130<>\"\",Template!$O$130,\"\")","v":""}]
[null,{"$f":"Template!$H$131","v":0},{"$error":"#REF!"},"Calendar_Year_Mar",{"$f":"IF(LEFT(Template!$K$131,2)=\"CC\",Template!$K$131,\"\")","v":""},{"$f":"IF(LEFT(Template!$M$131,2)=\"RC\",Template!$M$131,\"\")","v":""},{"$f":"IF(LEFT(Template!$M$131,2)=\"SC\",Template!$M$131,\"\")","v":""},{"$f":"IF(LEFT(Template!$K$131,2)=\"AC\",Template!$K$131,\"\")","v":""},{"$f":"IF(OR(LEFT(Template!$K$131,2)=\"PJ\", LEFT(Template!$K$131,2)=\"PR\"),Template!$K$131,\"\")","v":""},{"$f":"IF(LEFT(Template!$K$131,2)=\"GF\",Template!$K$131,\"\")","v":""},{"$f":"IF(Template!$S$131<>\"\",Template!$S$131,\"\")","v":""},null,null,null,null,{"$f":"IF(Template!$L$131<>\"\",Template!$L$131,\"\")","v":""},"BYU_Child",null,null,"USD",null,12.71,null,null,null,{"$f":"IF(Template!$O$131<>\"\",Template!$O$131,\"\")","v":""}]
[null,{"$f":"Template!$H$132","v":0},{"$error":"#REF!"},"Calendar_Year_Mar",{"$f":"IF(LEFT(Template!$K$132,2)=\"CC\",Template!$K$132,\"\")","v":""},{"$f":"IF(LEFT(Template!$M$132,2)=\"RC\",Template!$M$132,\"\")","v":""},{"$f":"IF(LEFT(Template!$M$132,2)=\"SC\",Template!$M$132,\"\")","v":""},{"$f":"IF(LEFT(Template!$K$132,2)=\"AC\",Template!$K$132,\"\")","v":""},{"$f":"IF(OR(LEFT(Template!$K$132,2)=\"PJ\", LEFT(Template!$K$132,2)=\"PR\"),Template!$K$132,\"\")","v":""},{"$f":"IF(LEFT(Template!$K$132,2)=\"GF\",Template!$K$132,\"\")","v":""},{"$f":"IF(Template!$S$132<>\"\",Template!$S$132,\"\")","v":""},null,null,null,null,{"$f":"IF(Template!$L$132<>\"\",Template!$L$132,\"\")","v":""},"BYU_Child",null,null,"USD",null,172.1,null,null,null,{"$f":"IF(Template!$O$132<>\"\",Template!$O$132,\"\")","v":""}]
[null,{"$f":"Template!$H$133","v":0},{"$error":"#REF!"},"Calendar_Year_Mar",{"$f":"IF(LEFT(Template!$K$133,2)=\"CC\",Template!$K$133,\"\")","v":""},{"$f":"IF(LEFT(Template!$M$133,2)=\"RC\",Template!$M$133,\"\")","v":""},{"$f":"IF(LEFT(Template!$M$133,2)=\"SC\",Template!$M$133,\"\")","v":""},{"$f":"IF(LEFT(Template!$K$133,2)=\"AC\",Template!$K$133,\"\")","v":""},{"$f":"IF(OR(LEFT(Template!$K$133,2)=\"PJ\", LEFT(Template!$K$133,2)=\"PR\"),Template!$K$133,\"\")","v":""},{"$f":"IF(LEFT(Template!$K$133,2)=\"GF\",Template!$K$133,\"\")","v":""},{"$f":"IF(Template!$S$133<>\"\",Template!$S$133,\"\")","v":""},null,null,null,null,{"$f":"IF(Template!$L$133<>\"\",Template!$L$133,\"\")","v":""},"BYU_Child",null,null,"USD",null,469.42,null,null,null,{"$f":"IF(Template!$O$133<>\"\",Template!$O$133,\"\")","v":""}]
[null,{"$f":"Template!$H$134","v":0},{"$error":"#REF!"},"Calendar_Year_Mar",{"$f":"IF(LEFT(Template!$K$134,2)=\"CC\",Template!$K$134,\"\")","v":""},{"$f":"IF(LEFT(Template!$M$134,2)=\"RC\",Template!$M$134,\"\")","v":""},{"$f":"IF(LEFT(Template!$M$134,2)=\"SC\",Template!$M$134,\"\")","v":""},{"$f":"IF(LEFT(Template!$K$134,2)=\"AC\",Template!$K$134,\"\")","v":""},{"$f":"IF(OR(LEFT(Template!$K$134,2)=\"PJ\", LEFT(Template!$K$134,2)=\"PR\"),Template!$K$134,\"\")","v":""},{"$f":"IF(LEFT(Template!$K$134,2)=\"GF\",Template!$K$134,\"\")","v":""},{"$f":"IF(Template!$S$134<>\"\",Template!$S$134,\"\")","v":""},null,null,null,null,{"$f":"IF(Template!$L$134<>\"\",Template!$L$134,\"\")","v":""},"BYU_Child",null,null,"USD",null,5.0199999999999996,null,null,null,{"$f":"IF(Template!$O$134<>\"\",Template!$O$134,\"\")","v":""}]
[null,{"$f":"Template!$H$135","v":0},{"$error":"#REF!"},"Calendar_Year_Mar",{"$f":"IF(LEFT(Template!$K$135,2)=\"CC\",Template!$K$135,\"\")","v":""},{"$f":"IF(LEFT(Template!$M$135,2)=\"RC\",Template!$M$135,\"\")","v":""},{"$f":"IF(LEFT(Template!$M$135,2)=\"SC\",Template!$M$135,\"\")","v":""},{"$f":"IF(LEFT(Template!$K$135,2)=\"AC\",Template!$K$135,\"\")","v":""},{"$f":"IF(OR(LEFT(Template!$K$135,2)=\"PJ\", LEFT(Template!$K$135,2)=\"PR\"),Template!$K$135,\"\")","v":""},{"$f":"IF(LEFT(Template!$K$135,2)=\"GF\",Template!$K$135,\"\")","v":""},{"$f":"IF(Template!$S$135<>\"\",Template!$S$135,\"\")","v":""},null,null,null,null,{"$f":"IF(Template!$L$135<>\"\",Template!$L$135,\"\")","v":""},"BYU_Child",null,null,"USD",null,30.03,null,null,null,{"$f":"IF(Template!$O$135<>\"\",Template!$O$135,\"\")","v":""}]
[null,{"$f":"Template!$H$136","v":0},{"$error":"#REF!"},"Calendar_Year_Mar",{"$f":"IF(LEFT(Template!$K$136,2)=\"CC\",Template!$K$136,\"\")","v":""},{"$f":"IF(LEFT(Template!$M$136,2)=\"RC\",Template!$M$136,\"\")","v":""},{"$f":"IF(LEFT(Template!$M$136,2)=\"SC\",Template!$M$136,\"\")","v":""},{"$f":"IF(LEFT(Template!$K$136,2)=\"AC\",Template!$K$136,\"\")","v":""},{"$f":"IF(OR(LEFT(Template!$K$136,2)=\"PJ\", LEFT(Template!$K$136,2)=\"PR\"),Template!$K$136,\"\")","v":""},{"$f":"IF(LEFT(Template!$K$136,2)=\"GF\",Template!$K$136,\"\")","v":""},{"$f":"IF(Template!$S$136<>\"\",Template!$S$136,\"\")","v":""},null,null,null,null,{"$f":"IF(Template!$L$136<>\"\",Template!$L$136,\"\")","v":""},"BYU_Child",null,null,"USD",null,27.03,null,null,null,{"$f":"IF(Template!$O$136<>\"\",Template!$O$136,\"\")","v":""}]
[null,{"$f":"Template!$H$137","v":0},{"$error":"#REF!"},"Calendar_Year_Mar",{"$f":"IF(LEFT(Template!$K$137,2)=\"CC\",Template!$K$137,\"\")","v":""},{"$f":"IF(LEFT(Template!$M$137,2)=\"RC\",Template!$M$137,\"\")","v":""},{"$f":"IF(LEFT(Template!$M$137,2)=\"SC\",Template!$M$137,\"\")","v":""},{"$f":"IF(LEFT(Template!$K$137,2)=\"AC\",Template!$K$137,\"\")","v":""},{"$f":"IF(OR(LEFT(Template!$K$137,2)=\"PJ\", LEFT(Template!$K$137,2)=\"PR\"),Template!$K$137,\"\")","v":""},{"$f":"IF(LEFT(Template!$K$137,2)=\"GF\",Template!$K$137,\"\")","v":""},{"$f":"IF(Template!$S$137<>\"\",Template!$S$137,\"\")","v":""},null,null,null,null,{"$f":"IF(Template!$L$137<>\"\",Template!$L$137,\"\")","v":""},"BYU_Child",null,null,"USD",null,179.84,null,null,null,{"$f":"IF(Template!$O$137<>\"\",Template!$O$137,\"\")","v":""}]
[null,{"$f":"Template!$H$138","v":0},{"$error":"#REF!"},"Calendar_Year_Mar",{"$f":"IF(LEFT(Template!$K$138,2)=\"CC\",Template!$K$138,\"\")","v":""},{"$f":"IF(LEFT(Template!$M$138,2)=\"RC\",Template!$M$138,\"\")","v":""},{"$f":"IF(LEFT(Template!$M$138,2)=\"SC\",Template!$M$138,\"\")","v":""},{"$f":"IF(LEFT(Template!$K$138,2)=\"AC\",Template!$K$138,\"\")","v":""},{"$f":"IF(OR(LEFT(Template!$K$138,2)=\"PJ\", LEFT(Template!$K$138,2)=\"PR\"),Template!$K$138,\"\")","v":""},{"$f":"IF(LEFT(Template!$K$138,2)=\"GF\",Template!$K$138,\"\")","v":""},{"$f":"IF(Template!$S$138<>\"\",Template!$S$138,\"\")","v":""},null,null,null,null,{"$f":"IF(Template!$L$138<>\"\",Template!$L$138,\"\")","v":""},"BYU_Child",null,null,"USD",null,3453.85,null,null,null,{"$f":"IF(Template!$O$138<>\"\",Template!$O$138,\"\")","v":""}]
[null,{"$f":"Template!$H$139","v":0},{"$error":"#REF!"},"Calendar_Year_Mar",{"$f":"IF(LEFT(Template!$K$139,2)=\"CC\",Template!$K$139,\"\")","v":""},{"$f":"IF(LEFT(Template!$M$139,2)=\"RC\",Template!$M$139,\"\")","v":""},{"$f":"IF(LEFT(Template!$M$139,2)=\"SC\",Template!$M$139,\"\")","v":""},{"$f":"IF(LEFT(Template!$K$139,2)=\"AC\",Template!$K$139,\"\")","v":""},{"$f":"IF(OR(LEFT(Template!$K$139,2)=\"PJ\", LEFT(Template!$K$139,2)=\"PR\"),Template!$K$139,\"\")","v":""},{"$f":"IF(LEFT(Template!$K$139,2)=\"GF\",Template!$K$139,\"\")","v":""},{"$f":"IF(Template!$S$139<>\"\",Template!$S$139,\"\")","v":""},null,null,null,null,{"$f":"IF(Template!$L$139<>\"\",Template!$L$139,\"\")","v":""},"BYU_Child",null,null,"USD",null,2774.73,null,null,null,{"$f":"IF(Template!$O$139<>\"\",Template!$O$139,\"\")","v":""}]
[null,{"$f":"Template!$H$140","v":0},{"$error":"#REF!"},"Calendar_Year_Mar",{"$f":"IF(LEFT(Template!$K$140,2)=\"CC\",Template!$K$140,\"\")","v":""},{"$f":"IF(LEFT(Template!$M$140,2)=\"RC\",Template!$M$140,\"\")","v":""},{"$f":"IF(LEFT(Template!$M$140,2)=\"SC\",Template!$M$140,\"\")","v":""},{"$f":"IF(LEFT(Template!$K$140,2)=\"AC\",Template!$K$140,\"\")","v":""},{"$f":"IF(OR(LEFT(Template!$K$140,2)=\"PJ\", LEFT(Template!$K$140,2)=\"PR\"),Template!$K$140,\"\")","v":""},{"$f":"IF(LEFT(Template!$K$140,2)=\"GF\",Template!$K$140,\"\")","v":""},{"$f":"IF(Template!$S$140<>\"\",Template!$S$140,\"\")","v":""},null,null,null,null,{"$f":"IF(Template!$L$140<>\"\",Template!$L$140,\"\")","v":""},"BYU_Child",null,null,"USD",null,273.35000000000002,null,null,null,{"$f":"IF(Template!$O$140<>\"\",Template!$O$140,\"\")","v":""}]
[null,{"$f":"Template!$H$213","v":0},{"$error":"#REF!"},"Calendar_Year_Mar",{"$f":"IF(LEFT(Template!$K$213,2)=\"CC\",Template!$K$213,\"\")","v":""},{"$f":"IF(LEFT(Template!$M$213,2)=\"RC\",Template!$M$213,\"\")","v":""},{"$f":"IF(LEFT(Template!$M$213,2)=\"SC\",Template!$M$213,\"\")","v":""},{"$f":"IF(LEFT(Template!$K$213,2)=\"AC\",Template!$K$213,\"\")","v":""},{"$f":"IF(OR(LEFT(Template!$K$213,2)=\"PJ\", LEFT(Template!$K$213,2)=\"PR\"),Template!$K$213,\"\")","v":""},{"$f":"IF(LEFT(Template!$K$213,2)=\"GF\",Template!$K$213,\"\")","v":""},{"$f":"IF(Template!$S$213<>\"\",Template!$S$213,\"\")","v":""},null,null,null,null,{"$f":"IF(Template!$L$213<>\"\",Template!$L$213,\"\")","v":""},"BYU_Child",null,null,"USD",null,38.5,null,null,null,{"$f":"IF(Template!$O$213<>\"\",Template!$O$213,\"\")","v":""}]
[null,{"$f":"Template!$H$214","v":0},{"$error":"#REF!"},"Calendar_Year_Mar",{"$f":"IF(LEFT(Template!$K$214,2)=\"CC\",Template!$K$214,\"\")","v":""},{"$f":"IF(LEFT(Template!$M$214,2)=\"RC\",Template!$M$214,\"\")","v":""},{"$f":"IF(LEFT(Template!$M$214,2)=\"SC\",Template!$M$214,\"\")","v":""},{"$f":"IF(LEFT(Template!$K$214,2)=\"AC\",Template!$K$214,\"\")","v":""},{"$f":"IF(OR(LEFT(Template!$K$214,2)=\"PJ\", LEFT(Template!$K$214,2)=\"PR\"),Template!$K$214,\"\")","v":""},{"$f":"IF(LEFT(Template!$K$214,2)=\"GF\",Template!$K$214,\"\")","v":""},{"$f":"IF(Template!$S$214<>\"\",Template!$S$214,\"\")","v":""},null,null,null,null,{"$f":"IF(Template!$L$214<>\"\",Template!$L$214,\"\")","v":""},"BYU_Child",null,null,"USD",null,63.34,null,null,null,{"$f":"IF(Template!$O$214<>\"\",Template!$O$214,\"\")","v":""}]
[null,{"$f":"Template!$H$215","v":0},{"$error":"#REF!"},"Calendar_Year_Mar",{"$f":"IF(LEFT(Template!$K$215,2)=\"CC\",Template!$K$215,\"\")","v":""},{"$f":"IF(LEFT(Template!$M$215,2)=\"RC\",Template!$M$215,\"\")","v":""},{"$f":"IF(LEFT(Template!$M$215,2)=\"SC\",Template!$M$215,\"\")","v":""},{"$f":"IF(LEFT(Template!$K$215,2)=\"AC\",Template!$K$215,\"\")","v":""},{"$f":"IF(OR(LEFT(Template!$K$215,2)=\"PJ\", LEFT(Template!$K$215,2)=\"PR\"),Template!$K$215,\"\")","v":""},{"$f":"IF(LEFT(Template!$K$215,2)=\"GF\",Template!$K$215,\"\")","v":""},{"$f":"IF(Template!$S$215<>\"\",Template!$S$215,\"\")","v":""},null,null,null,null,{"$f":"IF(Template!$L$215<>\"\",Template!$L$215,\"\")","v":""},"BYU_Child",null,null,"USD",null,18753.11,null,null,null,{"$f":"IF(Template!$O$215<>\"\",Template!$O$215,\"\")","v":""}]
[null,{"$f":"Template!$H$216","v":0},{"$error":"#REF!"},"Calendar_Year_Mar",{"$f":"IF(LEFT(Template!$K$216,2)=\"CC\",Template!$K$216,\"\")","v":""},{"$f":"IF(LEFT(Template!$M$216,2)=\"RC\",Template!$M$216,\"\")","v":""},{"$f":"IF(LEFT(Template!$M$216,2)=\"SC\",Template!$M$216,\"\")","v":""},{"$f":"IF(LEFT(Template!$K$216,2)=\"AC\",Template!$K$216,\"\")","v":""},{"$f":"IF(OR(LEFT(Template!$K$216,2)=\"PJ\", LEFT(Template!$K$216,2)=\"PR\"),Template!$K$216,\"\")","v":""},{"$f":"IF(LEFT(Template!$K$216,2)=\"GF\",Template!$K$216,\"\")","v":""},{"$f":"IF(Template!$S$216<>\"\",Template!$S$216,\"\")","v":""},null,null,null,null,{"$f":"IF(Template!$L$216<>\"\",Template!$L$216,\"\")","v":""},"BYU_Child",null,null,"USD",null,3571.11,null,null,null,{"$f":"IF(Template!$O$216<>\"\",Template!$O$216,\"\")","v":""}]
[null,{"$f":"Template!$H$217","v":0},{"$error":"#REF!"},"Calendar_Year_Mar",{"$f":"IF(LEFT(Template!$K$217,2)=\"CC\",Template!$K$217,\"\")","v":""},{"$f":"IF(LEFT(Template!$M$217,2)=\"RC\",Template!$M$217,\"\")","v":""},{"$f":"IF(LEFT(Template!$M$217,2)=\"SC\",Template!$M$217,\"\")","v":""},{"$f":"IF(LEFT(Template!$K$217,2)=\"AC\",Template!$K$217,\"\")","v":""},{"$f":"IF(OR(LEFT(Template!$K$217,2)=\"PJ\", LEFT(Template!$K$217,2)=\"PR\"),Template!$K$217,\"\")","v":""},{"$f":"IF(LEFT(Template!$K$217,2)=\"GF\",Template!$K$217,\"\")","v":""},{"$f":"IF(Template!$S$217<>\"\",Template!$S$217,\"\")","v":""},null,null,null,null,{"$f":"IF(Template!$L$217<>\"\",Template!$L$217,\"\")","v":""},"BYU_Child",null,null,"USD",null,72457.84,null,null,null,{"$f":"IF(Template!$O$217<>\"\",Template!$O$217,\"\")","v":""}]
[null,{"$f":"Template!$H$218","v":0},{"$error":"#REF!"},"Calendar_Year_Mar",{"$f":"IF(LEFT(Template!$K$218,2)=\"CC\",Template!$K$218,\"\")","v":""},{"$f":"IF(LEFT(Template!$M$218,2)=\"RC\",Template!$M$218,\"\")","v":""},{"$f":"IF(LEFT(Template!$M$218,2)=\"SC\",Template!$M$218,\"\")","v":""},{"$f":"IF(LEFT(Template!$K$218,2)=\"AC\",Template!$K$218,\"\")","v":""},{"$f":"IF(OR(LEFT(Template!$K$218,2)=\"PJ\", LEFT(Template!$K$218,2)=\"PR\"),Template!$K$218,\"\")","v":""},{"$f":"IF(LEFT(Template!$K$218,2)=\"GF\",Template!$K$218,\"\")","v":""},{"$f":"IF(Template!$S$218<>\"\",Template!$S$218,\"\")","v":""},null,null,null,null,{"$f":"IF(Template!$L$218<>\"\",Template!$L$218,\"\")","v":""},"BYU_Child",null,null,"USD",null,1814.35,null,null,null,{"$f":"IF(Template!$O$218<>\"\",Template!$O$218,\"\")","v":""}]
[null,{"$f":"Template!$H$219","v":0},{"$error":"#REF!"},"Calendar_Year_Mar",{"$f":"IF(LEFT(Template!$K$219,2)=\"CC\",Template!$K$219,\"\")","v":""},{"$f":"IF(LEFT(Template!$M$219,2)=\"RC\",Template!$M$219,\"\")","v":""},{"$f":"IF(LEFT(Template!$M$219,2)=\"SC\",Template!$M$219,\"\")","v":""},{"$f":"IF(LEFT(Template!$K$219,2)=\"AC\",Template!$K$219,\"\")","v":""},{"$f":"IF(OR(LEFT(Template!$K$219,2)=\"PJ\", LEFT(Template!$K$219,2)=\"PR\"),Template!$K$219,\"\")","v":""},{"$f":"IF(LEFT(Template!$K$219,2)=\"GF\",Template!$K$219,\"\")","v":""},{"$f":"IF(Template!$S$219<>\"\",Template!$S$219,\"\")","v":""},null,null,null,null,{"$f":"IF(Template!$L$219<>\"\",Template!$L$219,\"\")","v":""},"BYU_Child",null,null,"USD",null,8467.0300000000007,null,null,null,{"$f":"IF(Template!$O$219<>\"\",Template!$O$219,\"\")","v":""}]
[null,{"$f":"Template!$H$220","v":0},{"$error":"#REF!"},"Calendar_Year_Mar",{"$f":"IF(LEFT(Template!$K$220,2)=\"CC\",Template!$K$220,\"\")","v":""},{"$f":"IF(LEFT(Template!$M$220,2)=\"RC\",Template!$M$220,\"\")","v":""},{"$f":"IF(LEFT(Template!$M$220,2)=\"SC\",Template!$M$220,\"\")","v":""},{"$f":"IF(LEFT(Template!$K$220,2)=\"AC\",Template!$K$220,\"\")","v":""},{"$f":"IF(OR(LEFT(Template!$K$220,2)=\"PJ\", LEFT(Template!$K$220,2)=\"PR\"),Template!$K$220,\"\")","v":""},{"$f":"IF(LEFT(Template!$K$220,2)=\"GF\",Template!$K$220,\"\")","v":""},{"$f":"IF(Template!$S$220<>\"\",Template!$S$220,\"\")","v":""},null,null,null,null,{"$f":"IF(Template!$L$220<>\"\",Template!$L$220,\"\")","v":""},"BYU_Child",null,null,"USD",null,2211.29,null,null,null,{"$f":"IF(Template!$O$220<>\"\",Template!$O$220,\"\")","v":""}]
[null,{"$f":"Template!$H$221","v":0},{"$error":"#REF!"},"Calendar_Year_Mar",{"$f":"IF(LEFT(Template!$K$221,2)=\"CC\",Template!$K$221,\"\")","v":""},{"$f":"IF(LEFT(Template!$M$221,2)=\"RC\",Template!$M$221,\"\")","v":""},{"$f":"IF(LEFT(Template!$M$221,2)=\"SC\",Template!$M$221,\"\")","v":""},{"$f":"IF(LEFT(Template!$K$221,2)=\"AC\",Template!$K$221,\"\")","v":""},{"$f":"IF(OR(LEFT(Template!$K$221,2)=\"PJ\", LEFT(Template!$K$221,2)=\"PR\"),Template!$K$221,\"\")","v":""},{"$f":"IF(LEFT(Template!$K$221,2)=\"GF\",Template!$K$221,\"\")","v":""},{"$f":"IF(Template!$S$221<>\"\",Template!$S$221,\"\")","v":""},null,null,null,null,{"$f":"IF(Template!$L$221<>\"\",Template!$L$221,\"\")","v":""},"BYU_Child",null,null,"USD",null,128.11000000000001,null,null,null,{"$f":"IF(Template!$O$221<>\"\",Template!$O$221,\"\")","v":""}]
[null,{"$f":"Template!$H$222","v":0},{"$error":"#REF!"},"Calendar_Year_Mar",{"$f":"IF(LEFT(Template!$K$222,2)=\"CC\",Template!$K$222,\"\")","v":""},{"$f":"IF(LEFT(Template!$M$222,2)=\"RC\",Template!$M$222,\"\")","v":""},{"$f":"IF(LEFT(Template!$M$222,2)=\"SC\",Template!$M$222,\"\")","v":""},{"$f":"IF(LEFT(Template!$K$222,2)=\"AC\",Template!$K$222,\"\")","v":""},{"$f":"IF(OR(LEFT(Template!$K$222,2)=\"PJ\", LEFT(Template!$K$222,2)=\"PR\"),Template!$K$222,\"\")","v":""},{"$f":"IF(LEFT(Template!$K$222,2)=\"GF\",Template!$K$222,\"\")","v":""},{"$f":"IF(Template!$S$222<>\"\",Template!$S$222,\"\")","v":""},null,null,null,null,{"$f":"IF(Template!$L$222<>\"\",Template!$L$222,\"\")","v":""},"BYU_Child",null,null,"USD",null,148.72,null,null,null,{"$f":"IF(Template!$O$222<>\"\",Template!$O$222,\"\")","v":""}]
[null,{"$f":"Template!$H$223","v":0},{"$error":"#REF!"},"Calendar_Year_Mar",{"$f":"IF(LEFT(Template!$K$223,2)=\"CC\",Template!$K$223,\"\")","v":""},{"$f":"IF(LEFT(Template!$M$223,2)=\"RC\",Template!$M$223,\"\")","v":""},{"$f":"IF(LEFT(Template!$M$223,2)=\"SC\",Template!$M$223,\"\")","v":""},{"$f":"IF(LEFT(Template!$K$223,2)=\"AC\",Template!$K$223,\"\")","v":""},{"$f":"IF(OR(LEFT(Template!$K$223,2)=\"PJ\", LEFT(Template!$K$223,2)=\"PR\"),Template!$K$223,\"\")","v":""},{"$f":"IF(LEFT(Template!$K$223,2)=\"GF\",Template!$K$223,\"\")","v":""},{"$f":"IF(Template!$S$223<>\"\",Template!$S$223,\"\")","v":""},null,null,null,null,{"$f":"IF(Template!$L$223<>\"\",Template!$L$223,\"\")","v":""},"BYU_Child",null,null,"USD",null,72.62,null,null,null,{"$f":"IF(Template!$O$223<>\"\",Template!$O$223,\"\")","v":""}]
[null,{"$f":"Template!$H$224","v":0},{"$error":"#REF!"},"Calendar_Year_Mar",{"$f":"IF(LEFT(Template!$K$224,2)=\"CC\",Template!$K$224,\"\")","v":""},{"$f":"IF(LEFT(Template!$M$224,2)=\"RC\",Template!$M$224,\"\")","v":""},{"$f":"IF(LEFT(Template!$M$224,2)=\"SC\",Template!$M$224,\"\")","v":""},{"$f":"IF(LEFT(Template!$K$224,2)=\"AC\",Template!$K$224,\"\")","v":""},{"$f":"IF(OR(LEFT(Template!$K$224,2)=\"PJ\", LEFT(Template!$K$224,2)=\"PR\"),Template!$K$224,\"\")","v":""},{"$f":"IF(LEFT(Template!$K$224,2)=\"GF\",Template!$K$224,\"\")","v":""},{"$f":"IF(Template!$S$224<>\"\",Template!$S$224,\"\")","v":""},null,null,null,null,{"$f":"IF(Template!$L$224<>\"\",Template!$L$224,\"\")","v":""},"BYU_Child",null,null,"USD",null,5773.33,null,null,null,{"$f":"IF(Template!$O$224<>\"\",Template!$O$224,\"\")","v":""}]
[null,{"$f":"Template!$H$225","v":0},{"$error":"#REF!"},"Calendar_Year_Mar",{"$f":"IF(LEFT(Template!$K$225,2)=\"CC\",Template!$K$225,\"\")","v":""},{"$f":"IF(LEFT(Template!$M$225,2)=\"RC\",Template!$M$225,\"\")","v":""},{"$f":"IF(LEFT(Template!$M$225,2)=\"SC\",Template!$M$225,\"\")","v":""},{"$f":"IF(LEFT(Template!$K$225,2)=\"AC\",Template!$K$225,\"\")","v":""},{"$f":"IF(OR(LEFT(Template!$K$225,2)=\"PJ\", LEFT(Template!$K$225,2)=\"PR\"),Template!$K$225,\"\")","v":""},{"$f":"IF(LEFT(Template!$K$225,2)=\"GF\",Template!$K$225,\"\")","v":""},{"$f":"IF(Template!$S$225<>\"\",Template!$S$225,\"\")","v":""},null,null,null,null,{"$f":"IF(Template!$L$225<>\"\",Template!$L$225,\"\")","v":""},"BYU_Child",null,null,"USD",null,2967.19,null,null,null,{"$f":"IF(Template!$O$225<>\"\",Template!$O$225,\"\")","v":""}]
[null,{"$f":"Template!$H$226","v":0},{"$error":"#REF!"},"Calendar_Year_Mar",{"$f":"IF(LEFT(Template!$K$226,2)=\"CC\",Template!$K$226,\"\")","v":""},{"$f":"IF(LEFT(Template!$M$226,2)=\"RC\",Template!$M$226,\"\")","v":""},{"$f":"IF(LEFT(Template!$M$226,2)=\"SC\",Template!$M$226,\"\")","v":""},{"$f":"IF(LEFT(Template!$K$226,2)=\"AC\",Template!$K$226,\"\")","v":""},{"$f":"IF(OR(LEFT(Template!$K$226,2)=\"PJ\", LEFT(Template!$K$226,2)=\"PR\"),Template!$K$226,\"\")","v":""},{"$f":"IF(LEFT(Template!$K$226,2)=\"GF\",Template!$K$226,\"\")","v":""},{"$f":"IF(Template!$S$226<>\"\",Template!$S$226,\"\")","v":""},null,null,null,null,{"$f":"IF(Template!$L$226<>\"\",Template!$L$226,\"\")","v":""},"BYU_Child",null,null,"USD",null,1914.81,null,null,null,{"$f":"IF(Template!$O$226<>\"\",Template!$O$226,\"\")","v":""}]
[null,{"$f":"Template!$H$229","v":0},{"$error":"#REF!"},"Calendar_Year_Mar",{"$f":"IF(LEFT(Template!$K$229,2)=\"CC\",Template!$K$229,\"\")","v":""},{"$f":"IF(LEFT(Template!$M$229,2)=\"RC\",Template!$M$229,\"\")","v":""},{"$f":"IF(LEFT(Template!$M$229,2)=\"SC\",Template!$M$229,\"\")","v":""},{"$f":"IF(LEFT(Template!$K$229,2)=\"AC\",Template!$K$229,\"\")","v":""},{"$f":"IF(OR(LEFT(Template!$K$229,2)=\"PJ\", LEFT(Template!$K$229,2)=\"PR\"),Template!$K$229,\"\")","v":""},{"$f":"IF(LEFT(Template!$K$229,2)=\"GF\",Template!$K$229,\"\")","v":""},{"$f":"IF(Template!$S$229<>\"\",Template!$S$229,\"\")","v":""},null,null,null,null,{"$f":"IF(Template!$L$229<>\"\",Template!$L$229,\"\")","v":""},"BYU_Child",null,null,"USD",null,12454.44,null,null,null,{"$f":"IF(Template!$O$229<>\"\",Template!$O$229,\"\")","v":""}]
[null,{"$f":"Template!$H$230","v":0},{"$error":"#REF!"},"Calendar_Year_Mar",{"$f":"IF(LEFT(Template!$K$230,2)=\"CC\",Template!$K$230,\"\")","v":""},{"$f":"IF(LEFT(Template!$M$230,2)=\"RC\",Template!$M$230,\"\")","v":""},{"$f":"IF(LEFT(Template!$M$230,2)=\"SC\",Template!$M$230,\"\")","v":""},{"$f":"IF(LEFT(Template!$K$230,2)=\"AC\",Template!$K$230,\"\")","v":""},{"$f":"IF(OR(LEFT(Template!$K$230,2)=\"PJ\", LEFT(Template!$K$230,2)=\"PR\"),Template!$K$230,\"\")","v":""},{"$f":"IF(LEFT(Template!$K$230,2)=\"GF\",Template!$K$230,\"\")","v":""},{"$f":"IF(Template!$S$230<>\"\",Template!$S$230,\"\")","v":""},null,null,null,null,{"$f":"IF(Template!$L$230<>\"\",Template!$L$230,\"\")","v":""},"BYU_Child",null,null,"USD",null,3203.01,null,null,null,{"$f":"IF(Template!$O$230<>\"\",Template!$O$230,\"\")","v":""}]
[null,{"$f":"Template!$H$232","v":0},{"$error":"#REF!"},"Calendar_Year_Mar",{"$f":"IF(LEFT(Template!$K$232,2)=\"CC\",Template!$K$232,\"\")","v":""},{"$f":"IF(LEFT(Template!$M$232,2)=\"RC\",Template!$M$232,\"\")","v":""},{"$f":"IF(LEFT(Template!$M$232,2)=\"SC\",Template!$M$232,\"\")","v":""},{"$f":"IF(LEFT(Template!$K$232,2)=\"AC\",Template!$K$232,\"\")","v":""},{"$f":"IF(OR(LEFT(Template!$K$232,2)=\"PJ\", LEFT(Template!$K$232,2)=\"PR\"),Template!$K$232,\"\")","v":""},{"$f":"IF(LEFT(Template!$K$232,2)=\"GF\",Template!$K$232,\"\")","v":""},{"$f":"IF(Template!$S$232<>\"\",Template!$S$232,\"\")","v":""},null,null,null,null,{"$f":"IF(Template!$L$232<>\"\",Template!$L$232,\"\")","v":""},"BYU_Child",null,null,"USD",null,294.39999999999998,null,null,null,{"$f":"IF(Template!$O$232<>\"\",Template!$O$232,\"\")","v":""}]
[null,{"$f":"Template!$H$233","v":0},{"$error":"#REF!"},"Calendar_Year_Mar",{"$f":"IF(LEFT(Template!$K$233,2)=\"CC\",Template!$K$233,\"\")","v":""},{"$f":"IF(LEFT(Template!$M$233,2)=\"RC\",Template!$M$233,\"\")","v":""},{"$f":"IF(LEFT(Template!$M$233,2)=\"SC\",Template!$M$233,\"\")","v":""},{"$f":"IF(LEFT(Template!$K$233,2)=\"AC\",Template!$K$233,\"\")","v":""},{"$f":"IF(OR(LEFT(Template!$K$233,2)=\"PJ\", LEFT(Template!$K$233,2)=\"PR\"),Template!$K$233,\"\")","v":""},{"$f":"IF(LEFT(Template!$K$233,2)=\"GF\",Template!$K$233,\"\")","v":""},{"$f":"IF(Template!$S$233<>\"\",Template!$S$233,\"\")","v":""},null,null,null,null,{"$f":"IF(Template!$L$233<>\"\",Template!$L$233,\"\")","v":""},"BYU_Child",null,null,"USD",null,8073.86,null,null,null,{"$f":"IF(Template!$O$233<>\"\",Template!$O$233,\"\")","v":""}]
[null,{"$f":"Template!$H$234","v":0},{"$error":"#REF!"},"Calendar_Year_Mar",{"$f":"IF(LEFT(Template!$K$234,2)=\"CC\",Template!$K$234,\"\")","v":""},{"$f":"IF(LEFT(Template!$M$234,2)=\"RC\",Template!$M$234,\"\")","v":""},{"$f":"IF(LEFT(Template!$M$234,2)=\"SC\",Template!$M$234,\"\")","v":""},{"$f":"IF(LEFT(Template!$K$234,2)=\"AC\",Template!$K$234,\"\")","v":""},{"$f":"IF(OR(LEFT(Template!$K$234,2)=\"PJ\", LEFT(Template!$K$234,2)=\"PR\"),Template!$K$234,\"\")","v":""},{"$f":"IF(LEFT(Template!$K$234,2)=\"GF\",Template!$K$234,\"\")","v":""},{"$f":"IF(Template!$S$234<>\"\",Template!$S$234,\"\")","v":""},null,null,null,null,{"$f":"IF(Template!$L$234<>\"\",Template!$L$234,\"\")","v":""},"BYU_Child",null,null,"USD",null,383.9,null,null,null,{"$f":"IF(Template!$O$234<>\"\",Template!$O$234,\"\")","v":""}]
[null,{"$f":"Template!$H$235","v":0},{"$error":"#REF!"},"Calendar_Year_Mar",{"$f":"IF(LEFT(Template!$K$235,2)=\"CC\",Template!$K$235,\"\")","v":""},{"$f":"IF(LEFT(Template!$M$235,2)=\"RC\",Template!$M$235,\"\")","v":""},{"$f":"IF(LEFT(Template!$M$235,2)=\"SC\",Template!$M$235,\"\")","v":""},{"$f":"IF(LEFT(Template!$K$235,2)=\"AC\",Template!$K$235,\"\")","v":""},{"$f":"IF(OR(LEFT(Template!$K$235,2)=\"PJ\", LEFT(Template!$K$235,2)=\"PR\"),Template!$K$235,\"\")","v":""},{"$f":"IF(LEFT(Template!$K$235,2)=\"GF\",Template!$K$235,\"\")","v":""},{"$f":"IF(Template!$S$235<>\"\",Template!$S$235,\"\")","v":""},null,null,null,null,{"$f":"IF(Template!$L$235<>\"\",Template!$L$235,\"\")","v":""},"BYU_Child",null,null,"USD",null,47347.5,null,null,null,{"$f":"IF(Template!$O$235<>\"\",Template!$O$235,\"\")","v":""}]
[null,{"$f":"Template!$H$236","v":0},{"$error":"#REF!"},"Calendar_Year_Mar",{"$f":"IF(LEFT(Template!$K$236,2)=\"CC\",Template!$K$236,\"\")","v":""},{"$f":"IF(LEFT(Template!$M$236,2)=\"RC\",Template!$M$236,\"\")","v":""},{"$f":"IF(LEFT(Template!$M$236,2)=\"SC\",Template!$M$236,\"\")","v":""},{"$f":"IF(LEFT(Template!$K$236,2)=\"AC\",Template!$K$236,\"\")","v":""},{"$f":"IF(OR(LEFT(Template!$K$236,2)=\"PJ\", LEFT(Template!$K$236,2)=\"PR\"),Template!$K$236,\"\")","v":""},{"$f":"IF(LEFT(Template!$K$236,2)=\"GF\",Template!$K$236,\"\")","v":""},{"$f":"IF(Template!$S$236<>\"\",Template!$S$236,\"\")","v":""},null,null,null,null,{"$f":"IF(Template!$L$236<>\"\",Template!$L$236,\"\")","v":""},"BYU_Child",null,null,"USD",null,1023.71,null,null,null,{"$f":"IF(Template!$O$236<>\"\",Template!$O$236,\"\")","v":""}]
[null,{"$f":"Template!$H$237","v":0},{"$error":"#REF!"},"Calendar_Year_Mar",{"$f":"IF(LEFT(Template!$K$237,2)=\"CC\",Template!$K$237,\"\")","v":""},{"$f":"IF(LEFT(Template!$M$237,2)=\"RC\",Template!$M$237,\"\")","v":""},{"$f":"IF(LEFT(Template!$M$237,2)=\"SC\",Template!$M$237,\"\")","v":""},{"$f":"IF(LEFT(Template!$K$237,2)=\"AC\",Template!$K$237,\"\")","v":""},{"$f":"IF(OR(LEFT(Template!$K$237,2)=\"PJ\", LEFT(Template!$K$237,2)=\"PR\"),Template!$K$237,\"\")","v":""},{"$f":"IF(LEFT(Template!$K$237,2)=\"GF\",Template!$K$237,\"\")","v":""},{"$f":"IF(Template!$S$237<>\"\",Template!$S$237,\"\")","v":""},null,null,null,null,{"$f":"IF(Template!$L$237<>\"\",Template!$L$237,\"\")","v":""},"BYU_Child",null,null,"USD",null,59708.06,null,null,null,{"$f":"IF(Template!$O$237<>\"\",Template!$O$237,\"\")","v":""}]
[null,{"$f":"Template!$H$238","v":0},{"$error":"#REF!"},"Calendar_Year_Mar",{"$f":"IF(LEFT(Template!$K$238,2)=\"CC\",Template!$K$238,\"\")","v":""},{"$f":"IF(LEFT(Template!$M$238,2)=\"RC\",Template!$M$238,\"\")","v":""},{"$f":"IF(LEFT(Template!$M$238,2)=\"SC\",Template!$M$238,\"\")","v":""},{"$f":"IF(LEFT(Template!$K$238,2)=\"AC\",Template!$K$238,\"\")","v":""},{"$f":"IF(OR(LEFT(Template!$K$238,2)=\"PJ\", LEFT(Template!$K$238,2)=\"PR\"),Template!$K$238,\"\")","v":""},{"$f":"IF(LEFT(Template!$K$238,2)=\"GF\",Template!$K$238,\"\")","v":""},{"$f":"IF(Template!$S$238<>\"\",Template!$S$238,\"\")","v":""},null,null,null,null,{"$f":"IF(Template!$L$238<>\"\",Template!$L$238,\"\")","v":""},"BYU_Child",null,null,"USD",null,3863.87,null,null,null,{"$f":"IF(Template!$O$238<>\"\",Template!$O$238,\"\")","v":""}]
[null,{"$f":"Template!$H$239","v":0},{"$error":"#REF!"},"Calendar_Year_Mar",{"$f":"IF(LEFT(Template!$K$239,2)=\"CC\",Template!$K$239,\"\")","v":""},{"$f":"IF(LEFT(Template!$M$239,2)=\"RC\",Template!$M$239,\"\")","v":""},{"$f":"IF(LEFT(Template!$M$239,2)=\"SC\",Template!$M$239,\"\")","v":""},{"$f":"IF(LEFT(Template!$K$239,2)=\"AC\",Template!$K$239,\"\")","v":""},{"$f":"IF(OR(LEFT(Template!$K$239,2)=\"PJ\", LEFT(Template!$K$239,2)=\"PR\"),Template!$K$239,\"\")","v":""},{"$f":"IF(LEFT(Template!$K$239,2)=\"GF\",Template!$K$239,\"\")","v":""},{"$f":"IF(Template!$S$239<>\"\",Template!$S$239,\"\")","v":""},null,null,null,null,{"$f":"IF(Template!$L$239<>\"\",Template!$L$239,\"\")","v":""},"BYU_Child",null,null,"USD",null,13088.94,null,null,null,{"$f":"IF(Template!$O$239<>\"\",Template!$O$239,\"\")","v":""}]
[null,{"$f":"Template!$H$240","v":0},{"$error":"#REF!"},"Calendar_Year_Mar",{"$f":"IF(LEFT(Template!$K$240,2)=\"CC\",Template!$K$240,\"\")","v":""},{"$f":"IF(LEFT(Template!$M$240,2)=\"RC\",Template!$M$240,\"\")","v":""},{"$f":"IF(LEFT(Template!$M$240,2)=\"SC\",Template!$M$240,\"\")","v":""},{"$f":"IF(LEFT(Template!$K$240,2)=\"AC\",Template!$K$240,\"\")","v":""},{"$f":"IF(OR(LEFT(Template!$K$240,2)=\"PJ\", LEFT(Template!$K$240,2)=\"PR\"),Template!$K$240,\"\")","v":""},{"$f":"IF(LEFT(Template!$K$240,2)=\"GF\",Template!$K$240,\"\")","v":""},{"$f":"IF(Template!$S$240<>\"\",Template!$S$240,\"\")","v":""},null,null,null,null,{"$f":"IF(Template!$L$240<>\"\",Template!$L$240,\"\")","v":""},"BYU_Child",null,null,"USD",null,767.3,null,null,null,{"$f":"IF(Template!$O$240<>\"\",Template!$O$240,\"\")","v":""}]
[null,{"$f":"Template!$H$241","v":0},{"$error":"#REF!"},"Calendar_Year_Mar",{"$f":"IF(LEFT(Template!$K$241,2)=\"CC\",Template!$K$241,\"\")","v":""},{"$f":"IF(LEFT(Template!$M$241,2)=\"RC\",Template!$M$241,\"\")","v":""},{"$f":"IF(LEFT(Template!$M$241,2)=\"SC\",Template!$M$241,\"\")","v":""},{"$f":"IF(LEFT(Template!$K$241,2)=\"AC\",Template!$K$241,\"\")","v":""},{"$f":"IF(OR(LEFT(Template!$K$241,2)=\"PJ\", LEFT(Template!$K$241,2)=\"PR\"),Template!$K$241,\"\")","v":""},{"$f":"IF(LEFT(Template!$K$241,2)=\"GF\",Template!$K$241,\"\")","v":""},{"$f":"IF(Template!$S$241<>\"\",Template!$S$241,\"\")","v":""},null,null,null,null,{"$f":"IF(Template!$L$241<>\"\",Template!$L$241,\"\")","v":""},"BYU_Child",null,null,"USD",null,926.83,null,null,null,{"$f":"IF(Template!$O$241<>\"\",Template!$O$241,\"\")","v":""}]
[null,{"$f":"Template!$H$242","v":0},{"$error":"#REF!"},"Calendar_Year_Mar",{"$f":"IF(LEFT(Template!$K$242,2)=\"CC\",Template!$K$242,\"\")","v":""},{"$f":"IF(LEFT(Template!$M$242,2)=\"RC\",Template!$M$242,\"\")","v":""},{"$f":"IF(LEFT(Template!$M$242,2)=\"SC\",Template!$M$242,\"\")","v":""},{"$f":"IF(LEFT(Template!$K$242,2)=\"AC\",Template!$K$242,\"\")","v":""},{"$f":"IF(OR(LEFT(Template!$K$242,2)=\"PJ\", LEFT(Template!$K$242,2)=\"PR\"),Template!$K$242,\"\")","v":""},{"$f":"IF(LEFT(Template!$K$242,2)=\"GF\",Template!$K$242,\"\")","v":""},{"$f":"IF(Template!$S$242<>\"\",Template!$S$242,\"\")","v":""},null,null,null,null,{"$f":"IF(Template!$L$242<>\"\",Template!$L$242,\"\")","v":""},"BYU_Child",null,null,"USD",null,26978.27,null,null,null,{"$f":"IF(Template!$O$242<>\"\",Template!$O$242,\"\")","v":""}]
[null,{"$f":"Template!$H$243","v":0},{"$error":"#REF!"},"Calendar_Year_Mar",{"$f":"IF(LEFT(Template!$K$243,2)=\"CC\",Template!$K$243,\"\")","v":""},{"$f":"IF(LEFT(Template!$M$243,2)=\"RC\",Template!$M$243,\"\")","v":""},{"$f":"IF(LEFT(Template!$M$243,2)=\"SC\",Template!$M$243,\"\")","v":""},{"$f":"IF(LEFT(Template!$K$243,2)=\"AC\",Template!$K$243,\"\")","v":""},{"$f":"IF(OR(LEFT(Template!$K$243,2)=\"PJ\", LEFT(Template!$K$243,2)=\"PR\"),Template!$K$243,\"\")","v":""},{"$f":"IF(LEFT(Template!$K$243,2)=\"GF\",Template!$K$243,\"\")","v":""},{"$f":"IF(Template!$S$243<>\"\",Template!$S$243,\"\")","v":""},null,null,null,null,{"$f":"IF(Template!$L$243<>\"\",Template!$L$243,\"\")","v":""},"BYU_Child",null,null,"USD",null,762.19,null,null,null,{"$f":"IF(Template!$O$243<>\"\",Template!$O$243,\"\")","v":""}]
[null,{"$f":"Template!$H$244","v":0},{"$error":"#REF!"},"Calendar_Year_Mar",{"$f":"IF(LEFT(Template!$K$244,2)=\"CC\",Template!$K$244,\"\")","v":""},{"$f":"IF(LEFT(Template!$M$244,2)=\"RC\",Template!$M$244,\"\")","v":""},{"$f":"IF(LEFT(Template!$M$244,2)=\"SC\",Template!$M$244,\"\")","v":""},{"$f":"IF(LEFT(Template!$K$244,2)=\"AC\",Template!$K$244,\"\")","v":""},{"$f":"IF(OR(LEFT(Template!$K$244,2)=\"PJ\", LEFT(Template!$K$244,2)=\"PR\"),Template!$K$244,\"\")","v":""},{"$f":"IF(LEFT(Template!$K$244,2)=\"GF\",Template!$K$244,\"\")","v":""},{"$f":"IF(Template!$S$244<>\"\",Template!$S$244,\"\")","v":""},null,null,null,null,{"$f":"IF(Template!$L$244<>\"\",Template!$L$244,\"\")","v":""},"BYU_Child",null,null,"USD",null,22331.48,null,null,null,{"$f":"IF(Template!$O$244<>\"\",Template!$O$244,\"\")","v":""}]
[null,{"$f":"Template!$H$245","v":0},{"$error":"#REF!"},"Calendar_Year_Mar",{"$f":"IF(LEFT(Template!$K$245,2)=\"CC\",Template!$K$245,\"\")","v":""},{"$f":"IF(LEFT(Template!$M$245,2)=\"RC\",Template!$M$245,\"\")","v":""},{"$f":"IF(LEFT(Template!$M$245,2)=\"SC\",Template!$M$245,\"\")","v":""},{"$f":"IF(LEFT(Template!$K$245,2)=\"AC\",Template!$K$245,\"\")","v":""},{"$f":"IF(OR(LEFT(Template!$K$245,2)=\"PJ\", LEFT(Template!$K$245,2)=\"PR\"),Template!$K$245,\"\")","v":""},{"$f":"IF(LEFT(Template!$K$245,2)=\"GF\",Template!$K$245,\"\")","v":""},{"$f":"IF(Template!$S$245<>\"\",Template!$S$245,\"\")","v":""},null,null,null,null,{"$f":"IF(Template!$L$245<>\"\",Template!$L$245,\"\")","v":""},"BYU_Child",null,null,"USD",null,1110.1500000000001,null,null,null,{"$f":"IF(Template!$O$245<>\"\",Template!$O$245,\"\")","v":""}]
[null,{"$f":"Template!$H$246","v":0},{"$error":"#REF!"},"Calendar_Year_Mar",{"$f":"IF(LEFT(Template!$K$246,2)=\"CC\",Template!$K$246,\"\")","v":""},{"$f":"IF(LEFT(Template!$M$246,2)=\"RC\",Template!$M$246,\"\")","v":""},{"$f":"IF(LEFT(Template!$M$246,2)=\"SC\",Template!$M$246,\"\")","v":""},{"$f":"IF(LEFT(Template!$K$246,2)=\"AC\",Template!$K$246,\"\")","v":""},{"$f":"IF(OR(LEFT(Template!$K$246,2)=\"PJ\", LEFT(Template!$K$246,2)=\"PR\"),Template!$K$246,\"\")","v":""},{"$f":"IF(LEFT(Template!$K$246,2)=\"GF\",Template!$K$246,\"\")","v":""},{"$f":"IF(Template!$S$246<>\"\",Template!$S$246,\"\")","v":""},null,null,null,null,{"$f":"IF(Template!$L$246<>\"\",Template!$L$246,\"\")","v":""},"BYU_Child",null,null,"USD",null,2797.83,null,null,null,{"$f":"IF(Template!$O$246<>\"\",Template!$O$246,\"\")","v":""}]
[null,{"$f":"Template!$H$247","v":0},{"$error":"#REF!"},"Calendar_Year_Mar",{"$f":"IF(LEFT(Template!$K$247,2)=\"CC\",Template!$K$247,\"\")","v":""},{"$f":"IF(LEFT(Template!$M$247,2)=\"RC\",Template!$M$247,\"\")","v":""},{"$f":"IF(LEFT(Template!$M$247,2)=\"SC\",Template!$M$247,\"\")","v":""},{"$f":"IF(LEFT(Template!$K$247,2)=\"AC\",Template!$K$247,\"\")","v":""},{"$f":"IF(OR(LEFT(Template!$K$247,2)=\"PJ\", LEFT(Template!$K$247,2)=\"PR\"),Template!$K$247,\"\")","v":""},{"$f":"IF(LEFT(Template!$K$247,2)=\"GF\",Template!$K$247,\"\")","v":""},{"$f":"IF(Template!$S$247<>\"\",Template!$S$247,\"\")","v":""},null,null,null,null,{"$f":"IF(Template!$L$247<>\"\",Template!$L$247,\"\")","v":""},"BYU_Child",null,null,"USD",null,295.5,null,null,null,{"$f":"IF(Template!$O$247<>\"\",Template!$O$247,\"\")","v":""}]
[null,{"$f":"Template!$H$248","v":0},{"$error":"#REF!"},"Calendar_Year_Mar",{"$f":"IF(LEFT(Template!$K$248,2)=\"CC\",Template!$K$248,\"\")","v":""},{"$f":"IF(LEFT(Template!$M$248,2)=\"RC\",Template!$M$248,\"\")","v":""},{"$f":"IF(LEFT(Template!$M$248,2)=\"SC\",Template!$M$248,\"\")","v":""},{"$f":"IF(LEFT(Template!$K$248,2)=\"AC\",Template!$K$248,\"\")","v":""},{"$f":"IF(OR(LEFT(Template!$K$248,2)=\"PJ\", LEFT(Template!$K$248,2)=\"PR\"),Template!$K$248,\"\")","v":""},{"$f":"IF(LEFT(Template!$K$248,2)=\"GF\",Template!$K$248,\"\")","v":""},{"$f":"IF(Template!$S$248<>\"\",Template!$S$248,\"\")","v":""},null,null,null,null,{"$f":"IF(Template!$L$248<>\"\",Template!$L$248,\"\")","v":""},"BYU_Child",null,null,"USD",null,5796.46,null,null,null,{"$f":"IF(Template!$O$248<>\"\",Template!$O$248,\"\")","v":""}]
[null,{"$f":"Template!$H$249","v":0},{"$f":"IF(B135=B134,C134+1,1)","v":{"$error":"#REF!"}},"Calendar_Year_Mar",{"$f":"IF(LEFT(Template!$K$249,2)=\"CC\",Template!$K$249,\"\")","v":""},{"$f":"IF(LEFT(Template!$M$249,2)=\"RC\",Template!$M$249,\"\")","v":""},{"$f":"IF(LEFT(Template!$M$249,2)=\"SC\",Template!$M$249,\"\")","v":""},{"$f":"IF(LEFT(Template!$K$249,2)=\"AC\",Template!$K$249,\"\")","v":""},{"$f":"IF(OR(LEFT(Template!$K$249,2)=\"PJ\", LEFT(Template!$K$249,2)=\"PR\"),Template!$K$249,\"\")","v":""},{"$f":"IF(LEFT(Template!$K$249,2)=\"GF\",Template!$K$249,\"\")","v":""},{"$f":"IF(Template!$S$249<>\"\",Template!$S$249,\"\")","v":""},null,null,null,null,{"$f":"IF(Template!$L$249<>\"\",Template!$L$249,\"\")","v":""},"BYU_Child",null,null,"USD",null,17318.169999999998,null,null,null,{"$f":"IF(Template!$O$249<>\"\",Template!$O$249,\"\")","v":""}]
[null,{"$f":"Template!$H$250","v":0},{"$error":"#REF!"},"Calendar_Year_Mar",{"$f":"IF(LEFT(Template!$K$250,2)=\"CC\",Template!$K$250,\"\")","v":""},{"$f":"IF(LEFT(Template!$M$250,2)=\"RC\",Template!$M$250,\"\")","v":""},{"$f":"IF(LEFT(Template!$M$250,2)=\"SC\",Template!$M$250,\"\")","v":""},{"$f":"IF(LEFT(Template!$K$250,2)=\"AC\",Template!$K$250,\"\")","v":""},{"$f":"IF(OR(LEFT(Template!$K$250,2)=\"PJ\", LEFT(Template!$K$250,2)=\"PR\"),Template!$K$250,\"\")","v":""},{"$f":"IF(LEFT(Template!$K$250,2)=\"GF\",Template!$K$250,\"\")","v":""},{"$f":"IF(Template!$S$250<>\"\",Template!$S$250,\"\")","v":""},null,null,null,null,{"$f":"IF(Template!$L$250<>\"\",Template!$L$250,\"\")","v":""},"BYU_Child",null,null,"USD",null,2765.6,null,null,null,{"$f":"IF(Template!$O$250<>\"\",Template!$O$250,\"\")","v":""}]
[null,{"$f":"Template!$H$251","v":0},{"$error":"#REF!"},"Calendar_Year_Mar",{"$f":"IF(LEFT(Template!$K$251,2)=\"CC\",Template!$K$251,\"\")","v":""},{"$f":"IF(LEFT(Template!$M$251,2)=\"RC\",Template!$M$251,\"\")","v":""},{"$f":"IF(LEFT(Template!$M$251,2)=\"SC\",Template!$M$251,\"\")","v":""},{"$f":"IF(LEFT(Template!$K$251,2)=\"AC\",Template!$K$251,\"\")","v":""},{"$f":"IF(OR(LEFT(Template!$K$251,2)=\"PJ\", LEFT(Template!$K$251,2)=\"PR\"),Template!$K$251,\"\")","v":""},{"$f":"IF(LEFT(Template!$K$251,2)=\"GF\",Template!$K$251,\"\")","v":""},{"$f":"IF(Template!$S$251<>\"\",Template!$S$251,\"\")","v":""},null,null,null,null,{"$f":"IF(Template!$L$251<>\"\",Template!$L$251,\"\")","v":""},"BYU_Child",null,null,"USD",null,17989.28,null,null,null,{"$f":"IF(Template!$O$251<>\"\",Template!$O$251,\"\")","v":""}]
[null,{"$f":"Template!$H$252","v":0},{"$error":"#REF!"},"Calendar_Year_Mar",{"$f":"IF(LEFT(Template!$K$252,2)=\"CC\",Template!$K$252,\"\")","v":""},{"$f":"IF(LEFT(Template!$M$252,2)=\"RC\",Template!$M$252,\"\")","v":""},{"$f":"IF(LEFT(Template!$M$252,2)=\"SC\",Template!$M$252,\"\")","v":""},{"$f":"IF(LEFT(Template!$K$252,2)=\"AC\",Template!$K$252,\"\")","v":""},{"$f":"IF(OR(LEFT(Template!$K$252,2)=\"PJ\", LEFT(Template!$K$252,2)=\"PR\"),Template!$K$252,\"\")","v":""},{"$f":"IF(LEFT(Template!$K$252,2)=\"GF\",Template!$K$252,\"\")","v":""},{"$f":"IF(Template!$S$252<>\"\",Template!$S$252,\"\")","v":""},null,null,null,null,{"$f":"IF(Template!$L$252<>\"\",Template!$L$252,\"\")","v":""},"BYU_Child",null,null,"USD",null,90.91,null,null,null,{"$f":"IF(Template!$O$252<>\"\",Template!$O$252,\"\")","v":""}]
[null,{"$f":"Template!$H$253","v":0},{"$error":"#REF!"},"Calendar_Year_Mar",{"$f":"IF(LEFT(Template!$K$253,2)=\"CC\",Template!$K$253,\"\")","v":""},{"$f":"IF(LEFT(Template!$M$253,2)=\"RC\",Template!$M$253,\"\")","v":""},{"$f":"IF(LEFT(Template!$M$253,2)=\"SC\",Template!$M$253,\"\")","v":""},{"$f":"IF(LEFT(Template!$K$253,2)=\"AC\",Template!$K$253,\"\")","v":""},{"$f":"IF(OR(LEFT(Template!$K$253,2)=\"PJ\", LEFT(Template!$K$253,2)=\"PR\"),Template!$K$253,\"\")","v":""},{"$f":"IF(LEFT(Template!$K$253,2)=\"GF\",Template!$K$253,\"\")","v":""},{"$f":"IF(Template!$S$253<>\"\",Template!$S$253,\"\")","v":""},null,null,null,null,{"$f":"IF(Template!$L$253<>\"\",Template!$L$253,\"\")","v":""},"BYU_Child",null,null,"USD",null,6250.14,null,null,null,{"$f":"IF(Template!$O$253<>\"\",Template!$O$253,\"\")","v":""}]
[null,{"$f":"Template!$H$254","v":0},{"$error":"#REF!"},"Calendar_Year_Mar",{"$f":"IF(LEFT(Template!$K$254,2)=\"CC\",Template!$K$254,\"\")","v":""},{"$f":"IF(LEFT(Template!$M$254,2)=\"RC\",Template!$M$254,\"\")","v":""},{"$f":"IF(LEFT(Template!$M$254,2)=\"SC\",Template!$M$254,\"\")","v":""},{"$f":"IF(LEFT(Template!$K$254,2)=\"AC\",Template!$K$254,\"\")","v":""},{"$f":"IF(OR(LEFT(Template!$K$254,2)=\"PJ\", LEFT(Template!$K$254,2)=\"PR\"),Template!$K$254,\"\")","v":""},{"$f":"IF(LEFT(Template!$K$254,2)=\"GF\",Template!$K$254,\"\")","v":""},{"$f":"IF(Template!$S$254<>\"\",Template!$S$254,\"\")","v":""},null,null,null,null,{"$f":"IF(Template!$L$254<>\"\",Template!$L$254,\"\")","v":""},"BYU_Child",null,null,"USD",null,10295.299999999999,null,null,null,{"$f":"IF(Template!$O$254<>\"\",Template!$O$254,\"\")","v":""}]
[null,{"$f":"Template!$H$255","v":0},{"$error":"#REF!"},"Calendar_Year_Mar",{"$f":"IF(LEFT(Template!$K$255,2)=\"CC\",Template!$K$255,\"\")","v":""},{"$f":"IF(LEFT(Template!$M$255,2)=\"RC\",Template!$M$255,\"\")","v":""},{"$f":"IF(LEFT(Template!$M$255,2)=\"SC\",Template!$M$255,\"\")","v":""},{"$f":"IF(LEFT(Template!$K$255,2)=\"AC\",Template!$K$255,\"\")","v":""},{"$f":"IF(OR(LEFT(Template!$K$255,2)=\"PJ\", LEFT(Template!$K$255,2)=\"PR\"),Template!$K$255,\"\")","v":""},{"$f":"IF(LEFT(Template!$K$255,2)=\"GF\",Template!$K$255,\"\")","v":""},{"$f":"IF(Template!$S$255<>\"\",Template!$S$255,\"\")","v":""},null,null,null,null,{"$f":"IF(Template!$L$255<>\"\",Template!$L$255,\"\")","v":""},"BYU_Child",null,null,"USD",null,7260.96,null,null,null,{"$f":"IF(Template!$O$255<>\"\",Template!$O$255,\"\")","v":""}]
[null,{"$f":"Template!$H$256","v":0},{"$error":"#REF!"},"Calendar_Year_Mar",{"$f":"IF(LEFT(Template!$K$256,2)=\"CC\",Template!$K$256,\"\")","v":""},{"$f":"IF(LEFT(Template!$M$256,2)=\"RC\",Template!$M$256,\"\")","v":""},{"$f":"IF(LEFT(Template!$M$256,2)=\"SC\",Template!$M$256,\"\")","v":""},{"$f":"IF(LEFT(Template!$K$256,2)=\"AC\",Template!$K$256,\"\")","v":""},{"$f":"IF(OR(LEFT(Template!$K$256,2)=\"PJ\", LEFT(Template!$K$256,2)=\"PR\"),Template!$K$256,\"\")","v":""},{"$f":"IF(LEFT(Template!$K$256,2)=\"GF\",Template!$K$256,\"\")","v":""},{"$f":"IF(Template!$S$256<>\"\",Template!$S$256,\"\")","v":""},null,null,null,null,{"$f":"IF(Template!$L$256<>\"\",Template!$L$256,\"\")","v":""},"BYU_Child",null,null,"USD",null,1296.3499999999999,null,null,null,{"$f":"IF(Template!$O$256<>\"\",Template!$O$256,\"\")","v":""}]
[null,{"$f":"Template!$H$257","v":0},{"$error":"#REF!"},"Calendar_Year_Mar",{"$f":"IF(LEFT(Template!$K$257,2)=\"CC\",Template!$K$257,\"\")","v":""},{"$f":"IF(LEFT(Template!$M$257,2)=\"RC\",Template!$M$257,\"\")","v":""},{"$f":"IF(LEFT(Template!$M$257,2)=\"SC\",Template!$M$257,\"\")","v":""},{"$f":"IF(LEFT(Template!$K$257,2)=\"AC\",Template!$K$257,\"\")","v":""},{"$f":"IF(OR(LEFT(Template!$K$257,2)=\"PJ\", LEFT(Template!$K$257,2)=\"PR\"),Template!$K$257,\"\")","v":""},{"$f":"IF(LEFT(Template!$K$257,2)=\"GF\",Template!$K$257,\"\")","v":""},{"$f":"IF(Template!$S$257<>\"\",Template!$S$257,\"\")","v":""},null,null,null,null,{"$f":"IF(Template!$L$257<>\"\",Template!$L$257,\"\")","v":""},"BYU_Child",null,null,"USD",null,843.96,null,null,null,{"$f":"IF(Template!$O$257<>\"\",Template!$O$257,\"\")","v":""}]
[null,{"$f":"Template!$H$258","v":0},{"$error":"#REF!"},"Calendar_Year_Mar",{"$f":"IF(LEFT(Template!$K$258,2)=\"CC\",Template!$K$258,\"\")","v":""},{"$f":"IF(LEFT(Template!$M$258,2)=\"RC\",Template!$M$258,\"\")","v":""},{"$f":"IF(LEFT(Template!$M$258,2)=\"SC\",Template!$M$258,\"\")","v":""},{"$f":"IF(LEFT(Template!$K$258,2)=\"AC\",Template!$K$258,\"\")","v":""},{"$f":"IF(OR(LEFT(Template!$K$258,2)=\"PJ\", LEFT(Template!$K$258,2)=\"PR\"),Template!$K$258,\"\")","v":""},{"$f":"IF(LEFT(Template!$K$258,2)=\"GF\",Template!$K$258,\"\")","v":""},{"$f":"IF(Template!$S$258<>\"\",Template!$S$258,\"\")","v":""},null,null,null,null,{"$f":"IF(Template!$L$258<>\"\",Template!$L$258,\"\")","v":""},"BYU_Child",null,null,"USD",null,3131.93,null,null,null,{"$f":"IF(Template!$O$258<>\"\",Template!$O$258,\"\")","v":""}]
[null,{"$f":"Template!$H$259","v":0},{"$error":"#REF!"},"Calendar_Year_Mar",{"$f":"IF(LEFT(Template!$K$259,2)=\"CC\",Template!$K$259,\"\")","v":""},{"$f":"IF(LEFT(Template!$M$259,2)=\"RC\",Template!$M$259,\"\")","v":""},{"$f":"IF(LEFT(Template!$M$259,2)=\"SC\",Template!$M$259,\"\")","v":""},{"$f":"IF(LEFT(Template!$K$259,2)=\"AC\",Template!$K$259,\"\")","v":""},{"$f":"IF(OR(LEFT(Template!$K$259,2)=\"PJ\", LEFT(Template!$K$259,2)=\"PR\"),Template!$K$259,\"\")","v":""},{"$f":"IF(LEFT(Template!$K$259,2)=\"GF\",Template!$K$259,\"\")","v":""},{"$f":"IF(Template!$S$259<>\"\",Template!$S$259,\"\")","v":""},null,null,null,null,{"$f":"IF(Template!$L$259<>\"\",Template!$L$259,\"\")","v":""},"BYU_Child",null,null,"USD",null,3924.95,null,null,null,{"$f":"IF(Template!$O$259<>\"\",Template!$O$259,\"\")","v":""}]
[null,{"$f":"Template!$H$260","v":0},{"$error":"#REF!"},"Calendar_Year_Mar",{"$f":"IF(LEFT(Template!$K$260,2)=\"CC\",Template!$K$260,\"\")","v":""},{"$f":"IF(LEFT(Template!$M$260,2)=\"RC\",Template!$M$260,\"\")","v":""},{"$f":"IF(LEFT(Template!$M$260,2)=\"SC\",Template!$M$260,\"\")","v":""},{"$f":"IF(LEFT(Template!$K$260,2)=\"AC\",Template!$K$260,\"\")","v":""},{"$f":"IF(OR(LEFT(Template!$K$260,2)=\"PJ\", LEFT(Template!$K$260,2)=\"PR\"),Template!$K$260,\"\")","v":""},{"$f":"IF(LEFT(Template!$K$260,2)=\"GF\",Template!$K$260,\"\")","v":""},{"$f":"IF(Template!$S$260<>\"\",Template!$S$260,\"\")","v":""},null,null,null,null,{"$f":"IF(Template!$L$260<>\"\",Template!$L$260,\"\")","v":""},"BYU_Child",null,null,"USD",null,16766.21,null,null,null,{"$f":"IF(Template!$O$260<>\"\",Template!$O$260,\"\")","v":""}]
[null,{"$f":"Template!$H$261","v":0},{"$error":"#REF!"},"Calendar_Year_Mar",{"$f":"IF(LEFT(Template!$K$261,2)=\"CC\",Template!$K$261,\"\")","v":""},{"$f":"IF(LEFT(Template!$M$261,2)=\"RC\",Template!$M$261,\"\")","v":""},{"$f":"IF(LEFT(Template!$M$261,2)=\"SC\",Template!$M$261,\"\")","v":""},{"$f":"IF(LEFT(Template!$K$261,2)=\"AC\",Template!$K$261,\"\")","v":""},{"$f":"IF(OR(LEFT(Template!$K$261,2)=\"PJ\", LEFT(Template!$K$261,2)=\"PR\"),Template!$K$261,\"\")","v":""},{"$f":"IF(LEFT(Template!$K$261,2)=\"GF\",Template!$K$261,\"\")","v":""},{"$f":"IF(Template!$S$261<>\"\",Template!$S$261,\"\")","v":""},null,null,null,null,{"$f":"IF(Template!$L$261<>\"\",Template!$L$261,\"\")","v":""},"BYU_Child",null,null,"USD",null,7431.42,null,null,null,{"$f":"IF(Template!$O$261<>\"\",Template!$O$261,\"\")","v":""}]
[null,{"$f":"Template!$H$262","v":0},{"$error":"#REF!"},"Calendar_Year_Mar",{"$f":"IF(LEFT(Template!$K$262,2)=\"CC\",Template!$K$262,\"\")","v":""},{"$f":"IF(LEFT(Template!$M$262,2)=\"RC\",Template!$M$262,\"\")","v":""},{"$f":"IF(LEFT(Template!$M$262,2)=\"SC\",Template!$M$262,\"\")","v":""},{"$f":"IF(LEFT(Template!$K$262,2)=\"AC\",Template!$K$262,\"\")","v":""},{"$f":"IF(OR(LEFT(Template!$K$262,2)=\"PJ\", LEFT(Template!$K$262,2)=\"PR\"),Template!$K$262,\"\")","v":""},{"$f":"IF(LEFT(Template!$K$262,2)=\"GF\",Template!$K$262,\"\")","v":""},{"$f":"IF(Template!$S$262<>\"\",Template!$S$262,\"\")","v":""},null,null,null,null,{"$f":"IF(Template!$L$262<>\"\",Template!$L$262,\"\")","v":""},"BYU_Child",null,null,"USD",null,28.46,null,null,null,{"$f":"IF(Template!$O$262<>\"\",Template!$O$262,\"\")","v":""}]
[null,{"$f":"Template!$H$263","v":0},{"$error":"#REF!"},"Calendar_Year_Mar",{"$f":"IF(LEFT(Template!$K$263,2)=\"CC\",Template!$K$263,\"\")","v":""},{"$f":"IF(LEFT(Template!$M$263,2)=\"RC\",Template!$M$263,\"\")","v":""},{"$f":"IF(LEFT(Template!$M$263,2)=\"SC\",Template!$M$263,\"\")","v":""},{"$f":"IF(LEFT(Template!$K$263,2)=\"AC\",Template!$K$263,\"\")","v":""},{"$f":"IF(OR(LEFT(Template!$K$263,2)=\"PJ\", LEFT(Template!$K$263,2)=\"PR\"),Template!$K$263,\"\")","v":""},{"$f":"IF(LEFT(Template!$K$263,2)=\"GF\",Template!$K$263,\"\")","v":""},{"$f":"IF(Template!$S$263<>\"\",Template!$S$263,\"\")","v":""},null,null,null,null,{"$f":"IF(Template!$L$263<>\"\",Template!$L$263,\"\")","v":""},"BYU_Child",null,null,"USD",null,643.79999999999995,null,null,null,{"$f":"IF(Template!$O$263<>\"\",Template!$O$263,\"\")","v":""}]
[null,{"$f":"Template!$H$264","v":0},{"$error":"#REF!"},"Calendar_Year_Mar",{"$f":"IF(LEFT(Template!$K$264,2)=\"CC\",Template!$K$264,\"\")","v":""},{"$f":"IF(LEFT(Template!$M$264,2)=\"RC\",Template!$M$264,\"\")","v":""},{"$f":"IF(LEFT(Template!$M$264,2)=\"SC\",Template!$M$264,\"\")","v":""},{"$f":"IF(LEFT(Template!$K$264,2)=\"AC\",Template!$K$264,\"\")","v":""},{"$f":"IF(OR(LEFT(Template!$K$264,2)=\"PJ\", LEFT(Template!$K$264,2)=\"PR\"),Template!$K$264,\"\")","v":""},{"$f":"IF(LEFT(Template!$K$264,2)=\"GF\",Template!$K$264,\"\")","v":""},{"$f":"IF(Template!$S$264<>\"\",Template!$S$264,\"\")","v":""},null,null,null,null,{"$f":"IF(Template!$L$264<>\"\",Template!$L$264,\"\")","v":""},"BYU_Child",null,null,"USD",null,5610.31,null,null,null,{"$f":"IF(Template!$O$264<>\"\",Template!$O$264,\"\")","v":""}]
[null,{"$f":"Template!$H$265","v":0},{"$error":"#REF!"},"Calendar_Year_Mar",{"$f":"IF(LEFT(Template!$K$265,2)=\"CC\",Template!$K$265,\"\")","v":""},{"$f":"IF(LEFT(Template!$M$265,2)=\"RC\",Template!$M$265,\"\")","v":""},{"$f":"IF(LEFT(Template!$M$265,2)=\"SC\",Template!$M$265,\"\")","v":""},{"$f":"IF(LEFT(Template!$K$265,2)=\"AC\",Template!$K$265,\"\")","v":""},{"$f":"IF(OR(LEFT(Template!$K$265,2)=\"PJ\", LEFT(Template!$K$265,2)=\"PR\"),Template!$K$265,\"\")","v":""},{"$f":"IF(LEFT(Template!$K$265,2)=\"GF\",Template!$K$265,\"\")","v":""},{"$f":"IF(Template!$S$265<>\"\",Template!$S$265,\"\")","v":""},null,null,null,null,{"$f":"IF(Template!$L$265<>\"\",Template!$L$265,\"\")","v":""},"BYU_Child",null,null,"USD",null,5.5,null,null,null,{"$f":"IF(Template!$O$265<>\"\",Template!$O$265,\"\")","v":""}]
[null,{"$f":"Template!$H$266","v":0},{"$error":"#REF!"},"Calendar_Year_Mar",{"$f":"IF(LEFT(Template!$K$266,2)=\"CC\",Template!$K$266,\"\")","v":""},{"$f":"IF(LEFT(Template!$M$266,2)=\"RC\",Template!$M$266,\"\")","v":""},{"$f":"IF(LEFT(Template!$M$266,2)=\"SC\",Template!$M$266,\"\")","v":""},{"$f":"IF(LEFT(Template!$K$266,2)=\"AC\",Template!$K$266,\"\")","v":""},{"$f":"IF(OR(LEFT(Template!$K$266,2)=\"PJ\", LEFT(Template!$K$266,2)=\"PR\"),Template!$K$266,\"\")","v":""},{"$f":"IF(LEFT(Template!$K$266,2)=\"GF\",Template!$K$266,\"\")","v":""},{"$f":"IF(Template!$S$266<>\"\",Template!$S$266,\"\")","v":""},null,null,null,null,{"$f":"IF(Template!$L$266<>\"\",Template!$L$266,\"\")","v":""},"BYU_Child",null,null,"USD",null,452.28,null,null,null,{"$f":"IF(Template!$O$266<>\"\",Template!$O$266,\"\")","v":""}]
[null,{"$f":"Template!$H$267","v":0},{"$error":"#REF!"},"Calendar_Year_Mar",{"$f":"IF(LEFT(Template!$K$267,2)=\"CC\",Template!$K$267,\"\")","v":""},{"$f":"IF(LEFT(Template!$M$267,2)=\"RC\",Template!$M$267,\"\")","v":""},{"$f":"IF(LEFT(Template!$M$267,2)=\"SC\",Template!$M$267,\"\")","v":""},{"$f":"IF(LEFT(Template!$K$267,2)=\"AC\",Template!$K$267,\"\")","v":""},{"$f":"IF(OR(LEFT(Template!$K$267,2)=\"PJ\", LEFT(Template!$K$267,2)=\"PR\"),Template!$K$267,\"\")","v":""},{"$f":"IF(LEFT(Template!$K$267,2)=\"GF\",Template!$K$267,\"\")","v":""},{"$f":"IF(Template!$S$267<>\"\",Template!$S$267,\"\")","v":""},null,null,null,null,{"$f":"IF(Template!$L$267<>\"\",Template!$L$267,\"\")","v":""},"BYU_Child",null,null,"USD",null,5770.49,null,null,null,{"$f":"IF(Template!$O$267<>\"\",Template!$O$267,\"\")","v":""}]
[null,{"$f":"Template!$H$268","v":0},{"$error":"#REF!"},"Calendar_Year_Mar",{"$f":"IF(LEFT(Template!$K$268,2)=\"CC\",Template!$K$268,\"\")","v":""},{"$f":"IF(LEFT(Template!$M$268,2)=\"RC\",Template!$M$268,\"\")","v":""},{"$f":"IF(LEFT(Template!$M$268,2)=\"SC\",Template!$M$268,\"\")","v":""},{"$f":"IF(LEFT(Template!$K$268,2)=\"AC\",Template!$K$268,\"\")","v":""},{"$f":"IF(OR(LEFT(Template!$K$268,2)=\"PJ\", LEFT(Template!$K$268,2)=\"PR\"),Template!$K$268,\"\")","v":""},{"$f":"IF(LEFT(Template!$K$268,2)=\"GF\",Template!$K$268,\"\")","v":""},{"$f":"IF(Template!$S$268<>\"\",Template!$S$268,\"\")","v":""},null,null,null,null,{"$f":"IF(Template!$L$268<>\"\",Template!$L$268,\"\")","v":""},"BYU_Child",null,null,"USD",null,39324.54,null,null,null,{"$f":"IF(Template!$O$268<>\"\",Template!$O$268,\"\")","v":""}]
[null,{"$f":"Template!$H$269","v":0},{"$error":"#REF!"},"Calendar_Year_Mar",{"$f":"IF(LEFT(Template!$K$269,2)=\"CC\",Template!$K$269,\"\")","v":""},{"$f":"IF(LEFT(Template!$M$269,2)=\"RC\",Template!$M$269,\"\")","v":""},{"$f":"IF(LEFT(Template!$M$269,2)=\"SC\",Template!$M$269,\"\")","v":""},{"$f":"IF(LEFT(Template!$K$269,2)=\"AC\",Template!$K$269,\"\")","v":""},{"$f":"IF(OR(LEFT(Template!$K$269,2)=\"PJ\", LEFT(Template!$K$269,2)=\"PR\"),Template!$K$269,\"\")","v":""},{"$f":"IF(LEFT(Template!$K$269,2)=\"GF\",Template!$K$269,\"\")","v":""},{"$f":"IF(Template!$S$269<>\"\",Template!$S$269,\"\")","v":""},null,null,null,null,{"$f":"IF(Template!$L$269<>\"\",Template!$L$269,\"\")","v":""},"BYU_Child",null,null,"USD",null,1806.64,null,null,null,{"$f":"IF(Template!$O$269<>\"\",Template!$O$269,\"\")","v":""}]
[null,{"$f":"Template!$H$270","v":0},{"$error":"#REF!"},"Calendar_Year_Mar",{"$f":"IF(LEFT(Template!$K$270,2)=\"CC\",Template!$K$270,\"\")","v":""},{"$f":"IF(LEFT(Template!$M$270,2)=\"RC\",Template!$M$270,\"\")","v":""},{"$f":"IF(LEFT(Template!$M$270,2)=\"SC\",Template!$M$270,\"\")","v":""},{"$f":"IF(LEFT(Template!$K$270,2)=\"AC\",Template!$K$270,\"\")","v":""},{"$f":"IF(OR(LEFT(Template!$K$270,2)=\"PJ\", LEFT(Template!$K$270,2)=\"PR\"),Template!$K$270,\"\")","v":""},{"$f":"IF(LEFT(Template!$K$270,2)=\"GF\",Template!$K$270,\"\")","v":""},{"$f":"IF(Template!$S$270<>\"\",Template!$S$270,\"\")","v":""},null,null,null,null,{"$f":"IF(Template!$L$270<>\"\",Template!$L$270,\"\")","v":""},"BYU_Child",null,null,"USD",null,27742.48,null,null,null,{"$f":"IF(Template!$O$270<>\"\",Template!$O$270,\"\")","v":""}]
[null,{"$f":"Template!$H$271","v":0},{"$error":"#REF!"},"Calendar_Year_Mar",{"$f":"IF(LEFT(Template!$K$271,2)=\"CC\",Template!$K$271,\"\")","v":""},{"$f":"IF(LEFT(Template!$M$271,2)=\"RC\",Template!$M$271,\"\")","v":""},{"$f":"IF(LEFT(Template!$M$271,2)=\"SC\",Template!$M$271,\"\")","v":""},{"$f":"IF(LEFT(Template!$K$271,2)=\"AC\",Template!$K$271,\"\")","v":""},{"$f":"IF(OR(LEFT(Template!$K$271,2)=\"PJ\", LEFT(Template!$K$271,2)=\"PR\"),Template!$K$271,\"\")","v":""},{"$f":"IF(LEFT(Template!$K$271,2)=\"GF\",Template!$K$271,\"\")","v":""},{"$f":"IF(Template!$S$271<>\"\",Template!$S$271,\"\")","v":""},null,null,null,null,{"$f":"IF(Template!$L$271<>\"\",Template!$L$271,\"\")","v":""},"BYU_Child",null,null,"USD",null,411.4,null,null,null,{"$f":"IF(Template!$O$271<>\"\",Template!$O$271,\"\")","v":""}]
[null,{"$f":"Template!$H$272","v":0},{"$error":"#REF!"},"Calendar_Year_Mar",{"$f":"IF(LEFT(Template!$K$272,2)=\"CC\",Template!$K$272,\"\")","v":""},{"$f":"IF(LEFT(Template!$M$272,2)=\"RC\",Template!$M$272,\"\")","v":""},{"$f":"IF(LEFT(Template!$M$272,2)=\"SC\",Template!$M$272,\"\")","v":""},{"$f":"IF(LEFT(Template!$K$272,2)=\"AC\",Template!$K$272,\"\")","v":""},{"$f":"IF(OR(LEFT(Template!$K$272,2)=\"PJ\", LEFT(Template!$K$272,2)=\"PR\"),Template!$K$272,\"\")","v":""},{"$f":"IF(LEFT(Template!$K$272,2)=\"GF\",Template!$K$272,\"\")","v":""},{"$f":"IF(Template!$S$272<>\"\",Template!$S$272,\"\")","v":""},null,null,null,null,{"$f":"IF(Template!$L$272<>\"\",Template!$L$272,\"\")","v":""},"BYU_Child",null,null,"USD",null,60511.24,null,null,null,{"$f":"IF(Template!$O$272<>\"\",Template!$O$272,\"\")","v":""}]
[null,{"$f":"Template!$H$273","v":0},{"$error":"#REF!"},"Calendar_Year_Mar",{"$f":"IF(LEFT(Template!$K$273,2)=\"CC\",Template!$K$273,\"\")","v":""},{"$f":"IF(LEFT(Template!$M$273,2)=\"RC\",Template!$M$273,\"\")","v":""},{"$f":"IF(LEFT(Template!$M$273,2)=\"SC\",Template!$M$273,\"\")","v":""},{"$f":"IF(LEFT(Template!$K$273,2)=\"AC\",Template!$K$273,\"\")","v":""},{"$f":"IF(OR(LEFT(Template!$K$273,2)=\"PJ\", LEFT(Template!$K$273,2)=\"PR\"),Template!$K$273,\"\")","v":""},{"$f":"IF(LEFT(Template!$K$273,2)=\"GF\",Template!$K$273,\"\")","v":""},{"$f":"IF(Template!$S$273<>\"\",Template!$S$273,\"\")","v":""},null,null,null,null,{"$f":"IF(Template!$L$273<>\"\",Template!$L$273,\"\")","v":""},"BYU_Child",null,null,"USD",null,53.84,null,null,null,{"$f":"IF(Template!$O$273<>\"\",Template!$O$273,\"\")","v":""}]
[null,{"$f":"Template!$H$274","v":0},{"$error":"#REF!"},"Calendar_Year_Mar",{"$f":"IF(LEFT(Template!$K$274,2)=\"CC\",Template!$K$274,\"\")","v":""},{"$f":"IF(LEFT(Template!$M$274,2)=\"RC\",Template!$M$274,\"\")","v":""},{"$f":"IF(LEFT(Template!$M$274,2)=\"SC\",Template!$M$274,\"\")","v":""},{"$f":"IF(LEFT(Template!$K$274,2)=\"AC\",Template!$K$274,\"\")","v":""},{"$f":"IF(OR(LEFT(Template!$K$274,2)=\"PJ\", LEFT(Template!$K$274,2)=\"PR\"),Template!$K$274,\"\")","v":""},{"$f":"IF(LEFT(Template!$K$274,2)=\"GF\",Template!$K$274,\"\")","v":""},{"$f":"IF(Template!$S$274<>\"\",Template!$S$274,\"\")","v":""},null,null,null,null,{"$f":"IF(Template!$L$274<>\"\",Template!$L$274,\"\")","v":""},"BYU_Child",null,null,"USD",null,880.59,null,null,null,{"$f":"IF(Template!$O$274<>\"\",Template!$O$274,\"\")","v":""}]
[null,{"$f":"Template!$H$275","v":0},{"$error":"#REF!"},"Calendar_Year_Mar",{"$f":"IF(LEFT(Template!$K$275,2)=\"CC\",Template!$K$275,\"\")","v":""},{"$f":"IF(LEFT(Template!$M$275,2)=\"RC\",Template!$M$275,\"\")","v":""},{"$f":"IF(LEFT(Template!$M$275,2)=\"SC\",Template!$M$275,\"\")","v":""},{"$f":"IF(LEFT(Template!$K$275,2)=\"AC\",Template!$K$275,\"\")","v":""},{"$f":"IF(OR(LEFT(Template!$K$275,2)=\"PJ\", LEFT(Template!$K$275,2)=\"PR\"),Template!$K$275,\"\")","v":""},{"$f":"IF(LEFT(Template!$K$275,2)=\"GF\",Template!$K$275,\"\")","v":""},{"$f":"IF(Template!$S$275<>\"\",Template!$S$275,\"\")","v":""},null,null,null,null,{"$f":"IF(Template!$L$275<>\"\",Template!$L$275,\"\")","v":""},"BYU_Child",null,null,"USD",null,25728.37,null,null,null,{"$f":"IF(Template!$O$275<>\"\",Template!$O$275,\"\")","v":""}]
[null,{"$f":"Template!$H$276","v":0},{"$error":"#REF!"},"Calendar_Year_Mar",{"$f":"IF(LEFT(Template!$K$276,2)=\"CC\",Template!$K$276,\"\")","v":""},{"$f":"IF(LEFT(Template!$M$276,2)=\"RC\",Template!$M$276,\"\")","v":""},{"$f":"IF(LEFT(Template!$M$276,2)=\"SC\",Template!$M$276,\"\")","v":""},{"$f":"IF(LEFT(Template!$K$276,2)=\"AC\",Template!$K$276,\"\")","v":""},{"$f":"IF(OR(LEFT(Template!$K$276,2)=\"PJ\", LEFT(Template!$K$276,2)=\"PR\"),Template!$K$276,\"\")","v":""},{"$f":"IF(LEFT(Template!$K$276,2)=\"GF\",Template!$K$276,\"\")","v":""},{"$f":"IF(Template!$S$276<>\"\",Template!$S$276,\"\")","v":""},null,null,null,null,{"$f":"IF(Template!$L$276<>\"\",Template!$L$276,\"\")","v":""},"BYU_Child",null,null,"USD",null,17750.66,null,null,null,{"$f":"IF(Template!$O$276<>\"\",Template!$O$276,\"\")","v":""}]
[null,{"$f":"Template!$H$277","v":0},{"$error":"#REF!"},"Calendar_Year_Mar",{"$f":"IF(LEFT(Template!$K$277,2)=\"CC\",Template!$K$277,\"\")","v":""},{"$f":"IF(LEFT(Template!$M$277,2)=\"RC\",Template!$M$277,\"\")","v":""},{"$f":"IF(LEFT(Template!$M$277,2)=\"SC\",Template!$M$277,\"\")","v":""},{"$f":"IF(LEFT(Template!$K$277,2)=\"AC\",Template!$K$277,\"\")","v":""},{"$f":"IF(OR(LEFT(Template!$K$277,2)=\"PJ\", LEFT(Template!$K$277,2)=\"PR\"),Template!$K$277,\"\")","v":""},{"$f":"IF(LEFT(Template!$K$277,2)=\"GF\",Template!$K$277,\"\")","v":""},{"$f":"IF(Template!$S$277<>\"\",Template!$S$277,\"\")","v":""},null,null,null,null,{"$f":"IF(Template!$L$277<>\"\",Template!$L$277,\"\")","v":""},"BYU_Child",null,null,"USD",null,2103.2800000000002,null,null,null,{"$f":"IF(Template!$O$277<>\"\",Template!$O$277,\"\")","v":""}]
[null,{"$f":"Template!$H$278","v":0},{"$error":"#REF!"},"Calendar_Year_Mar",{"$f":"IF(LEFT(Template!$K$278,2)=\"CC\",Template!$K$278,\"\")","v":""},{"$f":"IF(LEFT(Template!$M$278,2)=\"RC\",Template!$M$278,\"\")","v":""},{"$f":"IF(LEFT(Template!$M$278,2)=\"SC\",Template!$M$278,\"\")","v":""},{"$f":"IF(LEFT(Template!$K$278,2)=\"AC\",Template!$K$278,\"\")","v":""},{"$f":"IF(OR(LEFT(Template!$K$278,2)=\"PJ\", LEFT(Template!$K$278,2)=\"PR\"),Template!$K$278,\"\")","v":""},{"$f":"IF(LEFT(Template!$K$278,2)=\"GF\",Template!$K$278,\"\")","v":""},{"$f":"IF(Template!$S$278<>\"\",Template!$S$278,\"\")","v":""},null,null,null,null,{"$f":"IF(Template!$L$278<>\"\",Template!$L$278,\"\")","v":""},"BYU_Child",null,null,"USD",null,139706.54,null,null,null,{"$f":"IF(Template!$O$278<>\"\",Template!$O$278,\"\")","v":""}]
[null,{"$f":"Template!$H$279","v":0},{"$error":"#REF!"},"Calendar_Year_Mar",{"$f":"IF(LEFT(Template!$K$279,2)=\"CC\",Template!$K$279,\"\")","v":""},{"$f":"IF(LEFT(Template!$M$279,2)=\"RC\",Template!$M$279,\"\")","v":""},{"$f":"IF(LEFT(Template!$M$279,2)=\"SC\",Template!$M$279,\"\")","v":""},{"$f":"IF(LEFT(Template!$K$279,2)=\"AC\",Template!$K$279,\"\")","v":""},{"$f":"IF(OR(LEFT(Template!$K$279,2)=\"PJ\", LEFT(Template!$K$279,2)=\"PR\"),Template!$K$279,\"\")","v":""},{"$f":"IF(LEFT(Template!$K$279,2)=\"GF\",Template!$K$279,\"\")","v":""},{"$f":"IF(Template!$S$279<>\"\",Template!$S$279,\"\")","v":""},null,null,null,null,{"$f":"IF(Template!$L$279<>\"\",Template!$L$279,\"\")","v":""},"BYU_Child",null,null,"USD",null,14691.84,null,null,null,{"$f":"IF(Template!$O$279<>\"\",Template!$O$279,\"\")","v":""}]
[null,{"$f":"Template!$H$280","v":0},{"$error":"#REF!"},"Calendar_Year_Mar",{"$f":"IF(LEFT(Template!$K$280,2)=\"CC\",Template!$K$280,\"\")","v":""},{"$f":"IF(LEFT(Template!$M$280,2)=\"RC\",Template!$M$280,\"\")","v":""},{"$f":"IF(LEFT(Template!$M$280,2)=\"SC\",Template!$M$280,\"\")","v":""},{"$f":"IF(LEFT(Template!$K$280,2)=\"AC\",Template!$K$280,\"\")","v":""},{"$f":"IF(OR(LEFT(Template!$K$280,2)=\"PJ\", LEFT(Template!$K$280,2)=\"PR\"),Template!$K$280,\"\")","v":""},{"$f":"IF(LEFT(Template!$K$280,2)=\"GF\",Template!$K$280,\"\")","v":""},{"$f":"IF(Template!$S$280<>\"\",Template!$S$280,\"\")","v":""},null,null,null,null,{"$f":"IF(Template!$L$280<>\"\",Template!$L$280,\"\")","v":""},"BYU_Child",null,null,"USD",null,101245.62,null,null,null,{"$f":"IF(Template!$O$280<>\"\",Template!$O$280,\"\")","v":""}]
[null,{"$f":"Template!$H$281","v":0},{"$error":"#REF!"},"Calendar_Year_Mar",{"$f":"IF(LEFT(Template!$K$281,2)=\"CC\",Template!$K$281,\"\")","v":""},{"$f":"IF(LEFT(Template!$M$281,2)=\"RC\",Template!$M$281,\"\")","v":""},{"$f":"IF(LEFT(Template!$M$281,2)=\"SC\",Template!$M$281,\"\")","v":""},{"$f":"IF(LEFT(Template!$K$281,2)=\"AC\",Template!$K$281,\"\")","v":""},{"$f":"IF(OR(LEFT(Template!$K$281,2)=\"PJ\", LEFT(Template!$K$281,2)=\"PR\"),Template!$K$281,\"\")","v":""},{"$f":"IF(LEFT(Template!$K$281,2)=\"GF\",Template!$K$281,\"\")","v":""},{"$f":"IF(Template!$S$281<>\"\",Template!$S$281,\"\")","v":""},null,null,null,null,{"$f":"IF(Template!$L$281<>\"\",Template!$L$281,\"\")","v":""},"BYU_Child",null,null,"USD",null,7.95,null,null,null,{"$f":"IF(Template!$O$281<>\"\",Template!$O$281,\"\")","v":""}]
[null,{"$f":"Template!$H$282","v":0},{"$error":"#REF!"},"Calendar_Year_Mar",{"$f":"IF(LEFT(Template!$K$282,2)=\"CC\",Template!$K$282,\"\")","v":""},{"$f":"IF(LEFT(Template!$M$282,2)=\"RC\",Template!$M$282,\"\")","v":""},{"$f":"IF(LEFT(Template!$M$282,2)=\"SC\",Template!$M$282,\"\")","v":""},{"$f":"IF(LEFT(Template!$K$282,2)=\"AC\",Template!$K$282,\"\")","v":""},{"$f":"IF(OR(LEFT(Template!$K$282,2)=\"PJ\", LEFT(Template!$K$282,2)=\"PR\"),Template!$K$282,\"\")","v":""},{"$f":"IF(LEFT(Template!$K$282,2)=\"GF\",Template!$K$282,\"\")","v":""},{"$f":"IF(Template!$S$282<>\"\",Template!$S$282,\"\")","v":""},null,null,null,null,{"$f":"IF(Template!$L$282<>\"\",Template!$L$282,\"\")","v":""},"BYU_Child",null,null,"USD",null,11611.9,null,null,null,{"$f":"IF(Template!$O$282<>\"\",Template!$O$282,\"\")","v":""}]
[null,{"$f":"Template!$H$283","v":0},{"$error":"#REF!"},"Calendar_Year_Mar",{"$f":"IF(LEFT(Template!$K$283,2)=\"CC\",Template!$K$283,\"\")","v":""},{"$f":"IF(LEFT(Template!$M$283,2)=\"RC\",Template!$M$283,\"\")","v":""},{"$f":"IF(LEFT(Template!$M$283,2)=\"SC\",Template!$M$283,\"\")","v":""},{"$f":"IF(LEFT(Template!$K$283,2)=\"AC\",Template!$K$283,\"\")","v":""},{"$f":"IF(OR(LEFT(Template!$K$283,2)=\"PJ\", LEFT(Template!$K$283,2)=\"PR\"),Template!$K$283,\"\")","v":""},{"$f":"IF(LEFT(Template!$K$283,2)=\"GF\",Template!$K$283,\"\")","v":""},{"$f":"IF(Template!$S$283<>\"\",Template!$S$283,\"\")","v":""},null,null,null,null,{"$f":"IF(Template!$L$283<>\"\",Template!$L$283,\"\")","v":""},"BYU_Child",null,null,"USD",null,32402.65,null,null,null,{"$f":"IF(Template!$O$283<>\"\",Template!$O$283,\"\")","v":""}]
[null,{"$f":"Template!$H$284","v":0},{"$error":"#REF!"},"Calendar_Year_Mar",{"$f":"IF(LEFT(Template!$K$284,2)=\"CC\",Template!$K$284,\"\")","v":""},{"$f":"IF(LEFT(Template!$M$284,2)=\"RC\",Template!$M$284,\"\")","v":""},{"$f":"IF(LEFT(Template!$M$284,2)=\"SC\",Template!$M$284,\"\")","v":""},{"$f":"IF(LEFT(Template!$K$284,2)=\"AC\",Template!$K$284,\"\")","v":""},{"$f":"IF(OR(LEFT(Template!$K$284,2)=\"PJ\", LEFT(Template!$K$284,2)=\"PR\"),Template!$K$284,\"\")","v":""},{"$f":"IF(LEFT(Template!$K$284,2)=\"GF\",Template!$K$284,\"\")","v":""},{"$f":"IF(Template!$S$284<>\"\",Template!$S$284,\"\")","v":""},null,null,null,null,{"$f":"IF(Template!$L$284<>\"\",Template!$L$284,\"\")","v":""},"BYU_Child",null,null,"USD",null,102786.31,null,null,null,{"$f":"IF(Template!$O$284<>\"\",Template!$O$284,\"\")","v":""}]
[null,{"$f":"Template!$H$285","v":0},{"$error":"#REF!"},"Calendar_Year_Mar",{"$f":"IF(LEFT(Template!$K$285,2)=\"CC\",Template!$K$285,\"\")","v":""},{"$f":"IF(LEFT(Template!$M$285,2)=\"RC\",Template!$M$285,\"\")","v":""},{"$f":"IF(LEFT(Template!$M$285,2)=\"SC\",Template!$M$285,\"\")","v":""},{"$f":"IF(LEFT(Template!$K$285,2)=\"AC\",Template!$K$285,\"\")","v":""},{"$f":"IF(OR(LEFT(Template!$K$285,2)=\"PJ\", LEFT(Template!$K$285,2)=\"PR\"),Template!$K$285,\"\")","v":""},{"$f":"IF(LEFT(Template!$K$285,2)=\"GF\",Template!$K$285,\"\")","v":""},{"$f":"IF(Template!$S$285<>\"\",Template!$S$285,\"\")","v":""},null,null,null,null,{"$f":"IF(Template!$L$285<>\"\",Template!$L$285,\"\")","v":""},"BYU_Child",null,null,"USD",null,74.349999999999994,null,null,null,{"$f":"IF(Template!$O$285<>\"\",Template!$O$285,\"\")","v":""}]
[null,{"$f":"Template!$H$286","v":0},{"$error":"#REF!"},"Calendar_Year_Mar",{"$f":"IF(LEFT(Template!$K$286,2)=\"CC\",Template!$K$286,\"\")","v":""},{"$f":"IF(LEFT(Template!$M$286,2)=\"RC\",Template!$M$286,\"\")","v":""},{"$f":"IF(LEFT(Template!$M$286,2)=\"SC\",Template!$M$286,\"\")","v":""},{"$f":"IF(LEFT(Template!$K$286,2)=\"AC\",Template!$K$286,\"\")","v":""},{"$f":"IF(OR(LEFT(Template!$K$286,2)=\"PJ\", LEFT(Template!$K$286,2)=\"PR\"),Template!$K$286,\"\")","v":""},{"$f":"IF(LEFT(Template!$K$286,2)=\"GF\",Template!$K$286,\"\")","v":""},{"$f":"IF(Template!$S$286<>\"\",Template!$S$286,\"\")","v":""},null,null,null,null,{"$f":"IF(Template!$L$286<>\"\",Template!$L$286,\"\")","v":""},"BYU_Child",null,null,"USD",null,109.51,null,null,null,{"$f":"IF(Template!$O$286<>\"\",Template!$O$286,\"\")","v":""}]
[null,{"$f":"Template!$H$287","v":0},{"$error":"#REF!"},"Calendar_Year_Mar",{"$f":"IF(LEFT(Template!$K$287,2)=\"CC\",Template!$K$287,\"\")","v":""},{"$f":"IF(LEFT(Template!$M$287,2)=\"RC\",Template!$M$287,\"\")","v":""},{"$f":"IF(LEFT(Template!$M$287,2)=\"SC\",Template!$M$287,\"\")","v":""},{"$f":"IF(LEFT(Template!$K$287,2)=\"AC\",Template!$K$287,\"\")","v":""},{"$f":"IF(OR(LEFT(Template!$K$287,2)=\"PJ\", LEFT(Template!$K$287,2)=\"PR\"),Template!$K$287,\"\")","v":""},{"$f":"IF(LEFT(Template!$K$287,2)=\"GF\",Template!$K$287,\"\")","v":""},{"$f":"IF(Template!$S$287<>\"\",Template!$S$287,\"\")","v":""},null,null,null,null,{"$f":"IF(Template!$L$287<>\"\",Template!$L$287,\"\")","v":""},"BYU_Child",null,null,"USD",null,11.55,null,null,null,{"$f":"IF(Template!$O$287<>\"\",Template!$O$287,\"\")","v":""}]
[null,{"$f":"Template!$H$288","v":0},{"$error":"#REF!"},"Calendar_Year_Mar",{"$f":"IF(LEFT(Template!$K$288,2)=\"CC\",Template!$K$288,\"\")","v":""},{"$f":"IF(LEFT(Template!$M$288,2)=\"RC\",Template!$M$288,\"\")","v":""},{"$f":"IF(LEFT(Template!$M$288,2)=\"SC\",Template!$M$288,\"\")","v":""},{"$f":"IF(LEFT(Template!$K$288,2)=\"AC\",Template!$K$288,\"\")","v":""},{"$f":"IF(OR(LEFT(Template!$K$288,2)=\"PJ\", LEFT(Template!$K$288,2)=\"PR\"),Template!$K$288,\"\")","v":""},{"$f":"IF(LEFT(Template!$K$288,2)=\"GF\",Template!$K$288,\"\")","v":""},{"$f":"IF(Template!$S$288<>\"\",Template!$S$288,\"\")","v":""},null,null,null,null,{"$f":"IF(Template!$L$288<>\"\",Template!$L$288,\"\")","v":""},"BYU_Child",null,null,"USD",null,78.209999999999994,null,null,null,{"$f":"IF(Template!$O$288<>\"\",Template!$O$288,\"\")","v":""}]
[null,{"$f":"Template!$H$289","v":0},{"$error":"#REF!"},"Calendar_Year_Mar",{"$f":"IF(LEFT(Template!$K$289,2)=\"CC\",Template!$K$289,\"\")","v":""},{"$f":"IF(LEFT(Template!$M$289,2)=\"RC\",Template!$M$289,\"\")","v":""},{"$f":"IF(LEFT(Template!$M$289,2)=\"SC\",Template!$M$289,\"\")","v":""},{"$f":"IF(LEFT(Template!$K$289,2)=\"AC\",Template!$K$289,\"\")","v":""},{"$f":"IF(OR(LEFT(Template!$K$289,2)=\"PJ\", LEFT(Template!$K$289,2)=\"PR\"),Template!$K$289,\"\")","v":""},{"$f":"IF(LEFT(Template!$K$289,2)=\"GF\",Template!$K$289,\"\")","v":""},{"$f":"IF(Template!$S$289<>\"\",Template!$S$289,\"\")","v":""},null,null,null,null,{"$f":"IF(Template!$L$289<>\"\",Template!$L$289,\"\")","v":""},"BYU_Child",null,null,"USD",null,7768.6,null,null,null,{"$f":"IF(Template!$O$289<>\"\",Template!$O$289,\"\")","v":""}]
[null,{"$f":"Template!$H$290","v":0},{"$error":"#REF!"},"Calendar_Year_Mar",{"$f":"IF(LEFT(Template!$K$290,2)=\"CC\",Template!$K$290,\"\")","v":""},{"$f":"IF(LEFT(Template!$M$290,2)=\"RC\",Template!$M$290,\"\")","v":""},{"$f":"IF(LEFT(Template!$M$290,2)=\"SC\",Template!$M$290,\"\")","v":""},{"$f":"IF(LEFT(Template!$K$290,2)=\"AC\",Template!$K$290,\"\")","v":""},{"$f":"IF(OR(LEFT(Template!$K$290,2)=\"PJ\", LEFT(Template!$K$290,2)=\"PR\"),Template!$K$290,\"\")","v":""},{"$f":"IF(LEFT(Template!$K$290,2)=\"GF\",Template!$K$290,\"\")","v":""},{"$f":"IF(Template!$S$290<>\"\",Template!$S$290,\"\")","v":""},null,null,null,null,{"$f":"IF(Template!$L$290<>\"\",Template!$L$290,\"\")","v":""},"BYU_Child",null,null,"USD",null,62.01,null,null,null,{"$f":"IF(Template!$O$290<>\"\",Template!$O$290,\"\")","v":""}]
[null,{"$f":"Template!$H$291","v":0},{"$error":"#REF!"},"Calendar_Year_Mar",{"$f":"IF(LEFT(Template!$K$291,2)=\"CC\",Template!$K$291,\"\")","v":""},{"$f":"IF(LEFT(Template!$M$291,2)=\"RC\",Template!$M$291,\"\")","v":""},{"$f":"IF(LEFT(Template!$M$291,2)=\"SC\",Template!$M$291,\"\")","v":""},{"$f":"IF(LEFT(Template!$K$291,2)=\"AC\",Template!$K$291,\"\")","v":""},{"$f":"IF(OR(LEFT(Template!$K$291,2)=\"PJ\", LEFT(Template!$K$291,2)=\"PR\"),Template!$K$291,\"\")","v":""},{"$f":"IF(LEFT(Template!$K$291,2)=\"GF\",Template!$K$291,\"\")","v":""},{"$f":"IF(Template!$S$291<>\"\",Template!$S$291,\"\")","v":""},null,null,null,null,{"$f":"IF(Template!$L$291<>\"\",Template!$L$291,\"\")","v":""},"BYU_Child",null,null,"USD",null,11135.42,null,null,null,{"$f":"IF(Template!$O$291<>\"\",Template!$O$291,\"\")","v":""}]
[null,{"$f":"Template!$H$292","v":0},{"$error":"#REF!"},"Calendar_Year_Mar",{"$f":"IF(LEFT(Template!$K$292,2)=\"CC\",Template!$K$292,\"\")","v":""},{"$f":"IF(LEFT(Template!$M$292,2)=\"RC\",Template!$M$292,\"\")","v":""},{"$f":"IF(LEFT(Template!$M$292,2)=\"SC\",Template!$M$292,\"\")","v":""},{"$f":"IF(LEFT(Template!$K$292,2)=\"AC\",Template!$K$292,\"\")","v":""},{"$f":"IF(OR(LEFT(Template!$K$292,2)=\"PJ\", LEFT(Template!$K$292,2)=\"PR\"),Template!$K$292,\"\")","v":""},{"$f":"IF(LEFT(Template!$K$292,2)=\"GF\",Template!$K$292,\"\")","v":""},{"$f":"IF(Template!$S$292<>\"\",Template!$S$292,\"\")","v":""},null,null,null,null,{"$f":"IF(Template!$L$292<>\"\",Template!$L$292,\"\")","v":""},"BYU_Child",null,null,"USD",null,18682.150000000001,null,null,null,{"$f":"IF(Template!$O$292<>\"\",Template!$O$292,\"\")","v":""}]
[null,{"$f":"Template!$H$293","v":0},{"$error":"#REF!"},"Calendar_Year_Mar",{"$f":"IF(LEFT(Template!$K$293,2)=\"CC\",Template!$K$293,\"\")","v":""},{"$f":"IF(LEFT(Template!$M$293,2)=\"RC\",Template!$M$293,\"\")","v":""},{"$f":"IF(LEFT(Template!$M$293,2)=\"SC\",Template!$M$293,\"\")","v":""},{"$f":"IF(LEFT(Template!$K$293,2)=\"AC\",Template!$K$293,\"\")","v":""},{"$f":"IF(OR(LEFT(Template!$K$293,2)=\"PJ\", LEFT(Template!$K$293,2)=\"PR\"),Template!$K$293,\"\")","v":""},{"$f":"IF(LEFT(Template!$K$293,2)=\"GF\",Template!$K$293,\"\")","v":""},{"$f":"IF(Template!$S$293<>\"\",Template!$S$293,\"\")","v":""},null,null,null,null,{"$f":"IF(Template!$L$293<>\"\",Template!$L$293,\"\")","v":""},"BYU_Child",null,null,"USD",null,6070.35,null,null,null,{"$f":"IF(Template!$O$293<>\"\",Template!$O$293,\"\")","v":""}]
[null,{"$f":"Template!$H$294","v":0},{"$error":"#REF!"},"Calendar_Year_Mar",{"$f":"IF(LEFT(Template!$K$294,2)=\"CC\",Template!$K$294,\"\")","v":""},{"$f":"IF(LEFT(Template!$M$294,2)=\"RC\",Template!$M$294,\"\")","v":""},{"$f":"IF(LEFT(Template!$M$294,2)=\"SC\",Template!$M$294,\"\")","v":""},{"$f":"IF(LEFT(Template!$K$294,2)=\"AC\",Template!$K$294,\"\")","v":""},{"$f":"IF(OR(LEFT(Template!$K$294,2)=\"PJ\", LEFT(Template!$K$294,2)=\"PR\"),Template!$K$294,\"\")","v":""},{"$f":"IF(LEFT(Template!$K$294,2)=\"GF\",Template!$K$294,\"\")","v":""},{"$f":"IF(Template!$S$294<>\"\",Template!$S$294,\"\")","v":""},null,null,null,null,{"$f":"IF(Template!$L$294<>\"\",Template!$L$294,\"\")","v":""},"BYU_Child",null,null,"USD",null,166.98,null,null,null,{"$f":"IF(Template!$O$294<>\"\",Template!$O$294,\"\")","v":""}]
[null,{"$f":"Template!$H$295","v":0},{"$error":"#REF!"},"Calendar_Year_Mar",{"$f":"IF(LEFT(Template!$K$295,2)=\"CC\",Template!$K$295,\"\")","v":""},{"$f":"IF(LEFT(Template!$M$295,2)=\"RC\",Template!$M$295,\"\")","v":""},{"$f":"IF(LEFT(Template!$M$295,2)=\"SC\",Template!$M$295,\"\")","v":""},{"$f":"IF(LEFT(Template!$K$295,2)=\"AC\",Template!$K$295,\"\")","v":""},{"$f":"IF(OR(LEFT(Template!$K$295,2)=\"PJ\", LEFT(Template!$K$295,2)=\"PR\"),Template!$K$295,\"\")","v":""},{"$f":"IF(LEFT(Template!$K$295,2)=\"GF\",Template!$K$295,\"\")","v":""},{"$f":"IF(Template!$S$295<>\"\",Template!$S$295,\"\")","v":""},null,null,null,null,{"$f":"IF(Template!$L$295<>\"\",Template!$L$295,\"\")","v":""},"BYU_Child",null,null,"USD",null,119725.54,null,null,null,{"$f":"IF(Template!$O$295<>\"\",Template!$O$295,\"\")","v":""}]
[null,{"$f":"Template!$H$296","v":0},{"$error":"#REF!"},"Calendar_Year_Mar",{"$f":"IF(LEFT(Template!$K$296,2)=\"CC\",Template!$K$296,\"\")","v":""},{"$f":"IF(LEFT(Template!$M$296,2)=\"RC\",Template!$M$296,\"\")","v":""},{"$f":"IF(LEFT(Template!$M$296,2)=\"SC\",Template!$M$296,\"\")","v":""},{"$f":"IF(LEFT(Template!$K$296,2)=\"AC\",Template!$K$296,\"\")","v":""},{"$f":"IF(OR(LEFT(Template!$K$296,2)=\"PJ\", LEFT(Template!$K$296,2)=\"PR\"),Template!$K$296,\"\")","v":""},{"$f":"IF(LEFT(Template!$K$296,2)=\"GF\",Template!$K$296,\"\")","v":""},{"$f":"IF(Template!$S$296<>\"\",Template!$S$296,\"\")","v":""},null,null,null,null,{"$f":"IF(Template!$L$296<>\"\",Template!$L$296,\"\")","v":""},"BYU_Child",null,null,"USD",null,944,null,null,null,{"$f":"IF(Template!$O$296<>\"\",Template!$O$296,\"\")","v":""}]
[null,{"$f":"Template!$H$297","v":0},{"$error":"#REF!"},"Calendar_Year_Mar",{"$f":"IF(LEFT(Template!$K$297,2)=\"CC\",Template!$K$297,\"\")","v":""},{"$f":"IF(LEFT(Template!$M$297,2)=\"RC\",Template!$M$297,\"\")","v":""},{"$f":"IF(LEFT(Template!$M$297,2)=\"SC\",Template!$M$297,\"\")","v":""},{"$f":"IF(LEFT(Template!$K$297,2)=\"AC\",Template!$K$297,\"\")","v":""},{"$f":"IF(OR(LEFT(Template!$K$297,2)=\"PJ\", LEFT(Template!$K$297,2)=\"PR\"),Template!$K$297,\"\")","v":""},{"$f":"IF(LEFT(Template!$K$297,2)=\"GF\",Template!$K$297,\"\")","v":""},{"$f":"IF(Template!$S$297<>\"\",Template!$S$297,\"\")","v":""},null,null,null,null,{"$f":"IF(Template!$L$297<>\"\",Template!$L$297,\"\")","v":""},"BYU_Child",null,null,"USD",null,2497.81,null,null,null,{"$f":"IF(Template!$O$297<>\"\",Template!$O$297,\"\")","v":""}]
[null,{"$f":"Template!$H$298","v":0},{"$error":"#REF!"},"Calendar_Year_Mar",{"$f":"IF(LEFT(Template!$K$298,2)=\"CC\",Template!$K$298,\"\")","v":""},{"$f":"IF(LEFT(Template!$M$298,2)=\"RC\",Template!$M$298,\"\")","v":""},{"$f":"IF(LEFT(Template!$M$298,2)=\"SC\",Template!$M$298,\"\")","v":""},{"$f":"IF(LEFT(Template!$K$298,2)=\"AC\",Template!$K$298,\"\")","v":""},{"$f":"IF(OR(LEFT(Template!$K$298,2)=\"PJ\", LEFT(Template!$K$298,2)=\"PR\"),Template!$K$298,\"\")","v":""},{"$f":"IF(LEFT(Template!$K$298,2)=\"GF\",Template!$K$298,\"\")","v":""},{"$f":"IF(Template!$S$298<>\"\",Template!$S$298,\"\")","v":""},null,null,null,null,{"$f":"IF(Template!$L$298<>\"\",Template!$L$298,\"\")","v":""},"BYU_Child",null,null,"USD",null,7517.47,null,null,null,{"$f":"IF(Template!$O$298<>\"\",Template!$O$298,\"\")","v":""}]
[null,{"$f":"Template!$H$299","v":0},{"$error":"#REF!"},"Calendar_Year_Mar",{"$f":"IF(LEFT(Template!$K$299,2)=\"CC\",Template!$K$299,\"\")","v":""},{"$f":"IF(LEFT(Template!$M$299,2)=\"RC\",Template!$M$299,\"\")","v":""},{"$f":"IF(LEFT(Template!$M$299,2)=\"SC\",Template!$M$299,\"\")","v":""},{"$f":"IF(LEFT(Template!$K$299,2)=\"AC\",Template!$K$299,\"\")","v":""},{"$f":"IF(OR(LEFT(Template!$K$299,2)=\"PJ\", LEFT(Template!$K$299,2)=\"PR\"),Template!$K$299,\"\")","v":""},{"$f":"IF(LEFT(Template!$K$299,2)=\"GF\",Template!$K$299,\"\")","v":""},{"$f":"IF(Template!$S$299<>\"\",Template!$S$299,\"\")","v":""},null,null,null,null,{"$f":"IF(Template!$L$299<>\"\",Template!$L$299,\"\")","v":""},"BYU_Child",null,null,"USD",null,2754.84,null,null,null,{"$f":"IF(Template!$O$299<>\"\",Template!$O$299,\"\")","v":""}]
[null,{"$f":"Template!$H$300","v":0},{"$error":"#REF!"},"Calendar_Year_Mar",{"$f":"IF(LEFT(Template!$K$300,2)=\"CC\",Template!$K$300,\"\")","v":""},{"$f":"IF(LEFT(Template!$M$300,2)=\"RC\",Template!$M$300,\"\")","v":""},{"$f":"IF(LEFT(Template!$M$300,2)=\"SC\",Template!$M$300,\"\")","v":""},{"$f":"IF(LEFT(Template!$K$300,2)=\"AC\",Template!$K$300,\"\")","v":""},{"$f":"IF(OR(LEFT(Template!$K$300,2)=\"PJ\", LEFT(Template!$K$300,2)=\"PR\"),Template!$K$300,\"\")","v":""},{"$f":"IF(LEFT(Template!$K$300,2)=\"GF\",Template!$K$300,\"\")","v":""},{"$f":"IF(Template!$S$300<>\"\",Template!$S$300,\"\")","v":""},null,null,null,null,{"$f":"IF(Template!$L$300<>\"\",Template!$L$300,\"\")","v":""},"BYU_Child",null,null,"USD",null,969.56,null,null,null,{"$f":"IF(Template!$O$300<>\"\",Template!$O$300,\"\")","v":""}]
[null,{"$f":"Template!$H$301","v":0},{"$error":"#REF!"},"Calendar_Year_Mar",{"$f":"IF(LEFT(Template!$K$301,2)=\"CC\",Template!$K$301,\"\")","v":""},{"$f":"IF(LEFT(Template!$M$301,2)=\"RC\",Template!$M$301,\"\")","v":""},{"$f":"IF(LEFT(Template!$M$301,2)=\"SC\",Template!$M$301,\"\")","v":""},{"$f":"IF(LEFT(Template!$K$301,2)=\"AC\",Template!$K$301,\"\")","v":""},{"$f":"IF(OR(LEFT(Template!$K$301,2)=\"PJ\", LEFT(Template!$K$301,2)=\"PR\"),Template!$K$301,\"\")","v":""},{"$f":"IF(LEFT(Template!$K$301,2)=\"GF\",Template!$K$301,\"\")","v":""},{"$f":"IF(Template!$S$301<>\"\",Template!$S$301,\"\")","v":""},null,null,null,null,{"$f":"IF(Template!$L$301<>\"\",Template!$L$301,\"\")","v":""},"BYU_Child",null,null,"USD",null,133245.21,null,null,null,{"$f":"IF(Template!$O$301<>\"\",Template!$O$301,\"\")","v":""}]
[null,{"$f":"Template!$H$302","v":0},{"$error":"#REF!"},"Calendar_Year_Mar",{"$f":"IF(LEFT(Template!$K$302,2)=\"CC\",Template!$K$302,\"\")","v":""},{"$f":"IF(LEFT(Template!$M$302,2)=\"RC\",Template!$M$302,\"\")","v":""},{"$f":"IF(LEFT(Template!$M$302,2)=\"SC\",Template!$M$302,\"\")","v":""},{"$f":"IF(LEFT(Template!$K$302,2)=\"AC\",Template!$K$302,\"\")","v":""},{"$f":"IF(OR(LEFT(Template!$K$302,2)=\"PJ\", LEFT(Template!$K$302,2)=\"PR\"),Template!$K$302,\"\")","v":""},{"$f":"IF(LEFT(Template!$K$302,2)=\"GF\",Template!$K$302,\"\")","v":""},{"$f":"IF(Template!$S$302<>\"\",Template!$S$302,\"\")","v":""},null,null,null,null,{"$f":"IF(Template!$L$302<>\"\",Template!$L$302,\"\")","v":""},"BYU_Child",null,null,"USD",null,1053.92,null,null,null,{"$f":"IF(Template!$O$302<>\"\",Template!$O$302,\"\")","v":""}]
[null,{"$f":"Template!$H$303","v":0},{"$error":"#REF!"},"Calendar_Year_Mar",{"$f":"IF(LEFT(Template!$K$303,2)=\"CC\",Template!$K$303,\"\")","v":""},{"$f":"IF(LEFT(Template!$M$303,2)=\"RC\",Template!$M$303,\"\")","v":""},{"$f":"IF(LEFT(Template!$M$303,2)=\"SC\",Template!$M$303,\"\")","v":""},{"$f":"IF(LEFT(Template!$K$303,2)=\"AC\",Template!$K$303,\"\")","v":""},{"$f":"IF(OR(LEFT(Template!$K$303,2)=\"PJ\", LEFT(Template!$K$303,2)=\"PR\"),Template!$K$303,\"\")","v":""},{"$f":"IF(LEFT(Template!$K$303,2)=\"GF\",Template!$K$303,\"\")","v":""},{"$f":"IF(Template!$S$303<>\"\",Template!$S$303,\"\")","v":""},null,null,null,null,{"$f":"IF(Template!$L$303<>\"\",Template!$L$303,\"\")","v":""},"BYU_Child",null,null,"USD",null,2742.21,null,null,null,{"$f":"IF(Template!$O$303<>\"\",Template!$O$303,\"\")","v":""}]
[null,{"$f":"Template!$H$304","v":0},{"$error":"#REF!"},"Calendar_Year_Mar",{"$f":"IF(LEFT(Template!$K$304,2)=\"CC\",Template!$K$304,\"\")","v":""},{"$f":"IF(LEFT(Template!$M$304,2)=\"RC\",Template!$M$304,\"\")","v":""},{"$f":"IF(LEFT(Template!$M$304,2)=\"SC\",Template!$M$304,\"\")","v":""},{"$f":"IF(LEFT(Template!$K$304,2)=\"AC\",Template!$K$304,\"\")","v":""},{"$f":"IF(OR(LEFT(Template!$K$304,2)=\"PJ\", LEFT(Template!$K$304,2)=\"PR\"),Template!$K$304,\"\")","v":""},{"$f":"IF(LEFT(Template!$K$304,2)=\"GF\",Template!$K$304,\"\")","v":""},{"$f":"IF(Template!$S$304<>\"\",Template!$S$304,\"\")","v":""},null,null,null,null,{"$f":"IF(Template!$L$304<>\"\",Template!$L$304,\"\")","v":""},"BYU_Child",null,null,"USD",null,18.579999999999998,null,null,null,{"$f":"IF(Template!$O$304<>\"\",Template!$O$304,\"\")","v":""}]
[null,{"$f":"Template!$H$305","v":0},{"$error":"#REF!"},"Calendar_Year_Mar",{"$f":"IF(LEFT(Template!$K$305,2)=\"CC\",Template!$K$305,\"\")","v":""},{"$f":"IF(LEFT(Template!$M$305,2)=\"RC\",Template!$M$305,\"\")","v":""},{"$f":"IF(LEFT(Template!$M$305,2)=\"SC\",Template!$M$305,\"\")","v":""},{"$f":"IF(LEFT(Template!$K$305,2)=\"AC\",Template!$K$305,\"\")","v":""},{"$f":"IF(OR(LEFT(Template!$K$305,2)=\"PJ\", LEFT(Template!$K$305,2)=\"PR\"),Template!$K$305,\"\")","v":""},{"$f":"IF(LEFT(Template!$K$305,2)=\"GF\",Template!$K$305,\"\")","v":""},{"$f":"IF(Template!$S$305<>\"\",Template!$S$305,\"\")","v":""},null,null,null,null,{"$f":"IF(Template!$L$305<>\"\",Template!$L$305,\"\")","v":""},"BYU_Child",null,null,"USD",null,19024.23,null,null,null,{"$f":"IF(Template!$O$305<>\"\",Template!$O$305,\"\")","v":""}]
[null,{"$f":"Template!$H$306","v":0},{"$error":"#REF!"},"Calendar_Year_Mar",{"$f":"IF(LEFT(Template!$K$306,2)=\"CC\",Template!$K$306,\"\")","v":""},{"$f":"IF(LEFT(Template!$M$306,2)=\"RC\",Template!$M$306,\"\")","v":""},{"$f":"IF(LEFT(Template!$M$306,2)=\"SC\",Template!$M$306,\"\")","v":""},{"$f":"IF(LEFT(Template!$K$306,2)=\"AC\",Template!$K$306,\"\")","v":""},{"$f":"IF(OR(LEFT(Template!$K$306,2)=\"PJ\", LEFT(Template!$K$306,2)=\"PR\"),Template!$K$306,\"\")","v":""},{"$f":"IF(LEFT(Template!$K$306,2)=\"GF\",Template!$K$306,\"\")","v":""},{"$f":"IF(Template!$S$306<>\"\",Template!$S$306,\"\")","v":""},null,null,null,null,{"$f":"IF(Template!$L$306<>\"\",Template!$L$306,\"\")","v":""},"BYU_Child",null,null,"USD",null,69935.17,null,null,null,{"$f":"IF(Template!$O$306<>\"\",Template!$O$306,\"\")","v":""}]
[null,{"$f":"Template!$H$307","v":0},{"$error":"#REF!"},"Calendar_Year_Mar",{"$f":"IF(LEFT(Template!$K$307,2)=\"CC\",Template!$K$307,\"\")","v":""},{"$f":"IF(LEFT(Template!$M$307,2)=\"RC\",Template!$M$307,\"\")","v":""},{"$f":"IF(LEFT(Template!$M$307,2)=\"SC\",Template!$M$307,\"\")","v":""},{"$f":"IF(LEFT(Template!$K$307,2)=\"AC\",Template!$K$307,\"\")","v":""},{"$f":"IF(OR(LEFT(Template!$K$307,2)=\"PJ\", LEFT(Template!$K$307,2)=\"PR\"),Template!$K$307,\"\")","v":""},{"$f":"IF(LEFT(Template!$K$307,2)=\"GF\",Template!$K$307,\"\")","v":""},{"$f":"IF(Template!$S$307<>\"\",Template!$S$307,\"\")","v":""},null,null,null,null,{"$f":"IF(Template!$L$307<>\"\",Template!$L$307,\"\")","v":""},"BYU_Child",null,null,"USD",null,72.88,null,null,null,{"$f":"IF(Template!$O$307<>\"\",Template!$O$307,\"\")","v":""}]
[null,{"$f":"Template!$H$308","v":0},{"$error":"#REF!"},"Calendar_Year_Mar",{"$f":"IF(LEFT(Template!$K$308,2)=\"CC\",Template!$K$308,\"\")","v":""},{"$f":"IF(LEFT(Template!$M$308,2)=\"RC\",Template!$M$308,\"\")","v":""},{"$f":"IF(LEFT(Template!$M$308,2)=\"SC\",Template!$M$308,\"\")","v":""},{"$f":"IF(LEFT(Template!$K$308,2)=\"AC\",Template!$K$308,\"\")","v":""},{"$f":"IF(OR(LEFT(Template!$K$308,2)=\"PJ\", LEFT(Template!$K$308,2)=\"PR\"),Template!$K$308,\"\")","v":""},{"$f":"IF(LEFT(Template!$K$308,2)=\"GF\",Template!$K$308,\"\")","v":""},{"$f":"IF(Template!$S$308<>\"\",Template!$S$308,\"\")","v":""},null,null,null,null,{"$f":"IF(Template!$L$308<>\"\",Template!$L$308,\"\")","v":""},"BYU_Child",null,null,"USD",null,1421.28,null,null,null,{"$f":"IF(Template!$O$308<>\"\",Template!$O$308,\"\")","v":""}]
[null,{"$f":"Template!$H$309","v":0},{"$error":"#REF!"},"Calendar_Year_Mar",{"$f":"IF(LEFT(Template!$K$309,2)=\"CC\",Template!$K$309,\"\")","v":""},{"$f":"IF(LEFT(Template!$M$309,2)=\"RC\",Template!$M$309,\"\")","v":""},{"$f":"IF(LEFT(Template!$M$309,2)=\"SC\",Template!$M$309,\"\")","v":""},{"$f":"IF(LEFT(Template!$K$309,2)=\"AC\",Template!$K$309,\"\")","v":""},{"$f":"IF(OR(LEFT(Template!$K$309,2)=\"PJ\", LEFT(Template!$K$309,2)=\"PR\"),Template!$K$309,\"\")","v":""},{"$f":"IF(LEFT(Template!$K$309,2)=\"GF\",Template!$K$309,\"\")","v":""},{"$f":"IF(Template!$S$309<>\"\",Template!$S$309,\"\")","v":""},null,null,null,null,{"$f":"IF(Template!$L$309<>\"\",Template!$L$309,\"\")","v":""},"BYU_Child",null,null,"USD",null,8880.89,null,null,null,{"$f":"IF(Template!$O$309<>\"\",Template!$O$309,\"\")","v":""}]
[null,{"$f":"Template!$H$310","v":0},{"$error":"#REF!"},"Calendar_Year_Mar",{"$f":"IF(LEFT(Template!$K$310,2)=\"CC\",Template!$K$310,\"\")","v":""},{"$f":"IF(LEFT(Template!$M$310,2)=\"RC\",Template!$M$310,\"\")","v":""},{"$f":"IF(LEFT(Template!$M$310,2)=\"SC\",Template!$M$310,\"\")","v":""},{"$f":"IF(LEFT(Template!$K$310,2)=\"AC\",Template!$K$310,\"\")","v":""},{"$f":"IF(OR(LEFT(Template!$K$310,2)=\"PJ\", LEFT(Template!$K$310,2)=\"PR\"),Template!$K$310,\"\")","v":""},{"$f":"IF(LEFT(Template!$K$310,2)=\"GF\",Template!$K$310,\"\")","v":""},{"$f":"IF(Template!$S$310<>\"\",Template!$S$310,\"\")","v":""},null,null,null,null,{"$f":"IF(Template!$L$310<>\"\",Template!$L$310,\"\")","v":""},"BYU_Child",null,null,"USD",null,209.75,null,null,null,{"$f":"IF(Template!$O$310<>\"\",Template!$O$310,\"\")","v":""}]
[null,{"$f":"Template!$H$311","v":0},{"$error":"#REF!"},"Calendar_Year_Mar",{"$f":"IF(LEFT(Template!$K$311,2)=\"CC\",Template!$K$311,\"\")","v":""},{"$f":"IF(LEFT(Template!$M$311,2)=\"RC\",Template!$M$311,\"\")","v":""},{"$f":"IF(LEFT(Template!$M$311,2)=\"SC\",Template!$M$311,\"\")","v":""},{"$f":"IF(LEFT(Template!$K$311,2)=\"AC\",Template!$K$311,\"\")","v":""},{"$f":"IF(OR(LEFT(Template!$K$311,2)=\"PJ\", LEFT(Template!$K$311,2)=\"PR\"),Template!$K$311,\"\")","v":""},{"$f":"IF(LEFT(Template!$K$311,2)=\"GF\",Template!$K$311,\"\")","v":""},{"$f":"IF(Template!$S$311<>\"\",Template!$S$311,\"\")","v":""},null,null,null,null,{"$f":"IF(Template!$L$311<>\"\",Template!$L$311,\"\")","v":""},"BYU_Child",null,null,"USD",null,2703.07,null,null,null,{"$f":"IF(Template!$O$311<>\"\",Template!$O$311,\"\")","v":""}]
[null,{"$f":"Template!$H$312","v":0},{"$error":"#REF!"},"Calendar_Year_Mar",{"$f":"IF(LEFT(Template!$K$312,2)=\"CC\",Template!$K$312,\"\")","v":""},{"$f":"IF(LEFT(Template!$M$312,2)=\"RC\",Template!$M$312,\"\")","v":""},{"$f":"IF(LEFT(Template!$M$312,2)=\"SC\",Template!$M$312,\"\")","v":""},{"$f":"IF(LEFT(Template!$K$312,2)=\"AC\",Template!$K$312,\"\")","v":""},{"$f":"IF(OR(LEFT(Template!$K$312,2)=\"PJ\", LEFT(Template!$K$312,2)=\"PR\"),Template!$K$312,\"\")","v":""},{"$f":"IF(LEFT(Template!$K$312,2)=\"GF\",Template!$K$312,\"\")","v":""},{"$f":"IF(Template!$S$312<>\"\",Template!$S$312,\"\")","v":""},null,null,null,null,{"$f":"IF(Template!$L$312<>\"\",Template!$L$312,\"\")","v":""},"BYU_Child",null,null,"USD",null,null,59.1,null,null,{"$f":"IF(Template!$O$312<>\"\",Template!$O$312,\"\")","v":""}]
[null,{"$f":"Template!$H$313","v":0},{"$f":"IF(B199=B198,C198+1,1)","v":{"$error":"#REF!"}},"Calendar_Year_Mar",{"$f":"IF(LEFT(Template!$K$313,2)=\"CC\",Template!$K$313,\"\")","v":""},{"$f":"IF(LEFT(Template!$M$313,2)=\"RC\",Template!$M$313,\"\")","v":""},{"$f":"IF(LEFT(Template!$M$313,2)=\"SC\",Template!$M$313,\"\")","v":""},{"$f":"IF(LEFT(Template!$K$313,2)=\"AC\",Template!$K$313,\"\")","v":""},{"$f":"IF(OR(LEFT(Template!$K$313,2)=\"PJ\", LEFT(Template!$K$313,2)=\"PR\"),Template!$K$313,\"\")","v":""},{"$f":"IF(LEFT(Template!$K$313,2)=\"GF\",Template!$K$313,\"\")","v":""},{"$f":"IF(Template!$S$313<>\"\",Template!$S$313,\"\")","v":""},null,null,null,null,{"$f":"IF(Template!$L$313<>\"\",Template!$L$313,\"\")","v":""},"BYU_Child",null,null,"USD",null,2849.07,null,null,null,{"$f":"IF(Template!$O$313<>\"\",Template!$O$313,\"\")","v":""}]
[null,{"$f":"Template!$H$314","v":0},{"$error":"#REF!"},"Calendar_Year_Mar",{"$f":"IF(LEFT(Template!$K$314,2)=\"CC\",Template!$K$314,\"\")","v":""},{"$f":"IF(LEFT(Template!$M$314,2)=\"RC\",Template!$M$314,\"\")","v":""},{"$f":"IF(LEFT(Template!$M$314,2)=\"SC\",Template!$M$314,\"\")","v":""},{"$f":"IF(LEFT(Template!$K$314,2)=\"AC\",Template!$K$314,\"\")","v":""},{"$f":"IF(OR(LEFT(Template!$K$314,2)=\"PJ\", LEFT(Template!$K$314,2)=\"PR\"),Template!$K$314,\"\")","v":""},{"$f":"IF(LEFT(Template!$K$314,2)=\"GF\",Template!$K$314,\"\")","v":""},{"$f":"IF(Template!$S$314<>\"\",Template!$S$314,\"\")","v":""},null,null,null,null,{"$f":"IF(Template!$L$314<>\"\",Template!$L$314,\"\")","v":""},"BYU_Child",null,null,"USD",null,561.53,null,null,null,{"$f":"IF(Template!$O$314<>\"\",Template!$O$314,\"\")","v":""}]
[null,{"$f":"Template!$H$315","v":0},{"$error":"#REF!"},"Calendar_Year_Mar",{"$f":"IF(LEFT(Template!$K$315,2)=\"CC\",Template!$K$315,\"\")","v":""},{"$f":"IF(LEFT(Template!$M$315,2)=\"RC\",Template!$M$315,\"\")","v":""},{"$f":"IF(LEFT(Template!$M$315,2)=\"SC\",Template!$M$315,\"\")","v":""},{"$f":"IF(LEFT(Template!$K$315,2)=\"AC\",Template!$K$315,\"\")","v":""},{"$f":"IF(OR(LEFT(Template!$K$315,2)=\"PJ\", LEFT(Template!$K$315,2)=\"PR\"),Template!$K$315,\"\")","v":""},{"$f":"IF(LEFT(Template!$K$315,2)=\"GF\",Template!$K$315,\"\")","v":""},{"$f":"IF(Template!$S$315<>\"\",Template!$S$315,\"\")","v":""},null,null,null,null,{"$f":"IF(Template!$L$315<>\"\",Template!$L$315,\"\")","v":""},"BYU_Child",null,null,"USD",null,122.62,null,null,null,{"$f":"IF(Template!$O$315<>\"\",Template!$O$315,\"\")","v":""}]
[null,{"$f":"Template!$H$316","v":0},{"$error":"#REF!"},"Calendar_Year_Mar",{"$f":"IF(LEFT(Template!$K$316,2)=\"CC\",Template!$K$316,\"\")","v":""},{"$f":"IF(LEFT(Template!$M$316,2)=\"RC\",Template!$M$316,\"\")","v":""},{"$f":"IF(LEFT(Template!$M$316,2)=\"SC\",Template!$M$316,\"\")","v":""},{"$f":"IF(LEFT(Template!$K$316,2)=\"AC\",Template!$K$316,\"\")","v":""},{"$f":"IF(OR(LEFT(Template!$K$316,2)=\"PJ\", LEFT(Template!$K$316,2)=\"PR\"),Template!$K$316,\"\")","v":""},{"$f":"IF(LEFT(Template!$K$316,2)=\"GF\",Template!$K$316,\"\")","v":""},{"$f":"IF(Template!$S$316<>\"\",Template!$S$316,\"\")","v":""},null,null,null,null,{"$f":"IF(Template!$L$316<>\"\",Template!$L$316,\"\")","v":""},"BYU_Child",null,null,"USD",null,8315.36,null,null,null,{"$f":"IF(Template!$O$316<>\"\",Template!$O$316,\"\")","v":""}]
[null,{"$f":"Template!$H$317","v":0},{"$error":"#REF!"},"Calendar_Year_Mar",{"$f":"IF(LEFT(Template!$K$317,2)=\"CC\",Template!$K$317,\"\")","v":""},{"$f":"IF(LEFT(Template!$M$317,2)=\"RC\",Template!$M$317,\"\")","v":""},{"$f":"IF(LEFT(Template!$M$317,2)=\"SC\",Template!$M$317,\"\")","v":""},{"$f":"IF(LEFT(Template!$K$317,2)=\"AC\",Template!$K$317,\"\")","v":""},{"$f":"IF(OR(LEFT(Template!$K$317,2)=\"PJ\", LEFT(Template!$K$317,2)=\"PR\"),Template!$K$317,\"\")","v":""},{"$f":"IF(LEFT(Template!$K$317,2)=\"GF\",Template!$K$317,\"\")","v":""},{"$f":"IF(Template!$S$317<>\"\",Template!$S$317,\"\")","v":""},null,null,null,null,{"$f":"IF(Template!$L$317<>\"\",Template!$L$317,\"\")","v":""},"BYU_Child",null,null,"USD",null,37740.980000000003,null,null,null,{"$f":"IF(Template!$O$317<>\"\",Template!$O$317,\"\")","v":""}]
[null,{"$f":"Template!$H$318","v":0},{"$error":"#REF!"},"Calendar_Year_Mar",{"$f":"IF(LEFT(Template!$K$318,2)=\"CC\",Template!$K$318,\"\")","v":""},{"$f":"IF(LEFT(Template!$M$318,2)=\"RC\",Template!$M$318,\"\")","v":""},{"$f":"IF(LEFT(Template!$M$318,2)=\"SC\",Template!$M$318,\"\")","v":""},{"$f":"IF(LEFT(Template!$K$318,2)=\"AC\",Template!$K$318,\"\")","v":""},{"$f":"IF(OR(LEFT(Template!$K$318,2)=\"PJ\", LEFT(Template!$K$318,2)=\"PR\"),Template!$K$318,\"\")","v":""},{"$f":"IF(LEFT(Template!$K$318,2)=\"GF\",Template!$K$318,\"\")","v":""},{"$f":"IF(Template!$S$318<>\"\",Template!$S$318,\"\")","v":""},null,null,null,null,{"$f":"IF(Template!$L$318<>\"\",Template!$L$318,\"\")","v":""},"BYU_Child",null,null,"USD",null,689.15,null,null,null,{"$f":"IF(Template!$O$318<>\"\",Template!$O$318,\"\")","v":""}]
[null,{"$f":"Template!$H$319","v":0},{"$error":"#REF!"},"Calendar_Year_Mar",{"$f":"IF(LEFT(Template!$K$319,2)=\"CC\",Template!$K$319,\"\")","v":""},{"$f":"IF(LEFT(Template!$M$319,2)=\"RC\",Template!$M$319,\"\")","v":""},{"$f":"IF(LEFT(Template!$M$319,2)=\"SC\",Template!$M$319,\"\")","v":""},{"$f":"IF(LEFT(Template!$K$319,2)=\"AC\",Template!$K$319,\"\")","v":""},{"$f":"IF(OR(LEFT(Template!$K$319,2)=\"PJ\", LEFT(Template!$K$319,2)=\"PR\"),Template!$K$319,\"\")","v":""},{"$f":"IF(LEFT(Template!$K$319,2)=\"GF\",Template!$K$319,\"\")","v":""},{"$f":"IF(Template!$S$319<>\"\",Template!$S$319,\"\")","v":""},null,null,null,null,{"$f":"IF(Template!$L$319<>\"\",Template!$L$319,\"\")","v":""},"BYU_Child",null,null,"USD",null,2587.0300000000002,null,null,null,{"$f":"IF(Template!$O$319<>\"\",Template!$O$319,\"\")","v":""}]
[null,{"$f":"Template!$H$320","v":0},{"$error":"#REF!"},"Calendar_Year_Mar",{"$f":"IF(LEFT(Template!$K$320,2)=\"CC\",Template!$K$320,\"\")","v":""},{"$f":"IF(LEFT(Template!$M$320,2)=\"RC\",Template!$M$320,\"\")","v":""},{"$f":"IF(LEFT(Template!$M$320,2)=\"SC\",Template!$M$320,\"\")","v":""},{"$f":"IF(LEFT(Template!$K$320,2)=\"AC\",Template!$K$320,\"\")","v":""},{"$f":"IF(OR(LEFT(Template!$K$320,2)=\"PJ\", LEFT(Template!$K$320,2)=\"PR\"),Template!$K$320,\"\")","v":""},{"$f":"IF(LEFT(Template!$K$320,2)=\"GF\",Template!$K$320,\"\")","v":""},{"$f":"IF(Template!$S$320<>\"\",Template!$S$320,\"\")","v":""},null,null,null,null,{"$f":"IF(Template!$L$320<>\"\",Template!$L$320,\"\")","v":""},"BYU_Child",null,null,"USD",null,138.18,null,null,null,{"$f":"IF(Template!$O$320<>\"\",Template!$O$320,\"\")","v":""}]
[null,{"$f":"Template!$H$321","v":0},{"$error":"#REF!"},"Calendar_Year_Mar",{"$f":"IF(LEFT(Template!$K$321,2)=\"CC\",Template!$K$321,\"\")","v":""},{"$f":"IF(LEFT(Template!$M$321,2)=\"RC\",Template!$M$321,\"\")","v":""},{"$f":"IF(LEFT(Template!$M$321,2)=\"SC\",Template!$M$321,\"\")","v":""},{"$f":"IF(LEFT(Template!$K$321,2)=\"AC\",Template!$K$321,\"\")","v":""},{"$f":"IF(OR(LEFT(Template!$K$321,2)=\"PJ\", LEFT(Template!$K$321,2)=\"PR\"),Template!$K$321,\"\")","v":""},{"$f":"IF(LEFT(Template!$K$321,2)=\"GF\",Template!$K$321,\"\")","v":""},{"$f":"IF(Template!$S$321<>\"\",Template!$S$321,\"\")","v":""},null,null,null,null,{"$f":"IF(Template!$L$321<>\"\",Template!$L$321,\"\")","v":""},"BYU_Child",null,null,"USD",null,468.76,null,null,null,{"$f":"IF(Template!$O$321<>\"\",Template!$O$321,\"\")","v":""}]
[null,{"$f":"Template!$H$322","v":0},{"$error":"#REF!"},"Calendar_Year_Mar",{"$f":"IF(LEFT(Template!$K$322,2)=\"CC\",Template!$K$322,\"\")","v":""},{"$f":"IF(LEFT(Template!$M$322,2)=\"RC\",Template!$M$322,\"\")","v":""},{"$f":"IF(LEFT(Template!$M$322,2)=\"SC\",Template!$M$322,\"\")","v":""},{"$f":"IF(LEFT(Template!$K$322,2)=\"AC\",Template!$K$322,\"\")","v":""},{"$f":"IF(OR(LEFT(Template!$K$322,2)=\"PJ\", LEFT(Template!$K$322,2)=\"PR\"),Template!$K$322,\"\")","v":""},{"$f":"IF(LEFT(Template!$K$322,2)=\"GF\",Template!$K$322,\"\")","v":""},{"$f":"IF(Template!$S$322<>\"\",Template!$S$322,\"\")","v":""},null,null,null,null,{"$f":"IF(Template!$L$322<>\"\",Template!$L$322,\"\")","v":""},"BYU_Child",null,null,"USD",null,115740.59,null,null,null,{"$f":"IF(Template!$O$322<>\"\",Template!$O$322,\"\")","v":""}]
[null,{"$f":"Template!$H$323","v":0},{"$error":"#REF!"},"Calendar_Year_Mar",{"$f":"IF(LEFT(Template!$K$323,2)=\"CC\",Template!$K$323,\"\")","v":""},{"$f":"IF(LEFT(Template!$M$323,2)=\"RC\",Template!$M$323,\"\")","v":""},{"$f":"IF(LEFT(Template!$M$323,2)=\"SC\",Template!$M$323,\"\")","v":""},{"$f":"IF(LEFT(Template!$K$323,2)=\"AC\",Template!$K$323,\"\")","v":""},{"$f":"IF(OR(LEFT(Template!$K$323,2)=\"PJ\", LEFT(Template!$K$323,2)=\"PR\"),Template!$K$323,\"\")","v":""},{"$f":"IF(LEFT(Template!$K$323,2)=\"GF\",Template!$K$323,\"\")","v":""},{"$f":"IF(Template!$S$323<>\"\",Template!$S$323,\"\")","v":""},null,null,null,null,{"$f":"IF(Template!$L$323<>\"\",Template!$L$323,\"\")","v":""},"BYU_Child",null,null,"USD",null,373.47,null,null,null,{"$f":"IF(Template!$O$323<>\"\",Template!$O$323,\"\")","v":""}]
[null,{"$f":"Template!$H$324","v":0},{"$error":"#REF!"},"Calendar_Year_Mar",{"$f":"IF(LEFT(Template!$K$324,2)=\"CC\",Template!$K$324,\"\")","v":""},{"$f":"IF(LEFT(Template!$M$324,2)=\"RC\",Template!$M$324,\"\")","v":""},{"$f":"IF(LEFT(Template!$M$324,2)=\"SC\",Template!$M$324,\"\")","v":""},{"$f":"IF(LEFT(Template!$K$324,2)=\"AC\",Template!$K$324,\"\")","v":""},{"$f":"IF(OR(LEFT(Template!$K$324,2)=\"PJ\", LEFT(Template!$K$324,2)=\"PR\"),Template!$K$324,\"\")","v":""},{"$f":"IF(LEFT(Template!$K$324,2)=\"GF\",Template!$K$324,\"\")","v":""},{"$f":"IF(Template!$S$324<>\"\",Template!$S$324,\"\")","v":""},null,null,null,null,{"$f":"IF(Template!$L$324<>\"\",Template!$L$324,\"\")","v":""},"BYU_Child",null,null,"USD",null,2807.42,null,null,null,{"$f":"IF(Template!$O$324<>\"\",Template!$O$324,\"\")","v":""}]
[null,{"$f":"Template!$H$325","v":0},{"$error":"#REF!"},"Calendar_Year_Mar",{"$f":"IF(LEFT(Template!$K$325,2)=\"CC\",Template!$K$325,\"\")","v":""},{"$f":"IF(LEFT(Template!$M$325,2)=\"RC\",Template!$M$325,\"\")","v":""},{"$f":"IF(LEFT(Template!$M$325,2)=\"SC\",Template!$M$325,\"\")","v":""},{"$f":"IF(LEFT(Template!$K$325,2)=\"AC\",Template!$K$325,\"\")","v":""},{"$f":"IF(OR(LEFT(Template!$K$325,2)=\"PJ\", LEFT(Template!$K$325,2)=\"PR\"),Template!$K$325,\"\")","v":""},{"$f":"IF(LEFT(Template!$K$325,2)=\"GF\",Template!$K$325,\"\")","v":""},{"$f":"IF(Template!$S$325<>\"\",Template!$S$325,\"\")","v":""},null,null,null,null,{"$f":"IF(Template!$L$325<>\"\",Template!$L$325,\"\")","v":""},"BYU_Child",null,null,"USD",null,580.16,null,null,null,{"$f":"IF(Template!$O$325<>\"\",Template!$O$325,\"\")","v":""}]
[null,{"$f":"Template!$H$326","v":0},{"$error":"#REF!"},"Calendar_Year_Mar",{"$f":"IF(LEFT(Template!$K$326,2)=\"CC\",Template!$K$326,\"\")","v":""},{"$f":"IF(LEFT(Template!$M$326,2)=\"RC\",Template!$M$326,\"\")","v":""},{"$f":"IF(LEFT(Template!$M$326,2)=\"SC\",Template!$M$326,\"\")","v":""},{"$f":"IF(LEFT(Template!$K$326,2)=\"AC\",Template!$K$326,\"\")","v":""},{"$f":"IF(OR(LEFT(Template!$K$326,2)=\"PJ\", LEFT(Template!$K$326,2)=\"PR\"),Template!$K$326,\"\")","v":""},{"$f":"IF(LEFT(Template!$K$326,2)=\"GF\",Template!$K$326,\"\")","v":""},{"$f":"IF(Template!$S$326<>\"\",Template!$S$326,\"\")","v":""},null,null,null,null,{"$f":"IF(Template!$L$326<>\"\",Template!$L$326,\"\")","v":""},"BYU_Child",null,null,"USD",null,42452.13,null,null,null,{"$f":"IF(Template!$O$326<>\"\",Template!$O$326,\"\")","v":""}]
[null,{"$f":"Template!$H$327","v":0},{"$error":"#REF!"},"Calendar_Year_Mar",{"$f":"IF(LEFT(Template!$K$327,2)=\"CC\",Template!$K$327,\"\")","v":""},{"$f":"IF(LEFT(Template!$M$327,2)=\"RC\",Template!$M$327,\"\")","v":""},{"$f":"IF(LEFT(Template!$M$327,2)=\"SC\",Template!$M$327,\"\")","v":""},{"$f":"IF(LEFT(Template!$K$327,2)=\"AC\",Template!$K$327,\"\")","v":""},{"$f":"IF(OR(LEFT(Template!$K$327,2)=\"PJ\", LEFT(Template!$K$327,2)=\"PR\"),Template!$K$327,\"\")","v":""},{"$f":"IF(LEFT(Template!$K$327,2)=\"GF\",Template!$K$327,\"\")","v":""},{"$f":"IF(Template!$S$327<>\"\",Template!$S$327,\"\")","v":""},null,null,null,null,{"$f":"IF(Template!$L$327<>\"\",Template!$L$327,\"\")","v":""},"BYU_Child",null,null,"USD",null,495.14,null,null,null,{"$f":"IF(Template!$O$327<>\"\",Template!$O$327,\"\")","v":""}]
[null,{"$f":"Template!$H$328","v":0},{"$error":"#REF!"},"Calendar_Year_Mar",{"$f":"IF(LEFT(Template!$K$328,2)=\"CC\",Template!$K$328,\"\")","v":""},{"$f":"IF(LEFT(Template!$M$328,2)=\"RC\",Template!$M$328,\"\")","v":""},{"$f":"IF(LEFT(Template!$M$328,2)=\"SC\",Template!$M$328,\"\")","v":""},{"$f":"IF(LEFT(Template!$K$328,2)=\"AC\",Template!$K$328,\"\")","v":""},{"$f":"IF(OR(LEFT(Template!$K$328,2)=\"PJ\", LEFT(Template!$K$328,2)=\"PR\"),Template!$K$328,\"\")","v":""},{"$f":"IF(LEFT(Template!$K$328,2)=\"GF\",Template!$K$328,\"\")","v":""},{"$f":"IF(Template!$S$328<>\"\",Template!$S$328,\"\")","v":""},null,null,null,null,{"$f":"IF(Template!$L$328<>\"\",Template!$L$328,\"\")","v":""},"BYU_Child",null,null,"USD",null,1859.94,null,null,null,{"$f":"IF(Template!$O$328<>\"\",Template!$O$328,\"\")","v":""}]
[null,{"$f":"Template!$H$329","v":0},{"$error":"#REF!"},"Calendar_Year_Mar",{"$f":"IF(LEFT(Template!$K$329,2)=\"CC\",Template!$K$329,\"\")","v":""},{"$f":"IF(LEFT(Template!$M$329,2)=\"RC\",Template!$M$329,\"\")","v":""},{"$f":"IF(LEFT(Template!$M$329,2)=\"SC\",Template!$M$329,\"\")","v":""},{"$f":"IF(LEFT(Template!$K$329,2)=\"AC\",Template!$K$329,\"\")","v":""},{"$f":"IF(OR(LEFT(Template!$K$329,2)=\"PJ\", LEFT(Template!$K$329,2)=\"PR\"),Template!$K$329,\"\")","v":""},{"$f":"IF(LEFT(Template!$K$329,2)=\"GF\",Template!$K$329,\"\")","v":""},{"$f":"IF(Template!$S$329<>\"\",Template!$S$329,\"\")","v":""},null,null,null,null,{"$f":"IF(Template!$L$329<>\"\",Template!$L$329,\"\")","v":""},"BYU_Child",null,null,"USD",null,128712.75,null,null,null,{"$f":"IF(Template!$O$329<>\"\",Template!$O$329,\"\")","v":""}]
[null,{"$f":"Template!$H$330","v":0},{"$error":"#REF!"},"Calendar_Year_Mar",{"$f":"IF(LEFT(Template!$K$330,2)=\"CC\",Template!$K$330,\"\")","v":""},{"$f":"IF(LEFT(Template!$M$330,2)=\"RC\",Template!$M$330,\"\")","v":""},{"$f":"IF(LEFT(Template!$M$330,2)=\"SC\",Template!$M$330,\"\")","v":""},{"$f":"IF(LEFT(Template!$K$330,2)=\"AC\",Template!$K$330,\"\")","v":""},{"$f":"IF(OR(LEFT(Template!$K$330,2)=\"PJ\", LEFT(Template!$K$330,2)=\"PR\"),Template!$K$330,\"\")","v":""},{"$f":"IF(LEFT(Template!$K$330,2)=\"GF\",Template!$K$330,\"\")","v":""},{"$f":"IF(Template!$S$330<>\"\",Template!$S$330,\"\")","v":""},null,null,null,null,{"$f":"IF(Template!$L$330<>\"\",Template!$L$330,\"\")","v":""},"BYU_Child",null,null,"USD",null,1233.0899999999999,null,null,null,{"$f":"IF(Template!$O$330<>\"\",Template!$O$330,\"\")","v":""}]
[null,{"$f":"Template!$H$331","v":0},{"$error":"#REF!"},"Calendar_Year_Mar",{"$f":"IF(LEFT(Template!$K$331,2)=\"CC\",Template!$K$331,\"\")","v":""},{"$f":"IF(LEFT(Template!$M$331,2)=\"RC\",Template!$M$331,\"\")","v":""},{"$f":"IF(LEFT(Template!$M$331,2)=\"SC\",Template!$M$331,\"\")","v":""},{"$f":"IF(LEFT(Template!$K$331,2)=\"AC\",Template!$K$331,\"\")","v":""},{"$f":"IF(OR(LEFT(Template!$K$331,2)=\"PJ\", LEFT(Template!$K$331,2)=\"PR\"),Template!$K$331,\"\")","v":""},{"$f":"IF(LEFT(Template!$K$331,2)=\"GF\",Template!$K$331,\"\")","v":""},{"$f":"IF(Template!$S$331<>\"\",Template!$S$331,\"\")","v":""},null,null,null,null,{"$f":"IF(Template!$L$331<>\"\",Template!$L$331,\"\")","v":""},"BYU_Child",null,null,"USD",null,753.92,null,null,null,{"$f":"IF(Template!$O$331<>\"\",Template!$O$331,\"\")","v":""}]
[null,{"$f":"Template!$H$332","v":0},{"$error":"#REF!"},"Calendar_Year_Mar",{"$f":"IF(LEFT(Template!$K$332,2)=\"CC\",Template!$K$332,\"\")","v":""},{"$f":"IF(LEFT(Template!$M$332,2)=\"RC\",Template!$M$332,\"\")","v":""},{"$f":"IF(LEFT(Template!$M$332,2)=\"SC\",Template!$M$332,\"\")","v":""},{"$f":"IF(LEFT(Template!$K$332,2)=\"AC\",Template!$K$332,\"\")","v":""},{"$f":"IF(OR(LEFT(Template!$K$332,2)=\"PJ\", LEFT(Template!$K$332,2)=\"PR\"),Template!$K$332,\"\")","v":""},{"$f":"IF(LEFT(Template!$K$332,2)=\"GF\",Template!$K$332,\"\")","v":""},{"$f":"IF(Template!$S$332<>\"\",Template!$S$332,\"\")","v":""},null,null,null,null,{"$f":"IF(Template!$L$332<>\"\",Template!$L$332,\"\")","v":""},"BYU_Child",null,null,"USD",null,745.83,null,null,null,{"$f":"IF(Template!$O$332<>\"\",Template!$O$332,\"\")","v":""}]
[null,{"$f":"Template!$H$333","v":0},{"$error":"#REF!"},"Calendar_Year_Mar",{"$f":"IF(LEFT(Template!$K$333,2)=\"CC\",Template!$K$333,\"\")","v":""},{"$f":"IF(LEFT(Template!$M$333,2)=\"RC\",Template!$M$333,\"\")","v":""},{"$f":"IF(LEFT(Template!$M$333,2)=\"SC\",Template!$M$333,\"\")","v":""},{"$f":"IF(LEFT(Template!$K$333,2)=\"AC\",Template!$K$333,\"\")","v":""},{"$f":"IF(OR(LEFT(Template!$K$333,2)=\"PJ\", LEFT(Template!$K$333,2)=\"PR\"),Template!$K$333,\"\")","v":""},{"$f":"IF(LEFT(Template!$K$333,2)=\"GF\",Template!$K$333,\"\")","v":""},{"$f":"IF(Template!$S$333<>\"\",Template!$S$333,\"\")","v":""},null,null,null,null,{"$f":"IF(Template!$L$333<>\"\",Template!$L$333,\"\")","v":""},"BYU_Child",null,null,"USD",null,368.57,null,null,null,{"$f":"IF(Template!$O$333<>\"\",Template!$O$333,\"\")","v":""}]
[null,{"$f":"Template!$H$334","v":0},{"$error":"#REF!"},"Calendar_Year_Mar",{"$f":"IF(LEFT(Template!$K$334,2)=\"CC\",Template!$K$334,\"\")","v":""},{"$f":"IF(LEFT(Template!$M$334,2)=\"RC\",Template!$M$334,\"\")","v":""},{"$f":"IF(LEFT(Template!$M$334,2)=\"SC\",Template!$M$334,\"\")","v":""},{"$f":"IF(LEFT(Template!$K$334,2)=\"AC\",Template!$K$334,\"\")","v":""},{"$f":"IF(OR(LEFT(Template!$K$334,2)=\"PJ\", LEFT(Template!$K$334,2)=\"PR\"),Template!$K$334,\"\")","v":""},{"$f":"IF(LEFT(Template!$K$334,2)=\"GF\",Template!$K$334,\"\")","v":""},{"$f":"IF(Template!$S$334<>\"\",Template!$S$334,\"\")","v":""},null,null,null,null,{"$f":"IF(Template!$L$334<>\"\",Template!$L$334,\"\")","v":""},"BYU_Child",null,null,"USD",null,110218.94,null,null,null,{"$f":"IF(Template!$O$334<>\"\",Template!$O$334,\"\")","v":""}]
[null,{"$f":"Template!$H$335","v":0},{"$error":"#REF!"},"Calendar_Year_Mar",{"$f":"IF(LEFT(Template!$K$335,2)=\"CC\",Template!$K$335,\"\")","v":""},{"$f":"IF(LEFT(Template!$M$335,2)=\"RC\",Template!$M$335,\"\")","v":""},{"$f":"IF(LEFT(Template!$M$335,2)=\"SC\",Template!$M$335,\"\")","v":""},{"$f":"IF(LEFT(Template!$K$335,2)=\"AC\",Template!$K$335,\"\")","v":""},{"$f":"IF(OR(LEFT(Template!$K$335,2)=\"PJ\", LEFT(Template!$K$335,2)=\"PR\"),Template!$K$335,\"\")","v":""},{"$f":"IF(LEFT(Template!$K$335,2)=\"GF\",Template!$K$335,\"\")","v":""},{"$f":"IF(Template!$S$335<>\"\",Template!$S$335,\"\")","v":""},null,null,null,null,{"$f":"IF(Template!$L$335<>\"\",Template!$L$335,\"\")","v":""},"BYU_Child",null,null,"USD",null,279.13,null,null,null,{"$f":"IF(Template!$O$335<>\"\",Template!$O$335,\"\")","v":""}]
[null,{"$f":"Template!$H$336","v":0},{"$error":"#REF!"},"Calendar_Year_Mar",{"$f":"IF(LEFT(Template!$K$336,2)=\"CC\",Template!$K$336,\"\")","v":""},{"$f":"IF(LEFT(Template!$M$336,2)=\"RC\",Template!$M$336,\"\")","v":""},{"$f":"IF(LEFT(Template!$M$336,2)=\"SC\",Template!$M$336,\"\")","v":""},{"$f":"IF(LEFT(Template!$K$336,2)=\"AC\",Template!$K$336,\"\")","v":""},{"$f":"IF(OR(LEFT(Template!$K$336,2)=\"PJ\", LEFT(Template!$K$336,2)=\"PR\"),Template!$K$336,\"\")","v":""},{"$f":"IF(LEFT(Template!$K$336,2)=\"GF\",Template!$K$336,\"\")","v":""},{"$f":"IF(Template!$S$336<>\"\",Template!$S$336,\"\")","v":""},null,null,null,null,{"$f":"IF(Template!$L$336<>\"\",Template!$L$336,\"\")","v":""},"BYU_Child",null,null,"USD",null,2525.9299999999998,null,null,null,{"$f":"IF(Template!$O$336<>\"\",Template!$O$336,\"\")","v":""}]
[null,{"$f":"Template!$H$337","v":0},{"$error":"#REF!"},"Calendar_Year_Mar",{"$f":"IF(LEFT(Template!$K$337,2)=\"CC\",Template!$K$337,\"\")","v":""},{"$f":"IF(LEFT(Template!$M$337,2)=\"RC\",Template!$M$337,\"\")","v":""},{"$f":"IF(LEFT(Template!$M$337,2)=\"SC\",Template!$M$337,\"\")","v":""},{"$f":"IF(LEFT(Template!$K$337,2)=\"AC\",Template!$K$337,\"\")","v":""},{"$f":"IF(OR(LEFT(Template!$K$337,2)=\"PJ\", LEFT(Template!$K$337,2)=\"PR\"),Template!$K$337,\"\")","v":""},{"$f":"IF(LEFT(Template!$K$337,2)=\"GF\",Template!$K$337,\"\")","v":""},{"$f":"IF(Template!$S$337<>\"\",Template!$S$337,\"\")","v":""},null,null,null,null,{"$f":"IF(Template!$L$337<>\"\",Template!$L$337,\"\")","v":""},"BYU_Child",null,null,"USD",null,93.72,null,null,null,{"$f":"IF(Template!$O$337<>\"\",Template!$O$337,\"\")","v":""}]
[null,{"$f":"Template!$H$338","v":0},{"$error":"#REF!"},"Calendar_Year_Mar",{"$f":"IF(LEFT(Template!$K$338,2)=\"CC\",Template!$K$338,\"\")","v":""},{"$f":"IF(LEFT(Template!$M$338,2)=\"RC\",Template!$M$338,\"\")","v":""},{"$f":"IF(LEFT(Template!$M$338,2)=\"SC\",Template!$M$338,\"\")","v":""},{"$f":"IF(LEFT(Template!$K$338,2)=\"AC\",Template!$K$338,\"\")","v":""},{"$f":"IF(OR(LEFT(Template!$K$338,2)=\"PJ\", LEFT(Template!$K$338,2)=\"PR\"),Template!$K$338,\"\")","v":""},{"$f":"IF(LEFT(Template!$K$338,2)=\"GF\",Template!$K$338,\"\")","v":""},{"$f":"IF(Template!$S$338<>\"\",Template!$S$338,\"\")","v":""},null,null,null,null,{"$f":"IF(Template!$L$338<>\"\",Template!$L$338,\"\")","v":""},"BYU_Child",null,null,"USD",null,798.51,null,null,null,{"$f":"IF(Template!$O$338<>\"\",Template!$O$338,\"\")","v":""}]
[null,{"$f":"Template!$H$339","v":0},{"$error":"#REF!"},"Calendar_Year_Mar",{"$f":"IF(LEFT(Template!$K$339,2)=\"CC\",Template!$K$339,\"\")","v":""},{"$f":"IF(LEFT(Template!$M$339,2)=\"RC\",Template!$M$339,\"\")","v":""},{"$f":"IF(LEFT(Template!$M$339,2)=\"SC\",Template!$M$339,\"\")","v":""},{"$f":"IF(LEFT(Template!$K$339,2)=\"AC\",Template!$K$339,\"\")","v":""},{"$f":"IF(OR(LEFT(Template!$K$339,2)=\"PJ\", LEFT(Template!$K$339,2)=\"PR\"),Template!$K$339,\"\")","v":""},{"$f":"IF(LEFT(Template!$K$339,2)=\"GF\",Template!$K$339,\"\")","v":""},{"$f":"IF(Template!$S$339<>\"\",Template!$S$339,\"\")","v":""},null,null,null,null,{"$f":"IF(Template!$L$339<>\"\",Template!$L$339,\"\")","v":""},"BYU_Child",null,null,"USD",null,4962.93,null,null,null,{"$f":"IF(Template!$O$339<>\"\",Template!$O$339,\"\")","v":""}]
[null,{"$f":"Template!$H$340","v":0},{"$error":"#REF!"},"Calendar_Year_Mar",{"$f":"IF(LEFT(Template!$K$340,2)=\"CC\",Template!$K$340,\"\")","v":""},{"$f":"IF(LEFT(Template!$M$340,2)=\"RC\",Template!$M$340,\"\")","v":""},{"$f":"IF(LEFT(Template!$M$340,2)=\"SC\",Template!$M$340,\"\")","v":""},{"$f":"IF(LEFT(Template!$K$340,2)=\"AC\",Template!$K$340,\"\")","v":""},{"$f":"IF(OR(LEFT(Template!$K$340,2)=\"PJ\", LEFT(Template!$K$340,2)=\"PR\"),Template!$K$340,\"\")","v":""},{"$f":"IF(LEFT(Template!$K$340,2)=\"GF\",Template!$K$340,\"\")","v":""},{"$f":"IF(Template!$S$340<>\"\",Template!$S$340,\"\")","v":""},null,null,null,null,{"$f":"IF(Template!$L$340<>\"\",Template!$L$340,\"\")","v":""},"BYU_Child",null,null,"USD",null,144013.04999999999,null,null,null,{"$f":"IF(Template!$O$340<>\"\",Template!$O$340,\"\")","v":""}]
[null,{"$f":"Template!$H$341","v":0},{"$error":"#REF!"},"Calendar_Year_Mar",{"$f":"IF(LEFT(Template!$K$341,2)=\"CC\",Template!$K$341,\"\")","v":""},{"$f":"IF(LEFT(Template!$M$341,2)=\"RC\",Template!$M$341,\"\")","v":""},{"$f":"IF(LEFT(Template!$M$341,2)=\"SC\",Template!$M$341,\"\")","v":""},{"$f":"IF(LEFT(Template!$K$341,2)=\"AC\",Template!$K$341,\"\")","v":""},{"$f":"IF(OR(LEFT(Template!$K$341,2)=\"PJ\", LEFT(Template!$K$341,2)=\"PR\"),Template!$K$341,\"\")","v":""},{"$f":"IF(LEFT(Template!$K$341,2)=\"GF\",Template!$K$341,\"\")","v":""},{"$f":"IF(Template!$S$341<>\"\",Template!$S$341,\"\")","v":""},null,null,null,null,{"$f":"IF(Template!$L$341<>\"\",Template!$L$341,\"\")","v":""},"BYU_Child",null,null,"USD",null,null,364.61,null,null,{"$f":"IF(Template!$O$341<>\"\",Template!$O$341,\"\")","v":""}]
[null,{"$f":"Template!$H$342","v":0},{"$error":"#REF!"},"Calendar_Year_Mar",{"$f":"IF(LEFT(Template!$K$342,2)=\"CC\",Template!$K$342,\"\")","v":""},{"$f":"IF(LEFT(Template!$M$342,2)=\"RC\",Template!$M$342,\"\")","v":""},{"$f":"IF(LEFT(Template!$M$342,2)=\"SC\",Template!$M$342,\"\")","v":""},{"$f":"IF(LEFT(Template!$K$342,2)=\"AC\",Template!$K$342,\"\")","v":""},{"$f":"IF(OR(LEFT(Template!$K$342,2)=\"PJ\", LEFT(Template!$K$342,2)=\"PR\"),Template!$K$342,\"\")","v":""},{"$f":"IF(LEFT(Template!$K$342,2)=\"GF\",Template!$K$342,\"\")","v":""},{"$f":"IF(Template!$S$342<>\"\",Template!$S$342,\"\")","v":""},null,null,null,null,{"$f":"IF(Template!$L$342<>\"\",Template!$L$342,\"\")","v":""},"BYU_Child",null,null,"USD",null,17,null,null,null,{"$f":"IF(Template!$O$342<>\"\",Template!$O$342,\"\")","v":""}]
[null,{"$f":"Template!$H$343","v":0},{"$error":"#REF!"},"Calendar_Year_Mar",{"$f":"IF(LEFT(Template!$K$343,2)=\"CC\",Template!$K$343,\"\")","v":""},{"$f":"IF(LEFT(Template!$M$343,2)=\"RC\",Template!$M$343,\"\")","v":""},{"$f":"IF(LEFT(Template!$M$343,2)=\"SC\",Template!$M$343,\"\")","v":""},{"$f":"IF(LEFT(Template!$K$343,2)=\"AC\",Template!$K$343,\"\")","v":""},{"$f":"IF(OR(LEFT(Template!$K$343,2)=\"PJ\", LEFT(Template!$K$343,2)=\"PR\"),Template!$K$343,\"\")","v":""},{"$f":"IF(LEFT(Template!$K$343,2)=\"GF\",Template!$K$343,\"\")","v":""},{"$f":"IF(Template!$S$343<>\"\",Template!$S$343,\"\")","v":""},null,null,null,null,{"$f":"IF(Template!$L$343<>\"\",Template!$L$343,\"\")","v":""},"BYU_Child",null,null,"USD",null,914.85,null,null,null,{"$f":"IF(Template!$O$343<>\"\",Template!$O$343,\"\")","v":""}]
[null,{"$f":"Template!$H$344","v":0},{"$error":"#REF!"},"Calendar_Year_Mar",{"$f":"IF(LEFT(Template!$K$344,2)=\"CC\",Template!$K$344,\"\")","v":""},{"$f":"IF(LEFT(Template!$M$344,2)=\"RC\",Template!$M$344,\"\")","v":""},{"$f":"IF(LEFT(Template!$M$344,2)=\"SC\",Template!$M$344,\"\")","v":""},{"$f":"IF(LEFT(Template!$K$344,2)=\"AC\",Template!$K$344,\"\")","v":""},{"$f":"IF(OR(LEFT(Template!$K$344,2)=\"PJ\", LEFT(Template!$K$344,2)=\"PR\"),Template!$K$344,\"\")","v":""},{"$f":"IF(LEFT(Template!$K$344,2)=\"GF\",Template!$K$344,\"\")","v":""},{"$f":"IF(Template!$S$344<>\"\",Template!$S$344,\"\")","v":""},null,null,null,null,{"$f":"IF(Template!$L$344<>\"\",Template!$L$344,\"\")","v":""},"BYU_Child",null,null,"USD",null,2804.43,null,null,null,{"$f":"IF(Template!$O$344<>\"\",Template!$O$344,\"\")","v":""}]
[null,{"$f":"Template!$H$345","v":0},{"$error":"#REF!"},"Calendar_Year_Mar",{"$f":"IF(LEFT(Template!$K$345,2)=\"CC\",Template!$K$345,\"\")","v":""},{"$f":"IF(LEFT(Template!$M$345,2)=\"RC\",Template!$M$345,\"\")","v":""},{"$f":"IF(LEFT(Template!$M$345,2)=\"SC\",Template!$M$345,\"\")","v":""},{"$f":"IF(LEFT(Template!$K$345,2)=\"AC\",Template!$K$345,\"\")","v":""},{"$f":"IF(OR(LEFT(Template!$K$345,2)=\"PJ\", LEFT(Template!$K$345,2)=\"PR\"),Template!$K$345,\"\")","v":""},{"$f":"IF(LEFT(Template!$K$345,2)=\"GF\",Template!$K$345,\"\")","v":""},{"$f":"IF(Template!$S$345<>\"\",Template!$S$345,\"\")","v":""},null,null,null,null,{"$f":"IF(Template!$L$345<>\"\",Template!$L$345,\"\")","v":""},"BYU_Child",null,null,"USD",null,151037.35,null,null,null,{"$f":"IF(Template!$O$345<>\"\",Template!$O$345,\"\")","v":""}]
[null,{"$f":"Template!$H$346","v":0},{"$error":"#REF!"},"Calendar_Year_Mar",{"$f":"IF(LEFT(Template!$K$346,2)=\"CC\",Template!$K$346,\"\")","v":""},{"$f":"IF(LEFT(Template!$M$346,2)=\"RC\",Template!$M$346,\"\")","v":""},{"$f":"IF(LEFT(Template!$M$346,2)=\"SC\",Template!$M$346,\"\")","v":""},{"$f":"IF(LEFT(Template!$K$346,2)=\"AC\",Template!$K$346,\"\")","v":""},{"$f":"IF(OR(LEFT(Template!$K$346,2)=\"PJ\", LEFT(Template!$K$346,2)=\"PR\"),Template!$K$346,\"\")","v":""},{"$f":"IF(LEFT(Template!$K$346,2)=\"GF\",Template!$K$346,\"\")","v":""},{"$f":"IF(Template!$S$346<>\"\",Template!$S$346,\"\")","v":""},null,null,null,null,{"$f":"IF(Template!$L$346<>\"\",Template!$L$346,\"\")","v":""},"BYU_Child",null,null,"USD",null,385.49,null,null,null,{"$f":"IF(Template!$O$346<>\"\",Template!$O$346,\"\")","v":""}]
[null,{"$f":"Template!$H$347","v":0},{"$error":"#REF!"},"Calendar_Year_Mar",{"$f":"IF(LEFT(Template!$K$347,2)=\"CC\",Template!$K$347,\"\")","v":""},{"$f":"IF(LEFT(Template!$M$347,2)=\"RC\",Template!$M$347,\"\")","v":""},{"$f":"IF(LEFT(Template!$M$347,2)=\"SC\",Template!$M$347,\"\")","v":""},{"$f":"IF(LEFT(Template!$K$347,2)=\"AC\",Template!$K$347,\"\")","v":""},{"$f":"IF(OR(LEFT(Template!$K$347,2)=\"PJ\", LEFT(Template!$K$347,2)=\"PR\"),Template!$K$347,\"\")","v":""},{"$f":"IF(LEFT(Template!$K$347,2)=\"GF\",Template!$K$347,\"\")","v":""},{"$f":"IF(Template!$S$347<>\"\",Template!$S$347,\"\")","v":""},null,null,null,null,{"$f":"IF(Template!$L$347<>\"\",Template!$L$347,\"\")","v":""},"BYU_Child",null,null,"USD",null,115.84,null,null,null,{"$f":"IF(Template!$O$347<>\"\",Template!$O$347,\"\")","v":""}]
[null,{"$f":"Template!$H$348","v":0},{"$error":"#REF!"},"Calendar_Year_Mar",{"$f":"IF(LEFT(Template!$K$348,2)=\"CC\",Template!$K$348,\"\")","v":""},{"$f":"IF(LEFT(Template!$M$348,2)=\"RC\",Template!$M$348,\"\")","v":""},{"$f":"IF(LEFT(Template!$M$348,2)=\"SC\",Template!$M$348,\"\")","v":""},{"$f":"IF(LEFT(Template!$K$348,2)=\"AC\",Template!$K$348,\"\")","v":""},{"$f":"IF(OR(LEFT(Template!$K$348,2)=\"PJ\", LEFT(Template!$K$348,2)=\"PR\"),Template!$K$348,\"\")","v":""},{"$f":"IF(LEFT(Template!$K$348,2)=\"GF\",Template!$K$348,\"\")","v":""},{"$f":"IF(Template!$S$348<>\"\",Template!$S$348,\"\")","v":""},null,null,null,null,{"$f":"IF(Template!$L$348<>\"\",Template!$L$348,\"\")","v":""},"BYU_Child",null,null,"USD",null,1627.73,null,null,null,{"$f":"IF(Template!$O$348<>\"\",Template!$O$348,\"\")","v":""}]
[null,{"$f":"Template!$H$349","v":0},{"$error":"#REF!"},"Calendar_Year_Mar",{"$f":"IF(LEFT(Template!$K$349,2)=\"CC\",Template!$K$349,\"\")","v":""},{"$f":"IF(LEFT(Template!$M$349,2)=\"RC\",Template!$M$349,\"\")","v":""},{"$f":"IF(LEFT(Template!$M$349,2)=\"SC\",Template!$M$349,\"\")","v":""},{"$f":"IF(LEFT(Template!$K$349,2)=\"AC\",Template!$K$349,\"\")","v":""},{"$f":"IF(OR(LEFT(Template!$K$349,2)=\"PJ\", LEFT(Template!$K$349,2)=\"PR\"),Template!$K$349,\"\")","v":""},{"$f":"IF(LEFT(Template!$K$349,2)=\"GF\",Template!$K$349,\"\")","v":""},{"$f":"IF(Template!$S$349<>\"\",Template!$S$349,\"\")","v":""},null,null,null,null,{"$f":"IF(Template!$L$349<>\"\",Template!$L$349,\"\")","v":""},"BYU_Child",null,null,"USD",null,214.78,null,null,null,{"$f":"IF(Template!$O$349<>\"\",Template!$O$349,\"\")","v":""}]
[null,{"$f":"Template!$H$350","v":0},{"$error":"#REF!"},"Calendar_Year_Mar",{"$f":"IF(LEFT(Template!$K$350,2)=\"CC\",Template!$K$350,\"\")","v":""},{"$f":"IF(LEFT(Template!$M$350,2)=\"RC\",Template!$M$350,\"\")","v":""},{"$f":"IF(LEFT(Template!$M$350,2)=\"SC\",Template!$M$350,\"\")","v":""},{"$f":"IF(LEFT(Template!$K$350,2)=\"AC\",Template!$K$350,\"\")","v":""},{"$f":"IF(OR(LEFT(Template!$K$350,2)=\"PJ\", LEFT(Template!$K$350,2)=\"PR\"),Template!$K$350,\"\")","v":""},{"$f":"IF(LEFT(Template!$K$350,2)=\"GF\",Template!$K$350,\"\")","v":""},{"$f":"IF(Template!$S$350<>\"\",Template!$S$350,\"\")","v":""},null,null,null,null,{"$f":"IF(Template!$L$350<>\"\",Template!$L$350,\"\")","v":""},"BYU_Child",null,null,"USD",null,86.05,null,null,null,{"$f":"IF(Template!$O$350<>\"\",Template!$O$350,\"\")","v":""}]
[null,{"$f":"Template!$H$351","v":0},{"$error":"#REF!"},"Calendar_Year_Mar",{"$f":"IF(LEFT(Template!$K$351,2)=\"CC\",Template!$K$351,\"\")","v":""},{"$f":"IF(LEFT(Template!$M$351,2)=\"RC\",Template!$M$351,\"\")","v":""},{"$f":"IF(LEFT(Template!$M$351,2)=\"SC\",Template!$M$351,\"\")","v":""},{"$f":"IF(LEFT(Template!$K$351,2)=\"AC\",Template!$K$351,\"\")","v":""},{"$f":"IF(OR(LEFT(Template!$K$351,2)=\"PJ\", LEFT(Template!$K$351,2)=\"PR\"),Template!$K$351,\"\")","v":""},{"$f":"IF(LEFT(Template!$K$351,2)=\"GF\",Template!$K$351,\"\")","v":""},{"$f":"IF(Template!$S$351<>\"\",Template!$S$351,\"\")","v":""},null,null,null,null,{"$f":"IF(Template!$L$351<>\"\",Template!$L$351,\"\")","v":""},"BYU_Child",null,null,"USD",null,124.56,null,null,null,{"$f":"IF(Template!$O$351<>\"\",Template!$O$351,\"\")","v":""}]
[null,{"$f":"Template!$H$352","v":0},{"$error":"#REF!"},"Calendar_Year_Mar",{"$f":"IF(LEFT(Template!$K$352,2)=\"CC\",Template!$K$352,\"\")","v":""},{"$f":"IF(LEFT(Template!$M$352,2)=\"RC\",Template!$M$352,\"\")","v":""},{"$f":"IF(LEFT(Template!$M$352,2)=\"SC\",Template!$M$352,\"\")","v":""},{"$f":"IF(LEFT(Template!$K$352,2)=\"AC\",Template!$K$352,\"\")","v":""},{"$f":"IF(OR(LEFT(Template!$K$352,2)=\"PJ\", LEFT(Template!$K$352,2)=\"PR\"),Template!$K$352,\"\")","v":""},{"$f":"IF(LEFT(Template!$K$352,2)=\"GF\",Template!$K$352,\"\")","v":""},{"$f":"IF(Template!$S$352<>\"\",Template!$S$352,\"\")","v":""},null,null,null,null,{"$f":"IF(Template!$L$352<>\"\",Template!$L$352,\"\")","v":""},"BYU_Child",null,null,"USD",null,9586.5400000000009,null,null,null,{"$f":"IF(Template!$O$352<>\"\",Template!$O$352,\"\")","v":""}]
[null,{"$f":"Template!$H$353","v":0},{"$error":"#REF!"},"Calendar_Year_Mar",{"$f":"IF(LEFT(Template!$K$353,2)=\"CC\",Template!$K$353,\"\")","v":""},{"$f":"IF(LEFT(Template!$M$353,2)=\"RC\",Template!$M$353,\"\")","v":""},{"$f":"IF(LEFT(Template!$M$353,2)=\"SC\",Template!$M$353,\"\")","v":""},{"$f":"IF(LEFT(Template!$K$353,2)=\"AC\",Template!$K$353,\"\")","v":""},{"$f":"IF(OR(LEFT(Template!$K$353,2)=\"PJ\", LEFT(Template!$K$353,2)=\"PR\"),Template!$K$353,\"\")","v":""},{"$f":"IF(LEFT(Template!$K$353,2)=\"GF\",Template!$K$353,\"\")","v":""},{"$f":"IF(Template!$S$353<>\"\",Template!$S$353,\"\")","v":""},null,null,null,null,{"$f":"IF(Template!$L$353<>\"\",Template!$L$353,\"\")","v":""},"BYU_Child",null,null,"USD",null,54.42,null,null,null,{"$f":"IF(Template!$O$353<>\"\",Template!$O$353,\"\")","v":""}]
[null,{"$f":"Template!$H$354","v":0},{"$error":"#REF!"},"Calendar_Year_Mar",{"$f":"IF(LEFT(Template!$K$354,2)=\"CC\",Template!$K$354,\"\")","v":""},{"$f":"IF(LEFT(Template!$M$354,2)=\"RC\",Template!$M$354,\"\")","v":""},{"$f":"IF(LEFT(Template!$M$354,2)=\"SC\",Template!$M$354,\"\")","v":""},{"$f":"IF(LEFT(Template!$K$354,2)=\"AC\",Template!$K$354,\"\")","v":""},{"$f":"IF(OR(LEFT(Template!$K$354,2)=\"PJ\", LEFT(Template!$K$354,2)=\"PR\"),Template!$K$354,\"\")","v":""},{"$f":"IF(LEFT(Template!$K$354,2)=\"GF\",Template!$K$354,\"\")","v":""},{"$f":"IF(Template!$S$354<>\"\",Template!$S$354,\"\")","v":""},null,null,null,null,{"$f":"IF(Template!$L$354<>\"\",Template!$L$354,\"\")","v":""},"BYU_Child",null,null,"USD",null,2500.34,null,null,null,{"$f":"IF(Template!$O$354<>\"\",Template!$O$354,\"\")","v":""}]
[null,{"$f":"Template!$H$355","v":0},{"$error":"#REF!"},"Calendar_Year_Mar",{"$f":"IF(LEFT(Template!$K$355,2)=\"CC\",Template!$K$355,\"\")","v":""},{"$f":"IF(LEFT(Template!$M$355,2)=\"RC\",Template!$M$355,\"\")","v":""},{"$f":"IF(LEFT(Template!$M$355,2)=\"SC\",Template!$M$355,\"\")","v":""},{"$f":"IF(LEFT(Template!$K$355,2)=\"AC\",Template!$K$355,\"\")","v":""},{"$f":"IF(OR(LEFT(Template!$K$355,2)=\"PJ\", LEFT(Template!$K$355,2)=\"PR\"),Template!$K$355,\"\")","v":""},{"$f":"IF(LEFT(Template!$K$355,2)=\"GF\",Template!$K$355,\"\")","v":""},{"$f":"IF(Template!$S$355<>\"\",Template!$S$355,\"\")","v":""},null,null,null,null,{"$f":"IF(Template!$L$355<>\"\",Template!$L$355,\"\")","v":""},"BYU_Child",null,null,"USD",null,25694.15,null,null,null,{"$f":"IF(Template!$O$355<>\"\",Template!$O$355,\"\")","v":""}]
[null,{"$f":"Template!$H$356","v":0},{"$error":"#REF!"},"Calendar_Year_Mar",{"$f":"IF(LEFT(Template!$K$356,2)=\"CC\",Template!$K$356,\"\")","v":""},{"$f":"IF(LEFT(Template!$M$356,2)=\"RC\",Template!$M$356,\"\")","v":""},{"$f":"IF(LEFT(Template!$M$356,2)=\"SC\",Template!$M$356,\"\")","v":""},{"$f":"IF(LEFT(Template!$K$356,2)=\"AC\",Template!$K$356,\"\")","v":""},{"$f":"IF(OR(LEFT(Template!$K$356,2)=\"PJ\", LEFT(Template!$K$356,2)=\"PR\"),Template!$K$356,\"\")","v":""},{"$f":"IF(LEFT(Template!$K$356,2)=\"GF\",Template!$K$356,\"\")","v":""},{"$f":"IF(Template!$S$356<>\"\",Template!$S$356,\"\")","v":""},null,null,null,null,{"$f":"IF(Template!$L$356<>\"\",Template!$L$356,\"\")","v":""},"BYU_Child",null,null,"USD",null,764.94,null,null,null,{"$f":"IF(Template!$O$356<>\"\",Template!$O$356,\"\")","v":""}]
[null,{"$f":"Template!$H$357","v":0},{"$error":"#REF!"},"Calendar_Year_Mar",{"$f":"IF(LEFT(Template!$K$357,2)=\"CC\",Template!$K$357,\"\")","v":""},{"$f":"IF(LEFT(Template!$M$357,2)=\"RC\",Template!$M$357,\"\")","v":""},{"$f":"IF(LEFT(Template!$M$357,2)=\"SC\",Template!$M$357,\"\")","v":""},{"$f":"IF(LEFT(Template!$K$357,2)=\"AC\",Template!$K$357,\"\")","v":""},{"$f":"IF(OR(LEFT(Template!$K$357,2)=\"PJ\", LEFT(Template!$K$357,2)=\"PR\"),Template!$K$357,\"\")","v":""},{"$f":"IF(LEFT(Template!$K$357,2)=\"GF\",Template!$K$357,\"\")","v":""},{"$f":"IF(Template!$S$357<>\"\",Template!$S$357,\"\")","v":""},null,null,null,null,{"$f":"IF(Template!$L$357<>\"\",Template!$L$357,\"\")","v":""},"BYU_Child",null,null,"USD",null,195.26,null,null,null,{"$f":"IF(Template!$O$357<>\"\",Template!$O$357,\"\")","v":""}]
[null,{"$f":"Template!$H$358","v":0},{"$error":"#REF!"},"Calendar_Year_Mar",{"$f":"IF(LEFT(Template!$K$358,2)=\"CC\",Template!$K$358,\"\")","v":""},{"$f":"IF(LEFT(Template!$M$358,2)=\"RC\",Template!$M$358,\"\")","v":""},{"$f":"IF(LEFT(Template!$M$358,2)=\"SC\",Template!$M$358,\"\")","v":""},{"$f":"IF(LEFT(Template!$K$358,2)=\"AC\",Template!$K$358,\"\")","v":""},{"$f":"IF(OR(LEFT(Template!$K$358,2)=\"PJ\", LEFT(Template!$K$358,2)=\"PR\"),Template!$K$358,\"\")","v":""},{"$f":"IF(LEFT(Template!$K$358,2)=\"GF\",Template!$K$358,\"\")","v":""},{"$f":"IF(Template!$S$358<>\"\",Template!$S$358,\"\")","v":""},null,null,null,null,{"$f":"IF(Template!$L$358<>\"\",Template!$L$358,\"\")","v":""},"BYU_Child",null,null,"USD",null,56127.73,null,null,null,{"$f":"IF(Template!$O$358<>\"\",Template!$O$358,\"\")","v":""}]
[null,{"$f":"Template!$H$359","v":0},{"$error":"#REF!"},"Calendar_Year_Mar",{"$f":"IF(LEFT(Template!$K$359,2)=\"CC\",Template!$K$359,\"\")","v":""},{"$f":"IF(LEFT(Template!$M$359,2)=\"RC\",Template!$M$359,\"\")","v":""},{"$f":"IF(LEFT(Template!$M$359,2)=\"SC\",Template!$M$359,\"\")","v":""},{"$f":"IF(LEFT(Template!$K$359,2)=\"AC\",Template!$K$359,\"\")","v":""},{"$f":"IF(OR(LEFT(Template!$K$359,2)=\"PJ\", LEFT(Template!$K$359,2)=\"PR\"),Template!$K$359,\"\")","v":""},{"$f":"IF(LEFT(Template!$K$359,2)=\"GF\",Template!$K$359,\"\")","v":""},{"$f":"IF(Template!$S$359<>\"\",Template!$S$359,\"\")","v":""},null,null,null,null,{"$f":"IF(Template!$L$359<>\"\",Template!$L$359,\"\")","v":""},"BYU_Child",null,null,"USD",null,2833.67,null,null,null,{"$f":"IF(Template!$O$359<>\"\",Template!$O$359,\"\")","v":""}]
[null,{"$f":"Template!$H$360","v":0},{"$error":"#REF!"},"Calendar_Year_Mar",{"$f":"IF(LEFT(Template!$K$360,2)=\"CC\",Template!$K$360,\"\")","v":""},{"$f":"IF(LEFT(Template!$M$360,2)=\"RC\",Template!$M$360,\"\")","v":""},{"$f":"IF(LEFT(Template!$M$360,2)=\"SC\",Template!$M$360,\"\")","v":""},{"$f":"IF(LEFT(Template!$K$360,2)=\"AC\",Template!$K$360,\"\")","v":""},{"$f":"IF(OR(LEFT(Template!$K$360,2)=\"PJ\", LEFT(Template!$K$360,2)=\"PR\"),Template!$K$360,\"\")","v":""},{"$f":"IF(LEFT(Template!$K$360,2)=\"GF\",Template!$K$360,\"\")","v":""},{"$f":"IF(Template!$S$360<>\"\",Template!$S$360,\"\")","v":""},null,null,null,null,{"$f":"IF(Template!$L$360<>\"\",Template!$L$360,\"\")","v":""},"BYU_Child",null,null,"USD",null,0.43,null,null,null,{"$f":"IF(Template!$O$360<>\"\",Template!$O$360,\"\")","v":""}]
[null,{"$f":"Template!$H$361","v":0},{"$error":"#REF!"},"Calendar_Year_Mar",{"$f":"IF(LEFT(Template!$K$361,2)=\"CC\",Template!$K$361,\"\")","v":""},{"$f":"IF(LEFT(Template!$M$361,2)=\"RC\",Template!$M$361,\"\")","v":""},{"$f":"IF(LEFT(Template!$M$361,2)=\"SC\",Template!$M$361,\"\")","v":""},{"$f":"IF(LEFT(Template!$K$361,2)=\"AC\",Template!$K$361,\"\")","v":""},{"$f":"IF(OR(LEFT(Template!$K$361,2)=\"PJ\", LEFT(Template!$K$361,2)=\"PR\"),Template!$K$361,\"\")","v":""},{"$f":"IF(LEFT(Template!$K$361,2)=\"GF\",Template!$K$361,\"\")","v":""},{"$f":"IF(Template!$S$361<>\"\",Template!$S$361,\"\")","v":""},null,null,null,null,{"$f":"IF(Template!$L$361<>\"\",Template!$L$361,\"\")","v":""},"BYU_Child",null,null,"USD",null,17106.150000000001,null,null,null,{"$f":"IF(Template!$O$361<>\"\",Template!$O$361,\"\")","v":""}]
[null,{"$f":"Template!$H$362","v":0},{"$error":"#REF!"},"Calendar_Year_Mar",{"$f":"IF(LEFT(Template!$K$362,2)=\"CC\",Template!$K$362,\"\")","v":""},{"$f":"IF(LEFT(Template!$M$362,2)=\"RC\",Template!$M$362,\"\")","v":""},{"$f":"IF(LEFT(Template!$M$362,2)=\"SC\",Template!$M$362,\"\")","v":""},{"$f":"IF(LEFT(Template!$K$362,2)=\"AC\",Template!$K$362,\"\")","v":""},{"$f":"IF(OR(LEFT(Template!$K$362,2)=\"PJ\", LEFT(Template!$K$362,2)=\"PR\"),Template!$K$362,\"\")","v":""},{"$f":"IF(LEFT(Template!$K$362,2)=\"GF\",Template!$K$362,\"\")","v":""},{"$f":"IF(Template!$S$362<>\"\",Template!$S$362,\"\")","v":""},null,null,null,null,{"$f":"IF(Template!$L$362<>\"\",Template!$L$362,\"\")","v":""},"BYU_Child",null,null,"USD",null,61162.29,null,null,null,{"$f":"IF(Template!$O$362<>\"\",Template!$O$362,\"\")","v":""}]
[null,{"$f":"Template!$H$363","v":0},{"$error":"#REF!"},"Calendar_Year_Mar",{"$f":"IF(LEFT(Template!$K$363,2)=\"CC\",Template!$K$363,\"\")","v":""},{"$f":"IF(LEFT(Template!$M$363,2)=\"RC\",Template!$M$363,\"\")","v":""},{"$f":"IF(LEFT(Template!$M$363,2)=\"SC\",Template!$M$363,\"\")","v":""},{"$f":"IF(LEFT(Template!$K$363,2)=\"AC\",Template!$K$363,\"\")","v":""},{"$f":"IF(OR(LEFT(Template!$K$363,2)=\"PJ\", LEFT(Template!$K$363,2)=\"PR\"),Template!$K$363,\"\")","v":""},{"$f":"IF(LEFT(Template!$K$363,2)=\"GF\",Template!$K$363,\"\")","v":""},{"$f":"IF(Template!$S$363<>\"\",Template!$S$363,\"\")","v":""},null,null,null,null,{"$f":"IF(Template!$L$363<>\"\",Template!$L$363,\"\")","v":""},"BYU_Child",null,null,"USD",null,2847.14,null,null,null,{"$f":"IF(Template!$O$363<>\"\",Template!$O$363,\"\")","v":""}]
[null,{"$f":"Template!$H$364","v":0},{"$error":"#REF!"},"Calendar_Year_Mar",{"$f":"IF(LEFT(Template!$K$364,2)=\"CC\",Template!$K$364,\"\")","v":""},{"$f":"IF(LEFT(Template!$M$364,2)=\"RC\",Template!$M$364,\"\")","v":""},{"$f":"IF(LEFT(Template!$M$364,2)=\"SC\",Template!$M$364,\"\")","v":""},{"$f":"IF(LEFT(Template!$K$364,2)=\"AC\",Template!$K$364,\"\")","v":""},{"$f":"IF(OR(LEFT(Template!$K$364,2)=\"PJ\", LEFT(Template!$K$364,2)=\"PR\"),Template!$K$364,\"\")","v":""},{"$f":"IF(LEFT(Template!$K$364,2)=\"GF\",Template!$K$364,\"\")","v":""},{"$f":"IF(Template!$S$364<>\"\",Template!$S$364,\"\")","v":""},null,null,null,null,{"$f":"IF(Template!$L$364<>\"\",Template!$L$364,\"\")","v":""},"BYU_Child",null,null,"USD",null,14659.03,null,null,null,{"$f":"IF(Template!$O$364<>\"\",Template!$O$364,\"\")","v":""}]
[null,{"$f":"Template!$H$365","v":0},{"$error":"#REF!"},"Calendar_Year_Mar",{"$f":"IF(LEFT(Template!$K$365,2)=\"CC\",Template!$K$365,\"\")","v":""},{"$f":"IF(LEFT(Template!$M$365,2)=\"RC\",Template!$M$365,\"\")","v":""},{"$f":"IF(LEFT(Template!$M$365,2)=\"SC\",Template!$M$365,\"\")","v":""},{"$f":"IF(LEFT(Template!$K$365,2)=\"AC\",Template!$K$365,\"\")","v":""},{"$f":"IF(OR(LEFT(Template!$K$365,2)=\"PJ\", LEFT(Template!$K$365,2)=\"PR\"),Template!$K$365,\"\")","v":""},{"$f":"IF(LEFT(Template!$K$365,2)=\"GF\",Template!$K$365,\"\")","v":""},{"$f":"IF(Template!$S$365<>\"\",Template!$S$365,\"\")","v":""},null,null,null,null,{"$f":"IF(Template!$L$365<>\"\",Template!$L$365,\"\")","v":""},"BYU_Child",null,null,"USD",null,16123.81,null,null,null,{"$f":"IF(Template!$O$365<>\"\",Template!$O$365,\"\")","v":""}]
[null,{"$f":"Template!$H$366","v":0},{"$error":"#REF!"},"Calendar_Year_Mar",{"$f":"IF(LEFT(Template!$K$366,2)=\"CC\",Template!$K$366,\"\")","v":""},{"$f":"IF(LEFT(Template!$M$366,2)=\"RC\",Template!$M$366,\"\")","v":""},{"$f":"IF(LEFT(Template!$M$366,2)=\"SC\",Template!$M$366,\"\")","v":""},{"$f":"IF(LEFT(Template!$K$366,2)=\"AC\",Template!$K$366,\"\")","v":""},{"$f":"IF(OR(LEFT(Template!$K$366,2)=\"PJ\", LEFT(Template!$K$366,2)=\"PR\"),Template!$K$366,\"\")","v":""},{"$f":"IF(LEFT(Template!$K$366,2)=\"GF\",Template!$K$366,\"\")","v":""},{"$f":"IF(Template!$S$366<>\"\",Template!$S$366,\"\")","v":""},null,null,null,null,{"$f":"IF(Template!$L$366<>\"\",Template!$L$366,\"\")","v":""},"BYU_Child",null,null,"USD",null,114.62,null,null,null,{"$f":"IF(Template!$O$366<>\"\",Template!$O$366,\"\")","v":""}]
[null,{"$f":"Template!$H$367","v":0},{"$error":"#REF!"},"Calendar_Year_Mar",{"$f":"IF(LEFT(Template!$K$367,2)=\"CC\",Template!$K$367,\"\")","v":""},{"$f":"IF(LEFT(Template!$M$367,2)=\"RC\",Template!$M$367,\"\")","v":""},{"$f":"IF(LEFT(Template!$M$367,2)=\"SC\",Template!$M$367,\"\")","v":""},{"$f":"IF(LEFT(Template!$K$367,2)=\"AC\",Template!$K$367,\"\")","v":""},{"$f":"IF(OR(LEFT(Template!$K$367,2)=\"PJ\", LEFT(Template!$K$367,2)=\"PR\"),Template!$K$367,\"\")","v":""},{"$f":"IF(LEFT(Template!$K$367,2)=\"GF\",Template!$K$367,\"\")","v":""},{"$f":"IF(Template!$S$367<>\"\",Template!$S$367,\"\")","v":""},null,null,null,null,{"$f":"IF(Template!$L$367<>\"\",Template!$L$367,\"\")","v":""},"BYU_Child",null,null,"USD",null,4006.1,null,null,null,{"$f":"IF(Template!$O$367<>\"\",Template!$O$367,\"\")","v":""}]
[null,{"$f":"Template!$H$368","v":0},{"$error":"#REF!"},"Calendar_Year_Mar",{"$f":"IF(LEFT(Template!$K$368,2)=\"CC\",Template!$K$368,\"\")","v":""},{"$f":"IF(LEFT(Template!$M$368,2)=\"RC\",Template!$M$368,\"\")","v":""},{"$f":"IF(LEFT(Template!$M$368,2)=\"SC\",Template!$M$368,\"\")","v":""},{"$f":"IF(LEFT(Template!$K$368,2)=\"AC\",Template!$K$368,\"\")","v":""},{"$f":"IF(OR(LEFT(Template!$K$368,2)=\"PJ\", LEFT(Template!$K$368,2)=\"PR\"),Template!$K$368,\"\")","v":""},{"$f":"IF(LEFT(Template!$K$368,2)=\"GF\",Template!$K$368,\"\")","v":""},{"$f":"IF(Template!$S$368<>\"\",Template!$S$368,\"\")","v":""},null,null,null,null,{"$f":"IF(Template!$L$368<>\"\",Template!$L$368,\"\")","v":""},"BYU_Child",null,null,"USD",null,288.75,null,null,null,{"$f":"IF(Template!$O$368<>\"\",Template!$O$368,\"\")","v":""}]
[null,{"$f":"Template!$H$369","v":0},{"$error":"#REF!"},"Calendar_Year_Mar",{"$f":"IF(LEFT(Template!$K$369,2)=\"CC\",Template!$K$369,\"\")","v":""},{"$f":"IF(LEFT(Template!$M$369,2)=\"RC\",Template!$M$369,\"\")","v":""},{"$f":"IF(LEFT(Template!$M$369,2)=\"SC\",Template!$M$369,\"\")","v":""},{"$f":"IF(LEFT(Template!$K$369,2)=\"AC\",Template!$K$369,\"\")","v":""},{"$f":"IF(OR(LEFT(Template!$K$369,2)=\"PJ\", LEFT(Template!$K$369,2)=\"PR\"),Template!$K$369,\"\")","v":""},{"$f":"IF(LEFT(Template!$K$369,2)=\"GF\",Template!$K$369,\"\")","v":""},{"$f":"IF(Template!$S$369<>\"\",Template!$S$369,\"\")","v":""},null,null,null,null,{"$f":"IF(Template!$L$369<>\"\",Template!$L$369,\"\")","v":""},"BYU_Child",null,null,"USD",null,8.18,null,null,null,{"$f":"IF(Template!$O$369<>\"\",Template!$O$369,\"\")","v":""}]
[null,{"$f":"Template!$H$370","v":0},{"$error":"#REF!"},"Calendar_Year_Mar",{"$f":"IF(LEFT(Template!$K$370,2)=\"CC\",Template!$K$370,\"\")","v":""},{"$f":"IF(LEFT(Template!$M$370,2)=\"RC\",Template!$M$370,\"\")","v":""},{"$f":"IF(LEFT(Template!$M$370,2)=\"SC\",Template!$M$370,\"\")","v":""},{"$f":"IF(LEFT(Template!$K$370,2)=\"AC\",Template!$K$370,\"\")","v":""},{"$f":"IF(OR(LEFT(Template!$K$370,2)=\"PJ\", LEFT(Template!$K$370,2)=\"PR\"),Template!$K$370,\"\")","v":""},{"$f":"IF(LEFT(Template!$K$370,2)=\"GF\",Template!$K$370,\"\")","v":""},{"$f":"IF(Template!$S$370<>\"\",Template!$S$370,\"\")","v":""},null,null,null,null,{"$f":"IF(Template!$L$370<>\"\",Template!$L$370,\"\")","v":""},"BYU_Child",null,null,"USD",null,674.56,null,null,null,{"$f":"IF(Template!$O$370<>\"\",Template!$O$370,\"\")","v":""}]
[null,{"$f":"Template!$H$371","v":0},{"$error":"#REF!"},"Calendar_Year_Mar",{"$f":"IF(LEFT(Template!$K$371,2)=\"CC\",Template!$K$371,\"\")","v":""},{"$f":"IF(LEFT(Template!$M$371,2)=\"RC\",Template!$M$371,\"\")","v":""},{"$f":"IF(LEFT(Template!$M$371,2)=\"SC\",Template!$M$371,\"\")","v":""},{"$f":"IF(LEFT(Template!$K$371,2)=\"AC\",Template!$K$371,\"\")","v":""},{"$f":"IF(OR(LEFT(Template!$K$371,2)=\"PJ\", LEFT(Template!$K$371,2)=\"PR\"),Template!$K$371,\"\")","v":""},{"$f":"IF(LEFT(Template!$K$371,2)=\"GF\",Template!$K$371,\"\")","v":""},{"$f":"IF(Template!$S$371<>\"\",Template!$S$371,\"\")","v":""},null,null,null,null,{"$f":"IF(Template!$L$371<>\"\",Template!$L$371,\"\")","v":""},"BYU_Child",null,null,"USD",null,13374.75,null,null,null,{"$f":"IF(Template!$O$371<>\"\",Template!$O$371,\"\")","v":""}]
[null,{"$f":"Template!$H$372","v":0},{"$error":"#REF!"},"Calendar_Year_Mar",{"$f":"IF(LEFT(Template!$K$372,2)=\"CC\",Template!$K$372,\"\")","v":""},{"$f":"IF(LEFT(Template!$M$372,2)=\"RC\",Template!$M$372,\"\")","v":""},{"$f":"IF(LEFT(Template!$M$372,2)=\"SC\",Template!$M$372,\"\")","v":""},{"$f":"IF(LEFT(Template!$K$372,2)=\"AC\",Template!$K$372,\"\")","v":""},{"$f":"IF(OR(LEFT(Template!$K$372,2)=\"PJ\", LEFT(Template!$K$372,2)=\"PR\"),Template!$K$372,\"\")","v":""},{"$f":"IF(LEFT(Template!$K$372,2)=\"GF\",Template!$K$372,\"\")","v":""},{"$f":"IF(Template!$S$372<>\"\",Template!$S$372,\"\")","v":""},null,null,null,null,{"$f":"IF(Template!$L$372<>\"\",Template!$L$372,\"\")","v":""},"BYU_Child",null,null,"USD",null,3318.04,null,null,null,{"$f":"IF(Template!$O$372<>\"\",Template!$O$372,\"\")","v":""}]
[null,{"$f":"Template!$H$373","v":0},{"$error":"#REF!"},"Calendar_Year_Mar",{"$f":"IF(LEFT(Template!$K$373,2)=\"CC\",Template!$K$373,\"\")","v":""},{"$f":"IF(LEFT(Template!$M$373,2)=\"RC\",Template!$M$373,\"\")","v":""},{"$f":"IF(LEFT(Template!$M$373,2)=\"SC\",Template!$M$373,\"\")","v":""},{"$f":"IF(LEFT(Template!$K$373,2)=\"AC\",Template!$K$373,\"\")","v":""},{"$f":"IF(OR(LEFT(Template!$K$373,2)=\"PJ\", LEFT(Template!$K$373,2)=\"PR\"),Template!$K$373,\"\")","v":""},{"$f":"IF(LEFT(Template!$K$373,2)=\"GF\",Template!$K$373,\"\")","v":""},{"$f":"IF(Template!$S$373<>\"\",Template!$S$373,\"\")","v":""},null,null,null,null,{"$f":"IF(Template!$L$373<>\"\",Template!$L$373,\"\")","v":""},"BYU_Child",null,null,"USD",null,1034.46,null,null,null,{"$f":"IF(Template!$O$373<>\"\",Template!$O$373,\"\")","v":""}]
[null,{"$f":"Template!$H$374","v":0},{"$error":"#REF!"},"Calendar_Year_Mar",{"$f":"IF(LEFT(Template!$K$374,2)=\"CC\",Template!$K$374,\"\")","v":""},{"$f":"IF(LEFT(Template!$M$374,2)=\"RC\",Template!$M$374,\"\")","v":""},{"$f":"IF(LEFT(Template!$M$374,2)=\"SC\",Template!$M$374,\"\")","v":""},{"$f":"IF(LEFT(Template!$K$374,2)=\"AC\",Template!$K$374,\"\")","v":""},{"$f":"IF(OR(LEFT(Template!$K$374,2)=\"PJ\", LEFT(Template!$K$374,2)=\"PR\"),Template!$K$374,\"\")","v":""},{"$f":"IF(LEFT(Template!$K$374,2)=\"GF\",Template!$K$374,\"\")","v":""},{"$f":"IF(Template!$S$374<>\"\",Template!$S$374,\"\")","v":""},null,null,null,null,{"$f":"IF(Template!$L$374<>\"\",Template!$L$374,\"\")","v":""},"BYU_Child",null,null,"USD",null,5279.13,null,null,null,{"$f":"IF(Template!$O$374<>\"\",Template!$O$374,\"\")","v":""}]
[null,{"$f":"Template!$H$375","v":0},{"$error":"#REF!"},"Calendar_Year_Mar",{"$f":"IF(LEFT(Template!$K$375,2)=\"CC\",Template!$K$375,\"\")","v":""},{"$f":"IF(LEFT(Template!$M$375,2)=\"RC\",Template!$M$375,\"\")","v":""},{"$f":"IF(LEFT(Template!$M$375,2)=\"SC\",Template!$M$375,\"\")","v":""},{"$f":"IF(LEFT(Template!$K$375,2)=\"AC\",Template!$K$375,\"\")","v":""},{"$f":"IF(OR(LEFT(Template!$K$375,2)=\"PJ\", LEFT(Template!$K$375,2)=\"PR\"),Template!$K$375,\"\")","v":""},{"$f":"IF(LEFT(Template!$K$375,2)=\"GF\",Template!$K$375,\"\")","v":""},{"$f":"IF(Template!$S$375<>\"\",Template!$S$375,\"\")","v":""},null,null,null,null,{"$f":"IF(Template!$L$375<>\"\",Template!$L$375,\"\")","v":""},"BYU_Child",null,null,"USD",null,96780.46,null,null,null,{"$f":"IF(Template!$O$375<>\"\",Template!$O$375,\"\")","v":""}]
[null,{"$f":"Template!$H$376","v":0},{"$error":"#REF!"},"Calendar_Year_Mar",{"$f":"IF(LEFT(Template!$K$376,2)=\"CC\",Template!$K$376,\"\")","v":""},{"$f":"IF(LEFT(Template!$M$376,2)=\"RC\",Template!$M$376,\"\")","v":""},{"$f":"IF(LEFT(Template!$M$376,2)=\"SC\",Template!$M$376,\"\")","v":""},{"$f":"IF(LEFT(Template!$K$376,2)=\"AC\",Template!$K$376,\"\")","v":""},{"$f":"IF(OR(LEFT(Template!$K$376,2)=\"PJ\", LEFT(Template!$K$376,2)=\"PR\"),Template!$K$376,\"\")","v":""},{"$f":"IF(LEFT(Template!$K$376,2)=\"GF\",Template!$K$376,\"\")","v":""},{"$f":"IF(Template!$S$376<>\"\",Template!$S$376,\"\")","v":""},null,null,null,null,{"$f":"IF(Template!$L$376<>\"\",Template!$L$376,\"\")","v":""},"BYU_Child",null,null,"USD",null,null,656.38,null,null,{"$f":"IF(Template!$O$376<>\"\",Template!$O$376,\"\")","v":""}]
[null,{"$f":"Template!$H$377","v":0},{"$f":"IF(B263=B262,C262+1,1)","v":{"$error":"#REF!"}},"Calendar_Year_Mar",{"$f":"IF(LEFT(Template!$K$377,2)=\"CC\",Template!$K$377,\"\")","v":""},{"$f":"IF(LEFT(Template!$M$377,2)=\"RC\",Template!$M$377,\"\")","v":""},{"$f":"IF(LEFT(Template!$M$377,2)=\"SC\",Template!$M$377,\"\")","v":""},{"$f":"IF(LEFT(Template!$K$377,2)=\"AC\",Template!$K$377,\"\")","v":""},{"$f":"IF(OR(LEFT(Template!$K$377,2)=\"PJ\", LEFT(Template!$K$377,2)=\"PR\"),Template!$K$377,\"\")","v":""},{"$f":"IF(LEFT(Template!$K$377,2)=\"GF\",Template!$K$377,\"\")","v":""},{"$f":"IF(Template!$S$377<>\"\",Template!$S$377,\"\")","v":""},null,null,null,null,{"$f":"IF(Template!$L$377<>\"\",Template!$L$377,\"\")","v":""},"BYU_Child",null,null,"USD",null,14.06,null,null,null,{"$f":"IF(Template!$O$377<>\"\",Template!$O$377,\"\")","v":""}]
[null,{"$f":"Template!$H$378","v":0},{"$error":"#REF!"},"Calendar_Year_Mar",{"$f":"IF(LEFT(Template!$K$378,2)=\"CC\",Template!$K$378,\"\")","v":""},{"$f":"IF(LEFT(Template!$M$378,2)=\"RC\",Template!$M$378,\"\")","v":""},{"$f":"IF(LEFT(Template!$M$378,2)=\"SC\",Template!$M$378,\"\")","v":""},{"$f":"IF(LEFT(Template!$K$378,2)=\"AC\",Template!$K$378,\"\")","v":""},{"$f":"IF(OR(LEFT(Template!$K$378,2)=\"PJ\", LEFT(Template!$K$378,2)=\"PR\"),Template!$K$378,\"\")","v":""},{"$f":"IF(LEFT(Template!$K$378,2)=\"GF\",Template!$K$378,\"\")","v":""},{"$f":"IF(Template!$S$378<>\"\",Template!$S$378,\"\")","v":""},null,null,null,null,{"$f":"IF(Template!$L$378<>\"\",Template!$L$378,\"\")","v":""},"BYU_Child",null,null,"USD",null,1272.17,null,null,null,{"$f":"IF(Template!$O$378<>\"\",Template!$O$378,\"\")","v":""}]
[null,{"$f":"Template!$H$379","v":0},{"$error":"#REF!"},"Calendar_Year_Mar",{"$f":"IF(LEFT(Template!$K$379,2)=\"CC\",Template!$K$379,\"\")","v":""},{"$f":"IF(LEFT(Template!$M$379,2)=\"RC\",Template!$M$379,\"\")","v":""},{"$f":"IF(LEFT(Template!$M$379,2)=\"SC\",Template!$M$379,\"\")","v":""},{"$f":"IF(LEFT(Template!$K$379,2)=\"AC\",Template!$K$379,\"\")","v":""},{"$f":"IF(OR(LEFT(Template!$K$379,2)=\"PJ\", LEFT(Template!$K$379,2)=\"PR\"),Template!$K$379,\"\")","v":""},{"$f":"IF(LEFT(Template!$K$379,2)=\"GF\",Template!$K$379,\"\")","v":""},{"$f":"IF(Template!$S$379<>\"\",Template!$S$379,\"\")","v":""},null,null,null,null,{"$f":"IF(Template!$L$379<>\"\",Template!$L$379,\"\")","v":""},"BYU_Child",null,null,"USD",null,7891.02,null,null,null,{"$f":"IF(Template!$O$379<>\"\",Template!$O$379,\"\")","v":""}]
[null,{"$f":"Template!$H$380","v":0},{"$error":"#REF!"},"Calendar_Year_Mar",{"$f":"IF(LEFT(Template!$K$380,2)=\"CC\",Template!$K$380,\"\")","v":""},{"$f":"IF(LEFT(Template!$M$380,2)=\"RC\",Template!$M$380,\"\")","v":""},{"$f":"IF(LEFT(Template!$M$380,2)=\"SC\",Template!$M$380,\"\")","v":""},{"$f":"IF(LEFT(Template!$K$380,2)=\"AC\",Template!$K$380,\"\")","v":""},{"$f":"IF(OR(LEFT(Template!$K$380,2)=\"PJ\", LEFT(Template!$K$380,2)=\"PR\"),Template!$K$380,\"\")","v":""},{"$f":"IF(LEFT(Template!$K$380,2)=\"GF\",Template!$K$380,\"\")","v":""},{"$f":"IF(Template!$S$380<>\"\",Template!$S$380,\"\")","v":""},null,null,null,null,{"$f":"IF(Template!$L$380<>\"\",Template!$L$380,\"\")","v":""},"BYU_Child",null,null,"USD",null,72790.33,null,null,null,{"$f":"IF(Template!$O$380<>\"\",Template!$O$380,\"\")","v":""}]
[null,{"$f":"Template!$H$381","v":0},{"$error":"#REF!"},"Calendar_Year_Mar",{"$f":"IF(LEFT(Template!$K$381,2)=\"CC\",Template!$K$381,\"\")","v":""},{"$f":"IF(LEFT(Template!$M$381,2)=\"RC\",Template!$M$381,\"\")","v":""},{"$f":"IF(LEFT(Template!$M$381,2)=\"SC\",Template!$M$381,\"\")","v":""},{"$f":"IF(LEFT(Template!$K$381,2)=\"AC\",Template!$K$381,\"\")","v":""},{"$f":"IF(OR(LEFT(Template!$K$381,2)=\"PJ\", LEFT(Template!$K$381,2)=\"PR\"),Template!$K$381,\"\")","v":""},{"$f":"IF(LEFT(Template!$K$381,2)=\"GF\",Template!$K$381,\"\")","v":""},{"$f":"IF(Template!$S$381<>\"\",Template!$S$381,\"\")","v":""},null,null,null,null,{"$f":"IF(Template!$L$381<>\"\",Template!$L$381,\"\")","v":""},"BYU_Child",null,null,"USD",null,530.15,null,null,null,{"$f":"IF(Template!$O$381<>\"\",Template!$O$381,\"\")","v":""}]
[null,{"$f":"Template!$H$382","v":0},{"$error":"#REF!"},"Calendar_Year_Mar",{"$f":"IF(LEFT(Template!$K$382,2)=\"CC\",Template!$K$382,\"\")","v":""},{"$f":"IF(LEFT(Template!$M$382,2)=\"RC\",Template!$M$382,\"\")","v":""},{"$f":"IF(LEFT(Template!$M$382,2)=\"SC\",Template!$M$382,\"\")","v":""},{"$f":"IF(LEFT(Template!$K$382,2)=\"AC\",Template!$K$382,\"\")","v":""},{"$f":"IF(OR(LEFT(Template!$K$382,2)=\"PJ\", LEFT(Template!$K$382,2)=\"PR\"),Template!$K$382,\"\")","v":""},{"$f":"IF(LEFT(Template!$K$382,2)=\"GF\",Template!$K$382,\"\")","v":""},{"$f":"IF(Template!$S$382<>\"\",Template!$S$382,\"\")","v":""},null,null,null,null,{"$f":"IF(Template!$L$382<>\"\",Template!$L$382,\"\")","v":""},"BYU_Child",null,null,"USD",null,40.799999999999997,null,null,null,{"$f":"IF(Template!$O$382<>\"\",Template!$O$382,\"\")","v":""}]
[null,{"$f":"Template!$H$383","v":0},{"$error":"#REF!"},"Calendar_Year_Mar",{"$f":"IF(LEFT(Template!$K$383,2)=\"CC\",Template!$K$383,\"\")","v":""},{"$f":"IF(LEFT(Template!$M$383,2)=\"RC\",Template!$M$383,\"\")","v":""},{"$f":"IF(LEFT(Template!$M$383,2)=\"SC\",Template!$M$383,\"\")","v":""},{"$f":"IF(LEFT(Template!$K$383,2)=\"AC\",Template!$K$383,\"\")","v":""},{"$f":"IF(OR(LEFT(Template!$K$383,2)=\"PJ\", LEFT(Template!$K$383,2)=\"PR\"),Template!$K$383,\"\")","v":""},{"$f":"IF(LEFT(Template!$K$383,2)=\"GF\",Template!$K$383,\"\")","v":""},{"$f":"IF(Template!$S$383<>\"\",Template!$S$383,\"\")","v":""},null,null,null,null,{"$f":"IF(Template!$L$383<>\"\",Template!$L$383,\"\")","v":""},"BYU_Child",null,null,"USD",null,1604.53,null,null,null,{"$f":"IF(Template!$O$383<>\"\",Template!$O$383,\"\")","v":""}]
[null,{"$f":"Template!$H$384","v":0},{"$error":"#REF!"},"Calendar_Year_Mar",{"$f":"IF(LEFT(Template!$K$384,2)=\"CC\",Template!$K$384,\"\")","v":""},{"$f":"IF(LEFT(Template!$M$384,2)=\"RC\",Template!$M$384,\"\")","v":""},{"$f":"IF(LEFT(Template!$M$384,2)=\"SC\",Template!$M$384,\"\")","v":""},{"$f":"IF(LEFT(Template!$K$384,2)=\"AC\",Template!$K$384,\"\")","v":""},{"$f":"IF(OR(LEFT(Template!$K$384,2)=\"PJ\", LEFT(Template!$K$384,2)=\"PR\"),Template!$K$384,\"\")","v":""},{"$f":"IF(LEFT(Template!$K$384,2)=\"GF\",Template!$K$384,\"\")","v":""},{"$f":"IF(Template!$S$384<>\"\",Template!$S$384,\"\")","v":""},null,null,null,null,{"$f":"IF(Template!$L$384<>\"\",Template!$L$384,\"\")","v":""},"BYU_Child",null,null,"USD",null,7288.97,null,null,null,{"$f":"IF(Template!$O$384<>\"\",Template!$O$384,\"\")","v":""}]
[null,{"$f":"Template!$H$385","v":0},{"$error":"#REF!"},"Calendar_Year_Mar",{"$f":"IF(LEFT(Template!$K$385,2)=\"CC\",Template!$K$385,\"\")","v":""},{"$f":"IF(LEFT(Template!$M$385,2)=\"RC\",Template!$M$385,\"\")","v":""},{"$f":"IF(LEFT(Template!$M$385,2)=\"SC\",Template!$M$385,\"\")","v":""},{"$f":"IF(LEFT(Template!$K$385,2)=\"AC\",Template!$K$385,\"\")","v":""},{"$f":"IF(OR(LEFT(Template!$K$385,2)=\"PJ\", LEFT(Template!$K$385,2)=\"PR\"),Template!$K$385,\"\")","v":""},{"$f":"IF(LEFT(Template!$K$385,2)=\"GF\",Template!$K$385,\"\")","v":""},{"$f":"IF(Template!$S$385<>\"\",Template!$S$385,\"\")","v":""},null,null,null,null,{"$f":"IF(Template!$L$385<>\"\",Template!$L$385,\"\")","v":""},"BYU_Child",null,null,"USD",null,53848,null,null,null,{"$f":"IF(Template!$O$385<>\"\",Template!$O$385,\"\")","v":""}]
[null,{"$f":"Template!$H$386","v":0},{"$error":"#REF!"},"Calendar_Year_Mar",{"$f":"IF(LEFT(Template!$K$386,2)=\"CC\",Template!$K$386,\"\")","v":""},{"$f":"IF(LEFT(Template!$M$386,2)=\"RC\",Template!$M$386,\"\")","v":""},{"$f":"IF(LEFT(Template!$M$386,2)=\"SC\",Template!$M$386,\"\")","v":""},{"$f":"IF(LEFT(Template!$K$386,2)=\"AC\",Template!$K$386,\"\")","v":""},{"$f":"IF(OR(LEFT(Template!$K$386,2)=\"PJ\", LEFT(Template!$K$386,2)=\"PR\"),Template!$K$386,\"\")","v":""},{"$f":"IF(LEFT(Template!$K$386,2)=\"GF\",Template!$K$386,\"\")","v":""},{"$f":"IF(Template!$S$386<>\"\",Template!$S$386,\"\")","v":""},null,null,null,null,{"$f":"IF(Template!$L$386<>\"\",Template!$L$386,\"\")","v":""},"BYU_Child",null,null,"USD",null,2188.77,null,null,null,{"$f":"IF(Template!$O$386<>\"\",Template!$O$386,\"\")","v":""}]
[null,{"$f":"Template!$H$387","v":0},{"$error":"#REF!"},"Calendar_Year_Mar",{"$f":"IF(LEFT(Template!$K$387,2)=\"CC\",Template!$K$387,\"\")","v":""},{"$f":"IF(LEFT(Template!$M$387,2)=\"RC\",Template!$M$387,\"\")","v":""},{"$f":"IF(LEFT(Template!$M$387,2)=\"SC\",Template!$M$387,\"\")","v":""},{"$f":"IF(LEFT(Template!$K$387,2)=\"AC\",Template!$K$387,\"\")","v":""},{"$f":"IF(OR(LEFT(Template!$K$387,2)=\"PJ\", LEFT(Template!$K$387,2)=\"PR\"),Template!$K$387,\"\")","v":""},{"$f":"IF(LEFT(Template!$K$387,2)=\"GF\",Template!$K$387,\"\")","v":""},{"$f":"IF(Template!$S$387<>\"\",Template!$S$387,\"\")","v":""},null,null,null,null,{"$f":"IF(Template!$L$387<>\"\",Template!$L$387,\"\")","v":""},"BYU_Child",null,null,"USD",null,2561.8000000000002,null,null,null,{"$f":"IF(Template!$O$387<>\"\",Template!$O$387,\"\")","v":""}]
[null,{"$f":"Template!$H$388","v":0},{"$error":"#REF!"},"Calendar_Year_Mar",{"$f":"IF(LEFT(Template!$K$388,2)=\"CC\",Template!$K$388,\"\")","v":""},{"$f":"IF(LEFT(Template!$M$388,2)=\"RC\",Template!$M$388,\"\")","v":""},{"$f":"IF(LEFT(Template!$M$388,2)=\"SC\",Template!$M$388,\"\")","v":""},{"$f":"IF(LEFT(Template!$K$388,2)=\"AC\",Template!$K$388,\"\")","v":""},{"$f":"IF(OR(LEFT(Template!$K$388,2)=\"PJ\", LEFT(Template!$K$388,2)=\"PR\"),Template!$K$388,\"\")","v":""},{"$f":"IF(LEFT(Template!$K$388,2)=\"GF\",Template!$K$388,\"\")","v":""},{"$f":"IF(Template!$S$388<>\"\",Template!$S$388,\"\")","v":""},null,null,null,null,{"$f":"IF(Template!$L$388<>\"\",Template!$L$388,\"\")","v":""},"BYU_Child",null,null,"USD",null,10.96,null,null,null,{"$f":"IF(Template!$O$388<>\"\",Template!$O$388,\"\")","v":""}]
[null,{"$f":"Template!$H$389","v":0},{"$error":"#REF!"},"Calendar_Year_Mar",{"$f":"IF(LEFT(Template!$K$389,2)=\"CC\",Template!$K$389,\"\")","v":""},{"$f":"IF(LEFT(Template!$M$389,2)=\"RC\",Template!$M$389,\"\")","v":""},{"$f":"IF(LEFT(Template!$M$389,2)=\"SC\",Template!$M$389,\"\")","v":""},{"$f":"IF(LEFT(Template!$K$389,2)=\"AC\",Template!$K$389,\"\")","v":""},{"$f":"IF(OR(LEFT(Template!$K$389,2)=\"PJ\", LEFT(Template!$K$389,2)=\"PR\"),Template!$K$389,\"\")","v":""},{"$f":"IF(LEFT(Template!$K$389,2)=\"GF\",Template!$K$389,\"\")","v":""},{"$f":"IF(Template!$S$389<>\"\",Template!$S$389,\"\")","v":""},null,null,null,null,{"$f":"IF(Template!$L$389<>\"\",Template!$L$389,\"\")","v":""},"BYU_Child",null,null,"USD",null,null,18.510000000000002,null,null,{"$f":"IF(Template!$O$389<>\"\",Template!$O$389,\"\")","v":""}]
[null,{"$f":"Template!$H$390","v":0},{"$error":"#REF!"},"Calendar_Year_Mar",{"$f":"IF(LEFT(Template!$K$390,2)=\"CC\",Template!$K$390,\"\")","v":""},{"$f":"IF(LEFT(Template!$M$390,2)=\"RC\",Template!$M$390,\"\")","v":""},{"$f":"IF(LEFT(Template!$M$390,2)=\"SC\",Template!$M$390,\"\")","v":""},{"$f":"IF(LEFT(Template!$K$390,2)=\"AC\",Template!$K$390,\"\")","v":""},{"$f":"IF(OR(LEFT(Template!$K$390,2)=\"PJ\", LEFT(Template!$K$390,2)=\"PR\"),Template!$K$390,\"\")","v":""},{"$f":"IF(LEFT(Template!$K$390,2)=\"GF\",Template!$K$390,\"\")","v":""},{"$f":"IF(Template!$S$390<>\"\",Template!$S$390,\"\")","v":""},null,null,null,null,{"$f":"IF(Template!$L$390<>\"\",Template!$L$390,\"\")","v":""},"BYU_Child",null,null,"USD",null,2315.58,null,null,null,{"$f":"IF(Template!$O$390<>\"\",Template!$O$390,\"\")","v":""}]
[null,{"$f":"Template!$H$391","v":0},{"$error":"#REF!"},"Calendar_Year_Mar",{"$f":"IF(LEFT(Template!$K$391,2)=\"CC\",Template!$K$391,\"\")","v":""},{"$f":"IF(LEFT(Template!$M$391,2)=\"RC\",Template!$M$391,\"\")","v":""},{"$f":"IF(LEFT(Template!$M$391,2)=\"SC\",Template!$M$391,\"\")","v":""},{"$f":"IF(LEFT(Template!$K$391,2)=\"AC\",Template!$K$391,\"\")","v":""},{"$f":"IF(OR(LEFT(Template!$K$391,2)=\"PJ\", LEFT(Template!$K$391,2)=\"PR\"),Template!$K$391,\"\")","v":""},{"$f":"IF(LEFT(Template!$K$391,2)=\"GF\",Template!$K$391,\"\")","v":""},{"$f":"IF(Template!$S$391<>\"\",Template!$S$391,\"\")","v":""},null,null,null,null,{"$f":"IF(Template!$L$391<>\"\",Template!$L$391,\"\")","v":""},"BYU_Child",null,null,"USD",null,83393.34,null,null,null,{"$f":"IF(Template!$O$391<>\"\",Template!$O$391,\"\")","v":""}]
[null,{"$f":"Template!$H$392","v":0},{"$error":"#REF!"},"Calendar_Year_Mar",{"$f":"IF(LEFT(Template!$K$392,2)=\"CC\",Template!$K$392,\"\")","v":""},{"$f":"IF(LEFT(Template!$M$392,2)=\"RC\",Template!$M$392,\"\")","v":""},{"$f":"IF(LEFT(Template!$M$392,2)=\"SC\",Template!$M$392,\"\")","v":""},{"$f":"IF(LEFT(Template!$K$392,2)=\"AC\",Template!$K$392,\"\")","v":""},{"$f":"IF(OR(LEFT(Template!$K$392,2)=\"PJ\", LEFT(Template!$K$392,2)=\"PR\"),Template!$K$392,\"\")","v":""},{"$f":"IF(LEFT(Template!$K$392,2)=\"GF\",Template!$K$392,\"\")","v":""},{"$f":"IF(Template!$S$392<>\"\",Template!$S$392,\"\")","v":""},null,null,null,null,{"$f":"IF(Template!$L$392<>\"\",Template!$L$392,\"\")","v":""},"BYU_Child",null,null,"USD",null,null,615.64,null,null,{"$f":"IF(Template!$O$392<>\"\",Template!$O$392,\"\")","v":""}]
[null,{"$f":"Template!$H$393","v":0},{"$error":"#REF!"},"Calendar_Year_Mar",{"$f":"IF(LEFT(Template!$K$393,2)=\"CC\",Template!$K$393,\"\")","v":""},{"$f":"IF(LEFT(Template!$M$393,2)=\"RC\",Template!$M$393,\"\")","v":""},{"$f":"IF(LEFT(Template!$M$393,2)=\"SC\",Template!$M$393,\"\")","v":""},{"$f":"IF(LEFT(Template!$K$393,2)=\"AC\",Template!$K$393,\"\")","v":""},{"$f":"IF(OR(LEFT(Template!$K$393,2)=\"PJ\", LEFT(Template!$K$393,2)=\"PR\"),Template!$K$393,\"\")","v":""},{"$f":"IF(LEFT(Template!$K$393,2)=\"GF\",Template!$K$393,\"\")","v":""},{"$f":"IF(Template!$S$393<>\"\",Template!$S$393,\"\")","v":""},null,null,null,null,{"$f":"IF(Template!$L$393<>\"\",Template!$L$393,\"\")","v":""},"BYU_Child",null,null,"USD",null,3050.13,null,null,null,{"$f":"IF(Template!$O$393<>\"\",Template!$O$393,\"\")","v":""}]
[null,{"$f":"Template!$H$394","v":0},{"$error":"#REF!"},"Calendar_Year_Mar",{"$f":"IF(LEFT(Template!$K$394,2)=\"CC\",Template!$K$394,\"\")","v":""},{"$f":"IF(LEFT(Template!$M$394,2)=\"RC\",Template!$M$394,\"\")","v":""},{"$f":"IF(LEFT(Template!$M$394,2)=\"SC\",Template!$M$394,\"\")","v":""},{"$f":"IF(LEFT(Template!$K$394,2)=\"AC\",Template!$K$394,\"\")","v":""},{"$f":"IF(OR(LEFT(Template!$K$394,2)=\"PJ\", LEFT(Template!$K$394,2)=\"PR\"),Template!$K$394,\"\")","v":""},{"$f":"IF(LEFT(Template!$K$394,2)=\"GF\",Template!$K$394,\"\")","v":""},{"$f":"IF(Template!$S$394<>\"\",Template!$S$394,\"\")","v":""},null,null,null,null,{"$f":"IF(Template!$L$394<>\"\",Template!$L$394,\"\")","v":""},"BYU_Child",null,null,"USD",null,182.47,null,null,null,{"$f":"IF(Template!$O$394<>\"\",Template!$O$394,\"\")","v":""}]
[null,{"$f":"Template!$H$395","v":0},{"$error":"#REF!"},"Calendar_Year_Mar",{"$f":"IF(LEFT(Template!$K$395,2)=\"CC\",Template!$K$395,\"\")","v":""},{"$f":"IF(LEFT(Template!$M$395,2)=\"RC\",Template!$M$395,\"\")","v":""},{"$f":"IF(LEFT(Template!$M$395,2)=\"SC\",Template!$M$395,\"\")","v":""},{"$f":"IF(LEFT(Template!$K$395,2)=\"AC\",Template!$K$395,\"\")","v":""},{"$f":"IF(OR(LEFT(Template!$K$395,2)=\"PJ\", LEFT(Template!$K$395,2)=\"PR\"),Template!$K$395,\"\")","v":""},{"$f":"IF(LEFT(Template!$K$395,2)=\"GF\",Template!$K$395,\"\")","v":""},{"$f":"IF(Template!$S$395<>\"\",Template!$S$395,\"\")","v":""},null,null,null,null,{"$f":"IF(Template!$L$395<>\"\",Template!$L$395,\"\")","v":""},"BYU_Child",null,null,"USD",null,565.75,null,null,null,{"$f":"IF(Template!$O$395<>\"\",Template!$O$395,\"\")","v":""}]
[null,{"$f":"Template!$H$396","v":0},{"$error":"#REF!"},"Calendar_Year_Mar",{"$f":"IF(LEFT(Template!$K$396,2)=\"CC\",Template!$K$396,\"\")","v":""},{"$f":"IF(LEFT(Template!$M$396,2)=\"RC\",Template!$M$396,\"\")","v":""},{"$f":"IF(LEFT(Template!$M$396,2)=\"SC\",Template!$M$396,\"\")","v":""},{"$f":"IF(LEFT(Template!$K$396,2)=\"AC\",Template!$K$396,\"\")","v":""},{"$f":"IF(OR(LEFT(Template!$K$396,2)=\"PJ\", LEFT(Template!$K$396,2)=\"PR\"),Template!$K$396,\"\")","v":""},{"$f":"IF(LEFT(Template!$K$396,2)=\"GF\",Template!$K$396,\"\")","v":""},{"$f":"IF(Template!$S$396<>\"\",Template!$S$396,\"\")","v":""},null,null,null,null,{"$f":"IF(Template!$L$396<>\"\",Template!$L$396,\"\")","v":""},"BYU_Child",null,null,"USD",null,2962.38,null,null,null,{"$f":"IF(Template!$O$396<>\"\",Template!$O$396,\"\")","v":""}]
[null,{"$f":"Template!$H$397","v":0},{"$error":"#REF!"},"Calendar_Year_Mar",{"$f":"IF(LEFT(Template!$K$397,2)=\"CC\",Template!$K$397,\"\")","v":""},{"$f":"IF(LEFT(Template!$M$397,2)=\"RC\",Template!$M$397,\"\")","v":""},{"$f":"IF(LEFT(Template!$M$397,2)=\"SC\",Template!$M$397,\"\")","v":""},{"$f":"IF(LEFT(Template!$K$397,2)=\"AC\",Template!$K$397,\"\")","v":""},{"$f":"IF(OR(LEFT(Template!$K$397,2)=\"PJ\", LEFT(Template!$K$397,2)=\"PR\"),Template!$K$397,\"\")","v":""},{"$f":"IF(LEFT(Template!$K$397,2)=\"GF\",Template!$K$397,\"\")","v":""},{"$f":"IF(Template!$S$397<>\"\",Template!$S$397,\"\")","v":""},null,null,null,null,{"$f":"IF(Template!$L$397<>\"\",Template!$L$397,\"\")","v":""},"BYU_Child",null,null,"USD",null,95771.91,null,null,null,{"$f":"IF(Template!$O$397<>\"\",Template!$O$397,\"\")","v":""}]
[null,{"$f":"Template!$H$398","v":0},{"$error":"#REF!"},"Calendar_Year_Mar",{"$f":"IF(LEFT(Template!$K$398,2)=\"CC\",Template!$K$398,\"\")","v":""},{"$f":"IF(LEFT(Template!$M$398,2)=\"RC\",Template!$M$398,\"\")","v":""},{"$f":"IF(LEFT(Template!$M$398,2)=\"SC\",Template!$M$398,\"\")","v":""},{"$f":"IF(LEFT(Template!$K$398,2)=\"AC\",Template!$K$398,\"\")","v":""},{"$f":"IF(OR(LEFT(Template!$K$398,2)=\"PJ\", LEFT(Template!$K$398,2)=\"PR\"),Template!$K$398,\"\")","v":""},{"$f":"IF(LEFT(Template!$K$398,2)=\"GF\",Template!$K$398,\"\")","v":""},{"$f":"IF(Template!$S$398<>\"\",Template!$S$398,\"\")","v":""},null,null,null,null,{"$f":"IF(Template!$L$398<>\"\",Template!$L$398,\"\")","v":""},"BYU_Child",null,null,"USD",null,544.01,null,null,null,{"$f":"IF(Template!$O$398<>\"\",Template!$O$398,\"\")","v":""}]
[null,{"$f":"Template!$H$399","v":0},{"$error":"#REF!"},"Calendar_Year_Mar",{"$f":"IF(LEFT(Template!$K$399,2)=\"CC\",Template!$K$399,\"\")","v":""},{"$f":"IF(LEFT(Template!$M$399,2)=\"RC\",Template!$M$399,\"\")","v":""},{"$f":"IF(LEFT(Template!$M$399,2)=\"SC\",Template!$M$399,\"\")","v":""},{"$f":"IF(LEFT(Template!$K$399,2)=\"AC\",Template!$K$399,\"\")","v":""},{"$f":"IF(OR(LEFT(Template!$K$399,2)=\"PJ\", LEFT(Template!$K$399,2)=\"PR\"),Template!$K$399,\"\")","v":""},{"$f":"IF(LEFT(Template!$K$399,2)=\"GF\",Template!$K$399,\"\")","v":""},{"$f":"IF(Template!$S$399<>\"\",Template!$S$399,\"\")","v":""},null,null,null,null,{"$f":"IF(Template!$L$399<>\"\",Template!$L$399,\"\")","v":""},"BYU_Child",null,null,"USD",null,2768.32,null,null,null,{"$f":"IF(Template!$O$399<>\"\",Template!$O$399,\"\")","v":""}]
[null,{"$f":"Template!$H$400","v":0},{"$error":"#REF!"},"Calendar_Year_Mar",{"$f":"IF(LEFT(Template!$K$400,2)=\"CC\",Template!$K$400,\"\")","v":""},{"$f":"IF(LEFT(Template!$M$400,2)=\"RC\",Template!$M$400,\"\")","v":""},{"$f":"IF(LEFT(Template!$M$400,2)=\"SC\",Template!$M$400,\"\")","v":""},{"$f":"IF(LEFT(Template!$K$400,2)=\"AC\",Template!$K$400,\"\")","v":""},{"$f":"IF(OR(LEFT(Template!$K$400,2)=\"PJ\", LEFT(Template!$K$400,2)=\"PR\"),Template!$K$400,\"\")","v":""},{"$f":"IF(LEFT(Template!$K$400,2)=\"GF\",Template!$K$400,\"\")","v":""},{"$f":"IF(Template!$S$400<>\"\",Template!$S$400,\"\")","v":""},null,null,null,null,{"$f":"IF(Template!$L$400<>\"\",Template!$L$400,\"\")","v":""},"BYU_Child",null,null,"USD",null,6.01,null,null,null,{"$f":"IF(Template!$O$400<>\"\",Template!$O$400,\"\")","v":""}]
[null,{"$f":"Template!$H$401","v":0},{"$error":"#REF!"},"Calendar_Year_Mar",{"$f":"IF(LEFT(Template!$K$401,2)=\"CC\",Template!$K$401,\"\")","v":""},{"$f":"IF(LEFT(Template!$M$401,2)=\"RC\",Template!$M$401,\"\")","v":""},{"$f":"IF(LEFT(Template!$M$401,2)=\"SC\",Template!$M$401,\"\")","v":""},{"$f":"IF(LEFT(Template!$K$401,2)=\"AC\",Template!$K$401,\"\")","v":""},{"$f":"IF(OR(LEFT(Template!$K$401,2)=\"PJ\", LEFT(Template!$K$401,2)=\"PR\"),Template!$K$401,\"\")","v":""},{"$f":"IF(LEFT(Template!$K$401,2)=\"GF\",Template!$K$401,\"\")","v":""},{"$f":"IF(Template!$S$401<>\"\",Template!$S$401,\"\")","v":""},null,null,null,null,{"$f":"IF(Template!$L$401<>\"\",Template!$L$401,\"\")","v":""},"BYU_Child",null,null,"USD",null,1584.95,null,null,null,{"$f":"IF(Template!$O$401<>\"\",Template!$O$401,\"\")","v":""}]
[null,{"$f":"Template!$H$402","v":0},{"$error":"#REF!"},"Calendar_Year_Mar",{"$f":"IF(LEFT(Template!$K$402,2)=\"CC\",Template!$K$402,\"\")","v":""},{"$f":"IF(LEFT(Template!$M$402,2)=\"RC\",Template!$M$402,\"\")","v":""},{"$f":"IF(LEFT(Template!$M$402,2)=\"SC\",Template!$M$402,\"\")","v":""},{"$f":"IF(LEFT(Template!$K$402,2)=\"AC\",Template!$K$402,\"\")","v":""},{"$f":"IF(OR(LEFT(Template!$K$402,2)=\"PJ\", LEFT(Template!$K$402,2)=\"PR\"),Template!$K$402,\"\")","v":""},{"$f":"IF(LEFT(Template!$K$402,2)=\"GF\",Template!$K$402,\"\")","v":""},{"$f":"IF(Template!$S$402<>\"\",Template!$S$402,\"\")","v":""},null,null,null,null,{"$f":"IF(Template!$L$402<>\"\",Template!$L$402,\"\")","v":""},"BYU_Child",null,null,"USD",null,2323.73,null,null,null,{"$f":"IF(Template!$O$402<>\"\",Template!$O$402,\"\")","v":""}]
[null,{"$f":"Template!$H$403","v":0},{"$error":"#REF!"},"Calendar_Year_Mar",{"$f":"IF(LEFT(Template!$K$403,2)=\"CC\",Template!$K$403,\"\")","v":""},{"$f":"IF(LEFT(Template!$M$403,2)=\"RC\",Template!$M$403,\"\")","v":""},{"$f":"IF(LEFT(Template!$M$403,2)=\"SC\",Template!$M$403,\"\")","v":""},{"$f":"IF(LEFT(Template!$K$403,2)=\"AC\",Template!$K$403,\"\")","v":""},{"$f":"IF(OR(LEFT(Template!$K$403,2)=\"PJ\", LEFT(Template!$K$403,2)=\"PR\"),Template!$K$403,\"\")","v":""},{"$f":"IF(LEFT(Template!$K$403,2)=\"GF\",Template!$K$403,\"\")","v":""},{"$f":"IF(Template!$S$403<>\"\",Template!$S$403,\"\")","v":""},null,null,null,null,{"$f":"IF(Template!$L$403<>\"\",Template!$L$403,\"\")","v":""},"BYU_Child",null,null,"USD",null,83761.8,null,null,null,{"$f":"IF(Template!$O$403<>\"\",Template!$O$403,\"\")","v":""}]
[null,{"$f":"Template!$H$404","v":0},{"$error":"#REF!"},"Calendar_Year_Mar",{"$f":"IF(LEFT(Template!$K$404,2)=\"CC\",Template!$K$404,\"\")","v":""},{"$f":"IF(LEFT(Template!$M$404,2)=\"RC\",Template!$M$404,\"\")","v":""},{"$f":"IF(LEFT(Template!$M$404,2)=\"SC\",Template!$M$404,\"\")","v":""},{"$f":"IF(LEFT(Template!$K$404,2)=\"AC\",Template!$K$404,\"\")","v":""},{"$f":"IF(OR(LEFT(Template!$K$404,2)=\"PJ\", LEFT(Template!$K$404,2)=\"PR\"),Template!$K$404,\"\")","v":""},{"$f":"IF(LEFT(Template!$K$404,2)=\"GF\",Template!$K$404,\"\")","v":""},{"$f":"IF(Template!$S$404<>\"\",Template!$S$404,\"\")","v":""},null,null,null,null,{"$f":"IF(Template!$L$404<>\"\",Template!$L$404,\"\")","v":""},"BYU_Child",null,null,"USD",null,420.51,null,null,null,{"$f":"IF(Template!$O$404<>\"\",Template!$O$404,\"\")","v":""}]
[null,{"$f":"Template!$H$405","v":0},{"$error":"#REF!"},"Calendar_Year_Mar",{"$f":"IF(LEFT(Template!$K$405,2)=\"CC\",Template!$K$405,\"\")","v":""},{"$f":"IF(LEFT(Template!$M$405,2)=\"RC\",Template!$M$405,\"\")","v":""},{"$f":"IF(LEFT(Template!$M$405,2)=\"SC\",Template!$M$405,\"\")","v":""},{"$f":"IF(LEFT(Template!$K$405,2)=\"AC\",Template!$K$405,\"\")","v":""},{"$f":"IF(OR(LEFT(Template!$K$405,2)=\"PJ\", LEFT(Template!$K$405,2)=\"PR\"),Template!$K$405,\"\")","v":""},{"$f":"IF(LEFT(Template!$K$405,2)=\"GF\",Template!$K$405,\"\")","v":""},{"$f":"IF(Template!$S$405<>\"\",Template!$S$405,\"\")","v":""},null,null,null,null,{"$f":"IF(Template!$L$405<>\"\",Template!$L$405,\"\")","v":""},"BYU_Child",null,null,"USD",null,1414.12,null,null,null,{"$f":"IF(Template!$O$405<>\"\",Template!$O$405,\"\")","v":""}]
[null,{"$f":"Template!$H$406","v":0},{"$error":"#REF!"},"Calendar_Year_Mar",{"$f":"IF(LEFT(Template!$K$406,2)=\"CC\",Template!$K$406,\"\")","v":""},{"$f":"IF(LEFT(Template!$M$406,2)=\"RC\",Template!$M$406,\"\")","v":""},{"$f":"IF(LEFT(Template!$M$406,2)=\"SC\",Template!$M$406,\"\")","v":""},{"$f":"IF(LEFT(Template!$K$406,2)=\"AC\",Template!$K$406,\"\")","v":""},{"$f":"IF(OR(LEFT(Template!$K$406,2)=\"PJ\", LEFT(Template!$K$406,2)=\"PR\"),Template!$K$406,\"\")","v":""},{"$f":"IF(LEFT(Template!$K$406,2)=\"GF\",Template!$K$406,\"\")","v":""},{"$f":"IF(Template!$S$406<>\"\",Template!$S$406,\"\")","v":""},null,null,null,null,{"$f":"IF(Template!$L$406<>\"\",Template!$L$406,\"\")","v":""},"BYU_Child",null,null,"USD",null,48.16,null,null,null,{"$f":"IF(Template!$O$406<>\"\",Template!$O$406,\"\")","v":""}]
[null,{"$f":"Template!$H$407","v":0},{"$error":"#REF!"},"Calendar_Year_Mar",{"$f":"IF(LEFT(Template!$K$407,2)=\"CC\",Template!$K$407,\"\")","v":""},{"$f":"IF(LEFT(Template!$M$407,2)=\"RC\",Template!$M$407,\"\")","v":""},{"$f":"IF(LEFT(Template!$M$407,2)=\"SC\",Template!$M$407,\"\")","v":""},{"$f":"IF(LEFT(Template!$K$407,2)=\"AC\",Template!$K$407,\"\")","v":""},{"$f":"IF(OR(LEFT(Template!$K$407,2)=\"PJ\", LEFT(Template!$K$407,2)=\"PR\"),Template!$K$407,\"\")","v":""},{"$f":"IF(LEFT(Template!$K$407,2)=\"GF\",Template!$K$407,\"\")","v":""},{"$f":"IF(Template!$S$407<>\"\",Template!$S$407,\"\")","v":""},null,null,null,null,{"$f":"IF(Template!$L$407<>\"\",Template!$L$407,\"\")","v":""},"BYU_Child",null,null,"USD",null,3164.92,null,null,null,{"$f":"IF(Template!$O$407<>\"\",Template!$O$407,\"\")","v":""}]
[null,{"$f":"Template!$H$408","v":0},{"$error":"#REF!"},"Calendar_Year_Mar",{"$f":"IF(LEFT(Template!$K$408,2)=\"CC\",Template!$K$408,\"\")","v":""},{"$f":"IF(LEFT(Template!$M$408,2)=\"RC\",Template!$M$408,\"\")","v":""},{"$f":"IF(LEFT(Template!$M$408,2)=\"SC\",Template!$M$408,\"\")","v":""},{"$f":"IF(LEFT(Template!$K$408,2)=\"AC\",Template!$K$408,\"\")","v":""},{"$f":"IF(OR(LEFT(Template!$K$408,2)=\"PJ\", LEFT(Template!$K$408,2)=\"PR\"),Template!$K$408,\"\")","v":""},{"$f":"IF(LEFT(Template!$K$408,2)=\"GF\",Template!$K$408,\"\")","v":""},{"$f":"IF(Template!$S$408<>\"\",Template!$S$408,\"\")","v":""},null,null,null,null,{"$f":"IF(Template!$L$408<>\"\",Template!$L$408,\"\")","v":""},"BYU_Child",null,null,"USD",null,74694.89,null,null,null,{"$f":"IF(Template!$O$408<>\"\",Template!$O$408,\"\")","v":""}]
[null,{"$f":"Template!$H$409","v":0},{"$error":"#REF!"},"Calendar_Year_Mar",{"$f":"IF(LEFT(Template!$K$409,2)=\"CC\",Template!$K$409,\"\")","v":""},{"$f":"IF(LEFT(Template!$M$409,2)=\"RC\",Template!$M$409,\"\")","v":""},{"$f":"IF(LEFT(Template!$M$409,2)=\"SC\",Template!$M$409,\"\")","v":""},{"$f":"IF(LEFT(Template!$K$409,2)=\"AC\",Template!$K$409,\"\")","v":""},{"$f":"IF(OR(LEFT(Template!$K$409,2)=\"PJ\", LEFT(Template!$K$409,2)=\"PR\"),Template!$K$409,\"\")","v":""},{"$f":"IF(LEFT(Template!$K$409,2)=\"GF\",Template!$K$409,\"\")","v":""},{"$f":"IF(Template!$S$409<>\"\",Template!$S$409,\"\")","v":""},null,null,null,null,{"$f":"IF(Template!$L$409<>\"\",Template!$L$409,\"\")","v":""},"BYU_Child",null,null,"USD",null,null,195.19,null,null,{"$f":"IF(Template!$O$409<>\"\",Template!$O$409,\"\")","v":""}]
[null,{"$f":"Template!$H$410","v":0},{"$error":"#REF!"},"Calendar_Year_Mar",{"$f":"IF(LEFT(Template!$K$410,2)=\"CC\",Template!$K$410,\"\")","v":""},{"$f":"IF(LEFT(Template!$M$410,2)=\"RC\",Template!$M$410,\"\")","v":""},{"$f":"IF(LEFT(Template!$M$410,2)=\"SC\",Template!$M$410,\"\")","v":""},{"$f":"IF(LEFT(Template!$K$410,2)=\"AC\",Template!$K$410,\"\")","v":""},{"$f":"IF(OR(LEFT(Template!$K$410,2)=\"PJ\", LEFT(Template!$K$410,2)=\"PR\"),Template!$K$410,\"\")","v":""},{"$f":"IF(LEFT(Template!$K$410,2)=\"GF\",Template!$K$410,\"\")","v":""},{"$f":"IF(Template!$S$410<>\"\",Template!$S$410,\"\")","v":""},null,null,null,null,{"$f":"IF(Template!$L$410<>\"\",Template!$L$410,\"\")","v":""},"BYU_Child",null,null,"USD",null,2730.66,null,null,null,{"$f":"IF(Template!$O$410<>\"\",Template!$O$410,\"\")","v":""}]
[null,{"$f":"Template!$H$411","v":0},{"$error":"#REF!"},"Calendar_Year_Mar",{"$f":"IF(LEFT(Template!$K$411,2)=\"CC\",Template!$K$411,\"\")","v":""},{"$f":"IF(LEFT(Template!$M$411,2)=\"RC\",Template!$M$411,\"\")","v":""},{"$f":"IF(LEFT(Template!$M$411,2)=\"SC\",Template!$M$411,\"\")","v":""},{"$f":"IF(LEFT(Template!$K$411,2)=\"AC\",Template!$K$411,\"\")","v":""},{"$f":"IF(OR(LEFT(Template!$K$411,2)=\"PJ\", LEFT(Template!$K$411,2)=\"PR\"),Template!$K$411,\"\")","v":""},{"$f":"IF(LEFT(Template!$K$411,2)=\"GF\",Template!$K$411,\"\")","v":""},{"$f":"IF(Template!$S$411<>\"\",Template!$S$411,\"\")","v":""},null,null,null,null,{"$f":"IF(Template!$L$411<>\"\",Template!$L$411,\"\")","v":""},"BYU_Child",null,null,"USD",null,10.7,null,null,null,{"$f":"IF(Template!$O$411<>\"\",Template!$O$411,\"\")","v":""}]
[null,{"$f":"Template!$H$412","v":0},{"$error":"#REF!"},"Calendar_Year_Mar",{"$f":"IF(LEFT(Template!$K$412,2)=\"CC\",Template!$K$412,\"\")","v":""},{"$f":"IF(LEFT(Template!$M$412,2)=\"RC\",Template!$M$412,\"\")","v":""},{"$f":"IF(LEFT(Template!$M$412,2)=\"SC\",Template!$M$412,\"\")","v":""},{"$f":"IF(LEFT(Template!$K$412,2)=\"AC\",Template!$K$412,\"\")","v":""},{"$f":"IF(OR(LEFT(Template!$K$412,2)=\"PJ\", LEFT(Template!$K$412,2)=\"PR\"),Template!$K$412,\"\")","v":""},{"$f":"IF(LEFT(Template!$K$412,2)=\"GF\",Template!$K$412,\"\")","v":""},{"$f":"IF(Template!$S$412<>\"\",Template!$S$412,\"\")","v":""},null,null,null,null,{"$f":"IF(Template!$L$412<>\"\",Template!$L$412,\"\")","v":""},"BYU_Child",null,null,"USD",null,901.66,null,null,null,{"$f":"IF(Template!$O$412<>\"\",Template!$O$412,\"\")","v":""}]
[null,{"$f":"Template!$H$413","v":0},{"$error":"#REF!"},"Calendar_Year_Mar",{"$f":"IF(LEFT(Template!$K$413,2)=\"CC\",Template!$K$413,\"\")","v":""},{"$f":"IF(LEFT(Template!$M$413,2)=\"RC\",Template!$M$413,\"\")","v":""},{"$f":"IF(LEFT(Template!$M$413,2)=\"SC\",Template!$M$413,\"\")","v":""},{"$f":"IF(LEFT(Template!$K$413,2)=\"AC\",Template!$K$413,\"\")","v":""},{"$f":"IF(OR(LEFT(Template!$K$413,2)=\"PJ\", LEFT(Template!$K$413,2)=\"PR\"),Template!$K$413,\"\")","v":""},{"$f":"IF(LEFT(Template!$K$413,2)=\"GF\",Template!$K$413,\"\")","v":""},{"$f":"IF(Template!$S$413<>\"\",Template!$S$413,\"\")","v":""},null,null,null,null,{"$f":"IF(Template!$L$413<>\"\",Template!$L$413,\"\")","v":""},"BYU_Child",null,null,"USD",null,26189.56,null,null,null,{"$f":"IF(Template!$O$413<>\"\",Template!$O$413,\"\")","v":""}]
[null,{"$f":"Template!$H$414","v":0},{"$error":"#REF!"},"Calendar_Year_Mar",{"$f":"IF(LEFT(Template!$K$414,2)=\"CC\",Template!$K$414,\"\")","v":""},{"$f":"IF(LEFT(Template!$M$414,2)=\"RC\",Template!$M$414,\"\")","v":""},{"$f":"IF(LEFT(Template!$M$414,2)=\"SC\",Template!$M$414,\"\")","v":""},{"$f":"IF(LEFT(Template!$K$414,2)=\"AC\",Template!$K$414,\"\")","v":""},{"$f":"IF(OR(LEFT(Template!$K$414,2)=\"PJ\", LEFT(Template!$K$414,2)=\"PR\"),Template!$K$414,\"\")","v":""},{"$f":"IF(LEFT(Template!$K$414,2)=\"GF\",Template!$K$414,\"\")","v":""},{"$f":"IF(Template!$S$414<>\"\",Template!$S$414,\"\")","v":""},null,null,null,null,{"$f":"IF(Template!$L$414<>\"\",Template!$L$414,\"\")","v":""},"BYU_Child",null,null,"USD",null,2671.72,null,null,null,{"$f":"IF(Template!$O$414<>\"\",Template!$O$414,\"\")","v":""}]
[null,{"$f":"Template!$H$415","v":0},{"$error":"#REF!"},"Calendar_Year_Mar",{"$f":"IF(LEFT(Template!$K$415,2)=\"CC\",Template!$K$415,\"\")","v":""},{"$f":"IF(LEFT(Template!$M$415,2)=\"RC\",Template!$M$415,\"\")","v":""},{"$f":"IF(LEFT(Template!$M$415,2)=\"SC\",Template!$M$415,\"\")","v":""},{"$f":"IF(LEFT(Template!$K$415,2)=\"AC\",Template!$K$415,\"\")","v":""},{"$f":"IF(OR(LEFT(Template!$K$415,2)=\"PJ\", LEFT(Template!$K$415,2)=\"PR\"),Template!$K$415,\"\")","v":""},{"$f":"IF(LEFT(Template!$K$415,2)=\"GF\",Template!$K$415,\"\")","v":""},{"$f":"IF(Template!$S$415<>\"\",Template!$S$415,\"\")","v":""},null,null,null,null,{"$f":"IF(Template!$L$415<>\"\",Template!$L$415,\"\")","v":""},"BYU_Child",null,null,"USD",null,1163.1199999999999,null,null,null,{"$f":"IF(Template!$O$415<>\"\",Template!$O$415,\"\")","v":""}]
[null,{"$f":"Template!$H$416","v":0},{"$error":"#REF!"},"Calendar_Year_Mar",{"$f":"IF(LEFT(Template!$K$416,2)=\"CC\",Template!$K$416,\"\")","v":""},{"$f":"IF(LEFT(Template!$M$416,2)=\"RC\",Template!$M$416,\"\")","v":""},{"$f":"IF(LEFT(Template!$M$416,2)=\"SC\",Template!$M$416,\"\")","v":""},{"$f":"IF(LEFT(Template!$K$416,2)=\"AC\",Template!$K$416,\"\")","v":""},{"$f":"IF(OR(LEFT(Template!$K$416,2)=\"PJ\", LEFT(Template!$K$416,2)=\"PR\"),Template!$K$416,\"\")","v":""},{"$f":"IF(LEFT(Template!$K$416,2)=\"GF\",Template!$K$416,\"\")","v":""},{"$f":"IF(Template!$S$416<>\"\",Template!$S$416,\"\")","v":""},null,null,null,null,{"$f":"IF(Template!$L$416<>\"\",Template!$L$416,\"\")","v":""},"BYU_Child",null,null,"USD",null,49260.57,null,null,null,{"$f":"IF(Template!$O$416<>\"\",Template!$O$416,\"\")","v":""}]
[null,{"$f":"Template!$H$417","v":0},{"$error":"#REF!"},"Calendar_Year_Mar",{"$f":"IF(LEFT(Template!$K$417,2)=\"CC\",Template!$K$417,\"\")","v":""},{"$f":"IF(LEFT(Template!$M$417,2)=\"RC\",Template!$M$417,\"\")","v":""},{"$f":"IF(LEFT(Template!$M$417,2)=\"SC\",Template!$M$417,\"\")","v":""},{"$f":"IF(LEFT(Template!$K$417,2)=\"AC\",Template!$K$417,\"\")","v":""},{"$f":"IF(OR(LEFT(Template!$K$417,2)=\"PJ\", LEFT(Template!$K$417,2)=\"PR\"),Template!$K$417,\"\")","v":""},{"$f":"IF(LEFT(Template!$K$417,2)=\"GF\",Template!$K$417,\"\")","v":""},{"$f":"IF(Template!$S$417<>\"\",Template!$S$417,\"\")","v":""},null,null,null,null,{"$f":"IF(Template!$L$417<>\"\",Template!$L$417,\"\")","v":""},"BYU_Child",null,null,"USD",null,144155.17000000001,null,null,null,{"$f":"IF(Template!$O$417<>\"\",Template!$O$417,\"\")","v":""}]
[null,{"$f":"Template!$H$418","v":0},{"$error":"#REF!"},"Calendar_Year_Mar",{"$f":"IF(LEFT(Template!$K$418,2)=\"CC\",Template!$K$418,\"\")","v":""},{"$f":"IF(LEFT(Template!$M$418,2)=\"RC\",Template!$M$418,\"\")","v":""},{"$f":"IF(LEFT(Template!$M$418,2)=\"SC\",Template!$M$418,\"\")","v":""},{"$f":"IF(LEFT(Template!$K$418,2)=\"AC\",Template!$K$418,\"\")","v":""},{"$f":"IF(OR(LEFT(Template!$K$418,2)=\"PJ\", LEFT(Template!$K$418,2)=\"PR\"),Template!$K$418,\"\")","v":""},{"$f":"IF(LEFT(Template!$K$418,2)=\"GF\",Template!$K$418,\"\")","v":""},{"$f":"IF(Template!$S$418<>\"\",Template!$S$418,\"\")","v":""},null,null,null,null,{"$f":"IF(Template!$L$418<>\"\",Template!$L$418,\"\")","v":""},"BYU_Child",null,null,"USD",null,13004.14,null,null,null,{"$f":"IF(Template!$O$418<>\"\",Template!$O$418,\"\")","v":""}]
[null,{"$f":"Template!$H$419","v":0},{"$error":"#REF!"},"Calendar_Year_Mar",{"$f":"IF(LEFT(Template!$K$419,2)=\"CC\",Template!$K$419,\"\")","v":""},{"$f":"IF(LEFT(Template!$M$419,2)=\"RC\",Template!$M$419,\"\")","v":""},{"$f":"IF(LEFT(Template!$M$419,2)=\"SC\",Template!$M$419,\"\")","v":""},{"$f":"IF(LEFT(Template!$K$419,2)=\"AC\",Template!$K$419,\"\")","v":""},{"$f":"IF(OR(LEFT(Template!$K$419,2)=\"PJ\", LEFT(Template!$K$419,2)=\"PR\"),Template!$K$419,\"\")","v":""},{"$f":"IF(LEFT(Template!$K$419,2)=\"GF\",Template!$K$419,\"\")","v":""},{"$f":"IF(Template!$S$419<>\"\",Template!$S$419,\"\")","v":""},null,null,null,null,{"$f":"IF(Template!$L$419<>\"\",Template!$L$419,\"\")","v":""},"BYU_Child",null,null,"USD",null,93.23,null,null,null,{"$f":"IF(Template!$O$419<>\"\",Template!$O$419,\"\")","v":""}]
[null,{"$f":"Template!$H$420","v":0},{"$error":"#REF!"},"Calendar_Year_Mar",{"$f":"IF(LEFT(Template!$K$420,2)=\"CC\",Template!$K$420,\"\")","v":""},{"$f":"IF(LEFT(Template!$M$420,2)=\"RC\",Template!$M$420,\"\")","v":""},{"$f":"IF(LEFT(Template!$M$420,2)=\"SC\",Template!$M$420,\"\")","v":""},{"$f":"IF(LEFT(Template!$K$420,2)=\"AC\",Template!$K$420,\"\")","v":""},{"$f":"IF(OR(LEFT(Template!$K$420,2)=\"PJ\", LEFT(Template!$K$420,2)=\"PR\"),Template!$K$420,\"\")","v":""},{"$f":"IF(LEFT(Template!$K$420,2)=\"GF\",Template!$K$420,\"\")","v":""},{"$f":"IF(Template!$S$420<>\"\",Template!$S$420,\"\")","v":""},null,null,null,null,{"$f":"IF(Template!$L$420<>\"\",Template!$L$420,\"\")","v":""},"BYU_Child",null,null,"USD",null,10399.49,null,null,null,{"$f":"IF(Template!$O$420<>\"\",Template!$O$420,\"\")","v":""}]
[null,{"$f":"Template!$H$421","v":0},{"$error":"#REF!"},"Calendar_Year_Mar",{"$f":"IF(LEFT(Template!$K$421,2)=\"CC\",Template!$K$421,\"\")","v":""},{"$f":"IF(LEFT(Template!$M$421,2)=\"RC\",Template!$M$421,\"\")","v":""},{"$f":"IF(LEFT(Template!$M$421,2)=\"SC\",Template!$M$421,\"\")","v":""},{"$f":"IF(LEFT(Template!$K$421,2)=\"AC\",Template!$K$421,\"\")","v":""},{"$f":"IF(OR(LEFT(Template!$K$421,2)=\"PJ\", LEFT(Template!$K$421,2)=\"PR\"),Template!$K$421,\"\")","v":""},{"$f":"IF(LEFT(Template!$K$421,2)=\"GF\",Template!$K$421,\"\")","v":""},{"$f":"IF(Template!$S$421<>\"\",Template!$S$421,\"\")","v":""},null,null,null,null,{"$f":"IF(Template!$L$421<>\"\",Template!$L$421,\"\")","v":""},"BYU_Child",null,null,"USD",null,5378.71,null,null,null,{"$f":"IF(Template!$O$421<>\"\",Template!$O$421,\"\")","v":""}]
[null,{"$f":"Template!$H$422","v":0},{"$error":"#REF!"},"Calendar_Year_Mar",{"$f":"IF(LEFT(Template!$K$422,2)=\"CC\",Template!$K$422,\"\")","v":""},{"$f":"IF(LEFT(Template!$M$422,2)=\"RC\",Template!$M$422,\"\")","v":""},{"$f":"IF(LEFT(Template!$M$422,2)=\"SC\",Template!$M$422,\"\")","v":""},{"$f":"IF(LEFT(Template!$K$422,2)=\"AC\",Template!$K$422,\"\")","v":""},{"$f":"IF(OR(LEFT(Template!$K$422,2)=\"PJ\", LEFT(Template!$K$422,2)=\"PR\"),Template!$K$422,\"\")","v":""},{"$f":"IF(LEFT(Template!$K$422,2)=\"GF\",Template!$K$422,\"\")","v":""},{"$f":"IF(Template!$S$422<>\"\",Template!$S$422,\"\")","v":""},null,null,null,null,{"$f":"IF(Template!$L$422<>\"\",Template!$L$422,\"\")","v":""},"BYU_Child",null,null,"USD",null,5052.6899999999996,null,null,null,{"$f":"IF(Template!$O$422<>\"\",Template!$O$422,\"\")","v":""}]
[null,{"$f":"Template!$H$423","v":0},{"$error":"#REF!"},"Calendar_Year_Mar",{"$f":"IF(LEFT(Template!$K$423,2)=\"CC\",Template!$K$423,\"\")","v":""},{"$f":"IF(LEFT(Template!$M$423,2)=\"RC\",Template!$M$423,\"\")","v":""},{"$f":"IF(LEFT(Template!$M$423,2)=\"SC\",Template!$M$423,\"\")","v":""},{"$f":"IF(LEFT(Template!$K$423,2)=\"AC\",Template!$K$423,\"\")","v":""},{"$f":"IF(OR(LEFT(Template!$K$423,2)=\"PJ\", LEFT(Template!$K$423,2)=\"PR\"),Template!$K$423,\"\")","v":""},{"$f":"IF(LEFT(Template!$K$423,2)=\"GF\",Template!$K$423,\"\")","v":""},{"$f":"IF(Template!$S$423<>\"\",Template!$S$423,\"\")","v":""},null,null,null,null,{"$f":"IF(Template!$L$423<>\"\",Template!$L$423,\"\")","v":""},"BYU_Child",null,null,"USD",null,2637.52,null,null,null,{"$f":"IF(Template!$O$423<>\"\",Template!$O$423,\"\")","v":""}]
[null,{"$f":"Template!$H$424","v":0},{"$error":"#REF!"},"Calendar_Year_Mar",{"$f":"IF(LEFT(Template!$K$424,2)=\"CC\",Template!$K$424,\"\")","v":""},{"$f":"IF(LEFT(Template!$M$424,2)=\"RC\",Template!$M$424,\"\")","v":""},{"$f":"IF(LEFT(Template!$M$424,2)=\"SC\",Template!$M$424,\"\")","v":""},{"$f":"IF(LEFT(Template!$K$424,2)=\"AC\",Template!$K$424,\"\")","v":""},{"$f":"IF(OR(LEFT(Template!$K$424,2)=\"PJ\", LEFT(Template!$K$424,2)=\"PR\"),Template!$K$424,\"\")","v":""},{"$f":"IF(LEFT(Template!$K$424,2)=\"GF\",Template!$K$424,\"\")","v":""},{"$f":"IF(Template!$S$424<>\"\",Template!$S$424,\"\")","v":""},null,null,null,null,{"$f":"IF(Template!$L$424<>\"\",Template!$L$424,\"\")","v":""},"BYU_Child",null,null,"USD",null,21085.34,null,null,null,{"$f":"IF(Template!$O$424<>\"\",Template!$O$424,\"\")","v":""}]
[null,{"$f":"Template!$H$425","v":0},{"$error":"#REF!"},"Calendar_Year_Mar",{"$f":"IF(LEFT(Template!$K$425,2)=\"CC\",Template!$K$425,\"\")","v":""},{"$f":"IF(LEFT(Template!$M$425,2)=\"RC\",Template!$M$425,\"\")","v":""},{"$f":"IF(LEFT(Template!$M$425,2)=\"SC\",Template!$M$425,\"\")","v":""},{"$f":"IF(LEFT(Template!$K$425,2)=\"AC\",Template!$K$425,\"\")","v":""},{"$f":"IF(OR(LEFT(Template!$K$425,2)=\"PJ\", LEFT(Template!$K$425,2)=\"PR\"),Template!$K$425,\"\")","v":""},{"$f":"IF(LEFT(Template!$K$425,2)=\"GF\",Template!$K$425,\"\")","v":""},{"$f":"IF(Template!$S$425<>\"\",Template!$S$425,\"\")","v":""},null,null,null,null,{"$f":"IF(Template!$L$425<>\"\",Template!$L$425,\"\")","v":""},"BYU_Child",null,null,"USD",null,59890.03,null,null,null,{"$f":"IF(Template!$O$425<>\"\",Template!$O$425,\"\")","v":""}]
[null,{"$f":"Template!$H$426","v":0},{"$error":"#REF!"},"Calendar_Year_Mar",{"$f":"IF(LEFT(Template!$K$426,2)=\"CC\",Template!$K$426,\"\")","v":""},{"$f":"IF(LEFT(Template!$M$426,2)=\"RC\",Template!$M$426,\"\")","v":""},{"$f":"IF(LEFT(Template!$M$426,2)=\"SC\",Template!$M$426,\"\")","v":""},{"$f":"IF(LEFT(Template!$K$426,2)=\"AC\",Template!$K$426,\"\")","v":""},{"$f":"IF(OR(LEFT(Template!$K$426,2)=\"PJ\", LEFT(Template!$K$426,2)=\"PR\"),Template!$K$426,\"\")","v":""},{"$f":"IF(LEFT(Template!$K$426,2)=\"GF\",Template!$K$426,\"\")","v":""},{"$f":"IF(Template!$S$426<>\"\",Template!$S$426,\"\")","v":""},null,null,null,null,{"$f":"IF(Template!$L$426<>\"\",Template!$L$426,\"\")","v":""},"BYU_Child",null,null,"USD",null,2093.3000000000002,null,null,null,{"$f":"IF(Template!$O$426<>\"\",Template!$O$426,\"\")","v":""}]
[null,{"$f":"Template!$H$427","v":0},{"$error":"#REF!"},"Calendar_Year_Mar",{"$f":"IF(LEFT(Template!$K$427,2)=\"CC\",Template!$K$427,\"\")","v":""},{"$f":"IF(LEFT(Template!$M$427,2)=\"RC\",Template!$M$427,\"\")","v":""},{"$f":"IF(LEFT(Template!$M$427,2)=\"SC\",Template!$M$427,\"\")","v":""},{"$f":"IF(LEFT(Template!$K$427,2)=\"AC\",Template!$K$427,\"\")","v":""},{"$f":"IF(OR(LEFT(Template!$K$427,2)=\"PJ\", LEFT(Template!$K$427,2)=\"PR\"),Template!$K$427,\"\")","v":""},{"$f":"IF(LEFT(Template!$K$427,2)=\"GF\",Template!$K$427,\"\")","v":""},{"$f":"IF(Template!$S$427<>\"\",Template!$S$427,\"\")","v":""},null,null,null,null,{"$f":"IF(Template!$L$427<>\"\",Template!$L$427,\"\")","v":""},"BYU_Child",null,null,"USD",null,1402.39,null,null,null,{"$f":"IF(Template!$O$427<>\"\",Template!$O$427,\"\")","v":""}]
[null,{"$f":"Template!$H$428","v":0},{"$error":"#REF!"},"Calendar_Year_Mar",{"$f":"IF(LEFT(Template!$K$428,2)=\"CC\",Template!$K$428,\"\")","v":""},{"$f":"IF(LEFT(Template!$M$428,2)=\"RC\",Template!$M$428,\"\")","v":""},{"$f":"IF(LEFT(Template!$M$428,2)=\"SC\",Template!$M$428,\"\")","v":""},{"$f":"IF(LEFT(Template!$K$428,2)=\"AC\",Template!$K$428,\"\")","v":""},{"$f":"IF(OR(LEFT(Template!$K$428,2)=\"PJ\", LEFT(Template!$K$428,2)=\"PR\"),Template!$K$428,\"\")","v":""},{"$f":"IF(LEFT(Template!$K$428,2)=\"GF\",Template!$K$428,\"\")","v":""},{"$f":"IF(Template!$S$428<>\"\",Template!$S$428,\"\")","v":""},null,null,null,null,{"$f":"IF(Template!$L$428<>\"\",Template!$L$428,\"\")","v":""},"BYU_Child",null,null,"USD",null,317.42,null,null,null,{"$f":"IF(Template!$O$428<>\"\",Template!$O$428,\"\")","v":""}]
[null,{"$f":"Template!$H$429","v":0},{"$error":"#REF!"},"Calendar_Year_Mar",{"$f":"IF(LEFT(Template!$K$429,2)=\"CC\",Template!$K$429,\"\")","v":""},{"$f":"IF(LEFT(Template!$M$429,2)=\"RC\",Template!$M$429,\"\")","v":""},{"$f":"IF(LEFT(Template!$M$429,2)=\"SC\",Template!$M$429,\"\")","v":""},{"$f":"IF(LEFT(Template!$K$429,2)=\"AC\",Template!$K$429,\"\")","v":""},{"$f":"IF(OR(LEFT(Template!$K$429,2)=\"PJ\", LEFT(Template!$K$429,2)=\"PR\"),Template!$K$429,\"\")","v":""},{"$f":"IF(LEFT(Template!$K$429,2)=\"GF\",Template!$K$429,\"\")","v":""},{"$f":"IF(Template!$S$429<>\"\",Template!$S$429,\"\")","v":""},null,null,null,null,{"$f":"IF(Template!$L$429<>\"\",Template!$L$429,\"\")","v":""},"BYU_Child",null,null,"USD",null,5174.1000000000004,null,null,null,{"$f":"IF(Template!$O$429<>\"\",Template!$O$429,\"\")","v":""}]
[null,{"$f":"Template!$H$430","v":0},{"$error":"#REF!"},"Calendar_Year_Mar",{"$f":"IF(LEFT(Template!$K$430,2)=\"CC\",Template!$K$430,\"\")","v":""},{"$f":"IF(LEFT(Template!$M$430,2)=\"RC\",Template!$M$430,\"\")","v":""},{"$f":"IF(LEFT(Template!$M$430,2)=\"SC\",Template!$M$430,\"\")","v":""},{"$f":"IF(LEFT(Template!$K$430,2)=\"AC\",Template!$K$430,\"\")","v":""},{"$f":"IF(OR(LEFT(Template!$K$430,2)=\"PJ\", LEFT(Template!$K$430,2)=\"PR\"),Template!$K$430,\"\")","v":""},{"$f":"IF(LEFT(Template!$K$430,2)=\"GF\",Template!$K$430,\"\")","v":""},{"$f":"IF(Template!$S$430<>\"\",Template!$S$430,\"\")","v":""},null,null,null,null,{"$f":"IF(Template!$L$430<>\"\",Template!$L$430,\"\")","v":""},"BYU_Child",null,null,"USD",null,14419.11,null,null,null,{"$f":"IF(Template!$O$430<>\"\",Template!$O$430,\"\")","v":""}]
[null,{"$f":"Template!$H$431","v":0},{"$error":"#REF!"},"Calendar_Year_Mar",{"$f":"IF(LEFT(Template!$K$431,2)=\"CC\",Template!$K$431,\"\")","v":""},{"$f":"IF(LEFT(Template!$M$431,2)=\"RC\",Template!$M$431,\"\")","v":""},{"$f":"IF(LEFT(Template!$M$431,2)=\"SC\",Template!$M$431,\"\")","v":""},{"$f":"IF(LEFT(Template!$K$431,2)=\"AC\",Template!$K$431,\"\")","v":""},{"$f":"IF(OR(LEFT(Template!$K$431,2)=\"PJ\", LEFT(Template!$K$431,2)=\"PR\"),Template!$K$431,\"\")","v":""},{"$f":"IF(LEFT(Template!$K$431,2)=\"GF\",Template!$K$431,\"\")","v":""},{"$f":"IF(Template!$S$431<>\"\",Template!$S$431,\"\")","v":""},null,null,null,null,{"$f":"IF(Template!$L$431<>\"\",Template!$L$431,\"\")","v":""},"BYU_Child",null,null,"USD",null,78413.34,null,null,null,{"$f":"IF(Template!$O$431<>\"\",Template!$O$431,\"\")","v":""}]
[null,{"$f":"Template!$H$432","v":0},{"$error":"#REF!"},"Calendar_Year_Mar",{"$f":"IF(LEFT(Template!$K$432,2)=\"CC\",Template!$K$432,\"\")","v":""},{"$f":"IF(LEFT(Template!$M$432,2)=\"RC\",Template!$M$432,\"\")","v":""},{"$f":"IF(LEFT(Template!$M$432,2)=\"SC\",Template!$M$432,\"\")","v":""},{"$f":"IF(LEFT(Template!$K$432,2)=\"AC\",Template!$K$432,\"\")","v":""},{"$f":"IF(OR(LEFT(Template!$K$432,2)=\"PJ\", LEFT(Template!$K$432,2)=\"PR\"),Template!$K$432,\"\")","v":""},{"$f":"IF(LEFT(Template!$K$432,2)=\"GF\",Template!$K$432,\"\")","v":""},{"$f":"IF(Template!$S$432<>\"\",Template!$S$432,\"\")","v":""},null,null,null,null,{"$f":"IF(Template!$L$432<>\"\",Template!$L$432,\"\")","v":""},"BYU_Child",null,null,"USD",null,186.73,null,null,null,{"$f":"IF(Template!$O$432<>\"\",Template!$O$432,\"\")","v":""}]
[null,{"$f":"Template!$H$433","v":0},{"$error":"#REF!"},"Calendar_Year_Mar",{"$f":"IF(LEFT(Template!$K$433,2)=\"CC\",Template!$K$433,\"\")","v":""},{"$f":"IF(LEFT(Template!$M$433,2)=\"RC\",Template!$M$433,\"\")","v":""},{"$f":"IF(LEFT(Template!$M$433,2)=\"SC\",Template!$M$433,\"\")","v":""},{"$f":"IF(LEFT(Template!$K$433,2)=\"AC\",Template!$K$433,\"\")","v":""},{"$f":"IF(OR(LEFT(Template!$K$433,2)=\"PJ\", LEFT(Template!$K$433,2)=\"PR\"),Template!$K$433,\"\")","v":""},{"$f":"IF(LEFT(Template!$K$433,2)=\"GF\",Template!$K$433,\"\")","v":""},{"$f":"IF(Template!$S$433<>\"\",Template!$S$433,\"\")","v":""},null,null,null,null,{"$f":"IF(Template!$L$433<>\"\",Template!$L$433,\"\")","v":""},"BYU_Child",null,null,"USD",null,2855.11,null,null,null,{"$f":"IF(Template!$O$433<>\"\",Template!$O$433,\"\")","v":""}]
[null,{"$f":"Template!$H$434","v":0},{"$error":"#REF!"},"Calendar_Year_Mar",{"$f":"IF(LEFT(Template!$K$434,2)=\"CC\",Template!$K$434,\"\")","v":""},{"$f":"IF(LEFT(Template!$M$434,2)=\"RC\",Template!$M$434,\"\")","v":""},{"$f":"IF(LEFT(Template!$M$434,2)=\"SC\",Template!$M$434,\"\")","v":""},{"$f":"IF(LEFT(Template!$K$434,2)=\"AC\",Template!$K$434,\"\")","v":""},{"$f":"IF(OR(LEFT(Template!$K$434,2)=\"PJ\", LEFT(Template!$K$434,2)=\"PR\"),Template!$K$434,\"\")","v":""},{"$f":"IF(LEFT(Template!$K$434,2)=\"GF\",Template!$K$434,\"\")","v":""},{"$f":"IF(Template!$S$434<>\"\",Template!$S$434,\"\")","v":""},null,null,null,null,{"$f":"IF(Template!$L$434<>\"\",Template!$L$434,\"\")","v":""},"BYU_Child",null,null,"USD",null,0.71,null,null,null,{"$f":"IF(Template!$O$434<>\"\",Template!$O$434,\"\")","v":""}]
[null,{"$f":"Template!$H$435","v":0},{"$error":"#REF!"},"Calendar_Year_Mar",{"$f":"IF(LEFT(Template!$K$435,2)=\"CC\",Template!$K$435,\"\")","v":""},{"$f":"IF(LEFT(Template!$M$435,2)=\"RC\",Template!$M$435,\"\")","v":""},{"$f":"IF(LEFT(Template!$M$435,2)=\"SC\",Template!$M$435,\"\")","v":""},{"$f":"IF(LEFT(Template!$K$435,2)=\"AC\",Template!$K$435,\"\")","v":""},{"$f":"IF(OR(LEFT(Template!$K$435,2)=\"PJ\", LEFT(Template!$K$435,2)=\"PR\"),Template!$K$435,\"\")","v":""},{"$f":"IF(LEFT(Template!$K$435,2)=\"GF\",Template!$K$435,\"\")","v":""},{"$f":"IF(Template!$S$435<>\"\",Template!$S$435,\"\")","v":""},null,null,null,null,{"$f":"IF(Template!$L$435<>\"\",Template!$L$435,\"\")","v":""},"BYU_Child",null,null,"USD",null,236,null,null,null,{"$f":"IF(Template!$O$435<>\"\",Template!$O$435,\"\")","v":""}]
[null,{"$f":"Template!$H$436","v":0},{"$error":"#REF!"},"Calendar_Year_Mar",{"$f":"IF(LEFT(Template!$K$436,2)=\"CC\",Template!$K$436,\"\")","v":""},{"$f":"IF(LEFT(Template!$M$436,2)=\"RC\",Template!$M$436,\"\")","v":""},{"$f":"IF(LEFT(Template!$M$436,2)=\"SC\",Template!$M$436,\"\")","v":""},{"$f":"IF(LEFT(Template!$K$436,2)=\"AC\",Template!$K$436,\"\")","v":""},{"$f":"IF(OR(LEFT(Template!$K$436,2)=\"PJ\", LEFT(Template!$K$436,2)=\"PR\"),Template!$K$436,\"\")","v":""},{"$f":"IF(LEFT(Template!$K$436,2)=\"GF\",Template!$K$436,\"\")","v":""},{"$f":"IF(Template!$S$436<>\"\",Template!$S$436,\"\")","v":""},null,null,null,null,{"$f":"IF(Template!$L$436<>\"\",Template!$L$436,\"\")","v":""},"BYU_Child",null,null,"USD",null,11201.25,null,null,null,{"$f":"IF(Template!$O$436<>\"\",Template!$O$436,\"\")","v":""}]
[null,{"$f":"Template!$H$437","v":0},{"$error":"#REF!"},"Calendar_Year_Mar",{"$f":"IF(LEFT(Template!$K$437,2)=\"CC\",Template!$K$437,\"\")","v":""},{"$f":"IF(LEFT(Template!$M$437,2)=\"RC\",Template!$M$437,\"\")","v":""},{"$f":"IF(LEFT(Template!$M$437,2)=\"SC\",Template!$M$437,\"\")","v":""},{"$f":"IF(LEFT(Template!$K$437,2)=\"AC\",Template!$K$437,\"\")","v":""},{"$f":"IF(OR(LEFT(Template!$K$437,2)=\"PJ\", LEFT(Template!$K$437,2)=\"PR\"),Template!$K$437,\"\")","v":""},{"$f":"IF(LEFT(Template!$K$437,2)=\"GF\",Template!$K$437,\"\")","v":""},{"$f":"IF(Template!$S$437<>\"\",Template!$S$437,\"\")","v":""},null,null,null,null,{"$f":"IF(Template!$L$437<>\"\",Template!$L$437,\"\")","v":""},"BYU_Child",null,null,"USD",null,108597.56,null,null,null,{"$f":"IF(Template!$O$437<>\"\",Template!$O$437,\"\")","v":""}]
[null,{"$f":"Template!$H$438","v":0},{"$error":"#REF!"},"Calendar_Year_Mar",{"$f":"IF(LEFT(Template!$K$438,2)=\"CC\",Template!$K$438,\"\")","v":""},{"$f":"IF(LEFT(Template!$M$438,2)=\"RC\",Template!$M$438,\"\")","v":""},{"$f":"IF(LEFT(Template!$M$438,2)=\"SC\",Template!$M$438,\"\")","v":""},{"$f":"IF(LEFT(Template!$K$438,2)=\"AC\",Template!$K$438,\"\")","v":""},{"$f":"IF(OR(LEFT(Template!$K$438,2)=\"PJ\", LEFT(Template!$K$438,2)=\"PR\"),Template!$K$438,\"\")","v":""},{"$f":"IF(LEFT(Template!$K$438,2)=\"GF\",Template!$K$438,\"\")","v":""},{"$f":"IF(Template!$S$438<>\"\",Template!$S$438,\"\")","v":""},null,null,null,null,{"$f":"IF(Template!$L$438<>\"\",Template!$L$438,\"\")","v":""},"BYU_Child",null,null,"USD",null,4515.26,null,null,null,{"$f":"IF(Template!$O$438<>\"\",Template!$O$438,\"\")","v":""}]
[null,{"$f":"Template!$H$439","v":0},{"$error":"#REF!"},"Calendar_Year_Mar",{"$f":"IF(LEFT(Template!$K$439,2)=\"CC\",Template!$K$439,\"\")","v":""},{"$f":"IF(LEFT(Template!$M$439,2)=\"RC\",Template!$M$439,\"\")","v":""},{"$f":"IF(LEFT(Template!$M$439,2)=\"SC\",Template!$M$439,\"\")","v":""},{"$f":"IF(LEFT(Template!$K$439,2)=\"AC\",Template!$K$439,\"\")","v":""},{"$f":"IF(OR(LEFT(Template!$K$439,2)=\"PJ\", LEFT(Template!$K$439,2)=\"PR\"),Template!$K$439,\"\")","v":""},{"$f":"IF(LEFT(Template!$K$439,2)=\"GF\",Template!$K$439,\"\")","v":""},{"$f":"IF(Template!$S$439<>\"\",Template!$S$439,\"\")","v":""},null,null,null,null,{"$f":"IF(Template!$L$439<>\"\",Template!$L$439,\"\")","v":""},"BYU_Child",null,null,"USD",null,2834.13,null,null,null,{"$f":"IF(Template!$O$439<>\"\",Template!$O$439,\"\")","v":""}]
[null,{"$f":"Template!$H$440","v":0},{"$error":"#REF!"},"Calendar_Year_Mar",{"$f":"IF(LEFT(Template!$K$440,2)=\"CC\",Template!$K$440,\"\")","v":""},{"$f":"IF(LEFT(Template!$M$440,2)=\"RC\",Template!$M$440,\"\")","v":""},{"$f":"IF(LEFT(Template!$M$440,2)=\"SC\",Template!$M$440,\"\")","v":""},{"$f":"IF(LEFT(Template!$K$440,2)=\"AC\",Template!$K$440,\"\")","v":""},{"$f":"IF(OR(LEFT(Template!$K$440,2)=\"PJ\", LEFT(Template!$K$440,2)=\"PR\"),Template!$K$440,\"\")","v":""},{"$f":"IF(LEFT(Template!$K$440,2)=\"GF\",Template!$K$440,\"\")","v":""},{"$f":"IF(Template!$S$440<>\"\",Template!$S$440,\"\")","v":""},null,null,null,null,{"$f":"IF(Template!$L$440<>\"\",Template!$L$440,\"\")","v":""},"BYU_Child",null,null,"USD",null,589.33000000000004,null,null,null,{"$f":"IF(Template!$O$440<>\"\",Template!$O$440,\"\")","v":""}]
[null,{"$f":"Template!$H$441","v":0},{"$f":"IF(B327=B326,C326+1,1)","v":{"$error":"#REF!"}},"Calendar_Year_Mar",{"$f":"IF(LEFT(Template!$K$441,2)=\"CC\",Template!$K$441,\"\")","v":""},{"$f":"IF(LEFT(Template!$M$441,2)=\"RC\",Template!$M$441,\"\")","v":""},{"$f":"IF(LEFT(Template!$M$441,2)=\"SC\",Template!$M$441,\"\")","v":""},{"$f":"IF(LEFT(Template!$K$441,2)=\"AC\",Template!$K$441,\"\")","v":""},{"$f":"IF(OR(LEFT(Template!$K$441,2)=\"PJ\", LEFT(Template!$K$441,2)=\"PR\"),Template!$K$441,\"\")","v":""},{"$f":"IF(LEFT(Template!$K$441,2)=\"GF\",Template!$K$441,\"\")","v":""},{"$f":"IF(Template!$S$441<>\"\",Template!$S$441,\"\")","v":""},null,null,null,null,{"$f":"IF(Template!$L$441<>\"\",Template!$L$441,\"\")","v":""},"BYU_Child",null,null,"USD",null,19277.16,null,null,null,{"$f":"IF(Template!$O$441<>\"\",Template!$O$441,\"\")","v":""}]
[null,{"$f":"Template!$H$442","v":0},{"$error":"#REF!"},"Calendar_Year_Mar",{"$f":"IF(LEFT(Template!$K$442,2)=\"CC\",Template!$K$442,\"\")","v":""},{"$f":"IF(LEFT(Template!$M$442,2)=\"RC\",Template!$M$442,\"\")","v":""},{"$f":"IF(LEFT(Template!$M$442,2)=\"SC\",Template!$M$442,\"\")","v":""},{"$f":"IF(LEFT(Template!$K$442,2)=\"AC\",Template!$K$442,\"\")","v":""},{"$f":"IF(OR(LEFT(Template!$K$442,2)=\"PJ\", LEFT(Template!$K$442,2)=\"PR\"),Template!$K$442,\"\")","v":""},{"$f":"IF(LEFT(Template!$K$442,2)=\"GF\",Template!$K$442,\"\")","v":""},{"$f":"IF(Template!$S$442<>\"\",Template!$S$442,\"\")","v":""},null,null,null,null,{"$f":"IF(Template!$L$442<>\"\",Template!$L$442,\"\")","v":""},"BYU_Child",null,null,"USD",null,125818.56,null,null,null,{"$f":"IF(Template!$O$442<>\"\",Template!$O$442,\"\")","v":""}]
[null,{"$f":"Template!$H$443","v":0},{"$error":"#REF!"},"Calendar_Year_Mar",{"$f":"IF(LEFT(Template!$K$443,2)=\"CC\",Template!$K$443,\"\")","v":""},{"$f":"IF(LEFT(Template!$M$443,2)=\"RC\",Template!$M$443,\"\")","v":""},{"$f":"IF(LEFT(Template!$M$443,2)=\"SC\",Template!$M$443,\"\")","v":""},{"$f":"IF(LEFT(Template!$K$443,2)=\"AC\",Template!$K$443,\"\")","v":""},{"$f":"IF(OR(LEFT(Template!$K$443,2)=\"PJ\", LEFT(Template!$K$443,2)=\"PR\"),Template!$K$443,\"\")","v":""},{"$f":"IF(LEFT(Template!$K$443,2)=\"GF\",Template!$K$443,\"\")","v":""},{"$f":"IF(Template!$S$443<>\"\",Template!$S$443,\"\")","v":""},null,null,null,null,{"$f":"IF(Template!$L$443<>\"\",Template!$L$443,\"\")","v":""},"BYU_Child",null,null,"USD",null,1081.1500000000001,null,null,null,{"$f":"IF(Template!$O$443<>\"\",Template!$O$443,\"\")","v":""}]
[null,{"$f":"Template!$H$444","v":0},{"$error":"#REF!"},"Calendar_Year_Mar",{"$f":"IF(LEFT(Template!$K$444,2)=\"CC\",Template!$K$444,\"\")","v":""},{"$f":"IF(LEFT(Template!$M$444,2)=\"RC\",Template!$M$444,\"\")","v":""},{"$f":"IF(LEFT(Template!$M$444,2)=\"SC\",Template!$M$444,\"\")","v":""},{"$f":"IF(LEFT(Template!$K$444,2)=\"AC\",Template!$K$444,\"\")","v":""},{"$f":"IF(OR(LEFT(Template!$K$444,2)=\"PJ\", LEFT(Template!$K$444,2)=\"PR\"),Template!$K$444,\"\")","v":""},{"$f":"IF(LEFT(Template!$K$444,2)=\"GF\",Template!$K$444,\"\")","v":""},{"$f":"IF(Template!$S$444<>\"\",Template!$S$444,\"\")","v":""},null,null,null,null,{"$f":"IF(Template!$L$444<>\"\",Template!$L$444,\"\")","v":""},"BYU_Child",null,null,"USD",null,2520.13,null,null,null,{"$f":"IF(Template!$O$444<>\"\",Template!$O$444,\"\")","v":""}]
[null,{"$f":"Template!$H$445","v":0},{"$error":"#REF!"},"Calendar_Year_Mar",{"$f":"IF(LEFT(Template!$K$445,2)=\"CC\",Template!$K$445,\"\")","v":""},{"$f":"IF(LEFT(Template!$M$445,2)=\"RC\",Template!$M$445,\"\")","v":""},{"$f":"IF(LEFT(Template!$M$445,2)=\"SC\",Template!$M$445,\"\")","v":""},{"$f":"IF(LEFT(Template!$K$445,2)=\"AC\",Template!$K$445,\"\")","v":""},{"$f":"IF(OR(LEFT(Template!$K$445,2)=\"PJ\", LEFT(Template!$K$445,2)=\"PR\"),Template!$K$445,\"\")","v":""},{"$f":"IF(LEFT(Template!$K$445,2)=\"GF\",Template!$K$445,\"\")","v":""},{"$f":"IF(Template!$S$445<>\"\",Template!$S$445,\"\")","v":""},null,null,null,null,{"$f":"IF(Template!$L$445<>\"\",Template!$L$445,\"\")","v":""},"BYU_Child",null,null,"USD",null,10.15,null,null,null,{"$f":"IF(Template!$O$445<>\"\",Template!$O$445,\"\")","v":""}]
[null,{"$f":"Template!$H$446","v":0},{"$error":"#REF!"},"Calendar_Year_Mar",{"$f":"IF(LEFT(Template!$K$446,2)=\"CC\",Template!$K$446,\"\")","v":""},{"$f":"IF(LEFT(Template!$M$446,2)=\"RC\",Template!$M$446,\"\")","v":""},{"$f":"IF(LEFT(Template!$M$446,2)=\"SC\",Template!$M$446,\"\")","v":""},{"$f":"IF(LEFT(Template!$K$446,2)=\"AC\",Template!$K$446,\"\")","v":""},{"$f":"IF(OR(LEFT(Template!$K$446,2)=\"PJ\", LEFT(Template!$K$446,2)=\"PR\"),Template!$K$446,\"\")","v":""},{"$f":"IF(LEFT(Template!$K$446,2)=\"GF\",Template!$K$446,\"\")","v":""},{"$f":"IF(Template!$S$446<>\"\",Template!$S$446,\"\")","v":""},null,null,null,null,{"$f":"IF(Template!$L$446<>\"\",Template!$L$446,\"\")","v":""},"BYU_Child",null,null,"USD",null,13525.62,null,null,null,{"$f":"IF(Template!$O$446<>\"\",Template!$O$446,\"\")","v":""}]
[null,{"$f":"Template!$H$447","v":0},{"$error":"#REF!"},"Calendar_Year_Mar",{"$f":"IF(LEFT(Template!$K$447,2)=\"CC\",Template!$K$447,\"\")","v":""},{"$f":"IF(LEFT(Template!$M$447,2)=\"RC\",Template!$M$447,\"\")","v":""},{"$f":"IF(LEFT(Template!$M$447,2)=\"SC\",Template!$M$447,\"\")","v":""},{"$f":"IF(LEFT(Template!$K$447,2)=\"AC\",Template!$K$447,\"\")","v":""},{"$f":"IF(OR(LEFT(Template!$K$447,2)=\"PJ\", LEFT(Template!$K$447,2)=\"PR\"),Template!$K$447,\"\")","v":""},{"$f":"IF(LEFT(Template!$K$447,2)=\"GF\",Template!$K$447,\"\")","v":""},{"$f":"IF(Template!$S$447<>\"\",Template!$S$447,\"\")","v":""},null,null,null,null,{"$f":"IF(Template!$L$447<>\"\",Template!$L$447,\"\")","v":""},"BYU_Child",null,null,"USD",null,135964.51999999999,null,null,null,{"$f":"IF(Template!$O$447<>\"\",Template!$O$447,\"\")","v":""}]
[null,{"$f":"Template!$H$448","v":0},{"$error":"#REF!"},"Calendar_Year_Mar",{"$f":"IF(LEFT(Template!$K$448,2)=\"CC\",Template!$K$448,\"\")","v":""},{"$f":"IF(LEFT(Template!$M$448,2)=\"RC\",Template!$M$448,\"\")","v":""},{"$f":"IF(LEFT(Template!$M$448,2)=\"SC\",Template!$M$448,\"\")","v":""},{"$f":"IF(LEFT(Template!$K$448,2)=\"AC\",Template!$K$448,\"\")","v":""},{"$f":"IF(OR(LEFT(Template!$K$448,2)=\"PJ\", LEFT(Template!$K$448,2)=\"PR\"),Template!$K$448,\"\")","v":""},{"$f":"IF(LEFT(Template!$K$448,2)=\"GF\",Template!$K$448,\"\")","v":""},{"$f":"IF(Template!$S$448<>\"\",Template!$S$448,\"\")","v":""},null,null,null,null,{"$f":"IF(Template!$L$448<>\"\",Template!$L$448,\"\")","v":""},"BYU_Child",null,null,"USD",null,111.75,null,null,null,{"$f":"IF(Template!$O$448<>\"\",Template!$O$448,\"\")","v":""}]
[null,{"$f":"Template!$H$449","v":0},{"$error":"#REF!"},"Calendar_Year_Mar",{"$f":"IF(LEFT(Template!$K$449,2)=\"CC\",Template!$K$449,\"\")","v":""},{"$f":"IF(LEFT(Template!$M$449,2)=\"RC\",Template!$M$449,\"\")","v":""},{"$f":"IF(LEFT(Template!$M$449,2)=\"SC\",Template!$M$449,\"\")","v":""},{"$f":"IF(LEFT(Template!$K$449,2)=\"AC\",Template!$K$449,\"\")","v":""},{"$f":"IF(OR(LEFT(Template!$K$449,2)=\"PJ\", LEFT(Template!$K$449,2)=\"PR\"),Template!$K$449,\"\")","v":""},{"$f":"IF(LEFT(Template!$K$449,2)=\"GF\",Template!$K$449,\"\")","v":""},{"$f":"IF(Template!$S$449<>\"\",Template!$S$449,\"\")","v":""},null,null,null,null,{"$f":"IF(Template!$L$449<>\"\",Template!$L$449,\"\")","v":""},"BYU_Child",null,null,"USD",null,2092.5700000000002,null,null,null,{"$f":"IF(Template!$O$449<>\"\",Template!$O$449,\"\")","v":""}]
[null,{"$f":"Template!$H$450","v":0},{"$error":"#REF!"},"Calendar_Year_Mar",{"$f":"IF(LEFT(Template!$K$450,2)=\"CC\",Template!$K$450,\"\")","v":""},{"$f":"IF(LEFT(Template!$M$450,2)=\"RC\",Template!$M$450,\"\")","v":""},{"$f":"IF(LEFT(Template!$M$450,2)=\"SC\",Template!$M$450,\"\")","v":""},{"$f":"IF(LEFT(Template!$K$450,2)=\"AC\",Template!$K$450,\"\")","v":""},{"$f":"IF(OR(LEFT(Template!$K$450,2)=\"PJ\", LEFT(Template!$K$450,2)=\"PR\"),Template!$K$450,\"\")","v":""},{"$f":"IF(LEFT(Template!$K$450,2)=\"GF\",Template!$K$450,\"\")","v":""},{"$f":"IF(Template!$S$450<>\"\",Template!$S$450,\"\")","v":""},null,null,null,null,{"$f":"IF(Template!$L$450<>\"\",Template!$L$450,\"\")","v":""},"BYU_Child",null,null,"USD",null,89.54,null,null,null,{"$f":"IF(Template!$O$450<>\"\",Template!$O$450,\"\")","v":""}]
[null,{"$f":"Template!$H$451","v":0},{"$error":"#REF!"},"Calendar_Year_Mar",{"$f":"IF(LEFT(Template!$K$451,2)=\"CC\",Template!$K$451,\"\")","v":""},{"$f":"IF(LEFT(Template!$M$451,2)=\"RC\",Template!$M$451,\"\")","v":""},{"$f":"IF(LEFT(Template!$M$451,2)=\"SC\",Template!$M$451,\"\")","v":""},{"$f":"IF(LEFT(Template!$K$451,2)=\"AC\",Template!$K$451,\"\")","v":""},{"$f":"IF(OR(LEFT(Template!$K$451,2)=\"PJ\", LEFT(Template!$K$451,2)=\"PR\"),Template!$K$451,\"\")","v":""},{"$f":"IF(LEFT(Template!$K$451,2)=\"GF\",Template!$K$451,\"\")","v":""},{"$f":"IF(Template!$S$451<>\"\",Template!$S$451,\"\")","v":""},null,null,null,null,{"$f":"IF(Template!$L$451<>\"\",Template!$L$451,\"\")","v":""},"BYU_Child",null,null,"USD",null,16.190000000000001,null,null,null,{"$f":"IF(Template!$O$451<>\"\",Template!$O$451,\"\")","v":""}]
[null,{"$f":"Template!$H$452","v":0},{"$error":"#REF!"},"Calendar_Year_Mar",{"$f":"IF(LEFT(Template!$K$452,2)=\"CC\",Template!$K$452,\"\")","v":""},{"$f":"IF(LEFT(Template!$M$452,2)=\"RC\",Template!$M$452,\"\")","v":""},{"$f":"IF(LEFT(Template!$M$452,2)=\"SC\",Template!$M$452,\"\")","v":""},{"$f":"IF(LEFT(Template!$K$452,2)=\"AC\",Template!$K$452,\"\")","v":""},{"$f":"IF(OR(LEFT(Template!$K$452,2)=\"PJ\", LEFT(Template!$K$452,2)=\"PR\"),Template!$K$452,\"\")","v":""},{"$f":"IF(LEFT(Template!$K$452,2)=\"GF\",Template!$K$452,\"\")","v":""},{"$f":"IF(Template!$S$452<>\"\",Template!$S$452,\"\")","v":""},null,null,null,null,{"$f":"IF(Template!$L$452<>\"\",Template!$L$452,\"\")","v":""},"BYU_Child",null,null,"USD",null,11440.96,null,null,null,{"$f":"IF(Template!$O$452<>\"\",Template!$O$452,\"\")","v":""}]
[null,{"$f":"Template!$H$453","v":0},{"$error":"#REF!"},"Calendar_Year_Mar",{"$f":"IF(LEFT(Template!$K$453,2)=\"CC\",Template!$K$453,\"\")","v":""},{"$f":"IF(LEFT(Template!$M$453,2)=\"RC\",Template!$M$453,\"\")","v":""},{"$f":"IF(LEFT(Template!$M$453,2)=\"SC\",Template!$M$453,\"\")","v":""},{"$f":"IF(LEFT(Template!$K$453,2)=\"AC\",Template!$K$453,\"\")","v":""},{"$f":"IF(OR(LEFT(Template!$K$453,2)=\"PJ\", LEFT(Template!$K$453,2)=\"PR\"),Template!$K$453,\"\")","v":""},{"$f":"IF(LEFT(Template!$K$453,2)=\"GF\",Template!$K$453,\"\")","v":""},{"$f":"IF(Template!$S$453<>\"\",Template!$S$453,\"\")","v":""},null,null,null,null,{"$f":"IF(Template!$L$453<>\"\",Template!$L$453,\"\")","v":""},"BYU_Child",null,null,"USD",null,77530.23,null,null,null,{"$f":"IF(Template!$O$453<>\"\",Template!$O$453,\"\")","v":""}]
[null,{"$f":"Template!$H$454","v":0},{"$error":"#REF!"},"Calendar_Year_Mar",{"$f":"IF(LEFT(Template!$K$454,2)=\"CC\",Template!$K$454,\"\")","v":""},{"$f":"IF(LEFT(Template!$M$454,2)=\"RC\",Template!$M$454,\"\")","v":""},{"$f":"IF(LEFT(Template!$M$454,2)=\"SC\",Template!$M$454,\"\")","v":""},{"$f":"IF(LEFT(Template!$K$454,2)=\"AC\",Template!$K$454,\"\")","v":""},{"$f":"IF(OR(LEFT(Template!$K$454,2)=\"PJ\", LEFT(Template!$K$454,2)=\"PR\"),Template!$K$454,\"\")","v":""},{"$f":"IF(LEFT(Template!$K$454,2)=\"GF\",Template!$K$454,\"\")","v":""},{"$f":"IF(Template!$S$454<>\"\",Template!$S$454,\"\")","v":""},null,null,null,null,{"$f":"IF(Template!$L$454<>\"\",Template!$L$454,\"\")","v":""},"BYU_Child",null,null,"USD",null,null,113.03,null,null,{"$f":"IF(Template!$O$454<>\"\",Template!$O$454,\"\")","v":""}]
[null,{"$f":"Template!$H$455","v":0},{"$error":"#REF!"},"Calendar_Year_Mar",{"$f":"IF(LEFT(Template!$K$455,2)=\"CC\",Template!$K$455,\"\")","v":""},{"$f":"IF(LEFT(Template!$M$455,2)=\"RC\",Template!$M$455,\"\")","v":""},{"$f":"IF(LEFT(Template!$M$455,2)=\"SC\",Template!$M$455,\"\")","v":""},{"$f":"IF(LEFT(Template!$K$455,2)=\"AC\",Template!$K$455,\"\")","v":""},{"$f":"IF(OR(LEFT(Template!$K$455,2)=\"PJ\", LEFT(Template!$K$455,2)=\"PR\"),Template!$K$455,\"\")","v":""},{"$f":"IF(LEFT(Template!$K$455,2)=\"GF\",Template!$K$455,\"\")","v":""},{"$f":"IF(Template!$S$455<>\"\",Template!$S$455,\"\")","v":""},null,null,null,null,{"$f":"IF(Template!$L$455<>\"\",Template!$L$455,\"\")","v":""},"BYU_Child",null,null,"USD",null,3499.1,null,null,null,{"$f":"IF(Template!$O$455<>\"\",Template!$O$455,\"\")","v":""}]
[null,{"$f":"Template!$H$456","v":0},{"$error":"#REF!"},"Calendar_Year_Mar",{"$f":"IF(LEFT(Template!$K$456,2)=\"CC\",Template!$K$456,\"\")","v":""},{"$f":"IF(LEFT(Template!$M$456,2)=\"RC\",Template!$M$456,\"\")","v":""},{"$f":"IF(LEFT(Template!$M$456,2)=\"SC\",Template!$M$456,\"\")","v":""},{"$f":"IF(LEFT(Template!$K$456,2)=\"AC\",Template!$K$456,\"\")","v":""},{"$f":"IF(OR(LEFT(Template!$K$456,2)=\"PJ\", LEFT(Template!$K$456,2)=\"PR\"),Template!$K$456,\"\")","v":""},{"$f":"IF(LEFT(Template!$K$456,2)=\"GF\",Template!$K$456,\"\")","v":""},{"$f":"IF(Template!$S$456<>\"\",Template!$S$456,\"\")","v":""},null,null,null,null,{"$f":"IF(Template!$L$456<>\"\",Template!$L$456,\"\")","v":""},"BYU_Child",null,null,"USD",null,2149.06,null,null,null,{"$f":"IF(Template!$O$456<>\"\",Template!$O$456,\"\")","v":""}]
[null,{"$f":"Template!$H$457","v":0},{"$error":"#REF!"},"Calendar_Year_Mar",{"$f":"IF(LEFT(Template!$K$457,2)=\"CC\",Template!$K$457,\"\")","v":""},{"$f":"IF(LEFT(Template!$M$457,2)=\"RC\",Template!$M$457,\"\")","v":""},{"$f":"IF(LEFT(Template!$M$457,2)=\"SC\",Template!$M$457,\"\")","v":""},{"$f":"IF(LEFT(Template!$K$457,2)=\"AC\",Template!$K$457,\"\")","v":""},{"$f":"IF(OR(LEFT(Template!$K$457,2)=\"PJ\", LEFT(Template!$K$457,2)=\"PR\"),Template!$K$457,\"\")","v":""},{"$f":"IF(LEFT(Template!$K$457,2)=\"GF\",Template!$K$457,\"\")","v":""},{"$f":"IF(Template!$S$457<>\"\",Template!$S$457,\"\")","v":""},null,null,null,null,{"$f":"IF(Template!$L$457<>\"\",Template!$L$457,\"\")","v":""},"BYU_Child",null,null,"USD",null,410.4,null,null,null,{"$f":"IF(Template!$O$457<>\"\",Template!$O$457,\"\")","v":""}]
[null,{"$f":"Template!$H$458","v":0},{"$error":"#REF!"},"Calendar_Year_Mar",{"$f":"IF(LEFT(Template!$K$458,2)=\"CC\",Template!$K$458,\"\")","v":""},{"$f":"IF(LEFT(Template!$M$458,2)=\"RC\",Template!$M$458,\"\")","v":""},{"$f":"IF(LEFT(Template!$M$458,2)=\"SC\",Template!$M$458,\"\")","v":""},{"$f":"IF(LEFT(Template!$K$458,2)=\"AC\",Template!$K$458,\"\")","v":""},{"$f":"IF(OR(LEFT(Template!$K$458,2)=\"PJ\", LEFT(Template!$K$458,2)=\"PR\"),Template!$K$458,\"\")","v":""},{"$f":"IF(LEFT(Template!$K$458,2)=\"GF\",Template!$K$458,\"\")","v":""},{"$f":"IF(Template!$S$458<>\"\",Template!$S$458,\"\")","v":""},null,null,null,null,{"$f":"IF(Template!$L$458<>\"\",Template!$L$458,\"\")","v":""},"BYU_Child",null,null,"USD",null,177.05,null,null,null,{"$f":"IF(Template!$O$458<>\"\",Template!$O$458,\"\")","v":""}]
[null,{"$f":"Template!$H$459","v":0},{"$error":"#REF!"},"Calendar_Year_Mar",{"$f":"IF(LEFT(Template!$K$459,2)=\"CC\",Template!$K$459,\"\")","v":""},{"$f":"IF(LEFT(Template!$M$459,2)=\"RC\",Template!$M$459,\"\")","v":""},{"$f":"IF(LEFT(Template!$M$459,2)=\"SC\",Template!$M$459,\"\")","v":""},{"$f":"IF(LEFT(Template!$K$459,2)=\"AC\",Template!$K$459,\"\")","v":""},{"$f":"IF(OR(LEFT(Template!$K$459,2)=\"PJ\", LEFT(Template!$K$459,2)=\"PR\"),Template!$K$459,\"\")","v":""},{"$f":"IF(LEFT(Template!$K$459,2)=\"GF\",Template!$K$459,\"\")","v":""},{"$f":"IF(Template!$S$459<>\"\",Template!$S$459,\"\")","v":""},null,null,null,null,{"$f":"IF(Template!$L$459<>\"\",Template!$L$459,\"\")","v":""},"BYU_Child",null,null,"USD",null,92.57,null,null,null,{"$f":"IF(Template!$O$459<>\"\",Template!$O$459,\"\")","v":""}]
[null,{"$f":"Template!$H$460","v":0},{"$error":"#REF!"},"Calendar_Year_Mar",{"$f":"IF(LEFT(Template!$K$460,2)=\"CC\",Template!$K$460,\"\")","v":""},{"$f":"IF(LEFT(Template!$M$460,2)=\"RC\",Template!$M$460,\"\")","v":""},{"$f":"IF(LEFT(Template!$M$460,2)=\"SC\",Template!$M$460,\"\")","v":""},{"$f":"IF(LEFT(Template!$K$460,2)=\"AC\",Template!$K$460,\"\")","v":""},{"$f":"IF(OR(LEFT(Template!$K$460,2)=\"PJ\", LEFT(Template!$K$460,2)=\"PR\"),Template!$K$460,\"\")","v":""},{"$f":"IF(LEFT(Template!$K$460,2)=\"GF\",Template!$K$460,\"\")","v":""},{"$f":"IF(Template!$S$460<>\"\",Template!$S$460,\"\")","v":""},null,null,null,null,{"$f":"IF(Template!$L$460<>\"\",Template!$L$460,\"\")","v":""},"BYU_Child",null,null,"USD",null,16569.88,null,null,null,{"$f":"IF(Template!$O$460<>\"\",Template!$O$460,\"\")","v":""}]
[null,{"$f":"Template!$H$461","v":0},{"$error":"#REF!"},"Calendar_Year_Mar",{"$f":"IF(LEFT(Template!$K$461,2)=\"CC\",Template!$K$461,\"\")","v":""},{"$f":"IF(LEFT(Template!$M$461,2)=\"RC\",Template!$M$461,\"\")","v":""},{"$f":"IF(LEFT(Template!$M$461,2)=\"SC\",Template!$M$461,\"\")","v":""},{"$f":"IF(LEFT(Template!$K$461,2)=\"AC\",Template!$K$461,\"\")","v":""},{"$f":"IF(OR(LEFT(Template!$K$461,2)=\"PJ\", LEFT(Template!$K$461,2)=\"PR\"),Template!$K$461,\"\")","v":""},{"$f":"IF(LEFT(Template!$K$461,2)=\"GF\",Template!$K$461,\"\")","v":""},{"$f":"IF(Template!$S$461<>\"\",Template!$S$461,\"\")","v":""},null,null,null,null,{"$f":"IF(Template!$L$461<>\"\",Template!$L$461,\"\")","v":""},"BYU_Child",null,null,"USD",null,806.79,null,null,null,{"$f":"IF(Template!$O$461<>\"\",Template!$O$461,\"\")","v":""}]
[null,{"$f":"Template!$H$462","v":0},{"$error":"#REF!"},"Calendar_Year_Mar",{"$f":"IF(LEFT(Template!$K$462,2)=\"CC\",Template!$K$462,\"\")","v":""},{"$f":"IF(LEFT(Template!$M$462,2)=\"RC\",Template!$M$462,\"\")","v":""},{"$f":"IF(LEFT(Template!$M$462,2)=\"SC\",Template!$M$462,\"\")","v":""},{"$f":"IF(LEFT(Template!$K$462,2)=\"AC\",Template!$K$462,\"\")","v":""},{"$f":"IF(OR(LEFT(Template!$K$462,2)=\"PJ\", LEFT(Template!$K$462,2)=\"PR\"),Template!$K$462,\"\")","v":""},{"$f":"IF(LEFT(Template!$K$462,2)=\"GF\",Template!$K$462,\"\")","v":""},{"$f":"IF(Template!$S$462<>\"\",Template!$S$462,\"\")","v":""},null,null,null,null,{"$f":"IF(Template!$L$462<>\"\",Template!$L$462,\"\")","v":""},"BYU_Child",null,null,"USD",null,63359.39,null,null,null,{"$f":"IF(Template!$O$462<>\"\",Template!$O$462,\"\")","v":""}]
[null,{"$f":"Template!$H$463","v":0},{"$error":"#REF!"},"Calendar_Year_Mar",{"$f":"IF(LEFT(Template!$K$463,2)=\"CC\",Template!$K$463,\"\")","v":""},{"$f":"IF(LEFT(Template!$M$463,2)=\"RC\",Template!$M$463,\"\")","v":""},{"$f":"IF(LEFT(Template!$M$463,2)=\"SC\",Template!$M$463,\"\")","v":""},{"$f":"IF(LEFT(Template!$K$463,2)=\"AC\",Template!$K$463,\"\")","v":""},{"$f":"IF(OR(LEFT(Template!$K$463,2)=\"PJ\", LEFT(Template!$K$463,2)=\"PR\"),Template!$K$463,\"\")","v":""},{"$f":"IF(LEFT(Template!$K$463,2)=\"GF\",Template!$K$463,\"\")","v":""},{"$f":"IF(Template!$S$463<>\"\",Template!$S$463,\"\")","v":""},null,null,null,null,{"$f":"IF(Template!$L$463<>\"\",Template!$L$463,\"\")","v":""},"BYU_Child",null,null,"USD",null,6107.95,null,null,null,{"$f":"IF(Template!$O$463<>\"\",Template!$O$463,\"\")","v":""}]
[null,{"$f":"Template!$H$464","v":0},{"$error":"#REF!"},"Calendar_Year_Mar",{"$f":"IF(LEFT(Template!$K$464,2)=\"CC\",Template!$K$464,\"\")","v":""},{"$f":"IF(LEFT(Template!$M$464,2)=\"RC\",Template!$M$464,\"\")","v":""},{"$f":"IF(LEFT(Template!$M$464,2)=\"SC\",Template!$M$464,\"\")","v":""},{"$f":"IF(LEFT(Template!$K$464,2)=\"AC\",Template!$K$464,\"\")","v":""},{"$f":"IF(OR(LEFT(Template!$K$464,2)=\"PJ\", LEFT(Template!$K$464,2)=\"PR\"),Template!$K$464,\"\")","v":""},{"$f":"IF(LEFT(Template!$K$464,2)=\"GF\",Template!$K$464,\"\")","v":""},{"$f":"IF(Template!$S$464<>\"\",Template!$S$464,\"\")","v":""},null,null,null,null,{"$f":"IF(Template!$L$464<>\"\",Template!$L$464,\"\")","v":""},"BYU_Child",null,null,"USD",null,2280.17,null,null,null,{"$f":"IF(Template!$O$464<>\"\",Template!$O$464,\"\")","v":""}]
[null,{"$f":"Template!$H$465","v":0},{"$error":"#REF!"},"Calendar_Year_Mar",{"$f":"IF(LEFT(Template!$K$465,2)=\"CC\",Template!$K$465,\"\")","v":""},{"$f":"IF(LEFT(Template!$M$465,2)=\"RC\",Template!$M$465,\"\")","v":""},{"$f":"IF(LEFT(Template!$M$465,2)=\"SC\",Template!$M$465,\"\")","v":""},{"$f":"IF(LEFT(Template!$K$465,2)=\"AC\",Template!$K$465,\"\")","v":""},{"$f":"IF(OR(LEFT(Template!$K$465,2)=\"PJ\", LEFT(Template!$K$465,2)=\"PR\"),Template!$K$465,\"\")","v":""},{"$f":"IF(LEFT(Template!$K$465,2)=\"GF\",Template!$K$465,\"\")","v":""},{"$f":"IF(Template!$S$465<>\"\",Template!$S$465,\"\")","v":""},null,null,null,null,{"$f":"IF(Template!$L$465<>\"\",Template!$L$465,\"\")","v":""},"BYU_Child",null,null,"USD",null,null,1376.1,null,null,{"$f":"IF(Template!$O$465<>\"\",Template!$O$465,\"\")","v":""}]
[null,{"$f":"Template!$H$466","v":0},{"$error":"#REF!"},"Calendar_Year_Mar",{"$f":"IF(LEFT(Template!$K$466,2)=\"CC\",Template!$K$466,\"\")","v":""},{"$f":"IF(LEFT(Template!$M$466,2)=\"RC\",Template!$M$466,\"\")","v":""},{"$f":"IF(LEFT(Template!$M$466,2)=\"SC\",Template!$M$466,\"\")","v":""},{"$f":"IF(LEFT(Template!$K$466,2)=\"AC\",Template!$K$466,\"\")","v":""},{"$f":"IF(OR(LEFT(Template!$K$466,2)=\"PJ\", LEFT(Template!$K$466,2)=\"PR\"),Template!$K$466,\"\")","v":""},{"$f":"IF(LEFT(Template!$K$466,2)=\"GF\",Template!$K$466,\"\")","v":""},{"$f":"IF(Template!$S$466<>\"\",Template!$S$466,\"\")","v":""},null,null,null,null,{"$f":"IF(Template!$L$466<>\"\",Template!$L$466,\"\")","v":""},"BYU_Child",null,null,"USD",null,92.57,null,null,null,{"$f":"IF(Template!$O$466<>\"\",Template!$O$466,\"\")","v":""}]
[null,{"$f":"Template!$H$467","v":0},{"$error":"#REF!"},"Calendar_Year_Mar",{"$f":"IF(LEFT(Template!$K$467,2)=\"CC\",Template!$K$467,\"\")","v":""},{"$f":"IF(LEFT(Template!$M$467,2)=\"RC\",Template!$M$467,\"\")","v":""},{"$f":"IF(LEFT(Template!$M$467,2)=\"SC\",Template!$M$467,\"\")","v":""},{"$f":"IF(LEFT(Template!$K$467,2)=\"AC\",Template!$K$467,\"\")","v":""},{"$f":"IF(OR(LEFT(Template!$K$467,2)=\"PJ\", LEFT(Template!$K$467,2)=\"PR\"),Template!$K$467,\"\")","v":""},{"$f":"IF(LEFT(Template!$K$467,2)=\"GF\",Template!$K$467,\"\")","v":""},{"$f":"IF(Template!$S$467<>\"\",Template!$S$467,\"\")","v":""},null,null,null,null,{"$f":"IF(Template!$L$467<>\"\",Template!$L$467,\"\")","v":""},"BYU_Child",null,null,"USD",null,920.49,null,null,null,{"$f":"IF(Template!$O$467<>\"\",Template!$O$467,\"\")","v":""}]
[null,{"$f":"Template!$H$468","v":0},{"$error":"#REF!"},"Calendar_Year_Mar",{"$f":"IF(LEFT(Template!$K$468,2)=\"CC\",Template!$K$468,\"\")","v":""},{"$f":"IF(LEFT(Template!$M$468,2)=\"RC\",Template!$M$468,\"\")","v":""},{"$f":"IF(LEFT(Template!$M$468,2)=\"SC\",Template!$M$468,\"\")","v":""},{"$f":"IF(LEFT(Template!$K$468,2)=\"AC\",Template!$K$468,\"\")","v":""},{"$f":"IF(OR(LEFT(Template!$K$468,2)=\"PJ\", LEFT(Template!$K$468,2)=\"PR\"),Template!$K$468,\"\")","v":""},{"$f":"IF(LEFT(Template!$K$468,2)=\"GF\",Template!$K$468,\"\")","v":""},{"$f":"IF(Template!$S$468<>\"\",Template!$S$468,\"\")","v":""},null,null,null,null,{"$f":"IF(Template!$L$468<>\"\",Template!$L$468,\"\")","v":""},"BYU_Child",null,null,"USD",null,3414.4,null,null,null,{"$f":"IF(Template!$O$468<>\"\",Template!$O$468,\"\")","v":""}]
[null,{"$f":"Template!$H$469","v":0},{"$error":"#REF!"},"Calendar_Year_Mar",{"$f":"IF(LEFT(Template!$K$469,2)=\"CC\",Template!$K$469,\"\")","v":""},{"$f":"IF(LEFT(Template!$M$469,2)=\"RC\",Template!$M$469,\"\")","v":""},{"$f":"IF(LEFT(Template!$M$469,2)=\"SC\",Template!$M$469,\"\")","v":""},{"$f":"IF(LEFT(Template!$K$469,2)=\"AC\",Template!$K$469,\"\")","v":""},{"$f":"IF(OR(LEFT(Template!$K$469,2)=\"PJ\", LEFT(Template!$K$469,2)=\"PR\"),Template!$K$469,\"\")","v":""},{"$f":"IF(LEFT(Template!$K$469,2)=\"GF\",Template!$K$469,\"\")","v":""},{"$f":"IF(Template!$S$469<>\"\",Template!$S$469,\"\")","v":""},null,null,null,null,{"$f":"IF(Template!$L$469<>\"\",Template!$L$469,\"\")","v":""},"BYU_Child",null,null,"USD",null,183957.81,null,null,null,{"$f":"IF(Template!$O$469<>\"\",Template!$O$469,\"\")","v":""}]
[null,{"$f":"Template!$H$470","v":0},{"$error":"#REF!"},"Calendar_Year_Mar",{"$f":"IF(LEFT(Template!$K$470,2)=\"CC\",Template!$K$470,\"\")","v":""},{"$f":"IF(LEFT(Template!$M$470,2)=\"RC\",Template!$M$470,\"\")","v":""},{"$f":"IF(LEFT(Template!$M$470,2)=\"SC\",Template!$M$470,\"\")","v":""},{"$f":"IF(LEFT(Template!$K$470,2)=\"AC\",Template!$K$470,\"\")","v":""},{"$f":"IF(OR(LEFT(Template!$K$470,2)=\"PJ\", LEFT(Template!$K$470,2)=\"PR\"),Template!$K$470,\"\")","v":""},{"$f":"IF(LEFT(Template!$K$470,2)=\"GF\",Template!$K$470,\"\")","v":""},{"$f":"IF(Template!$S$470<>\"\",Template!$S$470,\"\")","v":""},null,null,null,null,{"$f":"IF(Template!$L$470<>\"\",Template!$L$470,\"\")","v":""},"BYU_Child",null,null,"USD",null,9807.11,null,null,null,{"$f":"IF(Template!$O$470<>\"\",Template!$O$470,\"\")","v":""}]
[null,{"$f":"Template!$H$471","v":0},{"$error":"#REF!"},"Calendar_Year_Mar",{"$f":"IF(LEFT(Template!$K$471,2)=\"CC\",Template!$K$471,\"\")","v":""},{"$f":"IF(LEFT(Template!$M$471,2)=\"RC\",Template!$M$471,\"\")","v":""},{"$f":"IF(LEFT(Template!$M$471,2)=\"SC\",Template!$M$471,\"\")","v":""},{"$f":"IF(LEFT(Template!$K$471,2)=\"AC\",Template!$K$471,\"\")","v":""},{"$f":"IF(OR(LEFT(Template!$K$471,2)=\"PJ\", LEFT(Template!$K$471,2)=\"PR\"),Template!$K$471,\"\")","v":""},{"$f":"IF(LEFT(Template!$K$471,2)=\"GF\",Template!$K$471,\"\")","v":""},{"$f":"IF(Template!$S$471<>\"\",Template!$S$471,\"\")","v":""},null,null,null,null,{"$f":"IF(Template!$L$471<>\"\",Template!$L$471,\"\")","v":""},"BYU_Child",null,null,"USD",null,2568.25,null,null,null,{"$f":"IF(Template!$O$471<>\"\",Template!$O$471,\"\")","v":""}]
[null,{"$f":"Template!$H$472","v":0},{"$error":"#REF!"},"Calendar_Year_Mar",{"$f":"IF(LEFT(Template!$K$472,2)=\"CC\",Template!$K$472,\"\")","v":""},{"$f":"IF(LEFT(Template!$M$472,2)=\"RC\",Template!$M$472,\"\")","v":""},{"$f":"IF(LEFT(Template!$M$472,2)=\"SC\",Template!$M$472,\"\")","v":""},{"$f":"IF(LEFT(Template!$K$472,2)=\"AC\",Template!$K$472,\"\")","v":""},{"$f":"IF(OR(LEFT(Template!$K$472,2)=\"PJ\", LEFT(Template!$K$472,2)=\"PR\"),Template!$K$472,\"\")","v":""},{"$f":"IF(LEFT(Template!$K$472,2)=\"GF\",Template!$K$472,\"\")","v":""},{"$f":"IF(Template!$S$472<>\"\",Template!$S$472,\"\")","v":""},null,null,null,null,{"$f":"IF(Template!$L$472<>\"\",Template!$L$472,\"\")","v":""},"BYU_Child",null,null,"USD",null,1025.29,null,null,null,{"$f":"IF(Template!$O$472<>\"\",Template!$O$472,\"\")","v":""}]
[null,{"$f":"Template!$H$473","v":0},{"$error":"#REF!"},"Calendar_Year_Mar",{"$f":"IF(LEFT(Template!$K$473,2)=\"CC\",Template!$K$473,\"\")","v":""},{"$f":"IF(LEFT(Template!$M$473,2)=\"RC\",Template!$M$473,\"\")","v":""},{"$f":"IF(LEFT(Template!$M$473,2)=\"SC\",Template!$M$473,\"\")","v":""},{"$f":"IF(LEFT(Template!$K$473,2)=\"AC\",Template!$K$473,\"\")","v":""},{"$f":"IF(OR(LEFT(Template!$K$473,2)=\"PJ\", LEFT(Template!$K$473,2)=\"PR\"),Template!$K$473,\"\")","v":""},{"$f":"IF(LEFT(Template!$K$473,2)=\"GF\",Template!$K$473,\"\")","v":""},{"$f":"IF(Template!$S$473<>\"\",Template!$S$473,\"\")","v":""},null,null,null,null,{"$f":"IF(Template!$L$473<>\"\",Template!$L$473,\"\")","v":""},"BYU_Child",null,null,"USD",null,41216.78,null,null,null,{"$f":"IF(Template!$O$473<>\"\",Template!$O$473,\"\")","v":""}]
[null,{"$f":"Template!$H$474","v":0},{"$error":"#REF!"},"Calendar_Year_Mar",{"$f":"IF(LEFT(Template!$K$474,2)=\"CC\",Template!$K$474,\"\")","v":""},{"$f":"IF(LEFT(Template!$M$474,2)=\"RC\",Template!$M$474,\"\")","v":""},{"$f":"IF(LEFT(Template!$M$474,2)=\"SC\",Template!$M$474,\"\")","v":""},{"$f":"IF(LEFT(Template!$K$474,2)=\"AC\",Template!$K$474,\"\")","v":""},{"$f":"IF(OR(LEFT(Template!$K$474,2)=\"PJ\", LEFT(Template!$K$474,2)=\"PR\"),Template!$K$474,\"\")","v":""},{"$f":"IF(LEFT(Template!$K$474,2)=\"GF\",Template!$K$474,\"\")","v":""},{"$f":"IF(Template!$S$474<>\"\",Template!$S$474,\"\")","v":""},null,null,null,null,{"$f":"IF(Template!$L$474<>\"\",Template!$L$474,\"\")","v":""},"BYU_Child",null,null,"USD",null,1926.45,null,null,null,{"$f":"IF(Template!$O$474<>\"\",Template!$O$474,\"\")","v":""}]
[null,{"$f":"Template!$H$475","v":0},{"$error":"#REF!"},"Calendar_Year_Mar",{"$f":"IF(LEFT(Template!$K$475,2)=\"CC\",Template!$K$475,\"\")","v":""},{"$f":"IF(LEFT(Template!$M$475,2)=\"RC\",Template!$M$475,\"\")","v":""},{"$f":"IF(LEFT(Template!$M$475,2)=\"SC\",Template!$M$475,\"\")","v":""},{"$f":"IF(LEFT(Template!$K$475,2)=\"AC\",Template!$K$475,\"\")","v":""},{"$f":"IF(OR(LEFT(Template!$K$475,2)=\"PJ\", LEFT(Template!$K$475,2)=\"PR\"),Template!$K$475,\"\")","v":""},{"$f":"IF(LEFT(Template!$K$475,2)=\"GF\",Template!$K$475,\"\")","v":""},{"$f":"IF(Template!$S$475<>\"\",Template!$S$475,\"\")","v":""},null,null,null,null,{"$f":"IF(Template!$L$475<>\"\",Template!$L$475,\"\")","v":""},"BYU_Child",null,null,"USD",null,2003.34,null,null,null,{"$f":"IF(Template!$O$475<>\"\",Template!$O$475,\"\")","v":""}]
[null,{"$f":"Template!#REF!","v":{"$error":"#REF!"}},{"$error":"#REF!"},"Calendar_Year_Mar",{"$f":"IF(LEFT(Template!#REF!,2)=\"CC\",Template!#REF!,\"\")","v":{"$error":"#REF!"}},{"$f":"IF(LEFT(Template!#REF!,2)=\"RC\",Template!#REF!,\"\")","v":{"$error":"#REF!"}},{"$f":"IF(LEFT(Template!#REF!,2)=\"SC\",Template!#REF!,\"\")","v":{"$error":"#REF!"}},{"$f":"IF(LEFT(Template!#REF!,2)=\"AC\",Template!#REF!,\"\")","v":{"$error":"#REF!"}},{"$f":"IF(OR(LEFT(Template!#REF!,2)=\"PJ\", LEFT(Template!#REF!,2)=\"PR\"),Template!#REF!,\"\")","v":{"$error":"#REF!"}},{"$f":"IF(LEFT(Template!#REF!,2)=\"GF\",Template!#REF!,\"\")","v":{"$error":"#REF!"}},{"$f":"IF(Template!#REF!<>\"\",Template!#REF!,\"\")","v":{"$error":"#REF!"}},null,null,null,null,{"$f":"IF(Template!#REF!<>\"\",Template!#REF!,\"\")","v":{"$error":"#REF!"}},"BYU_Child",null,null,"USD",null,6.82,null,null,null,{"$f":"IF(Template!#REF!<>\"\",Template!#REF!,\"\")","v":{"$error":"#REF!"}}]
[null,{"$f":"Template!#REF!","v":{"$error":"#REF!"}},{"$error":"#REF!"},"Calendar_Year_Mar",{"$f":"IF(LEFT(Template!#REF!,2)=\"CC\",Template!#REF!,\"\")","v":{"$error":"#REF!"}},{"$f":"IF(LEFT(Template!#REF!,2)=\"RC\",Template!#REF!,\"\")","v":{"$error":"#REF!"}},{"$f":"IF(LEFT(Template!#REF!,2)=\"SC\",Template!#REF!,\"\")","v":{"$error":"#REF!"}},{"$f":"IF(LEFT(Template!#REF!,2)=\"AC\",Template!#REF!,\"\")","v":{"$error":"#REF!"}},{"$f":"IF(OR(LEFT(Template!#REF!,2)=\"PJ\", LEFT(Template!#REF!,2)=\"PR\"),Template!#REF!,\"\")","v":{"$error":"#REF!"}},{"$f":"IF(LEFT(Template!#REF!,2)=\"GF\",Template!#REF!,\"\")","v":{"$error":"#REF!"}},{"$f":"IF(Template!#REF!<>\"\",Template!#REF!,\"\")","v":{"$error":"#REF!"}},null,null,null,null,{"$f":"IF(Template!#REF!<>\"\",Template!#REF!,\"\")","v":{"$error":"#REF!"}},"BYU_Child",null,null,"USD",null,47720.46,null,null,null,{"$f":"IF(Template!#REF!<>\"\",Template!#REF!,\"\")","v":{"$error":"#REF!"}}]
[null,{"$f":"Template!#REF!","v":{"$error":"#REF!"}},{"$error":"#REF!"},"Calendar_Year_Mar",{"$f":"IF(LEFT(Template!#REF!,2)=\"CC\",Template!#REF!,\"\")","v":{"$error":"#REF!"}},{"$f":"IF(LEFT(Template!#REF!,2)=\"RC\",Template!#REF!,\"\")","v":{"$error":"#REF!"}},{"$f":"IF(LEFT(Template!#REF!,2)=\"SC\",Template!#REF!,\"\")","v":{"$error":"#REF!"}},{"$f":"IF(LEFT(Template!#REF!,2)=\"AC\",Template!#REF!,\"\")","v":{"$error":"#REF!"}},{"$f":"IF(OR(LEFT(Template!#REF!,2)=\"PJ\", LEFT(Template!#REF!,2)=\"PR\"),Template!#REF!,\"\")","v":{"$error":"#REF!"}},{"$f":"IF(LEFT(Template!#REF!,2)=\"GF\",Template!#REF!,\"\")","v":{"$error":"#REF!"}},{"$f":"IF(Template!#REF!<>\"\",Template!#REF!,\"\")","v":{"$error":"#REF!"}},null,null,null,null,{"$f":"IF(Template!#REF!<>\"\",Template!#REF!,\"\")","v":{"$error":"#REF!"}},"BYU_Child",null,null,"USD",null,832.88,null,null,null,{"$f":"IF(Template!#REF!<>\"\",Template!#REF!,\"\")","v":{"$error":"#REF!"}}]
[null,{"$f":"Template!#REF!","v":{"$error":"#REF!"}},{"$error":"#REF!"},"Calendar_Year_Mar",{"$f":"IF(LEFT(Template!#REF!,2)=\"CC\",Template!#REF!,\"\")","v":{"$error":"#REF!"}},{"$f":"IF(LEFT(Template!#REF!,2)=\"RC\",Template!#REF!,\"\")","v":{"$error":"#REF!"}},{"$f":"IF(LEFT(Template!#REF!,2)=\"SC\",Template!#REF!,\"\")","v":{"$error":"#REF!"}},{"$f":"IF(LEFT(Template!#REF!,2)=\"AC\",Template!#REF!,\"\")","v":{"$error":"#REF!"}},{"$f":"IF(OR(LEFT(Template!#REF!,2)=\"PJ\", LEFT(Template!#REF!,2)=\"PR\"),Template!#REF!,\"\")","v":{"$error":"#REF!"}},{"$f":"IF(LEFT(Template!#REF!,2)=\"GF\",Template!#REF!,\"\")","v":{"$error":"#REF!"}},{"$f":"IF(Template!#REF!<>\"\",Template!#REF!,\"\")","v":{"$error":"#REF!"}},null,null,null,null,{"$f":"IF(Template!#REF!<>\"\",Template!#REF!,\"\")","v":{"$error":"#REF!"}},"BYU_Child",null,null,"USD",null,2658.69,null,null,null,{"$f":"IF(Template!#REF!<>\"\",Template!#REF!,\"\")","v":{"$error":"#REF!"}}]
[null,{"$f":"Template!#REF!","v":{"$error":"#REF!"}},{"$error":"#REF!"},"Calendar_Year_Mar",{"$f":"IF(LEFT(Template!#REF!,2)=\"CC\",Template!#REF!,\"\")","v":{"$error":"#REF!"}},{"$f":"IF(LEFT(Template!#REF!,2)=\"RC\",Template!#REF!,\"\")","v":{"$error":"#REF!"}},{"$f":"IF(LEFT(Template!#REF!,2)=\"SC\",Template!#REF!,\"\")","v":{"$error":"#REF!"}},{"$f":"IF(LEFT(Template!#REF!,2)=\"AC\",Template!#REF!,\"\")","v":{"$error":"#REF!"}},{"$f":"IF(OR(LEFT(Template!#REF!,2)=\"PJ\", LEFT(Template!#REF!,2)=\"PR\"),Template!#REF!,\"\")","v":{"$error":"#REF!"}},{"$f":"IF(LEFT(Template!#REF!,2)=\"GF\",Template!#REF!,\"\")","v":{"$error":"#REF!"}},{"$f":"IF(Template!#REF!<>\"\",Template!#REF!,\"\")","v":{"$error":"#REF!"}},null,null,null,null,{"$f":"IF(Template!#REF!<>\"\",Template!#REF!,\"\")","v":{"$error":"#REF!"}},"BYU_Child",null,null,"USD",null,3712.44,null,null,null,{"$f":"IF(Template!#REF!<>\"\",Template!#REF!,\"\")","v":{"$error":"#REF!"}}]
[null,{"$f":"Template!#REF!","v":{"$error":"#REF!"}},{"$error":"#REF!"},"Calendar_Year_Mar",{"$f":"IF(LEFT(Template!#REF!,2)=\"CC\",Template!#REF!,\"\")","v":{"$error":"#REF!"}},{"$f":"IF(LEFT(Template!#REF!,2)=\"RC\",Template!#REF!,\"\")","v":{"$error":"#REF!"}},{"$f":"IF(LEFT(Template!#REF!,2)=\"SC\",Template!#REF!,\"\")","v":{"$error":"#REF!"}},{"$f":"IF(LEFT(Template!#REF!,2)=\"AC\",Template!#REF!,\"\")","v":{"$error":"#REF!"}},{"$f":"IF(OR(LEFT(Template!#REF!,2)=\"PJ\", LEFT(Template!#REF!,2)=\"PR\"),Template!#REF!,\"\")","v":{"$error":"#REF!"}},{"$f":"IF(LEFT(Template!#REF!,2)=\"GF\",Template!#REF!,\"\")","v":{"$error":"#REF!"}},{"$f":"IF(Template!#REF!<>\"\",Template!#REF!,\"\")","v":{"$error":"#REF!"}},null,null,null,null,{"$f":"IF(Template!#REF!<>\"\",Template!#REF!,\"\")","v":{"$error":"#REF!"}},"BYU_Child",null,null,"USD",null,2703.8,null,null,null,{"$f":"IF(Template!#REF!<>\"\",Template!#REF!,\"\")","v":{"$error":"#REF!"}}]
[null,{"$f":"Template!#REF!","v":{"$error":"#REF!"}},{"$error":"#REF!"},"Calendar_Year_Mar",{"$f":"IF(LEFT(Template!#REF!,2)=\"CC\",Template!#REF!,\"\")","v":{"$error":"#REF!"}},{"$f":"IF(LEFT(Template!#REF!,2)=\"RC\",Template!#REF!,\"\")","v":{"$error":"#REF!"}},{"$f":"IF(LEFT(Template!#REF!,2)=\"SC\",Template!#REF!,\"\")","v":{"$error":"#REF!"}},{"$f":"IF(LEFT(Template!#REF!,2)=\"AC\",Template!#REF!,\"\")","v":{"$error":"#REF!"}},{"$f":"IF(OR(LEFT(Template!#REF!,2)=\"PJ\", LEFT(Template!#REF!,2)=\"PR\"),Template!#REF!,\"\")","v":{"$error":"#REF!"}},{"$f":"IF(LEFT(Template!#REF!,2)=\"GF\",Template!#REF!,\"\")","v":{"$error":"#REF!"}},{"$f":"IF(Template!#REF!<>\"\",Template!#REF!,\"\")","v":{"$error":"#REF!"}},null,null,null,null,{"$f":"IF(Template!#REF!<>\"\",Template!#REF!,\"\")","v":{"$error":"#REF!"}},"BYU_Child",null,null,"USD",null,975.99,null,null,null,{"$f":"IF(Template!#REF!<>\"\",Template!#REF!,\"\")","v":{"$error":"#REF!"}}]
[null,{"$f":"Template!$H$476","v":0},{"$error":"#REF!"},"Calendar_Year_Mar",{"$f":"IF(LEFT(Template!$K$476,2)=\"CC\",Template!$K$476,\"\")","v":""},{"$f":"IF(LEFT(Template!$M$476,2)=\"RC\",Template!$M$476,\"\")","v":""},{"$f":"IF(LEFT(Template!$M$476,2)=\"SC\",Template!$M$476,\"\")","v":""},{"$f":"IF(LEFT(Template!$K$476,2)=\"AC\",Template!$K$476,\"\")","v":""},{"$f":"IF(OR(LEFT(Template!$K$476,2)=\"PJ\", LEFT(Template!$K$476,2)=\"PR\"),Template!$K$476,\"\")","v":""},{"$f":"IF(LEFT(Template!$K$476,2)=\"GF\",Template!$K$476,\"\")","v":""},{"$f":"IF(Template!$S$476<>\"\",Template!$S$476,\"\")","v":""},null,null,null,null,{"$f":"IF(Template!$L$476<>\"\",Template!$L$476,\"\")","v":""},"BYU_Child",null,null,"USD",null,4719.07,null,null,null,{"$f":"IF(Template!$O$476<>\"\",Template!$O$476,\"\")","v":""}]
[null,{"$f":"Template!$H$477","v":0},{"$error":"#REF!"},"Calendar_Year_Mar",{"$f":"IF(LEFT(Template!$K$477,2)=\"CC\",Template!$K$477,\"\")","v":""},{"$f":"IF(LEFT(Template!$M$477,2)=\"RC\",Template!$M$477,\"\")","v":""},{"$f":"IF(LEFT(Template!$M$477,2)=\"SC\",Template!$M$477,\"\")","v":""},{"$f":"IF(LEFT(Template!$K$477,2)=\"AC\",Template!$K$477,\"\")","v":""},{"$f":"IF(OR(LEFT(Template!$K$477,2)=\"PJ\", LEFT(Template!$K$477,2)=\"PR\"),Template!$K$477,\"\")","v":""},{"$f":"IF(LEFT(Template!$K$477,2)=\"GF\",Template!$K$477,\"\")","v":""},{"$f":"IF(Template!$S$477<>\"\",Template!$S$477,\"\")","v":""},null,null,null,null,{"$f":"IF(Template!$L$477<>\"\",Template!$L$477,\"\")","v":""},"BYU_Child",null,null,"USD",null,89870.88,null,null,null,{"$f":"IF(Template!$O$477<>\"\",Template!$O$477,\"\")","v":""}]
[null,{"$f":"Template!$H$478","v":0},{"$error":"#REF!"},"Calendar_Year_Mar",{"$f":"IF(LEFT(Template!$K$478,2)=\"CC\",Template!$K$478,\"\")","v":""},{"$f":"IF(LEFT(Template!$M$478,2)=\"RC\",Template!$M$478,\"\")","v":""},{"$f":"IF(LEFT(Template!$M$478,2)=\"SC\",Template!$M$478,\"\")","v":""},{"$f":"IF(LEFT(Template!$K$478,2)=\"AC\",Template!$K$478,\"\")","v":""},{"$f":"IF(OR(LEFT(Template!$K$478,2)=\"PJ\", LEFT(Template!$K$478,2)=\"PR\"),Template!$K$478,\"\")","v":""},{"$f":"IF(LEFT(Template!$K$478,2)=\"GF\",Template!$K$478,\"\")","v":""},{"$f":"IF(Template!$S$478<>\"\",Template!$S$478,\"\")","v":""},null,null,null,null,{"$f":"IF(Template!$L$478<>\"\",Template!$L$478,\"\")","v":""},"BYU_Child",null,null,"USD",null,851.02,null,null,null,{"$f":"IF(Template!$O$478<>\"\",Template!$O$478,\"\")","v":""}]
[null,{"$f":"Template!$H$479","v":0},{"$error":"#REF!"},"Calendar_Year_Mar",{"$f":"IF(LEFT(Template!$K$479,2)=\"CC\",Template!$K$479,\"\")","v":""},{"$f":"IF(LEFT(Template!$M$479,2)=\"RC\",Template!$M$479,\"\")","v":""},{"$f":"IF(LEFT(Template!$M$479,2)=\"SC\",Template!$M$479,\"\")","v":""},{"$f":"IF(LEFT(Template!$K$479,2)=\"AC\",Template!$K$479,\"\")","v":""},{"$f":"IF(OR(LEFT(Template!$K$479,2)=\"PJ\", LEFT(Template!$K$479,2)=\"PR\"),Template!$K$479,\"\")","v":""},{"$f":"IF(LEFT(Template!$K$479,2)=\"GF\",Template!$K$479,\"\")","v":""},{"$f":"IF(Template!$S$479<>\"\",Template!$S$479,\"\")","v":""},null,null,null,null,{"$f":"IF(Template!$L$479<>\"\",Template!$L$479,\"\")","v":""},"BYU_Child",null,null,"USD",null,2817.95,null,null,null,{"$f":"IF(Template!$O$479<>\"\",Template!$O$479,\"\")","v":""}]
[null,{"$f":"Template!$H$480","v":0},{"$error":"#REF!"},"Calendar_Year_Mar",{"$f":"IF(LEFT(Template!$K$480,2)=\"CC\",Template!$K$480,\"\")","v":""},{"$f":"IF(LEFT(Template!$M$480,2)=\"RC\",Template!$M$480,\"\")","v":""},{"$f":"IF(LEFT(Template!$M$480,2)=\"SC\",Template!$M$480,\"\")","v":""},{"$f":"IF(LEFT(Template!$K$480,2)=\"AC\",Template!$K$480,\"\")","v":""},{"$f":"IF(OR(LEFT(Template!$K$480,2)=\"PJ\", LEFT(Template!$K$480,2)=\"PR\"),Template!$K$480,\"\")","v":""},{"$f":"IF(LEFT(Template!$K$480,2)=\"GF\",Template!$K$480,\"\")","v":""},{"$f":"IF(Template!$S$480<>\"\",Template!$S$480,\"\")","v":""},null,null,null,null,{"$f":"IF(Template!$L$480<>\"\",Template!$L$480,\"\")","v":""},"BYU_Child",null,null,"USD",null,52.33,null,null,null,{"$f":"IF(Template!$O$480<>\"\",Template!$O$480,\"\")","v":""}]
[null,{"$f":"Template!$H$481","v":0},{"$error":"#REF!"},"Calendar_Year_Mar",{"$f":"IF(LEFT(Template!$K$481,2)=\"CC\",Template!$K$481,\"\")","v":""},{"$f":"IF(LEFT(Template!$M$481,2)=\"RC\",Template!$M$481,\"\")","v":""},{"$f":"IF(LEFT(Template!$M$481,2)=\"SC\",Template!$M$481,\"\")","v":""},{"$f":"IF(LEFT(Template!$K$481,2)=\"AC\",Template!$K$481,\"\")","v":""},{"$f":"IF(OR(LEFT(Template!$K$481,2)=\"PJ\", LEFT(Template!$K$481,2)=\"PR\"),Template!$K$481,\"\")","v":""},{"$f":"IF(LEFT(Template!$K$481,2)=\"GF\",Template!$K$481,\"\")","v":""},{"$f":"IF(Template!$S$481<>\"\",Template!$S$481,\"\")","v":""},null,null,null,null,{"$f":"IF(Template!$L$481<>\"\",Template!$L$481,\"\")","v":""},"BYU_Child",null,null,"USD",null,77858.080000000002,null,null,null,{"$f":"IF(Template!$O$481<>\"\",Template!$O$481,\"\")","v":""}]
[null,{"$f":"Template!$H$482","v":0},{"$error":"#REF!"},"Calendar_Year_Mar",{"$f":"IF(LEFT(Template!$K$482,2)=\"CC\",Template!$K$482,\"\")","v":""},{"$f":"IF(LEFT(Template!$M$482,2)=\"RC\",Template!$M$482,\"\")","v":""},{"$f":"IF(LEFT(Template!$M$482,2)=\"SC\",Template!$M$482,\"\")","v":""},{"$f":"IF(LEFT(Template!$K$482,2)=\"AC\",Template!$K$482,\"\")","v":""},{"$f":"IF(OR(LEFT(Template!$K$482,2)=\"PJ\", LEFT(Template!$K$482,2)=\"PR\"),Template!$K$482,\"\")","v":""},{"$f":"IF(LEFT(Template!$K$482,2)=\"GF\",Template!$K$482,\"\")","v":""},{"$f":"IF(Template!$S$482<>\"\",Template!$S$482,\"\")","v":""},null,null,null,null,{"$f":"IF(Template!$L$482<>\"\",Template!$L$482,\"\")","v":""},"BYU_Child",null,null,"USD",null,1969.75,null,null,null,{"$f":"IF(Template!$O$482<>\"\",Template!$O$482,\"\")","v":""}]
[null,{"$f":"Template!$H$483","v":0},{"$error":"#REF!"},"Calendar_Year_Mar",{"$f":"IF(LEFT(Template!$K$483,2)=\"CC\",Template!$K$483,\"\")","v":""},{"$f":"IF(LEFT(Template!$M$483,2)=\"RC\",Template!$M$483,\"\")","v":""},{"$f":"IF(LEFT(Template!$M$483,2)=\"SC\",Template!$M$483,\"\")","v":""},{"$f":"IF(LEFT(Template!$K$483,2)=\"AC\",Template!$K$483,\"\")","v":""},{"$f":"IF(OR(LEFT(Template!$K$483,2)=\"PJ\", LEFT(Template!$K$483,2)=\"PR\"),Template!$K$483,\"\")","v":""},{"$f":"IF(LEFT(Template!$K$483,2)=\"GF\",Template!$K$483,\"\")","v":""},{"$f":"IF(Template!$S$483<>\"\",Template!$S$483,\"\")","v":""},null,null,null,null,{"$f":"IF(Template!$L$483<>\"\",Template!$L$483,\"\")","v":""},"BYU_Child",null,null,"USD",null,2956.46,null,null,null,{"$f":"IF(Template!$O$483<>\"\",Template!$O$483,\"\")","v":""}]
[null,{"$f":"Template!$H$484","v":0},{"$error":"#REF!"},"Calendar_Year_Mar",{"$f":"IF(LEFT(Template!$K$484,2)=\"CC\",Template!$K$484,\"\")","v":""},{"$f":"IF(LEFT(Template!$M$484,2)=\"RC\",Template!$M$484,\"\")","v":""},{"$f":"IF(LEFT(Template!$M$484,2)=\"SC\",Template!$M$484,\"\")","v":""},{"$f":"IF(LEFT(Template!$K$484,2)=\"AC\",Template!$K$484,\"\")","v":""},{"$f":"IF(OR(LEFT(Template!$K$484,2)=\"PJ\", LEFT(Template!$K$484,2)=\"PR\"),Template!$K$484,\"\")","v":""},{"$f":"IF(LEFT(Template!$K$484,2)=\"GF\",Template!$K$484,\"\")","v":""},{"$f":"IF(Template!$S$484<>\"\",Template!$S$484,\"\")","v":""},null,null,null,null,{"$f":"IF(Template!$L$484<>\"\",Template!$L$484,\"\")","v":""},"BYU_Child",null,null,"USD",null,28745.56,null,null,null,{"$f":"IF(Template!$O$484<>\"\",Template!$O$484,\"\")","v":""}]
[null,{"$f":"Template!$H$485","v":0},{"$error":"#REF!"},"Calendar_Year_Mar",{"$f":"IF(LEFT(Template!$K$485,2)=\"CC\",Template!$K$485,\"\")","v":""},{"$f":"IF(LEFT(Template!$M$485,2)=\"RC\",Template!$M$485,\"\")","v":""},{"$f":"IF(LEFT(Template!$M$485,2)=\"SC\",Template!$M$485,\"\")","v":""},{"$f":"IF(LEFT(Template!$K$485,2)=\"AC\",Template!$K$485,\"\")","v":""},{"$f":"IF(OR(LEFT(Template!$K$485,2)=\"PJ\", LEFT(Template!$K$485,2)=\"PR\"),Template!$K$485,\"\")","v":""},{"$f":"IF(LEFT(Template!$K$485,2)=\"GF\",Template!$K$485,\"\")","v":""},{"$f":"IF(Template!$S$485<>\"\",Template!$S$485,\"\")","v":""},null,null,null,null,{"$f":"IF(Template!$L$485<>\"\",Template!$L$485,\"\")","v":""},"BYU_Child",null,null,"USD",null,1833.92,null,null,null,{"$f":"IF(Template!$O$485<>\"\",Template!$O$485,\"\")","v":""}]
[null,{"$f":"Template!$H$486","v":0},{"$error":"#REF!"},"Calendar_Year_Mar",{"$f":"IF(LEFT(Template!$K$486,2)=\"CC\",Template!$K$486,\"\")","v":""},{"$f":"IF(LEFT(Template!$M$486,2)=\"RC\",Template!$M$486,\"\")","v":""},{"$f":"IF(LEFT(Template!$M$486,2)=\"SC\",Template!$M$486,\"\")","v":""},{"$f":"IF(LEFT(Template!$K$486,2)=\"AC\",Template!$K$486,\"\")","v":""},{"$f":"IF(OR(LEFT(Template!$K$486,2)=\"PJ\", LEFT(Template!$K$486,2)=\"PR\"),Template!$K$486,\"\")","v":""},{"$f":"IF(LEFT(Template!$K$486,2)=\"GF\",Template!$K$486,\"\")","v":""},{"$f":"IF(Template!$S$486<>\"\",Template!$S$486,\"\")","v":""},null,null,null,null,{"$f":"IF(Template!$L$486<>\"\",Template!$L$486,\"\")","v":""},"BYU_Child",null,null,"USD",null,2646.56,null,null,null,{"$f":"IF(Template!$O$486<>\"\",Template!$O$486,\"\")","v":""}]
[null,{"$f":"Template!$H$487","v":0},{"$error":"#REF!"},"Calendar_Year_Mar",{"$f":"IF(LEFT(Template!$K$487,2)=\"CC\",Template!$K$487,\"\")","v":""},{"$f":"IF(LEFT(Template!$M$487,2)=\"RC\",Template!$M$487,\"\")","v":""},{"$f":"IF(LEFT(Template!$M$487,2)=\"SC\",Template!$M$487,\"\")","v":""},{"$f":"IF(LEFT(Template!$K$487,2)=\"AC\",Template!$K$487,\"\")","v":""},{"$f":"IF(OR(LEFT(Template!$K$487,2)=\"PJ\", LEFT(Template!$K$487,2)=\"PR\"),Template!$K$487,\"\")","v":""},{"$f":"IF(LEFT(Template!$K$487,2)=\"GF\",Template!$K$487,\"\")","v":""},{"$f":"IF(Template!$S$487<>\"\",Template!$S$487,\"\")","v":""},null,null,null,null,{"$f":"IF(Template!$L$487<>\"\",Template!$L$487,\"\")","v":""},"BYU_Child",null,null,"USD",null,94974.71,null,null,null,{"$f":"IF(Template!$O$487<>\"\",Template!$O$487,\"\")","v":""}]
[null,{"$f":"Template!$H$488","v":0},{"$error":"#REF!"},"Calendar_Year_Mar",{"$f":"IF(LEFT(Template!$K$488,2)=\"CC\",Template!$K$488,\"\")","v":""},{"$f":"IF(LEFT(Template!$M$488,2)=\"RC\",Template!$M$488,\"\")","v":""},{"$f":"IF(LEFT(Template!$M$488,2)=\"SC\",Template!$M$488,\"\")","v":""},{"$f":"IF(LEFT(Template!$K$488,2)=\"AC\",Template!$K$488,\"\")","v":""},{"$f":"IF(OR(LEFT(Template!$K$488,2)=\"PJ\", LEFT(Template!$K$488,2)=\"PR\"),Template!$K$488,\"\")","v":""},{"$f":"IF(LEFT(Template!$K$488,2)=\"GF\",Template!$K$488,\"\")","v":""},{"$f":"IF(Template!$S$488<>\"\",Template!$S$488,\"\")","v":""},null,null,null,null,{"$f":"IF(Template!$L$488<>\"\",Template!$L$488,\"\")","v":""},"BYU_Child",null,null,"USD",null,6686.61,null,null,null,{"$f":"IF(Template!$O$488<>\"\",Template!$O$488,\"\")","v":""}]
[null,{"$f":"Template!$H$489","v":0},{"$error":"#REF!"},"Calendar_Year_Mar",{"$f":"IF(LEFT(Template!$K$489,2)=\"CC\",Template!$K$489,\"\")","v":""},{"$f":"IF(LEFT(Template!$M$489,2)=\"RC\",Template!$M$489,\"\")","v":""},{"$f":"IF(LEFT(Template!$M$489,2)=\"SC\",Template!$M$489,\"\")","v":""},{"$f":"IF(LEFT(Template!$K$489,2)=\"AC\",Template!$K$489,\"\")","v":""},{"$f":"IF(OR(LEFT(Template!$K$489,2)=\"PJ\", LEFT(Template!$K$489,2)=\"PR\"),Template!$K$489,\"\")","v":""},{"$f":"IF(LEFT(Template!$K$489,2)=\"GF\",Template!$K$489,\"\")","v":""},{"$f":"IF(Template!$S$489<>\"\",Template!$S$489,\"\")","v":""},null,null,null,null,{"$f":"IF(Template!$L$489<>\"\",Template!$L$489,\"\")","v":""},"BYU_Child",null,null,"USD",null,3258.05,null,null,null,{"$f":"IF(Template!$O$489<>\"\",Template!$O$489,\"\")","v":""}]
[null,{"$f":"Template!$H$490","v":0},{"$error":"#REF!"},"Calendar_Year_Mar",{"$f":"IF(LEFT(Template!$K$490,2)=\"CC\",Template!$K$490,\"\")","v":""},{"$f":"IF(LEFT(Template!$M$490,2)=\"RC\",Template!$M$490,\"\")","v":""},{"$f":"IF(LEFT(Template!$M$490,2)=\"SC\",Template!$M$490,\"\")","v":""},{"$f":"IF(LEFT(Template!$K$490,2)=\"AC\",Template!$K$490,\"\")","v":""},{"$f":"IF(OR(LEFT(Template!$K$490,2)=\"PJ\", LEFT(Template!$K$490,2)=\"PR\"),Template!$K$490,\"\")","v":""},{"$f":"IF(LEFT(Template!$K$490,2)=\"GF\",Template!$K$490,\"\")","v":""},{"$f":"IF(Template!$S$490<>\"\",Template!$S$490,\"\")","v":""},null,null,null,null,{"$f":"IF(Template!$L$490<>\"\",Template!$L$490,\"\")","v":""},"BYU_Child",null,null,"USD",null,216.19,null,null,null,{"$f":"IF(Template!$O$490<>\"\",Template!$O$490,\"\")","v":""}]
[null,{"$f":"Template!$H$491","v":0},{"$error":"#REF!"},"Calendar_Year_Mar",{"$f":"IF(LEFT(Template!$K$491,2)=\"CC\",Template!$K$491,\"\")","v":""},{"$f":"IF(LEFT(Template!$M$491,2)=\"RC\",Template!$M$491,\"\")","v":""},{"$f":"IF(LEFT(Template!$M$491,2)=\"SC\",Template!$M$491,\"\")","v":""},{"$f":"IF(LEFT(Template!$K$491,2)=\"AC\",Template!$K$491,\"\")","v":""},{"$f":"IF(OR(LEFT(Template!$K$491,2)=\"PJ\", LEFT(Template!$K$491,2)=\"PR\"),Template!$K$491,\"\")","v":""},{"$f":"IF(LEFT(Template!$K$491,2)=\"GF\",Template!$K$491,\"\")","v":""},{"$f":"IF(Template!$S$491<>\"\",Template!$S$491,\"\")","v":""},null,null,null,null,{"$f":"IF(Template!$L$491<>\"\",Template!$L$491,\"\")","v":""},"BYU_Child",null,null,"USD",null,507.19,null,null,null,{"$f":"IF(Template!$O$491<>\"\",Template!$O$491,\"\")","v":""}]
[null,{"$f":"Template!$H$492","v":0},{"$error":"#REF!"},"Calendar_Year_Mar",{"$f":"IF(LEFT(Template!$K$492,2)=\"CC\",Template!$K$492,\"\")","v":""},{"$f":"IF(LEFT(Template!$M$492,2)=\"RC\",Template!$M$492,\"\")","v":""},{"$f":"IF(LEFT(Template!$M$492,2)=\"SC\",Template!$M$492,\"\")","v":""},{"$f":"IF(LEFT(Template!$K$492,2)=\"AC\",Template!$K$492,\"\")","v":""},{"$f":"IF(OR(LEFT(Template!$K$492,2)=\"PJ\", LEFT(Template!$K$492,2)=\"PR\"),Template!$K$492,\"\")","v":""},{"$f":"IF(LEFT(Template!$K$492,2)=\"GF\",Template!$K$492,\"\")","v":""},{"$f":"IF(Template!$S$492<>\"\",Template!$S$492,\"\")","v":""},null,null,null,null,{"$f":"IF(Template!$L$492<>\"\",Template!$L$492,\"\")","v":""},"BYU_Child",null,null,"USD",null,26566.68,null,null,null,{"$f":"IF(Template!$O$492<>\"\",Template!$O$492,\"\")","v":""}]
[null,{"$f":"Template!$H$493","v":0},{"$error":"#REF!"},"Calendar_Year_Mar",{"$f":"IF(LEFT(Template!$K$493,2)=\"CC\",Template!$K$493,\"\")","v":""},{"$f":"IF(LEFT(Template!$M$493,2)=\"RC\",Template!$M$493,\"\")","v":""},{"$f":"IF(LEFT(Template!$M$493,2)=\"SC\",Template!$M$493,\"\")","v":""},{"$f":"IF(LEFT(Template!$K$493,2)=\"AC\",Template!$K$493,\"\")","v":""},{"$f":"IF(OR(LEFT(Template!$K$493,2)=\"PJ\", LEFT(Template!$K$493,2)=\"PR\"),Template!$K$493,\"\")","v":""},{"$f":"IF(LEFT(Template!$K$493,2)=\"GF\",Template!$K$493,\"\")","v":""},{"$f":"IF(Template!$S$493<>\"\",Template!$S$493,\"\")","v":""},null,null,null,null,{"$f":"IF(Template!$L$493<>\"\",Template!$L$493,\"\")","v":""},"BYU_Child",null,null,"USD",null,34215.839999999997,null,null,null,{"$f":"IF(Template!$O$493<>\"\",Template!$O$493,\"\")","v":""}]
[null,{"$f":"Template!$H$494","v":0},{"$error":"#REF!"},"Calendar_Year_Mar",{"$f":"IF(LEFT(Template!$K$494,2)=\"CC\",Template!$K$494,\"\")","v":""},{"$f":"IF(LEFT(Template!$M$494,2)=\"RC\",Template!$M$494,\"\")","v":""},{"$f":"IF(LEFT(Template!$M$494,2)=\"SC\",Template!$M$494,\"\")","v":""},{"$f":"IF(LEFT(Template!$K$494,2)=\"AC\",Template!$K$494,\"\")","v":""},{"$f":"IF(OR(LEFT(Template!$K$494,2)=\"PJ\", LEFT(Template!$K$494,2)=\"PR\"),Template!$K$494,\"\")","v":""},{"$f":"IF(LEFT(Template!$K$494,2)=\"GF\",Template!$K$494,\"\")","v":""},{"$f":"IF(Template!$S$494<>\"\",Template!$S$494,\"\")","v":""},null,null,null,null,{"$f":"IF(Template!$L$494<>\"\",Template!$L$494,\"\")","v":""},"BYU_Child",null,null,"USD",null,6176.13,null,null,null,{"$f":"IF(Template!$O$494<>\"\",Template!$O$494,\"\")","v":""}]
[null,{"$f":"Template!$H$495","v":0},{"$error":"#REF!"},"Calendar_Year_Mar",{"$f":"IF(LEFT(Template!$K$495,2)=\"CC\",Template!$K$495,\"\")","v":""},{"$f":"IF(LEFT(Template!$M$495,2)=\"RC\",Template!$M$495,\"\")","v":""},{"$f":"IF(LEFT(Template!$M$495,2)=\"SC\",Template!$M$495,\"\")","v":""},{"$f":"IF(LEFT(Template!$K$495,2)=\"AC\",Template!$K$495,\"\")","v":""},{"$f":"IF(OR(LEFT(Template!$K$495,2)=\"PJ\", LEFT(Template!$K$495,2)=\"PR\"),Template!$K$495,\"\")","v":""},{"$f":"IF(LEFT(Template!$K$495,2)=\"GF\",Template!$K$495,\"\")","v":""},{"$f":"IF(Template!$S$495<>\"\",Template!$S$495,\"\")","v":""},null,null,null,null,{"$f":"IF(Template!$L$495<>\"\",Template!$L$495,\"\")","v":""},"BYU_Child",null,null,"USD",null,1502.39,null,null,null,{"$f":"IF(Template!$O$495<>\"\",Template!$O$495,\"\")","v":""}]
[null,{"$f":"Template!$H$496","v":0},{"$error":"#REF!"},"Calendar_Year_Mar",{"$f":"IF(LEFT(Template!$K$496,2)=\"CC\",Template!$K$496,\"\")","v":""},{"$f":"IF(LEFT(Template!$M$496,2)=\"RC\",Template!$M$496,\"\")","v":""},{"$f":"IF(LEFT(Template!$M$496,2)=\"SC\",Template!$M$496,\"\")","v":""},{"$f":"IF(LEFT(Template!$K$496,2)=\"AC\",Template!$K$496,\"\")","v":""},{"$f":"IF(OR(LEFT(Template!$K$496,2)=\"PJ\", LEFT(Template!$K$496,2)=\"PR\"),Template!$K$496,\"\")","v":""},{"$f":"IF(LEFT(Template!$K$496,2)=\"GF\",Template!$K$496,\"\")","v":""},{"$f":"IF(Template!$S$496<>\"\",Template!$S$496,\"\")","v":""},null,null,null,null,{"$f":"IF(Template!$L$496<>\"\",Template!$L$496,\"\")","v":""},"BYU_Child",null,null,"USD",null,178.14,null,null,null,{"$f":"IF(Template!$O$496<>\"\",Template!$O$496,\"\")","v":""}]
[null,{"$f":"Template!$H$497","v":0},{"$error":"#REF!"},"Calendar_Year_Mar",{"$f":"IF(LEFT(Template!$K$497,2)=\"CC\",Template!$K$497,\"\")","v":""},{"$f":"IF(LEFT(Template!$M$497,2)=\"RC\",Template!$M$497,\"\")","v":""},{"$f":"IF(LEFT(Template!$M$497,2)=\"SC\",Template!$M$497,\"\")","v":""},{"$f":"IF(LEFT(Template!$K$497,2)=\"AC\",Template!$K$497,\"\")","v":""},{"$f":"IF(OR(LEFT(Template!$K$497,2)=\"PJ\", LEFT(Template!$K$497,2)=\"PR\"),Template!$K$497,\"\")","v":""},{"$f":"IF(LEFT(Template!$K$497,2)=\"GF\",Template!$K$497,\"\")","v":""},{"$f":"IF(Template!$S$497<>\"\",Template!$S$497,\"\")","v":""},null,null,null,null,{"$f":"IF(Template!$L$497<>\"\",Template!$L$497,\"\")","v":""},"BYU_Child",null,null,"USD",null,31021.27,null,null,null,{"$f":"IF(Template!$O$497<>\"\",Template!$O$497,\"\")","v":""}]
[null,{"$f":"Template!$H$498","v":0},{"$f":"IF(B391=B390,C390+1,1)","v":{"$error":"#REF!"}},"Calendar_Year_Mar",{"$f":"IF(LEFT(Template!$K$498,2)=\"CC\",Template!$K$498,\"\")","v":""},{"$f":"IF(LEFT(Template!$M$498,2)=\"RC\",Template!$M$498,\"\")","v":""},{"$f":"IF(LEFT(Template!$M$498,2)=\"SC\",Template!$M$498,\"\")","v":""},{"$f":"IF(LEFT(Template!$K$498,2)=\"AC\",Template!$K$498,\"\")","v":""},{"$f":"IF(OR(LEFT(Template!$K$498,2)=\"PJ\", LEFT(Template!$K$498,2)=\"PR\"),Template!$K$498,\"\")","v":""},{"$f":"IF(LEFT(Template!$K$498,2)=\"GF\",Template!$K$498,\"\")","v":""},{"$f":"IF(Template!$S$498<>\"\",Template!$S$498,\"\")","v":""},null,null,null,null,{"$f":"IF(Template!$L$498<>\"\",Template!$L$498,\"\")","v":""},"BYU_Child",null,null,"USD",null,2175.12,null,null,null,{"$f":"IF(Template!$O$498<>\"\",Template!$O$498,\"\")","v":""}]
[null,{"$f":"Template!$H$499","v":0},{"$error":"#REF!"},"Calendar_Year_Mar",{"$f":"IF(LEFT(Template!$K$499,2)=\"CC\",Template!$K$499,\"\")","v":""},{"$f":"IF(LEFT(Template!$M$499,2)=\"RC\",Template!$M$499,\"\")","v":""},{"$f":"IF(LEFT(Template!$M$499,2)=\"SC\",Template!$M$499,\"\")","v":""},{"$f":"IF(LEFT(Template!$K$499,2)=\"AC\",Template!$K$499,\"\")","v":""},{"$f":"IF(OR(LEFT(Template!$K$499,2)=\"PJ\", LEFT(Template!$K$499,2)=\"PR\"),Template!$K$499,\"\")","v":""},{"$f":"IF(LEFT(Template!$K$499,2)=\"GF\",Template!$K$499,\"\")","v":""},{"$f":"IF(Template!$S$499<>\"\",Template!$S$499,\"\")","v":""},null,null,null,null,{"$f":"IF(Template!$L$499<>\"\",Template!$L$499,\"\")","v":""},"BYU_Child",null,null,"USD",null,2948.19,null,null,null,{"$f":"IF(Template!$O$499<>\"\",Template!$O$499,\"\")","v":""}]
[null,{"$f":"Template!$H$500","v":0},{"$error":"#REF!"},"Calendar_Year_Mar",{"$f":"IF(LEFT(Template!$K$500,2)=\"CC\",Template!$K$500,\"\")","v":""},{"$f":"IF(LEFT(Template!$M$500,2)=\"RC\",Template!$M$500,\"\")","v":""},{"$f":"IF(LEFT(Template!$M$500,2)=\"SC\",Template!$M$500,\"\")","v":""},{"$f":"IF(LEFT(Template!$K$500,2)=\"AC\",Template!$K$500,\"\")","v":""},{"$f":"IF(OR(LEFT(Template!$K$500,2)=\"PJ\", LEFT(Template!$K$500,2)=\"PR\"),Template!$K$500,\"\")","v":""},{"$f":"IF(LEFT(Template!$K$500,2)=\"GF\",Template!$K$500,\"\")","v":""},{"$f":"IF(Template!$S$500<>\"\",Template!$S$500,\"\")","v":""},null,null,null,null,{"$f":"IF(Template!$L$500<>\"\",Template!$L$500,\"\")","v":""},"BYU_Child",null,null,"USD",null,50.47,null,null,null,{"$f":"IF(Template!$O$500<>\"\",Template!$O$500,\"\")","v":""}]
[null,{"$f":"Template!$H$501","v":0},{"$error":"#REF!"},"Calendar_Year_Mar",{"$f":"IF(LEFT(Template!$K$501,2)=\"CC\",Template!$K$501,\"\")","v":""},{"$f":"IF(LEFT(Template!$M$501,2)=\"RC\",Template!$M$501,\"\")","v":""},{"$f":"IF(LEFT(Template!$M$501,2)=\"SC\",Template!$M$501,\"\")","v":""},{"$f":"IF(LEFT(Template!$K$501,2)=\"AC\",Template!$K$501,\"\")","v":""},{"$f":"IF(OR(LEFT(Template!$K$501,2)=\"PJ\", LEFT(Template!$K$501,2)=\"PR\"),Template!$K$501,\"\")","v":""},{"$f":"IF(LEFT(Template!$K$501,2)=\"GF\",Template!$K$501,\"\")","v":""},{"$f":"IF(Template!$S$501<>\"\",Template!$S$501,\"\")","v":""},null,null,null,null,{"$f":"IF(Template!$L$501<>\"\",Template!$L$501,\"\")","v":""},"BYU_Child",null,null,"USD",null,55528.85,null,null,null,{"$f":"IF(Template!$O$501<>\"\",Template!$O$501,\"\")","v":""}]
[null,{"$f":"Template!$H$502","v":0},{"$error":"#REF!"},"Calendar_Year_Mar",{"$f":"IF(LEFT(Template!$K$502,2)=\"CC\",Template!$K$502,\"\")","v":""},{"$f":"IF(LEFT(Template!$M$502,2)=\"RC\",Template!$M$502,\"\")","v":""},{"$f":"IF(LEFT(Template!$M$502,2)=\"SC\",Template!$M$502,\"\")","v":""},{"$f":"IF(LEFT(Template!$K$502,2)=\"AC\",Template!$K$502,\"\")","v":""},{"$f":"IF(OR(LEFT(Template!$K$502,2)=\"PJ\", LEFT(Template!$K$502,2)=\"PR\"),Template!$K$502,\"\")","v":""},{"$f":"IF(LEFT(Template!$K$502,2)=\"GF\",Template!$K$502,\"\")","v":""},{"$f":"IF(Template!$S$502<>\"\",Template!$S$502,\"\")","v":""},null,null,null,null,{"$f":"IF(Template!$L$502<>\"\",Template!$L$502,\"\")","v":""},"BYU_Child",null,null,"USD",null,218.73,null,null,null,{"$f":"IF(Template!$O$502<>\"\",Template!$O$502,\"\")","v":""}]
[null,{"$f":"Template!$H$503","v":0},{"$error":"#REF!"},"Calendar_Year_Mar",{"$f":"IF(LEFT(Template!$K$503,2)=\"CC\",Template!$K$503,\"\")","v":""},{"$f":"IF(LEFT(Template!$M$503,2)=\"RC\",Template!$M$503,\"\")","v":""},{"$f":"IF(LEFT(Template!$M$503,2)=\"SC\",Template!$M$503,\"\")","v":""},{"$f":"IF(LEFT(Template!$K$503,2)=\"AC\",Template!$K$503,\"\")","v":""},{"$f":"IF(OR(LEFT(Template!$K$503,2)=\"PJ\", LEFT(Template!$K$503,2)=\"PR\"),Template!$K$503,\"\")","v":""},{"$f":"IF(LEFT(Template!$K$503,2)=\"GF\",Template!$K$503,\"\")","v":""},{"$f":"IF(Template!$S$503<>\"\",Template!$S$503,\"\")","v":""},null,null,null,null,{"$f":"IF(Template!$L$503<>\"\",Template!$L$503,\"\")","v":""},"BYU_Child",null,null,"USD",null,2490.9699999999998,null,null,null,{"$f":"IF(Template!$O$503<>\"\",Template!$O$503,\"\")","v":""}]
[null,{"$f":"Template!$H$504","v":0},{"$error":"#REF!"},"Calendar_Year_Mar",{"$f":"IF(LEFT(Template!$K$504,2)=\"CC\",Template!$K$504,\"\")","v":""},{"$f":"IF(LEFT(Template!$M$504,2)=\"RC\",Template!$M$504,\"\")","v":""},{"$f":"IF(LEFT(Template!$M$504,2)=\"SC\",Template!$M$504,\"\")","v":""},{"$f":"IF(LEFT(Template!$K$504,2)=\"AC\",Template!$K$504,\"\")","v":""},{"$f":"IF(OR(LEFT(Template!$K$504,2)=\"PJ\", LEFT(Template!$K$504,2)=\"PR\"),Template!$K$504,\"\")","v":""},{"$f":"IF(LEFT(Template!$K$504,2)=\"GF\",Template!$K$504,\"\")","v":""},{"$f":"IF(Template!$S$504<>\"\",Template!$S$504,\"\")","v":""},null,null,null,null,{"$f":"IF(Template!$L$504<>\"\",Template!$L$504,\"\")","v":""},"BYU_Child",null,null,"USD",null,629.80999999999995,null,null,null,{"$f":"IF(Template!$O$504<>\"\",Template!$O$504,\"\")","v":""}]
[null,{"$f":"Template!$H$505","v":0},{"$error":"#REF!"},"Calendar_Year_Mar",{"$f":"IF(LEFT(Template!$K$505,2)=\"CC\",Template!$K$505,\"\")","v":""},{"$f":"IF(LEFT(Template!$M$505,2)=\"RC\",Template!$M$505,\"\")","v":""},{"$f":"IF(LEFT(Template!$M$505,2)=\"SC\",Template!$M$505,\"\")","v":""},{"$f":"IF(LEFT(Template!$K$505,2)=\"AC\",Template!$K$505,\"\")","v":""},{"$f":"IF(OR(LEFT(Template!$K$505,2)=\"PJ\", LEFT(Template!$K$505,2)=\"PR\"),Template!$K$505,\"\")","v":""},{"$f":"IF(LEFT(Template!$K$505,2)=\"GF\",Template!$K$505,\"\")","v":""},{"$f":"IF(Template!$S$505<>\"\",Template!$S$505,\"\")","v":""},null,null,null,null,{"$f":"IF(Template!$L$505<>\"\",Template!$L$505,\"\")","v":""},"BYU_Child",null,null,"USD",null,29949.919999999998,null,null,null,{"$f":"IF(Template!$O$505<>\"\",Template!$O$505,\"\")","v":""}]
[null,{"$f":"Template!$H$506","v":0},{"$error":"#REF!"},"Calendar_Year_Mar",{"$f":"IF(LEFT(Template!$K$506,2)=\"CC\",Template!$K$506,\"\")","v":""},{"$f":"IF(LEFT(Template!$M$506,2)=\"RC\",Template!$M$506,\"\")","v":""},{"$f":"IF(LEFT(Template!$M$506,2)=\"SC\",Template!$M$506,\"\")","v":""},{"$f":"IF(LEFT(Template!$K$506,2)=\"AC\",Template!$K$506,\"\")","v":""},{"$f":"IF(OR(LEFT(Template!$K$506,2)=\"PJ\", LEFT(Template!$K$506,2)=\"PR\"),Template!$K$506,\"\")","v":""},{"$f":"IF(LEFT(Template!$K$506,2)=\"GF\",Template!$K$506,\"\")","v":""},{"$f":"IF(Template!$S$506<>\"\",Template!$S$506,\"\")","v":""},null,null,null,null,{"$f":"IF(Template!$L$506<>\"\",Template!$L$506,\"\")","v":""},"BYU_Child",null,null,"USD",null,295.97000000000003,null,null,null,{"$f":"IF(Template!$O$506<>\"\",Template!$O$506,\"\")","v":""}]
[null,{"$f":"Template!$H$507","v":0},{"$error":"#REF!"},"Calendar_Year_Mar",{"$f":"IF(LEFT(Template!$K$507,2)=\"CC\",Template!$K$507,\"\")","v":""},{"$f":"IF(LEFT(Template!$M$507,2)=\"RC\",Template!$M$507,\"\")","v":""},{"$f":"IF(LEFT(Template!$M$507,2)=\"SC\",Template!$M$507,\"\")","v":""},{"$f":"IF(LEFT(Template!$K$507,2)=\"AC\",Template!$K$507,\"\")","v":""},{"$f":"IF(OR(LEFT(Template!$K$507,2)=\"PJ\", LEFT(Template!$K$507,2)=\"PR\"),Template!$K$507,\"\")","v":""},{"$f":"IF(LEFT(Template!$K$507,2)=\"GF\",Template!$K$507,\"\")","v":""},{"$f":"IF(Template!$S$507<>\"\",Template!$S$507,\"\")","v":""},null,null,null,null,{"$f":"IF(Template!$L$507<>\"\",Template!$L$507,\"\")","v":""},"BYU_Child",null,null,"USD",null,2350.4699999999998,null,null,null,{"$f":"IF(Template!$O$507<>\"\",Template!$O$507,\"\")","v":""}]
[null,{"$f":"Template!$H$508","v":0},{"$error":"#REF!"},"Calendar_Year_Mar",{"$f":"IF(LEFT(Template!$K$508,2)=\"CC\",Template!$K$508,\"\")","v":""},{"$f":"IF(LEFT(Template!$M$508,2)=\"RC\",Template!$M$508,\"\")","v":""},{"$f":"IF(LEFT(Template!$M$508,2)=\"SC\",Template!$M$508,\"\")","v":""},{"$f":"IF(LEFT(Template!$K$508,2)=\"AC\",Template!$K$508,\"\")","v":""},{"$f":"IF(OR(LEFT(Template!$K$508,2)=\"PJ\", LEFT(Template!$K$508,2)=\"PR\"),Template!$K$508,\"\")","v":""},{"$f":"IF(LEFT(Template!$K$508,2)=\"GF\",Template!$K$508,\"\")","v":""},{"$f":"IF(Template!$S$508<>\"\",Template!$S$508,\"\")","v":""},null,null,null,null,{"$f":"IF(Template!$L$508<>\"\",Template!$L$508,\"\")","v":""},"BYU_Child",null,null,"USD",null,0.38,null,null,null,{"$f":"IF(Template!$O$508<>\"\",Template!$O$508,\"\")","v":""}]
[null,{"$f":"Template!$H$509","v":0},{"$error":"#REF!"},"Calendar_Year_Mar",{"$f":"IF(LEFT(Template!$K$509,2)=\"CC\",Template!$K$509,\"\")","v":""},{"$f":"IF(LEFT(Template!$M$509,2)=\"RC\",Template!$M$509,\"\")","v":""},{"$f":"IF(LEFT(Template!$M$509,2)=\"SC\",Template!$M$509,\"\")","v":""},{"$f":"IF(LEFT(Template!$K$509,2)=\"AC\",Template!$K$509,\"\")","v":""},{"$f":"IF(OR(LEFT(Template!$K$509,2)=\"PJ\", LEFT(Template!$K$509,2)=\"PR\"),Template!$K$509,\"\")","v":""},{"$f":"IF(LEFT(Template!$K$509,2)=\"GF\",Template!$K$509,\"\")","v":""},{"$f":"IF(Template!$S$509<>\"\",Template!$S$509,\"\")","v":""},null,null,null,null,{"$f":"IF(Template!$L$509<>\"\",Template!$L$509,\"\")","v":""},"BYU_Child",null,null,"USD",null,2145.56,null,null,null,{"$f":"IF(Template!$O$509<>\"\",Template!$O$509,\"\")","v":""}]
[null,{"$f":"Template!$H$510","v":0},{"$error":"#REF!"},"Calendar_Year_Mar",{"$f":"IF(LEFT(Template!$K$510,2)=\"CC\",Template!$K$510,\"\")","v":""},{"$f":"IF(LEFT(Template!$M$510,2)=\"RC\",Template!$M$510,\"\")","v":""},{"$f":"IF(LEFT(Template!$M$510,2)=\"SC\",Template!$M$510,\"\")","v":""},{"$f":"IF(LEFT(Template!$K$510,2)=\"AC\",Template!$K$510,\"\")","v":""},{"$f":"IF(OR(LEFT(Template!$K$510,2)=\"PJ\", LEFT(Template!$K$510,2)=\"PR\"),Template!$K$510,\"\")","v":""},{"$f":"IF(LEFT(Template!$K$510,2)=\"GF\",Template!$K$510,\"\")","v":""},{"$f":"IF(Template!$S$510<>\"\",Template!$S$510,\"\")","v":""},null,null,null,null,{"$f":"IF(Template!$L$510<>\"\",Template!$L$510,\"\")","v":""},"BYU_Child",null,null,"USD",null,25198.94,null,null,null,{"$f":"IF(Template!$O$510<>\"\",Template!$O$510,\"\")","v":""}]
[null,{"$f":"Template!$H$511","v":0},{"$error":"#REF!"},"Calendar_Year_Mar",{"$f":"IF(LEFT(Template!$K$511,2)=\"CC\",Template!$K$511,\"\")","v":""},{"$f":"IF(LEFT(Template!$M$511,2)=\"RC\",Template!$M$511,\"\")","v":""},{"$f":"IF(LEFT(Template!$M$511,2)=\"SC\",Template!$M$511,\"\")","v":""},{"$f":"IF(LEFT(Template!$K$511,2)=\"AC\",Template!$K$511,\"\")","v":""},{"$f":"IF(OR(LEFT(Template!$K$511,2)=\"PJ\", LEFT(Template!$K$511,2)=\"PR\"),Template!$K$511,\"\")","v":""},{"$f":"IF(LEFT(Template!$K$511,2)=\"GF\",Template!$K$511,\"\")","v":""},{"$f":"IF(Template!$S$511<>\"\",Template!$S$511,\"\")","v":""},null,null,null,null,{"$f":"IF(Template!$L$511<>\"\",Template!$L$511,\"\")","v":""},"BYU_Child",null,null,"USD",null,385,null,null,null,{"$f":"IF(Template!$O$511<>\"\",Template!$O$511,\"\")","v":""}]
[null,{"$f":"Template!$H$512","v":0},{"$error":"#REF!"},"Calendar_Year_Mar",{"$f":"IF(LEFT(Template!$K$512,2)=\"CC\",Template!$K$512,\"\")","v":""},{"$f":"IF(LEFT(Template!$M$512,2)=\"RC\",Template!$M$512,\"\")","v":""},{"$f":"IF(LEFT(Template!$M$512,2)=\"SC\",Template!$M$512,\"\")","v":""},{"$f":"IF(LEFT(Template!$K$512,2)=\"AC\",Template!$K$512,\"\")","v":""},{"$f":"IF(OR(LEFT(Template!$K$512,2)=\"PJ\", LEFT(Template!$K$512,2)=\"PR\"),Template!$K$512,\"\")","v":""},{"$f":"IF(LEFT(Template!$K$512,2)=\"GF\",Template!$K$512,\"\")","v":""},{"$f":"IF(Template!$S$512<>\"\",Template!$S$512,\"\")","v":""},null,null,null,null,{"$f":"IF(Template!$L$512<>\"\",Template!$L$512,\"\")","v":""},"BYU_Child",null,null,"USD",null,16.989999999999998,null,null,null,{"$f":"IF(Template!$O$512<>\"\",Template!$O$512,\"\")","v":""}]
[null,{"$f":"Template!$H$513","v":0},{"$error":"#REF!"},"Calendar_Year_Mar",{"$f":"IF(LEFT(Template!$K$513,2)=\"CC\",Template!$K$513,\"\")","v":""},{"$f":"IF(LEFT(Template!$M$513,2)=\"RC\",Template!$M$513,\"\")","v":""},{"$f":"IF(LEFT(Template!$M$513,2)=\"SC\",Template!$M$513,\"\")","v":""},{"$f":"IF(LEFT(Template!$K$513,2)=\"AC\",Template!$K$513,\"\")","v":""},{"$f":"IF(OR(LEFT(Template!$K$513,2)=\"PJ\", LEFT(Template!$K$513,2)=\"PR\"),Template!$K$513,\"\")","v":""},{"$f":"IF(LEFT(Template!$K$513,2)=\"GF\",Template!$K$513,\"\")","v":""},{"$f":"IF(Template!$S$513<>\"\",Template!$S$513,\"\")","v":""},null,null,null,null,{"$f":"IF(Template!$L$513<>\"\",Template!$L$513,\"\")","v":""},"BYU_Child",null,null,"USD",null,16203.41,null,null,null,{"$f":"IF(Template!$O$513<>\"\",Template!$O$513,\"\")","v":""}]
[null,{"$f":"Template!$H$514","v":0},{"$error":"#REF!"},"Calendar_Year_Mar",{"$f":"IF(LEFT(Template!$K$514,2)=\"CC\",Template!$K$514,\"\")","v":""},{"$f":"IF(LEFT(Template!$M$514,2)=\"RC\",Template!$M$514,\"\")","v":""},{"$f":"IF(LEFT(Template!$M$514,2)=\"SC\",Template!$M$514,\"\")","v":""},{"$f":"IF(LEFT(Template!$K$514,2)=\"AC\",Template!$K$514,\"\")","v":""},{"$f":"IF(OR(LEFT(Template!$K$514,2)=\"PJ\", LEFT(Template!$K$514,2)=\"PR\"),Template!$K$514,\"\")","v":""},{"$f":"IF(LEFT(Template!$K$514,2)=\"GF\",Template!$K$514,\"\")","v":""},{"$f":"IF(Template!$S$514<>\"\",Template!$S$514,\"\")","v":""},null,null,null,null,{"$f":"IF(Template!$L$514<>\"\",Template!$L$514,\"\")","v":""},"BYU_Child",null,null,"USD",null,4048.48,null,null,null,{"$f":"IF(Template!$O$514<>\"\",Template!$O$514,\"\")","v":""}]
[null,{"$f":"Template!$H$515","v":0},{"$error":"#REF!"},"Calendar_Year_Mar",{"$f":"IF(LEFT(Template!$K$515,2)=\"CC\",Template!$K$515,\"\")","v":""},{"$f":"IF(LEFT(Template!$M$515,2)=\"RC\",Template!$M$515,\"\")","v":""},{"$f":"IF(LEFT(Template!$M$515,2)=\"SC\",Template!$M$515,\"\")","v":""},{"$f":"IF(LEFT(Template!$K$515,2)=\"AC\",Template!$K$515,\"\")","v":""},{"$f":"IF(OR(LEFT(Template!$K$515,2)=\"PJ\", LEFT(Template!$K$515,2)=\"PR\"),Template!$K$515,\"\")","v":""},{"$f":"IF(LEFT(Template!$K$515,2)=\"GF\",Template!$K$515,\"\")","v":""},{"$f":"IF(Template!$S$515<>\"\",Template!$S$515,\"\")","v":""},null,null,null,null,{"$f":"IF(Template!$L$515<>\"\",Template!$L$515,\"\")","v":""},"BYU_Child",null,null,"USD",null,484.46,null,null,null,{"$f":"IF(Template!$O$515<>\"\",Template!$O$515,\"\")","v":""}]
[null,{"$f":"Template!$H$516","v":0},{"$error":"#REF!"},"Calendar_Year_Mar",{"$f":"IF(LEFT(Template!$K$516,2)=\"CC\",Template!$K$516,\"\")","v":""},{"$f":"IF(LEFT(Template!$M$516,2)=\"RC\",Template!$M$516,\"\")","v":""},{"$f":"IF(LEFT(Template!$M$516,2)=\"SC\",Template!$M$516,\"\")","v":""},{"$f":"IF(LEFT(Template!$K$516,2)=\"AC\",Template!$K$516,\"\")","v":""},{"$f":"IF(OR(LEFT(Template!$K$516,2)=\"PJ\", LEFT(Template!$K$516,2)=\"PR\"),Template!$K$516,\"\")","v":""},{"$f":"IF(LEFT(Template!$K$516,2)=\"GF\",Template!$K$516,\"\")","v":""},{"$f":"IF(Template!$S$516<>\"\",Template!$S$516,\"\")","v":""},null,null,null,null,{"$f":"IF(Template!$L$516<>\"\",Template!$L$516,\"\")","v":""},"BYU_Child",null,null,"USD",null,2319.02,null,null,null,{"$f":"IF(Template!$O$516<>\"\",Template!$O$516,\"\")","v":""}]
[null,{"$f":"Template!$H$517","v":0},{"$error":"#REF!"},"Calendar_Year_Mar",{"$f":"IF(LEFT(Template!$K$517,2)=\"CC\",Template!$K$517,\"\")","v":""},{"$f":"IF(LEFT(Template!$M$517,2)=\"RC\",Template!$M$517,\"\")","v":""},{"$f":"IF(LEFT(Template!$M$517,2)=\"SC\",Template!$M$517,\"\")","v":""},{"$f":"IF(LEFT(Template!$K$517,2)=\"AC\",Template!$K$517,\"\")","v":""},{"$f":"IF(OR(LEFT(Template!$K$517,2)=\"PJ\", LEFT(Template!$K$517,2)=\"PR\"),Template!$K$517,\"\")","v":""},{"$f":"IF(LEFT(Template!$K$517,2)=\"GF\",Template!$K$517,\"\")","v":""},{"$f":"IF(Template!$S$517<>\"\",Template!$S$517,\"\")","v":""},null,null,null,null,{"$f":"IF(Template!$L$517<>\"\",Template!$L$517,\"\")","v":""},"BYU_Child",null,null,"USD",null,32.24,null,null,null,{"$f":"IF(Template!$O$517<>\"\",Template!$O$517,\"\")","v":""}]
[null,{"$f":"Template!$H$518","v":0},{"$error":"#REF!"},"Calendar_Year_Mar",{"$f":"IF(LEFT(Template!$K$518,2)=\"CC\",Template!$K$518,\"\")","v":""},{"$f":"IF(LEFT(Template!$M$518,2)=\"RC\",Template!$M$518,\"\")","v":""},{"$f":"IF(LEFT(Template!$M$518,2)=\"SC\",Template!$M$518,\"\")","v":""},{"$f":"IF(LEFT(Template!$K$518,2)=\"AC\",Template!$K$518,\"\")","v":""},{"$f":"IF(OR(LEFT(Template!$K$518,2)=\"PJ\", LEFT(Template!$K$518,2)=\"PR\"),Template!$K$518,\"\")","v":""},{"$f":"IF(LEFT(Template!$K$518,2)=\"GF\",Template!$K$518,\"\")","v":""},{"$f":"IF(Template!$S$518<>\"\",Template!$S$518,\"\")","v":""},null,null,null,null,{"$f":"IF(Template!$L$518<>\"\",Template!$L$518,\"\")","v":""},"BYU_Child",null,null,"USD",null,null,15.76,null,null,{"$f":"IF(Template!$O$518<>\"\",Template!$O$518,\"\")","v":""}]
[null,{"$f":"Template!$H$519","v":0},{"$error":"#REF!"},"Calendar_Year_Mar",{"$f":"IF(LEFT(Template!$K$519,2)=\"CC\",Template!$K$519,\"\")","v":""},{"$f":"IF(LEFT(Template!$M$519,2)=\"RC\",Template!$M$519,\"\")","v":""},{"$f":"IF(LEFT(Template!$M$519,2)=\"SC\",Template!$M$519,\"\")","v":""},{"$f":"IF(LEFT(Template!$K$519,2)=\"AC\",Template!$K$519,\"\")","v":""},{"$f":"IF(OR(LEFT(Template!$K$519,2)=\"PJ\", LEFT(Template!$K$519,2)=\"PR\"),Template!$K$519,\"\")","v":""},{"$f":"IF(LEFT(Template!$K$519,2)=\"GF\",Template!$K$519,\"\")","v":""},{"$f":"IF(Template!$S$519<>\"\",Template!$S$519,\"\")","v":""},null,null,null,null,{"$f":"IF(Template!$L$519<>\"\",Template!$L$519,\"\")","v":""},"BYU_Child",null,null,"USD",null,85081.07,null,null,null,{"$f":"IF(Template!$O$519<>\"\",Template!$O$519,\"\")","v":""}]
[null,{"$f":"Template!$H$520","v":0},{"$error":"#REF!"},"Calendar_Year_Mar",{"$f":"IF(LEFT(Template!$K$520,2)=\"CC\",Template!$K$520,\"\")","v":""},{"$f":"IF(LEFT(Template!$M$520,2)=\"RC\",Template!$M$520,\"\")","v":""},{"$f":"IF(LEFT(Template!$M$520,2)=\"SC\",Template!$M$520,\"\")","v":""},{"$f":"IF(LEFT(Template!$K$520,2)=\"AC\",Template!$K$520,\"\")","v":""},{"$f":"IF(OR(LEFT(Template!$K$520,2)=\"PJ\", LEFT(Template!$K$520,2)=\"PR\"),Template!$K$520,\"\")","v":""},{"$f":"IF(LEFT(Template!$K$520,2)=\"GF\",Template!$K$520,\"\")","v":""},{"$f":"IF(Template!$S$520<>\"\",Template!$S$520,\"\")","v":""},null,null,null,null,{"$f":"IF(Template!$L$520<>\"\",Template!$L$520,\"\")","v":""},"BYU_Child",null,null,"USD",null,3214.17,null,null,null,{"$f":"IF(Template!$O$520<>\"\",Template!$O$520,\"\")","v":""}]
[null,{"$f":"Template!$H$521","v":0},{"$error":"#REF!"},"Calendar_Year_Mar",{"$f":"IF(LEFT(Template!$K$521,2)=\"CC\",Template!$K$521,\"\")","v":""},{"$f":"IF(LEFT(Template!$M$521,2)=\"RC\",Template!$M$521,\"\")","v":""},{"$f":"IF(LEFT(Template!$M$521,2)=\"SC\",Template!$M$521,\"\")","v":""},{"$f":"IF(LEFT(Template!$K$521,2)=\"AC\",Template!$K$521,\"\")","v":""},{"$f":"IF(OR(LEFT(Template!$K$521,2)=\"PJ\", LEFT(Template!$K$521,2)=\"PR\"),Template!$K$521,\"\")","v":""},{"$f":"IF(LEFT(Template!$K$521,2)=\"GF\",Template!$K$521,\"\")","v":""},{"$f":"IF(Template!$S$521<>\"\",Template!$S$521,\"\")","v":""},null,null,null,null,{"$f":"IF(Template!$L$521<>\"\",Template!$L$521,\"\")","v":""},"BYU_Child",null,null,"USD",null,4756.24,null,null,null,{"$f":"IF(Template!$O$521<>\"\",Template!$O$521,\"\")","v":""}]
[null,{"$f":"Template!$H$522","v":0},{"$error":"#REF!"},"Calendar_Year_Mar",{"$f":"IF(LEFT(Template!$K$522,2)=\"CC\",Template!$K$522,\"\")","v":""},{"$f":"IF(LEFT(Template!$M$522,2)=\"RC\",Template!$M$522,\"\")","v":""},{"$f":"IF(LEFT(Template!$M$522,2)=\"SC\",Template!$M$522,\"\")","v":""},{"$f":"IF(LEFT(Template!$K$522,2)=\"AC\",Template!$K$522,\"\")","v":""},{"$f":"IF(OR(LEFT(Template!$K$522,2)=\"PJ\", LEFT(Template!$K$522,2)=\"PR\"),Template!$K$522,\"\")","v":""},{"$f":"IF(LEFT(Template!$K$522,2)=\"GF\",Template!$K$522,\"\")","v":""},{"$f":"IF(Template!$S$522<>\"\",Template!$S$522,\"\")","v":""},null,null,null,null,{"$f":"IF(Template!$L$522<>\"\",Template!$L$522,\"\")","v":""},"BYU_Child",null,null,"USD",null,84.78,null,null,null,{"$f":"IF(Template!$O$522<>\"\",Template!$O$522,\"\")","v":""}]
[null,{"$f":"Template!$H$523","v":0},{"$error":"#REF!"},"Calendar_Year_Mar",{"$f":"IF(LEFT(Template!$K$523,2)=\"CC\",Template!$K$523,\"\")","v":""},{"$f":"IF(LEFT(Template!$M$523,2)=\"RC\",Template!$M$523,\"\")","v":""},{"$f":"IF(LEFT(Template!$M$523,2)=\"SC\",Template!$M$523,\"\")","v":""},{"$f":"IF(LEFT(Template!$K$523,2)=\"AC\",Template!$K$523,\"\")","v":""},{"$f":"IF(OR(LEFT(Template!$K$523,2)=\"PJ\", LEFT(Template!$K$523,2)=\"PR\"),Template!$K$523,\"\")","v":""},{"$f":"IF(LEFT(Template!$K$523,2)=\"GF\",Template!$K$523,\"\")","v":""},{"$f":"IF(Template!$S$523<>\"\",Template!$S$523,\"\")","v":""},null,null,null,null,{"$f":"IF(Template!$L$523<>\"\",Template!$L$523,\"\")","v":""},"BYU_Child",null,null,"USD",null,6236.29,null,null,null,{"$f":"IF(Template!$O$523<>\"\",Template!$O$523,\"\")","v":""}]
[null,{"$f":"Template!$H$524","v":0},{"$error":"#REF!"},"Calendar_Year_Mar",{"$f":"IF(LEFT(Template!$K$524,2)=\"CC\",Template!$K$524,\"\")","v":""},{"$f":"IF(LEFT(Template!$M$524,2)=\"RC\",Template!$M$524,\"\")","v":""},{"$f":"IF(LEFT(Template!$M$524,2)=\"SC\",Template!$M$524,\"\")","v":""},{"$f":"IF(LEFT(Template!$K$524,2)=\"AC\",Template!$K$524,\"\")","v":""},{"$f":"IF(OR(LEFT(Template!$K$524,2)=\"PJ\", LEFT(Template!$K$524,2)=\"PR\"),Template!$K$524,\"\")","v":""},{"$f":"IF(LEFT(Template!$K$524,2)=\"GF\",Template!$K$524,\"\")","v":""},{"$f":"IF(Template!$S$524<>\"\",Template!$S$524,\"\")","v":""},null,null,null,null,{"$f":"IF(Template!$L$524<>\"\",Template!$L$524,\"\")","v":""},"BYU_Child",null,null,"USD",null,73082.16,null,null,null,{"$f":"IF(Template!$O$524<>\"\",Template!$O$524,\"\")","v":""}]
[null,{"$f":"Template!$H$525","v":0},{"$error":"#REF!"},"Calendar_Year_Mar",{"$f":"IF(LEFT(Template!$K$525,2)=\"CC\",Template!$K$525,\"\")","v":""},{"$f":"IF(LEFT(Template!$M$525,2)=\"RC\",Template!$M$525,\"\")","v":""},{"$f":"IF(LEFT(Template!$M$525,2)=\"SC\",Template!$M$525,\"\")","v":""},{"$f":"IF(LEFT(Template!$K$525,2)=\"AC\",Template!$K$525,\"\")","v":""},{"$f":"IF(OR(LEFT(Template!$K$525,2)=\"PJ\", LEFT(Template!$K$525,2)=\"PR\"),Template!$K$525,\"\")","v":""},{"$f":"IF(LEFT(Template!$K$525,2)=\"GF\",Template!$K$525,\"\")","v":""},{"$f":"IF(Template!$S$525<>\"\",Template!$S$525,\"\")","v":""},null,null,null,null,{"$f":"IF(Template!$L$525<>\"\",Template!$L$525,\"\")","v":""},"BYU_Child",null,null,"USD",null,24.06,null,null,null,{"$f":"IF(Template!$O$525<>\"\",Template!$O$525,\"\")","v":""}]
[null,{"$f":"Template!$H$526","v":0},{"$error":"#REF!"},"Calendar_Year_Mar",{"$f":"IF(LEFT(Template!$K$526,2)=\"CC\",Template!$K$526,\"\")","v":""},{"$f":"IF(LEFT(Template!$M$526,2)=\"RC\",Template!$M$526,\"\")","v":""},{"$f":"IF(LEFT(Template!$M$526,2)=\"SC\",Template!$M$526,\"\")","v":""},{"$f":"IF(LEFT(Template!$K$526,2)=\"AC\",Template!$K$526,\"\")","v":""},{"$f":"IF(OR(LEFT(Template!$K$526,2)=\"PJ\", LEFT(Template!$K$526,2)=\"PR\"),Template!$K$526,\"\")","v":""},{"$f":"IF(LEFT(Template!$K$526,2)=\"GF\",Template!$K$526,\"\")","v":""},{"$f":"IF(Template!$S$526<>\"\",Template!$S$526,\"\")","v":""},null,null,null,null,{"$f":"IF(Template!$L$526<>\"\",Template!$L$526,\"\")","v":""},"BYU_Child",null,null,"USD",null,10632.53,null,null,null,{"$f":"IF(Template!$O$526<>\"\",Template!$O$526,\"\")","v":""}]
[null,{"$f":"Template!$H$527","v":0},{"$error":"#REF!"},"Calendar_Year_Mar",{"$f":"IF(LEFT(Template!$K$527,2)=\"CC\",Template!$K$527,\"\")","v":""},{"$f":"IF(LEFT(Template!$M$527,2)=\"RC\",Template!$M$527,\"\")","v":""},{"$f":"IF(LEFT(Template!$M$527,2)=\"SC\",Template!$M$527,\"\")","v":""},{"$f":"IF(LEFT(Template!$K$527,2)=\"AC\",Template!$K$527,\"\")","v":""},{"$f":"IF(OR(LEFT(Template!$K$527,2)=\"PJ\", LEFT(Template!$K$527,2)=\"PR\"),Template!$K$527,\"\")","v":""},{"$f":"IF(LEFT(Template!$K$527,2)=\"GF\",Template!$K$527,\"\")","v":""},{"$f":"IF(Template!$S$527<>\"\",Template!$S$527,\"\")","v":""},null,null,null,null,{"$f":"IF(Template!$L$527<>\"\",Template!$L$527,\"\")","v":""},"BYU_Child",null,null,"USD",null,2520.9699999999998,null,null,null,{"$f":"IF(Template!$O$527<>\"\",Template!$O$527,\"\")","v":""}]
[null,{"$f":"Template!$H$528","v":0},{"$error":"#REF!"},"Calendar_Year_Mar",{"$f":"IF(LEFT(Template!$K$528,2)=\"CC\",Template!$K$528,\"\")","v":""},{"$f":"IF(LEFT(Template!$M$528,2)=\"RC\",Template!$M$528,\"\")","v":""},{"$f":"IF(LEFT(Template!$M$528,2)=\"SC\",Template!$M$528,\"\")","v":""},{"$f":"IF(LEFT(Template!$K$528,2)=\"AC\",Template!$K$528,\"\")","v":""},{"$f":"IF(OR(LEFT(Template!$K$528,2)=\"PJ\", LEFT(Template!$K$528,2)=\"PR\"),Template!$K$528,\"\")","v":""},{"$f":"IF(LEFT(Template!$K$528,2)=\"GF\",Template!$K$528,\"\")","v":""},{"$f":"IF(Template!$S$528<>\"\",Template!$S$528,\"\")","v":""},null,null,null,null,{"$f":"IF(Template!$L$528<>\"\",Template!$L$528,\"\")","v":""},"BYU_Child",null,null,"USD",null,1186.8800000000001,null,null,null,{"$f":"IF(Template!$O$528<>\"\",Template!$O$528,\"\")","v":""}]
[null,{"$f":"Template!$H$529","v":0},{"$error":"#REF!"},"Calendar_Year_Mar",{"$f":"IF(LEFT(Template!$K$529,2)=\"CC\",Template!$K$529,\"\")","v":""},{"$f":"IF(LEFT(Template!$M$529,2)=\"RC\",Template!$M$529,\"\")","v":""},{"$f":"IF(LEFT(Template!$M$529,2)=\"SC\",Template!$M$529,\"\")","v":""},{"$f":"IF(LEFT(Template!$K$529,2)=\"AC\",Template!$K$529,\"\")","v":""},{"$f":"IF(OR(LEFT(Template!$K$529,2)=\"PJ\", LEFT(Template!$K$529,2)=\"PR\"),Template!$K$529,\"\")","v":""},{"$f":"IF(LEFT(Template!$K$529,2)=\"GF\",Template!$K$529,\"\")","v":""},{"$f":"IF(Template!$S$529<>\"\",Template!$S$529,\"\")","v":""},null,null,null,null,{"$f":"IF(Template!$L$529<>\"\",Template!$L$529,\"\")","v":""},"BYU_Child",null,null,"USD",null,3154.12,null,null,null,{"$f":"IF(Template!$O$529<>\"\",Template!$O$529,\"\")","v":""}]
[null,{"$f":"Template!$H$530","v":0},{"$error":"#REF!"},"Calendar_Year_Mar",{"$f":"IF(LEFT(Template!$K$530,2)=\"CC\",Template!$K$530,\"\")","v":""},{"$f":"IF(LEFT(Template!$M$530,2)=\"RC\",Template!$M$530,\"\")","v":""},{"$f":"IF(LEFT(Template!$M$530,2)=\"SC\",Template!$M$530,\"\")","v":""},{"$f":"IF(LEFT(Template!$K$530,2)=\"AC\",Template!$K$530,\"\")","v":""},{"$f":"IF(OR(LEFT(Template!$K$530,2)=\"PJ\", LEFT(Template!$K$530,2)=\"PR\"),Template!$K$530,\"\")","v":""},{"$f":"IF(LEFT(Template!$K$530,2)=\"GF\",Template!$K$530,\"\")","v":""},{"$f":"IF(Template!$S$530<>\"\",Template!$S$530,\"\")","v":""},null,null,null,null,{"$f":"IF(Template!$L$530<>\"\",Template!$L$530,\"\")","v":""},"BYU_Child",null,null,"USD",null,4642.74,null,null,null,{"$f":"IF(Template!$O$530<>\"\",Template!$O$530,\"\")","v":""}]
[null,{"$f":"Template!$H$531","v":0},{"$error":"#REF!"},"Calendar_Year_Mar",{"$f":"IF(LEFT(Template!$K$531,2)=\"CC\",Template!$K$531,\"\")","v":""},{"$f":"IF(LEFT(Template!$M$531,2)=\"RC\",Template!$M$531,\"\")","v":""},{"$f":"IF(LEFT(Template!$M$531,2)=\"SC\",Template!$M$531,\"\")","v":""},{"$f":"IF(LEFT(Template!$K$531,2)=\"AC\",Template!$K$531,\"\")","v":""},{"$f":"IF(OR(LEFT(Template!$K$531,2)=\"PJ\", LEFT(Template!$K$531,2)=\"PR\"),Template!$K$531,\"\")","v":""},{"$f":"IF(LEFT(Template!$K$531,2)=\"GF\",Template!$K$531,\"\")","v":""},{"$f":"IF(Template!$S$531<>\"\",Template!$S$531,\"\")","v":""},null,null,null,null,{"$f":"IF(Template!$L$531<>\"\",Template!$L$531,\"\")","v":""},"BYU_Child",null,null,"USD",null,21722.799999999999,null,null,null,{"$f":"IF(Template!$O$531<>\"\",Template!$O$531,\"\")","v":""}]
[null,{"$f":"Template!$H$532","v":0},{"$error":"#REF!"},"Calendar_Year_Mar",{"$f":"IF(LEFT(Template!$K$532,2)=\"CC\",Template!$K$532,\"\")","v":""},{"$f":"IF(LEFT(Template!$M$532,2)=\"RC\",Template!$M$532,\"\")","v":""},{"$f":"IF(LEFT(Template!$M$532,2)=\"SC\",Template!$M$532,\"\")","v":""},{"$f":"IF(LEFT(Template!$K$532,2)=\"AC\",Template!$K$532,\"\")","v":""},{"$f":"IF(OR(LEFT(Template!$K$532,2)=\"PJ\", LEFT(Template!$K$532,2)=\"PR\"),Template!$K$532,\"\")","v":""},{"$f":"IF(LEFT(Template!$K$532,2)=\"GF\",Template!$K$532,\"\")","v":""},{"$f":"IF(Template!$S$532<>\"\",Template!$S$532,\"\")","v":""},null,null,null,null,{"$f":"IF(Template!$L$532<>\"\",Template!$L$532,\"\")","v":""},"BYU_Child",null,null,"USD",null,3083.41,null,null,null,{"$f":"IF(Template!$O$532<>\"\",Template!$O$532,\"\")","v":""}]
[null,{"$f":"Template!$H$533","v":0},{"$error":"#REF!"},"Calendar_Year_Mar",{"$f":"IF(LEFT(Template!$K$533,2)=\"CC\",Template!$K$533,\"\")","v":""},{"$f":"IF(LEFT(Template!$M$533,2)=\"RC\",Template!$M$533,\"\")","v":""},{"$f":"IF(LEFT(Template!$M$533,2)=\"SC\",Template!$M$533,\"\")","v":""},{"$f":"IF(LEFT(Template!$K$533,2)=\"AC\",Template!$K$533,\"\")","v":""},{"$f":"IF(OR(LEFT(Template!$K$533,2)=\"PJ\", LEFT(Template!$K$533,2)=\"PR\"),Template!$K$533,\"\")","v":""},{"$f":"IF(LEFT(Template!$K$533,2)=\"GF\",Template!$K$533,\"\")","v":""},{"$f":"IF(Template!$S$533<>\"\",Template!$S$533,\"\")","v":""},null,null,null,null,{"$f":"IF(Template!$L$533<>\"\",Template!$L$533,\"\")","v":""},"BYU_Child",null,null,"USD",null,17143.43,null,null,null,{"$f":"IF(Template!$O$533<>\"\",Template!$O$533,\"\")","v":""}]
[null,{"$f":"Template!$H$534","v":0},{"$error":"#REF!"},"Calendar_Year_Mar",{"$f":"IF(LEFT(Template!$K$534,2)=\"CC\",Template!$K$534,\"\")","v":""},{"$f":"IF(LEFT(Template!$M$534,2)=\"RC\",Template!$M$534,\"\")","v":""},{"$f":"IF(LEFT(Template!$M$534,2)=\"SC\",Template!$M$534,\"\")","v":""},{"$f":"IF(LEFT(Template!$K$534,2)=\"AC\",Template!$K$534,\"\")","v":""},{"$f":"IF(OR(LEFT(Template!$K$534,2)=\"PJ\", LEFT(Template!$K$534,2)=\"PR\"),Template!$K$534,\"\")","v":""},{"$f":"IF(LEFT(Template!$K$534,2)=\"GF\",Template!$K$534,\"\")","v":""},{"$f":"IF(Template!$S$534<>\"\",Template!$S$534,\"\")","v":""},null,null,null,null,{"$f":"IF(Template!$L$534<>\"\",Template!$L$534,\"\")","v":""},"BYU_Child",null,null,"USD",null,20.6,null,null,null,{"$f":"IF(Template!$O$534<>\"\",Template!$O$534,\"\")","v":""}]
[null,{"$f":"Template!$H$535","v":0},{"$error":"#REF!"},"Calendar_Year_Mar",{"$f":"IF(LEFT(Template!$K$535,2)=\"CC\",Template!$K$535,\"\")","v":""},{"$f":"IF(LEFT(Template!$M$535,2)=\"RC\",Template!$M$535,\"\")","v":""},{"$f":"IF(LEFT(Template!$M$535,2)=\"SC\",Template!$M$535,\"\")","v":""},{"$f":"IF(LEFT(Template!$K$535,2)=\"AC\",Template!$K$535,\"\")","v":""},{"$f":"IF(OR(LEFT(Template!$K$535,2)=\"PJ\", LEFT(Template!$K$535,2)=\"PR\"),Template!$K$535,\"\")","v":""},{"$f":"IF(LEFT(Template!$K$535,2)=\"GF\",Template!$K$535,\"\")","v":""},{"$f":"IF(Template!$S$535<>\"\",Template!$S$535,\"\")","v":""},null,null,null,null,{"$f":"IF(Template!$L$535<>\"\",Template!$L$535,\"\")","v":""},"BYU_Child",null,null,"USD",null,84.44,null,null,null,{"$f":"IF(Template!$O$535<>\"\",Template!$O$535,\"\")","v":""}]
[null,{"$f":"Template!$H$536","v":0},{"$error":"#REF!"},"Calendar_Year_Mar",{"$f":"IF(LEFT(Template!$K$536,2)=\"CC\",Template!$K$536,\"\")","v":""},{"$f":"IF(LEFT(Template!$M$536,2)=\"RC\",Template!$M$536,\"\")","v":""},{"$f":"IF(LEFT(Template!$M$536,2)=\"SC\",Template!$M$536,\"\")","v":""},{"$f":"IF(LEFT(Template!$K$536,2)=\"AC\",Template!$K$536,\"\")","v":""},{"$f":"IF(OR(LEFT(Template!$K$536,2)=\"PJ\", LEFT(Template!$K$536,2)=\"PR\"),Template!$K$536,\"\")","v":""},{"$f":"IF(LEFT(Template!$K$536,2)=\"GF\",Template!$K$536,\"\")","v":""},{"$f":"IF(Template!$S$536<>\"\",Template!$S$536,\"\")","v":""},null,null,null,null,{"$f":"IF(Template!$L$536<>\"\",Template!$L$536,\"\")","v":""},"BYU_Child",null,null,"USD",null,46127.64,null,null,null,{"$f":"IF(Template!$O$536<>\"\",Template!$O$536,\"\")","v":""}]
[null,{"$f":"Template!$H$537","v":0},{"$error":"#REF!"},"Calendar_Year_Mar",{"$f":"IF(LEFT(Template!$K$537,2)=\"CC\",Template!$K$537,\"\")","v":""},{"$f":"IF(LEFT(Template!$M$537,2)=\"RC\",Template!$M$537,\"\")","v":""},{"$f":"IF(LEFT(Template!$M$537,2)=\"SC\",Template!$M$537,\"\")","v":""},{"$f":"IF(LEFT(Template!$K$537,2)=\"AC\",Template!$K$537,\"\")","v":""},{"$f":"IF(OR(LEFT(Template!$K$537,2)=\"PJ\", LEFT(Template!$K$537,2)=\"PR\"),Template!$K$537,\"\")","v":""},{"$f":"IF(LEFT(Template!$K$537,2)=\"GF\",Template!$K$537,\"\")","v":""},{"$f":"IF(Template!$S$537<>\"\",Template!$S$537,\"\")","v":""},null,null,null,null,{"$f":"IF(Template!$L$537<>\"\",Template!$L$537,\"\")","v":""},"BYU_Child",null,null,"USD",null,91.93,null,null,null,{"$f":"IF(Template!$O$537<>\"\",Template!$O$537,\"\")","v":""}]
[null,{"$f":"Template!$H$538","v":0},{"$error":"#REF!"},"Calendar_Year_Mar",{"$f":"IF(LEFT(Template!$K$538,2)=\"CC\",Template!$K$538,\"\")","v":""},{"$f":"IF(LEFT(Template!$M$538,2)=\"RC\",Template!$M$538,\"\")","v":""},{"$f":"IF(LEFT(Template!$M$538,2)=\"SC\",Template!$M$538,\"\")","v":""},{"$f":"IF(LEFT(Template!$K$538,2)=\"AC\",Template!$K$538,\"\")","v":""},{"$f":"IF(OR(LEFT(Template!$K$538,2)=\"PJ\", LEFT(Template!$K$538,2)=\"PR\"),Template!$K$538,\"\")","v":""},{"$f":"IF(LEFT(Template!$K$538,2)=\"GF\",Template!$K$538,\"\")","v":""},{"$f":"IF(Template!$S$538<>\"\",Template!$S$538,\"\")","v":""},null,null,null,null,{"$f":"IF(Template!$L$538<>\"\",Template!$L$538,\"\")","v":""},"BYU_Child",null,null,"USD",null,790.26,null,null,null,{"$f":"IF(Template!$O$538<>\"\",Template!$O$538,\"\")","v":""}]
[null,{"$f":"Template!$H$539","v":0},{"$error":"#REF!"},"Calendar_Year_Mar",{"$f":"IF(LEFT(Template!$K$539,2)=\"CC\",Template!$K$539,\"\")","v":""},{"$f":"IF(LEFT(Template!$M$539,2)=\"RC\",Template!$M$539,\"\")","v":""},{"$f":"IF(LEFT(Template!$M$539,2)=\"SC\",Template!$M$539,\"\")","v":""},{"$f":"IF(LEFT(Template!$K$539,2)=\"AC\",Template!$K$539,\"\")","v":""},{"$f":"IF(OR(LEFT(Template!$K$539,2)=\"PJ\", LEFT(Template!$K$539,2)=\"PR\"),Template!$K$539,\"\")","v":""},{"$f":"IF(LEFT(Template!$K$539,2)=\"GF\",Template!$K$539,\"\")","v":""},{"$f":"IF(Template!$S$539<>\"\",Template!$S$539,\"\")","v":""},null,null,null,null,{"$f":"IF(Template!$L$539<>\"\",Template!$L$539,\"\")","v":""},"BYU_Child",null,null,"USD",null,23.7,null,null,null,{"$f":"IF(Template!$O$539<>\"\",Template!$O$539,\"\")","v":""}]
[null,{"$f":"Template!$H$540","v":0},{"$error":"#REF!"},"Calendar_Year_Mar",{"$f":"IF(LEFT(Template!$K$540,2)=\"CC\",Template!$K$540,\"\")","v":""},{"$f":"IF(LEFT(Template!$M$540,2)=\"RC\",Template!$M$540,\"\")","v":""},{"$f":"IF(LEFT(Template!$M$540,2)=\"SC\",Template!$M$540,\"\")","v":""},{"$f":"IF(LEFT(Template!$K$540,2)=\"AC\",Template!$K$540,\"\")","v":""},{"$f":"IF(OR(LEFT(Template!$K$540,2)=\"PJ\", LEFT(Template!$K$540,2)=\"PR\"),Template!$K$540,\"\")","v":""},{"$f":"IF(LEFT(Template!$K$540,2)=\"GF\",Template!$K$540,\"\")","v":""},{"$f":"IF(Template!$S$540<>\"\",Template!$S$540,\"\")","v":""},null,null,null,null,{"$f":"IF(Template!$L$540<>\"\",Template!$L$540,\"\")","v":""},"BYU_Child",null,null,"USD",null,3846.83,null,null,null,{"$f":"IF(Template!$O$540<>\"\",Template!$O$540,\"\")","v":""}]
[null,{"$f":"Template!$H$541","v":0},{"$error":"#REF!"},"Calendar_Year_Mar",{"$f":"IF(LEFT(Template!$K$541,2)=\"CC\",Template!$K$541,\"\")","v":""},{"$f":"IF(LEFT(Template!$M$541,2)=\"RC\",Template!$M$541,\"\")","v":""},{"$f":"IF(LEFT(Template!$M$541,2)=\"SC\",Template!$M$541,\"\")","v":""},{"$f":"IF(LEFT(Template!$K$541,2)=\"AC\",Template!$K$541,\"\")","v":""},{"$f":"IF(OR(LEFT(Template!$K$541,2)=\"PJ\", LEFT(Template!$K$541,2)=\"PR\"),Template!$K$541,\"\")","v":""},{"$f":"IF(LEFT(Template!$K$541,2)=\"GF\",Template!$K$541,\"\")","v":""},{"$f":"IF(Template!$S$541<>\"\",Template!$S$541,\"\")","v":""},null,null,null,null,{"$f":"IF(Template!$L$541<>\"\",Template!$L$541,\"\")","v":""},"BYU_Child",null,null,"USD",null,139.76,null,null,null,{"$f":"IF(Template!$O$541<>\"\",Template!$O$541,\"\")","v":""}]
[null,{"$f":"Template!$H$542","v":0},{"$error":"#REF!"},"Calendar_Year_Mar",{"$f":"IF(LEFT(Template!$K$542,2)=\"CC\",Template!$K$542,\"\")","v":""},{"$f":"IF(LEFT(Template!$M$542,2)=\"RC\",Template!$M$542,\"\")","v":""},{"$f":"IF(LEFT(Template!$M$542,2)=\"SC\",Template!$M$542,\"\")","v":""},{"$f":"IF(LEFT(Template!$K$542,2)=\"AC\",Template!$K$542,\"\")","v":""},{"$f":"IF(OR(LEFT(Template!$K$542,2)=\"PJ\", LEFT(Template!$K$542,2)=\"PR\"),Template!$K$542,\"\")","v":""},{"$f":"IF(LEFT(Template!$K$542,2)=\"GF\",Template!$K$542,\"\")","v":""},{"$f":"IF(Template!$S$542<>\"\",Template!$S$542,\"\")","v":""},null,null,null,null,{"$f":"IF(Template!$L$542<>\"\",Template!$L$542,\"\")","v":""},"BYU_Child",null,null,"USD",null,14445.04,null,null,null,{"$f":"IF(Template!$O$542<>\"\",Template!$O$542,\"\")","v":""}]
[null,{"$f":"Template!$H$543","v":0},{"$error":"#REF!"},"Calendar_Year_Mar",{"$f":"IF(LEFT(Template!$K$543,2)=\"CC\",Template!$K$543,\"\")","v":""},{"$f":"IF(LEFT(Template!$M$543,2)=\"RC\",Template!$M$543,\"\")","v":""},{"$f":"IF(LEFT(Template!$M$543,2)=\"SC\",Template!$M$543,\"\")","v":""},{"$f":"IF(LEFT(Template!$K$543,2)=\"AC\",Template!$K$543,\"\")","v":""},{"$f":"IF(OR(LEFT(Template!$K$543,2)=\"PJ\", LEFT(Template!$K$543,2)=\"PR\"),Template!$K$543,\"\")","v":""},{"$f":"IF(LEFT(Template!$K$543,2)=\"GF\",Template!$K$543,\"\")","v":""},{"$f":"IF(Template!$S$543<>\"\",Template!$S$543,\"\")","v":""},null,null,null,null,{"$f":"IF(Template!$L$543<>\"\",Template!$L$543,\"\")","v":""},"BYU_Child",null,null,"USD",null,2395.85,null,null,null,{"$f":"IF(Template!$O$543<>\"\",Template!$O$543,\"\")","v":""}]
[null,{"$f":"Template!$H$544","v":0},{"$error":"#REF!"},"Calendar_Year_Mar",{"$f":"IF(LEFT(Template!$K$544,2)=\"CC\",Template!$K$544,\"\")","v":""},{"$f":"IF(LEFT(Template!$M$544,2)=\"RC\",Template!$M$544,\"\")","v":""},{"$f":"IF(LEFT(Template!$M$544,2)=\"SC\",Template!$M$544,\"\")","v":""},{"$f":"IF(LEFT(Template!$K$544,2)=\"AC\",Template!$K$544,\"\")","v":""},{"$f":"IF(OR(LEFT(Template!$K$544,2)=\"PJ\", LEFT(Template!$K$544,2)=\"PR\"),Template!$K$544,\"\")","v":""},{"$f":"IF(LEFT(Template!$K$544,2)=\"GF\",Template!$K$544,\"\")","v":""},{"$f":"IF(Template!$S$544<>\"\",Template!$S$544,\"\")","v":""},null,null,null,null,{"$f":"IF(Template!$L$544<>\"\",Template!$L$544,\"\")","v":""},"BYU_Child",null,null,"USD",null,3456.3,null,null,null,{"$f":"IF(Template!$O$544<>\"\",Template!$O$544,\"\")","v":""}]
[null,{"$f":"Template!$H$545","v":0},{"$error":"#REF!"},"Calendar_Year_Mar",{"$f":"IF(LEFT(Template!$K$545,2)=\"CC\",Template!$K$545,\"\")","v":""},{"$f":"IF(LEFT(Template!$M$545,2)=\"RC\",Template!$M$545,\"\")","v":""},{"$f":"IF(LEFT(Template!$M$545,2)=\"SC\",Template!$M$545,\"\")","v":""},{"$f":"IF(LEFT(Template!$K$545,2)=\"AC\",Template!$K$545,\"\")","v":""},{"$f":"IF(OR(LEFT(Template!$K$545,2)=\"PJ\", LEFT(Template!$K$545,2)=\"PR\"),Template!$K$545,\"\")","v":""},{"$f":"IF(LEFT(Template!$K$545,2)=\"GF\",Template!$K$545,\"\")","v":""},{"$f":"IF(Template!$S$545<>\"\",Template!$S$545,\"\")","v":""},null,null,null,null,{"$f":"IF(Template!$L$545<>\"\",Template!$L$545,\"\")","v":""},"BYU_Child",null,null,"USD",null,96.25,null,null,null,{"$f":"IF(Template!$O$545<>\"\",Template!$O$545,\"\")","v":""}]
[null,{"$f":"Template!$H$546","v":0},{"$error":"#REF!"},"Calendar_Year_Mar",{"$f":"IF(LEFT(Template!$K$546,2)=\"CC\",Template!$K$546,\"\")","v":""},{"$f":"IF(LEFT(Template!$M$546,2)=\"RC\",Template!$M$546,\"\")","v":""},{"$f":"IF(LEFT(Template!$M$546,2)=\"SC\",Template!$M$546,\"\")","v":""},{"$f":"IF(LEFT(Template!$K$546,2)=\"AC\",Template!$K$546,\"\")","v":""},{"$f":"IF(OR(LEFT(Template!$K$546,2)=\"PJ\", LEFT(Template!$K$546,2)=\"PR\"),Template!$K$546,\"\")","v":""},{"$f":"IF(LEFT(Template!$K$546,2)=\"GF\",Template!$K$546,\"\")","v":""},{"$f":"IF(Template!$S$546<>\"\",Template!$S$546,\"\")","v":""},null,null,null,null,{"$f":"IF(Template!$L$546<>\"\",Template!$L$546,\"\")","v":""},"BYU_Child",null,null,"USD",null,2972.29,null,null,null,{"$f":"IF(Template!$O$546<>\"\",Template!$O$546,\"\")","v":""}]
[null,{"$f":"Template!$H$547","v":0},{"$error":"#REF!"},"Calendar_Year_Mar",{"$f":"IF(LEFT(Template!$K$547,2)=\"CC\",Template!$K$547,\"\")","v":""},{"$f":"IF(LEFT(Template!$M$547,2)=\"RC\",Template!$M$547,\"\")","v":""},{"$f":"IF(LEFT(Template!$M$547,2)=\"SC\",Template!$M$547,\"\")","v":""},{"$f":"IF(LEFT(Template!$K$547,2)=\"AC\",Template!$K$547,\"\")","v":""},{"$f":"IF(OR(LEFT(Template!$K$547,2)=\"PJ\", LEFT(Template!$K$547,2)=\"PR\"),Template!$K$547,\"\")","v":""},{"$f":"IF(LEFT(Template!$K$547,2)=\"GF\",Template!$K$547,\"\")","v":""},{"$f":"IF(Template!$S$547<>\"\",Template!$S$547,\"\")","v":""},null,null,null,null,{"$f":"IF(Template!$L$547<>\"\",Template!$L$547,\"\")","v":""},"BYU_Child",null,null,"USD",null,3853.49,null,null,null,{"$f":"IF(Template!$O$547<>\"\",Template!$O$547,\"\")","v":""}]
[null,{"$f":"Template!$H$548","v":0},{"$error":"#REF!"},"Calendar_Year_Mar",{"$f":"IF(LEFT(Template!$K$548,2)=\"CC\",Template!$K$548,\"\")","v":""},{"$f":"IF(LEFT(Template!$M$548,2)=\"RC\",Template!$M$548,\"\")","v":""},{"$f":"IF(LEFT(Template!$M$548,2)=\"SC\",Template!$M$548,\"\")","v":""},{"$f":"IF(LEFT(Template!$K$548,2)=\"AC\",Template!$K$548,\"\")","v":""},{"$f":"IF(OR(LEFT(Template!$K$548,2)=\"PJ\", LEFT(Template!$K$548,2)=\"PR\"),Template!$K$548,\"\")","v":""},{"$f":"IF(LEFT(Template!$K$548,2)=\"GF\",Template!$K$548,\"\")","v":""},{"$f":"IF(Template!$S$548<>\"\",Template!$S$548,\"\")","v":""},null,null,null,null,{"$f":"IF(Template!$L$548<>\"\",Template!$L$548,\"\")","v":""},"BYU_Child",null,null,"USD",null,null,27.75,null,null,{"$f":"IF(Template!$O$548<>\"\",Template!$O$548,\"\")","v":""}]
[null,{"$f":"Template!$H$549","v":0},{"$error":"#REF!"},"Calendar_Year_Mar",{"$f":"IF(LEFT(Template!$K$549,2)=\"CC\",Template!$K$549,\"\")","v":""},{"$f":"IF(LEFT(Template!$M$549,2)=\"RC\",Template!$M$549,\"\")","v":""},{"$f":"IF(LEFT(Template!$M$549,2)=\"SC\",Template!$M$549,\"\")","v":""},{"$f":"IF(LEFT(Template!$K$549,2)=\"AC\",Template!$K$549,\"\")","v":""},{"$f":"IF(OR(LEFT(Template!$K$549,2)=\"PJ\", LEFT(Template!$K$549,2)=\"PR\"),Template!$K$549,\"\")","v":""},{"$f":"IF(LEFT(Template!$K$549,2)=\"GF\",Template!$K$549,\"\")","v":""},{"$f":"IF(Template!$S$549<>\"\",Template!$S$549,\"\")","v":""},null,null,null,null,{"$f":"IF(Template!$L$549<>\"\",Template!$L$549,\"\")","v":""},"BYU_Child",null,null,"USD",null,1107.75,null,null,null,{"$f":"IF(Template!$O$549<>\"\",Template!$O$549,\"\")","v":""}]
[null,{"$f":"Template!$H$550","v":0},{"$error":"#REF!"},"Calendar_Year_Mar",{"$f":"IF(LEFT(Template!$K$550,2)=\"CC\",Template!$K$550,\"\")","v":""},{"$f":"IF(LEFT(Template!$M$550,2)=\"RC\",Template!$M$550,\"\")","v":""},{"$f":"IF(LEFT(Template!$M$550,2)=\"SC\",Template!$M$550,\"\")","v":""},{"$f":"IF(LEFT(Template!$K$550,2)=\"AC\",Template!$K$550,\"\")","v":""},{"$f":"IF(OR(LEFT(Template!$K$550,2)=\"PJ\", LEFT(Template!$K$550,2)=\"PR\"),Template!$K$550,\"\")","v":""},{"$f":"IF(LEFT(Template!$K$550,2)=\"GF\",Template!$K$550,\"\")","v":""},{"$f":"IF(Template!$S$550<>\"\",Template!$S$550,\"\")","v":""},null,null,null,null,{"$f":"IF(Template!$L$550<>\"\",Template!$L$550,\"\")","v":""},"BYU_Child",null,null,"USD",null,2977.58,null,null,null,{"$f":"IF(Template!$O$550<>\"\",Template!$O$550,\"\")","v":""}]
[null,{"$f":"Template!$H$551","v":0},{"$error":"#REF!"},"Calendar_Year_Mar",{"$f":"IF(LEFT(Template!$K$551,2)=\"CC\",Template!$K$551,\"\")","v":""},{"$f":"IF(LEFT(Template!$M$551,2)=\"RC\",Template!$M$551,\"\")","v":""},{"$f":"IF(LEFT(Template!$M$551,2)=\"SC\",Template!$M$551,\"\")","v":""},{"$f":"IF(LEFT(Template!$K$551,2)=\"AC\",Template!$K$551,\"\")","v":""},{"$f":"IF(OR(LEFT(Template!$K$551,2)=\"PJ\", LEFT(Template!$K$551,2)=\"PR\"),Template!$K$551,\"\")","v":""},{"$f":"IF(LEFT(Template!$K$551,2)=\"GF\",Template!$K$551,\"\")","v":""},{"$f":"IF(Template!$S$551<>\"\",Template!$S$551,\"\")","v":""},null,null,null,null,{"$f":"IF(Template!$L$551<>\"\",Template!$L$551,\"\")","v":""},"BYU_Child",null,null,"USD",null,4408.5600000000004,null,null,null,{"$f":"IF(Template!$O$551<>\"\",Template!$O$551,\"\")","v":""}]
[null,{"$f":"Template!$H$552","v":0},{"$error":"#REF!"},"Calendar_Year_Mar",{"$f":"IF(LEFT(Template!$K$552,2)=\"CC\",Template!$K$552,\"\")","v":""},{"$f":"IF(LEFT(Template!$M$552,2)=\"RC\",Template!$M$552,\"\")","v":""},{"$f":"IF(LEFT(Template!$M$552,2)=\"SC\",Template!$M$552,\"\")","v":""},{"$f":"IF(LEFT(Template!$K$552,2)=\"AC\",Template!$K$552,\"\")","v":""},{"$f":"IF(OR(LEFT(Template!$K$552,2)=\"PJ\", LEFT(Template!$K$552,2)=\"PR\"),Template!$K$552,\"\")","v":""},{"$f":"IF(LEFT(Template!$K$552,2)=\"GF\",Template!$K$552,\"\")","v":""},{"$f":"IF(Template!$S$552<>\"\",Template!$S$552,\"\")","v":""},null,null,null,null,{"$f":"IF(Template!$L$552<>\"\",Template!$L$552,\"\")","v":""},"BYU_Child",null,null,"USD",null,881.51,null,null,null,{"$f":"IF(Template!$O$552<>\"\",Template!$O$552,\"\")","v":""}]
[null,{"$f":"Template!$H$553","v":0},{"$error":"#REF!"},"Calendar_Year_Mar",{"$f":"IF(LEFT(Template!$K$553,2)=\"CC\",Template!$K$553,\"\")","v":""},{"$f":"IF(LEFT(Template!$M$553,2)=\"RC\",Template!$M$553,\"\")","v":""},{"$f":"IF(LEFT(Template!$M$553,2)=\"SC\",Template!$M$553,\"\")","v":""},{"$f":"IF(LEFT(Template!$K$553,2)=\"AC\",Template!$K$553,\"\")","v":""},{"$f":"IF(OR(LEFT(Template!$K$553,2)=\"PJ\", LEFT(Template!$K$553,2)=\"PR\"),Template!$K$553,\"\")","v":""},{"$f":"IF(LEFT(Template!$K$553,2)=\"GF\",Template!$K$553,\"\")","v":""},{"$f":"IF(Template!$S$553<>\"\",Template!$S$553,\"\")","v":""},null,null,null,null,{"$f":"IF(Template!$L$553<>\"\",Template!$L$553,\"\")","v":""},"BYU_Child",null,null,"USD",null,17.87,null,null,null,{"$f":"IF(Template!$O$553<>\"\",Template!$O$553,\"\")","v":""}]
[null,{"$f":"Template!$H$554","v":0},{"$error":"#REF!"},"Calendar_Year_Mar",{"$f":"IF(LEFT(Template!$K$554,2)=\"CC\",Template!$K$554,\"\")","v":""},{"$f":"IF(LEFT(Template!$M$554,2)=\"RC\",Template!$M$554,\"\")","v":""},{"$f":"IF(LEFT(Template!$M$554,2)=\"SC\",Template!$M$554,\"\")","v":""},{"$f":"IF(LEFT(Template!$K$554,2)=\"AC\",Template!$K$554,\"\")","v":""},{"$f":"IF(OR(LEFT(Template!$K$554,2)=\"PJ\", LEFT(Template!$K$554,2)=\"PR\"),Template!$K$554,\"\")","v":""},{"$f":"IF(LEFT(Template!$K$554,2)=\"GF\",Template!$K$554,\"\")","v":""},{"$f":"IF(Template!$S$554<>\"\",Template!$S$554,\"\")","v":""},null,null,null,null,{"$f":"IF(Template!$L$554<>\"\",Template!$L$554,\"\")","v":""},"BYU_Child",null,null,"USD",null,876.47,null,null,null,{"$f":"IF(Template!$O$554<>\"\",Template!$O$554,\"\")","v":""}]
[null,{"$f":"Template!$H$555","v":0},{"$error":"#REF!"},"Calendar_Year_Mar",{"$f":"IF(LEFT(Template!$K$555,2)=\"CC\",Template!$K$555,\"\")","v":""},{"$f":"IF(LEFT(Template!$M$555,2)=\"RC\",Template!$M$555,\"\")","v":""},{"$f":"IF(LEFT(Template!$M$555,2)=\"SC\",Template!$M$555,\"\")","v":""},{"$f":"IF(LEFT(Template!$K$555,2)=\"AC\",Template!$K$555,\"\")","v":""},{"$f":"IF(OR(LEFT(Template!$K$555,2)=\"PJ\", LEFT(Template!$K$555,2)=\"PR\"),Template!$K$555,\"\")","v":""},{"$f":"IF(LEFT(Template!$K$555,2)=\"GF\",Template!$K$555,\"\")","v":""},{"$f":"IF(Template!$S$555<>\"\",Template!$S$555,\"\")","v":""},null,null,null,null,{"$f":"IF(Template!$L$555<>\"\",Template!$L$555,\"\")","v":""},"BYU_Child",null,null,"USD",null,2119.7800000000002,null,null,null,{"$f":"IF(Template!$O$555<>\"\",Template!$O$555,\"\")","v":""}]
[null,{"$f":"Template!$H$556","v":0},{"$error":"#REF!"},"Calendar_Year_Mar",{"$f":"IF(LEFT(Template!$K$556,2)=\"CC\",Template!$K$556,\"\")","v":""},{"$f":"IF(LEFT(Template!$M$556,2)=\"RC\",Template!$M$556,\"\")","v":""},{"$f":"IF(LEFT(Template!$M$556,2)=\"SC\",Template!$M$556,\"\")","v":""},{"$f":"IF(LEFT(Template!$K$556,2)=\"AC\",Template!$K$556,\"\")","v":""},{"$f":"IF(OR(LEFT(Template!$K$556,2)=\"PJ\", LEFT(Template!$K$556,2)=\"PR\"),Template!$K$556,\"\")","v":""},{"$f":"IF(LEFT(Template!$K$556,2)=\"GF\",Template!$K$556,\"\")","v":""},{"$f":"IF(Template!$S$556<>\"\",Template!$S$556,\"\")","v":""},null,null,null,null,{"$f":"IF(Template!$L$556<>\"\",Template!$L$556,\"\")","v":""},"BYU_Child",null,null,"USD",null,2376.5,null,null,null,{"$f":"IF(Template!$O$556<>\"\",Template!$O$556,\"\")","v":""}]
[null,{"$f":"Template!$H$557","v":0},{"$error":"#REF!"},"Calendar_Year_Mar",{"$f":"IF(LEFT(Template!$K$557,2)=\"CC\",Template!$K$557,\"\")","v":""},{"$f":"IF(LEFT(Template!$M$557,2)=\"RC\",Template!$M$557,\"\")","v":""},{"$f":"IF(LEFT(Template!$M$557,2)=\"SC\",Template!$M$557,\"\")","v":""},{"$f":"IF(LEFT(Template!$K$557,2)=\"AC\",Template!$K$557,\"\")","v":""},{"$f":"IF(OR(LEFT(Template!$K$557,2)=\"PJ\", LEFT(Template!$K$557,2)=\"PR\"),Template!$K$557,\"\")","v":""},{"$f":"IF(LEFT(Template!$K$557,2)=\"GF\",Template!$K$557,\"\")","v":""},{"$f":"IF(Template!$S$557<>\"\",Template!$S$557,\"\")","v":""},null,null,null,null,{"$f":"IF(Template!$L$557<>\"\",Template!$L$557,\"\")","v":""},"BYU_Child",null,null,"USD",null,138618.54,null,null,null,{"$f":"IF(Template!$O$557<>\"\",Template!$O$557,\"\")","v":""}]
[null,{"$f":"Template!$H$558","v":0},{"$error":"#REF!"},"Calendar_Year_Mar",{"$f":"IF(LEFT(Template!$K$558,2)=\"CC\",Template!$K$558,\"\")","v":""},{"$f":"IF(LEFT(Template!$M$558,2)=\"RC\",Template!$M$558,\"\")","v":""},{"$f":"IF(LEFT(Template!$M$558,2)=\"SC\",Template!$M$558,\"\")","v":""},{"$f":"IF(LEFT(Template!$K$558,2)=\"AC\",Template!$K$558,\"\")","v":""},{"$f":"IF(OR(LEFT(Template!$K$558,2)=\"PJ\", LEFT(Template!$K$558,2)=\"PR\"),Template!$K$558,\"\")","v":""},{"$f":"IF(LEFT(Template!$K$558,2)=\"GF\",Template!$K$558,\"\")","v":""},{"$f":"IF(Template!$S$558<>\"\",Template!$S$558,\"\")","v":""},null,null,null,null,{"$f":"IF(Template!$L$558<>\"\",Template!$L$558,\"\")","v":""},"BYU_Child",null,null,"USD",null,1328.25,null,null,null,{"$f":"IF(Template!$O$558<>\"\",Template!$O$558,\"\")","v":""}]
[null,{"$f":"Template!$H$559","v":0},{"$error":"#REF!"},"Calendar_Year_Mar",{"$f":"IF(LEFT(Template!$K$559,2)=\"CC\",Template!$K$559,\"\")","v":""},{"$f":"IF(LEFT(Template!$M$559,2)=\"RC\",Template!$M$559,\"\")","v":""},{"$f":"IF(LEFT(Template!$M$559,2)=\"SC\",Template!$M$559,\"\")","v":""},{"$f":"IF(LEFT(Template!$K$559,2)=\"AC\",Template!$K$559,\"\")","v":""},{"$f":"IF(OR(LEFT(Template!$K$559,2)=\"PJ\", LEFT(Template!$K$559,2)=\"PR\"),Template!$K$559,\"\")","v":""},{"$f":"IF(LEFT(Template!$K$559,2)=\"GF\",Template!$K$559,\"\")","v":""},{"$f":"IF(Template!$S$559<>\"\",Template!$S$559,\"\")","v":""},null,null,null,null,{"$f":"IF(Template!$L$559<>\"\",Template!$L$559,\"\")","v":""},"BYU_Child",null,null,"USD",null,8.09,null,null,null,{"$f":"IF(Template!$O$559<>\"\",Template!$O$559,\"\")","v":""}]
[null,{"$f":"Template!$H$560","v":0},{"$error":"#REF!"},"Calendar_Year_Mar",{"$f":"IF(LEFT(Template!$K$560,2)=\"CC\",Template!$K$560,\"\")","v":""},{"$f":"IF(LEFT(Template!$M$560,2)=\"RC\",Template!$M$560,\"\")","v":""},{"$f":"IF(LEFT(Template!$M$560,2)=\"SC\",Template!$M$560,\"\")","v":""},{"$f":"IF(LEFT(Template!$K$560,2)=\"AC\",Template!$K$560,\"\")","v":""},{"$f":"IF(OR(LEFT(Template!$K$560,2)=\"PJ\", LEFT(Template!$K$560,2)=\"PR\"),Template!$K$560,\"\")","v":""},{"$f":"IF(LEFT(Template!$K$560,2)=\"GF\",Template!$K$560,\"\")","v":""},{"$f":"IF(Template!$S$560<>\"\",Template!$S$560,\"\")","v":""},null,null,null,null,{"$f":"IF(Template!$L$560<>\"\",Template!$L$560,\"\")","v":""},"BYU_Child",null,null,"USD",null,1107.18,null,null,null,{"$f":"IF(Template!$O$560<>\"\",Template!$O$560,\"\")","v":""}]
[null,{"$f":"Template!$H$561","v":0},{"$error":"#REF!"},"Calendar_Year_Mar",{"$f":"IF(LEFT(Template!$K$561,2)=\"CC\",Template!$K$561,\"\")","v":""},{"$f":"IF(LEFT(Template!$M$561,2)=\"RC\",Template!$M$561,\"\")","v":""},{"$f":"IF(LEFT(Template!$M$561,2)=\"SC\",Template!$M$561,\"\")","v":""},{"$f":"IF(LEFT(Template!$K$561,2)=\"AC\",Template!$K$561,\"\")","v":""},{"$f":"IF(OR(LEFT(Template!$K$561,2)=\"PJ\", LEFT(Template!$K$561,2)=\"PR\"),Template!$K$561,\"\")","v":""},{"$f":"IF(LEFT(Template!$K$561,2)=\"GF\",Template!$K$561,\"\")","v":""},{"$f":"IF(Template!$S$561<>\"\",Template!$S$561,\"\")","v":""},null,null,null,null,{"$f":"IF(Template!$L$561<>\"\",Template!$L$561,\"\")","v":""},"BYU_Child",null,null,"USD",null,1311.66,null,null,null,{"$f":"IF(Template!$O$561<>\"\",Template!$O$561,\"\")","v":""}]
[null,{"$f":"Template!$H$562","v":0},{"$f":"IF(B455=B454,C454+1,1)","v":{"$error":"#REF!"}},"Calendar_Year_Mar",{"$f":"IF(LEFT(Template!$K$562,2)=\"CC\",Template!$K$562,\"\")","v":""},{"$f":"IF(LEFT(Template!$M$562,2)=\"RC\",Template!$M$562,\"\")","v":""},{"$f":"IF(LEFT(Template!$M$562,2)=\"SC\",Template!$M$562,\"\")","v":""},{"$f":"IF(LEFT(Template!$K$562,2)=\"AC\",Template!$K$562,\"\")","v":""},{"$f":"IF(OR(LEFT(Template!$K$562,2)=\"PJ\", LEFT(Template!$K$562,2)=\"PR\"),Template!$K$562,\"\")","v":""},{"$f":"IF(LEFT(Template!$K$562,2)=\"GF\",Template!$K$562,\"\")","v":""},{"$f":"IF(Template!$S$562<>\"\",Template!$S$562,\"\")","v":""},null,null,null,null,{"$f":"IF(Template!$L$562<>\"\",Template!$L$562,\"\")","v":""},"BYU_Child",null,null,"USD",null,101301.95,null,null,null,{"$f":"IF(Template!$O$562<>\"\",Template!$O$562,\"\")","v":""}]
[null,{"$f":"Template!$H$563","v":0},{"$error":"#REF!"},"Calendar_Year_Mar",{"$f":"IF(LEFT(Template!$K$563,2)=\"CC\",Template!$K$563,\"\")","v":""},{"$f":"IF(LEFT(Template!$M$563,2)=\"RC\",Template!$M$563,\"\")","v":""},{"$f":"IF(LEFT(Template!$M$563,2)=\"SC\",Template!$M$563,\"\")","v":""},{"$f":"IF(LEFT(Template!$K$563,2)=\"AC\",Template!$K$563,\"\")","v":""},{"$f":"IF(OR(LEFT(Template!$K$563,2)=\"PJ\", LEFT(Template!$K$563,2)=\"PR\"),Template!$K$563,\"\")","v":""},{"$f":"IF(LEFT(Template!$K$563,2)=\"GF\",Template!$K$563,\"\")","v":""},{"$f":"IF(Template!$S$563<>\"\",Template!$S$563,\"\")","v":""},null,null,null,null,{"$f":"IF(Template!$L$563<>\"\",Template!$L$563,\"\")","v":""},"BYU_Child",null,null,"USD",null,298.75,null,null,null,{"$f":"IF(Template!$O$563<>\"\",Template!$O$563,\"\")","v":""}]
[null,{"$f":"Template!$H$564","v":0},{"$error":"#REF!"},"Calendar_Year_Mar",{"$f":"IF(LEFT(Template!$K$564,2)=\"CC\",Template!$K$564,\"\")","v":""},{"$f":"IF(LEFT(Template!$M$564,2)=\"RC\",Template!$M$564,\"\")","v":""},{"$f":"IF(LEFT(Template!$M$564,2)=\"SC\",Template!$M$564,\"\")","v":""},{"$f":"IF(LEFT(Template!$K$564,2)=\"AC\",Template!$K$564,\"\")","v":""},{"$f":"IF(OR(LEFT(Template!$K$564,2)=\"PJ\", LEFT(Template!$K$564,2)=\"PR\"),Template!$K$564,\"\")","v":""},{"$f":"IF(LEFT(Template!$K$564,2)=\"GF\",Template!$K$564,\"\")","v":""},{"$f":"IF(Template!$S$564<>\"\",Template!$S$564,\"\")","v":""},null,null,null,null,{"$f":"IF(Template!$L$564<>\"\",Template!$L$564,\"\")","v":""},"BYU_Child",null,null,"USD",null,17.27,null,null,null,{"$f":"IF(Template!$O$564<>\"\",Template!$O$564,\"\")","v":""}]
[null,{"$f":"Template!$H$565","v":0},{"$error":"#REF!"},"Calendar_Year_Mar",{"$f":"IF(LEFT(Template!$K$565,2)=\"CC\",Template!$K$565,\"\")","v":""},{"$f":"IF(LEFT(Template!$M$565,2)=\"RC\",Template!$M$565,\"\")","v":""},{"$f":"IF(LEFT(Template!$M$565,2)=\"SC\",Template!$M$565,\"\")","v":""},{"$f":"IF(LEFT(Template!$K$565,2)=\"AC\",Template!$K$565,\"\")","v":""},{"$f":"IF(OR(LEFT(Template!$K$565,2)=\"PJ\", LEFT(Template!$K$565,2)=\"PR\"),Template!$K$565,\"\")","v":""},{"$f":"IF(LEFT(Template!$K$565,2)=\"GF\",Template!$K$565,\"\")","v":""},{"$f":"IF(Template!$S$565<>\"\",Template!$S$565,\"\")","v":""},null,null,null,null,{"$f":"IF(Template!$L$565<>\"\",Template!$L$565,\"\")","v":""},"BYU_Child",null,null,"USD",null,146411.03,null,null,null,{"$f":"IF(Template!$O$565<>\"\",Template!$O$565,\"\")","v":""}]
[null,{"$f":"Template!$H$566","v":0},{"$error":"#REF!"},"Calendar_Year_Mar",{"$f":"IF(LEFT(Template!$K$566,2)=\"CC\",Template!$K$566,\"\")","v":""},{"$f":"IF(LEFT(Template!$M$566,2)=\"RC\",Template!$M$566,\"\")","v":""},{"$f":"IF(LEFT(Template!$M$566,2)=\"SC\",Template!$M$566,\"\")","v":""},{"$f":"IF(LEFT(Template!$K$566,2)=\"AC\",Template!$K$566,\"\")","v":""},{"$f":"IF(OR(LEFT(Template!$K$566,2)=\"PJ\", LEFT(Template!$K$566,2)=\"PR\"),Template!$K$566,\"\")","v":""},{"$f":"IF(LEFT(Template!$K$566,2)=\"GF\",Template!$K$566,\"\")","v":""},{"$f":"IF(Template!$S$566<>\"\",Template!$S$566,\"\")","v":""},null,null,null,null,{"$f":"IF(Template!$L$566<>\"\",Template!$L$566,\"\")","v":""},"BYU_Child",null,null,"USD",null,375.53,null,null,null,{"$f":"IF(Template!$O$566<>\"\",Template!$O$566,\"\")","v":""}]
[null,{"$f":"Template!$H$567","v":0},{"$error":"#REF!"},"Calendar_Year_Mar",{"$f":"IF(LEFT(Template!$K$567,2)=\"CC\",Template!$K$567,\"\")","v":""},{"$f":"IF(LEFT(Template!$M$567,2)=\"RC\",Template!$M$567,\"\")","v":""},{"$f":"IF(LEFT(Template!$M$567,2)=\"SC\",Template!$M$567,\"\")","v":""},{"$f":"IF(LEFT(Template!$K$567,2)=\"AC\",Template!$K$567,\"\")","v":""},{"$f":"IF(OR(LEFT(Template!$K$567,2)=\"PJ\", LEFT(Template!$K$567,2)=\"PR\"),Template!$K$567,\"\")","v":""},{"$f":"IF(LEFT(Template!$K$567,2)=\"GF\",Template!$K$567,\"\")","v":""},{"$f":"IF(Template!$S$567<>\"\",Template!$S$567,\"\")","v":""},null,null,null,null,{"$f":"IF(Template!$L$567<>\"\",Template!$L$567,\"\")","v":""},"BYU_Child",null,null,"USD",null,3280.75,null,null,null,{"$f":"IF(Template!$O$567<>\"\",Template!$O$567,\"\")","v":""}]
[null,{"$f":"Template!$H$568","v":0},{"$error":"#REF!"},"Calendar_Year_Mar",{"$f":"IF(LEFT(Template!$K$568,2)=\"CC\",Template!$K$568,\"\")","v":""},{"$f":"IF(LEFT(Template!$M$568,2)=\"RC\",Template!$M$568,\"\")","v":""},{"$f":"IF(LEFT(Template!$M$568,2)=\"SC\",Template!$M$568,\"\")","v":""},{"$f":"IF(LEFT(Template!$K$568,2)=\"AC\",Template!$K$568,\"\")","v":""},{"$f":"IF(OR(LEFT(Template!$K$568,2)=\"PJ\", LEFT(Template!$K$568,2)=\"PR\"),Template!$K$568,\"\")","v":""},{"$f":"IF(LEFT(Template!$K$568,2)=\"GF\",Template!$K$568,\"\")","v":""},{"$f":"IF(Template!$S$568<>\"\",Template!$S$568,\"\")","v":""},null,null,null,null,{"$f":"IF(Template!$L$568<>\"\",Template!$L$568,\"\")","v":""},"BYU_Child",null,null,"USD",null,159.75,null,null,null,{"$f":"IF(Template!$O$568<>\"\",Template!$O$568,\"\")","v":""}]
[null,{"$f":"Template!$H$569","v":0},{"$error":"#REF!"},"Calendar_Year_Mar",{"$f":"IF(LEFT(Template!$K$569,2)=\"CC\",Template!$K$569,\"\")","v":""},{"$f":"IF(LEFT(Template!$M$569,2)=\"RC\",Template!$M$569,\"\")","v":""},{"$f":"IF(LEFT(Template!$M$569,2)=\"SC\",Template!$M$569,\"\")","v":""},{"$f":"IF(LEFT(Template!$K$569,2)=\"AC\",Template!$K$569,\"\")","v":""},{"$f":"IF(OR(LEFT(Template!$K$569,2)=\"PJ\", LEFT(Template!$K$569,2)=\"PR\"),Template!$K$569,\"\")","v":""},{"$f":"IF(LEFT(Template!$K$569,2)=\"GF\",Template!$K$569,\"\")","v":""},{"$f":"IF(Template!$S$569<>\"\",Template!$S$569,\"\")","v":""},null,null,null,null,{"$f":"IF(Template!$L$569<>\"\",Template!$L$569,\"\")","v":""},"BYU_Child",null,null,"USD",null,841.12,null,null,null,{"$f":"IF(Template!$O$569<>\"\",Template!$O$569,\"\")","v":""}]
[null,{"$f":"Template!$H$570","v":0},{"$error":"#REF!"},"Calendar_Year_Mar",{"$f":"IF(LEFT(Template!$K$570,2)=\"CC\",Template!$K$570,\"\")","v":""},{"$f":"IF(LEFT(Template!$M$570,2)=\"RC\",Template!$M$570,\"\")","v":""},{"$f":"IF(LEFT(Template!$M$570,2)=\"SC\",Template!$M$570,\"\")","v":""},{"$f":"IF(LEFT(Template!$K$570,2)=\"AC\",Template!$K$570,\"\")","v":""},{"$f":"IF(OR(LEFT(Template!$K$570,2)=\"PJ\", LEFT(Template!$K$570,2)=\"PR\"),Template!$K$570,\"\")","v":""},{"$f":"IF(LEFT(Template!$K$570,2)=\"GF\",Template!$K$570,\"\")","v":""},{"$f":"IF(Template!$S$570<>\"\",Template!$S$570,\"\")","v":""},null,null,null,null,{"$f":"IF(Template!$L$570<>\"\",Template!$L$570,\"\")","v":""},"BYU_Child",null,null,"USD",null,14149.35,null,null,null,{"$f":"IF(Template!$O$570<>\"\",Template!$O$570,\"\")","v":""}]
[null,{"$f":"Template!$H$571","v":0},{"$error":"#REF!"},"Calendar_Year_Mar",{"$f":"IF(LEFT(Template!$K$571,2)=\"CC\",Template!$K$571,\"\")","v":""},{"$f":"IF(LEFT(Template!$M$571,2)=\"RC\",Template!$M$571,\"\")","v":""},{"$f":"IF(LEFT(Template!$M$571,2)=\"SC\",Template!$M$571,\"\")","v":""},{"$f":"IF(LEFT(Template!$K$571,2)=\"AC\",Template!$K$571,\"\")","v":""},{"$f":"IF(OR(LEFT(Template!$K$571,2)=\"PJ\", LEFT(Template!$K$571,2)=\"PR\"),Template!$K$571,\"\")","v":""},{"$f":"IF(LEFT(Template!$K$571,2)=\"GF\",Template!$K$571,\"\")","v":""},{"$f":"IF(Template!$S$571<>\"\",Template!$S$571,\"\")","v":""},null,null,null,null,{"$f":"IF(Template!$L$571<>\"\",Template!$L$571,\"\")","v":""},"BYU_Child",null,null,"USD",null,2400.27,null,null,null,{"$f":"IF(Template!$O$571<>\"\",Template!$O$571,\"\")","v":""}]
[null,{"$f":"Template!$H$572","v":0},{"$error":"#REF!"},"Calendar_Year_Mar",{"$f":"IF(LEFT(Template!$K$572,2)=\"CC\",Template!$K$572,\"\")","v":""},{"$f":"IF(LEFT(Template!$M$572,2)=\"RC\",Template!$M$572,\"\")","v":""},{"$f":"IF(LEFT(Template!$M$572,2)=\"SC\",Template!$M$572,\"\")","v":""},{"$f":"IF(LEFT(Template!$K$572,2)=\"AC\",Template!$K$572,\"\")","v":""},{"$f":"IF(OR(LEFT(Template!$K$572,2)=\"PJ\", LEFT(Template!$K$572,2)=\"PR\"),Template!$K$572,\"\")","v":""},{"$f":"IF(LEFT(Template!$K$572,2)=\"GF\",Template!$K$572,\"\")","v":""},{"$f":"IF(Template!$S$572<>\"\",Template!$S$572,\"\")","v":""},null,null,null,null,{"$f":"IF(Template!$L$572<>\"\",Template!$L$572,\"\")","v":""},"BYU_Child",null,null,"USD",null,2593.46,null,null,null,{"$f":"IF(Template!$O$572<>\"\",Template!$O$572,\"\")","v":""}]
[null,{"$f":"Template!$H$573","v":0},{"$error":"#REF!"},"Calendar_Year_Mar",{"$f":"IF(LEFT(Template!$K$573,2)=\"CC\",Template!$K$573,\"\")","v":""},{"$f":"IF(LEFT(Template!$M$573,2)=\"RC\",Template!$M$573,\"\")","v":""},{"$f":"IF(LEFT(Template!$M$573,2)=\"SC\",Template!$M$573,\"\")","v":""},{"$f":"IF(LEFT(Template!$K$573,2)=\"AC\",Template!$K$573,\"\")","v":""},{"$f":"IF(OR(LEFT(Template!$K$573,2)=\"PJ\", LEFT(Template!$K$573,2)=\"PR\"),Template!$K$573,\"\")","v":""},{"$f":"IF(LEFT(Template!$K$573,2)=\"GF\",Template!$K$573,\"\")","v":""},{"$f":"IF(Template!$S$573<>\"\",Template!$S$573,\"\")","v":""},null,null,null,null,{"$f":"IF(Template!$L$573<>\"\",Template!$L$573,\"\")","v":""},"BYU_Child",null,null,"USD",null,185353.32,null,null,null,{"$f":"IF(Template!$O$573<>\"\",Template!$O$573,\"\")","v":""}]
[null,{"$f":"Template!$H$574","v":0},{"$error":"#REF!"},"Calendar_Year_Mar",{"$f":"IF(LEFT(Template!$K$574,2)=\"CC\",Template!$K$574,\"\")","v":""},{"$f":"IF(LEFT(Template!$M$574,2)=\"RC\",Template!$M$574,\"\")","v":""},{"$f":"IF(LEFT(Template!$M$574,2)=\"SC\",Template!$M$574,\"\")","v":""},{"$f":"IF(LEFT(Template!$K$574,2)=\"AC\",Template!$K$574,\"\")","v":""},{"$f":"IF(OR(LEFT(Template!$K$574,2)=\"PJ\", LEFT(Template!$K$574,2)=\"PR\"),Template!$K$574,\"\")","v":""},{"$f":"IF(LEFT(Template!$K$574,2)=\"GF\",Template!$K$574,\"\")","v":""},{"$f":"IF(Template!$S$574<>\"\",Template!$S$574,\"\")","v":""},null,null,null,null,{"$f":"IF(Template!$L$574<>\"\",Template!$L$574,\"\")","v":""},"BYU_Child",null,null,"USD",null,1613.65,null,null,null,{"$f":"IF(Template!$O$574<>\"\",Template!$O$574,\"\")","v":""}]
[null,{"$f":"Template!$H$575","v":0},{"$error":"#REF!"},"Calendar_Year_Mar",{"$f":"IF(LEFT(Template!$K$575,2)=\"CC\",Template!$K$575,\"\")","v":""},{"$f":"IF(LEFT(Template!$M$575,2)=\"RC\",Template!$M$575,\"\")","v":""},{"$f":"IF(LEFT(Template!$M$575,2)=\"SC\",Template!$M$575,\"\")","v":""},{"$f":"IF(LEFT(Template!$K$575,2)=\"AC\",Template!$K$575,\"\")","v":""},{"$f":"IF(OR(LEFT(Template!$K$575,2)=\"PJ\", LEFT(Template!$K$575,2)=\"PR\"),Template!$K$575,\"\")","v":""},{"$f":"IF(LEFT(Template!$K$575,2)=\"GF\",Template!$K$575,\"\")","v":""},{"$f":"IF(Template!$S$575<>\"\",Template!$S$575,\"\")","v":""},null,null,null,null,{"$f":"IF(Template!$L$575<>\"\",Template!$L$575,\"\")","v":""},"BYU_Child",null,null,"USD",null,7.13,null,null,null,{"$f":"IF(Template!$O$575<>\"\",Template!$O$575,\"\")","v":""}]
[null,{"$f":"Template!$H$576","v":0},{"$error":"#REF!"},"Calendar_Year_Mar",{"$f":"IF(LEFT(Template!$K$576,2)=\"CC\",Template!$K$576,\"\")","v":""},{"$f":"IF(LEFT(Template!$M$576,2)=\"RC\",Template!$M$576,\"\")","v":""},{"$f":"IF(LEFT(Template!$M$576,2)=\"SC\",Template!$M$576,\"\")","v":""},{"$f":"IF(LEFT(Template!$K$576,2)=\"AC\",Template!$K$576,\"\")","v":""},{"$f":"IF(OR(LEFT(Template!$K$576,2)=\"PJ\", LEFT(Template!$K$576,2)=\"PR\"),Template!$K$576,\"\")","v":""},{"$f":"IF(LEFT(Template!$K$576,2)=\"GF\",Template!$K$576,\"\")","v":""},{"$f":"IF(Template!$S$576<>\"\",Template!$S$576,\"\")","v":""},null,null,null,null,{"$f":"IF(Template!$L$576<>\"\",Template!$L$576,\"\")","v":""},"BYU_Child",null,null,"USD",null,828.46,null,null,null,{"$f":"IF(Template!$O$576<>\"\",Template!$O$576,\"\")","v":""}]
[null,{"$f":"Template!$H$577","v":0},{"$error":"#REF!"},"Calendar_Year_Mar",{"$f":"IF(LEFT(Template!$K$577,2)=\"CC\",Template!$K$577,\"\")","v":""},{"$f":"IF(LEFT(Template!$M$577,2)=\"RC\",Template!$M$577,\"\")","v":""},{"$f":"IF(LEFT(Template!$M$577,2)=\"SC\",Template!$M$577,\"\")","v":""},{"$f":"IF(LEFT(Template!$K$577,2)=\"AC\",Template!$K$577,\"\")","v":""},{"$f":"IF(OR(LEFT(Template!$K$577,2)=\"PJ\", LEFT(Template!$K$577,2)=\"PR\"),Template!$K$577,\"\")","v":""},{"$f":"IF(LEFT(Template!$K$577,2)=\"GF\",Template!$K$577,\"\")","v":""},{"$f":"IF(Template!$S$577<>\"\",Template!$S$577,\"\")","v":""},null,null,null,null,{"$f":"IF(Template!$L$577<>\"\",Template!$L$577,\"\")","v":""},"BYU_Child",null,null,"USD",null,327.26,null,null,null,{"$f":"IF(Template!$O$577<>\"\",Template!$O$577,\"\")","v":""}]
[null,{"$f":"Template!$H$578","v":0},{"$error":"#REF!"},"Calendar_Year_Mar",{"$f":"IF(LEFT(Template!$K$578,2)=\"CC\",Template!$K$578,\"\")","v":""},{"$f":"IF(LEFT(Template!$M$578,2)=\"RC\",Template!$M$578,\"\")","v":""},{"$f":"IF(LEFT(Template!$M$578,2)=\"SC\",Template!$M$578,\"\")","v":""},{"$f":"IF(LEFT(Template!$K$578,2)=\"AC\",Template!$K$578,\"\")","v":""},{"$f":"IF(OR(LEFT(Template!$K$578,2)=\"PJ\", LEFT(Template!$K$578,2)=\"PR\"),Template!$K$578,\"\")","v":""},{"$f":"IF(LEFT(Template!$K$578,2)=\"GF\",Template!$K$578,\"\")","v":""},{"$f":"IF(Template!$S$578<>\"\",Template!$S$578,\"\")","v":""},null,null,null,null,{"$f":"IF(Template!$L$578<>\"\",Template!$L$578,\"\")","v":""},"BYU_Child",null,null,"USD",null,1247.82,null,null,null,{"$f":"IF(Template!$O$578<>\"\",Template!$O$578,\"\")","v":""}]
[null,{"$f":"Template!$H$579","v":0},{"$error":"#REF!"},"Calendar_Year_Mar",{"$f":"IF(LEFT(Template!$K$579,2)=\"CC\",Template!$K$579,\"\")","v":""},{"$f":"IF(LEFT(Template!$M$579,2)=\"RC\",Template!$M$579,\"\")","v":""},{"$f":"IF(LEFT(Template!$M$579,2)=\"SC\",Template!$M$579,\"\")","v":""},{"$f":"IF(LEFT(Template!$K$579,2)=\"AC\",Template!$K$579,\"\")","v":""},{"$f":"IF(OR(LEFT(Template!$K$579,2)=\"PJ\", LEFT(Template!$K$579,2)=\"PR\"),Template!$K$579,\"\")","v":""},{"$f":"IF(LEFT(Template!$K$579,2)=\"GF\",Template!$K$579,\"\")","v":""},{"$f":"IF(Template!$S$579<>\"\",Template!$S$579,\"\")","v":""},null,null,null,null,{"$f":"IF(Template!$L$579<>\"\",Template!$L$579,\"\")","v":""},"BYU_Child",null,null,"USD",null,2097.14,null,null,null,{"$f":"IF(Template!$O$579<>\"\",Template!$O$579,\"\")","v":""}]
[null,{"$f":"Template!$H$580","v":0},{"$error":"#REF!"},"Calendar_Year_Mar",{"$f":"IF(LEFT(Template!$K$580,2)=\"CC\",Template!$K$580,\"\")","v":""},{"$f":"IF(LEFT(Template!$M$580,2)=\"RC\",Template!$M$580,\"\")","v":""},{"$f":"IF(LEFT(Template!$M$580,2)=\"SC\",Template!$M$580,\"\")","v":""},{"$f":"IF(LEFT(Template!$K$580,2)=\"AC\",Template!$K$580,\"\")","v":""},{"$f":"IF(OR(LEFT(Template!$K$580,2)=\"PJ\", LEFT(Template!$K$580,2)=\"PR\"),Template!$K$580,\"\")","v":""},{"$f":"IF(LEFT(Template!$K$580,2)=\"GF\",Template!$K$580,\"\")","v":""},{"$f":"IF(Template!$S$580<>\"\",Template!$S$580,\"\")","v":""},null,null,null,null,{"$f":"IF(Template!$L$580<>\"\",Template!$L$580,\"\")","v":""},"BYU_Child",null,null,"USD",null,498.02,null,null,null,{"$f":"IF(Template!$O$580<>\"\",Template!$O$580,\"\")","v":""}]
[null,{"$f":"Template!$H$581","v":0},{"$error":"#REF!"},"Calendar_Year_Mar",{"$f":"IF(LEFT(Template!$K$581,2)=\"CC\",Template!$K$581,\"\")","v":""},{"$f":"IF(LEFT(Template!$M$581,2)=\"RC\",Template!$M$581,\"\")","v":""},{"$f":"IF(LEFT(Template!$M$581,2)=\"SC\",Template!$M$581,\"\")","v":""},{"$f":"IF(LEFT(Template!$K$581,2)=\"AC\",Template!$K$581,\"\")","v":""},{"$f":"IF(OR(LEFT(Template!$K$581,2)=\"PJ\", LEFT(Template!$K$581,2)=\"PR\"),Template!$K$581,\"\")","v":""},{"$f":"IF(LEFT(Template!$K$581,2)=\"GF\",Template!$K$581,\"\")","v":""},{"$f":"IF(Template!$S$581<>\"\",Template!$S$581,\"\")","v":""},null,null,null,null,{"$f":"IF(Template!$L$581<>\"\",Template!$L$581,\"\")","v":""},"BYU_Child",null,null,"USD",null,2404.31,null,null,null,{"$f":"IF(Template!$O$581<>\"\",Template!$O$581,\"\")","v":""}]
[null,{"$f":"Template!$H$582","v":0},{"$error":"#REF!"},"Calendar_Year_Mar",{"$f":"IF(LEFT(Template!$K$582,2)=\"CC\",Template!$K$582,\"\")","v":""},{"$f":"IF(LEFT(Template!$M$582,2)=\"RC\",Template!$M$582,\"\")","v":""},{"$f":"IF(LEFT(Template!$M$582,2)=\"SC\",Template!$M$582,\"\")","v":""},{"$f":"IF(LEFT(Template!$K$582,2)=\"AC\",Template!$K$582,\"\")","v":""},{"$f":"IF(OR(LEFT(Template!$K$582,2)=\"PJ\", LEFT(Template!$K$582,2)=\"PR\"),Template!$K$582,\"\")","v":""},{"$f":"IF(LEFT(Template!$K$582,2)=\"GF\",Template!$K$582,\"\")","v":""},{"$f":"IF(Template!$S$582<>\"\",Template!$S$582,\"\")","v":""},null,null,null,null,{"$f":"IF(Template!$L$582<>\"\",Template!$L$582,\"\")","v":""},"BYU_Child",null,null,"USD",null,69856.399999999994,null,null,null,{"$f":"IF(Template!$O$582<>\"\",Template!$O$582,\"\")","v":""}]
[null,{"$f":"Template!$H$583","v":0},{"$error":"#REF!"},"Calendar_Year_Mar",{"$f":"IF(LEFT(Template!$K$583,2)=\"CC\",Template!$K$583,\"\")","v":""},{"$f":"IF(LEFT(Template!$M$583,2)=\"RC\",Template!$M$583,\"\")","v":""},{"$f":"IF(LEFT(Template!$M$583,2)=\"SC\",Template!$M$583,\"\")","v":""},{"$f":"IF(LEFT(Template!$K$583,2)=\"AC\",Template!$K$583,\"\")","v":""},{"$f":"IF(OR(LEFT(Template!$K$583,2)=\"PJ\", LEFT(Template!$K$583,2)=\"PR\"),Template!$K$583,\"\")","v":""},{"$f":"IF(LEFT(Template!$K$583,2)=\"GF\",Template!$K$583,\"\")","v":""},{"$f":"IF(Template!$S$583<>\"\",Template!$S$583,\"\")","v":""},null,null,null,null,{"$f":"IF(Template!$L$583<>\"\",Template!$L$583,\"\")","v":""},"BYU_Child",null,null,"USD",null,895.53,null,null,null,{"$f":"IF(Template!$O$583<>\"\",Template!$O$583,\"\")","v":""}]
[null,{"$f":"Template!$H$584","v":0},{"$error":"#REF!"},"Calendar_Year_Mar",{"$f":"IF(LEFT(Template!$K$584,2)=\"CC\",Template!$K$584,\"\")","v":""},{"$f":"IF(LEFT(Template!$M$584,2)=\"RC\",Template!$M$584,\"\")","v":""},{"$f":"IF(LEFT(Template!$M$584,2)=\"SC\",Template!$M$584,\"\")","v":""},{"$f":"IF(LEFT(Template!$K$584,2)=\"AC\",Template!$K$584,\"\")","v":""},{"$f":"IF(OR(LEFT(Template!$K$584,2)=\"PJ\", LEFT(Template!$K$584,2)=\"PR\"),Template!$K$584,\"\")","v":""},{"$f":"IF(LEFT(Template!$K$584,2)=\"GF\",Template!$K$584,\"\")","v":""},{"$f":"IF(Template!$S$584<>\"\",Template!$S$584,\"\")","v":""},null,null,null,null,{"$f":"IF(Template!$L$584<>\"\",Template!$L$584,\"\")","v":""},"BYU_Child",null,null,"USD",null,3.81,null,null,null,{"$f":"IF(Template!$O$584<>\"\",Template!$O$584,\"\")","v":""}]
[null,{"$f":"Template!$H$585","v":0},{"$error":"#REF!"},"Calendar_Year_Mar",{"$f":"IF(LEFT(Template!$K$585,2)=\"CC\",Template!$K$585,\"\")","v":""},{"$f":"IF(LEFT(Template!$M$585,2)=\"RC\",Template!$M$585,\"\")","v":""},{"$f":"IF(LEFT(Template!$M$585,2)=\"SC\",Template!$M$585,\"\")","v":""},{"$f":"IF(LEFT(Template!$K$585,2)=\"AC\",Template!$K$585,\"\")","v":""},{"$f":"IF(OR(LEFT(Template!$K$585,2)=\"PJ\", LEFT(Template!$K$585,2)=\"PR\"),Template!$K$585,\"\")","v":""},{"$f":"IF(LEFT(Template!$K$585,2)=\"GF\",Template!$K$585,\"\")","v":""},{"$f":"IF(Template!$S$585<>\"\",Template!$S$585,\"\")","v":""},null,null,null,null,{"$f":"IF(Template!$L$585<>\"\",Template!$L$585,\"\")","v":""},"BYU_Child",null,null,"USD",null,2267.41,null,null,null,{"$f":"IF(Template!$O$585<>\"\",Template!$O$585,\"\")","v":""}]
[null,{"$f":"Template!$H$586","v":0},{"$error":"#REF!"},"Calendar_Year_Mar",{"$f":"IF(LEFT(Template!$K$586,2)=\"CC\",Template!$K$586,\"\")","v":""},{"$f":"IF(LEFT(Template!$M$586,2)=\"RC\",Template!$M$586,\"\")","v":""},{"$f":"IF(LEFT(Template!$M$586,2)=\"SC\",Template!$M$586,\"\")","v":""},{"$f":"IF(LEFT(Template!$K$586,2)=\"AC\",Template!$K$586,\"\")","v":""},{"$f":"IF(OR(LEFT(Template!$K$586,2)=\"PJ\", LEFT(Template!$K$586,2)=\"PR\"),Template!$K$586,\"\")","v":""},{"$f":"IF(LEFT(Template!$K$586,2)=\"GF\",Template!$K$586,\"\")","v":""},{"$f":"IF(Template!$S$586<>\"\",Template!$S$586,\"\")","v":""},null,null,null,null,{"$f":"IF(Template!$L$586<>\"\",Template!$L$586,\"\")","v":""},"BYU_Child",null,null,"USD",null,7737.61,null,null,null,{"$f":"IF(Template!$O$586<>\"\",Template!$O$586,\"\")","v":""}]
[null,{"$f":"Template!$H$587","v":0},{"$error":"#REF!"},"Calendar_Year_Mar",{"$f":"IF(LEFT(Template!$K$587,2)=\"CC\",Template!$K$587,\"\")","v":""},{"$f":"IF(LEFT(Template!$M$587,2)=\"RC\",Template!$M$587,\"\")","v":""},{"$f":"IF(LEFT(Template!$M$587,2)=\"SC\",Template!$M$587,\"\")","v":""},{"$f":"IF(LEFT(Template!$K$587,2)=\"AC\",Template!$K$587,\"\")","v":""},{"$f":"IF(OR(LEFT(Template!$K$587,2)=\"PJ\", LEFT(Template!$K$587,2)=\"PR\"),Template!$K$587,\"\")","v":""},{"$f":"IF(LEFT(Template!$K$587,2)=\"GF\",Template!$K$587,\"\")","v":""},{"$f":"IF(Template!$S$587<>\"\",Template!$S$587,\"\")","v":""},null,null,null,null,{"$f":"IF(Template!$L$587<>\"\",Template!$L$587,\"\")","v":""},"BYU_Child",null,null,"USD",null,202271.23,null,null,null,{"$f":"IF(Template!$O$587<>\"\",Template!$O$587,\"\")","v":""}]
[null,{"$f":"Template!$H$588","v":0},{"$error":"#REF!"},"Calendar_Year_Mar",{"$f":"IF(LEFT(Template!$K$588,2)=\"CC\",Template!$K$588,\"\")","v":""},{"$f":"IF(LEFT(Template!$M$588,2)=\"RC\",Template!$M$588,\"\")","v":""},{"$f":"IF(LEFT(Template!$M$588,2)=\"SC\",Template!$M$588,\"\")","v":""},{"$f":"IF(LEFT(Template!$K$588,2)=\"AC\",Template!$K$588,\"\")","v":""},{"$f":"IF(OR(LEFT(Template!$K$588,2)=\"PJ\", LEFT(Template!$K$588,2)=\"PR\"),Template!$K$588,\"\")","v":""},{"$f":"IF(LEFT(Template!$K$588,2)=\"GF\",Template!$K$588,\"\")","v":""},{"$f":"IF(Template!$S$588<>\"\",Template!$S$588,\"\")","v":""},null,null,null,null,{"$f":"IF(Template!$L$588<>\"\",Template!$L$588,\"\")","v":""},"BYU_Child",null,null,"USD",null,null,401.73,null,null,{"$f":"IF(Template!$O$588<>\"\",Template!$O$588,\"\")","v":""}]
[null,{"$f":"Template!$H$589","v":0},{"$error":"#REF!"},"Calendar_Year_Mar",{"$f":"IF(LEFT(Template!$K$589,2)=\"CC\",Template!$K$589,\"\")","v":""},{"$f":"IF(LEFT(Template!$M$589,2)=\"RC\",Template!$M$589,\"\")","v":""},{"$f":"IF(LEFT(Template!$M$589,2)=\"SC\",Template!$M$589,\"\")","v":""},{"$f":"IF(LEFT(Template!$K$589,2)=\"AC\",Template!$K$589,\"\")","v":""},{"$f":"IF(OR(LEFT(Template!$K$589,2)=\"PJ\", LEFT(Template!$K$589,2)=\"PR\"),Template!$K$589,\"\")","v":""},{"$f":"IF(LEFT(Template!$K$589,2)=\"GF\",Template!$K$589,\"\")","v":""},{"$f":"IF(Template!$S$589<>\"\",Template!$S$589,\"\")","v":""},null,null,null,null,{"$f":"IF(Template!$L$589<>\"\",Template!$L$589,\"\")","v":""},"BYU_Child",null,null,"USD",null,786.39,null,null,null,{"$f":"IF(Template!$O$589<>\"\",Template!$O$589,\"\")","v":""}]
[null,{"$f":"Template!$H$590","v":0},{"$error":"#REF!"},"Calendar_Year_Mar",{"$f":"IF(LEFT(Template!$K$590,2)=\"CC\",Template!$K$590,\"\")","v":""},{"$f":"IF(LEFT(Template!$M$590,2)=\"RC\",Template!$M$590,\"\")","v":""},{"$f":"IF(LEFT(Template!$M$590,2)=\"SC\",Template!$M$590,\"\")","v":""},{"$f":"IF(LEFT(Template!$K$590,2)=\"AC\",Template!$K$590,\"\")","v":""},{"$f":"IF(OR(LEFT(Template!$K$590,2)=\"PJ\", LEFT(Template!$K$590,2)=\"PR\"),Template!$K$590,\"\")","v":""},{"$f":"IF(LEFT(Template!$K$590,2)=\"GF\",Template!$K$590,\"\")","v":""},{"$f":"IF(Template!$S$590<>\"\",Template!$S$590,\"\")","v":""},null,null,null,null,{"$f":"IF(Template!$L$590<>\"\",Template!$L$590,\"\")","v":""},"BYU_Child",null,null,"USD",null,2414.2800000000002,null,null,null,{"$f":"IF(Template!$O$590<>\"\",Template!$O$590,\"\")","v":""}]
[null,{"$f":"Template!$H$591","v":0},{"$error":"#REF!"},"Calendar_Year_Mar",{"$f":"IF(LEFT(Template!$K$591,2)=\"CC\",Template!$K$591,\"\")","v":""},{"$f":"IF(LEFT(Template!$M$591,2)=\"RC\",Template!$M$591,\"\")","v":""},{"$f":"IF(LEFT(Template!$M$591,2)=\"SC\",Template!$M$591,\"\")","v":""},{"$f":"IF(LEFT(Template!$K$591,2)=\"AC\",Template!$K$591,\"\")","v":""},{"$f":"IF(OR(LEFT(Template!$K$591,2)=\"PJ\", LEFT(Template!$K$591,2)=\"PR\"),Template!$K$591,\"\")","v":""},{"$f":"IF(LEFT(Template!$K$591,2)=\"GF\",Template!$K$591,\"\")","v":""},{"$f":"IF(Template!$S$591<>\"\",Template!$S$591,\"\")","v":""},null,null,null,null,{"$f":"IF(Template!$L$591<>\"\",Template!$L$591,\"\")","v":""},"BYU_Child",null,null,"USD",null,35678.870000000003,null,null,null,{"$f":"IF(Template!$O$591<>\"\",Template!$O$591,\"\")","v":""}]
[null,{"$f":"Template!$H$592","v":0},{"$error":"#REF!"},"Calendar_Year_Mar",{"$f":"IF(LEFT(Template!$K$592,2)=\"CC\",Template!$K$592,\"\")","v":""},{"$f":"IF(LEFT(Template!$M$592,2)=\"RC\",Template!$M$592,\"\")","v":""},{"$f":"IF(LEFT(Template!$M$592,2)=\"SC\",Template!$M$592,\"\")","v":""},{"$f":"IF(LEFT(Template!$K$592,2)=\"AC\",Template!$K$592,\"\")","v":""},{"$f":"IF(OR(LEFT(Template!$K$592,2)=\"PJ\", LEFT(Template!$K$592,2)=\"PR\"),Template!$K$592,\"\")","v":""},{"$f":"IF(LEFT(Template!$K$592,2)=\"GF\",Template!$K$592,\"\")","v":""},{"$f":"IF(Template!$S$592<>\"\",Template!$S$592,\"\")","v":""},null,null,null,null,{"$f":"IF(Template!$L$592<>\"\",Template!$L$592,\"\")","v":""},"BYU_Child",null,null,"USD",null,471.83,null,null,null,{"$f":"IF(Template!$O$592<>\"\",Template!$O$592,\"\")","v":""}]
[null,{"$f":"Template!$H$593","v":0},{"$error":"#REF!"},"Calendar_Year_Mar",{"$f":"IF(LEFT(Template!$K$593,2)=\"CC\",Template!$K$593,\"\")","v":""},{"$f":"IF(LEFT(Template!$M$593,2)=\"RC\",Template!$M$593,\"\")","v":""},{"$f":"IF(LEFT(Template!$M$593,2)=\"SC\",Template!$M$593,\"\")","v":""},{"$f":"IF(LEFT(Template!$K$593,2)=\"AC\",Template!$K$593,\"\")","v":""},{"$f":"IF(OR(LEFT(Template!$K$593,2)=\"PJ\", LEFT(Template!$K$593,2)=\"PR\"),Template!$K$593,\"\")","v":""},{"$f":"IF(LEFT(Template!$K$593,2)=\"GF\",Template!$K$593,\"\")","v":""},{"$f":"IF(Template!$S$593<>\"\",Template!$S$593,\"\")","v":""},null,null,null,null,{"$f":"IF(Template!$L$593<>\"\",Template!$L$593,\"\")","v":""},"BYU_Child",null,null,"USD",null,64.650000000000006,null,null,null,{"$f":"IF(Template!$O$593<>\"\",Template!$O$593,\"\")","v":""}]
[null,{"$f":"Template!$H$594","v":0},{"$error":"#REF!"},"Calendar_Year_Mar",{"$f":"IF(LEFT(Template!$K$594,2)=\"CC\",Template!$K$594,\"\")","v":""},{"$f":"IF(LEFT(Template!$M$594,2)=\"RC\",Template!$M$594,\"\")","v":""},{"$f":"IF(LEFT(Template!$M$594,2)=\"SC\",Template!$M$594,\"\")","v":""},{"$f":"IF(LEFT(Template!$K$594,2)=\"AC\",Template!$K$594,\"\")","v":""},{"$f":"IF(OR(LEFT(Template!$K$594,2)=\"PJ\", LEFT(Template!$K$594,2)=\"PR\"),Template!$K$594,\"\")","v":""},{"$f":"IF(LEFT(Template!$K$594,2)=\"GF\",Template!$K$594,\"\")","v":""},{"$f":"IF(Template!$S$594<>\"\",Template!$S$594,\"\")","v":""},null,null,null,null,{"$f":"IF(Template!$L$594<>\"\",Template!$L$594,\"\")","v":""},"BYU_Child",null,null,"USD",null,24144.67,null,null,null,{"$f":"IF(Template!$O$594<>\"\",Template!$O$594,\"\")","v":""}]
[null,{"$f":"Template!$H$595","v":0},{"$error":"#REF!"},"Calendar_Year_Mar",{"$f":"IF(LEFT(Template!$K$595,2)=\"CC\",Template!$K$595,\"\")","v":""},{"$f":"IF(LEFT(Template!$M$595,2)=\"RC\",Template!$M$595,\"\")","v":""},{"$f":"IF(LEFT(Template!$M$595,2)=\"SC\",Template!$M$595,\"\")","v":""},{"$f":"IF(LEFT(Template!$K$595,2)=\"AC\",Template!$K$595,\"\")","v":""},{"$f":"IF(OR(LEFT(Template!$K$595,2)=\"PJ\", LEFT(Template!$K$595,2)=\"PR\"),Template!$K$595,\"\")","v":""},{"$f":"IF(LEFT(Template!$K$595,2)=\"GF\",Template!$K$595,\"\")","v":""},{"$f":"IF(Template!$S$595<>\"\",Template!$S$595,\"\")","v":""},null,null,null,null,{"$f":"IF(Template!$L$595<>\"\",Template!$L$595,\"\")","v":""},"BYU_Child",null,null,"USD",null,142287.84,null,null,null,{"$f":"IF(Template!$O$595<>\"\",Template!$O$595,\"\")","v":""}]
[null,{"$f":"Template!$H$596","v":0},{"$error":"#REF!"},"Calendar_Year_Mar",{"$f":"IF(LEFT(Template!$K$596,2)=\"CC\",Template!$K$596,\"\")","v":""},{"$f":"IF(LEFT(Template!$M$596,2)=\"RC\",Template!$M$596,\"\")","v":""},{"$f":"IF(LEFT(Template!$M$596,2)=\"SC\",Template!$M$596,\"\")","v":""},{"$f":"IF(LEFT(Template!$K$596,2)=\"AC\",Template!$K$596,\"\")","v":""},{"$f":"IF(OR(LEFT(Template!$K$596,2)=\"PJ\", LEFT(Template!$K$596,2)=\"PR\"),Template!$K$596,\"\")","v":""},{"$f":"IF(LEFT(Template!$K$596,2)=\"GF\",Template!$K$596,\"\")","v":""},{"$f":"IF(Template!$S$596<>\"\",Template!$S$596,\"\")","v":""},null,null,null,null,{"$f":"IF(Template!$L$596<>\"\",Template!$L$596,\"\")","v":""},"BYU_Child",null,null,"USD",null,2410.34,null,null,null,{"$f":"IF(Template!$O$596<>\"\",Template!$O$596,\"\")","v":""}]
[null,{"$f":"Template!$H$597","v":0},{"$error":"#REF!"},"Calendar_Year_Mar",{"$f":"IF(LEFT(Template!$K$597,2)=\"CC\",Template!$K$597,\"\")","v":""},{"$f":"IF(LEFT(Template!$M$597,2)=\"RC\",Template!$M$597,\"\")","v":""},{"$f":"IF(LEFT(Template!$M$597,2)=\"SC\",Template!$M$597,\"\")","v":""},{"$f":"IF(LEFT(Template!$K$597,2)=\"AC\",Template!$K$597,\"\")","v":""},{"$f":"IF(OR(LEFT(Template!$K$597,2)=\"PJ\", LEFT(Template!$K$597,2)=\"PR\"),Template!$K$597,\"\")","v":""},{"$f":"IF(LEFT(Template!$K$597,2)=\"GF\",Template!$K$597,\"\")","v":""},{"$f":"IF(Template!$S$597<>\"\",Template!$S$597,\"\")","v":""},null,null,null,null,{"$f":"IF(Template!$L$597<>\"\",Template!$L$597,\"\")","v":""},"BYU_Child",null,null,"USD",null,5451.82,null,null,null,{"$f":"IF(Template!$O$597<>\"\",Template!$O$597,\"\")","v":""}]
[null,{"$f":"Template!$H$598","v":0},{"$error":"#REF!"},"Calendar_Year_Mar",{"$f":"IF(LEFT(Template!$K$598,2)=\"CC\",Template!$K$598,\"\")","v":""},{"$f":"IF(LEFT(Template!$M$598,2)=\"RC\",Template!$M$598,\"\")","v":""},{"$f":"IF(LEFT(Template!$M$598,2)=\"SC\",Template!$M$598,\"\")","v":""},{"$f":"IF(LEFT(Template!$K$598,2)=\"AC\",Template!$K$598,\"\")","v":""},{"$f":"IF(OR(LEFT(Template!$K$598,2)=\"PJ\", LEFT(Template!$K$598,2)=\"PR\"),Template!$K$598,\"\")","v":""},{"$f":"IF(LEFT(Template!$K$598,2)=\"GF\",Template!$K$598,\"\")","v":""},{"$f":"IF(Template!$S$598<>\"\",Template!$S$598,\"\")","v":""},null,null,null,null,{"$f":"IF(Template!$L$598<>\"\",Template!$L$598,\"\")","v":""},"BYU_Child",null,null,"USD",null,6.62,null,null,null,{"$f":"IF(Template!$O$598<>\"\",Template!$O$598,\"\")","v":""}]
[null,{"$f":"Template!$H$599","v":0},{"$error":"#REF!"},"Calendar_Year_Mar",{"$f":"IF(LEFT(Template!$K$599,2)=\"CC\",Template!$K$599,\"\")","v":""},{"$f":"IF(LEFT(Template!$M$599,2)=\"RC\",Template!$M$599,\"\")","v":""},{"$f":"IF(LEFT(Template!$M$599,2)=\"SC\",Template!$M$599,\"\")","v":""},{"$f":"IF(LEFT(Template!$K$599,2)=\"AC\",Template!$K$599,\"\")","v":""},{"$f":"IF(OR(LEFT(Template!$K$599,2)=\"PJ\", LEFT(Template!$K$599,2)=\"PR\"),Template!$K$599,\"\")","v":""},{"$f":"IF(LEFT(Template!$K$599,2)=\"GF\",Template!$K$599,\"\")","v":""},{"$f":"IF(Template!$S$599<>\"\",Template!$S$599,\"\")","v":""},null,null,null,null,{"$f":"IF(Template!$L$599<>\"\",Template!$L$599,\"\")","v":""},"BYU_Child",null,null,"USD",null,1181.24,null,null,null,{"$f":"IF(Template!$O$599<>\"\",Template!$O$599,\"\")","v":""}]
[null,{"$f":"Template!$H$600","v":0},{"$error":"#REF!"},"Calendar_Year_Mar",{"$f":"IF(LEFT(Template!$K$600,2)=\"CC\",Template!$K$600,\"\")","v":""},{"$f":"IF(LEFT(Template!$M$600,2)=\"RC\",Template!$M$600,\"\")","v":""},{"$f":"IF(LEFT(Template!$M$600,2)=\"SC\",Template!$M$600,\"\")","v":""},{"$f":"IF(LEFT(Template!$K$600,2)=\"AC\",Template!$K$600,\"\")","v":""},{"$f":"IF(OR(LEFT(Template!$K$600,2)=\"PJ\", LEFT(Template!$K$600,2)=\"PR\"),Template!$K$600,\"\")","v":""},{"$f":"IF(LEFT(Template!$K$600,2)=\"GF\",Template!$K$600,\"\")","v":""},{"$f":"IF(Template!$S$600<>\"\",Template!$S$600,\"\")","v":""},null,null,null,null,{"$f":"IF(Template!$L$600<>\"\",Template!$L$600,\"\")","v":""},"BYU_Child",null,null,"USD",null,2989.79,null,null,null,{"$f":"IF(Template!$O$600<>\"\",Template!$O$600,\"\")","v":""}]
[null,{"$f":"Template!$H$601","v":0},{"$error":"#REF!"},"Calendar_Year_Mar",{"$f":"IF(LEFT(Template!$K$601,2)=\"CC\",Template!$K$601,\"\")","v":""},{"$f":"IF(LEFT(Template!$M$601,2)=\"RC\",Template!$M$601,\"\")","v":""},{"$f":"IF(LEFT(Template!$M$601,2)=\"SC\",Template!$M$601,\"\")","v":""},{"$f":"IF(LEFT(Template!$K$601,2)=\"AC\",Template!$K$601,\"\")","v":""},{"$f":"IF(OR(LEFT(Template!$K$601,2)=\"PJ\", LEFT(Template!$K$601,2)=\"PR\"),Template!$K$601,\"\")","v":""},{"$f":"IF(LEFT(Template!$K$601,2)=\"GF\",Template!$K$601,\"\")","v":""},{"$f":"IF(Template!$S$601<>\"\",Template!$S$601,\"\")","v":""},null,null,null,null,{"$f":"IF(Template!$L$601<>\"\",Template!$L$601,\"\")","v":""},"BYU_Child",null,null,"USD",null,21702.41,null,null,null,{"$f":"IF(Template!$O$601<>\"\",Template!$O$601,\"\")","v":""}]
[null,{"$f":"Template!$H$602","v":0},{"$error":"#REF!"},"Calendar_Year_Mar",{"$f":"IF(LEFT(Template!$K$602,2)=\"CC\",Template!$K$602,\"\")","v":""},{"$f":"IF(LEFT(Template!$M$602,2)=\"RC\",Template!$M$602,\"\")","v":""},{"$f":"IF(LEFT(Template!$M$602,2)=\"SC\",Template!$M$602,\"\")","v":""},{"$f":"IF(LEFT(Template!$K$602,2)=\"AC\",Template!$K$602,\"\")","v":""},{"$f":"IF(OR(LEFT(Template!$K$602,2)=\"PJ\", LEFT(Template!$K$602,2)=\"PR\"),Template!$K$602,\"\")","v":""},{"$f":"IF(LEFT(Template!$K$602,2)=\"GF\",Template!$K$602,\"\")","v":""},{"$f":"IF(Template!$S$602<>\"\",Template!$S$602,\"\")","v":""},null,null,null,null,{"$f":"IF(Template!$L$602<>\"\",Template!$L$602,\"\")","v":""},"BYU_Child",null,null,"USD",null,38106.120000000003,null,null,null,{"$f":"IF(Template!$O$602<>\"\",Template!$O$602,\"\")","v":""}]
[null,{"$f":"Template!$H$603","v":0},{"$error":"#REF!"},"Calendar_Year_Mar",{"$f":"IF(LEFT(Template!$K$603,2)=\"CC\",Template!$K$603,\"\")","v":""},{"$f":"IF(LEFT(Template!$M$603,2)=\"RC\",Template!$M$603,\"\")","v":""},{"$f":"IF(LEFT(Template!$M$603,2)=\"SC\",Template!$M$603,\"\")","v":""},{"$f":"IF(LEFT(Template!$K$603,2)=\"AC\",Template!$K$603,\"\")","v":""},{"$f":"IF(OR(LEFT(Template!$K$603,2)=\"PJ\", LEFT(Template!$K$603,2)=\"PR\"),Template!$K$603,\"\")","v":""},{"$f":"IF(LEFT(Template!$K$603,2)=\"GF\",Template!$K$603,\"\")","v":""},{"$f":"IF(Template!$S$603<>\"\",Template!$S$603,\"\")","v":""},null,null,null,null,{"$f":"IF(Template!$L$603<>\"\",Template!$L$603,\"\")","v":""},"BYU_Child",null,null,"USD",null,57.75,null,null,null,{"$f":"IF(Template!$O$603<>\"\",Template!$O$603,\"\")","v":""}]
[null,{"$f":"Template!$H$604","v":0},{"$error":"#REF!"},"Calendar_Year_Mar",{"$f":"IF(LEFT(Template!$K$604,2)=\"CC\",Template!$K$604,\"\")","v":""},{"$f":"IF(LEFT(Template!$M$604,2)=\"RC\",Template!$M$604,\"\")","v":""},{"$f":"IF(LEFT(Template!$M$604,2)=\"SC\",Template!$M$604,\"\")","v":""},{"$f":"IF(LEFT(Template!$K$604,2)=\"AC\",Template!$K$604,\"\")","v":""},{"$f":"IF(OR(LEFT(Template!$K$604,2)=\"PJ\", LEFT(Template!$K$604,2)=\"PR\"),Template!$K$604,\"\")","v":""},{"$f":"IF(LEFT(Template!$K$604,2)=\"GF\",Template!$K$604,\"\")","v":""},{"$f":"IF(Template!$S$604<>\"\",Template!$S$604,\"\")","v":""},null,null,null,null,{"$f":"IF(Template!$L$604<>\"\",Template!$L$604,\"\")","v":""},"BYU_Child",null,null,"USD",null,813.39,null,null,null,{"$f":"IF(Template!$O$604<>\"\",Template!$O$604,\"\")","v":""}]
[null,{"$f":"Template!$H$605","v":0},{"$error":"#REF!"},"Calendar_Year_Mar",{"$f":"IF(LEFT(Template!$K$605,2)=\"CC\",Template!$K$605,\"\")","v":""},{"$f":"IF(LEFT(Template!$M$605,2)=\"RC\",Template!$M$605,\"\")","v":""},{"$f":"IF(LEFT(Template!$M$605,2)=\"SC\",Template!$M$605,\"\")","v":""},{"$f":"IF(LEFT(Template!$K$605,2)=\"AC\",Template!$K$605,\"\")","v":""},{"$f":"IF(OR(LEFT(Template!$K$605,2)=\"PJ\", LEFT(Template!$K$605,2)=\"PR\"),Template!$K$605,\"\")","v":""},{"$f":"IF(LEFT(Template!$K$605,2)=\"GF\",Template!$K$605,\"\")","v":""},{"$f":"IF(Template!$S$605<>\"\",Template!$S$605,\"\")","v":""},null,null,null,null,{"$f":"IF(Template!$L$605<>\"\",Template!$L$605,\"\")","v":""},"BYU_Child",null,null,"USD",null,11547.89,null,null,null,{"$f":"IF(Template!$O$605<>\"\",Template!$O$605,\"\")","v":""}]
[null,{"$f":"Template!$H$606","v":0},{"$error":"#REF!"},"Calendar_Year_Mar",{"$f":"IF(LEFT(Template!$K$606,2)=\"CC\",Template!$K$606,\"\")","v":""},{"$f":"IF(LEFT(Template!$M$606,2)=\"RC\",Template!$M$606,\"\")","v":""},{"$f":"IF(LEFT(Template!$M$606,2)=\"SC\",Template!$M$606,\"\")","v":""},{"$f":"IF(LEFT(Template!$K$606,2)=\"AC\",Template!$K$606,\"\")","v":""},{"$f":"IF(OR(LEFT(Template!$K$606,2)=\"PJ\", LEFT(Template!$K$606,2)=\"PR\"),Template!$K$606,\"\")","v":""},{"$f":"IF(LEFT(Template!$K$606,2)=\"GF\",Template!$K$606,\"\")","v":""},{"$f":"IF(Template!$S$606<>\"\",Template!$S$606,\"\")","v":""},null,null,null,null,{"$f":"IF(Template!$L$606<>\"\",Template!$L$606,\"\")","v":""},"BYU_Child",null,null,"USD",null,75753.47,null,null,null,{"$f":"IF(Template!$O$606<>\"\",Template!$O$606,\"\")","v":""}]
[null,{"$f":"Template!$H$607","v":0},{"$error":"#REF!"},"Calendar_Year_Mar",{"$f":"IF(LEFT(Template!$K$607,2)=\"CC\",Template!$K$607,\"\")","v":""},{"$f":"IF(LEFT(Template!$M$607,2)=\"RC\",Template!$M$607,\"\")","v":""},{"$f":"IF(LEFT(Template!$M$607,2)=\"SC\",Template!$M$607,\"\")","v":""},{"$f":"IF(LEFT(Template!$K$607,2)=\"AC\",Template!$K$607,\"\")","v":""},{"$f":"IF(OR(LEFT(Template!$K$607,2)=\"PJ\", LEFT(Template!$K$607,2)=\"PR\"),Template!$K$607,\"\")","v":""},{"$f":"IF(LEFT(Template!$K$607,2)=\"GF\",Template!$K$607,\"\")","v":""},{"$f":"IF(Template!$S$607<>\"\",Template!$S$607,\"\")","v":""},null,null,null,null,{"$f":"IF(Template!$L$607<>\"\",Template!$L$607,\"\")","v":""},"BYU_Child",null,null,"USD",null,438.22,null,null,null,{"$f":"IF(Template!$O$607<>\"\",Template!$O$607,\"\")","v":""}]
[null,{"$f":"Template!$H$608","v":0},{"$error":"#REF!"},"Calendar_Year_Mar",{"$f":"IF(LEFT(Template!$K$608,2)=\"CC\",Template!$K$608,\"\")","v":""},{"$f":"IF(LEFT(Template!$M$608,2)=\"RC\",Template!$M$608,\"\")","v":""},{"$f":"IF(LEFT(Template!$M$608,2)=\"SC\",Template!$M$608,\"\")","v":""},{"$f":"IF(LEFT(Template!$K$608,2)=\"AC\",Template!$K$608,\"\")","v":""},{"$f":"IF(OR(LEFT(Template!$K$608,2)=\"PJ\", LEFT(Template!$K$608,2)=\"PR\"),Template!$K$608,\"\")","v":""},{"$f":"IF(LEFT(Template!$K$608,2)=\"GF\",Template!$K$608,\"\")","v":""},{"$f":"IF(Template!$S$608<>\"\",Template!$S$608,\"\")","v":""},null,null,null,null,{"$f":"IF(Template!$L$608<>\"\",Template!$L$608,\"\")","v":""},"BYU_Child",null,null,"USD",null,3153.23,null,null,null,{"$f":"IF(Template!$O$608<>\"\",Template!$O$608,\"\")","v":""}]
[null,{"$f":"Template!$H$609","v":0},{"$error":"#REF!"},"Calendar_Year_Mar",{"$f":"IF(LEFT(Template!$K$609,2)=\"CC\",Template!$K$609,\"\")","v":""},{"$f":"IF(LEFT(Template!$M$609,2)=\"RC\",Template!$M$609,\"\")","v":""},{"$f":"IF(LEFT(Template!$M$609,2)=\"SC\",Template!$M$609,\"\")","v":""},{"$f":"IF(LEFT(Template!$K$609,2)=\"AC\",Template!$K$609,\"\")","v":""},{"$f":"IF(OR(LEFT(Template!$K$609,2)=\"PJ\", LEFT(Template!$K$609,2)=\"PR\"),Template!$K$609,\"\")","v":""},{"$f":"IF(LEFT(Template!$K$609,2)=\"GF\",Template!$K$609,\"\")","v":""},{"$f":"IF(Template!$S$609<>\"\",Template!$S$609,\"\")","v":""},null,null,null,null,{"$f":"IF(Template!$L$609<>\"\",Template!$L$609,\"\")","v":""},"BYU_Child",null,null,"USD",null,786.23,null,null,null,{"$f":"IF(Template!$O$609<>\"\",Template!$O$609,\"\")","v":""}]
[null,{"$f":"Template!$H$610","v":0},{"$error":"#REF!"},"Calendar_Year_Mar",{"$f":"IF(LEFT(Template!$K$610,2)=\"CC\",Template!$K$610,\"\")","v":""},{"$f":"IF(LEFT(Template!$M$610,2)=\"RC\",Template!$M$610,\"\")","v":""},{"$f":"IF(LEFT(Template!$M$610,2)=\"SC\",Template!$M$610,\"\")","v":""},{"$f":"IF(LEFT(Template!$K$610,2)=\"AC\",Template!$K$610,\"\")","v":""},{"$f":"IF(OR(LEFT(Template!$K$610,2)=\"PJ\", LEFT(Template!$K$610,2)=\"PR\"),Template!$K$610,\"\")","v":""},{"$f":"IF(LEFT(Template!$K$610,2)=\"GF\",Template!$K$610,\"\")","v":""},{"$f":"IF(Template!$S$610<>\"\",Template!$S$610,\"\")","v":""},null,null,null,null,{"$f":"IF(Template!$L$610<>\"\",Template!$L$610,\"\")","v":""},"BYU_Child",null,null,"USD",null,6505.6,null,null,null,{"$f":"IF(Template!$O$610<>\"\",Template!$O$610,\"\")","v":""}]
[null,{"$f":"Template!$H$611","v":0},{"$error":"#REF!"},"Calendar_Year_Mar",{"$f":"IF(LEFT(Template!$K$611,2)=\"CC\",Template!$K$611,\"\")","v":""},{"$f":"IF(LEFT(Template!$M$611,2)=\"RC\",Template!$M$611,\"\")","v":""},{"$f":"IF(LEFT(Template!$M$611,2)=\"SC\",Template!$M$611,\"\")","v":""},{"$f":"IF(LEFT(Template!$K$611,2)=\"AC\",Template!$K$611,\"\")","v":""},{"$f":"IF(OR(LEFT(Template!$K$611,2)=\"PJ\", LEFT(Template!$K$611,2)=\"PR\"),Template!$K$611,\"\")","v":""},{"$f":"IF(LEFT(Template!$K$611,2)=\"GF\",Template!$K$611,\"\")","v":""},{"$f":"IF(Template!$S$611<>\"\",Template!$S$611,\"\")","v":""},null,null,null,null,{"$f":"IF(Template!$L$611<>\"\",Template!$L$611,\"\")","v":""},"BYU_Child",null,null,"USD",null,44016.32,null,null,null,{"$f":"IF(Template!$O$611<>\"\",Template!$O$611,\"\")","v":""}]
[null,{"$f":"Template!$H$612","v":0},{"$error":"#REF!"},"Calendar_Year_Mar",{"$f":"IF(LEFT(Template!$K$612,2)=\"CC\",Template!$K$612,\"\")","v":""},{"$f":"IF(LEFT(Template!$M$612,2)=\"RC\",Template!$M$612,\"\")","v":""},{"$f":"IF(LEFT(Template!$M$612,2)=\"SC\",Template!$M$612,\"\")","v":""},{"$f":"IF(LEFT(Template!$K$612,2)=\"AC\",Template!$K$612,\"\")","v":""},{"$f":"IF(OR(LEFT(Template!$K$612,2)=\"PJ\", LEFT(Template!$K$612,2)=\"PR\"),Template!$K$612,\"\")","v":""},{"$f":"IF(LEFT(Template!$K$612,2)=\"GF\",Template!$K$612,\"\")","v":""},{"$f":"IF(Template!$S$612<>\"\",Template!$S$612,\"\")","v":""},null,null,null,null,{"$f":"IF(Template!$L$612<>\"\",Template!$L$612,\"\")","v":""},"BYU_Child",null,null,"USD",null,6326.23,null,null,null,{"$f":"IF(Template!$O$612<>\"\",Template!$O$612,\"\")","v":""}]
[null,{"$f":"Template!$H$613","v":0},{"$error":"#REF!"},"Calendar_Year_Mar",{"$f":"IF(LEFT(Template!$K$613,2)=\"CC\",Template!$K$613,\"\")","v":""},{"$f":"IF(LEFT(Template!$M$613,2)=\"RC\",Template!$M$613,\"\")","v":""},{"$f":"IF(LEFT(Template!$M$613,2)=\"SC\",Template!$M$613,\"\")","v":""},{"$f":"IF(LEFT(Template!$K$613,2)=\"AC\",Template!$K$613,\"\")","v":""},{"$f":"IF(OR(LEFT(Template!$K$613,2)=\"PJ\", LEFT(Template!$K$613,2)=\"PR\"),Template!$K$613,\"\")","v":""},{"$f":"IF(LEFT(Template!$K$613,2)=\"GF\",Template!$K$613,\"\")","v":""},{"$f":"IF(Template!$S$613<>\"\",Template!$S$613,\"\")","v":""},null,null,null,null,{"$f":"IF(Template!$L$613<>\"\",Template!$L$613,\"\")","v":""},"BYU_Child",null,null,"USD",null,3144.17,null,null,null,{"$f":"IF(Template!$O$613<>\"\",Template!$O$613,\"\")","v":""}]
[null,{"$f":"Template!$H$614","v":0},{"$error":"#REF!"},"Calendar_Year_Mar",{"$f":"IF(LEFT(Template!$K$614,2)=\"CC\",Template!$K$614,\"\")","v":""},{"$f":"IF(LEFT(Template!$M$614,2)=\"RC\",Template!$M$614,\"\")","v":""},{"$f":"IF(LEFT(Template!$M$614,2)=\"SC\",Template!$M$614,\"\")","v":""},{"$f":"IF(LEFT(Template!$K$614,2)=\"AC\",Template!$K$614,\"\")","v":""},{"$f":"IF(OR(LEFT(Template!$K$614,2)=\"PJ\", LEFT(Template!$K$614,2)=\"PR\"),Template!$K$614,\"\")","v":""},{"$f":"IF(LEFT(Template!$K$614,2)=\"GF\",Template!$K$614,\"\")","v":""},{"$f":"IF(Template!$S$614<>\"\",Template!$S$614,\"\")","v":""},null,null,null,null,{"$f":"IF(Template!$L$614<>\"\",Template!$L$614,\"\")","v":""},"BYU_Child",null,null,"USD",null,45.73,null,null,null,{"$f":"IF(Template!$O$614<>\"\",Template!$O$614,\"\")","v":""}]
[null,{"$f":"Template!$H$615","v":0},{"$error":"#REF!"},"Calendar_Year_Mar",{"$f":"IF(LEFT(Template!$K$615,2)=\"CC\",Template!$K$615,\"\")","v":""},{"$f":"IF(LEFT(Template!$M$615,2)=\"RC\",Template!$M$615,\"\")","v":""},{"$f":"IF(LEFT(Template!$M$615,2)=\"SC\",Template!$M$615,\"\")","v":""},{"$f":"IF(LEFT(Template!$K$615,2)=\"AC\",Template!$K$615,\"\")","v":""},{"$f":"IF(OR(LEFT(Template!$K$615,2)=\"PJ\", LEFT(Template!$K$615,2)=\"PR\"),Template!$K$615,\"\")","v":""},{"$f":"IF(LEFT(Template!$K$615,2)=\"GF\",Template!$K$615,\"\")","v":""},{"$f":"IF(Template!$S$615<>\"\",Template!$S$615,\"\")","v":""},null,null,null,null,{"$f":"IF(Template!$L$615<>\"\",Template!$L$615,\"\")","v":""},"BYU_Child",null,null,"USD",null,2496.13,null,null,null,{"$f":"IF(Template!$O$615<>\"\",Template!$O$615,\"\")","v":""}]
[null,{"$f":"Template!$H$616","v":0},{"$error":"#REF!"},"Calendar_Year_Mar",{"$f":"IF(LEFT(Template!$K$616,2)=\"CC\",Template!$K$616,\"\")","v":""},{"$f":"IF(LEFT(Template!$M$616,2)=\"RC\",Template!$M$616,\"\")","v":""},{"$f":"IF(LEFT(Template!$M$616,2)=\"SC\",Template!$M$616,\"\")","v":""},{"$f":"IF(LEFT(Template!$K$616,2)=\"AC\",Template!$K$616,\"\")","v":""},{"$f":"IF(OR(LEFT(Template!$K$616,2)=\"PJ\", LEFT(Template!$K$616,2)=\"PR\"),Template!$K$616,\"\")","v":""},{"$f":"IF(LEFT(Template!$K$616,2)=\"GF\",Template!$K$616,\"\")","v":""},{"$f":"IF(Template!$S$616<>\"\",Template!$S$616,\"\")","v":""},null,null,null,null,{"$f":"IF(Template!$L$616<>\"\",Template!$L$616,\"\")","v":""},"BYU_Child",null,null,"USD",null,18325.96,null,null,null,{"$f":"IF(Template!$O$616<>\"\",Template!$O$616,\"\")","v":""}]
[null,{"$f":"Template!$H$617","v":0},{"$error":"#REF!"},"Calendar_Year_Mar",{"$f":"IF(LEFT(Template!$K$617,2)=\"CC\",Template!$K$617,\"\")","v":""},{"$f":"IF(LEFT(Template!$M$617,2)=\"RC\",Template!$M$617,\"\")","v":""},{"$f":"IF(LEFT(Template!$M$617,2)=\"SC\",Template!$M$617,\"\")","v":""},{"$f":"IF(LEFT(Template!$K$617,2)=\"AC\",Template!$K$617,\"\")","v":""},{"$f":"IF(OR(LEFT(Template!$K$617,2)=\"PJ\", LEFT(Template!$K$617,2)=\"PR\"),Template!$K$617,\"\")","v":""},{"$f":"IF(LEFT(Template!$K$617,2)=\"GF\",Template!$K$617,\"\")","v":""},{"$f":"IF(Template!$S$617<>\"\",Template!$S$617,\"\")","v":""},null,null,null,null,{"$f":"IF(Template!$L$617<>\"\",Template!$L$617,\"\")","v":""},"BYU_Child",null,null,"USD",null,140893.64000000001,null,null,null,{"$f":"IF(Template!$O$617<>\"\",Template!$O$617,\"\")","v":""}]
[null,{"$f":"Template!$H$618","v":0},{"$error":"#REF!"},"Calendar_Year_Mar",{"$f":"IF(LEFT(Template!$K$618,2)=\"CC\",Template!$K$618,\"\")","v":""},{"$f":"IF(LEFT(Template!$M$618,2)=\"RC\",Template!$M$618,\"\")","v":""},{"$f":"IF(LEFT(Template!$M$618,2)=\"SC\",Template!$M$618,\"\")","v":""},{"$f":"IF(LEFT(Template!$K$618,2)=\"AC\",Template!$K$618,\"\")","v":""},{"$f":"IF(OR(LEFT(Template!$K$618,2)=\"PJ\", LEFT(Template!$K$618,2)=\"PR\"),Template!$K$618,\"\")","v":""},{"$f":"IF(LEFT(Template!$K$618,2)=\"GF\",Template!$K$618,\"\")","v":""},{"$f":"IF(Template!$S$618<>\"\",Template!$S$618,\"\")","v":""},null,null,null,null,{"$f":"IF(Template!$L$618<>\"\",Template!$L$618,\"\")","v":""},"BYU_Child",null,null,"USD",null,1568.38,null,null,null,{"$f":"IF(Template!$O$618<>\"\",Template!$O$618,\"\")","v":""}]
[null,{"$f":"Template!$H$619","v":0},{"$error":"#REF!"},"Calendar_Year_Mar",{"$f":"IF(LEFT(Template!$K$619,2)=\"CC\",Template!$K$619,\"\")","v":""},{"$f":"IF(LEFT(Template!$M$619,2)=\"RC\",Template!$M$619,\"\")","v":""},{"$f":"IF(LEFT(Template!$M$619,2)=\"SC\",Template!$M$619,\"\")","v":""},{"$f":"IF(LEFT(Template!$K$619,2)=\"AC\",Template!$K$619,\"\")","v":""},{"$f":"IF(OR(LEFT(Template!$K$619,2)=\"PJ\", LEFT(Template!$K$619,2)=\"PR\"),Template!$K$619,\"\")","v":""},{"$f":"IF(LEFT(Template!$K$619,2)=\"GF\",Template!$K$619,\"\")","v":""},{"$f":"IF(Template!$S$619<>\"\",Template!$S$619,\"\")","v":""},null,null,null,null,{"$f":"IF(Template!$L$619<>\"\",Template!$L$619,\"\")","v":""},"BYU_Child",null,null,"USD",null,2483.42,null,null,null,{"$f":"IF(Template!$O$619<>\"\",Template!$O$619,\"\")","v":""}]
[null,{"$f":"Template!$H$620","v":0},{"$error":"#REF!"},"Calendar_Year_Mar",{"$f":"IF(LEFT(Template!$K$620,2)=\"CC\",Template!$K$620,\"\")","v":""},{"$f":"IF(LEFT(Template!$M$620,2)=\"RC\",Template!$M$620,\"\")","v":""},{"$f":"IF(LEFT(Template!$M$620,2)=\"SC\",Template!$M$620,\"\")","v":""},{"$f":"IF(LEFT(Template!$K$620,2)=\"AC\",Template!$K$620,\"\")","v":""},{"$f":"IF(OR(LEFT(Template!$K$620,2)=\"PJ\", LEFT(Template!$K$620,2)=\"PR\"),Template!$K$620,\"\")","v":""},{"$f":"IF(LEFT(Template!$K$620,2)=\"GF\",Template!$K$620,\"\")","v":""},{"$f":"IF(Template!$S$620<>\"\",Template!$S$620,\"\")","v":""},null,null,null,null,{"$f":"IF(Template!$L$620<>\"\",Template!$L$620,\"\")","v":""},"BYU_Child",null,null,"USD",null,49.3,null,null,null,{"$f":"IF(Template!$O$620<>\"\",Template!$O$620,\"\")","v":""}]
[null,{"$f":"Template!$H$621","v":0},{"$error":"#REF!"},"Calendar_Year_Mar",{"$f":"IF(LEFT(Template!$K$621,2)=\"CC\",Template!$K$621,\"\")","v":""},{"$f":"IF(LEFT(Template!$M$621,2)=\"RC\",Template!$M$621,\"\")","v":""},{"$f":"IF(LEFT(Template!$M$621,2)=\"SC\",Template!$M$621,\"\")","v":""},{"$f":"IF(LEFT(Template!$K$621,2)=\"AC\",Template!$K$621,\"\")","v":""},{"$f":"IF(OR(LEFT(Template!$K$621,2)=\"PJ\", LEFT(Template!$K$621,2)=\"PR\"),Template!$K$621,\"\")","v":""},{"$f":"IF(LEFT(Template!$K$621,2)=\"GF\",Template!$K$621,\"\")","v":""},{"$f":"IF(Template!$S$621<>\"\",Template!$S$621,\"\")","v":""},null,null,null,null,{"$f":"IF(Template!$L$621<>\"\",Template!$L$621,\"\")","v":""},"BYU_Child",null,null,"USD",null,855.89,null,null,null,{"$f":"IF(Template!$O$621<>\"\",Template!$O$621,\"\")","v":""}]
[null,{"$f":"Template!$H$622","v":0},{"$error":"#REF!"},"Calendar_Year_Mar",{"$f":"IF(LEFT(Template!$K$622,2)=\"CC\",Template!$K$622,\"\")","v":""},{"$f":"IF(LEFT(Template!$M$622,2)=\"RC\",Template!$M$622,\"\")","v":""},{"$f":"IF(LEFT(Template!$M$622,2)=\"SC\",Template!$M$622,\"\")","v":""},{"$f":"IF(LEFT(Template!$K$622,2)=\"AC\",Template!$K$622,\"\")","v":""},{"$f":"IF(OR(LEFT(Template!$K$622,2)=\"PJ\", LEFT(Template!$K$622,2)=\"PR\"),Template!$K$622,\"\")","v":""},{"$f":"IF(LEFT(Template!$K$622,2)=\"GF\",Template!$K$622,\"\")","v":""},{"$f":"IF(Template!$S$622<>\"\",Template!$S$622,\"\")","v":""},null,null,null,null,{"$f":"IF(Template!$L$622<>\"\",Template!$L$622,\"\")","v":""},"BYU_Child",null,null,"USD",null,9212.2000000000007,null,null,null,{"$f":"IF(Template!$O$622<>\"\",Template!$O$622,\"\")","v":""}]
[null,{"$f":"Template!$H$623","v":0},{"$error":"#REF!"},"Calendar_Year_Mar",{"$f":"IF(LEFT(Template!$K$623,2)=\"CC\",Template!$K$623,\"\")","v":""},{"$f":"IF(LEFT(Template!$M$623,2)=\"RC\",Template!$M$623,\"\")","v":""},{"$f":"IF(LEFT(Template!$M$623,2)=\"SC\",Template!$M$623,\"\")","v":""},{"$f":"IF(LEFT(Template!$K$623,2)=\"AC\",Template!$K$623,\"\")","v":""},{"$f":"IF(OR(LEFT(Template!$K$623,2)=\"PJ\", LEFT(Template!$K$623,2)=\"PR\"),Template!$K$623,\"\")","v":""},{"$f":"IF(LEFT(Template!$K$623,2)=\"GF\",Template!$K$623,\"\")","v":""},{"$f":"IF(Template!$S$623<>\"\",Template!$S$623,\"\")","v":""},null,null,null,null,{"$f":"IF(Template!$L$623<>\"\",Template!$L$623,\"\")","v":""},"BYU_Child",null,null,"USD",null,64583.839999999997,null,null,null,{"$f":"IF(Template!$O$623<>\"\",Template!$O$623,\"\")","v":""}]
[null,{"$f":"Template!$H$624","v":0},{"$error":"#REF!"},"Calendar_Year_Mar",{"$f":"IF(LEFT(Template!$K$624,2)=\"CC\",Template!$K$624,\"\")","v":""},{"$f":"IF(LEFT(Template!$M$624,2)=\"RC\",Template!$M$624,\"\")","v":""},{"$f":"IF(LEFT(Template!$M$624,2)=\"SC\",Template!$M$624,\"\")","v":""},{"$f":"IF(LEFT(Template!$K$624,2)=\"AC\",Template!$K$624,\"\")","v":""},{"$f":"IF(OR(LEFT(Template!$K$624,2)=\"PJ\", LEFT(Template!$K$624,2)=\"PR\"),Template!$K$624,\"\")","v":""},{"$f":"IF(LEFT(Template!$K$624,2)=\"GF\",Template!$K$624,\"\")","v":""},{"$f":"IF(Template!$S$624<>\"\",Template!$S$624,\"\")","v":""},null,null,null,null,{"$f":"IF(Template!$L$624<>\"\",Template!$L$624,\"\")","v":""},"BYU_Child",null,null,"USD",null,2800.05,null,null,null,{"$f":"IF(Template!$O$624<>\"\",Template!$O$624,\"\")","v":""}]
[null,{"$f":"Template!$H$625","v":0},{"$error":"#REF!"},"Calendar_Year_Mar",{"$f":"IF(LEFT(Template!$K$625,2)=\"CC\",Template!$K$625,\"\")","v":""},{"$f":"IF(LEFT(Template!$M$625,2)=\"RC\",Template!$M$625,\"\")","v":""},{"$f":"IF(LEFT(Template!$M$625,2)=\"SC\",Template!$M$625,\"\")","v":""},{"$f":"IF(LEFT(Template!$K$625,2)=\"AC\",Template!$K$625,\"\")","v":""},{"$f":"IF(OR(LEFT(Template!$K$625,2)=\"PJ\", LEFT(Template!$K$625,2)=\"PR\"),Template!$K$625,\"\")","v":""},{"$f":"IF(LEFT(Template!$K$625,2)=\"GF\",Template!$K$625,\"\")","v":""},{"$f":"IF(Template!$S$625<>\"\",Template!$S$625,\"\")","v":""},null,null,null,null,{"$f":"IF(Template!$L$625<>\"\",Template!$L$625,\"\")","v":""},"BYU_Child",null,null,"USD",null,3034.54,null,null,null,{"$f":"IF(Template!$O$625<>\"\",Template!$O$625,\"\")","v":""}]
[null,{"$f":"Template!$H$626","v":0},{"$f":"IF(B519=B518,C518+1,1)","v":{"$error":"#REF!"}},"Calendar_Year_Mar",{"$f":"IF(LEFT(Template!$K$626,2)=\"CC\",Template!$K$626,\"\")","v":""},{"$f":"IF(LEFT(Template!$M$626,2)=\"RC\",Template!$M$626,\"\")","v":""},{"$f":"IF(LEFT(Template!$M$626,2)=\"SC\",Template!$M$626,\"\")","v":""},{"$f":"IF(LEFT(Template!$K$626,2)=\"AC\",Template!$K$626,\"\")","v":""},{"$f":"IF(OR(LEFT(Template!$K$626,2)=\"PJ\", LEFT(Template!$K$626,2)=\"PR\"),Template!$K$626,\"\")","v":""},{"$f":"IF(LEFT(Template!$K$626,2)=\"GF\",Template!$K$626,\"\")","v":""},{"$f":"IF(Template!$S$626<>\"\",Template!$S$626,\"\")","v":""},null,null,null,null,{"$f":"IF(Template!$L$626<>\"\",Template!$L$626,\"\")","v":""},"BYU_Child",null,null,"USD",null,418.19,null,null,null,{"$f":"IF(Template!$O$626<>\"\",Template!$O$626,\"\")","v":""}]
[null,{"$f":"Template!$H$627","v":0},{"$error":"#REF!"},"Calendar_Year_Mar",{"$f":"IF(LEFT(Template!$K$627,2)=\"CC\",Template!$K$627,\"\")","v":""},{"$f":"IF(LEFT(Template!$M$627,2)=\"RC\",Template!$M$627,\"\")","v":""},{"$f":"IF(LEFT(Template!$M$627,2)=\"SC\",Template!$M$627,\"\")","v":""},{"$f":"IF(LEFT(Template!$K$627,2)=\"AC\",Template!$K$627,\"\")","v":""},{"$f":"IF(OR(LEFT(Template!$K$627,2)=\"PJ\", LEFT(Template!$K$627,2)=\"PR\"),Template!$K$627,\"\")","v":""},{"$f":"IF(LEFT(Template!$K$627,2)=\"GF\",Template!$K$627,\"\")","v":""},{"$f":"IF(Template!$S$627<>\"\",Template!$S$627,\"\")","v":""},null,null,null,null,{"$f":"IF(Template!$L$627<>\"\",Template!$L$627,\"\")","v":""},"BYU_Child",null,null,"USD",null,37428.79,null,null,null,{"$f":"IF(Template!$O$627<>\"\",Template!$O$627,\"\")","v":""}]
[null,{"$f":"Template!$H$628","v":0},{"$error":"#REF!"},"Calendar_Year_Mar",{"$f":"IF(LEFT(Template!$K$628,2)=\"CC\",Template!$K$628,\"\")","v":""},{"$f":"IF(LEFT(Template!$M$628,2)=\"RC\",Template!$M$628,\"\")","v":""},{"$f":"IF(LEFT(Template!$M$628,2)=\"SC\",Template!$M$628,\"\")","v":""},{"$f":"IF(LEFT(Template!$K$628,2)=\"AC\",Template!$K$628,\"\")","v":""},{"$f":"IF(OR(LEFT(Template!$K$628,2)=\"PJ\", LEFT(Template!$K$628,2)=\"PR\"),Template!$K$628,\"\")","v":""},{"$f":"IF(LEFT(Template!$K$628,2)=\"GF\",Template!$K$628,\"\")","v":""},{"$f":"IF(Template!$S$628<>\"\",Template!$S$628,\"\")","v":""},null,null,null,null,{"$f":"IF(Template!$L$628<>\"\",Template!$L$628,\"\")","v":""},"BYU_Child",null,null,"USD",null,855.91,null,null,null,{"$f":"IF(Template!$O$628<>\"\",Template!$O$628,\"\")","v":""}]
[null,{"$f":"Template!$H$629","v":0},{"$error":"#REF!"},"Calendar_Year_Mar",{"$f":"IF(LEFT(Template!$K$629,2)=\"CC\",Template!$K$629,\"\")","v":""},{"$f":"IF(LEFT(Template!$M$629,2)=\"RC\",Template!$M$629,\"\")","v":""},{"$f":"IF(LEFT(Template!$M$629,2)=\"SC\",Template!$M$629,\"\")","v":""},{"$f":"IF(LEFT(Template!$K$629,2)=\"AC\",Template!$K$629,\"\")","v":""},{"$f":"IF(OR(LEFT(Template!$K$629,2)=\"PJ\", LEFT(Template!$K$629,2)=\"PR\"),Template!$K$629,\"\")","v":""},{"$f":"IF(LEFT(Template!$K$629,2)=\"GF\",Template!$K$629,\"\")","v":""},{"$f":"IF(Template!$S$629<>\"\",Template!$S$629,\"\")","v":""},null,null,null,null,{"$f":"IF(Template!$L$629<>\"\",Template!$L$629,\"\")","v":""},"BYU_Child",null,null,"USD",null,3015.96,null,null,null,{"$f":"IF(Template!$O$629<>\"\",Template!$O$629,\"\")","v":""}]
[null,{"$f":"Template!$H$630","v":0},{"$error":"#REF!"},"Calendar_Year_Mar",{"$f":"IF(LEFT(Template!$K$630,2)=\"CC\",Template!$K$630,\"\")","v":""},{"$f":"IF(LEFT(Template!$M$630,2)=\"RC\",Template!$M$630,\"\")","v":""},{"$f":"IF(LEFT(Template!$M$630,2)=\"SC\",Template!$M$630,\"\")","v":""},{"$f":"IF(LEFT(Template!$K$630,2)=\"AC\",Template!$K$630,\"\")","v":""},{"$f":"IF(OR(LEFT(Template!$K$630,2)=\"PJ\", LEFT(Template!$K$630,2)=\"PR\"),Template!$K$630,\"\")","v":""},{"$f":"IF(LEFT(Template!$K$630,2)=\"GF\",Template!$K$630,\"\")","v":""},{"$f":"IF(Template!$S$630<>\"\",Template!$S$630,\"\")","v":""},null,null,null,null,{"$f":"IF(Template!$L$630<>\"\",Template!$L$630,\"\")","v":""},"BYU_Child",null,null,"USD",null,1541.73,null,null,null,{"$f":"IF(Template!$O$630<>\"\",Template!$O$630,\"\")","v":""}]
[null,{"$f":"Template!$H$631","v":0},{"$error":"#REF!"},"Calendar_Year_Mar",{"$f":"IF(LEFT(Template!$K$631,2)=\"CC\",Template!$K$631,\"\")","v":""},{"$f":"IF(LEFT(Template!$M$631,2)=\"RC\",Template!$M$631,\"\")","v":""},{"$f":"IF(LEFT(Template!$M$631,2)=\"SC\",Template!$M$631,\"\")","v":""},{"$f":"IF(LEFT(Template!$K$631,2)=\"AC\",Template!$K$631,\"\")","v":""},{"$f":"IF(OR(LEFT(Template!$K$631,2)=\"PJ\", LEFT(Template!$K$631,2)=\"PR\"),Template!$K$631,\"\")","v":""},{"$f":"IF(LEFT(Template!$K$631,2)=\"GF\",Template!$K$631,\"\")","v":""},{"$f":"IF(Template!$S$631<>\"\",Template!$S$631,\"\")","v":""},null,null,null,null,{"$f":"IF(Template!$L$631<>\"\",Template!$L$631,\"\")","v":""},"BYU_Child",null,null,"USD",null,3220.53,null,null,null,{"$f":"IF(Template!$O$631<>\"\",Template!$O$631,\"\")","v":""}]
[null,{"$f":"Template!$H$632","v":0},{"$error":"#REF!"},"Calendar_Year_Mar",{"$f":"IF(LEFT(Template!$K$632,2)=\"CC\",Template!$K$632,\"\")","v":""},{"$f":"IF(LEFT(Template!$M$632,2)=\"RC\",Template!$M$632,\"\")","v":""},{"$f":"IF(LEFT(Template!$M$632,2)=\"SC\",Template!$M$632,\"\")","v":""},{"$f":"IF(LEFT(Template!$K$632,2)=\"AC\",Template!$K$632,\"\")","v":""},{"$f":"IF(OR(LEFT(Template!$K$632,2)=\"PJ\", LEFT(Template!$K$632,2)=\"PR\"),Template!$K$632,\"\")","v":""},{"$f":"IF(LEFT(Template!$K$632,2)=\"GF\",Template!$K$632,\"\")","v":""},{"$f":"IF(Template!$S$632<>\"\",Template!$S$632,\"\")","v":""},null,null,null,null,{"$f":"IF(Template!$L$632<>\"\",Template!$L$632,\"\")","v":""},"BYU_Child",null,null,"USD",null,54637.71,null,null,null,{"$f":"IF(Template!$O$632<>\"\",Template!$O$632,\"\")","v":""}]
[null,{"$f":"Template!$H$633","v":0},{"$error":"#REF!"},"Calendar_Year_Mar",{"$f":"IF(LEFT(Template!$K$633,2)=\"CC\",Template!$K$633,\"\")","v":""},{"$f":"IF(LEFT(Template!$M$633,2)=\"RC\",Template!$M$633,\"\")","v":""},{"$f":"IF(LEFT(Template!$M$633,2)=\"SC\",Template!$M$633,\"\")","v":""},{"$f":"IF(LEFT(Template!$K$633,2)=\"AC\",Template!$K$633,\"\")","v":""},{"$f":"IF(OR(LEFT(Template!$K$633,2)=\"PJ\", LEFT(Template!$K$633,2)=\"PR\"),Template!$K$633,\"\")","v":""},{"$f":"IF(LEFT(Template!$K$633,2)=\"GF\",Template!$K$633,\"\")","v":""},{"$f":"IF(Template!$S$633<>\"\",Template!$S$633,\"\")","v":""},null,null,null,null,{"$f":"IF(Template!$L$633<>\"\",Template!$L$633,\"\")","v":""},"BYU_Child",null,null,"USD",null,741.09,null,null,null,{"$f":"IF(Template!$O$633<>\"\",Template!$O$633,\"\")","v":""}]
[null,{"$f":"Template!$H$634","v":0},{"$error":"#REF!"},"Calendar_Year_Mar",{"$f":"IF(LEFT(Template!$K$634,2)=\"CC\",Template!$K$634,\"\")","v":""},{"$f":"IF(LEFT(Template!$M$634,2)=\"RC\",Template!$M$634,\"\")","v":""},{"$f":"IF(LEFT(Template!$M$634,2)=\"SC\",Template!$M$634,\"\")","v":""},{"$f":"IF(LEFT(Template!$K$634,2)=\"AC\",Template!$K$634,\"\")","v":""},{"$f":"IF(OR(LEFT(Template!$K$634,2)=\"PJ\", LEFT(Template!$K$634,2)=\"PR\"),Template!$K$634,\"\")","v":""},{"$f":"IF(LEFT(Template!$K$634,2)=\"GF\",Template!$K$634,\"\")","v":""},{"$f":"IF(Template!$S$634<>\"\",Template!$S$634,\"\")","v":""},null,null,null,null,{"$f":"IF(Template!$L$634<>\"\",Template!$L$634,\"\")","v":""},"BYU_Child",null,null,"USD",null,2961.86,null,null,null,{"$f":"IF(Template!$O$634<>\"\",Template!$O$634,\"\")","v":""}]
[null,{"$f":"Template!$H$635","v":0},{"$error":"#REF!"},"Calendar_Year_Mar",{"$f":"IF(LEFT(Template!$K$635,2)=\"CC\",Template!$K$635,\"\")","v":""},{"$f":"IF(LEFT(Template!$M$635,2)=\"RC\",Template!$M$635,\"\")","v":""},{"$f":"IF(LEFT(Template!$M$635,2)=\"SC\",Template!$M$635,\"\")","v":""},{"$f":"IF(LEFT(Template!$K$635,2)=\"AC\",Template!$K$635,\"\")","v":""},{"$f":"IF(OR(LEFT(Template!$K$635,2)=\"PJ\", LEFT(Template!$K$635,2)=\"PR\"),Template!$K$635,\"\")","v":""},{"$f":"IF(LEFT(Template!$K$635,2)=\"GF\",Template!$K$635,\"\")","v":""},{"$f":"IF(Template!$S$635<>\"\",Template!$S$635,\"\")","v":""},null,null,null,null,{"$f":"IF(Template!$L$635<>\"\",Template!$L$635,\"\")","v":""},"BYU_Child",null,null,"USD",null,50.86,null,null,null,{"$f":"IF(Template!$O$635<>\"\",Template!$O$635,\"\")","v":""}]
[null,{"$f":"Template!$H$636","v":0},{"$error":"#REF!"},"Calendar_Year_Mar",{"$f":"IF(LEFT(Template!$K$636,2)=\"CC\",Template!$K$636,\"\")","v":""},{"$f":"IF(LEFT(Template!$M$636,2)=\"RC\",Template!$M$636,\"\")","v":""},{"$f":"IF(LEFT(Template!$M$636,2)=\"SC\",Template!$M$636,\"\")","v":""},{"$f":"IF(LEFT(Template!$K$636,2)=\"AC\",Template!$K$636,\"\")","v":""},{"$f":"IF(OR(LEFT(Template!$K$636,2)=\"PJ\", LEFT(Template!$K$636,2)=\"PR\"),Template!$K$636,\"\")","v":""},{"$f":"IF(LEFT(Template!$K$636,2)=\"GF\",Template!$K$636,\"\")","v":""},{"$f":"IF(Template!$S$636<>\"\",Template!$S$636,\"\")","v":""},null,null,null,null,{"$f":"IF(Template!$L$636<>\"\",Template!$L$636,\"\")","v":""},"BYU_Child",null,null,"USD",null,1016.46,null,null,null,{"$f":"IF(Template!$O$636<>\"\",Template!$O$636,\"\")","v":""}]
[null,{"$f":"Template!$H$637","v":0},{"$error":"#REF!"},"Calendar_Year_Mar",{"$f":"IF(LEFT(Template!$K$637,2)=\"CC\",Template!$K$637,\"\")","v":""},{"$f":"IF(LEFT(Template!$M$637,2)=\"RC\",Template!$M$637,\"\")","v":""},{"$f":"IF(LEFT(Template!$M$637,2)=\"SC\",Template!$M$637,\"\")","v":""},{"$f":"IF(LEFT(Template!$K$637,2)=\"AC\",Template!$K$637,\"\")","v":""},{"$f":"IF(OR(LEFT(Template!$K$637,2)=\"PJ\", LEFT(Template!$K$637,2)=\"PR\"),Template!$K$637,\"\")","v":""},{"$f":"IF(LEFT(Template!$K$637,2)=\"GF\",Template!$K$637,\"\")","v":""},{"$f":"IF(Template!$S$637<>\"\",Template!$S$637,\"\")","v":""},null,null,null,null,{"$f":"IF(Template!$L$637<>\"\",Template!$L$637,\"\")","v":""},"BYU_Child",null,null,"USD",null,26298.240000000002,null,null,null,{"$f":"IF(Template!$O$637<>\"\",Template!$O$637,\"\")","v":""}]
[null,{"$f":"Template!$H$638","v":0},{"$error":"#REF!"},"Calendar_Year_Mar",{"$f":"IF(LEFT(Template!$K$638,2)=\"CC\",Template!$K$638,\"\")","v":""},{"$f":"IF(LEFT(Template!$M$638,2)=\"RC\",Template!$M$638,\"\")","v":""},{"$f":"IF(LEFT(Template!$M$638,2)=\"SC\",Template!$M$638,\"\")","v":""},{"$f":"IF(LEFT(Template!$K$638,2)=\"AC\",Template!$K$638,\"\")","v":""},{"$f":"IF(OR(LEFT(Template!$K$638,2)=\"PJ\", LEFT(Template!$K$638,2)=\"PR\"),Template!$K$638,\"\")","v":""},{"$f":"IF(LEFT(Template!$K$638,2)=\"GF\",Template!$K$638,\"\")","v":""},{"$f":"IF(Template!$S$638<>\"\",Template!$S$638,\"\")","v":""},null,null,null,null,{"$f":"IF(Template!$L$638<>\"\",Template!$L$638,\"\")","v":""},"BYU_Child",null,null,"USD",null,50929.71,null,null,null,{"$f":"IF(Template!$O$638<>\"\",Template!$O$638,\"\")","v":""}]
[null,{"$f":"Template!$H$639","v":0},{"$error":"#REF!"},"Calendar_Year_Mar",{"$f":"IF(LEFT(Template!$K$639,2)=\"CC\",Template!$K$639,\"\")","v":""},{"$f":"IF(LEFT(Template!$M$639,2)=\"RC\",Template!$M$639,\"\")","v":""},{"$f":"IF(LEFT(Template!$M$639,2)=\"SC\",Template!$M$639,\"\")","v":""},{"$f":"IF(LEFT(Template!$K$639,2)=\"AC\",Template!$K$639,\"\")","v":""},{"$f":"IF(OR(LEFT(Template!$K$639,2)=\"PJ\", LEFT(Template!$K$639,2)=\"PR\"),Template!$K$639,\"\")","v":""},{"$f":"IF(LEFT(Template!$K$639,2)=\"GF\",Template!$K$639,\"\")","v":""},{"$f":"IF(Template!$S$639<>\"\",Template!$S$639,\"\")","v":""},null,null,null,null,{"$f":"IF(Template!$L$639<>\"\",Template!$L$639,\"\")","v":""},"BYU_Child",null,null,"USD",null,6336.64,null,null,null,{"$f":"IF(Template!$O$639<>\"\",Template!$O$639,\"\")","v":""}]
[null,{"$f":"Template!$H$640","v":0},{"$error":"#REF!"},"Calendar_Year_Mar",{"$f":"IF(LEFT(Template!$K$640,2)=\"CC\",Template!$K$640,\"\")","v":""},{"$f":"IF(LEFT(Template!$M$640,2)=\"RC\",Template!$M$640,\"\")","v":""},{"$f":"IF(LEFT(Template!$M$640,2)=\"SC\",Template!$M$640,\"\")","v":""},{"$f":"IF(LEFT(Template!$K$640,2)=\"AC\",Template!$K$640,\"\")","v":""},{"$f":"IF(OR(LEFT(Template!$K$640,2)=\"PJ\", LEFT(Template!$K$640,2)=\"PR\"),Template!$K$640,\"\")","v":""},{"$f":"IF(LEFT(Template!$K$640,2)=\"GF\",Template!$K$640,\"\")","v":""},{"$f":"IF(Template!$S$640<>\"\",Template!$S$640,\"\")","v":""},null,null,null,null,{"$f":"IF(Template!$L$640<>\"\",Template!$L$640,\"\")","v":""},"BYU_Child",null,null,"USD",null,1528.62,null,null,null,{"$f":"IF(Template!$O$640<>\"\",Template!$O$640,\"\")","v":""}]
[null,{"$f":"Template!$H$641","v":0},{"$error":"#REF!"},"Calendar_Year_Mar",{"$f":"IF(LEFT(Template!$K$641,2)=\"CC\",Template!$K$641,\"\")","v":""},{"$f":"IF(LEFT(Template!$M$641,2)=\"RC\",Template!$M$641,\"\")","v":""},{"$f":"IF(LEFT(Template!$M$641,2)=\"SC\",Template!$M$641,\"\")","v":""},{"$f":"IF(LEFT(Template!$K$641,2)=\"AC\",Template!$K$641,\"\")","v":""},{"$f":"IF(OR(LEFT(Template!$K$641,2)=\"PJ\", LEFT(Template!$K$641,2)=\"PR\"),Template!$K$641,\"\")","v":""},{"$f":"IF(LEFT(Template!$K$641,2)=\"GF\",Template!$K$641,\"\")","v":""},{"$f":"IF(Template!$S$641<>\"\",Template!$S$641,\"\")","v":""},null,null,null,null,{"$f":"IF(Template!$L$641<>\"\",Template!$L$641,\"\")","v":""},"BYU_Child",null,null,"USD",null,6239.95,null,null,null,{"$f":"IF(Template!$O$641<>\"\",Template!$O$641,\"\")","v":""}]
[null,{"$f":"Template!$H$642","v":0},{"$error":"#REF!"},"Calendar_Year_Mar",{"$f":"IF(LEFT(Template!$K$642,2)=\"CC\",Template!$K$642,\"\")","v":""},{"$f":"IF(LEFT(Template!$M$642,2)=\"RC\",Template!$M$642,\"\")","v":""},{"$f":"IF(LEFT(Template!$M$642,2)=\"SC\",Template!$M$642,\"\")","v":""},{"$f":"IF(LEFT(Template!$K$642,2)=\"AC\",Template!$K$642,\"\")","v":""},{"$f":"IF(OR(LEFT(Template!$K$642,2)=\"PJ\", LEFT(Template!$K$642,2)=\"PR\"),Template!$K$642,\"\")","v":""},{"$f":"IF(LEFT(Template!$K$642,2)=\"GF\",Template!$K$642,\"\")","v":""},{"$f":"IF(Template!$S$642<>\"\",Template!$S$642,\"\")","v":""},null,null,null,null,{"$f":"IF(Template!$L$642<>\"\",Template!$L$642,\"\")","v":""},"BYU_Child",null,null,"USD",null,551.41999999999996,null,null,null,{"$f":"IF(Template!$O$642<>\"\",Template!$O$642,\"\")","v":""}]
[null,{"$f":"Template!$H$643","v":0},{"$error":"#REF!"},"Calendar_Year_Mar",{"$f":"IF(LEFT(Template!$K$643,2)=\"CC\",Template!$K$643,\"\")","v":""},{"$f":"IF(LEFT(Template!$M$643,2)=\"RC\",Template!$M$643,\"\")","v":""},{"$f":"IF(LEFT(Template!$M$643,2)=\"SC\",Template!$M$643,\"\")","v":""},{"$f":"IF(LEFT(Template!$K$643,2)=\"AC\",Template!$K$643,\"\")","v":""},{"$f":"IF(OR(LEFT(Template!$K$643,2)=\"PJ\", LEFT(Template!$K$643,2)=\"PR\"),Template!$K$643,\"\")","v":""},{"$f":"IF(LEFT(Template!$K$643,2)=\"GF\",Template!$K$643,\"\")","v":""},{"$f":"IF(Template!$S$643<>\"\",Template!$S$643,\"\")","v":""},null,null,null,null,{"$f":"IF(Template!$L$643<>\"\",Template!$L$643,\"\")","v":""},"BYU_Child",null,null,"USD",null,22361.1,null,null,null,{"$f":"IF(Template!$O$643<>\"\",Template!$O$643,\"\")","v":""}]
[null,{"$f":"Template!$H$644","v":0},{"$error":"#REF!"},"Calendar_Year_Mar",{"$f":"IF(LEFT(Template!$K$644,2)=\"CC\",Template!$K$644,\"\")","v":""},{"$f":"IF(LEFT(Template!$M$644,2)=\"RC\",Template!$M$644,\"\")","v":""},{"$f":"IF(LEFT(Template!$M$644,2)=\"SC\",Template!$M$644,\"\")","v":""},{"$f":"IF(LEFT(Template!$K$644,2)=\"AC\",Template!$K$644,\"\")","v":""},{"$f":"IF(OR(LEFT(Template!$K$644,2)=\"PJ\", LEFT(Template!$K$644,2)=\"PR\"),Template!$K$644,\"\")","v":""},{"$f":"IF(LEFT(Template!$K$644,2)=\"GF\",Template!$K$644,\"\")","v":""},{"$f":"IF(Template!$S$644<>\"\",Template!$S$644,\"\")","v":""},null,null,null,null,{"$f":"IF(Template!$L$644<>\"\",Template!$L$644,\"\")","v":""},"BYU_Child",null,null,"USD",null,150583.54999999999,null,null,null,{"$f":"IF(Template!$O$644<>\"\",Template!$O$644,\"\")","v":""}]
[null,{"$f":"Template!$H$645","v":0},{"$error":"#REF!"},"Calendar_Year_Mar",{"$f":"IF(LEFT(Template!$K$645,2)=\"CC\",Template!$K$645,\"\")","v":""},{"$f":"IF(LEFT(Template!$M$645,2)=\"RC\",Template!$M$645,\"\")","v":""},{"$f":"IF(LEFT(Template!$M$645,2)=\"SC\",Template!$M$645,\"\")","v":""},{"$f":"IF(LEFT(Template!$K$645,2)=\"AC\",Template!$K$645,\"\")","v":""},{"$f":"IF(OR(LEFT(Template!$K$645,2)=\"PJ\", LEFT(Template!$K$645,2)=\"PR\"),Template!$K$645,\"\")","v":""},{"$f":"IF(LEFT(Template!$K$645,2)=\"GF\",Template!$K$645,\"\")","v":""},{"$f":"IF(Template!$S$645<>\"\",Template!$S$645,\"\")","v":""},null,null,null,null,{"$f":"IF(Template!$L$645<>\"\",Template!$L$645,\"\")","v":""},"BYU_Child",null,null,"USD",null,null,910.15,null,null,{"$f":"IF(Template!$O$645<>\"\",Template!$O$645,\"\")","v":""}]
[null,{"$f":"Template!$H$646","v":0},{"$error":"#REF!"},"Calendar_Year_Mar",{"$f":"IF(LEFT(Template!$K$646,2)=\"CC\",Template!$K$646,\"\")","v":""},{"$f":"IF(LEFT(Template!$M$646,2)=\"RC\",Template!$M$646,\"\")","v":""},{"$f":"IF(LEFT(Template!$M$646,2)=\"SC\",Template!$M$646,\"\")","v":""},{"$f":"IF(LEFT(Template!$K$646,2)=\"AC\",Template!$K$646,\"\")","v":""},{"$f":"IF(OR(LEFT(Template!$K$646,2)=\"PJ\", LEFT(Template!$K$646,2)=\"PR\"),Template!$K$646,\"\")","v":""},{"$f":"IF(LEFT(Template!$K$646,2)=\"GF\",Template!$K$646,\"\")","v":""},{"$f":"IF(Template!$S$646<>\"\",Template!$S$646,\"\")","v":""},null,null,null,null,{"$f":"IF(Template!$L$646<>\"\",Template!$L$646,\"\")","v":""},"BYU_Child",null,null,"USD",null,5991.37,null,null,null,{"$f":"IF(Template!$O$646<>\"\",Template!$O$646,\"\")","v":""}]
[null,{"$f":"Template!$H$647","v":0},{"$error":"#REF!"},"Calendar_Year_Mar",{"$f":"IF(LEFT(Template!$K$647,2)=\"CC\",Template!$K$647,\"\")","v":""},{"$f":"IF(LEFT(Template!$M$647,2)=\"RC\",Template!$M$647,\"\")","v":""},{"$f":"IF(LEFT(Template!$M$647,2)=\"SC\",Template!$M$647,\"\")","v":""},{"$f":"IF(LEFT(Template!$K$647,2)=\"AC\",Template!$K$647,\"\")","v":""},{"$f":"IF(OR(LEFT(Template!$K$647,2)=\"PJ\", LEFT(Template!$K$647,2)=\"PR\"),Template!$K$647,\"\")","v":""},{"$f":"IF(LEFT(Template!$K$647,2)=\"GF\",Template!$K$647,\"\")","v":""},{"$f":"IF(Template!$S$647<>\"\",Template!$S$647,\"\")","v":""},null,null,null,null,{"$f":"IF(Template!$L$647<>\"\",Template!$L$647,\"\")","v":""},"BYU_Child",null,null,"USD",null,190.52,null,null,null,{"$f":"IF(Template!$O$647<>\"\",Template!$O$647,\"\")","v":""}]
[null,{"$f":"Template!$H$648","v":0},{"$error":"#REF!"},"Calendar_Year_Mar",{"$f":"IF(LEFT(Template!$K$648,2)=\"CC\",Template!$K$648,\"\")","v":""},{"$f":"IF(LEFT(Template!$M$648,2)=\"RC\",Template!$M$648,\"\")","v":""},{"$f":"IF(LEFT(Template!$M$648,2)=\"SC\",Template!$M$648,\"\")","v":""},{"$f":"IF(LEFT(Template!$K$648,2)=\"AC\",Template!$K$648,\"\")","v":""},{"$f":"IF(OR(LEFT(Template!$K$648,2)=\"PJ\", LEFT(Template!$K$648,2)=\"PR\"),Template!$K$648,\"\")","v":""},{"$f":"IF(LEFT(Template!$K$648,2)=\"GF\",Template!$K$648,\"\")","v":""},{"$f":"IF(Template!$S$648<>\"\",Template!$S$648,\"\")","v":""},null,null,null,null,{"$f":"IF(Template!$L$648<>\"\",Template!$L$648,\"\")","v":""},"BYU_Child",null,null,"USD",null,1355.79,null,null,null,{"$f":"IF(Template!$O$648<>\"\",Template!$O$648,\"\")","v":""}]
[null,{"$f":"Template!$H$649","v":0},{"$error":"#REF!"},"Calendar_Year_Mar",{"$f":"IF(LEFT(Template!$K$649,2)=\"CC\",Template!$K$649,\"\")","v":""},{"$f":"IF(LEFT(Template!$M$649,2)=\"RC\",Template!$M$649,\"\")","v":""},{"$f":"IF(LEFT(Template!$M$649,2)=\"SC\",Template!$M$649,\"\")","v":""},{"$f":"IF(LEFT(Template!$K$649,2)=\"AC\",Template!$K$649,\"\")","v":""},{"$f":"IF(OR(LEFT(Template!$K$649,2)=\"PJ\", LEFT(Template!$K$649,2)=\"PR\"),Template!$K$649,\"\")","v":""},{"$f":"IF(LEFT(Template!$K$649,2)=\"GF\",Template!$K$649,\"\")","v":""},{"$f":"IF(Template!$S$649<>\"\",Template!$S$649,\"\")","v":""},null,null,null,null,{"$f":"IF(Template!$L$649<>\"\",Template!$L$649,\"\")","v":""},"BYU_Child",null,null,"USD",null,14262.39,null,null,null,{"$f":"IF(Template!$O$649<>\"\",Template!$O$649,\"\")","v":""}]
[null,{"$f":"Template!$H$650","v":0},{"$error":"#REF!"},"Calendar_Year_Mar",{"$f":"IF(LEFT(Template!$K$650,2)=\"CC\",Template!$K$650,\"\")","v":""},{"$f":"IF(LEFT(Template!$M$650,2)=\"RC\",Template!$M$650,\"\")","v":""},{"$f":"IF(LEFT(Template!$M$650,2)=\"SC\",Template!$M$650,\"\")","v":""},{"$f":"IF(LEFT(Template!$K$650,2)=\"AC\",Template!$K$650,\"\")","v":""},{"$f":"IF(OR(LEFT(Template!$K$650,2)=\"PJ\", LEFT(Template!$K$650,2)=\"PR\"),Template!$K$650,\"\")","v":""},{"$f":"IF(LEFT(Template!$K$650,2)=\"GF\",Template!$K$650,\"\")","v":""},{"$f":"IF(Template!$S$650<>\"\",Template!$S$650,\"\")","v":""},null,null,null,null,{"$f":"IF(Template!$L$650<>\"\",Template!$L$650,\"\")","v":""},"BYU_Child",null,null,"USD",null,182329.44,null,null,null,{"$f":"IF(Template!$O$650<>\"\",Template!$O$650,\"\")","v":""}]
[null,{"$f":"Template!$H$651","v":0},{"$error":"#REF!"},"Calendar_Year_Mar",{"$f":"IF(LEFT(Template!$K$651,2)=\"CC\",Template!$K$651,\"\")","v":""},{"$f":"IF(LEFT(Template!$M$651,2)=\"RC\",Template!$M$651,\"\")","v":""},{"$f":"IF(LEFT(Template!$M$651,2)=\"SC\",Template!$M$651,\"\")","v":""},{"$f":"IF(LEFT(Template!$K$651,2)=\"AC\",Template!$K$651,\"\")","v":""},{"$f":"IF(OR(LEFT(Template!$K$651,2)=\"PJ\", LEFT(Template!$K$651,2)=\"PR\"),Template!$K$651,\"\")","v":""},{"$f":"IF(LEFT(Template!$K$651,2)=\"GF\",Template!$K$651,\"\")","v":""},{"$f":"IF(Template!$S$651<>\"\",Template!$S$651,\"\")","v":""},null,null,null,null,{"$f":"IF(Template!$L$651<>\"\",Template!$L$651,\"\")","v":""},"BYU_Child",null,null,"USD",null,2297.25,null,null,null,{"$f":"IF(Template!$O$651<>\"\",Template!$O$651,\"\")","v":""}]
[null,{"$f":"Template!$H$652","v":0},{"$error":"#REF!"},"Calendar_Year_Mar",{"$f":"IF(LEFT(Template!$K$652,2)=\"CC\",Template!$K$652,\"\")","v":""},{"$f":"IF(LEFT(Template!$M$652,2)=\"RC\",Template!$M$652,\"\")","v":""},{"$f":"IF(LEFT(Template!$M$652,2)=\"SC\",Template!$M$652,\"\")","v":""},{"$f":"IF(LEFT(Template!$K$652,2)=\"AC\",Template!$K$652,\"\")","v":""},{"$f":"IF(OR(LEFT(Template!$K$652,2)=\"PJ\", LEFT(Template!$K$652,2)=\"PR\"),Template!$K$652,\"\")","v":""},{"$f":"IF(LEFT(Template!$K$652,2)=\"GF\",Template!$K$652,\"\")","v":""},{"$f":"IF(Template!$S$652<>\"\",Template!$S$652,\"\")","v":""},null,null,null,null,{"$f":"IF(Template!$L$652<>\"\",Template!$L$652,\"\")","v":""},"BYU_Child",null,null,"USD",null,2211.4899999999998,null,null,null,{"$f":"IF(Template!$O$652<>\"\",Template!$O$652,\"\")","v":""}]
[null,{"$f":"Template!$H$653","v":0},{"$error":"#REF!"},"Calendar_Year_Mar",{"$f":"IF(LEFT(Template!$K$653,2)=\"CC\",Template!$K$653,\"\")","v":""},{"$f":"IF(LEFT(Template!$M$653,2)=\"RC\",Template!$M$653,\"\")","v":""},{"$f":"IF(LEFT(Template!$M$653,2)=\"SC\",Template!$M$653,\"\")","v":""},{"$f":"IF(LEFT(Template!$K$653,2)=\"AC\",Template!$K$653,\"\")","v":""},{"$f":"IF(OR(LEFT(Template!$K$653,2)=\"PJ\", LEFT(Template!$K$653,2)=\"PR\"),Template!$K$653,\"\")","v":""},{"$f":"IF(LEFT(Template!$K$653,2)=\"GF\",Template!$K$653,\"\")","v":""},{"$f":"IF(Template!$S$653<>\"\",Template!$S$653,\"\")","v":""},null,null,null,null,{"$f":"IF(Template!$L$653<>\"\",Template!$L$653,\"\")","v":""},"BYU_Child",null,null,"USD",null,210.66,null,null,null,{"$f":"IF(Template!$O$653<>\"\",Template!$O$653,\"\")","v":""}]
[null,{"$f":"Template!$H$654","v":0},{"$error":"#REF!"},"Calendar_Year_Mar",{"$f":"IF(LEFT(Template!$K$654,2)=\"CC\",Template!$K$654,\"\")","v":""},{"$f":"IF(LEFT(Template!$M$654,2)=\"RC\",Template!$M$654,\"\")","v":""},{"$f":"IF(LEFT(Template!$M$654,2)=\"SC\",Template!$M$654,\"\")","v":""},{"$f":"IF(LEFT(Template!$K$654,2)=\"AC\",Template!$K$654,\"\")","v":""},{"$f":"IF(OR(LEFT(Template!$K$654,2)=\"PJ\", LEFT(Template!$K$654,2)=\"PR\"),Template!$K$654,\"\")","v":""},{"$f":"IF(LEFT(Template!$K$654,2)=\"GF\",Template!$K$654,\"\")","v":""},{"$f":"IF(Template!$S$654<>\"\",Template!$S$654,\"\")","v":""},null,null,null,null,{"$f":"IF(Template!$L$654<>\"\",Template!$L$654,\"\")","v":""},"BYU_Child",null,null,"USD",null,1554.54,null,null,null,{"$f":"IF(Template!$O$654<>\"\",Template!$O$654,\"\")","v":""}]
[null,{"$f":"Template!$H$655","v":0},{"$error":"#REF!"},"Calendar_Year_Mar",{"$f":"IF(LEFT(Template!$K$655,2)=\"CC\",Template!$K$655,\"\")","v":""},{"$f":"IF(LEFT(Template!$M$655,2)=\"RC\",Template!$M$655,\"\")","v":""},{"$f":"IF(LEFT(Template!$M$655,2)=\"SC\",Template!$M$655,\"\")","v":""},{"$f":"IF(LEFT(Template!$K$655,2)=\"AC\",Template!$K$655,\"\")","v":""},{"$f":"IF(OR(LEFT(Template!$K$655,2)=\"PJ\", LEFT(Template!$K$655,2)=\"PR\"),Template!$K$655,\"\")","v":""},{"$f":"IF(LEFT(Template!$K$655,2)=\"GF\",Template!$K$655,\"\")","v":""},{"$f":"IF(Template!$S$655<>\"\",Template!$S$655,\"\")","v":""},null,null,null,null,{"$f":"IF(Template!$L$655<>\"\",Template!$L$655,\"\")","v":""},"BYU_Child",null,null,"USD",null,4038.24,null,null,null,{"$f":"IF(Template!$O$655<>\"\",Template!$O$655,\"\")","v":""}]
[null,{"$f":"Template!$H$656","v":0},{"$error":"#REF!"},"Calendar_Year_Mar",{"$f":"IF(LEFT(Template!$K$656,2)=\"CC\",Template!$K$656,\"\")","v":""},{"$f":"IF(LEFT(Template!$M$656,2)=\"RC\",Template!$M$656,\"\")","v":""},{"$f":"IF(LEFT(Template!$M$656,2)=\"SC\",Template!$M$656,\"\")","v":""},{"$f":"IF(LEFT(Template!$K$656,2)=\"AC\",Template!$K$656,\"\")","v":""},{"$f":"IF(OR(LEFT(Template!$K$656,2)=\"PJ\", LEFT(Template!$K$656,2)=\"PR\"),Template!$K$656,\"\")","v":""},{"$f":"IF(LEFT(Template!$K$656,2)=\"GF\",Template!$K$656,\"\")","v":""},{"$f":"IF(Template!$S$656<>\"\",Template!$S$656,\"\")","v":""},null,null,null,null,{"$f":"IF(Template!$L$656<>\"\",Template!$L$656,\"\")","v":""},"BYU_Child",null,null,"USD",null,513.84,null,null,null,{"$f":"IF(Template!$O$656<>\"\",Template!$O$656,\"\")","v":""}]
[null,{"$f":"Template!$H$657","v":0},{"$error":"#REF!"},"Calendar_Year_Mar",{"$f":"IF(LEFT(Template!$K$657,2)=\"CC\",Template!$K$657,\"\")","v":""},{"$f":"IF(LEFT(Template!$M$657,2)=\"RC\",Template!$M$657,\"\")","v":""},{"$f":"IF(LEFT(Template!$M$657,2)=\"SC\",Template!$M$657,\"\")","v":""},{"$f":"IF(LEFT(Template!$K$657,2)=\"AC\",Template!$K$657,\"\")","v":""},{"$f":"IF(OR(LEFT(Template!$K$657,2)=\"PJ\", LEFT(Template!$K$657,2)=\"PR\"),Template!$K$657,\"\")","v":""},{"$f":"IF(LEFT(Template!$K$657,2)=\"GF\",Template!$K$657,\"\")","v":""},{"$f":"IF(Template!$S$657<>\"\",Template!$S$657,\"\")","v":""},null,null,null,null,{"$f":"IF(Template!$L$657<>\"\",Template!$L$657,\"\")","v":""},"BYU_Child",null,null,"USD",null,5968.44,null,null,null,{"$f":"IF(Template!$O$657<>\"\",Template!$O$657,\"\")","v":""}]
[null,{"$f":"Template!$H$658","v":0},{"$error":"#REF!"},"Calendar_Year_Mar",{"$f":"IF(LEFT(Template!$K$658,2)=\"CC\",Template!$K$658,\"\")","v":""},{"$f":"IF(LEFT(Template!$M$658,2)=\"RC\",Template!$M$658,\"\")","v":""},{"$f":"IF(LEFT(Template!$M$658,2)=\"SC\",Template!$M$658,\"\")","v":""},{"$f":"IF(LEFT(Template!$K$658,2)=\"AC\",Template!$K$658,\"\")","v":""},{"$f":"IF(OR(LEFT(Template!$K$658,2)=\"PJ\", LEFT(Template!$K$658,2)=\"PR\"),Template!$K$658,\"\")","v":""},{"$f":"IF(LEFT(Template!$K$658,2)=\"GF\",Template!$K$658,\"\")","v":""},{"$f":"IF(Template!$S$658<>\"\",Template!$S$658,\"\")","v":""},null,null,null,null,{"$f":"IF(Template!$L$658<>\"\",Template!$L$658,\"\")","v":""},"BYU_Child",null,null,"USD",null,46401.48,null,null,null,{"$f":"IF(Template!$O$658<>\"\",Template!$O$658,\"\")","v":""}]
[null,{"$f":"Template!$H$659","v":0},{"$error":"#REF!"},"Calendar_Year_Mar",{"$f":"IF(LEFT(Template!$K$659,2)=\"CC\",Template!$K$659,\"\")","v":""},{"$f":"IF(LEFT(Template!$M$659,2)=\"RC\",Template!$M$659,\"\")","v":""},{"$f":"IF(LEFT(Template!$M$659,2)=\"SC\",Template!$M$659,\"\")","v":""},{"$f":"IF(LEFT(Template!$K$659,2)=\"AC\",Template!$K$659,\"\")","v":""},{"$f":"IF(OR(LEFT(Template!$K$659,2)=\"PJ\", LEFT(Template!$K$659,2)=\"PR\"),Template!$K$659,\"\")","v":""},{"$f":"IF(LEFT(Template!$K$659,2)=\"GF\",Template!$K$659,\"\")","v":""},{"$f":"IF(Template!$S$659<>\"\",Template!$S$659,\"\")","v":""},null,null,null,null,{"$f":"IF(Template!$L$659<>\"\",Template!$L$659,\"\")","v":""},"BYU_Child",null,null,"USD",null,null,41.25,null,null,{"$f":"IF(Template!$O$659<>\"\",Template!$O$659,\"\")","v":""}]
[null,{"$f":"Template!$H$660","v":0},{"$error":"#REF!"},"Calendar_Year_Mar",{"$f":"IF(LEFT(Template!$K$660,2)=\"CC\",Template!$K$660,\"\")","v":""},{"$f":"IF(LEFT(Template!$M$660,2)=\"RC\",Template!$M$660,\"\")","v":""},{"$f":"IF(LEFT(Template!$M$660,2)=\"SC\",Template!$M$660,\"\")","v":""},{"$f":"IF(LEFT(Template!$K$660,2)=\"AC\",Template!$K$660,\"\")","v":""},{"$f":"IF(OR(LEFT(Template!$K$660,2)=\"PJ\", LEFT(Template!$K$660,2)=\"PR\"),Template!$K$660,\"\")","v":""},{"$f":"IF(LEFT(Template!$K$660,2)=\"GF\",Template!$K$660,\"\")","v":""},{"$f":"IF(Template!$S$660<>\"\",Template!$S$660,\"\")","v":""},null,null,null,null,{"$f":"IF(Template!$L$660<>\"\",Template!$L$660,\"\")","v":""},"BYU_Child",null,null,"USD",null,63.2,null,null,null,{"$f":"IF(Template!$O$660<>\"\",Template!$O$660,\"\")","v":""}]
[null,{"$f":"Template!$H$661","v":0},{"$error":"#REF!"},"Calendar_Year_Mar",{"$f":"IF(LEFT(Template!$K$661,2)=\"CC\",Template!$K$661,\"\")","v":""},{"$f":"IF(LEFT(Template!$M$661,2)=\"RC\",Template!$M$661,\"\")","v":""},{"$f":"IF(LEFT(Template!$M$661,2)=\"SC\",Template!$M$661,\"\")","v":""},{"$f":"IF(LEFT(Template!$K$661,2)=\"AC\",Template!$K$661,\"\")","v":""},{"$f":"IF(OR(LEFT(Template!$K$661,2)=\"PJ\", LEFT(Template!$K$661,2)=\"PR\"),Template!$K$661,\"\")","v":""},{"$f":"IF(LEFT(Template!$K$661,2)=\"GF\",Template!$K$661,\"\")","v":""},{"$f":"IF(Template!$S$661<>\"\",Template!$S$661,\"\")","v":""},null,null,null,null,{"$f":"IF(Template!$L$661<>\"\",Template!$L$661,\"\")","v":""},"BYU_Child",null,null,"USD",null,7083.26,null,null,null,{"$f":"IF(Template!$O$661<>\"\",Template!$O$661,\"\")","v":""}]
[null,{"$f":"Template!$H$662","v":0},{"$error":"#REF!"},"Calendar_Year_Mar",{"$f":"IF(LEFT(Template!$K$662,2)=\"CC\",Template!$K$662,\"\")","v":""},{"$f":"IF(LEFT(Template!$M$662,2)=\"RC\",Template!$M$662,\"\")","v":""},{"$f":"IF(LEFT(Template!$M$662,2)=\"SC\",Template!$M$662,\"\")","v":""},{"$f":"IF(LEFT(Template!$K$662,2)=\"AC\",Template!$K$662,\"\")","v":""},{"$f":"IF(OR(LEFT(Template!$K$662,2)=\"PJ\", LEFT(Template!$K$662,2)=\"PR\"),Template!$K$662,\"\")","v":""},{"$f":"IF(LEFT(Template!$K$662,2)=\"GF\",Template!$K$662,\"\")","v":""},{"$f":"IF(Template!$S$662<>\"\",Template!$S$662,\"\")","v":""},null,null,null,null,{"$f":"IF(Template!$L$662<>\"\",Template!$L$662,\"\")","v":""},"BYU_Child",null,null,"USD",null,148196.19,null,null,null,{"$f":"IF(Template!$O$662<>\"\",Template!$O$662,\"\")","v":""}]
[null,{"$f":"Template!$H$663","v":0},{"$error":"#REF!"},"Calendar_Year_Mar",{"$f":"IF(LEFT(Template!$K$663,2)=\"CC\",Template!$K$663,\"\")","v":""},{"$f":"IF(LEFT(Template!$M$663,2)=\"RC\",Template!$M$663,\"\")","v":""},{"$f":"IF(LEFT(Template!$M$663,2)=\"SC\",Template!$M$663,\"\")","v":""},{"$f":"IF(LEFT(Template!$K$663,2)=\"AC\",Template!$K$663,\"\")","v":""},{"$f":"IF(OR(LEFT(Template!$K$663,2)=\"PJ\", LEFT(Template!$K$663,2)=\"PR\"),Template!$K$663,\"\")","v":""},{"$f":"IF(LEFT(Template!$K$663,2)=\"GF\",Template!$K$663,\"\")","v":""},{"$f":"IF(Template!$S$663<>\"\",Template!$S$663,\"\")","v":""},null,null,null,null,{"$f":"IF(Template!$L$663<>\"\",Template!$L$663,\"\")","v":""},"BYU_Child",null,null,"USD",null,418.36,null,null,null,{"$f":"IF(Template!$O$663<>\"\",Template!$O$663,\"\")","v":""}]
[null,{"$f":"Template!$H$664","v":0},{"$error":"#REF!"},"Calendar_Year_Mar",{"$f":"IF(LEFT(Template!$K$664,2)=\"CC\",Template!$K$664,\"\")","v":""},{"$f":"IF(LEFT(Template!$M$664,2)=\"RC\",Template!$M$664,\"\")","v":""},{"$f":"IF(LEFT(Template!$M$664,2)=\"SC\",Template!$M$664,\"\")","v":""},{"$f":"IF(LEFT(Template!$K$664,2)=\"AC\",Template!$K$664,\"\")","v":""},{"$f":"IF(OR(LEFT(Template!$K$664,2)=\"PJ\", LEFT(Template!$K$664,2)=\"PR\"),Template!$K$664,\"\")","v":""},{"$f":"IF(LEFT(Template!$K$664,2)=\"GF\",Template!$K$664,\"\")","v":""},{"$f":"IF(Template!$S$664<>\"\",Template!$S$664,\"\")","v":""},null,null,null,null,{"$f":"IF(Template!$L$664<>\"\",Template!$L$664,\"\")","v":""},"BYU_Child",null,null,"USD",null,2867.8,null,null,null,{"$f":"IF(Template!$O$664<>\"\",Template!$O$664,\"\")","v":""}]
[null,{"$f":"Template!$H$665","v":0},{"$error":"#REF!"},"Calendar_Year_Mar",{"$f":"IF(LEFT(Template!$K$665,2)=\"CC\",Template!$K$665,\"\")","v":""},{"$f":"IF(LEFT(Template!$M$665,2)=\"RC\",Template!$M$665,\"\")","v":""},{"$f":"IF(LEFT(Template!$M$665,2)=\"SC\",Template!$M$665,\"\")","v":""},{"$f":"IF(LEFT(Template!$K$665,2)=\"AC\",Template!$K$665,\"\")","v":""},{"$f":"IF(OR(LEFT(Template!$K$665,2)=\"PJ\", LEFT(Template!$K$665,2)=\"PR\"),Template!$K$665,\"\")","v":""},{"$f":"IF(LEFT(Template!$K$665,2)=\"GF\",Template!$K$665,\"\")","v":""},{"$f":"IF(Template!$S$665<>\"\",Template!$S$665,\"\")","v":""},null,null,null,null,{"$f":"IF(Template!$L$665<>\"\",Template!$L$665,\"\")","v":""},"BYU_Child",null,null,"USD",null,1219.6600000000001,null,null,null,{"$f":"IF(Template!$O$665<>\"\",Template!$O$665,\"\")","v":""}]
[null,{"$f":"Template!$H$666","v":0},{"$error":"#REF!"},"Calendar_Year_Mar",{"$f":"IF(LEFT(Template!$K$666,2)=\"CC\",Template!$K$666,\"\")","v":""},{"$f":"IF(LEFT(Template!$M$666,2)=\"RC\",Template!$M$666,\"\")","v":""},{"$f":"IF(LEFT(Template!$M$666,2)=\"SC\",Template!$M$666,\"\")","v":""},{"$f":"IF(LEFT(Template!$K$666,2)=\"AC\",Template!$K$666,\"\")","v":""},{"$f":"IF(OR(LEFT(Template!$K$666,2)=\"PJ\", LEFT(Template!$K$666,2)=\"PR\"),Template!$K$666,\"\")","v":""},{"$f":"IF(LEFT(Template!$K$666,2)=\"GF\",Template!$K$666,\"\")","v":""},{"$f":"IF(Template!$S$666<>\"\",Template!$S$666,\"\")","v":""},null,null,null,null,{"$f":"IF(Template!$L$666<>\"\",Template!$L$666,\"\")","v":""},"BYU_Child",null,null,"USD",null,2916.34,null,null,null,{"$f":"IF(Template!$O$666<>\"\",Template!$O$666,\"\")","v":""}]
[null,{"$f":"Template!$H$667","v":0},{"$error":"#REF!"},"Calendar_Year_Mar",{"$f":"IF(LEFT(Template!$K$667,2)=\"CC\",Template!$K$667,\"\")","v":""},{"$f":"IF(LEFT(Template!$M$667,2)=\"RC\",Template!$M$667,\"\")","v":""},{"$f":"IF(LEFT(Template!$M$667,2)=\"SC\",Template!$M$667,\"\")","v":""},{"$f":"IF(LEFT(Template!$K$667,2)=\"AC\",Template!$K$667,\"\")","v":""},{"$f":"IF(OR(LEFT(Template!$K$667,2)=\"PJ\", LEFT(Template!$K$667,2)=\"PR\"),Template!$K$667,\"\")","v":""},{"$f":"IF(LEFT(Template!$K$667,2)=\"GF\",Template!$K$667,\"\")","v":""},{"$f":"IF(Template!$S$667<>\"\",Template!$S$667,\"\")","v":""},null,null,null,null,{"$f":"IF(Template!$L$667<>\"\",Template!$L$667,\"\")","v":""},"BYU_Child",null,null,"USD",null,37142,null,null,null,{"$f":"IF(Template!$O$667<>\"\",Template!$O$667,\"\")","v":""}]
[null,{"$f":"Template!$H$668","v":0},{"$error":"#REF!"},"Calendar_Year_Mar",{"$f":"IF(LEFT(Template!$K$668,2)=\"CC\",Template!$K$668,\"\")","v":""},{"$f":"IF(LEFT(Template!$M$668,2)=\"RC\",Template!$M$668,\"\")","v":""},{"$f":"IF(LEFT(Template!$M$668,2)=\"SC\",Template!$M$668,\"\")","v":""},{"$f":"IF(LEFT(Template!$K$668,2)=\"AC\",Template!$K$668,\"\")","v":""},{"$f":"IF(OR(LEFT(Template!$K$668,2)=\"PJ\", LEFT(Template!$K$668,2)=\"PR\"),Template!$K$668,\"\")","v":""},{"$f":"IF(LEFT(Template!$K$668,2)=\"GF\",Template!$K$668,\"\")","v":""},{"$f":"IF(Template!$S$668<>\"\",Template!$S$668,\"\")","v":""},null,null,null,null,{"$f":"IF(Template!$L$668<>\"\",Template!$L$668,\"\")","v":""},"BYU_Child",null,null,"USD",null,236.29,null,null,null,{"$f":"IF(Template!$O$668<>\"\",Template!$O$668,\"\")","v":""}]
[null,{"$f":"Template!$H$669","v":0},{"$error":"#REF!"},"Calendar_Year_Mar",{"$f":"IF(LEFT(Template!$K$669,2)=\"CC\",Template!$K$669,\"\")","v":""},{"$f":"IF(LEFT(Template!$M$669,2)=\"RC\",Template!$M$669,\"\")","v":""},{"$f":"IF(LEFT(Template!$M$669,2)=\"SC\",Template!$M$669,\"\")","v":""},{"$f":"IF(LEFT(Template!$K$669,2)=\"AC\",Template!$K$669,\"\")","v":""},{"$f":"IF(OR(LEFT(Template!$K$669,2)=\"PJ\", LEFT(Template!$K$669,2)=\"PR\"),Template!$K$669,\"\")","v":""},{"$f":"IF(LEFT(Template!$K$669,2)=\"GF\",Template!$K$669,\"\")","v":""},{"$f":"IF(Template!$S$669<>\"\",Template!$S$669,\"\")","v":""},null,null,null,null,{"$f":"IF(Template!$L$669<>\"\",Template!$L$669,\"\")","v":""},"BYU_Child",null,null,"USD",null,21602.69,null,null,null,{"$f":"IF(Template!$O$669<>\"\",Template!$O$669,\"\")","v":""}]
[null,{"$f":"Template!$H$670","v":0},{"$error":"#REF!"},"Calendar_Year_Mar",{"$f":"IF(LEFT(Template!$K$670,2)=\"CC\",Template!$K$670,\"\")","v":""},{"$f":"IF(LEFT(Template!$M$670,2)=\"RC\",Template!$M$670,\"\")","v":""},{"$f":"IF(LEFT(Template!$M$670,2)=\"SC\",Template!$M$670,\"\")","v":""},{"$f":"IF(LEFT(Template!$K$670,2)=\"AC\",Template!$K$670,\"\")","v":""},{"$f":"IF(OR(LEFT(Template!$K$670,2)=\"PJ\", LEFT(Template!$K$670,2)=\"PR\"),Template!$K$670,\"\")","v":""},{"$f":"IF(LEFT(Template!$K$670,2)=\"GF\",Template!$K$670,\"\")","v":""},{"$f":"IF(Template!$S$670<>\"\",Template!$S$670,\"\")","v":""},null,null,null,null,{"$f":"IF(Template!$L$670<>\"\",Template!$L$670,\"\")","v":""},"BYU_Child",null,null,"USD",null,136174.66,null,null,null,{"$f":"IF(Template!$O$670<>\"\",Template!$O$670,\"\")","v":""}]
[null,{"$f":"Template!$H$671","v":0},{"$error":"#REF!"},"Calendar_Year_Mar",{"$f":"IF(LEFT(Template!$K$671,2)=\"CC\",Template!$K$671,\"\")","v":""},{"$f":"IF(LEFT(Template!$M$671,2)=\"RC\",Template!$M$671,\"\")","v":""},{"$f":"IF(LEFT(Template!$M$671,2)=\"SC\",Template!$M$671,\"\")","v":""},{"$f":"IF(LEFT(Template!$K$671,2)=\"AC\",Template!$K$671,\"\")","v":""},{"$f":"IF(OR(LEFT(Template!$K$671,2)=\"PJ\", LEFT(Template!$K$671,2)=\"PR\"),Template!$K$671,\"\")","v":""},{"$f":"IF(LEFT(Template!$K$671,2)=\"GF\",Template!$K$671,\"\")","v":""},{"$f":"IF(Template!$S$671<>\"\",Template!$S$671,\"\")","v":""},null,null,null,null,{"$f":"IF(Template!$L$671<>\"\",Template!$L$671,\"\")","v":""},"BYU_Child",null,null,"USD",null,706.87,null,null,null,{"$f":"IF(Template!$O$671<>\"\",Template!$O$671,\"\")","v":""}]
[null,{"$f":"Template!$H$672","v":0},{"$error":"#REF!"},"Calendar_Year_Mar",{"$f":"IF(LEFT(Template!$K$672,2)=\"CC\",Template!$K$672,\"\")","v":""},{"$f":"IF(LEFT(Template!$M$672,2)=\"RC\",Template!$M$672,\"\")","v":""},{"$f":"IF(LEFT(Template!$M$672,2)=\"SC\",Template!$M$672,\"\")","v":""},{"$f":"IF(LEFT(Template!$K$672,2)=\"AC\",Template!$K$672,\"\")","v":""},{"$f":"IF(OR(LEFT(Template!$K$672,2)=\"PJ\", LEFT(Template!$K$672,2)=\"PR\"),Template!$K$672,\"\")","v":""},{"$f":"IF(LEFT(Template!$K$672,2)=\"GF\",Template!$K$672,\"\")","v":""},{"$f":"IF(Template!$S$672<>\"\",Template!$S$672,\"\")","v":""},null,null,null,null,{"$f":"IF(Template!$L$672<>\"\",Template!$L$672,\"\")","v":""},"BYU_Child",null,null,"USD",null,263.11,null,null,null,{"$f":"IF(Template!$O$672<>\"\",Template!$O$672,\"\")","v":""}]
[null,{"$f":"Template!$H$673","v":0},{"$error":"#REF!"},"Calendar_Year_Mar",{"$f":"IF(LEFT(Template!$K$673,2)=\"CC\",Template!$K$673,\"\")","v":""},{"$f":"IF(LEFT(Template!$M$673,2)=\"RC\",Template!$M$673,\"\")","v":""},{"$f":"IF(LEFT(Template!$M$673,2)=\"SC\",Template!$M$673,\"\")","v":""},{"$f":"IF(LEFT(Template!$K$673,2)=\"AC\",Template!$K$673,\"\")","v":""},{"$f":"IF(OR(LEFT(Template!$K$673,2)=\"PJ\", LEFT(Template!$K$673,2)=\"PR\"),Template!$K$673,\"\")","v":""},{"$f":"IF(LEFT(Template!$K$673,2)=\"GF\",Template!$K$673,\"\")","v":""},{"$f":"IF(Template!$S$673<>\"\",Template!$S$673,\"\")","v":""},null,null,null,null,{"$f":"IF(Template!$L$673<>\"\",Template!$L$673,\"\")","v":""},"BYU_Child",null,null,"USD",null,5587.21,null,null,null,{"$f":"IF(Template!$O$673<>\"\",Template!$O$673,\"\")","v":""}]
[null,{"$f":"Template!$H$674","v":0},{"$error":"#REF!"},"Calendar_Year_Mar",{"$f":"IF(LEFT(Template!$K$674,2)=\"CC\",Template!$K$674,\"\")","v":""},{"$f":"IF(LEFT(Template!$M$674,2)=\"RC\",Template!$M$674,\"\")","v":""},{"$f":"IF(LEFT(Template!$M$674,2)=\"SC\",Template!$M$674,\"\")","v":""},{"$f":"IF(LEFT(Template!$K$674,2)=\"AC\",Template!$K$674,\"\")","v":""},{"$f":"IF(OR(LEFT(Template!$K$674,2)=\"PJ\", LEFT(Template!$K$674,2)=\"PR\"),Template!$K$674,\"\")","v":""},{"$f":"IF(LEFT(Template!$K$674,2)=\"GF\",Template!$K$674,\"\")","v":""},{"$f":"IF(Template!$S$674<>\"\",Template!$S$674,\"\")","v":""},null,null,null,null,{"$f":"IF(Template!$L$674<>\"\",Template!$L$674,\"\")","v":""},"BYU_Child",null,null,"USD",null,101017.1,null,null,null,{"$f":"IF(Template!$O$674<>\"\",Template!$O$674,\"\")","v":""}]
[null,{"$f":"Template!$H$675","v":0},{"$error":"#REF!"},"Calendar_Year_Mar",{"$f":"IF(LEFT(Template!$K$675,2)=\"CC\",Template!$K$675,\"\")","v":""},{"$f":"IF(LEFT(Template!$M$675,2)=\"RC\",Template!$M$675,\"\")","v":""},{"$f":"IF(LEFT(Template!$M$675,2)=\"SC\",Template!$M$675,\"\")","v":""},{"$f":"IF(LEFT(Template!$K$675,2)=\"AC\",Template!$K$675,\"\")","v":""},{"$f":"IF(OR(LEFT(Template!$K$675,2)=\"PJ\", LEFT(Template!$K$675,2)=\"PR\"),Template!$K$675,\"\")","v":""},{"$f":"IF(LEFT(Template!$K$675,2)=\"GF\",Template!$K$675,\"\")","v":""},{"$f":"IF(Template!$S$675<>\"\",Template!$S$675,\"\")","v":""},null,null,null,null,{"$f":"IF(Template!$L$675<>\"\",Template!$L$675,\"\")","v":""},"BYU_Child",null,null,"USD",null,450.54,null,null,null,{"$f":"IF(Template!$O$675<>\"\",Template!$O$675,\"\")","v":""}]
[null,{"$f":"Template!$H$676","v":0},{"$error":"#REF!"},"Calendar_Year_Mar",{"$f":"IF(LEFT(Template!$K$676,2)=\"CC\",Template!$K$676,\"\")","v":""},{"$f":"IF(LEFT(Template!$M$676,2)=\"RC\",Template!$M$676,\"\")","v":""},{"$f":"IF(LEFT(Template!$M$676,2)=\"SC\",Template!$M$676,\"\")","v":""},{"$f":"IF(LEFT(Template!$K$676,2)=\"AC\",Template!$K$676,\"\")","v":""},{"$f":"IF(OR(LEFT(Template!$K$676,2)=\"PJ\", LEFT(Template!$K$676,2)=\"PR\"),Template!$K$676,\"\")","v":""},{"$f":"IF(LEFT(Template!$K$676,2)=\"GF\",Template!$K$676,\"\")","v":""},{"$f":"IF(Template!$S$676<>\"\",Template!$S$676,\"\")","v":""},null,null,null,null,{"$f":"IF(Template!$L$676<>\"\",Template!$L$676,\"\")","v":""},"BYU_Child",null,null,"USD",null,2329.71,null,null,null,{"$f":"IF(Template!$O$676<>\"\",Template!$O$676,\"\")","v":""}]
[null,{"$f":"Template!$H$677","v":0},{"$error":"#REF!"},"Calendar_Year_Mar",{"$f":"IF(LEFT(Template!$K$677,2)=\"CC\",Template!$K$677,\"\")","v":""},{"$f":"IF(LEFT(Template!$M$677,2)=\"RC\",Template!$M$677,\"\")","v":""},{"$f":"IF(LEFT(Template!$M$677,2)=\"SC\",Template!$M$677,\"\")","v":""},{"$f":"IF(LEFT(Template!$K$677,2)=\"AC\",Template!$K$677,\"\")","v":""},{"$f":"IF(OR(LEFT(Template!$K$677,2)=\"PJ\", LEFT(Template!$K$677,2)=\"PR\"),Template!$K$677,\"\")","v":""},{"$f":"IF(LEFT(Template!$K$677,2)=\"GF\",Template!$K$677,\"\")","v":""},{"$f":"IF(Template!$S$677<>\"\",Template!$S$677,\"\")","v":""},null,null,null,null,{"$f":"IF(Template!$L$677<>\"\",Template!$L$677,\"\")","v":""},"BYU_Child",null,null,"USD",null,569.01,null,null,null,{"$f":"IF(Template!$O$677<>\"\",Template!$O$677,\"\")","v":""}]
[null,{"$f":"Template!$H$678","v":0},{"$error":"#REF!"},"Calendar_Year_Mar",{"$f":"IF(LEFT(Template!$K$678,2)=\"CC\",Template!$K$678,\"\")","v":""},{"$f":"IF(LEFT(Template!$M$678,2)=\"RC\",Template!$M$678,\"\")","v":""},{"$f":"IF(LEFT(Template!$M$678,2)=\"SC\",Template!$M$678,\"\")","v":""},{"$f":"IF(LEFT(Template!$K$678,2)=\"AC\",Template!$K$678,\"\")","v":""},{"$f":"IF(OR(LEFT(Template!$K$678,2)=\"PJ\", LEFT(Template!$K$678,2)=\"PR\"),Template!$K$678,\"\")","v":""},{"$f":"IF(LEFT(Template!$K$678,2)=\"GF\",Template!$K$678,\"\")","v":""},{"$f":"IF(Template!$S$678<>\"\",Template!$S$678,\"\")","v":""},null,null,null,null,{"$f":"IF(Template!$L$678<>\"\",Template!$L$678,\"\")","v":""},"BYU_Child",null,null,"USD",null,2391.6,null,null,null,{"$f":"IF(Template!$O$678<>\"\",Template!$O$678,\"\")","v":""}]
[null,{"$f":"Template!$H$679","v":0},{"$error":"#REF!"},"Calendar_Year_Mar",{"$f":"IF(LEFT(Template!$K$679,2)=\"CC\",Template!$K$679,\"\")","v":""},{"$f":"IF(LEFT(Template!$M$679,2)=\"RC\",Template!$M$679,\"\")","v":""},{"$f":"IF(LEFT(Template!$M$679,2)=\"SC\",Template!$M$679,\"\")","v":""},{"$f":"IF(LEFT(Template!$K$679,2)=\"AC\",Template!$K$679,\"\")","v":""},{"$f":"IF(OR(LEFT(Template!$K$679,2)=\"PJ\", LEFT(Template!$K$679,2)=\"PR\"),Template!$K$679,\"\")","v":""},{"$f":"IF(LEFT(Template!$K$679,2)=\"GF\",Template!$K$679,\"\")","v":""},{"$f":"IF(Template!$S$679<>\"\",Template!$S$679,\"\")","v":""},null,null,null,null,{"$f":"IF(Template!$L$679<>\"\",Template!$L$679,\"\")","v":""},"BYU_Child",null,null,"USD",null,915.12,null,null,null,{"$f":"IF(Template!$O$679<>\"\",Template!$O$679,\"\")","v":""}]
[null,{"$f":"Template!$H$680","v":0},{"$error":"#REF!"},"Calendar_Year_Mar",{"$f":"IF(LEFT(Template!$K$680,2)=\"CC\",Template!$K$680,\"\")","v":""},{"$f":"IF(LEFT(Template!$M$680,2)=\"RC\",Template!$M$680,\"\")","v":""},{"$f":"IF(LEFT(Template!$M$680,2)=\"SC\",Template!$M$680,\"\")","v":""},{"$f":"IF(LEFT(Template!$K$680,2)=\"AC\",Template!$K$680,\"\")","v":""},{"$f":"IF(OR(LEFT(Template!$K$680,2)=\"PJ\", LEFT(Template!$K$680,2)=\"PR\"),Template!$K$680,\"\")","v":""},{"$f":"IF(LEFT(Template!$K$680,2)=\"GF\",Template!$K$680,\"\")","v":""},{"$f":"IF(Template!$S$680<>\"\",Template!$S$680,\"\")","v":""},null,null,null,null,{"$f":"IF(Template!$L$680<>\"\",Template!$L$680,\"\")","v":""},"BYU_Child",null,null,"USD",null,116656.95,null,null,null,{"$f":"IF(Template!$O$680<>\"\",Template!$O$680,\"\")","v":""}]
[null,{"$f":"Template!$H$681","v":0},{"$error":"#REF!"},"Calendar_Year_Mar",{"$f":"IF(LEFT(Template!$K$681,2)=\"CC\",Template!$K$681,\"\")","v":""},{"$f":"IF(LEFT(Template!$M$681,2)=\"RC\",Template!$M$681,\"\")","v":""},{"$f":"IF(LEFT(Template!$M$681,2)=\"SC\",Template!$M$681,\"\")","v":""},{"$f":"IF(LEFT(Template!$K$681,2)=\"AC\",Template!$K$681,\"\")","v":""},{"$f":"IF(OR(LEFT(Template!$K$681,2)=\"PJ\", LEFT(Template!$K$681,2)=\"PR\"),Template!$K$681,\"\")","v":""},{"$f":"IF(LEFT(Template!$K$681,2)=\"GF\",Template!$K$681,\"\")","v":""},{"$f":"IF(Template!$S$681<>\"\",Template!$S$681,\"\")","v":""},null,null,null,null,{"$f":"IF(Template!$L$681<>\"\",Template!$L$681,\"\")","v":""},"BYU_Child",null,null,"USD",null,5.24,null,null,null,{"$f":"IF(Template!$O$681<>\"\",Template!$O$681,\"\")","v":""}]
[null,{"$f":"Template!$H$682","v":0},{"$error":"#REF!"},"Calendar_Year_Mar",{"$f":"IF(LEFT(Template!$K$682,2)=\"CC\",Template!$K$682,\"\")","v":""},{"$f":"IF(LEFT(Template!$M$682,2)=\"RC\",Template!$M$682,\"\")","v":""},{"$f":"IF(LEFT(Template!$M$682,2)=\"SC\",Template!$M$682,\"\")","v":""},{"$f":"IF(LEFT(Template!$K$682,2)=\"AC\",Template!$K$682,\"\")","v":""},{"$f":"IF(OR(LEFT(Template!$K$682,2)=\"PJ\", LEFT(Template!$K$682,2)=\"PR\"),Template!$K$682,\"\")","v":""},{"$f":"IF(LEFT(Template!$K$682,2)=\"GF\",Template!$K$682,\"\")","v":""},{"$f":"IF(Template!$S$682<>\"\",Template!$S$682,\"\")","v":""},null,null,null,null,{"$f":"IF(Template!$L$682<>\"\",Template!$L$682,\"\")","v":""},"BYU_Child",null,null,"USD",null,5490.8,null,null,null,{"$f":"IF(Template!$O$682<>\"\",Template!$O$682,\"\")","v":""}]
[null,{"$f":"Template!$H$683","v":0},{"$error":"#REF!"},"Calendar_Year_Mar",{"$f":"IF(LEFT(Template!$K$683,2)=\"CC\",Template!$K$683,\"\")","v":""},{"$f":"IF(LEFT(Template!$M$683,2)=\"RC\",Template!$M$683,\"\")","v":""},{"$f":"IF(LEFT(Template!$M$683,2)=\"SC\",Template!$M$683,\"\")","v":""},{"$f":"IF(LEFT(Template!$K$683,2)=\"AC\",Template!$K$683,\"\")","v":""},{"$f":"IF(OR(LEFT(Template!$K$683,2)=\"PJ\", LEFT(Template!$K$683,2)=\"PR\"),Template!$K$683,\"\")","v":""},{"$f":"IF(LEFT(Template!$K$683,2)=\"GF\",Template!$K$683,\"\")","v":""},{"$f":"IF(Template!$S$683<>\"\",Template!$S$683,\"\")","v":""},null,null,null,null,{"$f":"IF(Template!$L$683<>\"\",Template!$L$683,\"\")","v":""},"BYU_Child",null,null,"USD",null,13185.3,null,null,null,{"$f":"IF(Template!$O$683<>\"\",Template!$O$683,\"\")","v":""}]
[null,{"$f":"Template!$H$684","v":0},{"$error":"#REF!"},"Calendar_Year_Mar",{"$f":"IF(LEFT(Template!$K$684,2)=\"CC\",Template!$K$684,\"\")","v":""},{"$f":"IF(LEFT(Template!$M$684,2)=\"RC\",Template!$M$684,\"\")","v":""},{"$f":"IF(LEFT(Template!$M$684,2)=\"SC\",Template!$M$684,\"\")","v":""},{"$f":"IF(LEFT(Template!$K$684,2)=\"AC\",Template!$K$684,\"\")","v":""},{"$f":"IF(OR(LEFT(Template!$K$684,2)=\"PJ\", LEFT(Template!$K$684,2)=\"PR\"),Template!$K$684,\"\")","v":""},{"$f":"IF(LEFT(Template!$K$684,2)=\"GF\",Template!$K$684,\"\")","v":""},{"$f":"IF(Template!$S$684<>\"\",Template!$S$684,\"\")","v":""},null,null,null,null,{"$f":"IF(Template!$L$684<>\"\",Template!$L$684,\"\")","v":""},"BYU_Child",null,null,"USD",null,732.07,null,null,null,{"$f":"IF(Template!$O$684<>\"\",Template!$O$684,\"\")","v":""}]
[null,{"$f":"Template!$H$685","v":0},{"$error":"#REF!"},"Calendar_Year_Mar",{"$f":"IF(LEFT(Template!$K$685,2)=\"CC\",Template!$K$685,\"\")","v":""},{"$f":"IF(LEFT(Template!$M$685,2)=\"RC\",Template!$M$685,\"\")","v":""},{"$f":"IF(LEFT(Template!$M$685,2)=\"SC\",Template!$M$685,\"\")","v":""},{"$f":"IF(LEFT(Template!$K$685,2)=\"AC\",Template!$K$685,\"\")","v":""},{"$f":"IF(OR(LEFT(Template!$K$685,2)=\"PJ\", LEFT(Template!$K$685,2)=\"PR\"),Template!$K$685,\"\")","v":""},{"$f":"IF(LEFT(Template!$K$685,2)=\"GF\",Template!$K$685,\"\")","v":""},{"$f":"IF(Template!$S$685<>\"\",Template!$S$685,\"\")","v":""},null,null,null,null,{"$f":"IF(Template!$L$685<>\"\",Template!$L$685,\"\")","v":""},"BYU_Child",null,null,"USD",null,14618.05,null,null,null,{"$f":"IF(Template!$O$685<>\"\",Template!$O$685,\"\")","v":""}]
[null,{"$f":"Template!$H$686","v":0},{"$error":"#REF!"},"Calendar_Year_Mar",{"$f":"IF(LEFT(Template!$K$686,2)=\"CC\",Template!$K$686,\"\")","v":""},{"$f":"IF(LEFT(Template!$M$686,2)=\"RC\",Template!$M$686,\"\")","v":""},{"$f":"IF(LEFT(Template!$M$686,2)=\"SC\",Template!$M$686,\"\")","v":""},{"$f":"IF(LEFT(Template!$K$686,2)=\"AC\",Template!$K$686,\"\")","v":""},{"$f":"IF(OR(LEFT(Template!$K$686,2)=\"PJ\", LEFT(Template!$K$686,2)=\"PR\"),Template!$K$686,\"\")","v":""},{"$f":"IF(LEFT(Template!$K$686,2)=\"GF\",Template!$K$686,\"\")","v":""},{"$f":"IF(Template!$S$686<>\"\",Template!$S$686,\"\")","v":""},null,null,null,null,{"$f":"IF(Template!$L$686<>\"\",Template!$L$686,\"\")","v":""},"BYU_Child",null,null,"USD",null,12701.67,null,null,null,{"$f":"IF(Template!$O$686<>\"\",Template!$O$686,\"\")","v":""}]
[null,{"$f":"Template!$H$687","v":0},{"$error":"#REF!"},"Calendar_Year_Mar",{"$f":"IF(LEFT(Template!$K$687,2)=\"CC\",Template!$K$687,\"\")","v":""},{"$f":"IF(LEFT(Template!$M$687,2)=\"RC\",Template!$M$687,\"\")","v":""},{"$f":"IF(LEFT(Template!$M$687,2)=\"SC\",Template!$M$687,\"\")","v":""},{"$f":"IF(LEFT(Template!$K$687,2)=\"AC\",Template!$K$687,\"\")","v":""},{"$f":"IF(OR(LEFT(Template!$K$687,2)=\"PJ\", LEFT(Template!$K$687,2)=\"PR\"),Template!$K$687,\"\")","v":""},{"$f":"IF(LEFT(Template!$K$687,2)=\"GF\",Template!$K$687,\"\")","v":""},{"$f":"IF(Template!$S$687<>\"\",Template!$S$687,\"\")","v":""},null,null,null,null,{"$f":"IF(Template!$L$687<>\"\",Template!$L$687,\"\")","v":""},"BYU_Child",null,null,"USD",null,2109.25,null,null,null,{"$f":"IF(Template!$O$687<>\"\",Template!$O$687,\"\")","v":""}]
[null,{"$f":"Template!$H$688","v":0},{"$error":"#REF!"},"Calendar_Year_Mar",{"$f":"IF(LEFT(Template!$K$688,2)=\"CC\",Template!$K$688,\"\")","v":""},{"$f":"IF(LEFT(Template!$M$688,2)=\"RC\",Template!$M$688,\"\")","v":""},{"$f":"IF(LEFT(Template!$M$688,2)=\"SC\",Template!$M$688,\"\")","v":""},{"$f":"IF(LEFT(Template!$K$688,2)=\"AC\",Template!$K$688,\"\")","v":""},{"$f":"IF(OR(LEFT(Template!$K$688,2)=\"PJ\", LEFT(Template!$K$688,2)=\"PR\"),Template!$K$688,\"\")","v":""},{"$f":"IF(LEFT(Template!$K$688,2)=\"GF\",Template!$K$688,\"\")","v":""},{"$f":"IF(Template!$S$688<>\"\",Template!$S$688,\"\")","v":""},null,null,null,null,{"$f":"IF(Template!$L$688<>\"\",Template!$L$688,\"\")","v":""},"BYU_Child",null,null,"USD",null,null,17427.900000000001,null,null,{"$f":"IF(Template!$O$688<>\"\",Template!$O$688,\"\")","v":""}]
[null,{"$f":"Template!$H$689","v":0},{"$error":"#REF!"},"Calendar_Year_Mar",{"$f":"IF(LEFT(Template!$K$689,2)=\"CC\",Template!$K$689,\"\")","v":""},{"$f":"IF(LEFT(Template!$M$689,2)=\"RC\",Template!$M$689,\"\")","v":""},{"$f":"IF(LEFT(Template!$M$689,2)=\"SC\",Template!$M$689,\"\")","v":""},{"$f":"IF(LEFT(Template!$K$689,2)=\"AC\",Template!$K$689,\"\")","v":""},{"$f":"IF(OR(LEFT(Template!$K$689,2)=\"PJ\", LEFT(Template!$K$689,2)=\"PR\"),Template!$K$689,\"\")","v":""},{"$f":"IF(LEFT(Template!$K$689,2)=\"GF\",Template!$K$689,\"\")","v":""},{"$f":"IF(Template!$S$689<>\"\",Template!$S$689,\"\")","v":""},null,null,null,null,{"$f":"IF(Template!$L$689<>\"\",Template!$L$689,\"\")","v":""},"BYU_Child",null,null,"USD",null,4371.47,null,null,null,{"$f":"IF(Template!$O$689<>\"\",Template!$O$689,\"\")","v":""}]
[null,{"$f":"Template!$H$690","v":0},{"$f":"IF(B583=B582,C582+1,1)","v":{"$error":"#REF!"}},"Calendar_Year_Mar",{"$f":"IF(LEFT(Template!$K$690,2)=\"CC\",Template!$K$690,\"\")","v":""},{"$f":"IF(LEFT(Template!$M$690,2)=\"RC\",Template!$M$690,\"\")","v":""},{"$f":"IF(LEFT(Template!$M$690,2)=\"SC\",Template!$M$690,\"\")","v":""},{"$f":"IF(LEFT(Template!$K$690,2)=\"AC\",Template!$K$690,\"\")","v":""},{"$f":"IF(OR(LEFT(Template!$K$690,2)=\"PJ\", LEFT(Template!$K$690,2)=\"PR\"),Template!$K$690,\"\")","v":""},{"$f":"IF(LEFT(Template!$K$690,2)=\"GF\",Template!$K$690,\"\")","v":""},{"$f":"IF(Template!$S$690<>\"\",Template!$S$690,\"\")","v":""},null,null,null,null,{"$f":"IF(Template!$L$690<>\"\",Template!$L$690,\"\")","v":""},"BYU_Child",null,null,"USD",null,2922.18,null,null,null,{"$f":"IF(Template!$O$690<>\"\",Template!$O$690,\"\")","v":""}]
[null,{"$f":"Template!$H$691","v":0},{"$error":"#REF!"},"Calendar_Year_Mar",{"$f":"IF(LEFT(Template!$K$691,2)=\"CC\",Template!$K$691,\"\")","v":""},{"$f":"IF(LEFT(Template!$M$691,2)=\"RC\",Template!$M$691,\"\")","v":""},{"$f":"IF(LEFT(Template!$M$691,2)=\"SC\",Template!$M$691,\"\")","v":""},{"$f":"IF(LEFT(Template!$K$691,2)=\"AC\",Template!$K$691,\"\")","v":""},{"$f":"IF(OR(LEFT(Template!$K$691,2)=\"PJ\", LEFT(Template!$K$691,2)=\"PR\"),Template!$K$691,\"\")","v":""},{"$f":"IF(LEFT(Template!$K$691,2)=\"GF\",Template!$K$691,\"\")","v":""},{"$f":"IF(Template!$S$691<>\"\",Template!$S$691,\"\")","v":""},null,null,null,null,{"$f":"IF(Template!$L$691<>\"\",Template!$L$691,\"\")","v":""},"BYU_Child",null,null,"USD",null,9032.7000000000007,null,null,null,{"$f":"IF(Template!$O$691<>\"\",Template!$O$691,\"\")","v":""}]
[null,{"$f":"Template!$H$692","v":0},{"$error":"#REF!"},"Calendar_Year_Mar",{"$f":"IF(LEFT(Template!$K$692,2)=\"CC\",Template!$K$692,\"\")","v":""},{"$f":"IF(LEFT(Template!$M$692,2)=\"RC\",Template!$M$692,\"\")","v":""},{"$f":"IF(LEFT(Template!$M$692,2)=\"SC\",Template!$M$692,\"\")","v":""},{"$f":"IF(LEFT(Template!$K$692,2)=\"AC\",Template!$K$692,\"\")","v":""},{"$f":"IF(OR(LEFT(Template!$K$692,2)=\"PJ\", LEFT(Template!$K$692,2)=\"PR\"),Template!$K$692,\"\")","v":""},{"$f":"IF(LEFT(Template!$K$692,2)=\"GF\",Template!$K$692,\"\")","v":""},{"$f":"IF(Template!$S$692<>\"\",Template!$S$692,\"\")","v":""},null,null,null,null,{"$f":"IF(Template!$L$692<>\"\",Template!$L$692,\"\")","v":""},"BYU_Child",null,null,"USD",null,28577.32,null,null,null,{"$f":"IF(Template!$O$692<>\"\",Template!$O$692,\"\")","v":""}]
[null,{"$f":"Template!$H$693","v":0},{"$error":"#REF!"},"Calendar_Year_Mar",{"$f":"IF(LEFT(Template!$K$693,2)=\"CC\",Template!$K$693,\"\")","v":""},{"$f":"IF(LEFT(Template!$M$693,2)=\"RC\",Template!$M$693,\"\")","v":""},{"$f":"IF(LEFT(Template!$M$693,2)=\"SC\",Template!$M$693,\"\")","v":""},{"$f":"IF(LEFT(Template!$K$693,2)=\"AC\",Template!$K$693,\"\")","v":""},{"$f":"IF(OR(LEFT(Template!$K$693,2)=\"PJ\", LEFT(Template!$K$693,2)=\"PR\"),Template!$K$693,\"\")","v":""},{"$f":"IF(LEFT(Template!$K$693,2)=\"GF\",Template!$K$693,\"\")","v":""},{"$f":"IF(Template!$S$693<>\"\",Template!$S$693,\"\")","v":""},null,null,null,null,{"$f":"IF(Template!$L$693<>\"\",Template!$L$693,\"\")","v":""},"BYU_Child",null,null,"USD",null,5539.98,null,null,null,{"$f":"IF(Template!$O$693<>\"\",Template!$O$693,\"\")","v":""}]
[null,{"$f":"Template!$H$694","v":0},{"$error":"#REF!"},"Calendar_Year_Mar",{"$f":"IF(LEFT(Template!$K$694,2)=\"CC\",Template!$K$694,\"\")","v":""},{"$f":"IF(LEFT(Template!$M$694,2)=\"RC\",Template!$M$694,\"\")","v":""},{"$f":"IF(LEFT(Template!$M$694,2)=\"SC\",Template!$M$694,\"\")","v":""},{"$f":"IF(LEFT(Template!$K$694,2)=\"AC\",Template!$K$694,\"\")","v":""},{"$f":"IF(OR(LEFT(Template!$K$694,2)=\"PJ\", LEFT(Template!$K$694,2)=\"PR\"),Template!$K$694,\"\")","v":""},{"$f":"IF(LEFT(Template!$K$694,2)=\"GF\",Template!$K$694,\"\")","v":""},{"$f":"IF(Template!$S$694<>\"\",Template!$S$694,\"\")","v":""},null,null,null,null,{"$f":"IF(Template!$L$694<>\"\",Template!$L$694,\"\")","v":""},"BYU_Child",null,null,"USD",null,30297.97,null,null,null,{"$f":"IF(Template!$O$694<>\"\",Template!$O$694,\"\")","v":""}]
[null,{"$f":"Template!$H$695","v":0},{"$error":"#REF!"},"Calendar_Year_Mar",{"$f":"IF(LEFT(Template!$K$695,2)=\"CC\",Template!$K$695,\"\")","v":""},{"$f":"IF(LEFT(Template!$M$695,2)=\"RC\",Template!$M$695,\"\")","v":""},{"$f":"IF(LEFT(Template!$M$695,2)=\"SC\",Template!$M$695,\"\")","v":""},{"$f":"IF(LEFT(Template!$K$695,2)=\"AC\",Template!$K$695,\"\")","v":""},{"$f":"IF(OR(LEFT(Template!$K$695,2)=\"PJ\", LEFT(Template!$K$695,2)=\"PR\"),Template!$K$695,\"\")","v":""},{"$f":"IF(LEFT(Template!$K$695,2)=\"GF\",Template!$K$695,\"\")","v":""},{"$f":"IF(Template!$S$695<>\"\",Template!$S$695,\"\")","v":""},null,null,null,null,{"$f":"IF(Template!$L$695<>\"\",Template!$L$695,\"\")","v":""},"BYU_Child",null,null,"USD",null,2835.64,null,null,null,{"$f":"IF(Template!$O$695<>\"\",Template!$O$695,\"\")","v":""}]
[null,{"$f":"Template!$H$696","v":0},{"$error":"#REF!"},"Calendar_Year_Mar",{"$f":"IF(LEFT(Template!$K$696,2)=\"CC\",Template!$K$696,\"\")","v":""},{"$f":"IF(LEFT(Template!$M$696,2)=\"RC\",Template!$M$696,\"\")","v":""},{"$f":"IF(LEFT(Template!$M$696,2)=\"SC\",Template!$M$696,\"\")","v":""},{"$f":"IF(LEFT(Template!$K$696,2)=\"AC\",Template!$K$696,\"\")","v":""},{"$f":"IF(OR(LEFT(Template!$K$696,2)=\"PJ\", LEFT(Template!$K$696,2)=\"PR\"),Template!$K$696,\"\")","v":""},{"$f":"IF(LEFT(Template!$K$696,2)=\"GF\",Template!$K$696,\"\")","v":""},{"$f":"IF(Template!$S$696<>\"\",Template!$S$696,\"\")","v":""},null,null,null,null,{"$f":"IF(Template!$L$696<>\"\",Template!$L$696,\"\")","v":""},"BYU_Child",null,null,"USD",null,2479.67,null,null,null,{"$f":"IF(Template!$O$696<>\"\",Template!$O$696,\"\")","v":""}]
[null,{"$f":"Template!$H$697","v":0},{"$error":"#REF!"},"Calendar_Year_Mar",{"$f":"IF(LEFT(Template!$K$697,2)=\"CC\",Template!$K$697,\"\")","v":""},{"$f":"IF(LEFT(Template!$M$697,2)=\"RC\",Template!$M$697,\"\")","v":""},{"$f":"IF(LEFT(Template!$M$697,2)=\"SC\",Template!$M$697,\"\")","v":""},{"$f":"IF(LEFT(Template!$K$697,2)=\"AC\",Template!$K$697,\"\")","v":""},{"$f":"IF(OR(LEFT(Template!$K$697,2)=\"PJ\", LEFT(Template!$K$697,2)=\"PR\"),Template!$K$697,\"\")","v":""},{"$f":"IF(LEFT(Template!$K$697,2)=\"GF\",Template!$K$697,\"\")","v":""},{"$f":"IF(Template!$S$697<>\"\",Template!$S$697,\"\")","v":""},null,null,null,null,{"$f":"IF(Template!$L$697<>\"\",Template!$L$697,\"\")","v":""},"BYU_Child",null,null,"USD",null,734.11,null,null,null,{"$f":"IF(Template!$O$697<>\"\",Template!$O$697,\"\")","v":""}]
[null,{"$f":"Template!$H$698","v":0},{"$error":"#REF!"},"Calendar_Year_Mar",{"$f":"IF(LEFT(Template!$K$698,2)=\"CC\",Template!$K$698,\"\")","v":""},{"$f":"IF(LEFT(Template!$M$698,2)=\"RC\",Template!$M$698,\"\")","v":""},{"$f":"IF(LEFT(Template!$M$698,2)=\"SC\",Template!$M$698,\"\")","v":""},{"$f":"IF(LEFT(Template!$K$698,2)=\"AC\",Template!$K$698,\"\")","v":""},{"$f":"IF(OR(LEFT(Template!$K$698,2)=\"PJ\", LEFT(Template!$K$698,2)=\"PR\"),Template!$K$698,\"\")","v":""},{"$f":"IF(LEFT(Template!$K$698,2)=\"GF\",Template!$K$698,\"\")","v":""},{"$f":"IF(Template!$S$698<>\"\",Template!$S$698,\"\")","v":""},null,null,null,null,{"$f":"IF(Template!$L$698<>\"\",Template!$L$698,\"\")","v":""},"BYU_Child",null,null,"USD",null,6607.16,null,null,null,{"$f":"IF(Template!$O$698<>\"\",Template!$O$698,\"\")","v":""}]
[null,{"$f":"Template!$H$699","v":0},{"$error":"#REF!"},"Calendar_Year_Mar",{"$f":"IF(LEFT(Template!$K$699,2)=\"CC\",Template!$K$699,\"\")","v":""},{"$f":"IF(LEFT(Template!$M$699,2)=\"RC\",Template!$M$699,\"\")","v":""},{"$f":"IF(LEFT(Template!$M$699,2)=\"SC\",Template!$M$699,\"\")","v":""},{"$f":"IF(LEFT(Template!$K$699,2)=\"AC\",Template!$K$699,\"\")","v":""},{"$f":"IF(OR(LEFT(Template!$K$699,2)=\"PJ\", LEFT(Template!$K$699,2)=\"PR\"),Template!$K$699,\"\")","v":""},{"$f":"IF(LEFT(Template!$K$699,2)=\"GF\",Template!$K$699,\"\")","v":""},{"$f":"IF(Template!$S$699<>\"\",Template!$S$699,\"\")","v":""},null,null,null,null,{"$f":"IF(Template!$L$699<>\"\",Template!$L$699,\"\")","v":""},"BYU_Child",null,null,"USD",null,2025.37,null,null,null,{"$f":"IF(Template!$O$699<>\"\",Template!$O$699,\"\")","v":""}]
[null,{"$f":"Template!$H$700","v":0},{"$error":"#REF!"},"Calendar_Year_Mar",{"$f":"IF(LEFT(Template!$K$700,2)=\"CC\",Template!$K$700,\"\")","v":""},{"$f":"IF(LEFT(Template!$M$700,2)=\"RC\",Template!$M$700,\"\")","v":""},{"$f":"IF(LEFT(Template!$M$700,2)=\"SC\",Template!$M$700,\"\")","v":""},{"$f":"IF(LEFT(Template!$K$700,2)=\"AC\",Template!$K$700,\"\")","v":""},{"$f":"IF(OR(LEFT(Template!$K$700,2)=\"PJ\", LEFT(Template!$K$700,2)=\"PR\"),Template!$K$700,\"\")","v":""},{"$f":"IF(LEFT(Template!$K$700,2)=\"GF\",Template!$K$700,\"\")","v":""},{"$f":"IF(Template!$S$700<>\"\",Template!$S$700,\"\")","v":""},null,null,null,null,{"$f":"IF(Template!$L$700<>\"\",Template!$L$700,\"\")","v":""},"BYU_Child",null,null,"USD",null,12951.87,null,null,null,{"$f":"IF(Template!$O$700<>\"\",Template!$O$700,\"\")","v":""}]
[null,{"$f":"Template!$H$701","v":0},{"$error":"#REF!"},"Calendar_Year_Mar",{"$f":"IF(LEFT(Template!$K$701,2)=\"CC\",Template!$K$701,\"\")","v":""},{"$f":"IF(LEFT(Template!$M$701,2)=\"RC\",Template!$M$701,\"\")","v":""},{"$f":"IF(LEFT(Template!$M$701,2)=\"SC\",Template!$M$701,\"\")","v":""},{"$f":"IF(LEFT(Template!$K$701,2)=\"AC\",Template!$K$701,\"\")","v":""},{"$f":"IF(OR(LEFT(Template!$K$701,2)=\"PJ\", LEFT(Template!$K$701,2)=\"PR\"),Template!$K$701,\"\")","v":""},{"$f":"IF(LEFT(Template!$K$701,2)=\"GF\",Template!$K$701,\"\")","v":""},{"$f":"IF(Template!$S$701<>\"\",Template!$S$701,\"\")","v":""},null,null,null,null,{"$f":"IF(Template!$L$701<>\"\",Template!$L$701,\"\")","v":""},"BYU_Child",null,null,"USD",null,5445.81,null,null,null,{"$f":"IF(Template!$O$701<>\"\",Template!$O$701,\"\")","v":""}]
[null,{"$f":"Template!$H$702","v":0},{"$error":"#REF!"},"Calendar_Year_Mar",{"$f":"IF(LEFT(Template!$K$702,2)=\"CC\",Template!$K$702,\"\")","v":""},{"$f":"IF(LEFT(Template!$M$702,2)=\"RC\",Template!$M$702,\"\")","v":""},{"$f":"IF(LEFT(Template!$M$702,2)=\"SC\",Template!$M$702,\"\")","v":""},{"$f":"IF(LEFT(Template!$K$702,2)=\"AC\",Template!$K$702,\"\")","v":""},{"$f":"IF(OR(LEFT(Template!$K$702,2)=\"PJ\", LEFT(Template!$K$702,2)=\"PR\"),Template!$K$702,\"\")","v":""},{"$f":"IF(LEFT(Template!$K$702,2)=\"GF\",Template!$K$702,\"\")","v":""},{"$f":"IF(Template!$S$702<>\"\",Template!$S$702,\"\")","v":""},null,null,null,null,{"$f":"IF(Template!$L$702<>\"\",Template!$L$702,\"\")","v":""},"BYU_Child",null,null,"USD",null,17884.150000000001,null,null,null,{"$f":"IF(Template!$O$702<>\"\",Template!$O$702,\"\")","v":""}]
[null,{"$f":"Template!$H$703","v":0},{"$error":"#REF!"},"Calendar_Year_Mar",{"$f":"IF(LEFT(Template!$K$703,2)=\"CC\",Template!$K$703,\"\")","v":""},{"$f":"IF(LEFT(Template!$M$703,2)=\"RC\",Template!$M$703,\"\")","v":""},{"$f":"IF(LEFT(Template!$M$703,2)=\"SC\",Template!$M$703,\"\")","v":""},{"$f":"IF(LEFT(Template!$K$703,2)=\"AC\",Template!$K$703,\"\")","v":""},{"$f":"IF(OR(LEFT(Template!$K$703,2)=\"PJ\", LEFT(Template!$K$703,2)=\"PR\"),Template!$K$703,\"\")","v":""},{"$f":"IF(LEFT(Template!$K$703,2)=\"GF\",Template!$K$703,\"\")","v":""},{"$f":"IF(Template!$S$703<>\"\",Template!$S$703,\"\")","v":""},null,null,null,null,{"$f":"IF(Template!$L$703<>\"\",Template!$L$703,\"\")","v":""},"BYU_Child",null,null,"USD",null,11572.11,null,null,null,{"$f":"IF(Template!$O$703<>\"\",Template!$O$703,\"\")","v":""}]
[null,{"$f":"Template!$H$704","v":0},{"$error":"#REF!"},"Calendar_Year_Mar",{"$f":"IF(LEFT(Template!$K$704,2)=\"CC\",Template!$K$704,\"\")","v":""},{"$f":"IF(LEFT(Template!$M$704,2)=\"RC\",Template!$M$704,\"\")","v":""},{"$f":"IF(LEFT(Template!$M$704,2)=\"SC\",Template!$M$704,\"\")","v":""},{"$f":"IF(LEFT(Template!$K$704,2)=\"AC\",Template!$K$704,\"\")","v":""},{"$f":"IF(OR(LEFT(Template!$K$704,2)=\"PJ\", LEFT(Template!$K$704,2)=\"PR\"),Template!$K$704,\"\")","v":""},{"$f":"IF(LEFT(Template!$K$704,2)=\"GF\",Template!$K$704,\"\")","v":""},{"$f":"IF(Template!$S$704<>\"\",Template!$S$704,\"\")","v":""},null,null,null,null,{"$f":"IF(Template!$L$704<>\"\",Template!$L$704,\"\")","v":""},"BYU_Child",null,null,"USD",null,19356.099999999999,null,null,null,{"$f":"IF(Template!$O$704<>\"\",Template!$O$704,\"\")","v":""}]
[null,{"$f":"Template!$H$705","v":0},{"$error":"#REF!"},"Calendar_Year_Mar",{"$f":"IF(LEFT(Template!$K$705,2)=\"CC\",Template!$K$705,\"\")","v":""},{"$f":"IF(LEFT(Template!$M$705,2)=\"RC\",Template!$M$705,\"\")","v":""},{"$f":"IF(LEFT(Template!$M$705,2)=\"SC\",Template!$M$705,\"\")","v":""},{"$f":"IF(LEFT(Template!$K$705,2)=\"AC\",Template!$K$705,\"\")","v":""},{"$f":"IF(OR(LEFT(Template!$K$705,2)=\"PJ\", LEFT(Template!$K$705,2)=\"PR\"),Template!$K$705,\"\")","v":""},{"$f":"IF(LEFT(Template!$K$705,2)=\"GF\",Template!$K$705,\"\")","v":""},{"$f":"IF(Template!$S$705<>\"\",Template!$S$705,\"\")","v":""},null,null,null,null,{"$f":"IF(Template!$L$705<>\"\",Template!$L$705,\"\")","v":""},"BYU_Child",null,null,"USD",null,4837.8100000000004,null,null,null,{"$f":"IF(Template!$O$705<>\"\",Template!$O$705,\"\")","v":""}]
[null,{"$f":"Template!$H$706","v":0},{"$error":"#REF!"},"Calendar_Year_Mar",{"$f":"IF(LEFT(Template!$K$706,2)=\"CC\",Template!$K$706,\"\")","v":""},{"$f":"IF(LEFT(Template!$M$706,2)=\"RC\",Template!$M$706,\"\")","v":""},{"$f":"IF(LEFT(Template!$M$706,2)=\"SC\",Template!$M$706,\"\")","v":""},{"$f":"IF(LEFT(Template!$K$706,2)=\"AC\",Template!$K$706,\"\")","v":""},{"$f":"IF(OR(LEFT(Template!$K$706,2)=\"PJ\", LEFT(Template!$K$706,2)=\"PR\"),Template!$K$706,\"\")","v":""},{"$f":"IF(LEFT(Template!$K$706,2)=\"GF\",Template!$K$706,\"\")","v":""},{"$f":"IF(Template!$S$706<>\"\",Template!$S$706,\"\")","v":""},null,null,null,null,{"$f":"IF(Template!$L$706<>\"\",Template!$L$706,\"\")","v":""},"BYU_Child",null,null,"USD",null,24.42,null,null,null,{"$f":"IF(Template!$O$706<>\"\",Template!$O$706,\"\")","v":""}]
[null,{"$f":"Template!$H$707","v":0},{"$error":"#REF!"},"Calendar_Year_Mar",{"$f":"IF(LEFT(Template!$K$707,2)=\"CC\",Template!$K$707,\"\")","v":""},{"$f":"IF(LEFT(Template!$M$707,2)=\"RC\",Template!$M$707,\"\")","v":""},{"$f":"IF(LEFT(Template!$M$707,2)=\"SC\",Template!$M$707,\"\")","v":""},{"$f":"IF(LEFT(Template!$K$707,2)=\"AC\",Template!$K$707,\"\")","v":""},{"$f":"IF(OR(LEFT(Template!$K$707,2)=\"PJ\", LEFT(Template!$K$707,2)=\"PR\"),Template!$K$707,\"\")","v":""},{"$f":"IF(LEFT(Template!$K$707,2)=\"GF\",Template!$K$707,\"\")","v":""},{"$f":"IF(Template!$S$707<>\"\",Template!$S$707,\"\")","v":""},null,null,null,null,{"$f":"IF(Template!$L$707<>\"\",Template!$L$707,\"\")","v":""},"BYU_Child",null,null,"USD",null,549.5,null,null,null,{"$f":"IF(Template!$O$707<>\"\",Template!$O$707,\"\")","v":""}]
[null,{"$f":"Template!$H$708","v":0},{"$error":"#REF!"},"Calendar_Year_Mar",{"$f":"IF(LEFT(Template!$K$708,2)=\"CC\",Template!$K$708,\"\")","v":""},{"$f":"IF(LEFT(Template!$M$708,2)=\"RC\",Template!$M$708,\"\")","v":""},{"$f":"IF(LEFT(Template!$M$708,2)=\"SC\",Template!$M$708,\"\")","v":""},{"$f":"IF(LEFT(Template!$K$708,2)=\"AC\",Template!$K$708,\"\")","v":""},{"$f":"IF(OR(LEFT(Template!$K$708,2)=\"PJ\", LEFT(Template!$K$708,2)=\"PR\"),Template!$K$708,\"\")","v":""},{"$f":"IF(LEFT(Template!$K$708,2)=\"GF\",Template!$K$708,\"\")","v":""},{"$f":"IF(Template!$S$708<>\"\",Template!$S$708,\"\")","v":""},null,null,null,null,{"$f":"IF(Template!$L$708<>\"\",Template!$L$708,\"\")","v":""},"BYU_Child",null,null,"USD",null,51166.239999999998,null,null,null,{"$f":"IF(Template!$O$708<>\"\",Template!$O$708,\"\")","v":""}]
[null,{"$f":"Template!$H$709","v":0},{"$error":"#REF!"},"Calendar_Year_Mar",{"$f":"IF(LEFT(Template!$K$709,2)=\"CC\",Template!$K$709,\"\")","v":""},{"$f":"IF(LEFT(Template!$M$709,2)=\"RC\",Template!$M$709,\"\")","v":""},{"$f":"IF(LEFT(Template!$M$709,2)=\"SC\",Template!$M$709,\"\")","v":""},{"$f":"IF(LEFT(Template!$K$709,2)=\"AC\",Template!$K$709,\"\")","v":""},{"$f":"IF(OR(LEFT(Template!$K$709,2)=\"PJ\", LEFT(Template!$K$709,2)=\"PR\"),Template!$K$709,\"\")","v":""},{"$f":"IF(LEFT(Template!$K$709,2)=\"GF\",Template!$K$709,\"\")","v":""},{"$f":"IF(Template!$S$709<>\"\",Template!$S$709,\"\")","v":""},null,null,null,null,{"$f":"IF(Template!$L$709<>\"\",Template!$L$709,\"\")","v":""},"BYU_Child",null,null,"USD",null,2.4700000000000002,null,null,null,{"$f":"IF(Template!$O$709<>\"\",Template!$O$709,\"\")","v":""}]
[null,{"$f":"Template!$H$710","v":0},{"$error":"#REF!"},"Calendar_Year_Mar",{"$f":"IF(LEFT(Template!$K$710,2)=\"CC\",Template!$K$710,\"\")","v":""},{"$f":"IF(LEFT(Template!$M$710,2)=\"RC\",Template!$M$710,\"\")","v":""},{"$f":"IF(LEFT(Template!$M$710,2)=\"SC\",Template!$M$710,\"\")","v":""},{"$f":"IF(LEFT(Template!$K$710,2)=\"AC\",Template!$K$710,\"\")","v":""},{"$f":"IF(OR(LEFT(Template!$K$710,2)=\"PJ\", LEFT(Template!$K$710,2)=\"PR\"),Template!$K$710,\"\")","v":""},{"$f":"IF(LEFT(Template!$K$710,2)=\"GF\",Template!$K$710,\"\")","v":""},{"$f":"IF(Template!$S$710<>\"\",Template!$S$710,\"\")","v":""},null,null,null,null,{"$f":"IF(Template!$L$710<>\"\",Template!$L$710,\"\")","v":""},"BYU_Child",null,null,"USD",null,17679.29,null,null,null,{"$f":"IF(Template!$O$710<>\"\",Template!$O$710,\"\")","v":""}]
[null,{"$f":"Template!$H$711","v":0},{"$error":"#REF!"},"Calendar_Year_Mar",{"$f":"IF(LEFT(Template!$K$711,2)=\"CC\",Template!$K$711,\"\")","v":""},{"$f":"IF(LEFT(Template!$M$711,2)=\"RC\",Template!$M$711,\"\")","v":""},{"$f":"IF(LEFT(Template!$M$711,2)=\"SC\",Template!$M$711,\"\")","v":""},{"$f":"IF(LEFT(Template!$K$711,2)=\"AC\",Template!$K$711,\"\")","v":""},{"$f":"IF(OR(LEFT(Template!$K$711,2)=\"PJ\", LEFT(Template!$K$711,2)=\"PR\"),Template!$K$711,\"\")","v":""},{"$f":"IF(LEFT(Template!$K$711,2)=\"GF\",Template!$K$711,\"\")","v":""},{"$f":"IF(Template!$S$711<>\"\",Template!$S$711,\"\")","v":""},null,null,null,null,{"$f":"IF(Template!$L$711<>\"\",Template!$L$711,\"\")","v":""},"BYU_Child",null,null,"USD",null,598.42999999999995,null,null,null,{"$f":"IF(Template!$O$711<>\"\",Template!$O$711,\"\")","v":""}]
[null,{"$f":"Template!$H$712","v":0},{"$error":"#REF!"},"Calendar_Year_Mar",{"$f":"IF(LEFT(Template!$K$712,2)=\"CC\",Template!$K$712,\"\")","v":""},{"$f":"IF(LEFT(Template!$M$712,2)=\"RC\",Template!$M$712,\"\")","v":""},{"$f":"IF(LEFT(Template!$M$712,2)=\"SC\",Template!$M$712,\"\")","v":""},{"$f":"IF(LEFT(Template!$K$712,2)=\"AC\",Template!$K$712,\"\")","v":""},{"$f":"IF(OR(LEFT(Template!$K$712,2)=\"PJ\", LEFT(Template!$K$712,2)=\"PR\"),Template!$K$712,\"\")","v":""},{"$f":"IF(LEFT(Template!$K$712,2)=\"GF\",Template!$K$712,\"\")","v":""},{"$f":"IF(Template!$S$712<>\"\",Template!$S$712,\"\")","v":""},null,null,null,null,{"$f":"IF(Template!$L$712<>\"\",Template!$L$712,\"\")","v":""},"BYU_Child",null,null,"USD",null,9898.49,null,null,null,{"$f":"IF(Template!$O$712<>\"\",Template!$O$712,\"\")","v":""}]
[null,{"$f":"Template!$H$713","v":0},{"$error":"#REF!"},"Calendar_Year_Mar",{"$f":"IF(LEFT(Template!$K$713,2)=\"CC\",Template!$K$713,\"\")","v":""},{"$f":"IF(LEFT(Template!$M$713,2)=\"RC\",Template!$M$713,\"\")","v":""},{"$f":"IF(LEFT(Template!$M$713,2)=\"SC\",Template!$M$713,\"\")","v":""},{"$f":"IF(LEFT(Template!$K$713,2)=\"AC\",Template!$K$713,\"\")","v":""},{"$f":"IF(OR(LEFT(Template!$K$713,2)=\"PJ\", LEFT(Template!$K$713,2)=\"PR\"),Template!$K$713,\"\")","v":""},{"$f":"IF(LEFT(Template!$K$713,2)=\"GF\",Template!$K$713,\"\")","v":""},{"$f":"IF(Template!$S$713<>\"\",Template!$S$713,\"\")","v":""},null,null,null,null,{"$f":"IF(Template!$L$713<>\"\",Template!$L$713,\"\")","v":""},"BYU_Child",null,null,"USD",null,690.32,null,null,null,{"$f":"IF(Template!$O$713<>\"\",Template!$O$713,\"\")","v":""}]
[null,{"$f":"Template!$H$714","v":0},{"$error":"#REF!"},"Calendar_Year_Mar",{"$f":"IF(LEFT(Template!$K$714,2)=\"CC\",Template!$K$714,\"\")","v":""},{"$f":"IF(LEFT(Template!$M$714,2)=\"RC\",Template!$M$714,\"\")","v":""},{"$f":"IF(LEFT(Template!$M$714,2)=\"SC\",Template!$M$714,\"\")","v":""},{"$f":"IF(LEFT(Template!$K$714,2)=\"AC\",Template!$K$714,\"\")","v":""},{"$f":"IF(OR(LEFT(Template!$K$714,2)=\"PJ\", LEFT(Template!$K$714,2)=\"PR\"),Template!$K$714,\"\")","v":""},{"$f":"IF(LEFT(Template!$K$714,2)=\"GF\",Template!$K$714,\"\")","v":""},{"$f":"IF(Template!$S$714<>\"\",Template!$S$714,\"\")","v":""},null,null,null,null,{"$f":"IF(Template!$L$714<>\"\",Template!$L$714,\"\")","v":""},"BYU_Child",null,null,"USD",null,3701.93,null,null,null,{"$f":"IF(Template!$O$714<>\"\",Template!$O$714,\"\")","v":""}]
[null,{"$f":"Template!$H$715","v":0},{"$error":"#REF!"},"Calendar_Year_Mar",{"$f":"IF(LEFT(Template!$K$715,2)=\"CC\",Template!$K$715,\"\")","v":""},{"$f":"IF(LEFT(Template!$M$715,2)=\"RC\",Template!$M$715,\"\")","v":""},{"$f":"IF(LEFT(Template!$M$715,2)=\"SC\",Template!$M$715,\"\")","v":""},{"$f":"IF(LEFT(Template!$K$715,2)=\"AC\",Template!$K$715,\"\")","v":""},{"$f":"IF(OR(LEFT(Template!$K$715,2)=\"PJ\", LEFT(Template!$K$715,2)=\"PR\"),Template!$K$715,\"\")","v":""},{"$f":"IF(LEFT(Template!$K$715,2)=\"GF\",Template!$K$715,\"\")","v":""},{"$f":"IF(Template!$S$715<>\"\",Template!$S$715,\"\")","v":""},null,null,null,null,{"$f":"IF(Template!$L$715<>\"\",Template!$L$715,\"\")","v":""},"BYU_Child",null,null,"USD",null,654.12,null,null,null,{"$f":"IF(Template!$O$715<>\"\",Template!$O$715,\"\")","v":""}]
[null,{"$f":"Template!$H$716","v":0},{"$error":"#REF!"},"Calendar_Year_Mar",{"$f":"IF(LEFT(Template!$K$716,2)=\"CC\",Template!$K$716,\"\")","v":""},{"$f":"IF(LEFT(Template!$M$716,2)=\"RC\",Template!$M$716,\"\")","v":""},{"$f":"IF(LEFT(Template!$M$716,2)=\"SC\",Template!$M$716,\"\")","v":""},{"$f":"IF(LEFT(Template!$K$716,2)=\"AC\",Template!$K$716,\"\")","v":""},{"$f":"IF(OR(LEFT(Template!$K$716,2)=\"PJ\", LEFT(Template!$K$716,2)=\"PR\"),Template!$K$716,\"\")","v":""},{"$f":"IF(LEFT(Template!$K$716,2)=\"GF\",Template!$K$716,\"\")","v":""},{"$f":"IF(Template!$S$716<>\"\",Template!$S$716,\"\")","v":""},null,null,null,null,{"$f":"IF(Template!$L$716<>\"\",Template!$L$716,\"\")","v":""},"BYU_Child",null,null,"USD",null,9066.9500000000007,null,null,null,{"$f":"IF(Template!$O$716<>\"\",Template!$O$716,\"\")","v":""}]
[null,{"$f":"Template!$H$717","v":0},{"$error":"#REF!"},"Calendar_Year_Mar",{"$f":"IF(LEFT(Template!$K$717,2)=\"CC\",Template!$K$717,\"\")","v":""},{"$f":"IF(LEFT(Template!$M$717,2)=\"RC\",Template!$M$717,\"\")","v":""},{"$f":"IF(LEFT(Template!$M$717,2)=\"SC\",Template!$M$717,\"\")","v":""},{"$f":"IF(LEFT(Template!$K$717,2)=\"AC\",Template!$K$717,\"\")","v":""},{"$f":"IF(OR(LEFT(Template!$K$717,2)=\"PJ\", LEFT(Template!$K$717,2)=\"PR\"),Template!$K$717,\"\")","v":""},{"$f":"IF(LEFT(Template!$K$717,2)=\"GF\",Template!$K$717,\"\")","v":""},{"$f":"IF(Template!$S$717<>\"\",Template!$S$717,\"\")","v":""},null,null,null,null,{"$f":"IF(Template!$L$717<>\"\",Template!$L$717,\"\")","v":""},"BYU_Child",null,null,"USD",null,5360.5,null,null,null,{"$f":"IF(Template!$O$717<>\"\",Template!$O$717,\"\")","v":""}]
[null,{"$f":"Template!$H$718","v":0},{"$error":"#REF!"},"Calendar_Year_Mar",{"$f":"IF(LEFT(Template!$K$718,2)=\"CC\",Template!$K$718,\"\")","v":""},{"$f":"IF(LEFT(Template!$M$718,2)=\"RC\",Template!$M$718,\"\")","v":""},{"$f":"IF(LEFT(Template!$M$718,2)=\"SC\",Template!$M$718,\"\")","v":""},{"$f":"IF(LEFT(Template!$K$718,2)=\"AC\",Template!$K$718,\"\")","v":""},{"$f":"IF(OR(LEFT(Template!$K$718,2)=\"PJ\", LEFT(Template!$K$718,2)=\"PR\"),Template!$K$718,\"\")","v":""},{"$f":"IF(LEFT(Template!$K$718,2)=\"GF\",Template!$K$718,\"\")","v":""},{"$f":"IF(Template!$S$718<>\"\",Template!$S$718,\"\")","v":""},null,null,null,null,{"$f":"IF(Template!$L$718<>\"\",Template!$L$718,\"\")","v":""},"BYU_Child",null,null,"USD",null,11187.35,null,null,null,{"$f":"IF(Template!$O$718<>\"\",Template!$O$718,\"\")","v":""}]
[null,{"$f":"Template!$H$719","v":0},{"$error":"#REF!"},"Calendar_Year_Mar",{"$f":"IF(LEFT(Template!$K$719,2)=\"CC\",Template!$K$719,\"\")","v":""},{"$f":"IF(LEFT(Template!$M$719,2)=\"RC\",Template!$M$719,\"\")","v":""},{"$f":"IF(LEFT(Template!$M$719,2)=\"SC\",Template!$M$719,\"\")","v":""},{"$f":"IF(LEFT(Template!$K$719,2)=\"AC\",Template!$K$719,\"\")","v":""},{"$f":"IF(OR(LEFT(Template!$K$719,2)=\"PJ\", LEFT(Template!$K$719,2)=\"PR\"),Template!$K$719,\"\")","v":""},{"$f":"IF(LEFT(Template!$K$719,2)=\"GF\",Template!$K$719,\"\")","v":""},{"$f":"IF(Template!$S$719<>\"\",Template!$S$719,\"\")","v":""},null,null,null,null,{"$f":"IF(Template!$L$719<>\"\",Template!$L$719,\"\")","v":""},"BYU_Child",null,null,"USD",null,1165.74,null,null,null,{"$f":"IF(Template!$O$719<>\"\",Template!$O$719,\"\")","v":""}]
[null,{"$f":"Template!$H$720","v":0},{"$error":"#REF!"},"Calendar_Year_Mar",{"$f":"IF(LEFT(Template!$K$720,2)=\"CC\",Template!$K$720,\"\")","v":""},{"$f":"IF(LEFT(Template!$M$720,2)=\"RC\",Template!$M$720,\"\")","v":""},{"$f":"IF(LEFT(Template!$M$720,2)=\"SC\",Template!$M$720,\"\")","v":""},{"$f":"IF(LEFT(Template!$K$720,2)=\"AC\",Template!$K$720,\"\")","v":""},{"$f":"IF(OR(LEFT(Template!$K$720,2)=\"PJ\", LEFT(Template!$K$720,2)=\"PR\"),Template!$K$720,\"\")","v":""},{"$f":"IF(LEFT(Template!$K$720,2)=\"GF\",Template!$K$720,\"\")","v":""},{"$f":"IF(Template!$S$720<>\"\",Template!$S$720,\"\")","v":""},null,null,null,null,{"$f":"IF(Template!$L$720<>\"\",Template!$L$720,\"\")","v":""},"BYU_Child",null,null,"USD",null,74.86,null,null,null,{"$f":"IF(Template!$O$720<>\"\",Template!$O$720,\"\")","v":""}]
[null,{"$f":"Template!$H$721","v":0},{"$error":"#REF!"},"Calendar_Year_Mar",{"$f":"IF(LEFT(Template!$K$721,2)=\"CC\",Template!$K$721,\"\")","v":""},{"$f":"IF(LEFT(Template!$M$721,2)=\"RC\",Template!$M$721,\"\")","v":""},{"$f":"IF(LEFT(Template!$M$721,2)=\"SC\",Template!$M$721,\"\")","v":""},{"$f":"IF(LEFT(Template!$K$721,2)=\"AC\",Template!$K$721,\"\")","v":""},{"$f":"IF(OR(LEFT(Template!$K$721,2)=\"PJ\", LEFT(Template!$K$721,2)=\"PR\"),Template!$K$721,\"\")","v":""},{"$f":"IF(LEFT(Template!$K$721,2)=\"GF\",Template!$K$721,\"\")","v":""},{"$f":"IF(Template!$S$721<>\"\",Template!$S$721,\"\")","v":""},null,null,null,null,{"$f":"IF(Template!$L$721<>\"\",Template!$L$721,\"\")","v":""},"BYU_Child",null,null,"USD",null,8233.2000000000007,null,null,null,{"$f":"IF(Template!$O$721<>\"\",Template!$O$721,\"\")","v":""}]
[null,{"$f":"Template!$H$722","v":0},{"$error":"#REF!"},"Calendar_Year_Mar",{"$f":"IF(LEFT(Template!$K$722,2)=\"CC\",Template!$K$722,\"\")","v":""},{"$f":"IF(LEFT(Template!$M$722,2)=\"RC\",Template!$M$722,\"\")","v":""},{"$f":"IF(LEFT(Template!$M$722,2)=\"SC\",Template!$M$722,\"\")","v":""},{"$f":"IF(LEFT(Template!$K$722,2)=\"AC\",Template!$K$722,\"\")","v":""},{"$f":"IF(OR(LEFT(Template!$K$722,2)=\"PJ\", LEFT(Template!$K$722,2)=\"PR\"),Template!$K$722,\"\")","v":""},{"$f":"IF(LEFT(Template!$K$722,2)=\"GF\",Template!$K$722,\"\")","v":""},{"$f":"IF(Template!$S$722<>\"\",Template!$S$722,\"\")","v":""},null,null,null,null,{"$f":"IF(Template!$L$722<>\"\",Template!$L$722,\"\")","v":""},"BYU_Child",null,null,"USD",null,2666.16,null,null,null,{"$f":"IF(Template!$O$722<>\"\",Template!$O$722,\"\")","v":""}]
[null,{"$f":"Template!$H$723","v":0},{"$error":"#REF!"},"Calendar_Year_Mar",{"$f":"IF(LEFT(Template!$K$723,2)=\"CC\",Template!$K$723,\"\")","v":""},{"$f":"IF(LEFT(Template!$M$723,2)=\"RC\",Template!$M$723,\"\")","v":""},{"$f":"IF(LEFT(Template!$M$723,2)=\"SC\",Template!$M$723,\"\")","v":""},{"$f":"IF(LEFT(Template!$K$723,2)=\"AC\",Template!$K$723,\"\")","v":""},{"$f":"IF(OR(LEFT(Template!$K$723,2)=\"PJ\", LEFT(Template!$K$723,2)=\"PR\"),Template!$K$723,\"\")","v":""},{"$f":"IF(LEFT(Template!$K$723,2)=\"GF\",Template!$K$723,\"\")","v":""},{"$f":"IF(Template!$S$723<>\"\",Template!$S$723,\"\")","v":""},null,null,null,null,{"$f":"IF(Template!$L$723<>\"\",Template!$L$723,\"\")","v":""},"BYU_Child",null,null,"USD",null,3666.04,null,null,null,{"$f":"IF(Template!$O$723<>\"\",Template!$O$723,\"\")","v":""}]
[null,{"$f":"Template!$H$724","v":0},{"$error":"#REF!"},"Calendar_Year_Mar",{"$f":"IF(LEFT(Template!$K$724,2)=\"CC\",Template!$K$724,\"\")","v":""},{"$f":"IF(LEFT(Template!$M$724,2)=\"RC\",Template!$M$724,\"\")","v":""},{"$f":"IF(LEFT(Template!$M$724,2)=\"SC\",Template!$M$724,\"\")","v":""},{"$f":"IF(LEFT(Template!$K$724,2)=\"AC\",Template!$K$724,\"\")","v":""},{"$f":"IF(OR(LEFT(Template!$K$724,2)=\"PJ\", LEFT(Template!$K$724,2)=\"PR\"),Template!$K$724,\"\")","v":""},{"$f":"IF(LEFT(Template!$K$724,2)=\"GF\",Template!$K$724,\"\")","v":""},{"$f":"IF(Template!$S$724<>\"\",Template!$S$724,\"\")","v":""},null,null,null,null,{"$f":"IF(Template!$L$724<>\"\",Template!$L$724,\"\")","v":""},"BYU_Child",null,null,"USD",null,65330.91,null,null,null,{"$f":"IF(Template!$O$724<>\"\",Template!$O$724,\"\")","v":""}]
[null,{"$f":"Template!$H$725","v":0},{"$error":"#REF!"},"Calendar_Year_Mar",{"$f":"IF(LEFT(Template!$K$725,2)=\"CC\",Template!$K$725,\"\")","v":""},{"$f":"IF(LEFT(Template!$M$725,2)=\"RC\",Template!$M$725,\"\")","v":""},{"$f":"IF(LEFT(Template!$M$725,2)=\"SC\",Template!$M$725,\"\")","v":""},{"$f":"IF(LEFT(Template!$K$725,2)=\"AC\",Template!$K$725,\"\")","v":""},{"$f":"IF(OR(LEFT(Template!$K$725,2)=\"PJ\", LEFT(Template!$K$725,2)=\"PR\"),Template!$K$725,\"\")","v":""},{"$f":"IF(LEFT(Template!$K$725,2)=\"GF\",Template!$K$725,\"\")","v":""},{"$f":"IF(Template!$S$725<>\"\",Template!$S$725,\"\")","v":""},null,null,null,null,{"$f":"IF(Template!$L$725<>\"\",Template!$L$725,\"\")","v":""},"BYU_Child",null,null,"USD",null,29672.7,null,null,null,{"$f":"IF(Template!$O$725<>\"\",Template!$O$725,\"\")","v":""}]
[null,{"$f":"Template!$H$726","v":0},{"$error":"#REF!"},"Calendar_Year_Mar",{"$f":"IF(LEFT(Template!$K$726,2)=\"CC\",Template!$K$726,\"\")","v":""},{"$f":"IF(LEFT(Template!$M$726,2)=\"RC\",Template!$M$726,\"\")","v":""},{"$f":"IF(LEFT(Template!$M$726,2)=\"SC\",Template!$M$726,\"\")","v":""},{"$f":"IF(LEFT(Template!$K$726,2)=\"AC\",Template!$K$726,\"\")","v":""},{"$f":"IF(OR(LEFT(Template!$K$726,2)=\"PJ\", LEFT(Template!$K$726,2)=\"PR\"),Template!$K$726,\"\")","v":""},{"$f":"IF(LEFT(Template!$K$726,2)=\"GF\",Template!$K$726,\"\")","v":""},{"$f":"IF(Template!$S$726<>\"\",Template!$S$726,\"\")","v":""},null,null,null,null,{"$f":"IF(Template!$L$726<>\"\",Template!$L$726,\"\")","v":""},"BYU_Child",null,null,"USD",null,2261.21,null,null,null,{"$f":"IF(Template!$O$726<>\"\",Template!$O$726,\"\")","v":""}]
[null,{"$f":"Template!$H$727","v":0},{"$error":"#REF!"},"Calendar_Year_Mar",{"$f":"IF(LEFT(Template!$K$727,2)=\"CC\",Template!$K$727,\"\")","v":""},{"$f":"IF(LEFT(Template!$M$727,2)=\"RC\",Template!$M$727,\"\")","v":""},{"$f":"IF(LEFT(Template!$M$727,2)=\"SC\",Template!$M$727,\"\")","v":""},{"$f":"IF(LEFT(Template!$K$727,2)=\"AC\",Template!$K$727,\"\")","v":""},{"$f":"IF(OR(LEFT(Template!$K$727,2)=\"PJ\", LEFT(Template!$K$727,2)=\"PR\"),Template!$K$727,\"\")","v":""},{"$f":"IF(LEFT(Template!$K$727,2)=\"GF\",Template!$K$727,\"\")","v":""},{"$f":"IF(Template!$S$727<>\"\",Template!$S$727,\"\")","v":""},null,null,null,null,{"$f":"IF(Template!$L$727<>\"\",Template!$L$727,\"\")","v":""},"BYU_Child",null,null,"USD",null,null,36308,null,null,{"$f":"IF(Template!$O$727<>\"\",Template!$O$727,\"\")","v":""}]
[null,{"$f":"Template!$H$728","v":0},{"$error":"#REF!"},"Calendar_Year_Mar",{"$f":"IF(LEFT(Template!$K$728,2)=\"CC\",Template!$K$728,\"\")","v":""},{"$f":"IF(LEFT(Template!$M$728,2)=\"RC\",Template!$M$728,\"\")","v":""},{"$f":"IF(LEFT(Template!$M$728,2)=\"SC\",Template!$M$728,\"\")","v":""},{"$f":"IF(LEFT(Template!$K$728,2)=\"AC\",Template!$K$728,\"\")","v":""},{"$f":"IF(OR(LEFT(Template!$K$728,2)=\"PJ\", LEFT(Template!$K$728,2)=\"PR\"),Template!$K$728,\"\")","v":""},{"$f":"IF(LEFT(Template!$K$728,2)=\"GF\",Template!$K$728,\"\")","v":""},{"$f":"IF(Template!$S$728<>\"\",Template!$S$728,\"\")","v":""},null,null,null,null,{"$f":"IF(Template!$L$728<>\"\",Template!$L$728,\"\")","v":""},"BYU_Child",null,null,"USD",null,19.8,null,null,null,{"$f":"IF(Template!$O$728<>\"\",Template!$O$728,\"\")","v":""}]
[null,{"$f":"Template!$H$729","v":0},{"$error":"#REF!"},"Calendar_Year_Mar",{"$f":"IF(LEFT(Template!$K$729,2)=\"CC\",Template!$K$729,\"\")","v":""},{"$f":"IF(LEFT(Template!$M$729,2)=\"RC\",Template!$M$729,\"\")","v":""},{"$f":"IF(LEFT(Template!$M$729,2)=\"SC\",Template!$M$729,\"\")","v":""},{"$f":"IF(LEFT(Template!$K$729,2)=\"AC\",Template!$K$729,\"\")","v":""},{"$f":"IF(OR(LEFT(Template!$K$729,2)=\"PJ\", LEFT(Template!$K$729,2)=\"PR\"),Template!$K$729,\"\")","v":""},{"$f":"IF(LEFT(Template!$K$729,2)=\"GF\",Template!$K$729,\"\")","v":""},{"$f":"IF(Template!$S$729<>\"\",Template!$S$729,\"\")","v":""},null,null,null,null,{"$f":"IF(Template!$L$729<>\"\",Template!$L$729,\"\")","v":""},"BYU_Child",null,null,"USD",null,689.98,null,null,null,{"$f":"IF(Template!$O$729<>\"\",Template!$O$729,\"\")","v":""}]
[null,{"$f":"Template!$H$730","v":0},{"$error":"#REF!"},"Calendar_Year_Mar",{"$f":"IF(LEFT(Template!$K$730,2)=\"CC\",Template!$K$730,\"\")","v":""},{"$f":"IF(LEFT(Template!$M$730,2)=\"RC\",Template!$M$730,\"\")","v":""},{"$f":"IF(LEFT(Template!$M$730,2)=\"SC\",Template!$M$730,\"\")","v":""},{"$f":"IF(LEFT(Template!$K$730,2)=\"AC\",Template!$K$730,\"\")","v":""},{"$f":"IF(OR(LEFT(Template!$K$730,2)=\"PJ\", LEFT(Template!$K$730,2)=\"PR\"),Template!$K$730,\"\")","v":""},{"$f":"IF(LEFT(Template!$K$730,2)=\"GF\",Template!$K$730,\"\")","v":""},{"$f":"IF(Template!$S$730<>\"\",Template!$S$730,\"\")","v":""},null,null,null,null,{"$f":"IF(Template!$L$730<>\"\",Template!$L$730,\"\")","v":""},"BYU_Child",null,null,"USD",null,6129.43,null,null,null,{"$f":"IF(Template!$O$730<>\"\",Template!$O$730,\"\")","v":""}]
[null,{"$f":"Template!$H$731","v":0},{"$error":"#REF!"},"Calendar_Year_Mar",{"$f":"IF(LEFT(Template!$K$731,2)=\"CC\",Template!$K$731,\"\")","v":""},{"$f":"IF(LEFT(Template!$M$731,2)=\"RC\",Template!$M$731,\"\")","v":""},{"$f":"IF(LEFT(Template!$M$731,2)=\"SC\",Template!$M$731,\"\")","v":""},{"$f":"IF(LEFT(Template!$K$731,2)=\"AC\",Template!$K$731,\"\")","v":""},{"$f":"IF(OR(LEFT(Template!$K$731,2)=\"PJ\", LEFT(Template!$K$731,2)=\"PR\"),Template!$K$731,\"\")","v":""},{"$f":"IF(LEFT(Template!$K$731,2)=\"GF\",Template!$K$731,\"\")","v":""},{"$f":"IF(Template!$S$731<>\"\",Template!$S$731,\"\")","v":""},null,null,null,null,{"$f":"IF(Template!$L$731<>\"\",Template!$L$731,\"\")","v":""},"BYU_Child",null,null,"USD",null,67.78,null,null,null,{"$f":"IF(Template!$O$731<>\"\",Template!$O$731,\"\")","v":""}]
[null,{"$f":"Template!$H$732","v":0},{"$error":"#REF!"},"Calendar_Year_Mar",{"$f":"IF(LEFT(Template!$K$732,2)=\"CC\",Template!$K$732,\"\")","v":""},{"$f":"IF(LEFT(Template!$M$732,2)=\"RC\",Template!$M$732,\"\")","v":""},{"$f":"IF(LEFT(Template!$M$732,2)=\"SC\",Template!$M$732,\"\")","v":""},{"$f":"IF(LEFT(Template!$K$732,2)=\"AC\",Template!$K$732,\"\")","v":""},{"$f":"IF(OR(LEFT(Template!$K$732,2)=\"PJ\", LEFT(Template!$K$732,2)=\"PR\"),Template!$K$732,\"\")","v":""},{"$f":"IF(LEFT(Template!$K$732,2)=\"GF\",Template!$K$732,\"\")","v":""},{"$f":"IF(Template!$S$732<>\"\",Template!$S$732,\"\")","v":""},null,null,null,null,{"$f":"IF(Template!$L$732<>\"\",Template!$L$732,\"\")","v":""},"BYU_Child",null,null,"USD",null,255894.47,null,null,null,{"$f":"IF(Template!$O$732<>\"\",Template!$O$732,\"\")","v":""}]
[null,{"$f":"Template!$H$733","v":0},{"$error":"#REF!"},"Calendar_Year_Mar",{"$f":"IF(LEFT(Template!$K$733,2)=\"CC\",Template!$K$733,\"\")","v":""},{"$f":"IF(LEFT(Template!$M$733,2)=\"RC\",Template!$M$733,\"\")","v":""},{"$f":"IF(LEFT(Template!$M$733,2)=\"SC\",Template!$M$733,\"\")","v":""},{"$f":"IF(LEFT(Template!$K$733,2)=\"AC\",Template!$K$733,\"\")","v":""},{"$f":"IF(OR(LEFT(Template!$K$733,2)=\"PJ\", LEFT(Template!$K$733,2)=\"PR\"),Template!$K$733,\"\")","v":""},{"$f":"IF(LEFT(Template!$K$733,2)=\"GF\",Template!$K$733,\"\")","v":""},{"$f":"IF(Template!$S$733<>\"\",Template!$S$733,\"\")","v":""},null,null,null,null,{"$f":"IF(Template!$L$733<>\"\",Template!$L$733,\"\")","v":""},"BYU_Child",null,null,"USD",null,13572.54,null,null,null,{"$f":"IF(Template!$O$733<>\"\",Template!$O$733,\"\")","v":""}]
[null,{"$f":"Template!$H$734","v":0},{"$error":"#REF!"},"Calendar_Year_Mar",{"$f":"IF(LEFT(Template!$K$734,2)=\"CC\",Template!$K$734,\"\")","v":""},{"$f":"IF(LEFT(Template!$M$734,2)=\"RC\",Template!$M$734,\"\")","v":""},{"$f":"IF(LEFT(Template!$M$734,2)=\"SC\",Template!$M$734,\"\")","v":""},{"$f":"IF(LEFT(Template!$K$734,2)=\"AC\",Template!$K$734,\"\")","v":""},{"$f":"IF(OR(LEFT(Template!$K$734,2)=\"PJ\", LEFT(Template!$K$734,2)=\"PR\"),Template!$K$734,\"\")","v":""},{"$f":"IF(LEFT(Template!$K$734,2)=\"GF\",Template!$K$734,\"\")","v":""},{"$f":"IF(Template!$S$734<>\"\",Template!$S$734,\"\")","v":""},null,null,null,null,{"$f":"IF(Template!$L$734<>\"\",Template!$L$734,\"\")","v":""},"BYU_Child",null,null,"USD",null,97.45,null,null,null,{"$f":"IF(Template!$O$734<>\"\",Template!$O$734,\"\")","v":""}]
[null,{"$f":"Template!$H$735","v":0},{"$error":"#REF!"},"Calendar_Year_Mar",{"$f":"IF(LEFT(Template!$K$735,2)=\"CC\",Template!$K$735,\"\")","v":""},{"$f":"IF(LEFT(Template!$M$735,2)=\"RC\",Template!$M$735,\"\")","v":""},{"$f":"IF(LEFT(Template!$M$735,2)=\"SC\",Template!$M$735,\"\")","v":""},{"$f":"IF(LEFT(Template!$K$735,2)=\"AC\",Template!$K$735,\"\")","v":""},{"$f":"IF(OR(LEFT(Template!$K$735,2)=\"PJ\", LEFT(Template!$K$735,2)=\"PR\"),Template!$K$735,\"\")","v":""},{"$f":"IF(LEFT(Template!$K$735,2)=\"GF\",Template!$K$735,\"\")","v":""},{"$f":"IF(Template!$S$735<>\"\",Template!$S$735,\"\")","v":""},null,null,null,null,{"$f":"IF(Template!$L$735<>\"\",Template!$L$735,\"\")","v":""},"BYU_Child",null,null,"USD",null,593.04,null,null,null,{"$f":"IF(Template!$O$735<>\"\",Template!$O$735,\"\")","v":""}]
[null,{"$f":"Template!$H$736","v":0},{"$error":"#REF!"},"Calendar_Year_Mar",{"$f":"IF(LEFT(Template!$K$736,2)=\"CC\",Template!$K$736,\"\")","v":""},{"$f":"IF(LEFT(Template!$M$736,2)=\"RC\",Template!$M$736,\"\")","v":""},{"$f":"IF(LEFT(Template!$M$736,2)=\"SC\",Template!$M$736,\"\")","v":""},{"$f":"IF(LEFT(Template!$K$736,2)=\"AC\",Template!$K$736,\"\")","v":""},{"$f":"IF(OR(LEFT(Template!$K$736,2)=\"PJ\", LEFT(Template!$K$736,2)=\"PR\"),Template!$K$736,\"\")","v":""},{"$f":"IF(LEFT(Template!$K$736,2)=\"GF\",Template!$K$736,\"\")","v":""},{"$f":"IF(Template!$S$736<>\"\",Template!$S$736,\"\")","v":""},null,null,null,null,{"$f":"IF(Template!$L$736<>\"\",Template!$L$736,\"\")","v":""},"BYU_Child",null,null,"USD",null,null,16976,null,null,{"$f":"IF(Template!$O$736<>\"\",Template!$O$736,\"\")","v":""}]
[null,{"$f":"Template!$H$737","v":0},{"$error":"#REF!"},"Calendar_Year_Mar",{"$f":"IF(LEFT(Template!$K$737,2)=\"CC\",Template!$K$737,\"\")","v":""},{"$f":"IF(LEFT(Template!$M$737,2)=\"RC\",Template!$M$737,\"\")","v":""},{"$f":"IF(LEFT(Template!$M$737,2)=\"SC\",Template!$M$737,\"\")","v":""},{"$f":"IF(LEFT(Template!$K$737,2)=\"AC\",Template!$K$737,\"\")","v":""},{"$f":"IF(OR(LEFT(Template!$K$737,2)=\"PJ\", LEFT(Template!$K$737,2)=\"PR\"),Template!$K$737,\"\")","v":""},{"$f":"IF(LEFT(Template!$K$737,2)=\"GF\",Template!$K$737,\"\")","v":""},{"$f":"IF(Template!$S$737<>\"\",Template!$S$737,\"\")","v":""},null,null,null,null,{"$f":"IF(Template!$L$737<>\"\",Template!$L$737,\"\")","v":""},"BYU_Child",null,null,"USD",null,45412.959999999999,null,null,null,{"$f":"IF(Template!$O$737<>\"\",Template!$O$737,\"\")","v":""}]
[null,{"$f":"Template!$H$738","v":0},{"$error":"#REF!"},"Calendar_Year_Mar",{"$f":"IF(LEFT(Template!$K$738,2)=\"CC\",Template!$K$738,\"\")","v":""},{"$f":"IF(LEFT(Template!$M$738,2)=\"RC\",Template!$M$738,\"\")","v":""},{"$f":"IF(LEFT(Template!$M$738,2)=\"SC\",Template!$M$738,\"\")","v":""},{"$f":"IF(LEFT(Template!$K$738,2)=\"AC\",Template!$K$738,\"\")","v":""},{"$f":"IF(OR(LEFT(Template!$K$738,2)=\"PJ\", LEFT(Template!$K$738,2)=\"PR\"),Template!$K$738,\"\")","v":""},{"$f":"IF(LEFT(Template!$K$738,2)=\"GF\",Template!$K$738,\"\")","v":""},{"$f":"IF(Template!$S$738<>\"\",Template!$S$738,\"\")","v":""},null,null,null,null,{"$f":"IF(Template!$L$738<>\"\",Template!$L$738,\"\")","v":""},"BYU_Child",null,null,"USD",null,114.72,null,null,null,{"$f":"IF(Template!$O$738<>\"\",Template!$O$738,\"\")","v":""}]
[null,{"$f":"Template!$H$739","v":0},{"$error":"#REF!"},"Calendar_Year_Mar",{"$f":"IF(LEFT(Template!$K$739,2)=\"CC\",Template!$K$739,\"\")","v":""},{"$f":"IF(LEFT(Template!$M$739,2)=\"RC\",Template!$M$739,\"\")","v":""},{"$f":"IF(LEFT(Template!$M$739,2)=\"SC\",Template!$M$739,\"\")","v":""},{"$f":"IF(LEFT(Template!$K$739,2)=\"AC\",Template!$K$739,\"\")","v":""},{"$f":"IF(OR(LEFT(Template!$K$739,2)=\"PJ\", LEFT(Template!$K$739,2)=\"PR\"),Template!$K$739,\"\")","v":""},{"$f":"IF(LEFT(Template!$K$739,2)=\"GF\",Template!$K$739,\"\")","v":""},{"$f":"IF(Template!$S$739<>\"\",Template!$S$739,\"\")","v":""},null,null,null,null,{"$f":"IF(Template!$L$739<>\"\",Template!$L$739,\"\")","v":""},"BYU_Child",null,null,"USD",null,null,15742,null,null,{"$f":"IF(Template!$O$739<>\"\",Template!$O$739,\"\")","v":""}]
[null,{"$f":"Template!$H$740","v":0},{"$error":"#REF!"},"Calendar_Year_Mar",{"$f":"IF(LEFT(Template!$K$740,2)=\"CC\",Template!$K$740,\"\")","v":""},{"$f":"IF(LEFT(Template!$M$740,2)=\"RC\",Template!$M$740,\"\")","v":""},{"$f":"IF(LEFT(Template!$M$740,2)=\"SC\",Template!$M$740,\"\")","v":""},{"$f":"IF(LEFT(Template!$K$740,2)=\"AC\",Template!$K$740,\"\")","v":""},{"$f":"IF(OR(LEFT(Template!$K$740,2)=\"PJ\", LEFT(Template!$K$740,2)=\"PR\"),Template!$K$740,\"\")","v":""},{"$f":"IF(LEFT(Template!$K$740,2)=\"GF\",Template!$K$740,\"\")","v":""},{"$f":"IF(Template!$S$740<>\"\",Template!$S$740,\"\")","v":""},null,null,null,null,{"$f":"IF(Template!$L$740<>\"\",Template!$L$740,\"\")","v":""},"BYU_Child",null,null,"USD",null,69418.34,null,null,null,{"$f":"IF(Template!$O$740<>\"\",Template!$O$740,\"\")","v":""}]
[null,{"$f":"Template!$H$741","v":0},{"$error":"#REF!"},"Calendar_Year_Mar",{"$f":"IF(LEFT(Template!$K$741,2)=\"CC\",Template!$K$741,\"\")","v":""},{"$f":"IF(LEFT(Template!$M$741,2)=\"RC\",Template!$M$741,\"\")","v":""},{"$f":"IF(LEFT(Template!$M$741,2)=\"SC\",Template!$M$741,\"\")","v":""},{"$f":"IF(LEFT(Template!$K$741,2)=\"AC\",Template!$K$741,\"\")","v":""},{"$f":"IF(OR(LEFT(Template!$K$741,2)=\"PJ\", LEFT(Template!$K$741,2)=\"PR\"),Template!$K$741,\"\")","v":""},{"$f":"IF(LEFT(Template!$K$741,2)=\"GF\",Template!$K$741,\"\")","v":""},{"$f":"IF(Template!$S$741<>\"\",Template!$S$741,\"\")","v":""},null,null,null,null,{"$f":"IF(Template!$L$741<>\"\",Template!$L$741,\"\")","v":""},"BYU_Child",null,null,"USD",null,340.94,null,null,null,{"$f":"IF(Template!$O$741<>\"\",Template!$O$741,\"\")","v":""}]
[null,{"$f":"Template!$H$742","v":0},{"$error":"#REF!"},"Calendar_Year_Mar",{"$f":"IF(LEFT(Template!$K$742,2)=\"CC\",Template!$K$742,\"\")","v":""},{"$f":"IF(LEFT(Template!$M$742,2)=\"RC\",Template!$M$742,\"\")","v":""},{"$f":"IF(LEFT(Template!$M$742,2)=\"SC\",Template!$M$742,\"\")","v":""},{"$f":"IF(LEFT(Template!$K$742,2)=\"AC\",Template!$K$742,\"\")","v":""},{"$f":"IF(OR(LEFT(Template!$K$742,2)=\"PJ\", LEFT(Template!$K$742,2)=\"PR\"),Template!$K$742,\"\")","v":""},{"$f":"IF(LEFT(Template!$K$742,2)=\"GF\",Template!$K$742,\"\")","v":""},{"$f":"IF(Template!$S$742<>\"\",Template!$S$742,\"\")","v":""},null,null,null,null,{"$f":"IF(Template!$L$742<>\"\",Template!$L$742,\"\")","v":""},"BYU_Child",null,null,"USD",null,391.83,null,null,null,{"$f":"IF(Template!$O$742<>\"\",Template!$O$742,\"\")","v":""}]
[null,{"$f":"Template!$H$743","v":0},{"$error":"#REF!"},"Calendar_Year_Mar",{"$f":"IF(LEFT(Template!$K$743,2)=\"CC\",Template!$K$743,\"\")","v":""},{"$f":"IF(LEFT(Template!$M$743,2)=\"RC\",Template!$M$743,\"\")","v":""},{"$f":"IF(LEFT(Template!$M$743,2)=\"SC\",Template!$M$743,\"\")","v":""},{"$f":"IF(LEFT(Template!$K$743,2)=\"AC\",Template!$K$743,\"\")","v":""},{"$f":"IF(OR(LEFT(Template!$K$743,2)=\"PJ\", LEFT(Template!$K$743,2)=\"PR\"),Template!$K$743,\"\")","v":""},{"$f":"IF(LEFT(Template!$K$743,2)=\"GF\",Template!$K$743,\"\")","v":""},{"$f":"IF(Template!$S$743<>\"\",Template!$S$743,\"\")","v":""},null,null,null,null,{"$f":"IF(Template!$L$743<>\"\",Template!$L$743,\"\")","v":""},"BYU_Child",null,null,"USD",null,null,46261,null,null,{"$f":"IF(Template!$O$743<>\"\",Template!$O$743,\"\")","v":""}]
[null,{"$f":"Template!$H$744","v":0},{"$error":"#REF!"},"Calendar_Year_Mar",{"$f":"IF(LEFT(Template!$K$744,2)=\"CC\",Template!$K$744,\"\")","v":""},{"$f":"IF(LEFT(Template!$M$744,2)=\"RC\",Template!$M$744,\"\")","v":""},{"$f":"IF(LEFT(Template!$M$744,2)=\"SC\",Template!$M$744,\"\")","v":""},{"$f":"IF(LEFT(Template!$K$744,2)=\"AC\",Template!$K$744,\"\")","v":""},{"$f":"IF(OR(LEFT(Template!$K$744,2)=\"PJ\", LEFT(Template!$K$744,2)=\"PR\"),Template!$K$744,\"\")","v":""},{"$f":"IF(LEFT(Template!$K$744,2)=\"GF\",Template!$K$744,\"\")","v":""},{"$f":"IF(Template!$S$744<>\"\",Template!$S$744,\"\")","v":""},null,null,null,null,{"$f":"IF(Template!$L$744<>\"\",Template!$L$744,\"\")","v":""},"BYU_Child",null,null,"USD",null,82093.41,null,null,null,{"$f":"IF(Template!$O$744<>\"\",Template!$O$744,\"\")","v":""}]
[null,{"$f":"Template!$H$745","v":0},{"$error":"#REF!"},"Calendar_Year_Mar",{"$f":"IF(LEFT(Template!$K$745,2)=\"CC\",Template!$K$745,\"\")","v":""},{"$f":"IF(LEFT(Template!$M$745,2)=\"RC\",Template!$M$745,\"\")","v":""},{"$f":"IF(LEFT(Template!$M$745,2)=\"SC\",Template!$M$745,\"\")","v":""},{"$f":"IF(LEFT(Template!$K$745,2)=\"AC\",Template!$K$745,\"\")","v":""},{"$f":"IF(OR(LEFT(Template!$K$745,2)=\"PJ\", LEFT(Template!$K$745,2)=\"PR\"),Template!$K$745,\"\")","v":""},{"$f":"IF(LEFT(Template!$K$745,2)=\"GF\",Template!$K$745,\"\")","v":""},{"$f":"IF(Template!$S$745<>\"\",Template!$S$745,\"\")","v":""},null,null,null,null,{"$f":"IF(Template!$L$745<>\"\",Template!$L$745,\"\")","v":""},"BYU_Child",null,null,"USD",null,162.03,null,null,null,{"$f":"IF(Template!$O$745<>\"\",Template!$O$745,\"\")","v":""}]
[null,{"$f":"Template!$H$746","v":0},{"$error":"#REF!"},"Calendar_Year_Mar",{"$f":"IF(LEFT(Template!$K$746,2)=\"CC\",Template!$K$746,\"\")","v":""},{"$f":"IF(LEFT(Template!$M$746,2)=\"RC\",Template!$M$746,\"\")","v":""},{"$f":"IF(LEFT(Template!$M$746,2)=\"SC\",Template!$M$746,\"\")","v":""},{"$f":"IF(LEFT(Template!$K$746,2)=\"AC\",Template!$K$746,\"\")","v":""},{"$f":"IF(OR(LEFT(Template!$K$746,2)=\"PJ\", LEFT(Template!$K$746,2)=\"PR\"),Template!$K$746,\"\")","v":""},{"$f":"IF(LEFT(Template!$K$746,2)=\"GF\",Template!$K$746,\"\")","v":""},{"$f":"IF(Template!$S$746<>\"\",Template!$S$746,\"\")","v":""},null,null,null,null,{"$f":"IF(Template!$L$746<>\"\",Template!$L$746,\"\")","v":""},"BYU_Child",null,null,"USD",null,1053.18,null,null,null,{"$f":"IF(Template!$O$746<>\"\",Template!$O$746,\"\")","v":""}]
[null,{"$f":"Template!$H$747","v":0},{"$error":"#REF!"},"Calendar_Year_Mar",{"$f":"IF(LEFT(Template!$K$747,2)=\"CC\",Template!$K$747,\"\")","v":""},{"$f":"IF(LEFT(Template!$M$747,2)=\"RC\",Template!$M$747,\"\")","v":""},{"$f":"IF(LEFT(Template!$M$747,2)=\"SC\",Template!$M$747,\"\")","v":""},{"$f":"IF(LEFT(Template!$K$747,2)=\"AC\",Template!$K$747,\"\")","v":""},{"$f":"IF(OR(LEFT(Template!$K$747,2)=\"PJ\", LEFT(Template!$K$747,2)=\"PR\"),Template!$K$747,\"\")","v":""},{"$f":"IF(LEFT(Template!$K$747,2)=\"GF\",Template!$K$747,\"\")","v":""},{"$f":"IF(Template!$S$747<>\"\",Template!$S$747,\"\")","v":""},null,null,null,null,{"$f":"IF(Template!$L$747<>\"\",Template!$L$747,\"\")","v":""},"BYU_Child",null,null,"USD",null,null,31843,null,null,{"$f":"IF(Template!$O$747<>\"\",Template!$O$747,\"\")","v":""}]
[null,{"$f":"Template!$H$748","v":0},{"$error":"#REF!"},"Calendar_Year_Mar",{"$f":"IF(LEFT(Template!$K$748,2)=\"CC\",Template!$K$748,\"\")","v":""},{"$f":"IF(LEFT(Template!$M$748,2)=\"RC\",Template!$M$748,\"\")","v":""},{"$f":"IF(LEFT(Template!$M$748,2)=\"SC\",Template!$M$748,\"\")","v":""},{"$f":"IF(LEFT(Template!$K$748,2)=\"AC\",Template!$K$748,\"\")","v":""},{"$f":"IF(OR(LEFT(Template!$K$748,2)=\"PJ\", LEFT(Template!$K$748,2)=\"PR\"),Template!$K$748,\"\")","v":""},{"$f":"IF(LEFT(Template!$K$748,2)=\"GF\",Template!$K$748,\"\")","v":""},{"$f":"IF(Template!$S$748<>\"\",Template!$S$748,\"\")","v":""},null,null,null,null,{"$f":"IF(Template!$L$748<>\"\",Template!$L$748,\"\")","v":""},"BYU_Child",null,null,"USD",null,21682.39,null,null,null,{"$f":"IF(Template!$O$748<>\"\",Template!$O$748,\"\")","v":""}]
[null,{"$f":"Template!$H$749","v":0},{"$error":"#REF!"},"Calendar_Year_Mar",{"$f":"IF(LEFT(Template!$K$749,2)=\"CC\",Template!$K$749,\"\")","v":""},{"$f":"IF(LEFT(Template!$M$749,2)=\"RC\",Template!$M$749,\"\")","v":""},{"$f":"IF(LEFT(Template!$M$749,2)=\"SC\",Template!$M$749,\"\")","v":""},{"$f":"IF(LEFT(Template!$K$749,2)=\"AC\",Template!$K$749,\"\")","v":""},{"$f":"IF(OR(LEFT(Template!$K$749,2)=\"PJ\", LEFT(Template!$K$749,2)=\"PR\"),Template!$K$749,\"\")","v":""},{"$f":"IF(LEFT(Template!$K$749,2)=\"GF\",Template!$K$749,\"\")","v":""},{"$f":"IF(Template!$S$749<>\"\",Template!$S$749,\"\")","v":""},null,null,null,null,{"$f":"IF(Template!$L$749<>\"\",Template!$L$749,\"\")","v":""},"BYU_Child",null,null,"USD",null,1138.99,null,null,null,{"$f":"IF(Template!$O$749<>\"\",Template!$O$749,\"\")","v":""}]
[null,{"$f":"Template!$H$750","v":0},{"$error":"#REF!"},"Calendar_Year_Mar",{"$f":"IF(LEFT(Template!$K$750,2)=\"CC\",Template!$K$750,\"\")","v":""},{"$f":"IF(LEFT(Template!$M$750,2)=\"RC\",Template!$M$750,\"\")","v":""},{"$f":"IF(LEFT(Template!$M$750,2)=\"SC\",Template!$M$750,\"\")","v":""},{"$f":"IF(LEFT(Template!$K$750,2)=\"AC\",Template!$K$750,\"\")","v":""},{"$f":"IF(OR(LEFT(Template!$K$750,2)=\"PJ\", LEFT(Template!$K$750,2)=\"PR\"),Template!$K$750,\"\")","v":""},{"$f":"IF(LEFT(Template!$K$750,2)=\"GF\",Template!$K$750,\"\")","v":""},{"$f":"IF(Template!$S$750<>\"\",Template!$S$750,\"\")","v":""},null,null,null,null,{"$f":"IF(Template!$L$750<>\"\",Template!$L$750,\"\")","v":""},"BYU_Child",null,null,"USD",null,null,12316,null,null,{"$f":"IF(Template!$O$750<>\"\",Template!$O$750,\"\")","v":""}]
[null,{"$f":"Template!$H$751","v":0},{"$error":"#REF!"},"Calendar_Year_Mar",{"$f":"IF(LEFT(Template!$K$751,2)=\"CC\",Template!$K$751,\"\")","v":""},{"$f":"IF(LEFT(Template!$M$751,2)=\"RC\",Template!$M$751,\"\")","v":""},{"$f":"IF(LEFT(Template!$M$751,2)=\"SC\",Template!$M$751,\"\")","v":""},{"$f":"IF(LEFT(Template!$K$751,2)=\"AC\",Template!$K$751,\"\")","v":""},{"$f":"IF(OR(LEFT(Template!$K$751,2)=\"PJ\", LEFT(Template!$K$751,2)=\"PR\"),Template!$K$751,\"\")","v":""},{"$f":"IF(LEFT(Template!$K$751,2)=\"GF\",Template!$K$751,\"\")","v":""},{"$f":"IF(Template!$S$751<>\"\",Template!$S$751,\"\")","v":""},null,null,null,null,{"$f":"IF(Template!$L$751<>\"\",Template!$L$751,\"\")","v":""},"BYU_Child",null,null,"USD",null,30280.22,null,null,null,{"$f":"IF(Template!$O$751<>\"\",Template!$O$751,\"\")","v":""}]
[null,{"$f":"Template!$H$752","v":0},{"$error":"#REF!"},"Calendar_Year_Mar",{"$f":"IF(LEFT(Template!$K$752,2)=\"CC\",Template!$K$752,\"\")","v":""},{"$f":"IF(LEFT(Template!$M$752,2)=\"RC\",Template!$M$752,\"\")","v":""},{"$f":"IF(LEFT(Template!$M$752,2)=\"SC\",Template!$M$752,\"\")","v":""},{"$f":"IF(LEFT(Template!$K$752,2)=\"AC\",Template!$K$752,\"\")","v":""},{"$f":"IF(OR(LEFT(Template!$K$752,2)=\"PJ\", LEFT(Template!$K$752,2)=\"PR\"),Template!$K$752,\"\")","v":""},{"$f":"IF(LEFT(Template!$K$752,2)=\"GF\",Template!$K$752,\"\")","v":""},{"$f":"IF(Template!$S$752<>\"\",Template!$S$752,\"\")","v":""},null,null,null,null,{"$f":"IF(Template!$L$752<>\"\",Template!$L$752,\"\")","v":""},"BYU_Child",null,null,"USD",null,68.23,null,null,null,{"$f":"IF(Template!$O$752<>\"\",Template!$O$752,\"\")","v":""}]
[null,{"$f":"Template!$H$753","v":0},{"$error":"#REF!"},"Calendar_Year_Mar",{"$f":"IF(LEFT(Template!$K$753,2)=\"CC\",Template!$K$753,\"\")","v":""},{"$f":"IF(LEFT(Template!$M$753,2)=\"RC\",Template!$M$753,\"\")","v":""},{"$f":"IF(LEFT(Template!$M$753,2)=\"SC\",Template!$M$753,\"\")","v":""},{"$f":"IF(LEFT(Template!$K$753,2)=\"AC\",Template!$K$753,\"\")","v":""},{"$f":"IF(OR(LEFT(Template!$K$753,2)=\"PJ\", LEFT(Template!$K$753,2)=\"PR\"),Template!$K$753,\"\")","v":""},{"$f":"IF(LEFT(Template!$K$753,2)=\"GF\",Template!$K$753,\"\")","v":""},{"$f":"IF(Template!$S$753<>\"\",Template!$S$753,\"\")","v":""},null,null,null,null,{"$f":"IF(Template!$L$753<>\"\",Template!$L$753,\"\")","v":""},"BYU_Child",null,null,"USD",null,1387.66,null,null,null,{"$f":"IF(Template!$O$753<>\"\",Template!$O$753,\"\")","v":""}]
[null,{"$f":"Template!$H$754","v":0},{"$f":"IF(B647=B646,C646+1,1)","v":{"$error":"#REF!"}},"Calendar_Year_Mar",{"$f":"IF(LEFT(Template!$K$754,2)=\"CC\",Template!$K$754,\"\")","v":""},{"$f":"IF(LEFT(Template!$M$754,2)=\"RC\",Template!$M$754,\"\")","v":""},{"$f":"IF(LEFT(Template!$M$754,2)=\"SC\",Template!$M$754,\"\")","v":""},{"$f":"IF(LEFT(Template!$K$754,2)=\"AC\",Template!$K$754,\"\")","v":""},{"$f":"IF(OR(LEFT(Template!$K$754,2)=\"PJ\", LEFT(Template!$K$754,2)=\"PR\"),Template!$K$754,\"\")","v":""},{"$f":"IF(LEFT(Template!$K$754,2)=\"GF\",Template!$K$754,\"\")","v":""},{"$f":"IF(Template!$S$754<>\"\",Template!$S$754,\"\")","v":""},null,null,null,null,{"$f":"IF(Template!$L$754<>\"\",Template!$L$754,\"\")","v":""},"BYU_Child",null,null,"USD",null,null,6383,null,null,{"$f":"IF(Template!$O$754<>\"\",Template!$O$754,\"\")","v":""}]
[null,{"$f":"Template!$H$755","v":0},{"$error":"#REF!"},"Calendar_Year_Mar",{"$f":"IF(LEFT(Template!$K$755,2)=\"CC\",Template!$K$755,\"\")","v":""},{"$f":"IF(LEFT(Template!$M$755,2)=\"RC\",Template!$M$755,\"\")","v":""},{"$f":"IF(LEFT(Template!$M$755,2)=\"SC\",Template!$M$755,\"\")","v":""},{"$f":"IF(LEFT(Template!$K$755,2)=\"AC\",Template!$K$755,\"\")","v":""},{"$f":"IF(OR(LEFT(Template!$K$755,2)=\"PJ\", LEFT(Template!$K$755,2)=\"PR\"),Template!$K$755,\"\")","v":""},{"$f":"IF(LEFT(Template!$K$755,2)=\"GF\",Template!$K$755,\"\")","v":""},{"$f":"IF(Template!$S$755<>\"\",Template!$S$755,\"\")","v":""},null,null,null,null,{"$f":"IF(Template!$L$755<>\"\",Template!$L$755,\"\")","v":""},"BYU_Child",null,null,"USD",null,69266.850000000006,null,null,null,{"$f":"IF(Template!$O$755<>\"\",Template!$O$755,\"\")","v":""}]
[null,{"$f":"Template!$H$756","v":0},{"$error":"#REF!"},"Calendar_Year_Mar",{"$f":"IF(LEFT(Template!$K$756,2)=\"CC\",Template!$K$756,\"\")","v":""},{"$f":"IF(LEFT(Template!$M$756,2)=\"RC\",Template!$M$756,\"\")","v":""},{"$f":"IF(LEFT(Template!$M$756,2)=\"SC\",Template!$M$756,\"\")","v":""},{"$f":"IF(LEFT(Template!$K$756,2)=\"AC\",Template!$K$756,\"\")","v":""},{"$f":"IF(OR(LEFT(Template!$K$756,2)=\"PJ\", LEFT(Template!$K$756,2)=\"PR\"),Template!$K$756,\"\")","v":""},{"$f":"IF(LEFT(Template!$K$756,2)=\"GF\",Template!$K$756,\"\")","v":""},{"$f":"IF(Template!$S$756<>\"\",Template!$S$756,\"\")","v":""},null,null,null,null,{"$f":"IF(Template!$L$756<>\"\",Template!$L$756,\"\")","v":""},"BYU_Child",null,null,"USD",null,null,26986,null,null,{"$f":"IF(Template!$O$756<>\"\",Template!$O$756,\"\")","v":""}]
[null,{"$f":"Template!$H$757","v":0},{"$error":"#REF!"},"Calendar_Year_Mar",{"$f":"IF(LEFT(Template!$K$757,2)=\"CC\",Template!$K$757,\"\")","v":""},{"$f":"IF(LEFT(Template!$M$757,2)=\"RC\",Template!$M$757,\"\")","v":""},{"$f":"IF(LEFT(Template!$M$757,2)=\"SC\",Template!$M$757,\"\")","v":""},{"$f":"IF(LEFT(Template!$K$757,2)=\"AC\",Template!$K$757,\"\")","v":""},{"$f":"IF(OR(LEFT(Template!$K$757,2)=\"PJ\", LEFT(Template!$K$757,2)=\"PR\"),Template!$K$757,\"\")","v":""},{"$f":"IF(LEFT(Template!$K$757,2)=\"GF\",Template!$K$757,\"\")","v":""},{"$f":"IF(Template!$S$757<>\"\",Template!$S$757,\"\")","v":""},null,null,null,null,{"$f":"IF(Template!$L$757<>\"\",Template!$L$757,\"\")","v":""},"BYU_Child",null,null,"USD",null,23015.52,null,null,null,{"$f":"IF(Template!$O$757<>\"\",Template!$O$757,\"\")","v":""}]
[null,{"$f":"Template!$H$758","v":0},{"$error":"#REF!"},"Calendar_Year_Mar",{"$f":"IF(LEFT(Template!$K$758,2)=\"CC\",Template!$K$758,\"\")","v":""},{"$f":"IF(LEFT(Template!$M$758,2)=\"RC\",Template!$M$758,\"\")","v":""},{"$f":"IF(LEFT(Template!$M$758,2)=\"SC\",Template!$M$758,\"\")","v":""},{"$f":"IF(LEFT(Template!$K$758,2)=\"AC\",Template!$K$758,\"\")","v":""},{"$f":"IF(OR(LEFT(Template!$K$758,2)=\"PJ\", LEFT(Template!$K$758,2)=\"PR\"),Template!$K$758,\"\")","v":""},{"$f":"IF(LEFT(Template!$K$758,2)=\"GF\",Template!$K$758,\"\")","v":""},{"$f":"IF(Template!$S$758<>\"\",Template!$S$758,\"\")","v":""},null,null,null,null,{"$f":"IF(Template!$L$758<>\"\",Template!$L$758,\"\")","v":""},"BYU_Child",null,null,"USD",null,null,4946,null,null,{"$f":"IF(Template!$O$758<>\"\",Template!$O$758,\"\")","v":""}]
[null,{"$f":"Template!$H$759","v":0},{"$error":"#REF!"},"Calendar_Year_Mar",{"$f":"IF(LEFT(Template!$K$759,2)=\"CC\",Template!$K$759,\"\")","v":""},{"$f":"IF(LEFT(Template!$M$759,2)=\"RC\",Template!$M$759,\"\")","v":""},{"$f":"IF(LEFT(Template!$M$759,2)=\"SC\",Template!$M$759,\"\")","v":""},{"$f":"IF(LEFT(Template!$K$759,2)=\"AC\",Template!$K$759,\"\")","v":""},{"$f":"IF(OR(LEFT(Template!$K$759,2)=\"PJ\", LEFT(Template!$K$759,2)=\"PR\"),Template!$K$759,\"\")","v":""},{"$f":"IF(LEFT(Template!$K$759,2)=\"GF\",Template!$K$759,\"\")","v":""},{"$f":"IF(Template!$S$759<>\"\",Template!$S$759,\"\")","v":""},null,null,null,null,{"$f":"IF(Template!$L$759<>\"\",Template!$L$759,\"\")","v":""},"BYU_Child",null,null,"USD",null,22571.59,null,null,null,{"$f":"IF(Template!$O$759<>\"\",Template!$O$759,\"\")","v":""}]
[null,{"$f":"Template!$H$760","v":0},{"$error":"#REF!"},"Calendar_Year_Mar",{"$f":"IF(LEFT(Template!$K$760,2)=\"CC\",Template!$K$760,\"\")","v":""},{"$f":"IF(LEFT(Template!$M$760,2)=\"RC\",Template!$M$760,\"\")","v":""},{"$f":"IF(LEFT(Template!$M$760,2)=\"SC\",Template!$M$760,\"\")","v":""},{"$f":"IF(LEFT(Template!$K$760,2)=\"AC\",Template!$K$760,\"\")","v":""},{"$f":"IF(OR(LEFT(Template!$K$760,2)=\"PJ\", LEFT(Template!$K$760,2)=\"PR\"),Template!$K$760,\"\")","v":""},{"$f":"IF(LEFT(Template!$K$760,2)=\"GF\",Template!$K$760,\"\")","v":""},{"$f":"IF(Template!$S$760<>\"\",Template!$S$760,\"\")","v":""},null,null,null,null,{"$f":"IF(Template!$L$760<>\"\",Template!$L$760,\"\")","v":""},"BYU_Child",null,null,"USD",null,20.239999999999998,null,null,null,{"$f":"IF(Template!$O$760<>\"\",Template!$O$760,\"\")","v":""}]
[null,{"$f":"Template!$H$761","v":0},{"$error":"#REF!"},"Calendar_Year_Mar",{"$f":"IF(LEFT(Template!$K$761,2)=\"CC\",Template!$K$761,\"\")","v":""},{"$f":"IF(LEFT(Template!$M$761,2)=\"RC\",Template!$M$761,\"\")","v":""},{"$f":"IF(LEFT(Template!$M$761,2)=\"SC\",Template!$M$761,\"\")","v":""},{"$f":"IF(LEFT(Template!$K$761,2)=\"AC\",Template!$K$761,\"\")","v":""},{"$f":"IF(OR(LEFT(Template!$K$761,2)=\"PJ\", LEFT(Template!$K$761,2)=\"PR\"),Template!$K$761,\"\")","v":""},{"$f":"IF(LEFT(Template!$K$761,2)=\"GF\",Template!$K$761,\"\")","v":""},{"$f":"IF(Template!$S$761<>\"\",Template!$S$761,\"\")","v":""},null,null,null,null,{"$f":"IF(Template!$L$761<>\"\",Template!$L$761,\"\")","v":""},"BYU_Child",null,null,"USD",null,537.41,null,null,null,{"$f":"IF(Template!$O$761<>\"\",Template!$O$761,\"\")","v":""}]
[null,{"$f":"Template!$H$762","v":0},{"$error":"#REF!"},"Calendar_Year_Mar",{"$f":"IF(LEFT(Template!$K$762,2)=\"CC\",Template!$K$762,\"\")","v":""},{"$f":"IF(LEFT(Template!$M$762,2)=\"RC\",Template!$M$762,\"\")","v":""},{"$f":"IF(LEFT(Template!$M$762,2)=\"SC\",Template!$M$762,\"\")","v":""},{"$f":"IF(LEFT(Template!$K$762,2)=\"AC\",Template!$K$762,\"\")","v":""},{"$f":"IF(OR(LEFT(Template!$K$762,2)=\"PJ\", LEFT(Template!$K$762,2)=\"PR\"),Template!$K$762,\"\")","v":""},{"$f":"IF(LEFT(Template!$K$762,2)=\"GF\",Template!$K$762,\"\")","v":""},{"$f":"IF(Template!$S$762<>\"\",Template!$S$762,\"\")","v":""},null,null,null,null,{"$f":"IF(Template!$L$762<>\"\",Template!$L$762,\"\")","v":""},"BYU_Child",null,null,"USD",null,null,8948,null,null,{"$f":"IF(Template!$O$762<>\"\",Template!$O$762,\"\")","v":""}]
[null,{"$f":"Template!$H$763","v":0},{"$error":"#REF!"},"Calendar_Year_Mar",{"$f":"IF(LEFT(Template!$K$763,2)=\"CC\",Template!$K$763,\"\")","v":""},{"$f":"IF(LEFT(Template!$M$763,2)=\"RC\",Template!$M$763,\"\")","v":""},{"$f":"IF(LEFT(Template!$M$763,2)=\"SC\",Template!$M$763,\"\")","v":""},{"$f":"IF(LEFT(Template!$K$763,2)=\"AC\",Template!$K$763,\"\")","v":""},{"$f":"IF(OR(LEFT(Template!$K$763,2)=\"PJ\", LEFT(Template!$K$763,2)=\"PR\"),Template!$K$763,\"\")","v":""},{"$f":"IF(LEFT(Template!$K$763,2)=\"GF\",Template!$K$763,\"\")","v":""},{"$f":"IF(Template!$S$763<>\"\",Template!$S$763,\"\")","v":""},null,null,null,null,{"$f":"IF(Template!$L$763<>\"\",Template!$L$763,\"\")","v":""},"BYU_Child",null,null,"USD",null,36577.410000000003,null,null,null,{"$f":"IF(Template!$O$763<>\"\",Template!$O$763,\"\")","v":""}]
[null,{"$f":"Template!$H$764","v":0},{"$error":"#REF!"},"Calendar_Year_Mar",{"$f":"IF(LEFT(Template!$K$764,2)=\"CC\",Template!$K$764,\"\")","v":""},{"$f":"IF(LEFT(Template!$M$764,2)=\"RC\",Template!$M$764,\"\")","v":""},{"$f":"IF(LEFT(Template!$M$764,2)=\"SC\",Template!$M$764,\"\")","v":""},{"$f":"IF(LEFT(Template!$K$764,2)=\"AC\",Template!$K$764,\"\")","v":""},{"$f":"IF(OR(LEFT(Template!$K$764,2)=\"PJ\", LEFT(Template!$K$764,2)=\"PR\"),Template!$K$764,\"\")","v":""},{"$f":"IF(LEFT(Template!$K$764,2)=\"GF\",Template!$K$764,\"\")","v":""},{"$f":"IF(Template!$S$764<>\"\",Template!$S$764,\"\")","v":""},null,null,null,null,{"$f":"IF(Template!$L$764<>\"\",Template!$L$764,\"\")","v":""},"BYU_Child",null,null,"USD",null,783.08,null,null,null,{"$f":"IF(Template!$O$764<>\"\",Template!$O$764,\"\")","v":""}]
[null,{"$f":"Template!$H$765","v":0},{"$error":"#REF!"},"Calendar_Year_Mar",{"$f":"IF(LEFT(Template!$K$765,2)=\"CC\",Template!$K$765,\"\")","v":""},{"$f":"IF(LEFT(Template!$M$765,2)=\"RC\",Template!$M$765,\"\")","v":""},{"$f":"IF(LEFT(Template!$M$765,2)=\"SC\",Template!$M$765,\"\")","v":""},{"$f":"IF(LEFT(Template!$K$765,2)=\"AC\",Template!$K$765,\"\")","v":""},{"$f":"IF(OR(LEFT(Template!$K$765,2)=\"PJ\", LEFT(Template!$K$765,2)=\"PR\"),Template!$K$765,\"\")","v":""},{"$f":"IF(LEFT(Template!$K$765,2)=\"GF\",Template!$K$765,\"\")","v":""},{"$f":"IF(Template!$S$765<>\"\",Template!$S$765,\"\")","v":""},null,null,null,null,{"$f":"IF(Template!$L$765<>\"\",Template!$L$765,\"\")","v":""},"BYU_Child",null,null,"USD",null,6821.04,null,null,null,{"$f":"IF(Template!$O$765<>\"\",Template!$O$765,\"\")","v":""}]
[null,{"$f":"Template!$H$766","v":0},{"$error":"#REF!"},"Calendar_Year_Mar",{"$f":"IF(LEFT(Template!$K$766,2)=\"CC\",Template!$K$766,\"\")","v":""},{"$f":"IF(LEFT(Template!$M$766,2)=\"RC\",Template!$M$766,\"\")","v":""},{"$f":"IF(LEFT(Template!$M$766,2)=\"SC\",Template!$M$766,\"\")","v":""},{"$f":"IF(LEFT(Template!$K$766,2)=\"AC\",Template!$K$766,\"\")","v":""},{"$f":"IF(OR(LEFT(Template!$K$766,2)=\"PJ\", LEFT(Template!$K$766,2)=\"PR\"),Template!$K$766,\"\")","v":""},{"$f":"IF(LEFT(Template!$K$766,2)=\"GF\",Template!$K$766,\"\")","v":""},{"$f":"IF(Template!$S$766<>\"\",Template!$S$766,\"\")","v":""},null,null,null,null,{"$f":"IF(Template!$L$766<>\"\",Template!$L$766,\"\")","v":""},"BYU_Child",null,null,"USD",null,47.95,null,null,null,{"$f":"IF(Template!$O$766<>\"\",Template!$O$766,\"\")","v":""}]
[null,{"$f":"Template!$H$767","v":0},{"$error":"#REF!"},"Calendar_Year_Mar",{"$f":"IF(LEFT(Template!$K$767,2)=\"CC\",Template!$K$767,\"\")","v":""},{"$f":"IF(LEFT(Template!$M$767,2)=\"RC\",Template!$M$767,\"\")","v":""},{"$f":"IF(LEFT(Template!$M$767,2)=\"SC\",Template!$M$767,\"\")","v":""},{"$f":"IF(LEFT(Template!$K$767,2)=\"AC\",Template!$K$767,\"\")","v":""},{"$f":"IF(OR(LEFT(Template!$K$767,2)=\"PJ\", LEFT(Template!$K$767,2)=\"PR\"),Template!$K$767,\"\")","v":""},{"$f":"IF(LEFT(Template!$K$767,2)=\"GF\",Template!$K$767,\"\")","v":""},{"$f":"IF(Template!$S$767<>\"\",Template!$S$767,\"\")","v":""},null,null,null,null,{"$f":"IF(Template!$L$767<>\"\",Template!$L$767,\"\")","v":""},"BYU_Child",null,null,"USD",null,null,27543,null,null,{"$f":"IF(Template!$O$767<>\"\",Template!$O$767,\"\")","v":""}]
[null,{"$f":"Template!$H$768","v":0},{"$error":"#REF!"},"Calendar_Year_Mar",{"$f":"IF(LEFT(Template!$K$768,2)=\"CC\",Template!$K$768,\"\")","v":""},{"$f":"IF(LEFT(Template!$M$768,2)=\"RC\",Template!$M$768,\"\")","v":""},{"$f":"IF(LEFT(Template!$M$768,2)=\"SC\",Template!$M$768,\"\")","v":""},{"$f":"IF(LEFT(Template!$K$768,2)=\"AC\",Template!$K$768,\"\")","v":""},{"$f":"IF(OR(LEFT(Template!$K$768,2)=\"PJ\", LEFT(Template!$K$768,2)=\"PR\"),Template!$K$768,\"\")","v":""},{"$f":"IF(LEFT(Template!$K$768,2)=\"GF\",Template!$K$768,\"\")","v":""},{"$f":"IF(Template!$S$768<>\"\",Template!$S$768,\"\")","v":""},null,null,null,null,{"$f":"IF(Template!$L$768<>\"\",Template!$L$768,\"\")","v":""},"BYU_Child",null,null,"USD",null,46485.279999999999,null,null,null,{"$f":"IF(Template!$O$768<>\"\",Template!$O$768,\"\")","v":""}]
[null,{"$f":"Template!$H$769","v":0},{"$error":"#REF!"},"Calendar_Year_Mar",{"$f":"IF(LEFT(Template!$K$769,2)=\"CC\",Template!$K$769,\"\")","v":""},{"$f":"IF(LEFT(Template!$M$769,2)=\"RC\",Template!$M$769,\"\")","v":""},{"$f":"IF(LEFT(Template!$M$769,2)=\"SC\",Template!$M$769,\"\")","v":""},{"$f":"IF(LEFT(Template!$K$769,2)=\"AC\",Template!$K$769,\"\")","v":""},{"$f":"IF(OR(LEFT(Template!$K$769,2)=\"PJ\", LEFT(Template!$K$769,2)=\"PR\"),Template!$K$769,\"\")","v":""},{"$f":"IF(LEFT(Template!$K$769,2)=\"GF\",Template!$K$769,\"\")","v":""},{"$f":"IF(Template!$S$769<>\"\",Template!$S$769,\"\")","v":""},null,null,null,null,{"$f":"IF(Template!$L$769<>\"\",Template!$L$769,\"\")","v":""},"BYU_Child",null,null,"USD",null,651.17999999999995,null,null,null,{"$f":"IF(Template!$O$769<>\"\",Template!$O$769,\"\")","v":""}]
[null,{"$f":"Template!$H$770","v":0},{"$error":"#REF!"},"Calendar_Year_Mar",{"$f":"IF(LEFT(Template!$K$770,2)=\"CC\",Template!$K$770,\"\")","v":""},{"$f":"IF(LEFT(Template!$M$770,2)=\"RC\",Template!$M$770,\"\")","v":""},{"$f":"IF(LEFT(Template!$M$770,2)=\"SC\",Template!$M$770,\"\")","v":""},{"$f":"IF(LEFT(Template!$K$770,2)=\"AC\",Template!$K$770,\"\")","v":""},{"$f":"IF(OR(LEFT(Template!$K$770,2)=\"PJ\", LEFT(Template!$K$770,2)=\"PR\"),Template!$K$770,\"\")","v":""},{"$f":"IF(LEFT(Template!$K$770,2)=\"GF\",Template!$K$770,\"\")","v":""},{"$f":"IF(Template!$S$770<>\"\",Template!$S$770,\"\")","v":""},null,null,null,null,{"$f":"IF(Template!$L$770<>\"\",Template!$L$770,\"\")","v":""},"BYU_Child",null,null,"USD",null,6390.52,null,null,null,{"$f":"IF(Template!$O$770<>\"\",Template!$O$770,\"\")","v":""}]
[null,{"$f":"Template!$H$771","v":0},{"$error":"#REF!"},"Calendar_Year_Mar",{"$f":"IF(LEFT(Template!$K$771,2)=\"CC\",Template!$K$771,\"\")","v":""},{"$f":"IF(LEFT(Template!$M$771,2)=\"RC\",Template!$M$771,\"\")","v":""},{"$f":"IF(LEFT(Template!$M$771,2)=\"SC\",Template!$M$771,\"\")","v":""},{"$f":"IF(LEFT(Template!$K$771,2)=\"AC\",Template!$K$771,\"\")","v":""},{"$f":"IF(OR(LEFT(Template!$K$771,2)=\"PJ\", LEFT(Template!$K$771,2)=\"PR\"),Template!$K$771,\"\")","v":""},{"$f":"IF(LEFT(Template!$K$771,2)=\"GF\",Template!$K$771,\"\")","v":""},{"$f":"IF(Template!$S$771<>\"\",Template!$S$771,\"\")","v":""},null,null,null,null,{"$f":"IF(Template!$L$771<>\"\",Template!$L$771,\"\")","v":""},"BYU_Child",null,null,"USD",null,null,23211,null,null,{"$f":"IF(Template!$O$771<>\"\",Template!$O$771,\"\")","v":""}]
[null,{"$f":"Template!$H$772","v":0},{"$error":"#REF!"},"Calendar_Year_Mar",{"$f":"IF(LEFT(Template!$K$772,2)=\"CC\",Template!$K$772,\"\")","v":""},{"$f":"IF(LEFT(Template!$M$772,2)=\"RC\",Template!$M$772,\"\")","v":""},{"$f":"IF(LEFT(Template!$M$772,2)=\"SC\",Template!$M$772,\"\")","v":""},{"$f":"IF(LEFT(Template!$K$772,2)=\"AC\",Template!$K$772,\"\")","v":""},{"$f":"IF(OR(LEFT(Template!$K$772,2)=\"PJ\", LEFT(Template!$K$772,2)=\"PR\"),Template!$K$772,\"\")","v":""},{"$f":"IF(LEFT(Template!$K$772,2)=\"GF\",Template!$K$772,\"\")","v":""},{"$f":"IF(Template!$S$772<>\"\",Template!$S$772,\"\")","v":""},null,null,null,null,{"$f":"IF(Template!$L$772<>\"\",Template!$L$772,\"\")","v":""},"BYU_Child",null,null,"USD",null,2912.9,null,null,null,{"$f":"IF(Template!$O$772<>\"\",Template!$O$772,\"\")","v":""}]
[null,{"$f":"Template!$H$773","v":0},{"$error":"#REF!"},"Calendar_Year_Mar",{"$f":"IF(LEFT(Template!$K$773,2)=\"CC\",Template!$K$773,\"\")","v":""},{"$f":"IF(LEFT(Template!$M$773,2)=\"RC\",Template!$M$773,\"\")","v":""},{"$f":"IF(LEFT(Template!$M$773,2)=\"SC\",Template!$M$773,\"\")","v":""},{"$f":"IF(LEFT(Template!$K$773,2)=\"AC\",Template!$K$773,\"\")","v":""},{"$f":"IF(OR(LEFT(Template!$K$773,2)=\"PJ\", LEFT(Template!$K$773,2)=\"PR\"),Template!$K$773,\"\")","v":""},{"$f":"IF(LEFT(Template!$K$773,2)=\"GF\",Template!$K$773,\"\")","v":""},{"$f":"IF(Template!$S$773<>\"\",Template!$S$773,\"\")","v":""},null,null,null,null,{"$f":"IF(Template!$L$773<>\"\",Template!$L$773,\"\")","v":""},"BYU_Child",null,null,"USD",null,468.66,null,null,null,{"$f":"IF(Template!$O$773<>\"\",Template!$O$773,\"\")","v":""}]
[null,{"$f":"Template!$H$774","v":0},{"$error":"#REF!"},"Calendar_Year_Mar",{"$f":"IF(LEFT(Template!$K$774,2)=\"CC\",Template!$K$774,\"\")","v":""},{"$f":"IF(LEFT(Template!$M$774,2)=\"RC\",Template!$M$774,\"\")","v":""},{"$f":"IF(LEFT(Template!$M$774,2)=\"SC\",Template!$M$774,\"\")","v":""},{"$f":"IF(LEFT(Template!$K$774,2)=\"AC\",Template!$K$774,\"\")","v":""},{"$f":"IF(OR(LEFT(Template!$K$774,2)=\"PJ\", LEFT(Template!$K$774,2)=\"PR\"),Template!$K$774,\"\")","v":""},{"$f":"IF(LEFT(Template!$K$774,2)=\"GF\",Template!$K$774,\"\")","v":""},{"$f":"IF(Template!$S$774<>\"\",Template!$S$774,\"\")","v":""},null,null,null,null,{"$f":"IF(Template!$L$774<>\"\",Template!$L$774,\"\")","v":""},"BYU_Child",null,null,"USD",null,null,1886,null,null,{"$f":"IF(Template!$O$774<>\"\",Template!$O$774,\"\")","v":""}]
[null,{"$f":"Template!$H$775","v":0},{"$error":"#REF!"},"Calendar_Year_Mar",{"$f":"IF(LEFT(Template!$K$775,2)=\"CC\",Template!$K$775,\"\")","v":""},{"$f":"IF(LEFT(Template!$M$775,2)=\"RC\",Template!$M$775,\"\")","v":""},{"$f":"IF(LEFT(Template!$M$775,2)=\"SC\",Template!$M$775,\"\")","v":""},{"$f":"IF(LEFT(Template!$K$775,2)=\"AC\",Template!$K$775,\"\")","v":""},{"$f":"IF(OR(LEFT(Template!$K$775,2)=\"PJ\", LEFT(Template!$K$775,2)=\"PR\"),Template!$K$775,\"\")","v":""},{"$f":"IF(LEFT(Template!$K$775,2)=\"GF\",Template!$K$775,\"\")","v":""},{"$f":"IF(Template!$S$775<>\"\",Template!$S$775,\"\")","v":""},null,null,null,null,{"$f":"IF(Template!$L$775<>\"\",Template!$L$775,\"\")","v":""},"BYU_Child",null,null,"USD",null,44814.01,null,null,null,{"$f":"IF(Template!$O$775<>\"\",Template!$O$775,\"\")","v":""}]
[null,{"$f":"Template!$H$776","v":0},{"$error":"#REF!"},"Calendar_Year_Mar",{"$f":"IF(LEFT(Template!$K$776,2)=\"CC\",Template!$K$776,\"\")","v":""},{"$f":"IF(LEFT(Template!$M$776,2)=\"RC\",Template!$M$776,\"\")","v":""},{"$f":"IF(LEFT(Template!$M$776,2)=\"SC\",Template!$M$776,\"\")","v":""},{"$f":"IF(LEFT(Template!$K$776,2)=\"AC\",Template!$K$776,\"\")","v":""},{"$f":"IF(OR(LEFT(Template!$K$776,2)=\"PJ\", LEFT(Template!$K$776,2)=\"PR\"),Template!$K$776,\"\")","v":""},{"$f":"IF(LEFT(Template!$K$776,2)=\"GF\",Template!$K$776,\"\")","v":""},{"$f":"IF(Template!$S$776<>\"\",Template!$S$776,\"\")","v":""},null,null,null,null,{"$f":"IF(Template!$L$776<>\"\",Template!$L$776,\"\")","v":""},"BYU_Child",null,null,"USD",null,376.6,null,null,null,{"$f":"IF(Template!$O$776<>\"\",Template!$O$776,\"\")","v":""}]
[null,{"$f":"Template!$H$777","v":0},{"$error":"#REF!"},"Calendar_Year_Mar",{"$f":"IF(LEFT(Template!$K$777,2)=\"CC\",Template!$K$777,\"\")","v":""},{"$f":"IF(LEFT(Template!$M$777,2)=\"RC\",Template!$M$777,\"\")","v":""},{"$f":"IF(LEFT(Template!$M$777,2)=\"SC\",Template!$M$777,\"\")","v":""},{"$f":"IF(LEFT(Template!$K$777,2)=\"AC\",Template!$K$777,\"\")","v":""},{"$f":"IF(OR(LEFT(Template!$K$777,2)=\"PJ\", LEFT(Template!$K$777,2)=\"PR\"),Template!$K$777,\"\")","v":""},{"$f":"IF(LEFT(Template!$K$777,2)=\"GF\",Template!$K$777,\"\")","v":""},{"$f":"IF(Template!$S$777<>\"\",Template!$S$777,\"\")","v":""},null,null,null,null,{"$f":"IF(Template!$L$777<>\"\",Template!$L$777,\"\")","v":""},"BYU_Child",null,null,"USD",null,548.17999999999995,null,null,null,{"$f":"IF(Template!$O$777<>\"\",Template!$O$777,\"\")","v":""}]
[null,{"$f":"Template!$H$778","v":0},{"$error":"#REF!"},"Calendar_Year_Mar",{"$f":"IF(LEFT(Template!$K$778,2)=\"CC\",Template!$K$778,\"\")","v":""},{"$f":"IF(LEFT(Template!$M$778,2)=\"RC\",Template!$M$778,\"\")","v":""},{"$f":"IF(LEFT(Template!$M$778,2)=\"SC\",Template!$M$778,\"\")","v":""},{"$f":"IF(LEFT(Template!$K$778,2)=\"AC\",Template!$K$778,\"\")","v":""},{"$f":"IF(OR(LEFT(Template!$K$778,2)=\"PJ\", LEFT(Template!$K$778,2)=\"PR\"),Template!$K$778,\"\")","v":""},{"$f":"IF(LEFT(Template!$K$778,2)=\"GF\",Template!$K$778,\"\")","v":""},{"$f":"IF(Template!$S$778<>\"\",Template!$S$778,\"\")","v":""},null,null,null,null,{"$f":"IF(Template!$L$778<>\"\",Template!$L$778,\"\")","v":""},"BYU_Child",null,null,"USD",null,null,17816,null,null,{"$f":"IF(Template!$O$778<>\"\",Template!$O$778,\"\")","v":""}]
[null,{"$f":"Template!$H$779","v":0},{"$error":"#REF!"},"Calendar_Year_Mar",{"$f":"IF(LEFT(Template!$K$779,2)=\"CC\",Template!$K$779,\"\")","v":""},{"$f":"IF(LEFT(Template!$M$779,2)=\"RC\",Template!$M$779,\"\")","v":""},{"$f":"IF(LEFT(Template!$M$779,2)=\"SC\",Template!$M$779,\"\")","v":""},{"$f":"IF(LEFT(Template!$K$779,2)=\"AC\",Template!$K$779,\"\")","v":""},{"$f":"IF(OR(LEFT(Template!$K$779,2)=\"PJ\", LEFT(Template!$K$779,2)=\"PR\"),Template!$K$779,\"\")","v":""},{"$f":"IF(LEFT(Template!$K$779,2)=\"GF\",Template!$K$779,\"\")","v":""},{"$f":"IF(Template!$S$779<>\"\",Template!$S$779,\"\")","v":""},null,null,null,null,{"$f":"IF(Template!$L$779<>\"\",Template!$L$779,\"\")","v":""},"BYU_Child",null,null,"USD",null,38002.370000000003,null,null,null,{"$f":"IF(Template!$O$779<>\"\",Template!$O$779,\"\")","v":""}]
[null,{"$f":"Template!$H$780","v":0},{"$error":"#REF!"},"Calendar_Year_Mar",{"$f":"IF(LEFT(Template!$K$780,2)=\"CC\",Template!$K$780,\"\")","v":""},{"$f":"IF(LEFT(Template!$M$780,2)=\"RC\",Template!$M$780,\"\")","v":""},{"$f":"IF(LEFT(Template!$M$780,2)=\"SC\",Template!$M$780,\"\")","v":""},{"$f":"IF(LEFT(Template!$K$780,2)=\"AC\",Template!$K$780,\"\")","v":""},{"$f":"IF(OR(LEFT(Template!$K$780,2)=\"PJ\", LEFT(Template!$K$780,2)=\"PR\"),Template!$K$780,\"\")","v":""},{"$f":"IF(LEFT(Template!$K$780,2)=\"GF\",Template!$K$780,\"\")","v":""},{"$f":"IF(Template!$S$780<>\"\",Template!$S$780,\"\")","v":""},null,null,null,null,{"$f":"IF(Template!$L$780<>\"\",Template!$L$780,\"\")","v":""},"BYU_Child",null,null,"USD",null,620.94000000000005,null,null,null,{"$f":"IF(Template!$O$780<>\"\",Template!$O$780,\"\")","v":""}]
[null,{"$f":"Template!$H$781","v":0},{"$error":"#REF!"},"Calendar_Year_Mar",{"$f":"IF(LEFT(Template!$K$781,2)=\"CC\",Template!$K$781,\"\")","v":""},{"$f":"IF(LEFT(Template!$M$781,2)=\"RC\",Template!$M$781,\"\")","v":""},{"$f":"IF(LEFT(Template!$M$781,2)=\"SC\",Template!$M$781,\"\")","v":""},{"$f":"IF(LEFT(Template!$K$781,2)=\"AC\",Template!$K$781,\"\")","v":""},{"$f":"IF(OR(LEFT(Template!$K$781,2)=\"PJ\", LEFT(Template!$K$781,2)=\"PR\"),Template!$K$781,\"\")","v":""},{"$f":"IF(LEFT(Template!$K$781,2)=\"GF\",Template!$K$781,\"\")","v":""},{"$f":"IF(Template!$S$781<>\"\",Template!$S$781,\"\")","v":""},null,null,null,null,{"$f":"IF(Template!$L$781<>\"\",Template!$L$781,\"\")","v":""},"BYU_Child",null,null,"USD",null,null,17424,null,null,{"$f":"IF(Template!$O$781<>\"\",Template!$O$781,\"\")","v":""}]
[null,{"$f":"Template!$H$782","v":0},{"$error":"#REF!"},"Calendar_Year_Mar",{"$f":"IF(LEFT(Template!$K$782,2)=\"CC\",Template!$K$782,\"\")","v":""},{"$f":"IF(LEFT(Template!$M$782,2)=\"RC\",Template!$M$782,\"\")","v":""},{"$f":"IF(LEFT(Template!$M$782,2)=\"SC\",Template!$M$782,\"\")","v":""},{"$f":"IF(LEFT(Template!$K$782,2)=\"AC\",Template!$K$782,\"\")","v":""},{"$f":"IF(OR(LEFT(Template!$K$782,2)=\"PJ\", LEFT(Template!$K$782,2)=\"PR\"),Template!$K$782,\"\")","v":""},{"$f":"IF(LEFT(Template!$K$782,2)=\"GF\",Template!$K$782,\"\")","v":""},{"$f":"IF(Template!$S$782<>\"\",Template!$S$782,\"\")","v":""},null,null,null,null,{"$f":"IF(Template!$L$782<>\"\",Template!$L$782,\"\")","v":""},"BYU_Child",null,null,"USD",null,82114.12,null,null,null,{"$f":"IF(Template!$O$782<>\"\",Template!$O$782,\"\")","v":""}]
[null,{"$f":"Template!$H$783","v":0},{"$error":"#REF!"},"Calendar_Year_Mar",{"$f":"IF(LEFT(Template!$K$783,2)=\"CC\",Template!$K$783,\"\")","v":""},{"$f":"IF(LEFT(Template!$M$783,2)=\"RC\",Template!$M$783,\"\")","v":""},{"$f":"IF(LEFT(Template!$M$783,2)=\"SC\",Template!$M$783,\"\")","v":""},{"$f":"IF(LEFT(Template!$K$783,2)=\"AC\",Template!$K$783,\"\")","v":""},{"$f":"IF(OR(LEFT(Template!$K$783,2)=\"PJ\", LEFT(Template!$K$783,2)=\"PR\"),Template!$K$783,\"\")","v":""},{"$f":"IF(LEFT(Template!$K$783,2)=\"GF\",Template!$K$783,\"\")","v":""},{"$f":"IF(Template!$S$783<>\"\",Template!$S$783,\"\")","v":""},null,null,null,null,{"$f":"IF(Template!$L$783<>\"\",Template!$L$783,\"\")","v":""},"BYU_Child",null,null,"USD",null,null,21418,null,null,{"$f":"IF(Template!$O$783<>\"\",Template!$O$783,\"\")","v":""}]
[null,{"$f":"Template!$H$784","v":0},{"$error":"#REF!"},"Calendar_Year_Mar",{"$f":"IF(LEFT(Template!$K$784,2)=\"CC\",Template!$K$784,\"\")","v":""},{"$f":"IF(LEFT(Template!$M$784,2)=\"RC\",Template!$M$784,\"\")","v":""},{"$f":"IF(LEFT(Template!$M$784,2)=\"SC\",Template!$M$784,\"\")","v":""},{"$f":"IF(LEFT(Template!$K$784,2)=\"AC\",Template!$K$784,\"\")","v":""},{"$f":"IF(OR(LEFT(Template!$K$784,2)=\"PJ\", LEFT(Template!$K$784,2)=\"PR\"),Template!$K$784,\"\")","v":""},{"$f":"IF(LEFT(Template!$K$784,2)=\"GF\",Template!$K$784,\"\")","v":""},{"$f":"IF(Template!$S$784<>\"\",Template!$S$784,\"\")","v":""},null,null,null,null,{"$f":"IF(Template!$L$784<>\"\",Template!$L$784,\"\")","v":""},"BYU_Child",null,null,"USD",null,55317.83,null,null,null,{"$f":"IF(Template!$O$784<>\"\",Template!$O$784,\"\")","v":""}]
[null,{"$f":"Template!$H$785","v":0},{"$error":"#REF!"},"Calendar_Year_Mar",{"$f":"IF(LEFT(Template!$K$785,2)=\"CC\",Template!$K$785,\"\")","v":""},{"$f":"IF(LEFT(Template!$M$785,2)=\"RC\",Template!$M$785,\"\")","v":""},{"$f":"IF(LEFT(Template!$M$785,2)=\"SC\",Template!$M$785,\"\")","v":""},{"$f":"IF(LEFT(Template!$K$785,2)=\"AC\",Template!$K$785,\"\")","v":""},{"$f":"IF(OR(LEFT(Template!$K$785,2)=\"PJ\", LEFT(Template!$K$785,2)=\"PR\"),Template!$K$785,\"\")","v":""},{"$f":"IF(LEFT(Template!$K$785,2)=\"GF\",Template!$K$785,\"\")","v":""},{"$f":"IF(Template!$S$785<>\"\",Template!$S$785,\"\")","v":""},null,null,null,null,{"$f":"IF(Template!$L$785<>\"\",Template!$L$785,\"\")","v":""},"BYU_Child",null,null,"USD",null,null,11528,null,null,{"$f":"IF(Template!$O$785<>\"\",Template!$O$785,\"\")","v":""}]
[null,{"$f":"Template!$H$786","v":0},{"$error":"#REF!"},"Calendar_Year_Mar",{"$f":"IF(LEFT(Template!$K$786,2)=\"CC\",Template!$K$786,\"\")","v":""},{"$f":"IF(LEFT(Template!$M$786,2)=\"RC\",Template!$M$786,\"\")","v":""},{"$f":"IF(LEFT(Template!$M$786,2)=\"SC\",Template!$M$786,\"\")","v":""},{"$f":"IF(LEFT(Template!$K$786,2)=\"AC\",Template!$K$786,\"\")","v":""},{"$f":"IF(OR(LEFT(Template!$K$786,2)=\"PJ\", LEFT(Template!$K$786,2)=\"PR\"),Template!$K$786,\"\")","v":""},{"$f":"IF(LEFT(Template!$K$786,2)=\"GF\",Template!$K$786,\"\")","v":""},{"$f":"IF(Template!$S$786<>\"\",Template!$S$786,\"\")","v":""},null,null,null,null,{"$f":"IF(Template!$L$786<>\"\",Template!$L$786,\"\")","v":""},"BYU_Child",null,null,"USD",null,8455.25,null,null,null,{"$f":"IF(Template!$O$786<>\"\",Template!$O$786,\"\")","v":""}]
[null,{"$f":"Template!$H$787","v":0},{"$error":"#REF!"},"Calendar_Year_Mar",{"$f":"IF(LEFT(Template!$K$787,2)=\"CC\",Template!$K$787,\"\")","v":""},{"$f":"IF(LEFT(Template!$M$787,2)=\"RC\",Template!$M$787,\"\")","v":""},{"$f":"IF(LEFT(Template!$M$787,2)=\"SC\",Template!$M$787,\"\")","v":""},{"$f":"IF(LEFT(Template!$K$787,2)=\"AC\",Template!$K$787,\"\")","v":""},{"$f":"IF(OR(LEFT(Template!$K$787,2)=\"PJ\", LEFT(Template!$K$787,2)=\"PR\"),Template!$K$787,\"\")","v":""},{"$f":"IF(LEFT(Template!$K$787,2)=\"GF\",Template!$K$787,\"\")","v":""},{"$f":"IF(Template!$S$787<>\"\",Template!$S$787,\"\")","v":""},null,null,null,null,{"$f":"IF(Template!$L$787<>\"\",Template!$L$787,\"\")","v":""},"BYU_Child",null,null,"USD",null,775.31,null,null,null,{"$f":"IF(Template!$O$787<>\"\",Template!$O$787,\"\")","v":""}]
[null,{"$f":"Template!$H$788","v":0},{"$error":"#REF!"},"Calendar_Year_Mar",{"$f":"IF(LEFT(Template!$K$788,2)=\"CC\",Template!$K$788,\"\")","v":""},{"$f":"IF(LEFT(Template!$M$788,2)=\"RC\",Template!$M$788,\"\")","v":""},{"$f":"IF(LEFT(Template!$M$788,2)=\"SC\",Template!$M$788,\"\")","v":""},{"$f":"IF(LEFT(Template!$K$788,2)=\"AC\",Template!$K$788,\"\")","v":""},{"$f":"IF(OR(LEFT(Template!$K$788,2)=\"PJ\", LEFT(Template!$K$788,2)=\"PR\"),Template!$K$788,\"\")","v":""},{"$f":"IF(LEFT(Template!$K$788,2)=\"GF\",Template!$K$788,\"\")","v":""},{"$f":"IF(Template!$S$788<>\"\",Template!$S$788,\"\")","v":""},null,null,null,null,{"$f":"IF(Template!$L$788<>\"\",Template!$L$788,\"\")","v":""},"BYU_Child",null,null,"USD",null,null,2582,null,null,{"$f":"IF(Template!$O$788<>\"\",Template!$O$788,\"\")","v":""}]
[null,{"$f":"Template!$H$789","v":0},{"$error":"#REF!"},"Calendar_Year_Mar",{"$f":"IF(LEFT(Template!$K$789,2)=\"CC\",Template!$K$789,\"\")","v":""},{"$f":"IF(LEFT(Template!$M$789,2)=\"RC\",Template!$M$789,\"\")","v":""},{"$f":"IF(LEFT(Template!$M$789,2)=\"SC\",Template!$M$789,\"\")","v":""},{"$f":"IF(LEFT(Template!$K$789,2)=\"AC\",Template!$K$789,\"\")","v":""},{"$f":"IF(OR(LEFT(Template!$K$789,2)=\"PJ\", LEFT(Template!$K$789,2)=\"PR\"),Template!$K$789,\"\")","v":""},{"$f":"IF(LEFT(Template!$K$789,2)=\"GF\",Template!$K$789,\"\")","v":""},{"$f":"IF(Template!$S$789<>\"\",Template!$S$789,\"\")","v":""},null,null,null,null,{"$f":"IF(Template!$L$789<>\"\",Template!$L$789,\"\")","v":""},"BYU_Child",null,null,"USD",null,211977.87,null,null,null,{"$f":"IF(Template!$O$789<>\"\",Template!$O$789,\"\")","v":""}]
[null,{"$f":"Template!$H$790","v":0},{"$error":"#REF!"},"Calendar_Year_Mar",{"$f":"IF(LEFT(Template!$K$790,2)=\"CC\",Template!$K$790,\"\")","v":""},{"$f":"IF(LEFT(Template!$M$790,2)=\"RC\",Template!$M$790,\"\")","v":""},{"$f":"IF(LEFT(Template!$M$790,2)=\"SC\",Template!$M$790,\"\")","v":""},{"$f":"IF(LEFT(Template!$K$790,2)=\"AC\",Template!$K$790,\"\")","v":""},{"$f":"IF(OR(LEFT(Template!$K$790,2)=\"PJ\", LEFT(Template!$K$790,2)=\"PR\"),Template!$K$790,\"\")","v":""},{"$f":"IF(LEFT(Template!$K$790,2)=\"GF\",Template!$K$790,\"\")","v":""},{"$f":"IF(Template!$S$790<>\"\",Template!$S$790,\"\")","v":""},null,null,null,null,{"$f":"IF(Template!$L$790<>\"\",Template!$L$790,\"\")","v":""},"BYU_Child",null,null,"USD",null,3445.72,null,null,null,{"$f":"IF(Template!$O$790<>\"\",Template!$O$790,\"\")","v":""}]
[null,{"$f":"Template!$H$791","v":0},{"$error":"#REF!"},"Calendar_Year_Mar",{"$f":"IF(LEFT(Template!$K$791,2)=\"CC\",Template!$K$791,\"\")","v":""},{"$f":"IF(LEFT(Template!$M$791,2)=\"RC\",Template!$M$791,\"\")","v":""},{"$f":"IF(LEFT(Template!$M$791,2)=\"SC\",Template!$M$791,\"\")","v":""},{"$f":"IF(LEFT(Template!$K$791,2)=\"AC\",Template!$K$791,\"\")","v":""},{"$f":"IF(OR(LEFT(Template!$K$791,2)=\"PJ\", LEFT(Template!$K$791,2)=\"PR\"),Template!$K$791,\"\")","v":""},{"$f":"IF(LEFT(Template!$K$791,2)=\"GF\",Template!$K$791,\"\")","v":""},{"$f":"IF(Template!$S$791<>\"\",Template!$S$791,\"\")","v":""},null,null,null,null,{"$f":"IF(Template!$L$791<>\"\",Template!$L$791,\"\")","v":""},"BYU_Child",null,null,"USD",null,13405.25,null,null,null,{"$f":"IF(Template!$O$791<>\"\",Template!$O$791,\"\")","v":""}]
[null,{"$f":"Template!$H$792","v":0},{"$error":"#REF!"},"Calendar_Year_Mar",{"$f":"IF(LEFT(Template!$K$792,2)=\"CC\",Template!$K$792,\"\")","v":""},{"$f":"IF(LEFT(Template!$M$792,2)=\"RC\",Template!$M$792,\"\")","v":""},{"$f":"IF(LEFT(Template!$M$792,2)=\"SC\",Template!$M$792,\"\")","v":""},{"$f":"IF(LEFT(Template!$K$792,2)=\"AC\",Template!$K$792,\"\")","v":""},{"$f":"IF(OR(LEFT(Template!$K$792,2)=\"PJ\", LEFT(Template!$K$792,2)=\"PR\"),Template!$K$792,\"\")","v":""},{"$f":"IF(LEFT(Template!$K$792,2)=\"GF\",Template!$K$792,\"\")","v":""},{"$f":"IF(Template!$S$792<>\"\",Template!$S$792,\"\")","v":""},null,null,null,null,{"$f":"IF(Template!$L$792<>\"\",Template!$L$792,\"\")","v":""},"BYU_Child",null,null,"USD",null,39.119999999999997,null,null,null,{"$f":"IF(Template!$O$792<>\"\",Template!$O$792,\"\")","v":""}]
[null,{"$f":"Template!$H$793","v":0},{"$error":"#REF!"},"Calendar_Year_Mar",{"$f":"IF(LEFT(Template!$K$793,2)=\"CC\",Template!$K$793,\"\")","v":""},{"$f":"IF(LEFT(Template!$M$793,2)=\"RC\",Template!$M$793,\"\")","v":""},{"$f":"IF(LEFT(Template!$M$793,2)=\"SC\",Template!$M$793,\"\")","v":""},{"$f":"IF(LEFT(Template!$K$793,2)=\"AC\",Template!$K$793,\"\")","v":""},{"$f":"IF(OR(LEFT(Template!$K$793,2)=\"PJ\", LEFT(Template!$K$793,2)=\"PR\"),Template!$K$793,\"\")","v":""},{"$f":"IF(LEFT(Template!$K$793,2)=\"GF\",Template!$K$793,\"\")","v":""},{"$f":"IF(Template!$S$793<>\"\",Template!$S$793,\"\")","v":""},null,null,null,null,{"$f":"IF(Template!$L$793<>\"\",Template!$L$793,\"\")","v":""},"BYU_Child",null,null,"USD",null,null,38088,null,null,{"$f":"IF(Template!$O$793<>\"\",Template!$O$793,\"\")","v":""}]
[null,{"$f":"Template!$H$794","v":0},{"$error":"#REF!"},"Calendar_Year_Mar",{"$f":"IF(LEFT(Template!$K$794,2)=\"CC\",Template!$K$794,\"\")","v":""},{"$f":"IF(LEFT(Template!$M$794,2)=\"RC\",Template!$M$794,\"\")","v":""},{"$f":"IF(LEFT(Template!$M$794,2)=\"SC\",Template!$M$794,\"\")","v":""},{"$f":"IF(LEFT(Template!$K$794,2)=\"AC\",Template!$K$794,\"\")","v":""},{"$f":"IF(OR(LEFT(Template!$K$794,2)=\"PJ\", LEFT(Template!$K$794,2)=\"PR\"),Template!$K$794,\"\")","v":""},{"$f":"IF(LEFT(Template!$K$794,2)=\"GF\",Template!$K$794,\"\")","v":""},{"$f":"IF(Template!$S$794<>\"\",Template!$S$794,\"\")","v":""},null,null,null,null,{"$f":"IF(Template!$L$794<>\"\",Template!$L$794,\"\")","v":""},"BYU_Child",null,null,"USD",null,18723.32,null,null,null,{"$f":"IF(Template!$O$794<>\"\",Template!$O$794,\"\")","v":""}]
[null,{"$f":"Template!$H$795","v":0},{"$error":"#REF!"},"Calendar_Year_Mar",{"$f":"IF(LEFT(Template!$K$795,2)=\"CC\",Template!$K$795,\"\")","v":""},{"$f":"IF(LEFT(Template!$M$795,2)=\"RC\",Template!$M$795,\"\")","v":""},{"$f":"IF(LEFT(Template!$M$795,2)=\"SC\",Template!$M$795,\"\")","v":""},{"$f":"IF(LEFT(Template!$K$795,2)=\"AC\",Template!$K$795,\"\")","v":""},{"$f":"IF(OR(LEFT(Template!$K$795,2)=\"PJ\", LEFT(Template!$K$795,2)=\"PR\"),Template!$K$795,\"\")","v":""},{"$f":"IF(LEFT(Template!$K$795,2)=\"GF\",Template!$K$795,\"\")","v":""},{"$f":"IF(Template!$S$795<>\"\",Template!$S$795,\"\")","v":""},null,null,null,null,{"$f":"IF(Template!$L$795<>\"\",Template!$L$795,\"\")","v":""},"BYU_Child",null,null,"USD",null,439,null,null,null,{"$f":"IF(Template!$O$795<>\"\",Template!$O$795,\"\")","v":""}]
[null,{"$f":"Template!$H$796","v":0},{"$error":"#REF!"},"Calendar_Year_Mar",{"$f":"IF(LEFT(Template!$K$796,2)=\"CC\",Template!$K$796,\"\")","v":""},{"$f":"IF(LEFT(Template!$M$796,2)=\"RC\",Template!$M$796,\"\")","v":""},{"$f":"IF(LEFT(Template!$M$796,2)=\"SC\",Template!$M$796,\"\")","v":""},{"$f":"IF(LEFT(Template!$K$796,2)=\"AC\",Template!$K$796,\"\")","v":""},{"$f":"IF(OR(LEFT(Template!$K$796,2)=\"PJ\", LEFT(Template!$K$796,2)=\"PR\"),Template!$K$796,\"\")","v":""},{"$f":"IF(LEFT(Template!$K$796,2)=\"GF\",Template!$K$796,\"\")","v":""},{"$f":"IF(Template!$S$796<>\"\",Template!$S$796,\"\")","v":""},null,null,null,null,{"$f":"IF(Template!$L$796<>\"\",Template!$L$796,\"\")","v":""},"BYU_Child",null,null,"USD",null,1922.03,null,null,null,{"$f":"IF(Template!$O$796<>\"\",Template!$O$796,\"\")","v":""}]
[null,{"$f":"Template!$H$797","v":0},{"$error":"#REF!"},"Calendar_Year_Mar",{"$f":"IF(LEFT(Template!$K$797,2)=\"CC\",Template!$K$797,\"\")","v":""},{"$f":"IF(LEFT(Template!$M$797,2)=\"RC\",Template!$M$797,\"\")","v":""},{"$f":"IF(LEFT(Template!$M$797,2)=\"SC\",Template!$M$797,\"\")","v":""},{"$f":"IF(LEFT(Template!$K$797,2)=\"AC\",Template!$K$797,\"\")","v":""},{"$f":"IF(OR(LEFT(Template!$K$797,2)=\"PJ\", LEFT(Template!$K$797,2)=\"PR\"),Template!$K$797,\"\")","v":""},{"$f":"IF(LEFT(Template!$K$797,2)=\"GF\",Template!$K$797,\"\")","v":""},{"$f":"IF(Template!$S$797<>\"\",Template!$S$797,\"\")","v":""},null,null,null,null,{"$f":"IF(Template!$L$797<>\"\",Template!$L$797,\"\")","v":""},"BYU_Child",null,null,"USD",null,null,23767,null,null,{"$f":"IF(Template!$O$797<>\"\",Template!$O$797,\"\")","v":""}]
[null,{"$f":"Template!$H$798","v":0},{"$error":"#REF!"},"Calendar_Year_Mar",{"$f":"IF(LEFT(Template!$K$798,2)=\"CC\",Template!$K$798,\"\")","v":""},{"$f":"IF(LEFT(Template!$M$798,2)=\"RC\",Template!$M$798,\"\")","v":""},{"$f":"IF(LEFT(Template!$M$798,2)=\"SC\",Template!$M$798,\"\")","v":""},{"$f":"IF(LEFT(Template!$K$798,2)=\"AC\",Template!$K$798,\"\")","v":""},{"$f":"IF(OR(LEFT(Template!$K$798,2)=\"PJ\", LEFT(Template!$K$798,2)=\"PR\"),Template!$K$798,\"\")","v":""},{"$f":"IF(LEFT(Template!$K$798,2)=\"GF\",Template!$K$798,\"\")","v":""},{"$f":"IF(Template!$S$798<>\"\",Template!$S$798,\"\")","v":""},null,null,null,null,{"$f":"IF(Template!$L$798<>\"\",Template!$L$798,\"\")","v":""},"BYU_Child",null,null,"USD",null,4486.91,null,null,null,{"$f":"IF(Template!$O$798<>\"\",Template!$O$798,\"\")","v":""}]
[null,{"$f":"Template!$H$799","v":0},{"$error":"#REF!"},"Calendar_Year_Mar",{"$f":"IF(LEFT(Template!$K$799,2)=\"CC\",Template!$K$799,\"\")","v":""},{"$f":"IF(LEFT(Template!$M$799,2)=\"RC\",Template!$M$799,\"\")","v":""},{"$f":"IF(LEFT(Template!$M$799,2)=\"SC\",Template!$M$799,\"\")","v":""},{"$f":"IF(LEFT(Template!$K$799,2)=\"AC\",Template!$K$799,\"\")","v":""},{"$f":"IF(OR(LEFT(Template!$K$799,2)=\"PJ\", LEFT(Template!$K$799,2)=\"PR\"),Template!$K$799,\"\")","v":""},{"$f":"IF(LEFT(Template!$K$799,2)=\"GF\",Template!$K$799,\"\")","v":""},{"$f":"IF(Template!$S$799<>\"\",Template!$S$799,\"\")","v":""},null,null,null,null,{"$f":"IF(Template!$L$799<>\"\",Template!$L$799,\"\")","v":""},"BYU_Child",null,null,"USD",null,3451.76,null,null,null,{"$f":"IF(Template!$O$799<>\"\",Template!$O$799,\"\")","v":""}]
[null,{"$f":"Template!$H$800","v":0},{"$error":"#REF!"},"Calendar_Year_Mar",{"$f":"IF(LEFT(Template!$K$800,2)=\"CC\",Template!$K$800,\"\")","v":""},{"$f":"IF(LEFT(Template!$M$800,2)=\"RC\",Template!$M$800,\"\")","v":""},{"$f":"IF(LEFT(Template!$M$800,2)=\"SC\",Template!$M$800,\"\")","v":""},{"$f":"IF(LEFT(Template!$K$800,2)=\"AC\",Template!$K$800,\"\")","v":""},{"$f":"IF(OR(LEFT(Template!$K$800,2)=\"PJ\", LEFT(Template!$K$800,2)=\"PR\"),Template!$K$800,\"\")","v":""},{"$f":"IF(LEFT(Template!$K$800,2)=\"GF\",Template!$K$800,\"\")","v":""},{"$f":"IF(Template!$S$800<>\"\",Template!$S$800,\"\")","v":""},null,null,null,null,{"$f":"IF(Template!$L$800<>\"\",Template!$L$800,\"\")","v":""},"BYU_Child",null,null,"USD",null,2831.43,null,null,null,{"$f":"IF(Template!$O$800<>\"\",Template!$O$800,\"\")","v":""}]
[null,{"$f":"Template!$H$801","v":0},{"$error":"#REF!"},"Calendar_Year_Mar",{"$f":"IF(LEFT(Template!$K$801,2)=\"CC\",Template!$K$801,\"\")","v":""},{"$f":"IF(LEFT(Template!$M$801,2)=\"RC\",Template!$M$801,\"\")","v":""},{"$f":"IF(LEFT(Template!$M$801,2)=\"SC\",Template!$M$801,\"\")","v":""},{"$f":"IF(LEFT(Template!$K$801,2)=\"AC\",Template!$K$801,\"\")","v":""},{"$f":"IF(OR(LEFT(Template!$K$801,2)=\"PJ\", LEFT(Template!$K$801,2)=\"PR\"),Template!$K$801,\"\")","v":""},{"$f":"IF(LEFT(Template!$K$801,2)=\"GF\",Template!$K$801,\"\")","v":""},{"$f":"IF(Template!$S$801<>\"\",Template!$S$801,\"\")","v":""},null,null,null,null,{"$f":"IF(Template!$L$801<>\"\",Template!$L$801,\"\")","v":""},"BYU_Child",null,null,"USD",null,79547.37,null,null,null,{"$f":"IF(Template!$O$801<>\"\",Template!$O$801,\"\")","v":""}]
[null,{"$f":"Template!$H$802","v":0},{"$error":"#REF!"},"Calendar_Year_Mar",{"$f":"IF(LEFT(Template!$K$802,2)=\"CC\",Template!$K$802,\"\")","v":""},{"$f":"IF(LEFT(Template!$M$802,2)=\"RC\",Template!$M$802,\"\")","v":""},{"$f":"IF(LEFT(Template!$M$802,2)=\"SC\",Template!$M$802,\"\")","v":""},{"$f":"IF(LEFT(Template!$K$802,2)=\"AC\",Template!$K$802,\"\")","v":""},{"$f":"IF(OR(LEFT(Template!$K$802,2)=\"PJ\", LEFT(Template!$K$802,2)=\"PR\"),Template!$K$802,\"\")","v":""},{"$f":"IF(LEFT(Template!$K$802,2)=\"GF\",Template!$K$802,\"\")","v":""},{"$f":"IF(Template!$S$802<>\"\",Template!$S$802,\"\")","v":""},null,null,null,null,{"$f":"IF(Template!$L$802<>\"\",Template!$L$802,\"\")","v":""},"BYU_Child",null,null,"USD",null,473.32,null,null,null,{"$f":"IF(Template!$O$802<>\"\",Template!$O$802,\"\")","v":""}]
[null,{"$f":"Template!$H$803","v":0},{"$error":"#REF!"},"Calendar_Year_Mar",{"$f":"IF(LEFT(Template!$K$803,2)=\"CC\",Template!$K$803,\"\")","v":""},{"$f":"IF(LEFT(Template!$M$803,2)=\"RC\",Template!$M$803,\"\")","v":""},{"$f":"IF(LEFT(Template!$M$803,2)=\"SC\",Template!$M$803,\"\")","v":""},{"$f":"IF(LEFT(Template!$K$803,2)=\"AC\",Template!$K$803,\"\")","v":""},{"$f":"IF(OR(LEFT(Template!$K$803,2)=\"PJ\", LEFT(Template!$K$803,2)=\"PR\"),Template!$K$803,\"\")","v":""},{"$f":"IF(LEFT(Template!$K$803,2)=\"GF\",Template!$K$803,\"\")","v":""},{"$f":"IF(Template!$S$803<>\"\",Template!$S$803,\"\")","v":""},null,null,null,null,{"$f":"IF(Template!$L$803<>\"\",Template!$L$803,\"\")","v":""},"BYU_Child",null,null,"USD",null,6626.51,null,null,null,{"$f":"IF(Template!$O$803<>\"\",Template!$O$803,\"\")","v":""}]
[null,{"$f":"Template!$H$804","v":0},{"$error":"#REF!"},"Calendar_Year_Mar",{"$f":"IF(LEFT(Template!$K$804,2)=\"CC\",Template!$K$804,\"\")","v":""},{"$f":"IF(LEFT(Template!$M$804,2)=\"RC\",Template!$M$804,\"\")","v":""},{"$f":"IF(LEFT(Template!$M$804,2)=\"SC\",Template!$M$804,\"\")","v":""},{"$f":"IF(LEFT(Template!$K$804,2)=\"AC\",Template!$K$804,\"\")","v":""},{"$f":"IF(OR(LEFT(Template!$K$804,2)=\"PJ\", LEFT(Template!$K$804,2)=\"PR\"),Template!$K$804,\"\")","v":""},{"$f":"IF(LEFT(Template!$K$804,2)=\"GF\",Template!$K$804,\"\")","v":""},{"$f":"IF(Template!$S$804<>\"\",Template!$S$804,\"\")","v":""},null,null,null,null,{"$f":"IF(Template!$L$804<>\"\",Template!$L$804,\"\")","v":""},"BYU_Child",null,null,"USD",null,2175.64,null,null,null,{"$f":"IF(Template!$O$804<>\"\",Template!$O$804,\"\")","v":""}]
[null,{"$f":"Template!$H$805","v":0},{"$error":"#REF!"},"Calendar_Year_Mar",{"$f":"IF(LEFT(Template!$K$805,2)=\"CC\",Template!$K$805,\"\")","v":""},{"$f":"IF(LEFT(Template!$M$805,2)=\"RC\",Template!$M$805,\"\")","v":""},{"$f":"IF(LEFT(Template!$M$805,2)=\"SC\",Template!$M$805,\"\")","v":""},{"$f":"IF(LEFT(Template!$K$805,2)=\"AC\",Template!$K$805,\"\")","v":""},{"$f":"IF(OR(LEFT(Template!$K$805,2)=\"PJ\", LEFT(Template!$K$805,2)=\"PR\"),Template!$K$805,\"\")","v":""},{"$f":"IF(LEFT(Template!$K$805,2)=\"GF\",Template!$K$805,\"\")","v":""},{"$f":"IF(Template!$S$805<>\"\",Template!$S$805,\"\")","v":""},null,null,null,null,{"$f":"IF(Template!$L$805<>\"\",Template!$L$805,\"\")","v":""},"BYU_Child",null,null,"USD",null,30694.17,null,null,null,{"$f":"IF(Template!$O$805<>\"\",Template!$O$805,\"\")","v":""}]
[null,{"$f":"Template!$H$806","v":0},{"$error":"#REF!"},"Calendar_Year_Mar",{"$f":"IF(LEFT(Template!$K$806,2)=\"CC\",Template!$K$806,\"\")","v":""},{"$f":"IF(LEFT(Template!$M$806,2)=\"RC\",Template!$M$806,\"\")","v":""},{"$f":"IF(LEFT(Template!$M$806,2)=\"SC\",Template!$M$806,\"\")","v":""},{"$f":"IF(LEFT(Template!$K$806,2)=\"AC\",Template!$K$806,\"\")","v":""},{"$f":"IF(OR(LEFT(Template!$K$806,2)=\"PJ\", LEFT(Template!$K$806,2)=\"PR\"),Template!$K$806,\"\")","v":""},{"$f":"IF(LEFT(Template!$K$806,2)=\"GF\",Template!$K$806,\"\")","v":""},{"$f":"IF(Template!$S$806<>\"\",Template!$S$806,\"\")","v":""},null,null,null,null,{"$f":"IF(Template!$L$806<>\"\",Template!$L$806,\"\")","v":""},"BYU_Child",null,null,"USD",null,9911.6200000000008,null,null,null,{"$f":"IF(Template!$O$806<>\"\",Template!$O$806,\"\")","v":""}]
[null,{"$f":"Template!$H$807","v":0},{"$error":"#REF!"},"Calendar_Year_Mar",{"$f":"IF(LEFT(Template!$K$807,2)=\"CC\",Template!$K$807,\"\")","v":""},{"$f":"IF(LEFT(Template!$M$807,2)=\"RC\",Template!$M$807,\"\")","v":""},{"$f":"IF(LEFT(Template!$M$807,2)=\"SC\",Template!$M$807,\"\")","v":""},{"$f":"IF(LEFT(Template!$K$807,2)=\"AC\",Template!$K$807,\"\")","v":""},{"$f":"IF(OR(LEFT(Template!$K$807,2)=\"PJ\", LEFT(Template!$K$807,2)=\"PR\"),Template!$K$807,\"\")","v":""},{"$f":"IF(LEFT(Template!$K$807,2)=\"GF\",Template!$K$807,\"\")","v":""},{"$f":"IF(Template!$S$807<>\"\",Template!$S$807,\"\")","v":""},null,null,null,null,{"$f":"IF(Template!$L$807<>\"\",Template!$L$807,\"\")","v":""},"BYU_Child",null,null,"USD",null,157.15,null,null,null,{"$f":"IF(Template!$O$807<>\"\",Template!$O$807,\"\")","v":""}]
[null,{"$f":"Template!$H$808","v":0},{"$error":"#REF!"},"Calendar_Year_Mar",{"$f":"IF(LEFT(Template!$K$808,2)=\"CC\",Template!$K$808,\"\")","v":""},{"$f":"IF(LEFT(Template!$M$808,2)=\"RC\",Template!$M$808,\"\")","v":""},{"$f":"IF(LEFT(Template!$M$808,2)=\"SC\",Template!$M$808,\"\")","v":""},{"$f":"IF(LEFT(Template!$K$808,2)=\"AC\",Template!$K$808,\"\")","v":""},{"$f":"IF(OR(LEFT(Template!$K$808,2)=\"PJ\", LEFT(Template!$K$808,2)=\"PR\"),Template!$K$808,\"\")","v":""},{"$f":"IF(LEFT(Template!$K$808,2)=\"GF\",Template!$K$808,\"\")","v":""},{"$f":"IF(Template!$S$808<>\"\",Template!$S$808,\"\")","v":""},null,null,null,null,{"$f":"IF(Template!$L$808<>\"\",Template!$L$808,\"\")","v":""},"BYU_Child",null,null,"USD",null,13622.28,null,null,null,{"$f":"IF(Template!$O$808<>\"\",Template!$O$808,\"\")","v":""}]
[null,{"$f":"Template!$H$809","v":0},{"$error":"#REF!"},"Calendar_Year_Mar",{"$f":"IF(LEFT(Template!$K$809,2)=\"CC\",Template!$K$809,\"\")","v":""},{"$f":"IF(LEFT(Template!$M$809,2)=\"RC\",Template!$M$809,\"\")","v":""},{"$f":"IF(LEFT(Template!$M$809,2)=\"SC\",Template!$M$809,\"\")","v":""},{"$f":"IF(LEFT(Template!$K$809,2)=\"AC\",Template!$K$809,\"\")","v":""},{"$f":"IF(OR(LEFT(Template!$K$809,2)=\"PJ\", LEFT(Template!$K$809,2)=\"PR\"),Template!$K$809,\"\")","v":""},{"$f":"IF(LEFT(Template!$K$809,2)=\"GF\",Template!$K$809,\"\")","v":""},{"$f":"IF(Template!$S$809<>\"\",Template!$S$809,\"\")","v":""},null,null,null,null,{"$f":"IF(Template!$L$809<>\"\",Template!$L$809,\"\")","v":""},"BYU_Child",null,null,"USD",null,2758.48,null,null,null,{"$f":"IF(Template!$O$809<>\"\",Template!$O$809,\"\")","v":""}]
[null,{"$f":"Template!$H$810","v":0},{"$error":"#REF!"},"Calendar_Year_Mar",{"$f":"IF(LEFT(Template!$K$810,2)=\"CC\",Template!$K$810,\"\")","v":""},{"$f":"IF(LEFT(Template!$M$810,2)=\"RC\",Template!$M$810,\"\")","v":""},{"$f":"IF(LEFT(Template!$M$810,2)=\"SC\",Template!$M$810,\"\")","v":""},{"$f":"IF(LEFT(Template!$K$810,2)=\"AC\",Template!$K$810,\"\")","v":""},{"$f":"IF(OR(LEFT(Template!$K$810,2)=\"PJ\", LEFT(Template!$K$810,2)=\"PR\"),Template!$K$810,\"\")","v":""},{"$f":"IF(LEFT(Template!$K$810,2)=\"GF\",Template!$K$810,\"\")","v":""},{"$f":"IF(Template!$S$810<>\"\",Template!$S$810,\"\")","v":""},null,null,null,null,{"$f":"IF(Template!$L$810<>\"\",Template!$L$810,\"\")","v":""},"BYU_Child",null,null,"USD",null,22804.6,null,null,null,{"$f":"IF(Template!$O$810<>\"\",Template!$O$810,\"\")","v":""}]
[null,{"$f":"Template!$H$811","v":0},{"$error":"#REF!"},"Calendar_Year_Mar",{"$f":"IF(LEFT(Template!$K$811,2)=\"CC\",Template!$K$811,\"\")","v":""},{"$f":"IF(LEFT(Template!$M$811,2)=\"RC\",Template!$M$811,\"\")","v":""},{"$f":"IF(LEFT(Template!$M$811,2)=\"SC\",Template!$M$811,\"\")","v":""},{"$f":"IF(LEFT(Template!$K$811,2)=\"AC\",Template!$K$811,\"\")","v":""},{"$f":"IF(OR(LEFT(Template!$K$811,2)=\"PJ\", LEFT(Template!$K$811,2)=\"PR\"),Template!$K$811,\"\")","v":""},{"$f":"IF(LEFT(Template!$K$811,2)=\"GF\",Template!$K$811,\"\")","v":""},{"$f":"IF(Template!$S$811<>\"\",Template!$S$811,\"\")","v":""},null,null,null,null,{"$f":"IF(Template!$L$811<>\"\",Template!$L$811,\"\")","v":""},"BYU_Child",null,null,"USD",null,2316.21,null,null,null,{"$f":"IF(Template!$O$811<>\"\",Template!$O$811,\"\")","v":""}]
[null,{"$f":"Template!$H$812","v":0},{"$error":"#REF!"},"Calendar_Year_Mar",{"$f":"IF(LEFT(Template!$K$812,2)=\"CC\",Template!$K$812,\"\")","v":""},{"$f":"IF(LEFT(Template!$M$812,2)=\"RC\",Template!$M$812,\"\")","v":""},{"$f":"IF(LEFT(Template!$M$812,2)=\"SC\",Template!$M$812,\"\")","v":""},{"$f":"IF(LEFT(Template!$K$812,2)=\"AC\",Template!$K$812,\"\")","v":""},{"$f":"IF(OR(LEFT(Template!$K$812,2)=\"PJ\", LEFT(Template!$K$812,2)=\"PR\"),Template!$K$812,\"\")","v":""},{"$f":"IF(LEFT(Template!$K$812,2)=\"GF\",Template!$K$812,\"\")","v":""},{"$f":"IF(Template!$S$812<>\"\",Template!$S$812,\"\")","v":""},null,null,null,null,{"$f":"IF(Template!$L$812<>\"\",Template!$L$812,\"\")","v":""},"BYU_Child",null,null,"USD",null,1165.0899999999999,null,null,null,{"$f":"IF(Template!$O$812<>\"\",Template!$O$812,\"\")","v":""}]
[null,{"$f":"Template!$H$813","v":0},{"$error":"#REF!"},"Calendar_Year_Mar",{"$f":"IF(LEFT(Template!$K$813,2)=\"CC\",Template!$K$813,\"\")","v":""},{"$f":"IF(LEFT(Template!$M$813,2)=\"RC\",Template!$M$813,\"\")","v":""},{"$f":"IF(LEFT(Template!$M$813,2)=\"SC\",Template!$M$813,\"\")","v":""},{"$f":"IF(LEFT(Template!$K$813,2)=\"AC\",Template!$K$813,\"\")","v":""},{"$f":"IF(OR(LEFT(Template!$K$813,2)=\"PJ\", LEFT(Template!$K$813,2)=\"PR\"),Template!$K$813,\"\")","v":""},{"$f":"IF(LEFT(Template!$K$813,2)=\"GF\",Template!$K$813,\"\")","v":""},{"$f":"IF(Template!$S$813<>\"\",Template!$S$813,\"\")","v":""},null,null,null,null,{"$f":"IF(Template!$L$813<>\"\",Template!$L$813,\"\")","v":""},"BYU_Child",null,null,"USD",null,7431.85,null,null,null,{"$f":"IF(Template!$O$813<>\"\",Template!$O$813,\"\")","v":""}]
[null,{"$f":"Template!$H$814","v":0},{"$error":"#REF!"},"Calendar_Year_Mar",{"$f":"IF(LEFT(Template!$K$814,2)=\"CC\",Template!$K$814,\"\")","v":""},{"$f":"IF(LEFT(Template!$M$814,2)=\"RC\",Template!$M$814,\"\")","v":""},{"$f":"IF(LEFT(Template!$M$814,2)=\"SC\",Template!$M$814,\"\")","v":""},{"$f":"IF(LEFT(Template!$K$814,2)=\"AC\",Template!$K$814,\"\")","v":""},{"$f":"IF(OR(LEFT(Template!$K$814,2)=\"PJ\", LEFT(Template!$K$814,2)=\"PR\"),Template!$K$814,\"\")","v":""},{"$f":"IF(LEFT(Template!$K$814,2)=\"GF\",Template!$K$814,\"\")","v":""},{"$f":"IF(Template!$S$814<>\"\",Template!$S$814,\"\")","v":""},null,null,null,null,{"$f":"IF(Template!$L$814<>\"\",Template!$L$814,\"\")","v":""},"BYU_Child",null,null,"USD",null,530.78,null,null,null,{"$f":"IF(Template!$O$814<>\"\",Template!$O$814,\"\")","v":""}]
[null,{"$f":"Template!$H$815","v":0},{"$error":"#REF!"},"Calendar_Year_Mar",{"$f":"IF(LEFT(Template!$K$815,2)=\"CC\",Template!$K$815,\"\")","v":""},{"$f":"IF(LEFT(Template!$M$815,2)=\"RC\",Template!$M$815,\"\")","v":""},{"$f":"IF(LEFT(Template!$M$815,2)=\"SC\",Template!$M$815,\"\")","v":""},{"$f":"IF(LEFT(Template!$K$815,2)=\"AC\",Template!$K$815,\"\")","v":""},{"$f":"IF(OR(LEFT(Template!$K$815,2)=\"PJ\", LEFT(Template!$K$815,2)=\"PR\"),Template!$K$815,\"\")","v":""},{"$f":"IF(LEFT(Template!$K$815,2)=\"GF\",Template!$K$815,\"\")","v":""},{"$f":"IF(Template!$S$815<>\"\",Template!$S$815,\"\")","v":""},null,null,null,null,{"$f":"IF(Template!$L$815<>\"\",Template!$L$815,\"\")","v":""},"BYU_Child",null,null,"USD",null,15945.24,null,null,null,{"$f":"IF(Template!$O$815<>\"\",Template!$O$815,\"\")","v":""}]
[null,{"$f":"Template!$H$816","v":0},{"$error":"#REF!"},"Calendar_Year_Mar",{"$f":"IF(LEFT(Template!$K$816,2)=\"CC\",Template!$K$816,\"\")","v":""},{"$f":"IF(LEFT(Template!$M$816,2)=\"RC\",Template!$M$816,\"\")","v":""},{"$f":"IF(LEFT(Template!$M$816,2)=\"SC\",Template!$M$816,\"\")","v":""},{"$f":"IF(LEFT(Template!$K$816,2)=\"AC\",Template!$K$816,\"\")","v":""},{"$f":"IF(OR(LEFT(Template!$K$816,2)=\"PJ\", LEFT(Template!$K$816,2)=\"PR\"),Template!$K$816,\"\")","v":""},{"$f":"IF(LEFT(Template!$K$816,2)=\"GF\",Template!$K$816,\"\")","v":""},{"$f":"IF(Template!$S$816<>\"\",Template!$S$816,\"\")","v":""},null,null,null,null,{"$f":"IF(Template!$L$816<>\"\",Template!$L$816,\"\")","v":""},"BYU_Child",null,null,"USD",null,410.53,null,null,null,{"$f":"IF(Template!$O$816<>\"\",Template!$O$816,\"\")","v":""}]
[null,{"$f":"Template!$H$817","v":0},{"$error":"#REF!"},"Calendar_Year_Mar",{"$f":"IF(LEFT(Template!$K$817,2)=\"CC\",Template!$K$817,\"\")","v":""},{"$f":"IF(LEFT(Template!$M$817,2)=\"RC\",Template!$M$817,\"\")","v":""},{"$f":"IF(LEFT(Template!$M$817,2)=\"SC\",Template!$M$817,\"\")","v":""},{"$f":"IF(LEFT(Template!$K$817,2)=\"AC\",Template!$K$817,\"\")","v":""},{"$f":"IF(OR(LEFT(Template!$K$817,2)=\"PJ\", LEFT(Template!$K$817,2)=\"PR\"),Template!$K$817,\"\")","v":""},{"$f":"IF(LEFT(Template!$K$817,2)=\"GF\",Template!$K$817,\"\")","v":""},{"$f":"IF(Template!$S$817<>\"\",Template!$S$817,\"\")","v":""},null,null,null,null,{"$f":"IF(Template!$L$817<>\"\",Template!$L$817,\"\")","v":""},"BYU_Child",null,null,"USD",null,27555.99,null,null,null,{"$f":"IF(Template!$O$817<>\"\",Template!$O$817,\"\")","v":""}]
[null,{"$f":"Template!$H$818","v":0},{"$f":"IF(B711=B710,C710+1,1)","v":{"$error":"#REF!"}},"Calendar_Year_Mar",{"$f":"IF(LEFT(Template!$K$818,2)=\"CC\",Template!$K$818,\"\")","v":""},{"$f":"IF(LEFT(Template!$M$818,2)=\"RC\",Template!$M$818,\"\")","v":""},{"$f":"IF(LEFT(Template!$M$818,2)=\"SC\",Template!$M$818,\"\")","v":""},{"$f":"IF(LEFT(Template!$K$818,2)=\"AC\",Template!$K$818,\"\")","v":""},{"$f":"IF(OR(LEFT(Template!$K$818,2)=\"PJ\", LEFT(Template!$K$818,2)=\"PR\"),Template!$K$818,\"\")","v":""},{"$f":"IF(LEFT(Template!$K$818,2)=\"GF\",Template!$K$818,\"\")","v":""},{"$f":"IF(Template!$S$818<>\"\",Template!$S$818,\"\")","v":""},null,null,null,null,{"$f":"IF(Template!$L$818<>\"\",Template!$L$818,\"\")","v":""},"BYU_Child",null,null,"USD",null,2119.54,null,null,null,{"$f":"IF(Template!$O$818<>\"\",Template!$O$818,\"\")","v":""}]
[null,{"$f":"Template!$H$819","v":0},{"$error":"#REF!"},"Calendar_Year_Mar",{"$f":"IF(LEFT(Template!$K$819,2)=\"CC\",Template!$K$819,\"\")","v":""},{"$f":"IF(LEFT(Template!$M$819,2)=\"RC\",Template!$M$819,\"\")","v":""},{"$f":"IF(LEFT(Template!$M$819,2)=\"SC\",Template!$M$819,\"\")","v":""},{"$f":"IF(LEFT(Template!$K$819,2)=\"AC\",Template!$K$819,\"\")","v":""},{"$f":"IF(OR(LEFT(Template!$K$819,2)=\"PJ\", LEFT(Template!$K$819,2)=\"PR\"),Template!$K$819,\"\")","v":""},{"$f":"IF(LEFT(Template!$K$819,2)=\"GF\",Template!$K$819,\"\")","v":""},{"$f":"IF(Template!$S$819<>\"\",Template!$S$819,\"\")","v":""},null,null,null,null,{"$f":"IF(Template!$L$819<>\"\",Template!$L$819,\"\")","v":""},"BYU_Child",null,null,"USD",null,156.85,null,null,null,{"$f":"IF(Template!$O$819<>\"\",Template!$O$819,\"\")","v":""}]
[null,{"$f":"Template!$H$820","v":0},{"$error":"#REF!"},"Calendar_Year_Mar",{"$f":"IF(LEFT(Template!$K$820,2)=\"CC\",Template!$K$820,\"\")","v":""},{"$f":"IF(LEFT(Template!$M$820,2)=\"RC\",Template!$M$820,\"\")","v":""},{"$f":"IF(LEFT(Template!$M$820,2)=\"SC\",Template!$M$820,\"\")","v":""},{"$f":"IF(LEFT(Template!$K$820,2)=\"AC\",Template!$K$820,\"\")","v":""},{"$f":"IF(OR(LEFT(Template!$K$820,2)=\"PJ\", LEFT(Template!$K$820,2)=\"PR\"),Template!$K$820,\"\")","v":""},{"$f":"IF(LEFT(Template!$K$820,2)=\"GF\",Template!$K$820,\"\")","v":""},{"$f":"IF(Template!$S$820<>\"\",Template!$S$820,\"\")","v":""},null,null,null,null,{"$f":"IF(Template!$L$820<>\"\",Template!$L$820,\"\")","v":""},"BYU_Child",null,null,"USD",null,5643.9,null,null,null,{"$f":"IF(Template!$O$820<>\"\",Template!$O$820,\"\")","v":""}]
[null,{"$f":"Template!$H$821","v":0},{"$error":"#REF!"},"Calendar_Year_Mar",{"$f":"IF(LEFT(Template!$K$821,2)=\"CC\",Template!$K$821,\"\")","v":""},{"$f":"IF(LEFT(Template!$M$821,2)=\"RC\",Template!$M$821,\"\")","v":""},{"$f":"IF(LEFT(Template!$M$821,2)=\"SC\",Template!$M$821,\"\")","v":""},{"$f":"IF(LEFT(Template!$K$821,2)=\"AC\",Template!$K$821,\"\")","v":""},{"$f":"IF(OR(LEFT(Template!$K$821,2)=\"PJ\", LEFT(Template!$K$821,2)=\"PR\"),Template!$K$821,\"\")","v":""},{"$f":"IF(LEFT(Template!$K$821,2)=\"GF\",Template!$K$821,\"\")","v":""},{"$f":"IF(Template!$S$821<>\"\",Template!$S$821,\"\")","v":""},null,null,null,null,{"$f":"IF(Template!$L$821<>\"\",Template!$L$821,\"\")","v":""},"BYU_Child",null,null,"USD",null,17281.14,null,null,null,{"$f":"IF(Template!$O$821<>\"\",Template!$O$821,\"\")","v":""}]
[null,{"$f":"Template!$H$822","v":0},{"$error":"#REF!"},"Calendar_Year_Mar",{"$f":"IF(LEFT(Template!$K$822,2)=\"CC\",Template!$K$822,\"\")","v":""},{"$f":"IF(LEFT(Template!$M$822,2)=\"RC\",Template!$M$822,\"\")","v":""},{"$f":"IF(LEFT(Template!$M$822,2)=\"SC\",Template!$M$822,\"\")","v":""},{"$f":"IF(LEFT(Template!$K$822,2)=\"AC\",Template!$K$822,\"\")","v":""},{"$f":"IF(OR(LEFT(Template!$K$822,2)=\"PJ\", LEFT(Template!$K$822,2)=\"PR\"),Template!$K$822,\"\")","v":""},{"$f":"IF(LEFT(Template!$K$822,2)=\"GF\",Template!$K$822,\"\")","v":""},{"$f":"IF(Template!$S$822<>\"\",Template!$S$822,\"\")","v":""},null,null,null,null,{"$f":"IF(Template!$L$822<>\"\",Template!$L$822,\"\")","v":""},"BYU_Child",null,null,"USD",null,2281.3000000000002,null,null,null,{"$f":"IF(Template!$O$822<>\"\",Template!$O$822,\"\")","v":""}]
[null,{"$f":"Template!$H$823","v":0},{"$error":"#REF!"},"Calendar_Year_Mar",{"$f":"IF(LEFT(Template!$K$823,2)=\"CC\",Template!$K$823,\"\")","v":""},{"$f":"IF(LEFT(Template!$M$823,2)=\"RC\",Template!$M$823,\"\")","v":""},{"$f":"IF(LEFT(Template!$M$823,2)=\"SC\",Template!$M$823,\"\")","v":""},{"$f":"IF(LEFT(Template!$K$823,2)=\"AC\",Template!$K$823,\"\")","v":""},{"$f":"IF(OR(LEFT(Template!$K$823,2)=\"PJ\", LEFT(Template!$K$823,2)=\"PR\"),Template!$K$823,\"\")","v":""},{"$f":"IF(LEFT(Template!$K$823,2)=\"GF\",Template!$K$823,\"\")","v":""},{"$f":"IF(Template!$S$823<>\"\",Template!$S$823,\"\")","v":""},null,null,null,null,{"$f":"IF(Template!$L$823<>\"\",Template!$L$823,\"\")","v":""},"BYU_Child",null,null,"USD",null,373.74,null,null,null,{"$f":"IF(Template!$O$823<>\"\",Template!$O$823,\"\")","v":""}]
[null,{"$f":"Template!$H$824","v":0},{"$error":"#REF!"},"Calendar_Year_Mar",{"$f":"IF(LEFT(Template!$K$824,2)=\"CC\",Template!$K$824,\"\")","v":""},{"$f":"IF(LEFT(Template!$M$824,2)=\"RC\",Template!$M$824,\"\")","v":""},{"$f":"IF(LEFT(Template!$M$824,2)=\"SC\",Template!$M$824,\"\")","v":""},{"$f":"IF(LEFT(Template!$K$824,2)=\"AC\",Template!$K$824,\"\")","v":""},{"$f":"IF(OR(LEFT(Template!$K$824,2)=\"PJ\", LEFT(Template!$K$824,2)=\"PR\"),Template!$K$824,\"\")","v":""},{"$f":"IF(LEFT(Template!$K$824,2)=\"GF\",Template!$K$824,\"\")","v":""},{"$f":"IF(Template!$S$824<>\"\",Template!$S$824,\"\")","v":""},null,null,null,null,{"$f":"IF(Template!$L$824<>\"\",Template!$L$824,\"\")","v":""},"BYU_Child",null,null,"USD",null,29644.23,null,null,null,{"$f":"IF(Template!$O$824<>\"\",Template!$O$824,\"\")","v":""}]
[null,{"$f":"Template!$H$825","v":0},{"$error":"#REF!"},"Calendar_Year_Mar",{"$f":"IF(LEFT(Template!$K$825,2)=\"CC\",Template!$K$825,\"\")","v":""},{"$f":"IF(LEFT(Template!$M$825,2)=\"RC\",Template!$M$825,\"\")","v":""},{"$f":"IF(LEFT(Template!$M$825,2)=\"SC\",Template!$M$825,\"\")","v":""},{"$f":"IF(LEFT(Template!$K$825,2)=\"AC\",Template!$K$825,\"\")","v":""},{"$f":"IF(OR(LEFT(Template!$K$825,2)=\"PJ\", LEFT(Template!$K$825,2)=\"PR\"),Template!$K$825,\"\")","v":""},{"$f":"IF(LEFT(Template!$K$825,2)=\"GF\",Template!$K$825,\"\")","v":""},{"$f":"IF(Template!$S$825<>\"\",Template!$S$825,\"\")","v":""},null,null,null,null,{"$f":"IF(Template!$L$825<>\"\",Template!$L$825,\"\")","v":""},"BYU_Child",null,null,"USD",null,36.21,null,null,null,{"$f":"IF(Template!$O$825<>\"\",Template!$O$825,\"\")","v":""}]
[null,{"$f":"Template!$H$826","v":0},{"$error":"#REF!"},"Calendar_Year_Mar",{"$f":"IF(LEFT(Template!$K$826,2)=\"CC\",Template!$K$826,\"\")","v":""},{"$f":"IF(LEFT(Template!$M$826,2)=\"RC\",Template!$M$826,\"\")","v":""},{"$f":"IF(LEFT(Template!$M$826,2)=\"SC\",Template!$M$826,\"\")","v":""},{"$f":"IF(LEFT(Template!$K$826,2)=\"AC\",Template!$K$826,\"\")","v":""},{"$f":"IF(OR(LEFT(Template!$K$826,2)=\"PJ\", LEFT(Template!$K$826,2)=\"PR\"),Template!$K$826,\"\")","v":""},{"$f":"IF(LEFT(Template!$K$826,2)=\"GF\",Template!$K$826,\"\")","v":""},{"$f":"IF(Template!$S$826<>\"\",Template!$S$826,\"\")","v":""},null,null,null,null,{"$f":"IF(Template!$L$826<>\"\",Template!$L$826,\"\")","v":""},"BYU_Child",null,null,"USD",null,2921.82,null,null,null,{"$f":"IF(Template!$O$826<>\"\",Template!$O$826,\"\")","v":""}]
[null,{"$f":"Template!$H$827","v":0},{"$error":"#REF!"},"Calendar_Year_Mar",{"$f":"IF(LEFT(Template!$K$827,2)=\"CC\",Template!$K$827,\"\")","v":""},{"$f":"IF(LEFT(Template!$M$827,2)=\"RC\",Template!$M$827,\"\")","v":""},{"$f":"IF(LEFT(Template!$M$827,2)=\"SC\",Template!$M$827,\"\")","v":""},{"$f":"IF(LEFT(Template!$K$827,2)=\"AC\",Template!$K$827,\"\")","v":""},{"$f":"IF(OR(LEFT(Template!$K$827,2)=\"PJ\", LEFT(Template!$K$827,2)=\"PR\"),Template!$K$827,\"\")","v":""},{"$f":"IF(LEFT(Template!$K$827,2)=\"GF\",Template!$K$827,\"\")","v":""},{"$f":"IF(Template!$S$827<>\"\",Template!$S$827,\"\")","v":""},null,null,null,null,{"$f":"IF(Template!$L$827<>\"\",Template!$L$827,\"\")","v":""},"BYU_Child",null,null,"USD",null,1471.18,null,null,null,{"$f":"IF(Template!$O$827<>\"\",Template!$O$827,\"\")","v":""}]
[null,{"$f":"Template!$H$828","v":0},{"$error":"#REF!"},"Calendar_Year_Mar",{"$f":"IF(LEFT(Template!$K$828,2)=\"CC\",Template!$K$828,\"\")","v":""},{"$f":"IF(LEFT(Template!$M$828,2)=\"RC\",Template!$M$828,\"\")","v":""},{"$f":"IF(LEFT(Template!$M$828,2)=\"SC\",Template!$M$828,\"\")","v":""},{"$f":"IF(LEFT(Template!$K$828,2)=\"AC\",Template!$K$828,\"\")","v":""},{"$f":"IF(OR(LEFT(Template!$K$828,2)=\"PJ\", LEFT(Template!$K$828,2)=\"PR\"),Template!$K$828,\"\")","v":""},{"$f":"IF(LEFT(Template!$K$828,2)=\"GF\",Template!$K$828,\"\")","v":""},{"$f":"IF(Template!$S$828<>\"\",Template!$S$828,\"\")","v":""},null,null,null,null,{"$f":"IF(Template!$L$828<>\"\",Template!$L$828,\"\")","v":""},"BYU_Child",null,null,"USD",null,31711.53,null,null,null,{"$f":"IF(Template!$O$828<>\"\",Template!$O$828,\"\")","v":""}]
[null,{"$f":"Template!$H$829","v":0},{"$error":"#REF!"},"Calendar_Year_Mar",{"$f":"IF(LEFT(Template!$K$829,2)=\"CC\",Template!$K$829,\"\")","v":""},{"$f":"IF(LEFT(Template!$M$829,2)=\"RC\",Template!$M$829,\"\")","v":""},{"$f":"IF(LEFT(Template!$M$829,2)=\"SC\",Template!$M$829,\"\")","v":""},{"$f":"IF(LEFT(Template!$K$829,2)=\"AC\",Template!$K$829,\"\")","v":""},{"$f":"IF(OR(LEFT(Template!$K$829,2)=\"PJ\", LEFT(Template!$K$829,2)=\"PR\"),Template!$K$829,\"\")","v":""},{"$f":"IF(LEFT(Template!$K$829,2)=\"GF\",Template!$K$829,\"\")","v":""},{"$f":"IF(Template!$S$829<>\"\",Template!$S$829,\"\")","v":""},null,null,null,null,{"$f":"IF(Template!$L$829<>\"\",Template!$L$829,\"\")","v":""},"BYU_Child",null,null,"USD",null,27512.25,null,null,null,{"$f":"IF(Template!$O$829<>\"\",Template!$O$829,\"\")","v":""}]
[null,{"$f":"Template!$H$830","v":0},{"$error":"#REF!"},"Calendar_Year_Mar",{"$f":"IF(LEFT(Template!$K$830,2)=\"CC\",Template!$K$830,\"\")","v":""},{"$f":"IF(LEFT(Template!$M$830,2)=\"RC\",Template!$M$830,\"\")","v":""},{"$f":"IF(LEFT(Template!$M$830,2)=\"SC\",Template!$M$830,\"\")","v":""},{"$f":"IF(LEFT(Template!$K$830,2)=\"AC\",Template!$K$830,\"\")","v":""},{"$f":"IF(OR(LEFT(Template!$K$830,2)=\"PJ\", LEFT(Template!$K$830,2)=\"PR\"),Template!$K$830,\"\")","v":""},{"$f":"IF(LEFT(Template!$K$830,2)=\"GF\",Template!$K$830,\"\")","v":""},{"$f":"IF(Template!$S$830<>\"\",Template!$S$830,\"\")","v":""},null,null,null,null,{"$f":"IF(Template!$L$830<>\"\",Template!$L$830,\"\")","v":""},"BYU_Child",null,null,"USD",null,31917.040000000001,null,null,null,{"$f":"IF(Template!$O$830<>\"\",Template!$O$830,\"\")","v":""}]
[null,{"$f":"Template!$H$831","v":0},{"$error":"#REF!"},"Calendar_Year_Mar",{"$f":"IF(LEFT(Template!$K$831,2)=\"CC\",Template!$K$831,\"\")","v":""},{"$f":"IF(LEFT(Template!$M$831,2)=\"RC\",Template!$M$831,\"\")","v":""},{"$f":"IF(LEFT(Template!$M$831,2)=\"SC\",Template!$M$831,\"\")","v":""},{"$f":"IF(LEFT(Template!$K$831,2)=\"AC\",Template!$K$831,\"\")","v":""},{"$f":"IF(OR(LEFT(Template!$K$831,2)=\"PJ\", LEFT(Template!$K$831,2)=\"PR\"),Template!$K$831,\"\")","v":""},{"$f":"IF(LEFT(Template!$K$831,2)=\"GF\",Template!$K$831,\"\")","v":""},{"$f":"IF(Template!$S$831<>\"\",Template!$S$831,\"\")","v":""},null,null,null,null,{"$f":"IF(Template!$L$831<>\"\",Template!$L$831,\"\")","v":""},"BYU_Child",null,null,"USD",null,11969.78,null,null,null,{"$f":"IF(Template!$O$831<>\"\",Template!$O$831,\"\")","v":""}]
[null,{"$f":"Template!$H$832","v":0},{"$error":"#REF!"},"Calendar_Year_Mar",{"$f":"IF(LEFT(Template!$K$832,2)=\"CC\",Template!$K$832,\"\")","v":""},{"$f":"IF(LEFT(Template!$M$832,2)=\"RC\",Template!$M$832,\"\")","v":""},{"$f":"IF(LEFT(Template!$M$832,2)=\"SC\",Template!$M$832,\"\")","v":""},{"$f":"IF(LEFT(Template!$K$832,2)=\"AC\",Template!$K$832,\"\")","v":""},{"$f":"IF(OR(LEFT(Template!$K$832,2)=\"PJ\", LEFT(Template!$K$832,2)=\"PR\"),Template!$K$832,\"\")","v":""},{"$f":"IF(LEFT(Template!$K$832,2)=\"GF\",Template!$K$832,\"\")","v":""},{"$f":"IF(Template!$S$832<>\"\",Template!$S$832,\"\")","v":""},null,null,null,null,{"$f":"IF(Template!$L$832<>\"\",Template!$L$832,\"\")","v":""},"BYU_Child",null,null,"USD",null,27798.61,null,null,null,{"$f":"IF(Template!$O$832<>\"\",Template!$O$832,\"\")","v":""}]
[null,{"$f":"Template!$H$833","v":0},{"$error":"#REF!"},"Calendar_Year_Mar",{"$f":"IF(LEFT(Template!$K$833,2)=\"CC\",Template!$K$833,\"\")","v":""},{"$f":"IF(LEFT(Template!$M$833,2)=\"RC\",Template!$M$833,\"\")","v":""},{"$f":"IF(LEFT(Template!$M$833,2)=\"SC\",Template!$M$833,\"\")","v":""},{"$f":"IF(LEFT(Template!$K$833,2)=\"AC\",Template!$K$833,\"\")","v":""},{"$f":"IF(OR(LEFT(Template!$K$833,2)=\"PJ\", LEFT(Template!$K$833,2)=\"PR\"),Template!$K$833,\"\")","v":""},{"$f":"IF(LEFT(Template!$K$833,2)=\"GF\",Template!$K$833,\"\")","v":""},{"$f":"IF(Template!$S$833<>\"\",Template!$S$833,\"\")","v":""},null,null,null,null,{"$f":"IF(Template!$L$833<>\"\",Template!$L$833,\"\")","v":""},"BYU_Child",null,null,"USD",null,16277.58,null,null,null,{"$f":"IF(Template!$O$833<>\"\",Template!$O$833,\"\")","v":""}]
[null,{"$f":"Template!$H$834","v":0},{"$error":"#REF!"},"Calendar_Year_Mar",{"$f":"IF(LEFT(Template!$K$834,2)=\"CC\",Template!$K$834,\"\")","v":""},{"$f":"IF(LEFT(Template!$M$834,2)=\"RC\",Template!$M$834,\"\")","v":""},{"$f":"IF(LEFT(Template!$M$834,2)=\"SC\",Template!$M$834,\"\")","v":""},{"$f":"IF(LEFT(Template!$K$834,2)=\"AC\",Template!$K$834,\"\")","v":""},{"$f":"IF(OR(LEFT(Template!$K$834,2)=\"PJ\", LEFT(Template!$K$834,2)=\"PR\"),Template!$K$834,\"\")","v":""},{"$f":"IF(LEFT(Template!$K$834,2)=\"GF\",Template!$K$834,\"\")","v":""},{"$f":"IF(Template!$S$834<>\"\",Template!$S$834,\"\")","v":""},null,null,null,null,{"$f":"IF(Template!$L$834<>\"\",Template!$L$834,\"\")","v":""},"BYU_Child",null,null,"USD",null,29484.400000000001,null,null,null,{"$f":"IF(Template!$O$834<>\"\",Template!$O$834,\"\")","v":""}]
[null,{"$f":"Template!$H$835","v":0},{"$error":"#REF!"},"Calendar_Year_Mar",{"$f":"IF(LEFT(Template!$K$835,2)=\"CC\",Template!$K$835,\"\")","v":""},{"$f":"IF(LEFT(Template!$M$835,2)=\"RC\",Template!$M$835,\"\")","v":""},{"$f":"IF(LEFT(Template!$M$835,2)=\"SC\",Template!$M$835,\"\")","v":""},{"$f":"IF(LEFT(Template!$K$835,2)=\"AC\",Template!$K$835,\"\")","v":""},{"$f":"IF(OR(LEFT(Template!$K$835,2)=\"PJ\", LEFT(Template!$K$835,2)=\"PR\"),Template!$K$835,\"\")","v":""},{"$f":"IF(LEFT(Template!$K$835,2)=\"GF\",Template!$K$835,\"\")","v":""},{"$f":"IF(Template!$S$835<>\"\",Template!$S$835,\"\")","v":""},null,null,null,null,{"$f":"IF(Template!$L$835<>\"\",Template!$L$835,\"\")","v":""},"BYU_Child",null,null,"USD",null,2676.84,null,null,null,{"$f":"IF(Template!$O$835<>\"\",Template!$O$835,\"\")","v":""}]
[null,{"$f":"Template!$H$836","v":0},{"$error":"#REF!"},"Calendar_Year_Mar",{"$f":"IF(LEFT(Template!$K$836,2)=\"CC\",Template!$K$836,\"\")","v":""},{"$f":"IF(LEFT(Template!$M$836,2)=\"RC\",Template!$M$836,\"\")","v":""},{"$f":"IF(LEFT(Template!$M$836,2)=\"SC\",Template!$M$836,\"\")","v":""},{"$f":"IF(LEFT(Template!$K$836,2)=\"AC\",Template!$K$836,\"\")","v":""},{"$f":"IF(OR(LEFT(Template!$K$836,2)=\"PJ\", LEFT(Template!$K$836,2)=\"PR\"),Template!$K$836,\"\")","v":""},{"$f":"IF(LEFT(Template!$K$836,2)=\"GF\",Template!$K$836,\"\")","v":""},{"$f":"IF(Template!$S$836<>\"\",Template!$S$836,\"\")","v":""},null,null,null,null,{"$f":"IF(Template!$L$836<>\"\",Template!$L$836,\"\")","v":""},"BYU_Child",null,null,"USD",null,10.51,null,null,null,{"$f":"IF(Template!$O$836<>\"\",Template!$O$836,\"\")","v":""}]
[null,{"$f":"Template!$H$837","v":0},{"$error":"#REF!"},"Calendar_Year_Mar",{"$f":"IF(LEFT(Template!$K$837,2)=\"CC\",Template!$K$837,\"\")","v":""},{"$f":"IF(LEFT(Template!$M$837,2)=\"RC\",Template!$M$837,\"\")","v":""},{"$f":"IF(LEFT(Template!$M$837,2)=\"SC\",Template!$M$837,\"\")","v":""},{"$f":"IF(LEFT(Template!$K$837,2)=\"AC\",Template!$K$837,\"\")","v":""},{"$f":"IF(OR(LEFT(Template!$K$837,2)=\"PJ\", LEFT(Template!$K$837,2)=\"PR\"),Template!$K$837,\"\")","v":""},{"$f":"IF(LEFT(Template!$K$837,2)=\"GF\",Template!$K$837,\"\")","v":""},{"$f":"IF(Template!$S$837<>\"\",Template!$S$837,\"\")","v":""},null,null,null,null,{"$f":"IF(Template!$L$837<>\"\",Template!$L$837,\"\")","v":""},"BYU_Child",null,null,"USD",null,137.66999999999999,null,null,null,{"$f":"IF(Template!$O$837<>\"\",Template!$O$837,\"\")","v":""}]
[null,{"$f":"Template!$H$838","v":0},{"$error":"#REF!"},"Calendar_Year_Mar",{"$f":"IF(LEFT(Template!$K$838,2)=\"CC\",Template!$K$838,\"\")","v":""},{"$f":"IF(LEFT(Template!$M$838,2)=\"RC\",Template!$M$838,\"\")","v":""},{"$f":"IF(LEFT(Template!$M$838,2)=\"SC\",Template!$M$838,\"\")","v":""},{"$f":"IF(LEFT(Template!$K$838,2)=\"AC\",Template!$K$838,\"\")","v":""},{"$f":"IF(OR(LEFT(Template!$K$838,2)=\"PJ\", LEFT(Template!$K$838,2)=\"PR\"),Template!$K$838,\"\")","v":""},{"$f":"IF(LEFT(Template!$K$838,2)=\"GF\",Template!$K$838,\"\")","v":""},{"$f":"IF(Template!$S$838<>\"\",Template!$S$838,\"\")","v":""},null,null,null,null,{"$f":"IF(Template!$L$838<>\"\",Template!$L$838,\"\")","v":""},"BYU_Child",null,null,"USD",null,34446.269999999997,null,null,null,{"$f":"IF(Template!$O$838<>\"\",Template!$O$838,\"\")","v":""}]
[null,{"$f":"Template!$H$839","v":0},{"$error":"#REF!"},"Calendar_Year_Mar",{"$f":"IF(LEFT(Template!$K$839,2)=\"CC\",Template!$K$839,\"\")","v":""},{"$f":"IF(LEFT(Template!$M$839,2)=\"RC\",Template!$M$839,\"\")","v":""},{"$f":"IF(LEFT(Template!$M$839,2)=\"SC\",Template!$M$839,\"\")","v":""},{"$f":"IF(LEFT(Template!$K$839,2)=\"AC\",Template!$K$839,\"\")","v":""},{"$f":"IF(OR(LEFT(Template!$K$839,2)=\"PJ\", LEFT(Template!$K$839,2)=\"PR\"),Template!$K$839,\"\")","v":""},{"$f":"IF(LEFT(Template!$K$839,2)=\"GF\",Template!$K$839,\"\")","v":""},{"$f":"IF(Template!$S$839<>\"\",Template!$S$839,\"\")","v":""},null,null,null,null,{"$f":"IF(Template!$L$839<>\"\",Template!$L$839,\"\")","v":""},"BYU_Child",null,null,"USD",null,24837.37,null,null,null,{"$f":"IF(Template!$O$839<>\"\",Template!$O$839,\"\")","v":""}]
[null,{"$f":"Template!$H$840","v":0},{"$error":"#REF!"},"Calendar_Year_Mar",{"$f":"IF(LEFT(Template!$K$840,2)=\"CC\",Template!$K$840,\"\")","v":""},{"$f":"IF(LEFT(Template!$M$840,2)=\"RC\",Template!$M$840,\"\")","v":""},{"$f":"IF(LEFT(Template!$M$840,2)=\"SC\",Template!$M$840,\"\")","v":""},{"$f":"IF(LEFT(Template!$K$840,2)=\"AC\",Template!$K$840,\"\")","v":""},{"$f":"IF(OR(LEFT(Template!$K$840,2)=\"PJ\", LEFT(Template!$K$840,2)=\"PR\"),Template!$K$840,\"\")","v":""},{"$f":"IF(LEFT(Template!$K$840,2)=\"GF\",Template!$K$840,\"\")","v":""},{"$f":"IF(Template!$S$840<>\"\",Template!$S$840,\"\")","v":""},null,null,null,null,{"$f":"IF(Template!$L$840<>\"\",Template!$L$840,\"\")","v":""},"BYU_Child",null,null,"USD",null,553.46,null,null,null,{"$f":"IF(Template!$O$840<>\"\",Template!$O$840,\"\")","v":""}]
[null,{"$f":"Template!$H$841","v":0},{"$error":"#REF!"},"Calendar_Year_Mar",{"$f":"IF(LEFT(Template!$K$841,2)=\"CC\",Template!$K$841,\"\")","v":""},{"$f":"IF(LEFT(Template!$M$841,2)=\"RC\",Template!$M$841,\"\")","v":""},{"$f":"IF(LEFT(Template!$M$841,2)=\"SC\",Template!$M$841,\"\")","v":""},{"$f":"IF(LEFT(Template!$K$841,2)=\"AC\",Template!$K$841,\"\")","v":""},{"$f":"IF(OR(LEFT(Template!$K$841,2)=\"PJ\", LEFT(Template!$K$841,2)=\"PR\"),Template!$K$841,\"\")","v":""},{"$f":"IF(LEFT(Template!$K$841,2)=\"GF\",Template!$K$841,\"\")","v":""},{"$f":"IF(Template!$S$841<>\"\",Template!$S$841,\"\")","v":""},null,null,null,null,{"$f":"IF(Template!$L$841<>\"\",Template!$L$841,\"\")","v":""},"BYU_Child",null,null,"USD",null,23894.02,null,null,null,{"$f":"IF(Template!$O$841<>\"\",Template!$O$841,\"\")","v":""}]
[null,{"$f":"Template!$H$842","v":0},{"$error":"#REF!"},"Calendar_Year_Mar",{"$f":"IF(LEFT(Template!$K$842,2)=\"CC\",Template!$K$842,\"\")","v":""},{"$f":"IF(LEFT(Template!$M$842,2)=\"RC\",Template!$M$842,\"\")","v":""},{"$f":"IF(LEFT(Template!$M$842,2)=\"SC\",Template!$M$842,\"\")","v":""},{"$f":"IF(LEFT(Template!$K$842,2)=\"AC\",Template!$K$842,\"\")","v":""},{"$f":"IF(OR(LEFT(Template!$K$842,2)=\"PJ\", LEFT(Template!$K$842,2)=\"PR\"),Template!$K$842,\"\")","v":""},{"$f":"IF(LEFT(Template!$K$842,2)=\"GF\",Template!$K$842,\"\")","v":""},{"$f":"IF(Template!$S$842<>\"\",Template!$S$842,\"\")","v":""},null,null,null,null,{"$f":"IF(Template!$L$842<>\"\",Template!$L$842,\"\")","v":""},"BYU_Child",null,null,"USD",null,3316.42,null,null,null,{"$f":"IF(Template!$O$842<>\"\",Template!$O$842,\"\")","v":""}]
[null,{"$f":"Template!$H$843","v":0},{"$error":"#REF!"},"Calendar_Year_Mar",{"$f":"IF(LEFT(Template!$K$843,2)=\"CC\",Template!$K$843,\"\")","v":""},{"$f":"IF(LEFT(Template!$M$843,2)=\"RC\",Template!$M$843,\"\")","v":""},{"$f":"IF(LEFT(Template!$M$843,2)=\"SC\",Template!$M$843,\"\")","v":""},{"$f":"IF(LEFT(Template!$K$843,2)=\"AC\",Template!$K$843,\"\")","v":""},{"$f":"IF(OR(LEFT(Template!$K$843,2)=\"PJ\", LEFT(Template!$K$843,2)=\"PR\"),Template!$K$843,\"\")","v":""},{"$f":"IF(LEFT(Template!$K$843,2)=\"GF\",Template!$K$843,\"\")","v":""},{"$f":"IF(Template!$S$843<>\"\",Template!$S$843,\"\")","v":""},null,null,null,null,{"$f":"IF(Template!$L$843<>\"\",Template!$L$843,\"\")","v":""},"BYU_Child",null,null,"USD",null,36905.49,null,null,null,{"$f":"IF(Template!$O$843<>\"\",Template!$O$843,\"\")","v":""}]
[null,{"$f":"Template!$H$844","v":0},{"$error":"#REF!"},"Calendar_Year_Mar",{"$f":"IF(LEFT(Template!$K$844,2)=\"CC\",Template!$K$844,\"\")","v":""},{"$f":"IF(LEFT(Template!$M$844,2)=\"RC\",Template!$M$844,\"\")","v":""},{"$f":"IF(LEFT(Template!$M$844,2)=\"SC\",Template!$M$844,\"\")","v":""},{"$f":"IF(LEFT(Template!$K$844,2)=\"AC\",Template!$K$844,\"\")","v":""},{"$f":"IF(OR(LEFT(Template!$K$844,2)=\"PJ\", LEFT(Template!$K$844,2)=\"PR\"),Template!$K$844,\"\")","v":""},{"$f":"IF(LEFT(Template!$K$844,2)=\"GF\",Template!$K$844,\"\")","v":""},{"$f":"IF(Template!$S$844<>\"\",Template!$S$844,\"\")","v":""},null,null,null,null,{"$f":"IF(Template!$L$844<>\"\",Template!$L$844,\"\")","v":""},"BYU_Child",null,null,"USD",null,14790.86,null,null,null,{"$f":"IF(Template!$O$844<>\"\",Template!$O$844,\"\")","v":""}]
[null,{"$f":"Template!$H$845","v":0},{"$error":"#REF!"},"Calendar_Year_Mar",{"$f":"IF(LEFT(Template!$K$845,2)=\"CC\",Template!$K$845,\"\")","v":""},{"$f":"IF(LEFT(Template!$M$845,2)=\"RC\",Template!$M$845,\"\")","v":""},{"$f":"IF(LEFT(Template!$M$845,2)=\"SC\",Template!$M$845,\"\")","v":""},{"$f":"IF(LEFT(Template!$K$845,2)=\"AC\",Template!$K$845,\"\")","v":""},{"$f":"IF(OR(LEFT(Template!$K$845,2)=\"PJ\", LEFT(Template!$K$845,2)=\"PR\"),Template!$K$845,\"\")","v":""},{"$f":"IF(LEFT(Template!$K$845,2)=\"GF\",Template!$K$845,\"\")","v":""},{"$f":"IF(Template!$S$845<>\"\",Template!$S$845,\"\")","v":""},null,null,null,null,{"$f":"IF(Template!$L$845<>\"\",Template!$L$845,\"\")","v":""},"BYU_Child",null,null,"USD",null,2701.97,null,null,null,{"$f":"IF(Template!$O$845<>\"\",Template!$O$845,\"\")","v":""}]
[null,{"$f":"Template!$H$846","v":0},{"$error":"#REF!"},"Calendar_Year_Mar",{"$f":"IF(LEFT(Template!$K$846,2)=\"CC\",Template!$K$846,\"\")","v":""},{"$f":"IF(LEFT(Template!$M$846,2)=\"RC\",Template!$M$846,\"\")","v":""},{"$f":"IF(LEFT(Template!$M$846,2)=\"SC\",Template!$M$846,\"\")","v":""},{"$f":"IF(LEFT(Template!$K$846,2)=\"AC\",Template!$K$846,\"\")","v":""},{"$f":"IF(OR(LEFT(Template!$K$846,2)=\"PJ\", LEFT(Template!$K$846,2)=\"PR\"),Template!$K$846,\"\")","v":""},{"$f":"IF(LEFT(Template!$K$846,2)=\"GF\",Template!$K$846,\"\")","v":""},{"$f":"IF(Template!$S$846<>\"\",Template!$S$846,\"\")","v":""},null,null,null,null,{"$f":"IF(Template!$L$846<>\"\",Template!$L$846,\"\")","v":""},"BYU_Child",null,null,"USD",null,2157.04,null,null,null,{"$f":"IF(Template!$O$846<>\"\",Template!$O$846,\"\")","v":""}]
[null,{"$f":"Template!$H$847","v":0},{"$error":"#REF!"},"Calendar_Year_Mar",{"$f":"IF(LEFT(Template!$K$847,2)=\"CC\",Template!$K$847,\"\")","v":""},{"$f":"IF(LEFT(Template!$M$847,2)=\"RC\",Template!$M$847,\"\")","v":""},{"$f":"IF(LEFT(Template!$M$847,2)=\"SC\",Template!$M$847,\"\")","v":""},{"$f":"IF(LEFT(Template!$K$847,2)=\"AC\",Template!$K$847,\"\")","v":""},{"$f":"IF(OR(LEFT(Template!$K$847,2)=\"PJ\", LEFT(Template!$K$847,2)=\"PR\"),Template!$K$847,\"\")","v":""},{"$f":"IF(LEFT(Template!$K$847,2)=\"GF\",Template!$K$847,\"\")","v":""},{"$f":"IF(Template!$S$847<>\"\",Template!$S$847,\"\")","v":""},null,null,null,null,{"$f":"IF(Template!$L$847<>\"\",Template!$L$847,\"\")","v":""},"BYU_Child",null,null,"USD",null,17259.53,null,null,null,{"$f":"IF(Template!$O$847<>\"\",Template!$O$847,\"\")","v":""}]
[null,{"$f":"Template!$H$848","v":0},{"$error":"#REF!"},"Calendar_Year_Mar",{"$f":"IF(LEFT(Template!$K$848,2)=\"CC\",Template!$K$848,\"\")","v":""},{"$f":"IF(LEFT(Template!$M$848,2)=\"RC\",Template!$M$848,\"\")","v":""},{"$f":"IF(LEFT(Template!$M$848,2)=\"SC\",Template!$M$848,\"\")","v":""},{"$f":"IF(LEFT(Template!$K$848,2)=\"AC\",Template!$K$848,\"\")","v":""},{"$f":"IF(OR(LEFT(Template!$K$848,2)=\"PJ\", LEFT(Template!$K$848,2)=\"PR\"),Template!$K$848,\"\")","v":""},{"$f":"IF(LEFT(Template!$K$848,2)=\"GF\",Template!$K$848,\"\")","v":""},{"$f":"IF(Template!$S$848<>\"\",Template!$S$848,\"\")","v":""},null,null,null,null,{"$f":"IF(Template!$L$848<>\"\",Template!$L$848,\"\")","v":""},"BYU_Child",null,null,"USD",null,197.29,null,null,null,{"$f":"IF(Template!$O$848<>\"\",Template!$O$848,\"\")","v":""}]
[null,{"$f":"Template!$H$849","v":0},{"$error":"#REF!"},"Calendar_Year_Mar",{"$f":"IF(LEFT(Template!$K$849,2)=\"CC\",Template!$K$849,\"\")","v":""},{"$f":"IF(LEFT(Template!$M$849,2)=\"RC\",Template!$M$849,\"\")","v":""},{"$f":"IF(LEFT(Template!$M$849,2)=\"SC\",Template!$M$849,\"\")","v":""},{"$f":"IF(LEFT(Template!$K$849,2)=\"AC\",Template!$K$849,\"\")","v":""},{"$f":"IF(OR(LEFT(Template!$K$849,2)=\"PJ\", LEFT(Template!$K$849,2)=\"PR\"),Template!$K$849,\"\")","v":""},{"$f":"IF(LEFT(Template!$K$849,2)=\"GF\",Template!$K$849,\"\")","v":""},{"$f":"IF(Template!$S$849<>\"\",Template!$S$849,\"\")","v":""},null,null,null,null,{"$f":"IF(Template!$L$849<>\"\",Template!$L$849,\"\")","v":""},"BYU_Child",null,null,"USD",null,33396.300000000003,null,null,null,{"$f":"IF(Template!$O$849<>\"\",Template!$O$849,\"\")","v":""}]
[null,{"$f":"Template!$H$850","v":0},{"$error":"#REF!"},"Calendar_Year_Mar",{"$f":"IF(LEFT(Template!$K$850,2)=\"CC\",Template!$K$850,\"\")","v":""},{"$f":"IF(LEFT(Template!$M$850,2)=\"RC\",Template!$M$850,\"\")","v":""},{"$f":"IF(LEFT(Template!$M$850,2)=\"SC\",Template!$M$850,\"\")","v":""},{"$f":"IF(LEFT(Template!$K$850,2)=\"AC\",Template!$K$850,\"\")","v":""},{"$f":"IF(OR(LEFT(Template!$K$850,2)=\"PJ\", LEFT(Template!$K$850,2)=\"PR\"),Template!$K$850,\"\")","v":""},{"$f":"IF(LEFT(Template!$K$850,2)=\"GF\",Template!$K$850,\"\")","v":""},{"$f":"IF(Template!$S$850<>\"\",Template!$S$850,\"\")","v":""},null,null,null,null,{"$f":"IF(Template!$L$850<>\"\",Template!$L$850,\"\")","v":""},"BYU_Child",null,null,"USD",null,17217.23,null,null,null,{"$f":"IF(Template!$O$850<>\"\",Template!$O$850,\"\")","v":""}]
[null,{"$f":"Template!$H$851","v":0},{"$error":"#REF!"},"Calendar_Year_Mar",{"$f":"IF(LEFT(Template!$K$851,2)=\"CC\",Template!$K$851,\"\")","v":""},{"$f":"IF(LEFT(Template!$M$851,2)=\"RC\",Template!$M$851,\"\")","v":""},{"$f":"IF(LEFT(Template!$M$851,2)=\"SC\",Template!$M$851,\"\")","v":""},{"$f":"IF(LEFT(Template!$K$851,2)=\"AC\",Template!$K$851,\"\")","v":""},{"$f":"IF(OR(LEFT(Template!$K$851,2)=\"PJ\", LEFT(Template!$K$851,2)=\"PR\"),Template!$K$851,\"\")","v":""},{"$f":"IF(LEFT(Template!$K$851,2)=\"GF\",Template!$K$851,\"\")","v":""},{"$f":"IF(Template!$S$851<>\"\",Template!$S$851,\"\")","v":""},null,null,null,null,{"$f":"IF(Template!$L$851<>\"\",Template!$L$851,\"\")","v":""},"BYU_Child",null,null,"USD",null,1168.46,null,null,null,{"$f":"IF(Template!$O$851<>\"\",Template!$O$851,\"\")","v":""}]
[null,{"$f":"Template!$H$852","v":0},{"$error":"#REF!"},"Calendar_Year_Mar",{"$f":"IF(LEFT(Template!$K$852,2)=\"CC\",Template!$K$852,\"\")","v":""},{"$f":"IF(LEFT(Template!$M$852,2)=\"RC\",Template!$M$852,\"\")","v":""},{"$f":"IF(LEFT(Template!$M$852,2)=\"SC\",Template!$M$852,\"\")","v":""},{"$f":"IF(LEFT(Template!$K$852,2)=\"AC\",Template!$K$852,\"\")","v":""},{"$f":"IF(OR(LEFT(Template!$K$852,2)=\"PJ\", LEFT(Template!$K$852,2)=\"PR\"),Template!$K$852,\"\")","v":""},{"$f":"IF(LEFT(Template!$K$852,2)=\"GF\",Template!$K$852,\"\")","v":""},{"$f":"IF(Template!$S$852<>\"\",Template!$S$852,\"\")","v":""},null,null,null,null,{"$f":"IF(Template!$L$852<>\"\",Template!$L$852,\"\")","v":""},"BYU_Child",null,null,"USD",null,11750.93,null,null,null,{"$f":"IF(Template!$O$852<>\"\",Template!$O$852,\"\")","v":""}]
[null,{"$f":"Template!$H$853","v":0},{"$error":"#REF!"},"Calendar_Year_Mar",{"$f":"IF(LEFT(Template!$K$853,2)=\"CC\",Template!$K$853,\"\")","v":""},{"$f":"IF(LEFT(Template!$M$853,2)=\"RC\",Template!$M$853,\"\")","v":""},{"$f":"IF(LEFT(Template!$M$853,2)=\"SC\",Template!$M$853,\"\")","v":""},{"$f":"IF(LEFT(Template!$K$853,2)=\"AC\",Template!$K$853,\"\")","v":""},{"$f":"IF(OR(LEFT(Template!$K$853,2)=\"PJ\", LEFT(Template!$K$853,2)=\"PR\"),Template!$K$853,\"\")","v":""},{"$f":"IF(LEFT(Template!$K$853,2)=\"GF\",Template!$K$853,\"\")","v":""},{"$f":"IF(Template!$S$853<>\"\",Template!$S$853,\"\")","v":""},null,null,null,null,{"$f":"IF(Template!$L$853<>\"\",Template!$L$853,\"\")","v":""},"BYU_Child",null,null,"USD",null,1812.68,null,null,null,{"$f":"IF(Template!$O$853<>\"\",Template!$O$853,\"\")","v":""}]
[null,{"$f":"Template!$H$854","v":0},{"$error":"#REF!"},"Calendar_Year_Mar",{"$f":"IF(LEFT(Template!$K$854,2)=\"CC\",Template!$K$854,\"\")","v":""},{"$f":"IF(LEFT(Template!$M$854,2)=\"RC\",Template!$M$854,\"\")","v":""},{"$f":"IF(LEFT(Template!$M$854,2)=\"SC\",Template!$M$854,\"\")","v":""},{"$f":"IF(LEFT(Template!$K$854,2)=\"AC\",Template!$K$854,\"\")","v":""},{"$f":"IF(OR(LEFT(Template!$K$854,2)=\"PJ\", LEFT(Template!$K$854,2)=\"PR\"),Template!$K$854,\"\")","v":""},{"$f":"IF(LEFT(Template!$K$854,2)=\"GF\",Template!$K$854,\"\")","v":""},{"$f":"IF(Template!$S$854<>\"\",Template!$S$854,\"\")","v":""},null,null,null,null,{"$f":"IF(Template!$L$854<>\"\",Template!$L$854,\"\")","v":""},"BYU_Child",null,null,"USD",null,23293.22,null,null,null,{"$f":"IF(Template!$O$854<>\"\",Template!$O$854,\"\")","v":""}]
[null,{"$f":"Template!$H$855","v":0},{"$error":"#REF!"},"Calendar_Year_Mar",{"$f":"IF(LEFT(Template!$K$855,2)=\"CC\",Template!$K$855,\"\")","v":""},{"$f":"IF(LEFT(Template!$M$855,2)=\"RC\",Template!$M$855,\"\")","v":""},{"$f":"IF(LEFT(Template!$M$855,2)=\"SC\",Template!$M$855,\"\")","v":""},{"$f":"IF(LEFT(Template!$K$855,2)=\"AC\",Template!$K$855,\"\")","v":""},{"$f":"IF(OR(LEFT(Template!$K$855,2)=\"PJ\", LEFT(Template!$K$855,2)=\"PR\"),Template!$K$855,\"\")","v":""},{"$f":"IF(LEFT(Template!$K$855,2)=\"GF\",Template!$K$855,\"\")","v":""},{"$f":"IF(Template!$S$855<>\"\",Template!$S$855,\"\")","v":""},null,null,null,null,{"$f":"IF(Template!$L$855<>\"\",Template!$L$855,\"\")","v":""},"BYU_Child",null,null,"USD",null,8328.84,null,null,null,{"$f":"IF(Template!$O$855<>\"\",Template!$O$855,\"\")","v":""}]
[null,{"$f":"Template!$H$856","v":0},{"$error":"#REF!"},"Calendar_Year_Mar",{"$f":"IF(LEFT(Template!$K$856,2)=\"CC\",Template!$K$856,\"\")","v":""},{"$f":"IF(LEFT(Template!$M$856,2)=\"RC\",Template!$M$856,\"\")","v":""},{"$f":"IF(LEFT(Template!$M$856,2)=\"SC\",Template!$M$856,\"\")","v":""},{"$f":"IF(LEFT(Template!$K$856,2)=\"AC\",Template!$K$856,\"\")","v":""},{"$f":"IF(OR(LEFT(Template!$K$856,2)=\"PJ\", LEFT(Template!$K$856,2)=\"PR\"),Template!$K$856,\"\")","v":""},{"$f":"IF(LEFT(Template!$K$856,2)=\"GF\",Template!$K$856,\"\")","v":""},{"$f":"IF(Template!$S$856<>\"\",Template!$S$856,\"\")","v":""},null,null,null,null,{"$f":"IF(Template!$L$856<>\"\",Template!$L$856,\"\")","v":""},"BYU_Child",null,null,"USD",null,null,441.92,null,null,{"$f":"IF(Template!$O$856<>\"\",Template!$O$856,\"\")","v":""}]
[null,{"$f":"Template!$H$857","v":0},{"$error":"#REF!"},"Calendar_Year_Mar",{"$f":"IF(LEFT(Template!$K$857,2)=\"CC\",Template!$K$857,\"\")","v":""},{"$f":"IF(LEFT(Template!$M$857,2)=\"RC\",Template!$M$857,\"\")","v":""},{"$f":"IF(LEFT(Template!$M$857,2)=\"SC\",Template!$M$857,\"\")","v":""},{"$f":"IF(LEFT(Template!$K$857,2)=\"AC\",Template!$K$857,\"\")","v":""},{"$f":"IF(OR(LEFT(Template!$K$857,2)=\"PJ\", LEFT(Template!$K$857,2)=\"PR\"),Template!$K$857,\"\")","v":""},{"$f":"IF(LEFT(Template!$K$857,2)=\"GF\",Template!$K$857,\"\")","v":""},{"$f":"IF(Template!$S$857<>\"\",Template!$S$857,\"\")","v":""},null,null,null,null,{"$f":"IF(Template!$L$857<>\"\",Template!$L$857,\"\")","v":""},"BYU_Child",null,null,"USD",null,2782.09,null,null,null,{"$f":"IF(Template!$O$857<>\"\",Template!$O$857,\"\")","v":""}]
[null,{"$f":"Template!$H$858","v":0},{"$error":"#REF!"},"Calendar_Year_Mar",{"$f":"IF(LEFT(Template!$K$858,2)=\"CC\",Template!$K$858,\"\")","v":""},{"$f":"IF(LEFT(Template!$M$858,2)=\"RC\",Template!$M$858,\"\")","v":""},{"$f":"IF(LEFT(Template!$M$858,2)=\"SC\",Template!$M$858,\"\")","v":""},{"$f":"IF(LEFT(Template!$K$858,2)=\"AC\",Template!$K$858,\"\")","v":""},{"$f":"IF(OR(LEFT(Template!$K$858,2)=\"PJ\", LEFT(Template!$K$858,2)=\"PR\"),Template!$K$858,\"\")","v":""},{"$f":"IF(LEFT(Template!$K$858,2)=\"GF\",Template!$K$858,\"\")","v":""},{"$f":"IF(Template!$S$858<>\"\",Template!$S$858,\"\")","v":""},null,null,null,null,{"$f":"IF(Template!$L$858<>\"\",Template!$L$858,\"\")","v":""},"BYU_Child",null,null,"USD",null,213.25,null,null,null,{"$f":"IF(Template!$O$858<>\"\",Template!$O$858,\"\")","v":""}]
[null,{"$f":"Template!$H$859","v":0},{"$error":"#REF!"},"Calendar_Year_Mar",{"$f":"IF(LEFT(Template!$K$859,2)=\"CC\",Template!$K$859,\"\")","v":""},{"$f":"IF(LEFT(Template!$M$859,2)=\"RC\",Template!$M$859,\"\")","v":""},{"$f":"IF(LEFT(Template!$M$859,2)=\"SC\",Template!$M$859,\"\")","v":""},{"$f":"IF(LEFT(Template!$K$859,2)=\"AC\",Template!$K$859,\"\")","v":""},{"$f":"IF(OR(LEFT(Template!$K$859,2)=\"PJ\", LEFT(Template!$K$859,2)=\"PR\"),Template!$K$859,\"\")","v":""},{"$f":"IF(LEFT(Template!$K$859,2)=\"GF\",Template!$K$859,\"\")","v":""},{"$f":"IF(Template!$S$859<>\"\",Template!$S$859,\"\")","v":""},null,null,null,null,{"$f":"IF(Template!$L$859<>\"\",Template!$L$859,\"\")","v":""},"BYU_Child",null,null,"USD",null,25722.74,null,null,null,{"$f":"IF(Template!$O$859<>\"\",Template!$O$859,\"\")","v":""}]
[null,{"$f":"Template!$H$860","v":0},{"$error":"#REF!"},"Calendar_Year_Mar",{"$f":"IF(LEFT(Template!$K$860,2)=\"CC\",Template!$K$860,\"\")","v":""},{"$f":"IF(LEFT(Template!$M$860,2)=\"RC\",Template!$M$860,\"\")","v":""},{"$f":"IF(LEFT(Template!$M$860,2)=\"SC\",Template!$M$860,\"\")","v":""},{"$f":"IF(LEFT(Template!$K$860,2)=\"AC\",Template!$K$860,\"\")","v":""},{"$f":"IF(OR(LEFT(Template!$K$860,2)=\"PJ\", LEFT(Template!$K$860,2)=\"PR\"),Template!$K$860,\"\")","v":""},{"$f":"IF(LEFT(Template!$K$860,2)=\"GF\",Template!$K$860,\"\")","v":""},{"$f":"IF(Template!$S$860<>\"\",Template!$S$860,\"\")","v":""},null,null,null,null,{"$f":"IF(Template!$L$860<>\"\",Template!$L$860,\"\")","v":""},"BYU_Child",null,null,"USD",null,16799.38,null,null,null,{"$f":"IF(Template!$O$860<>\"\",Template!$O$860,\"\")","v":""}]
[null,{"$f":"Template!$H$861","v":0},{"$error":"#REF!"},"Calendar_Year_Mar",{"$f":"IF(LEFT(Template!$K$861,2)=\"CC\",Template!$K$861,\"\")","v":""},{"$f":"IF(LEFT(Template!$M$861,2)=\"RC\",Template!$M$861,\"\")","v":""},{"$f":"IF(LEFT(Template!$M$861,2)=\"SC\",Template!$M$861,\"\")","v":""},{"$f":"IF(LEFT(Template!$K$861,2)=\"AC\",Template!$K$861,\"\")","v":""},{"$f":"IF(OR(LEFT(Template!$K$861,2)=\"PJ\", LEFT(Template!$K$861,2)=\"PR\"),Template!$K$861,\"\")","v":""},{"$f":"IF(LEFT(Template!$K$861,2)=\"GF\",Template!$K$861,\"\")","v":""},{"$f":"IF(Template!$S$861<>\"\",Template!$S$861,\"\")","v":""},null,null,null,null,{"$f":"IF(Template!$L$861<>\"\",Template!$L$861,\"\")","v":""},"BYU_Child",null,null,"USD",null,35390.71,null,null,null,{"$f":"IF(Template!$O$861<>\"\",Template!$O$861,\"\")","v":""}]
[null,{"$f":"Template!$H$862","v":0},{"$error":"#REF!"},"Calendar_Year_Mar",{"$f":"IF(LEFT(Template!$K$862,2)=\"CC\",Template!$K$862,\"\")","v":""},{"$f":"IF(LEFT(Template!$M$862,2)=\"RC\",Template!$M$862,\"\")","v":""},{"$f":"IF(LEFT(Template!$M$862,2)=\"SC\",Template!$M$862,\"\")","v":""},{"$f":"IF(LEFT(Template!$K$862,2)=\"AC\",Template!$K$862,\"\")","v":""},{"$f":"IF(OR(LEFT(Template!$K$862,2)=\"PJ\", LEFT(Template!$K$862,2)=\"PR\"),Template!$K$862,\"\")","v":""},{"$f":"IF(LEFT(Template!$K$862,2)=\"GF\",Template!$K$862,\"\")","v":""},{"$f":"IF(Template!$S$862<>\"\",Template!$S$862,\"\")","v":""},null,null,null,null,{"$f":"IF(Template!$L$862<>\"\",Template!$L$862,\"\")","v":""},"BYU_Child",null,null,"USD",null,927.03,null,null,null,{"$f":"IF(Template!$O$862<>\"\",Template!$O$862,\"\")","v":""}]
[null,{"$f":"Template!$H$863","v":0},{"$error":"#REF!"},"Calendar_Year_Mar",{"$f":"IF(LEFT(Template!$K$863,2)=\"CC\",Template!$K$863,\"\")","v":""},{"$f":"IF(LEFT(Template!$M$863,2)=\"RC\",Template!$M$863,\"\")","v":""},{"$f":"IF(LEFT(Template!$M$863,2)=\"SC\",Template!$M$863,\"\")","v":""},{"$f":"IF(LEFT(Template!$K$863,2)=\"AC\",Template!$K$863,\"\")","v":""},{"$f":"IF(OR(LEFT(Template!$K$863,2)=\"PJ\", LEFT(Template!$K$863,2)=\"PR\"),Template!$K$863,\"\")","v":""},{"$f":"IF(LEFT(Template!$K$863,2)=\"GF\",Template!$K$863,\"\")","v":""},{"$f":"IF(Template!$S$863<>\"\",Template!$S$863,\"\")","v":""},null,null,null,null,{"$f":"IF(Template!$L$863<>\"\",Template!$L$863,\"\")","v":""},"BYU_Child",null,null,"USD",null,52168.480000000003,null,null,null,{"$f":"IF(Template!$O$863<>\"\",Template!$O$863,\"\")","v":""}]
[null,{"$f":"Template!$H$864","v":0},{"$error":"#REF!"},"Calendar_Year_Mar",{"$f":"IF(LEFT(Template!$K$864,2)=\"CC\",Template!$K$864,\"\")","v":""},{"$f":"IF(LEFT(Template!$M$864,2)=\"RC\",Template!$M$864,\"\")","v":""},{"$f":"IF(LEFT(Template!$M$864,2)=\"SC\",Template!$M$864,\"\")","v":""},{"$f":"IF(LEFT(Template!$K$864,2)=\"AC\",Template!$K$864,\"\")","v":""},{"$f":"IF(OR(LEFT(Template!$K$864,2)=\"PJ\", LEFT(Template!$K$864,2)=\"PR\"),Template!$K$864,\"\")","v":""},{"$f":"IF(LEFT(Template!$K$864,2)=\"GF\",Template!$K$864,\"\")","v":""},{"$f":"IF(Template!$S$864<>\"\",Template!$S$864,\"\")","v":""},null,null,null,null,{"$f":"IF(Template!$L$864<>\"\",Template!$L$864,\"\")","v":""},"BYU_Child",null,null,"USD",null,29457.279999999999,null,null,null,{"$f":"IF(Template!$O$864<>\"\",Template!$O$864,\"\")","v":""}]
[null,{"$f":"Template!$H$865","v":0},{"$error":"#REF!"},"Calendar_Year_Mar",{"$f":"IF(LEFT(Template!$K$865,2)=\"CC\",Template!$K$865,\"\")","v":""},{"$f":"IF(LEFT(Template!$M$865,2)=\"RC\",Template!$M$865,\"\")","v":""},{"$f":"IF(LEFT(Template!$M$865,2)=\"SC\",Template!$M$865,\"\")","v":""},{"$f":"IF(LEFT(Template!$K$865,2)=\"AC\",Template!$K$865,\"\")","v":""},{"$f":"IF(OR(LEFT(Template!$K$865,2)=\"PJ\", LEFT(Template!$K$865,2)=\"PR\"),Template!$K$865,\"\")","v":""},{"$f":"IF(LEFT(Template!$K$865,2)=\"GF\",Template!$K$865,\"\")","v":""},{"$f":"IF(Template!$S$865<>\"\",Template!$S$865,\"\")","v":""},null,null,null,null,{"$f":"IF(Template!$L$865<>\"\",Template!$L$865,\"\")","v":""},"BYU_Child",null,null,"USD",null,713.53,null,null,null,{"$f":"IF(Template!$O$865<>\"\",Template!$O$865,\"\")","v":""}]
[null,{"$f":"Template!$H$866","v":0},{"$error":"#REF!"},"Calendar_Year_Mar",{"$f":"IF(LEFT(Template!$K$866,2)=\"CC\",Template!$K$866,\"\")","v":""},{"$f":"IF(LEFT(Template!$M$866,2)=\"RC\",Template!$M$866,\"\")","v":""},{"$f":"IF(LEFT(Template!$M$866,2)=\"SC\",Template!$M$866,\"\")","v":""},{"$f":"IF(LEFT(Template!$K$866,2)=\"AC\",Template!$K$866,\"\")","v":""},{"$f":"IF(OR(LEFT(Template!$K$866,2)=\"PJ\", LEFT(Template!$K$866,2)=\"PR\"),Template!$K$866,\"\")","v":""},{"$f":"IF(LEFT(Template!$K$866,2)=\"GF\",Template!$K$866,\"\")","v":""},{"$f":"IF(Template!$S$866<>\"\",Template!$S$866,\"\")","v":""},null,null,null,null,{"$f":"IF(Template!$L$866<>\"\",Template!$L$866,\"\")","v":""},"BYU_Child",null,null,"USD",null,32485.41,null,null,null,{"$f":"IF(Template!$O$866<>\"\",Template!$O$866,\"\")","v":""}]
[null,{"$f":"Template!$H$867","v":0},{"$error":"#REF!"},"Calendar_Year_Mar",{"$f":"IF(LEFT(Template!$K$867,2)=\"CC\",Template!$K$867,\"\")","v":""},{"$f":"IF(LEFT(Template!$M$867,2)=\"RC\",Template!$M$867,\"\")","v":""},{"$f":"IF(LEFT(Template!$M$867,2)=\"SC\",Template!$M$867,\"\")","v":""},{"$f":"IF(LEFT(Template!$K$867,2)=\"AC\",Template!$K$867,\"\")","v":""},{"$f":"IF(OR(LEFT(Template!$K$867,2)=\"PJ\", LEFT(Template!$K$867,2)=\"PR\"),Template!$K$867,\"\")","v":""},{"$f":"IF(LEFT(Template!$K$867,2)=\"GF\",Template!$K$867,\"\")","v":""},{"$f":"IF(Template!$S$867<>\"\",Template!$S$867,\"\")","v":""},null,null,null,null,{"$f":"IF(Template!$L$867<>\"\",Template!$L$867,\"\")","v":""},"BYU_Child",null,null,"USD",null,11136.69,null,null,null,{"$f":"IF(Template!$O$867<>\"\",Template!$O$867,\"\")","v":""}]
[null,{"$f":"Template!$H$868","v":0},{"$error":"#REF!"},"Calendar_Year_Mar",{"$f":"IF(LEFT(Template!$K$868,2)=\"CC\",Template!$K$868,\"\")","v":""},{"$f":"IF(LEFT(Template!$M$868,2)=\"RC\",Template!$M$868,\"\")","v":""},{"$f":"IF(LEFT(Template!$M$868,2)=\"SC\",Template!$M$868,\"\")","v":""},{"$f":"IF(LEFT(Template!$K$868,2)=\"AC\",Template!$K$868,\"\")","v":""},{"$f":"IF(OR(LEFT(Template!$K$868,2)=\"PJ\", LEFT(Template!$K$868,2)=\"PR\"),Template!$K$868,\"\")","v":""},{"$f":"IF(LEFT(Template!$K$868,2)=\"GF\",Template!$K$868,\"\")","v":""},{"$f":"IF(Template!$S$868<>\"\",Template!$S$868,\"\")","v":""},null,null,null,null,{"$f":"IF(Template!$L$868<>\"\",Template!$L$868,\"\")","v":""},"BYU_Child",null,null,"USD",null,8477.68,null,null,null,{"$f":"IF(Template!$O$868<>\"\",Template!$O$868,\"\")","v":""}]
[null,{"$f":"Template!$H$869","v":0},{"$error":"#REF!"},"Calendar_Year_Mar",{"$f":"IF(LEFT(Template!$K$869,2)=\"CC\",Template!$K$869,\"\")","v":""},{"$f":"IF(LEFT(Template!$M$869,2)=\"RC\",Template!$M$869,\"\")","v":""},{"$f":"IF(LEFT(Template!$M$869,2)=\"SC\",Template!$M$869,\"\")","v":""},{"$f":"IF(LEFT(Template!$K$869,2)=\"AC\",Template!$K$869,\"\")","v":""},{"$f":"IF(OR(LEFT(Template!$K$869,2)=\"PJ\", LEFT(Template!$K$869,2)=\"PR\"),Template!$K$869,\"\")","v":""},{"$f":"IF(LEFT(Template!$K$869,2)=\"GF\",Template!$K$869,\"\")","v":""},{"$f":"IF(Template!$S$869<>\"\",Template!$S$869,\"\")","v":""},null,null,null,null,{"$f":"IF(Template!$L$869<>\"\",Template!$L$869,\"\")","v":""},"BYU_Child",null,null,"USD",null,2967.93,null,null,null,{"$f":"IF(Template!$O$869<>\"\",Template!$O$869,\"\")","v":""}]
[null,{"$f":"Template!$H$870","v":0},{"$error":"#REF!"},"Calendar_Year_Mar",{"$f":"IF(LEFT(Template!$K$870,2)=\"CC\",Template!$K$870,\"\")","v":""},{"$f":"IF(LEFT(Template!$M$870,2)=\"RC\",Template!$M$870,\"\")","v":""},{"$f":"IF(LEFT(Template!$M$870,2)=\"SC\",Template!$M$870,\"\")","v":""},{"$f":"IF(LEFT(Template!$K$870,2)=\"AC\",Template!$K$870,\"\")","v":""},{"$f":"IF(OR(LEFT(Template!$K$870,2)=\"PJ\", LEFT(Template!$K$870,2)=\"PR\"),Template!$K$870,\"\")","v":""},{"$f":"IF(LEFT(Template!$K$870,2)=\"GF\",Template!$K$870,\"\")","v":""},{"$f":"IF(Template!$S$870<>\"\",Template!$S$870,\"\")","v":""},null,null,null,null,{"$f":"IF(Template!$L$870<>\"\",Template!$L$870,\"\")","v":""},"BYU_Child",null,null,"USD",null,805.73,null,null,null,{"$f":"IF(Template!$O$870<>\"\",Template!$O$870,\"\")","v":""}]
[null,{"$f":"Template!$H$871","v":0},{"$error":"#REF!"},"Calendar_Year_Mar",{"$f":"IF(LEFT(Template!$K$871,2)=\"CC\",Template!$K$871,\"\")","v":""},{"$f":"IF(LEFT(Template!$M$871,2)=\"RC\",Template!$M$871,\"\")","v":""},{"$f":"IF(LEFT(Template!$M$871,2)=\"SC\",Template!$M$871,\"\")","v":""},{"$f":"IF(LEFT(Template!$K$871,2)=\"AC\",Template!$K$871,\"\")","v":""},{"$f":"IF(OR(LEFT(Template!$K$871,2)=\"PJ\", LEFT(Template!$K$871,2)=\"PR\"),Template!$K$871,\"\")","v":""},{"$f":"IF(LEFT(Template!$K$871,2)=\"GF\",Template!$K$871,\"\")","v":""},{"$f":"IF(Template!$S$871<>\"\",Template!$S$871,\"\")","v":""},null,null,null,null,{"$f":"IF(Template!$L$871<>\"\",Template!$L$871,\"\")","v":""},"BYU_Child",null,null,"USD",null,20262.12,null,null,null,{"$f":"IF(Template!$O$871<>\"\",Template!$O$871,\"\")","v":""}]
[null,{"$f":"Template!$H$872","v":0},{"$error":"#REF!"},"Calendar_Year_Mar",{"$f":"IF(LEFT(Template!$K$872,2)=\"CC\",Template!$K$872,\"\")","v":""},{"$f":"IF(LEFT(Template!$M$872,2)=\"RC\",Template!$M$872,\"\")","v":""},{"$f":"IF(LEFT(Template!$M$872,2)=\"SC\",Template!$M$872,\"\")","v":""},{"$f":"IF(LEFT(Template!$K$872,2)=\"AC\",Template!$K$872,\"\")","v":""},{"$f":"IF(OR(LEFT(Template!$K$872,2)=\"PJ\", LEFT(Template!$K$872,2)=\"PR\"),Template!$K$872,\"\")","v":""},{"$f":"IF(LEFT(Template!$K$872,2)=\"GF\",Template!$K$872,\"\")","v":""},{"$f":"IF(Template!$S$872<>\"\",Template!$S$872,\"\")","v":""},null,null,null,null,{"$f":"IF(Template!$L$872<>\"\",Template!$L$872,\"\")","v":""},"BYU_Child",null,null,"USD",null,20.51,null,null,null,{"$f":"IF(Template!$O$872<>\"\",Template!$O$872,\"\")","v":""}]
[null,{"$f":"Template!$H$873","v":0},{"$error":"#REF!"},"Calendar_Year_Mar",{"$f":"IF(LEFT(Template!$K$873,2)=\"CC\",Template!$K$873,\"\")","v":""},{"$f":"IF(LEFT(Template!$M$873,2)=\"RC\",Template!$M$873,\"\")","v":""},{"$f":"IF(LEFT(Template!$M$873,2)=\"SC\",Template!$M$873,\"\")","v":""},{"$f":"IF(LEFT(Template!$K$873,2)=\"AC\",Template!$K$873,\"\")","v":""},{"$f":"IF(OR(LEFT(Template!$K$873,2)=\"PJ\", LEFT(Template!$K$873,2)=\"PR\"),Template!$K$873,\"\")","v":""},{"$f":"IF(LEFT(Template!$K$873,2)=\"GF\",Template!$K$873,\"\")","v":""},{"$f":"IF(Template!$S$873<>\"\",Template!$S$873,\"\")","v":""},null,null,null,null,{"$f":"IF(Template!$L$873<>\"\",Template!$L$873,\"\")","v":""},"BYU_Child",null,null,"USD",null,1603.09,null,null,null,{"$f":"IF(Template!$O$873<>\"\",Template!$O$873,\"\")","v":""}]
[null,{"$f":"Template!$H$874","v":0},{"$error":"#REF!"},"Calendar_Year_Mar",{"$f":"IF(LEFT(Template!$K$874,2)=\"CC\",Template!$K$874,\"\")","v":""},{"$f":"IF(LEFT(Template!$M$874,2)=\"RC\",Template!$M$874,\"\")","v":""},{"$f":"IF(LEFT(Template!$M$874,2)=\"SC\",Template!$M$874,\"\")","v":""},{"$f":"IF(LEFT(Template!$K$874,2)=\"AC\",Template!$K$874,\"\")","v":""},{"$f":"IF(OR(LEFT(Template!$K$874,2)=\"PJ\", LEFT(Template!$K$874,2)=\"PR\"),Template!$K$874,\"\")","v":""},{"$f":"IF(LEFT(Template!$K$874,2)=\"GF\",Template!$K$874,\"\")","v":""},{"$f":"IF(Template!$S$874<>\"\",Template!$S$874,\"\")","v":""},null,null,null,null,{"$f":"IF(Template!$L$874<>\"\",Template!$L$874,\"\")","v":""},"BYU_Child",null,null,"USD",null,96528.95,null,null,null,{"$f":"IF(Template!$O$874<>\"\",Template!$O$874,\"\")","v":""}]
[null,{"$f":"Template!$H$875","v":0},{"$error":"#REF!"},"Calendar_Year_Mar",{"$f":"IF(LEFT(Template!$K$875,2)=\"CC\",Template!$K$875,\"\")","v":""},{"$f":"IF(LEFT(Template!$M$875,2)=\"RC\",Template!$M$875,\"\")","v":""},{"$f":"IF(LEFT(Template!$M$875,2)=\"SC\",Template!$M$875,\"\")","v":""},{"$f":"IF(LEFT(Template!$K$875,2)=\"AC\",Template!$K$875,\"\")","v":""},{"$f":"IF(OR(LEFT(Template!$K$875,2)=\"PJ\", LEFT(Template!$K$875,2)=\"PR\"),Template!$K$875,\"\")","v":""},{"$f":"IF(LEFT(Template!$K$875,2)=\"GF\",Template!$K$875,\"\")","v":""},{"$f":"IF(Template!$S$875<>\"\",Template!$S$875,\"\")","v":""},null,null,null,null,{"$f":"IF(Template!$L$875<>\"\",Template!$L$875,\"\")","v":""},"BYU_Child",null,null,"USD",null,1778.21,null,null,null,{"$f":"IF(Template!$O$875<>\"\",Template!$O$875,\"\")","v":""}]
[null,{"$f":"Template!$H$876","v":0},{"$error":"#REF!"},"Calendar_Year_Mar",{"$f":"IF(LEFT(Template!$K$876,2)=\"CC\",Template!$K$876,\"\")","v":""},{"$f":"IF(LEFT(Template!$M$876,2)=\"RC\",Template!$M$876,\"\")","v":""},{"$f":"IF(LEFT(Template!$M$876,2)=\"SC\",Template!$M$876,\"\")","v":""},{"$f":"IF(LEFT(Template!$K$876,2)=\"AC\",Template!$K$876,\"\")","v":""},{"$f":"IF(OR(LEFT(Template!$K$876,2)=\"PJ\", LEFT(Template!$K$876,2)=\"PR\"),Template!$K$876,\"\")","v":""},{"$f":"IF(LEFT(Template!$K$876,2)=\"GF\",Template!$K$876,\"\")","v":""},{"$f":"IF(Template!$S$876<>\"\",Template!$S$876,\"\")","v":""},null,null,null,null,{"$f":"IF(Template!$L$876<>\"\",Template!$L$876,\"\")","v":""},"BYU_Child",null,null,"USD",null,9801.18,null,null,null,{"$f":"IF(Template!$O$876<>\"\",Template!$O$876,\"\")","v":""}]
[null,{"$f":"Template!$H$877","v":0},{"$error":"#REF!"},"Calendar_Year_Mar",{"$f":"IF(LEFT(Template!$K$877,2)=\"CC\",Template!$K$877,\"\")","v":""},{"$f":"IF(LEFT(Template!$M$877,2)=\"RC\",Template!$M$877,\"\")","v":""},{"$f":"IF(LEFT(Template!$M$877,2)=\"SC\",Template!$M$877,\"\")","v":""},{"$f":"IF(LEFT(Template!$K$877,2)=\"AC\",Template!$K$877,\"\")","v":""},{"$f":"IF(OR(LEFT(Template!$K$877,2)=\"PJ\", LEFT(Template!$K$877,2)=\"PR\"),Template!$K$877,\"\")","v":""},{"$f":"IF(LEFT(Template!$K$877,2)=\"GF\",Template!$K$877,\"\")","v":""},{"$f":"IF(Template!$S$877<>\"\",Template!$S$877,\"\")","v":""},null,null,null,null,{"$f":"IF(Template!$L$877<>\"\",Template!$L$877,\"\")","v":""},"BYU_Child",null,null,"USD",null,5947.01,null,null,null,{"$f":"IF(Template!$O$877<>\"\",Template!$O$877,\"\")","v":""}]
[null,{"$f":"Template!$H$878","v":0},{"$error":"#REF!"},"Calendar_Year_Mar",{"$f":"IF(LEFT(Template!$K$878,2)=\"CC\",Template!$K$878,\"\")","v":""},{"$f":"IF(LEFT(Template!$M$878,2)=\"RC\",Template!$M$878,\"\")","v":""},{"$f":"IF(LEFT(Template!$M$878,2)=\"SC\",Template!$M$878,\"\")","v":""},{"$f":"IF(LEFT(Template!$K$878,2)=\"AC\",Template!$K$878,\"\")","v":""},{"$f":"IF(OR(LEFT(Template!$K$878,2)=\"PJ\", LEFT(Template!$K$878,2)=\"PR\"),Template!$K$878,\"\")","v":""},{"$f":"IF(LEFT(Template!$K$878,2)=\"GF\",Template!$K$878,\"\")","v":""},{"$f":"IF(Template!$S$878<>\"\",Template!$S$878,\"\")","v":""},null,null,null,null,{"$f":"IF(Template!$L$878<>\"\",Template!$L$878,\"\")","v":""},"BYU_Child",null,null,"USD",null,2398.73,null,null,null,{"$f":"IF(Template!$O$878<>\"\",Template!$O$878,\"\")","v":""}]
[null,{"$f":"Template!$H$879","v":0},{"$error":"#REF!"},"Calendar_Year_Mar",{"$f":"IF(LEFT(Template!$K$879,2)=\"CC\",Template!$K$879,\"\")","v":""},{"$f":"IF(LEFT(Template!$M$879,2)=\"RC\",Template!$M$879,\"\")","v":""},{"$f":"IF(LEFT(Template!$M$879,2)=\"SC\",Template!$M$879,\"\")","v":""},{"$f":"IF(LEFT(Template!$K$879,2)=\"AC\",Template!$K$879,\"\")","v":""},{"$f":"IF(OR(LEFT(Template!$K$879,2)=\"PJ\", LEFT(Template!$K$879,2)=\"PR\"),Template!$K$879,\"\")","v":""},{"$f":"IF(LEFT(Template!$K$879,2)=\"GF\",Template!$K$879,\"\")","v":""},{"$f":"IF(Template!$S$879<>\"\",Template!$S$879,\"\")","v":""},null,null,null,null,{"$f":"IF(Template!$L$879<>\"\",Template!$L$879,\"\")","v":""},"BYU_Child",null,null,"USD",null,685.02,null,null,null,{"$f":"IF(Template!$O$879<>\"\",Template!$O$879,\"\")","v":""}]
[null,{"$f":"Template!$H$880","v":0},{"$error":"#REF!"},"Calendar_Year_Mar",{"$f":"IF(LEFT(Template!$K$880,2)=\"CC\",Template!$K$880,\"\")","v":""},{"$f":"IF(LEFT(Template!$M$880,2)=\"RC\",Template!$M$880,\"\")","v":""},{"$f":"IF(LEFT(Template!$M$880,2)=\"SC\",Template!$M$880,\"\")","v":""},{"$f":"IF(LEFT(Template!$K$880,2)=\"AC\",Template!$K$880,\"\")","v":""},{"$f":"IF(OR(LEFT(Template!$K$880,2)=\"PJ\", LEFT(Template!$K$880,2)=\"PR\"),Template!$K$880,\"\")","v":""},{"$f":"IF(LEFT(Template!$K$880,2)=\"GF\",Template!$K$880,\"\")","v":""},{"$f":"IF(Template!$S$880<>\"\",Template!$S$880,\"\")","v":""},null,null,null,null,{"$f":"IF(Template!$L$880<>\"\",Template!$L$880,\"\")","v":""},"BYU_Child",null,null,"USD",null,34614.89,null,null,null,{"$f":"IF(Template!$O$880<>\"\",Template!$O$880,\"\")","v":""}]
[null,{"$f":"Template!$H$881","v":0},{"$error":"#REF!"},"Calendar_Year_Mar",{"$f":"IF(LEFT(Template!$K$881,2)=\"CC\",Template!$K$881,\"\")","v":""},{"$f":"IF(LEFT(Template!$M$881,2)=\"RC\",Template!$M$881,\"\")","v":""},{"$f":"IF(LEFT(Template!$M$881,2)=\"SC\",Template!$M$881,\"\")","v":""},{"$f":"IF(LEFT(Template!$K$881,2)=\"AC\",Template!$K$881,\"\")","v":""},{"$f":"IF(OR(LEFT(Template!$K$881,2)=\"PJ\", LEFT(Template!$K$881,2)=\"PR\"),Template!$K$881,\"\")","v":""},{"$f":"IF(LEFT(Template!$K$881,2)=\"GF\",Template!$K$881,\"\")","v":""},{"$f":"IF(Template!$S$881<>\"\",Template!$S$881,\"\")","v":""},null,null,null,null,{"$f":"IF(Template!$L$881<>\"\",Template!$L$881,\"\")","v":""},"BYU_Child",null,null,"USD",null,6309.41,null,null,null,{"$f":"IF(Template!$O$881<>\"\",Template!$O$881,\"\")","v":""}]
[null,{"$f":"Template!$H$882","v":0},{"$f":"IF(B775=B774,C774+1,1)","v":{"$error":"#REF!"}},"Calendar_Year_Mar",{"$f":"IF(LEFT(Template!$K$882,2)=\"CC\",Template!$K$882,\"\")","v":""},{"$f":"IF(LEFT(Template!$M$882,2)=\"RC\",Template!$M$882,\"\")","v":""},{"$f":"IF(LEFT(Template!$M$882,2)=\"SC\",Template!$M$882,\"\")","v":""},{"$f":"IF(LEFT(Template!$K$882,2)=\"AC\",Template!$K$882,\"\")","v":""},{"$f":"IF(OR(LEFT(Template!$K$882,2)=\"PJ\", LEFT(Template!$K$882,2)=\"PR\"),Template!$K$882,\"\")","v":""},{"$f":"IF(LEFT(Template!$K$882,2)=\"GF\",Template!$K$882,\"\")","v":""},{"$f":"IF(Template!$S$882<>\"\",Template!$S$882,\"\")","v":""},null,null,null,null,{"$f":"IF(Template!$L$882<>\"\",Template!$L$882,\"\")","v":""},"BYU_Child",null,null,"USD",null,273.99,null,null,null,{"$f":"IF(Template!$O$882<>\"\",Template!$O$882,\"\")","v":""}]
[null,{"$f":"Template!$H$883","v":0},{"$error":"#REF!"},"Calendar_Year_Mar",{"$f":"IF(LEFT(Template!$K$883,2)=\"CC\",Template!$K$883,\"\")","v":""},{"$f":"IF(LEFT(Template!$M$883,2)=\"RC\",Template!$M$883,\"\")","v":""},{"$f":"IF(LEFT(Template!$M$883,2)=\"SC\",Template!$M$883,\"\")","v":""},{"$f":"IF(LEFT(Template!$K$883,2)=\"AC\",Template!$K$883,\"\")","v":""},{"$f":"IF(OR(LEFT(Template!$K$883,2)=\"PJ\", LEFT(Template!$K$883,2)=\"PR\"),Template!$K$883,\"\")","v":""},{"$f":"IF(LEFT(Template!$K$883,2)=\"GF\",Template!$K$883,\"\")","v":""},{"$f":"IF(Template!$S$883<>\"\",Template!$S$883,\"\")","v":""},null,null,null,null,{"$f":"IF(Template!$L$883<>\"\",Template!$L$883,\"\")","v":""},"BYU_Child",null,null,"USD",null,42507.26,null,null,null,{"$f":"IF(Template!$O$883<>\"\",Template!$O$883,\"\")","v":""}]
[null,{"$f":"Template!$H$884","v":0},{"$error":"#REF!"},"Calendar_Year_Mar",{"$f":"IF(LEFT(Template!$K$884,2)=\"CC\",Template!$K$884,\"\")","v":""},{"$f":"IF(LEFT(Template!$M$884,2)=\"RC\",Template!$M$884,\"\")","v":""},{"$f":"IF(LEFT(Template!$M$884,2)=\"SC\",Template!$M$884,\"\")","v":""},{"$f":"IF(LEFT(Template!$K$884,2)=\"AC\",Template!$K$884,\"\")","v":""},{"$f":"IF(OR(LEFT(Template!$K$884,2)=\"PJ\", LEFT(Template!$K$884,2)=\"PR\"),Template!$K$884,\"\")","v":""},{"$f":"IF(LEFT(Template!$K$884,2)=\"GF\",Template!$K$884,\"\")","v":""},{"$f":"IF(Template!$S$884<>\"\",Template!$S$884,\"\")","v":""},null,null,null,null,{"$f":"IF(Template!$L$884<>\"\",Template!$L$884,\"\")","v":""},"BYU_Child",null,null,"USD",null,1370.74,null,null,null,{"$f":"IF(Template!$O$884<>\"\",Template!$O$884,\"\")","v":""}]
[null,{"$f":"Template!$H$885","v":0},{"$error":"#REF!"},"Calendar_Year_Mar",{"$f":"IF(LEFT(Template!$K$885,2)=\"CC\",Template!$K$885,\"\")","v":""},{"$f":"IF(LEFT(Template!$M$885,2)=\"RC\",Template!$M$885,\"\")","v":""},{"$f":"IF(LEFT(Template!$M$885,2)=\"SC\",Template!$M$885,\"\")","v":""},{"$f":"IF(LEFT(Template!$K$885,2)=\"AC\",Template!$K$885,\"\")","v":""},{"$f":"IF(OR(LEFT(Template!$K$885,2)=\"PJ\", LEFT(Template!$K$885,2)=\"PR\"),Template!$K$885,\"\")","v":""},{"$f":"IF(LEFT(Template!$K$885,2)=\"GF\",Template!$K$885,\"\")","v":""},{"$f":"IF(Template!$S$885<>\"\",Template!$S$885,\"\")","v":""},null,null,null,null,{"$f":"IF(Template!$L$885<>\"\",Template!$L$885,\"\")","v":""},"BYU_Child",null,null,"USD",null,18975.5,null,null,null,{"$f":"IF(Template!$O$885<>\"\",Template!$O$885,\"\")","v":""}]
[null,{"$f":"Template!$H$886","v":0},{"$error":"#REF!"},"Calendar_Year_Mar",{"$f":"IF(LEFT(Template!$K$886,2)=\"CC\",Template!$K$886,\"\")","v":""},{"$f":"IF(LEFT(Template!$M$886,2)=\"RC\",Template!$M$886,\"\")","v":""},{"$f":"IF(LEFT(Template!$M$886,2)=\"SC\",Template!$M$886,\"\")","v":""},{"$f":"IF(LEFT(Template!$K$886,2)=\"AC\",Template!$K$886,\"\")","v":""},{"$f":"IF(OR(LEFT(Template!$K$886,2)=\"PJ\", LEFT(Template!$K$886,2)=\"PR\"),Template!$K$886,\"\")","v":""},{"$f":"IF(LEFT(Template!$K$886,2)=\"GF\",Template!$K$886,\"\")","v":""},{"$f":"IF(Template!$S$886<>\"\",Template!$S$886,\"\")","v":""},null,null,null,null,{"$f":"IF(Template!$L$886<>\"\",Template!$L$886,\"\")","v":""},"BYU_Child",null,null,"USD",null,161985.03,null,null,null,{"$f":"IF(Template!$O$886<>\"\",Template!$O$886,\"\")","v":""}]
[null,{"$f":"Template!$H$887","v":0},{"$error":"#REF!"},"Calendar_Year_Mar",{"$f":"IF(LEFT(Template!$K$887,2)=\"CC\",Template!$K$887,\"\")","v":""},{"$f":"IF(LEFT(Template!$M$887,2)=\"RC\",Template!$M$887,\"\")","v":""},{"$f":"IF(LEFT(Template!$M$887,2)=\"SC\",Template!$M$887,\"\")","v":""},{"$f":"IF(LEFT(Template!$K$887,2)=\"AC\",Template!$K$887,\"\")","v":""},{"$f":"IF(OR(LEFT(Template!$K$887,2)=\"PJ\", LEFT(Template!$K$887,2)=\"PR\"),Template!$K$887,\"\")","v":""},{"$f":"IF(LEFT(Template!$K$887,2)=\"GF\",Template!$K$887,\"\")","v":""},{"$f":"IF(Template!$S$887<>\"\",Template!$S$887,\"\")","v":""},null,null,null,null,{"$f":"IF(Template!$L$887<>\"\",Template!$L$887,\"\")","v":""},"BYU_Child",null,null,"USD",null,551.84,null,null,null,{"$f":"IF(Template!$O$887<>\"\",Template!$O$887,\"\")","v":""}]
[null,{"$f":"Template!$H$888","v":0},{"$error":"#REF!"},"Calendar_Year_Mar",{"$f":"IF(LEFT(Template!$K$888,2)=\"CC\",Template!$K$888,\"\")","v":""},{"$f":"IF(LEFT(Template!$M$888,2)=\"RC\",Template!$M$888,\"\")","v":""},{"$f":"IF(LEFT(Template!$M$888,2)=\"SC\",Template!$M$888,\"\")","v":""},{"$f":"IF(LEFT(Template!$K$888,2)=\"AC\",Template!$K$888,\"\")","v":""},{"$f":"IF(OR(LEFT(Template!$K$888,2)=\"PJ\", LEFT(Template!$K$888,2)=\"PR\"),Template!$K$888,\"\")","v":""},{"$f":"IF(LEFT(Template!$K$888,2)=\"GF\",Template!$K$888,\"\")","v":""},{"$f":"IF(Template!$S$888<>\"\",Template!$S$888,\"\")","v":""},null,null,null,null,{"$f":"IF(Template!$L$888<>\"\",Template!$L$888,\"\")","v":""},"BYU_Child",null,null,"USD",null,85934.52,null,null,null,{"$f":"IF(Template!$O$888<>\"\",Template!$O$888,\"\")","v":""}]
[null,{"$f":"Template!$H$889","v":0},{"$error":"#REF!"},"Calendar_Year_Mar",{"$f":"IF(LEFT(Template!$K$889,2)=\"CC\",Template!$K$889,\"\")","v":""},{"$f":"IF(LEFT(Template!$M$889,2)=\"RC\",Template!$M$889,\"\")","v":""},{"$f":"IF(LEFT(Template!$M$889,2)=\"SC\",Template!$M$889,\"\")","v":""},{"$f":"IF(LEFT(Template!$K$889,2)=\"AC\",Template!$K$889,\"\")","v":""},{"$f":"IF(OR(LEFT(Template!$K$889,2)=\"PJ\", LEFT(Template!$K$889,2)=\"PR\"),Template!$K$889,\"\")","v":""},{"$f":"IF(LEFT(Template!$K$889,2)=\"GF\",Template!$K$889,\"\")","v":""},{"$f":"IF(Template!$S$889<>\"\",Template!$S$889,\"\")","v":""},null,null,null,null,{"$f":"IF(Template!$L$889<>\"\",Template!$L$889,\"\")","v":""},"BYU_Child",null,null,"USD",null,42849.82,null,null,null,{"$f":"IF(Template!$O$889<>\"\",Template!$O$889,\"\")","v":""}]
[null,{"$f":"Template!$H$890","v":0},{"$error":"#REF!"},"Calendar_Year_Mar",{"$f":"IF(LEFT(Template!$K$890,2)=\"CC\",Template!$K$890,\"\")","v":""},{"$f":"IF(LEFT(Template!$M$890,2)=\"RC\",Template!$M$890,\"\")","v":""},{"$f":"IF(LEFT(Template!$M$890,2)=\"SC\",Template!$M$890,\"\")","v":""},{"$f":"IF(LEFT(Template!$K$890,2)=\"AC\",Template!$K$890,\"\")","v":""},{"$f":"IF(OR(LEFT(Template!$K$890,2)=\"PJ\", LEFT(Template!$K$890,2)=\"PR\"),Template!$K$890,\"\")","v":""},{"$f":"IF(LEFT(Template!$K$890,2)=\"GF\",Template!$K$890,\"\")","v":""},{"$f":"IF(Template!$S$890<>\"\",Template!$S$890,\"\")","v":""},null,null,null,null,{"$f":"IF(Template!$L$890<>\"\",Template!$L$890,\"\")","v":""},"BYU_Child",null,null,"USD",null,19585.63,null,null,null,{"$f":"IF(Template!$O$890<>\"\",Template!$O$890,\"\")","v":""}]
[null,{"$f":"Template!$H$891","v":0},{"$error":"#REF!"},"Calendar_Year_Mar",{"$f":"IF(LEFT(Template!$K$891,2)=\"CC\",Template!$K$891,\"\")","v":""},{"$f":"IF(LEFT(Template!$M$891,2)=\"RC\",Template!$M$891,\"\")","v":""},{"$f":"IF(LEFT(Template!$M$891,2)=\"SC\",Template!$M$891,\"\")","v":""},{"$f":"IF(LEFT(Template!$K$891,2)=\"AC\",Template!$K$891,\"\")","v":""},{"$f":"IF(OR(LEFT(Template!$K$891,2)=\"PJ\", LEFT(Template!$K$891,2)=\"PR\"),Template!$K$891,\"\")","v":""},{"$f":"IF(LEFT(Template!$K$891,2)=\"GF\",Template!$K$891,\"\")","v":""},{"$f":"IF(Template!$S$891<>\"\",Template!$S$891,\"\")","v":""},null,null,null,null,{"$f":"IF(Template!$L$891<>\"\",Template!$L$891,\"\")","v":""},"BYU_Child",null,null,"USD",null,169.76,null,null,null,{"$f":"IF(Template!$O$891<>\"\",Template!$O$891,\"\")","v":""}]
[null,{"$f":"Template!$H$892","v":0},{"$error":"#REF!"},"Calendar_Year_Mar",{"$f":"IF(LEFT(Template!$K$892,2)=\"CC\",Template!$K$892,\"\")","v":""},{"$f":"IF(LEFT(Template!$M$892,2)=\"RC\",Template!$M$892,\"\")","v":""},{"$f":"IF(LEFT(Template!$M$892,2)=\"SC\",Template!$M$892,\"\")","v":""},{"$f":"IF(LEFT(Template!$K$892,2)=\"AC\",Template!$K$892,\"\")","v":""},{"$f":"IF(OR(LEFT(Template!$K$892,2)=\"PJ\", LEFT(Template!$K$892,2)=\"PR\"),Template!$K$892,\"\")","v":""},{"$f":"IF(LEFT(Template!$K$892,2)=\"GF\",Template!$K$892,\"\")","v":""},{"$f":"IF(Template!$S$892<>\"\",Template!$S$892,\"\")","v":""},null,null,null,null,{"$f":"IF(Template!$L$892<>\"\",Template!$L$892,\"\")","v":""},"BYU_Child",null,null,"USD",null,42519.47,null,null,null,{"$f":"IF(Template!$O$892<>\"\",Template!$O$892,\"\")","v":""}]
[null,{"$f":"Template!$H$893","v":0},{"$error":"#REF!"},"Calendar_Year_Mar",{"$f":"IF(LEFT(Template!$K$893,2)=\"CC\",Template!$K$893,\"\")","v":""},{"$f":"IF(LEFT(Template!$M$893,2)=\"RC\",Template!$M$893,\"\")","v":""},{"$f":"IF(LEFT(Template!$M$893,2)=\"SC\",Template!$M$893,\"\")","v":""},{"$f":"IF(LEFT(Template!$K$893,2)=\"AC\",Template!$K$893,\"\")","v":""},{"$f":"IF(OR(LEFT(Template!$K$893,2)=\"PJ\", LEFT(Template!$K$893,2)=\"PR\"),Template!$K$893,\"\")","v":""},{"$f":"IF(LEFT(Template!$K$893,2)=\"GF\",Template!$K$893,\"\")","v":""},{"$f":"IF(Template!$S$893<>\"\",Template!$S$893,\"\")","v":""},null,null,null,null,{"$f":"IF(Template!$L$893<>\"\",Template!$L$893,\"\")","v":""},"BYU_Child",null,null,"USD",null,171.35,null,null,null,{"$f":"IF(Template!$O$893<>\"\",Template!$O$893,\"\")","v":""}]
[null,{"$f":"Template!$H$894","v":0},{"$error":"#REF!"},"Calendar_Year_Mar",{"$f":"IF(LEFT(Template!$K$894,2)=\"CC\",Template!$K$894,\"\")","v":""},{"$f":"IF(LEFT(Template!$M$894,2)=\"RC\",Template!$M$894,\"\")","v":""},{"$f":"IF(LEFT(Template!$M$894,2)=\"SC\",Template!$M$894,\"\")","v":""},{"$f":"IF(LEFT(Template!$K$894,2)=\"AC\",Template!$K$894,\"\")","v":""},{"$f":"IF(OR(LEFT(Template!$K$894,2)=\"PJ\", LEFT(Template!$K$894,2)=\"PR\"),Template!$K$894,\"\")","v":""},{"$f":"IF(LEFT(Template!$K$894,2)=\"GF\",Template!$K$894,\"\")","v":""},{"$f":"IF(Template!$S$894<>\"\",Template!$S$894,\"\")","v":""},null,null,null,null,{"$f":"IF(Template!$L$894<>\"\",Template!$L$894,\"\")","v":""},"BYU_Child",null,null,"USD",null,3647.41,null,null,null,{"$f":"IF(Template!$O$894<>\"\",Template!$O$894,\"\")","v":""}]
[null,{"$f":"Template!$H$895","v":0},{"$error":"#REF!"},"Calendar_Year_Mar",{"$f":"IF(LEFT(Template!$K$895,2)=\"CC\",Template!$K$895,\"\")","v":""},{"$f":"IF(LEFT(Template!$M$895,2)=\"RC\",Template!$M$895,\"\")","v":""},{"$f":"IF(LEFT(Template!$M$895,2)=\"SC\",Template!$M$895,\"\")","v":""},{"$f":"IF(LEFT(Template!$K$895,2)=\"AC\",Template!$K$895,\"\")","v":""},{"$f":"IF(OR(LEFT(Template!$K$895,2)=\"PJ\", LEFT(Template!$K$895,2)=\"PR\"),Template!$K$895,\"\")","v":""},{"$f":"IF(LEFT(Template!$K$895,2)=\"GF\",Template!$K$895,\"\")","v":""},{"$f":"IF(Template!$S$895<>\"\",Template!$S$895,\"\")","v":""},null,null,null,null,{"$f":"IF(Template!$L$895<>\"\",Template!$L$895,\"\")","v":""},"BYU_Child",null,null,"USD",null,39739.22,null,null,null,{"$f":"IF(Template!$O$895<>\"\",Template!$O$895,\"\")","v":""}]
[null,{"$f":"Template!$H$896","v":0},{"$error":"#REF!"},"Calendar_Year_Mar",{"$f":"IF(LEFT(Template!$K$896,2)=\"CC\",Template!$K$896,\"\")","v":""},{"$f":"IF(LEFT(Template!$M$896,2)=\"RC\",Template!$M$896,\"\")","v":""},{"$f":"IF(LEFT(Template!$M$896,2)=\"SC\",Template!$M$896,\"\")","v":""},{"$f":"IF(LEFT(Template!$K$896,2)=\"AC\",Template!$K$896,\"\")","v":""},{"$f":"IF(OR(LEFT(Template!$K$896,2)=\"PJ\", LEFT(Template!$K$896,2)=\"PR\"),Template!$K$896,\"\")","v":""},{"$f":"IF(LEFT(Template!$K$896,2)=\"GF\",Template!$K$896,\"\")","v":""},{"$f":"IF(Template!$S$896<>\"\",Template!$S$896,\"\")","v":""},null,null,null,null,{"$f":"IF(Template!$L$896<>\"\",Template!$L$896,\"\")","v":""},"BYU_Child",null,null,"USD",null,11841.28,null,null,null,{"$f":"IF(Template!$O$896<>\"\",Template!$O$896,\"\")","v":""}]
[null,{"$f":"Template!$H$897","v":0},{"$error":"#REF!"},"Calendar_Year_Mar",{"$f":"IF(LEFT(Template!$K$897,2)=\"CC\",Template!$K$897,\"\")","v":""},{"$f":"IF(LEFT(Template!$M$897,2)=\"RC\",Template!$M$897,\"\")","v":""},{"$f":"IF(LEFT(Template!$M$897,2)=\"SC\",Template!$M$897,\"\")","v":""},{"$f":"IF(LEFT(Template!$K$897,2)=\"AC\",Template!$K$897,\"\")","v":""},{"$f":"IF(OR(LEFT(Template!$K$897,2)=\"PJ\", LEFT(Template!$K$897,2)=\"PR\"),Template!$K$897,\"\")","v":""},{"$f":"IF(LEFT(Template!$K$897,2)=\"GF\",Template!$K$897,\"\")","v":""},{"$f":"IF(Template!$S$897<>\"\",Template!$S$897,\"\")","v":""},null,null,null,null,{"$f":"IF(Template!$L$897<>\"\",Template!$L$897,\"\")","v":""},"BYU_Child",null,null,"USD",null,163.28,null,null,null,{"$f":"IF(Template!$O$897<>\"\",Template!$O$897,\"\")","v":""}]
[null,{"$f":"Template!$H$898","v":0},{"$error":"#REF!"},"Calendar_Year_Mar",{"$f":"IF(LEFT(Template!$K$898,2)=\"CC\",Template!$K$898,\"\")","v":""},{"$f":"IF(LEFT(Template!$M$898,2)=\"RC\",Template!$M$898,\"\")","v":""},{"$f":"IF(LEFT(Template!$M$898,2)=\"SC\",Template!$M$898,\"\")","v":""},{"$f":"IF(LEFT(Template!$K$898,2)=\"AC\",Template!$K$898,\"\")","v":""},{"$f":"IF(OR(LEFT(Template!$K$898,2)=\"PJ\", LEFT(Template!$K$898,2)=\"PR\"),Template!$K$898,\"\")","v":""},{"$f":"IF(LEFT(Template!$K$898,2)=\"GF\",Template!$K$898,\"\")","v":""},{"$f":"IF(Template!$S$898<>\"\",Template!$S$898,\"\")","v":""},null,null,null,null,{"$f":"IF(Template!$L$898<>\"\",Template!$L$898,\"\")","v":""},"BYU_Child",null,null,"USD",null,720.41,null,null,null,{"$f":"IF(Template!$O$898<>\"\",Template!$O$898,\"\")","v":""}]
[null,{"$f":"Template!$H$899","v":0},{"$error":"#REF!"},"Calendar_Year_Mar",{"$f":"IF(LEFT(Template!$K$899,2)=\"CC\",Template!$K$899,\"\")","v":""},{"$f":"IF(LEFT(Template!$M$899,2)=\"RC\",Template!$M$899,\"\")","v":""},{"$f":"IF(LEFT(Template!$M$899,2)=\"SC\",Template!$M$899,\"\")","v":""},{"$f":"IF(LEFT(Template!$K$899,2)=\"AC\",Template!$K$899,\"\")","v":""},{"$f":"IF(OR(LEFT(Template!$K$899,2)=\"PJ\", LEFT(Template!$K$899,2)=\"PR\"),Template!$K$899,\"\")","v":""},{"$f":"IF(LEFT(Template!$K$899,2)=\"GF\",Template!$K$899,\"\")","v":""},{"$f":"IF(Template!$S$899<>\"\",Template!$S$899,\"\")","v":""},null,null,null,null,{"$f":"IF(Template!$L$899<>\"\",Template!$L$899,\"\")","v":""},"BYU_Child",null,null,"USD",null,4326.71,null,null,null,{"$f":"IF(Template!$O$899<>\"\",Template!$O$899,\"\")","v":""}]
[null,{"$f":"Template!$H$900","v":0},{"$error":"#REF!"},"Calendar_Year_Mar",{"$f":"IF(LEFT(Template!$K$900,2)=\"CC\",Template!$K$900,\"\")","v":""},{"$f":"IF(LEFT(Template!$M$900,2)=\"RC\",Template!$M$900,\"\")","v":""},{"$f":"IF(LEFT(Template!$M$900,2)=\"SC\",Template!$M$900,\"\")","v":""},{"$f":"IF(LEFT(Template!$K$900,2)=\"AC\",Template!$K$900,\"\")","v":""},{"$f":"IF(OR(LEFT(Template!$K$900,2)=\"PJ\", LEFT(Template!$K$900,2)=\"PR\"),Template!$K$900,\"\")","v":""},{"$f":"IF(LEFT(Template!$K$900,2)=\"GF\",Template!$K$900,\"\")","v":""},{"$f":"IF(Template!$S$900<>\"\",Template!$S$900,\"\")","v":""},null,null,null,null,{"$f":"IF(Template!$L$900<>\"\",Template!$L$900,\"\")","v":""},"BYU_Child",null,null,"USD",null,19875.12,null,null,null,{"$f":"IF(Template!$O$900<>\"\",Template!$O$900,\"\")","v":""}]
[null,{"$f":"Template!$H$901","v":0},{"$error":"#REF!"},"Calendar_Year_Mar",{"$f":"IF(LEFT(Template!$K$901,2)=\"CC\",Template!$K$901,\"\")","v":""},{"$f":"IF(LEFT(Template!$M$901,2)=\"RC\",Template!$M$901,\"\")","v":""},{"$f":"IF(LEFT(Template!$M$901,2)=\"SC\",Template!$M$901,\"\")","v":""},{"$f":"IF(LEFT(Template!$K$901,2)=\"AC\",Template!$K$901,\"\")","v":""},{"$f":"IF(OR(LEFT(Template!$K$901,2)=\"PJ\", LEFT(Template!$K$901,2)=\"PR\"),Template!$K$901,\"\")","v":""},{"$f":"IF(LEFT(Template!$K$901,2)=\"GF\",Template!$K$901,\"\")","v":""},{"$f":"IF(Template!$S$901<>\"\",Template!$S$901,\"\")","v":""},null,null,null,null,{"$f":"IF(Template!$L$901<>\"\",Template!$L$901,\"\")","v":""},"BYU_Child",null,null,"USD",null,7373.17,null,null,null,{"$f":"IF(Template!$O$901<>\"\",Template!$O$901,\"\")","v":""}]
[null,{"$f":"Template!$H$902","v":0},{"$error":"#REF!"},"Calendar_Year_Mar",{"$f":"IF(LEFT(Template!$K$902,2)=\"CC\",Template!$K$902,\"\")","v":""},{"$f":"IF(LEFT(Template!$M$902,2)=\"RC\",Template!$M$902,\"\")","v":""},{"$f":"IF(LEFT(Template!$M$902,2)=\"SC\",Template!$M$902,\"\")","v":""},{"$f":"IF(LEFT(Template!$K$902,2)=\"AC\",Template!$K$902,\"\")","v":""},{"$f":"IF(OR(LEFT(Template!$K$902,2)=\"PJ\", LEFT(Template!$K$902,2)=\"PR\"),Template!$K$902,\"\")","v":""},{"$f":"IF(LEFT(Template!$K$902,2)=\"GF\",Template!$K$902,\"\")","v":""},{"$f":"IF(Template!$S$902<>\"\",Template!$S$902,\"\")","v":""},null,null,null,null,{"$f":"IF(Template!$L$902<>\"\",Template!$L$902,\"\")","v":""},"BYU_Child",null,null,"USD",null,15790.76,null,null,null,{"$f":"IF(Template!$O$902<>\"\",Template!$O$902,\"\")","v":""}]
[null,{"$f":"Template!$H$903","v":0},{"$error":"#REF!"},"Calendar_Year_Mar",{"$f":"IF(LEFT(Template!$K$903,2)=\"CC\",Template!$K$903,\"\")","v":""},{"$f":"IF(LEFT(Template!$M$903,2)=\"RC\",Template!$M$903,\"\")","v":""},{"$f":"IF(LEFT(Template!$M$903,2)=\"SC\",Template!$M$903,\"\")","v":""},{"$f":"IF(LEFT(Template!$K$903,2)=\"AC\",Template!$K$903,\"\")","v":""},{"$f":"IF(OR(LEFT(Template!$K$903,2)=\"PJ\", LEFT(Template!$K$903,2)=\"PR\"),Template!$K$903,\"\")","v":""},{"$f":"IF(LEFT(Template!$K$903,2)=\"GF\",Template!$K$903,\"\")","v":""},{"$f":"IF(Template!$S$903<>\"\",Template!$S$903,\"\")","v":""},null,null,null,null,{"$f":"IF(Template!$L$903<>\"\",Template!$L$903,\"\")","v":""},"BYU_Child",null,null,"USD",null,12185.44,null,null,null,{"$f":"IF(Template!$O$903<>\"\",Template!$O$903,\"\")","v":""}]
[null,{"$f":"Template!$H$904","v":0},{"$error":"#REF!"},"Calendar_Year_Mar",{"$f":"IF(LEFT(Template!$K$904,2)=\"CC\",Template!$K$904,\"\")","v":""},{"$f":"IF(LEFT(Template!$M$904,2)=\"RC\",Template!$M$904,\"\")","v":""},{"$f":"IF(LEFT(Template!$M$904,2)=\"SC\",Template!$M$904,\"\")","v":""},{"$f":"IF(LEFT(Template!$K$904,2)=\"AC\",Template!$K$904,\"\")","v":""},{"$f":"IF(OR(LEFT(Template!$K$904,2)=\"PJ\", LEFT(Template!$K$904,2)=\"PR\"),Template!$K$904,\"\")","v":""},{"$f":"IF(LEFT(Template!$K$904,2)=\"GF\",Template!$K$904,\"\")","v":""},{"$f":"IF(Template!$S$904<>\"\",Template!$S$904,\"\")","v":""},null,null,null,null,{"$f":"IF(Template!$L$904<>\"\",Template!$L$904,\"\")","v":""},"BYU_Child",null,null,"USD",null,44300.79,null,null,null,{"$f":"IF(Template!$O$904<>\"\",Template!$O$904,\"\")","v":""}]
[null,{"$f":"Template!$H$905","v":0},{"$error":"#REF!"},"Calendar_Year_Mar",{"$f":"IF(LEFT(Template!$K$905,2)=\"CC\",Template!$K$905,\"\")","v":""},{"$f":"IF(LEFT(Template!$M$905,2)=\"RC\",Template!$M$905,\"\")","v":""},{"$f":"IF(LEFT(Template!$M$905,2)=\"SC\",Template!$M$905,\"\")","v":""},{"$f":"IF(LEFT(Template!$K$905,2)=\"AC\",Template!$K$905,\"\")","v":""},{"$f":"IF(OR(LEFT(Template!$K$905,2)=\"PJ\", LEFT(Template!$K$905,2)=\"PR\"),Template!$K$905,\"\")","v":""},{"$f":"IF(LEFT(Template!$K$905,2)=\"GF\",Template!$K$905,\"\")","v":""},{"$f":"IF(Template!$S$905<>\"\",Template!$S$905,\"\")","v":""},null,null,null,null,{"$f":"IF(Template!$L$905<>\"\",Template!$L$905,\"\")","v":""},"BYU_Child",null,null,"USD",null,115.38,null,null,null,{"$f":"IF(Template!$O$905<>\"\",Template!$O$905,\"\")","v":""}]
[null,{"$f":"Template!$H$906","v":0},{"$error":"#REF!"},"Calendar_Year_Mar",{"$f":"IF(LEFT(Template!$K$906,2)=\"CC\",Template!$K$906,\"\")","v":""},{"$f":"IF(LEFT(Template!$M$906,2)=\"RC\",Template!$M$906,\"\")","v":""},{"$f":"IF(LEFT(Template!$M$906,2)=\"SC\",Template!$M$906,\"\")","v":""},{"$f":"IF(LEFT(Template!$K$906,2)=\"AC\",Template!$K$906,\"\")","v":""},{"$f":"IF(OR(LEFT(Template!$K$906,2)=\"PJ\", LEFT(Template!$K$906,2)=\"PR\"),Template!$K$906,\"\")","v":""},{"$f":"IF(LEFT(Template!$K$906,2)=\"GF\",Template!$K$906,\"\")","v":""},{"$f":"IF(Template!$S$906<>\"\",Template!$S$906,\"\")","v":""},null,null,null,null,{"$f":"IF(Template!$L$906<>\"\",Template!$L$906,\"\")","v":""},"BYU_Child",null,null,"USD",null,9627.98,null,null,null,{"$f":"IF(Template!$O$906<>\"\",Template!$O$906,\"\")","v":""}]
[null,{"$f":"Template!$H$907","v":0},{"$error":"#REF!"},"Calendar_Year_Mar",{"$f":"IF(LEFT(Template!$K$907,2)=\"CC\",Template!$K$907,\"\")","v":""},{"$f":"IF(LEFT(Template!$M$907,2)=\"RC\",Template!$M$907,\"\")","v":""},{"$f":"IF(LEFT(Template!$M$907,2)=\"SC\",Template!$M$907,\"\")","v":""},{"$f":"IF(LEFT(Template!$K$907,2)=\"AC\",Template!$K$907,\"\")","v":""},{"$f":"IF(OR(LEFT(Template!$K$907,2)=\"PJ\", LEFT(Template!$K$907,2)=\"PR\"),Template!$K$907,\"\")","v":""},{"$f":"IF(LEFT(Template!$K$907,2)=\"GF\",Template!$K$907,\"\")","v":""},{"$f":"IF(Template!$S$907<>\"\",Template!$S$907,\"\")","v":""},null,null,null,null,{"$f":"IF(Template!$L$907<>\"\",Template!$L$907,\"\")","v":""},"BYU_Child",null,null,"USD",null,24054.38,null,null,null,{"$f":"IF(Template!$O$907<>\"\",Template!$O$907,\"\")","v":""}]
[null,{"$f":"Template!$H$908","v":0},{"$error":"#REF!"},"Calendar_Year_Mar",{"$f":"IF(LEFT(Template!$K$908,2)=\"CC\",Template!$K$908,\"\")","v":""},{"$f":"IF(LEFT(Template!$M$908,2)=\"RC\",Template!$M$908,\"\")","v":""},{"$f":"IF(LEFT(Template!$M$908,2)=\"SC\",Template!$M$908,\"\")","v":""},{"$f":"IF(LEFT(Template!$K$908,2)=\"AC\",Template!$K$908,\"\")","v":""},{"$f":"IF(OR(LEFT(Template!$K$908,2)=\"PJ\", LEFT(Template!$K$908,2)=\"PR\"),Template!$K$908,\"\")","v":""},{"$f":"IF(LEFT(Template!$K$908,2)=\"GF\",Template!$K$908,\"\")","v":""},{"$f":"IF(Template!$S$908<>\"\",Template!$S$908,\"\")","v":""},null,null,null,null,{"$f":"IF(Template!$L$908<>\"\",Template!$L$908,\"\")","v":""},"BYU_Child",null,null,"USD",null,10192.42,null,null,null,{"$f":"IF(Template!$O$908<>\"\",Template!$O$908,\"\")","v":""}]
[null,{"$f":"Template!$H$909","v":0},{"$error":"#REF!"},"Calendar_Year_Mar",{"$f":"IF(LEFT(Template!$K$909,2)=\"CC\",Template!$K$909,\"\")","v":""},{"$f":"IF(LEFT(Template!$M$909,2)=\"RC\",Template!$M$909,\"\")","v":""},{"$f":"IF(LEFT(Template!$M$909,2)=\"SC\",Template!$M$909,\"\")","v":""},{"$f":"IF(LEFT(Template!$K$909,2)=\"AC\",Template!$K$909,\"\")","v":""},{"$f":"IF(OR(LEFT(Template!$K$909,2)=\"PJ\", LEFT(Template!$K$909,2)=\"PR\"),Template!$K$909,\"\")","v":""},{"$f":"IF(LEFT(Template!$K$909,2)=\"GF\",Template!$K$909,\"\")","v":""},{"$f":"IF(Template!$S$909<>\"\",Template!$S$909,\"\")","v":""},null,null,null,null,{"$f":"IF(Template!$L$909<>\"\",Template!$L$909,\"\")","v":""},"BYU_Child",null,null,"USD",null,5571.08,null,null,null,{"$f":"IF(Template!$O$909<>\"\",Template!$O$909,\"\")","v":""}]
[null,{"$f":"Template!$H$910","v":0},{"$error":"#REF!"},"Calendar_Year_Mar",{"$f":"IF(LEFT(Template!$K$910,2)=\"CC\",Template!$K$910,\"\")","v":""},{"$f":"IF(LEFT(Template!$M$910,2)=\"RC\",Template!$M$910,\"\")","v":""},{"$f":"IF(LEFT(Template!$M$910,2)=\"SC\",Template!$M$910,\"\")","v":""},{"$f":"IF(LEFT(Template!$K$910,2)=\"AC\",Template!$K$910,\"\")","v":""},{"$f":"IF(OR(LEFT(Template!$K$910,2)=\"PJ\", LEFT(Template!$K$910,2)=\"PR\"),Template!$K$910,\"\")","v":""},{"$f":"IF(LEFT(Template!$K$910,2)=\"GF\",Template!$K$910,\"\")","v":""},{"$f":"IF(Template!$S$910<>\"\",Template!$S$910,\"\")","v":""},null,null,null,null,{"$f":"IF(Template!$L$910<>\"\",Template!$L$910,\"\")","v":""},"BYU_Child",null,null,"USD",null,604.91,null,null,null,{"$f":"IF(Template!$O$910<>\"\",Template!$O$910,\"\")","v":""}]
[null,{"$f":"Template!$H$911","v":0},{"$error":"#REF!"},"Calendar_Year_Mar",{"$f":"IF(LEFT(Template!$K$911,2)=\"CC\",Template!$K$911,\"\")","v":""},{"$f":"IF(LEFT(Template!$M$911,2)=\"RC\",Template!$M$911,\"\")","v":""},{"$f":"IF(LEFT(Template!$M$911,2)=\"SC\",Template!$M$911,\"\")","v":""},{"$f":"IF(LEFT(Template!$K$911,2)=\"AC\",Template!$K$911,\"\")","v":""},{"$f":"IF(OR(LEFT(Template!$K$911,2)=\"PJ\", LEFT(Template!$K$911,2)=\"PR\"),Template!$K$911,\"\")","v":""},{"$f":"IF(LEFT(Template!$K$911,2)=\"GF\",Template!$K$911,\"\")","v":""},{"$f":"IF(Template!$S$911<>\"\",Template!$S$911,\"\")","v":""},null,null,null,null,{"$f":"IF(Template!$L$911<>\"\",Template!$L$911,\"\")","v":""},"BYU_Child",null,null,"USD",null,16885.46,null,null,null,{"$f":"IF(Template!$O$911<>\"\",Template!$O$911,\"\")","v":""}]
[null,{"$f":"Template!$H$912","v":0},{"$error":"#REF!"},"Calendar_Year_Mar",{"$f":"IF(LEFT(Template!$K$912,2)=\"CC\",Template!$K$912,\"\")","v":""},{"$f":"IF(LEFT(Template!$M$912,2)=\"RC\",Template!$M$912,\"\")","v":""},{"$f":"IF(LEFT(Template!$M$912,2)=\"SC\",Template!$M$912,\"\")","v":""},{"$f":"IF(LEFT(Template!$K$912,2)=\"AC\",Template!$K$912,\"\")","v":""},{"$f":"IF(OR(LEFT(Template!$K$912,2)=\"PJ\", LEFT(Template!$K$912,2)=\"PR\"),Template!$K$912,\"\")","v":""},{"$f":"IF(LEFT(Template!$K$912,2)=\"GF\",Template!$K$912,\"\")","v":""},{"$f":"IF(Template!$S$912<>\"\",Template!$S$912,\"\")","v":""},null,null,null,null,{"$f":"IF(Template!$L$912<>\"\",Template!$L$912,\"\")","v":""},"BYU_Child",null,null,"USD",null,26440.07,null,null,null,{"$f":"IF(Template!$O$912<>\"\",Template!$O$912,\"\")","v":""}]
[null,{"$f":"Template!$H$913","v":0},{"$error":"#REF!"},"Calendar_Year_Mar",{"$f":"IF(LEFT(Template!$K$913,2)=\"CC\",Template!$K$913,\"\")","v":""},{"$f":"IF(LEFT(Template!$M$913,2)=\"RC\",Template!$M$913,\"\")","v":""},{"$f":"IF(LEFT(Template!$M$913,2)=\"SC\",Template!$M$913,\"\")","v":""},{"$f":"IF(LEFT(Template!$K$913,2)=\"AC\",Template!$K$913,\"\")","v":""},{"$f":"IF(OR(LEFT(Template!$K$913,2)=\"PJ\", LEFT(Template!$K$913,2)=\"PR\"),Template!$K$913,\"\")","v":""},{"$f":"IF(LEFT(Template!$K$913,2)=\"GF\",Template!$K$913,\"\")","v":""},{"$f":"IF(Template!$S$913<>\"\",Template!$S$913,\"\")","v":""},null,null,null,null,{"$f":"IF(Template!$L$913<>\"\",Template!$L$913,\"\")","v":""},"BYU_Child",null,null,"USD",null,124.2,null,null,null,{"$f":"IF(Template!$O$913<>\"\",Template!$O$913,\"\")","v":""}]
[null,{"$f":"Template!$H$914","v":0},{"$error":"#REF!"},"Calendar_Year_Mar",{"$f":"IF(LEFT(Template!$K$914,2)=\"CC\",Template!$K$914,\"\")","v":""},{"$f":"IF(LEFT(Template!$M$914,2)=\"RC\",Template!$M$914,\"\")","v":""},{"$f":"IF(LEFT(Template!$M$914,2)=\"SC\",Template!$M$914,\"\")","v":""},{"$f":"IF(LEFT(Template!$K$914,2)=\"AC\",Template!$K$914,\"\")","v":""},{"$f":"IF(OR(LEFT(Template!$K$914,2)=\"PJ\", LEFT(Template!$K$914,2)=\"PR\"),Template!$K$914,\"\")","v":""},{"$f":"IF(LEFT(Template!$K$914,2)=\"GF\",Template!$K$914,\"\")","v":""},{"$f":"IF(Template!$S$914<>\"\",Template!$S$914,\"\")","v":""},null,null,null,null,{"$f":"IF(Template!$L$914<>\"\",Template!$L$914,\"\")","v":""},"BYU_Child",null,null,"USD",null,19514.22,null,null,null,{"$f":"IF(Template!$O$914<>\"\",Template!$O$914,\"\")","v":""}]
[null,{"$f":"Template!$H$915","v":0},{"$error":"#REF!"},"Calendar_Year_Mar",{"$f":"IF(LEFT(Template!$K$915,2)=\"CC\",Template!$K$915,\"\")","v":""},{"$f":"IF(LEFT(Template!$M$915,2)=\"RC\",Template!$M$915,\"\")","v":""},{"$f":"IF(LEFT(Template!$M$915,2)=\"SC\",Template!$M$915,\"\")","v":""},{"$f":"IF(LEFT(Template!$K$915,2)=\"AC\",Template!$K$915,\"\")","v":""},{"$f":"IF(OR(LEFT(Template!$K$915,2)=\"PJ\", LEFT(Template!$K$915,2)=\"PR\"),Template!$K$915,\"\")","v":""},{"$f":"IF(LEFT(Template!$K$915,2)=\"GF\",Template!$K$915,\"\")","v":""},{"$f":"IF(Template!$S$915<>\"\",Template!$S$915,\"\")","v":""},null,null,null,null,{"$f":"IF(Template!$L$915<>\"\",Template!$L$915,\"\")","v":""},"BYU_Child",null,null,"USD",null,110603.72,null,null,null,{"$f":"IF(Template!$O$915<>\"\",Template!$O$915,\"\")","v":""}]
[null,{"$f":"Template!$H$916","v":0},{"$error":"#REF!"},"Calendar_Year_Mar",{"$f":"IF(LEFT(Template!$K$916,2)=\"CC\",Template!$K$916,\"\")","v":""},{"$f":"IF(LEFT(Template!$M$916,2)=\"RC\",Template!$M$916,\"\")","v":""},{"$f":"IF(LEFT(Template!$M$916,2)=\"SC\",Template!$M$916,\"\")","v":""},{"$f":"IF(LEFT(Template!$K$916,2)=\"AC\",Template!$K$916,\"\")","v":""},{"$f":"IF(OR(LEFT(Template!$K$916,2)=\"PJ\", LEFT(Template!$K$916,2)=\"PR\"),Template!$K$916,\"\")","v":""},{"$f":"IF(LEFT(Template!$K$916,2)=\"GF\",Template!$K$916,\"\")","v":""},{"$f":"IF(Template!$S$916<>\"\",Template!$S$916,\"\")","v":""},null,null,null,null,{"$f":"IF(Template!$L$916<>\"\",Template!$L$916,\"\")","v":""},"BYU_Child",null,null,"USD",null,5725.88,null,null,null,{"$f":"IF(Template!$O$916<>\"\",Template!$O$916,\"\")","v":""}]
[null,{"$f":"Template!$H$917","v":0},{"$error":"#REF!"},"Calendar_Year_Mar",{"$f":"IF(LEFT(Template!$K$917,2)=\"CC\",Template!$K$917,\"\")","v":""},{"$f":"IF(LEFT(Template!$M$917,2)=\"RC\",Template!$M$917,\"\")","v":""},{"$f":"IF(LEFT(Template!$M$917,2)=\"SC\",Template!$M$917,\"\")","v":""},{"$f":"IF(LEFT(Template!$K$917,2)=\"AC\",Template!$K$917,\"\")","v":""},{"$f":"IF(OR(LEFT(Template!$K$917,2)=\"PJ\", LEFT(Template!$K$917,2)=\"PR\"),Template!$K$917,\"\")","v":""},{"$f":"IF(LEFT(Template!$K$917,2)=\"GF\",Template!$K$917,\"\")","v":""},{"$f":"IF(Template!$S$917<>\"\",Template!$S$917,\"\")","v":""},null,null,null,null,{"$f":"IF(Template!$L$917<>\"\",Template!$L$917,\"\")","v":""},"BYU_Child",null,null,"USD",null,61670.29,null,null,null,{"$f":"IF(Template!$O$917<>\"\",Template!$O$917,\"\")","v":""}]
[null,{"$f":"Template!$H$918","v":0},{"$error":"#REF!"},"Calendar_Year_Mar",{"$f":"IF(LEFT(Template!$K$918,2)=\"CC\",Template!$K$918,\"\")","v":""},{"$f":"IF(LEFT(Template!$M$918,2)=\"RC\",Template!$M$918,\"\")","v":""},{"$f":"IF(LEFT(Template!$M$918,2)=\"SC\",Template!$M$918,\"\")","v":""},{"$f":"IF(LEFT(Template!$K$918,2)=\"AC\",Template!$K$918,\"\")","v":""},{"$f":"IF(OR(LEFT(Template!$K$918,2)=\"PJ\", LEFT(Template!$K$918,2)=\"PR\"),Template!$K$918,\"\")","v":""},{"$f":"IF(LEFT(Template!$K$918,2)=\"GF\",Template!$K$918,\"\")","v":""},{"$f":"IF(Template!$S$918<>\"\",Template!$S$918,\"\")","v":""},null,null,null,null,{"$f":"IF(Template!$L$918<>\"\",Template!$L$918,\"\")","v":""},"BYU_Child",null,null,"USD",null,30299.85,null,null,null,{"$f":"IF(Template!$O$918<>\"\",Template!$O$918,\"\")","v":""}]
[null,{"$f":"Template!$H$919","v":0},{"$error":"#REF!"},"Calendar_Year_Mar",{"$f":"IF(LEFT(Template!$K$919,2)=\"CC\",Template!$K$919,\"\")","v":""},{"$f":"IF(LEFT(Template!$M$919,2)=\"RC\",Template!$M$919,\"\")","v":""},{"$f":"IF(LEFT(Template!$M$919,2)=\"SC\",Template!$M$919,\"\")","v":""},{"$f":"IF(LEFT(Template!$K$919,2)=\"AC\",Template!$K$919,\"\")","v":""},{"$f":"IF(OR(LEFT(Template!$K$919,2)=\"PJ\", LEFT(Template!$K$919,2)=\"PR\"),Template!$K$919,\"\")","v":""},{"$f":"IF(LEFT(Template!$K$919,2)=\"GF\",Template!$K$919,\"\")","v":""},{"$f":"IF(Template!$S$919<>\"\",Template!$S$919,\"\")","v":""},null,null,null,null,{"$f":"IF(Template!$L$919<>\"\",Template!$L$919,\"\")","v":""},"BYU_Child",null,null,"USD",null,6280.75,null,null,null,{"$f":"IF(Template!$O$919<>\"\",Template!$O$919,\"\")","v":""}]
[null,{"$f":"Template!$H$920","v":0},{"$error":"#REF!"},"Calendar_Year_Mar",{"$f":"IF(LEFT(Template!$K$920,2)=\"CC\",Template!$K$920,\"\")","v":""},{"$f":"IF(LEFT(Template!$M$920,2)=\"RC\",Template!$M$920,\"\")","v":""},{"$f":"IF(LEFT(Template!$M$920,2)=\"SC\",Template!$M$920,\"\")","v":""},{"$f":"IF(LEFT(Template!$K$920,2)=\"AC\",Template!$K$920,\"\")","v":""},{"$f":"IF(OR(LEFT(Template!$K$920,2)=\"PJ\", LEFT(Template!$K$920,2)=\"PR\"),Template!$K$920,\"\")","v":""},{"$f":"IF(LEFT(Template!$K$920,2)=\"GF\",Template!$K$920,\"\")","v":""},{"$f":"IF(Template!$S$920<>\"\",Template!$S$920,\"\")","v":""},null,null,null,null,{"$f":"IF(Template!$L$920<>\"\",Template!$L$920,\"\")","v":""},"BYU_Child",null,null,"USD",null,3714.84,null,null,null,{"$f":"IF(Template!$O$920<>\"\",Template!$O$920,\"\")","v":""}]
[null,{"$f":"Template!$H$921","v":0},{"$error":"#REF!"},"Calendar_Year_Mar",{"$f":"IF(LEFT(Template!$K$921,2)=\"CC\",Template!$K$921,\"\")","v":""},{"$f":"IF(LEFT(Template!$M$921,2)=\"RC\",Template!$M$921,\"\")","v":""},{"$f":"IF(LEFT(Template!$M$921,2)=\"SC\",Template!$M$921,\"\")","v":""},{"$f":"IF(LEFT(Template!$K$921,2)=\"AC\",Template!$K$921,\"\")","v":""},{"$f":"IF(OR(LEFT(Template!$K$921,2)=\"PJ\", LEFT(Template!$K$921,2)=\"PR\"),Template!$K$921,\"\")","v":""},{"$f":"IF(LEFT(Template!$K$921,2)=\"GF\",Template!$K$921,\"\")","v":""},{"$f":"IF(Template!$S$921<>\"\",Template!$S$921,\"\")","v":""},null,null,null,null,{"$f":"IF(Template!$L$921<>\"\",Template!$L$921,\"\")","v":""},"BYU_Child",null,null,"USD",null,1528.24,null,null,null,{"$f":"IF(Template!$O$921<>\"\",Template!$O$921,\"\")","v":""}]
[null,{"$f":"Template!$H$922","v":0},{"$error":"#REF!"},"Calendar_Year_Mar",{"$f":"IF(LEFT(Template!$K$922,2)=\"CC\",Template!$K$922,\"\")","v":""},{"$f":"IF(LEFT(Template!$M$922,2)=\"RC\",Template!$M$922,\"\")","v":""},{"$f":"IF(LEFT(Template!$M$922,2)=\"SC\",Template!$M$922,\"\")","v":""},{"$f":"IF(LEFT(Template!$K$922,2)=\"AC\",Template!$K$922,\"\")","v":""},{"$f":"IF(OR(LEFT(Template!$K$922,2)=\"PJ\", LEFT(Template!$K$922,2)=\"PR\"),Template!$K$922,\"\")","v":""},{"$f":"IF(LEFT(Template!$K$922,2)=\"GF\",Template!$K$922,\"\")","v":""},{"$f":"IF(Template!$S$922<>\"\",Template!$S$922,\"\")","v":""},null,null,null,null,{"$f":"IF(Template!$L$922<>\"\",Template!$L$922,\"\")","v":""},"BYU_Child",null,null,"USD",null,16890.13,null,null,null,{"$f":"IF(Template!$O$922<>\"\",Template!$O$922,\"\")","v":""}]
[null,{"$f":"Template!$H$923","v":0},{"$error":"#REF!"},"Calendar_Year_Mar",{"$f":"IF(LEFT(Template!$K$923,2)=\"CC\",Template!$K$923,\"\")","v":""},{"$f":"IF(LEFT(Template!$M$923,2)=\"RC\",Template!$M$923,\"\")","v":""},{"$f":"IF(LEFT(Template!$M$923,2)=\"SC\",Template!$M$923,\"\")","v":""},{"$f":"IF(LEFT(Template!$K$923,2)=\"AC\",Template!$K$923,\"\")","v":""},{"$f":"IF(OR(LEFT(Template!$K$923,2)=\"PJ\", LEFT(Template!$K$923,2)=\"PR\"),Template!$K$923,\"\")","v":""},{"$f":"IF(LEFT(Template!$K$923,2)=\"GF\",Template!$K$923,\"\")","v":""},{"$f":"IF(Template!$S$923<>\"\",Template!$S$923,\"\")","v":""},null,null,null,null,{"$f":"IF(Template!$L$923<>\"\",Template!$L$923,\"\")","v":""},"BYU_Child",null,null,"USD",null,11309.3,null,null,null,{"$f":"IF(Template!$O$923<>\"\",Template!$O$923,\"\")","v":""}]
[null,{"$f":"Template!$H$924","v":0},{"$error":"#REF!"},"Calendar_Year_Mar",{"$f":"IF(LEFT(Template!$K$924,2)=\"CC\",Template!$K$924,\"\")","v":""},{"$f":"IF(LEFT(Template!$M$924,2)=\"RC\",Template!$M$924,\"\")","v":""},{"$f":"IF(LEFT(Template!$M$924,2)=\"SC\",Template!$M$924,\"\")","v":""},{"$f":"IF(LEFT(Template!$K$924,2)=\"AC\",Template!$K$924,\"\")","v":""},{"$f":"IF(OR(LEFT(Template!$K$924,2)=\"PJ\", LEFT(Template!$K$924,2)=\"PR\"),Template!$K$924,\"\")","v":""},{"$f":"IF(LEFT(Template!$K$924,2)=\"GF\",Template!$K$924,\"\")","v":""},{"$f":"IF(Template!$S$924<>\"\",Template!$S$924,\"\")","v":""},null,null,null,null,{"$f":"IF(Template!$L$924<>\"\",Template!$L$924,\"\")","v":""},"BYU_Child",null,null,"USD",null,34346,null,null,null,{"$f":"IF(Template!$O$924<>\"\",Template!$O$924,\"\")","v":""}]
[null,{"$f":"Template!$H$925","v":0},{"$error":"#REF!"},"Calendar_Year_Mar",{"$f":"IF(LEFT(Template!$K$925,2)=\"CC\",Template!$K$925,\"\")","v":""},{"$f":"IF(LEFT(Template!$M$925,2)=\"RC\",Template!$M$925,\"\")","v":""},{"$f":"IF(LEFT(Template!$M$925,2)=\"SC\",Template!$M$925,\"\")","v":""},{"$f":"IF(LEFT(Template!$K$925,2)=\"AC\",Template!$K$925,\"\")","v":""},{"$f":"IF(OR(LEFT(Template!$K$925,2)=\"PJ\", LEFT(Template!$K$925,2)=\"PR\"),Template!$K$925,\"\")","v":""},{"$f":"IF(LEFT(Template!$K$925,2)=\"GF\",Template!$K$925,\"\")","v":""},{"$f":"IF(Template!$S$925<>\"\",Template!$S$925,\"\")","v":""},null,null,null,null,{"$f":"IF(Template!$L$925<>\"\",Template!$L$925,\"\")","v":""},"BYU_Child",null,null,"USD",null,null,11973127.109999999,null,null,{"$f":"IF(Template!$O$925<>\"\",Template!$O$925,\"\")","v":""}]